{"text_format":"1","workbook":"xlsx","n_sheets":20,"sheets":["Data","TestArea","Growth Data","TestAreaY2","Contents","Pupils","Other Grants","Year 1","MFG Y1","Year 2","Year 3","Early Years","High Needs Mainstream","Firing Range","SRP Year 1","SRP Funding Summary","SRP Year 2 & 3","SRP Rates","Growth Funding","BPS Summary"],"not_rendered":{"charts":0,"images":2,"macros":1,"external_links":0,"defined_names":63,"comments":2,"pivot_tables":0},"unopened":[],"bounds":{"document_bytes":16777216,"sheet_cells":100000,"rows_first":2000,"rows_last":500,"rows_between":2000,"halvings":0,"cell_chars":16384,"cell_head_chars":4096},"cells_cut":0,"cells_raw":0,"read":"whole","date_system":"1900"}

{"sheet":"Data","index":0,"n_rows":304,"n_cols":80,"rows_kept":304,"cut":false,"hidden":true,"merged":[]}
[1,2,3,4,5,6,7,8,9,10,11,12,13,14,15,16,17,18,19,20,21,22,23,24,25,26,27,28,29,30,31,32,33,34,35,36,37,38,39,40,41,42,43,44,45,46,47,48,49,50,51,52,53,54,55,56,57,58,59,60,61,62,63,64,65,66,67,68,69,70,71,72,73,74,75,76,77,78,79,80]
["final list","School Name","Phase","F1 - Pri","F1 -KS3","F1 - KS4","F2 - FSM Pri","F2 - FSM Sec","F2 - E6FSM Pri","F2 - E6FSM Sec","F2 - IDACI F - Pri","F2 - IDACI E - Pri","F2 - IDACI D - Pri","F2 - IDACI C - Pri","F2 - IDACI B - Pri","F2 - IDACI A - Pri","F2 - IDACI F - Sec","F2 - IDACI E - Sec","F2 - IDACI D - Sec","F2 - IDACI C - Sec","F2 - IDACI B - Sec","F2 - IDACI A - Sec","F4 - EAL Pri","F4 - EAL Sec","F6 - EYFS Pri","F6 - EYFS Sec","F7 - Lump Sum 19/20","F8 - Sparsity Pri","F8 - Sparsity Sec","F9 - ACA","F10 - Split Site","F11 - Rates","F12 - PFI","F13 - Exceptional Circumstances","MFL Rate","SBS - 2019/20","Lump Sum - 2019-20","Sparsity - 2019-20","Split Site - 2019-20","Rates - 2019-20","Pupils - Oct 18","PFI Funding - Future Year?",null,"Early Years - Base Rate","Early Years - QTS","Early Years - Disadvantage",null,"SRP Des1 Pre","SRP Des2 Pre","SRP Des1 Post","SRP Des2 Post","SRP Places Apr - Aug PRE","SRP Places Apr - Aug POST","SRP Places Sep - Mar PRE","SRP Places Sep - Mar Post","SRP actuals PRE (OCT)","SRP actuals POST (OCT)","Teachers Pay Grant Primary Pupils","Teachers Pay Grant Secondary Pupils",null,"20/21 MPPL","MFG Baseline"]
[1001,"Northfleet Nursery",6,0,0,0,0,0,0,0,0,0,0,0,0,0,0,0,0,0,0,0,0,0,0,0,0,0,0,0,0,0,0,0,0,0,0,0,0,0,0,0,null,4.08,0,0.2,null,0,null,0,null,0,0,0,0,0,0,100,0,null,0,0,0]
[2000,"St Johns C of E Primary School",1,349,0,0,148.99999999999983,0,184.25465838509317,0,10.999999999999998,3.0000000000000004,33.999999999999993,109.99999999999996,67.000000000000057,0,0,0,0,0,0,0,58.166666666666778,0,127.29918032786894,0,120083.99999999999,0,0,1,0,24576,0,0,3750,1337876.3369895951,120082.8,0,0,24182,318,0,null,4.08,0,0.16,null,0,null,0,null,0,0,0,0,0,0,346,0,null,4280.8100000000004,3936.73,{"$f":"IF(AND(C4=1,BI4<3883.495),4000-BI4,0)","v":0},{"$f":"BK4/BJ4","v":0}]
[2002,"Repton Manor Primary School",1,480,0,0,33.999999999999986,0,68.141962421711895,0,33.068893528183722,11.02296450939456,5.0104384133611681,16.03340292275573,12.025052192066784,0,0,0,0,0,0,0,45.714285714285701,0,96.945812807881921,0,120083.99999999999,0,0,1,0,10650,0,0,3750,1649634,120082.8,0,0,14234,481,0,null,0,0,0,null,0,null,0,null,0,0,0,0,0,0,481,0,null,3750,3750,{"$f":"IF(AND(C5=1,BI5<3883.495),4000-BI5,0)","v":250},{"$f":"BK5/BJ5","v":6.6666666666666666E-2}]
[2065,"Discovery School, The",1,608,0,0,23.000000000000028,0,29.466882067851373,0,7.9999999999999964,6.9999999999999742,0,0.99999999999999811,3.0000000000000004,0,0,0,0,0,0,0,27.274766355140155,0,111.69696969696956,0,120083.99999999999,0,0,1,0,75264,0,0,3750,2188861,120082.8,0,0,77461,621,0,null,0,0,0,null,0,null,0,null,0,0,0,0,0,0,621,0,null,3750,3750,{"$f":"IF(AND(C6=1,BI6<3883.495),4000-BI6,0)","v":250},6.6666666666666666E-2]
[2066,"Maypole Primary School",1,409,0,0,48.99999999999995,0,66.512135922330103,0,41.999999999999901,16.999999999999993,4.0000000000000009,9.9999999999999805,8.0000000000000018,0,0,0,0,0,0,0,18.590909090909108,0,112.41520467836273,0,120083.99999999999,0,0,1.0364,0,38144,0,0,3750,1493096.5702897003,124453.81392,0,0,40919,406,0,null,0,0,0,null,0,null,0,null,0,0,0,0,0,0,406,0,null,3750,3750,250,6.6666666666666666E-2]
[2079,"Woodlands Primary School",1,643,0,0,65.00000000000027,0,81.872670807453403,0,88.99999999999973,8.9999999999999911,0,27.999999999999975,0,0,0,0,0,0,0,0,19.519642857142884,0,142.23583180987225,0,120083.99999999999,0,0,1,0,57856,0,0,3750,2249925,120082.8,0,0,60325,644,0,null,0,0,0,null,0,null,0,null,0,0,0,0,0,0,644,0,null,3750,3750,250,6.6666666666666666E-2]
[2088,"Crockenhill Primary School",1,207,0,0,31.999999999999929,0,31.999999999999929,0,0,2.9999999999999991,5.9999999999999982,6.9999999999999911,20,0,0,0,0,0,0,0,2.3389830508474603,0,34.10795454545449,0,120083.99999999999,0,0,1.0364,0,24116,0,0,3750,780755.93820775487,124453.81392,0,0,23730,202,0,null,0,0,0,null,0,null,0,null,0,0,0,0,0,0,202,0,null,3928.44,3327.21,0,0]
[2089,"Anthony Roper Primary School, The",1,301,0,0,20,0,24.753289473684212,0,0.99999999999999856,7.000000000000008,2.0000000000000004,0,2.9999999999999987,0,0,0,0,0,0,0,3.500000000000004,0,58.7890625,0,120083.99999999999,0,0,1.0364,0,6656,0,0,3750,1076264.8467313671,124453.81392,0,0,6552,304,0,null,0,0,0,null,0,null,0,null,0,0,0,0,0,0,304,0,null,3750,3750,250,6.6666666666666666E-2]
[2094,"Cobham Primary School",1,218,0,0,7.9999999999999956,0,9.9090909090909101,0,11.999999999999995,0.99999999999999944,3.0000000000000093,0,0.99999999999999944,0,0,0,0,0,0,0,1.1595744680851059,0,31.475935828877024,0,120083.99999999999,0,0,1,0,17216,0,0,3750,780859.13607138663,120082.8,0,0,16940,220,0,null,0,0,0,null,0,null,0,null,0,0,0,0,0,0,220,0,null,3750,3750,250,6.6666666666666666E-2]
[2095,"Cecil Road Primary and Nursery School",1,376,0,0,49.999999999999886,0,57.540897097625326,0,198.58445040214463,18.144772117962468,5.0402144772117907,2.0160857908847198,1.0080428954423581,0,0,0,0,0,0,0,94.87850467289725,0,96.99363057324824,0,120083.99999999999,0,0,1,0,34048,0,0,3750,1416178.430370948,120082.8,0,0,33516,381,0,null,4.08,0,0,null,0,null,0,null,0,0,0,0,0,0,444,0,null,3809.02,3489.64,190.98000000000002,5.4727708302289069E-2]
[2109,"Higham Primary School",1,207,0,0,17,0,18.728571428571428,0,2.9999999999999991,2,1.0000000000000011,0,0,0,0,0,0,0,0,0,0,0,49.965517241379402,0,120083.99999999999,0,0,1,0,22330,0,0,3750,775383.11666097504,120082.8,0,0,21972,211,0,null,0,0,0,null,0,null,0,null,0,0,0,0,0,0,211,0,null,3750,3750,250,6.6666666666666666E-2]
[2116,"Lawn Primary School",1,206,0,0,105.00000000000007,0,118.29702970297029,0,11.000000000000004,6.9999999999999911,6.9999999999999911,27.999999999999925,137.99999999999997,0,0,0,0,0,0,0,35.722543352601065,0,94.471337579617909,0,120083.99999999999,0,0,1,0,20709,0,0,3750,919317.91404949152,120082.8,0,0,20377,195,0,null,4.08,0.3,0.86,null,0,null,0,null,0,0,0,0,0,0,232,0,null,4798.1099999999997,4215.18,0,0]
[2119,"Shears Green Infant School",1,358,0,0,29.999999999999982,0,40.772222222222219,0,84.235294117647115,79.221288515406002,6.016806722689064,7.0196078431372548,13.03641456582632,0,0,0,0,0,0,0,51.142857142857189,0,51.142857142857189,0,120083.99999999999,0,0,1,0,21760,0,0,3750,1280091.963732467,120082.8,0,0,21420,359,0,null,0,0,0,null,0,null,0,null,0,0,0,0,0,0,359,0,null,3750,3750,250,6.6666666666666666E-2]
[2120,"Bean Primary School",1,202,0,0,29.000000000000089,0,33.832512315270932,0,114.99999999999994,13.999999999999998,0,0,3.0000000000000098,0,0,0,0,0,0,0,13.466666666666672,0,55.197674418604578,0,120083.99999999999,0,0,1.0364,0,16093,0,0,3750,800190.08551544079,124453.81392,0,0,14028,197,0,null,0,0,0,null,0,null,0,null,0,0,0,0,0,0,197,0,null,4168.8999999999996,3552.78,0,0]
[2128,"Capel Primary School",1,208,0,0,25.000000000000064,0,25.752380952380953,0,5.9999999999999902,5.9999999999999902,2.0000000000000009,0,0,0,0,0,0,0,0,0,4.6222222222222173,0,36.845714285714251,0,120083.99999999999,0,0,1,0,21457,0,0,3750,761366.89340997371,120082.8,0,0,20422,209,0,null,0,0,0,null,0,null,0,null,0,0,0,0,0,0,209,0,null,3750,3750,250,6.6666666666666666E-2]
[2130,"Dunton Green Primary School",1,159,0,0,35,0,48.556886227544915,0,2.0000000000000067,0,0,0,0,0,0,0,0,0,0,0,15.425373134328353,0,38.5078125,0,120083.99999999999,0,0,1.0364,0,24576,0,0,3750,709041.02445935074,124453.81392,0,0,24182,168,0,null,0,0,0,null,0,null,0,null,0,0,0,0,0,0,168,0,null,4254.1899999999996,3471.45,0,0]
[2132,"Hadlow Primary School",1,197,0,0,31.000000000000089,0,45.38725490196078,0,1.0000000000000009,99.000000000000028,1.0000000000000009,1.0000000000000009,0,0,0,0,0,0,0,0,2.3452380952380945,0,48.365269461077816,0,120083.99999999999,0,0,1,0,24326,0,0,3750,796056.18249866064,120082.8,0,0,25237,202,0,null,0,0,0,null,0,null,0,null,0,0,0,0,0,0,202,0,null,3992.59,3383.03,0,0]
[2133,"Halstead Community Primary School",1,80,0,0,18,0,23.414634146341463,0,0,3,4,1,0,0,0,0,0,0,0,0,1.12676056338028,0,24.788732394366161,0,120083.99999999999,0,0,1.0364,0,9481,0,0,3750,411494.70970879076,124453.81392,0,0,9329,83,0,null,0,0,0,null,0,null,0,null,0,0,0,0,0,0,100,0,null,5085.5600000000004,3529.87,0,0]
[2134,"Four Elms Primary School",1,108,0,0,6.9999999999999982,0,11.675675675675677,0,19.000000000000011,8.9999999999999964,0,0,0,0,0,0,0,0,0,0,1.1739130434782605,0,29.670329670329703,0,120083.99999999999,0,0,1.0364,0,13348,0,0,3750,490355.1718170403,124453.81392,0,0,13134,110,0,null,0,0,0,null,0,null,0,null,0,0,0,0,0,0,110,0,null,4530.3599999999997,3378,0,0]
[2136,"Kemsing Primary School",1,197,0,0,21.99999999999994,0,21.99999999999994,0,2.0205128205128289,2.0205128205128289,1.0102564102564107,0,0,0,0,0,0,0,0,0,2.3592814371257451,0,63.278787878787838,0,120083.99999999999,0,0,1.0364,0,21956,0,0,3750,772841.45373238088,124453.81392,0,0,21604,198,0,null,0,0,0,null,0,null,0,null,0,0,0,0,0,0,198,0,null,4031.74,3399.99,0,0]
[2137,"Leigh Primary School",1,167,0,0,9.0000000000000036,0,14.479768786127167,0,1.0000000000000002,2.999999999999996,0,0,0,0,0,0,0,0,0,0,0,0,35.034965034965069,0,120083.99999999999,0,0,1.0364,0,12200,0,0,3750,666095.07286338496,124453.81392,0,0,12005,172,0,null,0,0,0,null,0,null,0,null,0,0,0,0,0,0,172,0,null,3979.23,3233.99,0,0]
[2138,"Otford Primary School",1,396,0,0,24.999999999999986,0,32.67,0,1.9999999999999998,0,1.0000000000000018,6.0000000000000195,1.0000000000000018,0,0,0,0,0,0,0,3.4736842105263142,0,56.399999999999835,0,120083.99999999999,0,0,1.0364,0,29440,0,0,3750,1354980,124453.81392,0,0,28980,390,0,null,0,0,0,null,0,null,0,null,0,0,0,0,0,0,390,0,null,3750,3750,250,6.6666666666666666E-2]
[2139,"Pembury School",1,415,0,0,20.000000000000021,0,26.836027713625867,0,13.999999999999982,0,1.0000000000000009,4.999999999999984,0,0,0,0,0,0,0,0,24.480337078651676,0,78.257142857143037,0,120083.99999999999,0,0,1,0,42496,0,0,3750,1544631.9999999998,120082.8,0,0,41832,442,0,null,0,0,0,null,0,null,0,null,0,0,0,0,0,0,442,0,null,3750,3750,250,6.6666666666666666E-2]
[2142,"Sandhurst Primary School",1,148,0,0,25.000000000000011,0,28.777777777777779,0,19.999999999999982,1.0000000000000004,0,0,1.0000000000000004,0,0,0,0,0,0,0,3.3636363636363598,0,37,0,120083.99999999999,0,0,1,0,21582,0,0,3750,584244.81267163926,120082.8,0,0,21236,143,0,null,0,0,0,null,0,null,0,null,0,0,0,0,0,0,143,0,null,4100.82,3289.44,0,0]
[2147,"Weald Community Primary School",1,148,0,0,12.999999999999995,0,12.999999999999995,0,1.0000000000000004,0,3.999999999999996,0,0,0,0,0,0,0,0,0,8.2880000000000003,0,40.82758620689652,0,120083.99999999999,625.26424566087906,0,1.0364,0,15220,0,0,3750,666921.27530822868,124453.81392,0,0,14976,170,0,null,0,0,0,null,0,null,0,null,0,0,0,0,0,0,170,0,null,4205.58,3360.44,0,0]
[2148,"Shoreham Village School",1,99,0,0,16.000000000000036,0,26.812499999999996,0,2.9999999999999996,0,0,0.99999999999999989,0,0,0,0,0,0,0,0,3.5357142857142843,0,26.316455696202574,0,120083.99999999999,0,0,1.0364,0,14097,0,0,3750,443556.69410941255,124453.81392,0,0,13871,94,0,null,0,0,0,null,0,null,0,null,0,0,0,0,0,0,100,0,null,4689.8500000000004,3432.73,0,0]
[2155,"Slade Primary School",1,405,0,0,28.999999999999982,0,35.307692307692307,0,11.999999999999988,11.000000000000004,0,3.9999999999999987,0,0,0,0,0,0,0,0,37.565217391304351,0,111.55688622754485,0,120083.99999999999,0,0,1,0,29952,0,0,3750,1355456.9999999998,120082.8,0,0,32857,389,0,null,0,0,0,null,0,null,0,null,0,0,0,0,0,0,389,0,null,3750,3750,250,6.6666666666666666E-2]
[2156,"Sussex Road Community Primary School",1,442,0,0,40.000000000000007,0,54.506726457399104,0,1.9999999999999982,15.999999999999986,0,1.9999999999999982,0,0,0,0,0,0,0,0,35.589610389610385,0,73.077333333333186,0,120083.99999999999,0,0,1,0,44544,0,0,3750,1570421,120082.8,0,0,47221,448,0,null,0,0,0,null,0,null,0,null,0,0,0,0,0,0,448,0,null,3750,3750,250,6.6666666666666666E-2]
[2161,"Boughton Monchelsea Primary School",1,209,0,0,18,0,18.173913043478262,0,9,0,1.9999999999999996,5.0000000000000098,2.9999999999999933,0,0,0,0,0,0,0,3.5224719101123676,0,47.23163841807915,0,120083.99999999999,0,0,1,0,22580,0,0,3750,784132.48294561706,120082.8,0,0,24140,208,0,null,0,0,0,null,0,null,0,null,0,0,0,0,0,0,208,0,null,3758.69,3184.12,241.30999999999995,7.5785460346971839E-2]
[2163,"East Farleigh Primary School",1,208,0,0,8.0000000000000071,0,8.3618090452261313,0,20.999999999999904,1.0000000000000004,1.0000000000000004,7.0000000000000098,3.9999999999999938,0,0,0,0,0,0,0,5.8100558659217771,0,40.898876404494366,0,120083.99999999999,0,0,1,0,16717,0,0,3750,734561.32397624629,120082.8,0,0,18371,200,0,null,0,0,0,null,985.74008760577362,null,985.74008760577362,null,5,0,5,0,7,0,200,0,null,3750,3750,250,6.6666666666666666E-2]
[2164,"East Peckham Primary School",1,169,0,0,19.000000000000071,0,24.433734939759034,0,5.0297619047619113,5.0297619047619113,0,0,1.0059523809523807,0,0,0,0,0,0,0,2.3802816901408415,0,41.619402985074643,0,120083.99999999999,0,0,1,0,20709,0,0,3750,627565.37184050295,120082.8,0,0,23750,158,0,null,0,0,0,null,0,null,0,null,0,0,0,0,0,0,158,0,null,3933.04,3222.49,0,0]
[2165,"Headcorn Primary School",1,297,0,0,35.00000000000005,0,35.00000000000005,0,2.9999999999999996,0,0,0,0,0,0,0,0,0,0,0,6.2658227848101236,0,42.613043478260806,0,120083.99999999999,0,0,1,0,40918,0,0,3750,905784.00000000012,120082.8,0,0,42184,254,0,null,0,0,0,null,0,null,0,null,0,0,0,0,0,0,254,0,null,3750,3750,250,6.6666666666666666E-2]
[2166,"Hollingbourne Primary School",1,101,0,0,12.00000000000002,0,12.00000000000002,0,0,0,0,0,0,0,0,0,0,0,0,0,3.5232558139534924,0,23.120481927710802,0,120083.99999999999,0,0,1,0,13723,0,0,3750,429152.93379419774,120082.8,0,0,15425,99,0,null,0,0,0,null,0,null,0,null,0,0,0,0,0,0,100,0,null,4382.3100000000004,3193.36,0,0]
[2167,"Ightham Primary School",1,207,0,0,1.0000000000000011,0,4.0990099009900991,0,8.9999999999999964,0,0,0,0,0,0,0,0,0,0,0,4.7045454545454488,0,25.398773006134867,0,120083.99999999999,0,0,1,0,21457,0,0,3750,729363.79368526698,120082.8,0,0,24486,201,0,null,0,0,0,null,0,null,0,null,0,0,0,0,0,0,201,0,null,3750,3750,250,6.6666666666666666E-2]
[2168,"Lenham Primary School",1,209,0,0,31.000000000000075,0,38.367149758454111,0,0,0,0,0,0,0,0,0,0,0,0,0,2.3351955307262569,0,49.875000000000078,0,120083.99999999999,0,0,1,0,18837,0,0,3750,764304.82115305657,120082.8,0,0,20457,205,0,null,0,0,0,null,0,null,0,null,0,0,0,0,0,0,205,0,null,3799.88,3225.31,200.11999999999989,6.2046748994670248E-2]
[2169,"Platts Heath Primary School",1,66,0,0,13.000000000000002,0,13.000000000000002,0,1.9999999999999998,0,1.0000000000000033,1.0000000000000033,0,0,0,0,0,0,0,0,1.1578947368421046,0,19.555555555555536,0,120083.99999999999,0,0,1,0,2345,0,0,3750,337011.73945220641,120082.8,0,0,4230,68,0,null,0,0,0,null,0,null,0,null,0,0,0,0,0,0,100,0,null,5154.07,3334.62,0,0]
[2171,"Brunswick House Primary School",1,418,0,0,64.000000000000014,0,64.000000000000014,0,72.520481927710662,0,5.0361445783132375,4.0289156626506024,1.0072289156626515,0,0,0,0,0,0,0,46.703910614525142,0,91.133720930232343,0,120083.99999999999,0,0,1,0,66048,0,0,3750,1491538,120082.8,0,0,66938,419,0,null,0,0,0,null,0,null,0,null,0,0,0,0,0,0,418.5,0,null,3750,3750,250,6.6666666666666666E-2]
[2175,"North Borough Junior School",1,340,0,0,66.000000000000156,0,83,0,87.256637168141609,3.0088495575221228,6.0176991150442527,4.0117994100294903,1.0029498525073741,0,0,0,0,0,0,0,47.999999999999893,0,112.1649484536083,0,120083.99999999999,0,0,1,0,23328,0,0,3750,1248327.9507316547,120082.8,0,0,24200,336,0,null,0,0,0,null,0,null,0,null,0,0,0,0,0,0,336,0,null,3854.47,3501.28,145.5300000000002,4.1564799159164702E-2]
[2176,"Park Way Primary School",1,311,0,0,69.000000000000085,0,83.808441558441558,0,100.00000000000013,59.000000000000028,3.9999999999999858,25.000000000000014,6.9999999999999991,0,0,0,0,0,0,0,47.401486988847452,0,94.595833333333431,0,120083.99999999999,0,0,1,0,28416,0,0,3750,1212480.368678519,120082.8,0,0,29894,310,0,null,0,0,0,null,0,null,0,null,0,0,0,0,0,0,310,0,null,3980.1,3593.98,0,0]
[2183,"Marden Primary School",1,273,0,0,63.999999999999879,0,64.349999999999994,0,2.007352941176471,1.0036764705882342,104.38235294117658,0,4.0147058823529473,0,0,0,0,0,0,0,7.1528384279475938,0,75.013513513513587,0,120083.99999999999,0,0,1,0,26624,0,0,3750,1075806.4071902058,120082.8,0,0,28130,283,0,null,0,0,0,null,0,null,0,null,0,0,0,0,0,0,283,0,null,3919.77,3479.9,0,0]
[2185,"Mereworth Community Primary School",1,209,0,0,19.999999999999996,0,31.604878048780488,0,1.0048076923076927,6.0288461538461444,2.0096153846153855,1.0048076923076927,2.0096153846153855,0,0,0,0,0,0,0,2.3351955307262569,0,48.687499999999908,0,120083.99999999999,0,0,1,0,26368,0,0,3750,788604.68788803113,120082.8,0,0,29329,209,0,null,0,0,0,null,0,null,0,null,0,0,0,0,0,0,209,0,null,3777.6,3203.04,222.40000000000009,6.9434037664219017E-2]
[2187,"Offham Primary School",1,211,0,0,1.9999999999999998,0,4.9764150943396226,0,29.000000000000028,3.0000000000000031,0,0,1.0000000000000009,0,0,0,0,0,0,0,2.3314917127071868,0,34.376404494382079,0,120083.99999999999,0,0,1,0,23827,0,0,3750,759943.94020010368,120082.8,0,0,26818,210,0,null,0,0,0,null,0,null,0,null,0,0,0,0,0,0,210,0,null,3750,3750,250,6.6666666666666666E-2]
[2188,"Plaxtol Primary School",1,96,0,0,4.9999999999999964,0,5.333333333333333,0,4.0000000000000036,1.9999999999999969,0,1.9999999999999969,0,0,0,0,0,0,0,0,0,0,15.157894736842081,0,120083.99999999999,0,0,1,0,13847,0,0,3750,407130.90825212444,120082.8,0,0,16998,92,0,null,0,0,0,null,0,null,0,null,0,0,0,0,0,0,100,0,null,4321.72,3070.85,0,0]
[2189,"Ryarsh Primary School",1,209,0,0,2.9999999999999933,0,4.9761904761904763,0,2.9999999999999933,6.0000000000000071,0,0,0,0,0,0,0,0,0,0,0,0,35.224719101123675,0,120083.99999999999,0,0,1,0,17964,0,0,3750,750333.2125688768,120082.8,0,0,21049,209,0,null,0,0,0,null,0,null,0,null,0,0,0,0,0,0,209,0,null,3750,3750,250,6.6666666666666666E-2]
[2190,"Shipbourne School",1,56,0,0,9.000000000000016,0,10.807017543859649,0,3.0000000000000018,5.999999999999992,1.0000000000000024,1.0000000000000024,0,0,0,0,0,0,0,0,4.4800000000000004,0,4.7659574468085104,0,120083.99999999999,0,0,1,0,6737,0,0,3750,302210.31390539889,120082.8,0,0,9993,55,0,null,0,0,0,null,0,null,0,null,0,0,0,0,0,0,100,0,null,5303.53,3159.17,0,0]
[2192,"Staplehurst School",1,367,0,0,55.000000000000128,0,74.917312661498698,0,1.0000000000000018,0,3.0000000000000009,0,1.9999999999999996,0,0,0,0,0,0,0,10.100917431192656,0,91.165605095541437,0,120083.99999999999,0,0,1,0,37632,0,0,3750,1351365.9999999998,120082.8,0,0,38966,386,0,null,0,0,0,null,0,null,0,null,0,0,0,0,0,0,385.5,0,null,3750,3750,250,6.6666666666666666E-2]
[2193,"Sutton Valence Primary School",1,202,0,0,23.000000000000028,0,31.727748691099475,0,3.0000000000000098,3.0000000000000098,3.0000000000000098,6,3.0000000000000098,0,0,0,0,0,0,0,7.0057803468208117,0,36.84276729559744,0,120083.99999999999,0,0,1,0,19835,0,0,3750,703841.76588948059,120082.8,0,0,21439,183,0,null,0,0,0,null,0,null,0,null,0,0,0,0,0,0,183,0,null,3779.23,3184.76,220.76999999999998,6.9320765143998278E-2]
[2226,"Eastling Primary School",1,86,0,0,15.000000000000018,0,15.000000000000018,0,4.9999999999999973,2.0000000000000022,1.0000000000000011,4.9999999999999973,3.0000000000000036,0,0,0,0,0,0,0,2.2051282051282013,0,26.729729729729748,0,120083.99999999999,22162.143818424564,0,1,0,12974,0,0,3750,432661.07633370126,120082.8,19973.718958611484,0,12080,90,0,null,0,0,0,null,0,null,0,null,0,0,0,0,0,0,100,0,null,5033.93,3379.91,0,0]
[2227,"Ethelbert Road Primary School",1,208,0,0,10.000000000000005,0,13.866666666666667,0,13,3.9999999999999938,9.0000000000000071,2.0000000000000009,2.0000000000000009,0,0,0,0,0,0,0,4.7005649717514171,0,52.881355932203341,0,120083.99999999999,0,0,1,0,11477,0,0,3750,763132.81071326276,120082.8,0,0,11293,209,0,null,0,0,0,null,0,null,0,null,0,0,0,0,0,0,209,0,null,3784.6,3207.28,215.40000000000009,6.7159711655982668E-2]
[2228,"Davington Primary School",1,411,0,0,47.999999999999915,0,68.665859564164649,0,35.999999999999993,34,22.999999999999996,42.000000000000078,101.00000000000004,0,0,0,0,0,0,0,6.9858356940509925,0,121.99711815561952,0,120083.99999999999,0,0,1,0,39424,0,0,3750,1510399.1504447386,120082.8,0,0,38808,409,0,null,0,0,0,null,0,null,0,null,0,0,0,0,0,0,409,0,null,3771.57,3479.39,228.42999999999984,6.5652312618016337E-2]
[2231,"Lower Halstow School",1,159,0,0,10.999999999999998,0,22.56774193548387,0,20.000000000000068,3.0000000000000022,3.9999999999999973,3.0000000000000022,0,0,0,0,0,0,0,0,1.2045454545454553,0,31.537190082644702,0,120083.99999999999,0,0,1,0,20833,0,0,3750,595861.29671670985,120082.8,0,0,20499,149,0,null,0,0,0,null,0,null,0,null,0,0,0,0,0,0,149,0,null,3934.8,3179.55,0,0]
[2237,"Queenborough School and Nursery",1,435,0,0,133.99999999999989,0,158.36405529953916,0,63.999999999999915,11.000000000000009,0,16,163.00000000000003,127.0000000000001,0,0,0,0,0,0,5.7999999999999856,0,122.27027027027023,0,120083.99999999999,0,0,1,0,34048,0,0,3750,1705116.6697476935,120082.8,0,0,33516,431,0,null,4.08,0.9,0.32,null,0,null,0,null,0,0,0,0,0,0,499,0,null,4068.76,3792.71,0,0]
[2239,"Rodmersham School",1,103,0,0,1,0,2.9428571428571426,0,5.9999999999999982,1.999999999999996,7.0000000000000009,4.0000000000000018,1.999999999999996,0,0,0,0,0,0,0,2.2888888888888865,0,16.574712643678154,0,120083.99999999999,0,0,1,0,5863,0,6027,3750,423761.06087025045,120082.8,0,0,5769,100,0,null,0,0,0,null,0,null,0,null,0,0,0,0,0,0,100,0,null,4268.38,3161.03,0,0]
[2245,"Rose Street School",1,374,0,0,179.99999999999997,0,181.13960113960113,0,7.9999999999999991,1.9999999999999998,1.9999999999999998,99.999999999999986,169.00000000000011,88.000000000000057,0,0,0,0,0,0,28.405063291139243,0,111.58688524590167,0,120083.99999999999,0,0,1,0,79872,0,0,3750,1514933.6227221799,120082.8,0,0,78624,350,0,null,4.08,0.9,0.4,null,0,null,0,null,0,0,0,0,0,0,385,0,null,4346.3599999999997,4025.28,0,0]
[2254,"Canterbury Road Primary School",1,206,0,0,29.999999999999993,0,45.33971291866029,0,29.999999999999993,80.000000000000043,8.9999999999999982,29.999999999999993,22.999999999999957,5.0000000000000053,0,0,0,0,0,0,21.068181818181763,0,78.764705882353027,0,120083.99999999999,0,0,1,0,29952,0,0,3750,881710.33367825078,120082.8,0,0,29484,210,0,null,0,0,0,null,0,null,0,null,0,0,0,0,0,0,210,0,null,4287.16,3704.23,0,0]
[2258,"Blean Primary School",1,432,0,0,21.999999999999989,0,41.095127610208813,0,11.000000000000016,2.0000000000000004,32.000000000000007,24.000000000000021,6.9999999999999982,0,0,0,0,0,0,0,69.677419354838634,0,68.782122905027904,0,120083.99999999999,0,0,1,0,37632,0,0,3750,1509244,120082.8,0,0,37044,433,0,null,0,0,0,null,0,null,0,null,0,0,0,0,0,0,433,0,null,3750,3750,250,6.6666666666666666E-2]
[2259,"Chartham Primary School",1,353,0,0,58.999999999999893,0,68.387464387464377,0,0,0,2,6.0000000000000009,7.0000000000000009,0,0,0,0,0,0,0,16.583892617449671,0,85.164335664335567,0,120083.99999999999,0,0,1,0,32512,0,0,3750,1225601.4024401463,120082.8,0,0,28450,346,0,null,0,0,0,null,0,null,0,null,0,0,0,0,0,0,346,0,null,3750,3750,250,6.6666666666666666E-2]
[2263,"Herne Bay Infant School",1,305,0,0,72.000000000000057,0,72.283236994219649,0,46.000000000000142,36.000000000000028,85.999999999999957,0,0,0,0,0,0,0,0,0,19.247572815533992,0,86.932367149758463,0,120083.99999999999,0,0,1,0,15968,0,0,3750,1282510.2662899252,120082.8,0,0,15712,350,0,null,4.08,0,0,null,0,null,0,null,0,0,0,0,0,0,390,0,null,3920.14,3526.42,0,0]
[2265,"Hoath Primary School",1,91,0,0,2.0000000000000022,0,9.6352941176470583,0,13.000000000000012,19.000000000000018,2.0000000000000022,0,0,0,0,0,0,0,0,0,2.3947368421052619,0,20.2222222222222,0,120083.99999999999,0,0,1,0,14346,0,0,3750,406178.60883352981,120082.8,0,0,14116,88,0,null,0,0,0,null,0,null,0,null,0,0,0,0,0,0,100,0,null,4543.95,3224.34,0,0]
[2268,"Westmeads Community Infant School",1,173,0,0,21.999999999999918,0,21.999999999999918,0,1.0000000000000002,0,2.0000000000000004,0,2.999999999999992,0,0,0,0,0,0,0,4.4741379310344751,0,37.6086956521739,0,120083.99999999999,0,0,1,0,19711,0,0,3750,680967.94473455194,120082.8,0,0,19395,177,0,null,0,0,0,null,0,null,0,null,0,0,0,0,0,0,177,0,null,3889.95,3195.82,0,0]
[2269,"Whitstable Junior School",1,272,0,0,33.000000000000078,0,69.218637992831546,0,6.0221402214022079,0,17.062730627306284,1.0036900369003681,31.114391143911405,0,0,0,0,0,0,0,3.0000000000000049,0,83.139622641509547,0,120083.99999999999,0,0,1,0,18837,0,0,3750,1023376.415121582,120082.8,0,0,18535,276,0,null,0,0,0,null,0,null,0,null,0,0,0,0,0,0,276,0,null,3828.47,3386.98,171.5300000000002,5.0643936486191296E-2]
[2270,"Aldington Primary School",1,198,0,0,9.0000000000000089,0,14.437500000000002,0,7.0000000000000098,5.0000000000000098,3.9999999999999996,3.0000000000000098,1.9999999999999998,0,0,0,0,0,0,0,0,0,45.599999999999945,0,120083.99999999999,0,0,1,0,29952,0,0,3750,736407.30472073378,120082.8,0,0,29484,197,0,null,0,0,0,null,0,null,0,null,0,0,0,0,0,0,197,0,null,3766.6,3160.11,233.40000000000009,7.3858188480780754E-2]
[2272,"East Stour Primary School",1,375,0,0,85.999999999999872,0,127.11864406779661,0,16.000000000000014,73.000000000000114,0,105.00000000000001,7.0000000000000124,0,0,0,0,0,0,0,27.863777089783277,0,117.1875,0,120083.99999999999,0,0,1,0,53760,0,0,3750,1575757.224911408,120082.8,0,0,52920,415,0,null,4.08,0.9,0.26,null,0,null,0,null,0,0,0,0,0,0,453,0,null,3924.2,3603.97,0,0]
[2275,"Victoria Road Primary School",1,203,0,0,38.99999999999995,0,45.650717703349287,0,104.00000000000007,16.000000000000004,0,8.9999999999999947,8.0000000000000018,0,0,0,0,0,0,0,21.121387283236899,0,44.18235294117639,0,120083.99999999999,0,0,1,0,15095,0,0,3750,828380.90841852722,120082.8,0,0,14853,211,0,null,0,0,0,null,0,null,0,null,0,0,0,0,0,0,211,0,null,4039.83,3448.28,0,0]
[2276,"Willesborough Infant School",1,351,0,0,44.999999999999929,0,47.177419354838705,0,3.0000000000000009,50.999999999999893,1.0000000000000004,50.999999999999893,4.0000000000000018,0,0,0,0,0,0,0,71.726086956521911,0,58.500000000000114,0,120083.99999999999,0,0,1,0,23079,0,0,3750,1312401.7318959783,120082.8,0,0,22709,367,0,null,0,0,0,null,0,null,0,null,0,0,0,0,0,0,367,0,null,3750,3750,250,6.6666666666666666E-2]
[2278,"Bethersden Primary School",1,116,0,0,21.999999999999989,0,25.679389312977101,0,1.0086956521739125,0,2.0173913043478278,1.0086956521739125,7.0608695652173905,0,0,0,0,0,0,0,1.0841121495327097,0,24.075471698113233,0,120083.99999999999,11741.073057409874,0,1,0,10978,0,0,3750,544243.98789908795,120082.8,6947.3805073431267,0,10802,129,0,null,0,0,0,null,0,null,0,null,0,0,0,0,0,0,129,0,null,4396.87,3260.44,0,0]
[2279,"Brook Community Primary School",1,92,0,0,5.9999999999999973,0,15.959183673469388,0,3.9999999999999987,3.9999999999999987,0,1.9999999999999993,3.9999999999999987,0,0,0,0,0,0,0,5.8227848101265804,0,15.946666666666637,0,120083.99999999999,0,0,1,0,8608,0,0,3750,429394.69950204022,120082.8,0,0,8470,97,0,null,0,0,0,null,0,null,0,null,0,0,0,0,0,0,100,0,null,4495.93,3190.67,0,{"$f":"BK69/BJ69","v":0}]
[2280,"Challock Primary School",1,207,0,0,5.9999999999999982,0,10.740566037735849,0,0,7.0339805825242632,0,0,0,0,0,0,0,0,0,0,3.50847457627119,0,49.965517241379402,0,120083.99999999999,0,0,1,0,19711,0,0,3750,771583.46186356852,120082.8,0,0,19395,212,0,null,0,0,0,null,0,null,0,null,0,0,0,0,0,0,212,0,null,3750,3750,{"$f":"IF(AND(C70=1,BI70<3883.495),4000-BI70,0)","v":250},6.6666666666666666E-2]
[2282,"Great Chart Primary School",1,452,0,0,46.000000000000099,0,70.625,0,34,20.000000000000014,2.0000000000000013,9.999999999999984,13.999999999999988,0,0,0,0,0,0,0,35.74489795918366,0,79.216494845360884,0,120083.99999999999,0,0,1,0,38656,0,0,3750,1680252,120082.8,0,0,38052,483,0,null,0,0,0,null,0,null,0,null,0,0,0,0,0,0,483,0,null,3750,3750,250,6.6666666666666666E-2]
[2285,"Mersham Primary School",1,194,0,0,12.999999999999996,0,21.329842931937172,0,0.99999999999999967,12.000000000000004,0,6.9999999999999956,6.0000000000000018,0,0,0,0,0,0,0,1.1616766467065871,0,39.763975155279525,0,120083.99999999999,0,0,1,0,7859,0,0,3750,717066.60712277296,120082.8,0,0,7105,196,0,null,0,0,0,null,0,null,0,null,0,0,0,0,0,0,196,0,null,3789.8,3170.81,210.19999999999982,6.6292209246217787E-2]
[2289,"Smeeth Community Primary School",1,128,0,0,5,0,8.861538461538462,0,6,4,0,6,0,0,0,0,0,0,0,0,1.2075471698113203,0,27.60784313725491,0,120083.99999999999,0,0,1,0,14845,0,0,3750,533945.3662102269,120082.8,0,0,14607,132,0,null,0,0,0,null,0,null,0,null,0,0,0,0,0,0,132,0,null,4088.47,3150.31,0,0]
[2296,"Mundella Primary School",1,187,0,0,68.999999999999929,0,84.242574257425744,0,5.0815217391304417,6.0978260869565188,39.635869565217305,29.472826086956537,55.896739130434803,45.733695652173843,0,0,0,0,0,0,14.470238095238098,0,75.270440251572282,0,120083.99999999999,0,0,1,0,17017,0,0,3750,921437.66799153446,120082.8,0,0,16744,207,0,null,0,0,0,null,0,null,0,null,0,0,0,0,0,0,207,0,null,4697.7299999999996,4055.57,0,0]
[2298,"Hawkinge Primary School",1,393,0,0,50.999999999999922,0,72.853785900783294,0,132.67519181585689,6.0306905370844035,1.0051150895140673,3.0153452685421978,17.086956521739125,3.0153452685421978,0,0,0,0,0,0,9.3293768545993938,0,119.45288753799392,0,120083.99999999999,0,0,1,0,8243,0,0,3750,1356201.9201179175,120082.8,0,0,8114,382,0,null,0,0,0,null,0,null,0,null,0,0,0,0,0,0,382,0,null,3750,3750,250,6.6666666666666666E-2]
[2300,"Sellindge Primary School",1,108,0,0,11.999999999999988,0,11.999999999999988,0,1.0000000000000002,1.999999999999998,0,0,0,0,0,0,0,0,0,0,3.5604395604395642,0,26.109890109890138,0,120083.99999999999,0,0,1,0,17216,0,0,3750,445774.06104073377,120082.8,0,0,16940,103,0,null,0,0,0,null,0,null,0,null,0,0,0,0,0,0,103,0,null,4318.5200000000004,3206.64,0,0]
[2312,"River Primary School",1,418,0,0,32.999999999999986,0,54.221698113207545,0,43.103117505995272,49.117505995203871,49.117505995203871,14.03357314148683,36.086330935251809,0,0,0,0,0,0,0,5.8379888268156526,0,98.629213483145946,0,120083.99999999999,0,0,1,0,40960,0,0,3750,1506028.9054895111,120082.8,0,0,40320,426,0,null,0,0,0,null,0,null,0,null,0,0,0,0,0,0,426,0,null,3750,3750,250,6.6666666666666666E-2]
[2318,"Langdon Primary School",1,91,0,0,13.000000000000012,0,14.083333333333334,0,6.9999999999999982,4.0000000000000044,5.9999999999999964,4.0000000000000044,4.9999999999999964,0,0,0,0,0,0,0,3.5000000000000036,0,15.565789473684179,0,120083.99999999999,0,0,1,0,4990,0,0,3750,390112.2460710294,120082.8,0,0,4910,84,0,null,0,0,0,null,0,null,0,null,0,0,0,0,0,0,100,0,null,4569.33,3249.73,0,0]
[2320,"Eythorne Elvington Community Primary School",1,103,0,0,50.999999999999986,0,55.178571428571423,0,2.9999999999999991,58.99999999999995,0,1,0,0,0,0,0,0,0,0,2.4523809523809517,0,32.265060240963876,0,120083.99999999999,0,0,1,0,17340,0,0,3750,527879.69088290026,120082.8,0,0,17062,111,0,null,0,0,0,null,0,null,0,null,0,0,0,0,0,0,111,0,null,4901.18,3735.31,0,0]
[2321,"Lydden Primary School",1,84,0,0,11.000000000000004,0,18,0,7.9999999999999973,9.9999999999999964,6.9999999999999973,3.9999999999999987,0,0,0,0,0,0,0,0,0,0,3.6000000000000036,0,120083.99999999999,0,0,1,0,8483,0,0,3750,383449.4023427763,120082.8,0,0,5167,86,0,null,0,0,0,null,262.75798142367603,null,262.75798142367603,null,12,0,12,0,9,0,100,0,null,4542.76,3113.18,0,0]
[2322,"Preston Primary School",1,131,0,0,7.9999999999999956,0,15.3515625,0,13.100000000000001,11.084615384615383,1.0076923076923074,0,1.0076923076923074,0,0,0,0,0,0,0,4.637168141592924,0,28.071428571428534,0,120083.99999999999,6530.5376769025315,0,1,0,17964,0,0,3750,519266.56936020096,120082.8,7949.4065420560728,0,10314,126,0,null,0,0,0,null,0,null,0,null,0,0,0,0,0,0,126,0,null,4166.46,3199.93,0,0]
[2326,"Wingham Primary School",1,197,0,0,14.999999999999993,0,16.966507177033495,0,10.000000000000009,2.0000000000000018,0,3.0000000000000027,0,0,0,0,0,0,0,0,1.1726190476190472,0,51.339393939394022,0,120083.99999999999,0,0,1,0,31232,0,0,3750,792337.45926221367,120082.8,0,0,30744,211,0,null,0,0,0,null,0,null,0,null,0,0,0,0,0,0,211,0,null,3810.77,3201.21,189.23000000000002,5.9112023266202469E-2]
[2327,"Worth Primary School",1,71,0,0,13.000000000000016,0,13.000000000000016,0,13.000000000000016,5.9999999999999982,0,0,5.9999999999999982,0,0,0,0,0,0,0,2.366666666666664,0,17.13793103448279,0,120083.99999999999,0,0,1,0,3393,0,0,3750,318218.08155370172,120082.8,0,0,3100,62,0,null,0,0,0,null,0,null,0,null,0,0,0,0,0,0,100,0,null,5043.34,3352.01,0,0]
[2328,"St Mildred's Primary Infant School",1,268,0,0,33.999999999999986,0,33.999999999999986,0,41.000000000000085,5.9999999999999902,3.000000000000008,4.9999999999999876,4.9999999999999876,3.000000000000008,0,0,0,0,0,0,29.944134078212294,0,73.775280898876545,0,120083.99999999999,0,0,1,0,24950,0,0,3750,986747.68125085486,120082.8,0,0,24550,270,0,null,0,0,0,null,0,null,0,null,0,0,0,0,0,0,270,0,null,3802.58,3354.51,197.42000000000007,5.8852112529102628E-2]
[2329,"Callis Grange Nursery & Infant School",1,270,0,0,48.000000000000064,0,48.000000000000064,0,35.999999999999908,102.00000000000006,9.9999999999999893,6.9999999999999929,4.9999999999999947,8.9999999999999911,0,0,0,0,0,0,11.999999999999988,0,45.251396648044562,0,120083.99999999999,0,0,1,0,43520,0,0,3750,1021555.844413741,120082.8,0,0,42840,270,0,null,4.08,0.9,0,null,0,null,0,null,0,0,0,0,0,0,294,0,null,3798.57,3353.81,201.42999999999984,6.0060051106055452E-2]
[2337,"St Crispin's Community Primary Infant School",1,269,0,0,35.000000000000064,0,35.000000000000064,0,7.0000000000000124,63.000000000000057,11.000000000000004,1.0000000000000004,4.9999999999999902,3.9999999999999916,0,0,0,0,0,0,9.016759776536313,0,60.790960451977469,0,120083.99999999999,0,0,1,0,20085,0,0,3750,961990.63619844953,120082.8,0,0,19763,269,0,null,0,0,0,null,0,null,0,null,0,0,0,0,0,0,269,0,null,3750,3750,250,6.6666666666666666E-2]
[2340,"Ellington Infant School",1,137,0,0,45.999999999999964,0,49.672514619883039,0,57.000000000000007,0.99999999999999989,6.9999999999999991,27.000000000000014,21.999999999999943,0.99999999999999989,0,0,0,0,0,0,13.431372549019606,0,47.530612244897952,0,120083.99999999999,0,0,1,0,26880,0,0,3750,761295.10260454402,120082.8,0,0,26460,175,0,null,0,0,0,null,0,null,0,null,0,0,0,0,0,0,175,0,null,4668.8,3792.28,0,0]
[2345,"Priory Infant School",1,178,0,0,31.000000000000085,0,40.225988700564969,0,92.000000000000071,1.0000000000000004,2.0000000000000044,37.000000000000028,31.999999999999929,1.0000000000000004,0,0,0,0,0,0,23.733333333333274,0,82.268907563025238,0,120083.99999999999,0,0,1,0,30976,0,0,3750,756462.56679010298,120082.8,0,0,30492,177,0,null,0,0,0,null,0,null,0,null,0,0,0,0,0,0,177,0,null,4509.09,3834.46,0,0]
[2431,"Shears Green Junior School",1,478,0,0,82.000000000000128,0,88.184486373165612,0,113.47478991596626,105.4411764705884,6.0252100840336027,3.0126050420168058,14.058823529411788,0,0,0,0,0,0,0,15.999999999999982,0,126.43870967741934,0,120083.99999999999,0,0,1,0,21760,0,0,3750,1686994.493226167,120082.8,0,0,21420,479,0,null,0,0,0,null,0,null,0,null,0,0,0,0,0,0,479,0,null,3750,3750,250,6.6666666666666666E-2]
[2434,"West Minster Primary School",1,455,0,0,176.00000000000009,0,221.43333333333334,0,9.0000000000000089,9.0000000000000089,0,175.0000000000002,84.000000000000171,156.00000000000009,0,0,0,0,0,0,9.4791666666666519,0,111.32978723404266,0,120083.99999999999,0,0,1,0,80384,0,0,3750,1878956.7838791532,120082.8,0,0,79128,454,0,null,4.08,0.9,0.61,null,0,null,0,null,0,0,0,0,0,0,493,0,null,4157.72,3893.8,0,0]
[2454,"Aycliffe Community Primary School",1,103,0,0,43.000000000000021,0,47.821428571428577,0,1.0198019801980196,6.1188118811881189,4.0792079207920784,85.6633663366337,5.0990099009900982,0,0,0,0,0,0,0,4.6818181818181861,0,28.744186046511583,0,120083.99999999999,0,0,1,0,22829,0,0,3750,575442.48624337593,120082.8,0,0,22463,116,0,null,0,0,0,null,0,null,0,null,0,0,0,0,0,0,116,0,null,5055.26,3889.4,0,0]
[2459,"Riverhead Infant School",1,266,0,0,9.9999999999999964,0,9.9999999999999964,0,0,0,0,0,0,0,0,0,0,0,0,0,25.262569832402221,0,33.440000000000076,0,120083.99999999999,0,0,1.0364,0,38912,0,0,3750,974438.00082289067,124453.81392,0,0,38304,269,0,null,0,0,0,null,0,null,0,null,0,0,0,0,0,0,269,0,null,3750,3750,250,6.6666666666666666E-2]
[2465,"Claremont Primary School",1,434,0,0,7.9999999999999982,0,15.798715203426124,0,2.0000000000000018,0,0,0,0,0,0,0,0,0,0,0,38.192,0,68.9643835616438,0,120083.99999999999,0,0,1,0,38656,0,0,3750,1619052,120082.8,0,0,38052,465,0,null,0,0,0,null,257.45495112064572,null,257.45495112064572,null,12,0,15,0,15,0,465,0,null,3750,3750,250,6.6666666666666666E-2]
[2471,"Whitfield Aspen School",1,493,0,0,111.99999999999993,0,152.86036960985626,0,143.00000000000014,51.000000000000021,37.000000000000014,13.000000000000014,51.000000000000021,0.99999999999999956,0,0,0,0,0,0,6.0121951219512137,0,209.70895522388048,0,120083.99999999999,0,0,1,19249.999999999996,65024,0,0,3750,1838528.4621926888,120082.8,0,0,64008,484,0,null,0,0,0,null,0,null,0,null,0,0,0,0,0,0,488,0,null,3916.91,3712.38,0,0]
[2474,"St Paul's Infant School",1,263,0,0,44.999999999999957,0,50.80681818181818,0,79.999999999999901,0.99999999999999933,0.99999999999999933,2.0000000000000013,0,0,0,0,0,0,0,0,84.535714285714178,0,80.674846625766946,0,120083.99999999999,0,0,1,0,11477,0,0,3750,1025253.7871991114,120082.8,0,0,12970,262,0,null,0,0,0,null,0,null,0,null,0,0,0,0,0,0,262,0,null,4003.36,3546.76,0,0]
[2482,"Langton Green Primary School",1,415,0,0,11.999999999999996,0,16.085271317829456,0,20.999999999999993,1.0000000000000009,1.0000000000000009,4.999999999999984,0,0,0,0,0,0,0,0,6.9943820224719255,0,65.145348837209511,0,120083.99999999999,0,0,1,0,39168,0,0,3750,1361155.9999999998,120082.8,0,0,38556,389,0,null,0,0,0,null,0,null,0,null,0,0,0,0,0,0,389,0,null,3750,3750,250,6.6666666666666666E-2]
[2490,"Bishops Down Primary School",1,235,0,0,24.999999999999943,0,27.851851851851851,0,47.200854700854734,3.0128205128205079,2.008547008547009,3.0128205128205079,0,0,0,0,0,0,0,0,10.317073170731696,0,48.7046632124353,0,120083.99999999999,0,0,1,0,31232,0,0,3750,971046.27190751559,120082.8,0,0,30744,267,0,null,4.08,0.9,0,null,1322.5656939999999,null,1322.5656939999999,null,103,0,112,0,104,0,299,0,null,3750,3750,250,6.6666666666666666E-2]
[2509,"Singlewell Primary School",1,320,0,0,36,0,54.794520547945204,0,87.272727272727352,27.084639498432608,11.034482758620705,1.0031347962382433,24.075235109717855,0,0,0,0,0,0,0,36.923076923076799,0,85.914396887159668,0,120083.99999999999,0,0,1,0,51712,0,0,3750,1117878.1312919976,120082.8,0,0,50904,294,0,null,0,0,0,null,0,null,0,null,0,0,0,0,0,0,294,0,null,3793.49,3418.23,206.51000000000022,6.0414307989807653E-2]
[2510,"Cheriton Primary School",1,436,0,0,72.999999999999801,0,107.55947136563877,0,63.999999999999964,30.000000000000007,7.9999999999999956,14.999999999999982,3.0000000000000004,4.0000000000000027,0,0,0,0,0,0,81.537662337662326,0,109.31054131054144,0,120083.99999999999,0,0,1,0,8909,0,0,3750,1625056.8720035823,120082.8,0,0,6197,452,0,null,0,0,0,null,0,null,0,null,0,0,0,0,0,0,452,0,null,3750,3750,250,6.6666666666666666E-2]
[2514,"Brookfield Infant School",1,180,0,0,36,0,45.50561797752809,0,0,14.000000000000005,1.9999999999999978,0,18,0,0,0,0,0,0,0,9,0,48.000000000000057,0,120083.99999999999,0,0,1,0,20210,0,0,3750,707413.84957398917,120082.8,0,0,23177,177,0,null,0,0,0,null,868.21926038494769,null,868.21926038494769,null,7,0,7,0,6,0,177,0,null,4055.98,3388.85,0,0]
[2519,"Vigo Village School",1,182,0,0,10.999999999999993,0,18.491978609625669,0,10.999999999999993,4.0000000000000044,0,0.99999999999999911,2.0000000000000022,0,0,0,0,0,0,0,4.6075949367088551,0,50.080536912751619,0,120083.99999999999,0,0,1,0,22081,0,0,3750,717161.2092097681,120082.8,0,0,21727,188,0,null,0,0,0,null,0,null,0,null,0,0,0,0,0,0,188,0,null,3890.68,3230.88,0,0]
[2520,"Madginford Primary School",1,639,0,0,25.000000000000032,0,31.604327666151466,0,82.000000000000156,12.000000000000002,20.999999999999989,34.000000000000021,13.999999999999993,0,0,0,0,0,0,0,33.81569343065695,0,112.76470588235286,0,120083.99999999999,0,0,1,0,58880,0,0,3750,2242682,120082.8,0,0,59882,642,0,null,0,0,0,null,0,null,0,null,0,0,0,0,0,0,642,0,null,3750,3750,250,6.6666666666666666E-2]
[2524,"Palmarsh Primary School",1,156,0,0,26.999999999999986,0,46.597402597402592,0,1.9999999999999967,39.999999999999936,10,0,1,1.9999999999999967,0,0,0,0,0,0,2.2773722627737221,0,49.636363636363612,0,120083.99999999999,0,0,1,0,16218,0,0,3750,620743.34833606845,120082.8,0,0,12171,147,0,null,0,0,0,null,0,null,0,null,0,0,0,0,0,0,147,0,null,4231.55,3461.78,0,0]
[2525,"Painters Ash Primary School",1,410,0,0,67.999999999999858,0,95.766423357664237,0,18.999999999999979,117.99999999999982,6.9999999999999938,15.999999999999982,7.9999999999999911,0,0,0,0,0,0,0,42.051282051282229,0,108.7755102040818,0,120083.99999999999,0,0,1,0,41728,0,0,3750,1497820.7333283699,120082.8,0,0,40730,407,0,null,0,0,0,null,0,null,0,null,0,0,0,0,0,0,407,0,null,3750,3750,250,6.6666666666666666E-2]
[2530,"Tunbury Primary School",1,601,0,0,10.000000000000014,0,19.321489001692047,0,15.025,52.086666666666687,24.04,0,3.0049999999999999,1.0016666666666687,0,0,0,0,0,0,5.8123791102514497,0,104.67514677103738,0,120083.99999999999,0,0,1,0,46336,0,0,3750,2065185,120082.8,0,0,48985,593,0,null,0,0,0,null,0,null,0,null,0,0,0,0,0,0,593,0,null,3750,3750,250,6.6666666666666666E-2]
[2532,"St Margaret's-at-Cliffe Primary School",1,196,0,0,9.0000000000000053,0,13.066666666666666,0,16,9.9999999999999982,5.0000000000000089,5.0000000000000089,6.0000000000000036,0,0,0,0,0,0,0,6.7976878612716787,0,33.876543209876445,0,120083.99999999999,0,0,1,0,18713,0,0,3750,723532.77002027654,120082.8,0,0,16503,194,0,null,0,0,0,null,0,null,0,null,0,0,0,0,0,0,194,0,null,3759.59,3146.91,240.40999999999985,7.6395575342161001E-2]
[2534,"Bysing Wood Primary School",1,151,0,0,58.999999999999993,0,86.012658227848107,0,12.000000000000002,5.0000000000000071,38.000000000000028,50.000000000000071,14.000000000000004,0,0,0,0,0,0,0,7.9473684210526283,0,68.421875,0,120083.99999999999,0,0,1,0,48154,0,0,3750,758134.0836609609,120082.8,0,0,42963,157,0,null,0,0,0,null,0,null,0,null,0,0,0,0,0,0,157,0,null,4799.66,4004.41,0,0]
[2539,"Stocks Green Primary School",1,217,0,0,1.9999999999999996,0,4.075117370892019,0,1.0000000000000009,1.0000000000000009,0,1.0000000000000009,0,0,0,0,0,0,0,0,5.7712765957446885,0,29.324324324324294,0,120083.99999999999,0,0,1,0,23204,0,0,3750,769128.13296475832,120082.8,0,0,25445,217,0,null,0,0,0,null,0,null,0,null,0,0,0,0,0,0,217,0,null,3750,3750,250,6.6666666666666666E-2]
[2545,"Sandgate Primary School",1,424,0,0,43.999999999999837,0,51,0,41.000000000000014,11.999999999999988,14.999999999999986,7.0000000000000204,7.0000000000000204,1.9999999999999991,0,0,0,0,0,0,12.813186813186805,0,77.303867403314797,0,120083.99999999999,0,0,1,0,46592,0,0,3750,1494263.9999999998,120082.8,0,0,45864,426,0,null,0,0,0,null,0,null,0,null,0,0,0,0,0,0,426,0,null,3750,3750,250,6.6666666666666666E-2]
[2552,"Sandling Primary School",1,417,0,0,17,0,29.574468085106385,0,15.999999999999993,1.999999999999998,1.999999999999998,0,0.999999999999999,0,0,0,0,0,0,0,19.746518105849603,0,82.457627118643941,0,120083.99999999999,0,0,1,0,30720,0,0,3750,1470362.0000000002,120082.8,0,0,32162,423,0,null,0,0,0,null,0,null,0,null,0,0,0,0,0,0,423,0,null,3750,3750,250,6.6666666666666666E-2]
[2559,"Capel-le-Ferne Primary School",1,202,0,0,11.000000000000009,0,23.30769230769231,0,9.0000000000000089,3.0000000000000098,19.999999999999996,13.000000000000009,31.999999999999915,0,0,0,0,0,0,0,0,0,48.095238095238074,0,120083.99999999999,0,0,1,0,19336,0,0,3750,796695.73973651032,120082.8,0,0,19026,208,0,null,0,0,0,null,0,null,0,null,0,0,0,0,0,0,208,0,null,3894.13,3299.65,0,0]
[2562,"Lunsford Primary School",1,208,0,0,26,0,27.000000000000004,0,2.9999999999999951,5.9999999999999902,1.0000000000000004,0,4.999999999999992,0,0,0,0,0,0,0,5.8426966292134752,0,47.910112359550482,0,120083.99999999999,0,0,1,0,19087,0,0,3750,770006.34591514349,120082.8,0,0,22154,207,0,null,0,0,0,null,0,null,0,null,0,0,0,0,0,0,207,0,null,3797.43,3220.11,202.57000000000016,6.2907788864355607E-2]
[2569,"Briary Primary School",1,338,0,0,68.000000000000099,0,88.214285714285722,0,99.000000000000114,15.000000000000011,11.000000000000016,0.99999999999999833,3.9999999999999933,0,0,0,0,0,0,0,4.4473684210526292,0,119.49494949494965,0,120083.99999999999,0,0,1,0,13308,0,0,3750,1323541.6448554704,120082.8,0,0,13098,365,0,null,0,0,0,null,0,null,0,null,0,0,0,0,0,0,365,0,null,3844.23,3488.95,155.76999999999998,4.4646670201636596E-2]
[2574,"Downs View Infant School",1,262,0,0,48,0,48,0,9.0344827586207028,38.145593869731862,12.04597701149426,26.09961685823755,1.0038314176245204,0,0,0,0,0,0,0,19.802325581395348,0,58.751515151515086,0,120083.99999999999,0,0,1,0,27648,0,0,3750,954133.10526501038,120082.8,0,0,27216,258,0,null,0,0,0,null,0,null,0,null,0,0,0,0,0,0,258,0,null,3821.35,3363.01,178.65000000000009,5.3122054350120899E-2]
[2578,"Kingswood Primary School",1,118,0,0,9.0000000000000036,0,9.5675675675675684,0,3.0256410256410207,0,0,1.008547008547009,5.042735042735039,0,0,0,0,0,0,0,1.1919191919191918,0,20.060000000000002,0,120083.99999999999,0,0,1,0,16093,0,0,3750,454656.3971527993,120082.8,0,0,11205,110,0,null,0,0,0,null,0,null,0,null,0,0,0,0,0,0,110,0,null,4131.03,3113.37,0,0]
[2586,"Senacre Wood Primary School",1,207,0,0,41.000000000000092,0,49.759615384615387,0,14.000000000000002,2,80.000000000000028,17.999999999999993,22.999999999999975,0,0,0,0,0,0,0,9.3559322033898411,0,67.830508474576263,0,120083.99999999999,0,0,1,0,21332,0,0,3750,846942.10276303242,120082.8,0,0,19868,206,0,null,0,0,0,null,0,null,0,null,0,0,0,0,0,0,206,0,null,4204.6400000000003,3624.52,0,0]
[2603,"Bromstone Primary School, Broadstairs",1,481,0,0,127.99999999999996,0,162.63319672131149,0,87.000000000000057,17.999999999999989,80.999999999999801,67.999999999999815,40.000000000000021,11.999999999999977,0,0,0,0,0,0,15.957345971563996,0,165.38014527845027,0,120083.99999999999,0,0,1,0,45056,0,0,3750,1824261.3054816027,120082.8,0,0,41024,484,0,null,0,0,0,null,0,null,0,null,0,0,0,0,0,0,484,0,null,3921.04,3671.39,0,0]
[2607,"Parkside Community Primary School",1,89,0,0,52.999999999999993,0,63.161290322580648,0,1.0000000000000022,0,5.0000000000000027,2.9999999999999973,63.000000000000014,0,0,0,0,0,0,0,5.7051282051282044,0,49.986301369862986,0,120083.99999999999,0,0,1,0,20958,0,0,3750,553380.09927204985,120082.8,0,0,18154,95,0,null,0,0,0,null,0,null,0,null,0,0,0,0,0,0,100,0,null,5741.02,4391.7700000000004,0,0]
[2611,"St Stephen's Infant School",1,268,0,0,62.000000000000121,0,62.000000000000121,0,23.000000000000011,3.000000000000008,26.99999999999989,56,66.000000000000028,0,0,0,0,0,0,0,76.786516853932525,0,72.809248554913381,0,120083.99999999999,0,0,1,0,24950,0,0,3750,1058258.0356124686,120082.8,0,0,24550,267,0,null,0,0,0,null,0,null,0,null,0,0,0,0,0,0,267,0,null,4159.42,3711.34,0,0]
[2615,"High Firs Primary School",1,206,0,0,9.9999999999999893,0,29.855072463768117,0,0,22.999999999999957,11.000000000000004,21.999999999999925,17.999999999999996,0,0,0,0,0,0,0,10.534090909090901,0,58.686046511628,0,120083.99999999999,0,0,1.0364,0,24950,0,0,3750,838811.22711895593,124453.81392,0,0,24550,207,0,null,0,0,0,null,521.83732051330935,null,521.83732051330935,null,16,0,16,0,24,0,207,0,null,4094.56,3490.41,0,0]
[2626,"Sandwich Infant School",1,131,0,0,20.000000000000021,0,20.000000000000021,0,7.9999999999999956,42.999999999999964,4.0000000000000044,0,0.99999999999999978,0,0,0,0,0,0,0,8.1875,0,36.623655913978453,0,120083.99999999999,0,0,1,0,14097,0,0,3750,551392.63942985854,120082.8,0,0,13871,131,0,null,0,0,0,null,0,null,0,null,0,0,0,0,0,0,131,0,null,4314.76,3398.09,0,0]
[2627,"Sandwich Junior School",1,200,0,0,39,0,50.224215246636774,0,14.000000000000002,63,3,1,1,0,0,0,0,0,0,0,4,0,44.559585492227995,0,120083.99999999999,0,0,1,0,28160,0,0,3750,841026.64606846531,120082.8,0,0,23046,221,0,null,0,0,0,null,0,null,0,null,0,0,0,0,0,0,221,0,null,3959.85,3359.43,0,0]
[2629,"Holywell Primary School Upchurch",1,202,0,0,28.000000000000075,0,28.000000000000075,0,11.000000000000009,7.9999999999999991,0.99999999999999989,3.0000000000000098,0,0,0,0,0,0,0,0,18.36363636363636,0,32.621118012422428,0,120083.99999999999,0,0,1,0,23578,0,0,3750,725114.69266115373,120082.8,0,0,23200,195,0,null,0,0,0,null,0,null,0,null,0,0,0,0,0,0,195,0,null,3790.54,3196.06,209.46000000000004,6.5536942360281111E-2]
[2632,"Sevenoaks Primary School",1,620,0,0,46.999999999999986,0,46.999999999999986,0,4.0064620355411975,1.0016155088852994,0,1.0016155088852994,0,0,0,0,0,0,0,0,78.951310861422925,0,107.93522267206481,0,120083.99999999999,0,0,1.0364,0,75264,0,0,3750,2100488,124453.81392,0,0,74088,596,0,null,0,0,0,null,0,null,0,null,0,0,0,0,0,0,596,0,null,3750,3750,250,6.6666666666666666E-2]
[2643,"Swalecliffe Community Primary School",1,616,0,0,68.999999999999986,0,82.658146964856229,0,72.000000000000071,7.0000000000000222,9.9999999999999805,2.0000000000000022,8.0000000000000089,0,0,0,0,0,0,0,9.1428571428571619,0,137.53095684802997,0,120083.99999999999,0,0,1,0,59904,0,0,3750,2190768,120082.8,0,0,58968,627,0,null,0,0,0,null,0,null,0,null,0,0,0,0,0,0,627,0,null,3750,3750,250,6.6666666666666666E-2]
[2648,"Aylesham Primary School",1,327,0,0,93.000000000000114,0,109,0,195.00000000000006,3.0000000000000018,3.0000000000000018,110.00000000000017,2.0000000000000013,0,0,0,0,0,0,0,15.128113879003546,0,78.722222222222314,0,120083.99999999999,0,0,1,0,27136,0,0,3750,1083218.8588148186,120082.8,0,0,23401,271,0,null,0,0,0,null,0,null,0,null,0,0,0,0,0,0,271,0,null,3993.46,3626.23,0,0]
[2651,"Broadwater Down Primary School",1,142,0,0,27.000000000000068,0,39.796178343949045,0,0.99999999999999989,0,6.9999999999999964,50,0,0,0,0,0,0,0,0,22.483333333333285,0,46.49557522123893,0,120083.99999999999,0,0,1,0,18837,0,0,3750,688274.49071405584,120082.8,0,0,17740,161,0,null,0,0,0,null,0,null,0,null,0,0,0,0,0,0,161,0,null,4457.26,3611.6,0,0]
[2653,"West Borough Primary School",1,448,0,0,61.999999999999943,0,98,0,87.000000000000185,1.0000000000000013,2.9999999999999996,5.0000000000000062,4.0000000000000009,0,0,0,0,0,0,0,79.67010309278362,0,105.55616438356147,0,120083.99999999999,0,0,1,0,58368,0,0,3750,1629610.7343867887,120082.8,0,0,58874,450,0,null,4.08,0.3,0,null,0,null,0,null,0,0,0,0,0,0,497,0,null,3750,3750,250,6.6666666666666666E-2]
[2662,"Long Mead Community Primary School",1,129,0,0,55.000000000000028,0,55.000000000000028,0,14.000000000000034,9.9999999999999947,0,40.000000000000007,0,0,0,0,0,0,0,0,4.5263157894736823,0,48.522935779816549,0,120083.99999999999,0,0,1,0,18463,0,0,3750,637995.26562615682,120082.8,0,0,17401,143,0,null,4.08,0.9,0.17,null,0,null,0,null,0,0,0,0,0,0,158,0,null,4687.34,3756.46,0,0]
[2672,"Palm Bay Primary School",1,424,0,0,46.000000000000064,0,49.648711943793913,0,25,1.0000000000000018,24.000000000000018,31.999999999999982,14.999999999999986,43.999999999999837,0,0,0,0,0,0,9.3701657458563723,0,106.88088642659288,0,120083.99999999999,0,0,1,0,54272,0,0,3750,1528545.0058424599,120082.8,0,0,53424,427,0,null,0,0,0,null,0,null,0,null,0,0,0,0,0,0,427,0,null,3750,3750,250,6.6666666666666666E-2]
[2674,"King's Farm Primary School",1,360,0,0,145.00000000000009,0,171.47632311977716,0,69.000000000000128,33.999999999999986,20.000000000000018,6.999999999999984,158.00000000000003,0,0,0,0,0,0,0,44.713375796178362,0,139.79381443298962,0,120083.99999999999,0,0,1,0,43264,0,0,3750,1796111.6875835336,120082.8,0,0,38341,358,0,null,4.08,0.9,0.39,null,0,null,0,null,0,0,0,0,0,0,427,0,null,4930.9799999999996,4597.42,0,0]
[2680,"Kings Hill School",1,477,0,0,30.000000000000007,0,31.8,0,11.999999999999993,10.999999999999996,0,0,3.0000000000000004,0,0,0,0,0,0,0,17.158273381294947,0,97.784999999999997,0,120083.99999999999,0,0,1,0,52224,0,0,3750,1686781,120082.8,0,0,54781,480,0,null,0,0,0,null,0,null,0,null,0,0,0,0,0,0,480,0,null,3750,3750,250,6.6666666666666666E-2]
[2682,"New Ash Green Primary School",1,402,0,0,23.999999999999986,0,45.68181818181818,0,111.99999999999984,15.999999999999991,1.0000000000000013,0,1.0000000000000013,0,0,0,0,0,0,0,9.4035087719298343,0,116.7485029940121,0,120083.99999999999,0,0,1.0364,0,33792,0,0,3750,1428133.8841668877,124453.81392,0,0,33264,399,0,null,0,0,0,null,624.75467638210785,null,624.75467638210785,null,31,0,31,0,27,0,399,0,null,3750,3750,250,{"$f":"BK133/BJ133","v":6.6666666666666666E-2}]
[2689,"Craylands School, The",1,331,0,0,47.999999999999915,0,64.880398671096344,0,114.00000000000016,13.000000000000002,0,1.0000000000000011,47.999999999999915,0,0,0,0,0,0,0,23.379182156133844,0,97.060150375939884,0,120083.99999999999,0,0,1.0364,0,61952,76874.985532800012,0,3750,1240569.4315555464,124453.81392,0,0,32508,295,0,null,0,0,0,null,0,null,0,null,0,0,0,0,0,0,295,0,null,3966.53,3590.53,{"$f":"IF(AND(C134=1,BI134<3883.495),4000-BI134,0)","v":0},0]
[2692,"Churchill School, The",1,399,0,0,55.999999999999822,0,70.868613138686129,0,100.9999999999998,4.9999999999999982,16.999999999999993,1.9999999999999991,13.999999999999993,1.9999999999999991,0,0,0,0,0,0,22.931034482758623,0,86.841176470588067,0,120083.99999999999,0,0,1,0,12595,0,0,3750,1414470.2300593678,120082.8,0,0,12398,408,0,null,0,0,0,null,0,null,0,null,0,0,0,0,0,0,408,0,null,3750,3750,250,6.6666666666666666E-2]
[3010,"St Paul's CEP School",1,111,0,0,8.0000000000000036,0,8.0000000000000036,0,1.0000000000000002,3.999999999999996,1.0000000000000002,0,10.000000000000002,0,0,0,0,0,0,0,1.1562500000000038,0,21.968750000000036,0,120083.99999999999,0,0,1.0364,0,10729,0,0,3750,473699.71362097043,124453.81392,0,0,10557,108,0,null,0,0,0,null,691.76902403766371,null,691.76902403766371,null,0,0,6,0,0,0,108,0,null,4400.93,3279.72,0,0]
[3015,"Fawkham CEP School",1,103,0,0,2.9999999999999991,0,4.9047619047619042,0,7.0000000000000009,4.0000000000000018,0,1.999999999999996,0,0,0,0,0,0,0,0,1.1704545454545492,0,15.390804597701164,0,120083.99999999999,0,0,1.0364,0,21083,0,0,3750,462673.89174394961,124453.81392,0,0,20745,105,0,null,0,0,0,null,0,null,0,null,0,0,0,0,0,0,105,0,null,4384.3,3176,0,0]
[3020,"Sedley's CEP School",1,98,0,0,4.9999999999999991,0,7.7623762376237622,0,4.0412371134020662,8.0824742268041216,2.0206185567010282,0,6.0618556701030943,0,0,0,0,0,0,0,2.3333333333333326,0,25.725000000000001,0,120083.99999999999,0,0,1.0364,0,5863,0,0,3750,438786.06413792353,124453.81392,0,0,4973,98,0,null,0,0,0,null,0,null,0,null,0,0,0,0,0,0,100,0,null,4631.84,3361.89,0,0]
[3022,"Benenden CEP School",1,204,0,0,19.000000000000004,0,19.000000000000004,0,21.207920792079214,1.0099009900990097,0,0,0,0,0,0,0,0,0,0,0,0,42.248520710059104,0,120083.99999999999,0,0,1,0,6986,0,15101,3750,637398.08123180398,120082.8,0,0,6024,167,0,null,0,0,0,null,0,null,0,null,0,0,0,0,0,0,167,0,null,3750,3824.02,250,6.5376227111782884E-2]
[3023,"Bidborough CEP School",1,203,0,0,11.999999999999993,0,11.999999999999993,0,0,5.9999999999999964,0,0,0,0,0,0,0,0,0,0,11.734104046242777,0,52.30674846625773,0,120083.99999999999,0,0,1,0,14970,0,0,3750,762725.42752436316,120082.8,0,0,14730,210,0,null,0,0,0,null,0,null,0,null,0,0,0,0,0,0,210,0,null,3788.98,3197.43,211.01999999999998,6.5996753642769343E-2]
[3027,"Cranbrook CEP School",1,174,0,0,50.999999999999986,0,59.779141104294482,0,1.0000000000000002,0,0,0,0,0,0,0,0,0,0,0,9.5999999999999908,0,39.661764705882312,0,120083.99999999999,0,0,1,0,26112,0,0,3750,666084.87995037262,120082.8,0,0,25704,160,0,null,0,0,0,null,0,null,0,null,0,0,0,0,0,0,160,0,null,4045.88,3355.75,0,0]
[3029,"Goudhurst & Kilndown CEP School",1,212,0,0,16.999999999999996,0,17.831775700934578,0,1.9999999999999991,0,9.9999999999999964,0,0,0,0,0,0,0,0,0,3.4945054945054981,0,24.50867052023122,0,120083.99999999999,0,0,1,0,27904,0,0,3750,767549.23721466574,120082.8,0,0,26964,212,0,null,0,0,0,null,0,null,0,null,0,0,0,0,0,0,212,0,null,3750,3750,250,6.6666666666666666E-2]
[3032,"Hawkhurst CEP School",1,198,0,0,53.000000000000064,0,62.580310880829018,0,78.000000000000014,0,0,0.99999999999999989,0,0,0,0,0,0,0,0,9.3727810650887626,0,47.085365853658438,0,120083.99999999999,0,0,1,0,34560,0,0,3750,789924.16441943205,120082.8,0,0,34020,195,0,null,0,0,0,null,0,null,0,null,0,0,0,0,0,0,195,0,null,4031.81,3425.32,0,0]
[3033,"Hildenborough CEP School",1,200,0,0,10,0,15.609756097560975,0,4.0201005025125598,11.05527638190954,0,0,0,0,0,0,0,0,0,0,6.9364161849711001,0,38.095238095237995,0,120083.99999999999,0,0,1,0,22580,0,0,3750,757060.02744339744,120082.8,0,0,25591,204,0,null,0,0,0,null,0,null,0,null,0,0,0,0,0,0,203,0,null,3750,3750,250,6.6666666666666666E-2]
[3034,"Lamberhurst St Mary's CEP School",1,204,0,0,8,0,8.9126213592233015,0,2,0,0,0,0,0,0,0,0,0,0,0,5.8620689655172322,0,40.325581395348799,0,120083.99999999999,0,0,1,0,27904,0,0,3750,761605.10108874191,120082.8,0,0,27468,209,0,null,0,0,0,null,0,null,0,null,0,0,0,0,0,0,209,0,null,3750,3750,250,6.6666666666666666E-2]
[3035,"Seal CEP School",1,296,0,0,39.999999999999964,0,69.469387755102048,0,2.0000000000000009,0,0,0,0,0,0,0,0,0,0,0,16.642570281124506,0,64.347826086956502,0,120083.99999999999,0,0,1.0364,0,17839,0,0,3750,1050744.2212337225,124453.81392,0,0,14234,282,0,null,0,0,0,null,0,null,0,null,0,0,0,0,0,0,282,0,null,3777.2,3356.74,222.80000000000018,6.6373922317486664E-2]
[3037,"St John's CEP School, Sevenoaks",1,213,0,0,10.999999999999998,0,19.126530612244895,0,0,0.99999999999999933,0,0,0,0,0,0,0,0,0,0,17.459016393442624,0,39.071005917159788,0,120083.99999999999,0,0,1.0364,0,22330,0,0,3750,992490.08948077285,124453.81392,0,0,19185,240,0,null,0,0,0,null,0,null,0,null,0,0,0,0,0,0,240,0,null,4138.8599999999997,3554.56,0,0]
[3042,"Speldhurst CEP School",1,194,0,0,3.0000000000000009,0,3.197802197802198,0,0.99999999999999967,0,0,0,0,0,0,0,0,0,0,0,3.5487804878048839,0,20.832214765100581,0,120083.99999999999,0,0,1,0,3098,0,0,3750,630871.77679779753,120082.8,0,0,3049,177,0,null,0,0,0,null,0,null,0,null,0,0,0,0,0,0,177,0,null,3750,3750,250,6.6666666666666666E-2]
[3043,"Sundridge & Brasted CEP School",1,91,0,0,12.000000000000012,0,22,0,0,4.0000000000000044,0,0,0,0,0,0,0,0,0,0,5.9868421052631549,0,13.382352941176491,0,120083.99999999999,0,0,1.0364,0,7111,0,0,3750,415550.40561347932,124453.81392,0,0,6394,91,0,null,0,0,0,null,0,null,0,null,0,0,0,0,0,0,100,0,null,4662.78,3295.14,0,0]
[3050,"St John's CEP School",1,644,0,0,35.999999999999986,0,50.60708782742681,0,6.9999999999999973,30.999999999999986,18.999999999999993,0,0,0,0,0,0,0,0,0,74.666666666666501,0,168.20895522388045,0,120083.99999999999,0,0,1,0,73216,0,0,3750,2278672,120082.8,0,0,72072,649,0,null,0,0,0,null,0,null,0,null,0,0,0,0,0,0,649,0,null,3750,3750,250,6.6666666666666666E-2]
[3052,"St Mark's CEP School",1,321,0,0,57.000000000000021,0,70.538216560509554,0,11.034375000000001,0,0,74.231250000000003,0,0,0,0,0,0,0,0,41.383275261324137,0,91.889312977099294,0,120083.99999999999,0,0,1,0,45568,0,0,3750,1174851.3769477929,120082.8,0,0,44856,309,0,null,0,0,0,null,0,null,0,null,0,0,0,0,0,0,309,0,null,3839.04,3464.95,160.96000000000004,4.6453772781714038E-2]
[3053,"St Peter's CEP School",1,150,0,0,15,0,22.027972027972027,0,1.0000000000000004,1.0000000000000004,0,1.0000000000000004,0,0,0,0,0,0,0,0,11.25,0,28.205128205128201,0,120083.99999999999,0,0,1,0,11477,0,7250,3750,561678.14507186308,120082.8,0,0,9850,139,0,null,0,0,0,null,0,null,0,null,0,0,0,0,0,0,139,0,null,3978.22,3225.99,0,0]
[3054,"Crockham Hill CEP School",1,143,0,0,3.0000000000000031,0,9.862068965517242,0,8.9999999999999947,7.0000000000000071,0,0,0,0,0,0,0,0,0,0,1.1721311475409837,0,33.366666666666617,0,120083.99999999999,0,0,1.0364,0,17964,0,12500,3750,587136.99197020754,124453.81392,0,0,17676,142,0,null,0,0,0,null,0,null,0,null,0,0,0,0,0,0,142,0,null,4133.9799999999996,3351.07,0,0]
[3055,"Churchill CEP School",1,227,0,0,29.999999999999986,0,39.440154440154444,0,3.9999999999999911,2.9999999999999991,0,0,0,0,0,0,0,0,0,0,8.233160621761666,0,39.845744680851055,0,120083.99999999999,0,0,1.0364,0,28928,0,0,3750,951992.24909170205,124453.81392,0,0,28476,257,0,null,0,0,0,null,0,null,0,null,0,0,0,0,0,0,257,0,null,3831.62,3283.36,168.38000000000011,5.1282832220652046E-2]
[3057,"St Peter's CEP School",1,173,0,0,23.00000000000005,0,25.012048192771083,0,16.000000000000004,1.0000000000000002,16.000000000000004,0,4.9999999999999929,0,0,0,0,0,0,0,8.1275167785234945,0,39.102739726027401,0,120083.99999999999,0,0,1,0,16342,0,10199,3750,658033.7166119637,120082.8,0,0,19453,164,0,null,0,0,0,null,0,null,0,null,0,0,0,0,0,0,164,0,null,3973.77,3338.6,0,0]
[3061,"Bredhurst CEP School",1,125,0,0,5,0,8,0,1,7,1,1,2,0,0,0,0,0,0,0,6.818181818181813,0,28.935185185185126,0,120083.99999999999,0,0,1,0,15220,0,0,3750,515814.12574601156,120082.8,0,0,16898,125,0,null,0,0,0,null,0,null,0,null,0,0,0,0,0,0,125,0,null,4142.93,3182.26,0,0]
[3062,"Burham CEP School",1,162,0,0,15.000000000000002,0,26.035714285714288,0,35.999999999999964,5.9999999999999938,2.9999999999999969,2.9999999999999969,2.9999999999999969,0,0,0,0,0,0,0,4.595744680851058,0,35.474452554744524,0,120083.99999999999,0,0,1,0,22081,0,0,3750,683368.89396267687,120082.8,0,0,25100,172,0,null,0,0,0,null,0,null,0,null,0,0,0,0,0,0,172,0,null,4000.8,3259.54,0,0]
[3067,"Harrietsham CEP School",1,221,0,0,26.999999999999897,0,40.464788732394368,0,0,0.99999999999999911,0,0,2,0,0,0,0,0,0,0,3.58378378378378,0,56.165745856353645,0,120083.99999999999,0,0,1,0,30976,0,0,3750,800739.48699270817,120082.8,0,0,32414,212,0,null,0,0,0,null,0,null,0,null,0,0,0,0,0,0,212,0,null,3781.05,3237.68,218.94999999999982,6.7625583751328058E-2]
[3069,"Leeds & Broomfield CEP School",1,62,0,0,13.000000000000018,0,14.684210526315789,0,2.0666666666666647,0,1.0333333333333354,2.0666666666666647,0,0,0,0,0,0,0,0,0,0,13.527272727272717,0,120083.99999999999,0,0,1,0,5489,0,0,3750,369120.2231499945,120082.8,0,0,6895,76,0,null,0,0,0,null,0,null,0,null,0,0,0,0,0,0,100,0,null,5206.04,3269.2,0,0]
[3072,"St Michael's CEJ School, Maidstone",1,169,0,0,18.000000000000004,0,30.542168674698797,0,32.999999999999979,0,1.0000000000000002,9.0000000000000018,1.0000000000000002,0,0,0,0,0,0,0,16.99999999999994,0,37.555555555555515,0,120083.99999999999,0,0,1,0,10230,0,0,3750,649075.83089003316,120082.8,0,0,11988,164,0,null,0,0,0,null,0,null,0,null,0,0,0,0,0,0,164,0,null,4013.91,3303.35,0,0]
[3073,"St Michael's CEI School, Maidstone",1,119,0,0,11.000000000000004,0,11.000000000000004,0,25.999999999999979,0,0,5.0000000000000027,0.99999999999999933,0,0,0,0,0,0,0,22.594936708860761,0,30.126582278480974,0,120083.99999999999,0,0,1,0,10105,0,0,3750,511515.91320459504,120082.8,0,0,11865,121,0,null,0,0,0,null,0,null,0,null,0,0,0,0,0,0,121,0,null,4357.46,3348.35,0,0]
[3081,"Thurnham CEI School",1,270,0,0,3.999999999999996,0,3.999999999999996,0,3.999999999999996,0,0,0.999999999999999,0.999999999999999,0,0,0,0,0,0,0,10.500000000000004,0,51.000000000000028,0,120083.99999999999,0,0,1,0,26368,0,0,3750,949278,120082.8,0,0,27878,271,0,null,0,0,0,null,0,null,0,null,0,0,0,0,0,0,271,0,null,3750,3750,250,6.6666666666666666E-2]
[3082,"Trottiscliffe CEP School",1,87,0,0,4.0000000000000027,0,8.81012658227848,0,1.9999999999999967,3.000000000000004,0,0.99999999999999833,0,0,0,0,0,0,0,0,0,0,16.459459459459442,0,120083.99999999999,0,0,1,0,6362,0,0,3750,373686.7395934849,120082.8,0,0,9121,82,0,null,0,0,0,null,0,null,0,null,0,0,0,0,0,0,100,0,null,4492.25,3111.97,0,0]
[3083,"Ulcombe CEP School",1,74,0,0,21.999999999999975,0,28.956521739130437,0,0,0,0,0.999999999999999,0,0,0,0,0,0,0,0,2.1449275362318834,0,30.945454545454531,0,120083.99999999999,0,0,1,0,7236,0,0,3750,413016.53841618483,120082.8,0,0,6701,84,0,null,0,0,0,null,0,null,0,null,0,0,0,0,0,0,100,0,null,5188.87,3566.11,0,0]
[3084,"Wateringbury CEP School",1,201,0,0,24.000000000000028,0,28.434146341463411,0,6.0603015075376838,2.0201005025125616,0,0,2.0201005025125616,0,0,0,0,0,0,0,5.6460674157303297,0,49.658823529411812,0,120083.99999999999,0,0,1,0,4890,0,0,3750,749094.71113583352,120082.8,0,0,8186,202,0,null,0,0,0,null,0,null,0,null,0,0,0,0,0,0,202,0,null,3827.33,3229.89,172.67000000000007,5.346002495441024E-2]
[3088,"Wouldham, All Saint's CEP School",1,393,0,0,36,0,39.419452887537993,0,21.999999999999996,58.999999999999872,8.9999999999999911,0.99999999999999833,21.000000000000004,0,0,0,0,0,0,0,3.5194029850746289,0,108.54285714285706,0,120083.99999999999,0,0,1,0,70656,0,0,3750,1120477.2051554155,120082.8,0,0,72925,299,0,null,0,0,0,null,0,null,0,null,0,0,0,0,0,0,299,0,null,3750,3750,250,6.6666666666666666E-2]
[3089,"St George's CEP School",1,210,0,0,27.000000000000092,0,39.810426540284361,0,9.9999999999999964,6.9999999999999929,0.99999999999999956,0.99999999999999956,0,0,0,0,0,0,0,0,2.3333333333333308,0,61.833333333333243,0,120083.99999999999,0,0,1,0,18214,0,0,3750,790521.77151950356,120082.8,0,0,17813,209,0,null,0,0,0,null,0,null,0,null,0,0,0,0,0,0,209,0,null,3871.7,3299.87,128.30000000000018,3.888031952773903E-2]
[3090,"St Margaret's CEP School, Collier Street",1,122,0,0,2.9999999999999964,0,5.2586206896551726,0,0,1.9999999999999976,11.999999999999998,1,1,0,0,0,0,0,0,0,3.4857142857142889,0,49.269230769230788,0,120083.99999999999,0,0,1,0,13972,0,0,3750,509038.96369889227,120082.8,0,0,15670,118,0,null,0,0,0,null,0,null,0,null,0,0,0,0,0,0,118,0,null,4341.63,3357.34,0,0]
[3091,"Laddingford St Mary's CEP School",1,84,0,0,15.000000000000036,0,17.23076923076923,0,5.9999999999999973,0,2.9999999999999987,0,0,0,0,0,0,0,0,0,1.0769230769230751,0,20.461538461538495,0,120083.99999999999,0,0,1,0,5240,0,5427,3750,379864.26150187413,120082.8,0,0,7078,78,0,null,0,0,0,null,0,null,0,null,0,0,0,0,0,0,100,0,null,4710.07,3345.1,0,0]
[3092,"Yalding St Peter & St Paul CEP School",1,166,0,0,10.000000000000002,0,10.000000000000002,0,7.0000000000000027,0,0,0,0,0,0,0,0,0,0,0,1.1448275862068964,0,36.88888888888885,0,120083.99999999999,0,0,1,0,14222,0,0,3750,630449.0488358502,120082.8,0,0,15916,167,0,null,0,0,0,null,0,null,0,null,0,0,0,0,0,0,167,0,null,3858.14,3134.74,141.86000000000013,4.52541518594844E-2]
[3106,"Eastchurch CEP School",1,412,0,0,112.00000000000011,0,140.25531914893617,0,10.073349633251814,82.601466992664953,0,141.02689486552546,126.92420537897323,10.073349633251814,0,0,0,0,0,0,10.186813186813175,0,141.29106628242093,0,120083.99999999999,0,0,1,33000,77824,0,0,3750,1774708.5628964938,120082.8,0,33000,76608,435,0,null,4.08,0,0,null,0,null,0,null,0,0,0,0,0,0,466,0,null,4084.48,3873.11,0,0]
[3108,"Ospringe CEP School",1,214,0,0,55.999999999999957,0,62.657657657657658,0,26.000000000000057,22,66,7.0000000000000053,8.0000000000000089,0,0,0,0,0,0,0,7.8020833333333268,0,59.508021390374239,0,120083.99999999999,0,0,1,0,23079,0,0,3750,876155.5036499534,120082.8,0,0,22709,222,0,null,0,0,0,null,0,null,0,null,0,0,0,0,0,0,222,0,null,4125,3563.86,0,0]
[3109,"Hernhill CEP School",1,206,0,0,8.0000000000000036,0,13.063414634146342,0,21.000000000000096,9.9999999999999893,9.9999999999999893,0,2,0,0,0,0,0,0,0,0,0,48.540229885057478,0,120083.99999999999,0,0,1,0,31744,0,0,3750,763552.83266704669,120082.8,0,0,31248,203,0,null,0,0,0,null,0,null,0,null,0,0,0,0,0,0,203,0,null,3766.81,3183.88,233.19000000000005,7.3240825659258532E-2]
[3111,"Newington CEP School",1,180,0,0,32.999999999999936,0,50.181818181818187,0,52.999999999999922,5.0000000000000044,3.9999999999999956,1.0000000000000009,0,3.0000000000000062,0,0,0,0,0,0,7.1052631578947336,0,45.314685314685356,0,120083.99999999999,0,0,1,0,34048,0,0,3750,710279.89021756791,120082.8,0,0,33516,172,0,null,0,0,0,null,0,null,0,null,0,0,0,0,0,0,172,0,null,4057.63,3390.5,0,0]
[3117,"Teynham Parochial CEP School",1,203,0,0,33.000000000000036,0,53.677884615384613,0,102.99999999999991,8.9999999999999947,11,11.999999999999993,1.0000000000000007,0,0,0,0,0,0,0,12.907514450867046,0,67.266272189349081,0,120083.99999999999,0,0,1,0,23827,0,0,3750,832293.6611612353,120082.8,0,0,15884,209,0,null,0,0,0,null,0,null,0,null,0,0,0,0,0,0,209,0,null,4140.5200000000004,3548.97,0,0]
[3120,"Barham CEP School",1,207,0,0,6.9999999999999911,0,12.058252427184467,0,30.999999999999961,3.9999999999999911,0,5.0000000000000053,1.0000000000000011,0,0,0,0,0,0,0,15.203389830508469,0,40.217142857142797,0,120083.99999999999,0,0,1,0,28672,0,0,3750,766946.45664613391,120082.8,0,0,28224,207,0,null,0,0,0,null,0,null,0,null,0,0,0,0,0,0,207,0,null,3750,3750,250,6.6666666666666666E-2]
[3122,"Bridge & Patrixbourne CEP School",1,420,0,0,13.999999999999986,0,21.895734597156398,0,9.9999999999999964,0,2.9999999999999987,14.999999999999993,7.0000000000000142,0,0,0,0,0,0,0,46.796657381615397,0,46.534090909091098,0,120083.99999999999,0,0,1,0,35072,0,0,3750,1459124,120082.8,0,0,34524,419,0,null,0,0,0,null,0,null,0,null,0,0,0,0,0,0,419,0,null,3750,3750,250,6.6666666666666666E-2]
[3123,"Chislet CEP School",1,98,0,0,3.0000000000000018,0,8.7111111111111121,0,6.9999999999999964,19.999999999999979,3.0000000000000018,0,0,0,0,0,0,0,0,0,0,0,26.833333333333353,0,120083.99999999999,0,0,1,0,6113,0,0,3750,416891.61961418542,120082.8,0,0,6015,95,0,null,0,0,0,null,0,null,0,null,0,0,0,0,0,0,100,0,null,4476.01,3250.66,0,0]
[3126,"Littlebourne CEP School",1,95,0,0,21.999999999999993,0,28.5,0,3.9999999999999964,0,2.0000000000000031,9.0000000000000036,3.0000000000000049,0,0,0,0,0,0,0,8.3125,0,31.666666666666632,0,120083.99999999999,0,0,1,0,11228,0,0,3750,447317.93150437751,120082.8,0,0,11048,96,0,null,0,0,0,null,0,null,0,null,0,0,0,0,0,0,100,0,null,4775.2700000000004,3511.23,0,0]
[3129,"St Alphege CEI School",1,145,0,0,21.000000000000068,0,23.727272727272727,0,2.0000000000000053,0,6.0000000000000018,0,17.000000000000025,0,0,0,0,0,0,0,4.1826923076923013,0,46.911764705882369,0,120083.99999999999,0,0,1,0,31488,0,0,3750,667528.27803153638,120082.8,0,0,30996,164,0,null,4.08,0.9,0,null,0,null,0,null,0,0,0,0,0,0,196,0,null,4214.84,3386.67,0,0]
[3130,"Wickhambreaux CEP School",1,137,0,0,5,0,9.2014925373134329,0,5,5,2.9999999999999996,0,0,0,0,0,0,0,0,0,10.275,0,9.7857142857142811,0,120083.99999999999,0,0,1,0,8733,0,0,3750,520460.544307729,120082.8,0,0,8593,132,0,null,0,0,0,null,0,null,0,null,0,0,0,0,0,0,132,0,null,3894.73,3018.2,0,0]
[3134,"John Mayne CEP School",1,87,0,0,6.9999999999999973,0,13.384615384615385,0,0,0,0,0,0,0,0,0,0,0,0,0,0,0,25.588235294117688,0,120083.99999999999,21814.774793057411,0,1,0,14222,0,0,3750,483902.72787434165,120082.8,13627.554072096129,0,13614,109,0,null,0,0,0,null,0,null,0,null,0,0,0,0,0,0,109,0,null,4869.28,3238.26,0,0]
[3136,"Brabourne CEP School",1,96,0,0,4.9999999999999964,0,8.3478260869565215,0,3,1.0000000000000033,1.0000000000000033,0,0,1.0000000000000033,0,0,0,0,0,0,1.1851851851851871,0,21.76000000000003,0,120083.99999999999,0,0,1,0,5502,0,0,3750,409224.86612899124,120082.8,0,0,5413,94,0,null,0,0,0,null,0,null,0,null,0,0,0,0,0,0,100,0,null,4408.7299999999996,3157.86,0,0]
[3137,"Brookland CEP School",1,99,0,0,12.999999999999968,0,19,0,0,4.9999999999999991,35.000000000000043,0.99999999999999989,0,0,0,0,0,0,0,0,1.1511627906976758,0,15.321428571428594,0,120083.99999999999,0,0,1,0,11976,0,0,3750,447218.97727763403,120082.8,0,0,11784,101,0,null,0,0,0,null,0,null,0,null,0,0,0,0,0,0,101,0,null,4493.58,3280.61,0,0]
[3138,"Chilham St Mary's CEP School",1,84,0,0,19.999999999999993,0,24,0,0,0,0,0,0,0,0,0,0,0,0,0,1.1199999999999972,0,21.863013698630159,0,120083.99999999999,0,0,1,0,8358,0,8400,3750,430270.74514607829,120082.8,0,0,8073,93,0,null,0,0,0,null,0,null,0,null,0,0,0,0,0,0,100,0,null,4752.6400000000003,3423.07,0,0]
[3139,"High Halden CEP School",1,90,0,0,8.0000000000000018,0,18.620689655172413,0,0,0,0,0,0,0,0,0,0,0,0,0,0,0,20.675675675675699,0,120083.99999999999,0,0,1,0,15968,0,0,3750,404825.81687659671,120082.8,0,0,15712,90,0,null,0,0,0,null,0,null,0,null,0,0,0,0,0,0,100,0,null,4524.8999999999996,3190.64,0,0]
[3145,"Woodchurch CEP School",1,161,0,0,28.999999999999925,0,29.609195402298852,0,0,1.9999999999999993,3.9999999999999987,0.99999999999999967,0,0,0,0,0,0,0,0,0,0,49.805755395683526,0,120083.99999999999,0,0,1,0,12226,0,0,3750,671533.41637796373,120082.8,0,0,11539,174,0,null,0,0,0,null,0,null,0,null,0,0,0,0,0,0,174,0,null,4069.94,3324.07,0,0]
[3146,"Bodsham CEP School",1,76,0,0,0,0,0.97435897435897434,0,0,3.04,1.0133333333333308,0,0,0,0,0,0,0,0,0,2.268656716417909,0,8.0000000000000124,0,120083.99999999999,25635.834072096128,0,1,0,6049,0,0,3750,376960.10645970888,120082.8,23647.814419225637,0,5960,79,0,null,0,0,0,null,0,null,0,null,0,0,0,0,0,0,100,0,null,4903.3900000000003,2986.03,0,0]
[3149,"St Martin's CEP School, Folkestone",1,207,0,0,24.999999999999922,0,32.528571428571425,0,17.999999999999993,22.999999999999975,3.9999999999999911,2,2.9999999999999991,1.0000000000000011,0,0,0,0,0,0,5.8474576271186507,0,42.869822485207031,0,120083.99999999999,0,0,1,0,19511,0,0,3750,782290.38167288166,120082.8,0,0,19198,209,0,null,0,0,0,null,0,null,0,null,0,0,0,0,0,0,209,0,null,3826.43,3246.32,173.57000000000016,5.34666945957269E-2]
[3150,"St Peter's CEP School, Folkestone",1,105,0,0,40.99999999999995,0,49.065420560747661,0,0.99999999999999956,0,17.999999999999957,30.999999999999979,22.999999999999993,30.000000000000028,0,0,0,0,0,0,4.6153846153846203,0,33.352941176470544,0,120083.99999999999,0,0,1,0,2707,0,27480,3750,555286.48301148659,120082.8,0,0,2522,108,0,null,0,0,0,null,0,null,0,null,0,0,0,0,0,0,108,0,null,5124.6499999999996,4242.71,0,0]
[3153,"Seabrook CEP School",1,107,0,0,9.9999999999999947,0,17.160377358490564,0,14.999999999999952,35.000000000000028,3.0000000000000009,1.9999999999999969,0,0,0,0,0,0,0,0,0,0,13.224719101123645,0,120083.99999999999,0,0,1,0,607,0,0,3750,448280.78621378081,120082.8,0,0,1114,107,0,null,0,0,0,null,0,null,0,null,0,0,0,0,0,0,107,0,null,4316.17,3193.89,0,0]
[3154,"Lyminge CEP School",1,191,0,0,8.9999999999999929,0,12.292079207920793,0,5.0000000000000018,2.9999999999999973,4.0000000000000098,2.9999999999999973,0,1.0000000000000004,0,0,0,0,0,0,3.3508771929824546,0,24.863905325443707,0,120083.99999999999,0,0,1,0,28160,0,0,3750,723670.36391190882,120082.8,0,0,27720,198,0,null,0,0,0,null,0,null,0,null,0,0,0,0,0,0,198,0,null,3750,3750,250,6.6666666666666666E-2]
[3155,"Lympne CEP School",1,199,0,0,5.9999999999999956,0,9.900497512437811,0,0,25.99999999999994,6.9999999999999956,2.9999999999999978,0.99999999999999933,0,0,0,0,0,0,0,2.3139534883720958,0,52.368421052631554,0,120083.99999999999,0,0,1,0,45824,0,0,3750,788279.19718013133,120082.8,0,0,45108,204,0,null,0,0,0,null,0,null,0,null,0,0,0,0,0,0,204,0,null,3812.71,3209.27,187.28999999999996,5.8359066080448191E-2]
[3158,"Stelling Minnis CEP School",1,89,0,0,6.9999999999999973,0,12.440860215053762,0,0,1.0000000000000022,0,0,0,0,0,0,0,0,0,0,2.3733333333333362,0,21.30985915492959,0,120083.99999999999,21120.0367423231,0,1,0,14097,0,0,3750,439087.6540690824,120082.8,18303.67556742323,0,13871,95,0,null,0,0,0,null,0,null,0,null,0,0,0,0,0,0,100,0,null,4778.26,3191.7,0,0]
[3159,"Stowting CEP School",1,100,0,0,2,0,2.083333333333333,0,1,2,1,1,0,0,0,0,0,0,0,0,0,0,20.238095238095198,0,120083.99999999999,0,0,1,0,13972,0,0,3750,414342.01093564351,120082.8,0,0,13748,95,0,null,0,0,0,null,0,null,0,null,0,0,0,0,0,0,100,0,null,4285.8900000000003,3085.05,0,0]
[3160,"Selsted CEP School",1,96,0,0,1.9999999999999969,0,9.4117647058823533,0,16.000000000000032,1.0000000000000033,4.0000000000000036,1.9999999999999969,1.9999999999999969,1.9999999999999969,0,0,0,0,0,0,0,0,18.962962962962976,0,120083.99999999999,18688.453564753003,0,1,0,10978,0,0,3750,455332.09369107703,120082.8,16299.623497997331,0,10802,101,0,null,0,0,0,null,0,null,0,null,0,0,0,0,0,0,101,0,null,4619.21,3173.67,0,0]
[3167,"Eastry CEP School",1,189,0,0,31,0,38.939698492462313,0,14.000000000000005,12.000000000000002,0.99999999999999978,0,0.99999999999999978,0,0,0,0,0,0,0,3.5217391304347814,0,55.025316455696178,0,120083.99999999999,0,0,1,0,17465,0,0,3750,751927.48179017205,120082.8,0,0,13409,199,0,null,0,0,0,null,0,null,0,null,0,0,0,0,0,0,199,0,null,3970.72,3335.35,0,{"$f":"BK197/BJ197","v":0}]
[3168,"Goodnestone CEP School",1,33,0,0,5.000000000000016,0,6.6000000000000005,0,10.999999999999988,1.9999999999999998,0,1.9999999999999998,0.99999999999999989,0,0,0,0,0,0,0,0,0,12.964285714285719,0,120083.99999999999,0,0,1,0,3443,0,0,3750,260899.91234874702,120082.8,0,0,3068,42,0,null,0,0,0,null,0,null,0,null,0,0,0,0,0,0,100,0,null,7152.33,3513.42,{"$f":"IF(AND(C198=1,BI198<3883.495),4000-BI198,0)","v":0},0]
[3169,"Guston CEP School",1,154,0,0,11.999999999999998,0,11.999999999999998,0,2.0000000000000022,11.999999999999998,0.99999999999999944,2.0000000000000022,6.0000000000000062,0,0,0,0,0,0,0,56.00000000000005,0,39.59999999999998,0,120083.99999999999,0,0,1,0,19461,0,0,3750,660068.04169878422,120082.8,0,0,19149,156,0,null,0,0,0,null,0,null,0,null,0,0,0,0,0,0,156,0,null,4194.43,3414.66,0,0]
[3171,"Nonington CEP School",1,49,0,0,6.0000000000000124,0,9.8000000000000007,0,29.826086956521735,3.1956521739130421,0,6.3913043478261047,0,0,0,0,0,0,0,0,1.1666666666666663,0,17.926829268292668,0,120083.99999999999,0,0,1,0,9606,0,0,3750,302621.55308597104,120082.8,0,0,9452,52,0,null,0,0,0,null,0,null,0,null,0,0,0,0,0,0,100,0,null,6009.12,3558.43,0,0]
[3173,"Kingsdown & Ringwould CEP School",1,214,0,0,19.000000000000007,0,19.000000000000007,0,18.000000000000004,0.99999999999999956,3.9999999999999938,1.9999999999999991,2.9999999999999898,0,0,0,0,0,0,0,5.7526881720430048,0,19.989010989010985,0,120083.99999999999,0,0,1,0,20584,0,0,3750,771835.54943518538,120082.8,0,0,20254,213,0,null,0,0,0,null,0,null,0,null,0,0,0,0,0,0,213,0,null,3750,3750,250,6.6666666666666666E-2]
[3175,"Sibertswold CEP School",1,199,0,0,11.999999999999991,0,19.043062200956939,0,16.000000000000007,55.999999999999922,0.99999999999999933,3.9999999999999973,1.9999999999999987,0,0,0,0,0,0,0,9.3647058823529488,0,23.690476190476179,0,120083.99999999999,0,0,1,0,27136,0,0,3750,763319.65071975638,120082.8,0,0,26712,206,0,null,0,0,0,null,0,null,0,null,0,0,0,0,0,0,206,0,null,3754.09,3150.65,245.90999999999985,7.8050560995350113E-2]
[3178,"Birchington CEP School",1,477,0,0,61.999999999999993,0,92.721382289416852,0,65.000000000000185,84.000000000000185,18.000000000000014,4.0000000000000009,6.0000000000000204,7.0000000000000151,0,0,0,0,0,0,13.084788029925168,0,128.32994923857873,0,120083.99999999999,0,0,1,0,67072,0,0,3750,1678497.5087352411,120082.8,0,0,66024,467,0,null,0,0,0,null,0,null,0,null,0,0,0,0,0,0,467,0,null,3750,3750,250,6.6666666666666666E-2]
[3179,"Holy Trinity & St John's CEP School, Margate",1,393,0,0,145.00000000000017,0,154.81818181818181,0,19.000000000000014,5.0000000000000115,101.99999999999984,29.999999999999989,60.000000000000064,159.00000000000011,0,0,0,0,0,0,56.81927710843371,0,196.5,0,120083.99999999999,0,0,1,0,31488,0,0,3750,1654005.8015318562,120082.8,0,0,30996,391,0,null,4.08,0,0,null,0,null,0,null,0,0,0,0,0,0,391,0,null,4499.45,4193.8999999999996,0,0]
[3181,"St Saviour's CEJ School",1,384,0,0,49.000000000000128,0,68.715789473684211,0,16.000000000000014,84,9,4.9999999999999867,3,3,0,0,0,0,0,0,1.00261096605744,0,98.304000000000002,0,120083.99999999999,0,0,1,0,50150,0,0,3750,1375881.4838346343,120082.8,0,0,49366,379,0,null,0,0,0,null,0,null,0,null,0,0,0,0,0,0,379,0,null,3750,3750,250,6.6666666666666666E-2]
[3182,"Minster CEP School",1,391,0,0,53.999999999999844,0,67.447499999999991,0,24.061538461538447,14.035897435897438,6.0153846153846215,5.0128205128205048,8.0205128205128151,3.0076923076923068,0,0,0,0,0,0,4.6966966966966917,0,111.37575757575765,0,120083.99999999999,0,0,1,0,35072,0,0,3750,1385809.7859905986,120082.8,0,0,34524,396,0,null,0,0,0,null,0,null,0,null,0,0,0,0,0,0,396,0,null,3750,3750,250,6.6666666666666666E-2]
[3183,"Monkton CEP School",1,102,0,0,17.000000000000032,0,19.38,0,3.06,2.04,1.02,2.04,1.02,0,0,0,0,0,0,0,2.3720930232558168,0,27.600000000000037,0,120083.99999999999,0,0,1,0,19087,0,0,3750,460998.68205988471,120082.8,0,0,18781,105,0,null,0,0,0,null,0,null,0,null,0,0,0,0,0,0,105,0,null,4480.99,3303.7,0,0]
[3186,"St Nicholas at Wade CEP School",1,205,0,0,11.000000000000011,0,14.207920792079209,0,6.9999999999999938,13.000000000000009,0.99999999999999889,0.99999999999999889,0,0,0,0,0,0,0,0,2.3428571428571372,0,47.953216374269054,0,120083.99999999999,0,0,1,0,13473,0,0,3750,733374.40579870983,120082.8,0,0,13257,200,0,null,0,0,0,null,0,null,0,null,0,0,0,0,0,0,200,0,null,3753.37,3167.59,246.63000000000011,{"$f":"BK208/BJ208","v":7.7860455425102393E-2}]
[3198,"Frittenden CEP School",1,99,0,0,3.9999999999999996,0,9.091836734693878,0,3.9999999999999996,0,0,0.99999999999999989,0,0,0,0,0,0,0,0,2.2758620689655134,0,22.662650602409599,0,120083.99999999999,17646.346488651536,0,1,0,12974,0,0,3750,441771.32743672555,120082.8,16967.640854472629,0,12766,99,0,null,0,0,0,null,0,null,0,null,0,0,0,0,0,0,100,0,null,4546.74,3155.52,0,{"$f":"BK209/BJ209","v":0}]
[3199,"Egerton CEP School",1,195,0,0,24.999999999999961,0,28.274999999999999,0,2.0000000000000084,0,0,0,0,0,0,0,0,0,0,0,2.3076923076923039,0,48.439490445859889,0,120083.99999999999,0,0,1,0,11103,0,0,3750,737985.35168226296,120082.8,0,0,10925,200,0,null,0,0,0,null,0,null,0,null,0,0,0,0,0,0,200,0,null,3832.49,3216.67,167.51000000000022,5.2075593704048039E-2]
[3201,"St Lawrence CEP School",1,86,0,0,9.0000000000000284,0,9.0000000000000284,0,0,0,0,0,0,0,0,0,0,0,0,0,1.1621621621621609,0,23.104477611940261,0,120083.99999999999,0,0,1.0364,0,6861,0,0,3750,380312.67809948162,124453.81392,0,0,6751,80,0,null,0,0,0,null,0,null,0,null,0,0,0,0,0,0,100,0,null,4777.42,3330.27,0,0]
[3282,"Boughton-under-Blean & Dunkirk Primary School",1,203,0,0,36.000000000000099,0,36.000000000000099,0,92.000000000000043,13.000000000000007,3.9999999999999907,2.9999999999999982,3.9999999999999907,0,0,0,0,0,0,0,2.3468208092485554,0,47.692771084337437,0,120083.99999999999,0,0,1,0,18338,0,0,3750,785299.67962654016,120082.8,0,0,18044,201,0,null,0,0,0,null,0,null,0,null,0,0,0,0,0,0,201,0,null,3957.39,3365.85,0,0]
[3284,"Lady Joanna Thornhill (Endowed) Primary School",1,424,0,0,16.000000000000011,0,24.88262910798122,0,2.0047281323877089,9.0212765957447019,6.0141843971631346,9.0212765957447019,0,0,0,0,0,0,0,0,11.584699453551913,0,67.320334261838468,0,120083.99999999999,0,0,1,0,42496,0,0,3750,1483432,120082.8,0,0,41832,424,0,null,0,0,0,null,0,null,0,null,0,0,0,0,0,0,424,0,null,3750,3750,250,6.6666666666666666E-2]
[3289,"St Peter's Methodist Primary School, Canterbury",1,205,0,0,15.000000000000005,0,26.650000000000002,0,0,0.99999999999999889,16.000000000000007,53.999999999999901,7.9999999999999911,0,0,0,0,0,0,0,58.571428571428626,0,49.935897435897523,0,120083.99999999999,0,0,1,0,18837,0,0,3750,785178.11018372292,120082.8,0,0,18535,196,0,null,0,0,0,null,0,null,0,null,0,0,0,0,0,0,196,0,null,4066.39,3480.62,0,0]
[3294,"St Matthew's High Brooms CEP School",1,373,0,0,107.00000000000003,0,126.47174447174446,0,38.999999999999915,58.000000000000071,59.000000000000043,0.99999999999999889,0,0,0,0,0,0,0,0,17.539184952978051,0,103.14469453376221,0,120083.99999999999,0,0,1,0,36864,0,0,3750,1472756.4869624989,120082.8,0,0,36288,393,0,null,0,0,0,null,0,null,0,null,0,0,0,0,0,0,393,0,null,3840.95,3519.01,159.05000000000018,4.5197370851461111E-2]
[3295,"Herne CEI School",1,270,0,0,12.999999999999988,0,19,0,3.999999999999996,5.9999999999999938,2.0000000000000009,0,0,0,0,0,0,0,0,0,7.5000000000000062,0,58.826815642458094,0,120083.99999999999,0,0,1,0,47360,0,0,3750,972355.74169109133,120082.8,0,0,46620,269,0,null,4.08,0,0,null,0,null,0,null,0,0,0,0,0,0,298,0,null,3750,3750,250,6.6666666666666666E-2]
[3296,"Langafel CEP School",1,322,0,0,73.999999999999901,0,86.212903225806457,0,20.999999999999989,47.000000000000107,2.9999999999999991,0.99999999999999967,7.9999999999999973,0,0,0,0,0,0,0,8.0788530465949737,0,96.119402985074586,0,120083.99999999999,0,0,1.0364,0,37888,0,0,3750,1204716.993372096,124453.81392,0,0,37296,313,0,null,0,0,0,null,0,null,0,null,0,0,0,0,0,0,313,0,null,3937.57,3551.07,0,0]
[3297,"Southborough CEP School",1,603,0,0,72.000000000000085,0,86.293193717277489,0,11.000000000000023,15.000000000000021,3.9999999999999982,0.99999999999999956,0,0,0,0,0,0,0,0,31.986247544204318,0,105.91616766467043,0,120083.99999999999,0,0,1,0,64000,0,0,3750,2018000,120082.8,0,0,63000,575,0,null,0,0,0,null,0,null,0,null,0,0,0,0,0,0,575,0,null,3750,3750,250,6.6666666666666666E-2]
[3298,"West Kingsdown C.E. (V.C.) Primary School",1,145,0,0,23.99999999999995,0,23.99999999999995,0,0.99999999999999989,0.99999999999999989,2.0000000000000053,0,0,0,0,0,0,0,0,0,3.48,0,29.471544715447127,0,120083.99999999999,1667.3713217623442,0,1.0364,0,30189,0,0,3750,605769.03813328815,124453.81392,2271.2590120160221,0,27740,143,0,null,0,0,0,null,0,null,0,null,0,0,0,0,0,0,143,0,null,4191.59,3321.78,0,0]
[3299,"John Wesley Primary School",1,448,0,0,50.000000000000064,0,66.147651006711413,0,100.11738148984185,35.395033860045174,1.0112866817155739,10.112866817155737,48.541760722347647,0,0,0,0,0,0,0,38.103092783505161,0,156.98113207547186,0,120083.99999999999,0,0,1,0,11571,0,0,3750,1578792.6765406257,120082.8,0,0,11390,447,0,null,0,0,0,null,0,null,0,null,0,0,0,0,0,0,447,0,null,3750,3750,250,6.6666666666666666E-2]
[3303,"St Katharine's Knockholt CEP School",1,179,0,0,4.9999999999999911,0,9.6756756756756754,0,1,0,0,0,0,0,0,0,0,0,0,0,4.5605095541401228,0,55.792207792207847,0,120083.99999999999,0,0,1.0364,0,4045,0,0,3750,709770.36091406317,124453.81392,0,0,3982,185,0,null,0,0,0,null,0,null,0,null,0,0,0,0,0,0,185,0,null,4028.13,3332.85,0,0]
[3307,"Chevening (St Botolph's) CEP School",1,202,0,0,6,0,9.8536585365853657,0,0.99999999999999989,0,0,0,0,0,0,0,0,0,0,0,10.569767441860458,0,32.024390243902509,0,120083.99999999999,0,0,1.0364,0,5171,0,0,3750,761751.82324855332,124453.81392,0,0,5090,207,0,null,0,0,0,null,0,null,0,null,0,0,0,0,0,0,207,0,null,3793.61,3177.5,206.38999999999987,6.4953579858379185E-2]
[3308,"Colliers Green CEP School",1,107,0,0,1.9999999999999969,0,1.9999999999999969,0,0,0,1.9999999999999969,0,0,0,0,0,0,0,0,0,2.3777777777777751,0,19.022222222222247,0,120083.99999999999,0,0,1,0,1894,0,0,3750,443761.69548316277,120082.8,0,0,1865,109,0,null,0,0,0,null,0,null,0,null,0,0,0,0,0,0,109,0,null,4183.83,3061.55,0,0]
[3309,"Sissinghurst CEP School",1,161,0,0,14.999999999999995,0,18,0,2.0125000000000002,0,0,0,0,0,0,0,0,0,0,0,0,0,41.131386861313942,0,120083.99999999999,0,0,1,0,7987,0,0,3750,606561.06441703963,120082.8,0,0,7862,158,0,null,0,0,0,null,0,null,0,null,0,0,0,0,0,0,158,0,null,3937.66,3191.8,0,0]
[3312,"Hever CEP School",1,164,0,0,14.999999999999993,0,14.999999999999993,0,14.999999999999993,25.000000000000018,0,0,0,0,0,0,0,0,0,0,1.2330827067669168,0,36.868217054263631,0,120083.99999999999,0,0,1.0364,0,3661,0,0,3750,587228.02679624571,124453.81392,1937.2503337783648,0,2066,144,0,null,0,0,0,null,665.38661948430342,null,665.38661948430342,null,20,0,20,0,24,0,144,0,null,4086.24,3327.37,0,0]
[3314,"Penshurst CEP School",1,87,0,0,3.000000000000004,0,5.4375,0,0,0,0,0,3.000000000000004,0,0,0,0,0,0,0,1.1447368421052626,0,15.493150684931512,0,120083.99999999999,0,0,1.0364,0,2048,0,0,3750,422265.03111844964,124453.81392,0,0,2016,95,0,null,0,0,0,null,0,null,0,null,0,0,0,0,0,0,100,0,null,4629.1899999999996,3198.67,0,0]
[3317,"Lady Boswell's CEP School, Sevenoaks",1,433,0,0,11.999999999999996,0,11.999999999999996,0,0.99999999999999956,0,0,0,0,0,0,0,0,0,0,0,26.699731903485247,0,47.974431818182019,0,120083.99999999999,0,0,1.0364,0,9062,0,0,3750,1382521,124453.81392,0,0,8921,404,0,null,0,0,0,null,0,null,0,null,0,0,0,0,0,0,404,0,null,3750,3750,250,6.6666666666666666E-2]
[3318,"Ide Hill CEP School",1,154,0,0,6.0000000000000062,0,6.0000000000000062,0,4.0794701986755024,3.059602649006627,0,0,0,0,0,0,0,0,0,0,0,0,27.103999999999999,0,120083.99999999999,0,0,1.0364,0,1997,0,0,3750,562298.64116591041,124453.81392,0,0,1890,144,0,null,0,0,0,null,304.42464809034254,null,304.42464809034254,null,0,0,6,0,0,0,144,0,null,3986.77,3178.62,0,0]
[3320,"St Barnabas CEP School",1,204,0,0,45.000000000000071,0,51.980769230769226,0,7.0000000000000044,0,8,2,0,0,0,0,0,0,0,0,39.862068965517302,0,61.818181818181806,0,120083.99999999999,0,0,1,0,2970,0,0,3750,850401.31306139939,120082.8,0,0,2923,208,0,null,0,0,0,null,0,null,0,null,0,0,0,0,0,0,208,0,null,4103.22,3514.57,0,0]
[3322,"St James' Church of England Voluntary Aided Primary School",1,628,0,0,19.000000000000004,0,27.822784810126581,0,16.999999999999989,0,7.999999999999992,2.0000000000000009,0,0,0,0,0,0,0,0,77.328358208955251,0,131.83206106870205,0,204142.79999999996,0,0,1,0,11162,0,0,3750,946534.11388180766,120082.8,0,0,4334,269,0,null,0,0,0,null,0,null,0,null,0,0,0,0,0,0,631,0,null,3750,3750,250,6.6666666666666666E-2]
[3323,"Hunton CEP School",1,91,0,0,6.9999999999999982,0,7.3535353535353538,0,17.000000000000018,2.0000000000000022,1.0000000000000011,3.0000000000000031,0,0,0,0,0,0,0,0,0,0,14.56,0,120083.99999999999,0,0,1,0,2509,0,0,3750,418085.84482822433,120082.8,0,0,4392,98,0,null,0,0,0,null,0,null,0,null,0,0,0,0,0,0,100,0,null,4451.8999999999996,3132.29,0,0]
[3325,"Platt CEP School",1,159,0,0,13.999999999999998,0,13.999999999999998,0,19.000000000000011,0,1.0000000000000002,0,1.0000000000000002,0,0,0,0,0,0,0,3.5864661654135324,0,33.279069767441804,0,120083.99999999999,0,0,1,0,2918,0,0,3750,581944.70754610933,120082.8,0,0,6246,152,0,null,0,0,0,null,0,null,0,null,0,0,0,0,0,0,152,0,null,3927.49,3172.24,0,0]
[3328,"Bapchild & Tonge CEP School",1,205,0,0,23.999999999999936,0,25.371287128712872,0,26.127450980392183,11.053921568627455,38.186274509804008,4.0196078431372548,5.0245098039215632,4.0196078431372548,0,0,0,0,0,0,8.153409090909097,0,44.356725146198841,0,120083.99999999999,0,0,1,0,3507,0,0,3750,758025.47466248996,120082.8,0,0,3452,201,0,null,0,0,0,null,0,null,0,null,0,0,0,0,0,0,201,0,null,3909.77,3324,0,0]
[3332,"Hartlip Endowed CEP School",1,104,0,0,6.0000000000000009,0,12.754716981132075,0,16.99999999999995,1.9999999999999969,1.0000000000000004,1.0000000000000004,0,0,0,0,0,0,0,0,0,0,22.202247191011264,0,120083.99999999999,0,0,1,0,1971,0,0,3750,438876.51167795062,120082.8,0,0,1398,104,0,null,0,0,0,null,0,null,0,null,0,0,0,0,0,0,104,0,null,4333.28,3178.62,0,0]
[3337,"Tunstall CEP School",1,355,0,0,6.9999999999999893,0,10.790273556231003,0,16.000000000000011,20.000000000000007,11.999999999999982,4.9999999999999929,2.0000000000000004,0,0,0,0,0,0,0,5.9764309764309642,0,60.996563573883023,0,120083.99999999999,0,0,1,0,10547,0,0,3750,1133274,120082.8,0,0,11274,330,0,null,0,0,0,null,0,null,0,null,0,0,0,0,0,0,330,0,null,3750,3750,250,6.6666666666666666E-2]
[3338,"Herne CEJ School",1,364,0,0,36,0,46.6158038147139,0,16.000000000000018,10.999999999999993,8.0000000000000089,1.0000000000000011,0,0,0,0,0,0,0,0,2.9999999999999996,0,81.447513812154668,0,120083.99999999999,0,0,1,0,7834,0,0,3750,1252111,120082.8,0,0,7711,366,0,null,0,0,0,null,0,null,0,null,0,0,0,0,0,0,366,0,null,3750,3750,250,6.6666666666666666E-2]
[3339,"Whitstable & Seasalter Endowed CEJ School",1,193,0,0,19.000000000000004,0,20.104166666666668,0,1.9999999999999933,0,0,0,14.999999999999996,0,0,0,0,0,0,0,3.015625,0,47.223404255319188,0,120083.99999999999,0,0,1,0,3584,0,0,3750,704318.50183675822,120082.8,0,0,3528,192,0,null,0,0,0,null,0,null,0,null,0,0,0,0,0,0,192,0,null,3844.14,3221.94,155.86000000000013,4.8374581773714009E-2]
[3340,"St Mary's CEP School, Ashford",1,410,0,0,80.999999999999957,0,99.809069212410506,0,96.470588235294187,60.294117647058918,1.0049019607843126,18.088235294117634,11.053921568627455,0,0,0,0,0,0,0,44.51428571428589,0,125.41176470588216,0,120083.99999999999,0,0,1,0,8960,0,0,3750,1518126.0243426959,120082.8,0,0,8820,419,0,null,0,0,0,null,0,null,0,null,0,0,0,0,0,0,419,0,null,3800.37,3507.48,199.63000000000011,5.6915506289415795E-2]
[3346,"Wittersham CEP School",1,128,0,0,11,0,26.790697674418606,0,5,4,1,0,1,0,0,0,0,0,0,0,1.1851851851851853,0,39.476635514018689,0,120083.99999999999,7572.6447530040059,0,1,0,3507,0,0,3750,537070.44361436181,120082.8,6613.3718291054684,0,3452,130,0,null,0,0,0,null,0,null,0,null,0,0,0,0,0,0,130,0,null,4298.58,3301.26,0,0]
[3347,"Elham CEP School",1,134,0,0,7.9999999999999956,0,19.420289855072465,0,10.000000000000002,2.9999999999999951,2.9999999999999951,2.0000000000000053,0,0,0,0,0,0,0,0,1.1166666666666663,0,27.254237288135652,0,120083.99999999999,0,0,1,0,3459,0,0,3750,551573.61872726481,120082.8,3607.2937249666188,0,3405,139,0,null,0,0,0,null,0,null,0,null,0,0,0,0,0,0,139,0,null,4065.67,3169.53,0,0]
[3350,"Saltwood CEP School",1,220,0,0,6.0000000000000062,0,8.9592760180995477,0,8.9999999999999982,21.000000000000011,4.0000000000000036,0,1.0000000000000009,1.0000000000000009,0,0,0,0,0,0,4.6315789473684275,0,39.787234042553138,0,120083.99999999999,0,0,1,0,5222,0,0,3750,781249.04747624602,120082.8,0,0,5141,221,0,null,0,0,0,null,0,null,0,null,0,0,0,0,0,0,221,0,null,3750,3750,250,6.6666666666666666E-2]
[3351,"Ash Cartwright and Kelsey CEP School",1,143,0,0,24.000000000000025,0,29.908496732026144,0,1.0070422535211268,4.0281690140845008,0,0,0,0,0,0,0,0,0,0,2.200000000000002,0,39.1015625,0,120083.99999999999,2362.1093724966631,0,1,0,6912,0,0,3750,599227.18850147631,120082.8,0,0,6804,154,0,null,4.08,0.9,0,null,0,null,0,null,0,0,0,0,0,0,175,0,null,4146.53,3290.26,0,0]
[3356,"St Mary's CEP School, Dover",1,187,0,0,38.999999999999936,0,49.671875,0,12.064516129032265,29.155913978494684,28.150537634408572,34.182795698924693,67.360215053763469,0,0,0,0,0,0,0,45.581249999999997,0,56.1,0,120083.99999999999,0,0,1,0,4289,0,0,3750,850192.7367265845,120082.8,0,0,4222,202,0,null,0,0,0,null,0,null,0,null,0,0,0,0,0,0,201.5,0,null,4451.0600000000004,3808.9,0,0]
[3360,"St Peter-in-Thanet CEJ School",1,359,0,0,56.000000000000121,0,76.717808219178082,0,50.139664804469369,120.33519553072627,15.041899441340775,10.027932960893837,11.030726256983233,12.033519553072626,0,0,0,0,0,0,3.9999999999999831,0,67.504273504273499,0,120083.99999999999,0,0,1,0,9984,0,0,3750,1310907.0204881451,120082.8,0,0,9828,366,0,null,0,0,0,null,0,null,0,null,0,0,0,0,0,0,366,0,null,3750,3750,250,6.6666666666666666E-2]
[3364,"Ramsgate, Holy Trinity CEP School",1,211,0,0,16.999999999999996,0,16.999999999999996,0,51.00000000000005,0,9.9999999999999893,12.999999999999993,16.999999999999996,1.9999999999999998,0,0,0,0,0,0,1.1657458563535914,0,41.488764044943807,0,120083.99999999999,0,0,1,0,5939,0,0,3750,772027.90328888351,120082.8,0,0,5846,208,0,null,0,0,0,null,0,null,0,null,0,0,0,0,0,0,208,0,null,3817.04,3247.92,182.96000000000004,5.6331436734894956E-2]
[3373,"St Mary's CEP School",1,195,0,0,62.000000000000007,0,88.26315789473685,0,3.9999999999999973,18,24.999999999999961,60.000000000000057,53.000000000000036,0,0,0,0,0,0,0,12.921686746987961,0,59.347826086956616,0,120083.99999999999,0,0,1.0364,0,5274,0,0,3750,833277.51426126261,124453.81392,0,0,5191,189,0,null,4.08,0,0,null,0,null,0,null,0,0,0,0,0,0,227,0,null,4583.8,3945.57,0,0]
[3718,"St Augustine's Catholic Primary School, Hythe",1,208,0,0,17.999999999999989,0,18.133333333333333,0,8.0000000000000071,29.000000000000018,14.999999999999996,2.0000000000000009,2.0000000000000009,0,0,0,0,0,0,0,8.1340782122904933,0,60.1156069364161,0,120083.99999999999,0,0,1,0,7014,0,0,3750,750551.41088534857,120082.8,0,0,6905,198,0,null,0,0,0,null,0,null,0,null,0,0,0,0,0,0,198,0,null,3890.32,3312.99,0,0]
[3722,"St Ethelbert's Catholic Primary School, Ramsgate",1,203,0,0,39.999999999999908,0,50.266666666666666,0,67.000000000000028,1.0000000000000007,16.000000000000004,28.000000000000078,39.999999999999908,0,0,0,0,0,0,0,19.947976878612714,0,60.059171597633039,0,120083.99999999999,0,0,1,0,5197,0,0,3750,824620.38547667291,120082.8,0,0,5115,208,0,null,0,0,0,null,0,null,0,null,0,0,0,0,0,0,208,0,null,4209.0200000000004,3617.47,0,0]
[3728,"St Anselm's Catholic Primary School, Dartford",1,210,0,0,8,0,21,0,69.000000000000099,1.9999999999999991,0,22.00000000000005,35.999999999999915,0,0,0,0,0,0,0,40.833333333333243,0,34.800000000000061,0,120083.99999999999,0,0,1.0364,0,4454,0,0,3750,834055.96327880805,124453.81392,0,0,4385,210,0,null,0,0,0,null,0,null,0,null,0,0,0,0,0,0,210,0,null,4072.35,3479.71,0,0]
[3733,"Our Lady's Catholic Primary School, Dartford",1,221,0,0,2,0,7.0639269406392691,0,55,3.000000000000008,0,11,12.000000000000011,0,0,0,0,0,0,0,22.1,0,50.818181818181792,0,120083.99999999999,0,0,1.0364,0,4096,0,0,3750,834778.0198425228,124453.81392,0,0,4032,218,0,null,0,0,0,null,0,null,0,null,0,0,0,0,0,0,218,0,null,3932.73,3369.58,0,0]
[3749,"St Thomas' Catholic Primary School, Canterbury",1,210,0,0,21,0,33.157894736842103,0,6.0000000000000053,6.9999999999999929,22.00000000000005,61.000000000000107,21,0,0,0,0,0,0,0,57.166666666666615,0,50.350877192982445,0,120083.99999999999,0,0,1,0,5069,0,0,3750,815811.51546134893,120082.8,0,0,4460,208,0,null,0,0,0,null,0,null,0,null,0,0,0,0,0,0,208,0,null,4122.93,3551.1,0,0]
[3893,"Phoenix Community Primary School",1,208,0,0,71.999999999999957,0,95.540669856459331,0,0,15.999999999999995,4.999999999999992,87.000000000000043,1.0000000000000004,0,0,0,0,0,0,0,19.977401129943502,0,62.636363636363711,0,120083.99999999999,0,0,1,0,53248,0,0,3750,912451.50319164945,120082.8,0,0,52416,208,0,null,0,0,0,null,0,null,0,null,0,0,0,0,0,0,208,0,null,4293.0600000000004,3715.73,0,0]
[3896,"Downsview Primary",1,202,0,0,39.999999999999993,0,59.04615384615385,0,1.9999999999999998,5.0000000000000098,24.000000000000039,11.000000000000009,32.999999999999929,0,0,0,0,0,0,0,3.443181818181809,0,72.670731707317145,0,120083.99999999999,0,0,1.0364,0,20334,0,0,3750,808372.12882849423,124453.81392,0,0,20008,193,0,null,0,0,0,null,0,null,0,null,0,0,0,0,0,0,193,0,null,4306.96,3690.84,0,0]
[3898,"Greenfields Community Primary School",1,328,0,0,113.99999999999997,0,135,0,133.00000000000006,7.999999999999992,61.000000000000142,47.99999999999995,24.000000000000007,0,0,0,0,0,0,0,20.936170212765941,0,75.510791366906645,0,120083.99999999999,0,0,1,0,37120,0,0,3750,1451011.719330318,120082.8,0,0,38462,328,0,null,4.08,0,0.44,null,0,null,0,null,0,0,0,0,0,0,368,0,null,4326.26,3960.15,0,0]
[3902,"Hythe Bay C of E Primary School",1,355,0,0,90.999999999999972,0,109.59102902374671,0,15.000000000000012,99.999999999999844,58.00000000000005,2.9999999999999991,7.9999999999999885,2.9999999999999991,0,0,0,0,0,0,13.566878980891705,0,115.63517915309436,0,120083.99999999999,0,0,1,0,59392,0,0,3750,1477479.9053045742,120082.8,0,0,58464,385,0,null,0,0,0,null,0,null,0,null,0,0,0,0,0,0,385,0,null,3919.06,3580.8,0,0]
[3904,"Castle Hill Community Primary School",1,390,0,0,168.00000000000009,0,187.92746113989637,0,15.999999999999989,20.999999999999982,95.000000000000156,81.999999999999901,97.000000000000114,37.999999999999986,0,0,0,0,0,0,29.017857142857142,0,138.42592592592584,0,120083.99999999999,0,0,1,0,54784,0,0,3750,1653072.827399723,120082.8,0,0,55127,391,0,null,4.08,0,0.22,null,0,null,0,null,0,0,0,0,0,0,443,0,null,4280.41,3972.5,0,0]
[3906,"Palace Wood Primary School",1,411,0,0,57.999999999999908,0,61.148780487804878,0,32.314496314496303,9.0884520884520832,28.275184275184277,6.0589680589680412,4.0393120393120396,0,0,0,0,0,0,0,27.476323119777167,0,97.686956521739191,0,120083.99999999999,0,0,1,0,34304,0,0,3750,1436737,120082.8,0,0,32537,413,0,null,0,0,0,null,0,null,0,null,0,0,0,0,0,0,413,0,null,3750,3750,250,6.6666666666666666E-2]
[3907,"Hextable Primary School",1,493,0,0,48.999999999999986,0,68.958246346555313,0,5.0101626016260354,17.034552845528463,16.032520325203237,24.048780487804901,37.075203252032509,0,0,0,0,0,0,0,17.607142857142851,0,138.57960199004972,0,120083.99999999999,0,0,1.0364,0,58383,0,0,3750,1684267.8090847163,124453.81392,0,0,24305,472,0,null,0,0,0,null,0,null,0,null,0,0,0,0,0,0,472,0,null,3750,3750,250,6.6666666666666666E-2]
[3909,"Ashford Oaks Community Primary School",1,407,0,0,166.99999999999986,0,209.39855072463766,0,70,67.999999999999957,1.9999999999999984,69.000000000000185,140,0,0,0,0,0,0,0,43.397694524495698,0,159.10000000000002,0,120083.99999999999,0,0,1,0,69632,0,0,3750,1734074.4359271708,120082.8,0,0,68544,414,0,null,4.08,0.9,0.54,null,0,null,0,null,0,0,0,0,0,0,448,0,null,4257.25,3962.21,0,0]
[3910,"Joy Lane Primary School",1,585,0,0,91.999999999999858,0,103.97666068222621,0,8.0136986301369859,5.0085616438356171,56.095890410958901,3.0051369863013684,57.097602739726028,0,0,0,0,0,0,0,14.068136272545109,0,180.36511156186614,0,120083.99999999999,0,0,1,0,13005,0,0,3750,1886202,120082.8,0,0,12802,551,0,null,0,0,0,null,0,null,0,null,0,0,0,0,0,0,551,0,null,3750,3750,250,6.6666666666666666E-2]
[3913,"Rusthall, St Paul's CE VA School",1,175,0,0,22.999999999999925,0,39.772727272727273,0,42,0,0,0,0,0,0,0,0,0,0,0,6.4814814814814747,0,42.129629629629676,0,120083.99999999999,0,0,1,0,5427,0,0,3750,748819.60389683954,120082.8,0,0,5342,199,0,null,0,0,0,null,0,null,0,null,0,0,0,0,0,0,199,0,null,3984.59,3298.4,0,0]
[3916,"Green Park Community Primary School",1,395,0,0,133.00000000000014,0,156.74603174603175,0,35.000000000000014,111.99999999999986,95.999999999999872,20.000000000000014,111.99999999999986,0,0,0,0,0,0,0,11.721068249258145,0,122.91540785498491,0,120083.99999999999,0,0,1,0,34816,0,0,3750,1514154.5382395196,120082.8,0,0,34272,380,0,null,0,0,0,null,0,null,0,null,0,0,0,0,0,0,380,0,null,4095.22,3791.21,{"$f":"IF(AND(C262=1,BI262<3883.495),4000-BI262,0)","v":0},0]
[3917,"Garlinge Primary School",1,774,0,0,238.9999999999998,0,286,0,65.000000000000028,37.999999999999986,170.00000000000011,67.999999999999972,57.000000000000014,91.999999999999829,0,0,0,0,0,0,40.149855907780946,0,228.54794520547958,0,120083.99999999999,0,0,1,0,61952,0,0,3750,2866729.9039503294,120082.8,0,0,60984,774,0,null,4.08,0,0.36,null,0,null,0,null,0,0,0,0,0,0,803,0,null,3846.55,3691.4,153.44999999999982,4.1569594191905458E-2]
[3918,"Newington Community Primary School and Nursery",1,661,0,0,187.99999999999974,0,232.4617737003058,0,57.259878419452903,2.0091185410334345,55.25075987841943,120.54711246200608,325.47720364741633,4.0182370820668689,0,0,0,0,0,0,18.818505338078282,0,91.377019748653723,0,120083.99999999999,0,0,1,0,9114,0,0,3750,2537866.0964411604,120082.8,0,0,8971,653,0,null,4.08,0.3,0.52,null,0,null,0,null,0,0,0,0,0,0,701,0,null,3888.95,3707.28,0,0]
[3920,"Goat Lees Primary School",1,208,0,0,61.999999999999986,0,65.371428571428567,0,4.999999999999992,80.000000000000085,39,13,2.9999999999999951,0,0,0,0,0,0,0,7.0112359550561738,0,59.42857142857148,0,120083.99999999999,0,0,1,0,8806,0,0,3750,832650.55249649088,120082.8,0,0,8669,208,0,null,0,0,0,null,292.24017054796997,null,292.24017054796997,null,16,0,22,0,19,0,208,0,null,4177.9399999999996,3600.61,0,0]
[4026,"Dartford Science and Technology College",2,0,448,281,0,97.000000000000185,0,174.78947368421052,0,0,0,0,0,0,113.9999999999998,52.999999999999986,2.0000000000000027,43.000000000000007,31.999999999999996,0,0,24.999999999999975,0,160.63834679104045,114480.07999999999,0,0,1.0364,0,131328,0,0,5000,3559600.8230392574,124453.81392,0,0,129276,682,0,null,0,0,0,null,974.20162606731208,null,974.20162606731208,null,6,0,5,0,10,0,0,737.888635475,null,5288.73,5125.9799999999996,0,0]
[4040,"Northfleet School for Girls",2,0,525,315,0,231.99999999999983,0,275.65891472868213,0,0,0,0,0,0,187.22288438617429,118.14064362336096,55.065554231227679,54.064362336114392,74.088200238378988,0,0,36.085918854415247,0,229.95532948966613,114480.07999999999,0,0,1,0,27136,0,0,5000,3988032.3541321391,120082.8,0,0,26712,776,0,null,0,0,0,null,0,null,0,null,0,0,0,0,0,0,0,895.30952179999986,null,5403.81,5267.52,0,0]
[4043,"Tunbridge Wells Girls' Grammar School",2,0,440,281,0,13.999999999999972,0,26.777166437414031,0,0,0,0,0,0,19.026388888888896,10.013888888888896,8.0111111111111022,5.0069444444444411,1.0013888888888898,0,0,3.0000000000000018,0,3.6493643107060265,114480.07999999999,0,0,1,0,42496,0,0,5000,3476336,120082.8,0,0,50036,729,0,null,0,0,0,null,0,null,0,null,0,0,0,0,0,0,0,1032,null,5000,5000,0,0]
[4045,"Tunbridge Wells Grammar School for Boys",2,0,680,361,0,30.000000000000018,0,61.727638190954771,0,0,0,0,0,0,32.030769230769259,29.027884615384632,12.011538461538422,15.014423076923052,5.0048076923076943,1.0009615384615389,0,7.0000000000000044,0,16.853700681214242,114480.07999999999,0,0,1,0,166400,0,140582.88,5000,4854400,120082.8,0,0,163800,998,0,null,0,0,0,null,686.56069070433023,null,686.56069070433023,null,8,0,8,0,8,0,0,1264.85667085,null,5000,5135.05,0,0]
[4065,"Holmesdale School, The",2,0,265,229,0,91.999999999999915,0,162.15267175572518,0,0,0,0,0,0,23,204.00000000000023,15.999999999999982,1.0000000000000007,4.9999999999999787,0,0,1.0000000000000007,0,156.22792406034822,114480.07999999999,0,0,1,0,36864,1074162.4395025661,0,5000,3750749.1011729166,120082.8,0,0,42380,526,0,null,0,0,0,null,627.57725702726896,null,627.57725702726896,null,30,0,30,0,27,0,0,578.80053680000003,null,5470.71,5238.97,0,0]
[4109,"Dover Grammar School for Girls",2,0,423,263,0,54.999999999999979,0,99.449704142011825,0,0,0,0,0,0,102.29824561403518,58.169590643274852,62.181286549707629,38.111111111111143,49.143274853801174,0,0,1.0000000000000029,0,14.628361437367548,114480.07999999999,0,0,1,0,69632,0,0,5000,3259844,120082.8,0,0,68544,679,0,null,0,0,0,null,0,null,0,null,0,0,0,0,0,0,0,891.32533847500008,null,5000,5000,0,0]
[4246,"North School, The",2,0,589,322,0,176.00000000000031,0,319.46832579185519,0,0,0,0,0,0,74.162816281628153,143.31463146314604,8.0176017601760172,103.22662266226594,48.105610561056103,1.0022002200220022,0,31.000000000000011,0,288.57267348337928,114480.07999999999,0,0,1,0,224000,1129362.0381378992,0,5000,5824666.1895081066,120082.8,0,0,257470,881,0,null,0,0,0,null,0,null,0,null,0,0,0,0,0,0,0,1017.2402677,null,5355.02,5229.3599999999997,0,0]
[4522,"Maidstone Grammar School",2,0,646,364,0,27.999999999999975,0,60.391752577319593,0,0,0,0,0,0,83.000000000000014,15.000000000000048,16.999999999999968,21.000000000000007,4.9999999999999991,0,0,2.9999999999999996,0,8.6344905534175531,114480.07999999999,0,0,1,0,35840,0,0,5000,4616174,120082.8,0,0,33674,975,0,null,0,0,0,null,0,null,0,null,0,0,0,0,0,0,0,1301.835559375,null,5000,5000,0,{"$f":"BK273/BJ273","v":0}]
[4523,"Maidstone Grammar School for Girls",2,0,546,362,0,41.999999999999986,0,73.977678571428569,0,0,0,0,0,0,76.000000000000043,34.999999999999979,23.999999999999993,17.999999999999996,15.000000000000041,0,0,6.0066152149944863,0,7.3328066555080724,114480.07999999999,0,0,1,0,35328,0,0,5000,4257259,120082.8,0,0,36659,898,0,null,0,0,0,null,1023.2400876057736,null,1023.2400876057736,null,4,0,4,0,3,0,0,1210.6565821500001,null,5000,5000,0,0]
[4534,"Simon Langton Girls' Grammar School",2,0,519,335,0,45.000000000000043,0,56.798099762470308,0,0,0,0,0,0,43.050410316529906,12.014067995310642,34.03985932004688,22.025791324736236,18.021101992965963,2.0023446658851101,0,13.01524032825321,0,13.25549526177868,114480.07999999999,0,0,1,0,165120,0,0,5000,4096440,120082.8,0,0,162540,837,0,null,0,0,0,null,0,null,0,null,0,0,0,0,0,0,0,1103.2508143750001,null,5000,5000,0,0]
[4622,"Judd School, The",2,0,563,311,0,16.999999999999993,0,20.959232613908874,0,0,0,0,0,0,12.999999999999995,10.999999999999995,7.9999999999999973,4.9999999999999982,1.9999999999999993,0,0,15.999999999999995,0,3.4843894646271254,114480.07999999999,0,0,1,0,37376,0,0,5000,3969365,120082.8,0,0,40165,836,0,null,0,0,0,null,0,null,0,null,0,0,0,0,0,0,0,1224.9813423749999,null,5000,5000,0,0]
[5200,"Snodland CEP School",1,404,0,0,61.999999999999808,0,97.374358974358969,0,1.9999999999999998,241.00000000000017,1.9999999999999998,1.9999999999999998,10.00000000000002,0,0,0,0,0,0,0,5.8381502890173325,0,100.70381231671556,0,120083.99999999999,0,0,1,0,8550,0,0,3750,1389001.5418296151,120082.8,0,0,11790,389,0,null,0,0,0,null,0,null,0,null,0,0,0,0,0,0,389,0,null,3750,3750,250,6.6666666666666666E-2]
[5201,"Borough Green Primary School",1,296,0,0,31.999999999999968,0,39.865319865319861,0,123.41694915254241,0,2.0067796610169482,0,0,0,0,0,0,0,0,0,5.8730158730158601,0,60.143426294820735,0,120083.99999999999,0,0,1,0,6451,0,0,3750,1034046.5488896136,120082.8,0,0,9723,293,0,null,0,0,0,null,0,null,0,null,0,0,0,0,0,0,293,0,null,3750,3750,250,6.6666666666666666E-2]
[5202,"Holy Trinity CEP School",1,439,0,0,61.000000000000171,0,61.000000000000171,0,184.99999999999986,49.000000000000021,21.000000000000007,44.999999999999979,18.999999999999982,0,0,0,0,0,0,0,117.75260416666683,0,151.24085365853651,0,120083.99999999999,0,0,1,0,9830,0,0,3750,1591519.5961810569,120082.8,0,0,9677,425,0,null,4.08,0,0.17,null,0,null,0,null,0,0,0,0,0,0,468,0,null,3925.44,3651.9,0,0]
[5203,"Roseacre Junior School",1,426,0,0,17.000000000000007,0,24.883177570093459,0,9.0211764705882374,1.0023529411764713,5.0117647058823351,3.0070588235294142,6.0141176470588116,0,0,0,0,0,0,0,9.0000000000000071,0,82.748201438849023,0,120083.99999999999,0,0,1,0,5939,0,0,3750,1459568,120082.8,0,0,7768,427,0,null,0,0,0,null,0,null,0,null,0,0,0,0,0,0,427,0,null,3750,3750,250,6.6666666666666666E-2]
[5206,"Herne Bay Junior School",1,461,0,0,108.99999999999977,0,146.45842217484008,0,63.000000000000099,48.000000000000028,113.99999999999996,2.0000000000000013,2.0000000000000013,0,0,0,0,0,0,0,8.0000000000000053,0,156.09480812641101,0,120083.99999999999,0,0,1,0,9882,0,0,3750,1710134.8108169364,120082.8,0,0,9727,472,0,null,0,0,0,null,0,null,0,null,0,0,0,0,0,0,472,0,null,3830.02,3569.54,169.98000000000002,4.761958123455684E-2]
[5207,"St Francis' Catholic Primary School, Maidstone",1,414,0,0,42.000000000000064,0,50.859950859950864,0,73.000000000000028,1.0000000000000011,8.9999999999999964,7.0000000000000107,7.0000000000000107,0,0,0,0,0,0,0,69.589743589743549,0,97.265060240964033,0,120083.99999999999,0,0,1,0,11366,0,0,3750,1404473.613738331,120082.8,0,0,13111,402,0,null,0,0,0,null,695.12923909142717,null,695.12923909142717,null,4,0,6,0,5,0,402,0,null,3750,3750,250,6.6666666666666666E-2]
[5208,"Ditton CEJ School",1,222,0,0,29.999999999999972,0,40.363636363636367,0,63.00000000000005,25.000000000000085,15.000000000000007,0,2.9999999999999969,0,0,0,0,0,0,0,3.999999999999996,0,60.920930232558192,0,120083.99999999999,0,0,1,0,4864,0,0,3750,892804.02696123719,120082.8,0,0,7609,240,0,null,0,0,0,null,0,null,0,null,0,0,0,0,0,0,240,0,null,3920.57,3379.65,0,0]
[5212,"Ditton Infant School",1,159,0,0,22.000000000000025,0,25.837500000000002,0,54.000000000000007,11.999999999999993,10.000000000000002,0,2.0000000000000067,0,0,0,0,0,0,0,10.5,0,30.57692307692303,0,120083.99999999999,0,0,1,0,3942,0,0,3750,642656.49930492416,120082.8,0,0,7254,164,0,null,0,0,0,null,650.93569070433034,null,650.93569070433034,null,25,0,25,0,27,0,164,0,null,4068.57,3313.32,0,0]
[5213,"Holy Trinity CEP School, Dartford",1,425,0,0,31.999999999999993,0,55.390995260663516,0,69.000000000000171,10.000000000000007,2.0000000000000018,27.000000000000011,26,0,0,0,0,0,0,0,94.047619047618852,0,78.840579710145107,0,120083.99999999999,0,0,1.0364,0,8550,0,0,3750,1556576.1591359584,124453.81392,0,0,8165,426,0,null,0,0,0,null,0,null,0,null,0,0,0,0,0,0,426,0,null,3750,3750,250,6.6666666666666666E-2]
[5214,"St Bartholomew's Catholic Primary School",1,350,0,0,44.000000000000099,0,66.570605187319885,0,0,24.000000000000011,45.000000000000149,52.000000000000149,75.999999999999943,0,0,0,0,0,0,0,46.666666666666551,0,89.897260273972549,0,120083.99999999999,0,0,1.0364,0,6195,0,0,3750,1319879.8311304105,124453.81392,0,0,6098,344,0,null,0,0,0,null,0,null,0,null,0,0,0,0,0,0,344,0,null,4006.03,3650.44,0,0]
[5218,"Greatstone Primary School",1,329,0,0,43.999999999999936,0,55.301994301994299,0,0,83.999999999999943,20.999999999999986,0,0,1,0,0,0,0,0,0,4.5223367697594661,0,80.243902439024311,0,120083.99999999999,0,0,1,0,8346,0,0,3750,1248072.549185842,120082.8,0,0,8215,355,0,null,4.08,0.9,0,null,0,null,0,null,0,0,0,0,0,0,392,0,null,3750,3750,250,6.6666666666666666E-2]
[5221,"Wincheap Foundation Primary School",1,439,0,0,111.00000000000011,0,137.94266055045873,0,8.0000000000000053,4.9999999999999929,7.000000000000016,13.999999999999989,112.99999999999991,0,0,0,0,0,0,0,25.482849604221624,0,128.83695652173904,0,120083.99999999999,0,0,1,0,12110,0,0,3750,1581778.2891672859,120082.8,0,0,9675,434,0,null,0,0,0,null,695.93569070433023,null,695.93569070433023,null,0,0,5,0,0,0,434,0,null,3809.46,3535.92,190.53999999999996,5.3886965768456287E-2]
[5223,"Brookfield Junior School, Larkfield",1,250,0,0,57,0,80.677290836653384,0,5,19,6,0,36,0,0,0,0,0,0,0,3,0,53.497942386831248,0,120083.99999999999,0,0,1,0,25200,0,0,3750,969188.31281226303,120082.8,0,0,28169,254,0,null,0,0,0,null,0,null,0,null,0,0,0,0,0,0,254,0,null,3855.72,3375.39,144.2800000000002,4.2744690243201586E-2]
[5225,"Harcourt Primary School",1,186,0,0,33.999999999999964,0,51.098901098901102,0,43.232432432432354,7.0378378378378308,5.0270270270270219,10.054054054054061,14.075675675675679,2.0108108108108085,0,0,0,0,0,0,5.9615384615384519,0,55.8,0,120083.99999999999,0,0,1,0,3507,0,0,3750,739841.66629866278,120082.8,0,0,3375,183,0,null,0,0,0,null,0,null,0,null,0,0,0,0,0,0,183,0,null,4122.37,3476.76,0,0]
[5226,"Willesborough Junior School",1,509,0,0,39.999999999999986,0,108.38830897703549,0,1.9999999999999993,68.000000000000185,3.0000000000000013,80.000000000000071,10.000000000000023,0,0,0,0,0,0,0,44.000000000000014,0,129.62111801242253,0,120083.99999999999,0,0,1,0,10189,0,0,3750,1677393.2722642694,120082.8,0,0,10030,480,0,null,0,0,0,null,0,null,0,null,0,0,0,0,0,0,480,0,null,3750,3750,250,6.6666666666666666E-2]
[5229,"Fleetdown Primary School",1,627,0,0,54,0,54.651347068145803,0,42.000000000000028,35,1.9999999999999976,4.9999999999999964,8.0000000000000018,0,0,0,0,0,0,0,45.451672862453528,0,145.51132075471685,0,120083.99999999999,0,0,1.0364,0,50432,0,0,3750,2181373,124453.81392,0,0,46173,628,0,null,0,0,0,null,0,null,0,null,0,0,0,0,0,0,628,0,null,3750,3750,250,6.6666666666666666E-2]
[5407,"Thamesview School",2,0,534,314,0,208.99999999999966,0,302.85714285714289,0,0,0,0,0,0,150.17709563164092,134.15820543093301,148.17473435655222,16.018890200708363,79.093270365997626,0,0,23.027154663518314,0,271.28850159122817,114480.07999999999,0,0,1,0,37376,962634.87280851952,0,5000,5175011.4445631392,120082.8,0,0,36792,815,0,null,0,0,0,null,0,null,0,null,0,0,0,0,0,0,0,815,null,5483.92,5348.92,0,0]
[5410,"Aylesford School - Sports College",2,0,385,270,0,122.00000000000011,0,184.59090909090909,0,0,0,0,0,0,66.100917431192954,91.139143730886758,48.073394495412821,1.0015290519877649,19.029051987767584,0,0,10.092449922958426,0,176.86461295064629,114480.07999999999,0,0,1,0,37888,930120.90057518845,0,5000,4236284.4286549138,120082.8,0,0,48029,667,0,null,0,0,0,null,0,null,0,null,0,0,0,0,0,0,0,727,null,5242.26,5067.4799999999996,0,0]
[5412,"Simon Langton Grammar School for Boys",2,0,415,262,0,17.000000000000028,0,33.639751552795026,0,0,0,0,0,0,39.115555555555574,11.032592592592595,16.047407407407405,18.053333333333356,13.038518518518545,0,0,11.999999999999982,0,4.2304644623250098,114480.07999999999,0,0,1,0,32256,0,0,5000,3046128,120082.8,0,0,28728,642,0,null,0,0,0,null,0,null,0,null,0,0,0,0,0,0,0,1092.52123325,null,5000,5000,0,0]
[5425,"Malling School, The",2,0,585,290,0,131.00000000000026,0,232.55461165048544,0,0,0,0,0,0,49,154.99999999999986,11.999999999999988,3.0000000000000013,79.999999999999972,0,0,3.9999999999999987,0,252.9849875708467,114480.07999999999,0,0,1,0,33792,847696.28785920015,0,5000,4977634.111850474,120082.8,0,0,36637,830,0,null,0,0,0,null,0,null,0,null,0,0,0,0,0,0,0,900.72078562499996,null,5154.03,5023.2,0,0]
[5426,"Archbishop's School, The",2,0,342,248,0,125.99999999999982,0,191.75,0,0,0,0,0,0,35.000000000000007,20.000000000000021,63.999999999999737,62.999999999999908,50,1.0000000000000011,0,23.039049235993193,0,154.65314341728788,114480.07999999999,0,0,1,0,17101,0,0,5000,3274129.2603060477,120082.8,0,0,16834,657,0,null,0,0,0,null,0,null,0,null,0,0,0,0,0,0,0,752.87920075,null,5386.06,5192.03,0,0]
[5431,"Hugh Christie School",2,0,482,279,0,143.99999999999966,0,270.98527443105758,0,0,0,0,0,0,94.123684210526477,56.073684210526324,3.0039473684210516,63.082894736842135,2.0026315789473679,0,0,11.999999999999982,0,235.00992093303108,114480.07999999999,0,0,1,0,44544,900853.36249140068,0,5000,4616282.7367265038,120082.8,0,0,52167,743,0,null,0,0,0,null,0,null,0,null,0,0,0,0,0,0,0,864.88300734999996,null,5275.43,5125,0,0]
[5447,"St George's CE Foundation School",4,300,671,430,27,183.00000000000054,27,326.63678373382623,68.000000000000099,9.9999999999999893,41.000000000000099,32.000000000000099,15.999999999999991,14.000000000000009,228.20727272727243,75.068181818181841,115.10454545454596,103.09363636363632,116.10545454545404,62.056363636363677,7.5,15.000000000000025,74.008810572687295,289.23307929592721,114480.07999999999,0,0,1,0,69380,0,0,4318.181818181818,6175531.7039111266,120082.8,0,0,69489,1308,0,null,0,0,0,null,0,null,0,null,0,0,0,0,0,0,237,1193.6583324999999,null,4900.96,4819.24,0,0]
[5456,"Northfleet Technology College",2,0,484,320,0,151.00000000000014,0,267.01831501831498,0,0,0,0,0,0,163.6104868913861,115.43071161048707,64.239700374531864,49.183520599250897,66.247191011235913,0,0,25.000000000000018,0,257.014366165696,114480.07999999999,0,0,1,0,34560,875983.98362190009,0,5000,5091784.5792747773,120082.8,0,0,34637,825,0,null,0,0,0,null,228.00955375072013,null,228.00955375072013,null,25,0,20,0,21,0,0,976.94982787499998,null,5439.3,5296.91,0,0]
[5459,"Dover Grammar School for Boys",2,0,405,250,0,58.000000000000007,0,118.71875,0,0,0,0,0,0,92.281776416538875,59.180704441041343,64.196018376722833,47.143950995405788,37.113323124042871,1.0030627871362916,0,1.0046012269938627,0,24.933181129645469,114480.07999999999,0,0,1,0,17818,0,0,5000,3039639,120082.8,0,0,17539,643,0,null,0,0,0,null,0,null,0,null,0,0,0,0,0,0,0,801.50896965000004,null,5000,5000,0,0]
[5461,"St John's Catholic Comprehensive School",2,0,580,377,0,142,0,270.67690677966107,0,0,0,0,0,0,212.00000000000031,146.9999999999998,206.00000000000034,31.999999999999982,47.999999999999979,0,0,25.00000000000005,0,286.69276941548412,114480.07999999999,0,0,1,0,50944,1161474.5852852932,0,5000,6030954.4620507341,120082.8,0,0,57174,947,0,null,0,0,0,null,0,null,0,null,0,0,0,0,0,0,0,1194.6471535000001,null,5373.58,5253.96,0,0]
[5468,"Royal Harbour Academy, The",2,0,524,289,0,311.99999999999972,0,484.61176470588236,0,0,0,0,0,0,148.99999999999986,8.9999999999999911,81,149.99999999999983,276.99999999999972,45.000000000000036,0,16.019704433497502,0,256.78054445249933,114480.07999999999,0,0,1,0,88320,673902.21617833874,58590.12,5000,4975822.0087462338,120082.8,0,0,87660,770,0,null,0,0,0,null,0,null,0,null,0,0,0,0,0,0,0,845.47132194999995,null,5867.01,5798.26,0,0]
[9999,"A School",1,448,0,0,50.000000000000064,0,66.147651006711413,0,100.11738148984185,35.395033860045174,1.0112866817155739,10.112866817155737,48.541760722347647,0,0,0,0,0,0,0,38.103092783505161,0,156.98113207547186,0,120083.99999999999,0,0,1,0,11571,0,0,3750,1578792.6765406257,120082.8,0,0,11390,447,0,null,0,0,0,null,0,null,0,null,0,0,0,0,0,0,447,0,null,3750,3750,250,6.6666666666666666E-2]

{"sheet":"TestArea","index":1,"n_rows":306,"n_cols":146,"rows_kept":306,"cut":false,"hidden":true,"merged":[]}
["MI DfE no","School Name",null,"Macro School Name","Data Calc",{"$f":"SUM(F2:F302)","v":301},null,"Macro F1","Data Calc F1",null,null,"Macro F2","Data Calc F2",0,null,"Macro F4","Data Calc F4",0,null,"Macro F6","Data Calc F6",0,null,"Macro F7","Data Calc F7",0,null,"Macro F8","Data Calc F8",0,null,"Macro F9","Data Calc F9",0,null,"Macro F10","Data Calc F10",0,null,"Macro F11","Data Calc F11",0,null,"Macro F12","Data Calc F12",0,null,"Macro F13","Data Calc F13",0,null,"Macro F14","Data Calc F14",0,null,"Macro FFT","Data Calc FFT",0,null,"Macro MFG","Data Calc MFG",0,null,"Macro SBS","Data Calc SBS",0,null,"Macro Growth","Data Calc Growth",0,null,"Macro SBS Inc Growth","Data Calc SBS Inc Growth",0,null,"Early years rate",null,{"$f":"SUM(BZ2:BZ302)","v":5.620000000000001},null,"Macro Notional SEN","Data Calc",{"$f":"SUM(CD2:CD302)","v":0},null,"Macro SEN top up","Data Calc",{"$f":"SUM(CH2:CH302)","v":141373},null,"SRP Element 1","Data Calc",{"$f":"SUM(CL2:CL302)","v":0},null,"SRP Element 2","Data Calc",{"$f":"SUM(CP2:CP302)","v":2052500},null,"SRP 1 Pre","Data Calc",{"$f":"SUM(CT2:CT302)","v":11056},null,"SRP 1 Post","Data Calc",{"$f":"SUM(CX2:CX302)","v":11056},null,"SRP 2 Pre","Data Calc",{"$f":"SUM(DB2:DB302)","v":11056},null,"SRP 2 Post","Data Calc",{"$f":"SUM(DF2:DF302)","v":11056},null,"Qual Year1","Data Calc",{"$f":"SUM(DJ2:DJ302)","v":35},null,"Orig PAN 1","Data Calc",{"$f":"SUM(DN2:DN302)","v":-947},null,"New PAN","Data Calc",{"$f":"SUM(DR2:DR302)","v":36},null,"Qual Year2","Data Calc",{"$f":"SUM(DV2:DV302)","v":36},null,"Orig PAN2","Data Calc",{"$f":"SUM(DZ2:DZ302)","v":38},null,"New PAN2","Data Calc",{"$f":"SUM(ED2:ED302)","v":37},null,"Qual Year3","Data Calc",{"$f":"SUM(EH2:EH302)","v":31},null,"Orig PAN3","Data Calc",{"$f":"SUM(EL2:EL302)","v":31},null,"New PAN3","Data Calc",{"$f":"SUM(EP2:EP302)","v":31}]
[2270,"Aldington Primary School",null,"Aldington Primary School",null,{"$f":"IF(E2=D2,0,1)","v":1},null,562061.4,562061.40128349117,{"$f":"H2-I2","v":-1.2834911467507482E-3},null,15043.27,15043.272925000012,{"$f":"L2-M2","v":-2.9250000116007868E-3},null,0,0,{"$f":"P2-Q2","v":0},null,48597.99,48597.994799999942,{"$f":"T2-U2","v":-4.7999999442254193E-3},null,120084,120083.99999999999,{"$f":"X2-Y2","v":0},null,0,0,{"$f":"AB2-AC2","v":0},null,0,0,{"$f":"AF2-AG2","v":0},null,0,0,{"$f":"AJ2-AK2","v":0},null,29952,29952,{"$f":"AN2-AO2","v":0},null,0,0,{"$f":"AR2-AS2","v":0},null,0,0,{"$f":"AV2-AW2","v":0},null,0,0,{"$f":"AZ2-BA2","v":0},null,775738.67,775738.66900849121,{"$f":"BD2-BE2","v":9.9150883033871651E-4},null,0,0,{"$f":"BH2-BI2","v":0},null,775738.67,775738.66900849121,{"$f":"BL2-BM2","v":9.9150883033871651E-4},null,0,null,{"$f":"BP2-BQ2","v":0},null,3160.11,null,{"$f":"BT2-BU2","v":3160.11},null,0,null,{"$f":"BX2-BY2","v":0},null,65823.5,65823.495032008097,{"$f":"ROUND(CB2-CC2,0)","v":0},null,0,null,{"$f":"ROUND(CF2-CG2,0)","v":0},null,3766.6,3766.5993384267244,{"$f":"ROUND(CJ2-CK2,0)","v":0},null,0,null,{"$f":"ROUND(CN2-CO2,0)","v":0},null,0,null,{"$f":"ROUND(CR2-CS2,0)","v":0},null,0,null,{"$f":"ROUND(CV2-CW2,0)","v":0},null,0,null,{"$f":"ROUND(CZ2-DA2,0)","v":0},null,0,null,{"$f":"ROUND(DD2-DE2,0)","v":0},null,"NO",{"$f":"IF(ISERROR(VLOOKUP($A2+8860000,'Growth Data'!$A:$F,3,0)),\"NO\",VLOOKUP($A2+8860000,'Growth Data'!$A:$F,3,0))","v":"NO"},{"$f":"IF(DH2=DI2,0,1)","v":0},null,0,{"$f":"IF(DI2=\"YES\",IF(ISERROR(VLOOKUP($A2+8860000,'Growth Data'!$A:$F,6,0)),0,VLOOKUP($A2+8860000,'Growth Data'!$A:$F,6,0)),0)","v":0},{"$f":"ROUND(DL2-DM2,0)","v":0},null,0,{"$f":"IF(ISERROR(VLOOKUP($A2+8860000,'Growth Data'!$A:$Z,7,0)),0,VLOOKUP($A2+8860000,'Growth Data'!$A:$Z,7,0))","v":0},{"$f":"IF(DP2=DQ2,0,1)","v":0},null,"NO",{"$f":"IF(ISERROR(VLOOKUP($A2+8860000,'Growth Data'!$A:$F,4,0)),\"NO\",VLOOKUP($A2+8860000,'Growth Data'!$A:$F,4,0))","v":"NO"},{"$f":"IF(DT2=DU2,0,1)","v":0},null,0,{"$f":"IF(ISERROR(VLOOKUP($A2+8860000,'Growth Data'!$A:$Z,8,0)),0,VLOOKUP($A2+8860000,'Growth Data'!$A:$Z,8,0))","v":0},{"$f":"IF(DX2=DY2,0,1)","v":0},null,0,{"$f":"IF(ISERROR(VLOOKUP($A2+8860000,'Growth Data'!$A:$Z,9,0)),0,VLOOKUP($A2+8860000,'Growth Data'!$A:$Z,9,0))","v":0},{"$f":"IF(EB2=EC2,0,1)","v":0},null,"NO",{"$f":"IF(ISERROR(VLOOKUP($A2+8860000,'Growth Data'!$A:$Z,5,0)),\"NO\",VLOOKUP($A2+8860000,'Growth Data'!$A:$Z,5,0))","v":"NO"},{"$f":"IF(EF2=EG2,0,1)","v":0},null,0,{"$f":"IF(ISERROR(VLOOKUP($A2+8860000,'Growth Data'!$A:$Z,10,0)),0,VLOOKUP($A2+8860000,'Growth Data'!$A:$Z,10,0))","v":0},{"$f":"IF(EJ2=EK2,0,1)","v":0},null,0,{"$f":"IF(ISERROR(VLOOKUP($A2+8860000,'Growth Data'!$A:$Z,11,0)),0,VLOOKUP($A2+8860000,'Growth Data'!$A:$Z,11,0))","v":0},{"$f":"IF(EN2=EO2,0,1)","v":0}]
[2089,"Anthony Roper Primary School, The",null,"Anthony Roper Primary School, The",null,1,null,854446.88,854446.8777087417,2.2912583081051707E-3,null,21049.79,21049.790335526315,-3.3552631430211477E-4,null,1873.81,1873.8107500000021,-7.5000000219915819E-4,null,62654.18,62654.178808593751,1.1914062488358468E-3,null,120084,120083.99999999999,0,null,0,0,0,null,38587.96,38587.955136744153,4.8632558464305475E-3,null,0,0,0,null,6656,6656,0,null,0,0,0,null,0,0,0,null,30053.39,30053.387260394171,2.7396058285376057E-3,null,1135406,1135406,0,null,0,0,0,null,1135406,1135406,0,null,0,null,0,null,3750,null,3750,null,0,null,0,null,85820.7,85820.700337249291,0,null,0,null,0,null,3750,3750,0,null,0,null,0,null,0,null,0,null,0,null,0,null,0,null,0,null,0,null,0,null,"NO",{"$f":"IF(ISERROR(VLOOKUP($A3+8860000,'Growth Data'!$A:$F,3,0)),\"NO\",VLOOKUP($A3+8860000,'Growth Data'!$A:$F,3,0))","v":"NO"},0,null,0,{"$f":"IF(DI3=\"YES\",IF(ISERROR(VLOOKUP($A3+8860000,'Growth Data'!$A:$F,6,0)),0,VLOOKUP($A3+8860000,'Growth Data'!$A:$F,6,0)),0)","v":0},0,null,0,{"$f":"IF(ISERROR(VLOOKUP($A3+8860000,'Growth Data'!$A:$Z,7,0)),0,VLOOKUP($A3+8860000,'Growth Data'!$A:$Z,7,0))","v":0},0,null,"NO",{"$f":"IF(ISERROR(VLOOKUP($A3+8860000,'Growth Data'!$A:$F,4,0)),\"NO\",VLOOKUP($A3+8860000,'Growth Data'!$A:$F,4,0))","v":"NO"},0,null,0,{"$f":"IF(ISERROR(VLOOKUP($A3+8860000,'Growth Data'!$A:$Z,8,0)),0,VLOOKUP($A3+8860000,'Growth Data'!$A:$Z,8,0))","v":0},0,null,0,{"$f":"IF(ISERROR(VLOOKUP($A3+8860000,'Growth Data'!$A:$Z,9,0)),0,VLOOKUP($A3+8860000,'Growth Data'!$A:$Z,9,0))","v":0},0,null,"NO",{"$f":"IF(ISERROR(VLOOKUP($A3+8860000,'Growth Data'!$A:$Z,5,0)),\"NO\",VLOOKUP($A3+8860000,'Growth Data'!$A:$Z,5,0))","v":"NO"},0,null,0,{"$f":"IF(ISERROR(VLOOKUP($A3+8860000,'Growth Data'!$A:$Z,10,0)),0,VLOOKUP($A3+8860000,'Growth Data'!$A:$Z,10,0))","v":0},0,null,0,{"$f":"IF(ISERROR(VLOOKUP($A3+8860000,'Growth Data'!$A:$Z,11,0)),0,VLOOKUP($A3+8860000,'Growth Data'!$A:$Z,11,0))","v":0},0]
[5426,"Archbishop's School, The",null,"Archbishop's School, The",null,1,null,2489231.54,2489231.5448024352,-4.8024351708590984E-3,null,291698.3,291698.29597499972,4.0250002639368176E-3,null,33199.449999999997,33199.454261460072,-4.2614600752131082E-3,null,249165.86,249165.85499446475,5.0055352330673486E-3,null,114480.08,114480.07999999999,0,null,0,0,0,null,0,0,0,null,0,0,0,null,17101,17101,0,null,0,0,0,null,0,0,0,null,0,0,0,null,3194876.23,3194876.2300333595,-3.3359508961439133E-5,null,0,0,0,null,3194876.23,3194876.2300333595,-3.3359508961439133E-5,null,0,null,0,null,5192.03,null,5192.03,null,0,null,0,null,522643.57,522643.56839024468,0,null,0,null,0,null,5386.06,5386.0597119209469,0,null,0,null,0,null,0,null,0,null,0,null,0,null,0,null,0,null,0,null,0,null,"NO",{"$f":"IF(ISERROR(VLOOKUP($A4+8860000,'Growth Data'!$A:$F,3,0)),\"NO\",VLOOKUP($A4+8860000,'Growth Data'!$A:$F,3,0))","v":"NO"},0,null,0,{"$f":"IF(DI4=\"YES\",IF(ISERROR(VLOOKUP($A4+8860000,'Growth Data'!$A:$F,6,0)),0,VLOOKUP($A4+8860000,'Growth Data'!$A:$F,6,0)),0)","v":0},0,null,0,{"$f":"IF(ISERROR(VLOOKUP($A4+8860000,'Growth Data'!$A:$Z,7,0)),0,VLOOKUP($A4+8860000,'Growth Data'!$A:$Z,7,0))","v":0},0,null,"NO",{"$f":"IF(ISERROR(VLOOKUP($A4+8860000,'Growth Data'!$A:$F,4,0)),\"NO\",VLOOKUP($A4+8860000,'Growth Data'!$A:$F,4,0))","v":"NO"},0,null,0,{"$f":"IF(ISERROR(VLOOKUP($A4+8860000,'Growth Data'!$A:$Z,8,0)),0,VLOOKUP($A4+8860000,'Growth Data'!$A:$Z,8,0))","v":0},0,null,0,{"$f":"IF(ISERROR(VLOOKUP($A4+8860000,'Growth Data'!$A:$Z,9,0)),0,VLOOKUP($A4+8860000,'Growth Data'!$A:$Z,9,0))","v":0},0,null,"NO",{"$f":"IF(ISERROR(VLOOKUP($A4+8860000,'Growth Data'!$A:$Z,5,0)),\"NO\",VLOOKUP($A4+8860000,'Growth Data'!$A:$Z,5,0))","v":"NO"},0,null,0,{"$f":"IF(ISERROR(VLOOKUP($A4+8860000,'Growth Data'!$A:$Z,10,0)),0,VLOOKUP($A4+8860000,'Growth Data'!$A:$Z,10,0))","v":0},0,null,0,{"$f":"IF(ISERROR(VLOOKUP($A4+8860000,'Growth Data'!$A:$Z,11,0)),0,VLOOKUP($A4+8860000,'Growth Data'!$A:$Z,11,0))","v":0},0]
[3351,"Ash Cartwright and Kelsey CEP School",null,"Ash Cartwright and Kelsey CEP School",null,1,null,405933.23,405933.23426029918,-4.2602992034517229E-3,null,21724.07,21724.070279784599,-2.7978459911537357E-4,null,1177.82,1177.823900000001,-3.900000001067383E-3,null,41672.31,41672.31427734375,-4.2773437526193447E-3,null,120084,120083.99999999999,0,null,2362.11,2362.1093724966631,6.2750333700023475E-4,null,0,0,0,null,0,0,0,null,6912,6912,0,null,0,0,0,null,0,0,0,null,0,0,0,null,599865.55000000005,599865.55208992423,-2.0899241790175438E-3,null,0,0,0,null,599865.55000000005,599865.55208992423,-2.0899241790175438E-3,null,0,null,0,null,3290.26,null,3290.26,null,0,null,0,null,60001.71,60001.710764136486,0,null,0,null,0,null,4146.53,4146.5283362931777,0,null,0,null,0,null,0,null,0,null,0,null,0,null,0,null,0,null,0,null,0,null,"NO",{"$f":"IF(ISERROR(VLOOKUP($A5+8860000,'Growth Data'!$A:$F,3,0)),\"NO\",VLOOKUP($A5+8860000,'Growth Data'!$A:$F,3,0))","v":"NO"},0,null,0,{"$f":"IF(DI5=\"YES\",IF(ISERROR(VLOOKUP($A5+8860000,'Growth Data'!$A:$F,6,0)),0,VLOOKUP($A5+8860000,'Growth Data'!$A:$F,6,0)),0)","v":0},0,null,0,{"$f":"IF(ISERROR(VLOOKUP($A5+8860000,'Growth Data'!$A:$Z,7,0)),0,VLOOKUP($A5+8860000,'Growth Data'!$A:$Z,7,0))","v":0},0,null,"NO",{"$f":"IF(ISERROR(VLOOKUP($A5+8860000,'Growth Data'!$A:$F,4,0)),\"NO\",VLOOKUP($A5+8860000,'Growth Data'!$A:$F,4,0))","v":"NO"},0,null,0,{"$f":"IF(ISERROR(VLOOKUP($A5+8860000,'Growth Data'!$A:$Z,8,0)),0,VLOOKUP($A5+8860000,'Growth Data'!$A:$Z,8,0))","v":0},0,null,0,{"$f":"IF(ISERROR(VLOOKUP($A5+8860000,'Growth Data'!$A:$Z,9,0)),0,VLOOKUP($A5+8860000,'Growth Data'!$A:$Z,9,0))","v":0},0,null,"NO",{"$f":"IF(ISERROR(VLOOKUP($A5+8860000,'Growth Data'!$A:$Z,5,0)),\"NO\",VLOOKUP($A5+8860000,'Growth Data'!$A:$Z,5,0))","v":"NO"},0,null,0,{"$f":"IF(ISERROR(VLOOKUP($A5+8860000,'Growth Data'!$A:$Z,10,0)),0,VLOOKUP($A5+8860000,'Growth Data'!$A:$Z,10,0))","v":0},0,null,0,{"$f":"IF(ISERROR(VLOOKUP($A5+8860000,'Growth Data'!$A:$Z,11,0)),0,VLOOKUP($A5+8860000,'Growth Data'!$A:$Z,11,0))","v":0},0]
[3909,"Ashford Oaks Community Primary School",null,"Ashford Oaks Community Primary School",null,1,null,1155348.44,1155348.4359716207,4.0283792186528444E-3,null,264475.13,264475.13352608692,-3.5260869190096855E-3,null,23234.02,23234.019007204624,9.9279537607799284E-4,null,169560.11,169560.10905000003,9.4999995781108737E-4,null,120084,120083.99999999999,0,null,0,0,0,null,0,0,0,null,0,0,0,null,69632,69632,0,null,0,0,0,null,0,0,0,null,0,0,0,null,1802333.7,1802333.6975549124,2.4450875353068113E-3,null,0,0,0,null,1802333.7,1802333.6975549124,2.4450875353068113E-3,null,0,null,0,null,3962.21,null,3962.21,null,0.54,null,0.54,null,388301.72,388301.71889029979,0,null,0,null,0,null,4257.25,4257.2523281447493,0,null,0,null,0,null,0,null,0,null,0,null,0,null,0,null,0,null,0,null,0,null,"NO",{"$f":"IF(ISERROR(VLOOKUP($A6+8860000,'Growth Data'!$A:$F,3,0)),\"NO\",VLOOKUP($A6+8860000,'Growth Data'!$A:$F,3,0))","v":"NO"},0,null,0,{"$f":"IF(DI6=\"YES\",IF(ISERROR(VLOOKUP($A6+8860000,'Growth Data'!$A:$F,6,0)),0,VLOOKUP($A6+8860000,'Growth Data'!$A:$F,6,0)),0)","v":0},0,null,0,{"$f":"IF(ISERROR(VLOOKUP($A6+8860000,'Growth Data'!$A:$Z,7,0)),0,VLOOKUP($A6+8860000,'Growth Data'!$A:$Z,7,0))","v":0},0,null,"NO",{"$f":"IF(ISERROR(VLOOKUP($A6+8860000,'Growth Data'!$A:$F,4,0)),\"NO\",VLOOKUP($A6+8860000,'Growth Data'!$A:$F,4,0))","v":"NO"},0,null,0,{"$f":"IF(ISERROR(VLOOKUP($A6+8860000,'Growth Data'!$A:$Z,8,0)),0,VLOOKUP($A6+8860000,'Growth Data'!$A:$Z,8,0))","v":0},0,null,0,{"$f":"IF(ISERROR(VLOOKUP($A6+8860000,'Growth Data'!$A:$Z,9,0)),0,VLOOKUP($A6+8860000,'Growth Data'!$A:$Z,9,0))","v":0},0,null,"NO",{"$f":"IF(ISERROR(VLOOKUP($A6+8860000,'Growth Data'!$A:$Z,5,0)),\"NO\",VLOOKUP($A6+8860000,'Growth Data'!$A:$Z,5,0))","v":"NO"},0,null,0,{"$f":"IF(ISERROR(VLOOKUP($A6+8860000,'Growth Data'!$A:$Z,10,0)),0,VLOOKUP($A6+8860000,'Growth Data'!$A:$Z,10,0))","v":0},0,null,0,{"$f":"IF(ISERROR(VLOOKUP($A6+8860000,'Growth Data'!$A:$Z,11,0)),0,VLOOKUP($A6+8860000,'Growth Data'!$A:$Z,11,0))","v":0},0]
[2454,"Aycliffe Community Primary School",null,"Aycliffe Community Primary School",null,1,null,292385.48,292385.47642525047,3.5747495130635798E-3,null,75081.960000000006,75081.960494766623,-4.9476661661174148E-4,null,2506.5300000000002,2506.5260681818204,3.9318181798080332E-3,null,30633.99,30633.98693023251,3.0697674919792917E-3,null,120084,120083.99999999999,0,null,0,0,0,null,0,0,0,null,0,0,0,null,22829,22829,0,null,0,0,0,null,0,0,0,null,0,0,0,null,543520.94999999995,543520.94991843146,8.1568490713834763E-5,null,0,0,0,null,543520.94999999995,543520.94991843146,8.1568490713834763E-5,null,0,null,0,null,3889.4,null,3889.4,null,0,null,0,null,95093.99,95093.990800189102,0,null,0,null,0,null,5055.26,5055.2616496935107,0,null,0,null,0,null,0,null,0,null,0,null,0,null,0,null,0,null,0,null,0,null,"NO",{"$f":"IF(ISERROR(VLOOKUP($A7+8860000,'Growth Data'!$A:$F,3,0)),\"NO\",VLOOKUP($A7+8860000,'Growth Data'!$A:$F,3,0))","v":"NO"},0,null,0,{"$f":"IF(DI7=\"YES\",IF(ISERROR(VLOOKUP($A7+8860000,'Growth Data'!$A:$F,6,0)),0,VLOOKUP($A7+8860000,'Growth Data'!$A:$F,6,0)),0)","v":0},0,null,0,{"$f":"IF(ISERROR(VLOOKUP($A7+8860000,'Growth Data'!$A:$Z,7,0)),0,VLOOKUP($A7+8860000,'Growth Data'!$A:$Z,7,0))","v":0},0,null,"NO",{"$f":"IF(ISERROR(VLOOKUP($A7+8860000,'Growth Data'!$A:$F,4,0)),\"NO\",VLOOKUP($A7+8860000,'Growth Data'!$A:$F,4,0))","v":"NO"},0,null,0,{"$f":"IF(ISERROR(VLOOKUP($A7+8860000,'Growth Data'!$A:$Z,8,0)),0,VLOOKUP($A7+8860000,'Growth Data'!$A:$Z,8,0))","v":0},0,null,0,{"$f":"IF(ISERROR(VLOOKUP($A7+8860000,'Growth Data'!$A:$Z,9,0)),0,VLOOKUP($A7+8860000,'Growth Data'!$A:$Z,9,0))","v":0},0,null,"NO",{"$f":"IF(ISERROR(VLOOKUP($A7+8860000,'Growth Data'!$A:$Z,5,0)),\"NO\",VLOOKUP($A7+8860000,'Growth Data'!$A:$Z,5,0))","v":"NO"},0,null,0,{"$f":"IF(ISERROR(VLOOKUP($A7+8860000,'Growth Data'!$A:$Z,10,0)),0,VLOOKUP($A7+8860000,'Growth Data'!$A:$Z,10,0))","v":0},0,null,0,{"$f":"IF(ISERROR(VLOOKUP($A7+8860000,'Growth Data'!$A:$Z,11,0)),0,VLOOKUP($A7+8860000,'Growth Data'!$A:$Z,11,0))","v":0},0]
[5410,"Aylesford School - Sports College",null,"Aylesford School - Sports College",null,1,null,2760597.57,2760597.5706064012,-6.0640135779976845E-4,null,259109.42,259109.41582692528,4.1730747325345874E-3,null,14543.3,14543.301078582474,-1.0785824742924888E-3,null,284951.34999999998,284951.35326933587,-3.2693358953110874E-3,null,114480.08,114480.07999999999,0,null,0,0,0,null,0,0,0,null,0,0,0,null,37888,37888,0,null,930120.9,930120.90057518845,-5.7518843095749617E-4,null,0,0,0,null,0,0,0,null,4401690.62,4401690.6213564333,-1.3564331457018852E-3,null,0,0,0,null,4401690.62,4401690.6213564333,-1.3564331457018852E-3,null,0,null,0,null,5067.4799999999996,null,5067.4799999999996,null,0,null,0,null,508985.29,508985.29333416367,0,null,0,null,0,null,5242.26,5242.262169131669,0,null,0,null,0,null,0,null,0,null,0,null,0,null,0,null,0,null,0,null,0,null,"NO",{"$f":"IF(ISERROR(VLOOKUP($A8+8860000,'Growth Data'!$A:$F,3,0)),\"NO\",VLOOKUP($A8+8860000,'Growth Data'!$A:$F,3,0))","v":"NO"},0,null,0,{"$f":"IF(DI8=\"YES\",IF(ISERROR(VLOOKUP($A8+8860000,'Growth Data'!$A:$F,6,0)),0,VLOOKUP($A8+8860000,'Growth Data'!$A:$F,6,0)),0)","v":0},0,null,0,{"$f":"IF(ISERROR(VLOOKUP($A8+8860000,'Growth Data'!$A:$Z,7,0)),0,VLOOKUP($A8+8860000,'Growth Data'!$A:$Z,7,0))","v":0},0,null,"NO",{"$f":"IF(ISERROR(VLOOKUP($A8+8860000,'Growth Data'!$A:$F,4,0)),\"NO\",VLOOKUP($A8+8860000,'Growth Data'!$A:$F,4,0))","v":"NO"},0,null,0,{"$f":"IF(ISERROR(VLOOKUP($A8+8860000,'Growth Data'!$A:$Z,8,0)),0,VLOOKUP($A8+8860000,'Growth Data'!$A:$Z,8,0))","v":0},0,null,0,{"$f":"IF(ISERROR(VLOOKUP($A8+8860000,'Growth Data'!$A:$Z,9,0)),0,VLOOKUP($A8+8860000,'Growth Data'!$A:$Z,9,0))","v":0},0,null,"NO",{"$f":"IF(ISERROR(VLOOKUP($A8+8860000,'Growth Data'!$A:$Z,5,0)),\"NO\",VLOOKUP($A8+8860000,'Growth Data'!$A:$Z,5,0))","v":"NO"},0,null,0,{"$f":"IF(ISERROR(VLOOKUP($A8+8860000,'Growth Data'!$A:$Z,10,0)),0,VLOOKUP($A8+8860000,'Growth Data'!$A:$Z,10,0))","v":0},0,null,0,{"$f":"IF(ISERROR(VLOOKUP($A8+8860000,'Growth Data'!$A:$Z,11,0)),0,VLOOKUP($A8+8860000,'Growth Data'!$A:$Z,11,0))","v":0},0]
[2648,"Aylesham Primary School",null,"Aylesham Primary School",null,1,null,928252.92,928252.92030152329,-3.0152325052767992E-4,null,165526.79,165526.7877000001,2.2999999055173248E-3,null,8099.21,8099.2064039145844,3.5960854156655842E-3,null,83897.85,83897.854083333426,-4.0833334205672145E-3,null,120084,120083.99999999999,0,null,0,0,0,null,0,0,0,null,0,0,0,null,27136,27136,0,null,0,0,0,null,0,0,0,null,0,0,0,null,1332996.77,1332996.7684887713,1.5112287364900112E-3,null,0,0,0,null,1332996.77,1332996.7684887713,1.5112287364900112E-3,null,0,null,0,null,3626.23,null,3626.23,null,0,null,0,null,221879.62,221879.6154942562,0,null,0,null,0,null,3993.46,3993.4580076109237,0,null,0,null,0,null,0,null,0,null,0,null,0,null,0,null,0,null,0,null,0,null,"NO",{"$f":"IF(ISERROR(VLOOKUP($A9+8860000,'Growth Data'!$A:$F,3,0)),\"NO\",VLOOKUP($A9+8860000,'Growth Data'!$A:$F,3,0))","v":"NO"},0,null,0,{"$f":"IF(DI9=\"YES\",IF(ISERROR(VLOOKUP($A9+8860000,'Growth Data'!$A:$F,6,0)),0,VLOOKUP($A9+8860000,'Growth Data'!$A:$F,6,0)),0)","v":0},0,null,0,{"$f":"IF(ISERROR(VLOOKUP($A9+8860000,'Growth Data'!$A:$Z,7,0)),0,VLOOKUP($A9+8860000,'Growth Data'!$A:$Z,7,0))","v":0},0,null,"NO",{"$f":"IF(ISERROR(VLOOKUP($A9+8860000,'Growth Data'!$A:$F,4,0)),\"NO\",VLOOKUP($A9+8860000,'Growth Data'!$A:$F,4,0))","v":"NO"},0,null,0,{"$f":"IF(ISERROR(VLOOKUP($A9+8860000,'Growth Data'!$A:$Z,8,0)),0,VLOOKUP($A9+8860000,'Growth Data'!$A:$Z,8,0))","v":0},0,null,0,{"$f":"IF(ISERROR(VLOOKUP($A9+8860000,'Growth Data'!$A:$Z,9,0)),0,VLOOKUP($A9+8860000,'Growth Data'!$A:$Z,9,0))","v":0},0,null,"NO",{"$f":"IF(ISERROR(VLOOKUP($A9+8860000,'Growth Data'!$A:$Z,5,0)),\"NO\",VLOOKUP($A9+8860000,'Growth Data'!$A:$Z,5,0))","v":"NO"},0,null,0,{"$f":"IF(ISERROR(VLOOKUP($A9+8860000,'Growth Data'!$A:$Z,10,0)),0,VLOOKUP($A9+8860000,'Growth Data'!$A:$Z,10,0))","v":0},0,null,0,{"$f":"IF(ISERROR(VLOOKUP($A9+8860000,'Growth Data'!$A:$Z,11,0)),0,VLOOKUP($A9+8860000,'Growth Data'!$A:$Z,11,0))","v":0},0]
[3328,"Bapchild & Tonge CEP School",null,"Bapchild & Tonge CEP School",null,1,null,581932.26,581932.25890462473,1.0953752789646387E-3,null,47849.23,47849.233749878666,-3.7498786623473279E-3,null,4365.13,4365.1273153409129,2.6846590872082743E-3,null,47272.98,47272.980219298253,-2.1929825015831739E-4,null,120084,120083.99999999999,0,null,0,0,0,null,0,0,0,null,0,0,0,null,3507,3507,0,null,0,0,0,null,0,0,0,null,0,0,0,null,805010.6,805010.60018914263,-1.8914265092462301E-4,null,0,0,0,null,805010.6,805010.60018914263,-1.8914265092462301E-4,null,0,null,0,null,3324,null,3324,null,0,null,0,null,94914.84,94914.84359152602,0,null,0,null,0,null,3909.77,3909.7736594592334,0,null,0,null,0,null,0,null,0,null,0,null,0,null,0,null,0,null,0,null,0,null,"NO",{"$f":"IF(ISERROR(VLOOKUP($A10+8860000,'Growth Data'!$A:$F,3,0)),\"NO\",VLOOKUP($A10+8860000,'Growth Data'!$A:$F,3,0))","v":"NO"},0,null,0,{"$f":"IF(DI10=\"YES\",IF(ISERROR(VLOOKUP($A10+8860000,'Growth Data'!$A:$F,6,0)),0,VLOOKUP($A10+8860000,'Growth Data'!$A:$F,6,0)),0)","v":0},0,null,0,{"$f":"IF(ISERROR(VLOOKUP($A10+8860000,'Growth Data'!$A:$Z,7,0)),0,VLOOKUP($A10+8860000,'Growth Data'!$A:$Z,7,0))","v":0},0,null,"NO",{"$f":"IF(ISERROR(VLOOKUP($A10+8860000,'Growth Data'!$A:$F,4,0)),\"NO\",VLOOKUP($A10+8860000,'Growth Data'!$A:$F,4,0))","v":"NO"},0,null,0,{"$f":"IF(ISERROR(VLOOKUP($A10+8860000,'Growth Data'!$A:$Z,8,0)),0,VLOOKUP($A10+8860000,'Growth Data'!$A:$Z,8,0))","v":0},0,null,0,{"$f":"IF(ISERROR(VLOOKUP($A10+8860000,'Growth Data'!$A:$Z,9,0)),0,VLOOKUP($A10+8860000,'Growth Data'!$A:$Z,9,0))","v":0},0,null,"NO",{"$f":"IF(ISERROR(VLOOKUP($A10+8860000,'Growth Data'!$A:$Z,5,0)),\"NO\",VLOOKUP($A10+8860000,'Growth Data'!$A:$Z,5,0))","v":"NO"},0,null,0,{"$f":"IF(ISERROR(VLOOKUP($A10+8860000,'Growth Data'!$A:$Z,10,0)),0,VLOOKUP($A10+8860000,'Growth Data'!$A:$Z,10,0))","v":0},0,null,0,{"$f":"IF(ISERROR(VLOOKUP($A10+8860000,'Growth Data'!$A:$Z,11,0)),0,VLOOKUP($A10+8860000,'Growth Data'!$A:$Z,11,0))","v":0},0]
[3120,"Barham CEP School",null,"Barham CEP School",null,1,null,587609.65,587609.64679637714,3.2036228803917766E-3,null,17038.79,17038.79259805824,-2.5980582395277452E-3,null,8139.51,8139.5072288135561,2.7711864440789213E-3,null,42861.24,42861.23902285708,9.7714291769079864E-4,null,120084,120083.99999999999,0,null,0,0,0,null,0,0,0,null,0,0,0,null,28672,28672,0,null,0,0,0,null,0,0,0,null,516.80999999999995,516.81435389397666,-4.3538939767131524E-3,null,804922,804922,0,null,0,0,0,null,804922,804922,0,null,0,null,0,null,3750,null,3750,null,0,null,0,null,71122.399999999994,71122.396156737028,0,null,0,null,0,null,3750,3750,0,null,0,null,0,null,0,null,0,null,0,null,0,null,0,null,0,null,0,null,0,null,"NO",{"$f":"IF(ISERROR(VLOOKUP($A11+8860000,'Growth Data'!$A:$F,3,0)),\"NO\",VLOOKUP($A11+8860000,'Growth Data'!$A:$F,3,0))","v":"NO"},0,null,0,{"$f":"IF(DI11=\"YES\",IF(ISERROR(VLOOKUP($A11+8860000,'Growth Data'!$A:$F,6,0)),0,VLOOKUP($A11+8860000,'Growth Data'!$A:$F,6,0)),0)","v":0},0,null,0,{"$f":"IF(ISERROR(VLOOKUP($A11+8860000,'Growth Data'!$A:$Z,7,0)),0,VLOOKUP($A11+8860000,'Growth Data'!$A:$Z,7,0))","v":0},0,null,"NO",{"$f":"IF(ISERROR(VLOOKUP($A11+8860000,'Growth Data'!$A:$F,4,0)),\"NO\",VLOOKUP($A11+8860000,'Growth Data'!$A:$F,4,0))","v":"NO"},0,null,0,{"$f":"IF(ISERROR(VLOOKUP($A11+8860000,'Growth Data'!$A:$Z,8,0)),0,VLOOKUP($A11+8860000,'Growth Data'!$A:$Z,8,0))","v":0},0,null,0,{"$f":"IF(ISERROR(VLOOKUP($A11+8860000,'Growth Data'!$A:$Z,9,0)),0,VLOOKUP($A11+8860000,'Growth Data'!$A:$Z,9,0))","v":0},0,null,"NO",{"$f":"IF(ISERROR(VLOOKUP($A11+8860000,'Growth Data'!$A:$Z,5,0)),\"NO\",VLOOKUP($A11+8860000,'Growth Data'!$A:$Z,5,0))","v":"NO"},0,null,0,{"$f":"IF(ISERROR(VLOOKUP($A11+8860000,'Growth Data'!$A:$Z,10,0)),0,VLOOKUP($A11+8860000,'Growth Data'!$A:$Z,10,0))","v":0},0,null,0,{"$f":"IF(ISERROR(VLOOKUP($A11+8860000,'Growth Data'!$A:$Z,11,0)),0,VLOOKUP($A11+8860000,'Growth Data'!$A:$Z,11,0))","v":0},0]
[2120,"Bean Primary School",null,"Bean Primary School",null,1,null,573416.18000000005,573416.17706699611,2.9330039396882057E-3,null,53003.81,53003.810703940915,-7.039409174467437E-4,null,7209.71,7209.7099333333363,6.6666663769865409E-5,null,58826.67,58826.673122092943,-3.1220929449773394E-3,null,120084,120083.99999999999,0,null,0,0,0,null,29576.47,29576.469498079616,5.0192038543173112E-4,null,0,0,0,null,16093,16093,0,null,0,0,0,null,0,0,0,null,0,0,0,null,858209.84,858209.84032444295,-3.2444298267364502E-4,null,0,0,0,null,858209.84,858209.84032444295,-3.2444298267364502E-4,null,0,null,0,null,3552.78,null,3552.78,null,0,null,0,null,116300.79,116300.78787319137,0,null,0,null,0,null,4168.8999999999996,4168.8952491309074,0,null,0,null,0,null,0,null,0,null,0,null,0,null,0,null,0,null,0,null,0,null,"NO",{"$f":"IF(ISERROR(VLOOKUP($A12+8860000,'Growth Data'!$A:$F,3,0)),\"NO\",VLOOKUP($A12+8860000,'Growth Data'!$A:$F,3,0))","v":"NO"},0,null,0,{"$f":"IF(DI12=\"YES\",IF(ISERROR(VLOOKUP($A12+8860000,'Growth Data'!$A:$F,6,0)),0,VLOOKUP($A12+8860000,'Growth Data'!$A:$F,6,0)),0)","v":0},0,null,0,{"$f":"IF(ISERROR(VLOOKUP($A12+8860000,'Growth Data'!$A:$Z,7,0)),0,VLOOKUP($A12+8860000,'Growth Data'!$A:$Z,7,0))","v":0},0,null,"NO",{"$f":"IF(ISERROR(VLOOKUP($A12+8860000,'Growth Data'!$A:$F,4,0)),\"NO\",VLOOKUP($A12+8860000,'Growth Data'!$A:$F,4,0))","v":"NO"},0,null,0,{"$f":"IF(ISERROR(VLOOKUP($A12+8860000,'Growth Data'!$A:$Z,8,0)),0,VLOOKUP($A12+8860000,'Growth Data'!$A:$Z,8,0))","v":0},0,null,0,{"$f":"IF(ISERROR(VLOOKUP($A12+8860000,'Growth Data'!$A:$Z,9,0)),0,VLOOKUP($A12+8860000,'Growth Data'!$A:$Z,9,0))","v":0},0,null,"NO",{"$f":"IF(ISERROR(VLOOKUP($A12+8860000,'Growth Data'!$A:$Z,5,0)),\"NO\",VLOOKUP($A12+8860000,'Growth Data'!$A:$Z,5,0))","v":"NO"},0,null,0,{"$f":"IF(ISERROR(VLOOKUP($A12+8860000,'Growth Data'!$A:$Z,10,0)),0,VLOOKUP($A12+8860000,'Growth Data'!$A:$Z,10,0))","v":0},0,null,0,{"$f":"IF(ISERROR(VLOOKUP($A12+8860000,'Growth Data'!$A:$Z,11,0)),0,VLOOKUP($A12+8860000,'Growth Data'!$A:$Z,11,0))","v":0},0]
[3022,"Benenden CEP School",null,"Benenden CEP School",null,1,null,579093.56999999995,579093.56495874852,5.0412514247000217E-3,null,19425.73,19425.72711089109,2.8891089095850475E-3,null,0,0,0,null,45026.17,45026.170828402297,-8.2840229879366234E-4,null,120084,120083.99999999999,0,null,0,0,0,null,0,0,0,null,0,0,0,null,6986,6986,0,null,0,0,0,null,15101,15101,0,null,1370.54,1370.5371019580634,2.8980419365325361E-3,null,787087,787087,0,null,0,0,0,null,787087,787087,0,null,0,null,0,null,3824.02,null,3824.02,null,0,null,0,null,62130.98,62130.975246301532,0,null,0,null,0,null,3750,3750,0,null,0,null,0,null,0,null,0,null,0,null,0,null,0,null,0,null,0,null,0,null,"NO",{"$f":"IF(ISERROR(VLOOKUP($A13+8860000,'Growth Data'!$A:$F,3,0)),\"NO\",VLOOKUP($A13+8860000,'Growth Data'!$A:$F,3,0))","v":"NO"},0,null,0,{"$f":"IF(DI13=\"YES\",IF(ISERROR(VLOOKUP($A13+8860000,'Growth Data'!$A:$F,6,0)),0,VLOOKUP($A13+8860000,'Growth Data'!$A:$F,6,0)),0)","v":0},0,null,0,{"$f":"IF(ISERROR(VLOOKUP($A13+8860000,'Growth Data'!$A:$Z,7,0)),0,VLOOKUP($A13+8860000,'Growth Data'!$A:$Z,7,0))","v":0},0,null,"NO",{"$f":"IF(ISERROR(VLOOKUP($A13+8860000,'Growth Data'!$A:$F,4,0)),\"NO\",VLOOKUP($A13+8860000,'Growth Data'!$A:$F,4,0))","v":"NO"},0,null,0,{"$f":"IF(ISERROR(VLOOKUP($A13+8860000,'Growth Data'!$A:$Z,8,0)),0,VLOOKUP($A13+8860000,'Growth Data'!$A:$Z,8,0))","v":0},0,null,0,{"$f":"IF(ISERROR(VLOOKUP($A13+8860000,'Growth Data'!$A:$Z,9,0)),0,VLOOKUP($A13+8860000,'Growth Data'!$A:$Z,9,0))","v":0},0,null,"NO",{"$f":"IF(ISERROR(VLOOKUP($A13+8860000,'Growth Data'!$A:$Z,5,0)),\"NO\",VLOOKUP($A13+8860000,'Growth Data'!$A:$Z,5,0))","v":"NO"},0,null,0,{"$f":"IF(ISERROR(VLOOKUP($A13+8860000,'Growth Data'!$A:$Z,10,0)),0,VLOOKUP($A13+8860000,'Growth Data'!$A:$Z,10,0))","v":0},0,null,0,{"$f":"IF(ISERROR(VLOOKUP($A13+8860000,'Growth Data'!$A:$Z,11,0)),0,VLOOKUP($A13+8860000,'Growth Data'!$A:$Z,11,0))","v":0},0]
[2278,"Bethersden Primary School",null,"Bethersden Primary School",null,1,null,329288.5,329288.49772164132,2.2783586755394936E-3,null,22684.34,22684.33789246597,2.1075340300740208E-3,null,580.41,580.40599999999972,4.0000000002464731E-3,null,25658.33,25658.325622641536,4.3773584657174069E-3,null,120084,120083.99999999999,0,null,11741.07,11741.073057409874,-3.0574098746001255E-3,null,0,0,0,null,0,0,0,null,10978,10978,0,null,0,0,0,null,0,0,0,null,0,0,0,null,521014.64,521014.64029415877,-2.9415875906124711E-4,null,0,0,0,null,521014.64,521014.64029415877,-2.9415875906124711E-4,null,0,null,0,null,3260.44,null,3260.44,null,0,null,0,null,45251.199999999997,45251.201822115661,0,null,1474.88,null,1475,null,4396.87,4396.8675887427489,0,null,0,null,0,null,0,null,0,null,0,null,0,null,0,null,0,null,0,null,0,null,"NO",{"$f":"IF(ISERROR(VLOOKUP($A14+8860000,'Growth Data'!$A:$F,3,0)),\"NO\",VLOOKUP($A14+8860000,'Growth Data'!$A:$F,3,0))","v":"NO"},0,null,0,{"$f":"IF(DI14=\"YES\",IF(ISERROR(VLOOKUP($A14+8860000,'Growth Data'!$A:$F,6,0)),0,VLOOKUP($A14+8860000,'Growth Data'!$A:$F,6,0)),0)","v":0},0,null,0,{"$f":"IF(ISERROR(VLOOKUP($A14+8860000,'Growth Data'!$A:$Z,7,0)),0,VLOOKUP($A14+8860000,'Growth Data'!$A:$Z,7,0))","v":0},0,null,"NO",{"$f":"IF(ISERROR(VLOOKUP($A14+8860000,'Growth Data'!$A:$F,4,0)),\"NO\",VLOOKUP($A14+8860000,'Growth Data'!$A:$F,4,0))","v":"NO"},0,null,0,{"$f":"IF(ISERROR(VLOOKUP($A14+8860000,'Growth Data'!$A:$Z,8,0)),0,VLOOKUP($A14+8860000,'Growth Data'!$A:$Z,8,0))","v":0},0,null,0,{"$f":"IF(ISERROR(VLOOKUP($A14+8860000,'Growth Data'!$A:$Z,9,0)),0,VLOOKUP($A14+8860000,'Growth Data'!$A:$Z,9,0))","v":0},0,null,"NO",{"$f":"IF(ISERROR(VLOOKUP($A14+8860000,'Growth Data'!$A:$Z,5,0)),\"NO\",VLOOKUP($A14+8860000,'Growth Data'!$A:$Z,5,0))","v":"NO"},0,null,0,{"$f":"IF(ISERROR(VLOOKUP($A14+8860000,'Growth Data'!$A:$Z,10,0)),0,VLOOKUP($A14+8860000,'Growth Data'!$A:$Z,10,0))","v":0},0,null,0,{"$f":"IF(ISERROR(VLOOKUP($A14+8860000,'Growth Data'!$A:$Z,11,0)),0,VLOOKUP($A14+8860000,'Growth Data'!$A:$Z,11,0))","v":0},0]
[3023,"Bidborough CEP School",null,"Bidborough CEP School",null,1,null,576254.87,576254.87101287232,-1.0128723224624991E-3,null,10795.55,10795.551599999992,-1.5999999923224095E-3,null,6282.14,6282.1400867052034,-8.670520310261054E-5,null,55745.68,55745.68179754608,-1.797546079615131E-3,null,120084,120083.99999999999,0,null,0,0,0,null,0,0,0,null,0,0,0,null,14970,14970,0,null,0,0,0,null,0,0,0,null,0,0,0,null,784132.24,784132.24449712364,-4.4971236493438482E-3,null,0,0,0,null,784132.24,784132.24449712364,-4.4971236493438482E-3,null,0,null,0,null,3197.43,null,3197.43,null,0,null,0,null,73654.66,73654.655791259429,0,null,0,null,0,null,3788.98,3788.9765738774581,0,null,0,null,0,null,0,null,0,null,0,null,0,null,0,null,0,null,0,null,0,null,"NO",{"$f":"IF(ISERROR(VLOOKUP($A15+8860000,'Growth Data'!$A:$F,3,0)),\"NO\",VLOOKUP($A15+8860000,'Growth Data'!$A:$F,3,0))","v":"NO"},0,null,0,{"$f":"IF(DI15=\"YES\",IF(ISERROR(VLOOKUP($A15+8860000,'Growth Data'!$A:$F,6,0)),0,VLOOKUP($A15+8860000,'Growth Data'!$A:$F,6,0)),0)","v":0},0,null,0,{"$f":"IF(ISERROR(VLOOKUP($A15+8860000,'Growth Data'!$A:$Z,7,0)),0,VLOOKUP($A15+8860000,'Growth Data'!$A:$Z,7,0))","v":0},0,null,"NO",{"$f":"IF(ISERROR(VLOOKUP($A15+8860000,'Growth Data'!$A:$F,4,0)),\"NO\",VLOOKUP($A15+8860000,'Growth Data'!$A:$F,4,0))","v":"NO"},0,null,0,{"$f":"IF(ISERROR(VLOOKUP($A15+8860000,'Growth Data'!$A:$Z,8,0)),0,VLOOKUP($A15+8860000,'Growth Data'!$A:$Z,8,0))","v":0},0,null,0,{"$f":"IF(ISERROR(VLOOKUP($A15+8860000,'Growth Data'!$A:$Z,9,0)),0,VLOOKUP($A15+8860000,'Growth Data'!$A:$Z,9,0))","v":0},0,null,"NO",{"$f":"IF(ISERROR(VLOOKUP($A15+8860000,'Growth Data'!$A:$Z,5,0)),\"NO\",VLOOKUP($A15+8860000,'Growth Data'!$A:$Z,5,0))","v":"NO"},0,null,0,{"$f":"IF(ISERROR(VLOOKUP($A15+8860000,'Growth Data'!$A:$Z,10,0)),0,VLOOKUP($A15+8860000,'Growth Data'!$A:$Z,10,0))","v":0},0,null,0,{"$f":"IF(ISERROR(VLOOKUP($A15+8860000,'Growth Data'!$A:$Z,11,0)),0,VLOOKUP($A15+8860000,'Growth Data'!$A:$Z,11,0))","v":0},0]
[3178,"Birchington CEP School",null,"Birchington CEP School",null,1,null,1354057.01,1354057.0121829561,-2.1829560864716768E-3,null,107847.17,107847.1680712744,1.9287256000097841E-3,null,7005.26,7005.2618491271714,-1.8491271712264279E-3,null,136767.07,136767.06591624371,4.0837562992237508E-3,null,120084,120083.99999999999,0,null,0,0,0,null,0,0,0,null,0,0,0,null,67072,67072,0,null,0,0,0,null,0,0,0,null,62989.49,62989.491980398539,-1.980398541491013E-3,null,1855822,1855822,0,null,0,0,0,null,1855822,1855822,0,null,0,null,0,null,3750,null,3750,null,0,null,0,null,229935.03,229935.02814365341,0,null,0,null,0,null,3750,3750,0,null,0,null,0,null,0,null,0,null,0,null,0,null,0,null,0,null,0,null,0,null,"NO",{"$f":"IF(ISERROR(VLOOKUP($A16+8860000,'Growth Data'!$A:$F,3,0)),\"NO\",VLOOKUP($A16+8860000,'Growth Data'!$A:$F,3,0))","v":"YES"},1,null,0,{"$f":"IF(DI16=\"YES\",IF(ISERROR(VLOOKUP($A16+8860000,'Growth Data'!$A:$F,6,0)),0,VLOOKUP($A16+8860000,'Growth Data'!$A:$F,6,0)),0)","v":61},-61,null,0,{"$f":"IF(ISERROR(VLOOKUP($A16+8860000,'Growth Data'!$A:$Z,7,0)),0,VLOOKUP($A16+8860000,'Growth Data'!$A:$Z,7,0))","v":90},1,null,"NO",{"$f":"IF(ISERROR(VLOOKUP($A16+8860000,'Growth Data'!$A:$F,4,0)),\"NO\",VLOOKUP($A16+8860000,'Growth Data'!$A:$F,4,0))","v":"YES"},1,null,0,{"$f":"IF(ISERROR(VLOOKUP($A16+8860000,'Growth Data'!$A:$Z,8,0)),0,VLOOKUP($A16+8860000,'Growth Data'!$A:$Z,8,0))","v":60},1,null,0,{"$f":"IF(ISERROR(VLOOKUP($A16+8860000,'Growth Data'!$A:$Z,9,0)),0,VLOOKUP($A16+8860000,'Growth Data'!$A:$Z,9,0))","v":90},1,null,"NO",{"$f":"IF(ISERROR(VLOOKUP($A16+8860000,'Growth Data'!$A:$Z,5,0)),\"NO\",VLOOKUP($A16+8860000,'Growth Data'!$A:$Z,5,0))","v":"YES"},1,null,0,{"$f":"IF(ISERROR(VLOOKUP($A16+8860000,'Growth Data'!$A:$Z,10,0)),0,VLOOKUP($A16+8860000,'Growth Data'!$A:$Z,10,0))","v":60},1,null,0,{"$f":"IF(ISERROR(VLOOKUP($A16+8860000,'Growth Data'!$A:$Z,11,0)),0,VLOOKUP($A16+8860000,'Growth Data'!$A:$Z,11,0))","v":90},1]
[2490,"Bishops Down Primary School",null,"Bishops Down Primary School",null,1,null,667093.07999999996,667093.07728091127,2.7190886903554201E-3,null,32935.82,32935.820998717922,-9.9871792190242559E-4,null,5523.5,5523.4978902438961,2.1097561038914137E-3,null,51906.78,51906.775647668466,4.3523315325728618E-3,null,120084,120083.99999999999,0,null,0,0,0,null,0,0,0,null,0,0,0,null,31232,31232,0,null,0,0,0,null,0,0,0,null,3706.83,3706.8281824584119,1.8175415880250512E-3,null,912482,912482,0,null,0,0,0,null,912482,912482,0,null,0,null,0,null,3750,null,3750,null,0,null,0,null,85343.28,85343.28184363847,0,null,0,null,0,null,3750,3750,0,null,0,null,0,null,0,null,0,null,0,null,0,null,0,null,0,null,0,null,0,null,"NO",{"$f":"IF(ISERROR(VLOOKUP($A17+8860000,'Growth Data'!$A:$F,3,0)),\"NO\",VLOOKUP($A17+8860000,'Growth Data'!$A:$F,3,0))","v":"NO"},0,null,0,{"$f":"IF(DI17=\"YES\",IF(ISERROR(VLOOKUP($A17+8860000,'Growth Data'!$A:$F,6,0)),0,VLOOKUP($A17+8860000,'Growth Data'!$A:$F,6,0)),0)","v":0},0,null,0,{"$f":"IF(ISERROR(VLOOKUP($A17+8860000,'Growth Data'!$A:$Z,7,0)),0,VLOOKUP($A17+8860000,'Growth Data'!$A:$Z,7,0))","v":0},0,null,"NO",{"$f":"IF(ISERROR(VLOOKUP($A17+8860000,'Growth Data'!$A:$F,4,0)),\"NO\",VLOOKUP($A17+8860000,'Growth Data'!$A:$F,4,0))","v":"NO"},0,null,0,{"$f":"IF(ISERROR(VLOOKUP($A17+8860000,'Growth Data'!$A:$Z,8,0)),0,VLOOKUP($A17+8860000,'Growth Data'!$A:$Z,8,0))","v":0},0,null,0,{"$f":"IF(ISERROR(VLOOKUP($A17+8860000,'Growth Data'!$A:$Z,9,0)),0,VLOOKUP($A17+8860000,'Growth Data'!$A:$Z,9,0))","v":0},0,null,"NO",{"$f":"IF(ISERROR(VLOOKUP($A17+8860000,'Growth Data'!$A:$Z,5,0)),\"NO\",VLOOKUP($A17+8860000,'Growth Data'!$A:$Z,5,0))","v":"NO"},0,null,0,{"$f":"IF(ISERROR(VLOOKUP($A17+8860000,'Growth Data'!$A:$Z,10,0)),0,VLOOKUP($A17+8860000,'Growth Data'!$A:$Z,10,0))","v":0},0,null,0,{"$f":"IF(ISERROR(VLOOKUP($A17+8860000,'Growth Data'!$A:$Z,11,0)),0,VLOOKUP($A17+8860000,'Growth Data'!$A:$Z,11,0))","v":0},0]
[2258,"Blean Primary School",null,"Blean Primary School",null,1,null,1226315.78,1226315.7846185262,-4.6185262035578489E-3,null,50825.37,50825.374220649654,-4.220649650960695E-3,null,37303.51,37303.513548387054,-3.5483870524330996E-3,null,73304.240000000005,73304.237966480418,2.0335195877123624E-3,null,120084,120083.99999999999,0,null,0,0,0,null,0,0,0,null,0,0,0,null,37632,37632,0,null,0,0,0,null,0,0,0,null,112167.09,112167.08964595664,3.5404335358180106E-4,null,1657632,1657632,0,null,0,0,0,null,1657632,1657632,0,null,0,null,0,null,3750,null,3750,null,0,null,0,null,157761.26,157761.25804252527,0,null,0,null,0,null,3750,3750,0,null,0,null,0,null,0,null,0,null,0,null,0,null,0,null,0,null,0,null,0,null,"NO",{"$f":"IF(ISERROR(VLOOKUP($A18+8860000,'Growth Data'!$A:$F,3,0)),\"NO\",VLOOKUP($A18+8860000,'Growth Data'!$A:$F,3,0))","v":"NO"},0,null,0,{"$f":"IF(DI18=\"YES\",IF(ISERROR(VLOOKUP($A18+8860000,'Growth Data'!$A:$F,6,0)),0,VLOOKUP($A18+8860000,'Growth Data'!$A:$F,6,0)),0)","v":0},0,null,0,{"$f":"IF(ISERROR(VLOOKUP($A18+8860000,'Growth Data'!$A:$Z,7,0)),0,VLOOKUP($A18+8860000,'Growth Data'!$A:$Z,7,0))","v":0},0,null,"NO",{"$f":"IF(ISERROR(VLOOKUP($A18+8860000,'Growth Data'!$A:$F,4,0)),\"NO\",VLOOKUP($A18+8860000,'Growth Data'!$A:$F,4,0))","v":"NO"},0,null,0,{"$f":"IF(ISERROR(VLOOKUP($A18+8860000,'Growth Data'!$A:$Z,8,0)),0,VLOOKUP($A18+8860000,'Growth Data'!$A:$Z,8,0))","v":0},0,null,0,{"$f":"IF(ISERROR(VLOOKUP($A18+8860000,'Growth Data'!$A:$Z,9,0)),0,VLOOKUP($A18+8860000,'Growth Data'!$A:$Z,9,0))","v":0},0,null,"NO",{"$f":"IF(ISERROR(VLOOKUP($A18+8860000,'Growth Data'!$A:$Z,5,0)),\"NO\",VLOOKUP($A18+8860000,'Growth Data'!$A:$Z,5,0))","v":"NO"},0,null,0,{"$f":"IF(ISERROR(VLOOKUP($A18+8860000,'Growth Data'!$A:$Z,10,0)),0,VLOOKUP($A18+8860000,'Growth Data'!$A:$Z,10,0))","v":0},0,null,0,{"$f":"IF(ISERROR(VLOOKUP($A18+8860000,'Growth Data'!$A:$Z,11,0)),0,VLOOKUP($A18+8860000,'Growth Data'!$A:$Z,11,0))","v":0},0]
[3146,"Bodsham CEP School",null,"Bodsham CEP School",null,1,null,215740.74,215740.73988659258,1.1340741184540093E-4,null,1456.71,1456.7112923076911,-1.2923076910738018E-3,null,1214.58,1214.5809552238798,-9.5522387982782675E-4,null,8525.9599999999991,8525.9640000000127,-4.0000000135478331E-3,null,120084,120083.99999999999,0,null,25635.83,25635.834072096128,-4.0720961260376498E-3,null,0,0,0,null,0,0,0,null,6049,6049,0,null,0,0,0,null,0,0,0,null,0,0,0,null,378706.83,378706.83020622027,-2.0622025476768613E-4,null,0,0,0,null,378706.83,378706.83020622027,-2.0622025476768613E-4,null,0,null,0,null,2986.03,null,2986.03,null,0,null,0,null,17432.32,17432.318554539728,0,null,4256.7700000000004,null,4257,null,4903.3900000000003,4903.3925027134264,0,null,0,null,0,null,0,null,0,null,0,null,0,null,0,null,0,null,0,null,0,null,"NO",{"$f":"IF(ISERROR(VLOOKUP($A19+8860000,'Growth Data'!$A:$F,3,0)),\"NO\",VLOOKUP($A19+8860000,'Growth Data'!$A:$F,3,0))","v":"NO"},0,null,0,{"$f":"IF(DI19=\"YES\",IF(ISERROR(VLOOKUP($A19+8860000,'Growth Data'!$A:$F,6,0)),0,VLOOKUP($A19+8860000,'Growth Data'!$A:$F,6,0)),0)","v":0},0,null,0,{"$f":"IF(ISERROR(VLOOKUP($A19+8860000,'Growth Data'!$A:$Z,7,0)),0,VLOOKUP($A19+8860000,'Growth Data'!$A:$Z,7,0))","v":0},0,null,"NO",{"$f":"IF(ISERROR(VLOOKUP($A19+8860000,'Growth Data'!$A:$F,4,0)),\"NO\",VLOOKUP($A19+8860000,'Growth Data'!$A:$F,4,0))","v":"NO"},0,null,0,{"$f":"IF(ISERROR(VLOOKUP($A19+8860000,'Growth Data'!$A:$Z,8,0)),0,VLOOKUP($A19+8860000,'Growth Data'!$A:$Z,8,0))","v":0},0,null,0,{"$f":"IF(ISERROR(VLOOKUP($A19+8860000,'Growth Data'!$A:$Z,9,0)),0,VLOOKUP($A19+8860000,'Growth Data'!$A:$Z,9,0))","v":0},0,null,"NO",{"$f":"IF(ISERROR(VLOOKUP($A19+8860000,'Growth Data'!$A:$Z,5,0)),\"NO\",VLOOKUP($A19+8860000,'Growth Data'!$A:$Z,5,0))","v":"NO"},0,null,0,{"$f":"IF(ISERROR(VLOOKUP($A19+8860000,'Growth Data'!$A:$Z,10,0)),0,VLOOKUP($A19+8860000,'Growth Data'!$A:$Z,10,0))","v":0},0,null,0,{"$f":"IF(ISERROR(VLOOKUP($A19+8860000,'Growth Data'!$A:$Z,11,0)),0,VLOOKUP($A19+8860000,'Growth Data'!$A:$Z,11,0))","v":0},0]
[5201,"Borough Green Primary School",null,"Borough Green Primary School",null,1,null,840253.41,840253.40797936055,2.0206394838169217E-3,null,54024.26,54024.255857010779,4.1429892226005904E-3,null,3144.26,3144.2629365079297,-2.9365079294620955E-3,null,64097.59,64097.58592828687,4.0717131269047968E-3,null,120084,120083.99999999999,0,null,0,0,0,null,0,0,0,null,0,0,0,null,6451,6451,0,null,0,0,0,null,0,0,0,null,28396.49,28396.487298833905,2.7011660968128126E-3,null,1116451,1116451,0,null,0,0,0,null,1116451,1116451,0,null,0,null,0,null,3750,null,3750,null,0,null,0,null,113091.09,113091.08702881374,0,null,0,null,0,null,3750,3750,0,null,0,null,0,null,0,null,0,null,0,null,0,null,0,null,0,null,0,null,0,null,"YES",{"$f":"IF(ISERROR(VLOOKUP($A20+8860000,'Growth Data'!$A:$F,3,0)),\"NO\",VLOOKUP($A20+8860000,'Growth Data'!$A:$F,3,0))","v":"NO"},1,null,31,{"$f":"IF(DI20=\"YES\",IF(ISERROR(VLOOKUP($A20+8860000,'Growth Data'!$A:$F,6,0)),0,VLOOKUP($A20+8860000,'Growth Data'!$A:$F,6,0)),0)","v":0},31,null,60,{"$f":"IF(ISERROR(VLOOKUP($A20+8860000,'Growth Data'!$A:$Z,7,0)),0,VLOOKUP($A20+8860000,'Growth Data'!$A:$Z,7,0))","v":0},1,null,"YES",{"$f":"IF(ISERROR(VLOOKUP($A20+8860000,'Growth Data'!$A:$F,4,0)),\"NO\",VLOOKUP($A20+8860000,'Growth Data'!$A:$F,4,0))","v":"NO"},1,null,32,{"$f":"IF(ISERROR(VLOOKUP($A20+8860000,'Growth Data'!$A:$Z,8,0)),0,VLOOKUP($A20+8860000,'Growth Data'!$A:$Z,8,0))","v":0},1,null,60,{"$f":"IF(ISERROR(VLOOKUP($A20+8860000,'Growth Data'!$A:$Z,9,0)),0,VLOOKUP($A20+8860000,'Growth Data'!$A:$Z,9,0))","v":0},1,null,"NO",{"$f":"IF(ISERROR(VLOOKUP($A20+8860000,'Growth Data'!$A:$Z,5,0)),\"NO\",VLOOKUP($A20+8860000,'Growth Data'!$A:$Z,5,0))","v":"NO"},0,null,0,{"$f":"IF(ISERROR(VLOOKUP($A20+8860000,'Growth Data'!$A:$Z,10,0)),0,VLOOKUP($A20+8860000,'Growth Data'!$A:$Z,10,0))","v":0},0,null,0,{"$f":"IF(ISERROR(VLOOKUP($A20+8860000,'Growth Data'!$A:$Z,11,0)),0,VLOOKUP($A20+8860000,'Growth Data'!$A:$Z,11,0))","v":0},0]
[2161,"Boughton Monchelsea Primary School",null,"Boughton Monchelsea Primary School",null,1,null,593287.03,593287.03468812956,-4.6881295274943113E-3,null,19972.32,19972.318669565218,1.3304347812663764E-3,null,1885.84,1885.8416376404539,-1.6376404539641953E-3,null,50336.91,50336.906101694971,3.8983050326351076E-3,null,120084,120083.99999999999,0,null,0,0,0,null,0,0,0,null,0,0,0,null,22580,22580,0,null,0,0,0,null,0,0,0,null,0,0,0,null,808146.1,808146.10109703033,-1.0970303555950522E-3,null,0,0,0,null,808146.1,808146.10109703033,-1.0970303555950522E-3,null,0,null,0,null,3184.12,null,3184.12,null,0,null,0,null,70324.460000000006,70324.458715908797,0,null,0,null,0,null,3758.69,3758.6894789331604,0,null,0,null,0,null,0,null,0,null,0,null,0,null,0,null,0,null,0,null,0,null,"NO",{"$f":"IF(ISERROR(VLOOKUP($A21+8860000,'Growth Data'!$A:$F,3,0)),\"NO\",VLOOKUP($A21+8860000,'Growth Data'!$A:$F,3,0))","v":"NO"},0,null,0,{"$f":"IF(DI21=\"YES\",IF(ISERROR(VLOOKUP($A21+8860000,'Growth Data'!$A:$F,6,0)),0,VLOOKUP($A21+8860000,'Growth Data'!$A:$F,6,0)),0)","v":0},0,null,0,{"$f":"IF(ISERROR(VLOOKUP($A21+8860000,'Growth Data'!$A:$Z,7,0)),0,VLOOKUP($A21+8860000,'Growth Data'!$A:$Z,7,0))","v":0},0,null,"NO",{"$f":"IF(ISERROR(VLOOKUP($A21+8860000,'Growth Data'!$A:$F,4,0)),\"NO\",VLOOKUP($A21+8860000,'Growth Data'!$A:$F,4,0))","v":"NO"},0,null,0,{"$f":"IF(ISERROR(VLOOKUP($A21+8860000,'Growth Data'!$A:$Z,8,0)),0,VLOOKUP($A21+8860000,'Growth Data'!$A:$Z,8,0))","v":0},0,null,0,{"$f":"IF(ISERROR(VLOOKUP($A21+8860000,'Growth Data'!$A:$Z,9,0)),0,VLOOKUP($A21+8860000,'Growth Data'!$A:$Z,9,0))","v":0},0,null,"NO",{"$f":"IF(ISERROR(VLOOKUP($A21+8860000,'Growth Data'!$A:$Z,5,0)),\"NO\",VLOOKUP($A21+8860000,'Growth Data'!$A:$Z,5,0))","v":"NO"},0,null,0,{"$f":"IF(ISERROR(VLOOKUP($A21+8860000,'Growth Data'!$A:$Z,10,0)),0,VLOOKUP($A21+8860000,'Growth Data'!$A:$Z,10,0))","v":0},0,null,0,{"$f":"IF(ISERROR(VLOOKUP($A21+8860000,'Growth Data'!$A:$Z,11,0)),0,VLOOKUP($A21+8860000,'Growth Data'!$A:$Z,11,0))","v":0},0]
[3282,"Boughton-under-Blean & Dunkirk Primary School",null,"Boughton-under-Blean & Dunkirk Primary School",null,1,null,576254.87,576254.87101287232,-1.0128723224624991E-3,null,54927.42,54927.422300000078,-2.3000000801403075E-3,null,1256.43,1256.4280173410407,1.9826589593776589E-3,null,50828.36,50828.356165662743,3.8343372580129653E-3,null,120084,120083.99999999999,0,null,0,0,0,null,0,0,0,null,0,0,0,null,18338,18338,0,null,0,0,0,null,0,0,0,null,0,0,0,null,821689.08,821689.07749587623,2.504123724065721E-3,null,0,0,0,null,821689.08,821689.07749587623,2.504123724065721E-3,null,0,null,0,null,3365.85,null,3365.85,null,0,null,0,null,97035.93,97035.928790011967,0,null,0,null,0,null,3957.39,3957.3944704230366,0,null,0,null,0,null,0,null,0,null,0,null,0,null,0,null,0,null,0,null,0,null,"NO",{"$f":"IF(ISERROR(VLOOKUP($A22+8860000,'Growth Data'!$A:$F,3,0)),\"NO\",VLOOKUP($A22+8860000,'Growth Data'!$A:$F,3,0))","v":"NO"},0,null,0,{"$f":"IF(DI22=\"YES\",IF(ISERROR(VLOOKUP($A22+8860000,'Growth Data'!$A:$F,6,0)),0,VLOOKUP($A22+8860000,'Growth Data'!$A:$F,6,0)),0)","v":0},0,null,0,{"$f":"IF(ISERROR(VLOOKUP($A22+8860000,'Growth Data'!$A:$Z,7,0)),0,VLOOKUP($A22+8860000,'Growth Data'!$A:$Z,7,0))","v":0},0,null,"NO",{"$f":"IF(ISERROR(VLOOKUP($A22+8860000,'Growth Data'!$A:$F,4,0)),\"NO\",VLOOKUP($A22+8860000,'Growth Data'!$A:$F,4,0))","v":"NO"},0,null,0,{"$f":"IF(ISERROR(VLOOKUP($A22+8860000,'Growth Data'!$A:$Z,8,0)),0,VLOOKUP($A22+8860000,'Growth Data'!$A:$Z,8,0))","v":0},0,null,0,{"$f":"IF(ISERROR(VLOOKUP($A22+8860000,'Growth Data'!$A:$Z,9,0)),0,VLOOKUP($A22+8860000,'Growth Data'!$A:$Z,9,0))","v":0},0,null,"NO",{"$f":"IF(ISERROR(VLOOKUP($A22+8860000,'Growth Data'!$A:$Z,5,0)),\"NO\",VLOOKUP($A22+8860000,'Growth Data'!$A:$Z,5,0))","v":"NO"},0,null,0,{"$f":"IF(ISERROR(VLOOKUP($A22+8860000,'Growth Data'!$A:$Z,10,0)),0,VLOOKUP($A22+8860000,'Growth Data'!$A:$Z,10,0))","v":0},0,null,0,{"$f":"IF(ISERROR(VLOOKUP($A22+8860000,'Growth Data'!$A:$Z,11,0)),0,VLOOKUP($A22+8860000,'Growth Data'!$A:$Z,11,0))","v":0},0]
[3136,"Brabourne CEP School",null,"Brabourne CEP School",null,1,null,272514.62,272514.61880411697,1.195883029140532E-3,null,6814.46,6814.4624391304369,-2.4391304368691635E-3,null,634.52,634.51792592592699,2.0740740729934259E-3,null,23190.62,23190.62208000003,-2.0800000311282929E-3,null,120084,120083.99999999999,0,null,0,0,0,null,0,0,0,null,0,0,0,null,5502,5502,0,null,0,0,0,null,0,0,0,null,0,0,0,null,428740.22,428740.22124917328,-1.2491733068600297E-3,null,0,0,0,null,428740.22,428740.22124917328,-1.2491733068600297E-3,null,0,null,0,null,3157.86,null,3157.86,null,0,null,0,null,34623.089999999997,34623.089752064545,0,null,2537.69,null,2538,null,4408.7299999999996,4408.7314713455571,0,null,0,null,0,null,0,null,0,null,0,null,0,null,0,null,0,null,0,null,0,null,"NO",{"$f":"IF(ISERROR(VLOOKUP($A23+8860000,'Growth Data'!$A:$F,3,0)),\"NO\",VLOOKUP($A23+8860000,'Growth Data'!$A:$F,3,0))","v":"NO"},0,null,0,{"$f":"IF(DI23=\"YES\",IF(ISERROR(VLOOKUP($A23+8860000,'Growth Data'!$A:$F,6,0)),0,VLOOKUP($A23+8860000,'Growth Data'!$A:$F,6,0)),0)","v":0},0,null,0,{"$f":"IF(ISERROR(VLOOKUP($A23+8860000,'Growth Data'!$A:$Z,7,0)),0,VLOOKUP($A23+8860000,'Growth Data'!$A:$Z,7,0))","v":0},0,null,"NO",{"$f":"IF(ISERROR(VLOOKUP($A23+8860000,'Growth Data'!$A:$F,4,0)),\"NO\",VLOOKUP($A23+8860000,'Growth Data'!$A:$F,4,0))","v":"NO"},0,null,0,{"$f":"IF(ISERROR(VLOOKUP($A23+8860000,'Growth Data'!$A:$Z,8,0)),0,VLOOKUP($A23+8860000,'Growth Data'!$A:$Z,8,0))","v":0},0,null,0,{"$f":"IF(ISERROR(VLOOKUP($A23+8860000,'Growth Data'!$A:$Z,9,0)),0,VLOOKUP($A23+8860000,'Growth Data'!$A:$Z,9,0))","v":0},0,null,"NO",{"$f":"IF(ISERROR(VLOOKUP($A23+8860000,'Growth Data'!$A:$Z,5,0)),\"NO\",VLOOKUP($A23+8860000,'Growth Data'!$A:$Z,5,0))","v":"NO"},0,null,0,{"$f":"IF(ISERROR(VLOOKUP($A23+8860000,'Growth Data'!$A:$Z,10,0)),0,VLOOKUP($A23+8860000,'Growth Data'!$A:$Z,10,0))","v":0},0,null,0,{"$f":"IF(ISERROR(VLOOKUP($A23+8860000,'Growth Data'!$A:$Z,11,0)),0,VLOOKUP($A23+8860000,'Growth Data'!$A:$Z,11,0))","v":0},0]
[3061,"Bredhurst CEP School",null,"Bredhurst CEP School",null,1,null,354836.74,354836.74323452724,-3.2345272484235466E-3,null,8457.92,8457.9164000000001,3.6000000000058208E-3,null,3650.28,3650.2806818181793,-6.8181817914592102E-4,null,30837.54,30837.543402777716,-3.4027777146548033E-3,null,120084,120083.99999999999,0,null,0,0,0,null,0,0,0,null,0,0,0,null,15220,15220,0,null,0,0,0,null,0,0,0,null,0,0,0,null,533086.48,533086.48371912306,-3.7191230803728104E-3,null,0,0,0,null,533086.48,533086.48371912306,-3.7191230803728104E-3,null,0,null,0,null,3182.26,null,3182.26,null,0,null,0,null,46929.23,46929.227791604048,0,null,1307.08,null,1307,null,4142.93,4142.9318697529861,0,null,0,null,0,null,0,null,0,null,0,null,0,null,0,null,0,null,0,null,0,null,"NO",{"$f":"IF(ISERROR(VLOOKUP($A24+8860000,'Growth Data'!$A:$F,3,0)),\"NO\",VLOOKUP($A24+8860000,'Growth Data'!$A:$F,3,0))","v":"NO"},0,null,0,{"$f":"IF(DI24=\"YES\",IF(ISERROR(VLOOKUP($A24+8860000,'Growth Data'!$A:$F,6,0)),0,VLOOKUP($A24+8860000,'Growth Data'!$A:$F,6,0)),0)","v":0},0,null,0,{"$f":"IF(ISERROR(VLOOKUP($A24+8860000,'Growth Data'!$A:$Z,7,0)),0,VLOOKUP($A24+8860000,'Growth Data'!$A:$Z,7,0))","v":0},0,null,"NO",{"$f":"IF(ISERROR(VLOOKUP($A24+8860000,'Growth Data'!$A:$F,4,0)),\"NO\",VLOOKUP($A24+8860000,'Growth Data'!$A:$F,4,0))","v":"NO"},0,null,0,{"$f":"IF(ISERROR(VLOOKUP($A24+8860000,'Growth Data'!$A:$Z,8,0)),0,VLOOKUP($A24+8860000,'Growth Data'!$A:$Z,8,0))","v":0},0,null,0,{"$f":"IF(ISERROR(VLOOKUP($A24+8860000,'Growth Data'!$A:$Z,9,0)),0,VLOOKUP($A24+8860000,'Growth Data'!$A:$Z,9,0))","v":0},0,null,"NO",{"$f":"IF(ISERROR(VLOOKUP($A24+8860000,'Growth Data'!$A:$Z,5,0)),\"NO\",VLOOKUP($A24+8860000,'Growth Data'!$A:$Z,5,0))","v":"NO"},0,null,0,{"$f":"IF(ISERROR(VLOOKUP($A24+8860000,'Growth Data'!$A:$Z,10,0)),0,VLOOKUP($A24+8860000,'Growth Data'!$A:$Z,10,0))","v":0},0,null,0,{"$f":"IF(ISERROR(VLOOKUP($A24+8860000,'Growth Data'!$A:$Z,11,0)),0,VLOOKUP($A24+8860000,'Growth Data'!$A:$Z,11,0))","v":0},0]
[2569,"Briary Primary School",null,"Briary Primary School",null,1,null,959478.55,959478.55370616168,-3.7061616312712431E-3,null,90054.42,90054.422571428644,-2.571428645751439E-3,null,2381.0100000000002,2381.007644736841,2.3552631591883255E-3,null,127351.2,127351.20469696986,-4.6969698596512899E-3,null,120084,120083.99999999999,0,null,0,0,0,null,0,0,0,null,0,0,0,null,13308,13308,0,null,0,0,0,null,0,0,0,null,0,0,0,null,1312657.19,1312657.188619297,1.3807029463350773E-3,null,0,0,0,null,1312657.19,1312657.188619297,1.3807029463350773E-3,null,0,null,0,null,3488.95,null,3488.95,null,0,null,0,null,195400.28,195400.27722014344,0,null,0,null,0,null,3844.23,3844.2283686961468,0,null,0,null,0,null,0,null,0,null,0,null,0,null,0,null,0,null,0,null,0,null,"NO",{"$f":"IF(ISERROR(VLOOKUP($A25+8860000,'Growth Data'!$A:$F,3,0)),\"NO\",VLOOKUP($A25+8860000,'Growth Data'!$A:$F,3,0))","v":"NO"},0,null,0,{"$f":"IF(DI25=\"YES\",IF(ISERROR(VLOOKUP($A25+8860000,'Growth Data'!$A:$F,6,0)),0,VLOOKUP($A25+8860000,'Growth Data'!$A:$F,6,0)),0)","v":0},0,null,0,{"$f":"IF(ISERROR(VLOOKUP($A25+8860000,'Growth Data'!$A:$Z,7,0)),0,VLOOKUP($A25+8860000,'Growth Data'!$A:$Z,7,0))","v":0},0,null,"NO",{"$f":"IF(ISERROR(VLOOKUP($A25+8860000,'Growth Data'!$A:$F,4,0)),\"NO\",VLOOKUP($A25+8860000,'Growth Data'!$A:$F,4,0))","v":"NO"},0,null,0,{"$f":"IF(ISERROR(VLOOKUP($A25+8860000,'Growth Data'!$A:$Z,8,0)),0,VLOOKUP($A25+8860000,'Growth Data'!$A:$Z,8,0))","v":0},0,null,0,{"$f":"IF(ISERROR(VLOOKUP($A25+8860000,'Growth Data'!$A:$Z,9,0)),0,VLOOKUP($A25+8860000,'Growth Data'!$A:$Z,9,0))","v":0},0,null,"NO",{"$f":"IF(ISERROR(VLOOKUP($A25+8860000,'Growth Data'!$A:$Z,5,0)),\"NO\",VLOOKUP($A25+8860000,'Growth Data'!$A:$Z,5,0))","v":"NO"},0,null,0,{"$f":"IF(ISERROR(VLOOKUP($A25+8860000,'Growth Data'!$A:$Z,10,0)),0,VLOOKUP($A25+8860000,'Growth Data'!$A:$Z,10,0))","v":0},0,null,0,{"$f":"IF(ISERROR(VLOOKUP($A25+8860000,'Growth Data'!$A:$Z,11,0)),0,VLOOKUP($A25+8860000,'Growth Data'!$A:$Z,11,0))","v":0},0]
[3122,"Bridge & Patrixbourne CEP School",null,"Bridge & Patrixbourne CEP School",null,1,null,1192251.46,1192251.4572680115,2.7319884393364191E-3,null,25757.24,25757.2354620853,4.5379147013591137E-3,null,25053.74,25053.737047353654,2.9526463476940989E-3,null,49593.5,49593.497982954745,2.0170452553429641E-3,null,120084,120083.99999999999,0,null,0,0,0,null,0,0,0,null,0,0,0,null,35072,35072,0,null,0,0,0,null,0,0,0,null,162260.07,162260.07223959453,-2.2395945270545781E-3,null,1610072,1610072,0,null,0,0,0,null,1610072,1610072,0,null,0,null,0,null,3750,null,3750,null,0,null,0,null,100335.12,100335.12279940186,0,null,0,null,0,null,3750,3750,0,null,0,null,0,null,0,null,0,null,0,null,0,null,0,null,0,null,0,null,0,null,"NO",{"$f":"IF(ISERROR(VLOOKUP($A26+8860000,'Growth Data'!$A:$F,3,0)),\"NO\",VLOOKUP($A26+8860000,'Growth Data'!$A:$F,3,0))","v":"NO"},0,null,0,{"$f":"IF(DI26=\"YES\",IF(ISERROR(VLOOKUP($A26+8860000,'Growth Data'!$A:$F,6,0)),0,VLOOKUP($A26+8860000,'Growth Data'!$A:$F,6,0)),0)","v":0},0,null,0,{"$f":"IF(ISERROR(VLOOKUP($A26+8860000,'Growth Data'!$A:$Z,7,0)),0,VLOOKUP($A26+8860000,'Growth Data'!$A:$Z,7,0))","v":0},0,null,"NO",{"$f":"IF(ISERROR(VLOOKUP($A26+8860000,'Growth Data'!$A:$F,4,0)),\"NO\",VLOOKUP($A26+8860000,'Growth Data'!$A:$F,4,0))","v":"NO"},0,null,0,{"$f":"IF(ISERROR(VLOOKUP($A26+8860000,'Growth Data'!$A:$Z,8,0)),0,VLOOKUP($A26+8860000,'Growth Data'!$A:$Z,8,0))","v":0},0,null,0,{"$f":"IF(ISERROR(VLOOKUP($A26+8860000,'Growth Data'!$A:$Z,9,0)),0,VLOOKUP($A26+8860000,'Growth Data'!$A:$Z,9,0))","v":0},0,null,"NO",{"$f":"IF(ISERROR(VLOOKUP($A26+8860000,'Growth Data'!$A:$Z,5,0)),\"NO\",VLOOKUP($A26+8860000,'Growth Data'!$A:$Z,5,0))","v":"NO"},0,null,0,{"$f":"IF(ISERROR(VLOOKUP($A26+8860000,'Growth Data'!$A:$Z,10,0)),0,VLOOKUP($A26+8860000,'Growth Data'!$A:$Z,10,0))","v":0},0,null,0,{"$f":"IF(ISERROR(VLOOKUP($A26+8860000,'Growth Data'!$A:$Z,11,0)),0,VLOOKUP($A26+8860000,'Growth Data'!$A:$Z,11,0))","v":0},0]
[2651,"Broadwater Down Primary School",null,"Broadwater Down Primary School",null,1,null,403094.54,403094.54031442298,-3.1442299950867891E-4,null,48162.65,48162.652056687919,-2.0566879175021313E-3,null,12037,12037.003341666641,-3.3416666410630569E-3,null,49552.45,49552.450061946896,-6.1946899222675711E-5,null,120084,120083.99999999999,0,null,0,0,0,null,0,0,0,null,0,0,0,null,18837,18837,0,null,0,0,0,null,0,0,0,null,0,0,0,null,651767.65,651767.64577472443,4.2252755956724286E-3,null,0,0,0,null,651767.65,651767.64577472443,4.2252755956724286E-3,null,0,null,0,null,3611.6,null,3611.6,null,0,null,0,null,103828.66,103828.66276730958,0,null,0,null,0,null,4457.26,4457.2580688360895,0,null,0,null,0,null,0,null,0,null,0,null,0,null,0,null,0,null,0,null,0,null,"NO",{"$f":"IF(ISERROR(VLOOKUP($A27+8860000,'Growth Data'!$A:$F,3,0)),\"NO\",VLOOKUP($A27+8860000,'Growth Data'!$A:$F,3,0))","v":"NO"},0,null,0,{"$f":"IF(DI27=\"YES\",IF(ISERROR(VLOOKUP($A27+8860000,'Growth Data'!$A:$F,6,0)),0,VLOOKUP($A27+8860000,'Growth Data'!$A:$F,6,0)),0)","v":0},0,null,0,{"$f":"IF(ISERROR(VLOOKUP($A27+8860000,'Growth Data'!$A:$Z,7,0)),0,VLOOKUP($A27+8860000,'Growth Data'!$A:$Z,7,0))","v":0},0,null,"NO",{"$f":"IF(ISERROR(VLOOKUP($A27+8860000,'Growth Data'!$A:$F,4,0)),\"NO\",VLOOKUP($A27+8860000,'Growth Data'!$A:$F,4,0))","v":"NO"},0,null,0,{"$f":"IF(ISERROR(VLOOKUP($A27+8860000,'Growth Data'!$A:$Z,8,0)),0,VLOOKUP($A27+8860000,'Growth Data'!$A:$Z,8,0))","v":0},0,null,0,{"$f":"IF(ISERROR(VLOOKUP($A27+8860000,'Growth Data'!$A:$Z,9,0)),0,VLOOKUP($A27+8860000,'Growth Data'!$A:$Z,9,0))","v":0},0,null,"NO",{"$f":"IF(ISERROR(VLOOKUP($A27+8860000,'Growth Data'!$A:$Z,5,0)),\"NO\",VLOOKUP($A27+8860000,'Growth Data'!$A:$Z,5,0))","v":"NO"},0,null,0,{"$f":"IF(ISERROR(VLOOKUP($A27+8860000,'Growth Data'!$A:$Z,10,0)),0,VLOOKUP($A27+8860000,'Growth Data'!$A:$Z,10,0))","v":0},0,null,0,{"$f":"IF(ISERROR(VLOOKUP($A27+8860000,'Growth Data'!$A:$Z,11,0)),0,VLOOKUP($A27+8860000,'Growth Data'!$A:$Z,11,0))","v":0},0]
[2603,"Bromstone Primary School, Broadstairs",null,"Bromstone Primary School, Broadstairs",null,1,null,1365411.79,1365411.7879664609,2.0335391163825989E-3,null,215729.06,215729.06044672112,-4.4672112562693655E-4,null,8543.16,8543.1561208530893,3.8791469105490251E-3,null,176253.15,176253.14561985462,4.3801453721243888E-3,null,120084,120083.99999999999,0,null,0,0,0,null,0,0,0,null,0,0,0,null,45056,45056,0,null,0,0,0,null,0,0,0,null,0,0,0,null,1931077.15,1931077.1501538896,-1.5388964675366879E-4,null,0,0,0,null,1931077.15,1931077.1501538896,-1.5388964675366879E-4,null,0,null,0,null,3671.39,null,3671.39,null,0,null,0,null,349120.1,349120.10449443699,0,null,0,null,0,null,3921.04,3921.0418922118311,0,null,0,null,0,null,0,null,0,null,0,null,0,null,0,null,0,null,0,null,0,null,"NO",{"$f":"IF(ISERROR(VLOOKUP($A28+8860000,'Growth Data'!$A:$F,3,0)),\"NO\",VLOOKUP($A28+8860000,'Growth Data'!$A:$F,3,0))","v":"NO"},0,null,0,{"$f":"IF(DI28=\"YES\",IF(ISERROR(VLOOKUP($A28+8860000,'Growth Data'!$A:$F,6,0)),0,VLOOKUP($A28+8860000,'Growth Data'!$A:$F,6,0)),0)","v":0},0,null,0,{"$f":"IF(ISERROR(VLOOKUP($A28+8860000,'Growth Data'!$A:$Z,7,0)),0,VLOOKUP($A28+8860000,'Growth Data'!$A:$Z,7,0))","v":0},0,null,"NO",{"$f":"IF(ISERROR(VLOOKUP($A28+8860000,'Growth Data'!$A:$F,4,0)),\"NO\",VLOOKUP($A28+8860000,'Growth Data'!$A:$F,4,0))","v":"NO"},0,null,0,{"$f":"IF(ISERROR(VLOOKUP($A28+8860000,'Growth Data'!$A:$Z,8,0)),0,VLOOKUP($A28+8860000,'Growth Data'!$A:$Z,8,0))","v":0},0,null,0,{"$f":"IF(ISERROR(VLOOKUP($A28+8860000,'Growth Data'!$A:$Z,9,0)),0,VLOOKUP($A28+8860000,'Growth Data'!$A:$Z,9,0))","v":0},0,null,"NO",{"$f":"IF(ISERROR(VLOOKUP($A28+8860000,'Growth Data'!$A:$Z,5,0)),\"NO\",VLOOKUP($A28+8860000,'Growth Data'!$A:$Z,5,0))","v":"NO"},0,null,0,{"$f":"IF(ISERROR(VLOOKUP($A28+8860000,'Growth Data'!$A:$Z,10,0)),0,VLOOKUP($A28+8860000,'Growth Data'!$A:$Z,10,0))","v":0},0,null,0,{"$f":"IF(ISERROR(VLOOKUP($A28+8860000,'Growth Data'!$A:$Z,11,0)),0,VLOOKUP($A28+8860000,'Growth Data'!$A:$Z,11,0))","v":0},0]
[2279,"Brook Community Primary School",null,"Brook Community Primary School",null,1,null,261159.84,261159.84302061205,-3.0206120572984219E-3,null,12269.36,12269.35805306122,1.9469387807475869E-3,null,3117.37,3117.3705063291131,-5.0632911325010355E-4,null,16995.09,16995.088239999968,1.7600000319362152E-3,null,120084,120083.99999999999,0,null,0,0,0,null,0,0,0,null,0,0,0,null,8608,8608,0,null,0,0,0,null,0,0,0,null,0,0,0,null,422233.66,422233.65982000233,1.7999764531850815E-4,null,0,0,0,null,422233.66,422233.65982000233,1.7999764531850815E-4,null,0,null,0,null,3190.67,null,3190.67,null,0,null,0,null,35914.99,35914.989106398447,0,null,2408.5,null,2409,null,4495.93,4495.9310850000275,0,null,0,null,0,null,0,null,0,null,0,null,0,null,0,null,0,null,0,null,0,null,"NO",{"$f":"IF(ISERROR(VLOOKUP($A29+8860000,'Growth Data'!$A:$F,3,0)),\"NO\",VLOOKUP($A29+8860000,'Growth Data'!$A:$F,3,0))","v":"NO"},0,null,0,{"$f":"IF(DI29=\"YES\",IF(ISERROR(VLOOKUP($A29+8860000,'Growth Data'!$A:$F,6,0)),0,VLOOKUP($A29+8860000,'Growth Data'!$A:$F,6,0)),0)","v":0},0,null,0,{"$f":"IF(ISERROR(VLOOKUP($A29+8860000,'Growth Data'!$A:$Z,7,0)),0,VLOOKUP($A29+8860000,'Growth Data'!$A:$Z,7,0))","v":0},0,null,"NO",{"$f":"IF(ISERROR(VLOOKUP($A29+8860000,'Growth Data'!$A:$F,4,0)),\"NO\",VLOOKUP($A29+8860000,'Growth Data'!$A:$F,4,0))","v":"NO"},0,null,0,{"$f":"IF(ISERROR(VLOOKUP($A29+8860000,'Growth Data'!$A:$Z,8,0)),0,VLOOKUP($A29+8860000,'Growth Data'!$A:$Z,8,0))","v":0},0,null,0,{"$f":"IF(ISERROR(VLOOKUP($A29+8860000,'Growth Data'!$A:$Z,9,0)),0,VLOOKUP($A29+8860000,'Growth Data'!$A:$Z,9,0))","v":0},0,null,"NO",{"$f":"IF(ISERROR(VLOOKUP($A29+8860000,'Growth Data'!$A:$Z,5,0)),\"NO\",VLOOKUP($A29+8860000,'Growth Data'!$A:$Z,5,0))","v":"NO"},0,null,0,{"$f":"IF(ISERROR(VLOOKUP($A29+8860000,'Growth Data'!$A:$Z,10,0)),0,VLOOKUP($A29+8860000,'Growth Data'!$A:$Z,10,0))","v":0},0,null,0,{"$f":"IF(ISERROR(VLOOKUP($A29+8860000,'Growth Data'!$A:$Z,11,0)),0,VLOOKUP($A29+8860000,'Growth Data'!$A:$Z,11,0))","v":0},0]
[2514,"Brookfield Infant School",null,"Brookfield Infant School",null,1,null,510964.91,510964.91025771928,-2.5771930813789368E-4,null,43053.94,43053.936898876404,3.1011235987534747E-3,null,4818.37,4818.3705,-5.0000000010186341E-4,null,51155.78,51155.784000000058,-4.0000000590225682E-3,null,120084,120083.99999999999,0,null,0,0,0,null,0,0,0,null,0,0,0,null,20210,20210,0,null,0,0,0,null,0,0,0,null,0,0,0,null,750287,750287.00165659573,-1.6565957339480519E-3,null,0,0,0,null,750287,750287.00165659573,-1.6565957339480519E-3,null,0,null,0,null,3388.85,null,3388.85,null,0,null,0,null,89051.81,89051.813705884619,0,null,0,null,0,null,4055.98,4055.9833425366451,0,null,0,null,0,null,0,null,0,null,0,null,0,null,0,null,0,null,0,null,0,null,"NO",{"$f":"IF(ISERROR(VLOOKUP($A30+8860000,'Growth Data'!$A:$F,3,0)),\"NO\",VLOOKUP($A30+8860000,'Growth Data'!$A:$F,3,0))","v":"NO"},0,null,0,{"$f":"IF(DI30=\"YES\",IF(ISERROR(VLOOKUP($A30+8860000,'Growth Data'!$A:$F,6,0)),0,VLOOKUP($A30+8860000,'Growth Data'!$A:$F,6,0)),0)","v":0},0,null,0,{"$f":"IF(ISERROR(VLOOKUP($A30+8860000,'Growth Data'!$A:$Z,7,0)),0,VLOOKUP($A30+8860000,'Growth Data'!$A:$Z,7,0))","v":0},0,null,"NO",{"$f":"IF(ISERROR(VLOOKUP($A30+8860000,'Growth Data'!$A:$F,4,0)),\"NO\",VLOOKUP($A30+8860000,'Growth Data'!$A:$F,4,0))","v":"NO"},0,null,0,{"$f":"IF(ISERROR(VLOOKUP($A30+8860000,'Growth Data'!$A:$Z,8,0)),0,VLOOKUP($A30+8860000,'Growth Data'!$A:$Z,8,0))","v":0},0,null,0,{"$f":"IF(ISERROR(VLOOKUP($A30+8860000,'Growth Data'!$A:$Z,9,0)),0,VLOOKUP($A30+8860000,'Growth Data'!$A:$Z,9,0))","v":0},0,null,"NO",{"$f":"IF(ISERROR(VLOOKUP($A30+8860000,'Growth Data'!$A:$Z,5,0)),\"NO\",VLOOKUP($A30+8860000,'Growth Data'!$A:$Z,5,0))","v":"NO"},0,null,0,{"$f":"IF(ISERROR(VLOOKUP($A30+8860000,'Growth Data'!$A:$Z,10,0)),0,VLOOKUP($A30+8860000,'Growth Data'!$A:$Z,10,0))","v":0},0,null,0,{"$f":"IF(ISERROR(VLOOKUP($A30+8860000,'Growth Data'!$A:$Z,11,0)),0,VLOOKUP($A30+8860000,'Growth Data'!$A:$Z,11,0))","v":0},0]
[5223,"Brookfield Junior School, Larkfield",null,"Brookfield Junior School, Larkfield",null,1,null,709673.49,709673.48646905448,3.5309455124661326E-3,null,75552.289999999994,75552.291840637437,-1.8406374438200146E-3,null,1606.12,1606.1235000000001,-3.5000000002582965E-3,null,57015.19,57015.191358024662,-1.3580246595665812E-3,null,120084,120083.99999999999,0,null,0,0,0,null,0,0,0,null,0,0,0,null,25200,25200,0,null,0,0,0,null,0,0,0,null,0,0,0,null,989131.09,989131.09316771664,-3.1677166698500514E-3,null,0,0,0,null,989131.09,989131.09316771664,-3.1677166698500514E-3,null,0,null,0,null,3375.39,null,3375.39,null,0,null,0,null,114740.71,114740.71400567025,0,null,0,null,0,null,3855.72,3855.7243726708684,0,null,0,null,0,null,0,null,0,null,0,null,0,null,0,null,0,null,0,null,0,null,"NO",{"$f":"IF(ISERROR(VLOOKUP($A31+8860000,'Growth Data'!$A:$F,3,0)),\"NO\",VLOOKUP($A31+8860000,'Growth Data'!$A:$F,3,0))","v":"NO"},0,null,0,{"$f":"IF(DI31=\"YES\",IF(ISERROR(VLOOKUP($A31+8860000,'Growth Data'!$A:$F,6,0)),0,VLOOKUP($A31+8860000,'Growth Data'!$A:$F,6,0)),0)","v":0},0,null,0,{"$f":"IF(ISERROR(VLOOKUP($A31+8860000,'Growth Data'!$A:$Z,7,0)),0,VLOOKUP($A31+8860000,'Growth Data'!$A:$Z,7,0))","v":0},0,null,"NO",{"$f":"IF(ISERROR(VLOOKUP($A31+8860000,'Growth Data'!$A:$F,4,0)),\"NO\",VLOOKUP($A31+8860000,'Growth Data'!$A:$F,4,0))","v":"NO"},0,null,0,{"$f":"IF(ISERROR(VLOOKUP($A31+8860000,'Growth Data'!$A:$Z,8,0)),0,VLOOKUP($A31+8860000,'Growth Data'!$A:$Z,8,0))","v":0},0,null,0,{"$f":"IF(ISERROR(VLOOKUP($A31+8860000,'Growth Data'!$A:$Z,9,0)),0,VLOOKUP($A31+8860000,'Growth Data'!$A:$Z,9,0))","v":0},0,null,"NO",{"$f":"IF(ISERROR(VLOOKUP($A31+8860000,'Growth Data'!$A:$Z,5,0)),\"NO\",VLOOKUP($A31+8860000,'Growth Data'!$A:$Z,5,0))","v":"NO"},0,null,0,{"$f":"IF(ISERROR(VLOOKUP($A31+8860000,'Growth Data'!$A:$Z,10,0)),0,VLOOKUP($A31+8860000,'Growth Data'!$A:$Z,10,0))","v":0},0,null,0,{"$f":"IF(ISERROR(VLOOKUP($A31+8860000,'Growth Data'!$A:$Z,11,0)),0,VLOOKUP($A31+8860000,'Growth Data'!$A:$Z,11,0))","v":0},0]
[3137,"Brookland CEP School",null,"Brookland CEP School",null,1,null,281030.7,281030.70064174559,-6.4174557337537408E-4,null,26804.75,26804.750200000002,-2.0000000222353265E-4,null,616.29999999999995,616.3032034883729,-3.2034883729465946E-3,null,16328.74,16328.743553571452,-3.5535714523575734E-3,null,120084,120083.99999999999,0,null,0,0,0,null,0,0,0,null,0,0,0,null,11976,11976,0,null,0,0,0,null,0,0,0,null,0,0,0,null,456840.5,456840.49759880541,2.4011945934034884E-3,null,0,0,0,null,456840.5,456840.49759880541,2.4011945934034884E-3,null,0,null,0,null,3280.61,null,3280.61,null,0,null,0,null,44130.76,44130.764264067991,0,null,1586.92,null,1587,null,4493.58,4493.580783826319,0,null,0,null,0,null,0,null,0,null,0,null,0,null,0,null,0,null,0,null,0,null,"NO",{"$f":"IF(ISERROR(VLOOKUP($A32+8860000,'Growth Data'!$A:$F,3,0)),\"NO\",VLOOKUP($A32+8860000,'Growth Data'!$A:$F,3,0))","v":"NO"},0,null,0,{"$f":"IF(DI32=\"YES\",IF(ISERROR(VLOOKUP($A32+8860000,'Growth Data'!$A:$F,6,0)),0,VLOOKUP($A32+8860000,'Growth Data'!$A:$F,6,0)),0)","v":0},0,null,0,{"$f":"IF(ISERROR(VLOOKUP($A32+8860000,'Growth Data'!$A:$Z,7,0)),0,VLOOKUP($A32+8860000,'Growth Data'!$A:$Z,7,0))","v":0},0,null,"NO",{"$f":"IF(ISERROR(VLOOKUP($A32+8860000,'Growth Data'!$A:$F,4,0)),\"NO\",VLOOKUP($A32+8860000,'Growth Data'!$A:$F,4,0))","v":"NO"},0,null,0,{"$f":"IF(ISERROR(VLOOKUP($A32+8860000,'Growth Data'!$A:$Z,8,0)),0,VLOOKUP($A32+8860000,'Growth Data'!$A:$Z,8,0))","v":0},0,null,0,{"$f":"IF(ISERROR(VLOOKUP($A32+8860000,'Growth Data'!$A:$Z,9,0)),0,VLOOKUP($A32+8860000,'Growth Data'!$A:$Z,9,0))","v":0},0,null,"NO",{"$f":"IF(ISERROR(VLOOKUP($A32+8860000,'Growth Data'!$A:$Z,5,0)),\"NO\",VLOOKUP($A32+8860000,'Growth Data'!$A:$Z,5,0))","v":"NO"},0,null,0,{"$f":"IF(ISERROR(VLOOKUP($A32+8860000,'Growth Data'!$A:$Z,10,0)),0,VLOOKUP($A32+8860000,'Growth Data'!$A:$Z,10,0))","v":0},0,null,0,{"$f":"IF(ISERROR(VLOOKUP($A32+8860000,'Growth Data'!$A:$Z,11,0)),0,VLOOKUP($A32+8860000,'Growth Data'!$A:$Z,11,0))","v":0},0]
[2171,"Brunswick House Primary School",null,"Brunswick House Primary School",null,1,null,1186574.07,1186574.0693762591,6.2374095432460308E-4,null,68771.820000000007,68771.817440963816,2.5590361910872161E-3,null,25004.080000000002,25004.082793296093,-2.7932960911130067E-3,null,97125.35,97125.352979650939,-2.9796509334119037E-3,null,120084,120083.99999999999,0,null,0,0,0,null,0,0,0,null,0,0,0,null,66048,66048,0,null,0,0,0,null,0,0,0,null,69940.679999999993,69940.677409830038,2.5901699555106461E-3,null,1633548,1633548,0,null,0,0,0,null,1633548,1633548,0,null,0,null,0,null,3750,null,3750,null,0,null,0,null,168316.16,168316.15552091898,0,null,0,null,0,null,3750,3750,0,null,0,null,0,null,0,null,0,null,0,null,0,null,0,null,0,null,0,null,0,null,"NO",{"$f":"IF(ISERROR(VLOOKUP($A33+8860000,'Growth Data'!$A:$F,3,0)),\"NO\",VLOOKUP($A33+8860000,'Growth Data'!$A:$F,3,0))","v":"NO"},0,null,0,{"$f":"IF(DI33=\"YES\",IF(ISERROR(VLOOKUP($A33+8860000,'Growth Data'!$A:$F,6,0)),0,VLOOKUP($A33+8860000,'Growth Data'!$A:$F,6,0)),0)","v":0},0,null,0,{"$f":"IF(ISERROR(VLOOKUP($A33+8860000,'Growth Data'!$A:$Z,7,0)),0,VLOOKUP($A33+8860000,'Growth Data'!$A:$Z,7,0))","v":0},0,null,"NO",{"$f":"IF(ISERROR(VLOOKUP($A33+8860000,'Growth Data'!$A:$F,4,0)),\"NO\",VLOOKUP($A33+8860000,'Growth Data'!$A:$F,4,0))","v":"NO"},0,null,0,{"$f":"IF(ISERROR(VLOOKUP($A33+8860000,'Growth Data'!$A:$Z,8,0)),0,VLOOKUP($A33+8860000,'Growth Data'!$A:$Z,8,0))","v":0},0,null,0,{"$f":"IF(ISERROR(VLOOKUP($A33+8860000,'Growth Data'!$A:$Z,9,0)),0,VLOOKUP($A33+8860000,'Growth Data'!$A:$Z,9,0))","v":0},0,null,"NO",{"$f":"IF(ISERROR(VLOOKUP($A33+8860000,'Growth Data'!$A:$Z,5,0)),\"NO\",VLOOKUP($A33+8860000,'Growth Data'!$A:$Z,5,0))","v":"NO"},0,null,0,{"$f":"IF(ISERROR(VLOOKUP($A33+8860000,'Growth Data'!$A:$Z,10,0)),0,VLOOKUP($A33+8860000,'Growth Data'!$A:$Z,10,0))","v":0},0,null,0,{"$f":"IF(ISERROR(VLOOKUP($A33+8860000,'Growth Data'!$A:$Z,11,0)),0,VLOOKUP($A33+8860000,'Growth Data'!$A:$Z,11,0))","v":0},0]
[3062,"Burham CEP School",null,"Burham CEP School",null,1,null,459868.42,459868.41923194734,7.6805264689028263E-4,null,27910.09,27910.094828571415,-4.8285714146913961E-3,null,2460.44,2460.444510638295,-4.5106382949597901E-3,null,37806.74,37806.73817518248,1.8248175183543935E-3,null,120084,120083.99999999999,0,null,0,0,0,null,0,0,0,null,0,0,0,null,22081,22081,0,null,0,0,0,null,0,0,0,null,0,0,0,null,670210.69999999995,670210.69674633956,3.2536603976041079E-3,null,0,0,0,null,670210.69999999995,670210.69674633956,3.2536603976041079E-3,null,0,null,0,null,3259.54,null,3259.54,null,0,null,0,null,67657.61,67657.614821400333,0,null,0,null,0,null,4000.8,4000.8005971996281,0,null,0,null,0,null,0,null,0,null,0,null,0,null,0,null,0,null,0,null,0,null,"NO",{"$f":"IF(ISERROR(VLOOKUP($A34+8860000,'Growth Data'!$A:$F,3,0)),\"NO\",VLOOKUP($A34+8860000,'Growth Data'!$A:$F,3,0))","v":"NO"},0,null,0,{"$f":"IF(DI34=\"YES\",IF(ISERROR(VLOOKUP($A34+8860000,'Growth Data'!$A:$F,6,0)),0,VLOOKUP($A34+8860000,'Growth Data'!$A:$F,6,0)),0)","v":0},0,null,0,{"$f":"IF(ISERROR(VLOOKUP($A34+8860000,'Growth Data'!$A:$Z,7,0)),0,VLOOKUP($A34+8860000,'Growth Data'!$A:$Z,7,0))","v":0},0,null,"NO",{"$f":"IF(ISERROR(VLOOKUP($A34+8860000,'Growth Data'!$A:$F,4,0)),\"NO\",VLOOKUP($A34+8860000,'Growth Data'!$A:$F,4,0))","v":"NO"},0,null,0,{"$f":"IF(ISERROR(VLOOKUP($A34+8860000,'Growth Data'!$A:$Z,8,0)),0,VLOOKUP($A34+8860000,'Growth Data'!$A:$Z,8,0))","v":0},0,null,0,{"$f":"IF(ISERROR(VLOOKUP($A34+8860000,'Growth Data'!$A:$Z,9,0)),0,VLOOKUP($A34+8860000,'Growth Data'!$A:$Z,9,0))","v":0},0,null,"NO",{"$f":"IF(ISERROR(VLOOKUP($A34+8860000,'Growth Data'!$A:$Z,5,0)),\"NO\",VLOOKUP($A34+8860000,'Growth Data'!$A:$Z,5,0))","v":"NO"},0,null,0,{"$f":"IF(ISERROR(VLOOKUP($A34+8860000,'Growth Data'!$A:$Z,10,0)),0,VLOOKUP($A34+8860000,'Growth Data'!$A:$Z,10,0))","v":0},0,null,0,{"$f":"IF(ISERROR(VLOOKUP($A34+8860000,'Growth Data'!$A:$Z,11,0)),0,VLOOKUP($A34+8860000,'Growth Data'!$A:$Z,11,0))","v":0},0]
[2534,"Bysing Wood Primary School",null,"Bysing Wood Primary School",null,1,null,428642.79,428642.78582730895,4.1726910276338458E-3,null,98847.25,98847.245936708874,4.0632911259308457E-3,null,4254.82,4254.8183947368407,1.6052631590355304E-3,null,72920.31,72920.305382812498,4.6171875001164153E-3,null,120084,120083.99999999999,0,null,0,0,0,null,0,0,0,null,0,0,0,null,48154,48154,0,null,0,0,0,null,0,0,0,null,0,0,0,null,772903.16,772903.15554156725,4.4584327843040228E-3,null,0,0,0,null,772903.16,772903.15554156725,4.4584327843040228E-3,null,0,null,0,null,4004.41,null,4004.41,null,0,null,0,null,155688.85,155688.84702126635,0,null,0,null,0,null,4799.66,4799.6632817322343,0,null,0,null,0,null,0,null,0,null,0,null,0,null,0,null,0,null,0,null,0,null,"NO",{"$f":"IF(ISERROR(VLOOKUP($A35+8860000,'Growth Data'!$A:$F,3,0)),\"NO\",VLOOKUP($A35+8860000,'Growth Data'!$A:$F,3,0))","v":"YES"},1,null,0,{"$f":"IF(DI35=\"YES\",IF(ISERROR(VLOOKUP($A35+8860000,'Growth Data'!$A:$F,6,0)),0,VLOOKUP($A35+8860000,'Growth Data'!$A:$F,6,0)),0)","v":30},-30,null,0,{"$f":"IF(ISERROR(VLOOKUP($A35+8860000,'Growth Data'!$A:$Z,7,0)),0,VLOOKUP($A35+8860000,'Growth Data'!$A:$Z,7,0))","v":60},1,null,"NO",{"$f":"IF(ISERROR(VLOOKUP($A35+8860000,'Growth Data'!$A:$F,4,0)),\"NO\",VLOOKUP($A35+8860000,'Growth Data'!$A:$F,4,0))","v":"YES"},1,null,0,{"$f":"IF(ISERROR(VLOOKUP($A35+8860000,'Growth Data'!$A:$Z,8,0)),0,VLOOKUP($A35+8860000,'Growth Data'!$A:$Z,8,0))","v":30},1,null,0,{"$f":"IF(ISERROR(VLOOKUP($A35+8860000,'Growth Data'!$A:$Z,9,0)),0,VLOOKUP($A35+8860000,'Growth Data'!$A:$Z,9,0))","v":60},1,null,"NO",{"$f":"IF(ISERROR(VLOOKUP($A35+8860000,'Growth Data'!$A:$Z,5,0)),\"NO\",VLOOKUP($A35+8860000,'Growth Data'!$A:$Z,5,0))","v":"YES"},1,null,0,{"$f":"IF(ISERROR(VLOOKUP($A35+8860000,'Growth Data'!$A:$Z,10,0)),0,VLOOKUP($A35+8860000,'Growth Data'!$A:$Z,10,0))","v":30},1,null,0,{"$f":"IF(ISERROR(VLOOKUP($A35+8860000,'Growth Data'!$A:$Z,11,0)),0,VLOOKUP($A35+8860000,'Growth Data'!$A:$Z,11,0))","v":60},1]
[2329,"Callis Grange Nursery & Infant School",null,"Callis Grange Nursery & Infant School",null,1,null,766447.37,766447.36538657884,4.6134211588650942E-3,null,84431.06,84431.060400000017,-4.0000001899898052E-4,null,6424.49,6424.4939999999933,-3.9999999935389496E-3,null,48226.47,48226.472346368573,-2.3463685720344074E-3,null,120084,120083.99999999999,0,null,0,0,0,null,0,0,0,null,0,0,0,null,43520,43520,0,null,0,0,0,null,0,0,0,null,0,0,0,null,1069133.3899999999,1069133.3921329472,-2.1329473238438368E-3,null,0,0,0,null,1069133.3899999999,1069133.3921329472,-2.1329473238438368E-3,null,0,null,0,null,3353.81,null,3353.81,null,0,null,0,null,123701.97,123701.96905337671,0,null,0,null,0,null,3798.57,3798.568119010919,0,null,0,null,0,null,0,null,0,null,0,null,0,null,0,null,0,null,0,null,0,null,"NO",{"$f":"IF(ISERROR(VLOOKUP($A36+8860000,'Growth Data'!$A:$F,3,0)),\"NO\",VLOOKUP($A36+8860000,'Growth Data'!$A:$F,3,0))","v":"NO"},0,null,0,{"$f":"IF(DI36=\"YES\",IF(ISERROR(VLOOKUP($A36+8860000,'Growth Data'!$A:$F,6,0)),0,VLOOKUP($A36+8860000,'Growth Data'!$A:$F,6,0)),0)","v":0},0,null,0,{"$f":"IF(ISERROR(VLOOKUP($A36+8860000,'Growth Data'!$A:$Z,7,0)),0,VLOOKUP($A36+8860000,'Growth Data'!$A:$Z,7,0))","v":0},0,null,"NO",{"$f":"IF(ISERROR(VLOOKUP($A36+8860000,'Growth Data'!$A:$F,4,0)),\"NO\",VLOOKUP($A36+8860000,'Growth Data'!$A:$F,4,0))","v":"NO"},0,null,0,{"$f":"IF(ISERROR(VLOOKUP($A36+8860000,'Growth Data'!$A:$Z,8,0)),0,VLOOKUP($A36+8860000,'Growth Data'!$A:$Z,8,0))","v":0},0,null,0,{"$f":"IF(ISERROR(VLOOKUP($A36+8860000,'Growth Data'!$A:$Z,9,0)),0,VLOOKUP($A36+8860000,'Growth Data'!$A:$Z,9,0))","v":0},0,null,"NO",{"$f":"IF(ISERROR(VLOOKUP($A36+8860000,'Growth Data'!$A:$Z,5,0)),\"NO\",VLOOKUP($A36+8860000,'Growth Data'!$A:$Z,5,0))","v":"NO"},0,null,0,{"$f":"IF(ISERROR(VLOOKUP($A36+8860000,'Growth Data'!$A:$Z,10,0)),0,VLOOKUP($A36+8860000,'Growth Data'!$A:$Z,10,0))","v":0},0,null,0,{"$f":"IF(ISERROR(VLOOKUP($A36+8860000,'Growth Data'!$A:$Z,11,0)),0,VLOOKUP($A36+8860000,'Growth Data'!$A:$Z,11,0))","v":0},0]
[2254,"Canterbury Road Primary School",null,"Canterbury Road Primary School",null,1,null,584770.94999999995,584770.95285050094,-2.8505009831860662E-3,null,83078.179999999993,83078.181032535882,-1.0325358889531344E-3,null,11279.37,11279.367306818152,2.6931818483717507E-3,null,83943.13,83943.130852941264,-8.5294125892687589E-4,null,120084,120083.99999999999,0,null,0,0,0,null,0,0,0,null,0,0,0,null,29952,29952,0,null,0,0,0,null,0,0,0,null,0,0,0,null,913107.63,913107.63204279623,-2.0427962299436331E-3,null,0,0,0,null,913107.63,913107.63204279623,-2.0427962299436331E-3,null,0,null,0,null,3704.23,null,3704.23,null,0,null,0,null,171026.29,171026.29149930342,0,null,0,null,0,null,4287.16,4287.1632623436726,0,null,0,null,0,null,0,null,0,null,0,null,0,null,0,null,0,null,0,null,0,null,"NO",{"$f":"IF(ISERROR(VLOOKUP($A37+8860000,'Growth Data'!$A:$F,3,0)),\"NO\",VLOOKUP($A37+8860000,'Growth Data'!$A:$F,3,0))","v":"NO"},0,null,0,{"$f":"IF(DI37=\"YES\",IF(ISERROR(VLOOKUP($A37+8860000,'Growth Data'!$A:$F,6,0)),0,VLOOKUP($A37+8860000,'Growth Data'!$A:$F,6,0)),0)","v":0},0,null,0,{"$f":"IF(ISERROR(VLOOKUP($A37+8860000,'Growth Data'!$A:$Z,7,0)),0,VLOOKUP($A37+8860000,'Growth Data'!$A:$Z,7,0))","v":0},0,null,"NO",{"$f":"IF(ISERROR(VLOOKUP($A37+8860000,'Growth Data'!$A:$F,4,0)),\"NO\",VLOOKUP($A37+8860000,'Growth Data'!$A:$F,4,0))","v":"NO"},0,null,0,{"$f":"IF(ISERROR(VLOOKUP($A37+8860000,'Growth Data'!$A:$Z,8,0)),0,VLOOKUP($A37+8860000,'Growth Data'!$A:$Z,8,0))","v":0},0,null,0,{"$f":"IF(ISERROR(VLOOKUP($A37+8860000,'Growth Data'!$A:$Z,9,0)),0,VLOOKUP($A37+8860000,'Growth Data'!$A:$Z,9,0))","v":0},0,null,"NO",{"$f":"IF(ISERROR(VLOOKUP($A37+8860000,'Growth Data'!$A:$Z,5,0)),\"NO\",VLOOKUP($A37+8860000,'Growth Data'!$A:$Z,5,0))","v":"NO"},0,null,0,{"$f":"IF(ISERROR(VLOOKUP($A37+8860000,'Growth Data'!$A:$Z,10,0)),0,VLOOKUP($A37+8860000,'Growth Data'!$A:$Z,10,0))","v":0},0,null,0,{"$f":"IF(ISERROR(VLOOKUP($A37+8860000,'Growth Data'!$A:$Z,11,0)),0,VLOOKUP($A37+8860000,'Growth Data'!$A:$Z,11,0))","v":0},0]
[2128,"Capel Primary School",null,"Capel Primary School",null,1,null,590448.34,590448.34074225335,-7.422533817589283E-4,null,23119.94,23119.944068571451,-4.068571452080505E-3,null,2474.62,2474.6199111111086,8.8888891241367674E-5,null,39268.15,39268.154194285678,-4.194285676931031E-3,null,120084,120083.99999999999,0,null,0,0,0,null,0,0,0,null,0,0,0,null,21457,21457,0,null,0,0,0,null,0,0,0,null,4604.9399999999996,4604.9410837785108,-1.0837785112016718E-3,null,801457,801457,0,null,0,0,0,null,801457,801457,0,null,0,null,0,null,3750,null,3750,null,0,null,0,null,59839.91,59839.905480976362,0,null,16.010000000000002,null,16,null,3750,3750,0,null,0,null,0,null,0,null,0,null,0,null,0,null,0,null,0,null,0,null,0,null,"NO",{"$f":"IF(ISERROR(VLOOKUP($A38+8860000,'Growth Data'!$A:$F,3,0)),\"NO\",VLOOKUP($A38+8860000,'Growth Data'!$A:$F,3,0))","v":"NO"},0,null,0,{"$f":"IF(DI38=\"YES\",IF(ISERROR(VLOOKUP($A38+8860000,'Growth Data'!$A:$F,6,0)),0,VLOOKUP($A38+8860000,'Growth Data'!$A:$F,6,0)),0)","v":0},0,null,0,{"$f":"IF(ISERROR(VLOOKUP($A38+8860000,'Growth Data'!$A:$Z,7,0)),0,VLOOKUP($A38+8860000,'Growth Data'!$A:$Z,7,0))","v":0},0,null,"NO",{"$f":"IF(ISERROR(VLOOKUP($A38+8860000,'Growth Data'!$A:$F,4,0)),\"NO\",VLOOKUP($A38+8860000,'Growth Data'!$A:$F,4,0))","v":"NO"},0,null,0,{"$f":"IF(ISERROR(VLOOKUP($A38+8860000,'Growth Data'!$A:$Z,8,0)),0,VLOOKUP($A38+8860000,'Growth Data'!$A:$Z,8,0))","v":0},0,null,0,{"$f":"IF(ISERROR(VLOOKUP($A38+8860000,'Growth Data'!$A:$Z,9,0)),0,VLOOKUP($A38+8860000,'Growth Data'!$A:$Z,9,0))","v":0},0,null,"NO",{"$f":"IF(ISERROR(VLOOKUP($A38+8860000,'Growth Data'!$A:$Z,5,0)),\"NO\",VLOOKUP($A38+8860000,'Growth Data'!$A:$Z,5,0))","v":"NO"},0,null,0,{"$f":"IF(ISERROR(VLOOKUP($A38+8860000,'Growth Data'!$A:$Z,10,0)),0,VLOOKUP($A38+8860000,'Growth Data'!$A:$Z,10,0))","v":0},0,null,0,{"$f":"IF(ISERROR(VLOOKUP($A38+8860000,'Growth Data'!$A:$Z,11,0)),0,VLOOKUP($A38+8860000,'Growth Data'!$A:$Z,11,0))","v":0},0]
[2559,"Capel-le-Ferne Primary School",null,"Capel-le-Ferne Primary School",null,1,null,573416.18000000005,573416.17706699611,2.9330039396882057E-3,null,41855.97,41855.970992307659,-9.9230765772517771E-4,null,0,0,0,null,51257.279999999999,51257.283571428547,-3.5714285477297381E-3,null,120084,120083.99999999999,0,null,0,0,0,null,0,0,0,null,0,0,0,null,19336,19336,0,null,0,0,0,null,0,0,0,null,0,0,0,null,805949.43,805949.43163073226,-1.6307322075590491E-3,null,0,0,0,null,805949.43,805949.43163073226,-1.6307322075590491E-3,null,0,null,0,null,3299.65,null,3299.65,null,0,null,0,null,94394.85,94394.851870744358,0,null,0,null,0,null,3894.13,3894.125899162043,0,null,0,null,0,null,0,null,0,null,0,null,0,null,0,null,0,null,0,null,0,null,"NO",{"$f":"IF(ISERROR(VLOOKUP($A39+8860000,'Growth Data'!$A:$F,3,0)),\"NO\",VLOOKUP($A39+8860000,'Growth Data'!$A:$F,3,0))","v":"NO"},0,null,0,{"$f":"IF(DI39=\"YES\",IF(ISERROR(VLOOKUP($A39+8860000,'Growth Data'!$A:$F,6,0)),0,VLOOKUP($A39+8860000,'Growth Data'!$A:$F,6,0)),0)","v":0},0,null,0,{"$f":"IF(ISERROR(VLOOKUP($A39+8860000,'Growth Data'!$A:$Z,7,0)),0,VLOOKUP($A39+8860000,'Growth Data'!$A:$Z,7,0))","v":0},0,null,"NO",{"$f":"IF(ISERROR(VLOOKUP($A39+8860000,'Growth Data'!$A:$F,4,0)),\"NO\",VLOOKUP($A39+8860000,'Growth Data'!$A:$F,4,0))","v":"NO"},0,null,0,{"$f":"IF(ISERROR(VLOOKUP($A39+8860000,'Growth Data'!$A:$Z,8,0)),0,VLOOKUP($A39+8860000,'Growth Data'!$A:$Z,8,0))","v":0},0,null,0,{"$f":"IF(ISERROR(VLOOKUP($A39+8860000,'Growth Data'!$A:$Z,9,0)),0,VLOOKUP($A39+8860000,'Growth Data'!$A:$Z,9,0))","v":0},0,null,"NO",{"$f":"IF(ISERROR(VLOOKUP($A39+8860000,'Growth Data'!$A:$Z,5,0)),\"NO\",VLOOKUP($A39+8860000,'Growth Data'!$A:$Z,5,0))","v":"NO"},0,null,0,{"$f":"IF(ISERROR(VLOOKUP($A39+8860000,'Growth Data'!$A:$Z,10,0)),0,VLOOKUP($A39+8860000,'Growth Data'!$A:$Z,10,0))","v":0},0,null,0,{"$f":"IF(ISERROR(VLOOKUP($A39+8860000,'Growth Data'!$A:$Z,11,0)),0,VLOOKUP($A39+8860000,'Growth Data'!$A:$Z,11,0))","v":0},0]
[3904,"Castle Hill Community Primary School",null,"Castle Hill Community Primary School",null,1,null,1107090.6399999999,1107090.6388917251,1.108274795114994E-3,null,279123.75,279123.747357513,2.6424870011396706E-3,null,15535.42,15535.420758928571,-7.5892857057624497E-4,null,147526.81,147526.8076388888,2.3611111973877996E-3,null,120084,120083.99999999999,0,null,0,0,0,null,0,0,0,null,0,0,0,null,54784,54784,0,null,0,0,0,null,0,0,0,null,0,0,0,null,1724144.61,1724144.6146470555,-4.6470554079860449E-3,null,0,0,0,null,1724144.61,1724144.6146470555,-4.6470554079860449E-3,null,0,null,0,null,3972.5,null,3972.5,null,0.22,null,0.22,null,372768.12,372768.1180623385,0,null,0,null,0,null,4280.41,4280.411832428349,0,null,0,null,0,null,0,null,0,null,0,null,0,null,0,null,0,null,0,null,0,null,"NO",{"$f":"IF(ISERROR(VLOOKUP($A40+8860000,'Growth Data'!$A:$F,3,0)),\"NO\",VLOOKUP($A40+8860000,'Growth Data'!$A:$F,3,0))","v":"NO"},0,null,0,{"$f":"IF(DI40=\"YES\",IF(ISERROR(VLOOKUP($A40+8860000,'Growth Data'!$A:$F,6,0)),0,VLOOKUP($A40+8860000,'Growth Data'!$A:$F,6,0)),0)","v":0},0,null,0,{"$f":"IF(ISERROR(VLOOKUP($A40+8860000,'Growth Data'!$A:$Z,7,0)),0,VLOOKUP($A40+8860000,'Growth Data'!$A:$Z,7,0))","v":0},0,null,"NO",{"$f":"IF(ISERROR(VLOOKUP($A40+8860000,'Growth Data'!$A:$F,4,0)),\"NO\",VLOOKUP($A40+8860000,'Growth Data'!$A:$F,4,0))","v":"NO"},0,null,0,{"$f":"IF(ISERROR(VLOOKUP($A40+8860000,'Growth Data'!$A:$Z,8,0)),0,VLOOKUP($A40+8860000,'Growth Data'!$A:$Z,8,0))","v":0},0,null,0,{"$f":"IF(ISERROR(VLOOKUP($A40+8860000,'Growth Data'!$A:$Z,9,0)),0,VLOOKUP($A40+8860000,'Growth Data'!$A:$Z,9,0))","v":0},0,null,"NO",{"$f":"IF(ISERROR(VLOOKUP($A40+8860000,'Growth Data'!$A:$Z,5,0)),\"NO\",VLOOKUP($A40+8860000,'Growth Data'!$A:$Z,5,0))","v":"NO"},0,null,0,{"$f":"IF(ISERROR(VLOOKUP($A40+8860000,'Growth Data'!$A:$Z,10,0)),0,VLOOKUP($A40+8860000,'Growth Data'!$A:$Z,10,0))","v":0},0,null,0,{"$f":"IF(ISERROR(VLOOKUP($A40+8860000,'Growth Data'!$A:$Z,11,0)),0,VLOOKUP($A40+8860000,'Growth Data'!$A:$Z,11,0))","v":0},0]
[2095,"Cecil Road Primary and Nursery School",null,"Cecil Road Primary and Nursery School",null,1,null,1067348.92,1067348.923649458,-3.6494580563157797E-3,null,90590.64,90590.641197826859,-1.197826859424822E-3,null,50795.53,50795.532000000028,-2.0000000295112841E-3,null,103370.53,103370.52531210173,4.6878982684575021E-3,null,120084,120083.99999999999,0,null,0,0,0,null,0,0,0,null,0,0,0,null,34048,34048,0,null,0,0,0,null,0,0,0,null,0,0,0,null,1466237.62,1466237.6221593868,-2.1593866404145956E-3,null,0,0,0,null,1466237.62,1466237.6221593868,-2.1593866404145956E-3,null,0,null,0,null,3489.64,null,3489.64,null,0,null,0,null,228476.01,228476.01081693682,0,null,0,null,0,null,3809.02,3809.0149525515617,0,null,0,null,0,null,0,null,0,null,0,null,0,null,0,null,0,null,0,null,0,null,"NO",{"$f":"IF(ISERROR(VLOOKUP($A41+8860000,'Growth Data'!$A:$F,3,0)),\"NO\",VLOOKUP($A41+8860000,'Growth Data'!$A:$F,3,0))","v":"NO"},0,null,0,{"$f":"IF(DI41=\"YES\",IF(ISERROR(VLOOKUP($A41+8860000,'Growth Data'!$A:$F,6,0)),0,VLOOKUP($A41+8860000,'Growth Data'!$A:$F,6,0)),0)","v":0},0,null,0,{"$f":"IF(ISERROR(VLOOKUP($A41+8860000,'Growth Data'!$A:$Z,7,0)),0,VLOOKUP($A41+8860000,'Growth Data'!$A:$Z,7,0))","v":0},0,null,"NO",{"$f":"IF(ISERROR(VLOOKUP($A41+8860000,'Growth Data'!$A:$F,4,0)),\"NO\",VLOOKUP($A41+8860000,'Growth Data'!$A:$F,4,0))","v":"NO"},0,null,0,{"$f":"IF(ISERROR(VLOOKUP($A41+8860000,'Growth Data'!$A:$Z,8,0)),0,VLOOKUP($A41+8860000,'Growth Data'!$A:$Z,8,0))","v":0},0,null,0,{"$f":"IF(ISERROR(VLOOKUP($A41+8860000,'Growth Data'!$A:$Z,9,0)),0,VLOOKUP($A41+8860000,'Growth Data'!$A:$Z,9,0))","v":0},0,null,"NO",{"$f":"IF(ISERROR(VLOOKUP($A41+8860000,'Growth Data'!$A:$Z,5,0)),\"NO\",VLOOKUP($A41+8860000,'Growth Data'!$A:$Z,5,0))","v":"NO"},0,null,0,{"$f":"IF(ISERROR(VLOOKUP($A41+8860000,'Growth Data'!$A:$Z,10,0)),0,VLOOKUP($A41+8860000,'Growth Data'!$A:$Z,10,0))","v":0},0,null,0,{"$f":"IF(ISERROR(VLOOKUP($A41+8860000,'Growth Data'!$A:$Z,11,0)),0,VLOOKUP($A41+8860000,'Growth Data'!$A:$Z,11,0))","v":0},0]
[2280,"Challock Primary School",null,"Challock Primary School",null,1,null,587609.65,587609.64679637714,3.2036228803917766E-3,null,7944,7943.9954488367803,4.5511632197303697E-3,null,1878.35,1878.3478220339002,2.1779660996799066E-3,null,53250.53,53250.525155172509,4.8448274901602417E-3,null,120084,120083.99999999999,0,null,0,0,0,null,0,0,0,null,0,0,0,null,19711,19711,0,null,0,0,0,null,0,0,0,null,5483.48,5483.4847775795497,-4.7775795501365792E-3,null,795961,795961,0,null,0,0,0,null,795961,795961,0,null,0,null,0,null,3750,null,3750,null,0,null,0,null,66606.039999999994,66606.040733051341,0,null,0,null,0,null,3750,3750,0,null,0,null,0,null,0,null,0,null,0,null,0,null,0,null,0,null,0,null,0,null,"NO",{"$f":"IF(ISERROR(VLOOKUP($A42+8860000,'Growth Data'!$A:$F,3,0)),\"NO\",VLOOKUP($A42+8860000,'Growth Data'!$A:$F,3,0))","v":"NO"},0,null,0,{"$f":"IF(DI42=\"YES\",IF(ISERROR(VLOOKUP($A42+8860000,'Growth Data'!$A:$F,6,0)),0,VLOOKUP($A42+8860000,'Growth Data'!$A:$F,6,0)),0)","v":0},0,null,0,{"$f":"IF(ISERROR(VLOOKUP($A42+8860000,'Growth Data'!$A:$Z,7,0)),0,VLOOKUP($A42+8860000,'Growth Data'!$A:$Z,7,0))","v":0},0,null,"NO",{"$f":"IF(ISERROR(VLOOKUP($A42+8860000,'Growth Data'!$A:$F,4,0)),\"NO\",VLOOKUP($A42+8860000,'Growth Data'!$A:$F,4,0))","v":"NO"},0,null,0,{"$f":"IF(ISERROR(VLOOKUP($A42+8860000,'Growth Data'!$A:$Z,8,0)),0,VLOOKUP($A42+8860000,'Growth Data'!$A:$Z,8,0))","v":0},0,null,0,{"$f":"IF(ISERROR(VLOOKUP($A42+8860000,'Growth Data'!$A:$Z,9,0)),0,VLOOKUP($A42+8860000,'Growth Data'!$A:$Z,9,0))","v":0},0,null,"NO",{"$f":"IF(ISERROR(VLOOKUP($A42+8860000,'Growth Data'!$A:$Z,5,0)),\"NO\",VLOOKUP($A42+8860000,'Growth Data'!$A:$Z,5,0))","v":"NO"},0,null,0,{"$f":"IF(ISERROR(VLOOKUP($A42+8860000,'Growth Data'!$A:$Z,10,0)),0,VLOOKUP($A42+8860000,'Growth Data'!$A:$Z,10,0))","v":0},0,null,0,{"$f":"IF(ISERROR(VLOOKUP($A42+8860000,'Growth Data'!$A:$Z,11,0)),0,VLOOKUP($A42+8860000,'Growth Data'!$A:$Z,11,0))","v":0},0]
[2259,"Chartham Primary School",null,"Chartham Primary School",null,1,null,1002058.96,1002058.962894305,-2.8943050419911742E-3,null,54970.99,54970.99123846148,-1.2384614819893613E-3,null,8878.59,8878.5932181208082,-3.2181208080146462E-3,null,90763.51,90763.507494755147,2.5052448472706601E-3,null,120084,120083.99999999999,0,null,0,0,0,null,0,0,0,null,0,0,0,null,32512,32512,0,null,0,0,0,null,0,0,0,null,46993.95,46993.945154357702,4.8456422955496237E-3,null,1356262,1356262,0,null,0,0,0,null,1356262,1356262,0,null,0,null,0,null,3750,null,3750,null,0,null,0,null,134279.57,134279.56925834564,0,null,0,null,0,null,3750,3750,0,null,0,null,0,null,0,null,0,null,0,null,0,null,0,null,0,null,0,null,0,null,"NO",{"$f":"IF(ISERROR(VLOOKUP($A43+8860000,'Growth Data'!$A:$F,3,0)),\"NO\",VLOOKUP($A43+8860000,'Growth Data'!$A:$F,3,0))","v":"YES"},1,null,0,{"$f":"IF(DI43=\"YES\",IF(ISERROR(VLOOKUP($A43+8860000,'Growth Data'!$A:$F,6,0)),0,VLOOKUP($A43+8860000,'Growth Data'!$A:$F,6,0)),0)","v":46},-46,null,0,{"$f":"IF(ISERROR(VLOOKUP($A43+8860000,'Growth Data'!$A:$Z,7,0)),0,VLOOKUP($A43+8860000,'Growth Data'!$A:$Z,7,0))","v":60},1,null,"NO",{"$f":"IF(ISERROR(VLOOKUP($A43+8860000,'Growth Data'!$A:$F,4,0)),\"NO\",VLOOKUP($A43+8860000,'Growth Data'!$A:$F,4,0))","v":"YES"},1,null,0,{"$f":"IF(ISERROR(VLOOKUP($A43+8860000,'Growth Data'!$A:$Z,8,0)),0,VLOOKUP($A43+8860000,'Growth Data'!$A:$Z,8,0))","v":46},1,null,0,{"$f":"IF(ISERROR(VLOOKUP($A43+8860000,'Growth Data'!$A:$Z,9,0)),0,VLOOKUP($A43+8860000,'Growth Data'!$A:$Z,9,0))","v":60},1,null,"NO",{"$f":"IF(ISERROR(VLOOKUP($A43+8860000,'Growth Data'!$A:$Z,5,0)),\"NO\",VLOOKUP($A43+8860000,'Growth Data'!$A:$Z,5,0))","v":"NO"},0,null,0,{"$f":"IF(ISERROR(VLOOKUP($A43+8860000,'Growth Data'!$A:$Z,10,0)),0,VLOOKUP($A43+8860000,'Growth Data'!$A:$Z,10,0))","v":0},0,null,0,{"$f":"IF(ISERROR(VLOOKUP($A43+8860000,'Growth Data'!$A:$Z,11,0)),0,VLOOKUP($A43+8860000,'Growth Data'!$A:$Z,11,0))","v":0},0]
[2510,"Cheriton Primary School",null,"Cheriton Primary School",null,1,null,1237670.56,1237670.5604020311,-4.0203100070357323E-4,null,101490.26,101490.26221057257,-2.2105725802248344E-3,null,43653.19,43653.185205194801,4.7948052015271969E-3,null,116497.22,116497.21750427363,2.4957263667602092E-3,null,120084,120083.99999999999,0,null,0,0,0,null,0,0,0,null,0,0,0,null,8909,8909,0,null,0,0,0,null,0,0,0,null,15604.77,15604.774677927839,-4.6779278382018674E-3,null,1643909,1643909,0,null,0,0,0,null,1643909,1643909,0,null,0,null,0,null,3750,null,3750,null,0,null,0,null,235002.73,235002.73222704924,0,null,0,null,0,null,3750,3750,0,null,649500,null,649500,null,0,null,0,null,0,null,0,null,0,null,0,null,0,null,0,null,"NO",{"$f":"IF(ISERROR(VLOOKUP($A44+8860000,'Growth Data'!$A:$F,3,0)),\"NO\",VLOOKUP($A44+8860000,'Growth Data'!$A:$F,3,0))","v":"NO"},0,null,0,{"$f":"IF(DI44=\"YES\",IF(ISERROR(VLOOKUP($A44+8860000,'Growth Data'!$A:$F,6,0)),0,VLOOKUP($A44+8860000,'Growth Data'!$A:$F,6,0)),0)","v":0},0,null,0,{"$f":"IF(ISERROR(VLOOKUP($A44+8860000,'Growth Data'!$A:$Z,7,0)),0,VLOOKUP($A44+8860000,'Growth Data'!$A:$Z,7,0))","v":0},0,null,"YES",{"$f":"IF(ISERROR(VLOOKUP($A44+8860000,'Growth Data'!$A:$F,4,0)),\"NO\",VLOOKUP($A44+8860000,'Growth Data'!$A:$F,4,0))","v":"NO"},1,null,64,{"$f":"IF(ISERROR(VLOOKUP($A44+8860000,'Growth Data'!$A:$Z,8,0)),0,VLOOKUP($A44+8860000,'Growth Data'!$A:$Z,8,0))","v":0},1,null,82,{"$f":"IF(ISERROR(VLOOKUP($A44+8860000,'Growth Data'!$A:$Z,9,0)),0,VLOOKUP($A44+8860000,'Growth Data'!$A:$Z,9,0))","v":0},1,null,"YES",{"$f":"IF(ISERROR(VLOOKUP($A44+8860000,'Growth Data'!$A:$Z,5,0)),\"NO\",VLOOKUP($A44+8860000,'Growth Data'!$A:$Z,5,0))","v":"NO"},1,null,67,{"$f":"IF(ISERROR(VLOOKUP($A44+8860000,'Growth Data'!$A:$Z,10,0)),0,VLOOKUP($A44+8860000,'Growth Data'!$A:$Z,10,0))","v":0},1,null,82,{"$f":"IF(ISERROR(VLOOKUP($A44+8860000,'Growth Data'!$A:$Z,11,0)),0,VLOOKUP($A44+8860000,'Growth Data'!$A:$Z,11,0))","v":0},1]
[3307,"Chevening (St Botolph's) CEP School",null,"Chevening (St Botolph's) CEP School",null,1,null,573416.18000000005,573416.17706699611,2.9330039396882057E-3,null,6106.86,6106.8571756097544,2.824390245223185E-3,null,5658.78,5658.7839593023218,-3.9593023220731993E-3,null,34129.85,34129.849792683002,2.0731699623866007E-4,null,120084,120083.99999999999,0,null,0,0,0,null,26914,26914.002315003116,-2.3150031156546902E-3,null,0,0,0,null,5171,5171,0,null,0,0,0,null,0,0,0,null,0,0,0,null,771480.67,771480.67030959437,-3.0959432478994131E-4,null,0,0,0,null,771480.67,771480.67030959437,-3.0959432478994131E-4,null,0,null,0,null,3177.5,null,3177.5,null,0,null,0,null,51227.87,51227.866576342785,0,null,877.21,null,877,null,3793.61,3793.6122292554187,0,null,0,null,0,null,0,null,0,null,0,null,0,null,0,null,0,null,0,null,0,null,"NO",{"$f":"IF(ISERROR(VLOOKUP($A45+8860000,'Growth Data'!$A:$F,3,0)),\"NO\",VLOOKUP($A45+8860000,'Growth Data'!$A:$F,3,0))","v":"NO"},0,null,0,{"$f":"IF(DI45=\"YES\",IF(ISERROR(VLOOKUP($A45+8860000,'Growth Data'!$A:$F,6,0)),0,VLOOKUP($A45+8860000,'Growth Data'!$A:$F,6,0)),0)","v":0},0,null,0,{"$f":"IF(ISERROR(VLOOKUP($A45+8860000,'Growth Data'!$A:$Z,7,0)),0,VLOOKUP($A45+8860000,'Growth Data'!$A:$Z,7,0))","v":0},0,null,"NO",{"$f":"IF(ISERROR(VLOOKUP($A45+8860000,'Growth Data'!$A:$F,4,0)),\"NO\",VLOOKUP($A45+8860000,'Growth Data'!$A:$F,4,0))","v":"NO"},0,null,0,{"$f":"IF(ISERROR(VLOOKUP($A45+8860000,'Growth Data'!$A:$Z,8,0)),0,VLOOKUP($A45+8860000,'Growth Data'!$A:$Z,8,0))","v":0},0,null,0,{"$f":"IF(ISERROR(VLOOKUP($A45+8860000,'Growth Data'!$A:$Z,9,0)),0,VLOOKUP($A45+8860000,'Growth Data'!$A:$Z,9,0))","v":0},0,null,"NO",{"$f":"IF(ISERROR(VLOOKUP($A45+8860000,'Growth Data'!$A:$Z,5,0)),\"NO\",VLOOKUP($A45+8860000,'Growth Data'!$A:$Z,5,0))","v":"NO"},0,null,0,{"$f":"IF(ISERROR(VLOOKUP($A45+8860000,'Growth Data'!$A:$Z,10,0)),0,VLOOKUP($A45+8860000,'Growth Data'!$A:$Z,10,0))","v":0},0,null,0,{"$f":"IF(ISERROR(VLOOKUP($A45+8860000,'Growth Data'!$A:$Z,11,0)),0,VLOOKUP($A45+8860000,'Growth Data'!$A:$Z,11,0))","v":0},0]
[3138,"Chilham St Mary's CEP School",null,"Chilham St Mary's CEP School",null,1,null,238450.29,238450.29145360232,-1.4536023081745952E-3,null,16787.740000000002,16787.743199999997,-3.1999999955587555E-3,null,599.62,599.61943999999858,5.6000000142830686E-4,null,23300.41,23300.408465753448,1.5342465521825943E-3,null,120084,120083.99999999999,0,null,0,0,0,null,0,0,0,null,0,0,0,null,8358,8358,0,null,0,0,0,null,8400,8400,0,null,0,0,0,null,415980.06,415980.06255935575,-2.5593557511456311E-3,null,0,0,0,null,415980.06,415980.06255935575,-2.5593557511456311E-3,null,0,null,0,null,3423.07,null,3423.07,null,0,null,0,null,37916.53,37916.533412761593,0,null,2208.35,null,2208,null,4752.6400000000003,4752.6436018970944,0,null,0,null,0,null,0,null,0,null,0,null,0,null,0,null,0,null,0,null,0,null,"NO",{"$f":"IF(ISERROR(VLOOKUP($A46+8860000,'Growth Data'!$A:$F,3,0)),\"NO\",VLOOKUP($A46+8860000,'Growth Data'!$A:$F,3,0))","v":"NO"},0,null,0,{"$f":"IF(DI46=\"YES\",IF(ISERROR(VLOOKUP($A46+8860000,'Growth Data'!$A:$F,6,0)),0,VLOOKUP($A46+8860000,'Growth Data'!$A:$F,6,0)),0)","v":0},0,null,0,{"$f":"IF(ISERROR(VLOOKUP($A46+8860000,'Growth Data'!$A:$Z,7,0)),0,VLOOKUP($A46+8860000,'Growth Data'!$A:$Z,7,0))","v":0},0,null,"NO",{"$f":"IF(ISERROR(VLOOKUP($A46+8860000,'Growth Data'!$A:$F,4,0)),\"NO\",VLOOKUP($A46+8860000,'Growth Data'!$A:$F,4,0))","v":"NO"},0,null,0,{"$f":"IF(ISERROR(VLOOKUP($A46+8860000,'Growth Data'!$A:$Z,8,0)),0,VLOOKUP($A46+8860000,'Growth Data'!$A:$Z,8,0))","v":0},0,null,0,{"$f":"IF(ISERROR(VLOOKUP($A46+8860000,'Growth Data'!$A:$Z,9,0)),0,VLOOKUP($A46+8860000,'Growth Data'!$A:$Z,9,0))","v":0},0,null,"NO",{"$f":"IF(ISERROR(VLOOKUP($A46+8860000,'Growth Data'!$A:$Z,5,0)),\"NO\",VLOOKUP($A46+8860000,'Growth Data'!$A:$Z,5,0))","v":"NO"},0,null,0,{"$f":"IF(ISERROR(VLOOKUP($A46+8860000,'Growth Data'!$A:$Z,10,0)),0,VLOOKUP($A46+8860000,'Growth Data'!$A:$Z,10,0))","v":0},0,null,0,{"$f":"IF(ISERROR(VLOOKUP($A46+8860000,'Growth Data'!$A:$Z,11,0)),0,VLOOKUP($A46+8860000,'Growth Data'!$A:$Z,11,0))","v":0},0]
[3123,"Chislet CEP School",null,"Chislet CEP School",null,1,null,278192.01,278192.00669586938,3.3041306305676699E-3,null,11775.64,11775.637179999994,2.8200000051583629E-3,null,0,0,0,null,28597.5,28597.50425000002,-4.2500000199652277E-3,null,120084,120083.99999999999,0,null,0,0,0,null,0,0,0,null,0,0,0,null,6113,6113,0,null,0,0,0,null,0,0,0,null,0,0,0,null,444762.15,444762.1481258694,1.8741306266747415E-3,null,0,0,0,null,444762.15,444762.1481258694,1.8741306266747415E-3,null,0,null,0,null,3250.66,null,3250.66,null,0,null,0,null,45257.26,45257.25873700816,0,null,1474.27,null,1474,null,4476.01,4476.0117155700973,0,null,0,null,0,null,0,null,0,null,0,null,0,null,0,null,0,null,0,null,0,null,"NO",{"$f":"IF(ISERROR(VLOOKUP($A47+8860000,'Growth Data'!$A:$F,3,0)),\"NO\",VLOOKUP($A47+8860000,'Growth Data'!$A:$F,3,0))","v":"NO"},0,null,0,{"$f":"IF(DI47=\"YES\",IF(ISERROR(VLOOKUP($A47+8860000,'Growth Data'!$A:$F,6,0)),0,VLOOKUP($A47+8860000,'Growth Data'!$A:$F,6,0)),0)","v":0},0,null,0,{"$f":"IF(ISERROR(VLOOKUP($A47+8860000,'Growth Data'!$A:$Z,7,0)),0,VLOOKUP($A47+8860000,'Growth Data'!$A:$Z,7,0))","v":0},0,null,"NO",{"$f":"IF(ISERROR(VLOOKUP($A47+8860000,'Growth Data'!$A:$F,4,0)),\"NO\",VLOOKUP($A47+8860000,'Growth Data'!$A:$F,4,0))","v":"NO"},0,null,0,{"$f":"IF(ISERROR(VLOOKUP($A47+8860000,'Growth Data'!$A:$Z,8,0)),0,VLOOKUP($A47+8860000,'Growth Data'!$A:$Z,8,0))","v":0},0,null,0,{"$f":"IF(ISERROR(VLOOKUP($A47+8860000,'Growth Data'!$A:$Z,9,0)),0,VLOOKUP($A47+8860000,'Growth Data'!$A:$Z,9,0))","v":0},0,null,"NO",{"$f":"IF(ISERROR(VLOOKUP($A47+8860000,'Growth Data'!$A:$Z,5,0)),\"NO\",VLOOKUP($A47+8860000,'Growth Data'!$A:$Z,5,0))","v":"NO"},0,null,0,{"$f":"IF(ISERROR(VLOOKUP($A47+8860000,'Growth Data'!$A:$Z,10,0)),0,VLOOKUP($A47+8860000,'Growth Data'!$A:$Z,10,0))","v":0},0,null,0,{"$f":"IF(ISERROR(VLOOKUP($A47+8860000,'Growth Data'!$A:$Z,11,0)),0,VLOOKUP($A47+8860000,'Growth Data'!$A:$Z,11,0))","v":0},0]
[3055,"Churchill CEP School",null,"Churchill CEP School",null,1,null,644383.53,644383.5257139015,4.2860985267907381E-3,null,27888.12,27888.118065637056,1.9343629428476561E-3,null,4407.82,4407.8242512953411,-4.2512953414188814E-3,null,42465.42,42465.42308776595,-3.0877659519319423E-3,null,120084,120083.99999999999,0,null,0,0,0,null,30547.93,30547.931636717021,-1.6367170210287441E-3,null,0,0,0,null,28928,28928,0,null,0,0,0,null,0,0,0,null,0,0,0,null,898704.82,898704.82275531685,-2.7553169056773186E-3,null,0,0,0,null,898704.82,898704.82275531685,-2.7553169056773186E-3,null,0,null,0,null,3283.36,null,3283.36,null,0,null,0,null,69943.5,69943.503700412621,0,null,0,null,0,null,3831.62,3831.6159592745257,0,null,0,null,0,null,0,null,0,null,0,null,0,null,0,null,0,null,0,null,0,null,"NO",{"$f":"IF(ISERROR(VLOOKUP($A48+8860000,'Growth Data'!$A:$F,3,0)),\"NO\",VLOOKUP($A48+8860000,'Growth Data'!$A:$F,3,0))","v":"NO"},0,null,0,{"$f":"IF(DI48=\"YES\",IF(ISERROR(VLOOKUP($A48+8860000,'Growth Data'!$A:$F,6,0)),0,VLOOKUP($A48+8860000,'Growth Data'!$A:$F,6,0)),0)","v":0},0,null,0,{"$f":"IF(ISERROR(VLOOKUP($A48+8860000,'Growth Data'!$A:$Z,7,0)),0,VLOOKUP($A48+8860000,'Growth Data'!$A:$Z,7,0))","v":0},0,null,"NO",{"$f":"IF(ISERROR(VLOOKUP($A48+8860000,'Growth Data'!$A:$F,4,0)),\"NO\",VLOOKUP($A48+8860000,'Growth Data'!$A:$F,4,0))","v":"NO"},0,null,0,{"$f":"IF(ISERROR(VLOOKUP($A48+8860000,'Growth Data'!$A:$Z,8,0)),0,VLOOKUP($A48+8860000,'Growth Data'!$A:$Z,8,0))","v":0},0,null,0,{"$f":"IF(ISERROR(VLOOKUP($A48+8860000,'Growth Data'!$A:$Z,9,0)),0,VLOOKUP($A48+8860000,'Growth Data'!$A:$Z,9,0))","v":0},0,null,"NO",{"$f":"IF(ISERROR(VLOOKUP($A48+8860000,'Growth Data'!$A:$Z,5,0)),\"NO\",VLOOKUP($A48+8860000,'Growth Data'!$A:$Z,5,0))","v":"NO"},0,null,0,{"$f":"IF(ISERROR(VLOOKUP($A48+8860000,'Growth Data'!$A:$Z,10,0)),0,VLOOKUP($A48+8860000,'Growth Data'!$A:$Z,10,0))","v":0},0,null,0,{"$f":"IF(ISERROR(VLOOKUP($A48+8860000,'Growth Data'!$A:$Z,11,0)),0,VLOOKUP($A48+8860000,'Growth Data'!$A:$Z,11,0))","v":0},0]
[2692,"Churchill School, The",null,"Churchill School, The",null,1,null,1132638.8799999999,1132638.8844046111,-4.404611187055707E-3,null,85156,85155.998158394024,1.841605975641869E-3,null,12276.69,12276.691120689657,-1.1206896560906898E-3,null,92550.59,92550.593038235107,-3.0382351105799899E-3,null,120084,120083.99999999999,0,null,0,0,0,null,0,0,0,null,0,0,0,null,12595,12595,0,null,0,0,0,null,0,0,0,null,53543.83,53543.833278069971,-3.2780699693830684E-3,null,1508845,1508845,0,null,0,0,0,null,1508845,1508845,0,null,0,null,0,null,3750,null,3750,null,0,null,0,null,171000.7,171000.70462432702,0,null,0,null,0,null,3750,3750,0,null,186000,null,186000,null,624.75,null,625,null,624.75,null,625,null,624.75,null,625,null,624.75,null,625,null,"NO",{"$f":"IF(ISERROR(VLOOKUP($A49+8860000,'Growth Data'!$A:$F,3,0)),\"NO\",VLOOKUP($A49+8860000,'Growth Data'!$A:$F,3,0))","v":"NO"},0,null,0,{"$f":"IF(DI49=\"YES\",IF(ISERROR(VLOOKUP($A49+8860000,'Growth Data'!$A:$F,6,0)),0,VLOOKUP($A49+8860000,'Growth Data'!$A:$F,6,0)),0)","v":0},0,null,0,{"$f":"IF(ISERROR(VLOOKUP($A49+8860000,'Growth Data'!$A:$Z,7,0)),0,VLOOKUP($A49+8860000,'Growth Data'!$A:$Z,7,0))","v":0},0,null,"NO",{"$f":"IF(ISERROR(VLOOKUP($A49+8860000,'Growth Data'!$A:$F,4,0)),\"NO\",VLOOKUP($A49+8860000,'Growth Data'!$A:$F,4,0))","v":"NO"},0,null,0,{"$f":"IF(ISERROR(VLOOKUP($A49+8860000,'Growth Data'!$A:$Z,8,0)),0,VLOOKUP($A49+8860000,'Growth Data'!$A:$Z,8,0))","v":0},0,null,0,{"$f":"IF(ISERROR(VLOOKUP($A49+8860000,'Growth Data'!$A:$Z,9,0)),0,VLOOKUP($A49+8860000,'Growth Data'!$A:$Z,9,0))","v":0},0,null,"NO",{"$f":"IF(ISERROR(VLOOKUP($A49+8860000,'Growth Data'!$A:$Z,5,0)),\"NO\",VLOOKUP($A49+8860000,'Growth Data'!$A:$Z,5,0))","v":"NO"},0,null,0,{"$f":"IF(ISERROR(VLOOKUP($A49+8860000,'Growth Data'!$A:$Z,10,0)),0,VLOOKUP($A49+8860000,'Growth Data'!$A:$Z,10,0))","v":0},0,null,0,{"$f":"IF(ISERROR(VLOOKUP($A49+8860000,'Growth Data'!$A:$Z,11,0)),0,VLOOKUP($A49+8860000,'Growth Data'!$A:$Z,11,0))","v":0},0]
[2465,"Claremont Primary School",null,"Claremont Primary School",null,1,null,1231993.17,1231993.1725102786,-2.5102787185460329E-3,null,9145.18,9145.1808745181988,-8.7451819854322821E-4,null,20447.02,20447.022904000001,-2.9040000008535571E-3,null,73498.48,73498.48144109585,-1.4410958538064733E-3,null,120084,120083.99999999999,0,null,0,0,0,null,0,0,0,null,0,0,0,null,38656,38656,0,null,0,0,0,null,0,0,0,null,172332.14,172332.14227010729,-2.2701072739437222E-3,null,1666156,1666156,0,null,0,0,0,null,1666156,1666156,0,null,0,null,0,null,3750,null,3750,null,0,null,0,null,105723.23,105723.2275266222,0,null,0,null,0,null,3750,3750,0,null,0,null,0,null,0,null,0,null,0,null,0,null,0,null,0,null,0,null,0,null,"NO",{"$f":"IF(ISERROR(VLOOKUP($A50+8860000,'Growth Data'!$A:$F,3,0)),\"NO\",VLOOKUP($A50+8860000,'Growth Data'!$A:$F,3,0))","v":"NO"},0,null,0,{"$f":"IF(DI50=\"YES\",IF(ISERROR(VLOOKUP($A50+8860000,'Growth Data'!$A:$F,6,0)),0,VLOOKUP($A50+8860000,'Growth Data'!$A:$F,6,0)),0)","v":0},0,null,0,{"$f":"IF(ISERROR(VLOOKUP($A50+8860000,'Growth Data'!$A:$Z,7,0)),0,VLOOKUP($A50+8860000,'Growth Data'!$A:$Z,7,0))","v":0},0,null,"NO",{"$f":"IF(ISERROR(VLOOKUP($A50+8860000,'Growth Data'!$A:$F,4,0)),\"NO\",VLOOKUP($A50+8860000,'Growth Data'!$A:$F,4,0))","v":"NO"},0,null,0,{"$f":"IF(ISERROR(VLOOKUP($A50+8860000,'Growth Data'!$A:$Z,8,0)),0,VLOOKUP($A50+8860000,'Growth Data'!$A:$Z,8,0))","v":0},0,null,0,{"$f":"IF(ISERROR(VLOOKUP($A50+8860000,'Growth Data'!$A:$Z,9,0)),0,VLOOKUP($A50+8860000,'Growth Data'!$A:$Z,9,0))","v":0},0,null,"NO",{"$f":"IF(ISERROR(VLOOKUP($A50+8860000,'Growth Data'!$A:$Z,5,0)),\"NO\",VLOOKUP($A50+8860000,'Growth Data'!$A:$Z,5,0))","v":"NO"},0,null,0,{"$f":"IF(ISERROR(VLOOKUP($A50+8860000,'Growth Data'!$A:$Z,10,0)),0,VLOOKUP($A50+8860000,'Growth Data'!$A:$Z,10,0))","v":0},0,null,0,{"$f":"IF(ISERROR(VLOOKUP($A50+8860000,'Growth Data'!$A:$Z,11,0)),0,VLOOKUP($A50+8860000,'Growth Data'!$A:$Z,11,0))","v":0},0]
[2094,"Cobham Primary School",null,"Cobham Primary School",null,1,null,618835.28,618835.28020101553,-2.0101550035178661E-4,null,11148.34,11148.343836363636,-3.8363636358553777E-3,null,620.80999999999995,620.80660106382959,3.3989361703561372E-3,null,33545.339999999997,33545.33696791446,3.0320855366881005E-3,null,120084,120083.99999999999,0,null,0,0,0,null,0,0,0,null,0,0,0,null,17216,17216,0,null,0,0,0,null,0,0,0,null,33266.230000000003,33266.232393642538,-2.3936425350257196E-3,null,834716,834716,0,null,0,0,0,null,834716,834716,0,null,0,null,0,null,3750,null,3750,null,0,null,0,null,47947.03,47947.029712350079,0,null,1205.3,null,1205,null,3750,3750,0,null,0,null,0,null,0,null,0,null,0,null,0,null,0,null,0,null,0,null,0,null,"NO",{"$f":"IF(ISERROR(VLOOKUP($A51+8860000,'Growth Data'!$A:$F,3,0)),\"NO\",VLOOKUP($A51+8860000,'Growth Data'!$A:$F,3,0))","v":"NO"},0,null,0,{"$f":"IF(DI51=\"YES\",IF(ISERROR(VLOOKUP($A51+8860000,'Growth Data'!$A:$F,6,0)),0,VLOOKUP($A51+8860000,'Growth Data'!$A:$F,6,0)),0)","v":0},0,null,0,{"$f":"IF(ISERROR(VLOOKUP($A51+8860000,'Growth Data'!$A:$Z,7,0)),0,VLOOKUP($A51+8860000,'Growth Data'!$A:$Z,7,0))","v":0},0,null,"NO",{"$f":"IF(ISERROR(VLOOKUP($A51+8860000,'Growth Data'!$A:$F,4,0)),\"NO\",VLOOKUP($A51+8860000,'Growth Data'!$A:$F,4,0))","v":"NO"},0,null,0,{"$f":"IF(ISERROR(VLOOKUP($A51+8860000,'Growth Data'!$A:$Z,8,0)),0,VLOOKUP($A51+8860000,'Growth Data'!$A:$Z,8,0))","v":0},0,null,0,{"$f":"IF(ISERROR(VLOOKUP($A51+8860000,'Growth Data'!$A:$Z,9,0)),0,VLOOKUP($A51+8860000,'Growth Data'!$A:$Z,9,0))","v":0},0,null,"NO",{"$f":"IF(ISERROR(VLOOKUP($A51+8860000,'Growth Data'!$A:$Z,5,0)),\"NO\",VLOOKUP($A51+8860000,'Growth Data'!$A:$Z,5,0))","v":"NO"},0,null,0,{"$f":"IF(ISERROR(VLOOKUP($A51+8860000,'Growth Data'!$A:$Z,10,0)),0,VLOOKUP($A51+8860000,'Growth Data'!$A:$Z,10,0))","v":0},0,null,0,{"$f":"IF(ISERROR(VLOOKUP($A51+8860000,'Growth Data'!$A:$Z,11,0)),0,VLOOKUP($A51+8860000,'Growth Data'!$A:$Z,11,0))","v":0},0]
[3308,"Colliers Green CEP School",null,"Colliers Green CEP School",null,1,null,303740.25,303740.25220875535,-2.2087553516030312E-3,null,2299.61,2299.6085999999964,1.4000000037412974E-3,null,1273,1273.0015888888875,-1.5888888874542317E-3,null,20272.849999999999,20272.847733333361,2.2666666372970212E-3,null,120084,120083.99999999999,0,null,0,0,0,null,0,0,0,null,0,0,0,null,1894,1894,0,null,0,0,0,null,0,0,0,null,0,0,0,null,449563.71,449563.71013097756,-1.3097753981128335E-4,null,0,0,0,null,449563.71,449563.71013097756,-1.3097753981128335E-4,null,0,null,0,null,3061.55,null,3061.55,null,0,null,0,null,29179.89,29179.890229230394,0,null,3082.01,null,3082,null,4183.83,4183.8290666446519,0,null,0,null,0,null,0,null,0,null,0,null,0,null,0,null,0,null,0,null,0,null,"NO",{"$f":"IF(ISERROR(VLOOKUP($A52+8860000,'Growth Data'!$A:$F,3,0)),\"NO\",VLOOKUP($A52+8860000,'Growth Data'!$A:$F,3,0))","v":"NO"},0,null,0,{"$f":"IF(DI52=\"YES\",IF(ISERROR(VLOOKUP($A52+8860000,'Growth Data'!$A:$F,6,0)),0,VLOOKUP($A52+8860000,'Growth Data'!$A:$F,6,0)),0)","v":0},0,null,0,{"$f":"IF(ISERROR(VLOOKUP($A52+8860000,'Growth Data'!$A:$Z,7,0)),0,VLOOKUP($A52+8860000,'Growth Data'!$A:$Z,7,0))","v":0},0,null,"NO",{"$f":"IF(ISERROR(VLOOKUP($A52+8860000,'Growth Data'!$A:$F,4,0)),\"NO\",VLOOKUP($A52+8860000,'Growth Data'!$A:$F,4,0))","v":"NO"},0,null,0,{"$f":"IF(ISERROR(VLOOKUP($A52+8860000,'Growth Data'!$A:$Z,8,0)),0,VLOOKUP($A52+8860000,'Growth Data'!$A:$Z,8,0))","v":0},0,null,0,{"$f":"IF(ISERROR(VLOOKUP($A52+8860000,'Growth Data'!$A:$Z,9,0)),0,VLOOKUP($A52+8860000,'Growth Data'!$A:$Z,9,0))","v":0},0,null,"NO",{"$f":"IF(ISERROR(VLOOKUP($A52+8860000,'Growth Data'!$A:$Z,5,0)),\"NO\",VLOOKUP($A52+8860000,'Growth Data'!$A:$Z,5,0))","v":"NO"},0,null,0,{"$f":"IF(ISERROR(VLOOKUP($A52+8860000,'Growth Data'!$A:$Z,10,0)),0,VLOOKUP($A52+8860000,'Growth Data'!$A:$Z,10,0))","v":0},0,null,0,{"$f":"IF(ISERROR(VLOOKUP($A52+8860000,'Growth Data'!$A:$Z,11,0)),0,VLOOKUP($A52+8860000,'Growth Data'!$A:$Z,11,0))","v":0},0]
[3027,"Cranbrook CEP School",null,"Cranbrook CEP School",null,1,null,493932.75,493932.74658246193,3.4175380715169013E-3,null,42558.21,42558.211626993856,-1.6269938569166698E-3,null,5139.6000000000004,5139.5951999999952,4.8000000051615643E-3,null,42269.35,42269.3472573529,2.7426470987848006E-3,null,120084,120083.99999999999,0,null,0,0,0,null,0,0,0,null,0,0,0,null,26112,26112,0,null,0,0,0,null,0,0,0,null,0,0,0,null,730095.9,730095.90066680871,-6.6680868621915579E-4,null,0,0,0,null,730095.9,730095.90066680871,-6.6680868621915579E-4,null,0,null,0,null,3355.75,null,3355.75,null,0,null,0,null,73236.149999999994,73236.151391354913,0,null,0,null,0,null,4045.88,4045.8844865908568,0,null,0,null,0,null,0,null,0,null,0,null,0,null,0,null,0,null,0,null,0,null,"NO",{"$f":"IF(ISERROR(VLOOKUP($A53+8860000,'Growth Data'!$A:$F,3,0)),\"NO\",VLOOKUP($A53+8860000,'Growth Data'!$A:$F,3,0))","v":"NO"},0,null,0,{"$f":"IF(DI53=\"YES\",IF(ISERROR(VLOOKUP($A53+8860000,'Growth Data'!$A:$F,6,0)),0,VLOOKUP($A53+8860000,'Growth Data'!$A:$F,6,0)),0)","v":0},0,null,0,{"$f":"IF(ISERROR(VLOOKUP($A53+8860000,'Growth Data'!$A:$Z,7,0)),0,VLOOKUP($A53+8860000,'Growth Data'!$A:$Z,7,0))","v":0},0,null,"YES",{"$f":"IF(ISERROR(VLOOKUP($A53+8860000,'Growth Data'!$A:$F,4,0)),\"NO\",VLOOKUP($A53+8860000,'Growth Data'!$A:$F,4,0))","v":"NO"},1,null,30,{"$f":"IF(ISERROR(VLOOKUP($A53+8860000,'Growth Data'!$A:$Z,8,0)),0,VLOOKUP($A53+8860000,'Growth Data'!$A:$Z,8,0))","v":0},1,null,60,{"$f":"IF(ISERROR(VLOOKUP($A53+8860000,'Growth Data'!$A:$Z,9,0)),0,VLOOKUP($A53+8860000,'Growth Data'!$A:$Z,9,0))","v":0},1,null,"YES",{"$f":"IF(ISERROR(VLOOKUP($A53+8860000,'Growth Data'!$A:$Z,5,0)),\"NO\",VLOOKUP($A53+8860000,'Growth Data'!$A:$Z,5,0))","v":"NO"},1,null,30,{"$f":"IF(ISERROR(VLOOKUP($A53+8860000,'Growth Data'!$A:$Z,10,0)),0,VLOOKUP($A53+8860000,'Growth Data'!$A:$Z,10,0))","v":0},1,null,60,{"$f":"IF(ISERROR(VLOOKUP($A53+8860000,'Growth Data'!$A:$Z,11,0)),0,VLOOKUP($A53+8860000,'Growth Data'!$A:$Z,11,0))","v":0},1]
[2689,"Craylands School, The",null,"Craylands School, The",null,1,null,939607.7,939607.69608502823,3.9149717194959521E-3,null,91160.02,91160.016543853766,3.4561462380224839E-3,null,12516.62,12516.617957249078,2.0427509225555696E-3,null,103441.42,103441.41849248124,1.5075187548063695E-3,null,120084,120083.99999999999,0,null,0,0,0,null,46111.87,46111.874866461476,-4.8664614732842892E-3,null,0,0,0,null,61952,61952,0,null,76874.990000000005,76874.985532800012,4.4671999930869788E-3,null,0,0,0,null,0,0,0,null,1451748.61,1451748.6094778737,5.221264436841011E-4,null,0,0,0,null,1451748.61,1451748.6094778737,5.221264436841011E-4,null,0,null,0,null,3590.53,null,3590.53,null,0,null,0,null,198717.26,198717.25832953383,0,null,0,null,0,null,3966.53,3966.5305859367804,0,null,0,null,0,null,0,null,0,null,0,null,0,null,0,null,0,null,0,null,0,null,"NO",{"$f":"IF(ISERROR(VLOOKUP($A54+8860000,'Growth Data'!$A:$F,3,0)),\"NO\",VLOOKUP($A54+8860000,'Growth Data'!$A:$F,3,0))","v":"YES"},1,null,0,{"$f":"IF(DI54=\"YES\",IF(ISERROR(VLOOKUP($A54+8860000,'Growth Data'!$A:$F,6,0)),0,VLOOKUP($A54+8860000,'Growth Data'!$A:$F,6,0)),0)","v":30},-30,null,0,{"$f":"IF(ISERROR(VLOOKUP($A54+8860000,'Growth Data'!$A:$Z,7,0)),0,VLOOKUP($A54+8860000,'Growth Data'!$A:$Z,7,0))","v":60},1,null,"NO",{"$f":"IF(ISERROR(VLOOKUP($A54+8860000,'Growth Data'!$A:$F,4,0)),\"NO\",VLOOKUP($A54+8860000,'Growth Data'!$A:$F,4,0))","v":"YES"},1,null,0,{"$f":"IF(ISERROR(VLOOKUP($A54+8860000,'Growth Data'!$A:$Z,8,0)),0,VLOOKUP($A54+8860000,'Growth Data'!$A:$Z,8,0))","v":31},1,null,0,{"$f":"IF(ISERROR(VLOOKUP($A54+8860000,'Growth Data'!$A:$Z,9,0)),0,VLOOKUP($A54+8860000,'Growth Data'!$A:$Z,9,0))","v":60},1,null,"NO",{"$f":"IF(ISERROR(VLOOKUP($A54+8860000,'Growth Data'!$A:$Z,5,0)),\"NO\",VLOOKUP($A54+8860000,'Growth Data'!$A:$Z,5,0))","v":"YES"},1,null,0,{"$f":"IF(ISERROR(VLOOKUP($A54+8860000,'Growth Data'!$A:$Z,10,0)),0,VLOOKUP($A54+8860000,'Growth Data'!$A:$Z,10,0))","v":30},1,null,0,{"$f":"IF(ISERROR(VLOOKUP($A54+8860000,'Growth Data'!$A:$Z,11,0)),0,VLOOKUP($A54+8860000,'Growth Data'!$A:$Z,11,0))","v":60},1]
[2088,"Crockenhill Primary School",null,"Crockenhill Primary School",null,1,null,587609.65,587609.64679637714,3.2036228803917766E-3,null,39330.51,39330.512099999934,-2.0999999323976226E-3,null,1252.23,1252.2318813559336,-1.8813559336194885E-3,null,36350.400000000001,36350.399071022664,9.2897733702557161E-4,null,120084,120083.99999999999,0,null,0,0,0,null,28560.42,28560.415150494697,4.849505301535828E-3,null,0,0,0,null,24116,24116,0,null,0,0,0,null,0,0,0,null,0,0,0,null,837303.21,837303.20499925036,5.0007496029138565E-3,null,0,0,0,null,837303.21,837303.20499925036,5.0007496029138565E-3,null,0,null,0,null,3327.21,null,3327.21,null,0,null,0,null,71260.92,71260.921122468397,0,null,0,null,0,null,3928.44,3928.4406038611146,0,null,0,null,0,null,0,null,0,null,0,null,0,null,0,null,0,null,0,null,0,null,"NO",{"$f":"IF(ISERROR(VLOOKUP($A55+8860000,'Growth Data'!$A:$F,3,0)),\"NO\",VLOOKUP($A55+8860000,'Growth Data'!$A:$F,3,0))","v":"NO"},0,null,0,{"$f":"IF(DI55=\"YES\",IF(ISERROR(VLOOKUP($A55+8860000,'Growth Data'!$A:$F,6,0)),0,VLOOKUP($A55+8860000,'Growth Data'!$A:$F,6,0)),0)","v":0},0,null,0,{"$f":"IF(ISERROR(VLOOKUP($A55+8860000,'Growth Data'!$A:$Z,7,0)),0,VLOOKUP($A55+8860000,'Growth Data'!$A:$Z,7,0))","v":0},0,null,"NO",{"$f":"IF(ISERROR(VLOOKUP($A55+8860000,'Growth Data'!$A:$F,4,0)),\"NO\",VLOOKUP($A55+8860000,'Growth Data'!$A:$F,4,0))","v":"NO"},0,null,0,{"$f":"IF(ISERROR(VLOOKUP($A55+8860000,'Growth Data'!$A:$Z,8,0)),0,VLOOKUP($A55+8860000,'Growth Data'!$A:$Z,8,0))","v":0},0,null,0,{"$f":"IF(ISERROR(VLOOKUP($A55+8860000,'Growth Data'!$A:$Z,9,0)),0,VLOOKUP($A55+8860000,'Growth Data'!$A:$Z,9,0))","v":0},0,null,"NO",{"$f":"IF(ISERROR(VLOOKUP($A55+8860000,'Growth Data'!$A:$Z,5,0)),\"NO\",VLOOKUP($A55+8860000,'Growth Data'!$A:$Z,5,0))","v":"NO"},0,null,0,{"$f":"IF(ISERROR(VLOOKUP($A55+8860000,'Growth Data'!$A:$Z,10,0)),0,VLOOKUP($A55+8860000,'Growth Data'!$A:$Z,10,0))","v":0},0,null,0,{"$f":"IF(ISERROR(VLOOKUP($A55+8860000,'Growth Data'!$A:$Z,11,0)),0,VLOOKUP($A55+8860000,'Growth Data'!$A:$Z,11,0))","v":0},0]
[3054,"Crockham Hill CEP School",null,"Crockham Hill CEP School",null,1,null,405933.23,405933.23426029918,-4.2602992034517229E-3,null,8191.04,8191.040062068967,-6.2068967054074164E-5,null,627.53,627.52912704918037,8.7295081959837262E-4,null,35560.370000000003,35560.374849999949,-4.8499999466002919E-3,null,120084,120083.99999999999,0,null,0,0,0,null,20762.419999999998,20762.42089009878,-8.900987813831307E-4,null,0,0,0,null,17964,17964,0,null,0,0,0,null,12500,12500,0,null,0,0,0,null,621622.6,621622.59918951604,8.1048393622040749E-4,null,0,0,0,null,621622.6,621622.59918951604,8.1048393622040749E-4,null,0,null,0,null,3351.07,null,3351.07,null,0,null,0,null,51056.24,51056.23677912524,0,null,894.38,null,894,null,4133.9799999999996,4133.9762181085061,0,null,0,null,0,null,0,null,0,null,0,null,0,null,0,null,0,null,0,null,0,null,"NO",{"$f":"IF(ISERROR(VLOOKUP($A56+8860000,'Growth Data'!$A:$F,3,0)),\"NO\",VLOOKUP($A56+8860000,'Growth Data'!$A:$F,3,0))","v":"NO"},0,null,0,{"$f":"IF(DI56=\"YES\",IF(ISERROR(VLOOKUP($A56+8860000,'Growth Data'!$A:$F,6,0)),0,VLOOKUP($A56+8860000,'Growth Data'!$A:$F,6,0)),0)","v":0},0,null,0,{"$f":"IF(ISERROR(VLOOKUP($A56+8860000,'Growth Data'!$A:$Z,7,0)),0,VLOOKUP($A56+8860000,'Growth Data'!$A:$Z,7,0))","v":0},0,null,"YES",{"$f":"IF(ISERROR(VLOOKUP($A56+8860000,'Growth Data'!$A:$F,4,0)),\"NO\",VLOOKUP($A56+8860000,'Growth Data'!$A:$F,4,0))","v":"NO"},1,null,44,{"$f":"IF(ISERROR(VLOOKUP($A56+8860000,'Growth Data'!$A:$Z,8,0)),0,VLOOKUP($A56+8860000,'Growth Data'!$A:$Z,8,0))","v":0},1,null,60,{"$f":"IF(ISERROR(VLOOKUP($A56+8860000,'Growth Data'!$A:$Z,9,0)),0,VLOOKUP($A56+8860000,'Growth Data'!$A:$Z,9,0))","v":0},1,null,"YES",{"$f":"IF(ISERROR(VLOOKUP($A56+8860000,'Growth Data'!$A:$Z,5,0)),\"NO\",VLOOKUP($A56+8860000,'Growth Data'!$A:$Z,5,0))","v":"NO"},1,null,31,{"$f":"IF(ISERROR(VLOOKUP($A56+8860000,'Growth Data'!$A:$Z,10,0)),0,VLOOKUP($A56+8860000,'Growth Data'!$A:$Z,10,0))","v":0},1,null,60,{"$f":"IF(ISERROR(VLOOKUP($A56+8860000,'Growth Data'!$A:$Z,11,0)),0,VLOOKUP($A56+8860000,'Growth Data'!$A:$Z,11,0))","v":0},1]
[4026,"Dartford Science and Technology College",null,"Dartford Science and Technology College",null,1,null,3061959.16,3061959.1622248776,-2.2248774766921997E-3,null,248799.62,248799.61685263156,3.1473684357479215E-3,null,36025.199999999997,36025.199999999961,0,null,258808.78,258808.77775040863,2.2495913726743311E-3,null,114480.08,114480.07999999999,0,null,0,0,0,null,135410.65,135410.65126053619,-1.2605361989699304E-3,null,0,0,0,null,131328,131328,0,null,0,0,0,null,0,0,0,null,0,0,0,null,3986811.49,3986811.4880884546,1.9115456379950047E-3,null,0,0,0,null,3986811.49,3986811.4880884546,1.9115456379950047E-3,null,0,null,0,null,5125.9799999999996,null,5125.9799999999996,null,0,null,0,null,523664.62,523664.61877891008,0,null,0,null,0,null,5288.73,5288.7290645932126,0,null,0,null,0,null,0,null,0,null,0,null,0,null,0,null,0,null,0,null,0,null,"NO",{"$f":"IF(ISERROR(VLOOKUP($A57+8860000,'Growth Data'!$A:$F,3,0)),\"NO\",VLOOKUP($A57+8860000,'Growth Data'!$A:$F,3,0))","v":"NO"},0,null,0,{"$f":"IF(DI57=\"YES\",IF(ISERROR(VLOOKUP($A57+8860000,'Growth Data'!$A:$F,6,0)),0,VLOOKUP($A57+8860000,'Growth Data'!$A:$F,6,0)),0)","v":0},0,null,0,{"$f":"IF(ISERROR(VLOOKUP($A57+8860000,'Growth Data'!$A:$Z,7,0)),0,VLOOKUP($A57+8860000,'Growth Data'!$A:$Z,7,0))","v":0},0,null,"NO",{"$f":"IF(ISERROR(VLOOKUP($A57+8860000,'Growth Data'!$A:$F,4,0)),\"NO\",VLOOKUP($A57+8860000,'Growth Data'!$A:$F,4,0))","v":"NO"},0,null,0,{"$f":"IF(ISERROR(VLOOKUP($A57+8860000,'Growth Data'!$A:$Z,8,0)),0,VLOOKUP($A57+8860000,'Growth Data'!$A:$Z,8,0))","v":0},0,null,0,{"$f":"IF(ISERROR(VLOOKUP($A57+8860000,'Growth Data'!$A:$Z,9,0)),0,VLOOKUP($A57+8860000,'Growth Data'!$A:$Z,9,0))","v":0},0,null,"NO",{"$f":"IF(ISERROR(VLOOKUP($A57+8860000,'Growth Data'!$A:$Z,5,0)),\"NO\",VLOOKUP($A57+8860000,'Growth Data'!$A:$Z,5,0))","v":"NO"},0,null,0,{"$f":"IF(ISERROR(VLOOKUP($A57+8860000,'Growth Data'!$A:$Z,10,0)),0,VLOOKUP($A57+8860000,'Growth Data'!$A:$Z,10,0))","v":0},0,null,0,{"$f":"IF(ISERROR(VLOOKUP($A57+8860000,'Growth Data'!$A:$Z,11,0)),0,VLOOKUP($A57+8860000,'Growth Data'!$A:$Z,11,0))","v":0},0]
[2228,"Davington Primary School",null,"Davington Primary School",null,1,null,1166703.21,1166703.2117551256,-1.7551255878061056E-3,null,129568.37,129568.37291573851,-2.9157385142752901E-3,null,3740.04,3740.0382917847032,1.7082152967304864E-3,null,130017.88,130017.8796873198,3.1268020393326879E-4,null,120084,120083.99999999999,0,null,0,0,0,null,0,0,0,null,0,0,0,null,39424,39424,0,null,0,0,0,null,0,0,0,null,0,0,0,null,1589537.5,1589537.5026499685,-2.6499684900045395E-3,null,0,0,0,null,1589537.5,1589537.5026499685,-2.6499684900045395E-3,null,0,null,0,null,3479.39,null,3479.39,null,0,null,0,null,247946.23,247946.2332018512,0,null,0,null,0,null,3771.57,3771.5656998782711,0,null,0,null,0,null,0,null,0,null,0,null,0,null,0,null,0,null,0,null,0,null,"NO",{"$f":"IF(ISERROR(VLOOKUP($A58+8860000,'Growth Data'!$A:$F,3,0)),\"NO\",VLOOKUP($A58+8860000,'Growth Data'!$A:$F,3,0))","v":"NO"},0,null,0,{"$f":"IF(DI58=\"YES\",IF(ISERROR(VLOOKUP($A58+8860000,'Growth Data'!$A:$F,6,0)),0,VLOOKUP($A58+8860000,'Growth Data'!$A:$F,6,0)),0)","v":0},0,null,0,{"$f":"IF(ISERROR(VLOOKUP($A58+8860000,'Growth Data'!$A:$Z,7,0)),0,VLOOKUP($A58+8860000,'Growth Data'!$A:$Z,7,0))","v":0},0,null,"NO",{"$f":"IF(ISERROR(VLOOKUP($A58+8860000,'Growth Data'!$A:$F,4,0)),\"NO\",VLOOKUP($A58+8860000,'Growth Data'!$A:$F,4,0))","v":"NO"},0,null,0,{"$f":"IF(ISERROR(VLOOKUP($A58+8860000,'Growth Data'!$A:$Z,8,0)),0,VLOOKUP($A58+8860000,'Growth Data'!$A:$Z,8,0))","v":0},0,null,0,{"$f":"IF(ISERROR(VLOOKUP($A58+8860000,'Growth Data'!$A:$Z,9,0)),0,VLOOKUP($A58+8860000,'Growth Data'!$A:$Z,9,0))","v":0},0,null,"NO",{"$f":"IF(ISERROR(VLOOKUP($A58+8860000,'Growth Data'!$A:$Z,5,0)),\"NO\",VLOOKUP($A58+8860000,'Growth Data'!$A:$Z,5,0))","v":"NO"},0,null,0,{"$f":"IF(ISERROR(VLOOKUP($A58+8860000,'Growth Data'!$A:$Z,10,0)),0,VLOOKUP($A58+8860000,'Growth Data'!$A:$Z,10,0))","v":0},0,null,0,{"$f":"IF(ISERROR(VLOOKUP($A58+8860000,'Growth Data'!$A:$Z,11,0)),0,VLOOKUP($A58+8860000,'Growth Data'!$A:$Z,11,0))","v":0},0]
[2065,"Discovery School, The",null,"Discovery School, The",null,1,null,1725925.92,1725925.9190927406,9.0725929476320744E-4,null,25054.799999999999,25054.795878836834,4.1211631651094649E-3,null,14602.21,14602.214399999983,-4.3999999834340997E-3,null,119040.54,119040.54281818167,-2.8181816742289811E-3,null,120084,120083.99999999999,0,null,0,0,0,null,0,0,0,null,0,0,0,null,75264,75264,0,null,0,0,0,null,0,0,0,null,275292.53000000003,275292.52781024086,2.1897591650485992E-3,null,2355264,2355264,0,null,0,0,0,null,2355264,2355264,0,null,0,null,0,null,3750,null,3750,null,0,null,0,null,154575.37,154575.37040402662,0,null,0,null,0,null,3750,3750,0,null,0,null,0,null,0,null,0,null,0,null,0,null,0,null,0,null,0,null,0,null,"NO",{"$f":"IF(ISERROR(VLOOKUP($A59+8860000,'Growth Data'!$A:$F,3,0)),\"NO\",VLOOKUP($A59+8860000,'Growth Data'!$A:$F,3,0))","v":"NO"},0,null,0,{"$f":"IF(DI59=\"YES\",IF(ISERROR(VLOOKUP($A59+8860000,'Growth Data'!$A:$F,6,0)),0,VLOOKUP($A59+8860000,'Growth Data'!$A:$F,6,0)),0)","v":0},0,null,0,{"$f":"IF(ISERROR(VLOOKUP($A59+8860000,'Growth Data'!$A:$Z,7,0)),0,VLOOKUP($A59+8860000,'Growth Data'!$A:$Z,7,0))","v":0},0,null,"NO",{"$f":"IF(ISERROR(VLOOKUP($A59+8860000,'Growth Data'!$A:$F,4,0)),\"NO\",VLOOKUP($A59+8860000,'Growth Data'!$A:$F,4,0))","v":"NO"},0,null,0,{"$f":"IF(ISERROR(VLOOKUP($A59+8860000,'Growth Data'!$A:$Z,8,0)),0,VLOOKUP($A59+8860000,'Growth Data'!$A:$Z,8,0))","v":0},0,null,0,{"$f":"IF(ISERROR(VLOOKUP($A59+8860000,'Growth Data'!$A:$Z,9,0)),0,VLOOKUP($A59+8860000,'Growth Data'!$A:$Z,9,0))","v":0},0,null,"NO",{"$f":"IF(ISERROR(VLOOKUP($A59+8860000,'Growth Data'!$A:$Z,5,0)),\"NO\",VLOOKUP($A59+8860000,'Growth Data'!$A:$Z,5,0))","v":"NO"},0,null,0,{"$f":"IF(ISERROR(VLOOKUP($A59+8860000,'Growth Data'!$A:$Z,10,0)),0,VLOOKUP($A59+8860000,'Growth Data'!$A:$Z,10,0))","v":0},0,null,0,{"$f":"IF(ISERROR(VLOOKUP($A59+8860000,'Growth Data'!$A:$Z,11,0)),0,VLOOKUP($A59+8860000,'Growth Data'!$A:$Z,11,0))","v":0},0]
[5208,"Ditton CEJ School",null,"Ditton CEJ School",null,1,null,630190.06000000006,630190.05598452047,4.0154795860871673E-3,null,53024.91,53024.909654545474,3.4545452945167199E-4,null,2141.5,2141.4979999999978,2.000000002226443E-3,null,64926.21,64926.207251162843,2.7488371561048552E-3,null,120084,120083.99999999999,0,null,0,0,0,null,0,0,0,null,0,0,0,null,4864,4864,0,null,0,0,0,null,0,0,0,null,0,0,0,null,875230.67,875230.67089022882,-8.9022878091782331E-4,null,0,0,0,null,875230.67,875230.67089022882,-8.9022878091782331E-4,null,0,null,0,null,3379.65,null,3379.65,null,0,null,0,null,112818.23,112818.22721271648,0,null,0,null,0,null,3920.57,3920.5705895956271,0,null,0,null,0,null,0,null,0,null,0,null,0,null,0,null,0,null,0,null,0,null,"NO",{"$f":"IF(ISERROR(VLOOKUP($A60+8860000,'Growth Data'!$A:$F,3,0)),\"NO\",VLOOKUP($A60+8860000,'Growth Data'!$A:$F,3,0))","v":"NO"},0,null,0,{"$f":"IF(DI60=\"YES\",IF(ISERROR(VLOOKUP($A60+8860000,'Growth Data'!$A:$F,6,0)),0,VLOOKUP($A60+8860000,'Growth Data'!$A:$F,6,0)),0)","v":0},0,null,0,{"$f":"IF(ISERROR(VLOOKUP($A60+8860000,'Growth Data'!$A:$Z,7,0)),0,VLOOKUP($A60+8860000,'Growth Data'!$A:$Z,7,0))","v":0},0,null,"NO",{"$f":"IF(ISERROR(VLOOKUP($A60+8860000,'Growth Data'!$A:$F,4,0)),\"NO\",VLOOKUP($A60+8860000,'Growth Data'!$A:$F,4,0))","v":"NO"},0,null,0,{"$f":"IF(ISERROR(VLOOKUP($A60+8860000,'Growth Data'!$A:$Z,8,0)),0,VLOOKUP($A60+8860000,'Growth Data'!$A:$Z,8,0))","v":0},0,null,0,{"$f":"IF(ISERROR(VLOOKUP($A60+8860000,'Growth Data'!$A:$Z,9,0)),0,VLOOKUP($A60+8860000,'Growth Data'!$A:$Z,9,0))","v":0},0,null,"NO",{"$f":"IF(ISERROR(VLOOKUP($A60+8860000,'Growth Data'!$A:$Z,5,0)),\"NO\",VLOOKUP($A60+8860000,'Growth Data'!$A:$Z,5,0))","v":"NO"},0,null,0,{"$f":"IF(ISERROR(VLOOKUP($A60+8860000,'Growth Data'!$A:$Z,10,0)),0,VLOOKUP($A60+8860000,'Growth Data'!$A:$Z,10,0))","v":0},0,null,0,{"$f":"IF(ISERROR(VLOOKUP($A60+8860000,'Growth Data'!$A:$Z,11,0)),0,VLOOKUP($A60+8860000,'Growth Data'!$A:$Z,11,0))","v":0},0]
[5212,"Ditton Infant School",null,"Ditton Infant School",null,1,null,451352.34,451352.33739431866,2.6056813658215106E-3,null,37257.410000000003,37257.411945000014,-1.9450000108918175E-3,null,5621.43,5621.4322499999998,-2.2499999995488906E-3,null,32587.22,32587.218173076872,1.8269231295562349E-3,null,120084,120083.99999999999,0,null,0,0,0,null,0,0,0,null,0,0,0,null,3942,3942,0,null,0,0,0,null,0,0,0,null,0,0,0,null,650844.4,650844.39976239554,2.3760448675602674E-4,null,0,0,0,null,650844.4,650844.39976239554,2.3760448675602674E-4,null,0,null,0,null,3313.32,null,3313.32,null,0,null,0,null,71794.19,71794.194675085033,0,null,0,null,0,null,4068.57,4068.5685519647532,0,null,31000,null,31000,null,695.13,null,695,null,695.13,null,695,null,695.13,null,695,null,695.13,null,695,null,"NO",{"$f":"IF(ISERROR(VLOOKUP($A61+8860000,'Growth Data'!$A:$F,3,0)),\"NO\",VLOOKUP($A61+8860000,'Growth Data'!$A:$F,3,0))","v":"NO"},0,null,0,{"$f":"IF(DI61=\"YES\",IF(ISERROR(VLOOKUP($A61+8860000,'Growth Data'!$A:$F,6,0)),0,VLOOKUP($A61+8860000,'Growth Data'!$A:$F,6,0)),0)","v":0},0,null,0,{"$f":"IF(ISERROR(VLOOKUP($A61+8860000,'Growth Data'!$A:$Z,7,0)),0,VLOOKUP($A61+8860000,'Growth Data'!$A:$Z,7,0))","v":0},0,null,"NO",{"$f":"IF(ISERROR(VLOOKUP($A61+8860000,'Growth Data'!$A:$F,4,0)),\"NO\",VLOOKUP($A61+8860000,'Growth Data'!$A:$F,4,0))","v":"NO"},0,null,0,{"$f":"IF(ISERROR(VLOOKUP($A61+8860000,'Growth Data'!$A:$Z,8,0)),0,VLOOKUP($A61+8860000,'Growth Data'!$A:$Z,8,0))","v":0},0,null,0,{"$f":"IF(ISERROR(VLOOKUP($A61+8860000,'Growth Data'!$A:$Z,9,0)),0,VLOOKUP($A61+8860000,'Growth Data'!$A:$Z,9,0))","v":0},0,null,"NO",{"$f":"IF(ISERROR(VLOOKUP($A61+8860000,'Growth Data'!$A:$Z,5,0)),\"NO\",VLOOKUP($A61+8860000,'Growth Data'!$A:$Z,5,0))","v":"NO"},0,null,0,{"$f":"IF(ISERROR(VLOOKUP($A61+8860000,'Growth Data'!$A:$Z,10,0)),0,VLOOKUP($A61+8860000,'Growth Data'!$A:$Z,10,0))","v":0},0,null,0,{"$f":"IF(ISERROR(VLOOKUP($A61+8860000,'Growth Data'!$A:$Z,11,0)),0,VLOOKUP($A61+8860000,'Growth Data'!$A:$Z,11,0))","v":0},0]
[5459,"Dover Grammar School for Boys",null,"Dover Grammar School for Boys",null,1,null,2749807.16,2749807.1553973649,4.6026352792978287E-3,null,233805.81,233805.81015859006,-1.5859006089158356E-4,null,1447.64,1447.6384049079718,1.5950920283103187E-3,null,40170.519999999997,40170.521313862315,-1.3138623180566356E-3,null,114480.08,114480.07999999999,0,null,0,0,0,null,0,0,0,null,0,0,0,null,17818,17818,0,null,0,0,0,null,0,0,0,null,135288.79,135288.79472527467,-4.7252746589947492E-3,null,3292818,3292818,0,null,0,0,0,null,3292818,3292818,0,null,0,null,0,null,5000,null,5000,null,0,null,0,null,254625.35,254625.35303668043,0,null,0,null,0,null,5000,5000,0,null,0,null,0,null,0,null,0,null,0,null,0,null,0,null,0,null,0,null,0,null,"NO",{"$f":"IF(ISERROR(VLOOKUP($A62+8860000,'Growth Data'!$A:$F,3,0)),\"NO\",VLOOKUP($A62+8860000,'Growth Data'!$A:$F,3,0))","v":"NO"},0,null,0,{"$f":"IF(DI62=\"YES\",IF(ISERROR(VLOOKUP($A62+8860000,'Growth Data'!$A:$F,6,0)),0,VLOOKUP($A62+8860000,'Growth Data'!$A:$F,6,0)),0)","v":0},0,null,0,{"$f":"IF(ISERROR(VLOOKUP($A62+8860000,'Growth Data'!$A:$Z,7,0)),0,VLOOKUP($A62+8860000,'Growth Data'!$A:$Z,7,0))","v":0},0,null,"NO",{"$f":"IF(ISERROR(VLOOKUP($A62+8860000,'Growth Data'!$A:$F,4,0)),\"NO\",VLOOKUP($A62+8860000,'Growth Data'!$A:$F,4,0))","v":"NO"},0,null,0,{"$f":"IF(ISERROR(VLOOKUP($A62+8860000,'Growth Data'!$A:$Z,8,0)),0,VLOOKUP($A62+8860000,'Growth Data'!$A:$Z,8,0))","v":0},0,null,0,{"$f":"IF(ISERROR(VLOOKUP($A62+8860000,'Growth Data'!$A:$Z,9,0)),0,VLOOKUP($A62+8860000,'Growth Data'!$A:$Z,9,0))","v":0},0,null,"NO",{"$f":"IF(ISERROR(VLOOKUP($A62+8860000,'Growth Data'!$A:$Z,5,0)),\"NO\",VLOOKUP($A62+8860000,'Growth Data'!$A:$Z,5,0))","v":"NO"},0,null,0,{"$f":"IF(ISERROR(VLOOKUP($A62+8860000,'Growth Data'!$A:$Z,10,0)),0,VLOOKUP($A62+8860000,'Growth Data'!$A:$Z,10,0))","v":0},0,null,0,{"$f":"IF(ISERROR(VLOOKUP($A62+8860000,'Growth Data'!$A:$Z,11,0)),0,VLOOKUP($A62+8860000,'Growth Data'!$A:$Z,11,0))","v":0},0]
[4109,"Dover Grammar School for Girls",null,"Dover Grammar School for Girls",null,1,null,2880580.83,2880580.8274570047,2.5429953821003437E-3,null,224015.61,224015.61381363199,-3.8136320072226226E-3,null,1441.01,1441.0080000000039,1.9999999960873538E-3,null,23568.15,23568.148077501664,1.9224983370804694E-3,null,114480.08,114480.07999999999,0,null,0,0,0,null,0,0,0,null,0,0,0,null,69632,69632,0,null,0,0,0,null,0,0,0,null,185914.32,185914.3226518617,-2.65186169417575E-3,null,3499632,3499632,0,null,0,0,0,null,3499632,3499632,0,null,0,null,0,null,5000,null,5000,null,0,null,0,null,229577.1,229577.09805045373,0,null,0,null,0,null,5000,5000,0,null,48000,null,48000,null,686.56,null,687,null,686.56,null,687,null,686.56,null,687,null,686.56,null,687,null,"NO",{"$f":"IF(ISERROR(VLOOKUP($A63+8860000,'Growth Data'!$A:$F,3,0)),\"NO\",VLOOKUP($A63+8860000,'Growth Data'!$A:$F,3,0))","v":"NO"},0,null,0,{"$f":"IF(DI63=\"YES\",IF(ISERROR(VLOOKUP($A63+8860000,'Growth Data'!$A:$F,6,0)),0,VLOOKUP($A63+8860000,'Growth Data'!$A:$F,6,0)),0)","v":0},0,null,0,{"$f":"IF(ISERROR(VLOOKUP($A63+8860000,'Growth Data'!$A:$Z,7,0)),0,VLOOKUP($A63+8860000,'Growth Data'!$A:$Z,7,0))","v":0},0,null,"NO",{"$f":"IF(ISERROR(VLOOKUP($A63+8860000,'Growth Data'!$A:$F,4,0)),\"NO\",VLOOKUP($A63+8860000,'Growth Data'!$A:$F,4,0))","v":"NO"},0,null,0,{"$f":"IF(ISERROR(VLOOKUP($A63+8860000,'Growth Data'!$A:$Z,8,0)),0,VLOOKUP($A63+8860000,'Growth Data'!$A:$Z,8,0))","v":0},0,null,0,{"$f":"IF(ISERROR(VLOOKUP($A63+8860000,'Growth Data'!$A:$Z,9,0)),0,VLOOKUP($A63+8860000,'Growth Data'!$A:$Z,9,0))","v":0},0,null,"NO",{"$f":"IF(ISERROR(VLOOKUP($A63+8860000,'Growth Data'!$A:$Z,5,0)),\"NO\",VLOOKUP($A63+8860000,'Growth Data'!$A:$Z,5,0))","v":"NO"},0,null,0,{"$f":"IF(ISERROR(VLOOKUP($A63+8860000,'Growth Data'!$A:$Z,10,0)),0,VLOOKUP($A63+8860000,'Growth Data'!$A:$Z,10,0))","v":0},0,null,0,{"$f":"IF(ISERROR(VLOOKUP($A63+8860000,'Growth Data'!$A:$Z,11,0)),0,VLOOKUP($A63+8860000,'Growth Data'!$A:$Z,11,0))","v":0},0]
[2574,"Downs View Infant School",null,"Downs View Infant School",null,1,null,743737.81,743737.81381956919,-3.8195691304281354E-3,null,64154.77,64154.769645210741,3.5478925565257668E-4,null,10601.66,10601.660156976744,-1.5697674461989664E-4,null,62614.16,62614.162890909021,-2.8909090178785846E-3,null,120084,120083.99999999999,0,null,0,0,0,null,0,0,0,null,0,0,0,null,27648,27648,0,null,0,0,0,null,0,0,0,null,0,0,0,null,1028840.41,1028840.4065126657,3.4873343538492918E-3,null,0,0,0,null,1028840.41,1028840.4065126657,3.4873343538492918E-3,null,0,null,0,null,3363.01,null,3363.01,null,0,null,0,null,121990.54,121990.53500010466,0,null,0,null,0,null,3821.35,3821.3450630254433,0,null,0,null,0,null,0,null,0,null,0,null,0,null,0,null,0,null,0,null,0,null,"NO",{"$f":"IF(ISERROR(VLOOKUP($A64+8860000,'Growth Data'!$A:$F,3,0)),\"NO\",VLOOKUP($A64+8860000,'Growth Data'!$A:$F,3,0))","v":"NO"},0,null,0,{"$f":"IF(DI64=\"YES\",IF(ISERROR(VLOOKUP($A64+8860000,'Growth Data'!$A:$F,6,0)),0,VLOOKUP($A64+8860000,'Growth Data'!$A:$F,6,0)),0)","v":0},0,null,0,{"$f":"IF(ISERROR(VLOOKUP($A64+8860000,'Growth Data'!$A:$Z,7,0)),0,VLOOKUP($A64+8860000,'Growth Data'!$A:$Z,7,0))","v":0},0,null,"NO",{"$f":"IF(ISERROR(VLOOKUP($A64+8860000,'Growth Data'!$A:$F,4,0)),\"NO\",VLOOKUP($A64+8860000,'Growth Data'!$A:$F,4,0))","v":"NO"},0,null,0,{"$f":"IF(ISERROR(VLOOKUP($A64+8860000,'Growth Data'!$A:$Z,8,0)),0,VLOOKUP($A64+8860000,'Growth Data'!$A:$Z,8,0))","v":0},0,null,0,{"$f":"IF(ISERROR(VLOOKUP($A64+8860000,'Growth Data'!$A:$Z,9,0)),0,VLOOKUP($A64+8860000,'Growth Data'!$A:$Z,9,0))","v":0},0,null,"NO",{"$f":"IF(ISERROR(VLOOKUP($A64+8860000,'Growth Data'!$A:$Z,5,0)),\"NO\",VLOOKUP($A64+8860000,'Growth Data'!$A:$Z,5,0))","v":"NO"},0,null,0,{"$f":"IF(ISERROR(VLOOKUP($A64+8860000,'Growth Data'!$A:$Z,10,0)),0,VLOOKUP($A64+8860000,'Growth Data'!$A:$Z,10,0))","v":0},0,null,0,{"$f":"IF(ISERROR(VLOOKUP($A64+8860000,'Growth Data'!$A:$Z,11,0)),0,VLOOKUP($A64+8860000,'Growth Data'!$A:$Z,11,0))","v":0},0]
[3896,"Downsview Primary",null,"Downsview Primary",null,1,null,573416.18000000005,573416.17706699611,2.9330039396882057E-3,null,66657.58,66657.581513846133,-1.5138461312744766E-3,null,1843.39,1843.391744318177,-1.7443181768612703E-3,null,77448.509999999995,77448.505298780568,4.7012194263515994E-3,null,120084,120083.99999999999,0,null,0,0,0,null,30555.97,30555.967464711441,2.5352885604661424E-3,null,0,0,0,null,20334,20334,0,null,0,0,0,null,0,0,0,null,0,0,0,null,890339.62,890339.62308865238,-3.0886523891240358E-3,null,0,0,0,null,890339.62,890339.62308865238,-3.0886523891240358E-3,null,0,null,0,null,3690.84,null,3690.84,null,0,null,0,null,139055.79999999999,139055.79951140092,0,null,0,null,0,null,4306.96,4306.9585301418456,0,null,0,null,0,null,0,null,0,null,0,null,0,null,0,null,0,null,0,null,0,null,"NO",{"$f":"IF(ISERROR(VLOOKUP($A65+8860000,'Growth Data'!$A:$F,3,0)),\"NO\",VLOOKUP($A65+8860000,'Growth Data'!$A:$F,3,0))","v":"NO"},0,null,0,{"$f":"IF(DI65=\"YES\",IF(ISERROR(VLOOKUP($A65+8860000,'Growth Data'!$A:$F,6,0)),0,VLOOKUP($A65+8860000,'Growth Data'!$A:$F,6,0)),0)","v":0},0,null,0,{"$f":"IF(ISERROR(VLOOKUP($A65+8860000,'Growth Data'!$A:$Z,7,0)),0,VLOOKUP($A65+8860000,'Growth Data'!$A:$Z,7,0))","v":0},0,null,"NO",{"$f":"IF(ISERROR(VLOOKUP($A65+8860000,'Growth Data'!$A:$F,4,0)),\"NO\",VLOOKUP($A65+8860000,'Growth Data'!$A:$F,4,0))","v":"NO"},0,null,0,{"$f":"IF(ISERROR(VLOOKUP($A65+8860000,'Growth Data'!$A:$Z,8,0)),0,VLOOKUP($A65+8860000,'Growth Data'!$A:$Z,8,0))","v":0},0,null,0,{"$f":"IF(ISERROR(VLOOKUP($A65+8860000,'Growth Data'!$A:$Z,9,0)),0,VLOOKUP($A65+8860000,'Growth Data'!$A:$Z,9,0))","v":0},0,null,"NO",{"$f":"IF(ISERROR(VLOOKUP($A65+8860000,'Growth Data'!$A:$Z,5,0)),\"NO\",VLOOKUP($A65+8860000,'Growth Data'!$A:$Z,5,0))","v":"NO"},0,null,0,{"$f":"IF(ISERROR(VLOOKUP($A65+8860000,'Growth Data'!$A:$Z,10,0)),0,VLOOKUP($A65+8860000,'Growth Data'!$A:$Z,10,0))","v":0},0,null,0,{"$f":"IF(ISERROR(VLOOKUP($A65+8860000,'Growth Data'!$A:$Z,11,0)),0,VLOOKUP($A65+8860000,'Growth Data'!$A:$Z,11,0))","v":0},0]
[2130,"Dunton Green Primary School",null,"Dunton Green Primary School",null,{"$f":"IF(E66=D66,0,1)","v":1},null,451352.34,451352.33739431866,{"$f":"H66-I66","v":2.6056813658215106E-3},null,31924.76,31924.762839520958,{"$f":"L66-M66","v":-2.8395209592417814E-3},null,8258.35,8258.3514291044758,{"$f":"P66-Q66","v":-1.4291044753917959E-3},null,41039.53,41039.527886718752,{"$f":"T66-U66","v":2.1132812471478246E-3},null,120084,120083.99999999999,{"$f":"X66-Y66","v":0},null,0,0,{"$f":"AB66-AC66","v":0},null,23756.79,23756.786855607719,{"$f":"AF66-AG66","v":3.1443922816833947E-3},null,0,0,{"$f":"AJ66-AK66","v":0},null,24576,24576,{"$f":"AN66-AO66","v":0},null,0,0,{"$f":"AR66-AS66","v":0},null,0,0,{"$f":"AV66-AW66","v":0},null,0,0,{"$f":"AZ66-BA66","v":0},null,700991.77,700991.76640527055,{"$f":"BD66-BE66","v":3.5947294672951102E-3},null,0,0,{"$f":"BH66-BI66","v":0},null,700991.77,700991.76640527055,{"$f":"BL66-BM66","v":3.5947294672951102E-3},null,0,null,{"$f":"BP66-BQ66","v":0},null,3471.45,null,{"$f":"BT66-BU66","v":3471.45},null,0,null,{"$f":"BX66-BY66","v":0},null,74306.44,74306.438594781954,{"$f":"ROUND(CB66-CC66,0)","v":0},null,0,null,{"$f":"ROUND(CF66-CG66,0)","v":0},null,4254.1899999999996,4254.1872100960436,{"$f":"ROUND(CJ66-CK66,0)","v":0},null,0,null,{"$f":"ROUND(CN66-CO66,0)","v":0},null,0,null,{"$f":"ROUND(CR66-CS66,0)","v":0},null,0,null,{"$f":"ROUND(CV66-CW66,0)","v":0},null,0,null,{"$f":"ROUND(CZ66-DA66,0)","v":0},null,0,null,{"$f":"ROUND(DD66-DE66,0)","v":0},null,"NO",{"$f":"IF(ISERROR(VLOOKUP($A66+8860000,'Growth Data'!$A:$F,3,0)),\"NO\",VLOOKUP($A66+8860000,'Growth Data'!$A:$F,3,0))","v":"NO"},{"$f":"IF(DH66=DI66,0,1)","v":0},null,0,{"$f":"IF(DI66=\"YES\",IF(ISERROR(VLOOKUP($A66+8860000,'Growth Data'!$A:$F,6,0)),0,VLOOKUP($A66+8860000,'Growth Data'!$A:$F,6,0)),0)","v":0},{"$f":"ROUND(DL66-DM66,0)","v":0},null,0,{"$f":"IF(ISERROR(VLOOKUP($A66+8860000,'Growth Data'!$A:$Z,7,0)),0,VLOOKUP($A66+8860000,'Growth Data'!$A:$Z,7,0))","v":0},{"$f":"IF(DP66=DQ66,0,1)","v":0},null,"NO",{"$f":"IF(ISERROR(VLOOKUP($A66+8860000,'Growth Data'!$A:$F,4,0)),\"NO\",VLOOKUP($A66+8860000,'Growth Data'!$A:$F,4,0))","v":"NO"},{"$f":"IF(DT66=DU66,0,1)","v":0},null,0,{"$f":"IF(ISERROR(VLOOKUP($A66+8860000,'Growth Data'!$A:$Z,8,0)),0,VLOOKUP($A66+8860000,'Growth Data'!$A:$Z,8,0))","v":0},{"$f":"IF(DX66=DY66,0,1)","v":0},null,0,{"$f":"IF(ISERROR(VLOOKUP($A66+8860000,'Growth Data'!$A:$Z,9,0)),0,VLOOKUP($A66+8860000,'Growth Data'!$A:$Z,9,0))","v":0},{"$f":"IF(EB66=EC66,0,1)","v":0},null,"NO",{"$f":"IF(ISERROR(VLOOKUP($A66+8860000,'Growth Data'!$A:$Z,5,0)),\"NO\",VLOOKUP($A66+8860000,'Growth Data'!$A:$Z,5,0))","v":"NO"},{"$f":"IF(EF66=EG66,0,1)","v":0},null,0,{"$f":"IF(ISERROR(VLOOKUP($A66+8860000,'Growth Data'!$A:$Z,10,0)),0,VLOOKUP($A66+8860000,'Growth Data'!$A:$Z,10,0))","v":0},{"$f":"IF(EJ66=EK66,0,1)","v":0},null,0,{"$f":"IF(ISERROR(VLOOKUP($A66+8860000,'Growth Data'!$A:$Z,11,0)),0,VLOOKUP($A66+8860000,'Growth Data'!$A:$Z,11,0))","v":0},{"$f":"IF(EN66=EO66,0,1)","v":0}]
[2163,"East Farleigh Primary School",null,"East Farleigh Primary School",null,1,null,590448.34,590448.34074225335,-7.422533817589283E-4,null,15930.37,15930.369588944708,4.1105529271590058E-4,null,3110.56,3110.5557541899384,4.2458100615476724E-3,null,43587.79,43587.793483146052,-3.4831460507120937E-3,null,120084,120083.99999999999,0,null,0,0,0,null,0,0,0,null,0,0,0,null,16717,16717,0,null,0,0,0,null,0,0,0,null,6838.94,6838.9404314659769,-4.3146597727172775E-4,null,796717,796717,0,null,0,0,0,null,796717,796717,0,null,0,null,0,null,3750,null,3750,null,0,null,0,null,65261.26,65261.261133288848,0,null,0,null,0,null,3750,3750,0,null,30000,null,30000,null,985.74,null,986,null,985.74,null,986,null,985.74,null,986,null,985.74,null,986,null,"YES",{"$f":"IF(ISERROR(VLOOKUP($A67+8860000,'Growth Data'!$A:$F,3,0)),\"NO\",VLOOKUP($A67+8860000,'Growth Data'!$A:$F,3,0))","v":"NO"},1,null,46,{"$f":"IF(DI67=\"YES\",IF(ISERROR(VLOOKUP($A67+8860000,'Growth Data'!$A:$F,6,0)),0,VLOOKUP($A67+8860000,'Growth Data'!$A:$F,6,0)),0)","v":0},46,null,60,{"$f":"IF(ISERROR(VLOOKUP($A67+8860000,'Growth Data'!$A:$Z,7,0)),0,VLOOKUP($A67+8860000,'Growth Data'!$A:$Z,7,0))","v":0},1,null,"YES",{"$f":"IF(ISERROR(VLOOKUP($A67+8860000,'Growth Data'!$A:$F,4,0)),\"NO\",VLOOKUP($A67+8860000,'Growth Data'!$A:$F,4,0))","v":"NO"},1,null,46,{"$f":"IF(ISERROR(VLOOKUP($A67+8860000,'Growth Data'!$A:$Z,8,0)),0,VLOOKUP($A67+8860000,'Growth Data'!$A:$Z,8,0))","v":0},1,null,60,{"$f":"IF(ISERROR(VLOOKUP($A67+8860000,'Growth Data'!$A:$Z,9,0)),0,VLOOKUP($A67+8860000,'Growth Data'!$A:$Z,9,0))","v":0},1,null,"YES",{"$f":"IF(ISERROR(VLOOKUP($A67+8860000,'Growth Data'!$A:$Z,5,0)),\"NO\",VLOOKUP($A67+8860000,'Growth Data'!$A:$Z,5,0))","v":"NO"},1,null,47,{"$f":"IF(ISERROR(VLOOKUP($A67+8860000,'Growth Data'!$A:$Z,10,0)),0,VLOOKUP($A67+8860000,'Growth Data'!$A:$Z,10,0))","v":0},1,null,60,{"$f":"IF(ISERROR(VLOOKUP($A67+8860000,'Growth Data'!$A:$Z,11,0)),0,VLOOKUP($A67+8860000,'Growth Data'!$A:$Z,11,0))","v":0},1]
[2164,"East Peckham Primary School",null,"East Peckham Primary School",null,1,null,479739.28,479739.27685308084,3.1469191890209913E-3,null,19231.259999999998,19231.26234930439,-2.3493043918279E-3,null,1274.3399999999999,1274.3421197183079,-2.1197183079948445E-3,null,44355.69,44355.691444029864,-1.4440298618865199E-3,null,120084,120083.99999999999,0,null,0,0,0,null,0,0,0,null,0,0,0,null,20709,20709,0,null,0,0,0,null,0,0,0,null,0,0,0,null,685393.57,685393.57276613347,-2.7661335188895464E-3,null,0,0,0,null,685393.57,685393.57276613347,-2.7661335188895464E-3,null,0,null,0,null,3222.49,null,3222.49,null,0,null,0,null,62540.37,62540.373220060676,0,null,0,null,0,null,3933.04,3933.044809267064,0,null,0,null,0,null,0,null,0,null,0,null,0,null,0,null,0,null,0,null,0,null,"NO",{"$f":"IF(ISERROR(VLOOKUP($A68+8860000,'Growth Data'!$A:$F,3,0)),\"NO\",VLOOKUP($A68+8860000,'Growth Data'!$A:$F,3,0))","v":"NO"},0,null,0,{"$f":"IF(DI68=\"YES\",IF(ISERROR(VLOOKUP($A68+8860000,'Growth Data'!$A:$F,6,0)),0,VLOOKUP($A68+8860000,'Growth Data'!$A:$F,6,0)),0)","v":0},0,null,0,{"$f":"IF(ISERROR(VLOOKUP($A68+8860000,'Growth Data'!$A:$Z,7,0)),0,VLOOKUP($A68+8860000,'Growth Data'!$A:$Z,7,0))","v":0},0,null,"NO",{"$f":"IF(ISERROR(VLOOKUP($A68+8860000,'Growth Data'!$A:$F,4,0)),\"NO\",VLOOKUP($A68+8860000,'Growth Data'!$A:$F,4,0))","v":"NO"},0,null,0,{"$f":"IF(ISERROR(VLOOKUP($A68+8860000,'Growth Data'!$A:$Z,8,0)),0,VLOOKUP($A68+8860000,'Growth Data'!$A:$Z,8,0))","v":0},0,null,0,{"$f":"IF(ISERROR(VLOOKUP($A68+8860000,'Growth Data'!$A:$Z,9,0)),0,VLOOKUP($A68+8860000,'Growth Data'!$A:$Z,9,0))","v":0},0,null,"NO",{"$f":"IF(ISERROR(VLOOKUP($A68+8860000,'Growth Data'!$A:$Z,5,0)),\"NO\",VLOOKUP($A68+8860000,'Growth Data'!$A:$Z,5,0))","v":"NO"},0,null,0,{"$f":"IF(ISERROR(VLOOKUP($A68+8860000,'Growth Data'!$A:$Z,10,0)),0,VLOOKUP($A68+8860000,'Growth Data'!$A:$Z,10,0))","v":0},0,null,0,{"$f":"IF(ISERROR(VLOOKUP($A68+8860000,'Growth Data'!$A:$Z,11,0)),0,VLOOKUP($A68+8860000,'Growth Data'!$A:$Z,11,0))","v":0},0]
[2272,"East Stour Primary School",null,"East Stour Primary School",null,1,null,1064510.23,1064510.2297035819,2.9641808941960335E-4,null,147169.39000000001,147169.38718644064,2.8135593747720122E-3,null,14917.56,14917.555727554178,4.2724458216980565E-3,null,124892.05,124892.05078125,-7.8124999708961695E-4,null,120084,120083.99999999999,0,null,0,0,0,null,0,0,0,null,0,0,0,null,53760,53760,0,null,0,0,0,null,0,0,0,null,0,0,0,null,1525333.22,1525333.2233988268,-3.3988268114626408E-3,null,0,0,0,null,1525333.22,1525333.2233988268,-3.3988268114626408E-3,null,0,null,0,null,3603.97,null,3603.97,null,0.26,null,0.26,null,254486.97,254486.966002253,0,null,0,null,0,null,3924.2,3924.1952623968718,0,null,0,null,0,null,0,null,0,null,0,null,0,null,0,null,0,null,0,null,0,null,"NO",{"$f":"IF(ISERROR(VLOOKUP($A69+8860000,'Growth Data'!$A:$F,3,0)),\"NO\",VLOOKUP($A69+8860000,'Growth Data'!$A:$F,3,0))","v":"NO"},0,null,0,{"$f":"IF(DI69=\"YES\",IF(ISERROR(VLOOKUP($A69+8860000,'Growth Data'!$A:$F,6,0)),0,VLOOKUP($A69+8860000,'Growth Data'!$A:$F,6,0)),0)","v":0},0,null,0,{"$f":"IF(ISERROR(VLOOKUP($A69+8860000,'Growth Data'!$A:$Z,7,0)),0,VLOOKUP($A69+8860000,'Growth Data'!$A:$Z,7,0))","v":0},0,null,"NO",{"$f":"IF(ISERROR(VLOOKUP($A69+8860000,'Growth Data'!$A:$F,4,0)),\"NO\",VLOOKUP($A69+8860000,'Growth Data'!$A:$F,4,0))","v":"NO"},0,null,0,{"$f":"IF(ISERROR(VLOOKUP($A69+8860000,'Growth Data'!$A:$Z,8,0)),0,VLOOKUP($A69+8860000,'Growth Data'!$A:$Z,8,0))","v":0},0,null,0,{"$f":"IF(ISERROR(VLOOKUP($A69+8860000,'Growth Data'!$A:$Z,9,0)),0,VLOOKUP($A69+8860000,'Growth Data'!$A:$Z,9,0))","v":0},0,null,"NO",{"$f":"IF(ISERROR(VLOOKUP($A69+8860000,'Growth Data'!$A:$Z,5,0)),\"NO\",VLOOKUP($A69+8860000,'Growth Data'!$A:$Z,5,0))","v":"NO"},0,null,0,{"$f":"IF(ISERROR(VLOOKUP($A69+8860000,'Growth Data'!$A:$Z,10,0)),0,VLOOKUP($A69+8860000,'Growth Data'!$A:$Z,10,0))","v":0},0,null,0,{"$f":"IF(ISERROR(VLOOKUP($A69+8860000,'Growth Data'!$A:$Z,11,0)),0,VLOOKUP($A69+8860000,'Growth Data'!$A:$Z,11,0))","v":0},0]
[3106,"Eastchurch CEP School",null,"Eastchurch CEP School",null,1,null,1169541.9099999999,1169541.9057010019,4.2989980429410934E-3,null,237146.31,237146.31141332773,-1.4133277290966362E-3,null,5453.76,5453.7600164835103,-1.6483510080433916E-5,null,150580.32,150580.31808069182,1.9193081825505942E-3,null,120084,120083.99999999999,0,null,0,0,0,null,0,0,0,null,33000,33000,0,null,77824,77824,0,null,0,0,0,null,0,0,0,null,0,0,0,null,1793630.3,1793630.2952115049,4.788495134562254E-3,null,0,0,0,null,1793630.3,1793630.2952115049,4.788495134562254E-3,null,0,null,0,null,3873.11,null,3873.11,null,0,null,0,null,348980.17,348980.17181751115,0,null,0,null,0,null,4084.48,4084.4812990570526,0,null,0,null,0,null,0,null,0,null,0,null,0,null,0,null,0,null,0,null,0,null,"NO",{"$f":"IF(ISERROR(VLOOKUP($A70+8860000,'Growth Data'!$A:$F,3,0)),\"NO\",VLOOKUP($A70+8860000,'Growth Data'!$A:$F,3,0))","v":"NO"},0,null,0,{"$f":"IF(DI70=\"YES\",IF(ISERROR(VLOOKUP($A70+8860000,'Growth Data'!$A:$F,6,0)),0,VLOOKUP($A70+8860000,'Growth Data'!$A:$F,6,0)),0)","v":0},0,null,0,{"$f":"IF(ISERROR(VLOOKUP($A70+8860000,'Growth Data'!$A:$Z,7,0)),0,VLOOKUP($A70+8860000,'Growth Data'!$A:$Z,7,0))","v":0},0,null,"NO",{"$f":"IF(ISERROR(VLOOKUP($A70+8860000,'Growth Data'!$A:$F,4,0)),\"NO\",VLOOKUP($A70+8860000,'Growth Data'!$A:$F,4,0))","v":"NO"},0,null,0,{"$f":"IF(ISERROR(VLOOKUP($A70+8860000,'Growth Data'!$A:$Z,8,0)),0,VLOOKUP($A70+8860000,'Growth Data'!$A:$Z,8,0))","v":0},0,null,0,{"$f":"IF(ISERROR(VLOOKUP($A70+8860000,'Growth Data'!$A:$Z,9,0)),0,VLOOKUP($A70+8860000,'Growth Data'!$A:$Z,9,0))","v":0},0,null,"NO",{"$f":"IF(ISERROR(VLOOKUP($A70+8860000,'Growth Data'!$A:$Z,5,0)),\"NO\",VLOOKUP($A70+8860000,'Growth Data'!$A:$Z,5,0))","v":"NO"},0,null,0,{"$f":"IF(ISERROR(VLOOKUP($A70+8860000,'Growth Data'!$A:$Z,10,0)),0,VLOOKUP($A70+8860000,'Growth Data'!$A:$Z,10,0))","v":0},0,null,0,{"$f":"IF(ISERROR(VLOOKUP($A70+8860000,'Growth Data'!$A:$Z,11,0)),0,VLOOKUP($A70+8860000,'Growth Data'!$A:$Z,11,0))","v":0},0]
[2226,"Eastling Primary School",null,"Eastling Primary School",null,1,null,244127.68,244127.67934535476,6.546452350448817E-4,null,16876.810000000001,16876.805500000009,4.4999999918218236E-3,null,1180.57,1180.5694102564082,5.8974359171770629E-4,null,28487.09,28487.089175675694,8.2432430644985288E-4,null,120084,120083.99999999999,0,null,22162.14,22162.143818424564,-3.8184245640877634E-3,null,0,0,0,null,0,0,0,null,12974,12974,0,null,0,0,0,null,0,0,0,null,0,0,0,null,445892.29,445892.28724971146,2.7502885204739869E-3,null,0,0,0,null,445892.29,445892.28724971146,2.7502885204739869E-3,null,0,null,0,null,3379.91,null,3379.91,null,0,null,0,null,46024.800000000003,46024.801392940251,0,null,1397.52,null,1398,null,5033.93,5033.9335726710651,0,null,0,null,0,null,0,null,0,null,0,null,0,null,0,null,0,null,0,null,0,null,"NO",{"$f":"IF(ISERROR(VLOOKUP($A71+8860000,'Growth Data'!$A:$F,3,0)),\"NO\",VLOOKUP($A71+8860000,'Growth Data'!$A:$F,3,0))","v":"NO"},0,null,0,{"$f":"IF(DI71=\"YES\",IF(ISERROR(VLOOKUP($A71+8860000,'Growth Data'!$A:$F,6,0)),0,VLOOKUP($A71+8860000,'Growth Data'!$A:$F,6,0)),0)","v":0},0,null,0,{"$f":"IF(ISERROR(VLOOKUP($A71+8860000,'Growth Data'!$A:$Z,7,0)),0,VLOOKUP($A71+8860000,'Growth Data'!$A:$Z,7,0))","v":0},0,null,"NO",{"$f":"IF(ISERROR(VLOOKUP($A71+8860000,'Growth Data'!$A:$F,4,0)),\"NO\",VLOOKUP($A71+8860000,'Growth Data'!$A:$F,4,0))","v":"NO"},0,null,0,{"$f":"IF(ISERROR(VLOOKUP($A71+8860000,'Growth Data'!$A:$Z,8,0)),0,VLOOKUP($A71+8860000,'Growth Data'!$A:$Z,8,0))","v":0},0,null,0,{"$f":"IF(ISERROR(VLOOKUP($A71+8860000,'Growth Data'!$A:$Z,9,0)),0,VLOOKUP($A71+8860000,'Growth Data'!$A:$Z,9,0))","v":0},0,null,"NO",{"$f":"IF(ISERROR(VLOOKUP($A71+8860000,'Growth Data'!$A:$Z,5,0)),\"NO\",VLOOKUP($A71+8860000,'Growth Data'!$A:$Z,5,0))","v":"NO"},0,null,0,{"$f":"IF(ISERROR(VLOOKUP($A71+8860000,'Growth Data'!$A:$Z,10,0)),0,VLOOKUP($A71+8860000,'Growth Data'!$A:$Z,10,0))","v":0},0,null,0,{"$f":"IF(ISERROR(VLOOKUP($A71+8860000,'Growth Data'!$A:$Z,11,0)),0,VLOOKUP($A71+8860000,'Growth Data'!$A:$Z,11,0))","v":0},0]
[3167,"Eastry CEP School",null,"Eastry CEP School",null,1,null,536513.16,536513.1557706052,4.2293948354199529E-3,null,33339.78,33339.783835175876,-3.8351758776116185E-3,null,1885.45,1885.4493260869558,6.7391304423836118E-4,null,58642.98,58642.983398734148,-3.3987341448664665E-3,null,120084,120083.99999999999,0,null,0,0,0,null,0,0,0,null,0,0,0,null,17465,17465,0,null,0,0,0,null,0,0,0,null,0,0,0,null,767930.37,767930.37233060214,-2.3306021466851234E-3,null,0,0,0,null,767930.37,767930.37233060214,-2.3306021466851234E-3,null,0,null,0,null,3335.35,null,3335.35,null,0,null,0,null,86143.51,86143.513867005138,0,null,0,null,0,null,3970.72,3970.7162557174734,0,null,0,null,0,null,0,null,0,null,0,null,0,null,0,null,0,null,0,null,0,null,"NO",{"$f":"IF(ISERROR(VLOOKUP($A72+8860000,'Growth Data'!$A:$F,3,0)),\"NO\",VLOOKUP($A72+8860000,'Growth Data'!$A:$F,3,0))","v":"NO"},0,null,0,{"$f":"IF(DI72=\"YES\",IF(ISERROR(VLOOKUP($A72+8860000,'Growth Data'!$A:$F,6,0)),0,VLOOKUP($A72+8860000,'Growth Data'!$A:$F,6,0)),0)","v":0},0,null,0,{"$f":"IF(ISERROR(VLOOKUP($A72+8860000,'Growth Data'!$A:$Z,7,0)),0,VLOOKUP($A72+8860000,'Growth Data'!$A:$Z,7,0))","v":0},0,null,"NO",{"$f":"IF(ISERROR(VLOOKUP($A72+8860000,'Growth Data'!$A:$F,4,0)),\"NO\",VLOOKUP($A72+8860000,'Growth Data'!$A:$F,4,0))","v":"NO"},0,null,0,{"$f":"IF(ISERROR(VLOOKUP($A72+8860000,'Growth Data'!$A:$Z,8,0)),0,VLOOKUP($A72+8860000,'Growth Data'!$A:$Z,8,0))","v":0},0,null,0,{"$f":"IF(ISERROR(VLOOKUP($A72+8860000,'Growth Data'!$A:$Z,9,0)),0,VLOOKUP($A72+8860000,'Growth Data'!$A:$Z,9,0))","v":0},0,null,"NO",{"$f":"IF(ISERROR(VLOOKUP($A72+8860000,'Growth Data'!$A:$Z,5,0)),\"NO\",VLOOKUP($A72+8860000,'Growth Data'!$A:$Z,5,0))","v":"NO"},0,null,0,{"$f":"IF(ISERROR(VLOOKUP($A72+8860000,'Growth Data'!$A:$Z,10,0)),0,VLOOKUP($A72+8860000,'Growth Data'!$A:$Z,10,0))","v":0},0,null,0,{"$f":"IF(ISERROR(VLOOKUP($A72+8860000,'Growth Data'!$A:$Z,11,0)),0,VLOOKUP($A72+8860000,'Growth Data'!$A:$Z,11,0))","v":0},0]
[3199,"Egerton CEP School",null,"Egerton CEP School",null,1,null,553545.31999999995,553545.31944586255,5.5413739755749702E-4,null,20845.68,20845.681769999981,-1.7699999807518907E-3,null,1235.48,1235.4796153846135,3.8461538656520133E-4,null,51624.17,51624.168964968172,1.0350318261771463E-3,null,120084,120083.99999999999,0,null,0,0,0,null,0,0,0,null,0,0,0,null,11103,11103,0,null,0,0,0,null,0,0,0,null,0,0,0,null,758437.65,758437.64979621535,2.0378467161208391E-4,null,0,0,0,null,758437.65,758437.64979621535,2.0378467161208391E-4,null,0,null,0,null,3216.67,null,3216.67,null,0,null,0,null,68682.52,68682.517657360935,0,null,0,null,0,null,3832.49,3832.485383570337,0,null,0,null,0,null,0,null,0,null,0,null,0,null,0,null,0,null,0,null,0,null,"NO",{"$f":"IF(ISERROR(VLOOKUP($A73+8860000,'Growth Data'!$A:$F,3,0)),\"NO\",VLOOKUP($A73+8860000,'Growth Data'!$A:$F,3,0))","v":"NO"},0,null,0,{"$f":"IF(DI73=\"YES\",IF(ISERROR(VLOOKUP($A73+8860000,'Growth Data'!$A:$F,6,0)),0,VLOOKUP($A73+8860000,'Growth Data'!$A:$F,6,0)),0)","v":0},0,null,0,{"$f":"IF(ISERROR(VLOOKUP($A73+8860000,'Growth Data'!$A:$Z,7,0)),0,VLOOKUP($A73+8860000,'Growth Data'!$A:$Z,7,0))","v":0},0,null,"NO",{"$f":"IF(ISERROR(VLOOKUP($A73+8860000,'Growth Data'!$A:$F,4,0)),\"NO\",VLOOKUP($A73+8860000,'Growth Data'!$A:$F,4,0))","v":"NO"},0,null,0,{"$f":"IF(ISERROR(VLOOKUP($A73+8860000,'Growth Data'!$A:$Z,8,0)),0,VLOOKUP($A73+8860000,'Growth Data'!$A:$Z,8,0))","v":0},0,null,0,{"$f":"IF(ISERROR(VLOOKUP($A73+8860000,'Growth Data'!$A:$Z,9,0)),0,VLOOKUP($A73+8860000,'Growth Data'!$A:$Z,9,0))","v":0},0,null,"NO",{"$f":"IF(ISERROR(VLOOKUP($A73+8860000,'Growth Data'!$A:$Z,5,0)),\"NO\",VLOOKUP($A73+8860000,'Growth Data'!$A:$Z,5,0))","v":"NO"},0,null,0,{"$f":"IF(ISERROR(VLOOKUP($A73+8860000,'Growth Data'!$A:$Z,10,0)),0,VLOOKUP($A73+8860000,'Growth Data'!$A:$Z,10,0))","v":0},0,null,0,{"$f":"IF(ISERROR(VLOOKUP($A73+8860000,'Growth Data'!$A:$Z,11,0)),0,VLOOKUP($A73+8860000,'Growth Data'!$A:$Z,11,0))","v":0},0]
[3347,"Elham CEP School",null,"Elham CEP School",null,1,null,380384.99,380384.98874741321,1.2525867787189782E-3,null,14687.45,14687.447934782605,2.0652173952839803E-3,null,597.83000000000004,597.83485833333316,-4.8583333331180256E-3,null,29046.080000000002,29046.080745762774,-7.4576277256710455E-4,null,120084,120083.99999999999,0,null,0,0,0,null,0,0,0,null,0,0,0,null,3459,3459,0,null,0,0,0,null,0,0,0,null,0,0,0,null,548259.35,548259.35228629189,-2.2862919140607119E-3,null,0,0,0,null,548259.35,548259.35228629189,-2.2862919140607119E-3,null,0,null,0,null,3169.53,null,3169.53,null,0,null,0,null,46963.91,46963.905845886868,0,null,1303.6099999999999,null,1304,null,4065.67,4065.6742707932249,0,null,0,null,0,null,0,null,0,null,0,null,0,null,0,null,0,null,0,null,0,null,"NO",{"$f":"IF(ISERROR(VLOOKUP($A74+8860000,'Growth Data'!$A:$F,3,0)),\"NO\",VLOOKUP($A74+8860000,'Growth Data'!$A:$F,3,0))","v":"NO"},0,null,0,{"$f":"IF(DI74=\"YES\",IF(ISERROR(VLOOKUP($A74+8860000,'Growth Data'!$A:$F,6,0)),0,VLOOKUP($A74+8860000,'Growth Data'!$A:$F,6,0)),0)","v":0},0,null,0,{"$f":"IF(ISERROR(VLOOKUP($A74+8860000,'Growth Data'!$A:$Z,7,0)),0,VLOOKUP($A74+8860000,'Growth Data'!$A:$Z,7,0))","v":0},0,null,"NO",{"$f":"IF(ISERROR(VLOOKUP($A74+8860000,'Growth Data'!$A:$F,4,0)),\"NO\",VLOOKUP($A74+8860000,'Growth Data'!$A:$F,4,0))","v":"NO"},0,null,0,{"$f":"IF(ISERROR(VLOOKUP($A74+8860000,'Growth Data'!$A:$Z,8,0)),0,VLOOKUP($A74+8860000,'Growth Data'!$A:$Z,8,0))","v":0},0,null,0,{"$f":"IF(ISERROR(VLOOKUP($A74+8860000,'Growth Data'!$A:$Z,9,0)),0,VLOOKUP($A74+8860000,'Growth Data'!$A:$Z,9,0))","v":0},0,null,"NO",{"$f":"IF(ISERROR(VLOOKUP($A74+8860000,'Growth Data'!$A:$Z,5,0)),\"NO\",VLOOKUP($A74+8860000,'Growth Data'!$A:$Z,5,0))","v":"NO"},0,null,0,{"$f":"IF(ISERROR(VLOOKUP($A74+8860000,'Growth Data'!$A:$Z,10,0)),0,VLOOKUP($A74+8860000,'Growth Data'!$A:$Z,10,0))","v":0},0,null,0,{"$f":"IF(ISERROR(VLOOKUP($A74+8860000,'Growth Data'!$A:$Z,11,0)),0,VLOOKUP($A74+8860000,'Growth Data'!$A:$Z,11,0))","v":0},0]
[2340,"Ellington Infant School",null,"Ellington Infant School",null,1,null,388901.07,388901.07058504189,-5.8504188200458884E-4,null,72794.820000000007,72794.815463157851,4.5368421560851857E-3,null,7190.81,7190.8143627450972,-4.362745096841536E-3,null,50655.54,50655.536112244888,3.8877551123732701E-3,null,120084,120083.99999999999,0,null,0,0,0,null,0,0,0,null,0,0,0,null,26880,26880,0,null,0,0,0,null,0,0,0,null,0,0,0,null,666506.23999999999,666506.2365231897,3.4768102923408151E-3,null,0,0,0,null,666506.23999999999,666506.2365231897,3.4768102923408151E-3,null,0,null,0,null,3792.28,null,3792.28,null,0,null,0,null,116161.74,116161.73824515601,0,null,0,null,0,null,4668.8,4668.804646154671,0,null,0,null,0,null,0,null,0,null,0,null,0,null,0,null,0,null,0,null,0,null,"NO",{"$f":"IF(ISERROR(VLOOKUP($A75+8860000,'Growth Data'!$A:$F,3,0)),\"NO\",VLOOKUP($A75+8860000,'Growth Data'!$A:$F,3,0))","v":"NO"},0,null,0,{"$f":"IF(DI75=\"YES\",IF(ISERROR(VLOOKUP($A75+8860000,'Growth Data'!$A:$F,6,0)),0,VLOOKUP($A75+8860000,'Growth Data'!$A:$F,6,0)),0)","v":0},0,null,0,{"$f":"IF(ISERROR(VLOOKUP($A75+8860000,'Growth Data'!$A:$Z,7,0)),0,VLOOKUP($A75+8860000,'Growth Data'!$A:$Z,7,0))","v":0},0,null,"NO",{"$f":"IF(ISERROR(VLOOKUP($A75+8860000,'Growth Data'!$A:$F,4,0)),\"NO\",VLOOKUP($A75+8860000,'Growth Data'!$A:$F,4,0))","v":"NO"},0,null,0,{"$f":"IF(ISERROR(VLOOKUP($A75+8860000,'Growth Data'!$A:$Z,8,0)),0,VLOOKUP($A75+8860000,'Growth Data'!$A:$Z,8,0))","v":0},0,null,0,{"$f":"IF(ISERROR(VLOOKUP($A75+8860000,'Growth Data'!$A:$Z,9,0)),0,VLOOKUP($A75+8860000,'Growth Data'!$A:$Z,9,0))","v":0},0,null,"NO",{"$f":"IF(ISERROR(VLOOKUP($A75+8860000,'Growth Data'!$A:$Z,5,0)),\"NO\",VLOOKUP($A75+8860000,'Growth Data'!$A:$Z,5,0))","v":"NO"},0,null,0,{"$f":"IF(ISERROR(VLOOKUP($A75+8860000,'Growth Data'!$A:$Z,10,0)),0,VLOOKUP($A75+8860000,'Growth Data'!$A:$Z,10,0))","v":0},0,null,0,{"$f":"IF(ISERROR(VLOOKUP($A75+8860000,'Growth Data'!$A:$Z,11,0)),0,VLOOKUP($A75+8860000,'Growth Data'!$A:$Z,11,0))","v":0},0]
[2227,"Ethelbert Road Primary School",null,"Ethelbert Road Primary School",null,1,null,590448.34,590448.34074225335,-7.422533817589283E-4,null,17790.240000000002,17790.244460000002,-4.4600000001082662E-3,null,2516.56,2516.5626214689291,-2.6214689291919058E-3,null,56358.07,56358.067118644016,2.8813559838454239E-3,null,120084,120083.99999999999,0,null,0,0,0,null,0,0,0,null,0,0,0,null,11477,11477,0,null,0,0,0,null,0,0,0,null,0,0,0,null,798674.21,798674.21494236623,-4.9423662712797523E-3,null,0,0,0,null,798674.21,798674.21494236623,-4.9423662712797523E-3,null,0,null,0,null,3207.28,null,3207.28,null,0,null,0,null,78396.789999999994,78396.786507121098,0,null,0,null,0,null,3784.6,3784.6019949152242,0,null,0,null,0,null,0,null,0,null,0,null,0,null,0,null,0,null,0,null,0,null,"NO",{"$f":"IF(ISERROR(VLOOKUP($A76+8860000,'Growth Data'!$A:$F,3,0)),\"NO\",VLOOKUP($A76+8860000,'Growth Data'!$A:$F,3,0))","v":"NO"},0,null,0,{"$f":"IF(DI76=\"YES\",IF(ISERROR(VLOOKUP($A76+8860000,'Growth Data'!$A:$F,6,0)),0,VLOOKUP($A76+8860000,'Growth Data'!$A:$F,6,0)),0)","v":0},0,null,0,{"$f":"IF(ISERROR(VLOOKUP($A76+8860000,'Growth Data'!$A:$Z,7,0)),0,VLOOKUP($A76+8860000,'Growth Data'!$A:$Z,7,0))","v":0},0,null,"NO",{"$f":"IF(ISERROR(VLOOKUP($A76+8860000,'Growth Data'!$A:$F,4,0)),\"NO\",VLOOKUP($A76+8860000,'Growth Data'!$A:$F,4,0))","v":"NO"},0,null,0,{"$f":"IF(ISERROR(VLOOKUP($A76+8860000,'Growth Data'!$A:$Z,8,0)),0,VLOOKUP($A76+8860000,'Growth Data'!$A:$Z,8,0))","v":0},0,null,0,{"$f":"IF(ISERROR(VLOOKUP($A76+8860000,'Growth Data'!$A:$Z,9,0)),0,VLOOKUP($A76+8860000,'Growth Data'!$A:$Z,9,0))","v":0},0,null,"NO",{"$f":"IF(ISERROR(VLOOKUP($A76+8860000,'Growth Data'!$A:$Z,5,0)),\"NO\",VLOOKUP($A76+8860000,'Growth Data'!$A:$Z,5,0))","v":"NO"},0,null,0,{"$f":"IF(ISERROR(VLOOKUP($A76+8860000,'Growth Data'!$A:$Z,10,0)),0,VLOOKUP($A76+8860000,'Growth Data'!$A:$Z,10,0))","v":0},0,null,0,{"$f":"IF(ISERROR(VLOOKUP($A76+8860000,'Growth Data'!$A:$Z,11,0)),0,VLOOKUP($A76+8860000,'Growth Data'!$A:$Z,11,0))","v":0},0]
[2320,"Eythorne Elvington Community Primary School",null,"Eythorne Elvington Community Primary School",null,1,null,292385.48,292385.47642525047,3.5747495130635798E-3,null,56652.49,56652.486142857117,3.8571428813156672E-3,null,1312.94,1312.9422261904758,-2.2261904757669981E-3,null,34386.339999999997,34386.342759036168,-2.7590361714828759E-3,null,120084,120083.99999999999,0,null,0,0,0,null,0,0,0,null,0,0,0,null,17340,17340,0,null,0,0,0,null,0,0,0,null,0,0,0,null,522161.25,522161.24755333422,2.4466657778248191E-3,null,0,0,0,null,522161.25,522161.24755333422,2.4466657778248191E-3,null,0,null,0,null,3735.31,null,3735.31,null,0,null,0,null,75620.77,75620.76843509193,0,null,0,null,0,null,4901.18,4901.1771607119845,0,null,0,null,0,null,0,null,0,null,0,null,0,null,0,null,0,null,0,null,0,null,"NO",{"$f":"IF(ISERROR(VLOOKUP($A77+8860000,'Growth Data'!$A:$F,3,0)),\"NO\",VLOOKUP($A77+8860000,'Growth Data'!$A:$F,3,0))","v":"NO"},0,null,0,{"$f":"IF(DI77=\"YES\",IF(ISERROR(VLOOKUP($A77+8860000,'Growth Data'!$A:$F,6,0)),0,VLOOKUP($A77+8860000,'Growth Data'!$A:$F,6,0)),0)","v":0},0,null,0,{"$f":"IF(ISERROR(VLOOKUP($A77+8860000,'Growth Data'!$A:$Z,7,0)),0,VLOOKUP($A77+8860000,'Growth Data'!$A:$Z,7,0))","v":0},0,null,"NO",{"$f":"IF(ISERROR(VLOOKUP($A77+8860000,'Growth Data'!$A:$F,4,0)),\"NO\",VLOOKUP($A77+8860000,'Growth Data'!$A:$F,4,0))","v":"NO"},0,null,0,{"$f":"IF(ISERROR(VLOOKUP($A77+8860000,'Growth Data'!$A:$Z,8,0)),0,VLOOKUP($A77+8860000,'Growth Data'!$A:$Z,8,0))","v":0},0,null,0,{"$f":"IF(ISERROR(VLOOKUP($A77+8860000,'Growth Data'!$A:$Z,9,0)),0,VLOOKUP($A77+8860000,'Growth Data'!$A:$Z,9,0))","v":0},0,null,"NO",{"$f":"IF(ISERROR(VLOOKUP($A77+8860000,'Growth Data'!$A:$Z,5,0)),\"NO\",VLOOKUP($A77+8860000,'Growth Data'!$A:$Z,5,0))","v":"NO"},0,null,0,{"$f":"IF(ISERROR(VLOOKUP($A77+8860000,'Growth Data'!$A:$Z,10,0)),0,VLOOKUP($A77+8860000,'Growth Data'!$A:$Z,10,0))","v":0},0,null,0,{"$f":"IF(ISERROR(VLOOKUP($A77+8860000,'Growth Data'!$A:$Z,11,0)),0,VLOOKUP($A77+8860000,'Growth Data'!$A:$Z,11,0))","v":0},0]
[3015,"Fawkham CEP School",null,"Fawkham CEP School",null,1,null,292385.48,292385.47642525047,3.5747495130635798E-3,null,6223.5,6223.496257142855,3.7428571449709125E-3,null,626.63,626.63151704545658,-1.5170454565804903E-3,null,16402.68,16402.680741379325,-7.4137932460871525E-4,null,120084,120083.99999999999,0,null,0,0,0,null,15860.29,15860.291171845773,-1.1718457717506681E-3,null,0,0,0,null,21083,21083,0,null,0,0,0,null,0,0,0,null,0,0,0,null,472665.58,472665.57611266384,3.8873361772857606E-3,null,0,0,0,null,472665.58,472665.57611266384,3.8873361772857606E-3,null,0,null,0,null,3176,null,3176,null,0,null,0,null,29161.11,29161.109922517542,0,null,3083.89,null,3084,null,4384.3,4384.2968554627578,0,null,0,null,0,null,0,null,0,null,0,null,0,null,0,null,0,null,0,null,0,null,"NO",{"$f":"IF(ISERROR(VLOOKUP($A78+8860000,'Growth Data'!$A:$F,3,0)),\"NO\",VLOOKUP($A78+8860000,'Growth Data'!$A:$F,3,0))","v":"NO"},0,null,0,{"$f":"IF(DI78=\"YES\",IF(ISERROR(VLOOKUP($A78+8860000,'Growth Data'!$A:$F,6,0)),0,VLOOKUP($A78+8860000,'Growth Data'!$A:$F,6,0)),0)","v":0},0,null,0,{"$f":"IF(ISERROR(VLOOKUP($A78+8860000,'Growth Data'!$A:$Z,7,0)),0,VLOOKUP($A78+8860000,'Growth Data'!$A:$Z,7,0))","v":0},0,null,"NO",{"$f":"IF(ISERROR(VLOOKUP($A78+8860000,'Growth Data'!$A:$F,4,0)),\"NO\",VLOOKUP($A78+8860000,'Growth Data'!$A:$F,4,0))","v":"NO"},0,null,0,{"$f":"IF(ISERROR(VLOOKUP($A78+8860000,'Growth Data'!$A:$Z,8,0)),0,VLOOKUP($A78+8860000,'Growth Data'!$A:$Z,8,0))","v":0},0,null,0,{"$f":"IF(ISERROR(VLOOKUP($A78+8860000,'Growth Data'!$A:$Z,9,0)),0,VLOOKUP($A78+8860000,'Growth Data'!$A:$Z,9,0))","v":0},0,null,"NO",{"$f":"IF(ISERROR(VLOOKUP($A78+8860000,'Growth Data'!$A:$Z,5,0)),\"NO\",VLOOKUP($A78+8860000,'Growth Data'!$A:$Z,5,0))","v":"NO"},0,null,0,{"$f":"IF(ISERROR(VLOOKUP($A78+8860000,'Growth Data'!$A:$Z,10,0)),0,VLOOKUP($A78+8860000,'Growth Data'!$A:$Z,10,0))","v":0},0,null,0,{"$f":"IF(ISERROR(VLOOKUP($A78+8860000,'Growth Data'!$A:$Z,11,0)),0,VLOOKUP($A78+8860000,'Growth Data'!$A:$Z,11,0))","v":0},0]
[5229,"Fleetdown Primary School",null,"Fleetdown Primary School",null,1,null,1779861.1,1779861.1040643887,-4.0643885731697083E-3,null,65878.12,65878.1188755943,1.1244056950090453E-3,null,24333.67,24333.666632899625,3.3671003729978111E-3,null,155078.04,155078.0352933961,4.7066039114724845E-3,null,120084,120083.99999999999,0,null,0,0,0,null,78086.55,78086.551265132512,-1.2651325087063015E-3,null,0,0,0,null,50432,50432,0,null,0,0,0,null,0,0,0,null,127928.52,127928.52386858873,-3.8685887266183272E-3,null,2401682,2401682,0,null,0,0,0,null,2401682,2401682,0,null,0,null,0,null,3750,null,3750,null,0,null,0,null,235478.24,235478.23969006207,0,null,0,null,0,null,3750,3750,0,null,0,null,0,null,0,null,0,null,0,null,0,null,0,null,0,null,0,null,0,null,"NO",{"$f":"IF(ISERROR(VLOOKUP($A79+8860000,'Growth Data'!$A:$F,3,0)),\"NO\",VLOOKUP($A79+8860000,'Growth Data'!$A:$F,3,0))","v":"NO"},0,null,0,{"$f":"IF(DI79=\"YES\",IF(ISERROR(VLOOKUP($A79+8860000,'Growth Data'!$A:$F,6,0)),0,VLOOKUP($A79+8860000,'Growth Data'!$A:$F,6,0)),0)","v":0},0,null,0,{"$f":"IF(ISERROR(VLOOKUP($A79+8860000,'Growth Data'!$A:$Z,7,0)),0,VLOOKUP($A79+8860000,'Growth Data'!$A:$Z,7,0))","v":0},0,null,"NO",{"$f":"IF(ISERROR(VLOOKUP($A79+8860000,'Growth Data'!$A:$F,4,0)),\"NO\",VLOOKUP($A79+8860000,'Growth Data'!$A:$F,4,0))","v":"NO"},0,null,0,{"$f":"IF(ISERROR(VLOOKUP($A79+8860000,'Growth Data'!$A:$Z,8,0)),0,VLOOKUP($A79+8860000,'Growth Data'!$A:$Z,8,0))","v":0},0,null,0,{"$f":"IF(ISERROR(VLOOKUP($A79+8860000,'Growth Data'!$A:$Z,9,0)),0,VLOOKUP($A79+8860000,'Growth Data'!$A:$Z,9,0))","v":0},0,null,"NO",{"$f":"IF(ISERROR(VLOOKUP($A79+8860000,'Growth Data'!$A:$Z,5,0)),\"NO\",VLOOKUP($A79+8860000,'Growth Data'!$A:$Z,5,0))","v":"NO"},0,null,0,{"$f":"IF(ISERROR(VLOOKUP($A79+8860000,'Growth Data'!$A:$Z,10,0)),0,VLOOKUP($A79+8860000,'Growth Data'!$A:$Z,10,0))","v":0},0,null,0,{"$f":"IF(ISERROR(VLOOKUP($A79+8860000,'Growth Data'!$A:$Z,11,0)),0,VLOOKUP($A79+8860000,'Growth Data'!$A:$Z,11,0))","v":0},0]
[2134,"Four Elms Primary School",null,"Four Elms Primary School",null,1,null,306578.95,306578.94615463156,3.8453684537671506E-3,null,13182.14,13182.13996216216,3.7837839045096189E-5,null,628.48,628.48310869565205,-3.1086956520312015E-3,null,31621.02,31621.020329670366,-3.2967036531772465E-4,null,120084,120083.99999999999,0,null,0,0,0,null,17184.240000000002,17184.24305980781,-3.0598078083130531E-3,null,0,0,0,null,13348,13348,0,null,0,0,0,null,0,0,0,null,0,0,0,null,502626.83,502626.83261496754,-2.6149675250053406E-3,null,0,0,0,null,502626.83,502626.83261496754,-2.6149675250053406E-3,null,0,null,0,null,3378,null,3378,null,0,null,0,null,50280.43,50280.428533290651,0,null,971.96,null,972,null,4530.3599999999997,4530.3595612497011,0,null,0,null,0,null,0,null,0,null,0,null,0,null,0,null,0,null,0,null,0,null,"NO",{"$f":"IF(ISERROR(VLOOKUP($A80+8860000,'Growth Data'!$A:$F,3,0)),\"NO\",VLOOKUP($A80+8860000,'Growth Data'!$A:$F,3,0))","v":"NO"},0,null,0,{"$f":"IF(DI80=\"YES\",IF(ISERROR(VLOOKUP($A80+8860000,'Growth Data'!$A:$F,6,0)),0,VLOOKUP($A80+8860000,'Growth Data'!$A:$F,6,0)),0)","v":0},0,null,0,{"$f":"IF(ISERROR(VLOOKUP($A80+8860000,'Growth Data'!$A:$Z,7,0)),0,VLOOKUP($A80+8860000,'Growth Data'!$A:$Z,7,0))","v":0},0,null,"NO",{"$f":"IF(ISERROR(VLOOKUP($A80+8860000,'Growth Data'!$A:$F,4,0)),\"NO\",VLOOKUP($A80+8860000,'Growth Data'!$A:$F,4,0))","v":"NO"},0,null,0,{"$f":"IF(ISERROR(VLOOKUP($A80+8860000,'Growth Data'!$A:$Z,8,0)),0,VLOOKUP($A80+8860000,'Growth Data'!$A:$Z,8,0))","v":0},0,null,0,{"$f":"IF(ISERROR(VLOOKUP($A80+8860000,'Growth Data'!$A:$Z,9,0)),0,VLOOKUP($A80+8860000,'Growth Data'!$A:$Z,9,0))","v":0},0,null,"NO",{"$f":"IF(ISERROR(VLOOKUP($A80+8860000,'Growth Data'!$A:$Z,5,0)),\"NO\",VLOOKUP($A80+8860000,'Growth Data'!$A:$Z,5,0))","v":"NO"},0,null,0,{"$f":"IF(ISERROR(VLOOKUP($A80+8860000,'Growth Data'!$A:$Z,10,0)),0,VLOOKUP($A80+8860000,'Growth Data'!$A:$Z,10,0))","v":0},0,null,0,{"$f":"IF(ISERROR(VLOOKUP($A80+8860000,'Growth Data'!$A:$Z,11,0)),0,VLOOKUP($A80+8860000,'Growth Data'!$A:$Z,11,0))","v":0},0]
[3198,"Frittenden CEP School",null,"Frittenden CEP School",null,1,null,281030.7,281030.70064174559,-6.4174557337537408E-4,null,5994.95,5994.9486306122435,1.3693877563127899E-3,null,1218.44,1218.4385172413772,1.4827586228420842E-3,null,24152.62,24152.61789759032,2.1024096786277369E-3,null,120084,120083.99999999999,0,null,17646.349999999999,17646.346488651536,3.5113484627800062E-3,null,0,0,0,null,0,0,0,null,12974,12974,0,null,0,0,0,null,0,0,0,null,0,0,0,null,463101.05,463101.05217584106,-2.1758410730399191E-3,null,0,0,0,null,463101.05,463101.05217584106,-2.1758410730399191E-3,null,0,null,0,null,3155.52,null,3155.52,null,0,null,0,null,35799.81,35799.807352452088,0,null,2420.02,null,2420,null,4546.74,4546.7379007660729,0,null,0,null,0,null,0,null,0,null,0,null,0,null,0,null,0,null,0,null,0,null,"NO",{"$f":"IF(ISERROR(VLOOKUP($A81+8860000,'Growth Data'!$A:$F,3,0)),\"NO\",VLOOKUP($A81+8860000,'Growth Data'!$A:$F,3,0))","v":"NO"},0,null,0,{"$f":"IF(DI81=\"YES\",IF(ISERROR(VLOOKUP($A81+8860000,'Growth Data'!$A:$F,6,0)),0,VLOOKUP($A81+8860000,'Growth Data'!$A:$F,6,0)),0)","v":0},0,null,0,{"$f":"IF(ISERROR(VLOOKUP($A81+8860000,'Growth Data'!$A:$Z,7,0)),0,VLOOKUP($A81+8860000,'Growth Data'!$A:$Z,7,0))","v":0},0,null,"NO",{"$f":"IF(ISERROR(VLOOKUP($A81+8860000,'Growth Data'!$A:$F,4,0)),\"NO\",VLOOKUP($A81+8860000,'Growth Data'!$A:$F,4,0))","v":"NO"},0,null,0,{"$f":"IF(ISERROR(VLOOKUP($A81+8860000,'Growth Data'!$A:$Z,8,0)),0,VLOOKUP($A81+8860000,'Growth Data'!$A:$Z,8,0))","v":0},0,null,0,{"$f":"IF(ISERROR(VLOOKUP($A81+8860000,'Growth Data'!$A:$Z,9,0)),0,VLOOKUP($A81+8860000,'Growth Data'!$A:$Z,9,0))","v":0},0,null,"NO",{"$f":"IF(ISERROR(VLOOKUP($A81+8860000,'Growth Data'!$A:$Z,5,0)),\"NO\",VLOOKUP($A81+8860000,'Growth Data'!$A:$Z,5,0))","v":"NO"},0,null,0,{"$f":"IF(ISERROR(VLOOKUP($A81+8860000,'Growth Data'!$A:$Z,10,0)),0,VLOOKUP($A81+8860000,'Growth Data'!$A:$Z,10,0))","v":0},0,null,0,{"$f":"IF(ISERROR(VLOOKUP($A81+8860000,'Growth Data'!$A:$Z,11,0)),0,VLOOKUP($A81+8860000,'Growth Data'!$A:$Z,11,0))","v":0},0]
[3917,"Garlinge Primary School",null,"Garlinge Primary School",null,1,null,2197149.11,2197149.1141081927,-4.10819286480546E-3,null,394925.25,394925.2542999998,-4.2999997967854142E-3,null,21495.21,21495.209031700269,9.6829972972045653E-4,null,243573.94,243573.94413698642,-4.1369864193256944E-3,null,120084,120083.99999999999,0,null,0,0,0,null,0,0,0,null,0,0,0,null,61952,61952,0,null,0,0,0,null,0,0,0,null,0,0,0,null,3039179.52,3039179.5215768791,-1.5768790617585182E-3,null,0,0,0,null,3039179.52,3039179.5215768791,-1.5768790617585182E-3,null,0,null,0,null,3691.4,null,3691.4,null,0.36,null,0.36,null,558604.18000000005,558604.18477569474,0,null,0,null,0,null,3846.55,3846.5471854998455,0,null,0,null,0,null,0,null,0,null,0,null,0,null,0,null,0,null,0,null,0,null,"NO",{"$f":"IF(ISERROR(VLOOKUP($A82+8860000,'Growth Data'!$A:$F,3,0)),\"NO\",VLOOKUP($A82+8860000,'Growth Data'!$A:$F,3,0))","v":"NO"},0,null,0,{"$f":"IF(DI82=\"YES\",IF(ISERROR(VLOOKUP($A82+8860000,'Growth Data'!$A:$F,6,0)),0,VLOOKUP($A82+8860000,'Growth Data'!$A:$F,6,0)),0)","v":0},0,null,0,{"$f":"IF(ISERROR(VLOOKUP($A82+8860000,'Growth Data'!$A:$Z,7,0)),0,VLOOKUP($A82+8860000,'Growth Data'!$A:$Z,7,0))","v":0},0,null,"NO",{"$f":"IF(ISERROR(VLOOKUP($A82+8860000,'Growth Data'!$A:$F,4,0)),\"NO\",VLOOKUP($A82+8860000,'Growth Data'!$A:$F,4,0))","v":"NO"},0,null,0,{"$f":"IF(ISERROR(VLOOKUP($A82+8860000,'Growth Data'!$A:$Z,8,0)),0,VLOOKUP($A82+8860000,'Growth Data'!$A:$Z,8,0))","v":0},0,null,0,{"$f":"IF(ISERROR(VLOOKUP($A82+8860000,'Growth Data'!$A:$Z,9,0)),0,VLOOKUP($A82+8860000,'Growth Data'!$A:$Z,9,0))","v":0},0,null,"NO",{"$f":"IF(ISERROR(VLOOKUP($A82+8860000,'Growth Data'!$A:$Z,5,0)),\"NO\",VLOOKUP($A82+8860000,'Growth Data'!$A:$Z,5,0))","v":"NO"},0,null,0,{"$f":"IF(ISERROR(VLOOKUP($A82+8860000,'Growth Data'!$A:$Z,10,0)),0,VLOOKUP($A82+8860000,'Growth Data'!$A:$Z,10,0))","v":0},0,null,0,{"$f":"IF(ISERROR(VLOOKUP($A82+8860000,'Growth Data'!$A:$Z,11,0)),0,VLOOKUP($A82+8860000,'Growth Data'!$A:$Z,11,0))","v":0},0]
[3920,"Goat Lees Primary School",null,"Goat Lees Primary School",null,1,null,590448.34,590448.34074225335,-7.422533817589283E-4,null,91389.27,91389.270597142866,-5.9714286180678755E-4,null,3753.64,3753.6369438202214,3.0561797784685041E-3,null,63335.73,63335.732571428627,-2.5714286239235662E-3,null,120084,120083.99999999999,0,null,0,0,0,null,0,0,0,null,0,0,0,null,8806,8806,0,null,0,0,0,null,0,0,0,null,0,0,0,null,877816.98,877816.98085464502,-8.5464504081755877E-4,null,0,0,0,null,877816.98,877816.98085464502,-8.5464504081755877E-4,null,0,null,0,null,3600.61,null,3600.61,null,0,null,0,null,136794.17000000001,136794.17241939987,0,null,0,null,0,null,4177.9399999999996,4177.9374079550262,0,null,0,null,0,null,0,null,0,null,0,null,0,null,0,null,0,null,0,null,0,null,"NO",{"$f":"IF(ISERROR(VLOOKUP($A83+8860000,'Growth Data'!$A:$F,3,0)),\"NO\",VLOOKUP($A83+8860000,'Growth Data'!$A:$F,3,0))","v":"NO"},0,null,0,{"$f":"IF(DI83=\"YES\",IF(ISERROR(VLOOKUP($A83+8860000,'Growth Data'!$A:$F,6,0)),0,VLOOKUP($A83+8860000,'Growth Data'!$A:$F,6,0)),0)","v":0},0,null,0,{"$f":"IF(ISERROR(VLOOKUP($A83+8860000,'Growth Data'!$A:$Z,7,0)),0,VLOOKUP($A83+8860000,'Growth Data'!$A:$Z,7,0))","v":0},0,null,"NO",{"$f":"IF(ISERROR(VLOOKUP($A83+8860000,'Growth Data'!$A:$F,4,0)),\"NO\",VLOOKUP($A83+8860000,'Growth Data'!$A:$F,4,0))","v":"NO"},0,null,0,{"$f":"IF(ISERROR(VLOOKUP($A83+8860000,'Growth Data'!$A:$Z,8,0)),0,VLOOKUP($A83+8860000,'Growth Data'!$A:$Z,8,0))","v":0},0,null,0,{"$f":"IF(ISERROR(VLOOKUP($A83+8860000,'Growth Data'!$A:$Z,9,0)),0,VLOOKUP($A83+8860000,'Growth Data'!$A:$Z,9,0))","v":0},0,null,"NO",{"$f":"IF(ISERROR(VLOOKUP($A83+8860000,'Growth Data'!$A:$Z,5,0)),\"NO\",VLOOKUP($A83+8860000,'Growth Data'!$A:$Z,5,0))","v":"NO"},0,null,0,{"$f":"IF(ISERROR(VLOOKUP($A83+8860000,'Growth Data'!$A:$Z,10,0)),0,VLOOKUP($A83+8860000,'Growth Data'!$A:$Z,10,0))","v":0},0,null,0,{"$f":"IF(ISERROR(VLOOKUP($A83+8860000,'Growth Data'!$A:$Z,11,0)),0,VLOOKUP($A83+8860000,'Growth Data'!$A:$Z,11,0))","v":0},0]
[3168,"Goodnestone CEP School",null,"Goodnestone CEP School",null,1,null,93676.9,93676.9002139152,-2.1391520567703992E-4,null,8449.31,8449.3103800000026,-3.8000000313331839E-4,null,0,0,0,null,13816.63,13816.62916071429,8.3928570893476717E-4,null,120084,120083.99999999999,0,null,0,0,0,null,0,0,0,null,0,0,0,null,3443,3443,0,null,0,0,0,null,0,0,0,null,0,0,0,null,239469.84,239469.83975462947,2.4537052377127111E-4,null,0,0,0,null,239469.84,239469.83975462947,2.4537052377127111E-4,null,0,null,0,null,3513.42,null,3513.42,null,0,null,0,null,26249.43,26249.426847722432,0,null,3375.06,null,3375,null,7152.33,7152.3284774130161,0,null,0,null,0,null,0,null,0,null,0,null,0,null,0,null,0,null,0,null,0,null,"NO",{"$f":"IF(ISERROR(VLOOKUP($A84+8860000,'Growth Data'!$A:$F,3,0)),\"NO\",VLOOKUP($A84+8860000,'Growth Data'!$A:$F,3,0))","v":"NO"},0,null,0,{"$f":"IF(DI84=\"YES\",IF(ISERROR(VLOOKUP($A84+8860000,'Growth Data'!$A:$F,6,0)),0,VLOOKUP($A84+8860000,'Growth Data'!$A:$F,6,0)),0)","v":0},0,null,0,{"$f":"IF(ISERROR(VLOOKUP($A84+8860000,'Growth Data'!$A:$Z,7,0)),0,VLOOKUP($A84+8860000,'Growth Data'!$A:$Z,7,0))","v":0},0,null,"NO",{"$f":"IF(ISERROR(VLOOKUP($A84+8860000,'Growth Data'!$A:$F,4,0)),\"NO\",VLOOKUP($A84+8860000,'Growth Data'!$A:$F,4,0))","v":"NO"},0,null,0,{"$f":"IF(ISERROR(VLOOKUP($A84+8860000,'Growth Data'!$A:$Z,8,0)),0,VLOOKUP($A84+8860000,'Growth Data'!$A:$Z,8,0))","v":0},0,null,0,{"$f":"IF(ISERROR(VLOOKUP($A84+8860000,'Growth Data'!$A:$Z,9,0)),0,VLOOKUP($A84+8860000,'Growth Data'!$A:$Z,9,0))","v":0},0,null,"NO",{"$f":"IF(ISERROR(VLOOKUP($A84+8860000,'Growth Data'!$A:$Z,5,0)),\"NO\",VLOOKUP($A84+8860000,'Growth Data'!$A:$Z,5,0))","v":"NO"},0,null,0,{"$f":"IF(ISERROR(VLOOKUP($A84+8860000,'Growth Data'!$A:$Z,10,0)),0,VLOOKUP($A84+8860000,'Growth Data'!$A:$Z,10,0))","v":0},0,null,0,{"$f":"IF(ISERROR(VLOOKUP($A84+8860000,'Growth Data'!$A:$Z,11,0)),0,VLOOKUP($A84+8860000,'Growth Data'!$A:$Z,11,0))","v":0},0]
[3029,"Goudhurst & Kilndown CEP School",null,"Goudhurst & Kilndown CEP School",null,1,null,601803.12,601803.11652575829,3.4742417046800256E-3,null,17609.810000000001,17609.813573831772,-3.5738317710638512E-3,null,1870.87,1870.8691318681338,8.6813186612744175E-4,null,26120.01,26120.005317919084,4.6820809147902764E-3,null,120084,120083.99999999999,0,null,0,0,0,null,0,0,0,null,0,0,0,null,27904,27904,0,null,0,0,0,null,0,0,0,null,27512.2,27512.195450622821,4.5493771795008797E-3,null,822904,822904.00000000012,0,null,0,0,0,null,822904,822904.00000000012,0,null,0,null,0,null,3750,null,3750,null,0,null,0,null,44180.4,44180.395330627143,0,null,1581.96,null,1582,null,3750,3750,0,null,0,null,0,null,0,null,0,null,0,null,0,null,0,null,0,null,0,null,0,null,"NO",{"$f":"IF(ISERROR(VLOOKUP($A85+8860000,'Growth Data'!$A:$F,3,0)),\"NO\",VLOOKUP($A85+8860000,'Growth Data'!$A:$F,3,0))","v":"NO"},0,null,0,{"$f":"IF(DI85=\"YES\",IF(ISERROR(VLOOKUP($A85+8860000,'Growth Data'!$A:$F,6,0)),0,VLOOKUP($A85+8860000,'Growth Data'!$A:$F,6,0)),0)","v":0},0,null,0,{"$f":"IF(ISERROR(VLOOKUP($A85+8860000,'Growth Data'!$A:$Z,7,0)),0,VLOOKUP($A85+8860000,'Growth Data'!$A:$Z,7,0))","v":0},0,null,"NO",{"$f":"IF(ISERROR(VLOOKUP($A85+8860000,'Growth Data'!$A:$F,4,0)),\"NO\",VLOOKUP($A85+8860000,'Growth Data'!$A:$F,4,0))","v":"NO"},0,null,0,{"$f":"IF(ISERROR(VLOOKUP($A85+8860000,'Growth Data'!$A:$Z,8,0)),0,VLOOKUP($A85+8860000,'Growth Data'!$A:$Z,8,0))","v":0},0,null,0,{"$f":"IF(ISERROR(VLOOKUP($A85+8860000,'Growth Data'!$A:$Z,9,0)),0,VLOOKUP($A85+8860000,'Growth Data'!$A:$Z,9,0))","v":0},0,null,"NO",{"$f":"IF(ISERROR(VLOOKUP($A85+8860000,'Growth Data'!$A:$Z,5,0)),\"NO\",VLOOKUP($A85+8860000,'Growth Data'!$A:$Z,5,0))","v":"NO"},0,null,0,{"$f":"IF(ISERROR(VLOOKUP($A85+8860000,'Growth Data'!$A:$Z,10,0)),0,VLOOKUP($A85+8860000,'Growth Data'!$A:$Z,10,0))","v":0},0,null,0,{"$f":"IF(ISERROR(VLOOKUP($A85+8860000,'Growth Data'!$A:$Z,11,0)),0,VLOOKUP($A85+8860000,'Growth Data'!$A:$Z,11,0))","v":0},0]
[2282,"Great Chart Primary School",null,"Great Chart Primary School",null,1,null,1283089.6599999999,1283089.6635360506,-3.5360506735742092E-3,null,66659.13,66659.128750000033,1.2499999720603228E-3,null,19136.91,19136.906872448973,3.1275510264094919E-3,null,84424.62,84424.622907216559,-2.907216563471593E-3,null,120084,120083.99999999999,0,null,0,0,0,null,0,0,0,null,0,0,0,null,38656,38656,0,null,0,0,0,null,0,0,0,null,121605.68,121605.67793428386,2.0657161367125809E-3,null,1733656,1733656,0,null,0,0,0,null,1733656,1733656,0,null,0,null,0,null,3750,null,3750,null,0,null,0,null,155741.23000000001,155741.23083667364,0,null,0,null,0,null,3750,3750,0,null,0,null,0,null,0,null,0,null,0,null,0,null,0,null,0,null,0,null,0,null,"NO",{"$f":"IF(ISERROR(VLOOKUP($A86+8860000,'Growth Data'!$A:$F,3,0)),\"NO\",VLOOKUP($A86+8860000,'Growth Data'!$A:$F,3,0))","v":"NO"},0,null,0,{"$f":"IF(DI86=\"YES\",IF(ISERROR(VLOOKUP($A86+8860000,'Growth Data'!$A:$F,6,0)),0,VLOOKUP($A86+8860000,'Growth Data'!$A:$F,6,0)),0)","v":0},0,null,0,{"$f":"IF(ISERROR(VLOOKUP($A86+8860000,'Growth Data'!$A:$Z,7,0)),0,VLOOKUP($A86+8860000,'Growth Data'!$A:$Z,7,0))","v":0},0,null,"NO",{"$f":"IF(ISERROR(VLOOKUP($A86+8860000,'Growth Data'!$A:$F,4,0)),\"NO\",VLOOKUP($A86+8860000,'Growth Data'!$A:$F,4,0))","v":"NO"},0,null,0,{"$f":"IF(ISERROR(VLOOKUP($A86+8860000,'Growth Data'!$A:$Z,8,0)),0,VLOOKUP($A86+8860000,'Growth Data'!$A:$Z,8,0))","v":0},0,null,0,{"$f":"IF(ISERROR(VLOOKUP($A86+8860000,'Growth Data'!$A:$Z,9,0)),0,VLOOKUP($A86+8860000,'Growth Data'!$A:$Z,9,0))","v":0},0,null,"NO",{"$f":"IF(ISERROR(VLOOKUP($A86+8860000,'Growth Data'!$A:$Z,5,0)),\"NO\",VLOOKUP($A86+8860000,'Growth Data'!$A:$Z,5,0))","v":"NO"},0,null,0,{"$f":"IF(ISERROR(VLOOKUP($A86+8860000,'Growth Data'!$A:$Z,10,0)),0,VLOOKUP($A86+8860000,'Growth Data'!$A:$Z,10,0))","v":0},0,null,0,{"$f":"IF(ISERROR(VLOOKUP($A86+8860000,'Growth Data'!$A:$Z,11,0)),0,VLOOKUP($A86+8860000,'Growth Data'!$A:$Z,11,0))","v":0},0]
[5218,"Greatstone Primary School",null,"Greatstone Primary School",null,1,null,933930.31,933930.3081932757,1.8067243508994579E-3,null,67239.88,67239.881146153784,-1.1461537797003984E-3,null,2421.14,2421.1437869415895,-3.7869415896238934E-3,null,85519.58,85519.577926829181,2.0731708209495991E-3,null,120084,120083.99999999999,0,null,0,0,0,null,0,0,0,null,0,0,0,null,8346,8346,0,null,0,0,0,null,0,0,0,null,24555.09,24555.088946799748,1.0532002524996642E-3,null,1242096,1242096,0,null,0,0,0,null,1242096,1242096,0,null,0,null,0,null,3750,null,3750,null,0,null,0,null,141601.81,141601.80516693273,0,null,0,null,0,null,3750,3750,0,null,0,null,0,null,0,null,0,null,0,null,0,null,0,null,0,null,0,null,0,null,"NO",{"$f":"IF(ISERROR(VLOOKUP($A87+8860000,'Growth Data'!$A:$F,3,0)),\"NO\",VLOOKUP($A87+8860000,'Growth Data'!$A:$F,3,0))","v":"NO"},0,null,0,{"$f":"IF(DI87=\"YES\",IF(ISERROR(VLOOKUP($A87+8860000,'Growth Data'!$A:$F,6,0)),0,VLOOKUP($A87+8860000,'Growth Data'!$A:$F,6,0)),0)","v":0},0,null,0,{"$f":"IF(ISERROR(VLOOKUP($A87+8860000,'Growth Data'!$A:$Z,7,0)),0,VLOOKUP($A87+8860000,'Growth Data'!$A:$Z,7,0))","v":0},0,null,"NO",{"$f":"IF(ISERROR(VLOOKUP($A87+8860000,'Growth Data'!$A:$F,4,0)),\"NO\",VLOOKUP($A87+8860000,'Growth Data'!$A:$F,4,0))","v":"NO"},0,null,0,{"$f":"IF(ISERROR(VLOOKUP($A87+8860000,'Growth Data'!$A:$Z,8,0)),0,VLOOKUP($A87+8860000,'Growth Data'!$A:$Z,8,0))","v":0},0,null,0,{"$f":"IF(ISERROR(VLOOKUP($A87+8860000,'Growth Data'!$A:$Z,9,0)),0,VLOOKUP($A87+8860000,'Growth Data'!$A:$Z,9,0))","v":0},0,null,"YES",{"$f":"IF(ISERROR(VLOOKUP($A87+8860000,'Growth Data'!$A:$Z,5,0)),\"NO\",VLOOKUP($A87+8860000,'Growth Data'!$A:$Z,5,0))","v":"NO"},1,null,182,{"$f":"IF(ISERROR(VLOOKUP($A87+8860000,'Growth Data'!$A:$Z,10,0)),0,VLOOKUP($A87+8860000,'Growth Data'!$A:$Z,10,0))","v":0},1,null,205,{"$f":"IF(ISERROR(VLOOKUP($A87+8860000,'Growth Data'!$A:$Z,11,0)),0,VLOOKUP($A87+8860000,'Growth Data'!$A:$Z,11,0))","v":0},1]
[3916,"Green Park Community Primary School",null,"Green Park Community Primary School",null,1,null,1121284.1100000001,1121284.1086211063,1.3788938522338867E-3,null,238972.88,238972.87828571419,1.7142858123406768E-3,null,6275.16,6275.1610534124547,-1.0534124548939872E-3,null,130996.54,130996.54280211481,-2.8021148173138499E-3,null,120084,120083.99999999999,0,null,0,0,0,null,0,0,0,null,0,0,0,null,34816,34816,0,null,0,0,0,null,0,0,0,null,0,0,0,null,1652428.69,1652428.6907623475,-7.6234759762883186E-4,null,0,0,0,null,1652428.69,1652428.6907623475,-7.6234759762883186E-4,null,0,null,0,null,3791.21,null,3791.21,null,0,null,0,null,322587.75,322587.74944824952,0,null,0,null,0,null,4095.22,4095.2220019299962,0,null,0,null,0,null,0,null,0,null,0,null,0,null,0,null,0,null,0,null,0,null,"NO",{"$f":"IF(ISERROR(VLOOKUP($A88+8860000,'Growth Data'!$A:$F,3,0)),\"NO\",VLOOKUP($A88+8860000,'Growth Data'!$A:$F,3,0))","v":"YES"},1,null,0,{"$f":"IF(DI88=\"YES\",IF(ISERROR(VLOOKUP($A88+8860000,'Growth Data'!$A:$F,6,0)),0,VLOOKUP($A88+8860000,'Growth Data'!$A:$F,6,0)),0)","v":49},-49,null,0,{"$f":"IF(ISERROR(VLOOKUP($A88+8860000,'Growth Data'!$A:$Z,7,0)),0,VLOOKUP($A88+8860000,'Growth Data'!$A:$Z,7,0))","v":60},1,null,"NO",{"$f":"IF(ISERROR(VLOOKUP($A88+8860000,'Growth Data'!$A:$F,4,0)),\"NO\",VLOOKUP($A88+8860000,'Growth Data'!$A:$F,4,0))","v":"NO"},0,null,0,{"$f":"IF(ISERROR(VLOOKUP($A88+8860000,'Growth Data'!$A:$Z,8,0)),0,VLOOKUP($A88+8860000,'Growth Data'!$A:$Z,8,0))","v":0},0,null,0,{"$f":"IF(ISERROR(VLOOKUP($A88+8860000,'Growth Data'!$A:$Z,9,0)),0,VLOOKUP($A88+8860000,'Growth Data'!$A:$Z,9,0))","v":0},0,null,"NO",{"$f":"IF(ISERROR(VLOOKUP($A88+8860000,'Growth Data'!$A:$Z,5,0)),\"NO\",VLOOKUP($A88+8860000,'Growth Data'!$A:$Z,5,0))","v":"NO"},0,null,0,{"$f":"IF(ISERROR(VLOOKUP($A88+8860000,'Growth Data'!$A:$Z,10,0)),0,VLOOKUP($A88+8860000,'Growth Data'!$A:$Z,10,0))","v":0},0,null,0,{"$f":"IF(ISERROR(VLOOKUP($A88+8860000,'Growth Data'!$A:$Z,11,0)),0,VLOOKUP($A88+8860000,'Growth Data'!$A:$Z,11,0))","v":0},0]
[3898,"Greenfields Community Primary School",null,"Greenfields Community Primary School",null,1,null,931091.61,931091.6142473995,-4.2473995126783848E-3,null,177849.41,177849.40750000003,2.499999973224476E-3,null,11208.69,11208.691659574459,-1.6595744582446059E-3,null,80475.289999999994,80475.286100719604,3.8992803893052042E-3,null,120084,120083.99999999999,0,null,0,0,0,null,0,0,0,null,0,0,0,null,37120,37120,0,null,0,0,0,null,0,0,0,null,0,0,0,null,1357829,1357828.9995076936,4.923064261674881E-4,null,98303.05,98303.04841927602,1.5807239833520725E-3,null,1456132.05,1456132.0479269696,2.0730304531753063E-3,null,0,null,0,null,3960.15,null,3960.15,null,0.44,null,0.44,null,224432.54,224432.53756730224,0,null,0,null,0,null,4326.26,4326.2562438932928,0,null,0,null,0,null,0,null,0,null,0,null,0,null,0,null,0,null,0,null,0,null,"NO",{"$f":"IF(ISERROR(VLOOKUP($A89+8860000,'Growth Data'!$A:$F,3,0)),\"NO\",VLOOKUP($A89+8860000,'Growth Data'!$A:$F,3,0))","v":"NO"},0,null,0,{"$f":"IF(DI89=\"YES\",IF(ISERROR(VLOOKUP($A89+8860000,'Growth Data'!$A:$F,6,0)),0,VLOOKUP($A89+8860000,'Growth Data'!$A:$F,6,0)),0)","v":0},0,null,0,{"$f":"IF(ISERROR(VLOOKUP($A89+8860000,'Growth Data'!$A:$Z,7,0)),0,VLOOKUP($A89+8860000,'Growth Data'!$A:$Z,7,0))","v":0},0,null,"NO",{"$f":"IF(ISERROR(VLOOKUP($A89+8860000,'Growth Data'!$A:$F,4,0)),\"NO\",VLOOKUP($A89+8860000,'Growth Data'!$A:$F,4,0))","v":"NO"},0,null,0,{"$f":"IF(ISERROR(VLOOKUP($A89+8860000,'Growth Data'!$A:$Z,8,0)),0,VLOOKUP($A89+8860000,'Growth Data'!$A:$Z,8,0))","v":0},0,null,0,{"$f":"IF(ISERROR(VLOOKUP($A89+8860000,'Growth Data'!$A:$Z,9,0)),0,VLOOKUP($A89+8860000,'Growth Data'!$A:$Z,9,0))","v":0},0,null,"NO",{"$f":"IF(ISERROR(VLOOKUP($A89+8860000,'Growth Data'!$A:$Z,5,0)),\"NO\",VLOOKUP($A89+8860000,'Growth Data'!$A:$Z,5,0))","v":"NO"},0,null,0,{"$f":"IF(ISERROR(VLOOKUP($A89+8860000,'Growth Data'!$A:$Z,10,0)),0,VLOOKUP($A89+8860000,'Growth Data'!$A:$Z,10,0))","v":0},0,null,0,{"$f":"IF(ISERROR(VLOOKUP($A89+8860000,'Growth Data'!$A:$Z,11,0)),0,VLOOKUP($A89+8860000,'Growth Data'!$A:$Z,11,0))","v":0},0]
[3169,"Guston CEP School",null,"Guston CEP School",null,1,null,437158.87,437158.86766493757,2.3350624251179397E-3,null,16514.55,16514.552100000001,-2.1000000015192199E-3,null,29980.97,29980.972000000027,-2.0000000258733053E-3,null,42203.519999999997,42203.52179999998,-1.7999999836320058E-3,null,120084,120083.99999999999,0,null,0,0,0,null,0,0,0,null,0,0,0,null,19461,19461,0,null,0,0,0,null,0,0,0,null,0,0,0,null,665402.91,665402.91356493754,-3.5649375058710575E-3,null,0,0,0,null,665402.91,665402.91356493754,-3.5649375058710575E-3,null,0,null,0,null,3414.66,null,3414.66,null,0,null,0,null,89530.33,89530.328207008148,0,null,0,null,0,null,4194.43,4194.4280101619343,0,null,0,null,0,null,0,null,0,null,0,null,0,null,0,null,0,null,0,null,0,null,"NO",{"$f":"IF(ISERROR(VLOOKUP($A90+8860000,'Growth Data'!$A:$F,3,0)),\"NO\",VLOOKUP($A90+8860000,'Growth Data'!$A:$F,3,0))","v":"NO"},0,null,0,{"$f":"IF(DI90=\"YES\",IF(ISERROR(VLOOKUP($A90+8860000,'Growth Data'!$A:$F,6,0)),0,VLOOKUP($A90+8860000,'Growth Data'!$A:$F,6,0)),0)","v":0},0,null,0,{"$f":"IF(ISERROR(VLOOKUP($A90+8860000,'Growth Data'!$A:$Z,7,0)),0,VLOOKUP($A90+8860000,'Growth Data'!$A:$Z,7,0))","v":0},0,null,"NO",{"$f":"IF(ISERROR(VLOOKUP($A90+8860000,'Growth Data'!$A:$F,4,0)),\"NO\",VLOOKUP($A90+8860000,'Growth Data'!$A:$F,4,0))","v":"NO"},0,null,0,{"$f":"IF(ISERROR(VLOOKUP($A90+8860000,'Growth Data'!$A:$Z,8,0)),0,VLOOKUP($A90+8860000,'Growth Data'!$A:$Z,8,0))","v":0},0,null,0,{"$f":"IF(ISERROR(VLOOKUP($A90+8860000,'Growth Data'!$A:$Z,9,0)),0,VLOOKUP($A90+8860000,'Growth Data'!$A:$Z,9,0))","v":0},0,null,"NO",{"$f":"IF(ISERROR(VLOOKUP($A90+8860000,'Growth Data'!$A:$Z,5,0)),\"NO\",VLOOKUP($A90+8860000,'Growth Data'!$A:$Z,5,0))","v":"NO"},0,null,0,{"$f":"IF(ISERROR(VLOOKUP($A90+8860000,'Growth Data'!$A:$Z,10,0)),0,VLOOKUP($A90+8860000,'Growth Data'!$A:$Z,10,0))","v":0},0,null,0,{"$f":"IF(ISERROR(VLOOKUP($A90+8860000,'Growth Data'!$A:$Z,11,0)),0,VLOOKUP($A90+8860000,'Growth Data'!$A:$Z,11,0))","v":0},0]
[2132,"Hadlow Primary School",null,"Hadlow Primary School",null,1,null,559222.71,559222.70733761496,2.6623849989846349E-3,null,54433.55,54433.547417647103,2.5823528994806111E-3,null,1255.58,1255.5806726190472,-6.726190472363669E-4,null,51545.07,51545.068284431109,1.71556889108615E-3,null,120084,120083.99999999999,0,null,0,0,0,null,0,0,0,null,0,0,0,null,24326,24326,0,null,0,0,0,null,0,0,0,null,0,0,0,null,810866.9,810866.90371231223,-3.7123122019693255E-3,null,0,0,0,null,810866.9,810866.90371231223,-3.7123122019693255E-3,null,0,null,0,null,3383.03,null,3383.03,null,0,null,0,null,99509.49,99509.493681705368,0,null,0,null,0,null,3992.59,3992.5934198594546,0,null,0,null,0,null,0,null,0,null,0,null,0,null,0,null,0,null,0,null,0,null,"NO",{"$f":"IF(ISERROR(VLOOKUP($A91+8860000,'Growth Data'!$A:$F,3,0)),\"NO\",VLOOKUP($A91+8860000,'Growth Data'!$A:$F,3,0))","v":"NO"},0,null,0,{"$f":"IF(DI91=\"YES\",IF(ISERROR(VLOOKUP($A91+8860000,'Growth Data'!$A:$F,6,0)),0,VLOOKUP($A91+8860000,'Growth Data'!$A:$F,6,0)),0)","v":0},0,null,0,{"$f":"IF(ISERROR(VLOOKUP($A91+8860000,'Growth Data'!$A:$Z,7,0)),0,VLOOKUP($A91+8860000,'Growth Data'!$A:$Z,7,0))","v":0},0,null,"NO",{"$f":"IF(ISERROR(VLOOKUP($A91+8860000,'Growth Data'!$A:$F,4,0)),\"NO\",VLOOKUP($A91+8860000,'Growth Data'!$A:$F,4,0))","v":"NO"},0,null,0,{"$f":"IF(ISERROR(VLOOKUP($A91+8860000,'Growth Data'!$A:$Z,8,0)),0,VLOOKUP($A91+8860000,'Growth Data'!$A:$Z,8,0))","v":0},0,null,0,{"$f":"IF(ISERROR(VLOOKUP($A91+8860000,'Growth Data'!$A:$Z,9,0)),0,VLOOKUP($A91+8860000,'Growth Data'!$A:$Z,9,0))","v":0},0,null,"NO",{"$f":"IF(ISERROR(VLOOKUP($A91+8860000,'Growth Data'!$A:$Z,5,0)),\"NO\",VLOOKUP($A91+8860000,'Growth Data'!$A:$Z,5,0))","v":"NO"},0,null,0,{"$f":"IF(ISERROR(VLOOKUP($A91+8860000,'Growth Data'!$A:$Z,10,0)),0,VLOOKUP($A91+8860000,'Growth Data'!$A:$Z,10,0))","v":0},0,null,0,{"$f":"IF(ISERROR(VLOOKUP($A91+8860000,'Growth Data'!$A:$Z,11,0)),0,VLOOKUP($A91+8860000,'Growth Data'!$A:$Z,11,0))","v":0},0]
[2133,"Halstead Community Primary School",null,"Halstead Community Primary School",null,1,null,227095.52,227095.51567009743,4.3299025564920157E-3,null,18354.18,18354.180402439022,-4.0243902185466141E-4,null,603.24,603.23887323943575,1.1267605642615308E-3,null,26418.48,26418.47999999996,4.0017766878008842E-11,null,120084,120083.99999999999,0,null,0,0,0,null,14289.02,14289.017104026238,2.8959737628611038E-3,null,0,0,0,null,9481,9481,0,null,0,0,0,null,0,0,0,null,0,0,0,null,416325.43,416325.4320498021,-2.049802104011178E-3,null,0,0,0,null,416325.43,416325.4320498021,-2.049802104011178E-3,null,0,null,0,null,3529.87,null,3529.87,null,0,null,0,null,45088.88,45088.884196296356,0,null,1491.11,null,1491,null,5085.5600000000004,5085.5554006225284,0,null,0,null,0,null,0,null,0,null,0,null,0,null,0,null,0,null,0,null,0,null,"NO",{"$f":"IF(ISERROR(VLOOKUP($A92+8860000,'Growth Data'!$A:$F,3,0)),\"NO\",VLOOKUP($A92+8860000,'Growth Data'!$A:$F,3,0))","v":"NO"},0,null,0,{"$f":"IF(DI92=\"YES\",IF(ISERROR(VLOOKUP($A92+8860000,'Growth Data'!$A:$F,6,0)),0,VLOOKUP($A92+8860000,'Growth Data'!$A:$F,6,0)),0)","v":0},0,null,0,{"$f":"IF(ISERROR(VLOOKUP($A92+8860000,'Growth Data'!$A:$Z,7,0)),0,VLOOKUP($A92+8860000,'Growth Data'!$A:$Z,7,0))","v":0},0,null,"NO",{"$f":"IF(ISERROR(VLOOKUP($A92+8860000,'Growth Data'!$A:$F,4,0)),\"NO\",VLOOKUP($A92+8860000,'Growth Data'!$A:$F,4,0))","v":"NO"},0,null,0,{"$f":"IF(ISERROR(VLOOKUP($A92+8860000,'Growth Data'!$A:$Z,8,0)),0,VLOOKUP($A92+8860000,'Growth Data'!$A:$Z,8,0))","v":0},0,null,0,{"$f":"IF(ISERROR(VLOOKUP($A92+8860000,'Growth Data'!$A:$Z,9,0)),0,VLOOKUP($A92+8860000,'Growth Data'!$A:$Z,9,0))","v":0},0,null,"NO",{"$f":"IF(ISERROR(VLOOKUP($A92+8860000,'Growth Data'!$A:$Z,5,0)),\"NO\",VLOOKUP($A92+8860000,'Growth Data'!$A:$Z,5,0))","v":"NO"},0,null,0,{"$f":"IF(ISERROR(VLOOKUP($A92+8860000,'Growth Data'!$A:$Z,10,0)),0,VLOOKUP($A92+8860000,'Growth Data'!$A:$Z,10,0))","v":0},0,null,0,{"$f":"IF(ISERROR(VLOOKUP($A92+8860000,'Growth Data'!$A:$Z,11,0)),0,VLOOKUP($A92+8860000,'Growth Data'!$A:$Z,11,0))","v":0},0]
[5225,"Harcourt Primary School",null,"Harcourt Primary School",null,1,null,527997.06999999995,527997.07393297658,-3.9329766295850277E-3,null,56019.93,56019.933181407745,-3.1814077447052114E-3,null,3191.66,3191.655673076918,4.3269230818623328E-3,null,59468.6,59468.598899999997,1.1000000013154931E-3,null,120084,120083.99999999999,0,null,0,0,0,null,0,0,0,null,0,0,0,null,3507,3507,0,null,0,0,0,null,0,0,0,null,0,0,0,null,770268.26,770268.26168746117,-1.6874611610546708E-3,null,0,0,0,null,770268.26,770268.26168746117,-1.6874611610546708E-3,null,0,null,0,null,3476.76,null,3476.76,null,0,null,0,null,109604.54,109604.54006149282,0,null,0,null,0,null,4122.37,4122.3723746637716,0,null,17500,null,17500,null,695.94,null,696,null,695.94,null,696,null,695.94,null,696,null,695.94,null,696,null,"NO",{"$f":"IF(ISERROR(VLOOKUP($A93+8860000,'Growth Data'!$A:$F,3,0)),\"NO\",VLOOKUP($A93+8860000,'Growth Data'!$A:$F,3,0))","v":"NO"},0,null,0,{"$f":"IF(DI93=\"YES\",IF(ISERROR(VLOOKUP($A93+8860000,'Growth Data'!$A:$F,6,0)),0,VLOOKUP($A93+8860000,'Growth Data'!$A:$F,6,0)),0)","v":0},0,null,0,{"$f":"IF(ISERROR(VLOOKUP($A93+8860000,'Growth Data'!$A:$Z,7,0)),0,VLOOKUP($A93+8860000,'Growth Data'!$A:$Z,7,0))","v":0},0,null,"NO",{"$f":"IF(ISERROR(VLOOKUP($A93+8860000,'Growth Data'!$A:$F,4,0)),\"NO\",VLOOKUP($A93+8860000,'Growth Data'!$A:$F,4,0))","v":"NO"},0,null,0,{"$f":"IF(ISERROR(VLOOKUP($A93+8860000,'Growth Data'!$A:$Z,8,0)),0,VLOOKUP($A93+8860000,'Growth Data'!$A:$Z,8,0))","v":0},0,null,0,{"$f":"IF(ISERROR(VLOOKUP($A93+8860000,'Growth Data'!$A:$Z,9,0)),0,VLOOKUP($A93+8860000,'Growth Data'!$A:$Z,9,0))","v":0},0,null,"YES",{"$f":"IF(ISERROR(VLOOKUP($A93+8860000,'Growth Data'!$A:$Z,5,0)),\"NO\",VLOOKUP($A93+8860000,'Growth Data'!$A:$Z,5,0))","v":"NO"},1,null,154,{"$f":"IF(ISERROR(VLOOKUP($A93+8860000,'Growth Data'!$A:$Z,10,0)),0,VLOOKUP($A93+8860000,'Growth Data'!$A:$Z,10,0))","v":0},1,null,180,{"$f":"IF(ISERROR(VLOOKUP($A93+8860000,'Growth Data'!$A:$Z,11,0)),0,VLOOKUP($A93+8860000,'Growth Data'!$A:$Z,11,0))","v":0},1]
[3067,"Harrietsham CEP School",null,"Harrietsham CEP School",null,1,null,627351.36,627351.36203864415,-2.0386441610753536E-3,null,26399.06,26399.057963380234,2.0366197677503806E-3,null,1918.67,1918.6664513513495,3.5486486506215442E-3,null,59858.39,59858.390900552542,-9.0055254258913919E-4,null,120084,120083.99999999999,0,null,0,0,0,null,0,0,0,null,0,0,0,null,30976,30976,0,null,0,0,0,null,0,0,0,null,0,0,0,null,866587.48,866587.47735392826,2.6460717199370265E-3,null,0,0,0,null,866587.48,866587.47735392826,2.6460717199370265E-3,null,0,null,0,null,3237.68,null,3237.68,null,0,null,0,null,82252.67,82252.672622292317,0,null,0,null,0,null,3781.05,3781.0474088413066,0,null,0,null,0,null,0,null,0,null,0,null,0,null,0,null,0,null,0,null,0,null,"NO",{"$f":"IF(ISERROR(VLOOKUP($A94+8860000,'Growth Data'!$A:$F,3,0)),\"NO\",VLOOKUP($A94+8860000,'Growth Data'!$A:$F,3,0))","v":"NO"},0,null,0,{"$f":"IF(DI94=\"YES\",IF(ISERROR(VLOOKUP($A94+8860000,'Growth Data'!$A:$F,6,0)),0,VLOOKUP($A94+8860000,'Growth Data'!$A:$F,6,0)),0)","v":0},0,null,0,{"$f":"IF(ISERROR(VLOOKUP($A94+8860000,'Growth Data'!$A:$Z,7,0)),0,VLOOKUP($A94+8860000,'Growth Data'!$A:$Z,7,0))","v":0},0,null,"NO",{"$f":"IF(ISERROR(VLOOKUP($A94+8860000,'Growth Data'!$A:$F,4,0)),\"NO\",VLOOKUP($A94+8860000,'Growth Data'!$A:$F,4,0))","v":"NO"},0,null,0,{"$f":"IF(ISERROR(VLOOKUP($A94+8860000,'Growth Data'!$A:$Z,8,0)),0,VLOOKUP($A94+8860000,'Growth Data'!$A:$Z,8,0))","v":0},0,null,0,{"$f":"IF(ISERROR(VLOOKUP($A94+8860000,'Growth Data'!$A:$Z,9,0)),0,VLOOKUP($A94+8860000,'Growth Data'!$A:$Z,9,0))","v":0},0,null,"NO",{"$f":"IF(ISERROR(VLOOKUP($A94+8860000,'Growth Data'!$A:$Z,5,0)),\"NO\",VLOOKUP($A94+8860000,'Growth Data'!$A:$Z,5,0))","v":"YES"},1,null,0,{"$f":"IF(ISERROR(VLOOKUP($A94+8860000,'Growth Data'!$A:$Z,10,0)),0,VLOOKUP($A94+8860000,'Growth Data'!$A:$Z,10,0))","v":30},1,null,0,{"$f":"IF(ISERROR(VLOOKUP($A94+8860000,'Growth Data'!$A:$Z,11,0)),0,VLOOKUP($A94+8860000,'Growth Data'!$A:$Z,11,0))","v":60},1]
[3332,"Hartlip Endowed CEP School",null,"Hartlip Endowed CEP School",null,1,null,295224.17,295224.17037112667,-3.7112669087946415E-4,null,11690.71,11690.7060716981,3.928301899577491E-3,null,0,0,0,null,23661.95,23661.945033707896,4.9662921046547126E-3,null,120084,120083.99999999999,0,null,0,0,0,null,0,0,0,null,0,0,0,null,1971,1971,0,null,0,0,0,null,0,0,0,null,0,0,0,null,452631.82,452631.82147653267,-1.476532663218677E-3,null,0,0,0,null,452631.82,452631.82147653267,-1.476532663218677E-3,null,0,null,0,null,3178.62,null,3178.62,null,0,null,0,null,38885.82,38885.823412414145,0,null,2111.42,null,2111,null,4333.28,4333.2771295820467,0,null,0,null,0,null,0,null,0,null,0,null,0,null,0,null,0,null,0,null,0,null,"NO",{"$f":"IF(ISERROR(VLOOKUP($A95+8860000,'Growth Data'!$A:$F,3,0)),\"NO\",VLOOKUP($A95+8860000,'Growth Data'!$A:$F,3,0))","v":"NO"},0,null,0,{"$f":"IF(DI95=\"YES\",IF(ISERROR(VLOOKUP($A95+8860000,'Growth Data'!$A:$F,6,0)),0,VLOOKUP($A95+8860000,'Growth Data'!$A:$F,6,0)),0)","v":0},0,null,0,{"$f":"IF(ISERROR(VLOOKUP($A95+8860000,'Growth Data'!$A:$Z,7,0)),0,VLOOKUP($A95+8860000,'Growth Data'!$A:$Z,7,0))","v":0},0,null,"NO",{"$f":"IF(ISERROR(VLOOKUP($A95+8860000,'Growth Data'!$A:$F,4,0)),\"NO\",VLOOKUP($A95+8860000,'Growth Data'!$A:$F,4,0))","v":"NO"},0,null,0,{"$f":"IF(ISERROR(VLOOKUP($A95+8860000,'Growth Data'!$A:$Z,8,0)),0,VLOOKUP($A95+8860000,'Growth Data'!$A:$Z,8,0))","v":0},0,null,0,{"$f":"IF(ISERROR(VLOOKUP($A95+8860000,'Growth Data'!$A:$Z,9,0)),0,VLOOKUP($A95+8860000,'Growth Data'!$A:$Z,9,0))","v":0},0,null,"NO",{"$f":"IF(ISERROR(VLOOKUP($A95+8860000,'Growth Data'!$A:$Z,5,0)),\"NO\",VLOOKUP($A95+8860000,'Growth Data'!$A:$Z,5,0))","v":"NO"},0,null,0,{"$f":"IF(ISERROR(VLOOKUP($A95+8860000,'Growth Data'!$A:$Z,10,0)),0,VLOOKUP($A95+8860000,'Growth Data'!$A:$Z,10,0))","v":0},0,null,0,{"$f":"IF(ISERROR(VLOOKUP($A95+8860000,'Growth Data'!$A:$Z,11,0)),0,VLOOKUP($A95+8860000,'Growth Data'!$A:$Z,11,0))","v":0},0]
[3032,"Hawkhurst CEP School",null,"Hawkhurst CEP School",null,1,null,562061.4,562061.40128349117,-1.2834911467507482E-3,null,60953.66,60953.658439896404,1.5601035993313417E-3,null,5017.95,5017.9479763313639,2.0236686359567102E-3,null,50181.02,50181.01677439014,3.2256098565994762E-3,null,120084,120083.99999999999,0,null,0,0,0,null,0,0,0,null,0,0,0,null,34560,34560,0,null,0,0,0,null,0,0,0,null,0,0,0,null,832858.02,832858.02447410906,-4.4741090387105942E-3,null,0,0,0,null,832858.02,832858.02447410906,-4.4741090387105942E-3,null,0,null,0,null,3425.32,null,3425.32,null,0,null,0,null,98520.99,98520.99049762603,0,null,0,null,0,null,4031.81,4031.808204414694,0,null,0,null,0,null,0,null,0,null,0,null,0,null,0,null,0,null,0,null,0,null,"NO",{"$f":"IF(ISERROR(VLOOKUP($A96+8860000,'Growth Data'!$A:$F,3,0)),\"NO\",VLOOKUP($A96+8860000,'Growth Data'!$A:$F,3,0))","v":"NO"},0,null,0,{"$f":"IF(DI96=\"YES\",IF(ISERROR(VLOOKUP($A96+8860000,'Growth Data'!$A:$F,6,0)),0,VLOOKUP($A96+8860000,'Growth Data'!$A:$F,6,0)),0)","v":0},0,null,0,{"$f":"IF(ISERROR(VLOOKUP($A96+8860000,'Growth Data'!$A:$Z,7,0)),0,VLOOKUP($A96+8860000,'Growth Data'!$A:$Z,7,0))","v":0},0,null,"NO",{"$f":"IF(ISERROR(VLOOKUP($A96+8860000,'Growth Data'!$A:$F,4,0)),\"NO\",VLOOKUP($A96+8860000,'Growth Data'!$A:$F,4,0))","v":"NO"},0,null,0,{"$f":"IF(ISERROR(VLOOKUP($A96+8860000,'Growth Data'!$A:$Z,8,0)),0,VLOOKUP($A96+8860000,'Growth Data'!$A:$Z,8,0))","v":0},0,null,0,{"$f":"IF(ISERROR(VLOOKUP($A96+8860000,'Growth Data'!$A:$Z,9,0)),0,VLOOKUP($A96+8860000,'Growth Data'!$A:$Z,9,0))","v":0},0,null,"NO",{"$f":"IF(ISERROR(VLOOKUP($A96+8860000,'Growth Data'!$A:$Z,5,0)),\"NO\",VLOOKUP($A96+8860000,'Growth Data'!$A:$Z,5,0))","v":"NO"},0,null,0,{"$f":"IF(ISERROR(VLOOKUP($A96+8860000,'Growth Data'!$A:$Z,10,0)),0,VLOOKUP($A96+8860000,'Growth Data'!$A:$Z,10,0))","v":0},0,null,0,{"$f":"IF(ISERROR(VLOOKUP($A96+8860000,'Growth Data'!$A:$Z,11,0)),0,VLOOKUP($A96+8860000,'Growth Data'!$A:$Z,11,0))","v":0},0]
[2298,"Hawkinge Primary School",null,"Hawkinge Primary School",null,1,null,1115606.72,1115606.7207293536,-7.2935363277792931E-4,null,86824.99,86824.990766915493,-7.669154874747619E-4,null,4994.71,4994.7104688427235,-4.6884272342140321E-4,null,127306.38,127306.37735562309,2.6443769165780395E-3,null,120084,120083.99999999999,0,null,0,0,0,null,0,0,0,null,0,0,0,null,8243,8243,0,null,0,0,0,null,0,0,0,null,18933.2,18933.200679264963,-6.7926496194559149E-4,null,1481993,1481992.9999999998,0,null,0,0,0,null,1481993,1481992.9999999998,0,null,0,null,0,null,3750,null,3750,null,0,null,0,null,202395.08,202395.07589838948,0,null,0,null,0,null,3750,3750,0,null,0,null,0,null,0,null,0,null,0,null,0,null,0,null,0,null,0,null,0,null,"NO",{"$f":"IF(ISERROR(VLOOKUP($A97+8860000,'Growth Data'!$A:$F,3,0)),\"NO\",VLOOKUP($A97+8860000,'Growth Data'!$A:$F,3,0))","v":"NO"},0,null,0,{"$f":"IF(DI97=\"YES\",IF(ISERROR(VLOOKUP($A97+8860000,'Growth Data'!$A:$F,6,0)),0,VLOOKUP($A97+8860000,'Growth Data'!$A:$F,6,0)),0)","v":0},0,null,0,{"$f":"IF(ISERROR(VLOOKUP($A97+8860000,'Growth Data'!$A:$Z,7,0)),0,VLOOKUP($A97+8860000,'Growth Data'!$A:$Z,7,0))","v":0},0,null,"NO",{"$f":"IF(ISERROR(VLOOKUP($A97+8860000,'Growth Data'!$A:$F,4,0)),\"NO\",VLOOKUP($A97+8860000,'Growth Data'!$A:$F,4,0))","v":"NO"},0,null,0,{"$f":"IF(ISERROR(VLOOKUP($A97+8860000,'Growth Data'!$A:$Z,8,0)),0,VLOOKUP($A97+8860000,'Growth Data'!$A:$Z,8,0))","v":0},0,null,0,{"$f":"IF(ISERROR(VLOOKUP($A97+8860000,'Growth Data'!$A:$Z,9,0)),0,VLOOKUP($A97+8860000,'Growth Data'!$A:$Z,9,0))","v":0},0,null,"NO",{"$f":"IF(ISERROR(VLOOKUP($A97+8860000,'Growth Data'!$A:$Z,5,0)),\"NO\",VLOOKUP($A97+8860000,'Growth Data'!$A:$Z,5,0))","v":"NO"},0,null,0,{"$f":"IF(ISERROR(VLOOKUP($A97+8860000,'Growth Data'!$A:$Z,10,0)),0,VLOOKUP($A97+8860000,'Growth Data'!$A:$Z,10,0))","v":0},0,null,0,{"$f":"IF(ISERROR(VLOOKUP($A97+8860000,'Growth Data'!$A:$Z,11,0)),0,VLOOKUP($A97+8860000,'Growth Data'!$A:$Z,11,0))","v":0},0]
[2165,"Headcorn Primary School",null,"Headcorn Primary School",null,1,null,843092.1,843092.10192523676,-1.9252367783337831E-3,null,27739.4,27739.404000000031,-4.0000000299187377E-3,null,3354.56,3354.5617405063276,-1.7405063276783039E-3,null,45414.66,45414.659328260801,6.7173920251661912E-4,null,120084,120083.99999999999,0,null,0,0,0,null,0,0,0,null,0,0,0,null,40918,40918,0,null,0,0,0,null,0,0,0,null,74065.27,74065.273005996132,-3.0059961281949654E-3,null,1154668,1154668,0,null,0,0,0,null,1154668,1154668,0,null,0,null,0,null,3750,null,3750,null,0,null,0,null,66982.66,66982.662375775282,0,null,0,null,0,null,3750,3750,0,null,0,null,0,null,0,null,0,null,0,null,0,null,0,null,0,null,0,null,0,null,"NO",{"$f":"IF(ISERROR(VLOOKUP($A98+8860000,'Growth Data'!$A:$F,3,0)),\"NO\",VLOOKUP($A98+8860000,'Growth Data'!$A:$F,3,0))","v":"YES"},1,null,0,{"$f":"IF(DI98=\"YES\",IF(ISERROR(VLOOKUP($A98+8860000,'Growth Data'!$A:$F,6,0)),0,VLOOKUP($A98+8860000,'Growth Data'!$A:$F,6,0)),0)","v":31},-31,null,0,{"$f":"IF(ISERROR(VLOOKUP($A98+8860000,'Growth Data'!$A:$Z,7,0)),0,VLOOKUP($A98+8860000,'Growth Data'!$A:$Z,7,0))","v":60},1,null,"NO",{"$f":"IF(ISERROR(VLOOKUP($A98+8860000,'Growth Data'!$A:$F,4,0)),\"NO\",VLOOKUP($A98+8860000,'Growth Data'!$A:$F,4,0))","v":"YES"},1,null,0,{"$f":"IF(ISERROR(VLOOKUP($A98+8860000,'Growth Data'!$A:$Z,8,0)),0,VLOOKUP($A98+8860000,'Growth Data'!$A:$Z,8,0))","v":32},1,null,0,{"$f":"IF(ISERROR(VLOOKUP($A98+8860000,'Growth Data'!$A:$Z,9,0)),0,VLOOKUP($A98+8860000,'Growth Data'!$A:$Z,9,0))","v":60},1,null,"NO",{"$f":"IF(ISERROR(VLOOKUP($A98+8860000,'Growth Data'!$A:$Z,5,0)),\"NO\",VLOOKUP($A98+8860000,'Growth Data'!$A:$Z,5,0))","v":"YES"},1,null,0,{"$f":"IF(ISERROR(VLOOKUP($A98+8860000,'Growth Data'!$A:$Z,10,0)),0,VLOOKUP($A98+8860000,'Growth Data'!$A:$Z,10,0))","v":30},1,null,0,{"$f":"IF(ISERROR(VLOOKUP($A98+8860000,'Growth Data'!$A:$Z,11,0)),0,VLOOKUP($A98+8860000,'Growth Data'!$A:$Z,11,0))","v":60},1]
[2263,"Herne Bay Infant School",null,"Herne Bay Infant School",null,1,null,865801.65,865801.65349224652,-3.4922464983537793E-3,null,106804.48,106804.47962427749,3.7572250585071743E-4,null,10304.66,10304.659672330103,3.2766989716037642E-4,null,92647.78,92647.77909420291,9.0579708921723068E-4,null,120084,120083.99999999999,0,null,0,0,0,null,0,0,0,null,0,0,0,null,15968,15968,0,null,0,0,0,null,0,0,0,null,0,0,0,null,1211610.57,1211610.571883057,-1.8830569460988045E-3,null,0,0,0,null,1211610.57,1211610.571883057,-1.8830569460988045E-3,null,0,null,0,null,3526.42,null,3526.42,null,0,null,0,null,183569.3,183569.30069781863,0,null,0,null,0,null,3920.14,3920.1395799444517,0,null,0,null,0,null,0,null,0,null,0,null,0,null,0,null,0,null,0,null,0,null,"YES",{"$f":"IF(ISERROR(VLOOKUP($A99+8860000,'Growth Data'!$A:$F,3,0)),\"NO\",VLOOKUP($A99+8860000,'Growth Data'!$A:$F,3,0))","v":"NO"},1,null,30,{"$f":"IF(DI99=\"YES\",IF(ISERROR(VLOOKUP($A99+8860000,'Growth Data'!$A:$F,6,0)),0,VLOOKUP($A99+8860000,'Growth Data'!$A:$F,6,0)),0)","v":0},30,null,60,{"$f":"IF(ISERROR(VLOOKUP($A99+8860000,'Growth Data'!$A:$Z,7,0)),0,VLOOKUP($A99+8860000,'Growth Data'!$A:$Z,7,0))","v":0},1,null,"YES",{"$f":"IF(ISERROR(VLOOKUP($A99+8860000,'Growth Data'!$A:$F,4,0)),\"NO\",VLOOKUP($A99+8860000,'Growth Data'!$A:$F,4,0))","v":"NO"},1,null,30,{"$f":"IF(ISERROR(VLOOKUP($A99+8860000,'Growth Data'!$A:$Z,8,0)),0,VLOOKUP($A99+8860000,'Growth Data'!$A:$Z,8,0))","v":0},1,null,60,{"$f":"IF(ISERROR(VLOOKUP($A99+8860000,'Growth Data'!$A:$Z,9,0)),0,VLOOKUP($A99+8860000,'Growth Data'!$A:$Z,9,0))","v":0},1,null,"YES",{"$f":"IF(ISERROR(VLOOKUP($A99+8860000,'Growth Data'!$A:$Z,5,0)),\"NO\",VLOOKUP($A99+8860000,'Growth Data'!$A:$Z,5,0))","v":"NO"},1,null,30,{"$f":"IF(ISERROR(VLOOKUP($A99+8860000,'Growth Data'!$A:$Z,10,0)),0,VLOOKUP($A99+8860000,'Growth Data'!$A:$Z,10,0))","v":0},1,null,60,{"$f":"IF(ISERROR(VLOOKUP($A99+8860000,'Growth Data'!$A:$Z,11,0)),0,VLOOKUP($A99+8860000,'Growth Data'!$A:$Z,11,0))","v":0},1]
[5206,"Herne Bay Junior School",null,"Herne Bay Junior School",null,1,null,1308637.9099999999,1308637.9090489366,9.5106335356831551E-4,null,166278.84,166278.84255479733,-2.5547973345965147E-3,null,4283,4282.9960000000028,3.9999999971769284E-3,null,166357.34,166357.33933408596,6.6591403447091579E-4,null,120084,120083.99999999999,0,null,0,0,0,null,0,0,0,null,0,0,0,null,9882,9882,0,null,0,0,0,null,0,0,0,null,0,0,0,null,1775523.09,1775523.0869378201,3.0621800106018782E-3,null,0,0,0,null,1775523.09,1775523.0869378201,3.0621800106018782E-3,null,0,null,0,null,3569.54,null,3569.54,null,0,null,0,null,294069.90999999997,294069.90519589157,0,null,0,null,0,null,3830.02,3830.024049756661,0,null,0,null,0,null,0,null,0,null,0,null,0,null,0,null,0,null,0,null,0,null,"NO",{"$f":"IF(ISERROR(VLOOKUP($A100+8860000,'Growth Data'!$A:$F,3,0)),\"NO\",VLOOKUP($A100+8860000,'Growth Data'!$A:$F,3,0))","v":"NO"},0,null,0,{"$f":"IF(DI100=\"YES\",IF(ISERROR(VLOOKUP($A100+8860000,'Growth Data'!$A:$F,6,0)),0,VLOOKUP($A100+8860000,'Growth Data'!$A:$F,6,0)),0)","v":0},0,null,0,{"$f":"IF(ISERROR(VLOOKUP($A100+8860000,'Growth Data'!$A:$Z,7,0)),0,VLOOKUP($A100+8860000,'Growth Data'!$A:$Z,7,0))","v":0},0,null,"YES",{"$f":"IF(ISERROR(VLOOKUP($A100+8860000,'Growth Data'!$A:$F,4,0)),\"NO\",VLOOKUP($A100+8860000,'Growth Data'!$A:$F,4,0))","v":"NO"},1,null,175,{"$f":"IF(ISERROR(VLOOKUP($A100+8860000,'Growth Data'!$A:$Z,8,0)),0,VLOOKUP($A100+8860000,'Growth Data'!$A:$Z,8,0))","v":0},1,null,200,{"$f":"IF(ISERROR(VLOOKUP($A100+8860000,'Growth Data'!$A:$Z,9,0)),0,VLOOKUP($A100+8860000,'Growth Data'!$A:$Z,9,0))","v":0},1,null,"YES",{"$f":"IF(ISERROR(VLOOKUP($A100+8860000,'Growth Data'!$A:$Z,5,0)),\"NO\",VLOOKUP($A100+8860000,'Growth Data'!$A:$Z,5,0))","v":"NO"},1,null,175,{"$f":"IF(ISERROR(VLOOKUP($A100+8860000,'Growth Data'!$A:$Z,10,0)),0,VLOOKUP($A100+8860000,'Growth Data'!$A:$Z,10,0))","v":0},1,null,200,{"$f":"IF(ISERROR(VLOOKUP($A100+8860000,'Growth Data'!$A:$Z,11,0)),0,VLOOKUP($A100+8860000,'Growth Data'!$A:$Z,11,0))","v":0},1]
[3295,"Herne CEI School",null,"Herne CEI School",null,1,null,766447.37,766447.36538657884,4.6134211588650942E-3,null,15106.57,15106.56719999999,2.8000000093015842E-3,null,4015.31,4015.3087500000033,1.2499999966166797E-3,null,62694.41,62694.414050279323,-4.0502793199266307E-3,null,120084,120083.99999999999,0,null,0,0,0,null,0,0,0,null,0,0,0,null,47360,47360,0,null,0,0,0,null,0,0,0,null,44152.34,44152.344613141846,-4.6131418494042009E-3,null,1059860,1059860,0,null,0,0,0,null,1059860,1059860,0,null,0,null,0,null,3750,null,3750,null,0,null,0,null,82197.259999999995,82197.257307287466,0,null,0,null,0,null,3750,3750,0,null,0,null,0,null,0,null,0,null,0,null,0,null,0,null,0,null,0,null,0,null,"NO",{"$f":"IF(ISERROR(VLOOKUP($A101+8860000,'Growth Data'!$A:$F,3,0)),\"NO\",VLOOKUP($A101+8860000,'Growth Data'!$A:$F,3,0))","v":"NO"},0,null,0,{"$f":"IF(DI101=\"YES\",IF(ISERROR(VLOOKUP($A101+8860000,'Growth Data'!$A:$F,6,0)),0,VLOOKUP($A101+8860000,'Growth Data'!$A:$F,6,0)),0)","v":0},0,null,0,{"$f":"IF(ISERROR(VLOOKUP($A101+8860000,'Growth Data'!$A:$Z,7,0)),0,VLOOKUP($A101+8860000,'Growth Data'!$A:$Z,7,0))","v":0},0,null,"NO",{"$f":"IF(ISERROR(VLOOKUP($A101+8860000,'Growth Data'!$A:$F,4,0)),\"NO\",VLOOKUP($A101+8860000,'Growth Data'!$A:$F,4,0))","v":"NO"},0,null,0,{"$f":"IF(ISERROR(VLOOKUP($A101+8860000,'Growth Data'!$A:$Z,8,0)),0,VLOOKUP($A101+8860000,'Growth Data'!$A:$Z,8,0))","v":0},0,null,0,{"$f":"IF(ISERROR(VLOOKUP($A101+8860000,'Growth Data'!$A:$Z,9,0)),0,VLOOKUP($A101+8860000,'Growth Data'!$A:$Z,9,0))","v":0},0,null,"NO",{"$f":"IF(ISERROR(VLOOKUP($A101+8860000,'Growth Data'!$A:$Z,5,0)),\"NO\",VLOOKUP($A101+8860000,'Growth Data'!$A:$Z,5,0))","v":"NO"},0,null,0,{"$f":"IF(ISERROR(VLOOKUP($A101+8860000,'Growth Data'!$A:$Z,10,0)),0,VLOOKUP($A101+8860000,'Growth Data'!$A:$Z,10,0))","v":0},0,null,0,{"$f":"IF(ISERROR(VLOOKUP($A101+8860000,'Growth Data'!$A:$Z,11,0)),0,VLOOKUP($A101+8860000,'Growth Data'!$A:$Z,11,0))","v":0},0]
[3338,"Herne CEJ School",null,"Herne CEJ School",null,1,null,1033284.6,1033284.5962989434,3.7010565865784883E-3,null,40847.089999999997,40847.093400272483,-3.4002724860329181E-3,null,1606.12,1606.1234999999997,-3.4999999998035491E-3,null,86802.32,86802.321331491679,-1.3314916723174974E-3,null,120084,120083.99999999999,0,null,0,0,0,null,0,0,0,null,0,0,0,null,7834,7834,0,null,0,0,0,null,0,0,0,null,82375.87,82375.865469292505,4.5307074906304479E-3,null,1372834,1372834,0,null,0,0,0,null,1372834,1372834,0,null,0,null,0,null,3750,null,3750,null,0,null,0,null,119279.26,119279.26053877232,0,null,0,null,0,null,3750,3750,0,null,0,null,0,null,0,null,0,null,0,null,0,null,0,null,0,null,0,null,0,null,"NO",{"$f":"IF(ISERROR(VLOOKUP($A102+8860000,'Growth Data'!$A:$F,3,0)),\"NO\",VLOOKUP($A102+8860000,'Growth Data'!$A:$F,3,0))","v":"NO"},0,null,0,{"$f":"IF(DI102=\"YES\",IF(ISERROR(VLOOKUP($A102+8860000,'Growth Data'!$A:$F,6,0)),0,VLOOKUP($A102+8860000,'Growth Data'!$A:$F,6,0)),0)","v":0},0,null,0,{"$f":"IF(ISERROR(VLOOKUP($A102+8860000,'Growth Data'!$A:$Z,7,0)),0,VLOOKUP($A102+8860000,'Growth Data'!$A:$Z,7,0))","v":0},0,null,"NO",{"$f":"IF(ISERROR(VLOOKUP($A102+8860000,'Growth Data'!$A:$F,4,0)),\"NO\",VLOOKUP($A102+8860000,'Growth Data'!$A:$F,4,0))","v":"NO"},0,null,0,{"$f":"IF(ISERROR(VLOOKUP($A102+8860000,'Growth Data'!$A:$Z,8,0)),0,VLOOKUP($A102+8860000,'Growth Data'!$A:$Z,8,0))","v":0},0,null,0,{"$f":"IF(ISERROR(VLOOKUP($A102+8860000,'Growth Data'!$A:$Z,9,0)),0,VLOOKUP($A102+8860000,'Growth Data'!$A:$Z,9,0))","v":0},0,null,"NO",{"$f":"IF(ISERROR(VLOOKUP($A102+8860000,'Growth Data'!$A:$Z,5,0)),\"NO\",VLOOKUP($A102+8860000,'Growth Data'!$A:$Z,5,0))","v":"NO"},0,null,0,{"$f":"IF(ISERROR(VLOOKUP($A102+8860000,'Growth Data'!$A:$Z,10,0)),0,VLOOKUP($A102+8860000,'Growth Data'!$A:$Z,10,0))","v":0},0,null,0,{"$f":"IF(ISERROR(VLOOKUP($A102+8860000,'Growth Data'!$A:$Z,11,0)),0,VLOOKUP($A102+8860000,'Growth Data'!$A:$Z,11,0))","v":0},0]
[3109,"Hernhill CEP School",null,"Hernhill CEP School",null,1,null,584770.94999999995,584770.95285050094,-2.8505009831860662E-3,null,19376.099999999999,19376.100123902452,-1.2390245319693349E-4,null,0,0,0,null,51731.53,51731.531568965525,-1.5689655265305191E-3,null,120084,120083.99999999999,0,null,0,0,0,null,0,0,0,null,0,0,0,null,31744,31744,0,null,0,0,0,null,0,0,0,null,0,0,0,null,807706.58,807706.5845433689,-4.5433689374476671E-3,null,0,0,0,null,807706.58,807706.5845433689,-4.5433689374476671E-3,null,0,null,0,null,3183.88,null,3183.88,null,0,null,0,null,73740.17,73740.173999876119,0,null,0,null,0,null,3766.81,3766.8086628318897,0,null,0,null,0,null,0,null,0,null,0,null,0,null,0,null,0,null,0,null,0,null,"NO",{"$f":"IF(ISERROR(VLOOKUP($A103+8860000,'Growth Data'!$A:$F,3,0)),\"NO\",VLOOKUP($A103+8860000,'Growth Data'!$A:$F,3,0))","v":"NO"},0,null,0,{"$f":"IF(DI103=\"YES\",IF(ISERROR(VLOOKUP($A103+8860000,'Growth Data'!$A:$F,6,0)),0,VLOOKUP($A103+8860000,'Growth Data'!$A:$F,6,0)),0)","v":0},0,null,0,{"$f":"IF(ISERROR(VLOOKUP($A103+8860000,'Growth Data'!$A:$Z,7,0)),0,VLOOKUP($A103+8860000,'Growth Data'!$A:$Z,7,0))","v":0},0,null,"NO",{"$f":"IF(ISERROR(VLOOKUP($A103+8860000,'Growth Data'!$A:$F,4,0)),\"NO\",VLOOKUP($A103+8860000,'Growth Data'!$A:$F,4,0))","v":"NO"},0,null,0,{"$f":"IF(ISERROR(VLOOKUP($A103+8860000,'Growth Data'!$A:$Z,8,0)),0,VLOOKUP($A103+8860000,'Growth Data'!$A:$Z,8,0))","v":0},0,null,0,{"$f":"IF(ISERROR(VLOOKUP($A103+8860000,'Growth Data'!$A:$Z,9,0)),0,VLOOKUP($A103+8860000,'Growth Data'!$A:$Z,9,0))","v":0},0,null,"NO",{"$f":"IF(ISERROR(VLOOKUP($A103+8860000,'Growth Data'!$A:$Z,5,0)),\"NO\",VLOOKUP($A103+8860000,'Growth Data'!$A:$Z,5,0))","v":"NO"},0,null,0,{"$f":"IF(ISERROR(VLOOKUP($A103+8860000,'Growth Data'!$A:$Z,10,0)),0,VLOOKUP($A103+8860000,'Growth Data'!$A:$Z,10,0))","v":0},0,null,0,{"$f":"IF(ISERROR(VLOOKUP($A103+8860000,'Growth Data'!$A:$Z,11,0)),0,VLOOKUP($A103+8860000,'Growth Data'!$A:$Z,11,0))","v":0},0]
[3312,"Hever CEP School",null,"Hever CEP School",null,1,null,465545.81,465545.80712369975,2.8763002483174205E-3,null,21024.71,21024.706999999995,3.0000000042491592E-3,null,660.16,660.1610375939847,-1.0375939847335758E-3,null,39292.14,39292.136418604721,3.581395278160926E-3,null,120084,120083.99999999999,0,null,0,0,0,null,23536.49,23536.487941508298,2.0584917037922423E-3,null,0,0,0,null,3661,3661,0,null,0,0,0,null,0,0,0,null,0,0,0,null,673804.3,673804.29952140676,4.7859328333288431E-4,null,0,0,0,null,673804.3,673804.29952140676,4.7859328333288431E-4,null,0,null,0,null,3327.37,null,3327.37,null,0,null,0,null,62657.99,62657.989003387585,0,null,0,null,0,null,4086.24,4086.2396312280916,0,null,0,null,0,null,0,null,0,null,0,null,0,null,0,null,0,null,0,null,0,null,"NO",{"$f":"IF(ISERROR(VLOOKUP($A104+8860000,'Growth Data'!$A:$F,3,0)),\"NO\",VLOOKUP($A104+8860000,'Growth Data'!$A:$F,3,0))","v":"NO"},0,null,0,{"$f":"IF(DI104=\"YES\",IF(ISERROR(VLOOKUP($A104+8860000,'Growth Data'!$A:$F,6,0)),0,VLOOKUP($A104+8860000,'Growth Data'!$A:$F,6,0)),0)","v":0},0,null,0,{"$f":"IF(ISERROR(VLOOKUP($A104+8860000,'Growth Data'!$A:$Z,7,0)),0,VLOOKUP($A104+8860000,'Growth Data'!$A:$Z,7,0))","v":0},0,null,"NO",{"$f":"IF(ISERROR(VLOOKUP($A104+8860000,'Growth Data'!$A:$F,4,0)),\"NO\",VLOOKUP($A104+8860000,'Growth Data'!$A:$F,4,0))","v":"NO"},0,null,0,{"$f":"IF(ISERROR(VLOOKUP($A104+8860000,'Growth Data'!$A:$Z,8,0)),0,VLOOKUP($A104+8860000,'Growth Data'!$A:$Z,8,0))","v":0},0,null,0,{"$f":"IF(ISERROR(VLOOKUP($A104+8860000,'Growth Data'!$A:$Z,9,0)),0,VLOOKUP($A104+8860000,'Growth Data'!$A:$Z,9,0))","v":0},0,null,"NO",{"$f":"IF(ISERROR(VLOOKUP($A104+8860000,'Growth Data'!$A:$Z,5,0)),\"NO\",VLOOKUP($A104+8860000,'Growth Data'!$A:$Z,5,0))","v":"NO"},0,null,0,{"$f":"IF(ISERROR(VLOOKUP($A104+8860000,'Growth Data'!$A:$Z,10,0)),0,VLOOKUP($A104+8860000,'Growth Data'!$A:$Z,10,0))","v":0},0,null,0,{"$f":"IF(ISERROR(VLOOKUP($A104+8860000,'Growth Data'!$A:$Z,11,0)),0,VLOOKUP($A104+8860000,'Growth Data'!$A:$Z,11,0))","v":0},0]
[3907,"Hextable Primary School",null,"Hextable Primary School",null,1,null,1399476.12,1399476.1153169756,4.6830244828015566E-3,null,81640.02,81640.016844319543,3.1556804606225342E-3,null,9426.42,9426.4153035714244,4.6964285756985191E-3,null,147690.59,147690.58721268654,2.7873134531546384E-3,null,120084,120083.99999999999,0,null,0,0,0,null,64002.74,64002.743702262909,-3.7022629112470895E-3,null,0,0,0,null,58383,58383,0,null,0,0,0,null,0,0,0,null,26430.12,26430.121620184276,-1.6201842772716191E-3,null,1907133,1907133.0000000002,0,null,0,0,0,null,1907133,1907133.0000000002,0,null,0,null,0,null,3750,null,3750,null,0,null,0,null,231041.18,231041.17660628576,0,null,0,null,0,null,3750,3750,0,null,0,null,0,null,0,null,0,null,0,null,0,null,0,null,0,null,0,null,0,null,"NO",{"$f":"IF(ISERROR(VLOOKUP($A105+8860000,'Growth Data'!$A:$F,3,0)),\"NO\",VLOOKUP($A105+8860000,'Growth Data'!$A:$F,3,0))","v":"YES"},1,null,0,{"$f":"IF(DI105=\"YES\",IF(ISERROR(VLOOKUP($A105+8860000,'Growth Data'!$A:$F,6,0)),0,VLOOKUP($A105+8860000,'Growth Data'!$A:$F,6,0)),0)","v":60},-60,null,0,{"$f":"IF(ISERROR(VLOOKUP($A105+8860000,'Growth Data'!$A:$Z,7,0)),0,VLOOKUP($A105+8860000,'Growth Data'!$A:$Z,7,0))","v":90},1,null,"NO",{"$f":"IF(ISERROR(VLOOKUP($A105+8860000,'Growth Data'!$A:$F,4,0)),\"NO\",VLOOKUP($A105+8860000,'Growth Data'!$A:$F,4,0))","v":"YES"},1,null,0,{"$f":"IF(ISERROR(VLOOKUP($A105+8860000,'Growth Data'!$A:$Z,8,0)),0,VLOOKUP($A105+8860000,'Growth Data'!$A:$Z,8,0))","v":59},1,null,0,{"$f":"IF(ISERROR(VLOOKUP($A105+8860000,'Growth Data'!$A:$Z,9,0)),0,VLOOKUP($A105+8860000,'Growth Data'!$A:$Z,9,0))","v":90},1,null,"NO",{"$f":"IF(ISERROR(VLOOKUP($A105+8860000,'Growth Data'!$A:$Z,5,0)),\"NO\",VLOOKUP($A105+8860000,'Growth Data'!$A:$Z,5,0))","v":"NO"},0,null,0,{"$f":"IF(ISERROR(VLOOKUP($A105+8860000,'Growth Data'!$A:$Z,10,0)),0,VLOOKUP($A105+8860000,'Growth Data'!$A:$Z,10,0))","v":0},0,null,0,{"$f":"IF(ISERROR(VLOOKUP($A105+8860000,'Growth Data'!$A:$Z,11,0)),0,VLOOKUP($A105+8860000,'Growth Data'!$A:$Z,11,0))","v":0},0]
[2615,"High Firs Primary School",null,"High Firs Primary School",null,1,null,584770.94999999995,584770.95285050094,-2.8505009831860662E-3,null,40816.6,40816.595108695605,4.8913043938227929E-3,null,5639.68,5639.6836534090871,-3.6534090868372004E-3,null,62544.39,62544.389982558241,1.7441758245695382E-5,null,120084,120083.99999999999,0,null,0,0,0,null,29624.34,29624.344626063954,-4.6260639537649695E-3,null,0,0,0,null,24950,24950,0,null,0,0,0,null,0,0,0,null,0,0,0,null,868429.97,868429.96622122778,3.7787721958011389E-3,null,0,0,0,null,868429.97,868429.96622122778,3.7787721958011389E-3,null,0,null,0,null,3490.41,null,3490.41,null,0,null,0,null,114763.25,114763.24700195191,0,null,0,null,0,null,4094.56,4094.5629428214957,0,null,0,null,0,null,0,null,0,null,0,null,0,null,0,null,0,null,0,null,0,null,"NO",{"$f":"IF(ISERROR(VLOOKUP($A106+8860000,'Growth Data'!$A:$F,3,0)),\"NO\",VLOOKUP($A106+8860000,'Growth Data'!$A:$F,3,0))","v":"NO"},0,null,0,{"$f":"IF(DI106=\"YES\",IF(ISERROR(VLOOKUP($A106+8860000,'Growth Data'!$A:$F,6,0)),0,VLOOKUP($A106+8860000,'Growth Data'!$A:$F,6,0)),0)","v":0},0,null,0,{"$f":"IF(ISERROR(VLOOKUP($A106+8860000,'Growth Data'!$A:$Z,7,0)),0,VLOOKUP($A106+8860000,'Growth Data'!$A:$Z,7,0))","v":0},0,null,"NO",{"$f":"IF(ISERROR(VLOOKUP($A106+8860000,'Growth Data'!$A:$F,4,0)),\"NO\",VLOOKUP($A106+8860000,'Growth Data'!$A:$F,4,0))","v":"NO"},0,null,0,{"$f":"IF(ISERROR(VLOOKUP($A106+8860000,'Growth Data'!$A:$Z,8,0)),0,VLOOKUP($A106+8860000,'Growth Data'!$A:$Z,8,0))","v":0},0,null,0,{"$f":"IF(ISERROR(VLOOKUP($A106+8860000,'Growth Data'!$A:$Z,9,0)),0,VLOOKUP($A106+8860000,'Growth Data'!$A:$Z,9,0))","v":0},0,null,"NO",{"$f":"IF(ISERROR(VLOOKUP($A106+8860000,'Growth Data'!$A:$Z,5,0)),\"NO\",VLOOKUP($A106+8860000,'Growth Data'!$A:$Z,5,0))","v":"NO"},0,null,0,{"$f":"IF(ISERROR(VLOOKUP($A106+8860000,'Growth Data'!$A:$Z,10,0)),0,VLOOKUP($A106+8860000,'Growth Data'!$A:$Z,10,0))","v":0},0,null,0,{"$f":"IF(ISERROR(VLOOKUP($A106+8860000,'Growth Data'!$A:$Z,11,0)),0,VLOOKUP($A106+8860000,'Growth Data'!$A:$Z,11,0))","v":0},0]
[3139,"High Halden CEP School",null,"High Halden CEP School",null,1,null,255482.46,255482.45512885964,4.871140350587666E-3,null,9639.85,9639.8466206896555,3.3793103448260808E-3,null,0,0,0,null,22035.01,22035.008310810834,1.6891891646082513E-3,null,120084,120083.99999999999,0,null,0,0,0,null,0,0,0,null,0,0,0,null,15968,15968,0,null,0,0,0,null,0,0,0,null,0,0,0,null,423209.31,423209.31006036012,-6.0360122006386518E-5,null,0,0,0,null,423209.31,423209.31006036012,-6.0360122006386518E-5,null,0,null,0,null,3190.64,null,3190.64,null,0,null,0,null,34307.4,34307.397238508638,0,null,2569.2600000000002,null,2569,null,4524.8999999999996,4524.9034451151147,0,null,0,null,0,null,0,null,0,null,0,null,0,null,0,null,0,null,0,null,0,null,"NO",{"$f":"IF(ISERROR(VLOOKUP($A107+8860000,'Growth Data'!$A:$F,3,0)),\"NO\",VLOOKUP($A107+8860000,'Growth Data'!$A:$F,3,0))","v":"NO"},0,null,0,{"$f":"IF(DI107=\"YES\",IF(ISERROR(VLOOKUP($A107+8860000,'Growth Data'!$A:$F,6,0)),0,VLOOKUP($A107+8860000,'Growth Data'!$A:$F,6,0)),0)","v":0},0,null,0,{"$f":"IF(ISERROR(VLOOKUP($A107+8860000,'Growth Data'!$A:$Z,7,0)),0,VLOOKUP($A107+8860000,'Growth Data'!$A:$Z,7,0))","v":0},0,null,"NO",{"$f":"IF(ISERROR(VLOOKUP($A107+8860000,'Growth Data'!$A:$F,4,0)),\"NO\",VLOOKUP($A107+8860000,'Growth Data'!$A:$F,4,0))","v":"NO"},0,null,0,{"$f":"IF(ISERROR(VLOOKUP($A107+8860000,'Growth Data'!$A:$Z,8,0)),0,VLOOKUP($A107+8860000,'Growth Data'!$A:$Z,8,0))","v":0},0,null,0,{"$f":"IF(ISERROR(VLOOKUP($A107+8860000,'Growth Data'!$A:$Z,9,0)),0,VLOOKUP($A107+8860000,'Growth Data'!$A:$Z,9,0))","v":0},0,null,"NO",{"$f":"IF(ISERROR(VLOOKUP($A107+8860000,'Growth Data'!$A:$Z,5,0)),\"NO\",VLOOKUP($A107+8860000,'Growth Data'!$A:$Z,5,0))","v":"NO"},0,null,0,{"$f":"IF(ISERROR(VLOOKUP($A107+8860000,'Growth Data'!$A:$Z,10,0)),0,VLOOKUP($A107+8860000,'Growth Data'!$A:$Z,10,0))","v":0},0,null,0,{"$f":"IF(ISERROR(VLOOKUP($A107+8860000,'Growth Data'!$A:$Z,11,0)),0,VLOOKUP($A107+8860000,'Growth Data'!$A:$Z,11,0))","v":0},0]
[2109,"Higham Primary School",null,"Higham Primary School",null,1,null,587609.65,587609.64679637714,3.2036228803917766E-3,null,15233.71,15233.713282857139,-3.2828571402205853E-3,null,0,0,0,null,53250.53,53250.525155172509,4.8448274901602417E-3,null,120084,120083.99999999999,0,null,0,0,0,null,0,0,0,null,0,0,0,null,22330,22330,0,null,0,0,0,null,0,0,0,null,72.11,72.114765593316406,-4.76559331640658E-3,null,798580,798580,0,null,0,0,0,null,798580,798580,0,null,0,null,0,null,3750,null,3750,null,0,null,0,null,67063.95,67063.945745037796,0,null,0,null,0,null,3750,3750,0,null,0,null,0,null,0,null,0,null,0,null,0,null,0,null,0,null,0,null,0,null,"NO",{"$f":"IF(ISERROR(VLOOKUP($A108+8860000,'Growth Data'!$A:$F,3,0)),\"NO\",VLOOKUP($A108+8860000,'Growth Data'!$A:$F,3,0))","v":"NO"},0,null,0,{"$f":"IF(DI108=\"YES\",IF(ISERROR(VLOOKUP($A108+8860000,'Growth Data'!$A:$F,6,0)),0,VLOOKUP($A108+8860000,'Growth Data'!$A:$F,6,0)),0)","v":0},0,null,0,{"$f":"IF(ISERROR(VLOOKUP($A108+8860000,'Growth Data'!$A:$Z,7,0)),0,VLOOKUP($A108+8860000,'Growth Data'!$A:$Z,7,0))","v":0},0,null,"NO",{"$f":"IF(ISERROR(VLOOKUP($A108+8860000,'Growth Data'!$A:$F,4,0)),\"NO\",VLOOKUP($A108+8860000,'Growth Data'!$A:$F,4,0))","v":"NO"},0,null,0,{"$f":"IF(ISERROR(VLOOKUP($A108+8860000,'Growth Data'!$A:$Z,8,0)),0,VLOOKUP($A108+8860000,'Growth Data'!$A:$Z,8,0))","v":0},0,null,0,{"$f":"IF(ISERROR(VLOOKUP($A108+8860000,'Growth Data'!$A:$Z,9,0)),0,VLOOKUP($A108+8860000,'Growth Data'!$A:$Z,9,0))","v":0},0,null,"NO",{"$f":"IF(ISERROR(VLOOKUP($A108+8860000,'Growth Data'!$A:$Z,5,0)),\"NO\",VLOOKUP($A108+8860000,'Growth Data'!$A:$Z,5,0))","v":"NO"},0,null,0,{"$f":"IF(ISERROR(VLOOKUP($A108+8860000,'Growth Data'!$A:$Z,10,0)),0,VLOOKUP($A108+8860000,'Growth Data'!$A:$Z,10,0))","v":0},0,null,0,{"$f":"IF(ISERROR(VLOOKUP($A108+8860000,'Growth Data'!$A:$Z,11,0)),0,VLOOKUP($A108+8860000,'Growth Data'!$A:$Z,11,0))","v":0},0]
[3033,"Hildenborough CEP School",null,"Hildenborough CEP School",null,1,null,567738.79,567738.78917524358,8.2475645467638969E-4,null,13174.82,13174.817097438408,2.9025615913269576E-3,null,3713.58,3713.5803468208105,-3.4682081059145276E-4,null,40599.83,40599.828571428465,1.4285715369624086E-3,null,120084,120083.99999999999,0,null,0,0,0,null,0,0,0,null,0,0,0,null,22580,22580,0,null,0,0,0,null,0,0,0,null,4688.9799999999996,4688.9848090688465,-4.8090688469528686E-3,null,772580,772580,0,null,0,0,0,null,772580,772580,0,null,0,null,0,null,3750,null,3750,null,0,null,0,null,59220.14,59220.138322695835,0,null,77.989999999999995,null,78,null,3750,3750,0,null,0,null,0,null,0,null,0,null,0,null,0,null,0,null,0,null,0,null,0,null,"NO",{"$f":"IF(ISERROR(VLOOKUP($A109+8860000,'Growth Data'!$A:$F,3,0)),\"NO\",VLOOKUP($A109+8860000,'Growth Data'!$A:$F,3,0))","v":"NO"},0,null,0,{"$f":"IF(DI109=\"YES\",IF(ISERROR(VLOOKUP($A109+8860000,'Growth Data'!$A:$F,6,0)),0,VLOOKUP($A109+8860000,'Growth Data'!$A:$F,6,0)),0)","v":0},0,null,0,{"$f":"IF(ISERROR(VLOOKUP($A109+8860000,'Growth Data'!$A:$Z,7,0)),0,VLOOKUP($A109+8860000,'Growth Data'!$A:$Z,7,0))","v":0},0,null,"NO",{"$f":"IF(ISERROR(VLOOKUP($A109+8860000,'Growth Data'!$A:$F,4,0)),\"NO\",VLOOKUP($A109+8860000,'Growth Data'!$A:$F,4,0))","v":"NO"},0,null,0,{"$f":"IF(ISERROR(VLOOKUP($A109+8860000,'Growth Data'!$A:$Z,8,0)),0,VLOOKUP($A109+8860000,'Growth Data'!$A:$Z,8,0))","v":0},0,null,0,{"$f":"IF(ISERROR(VLOOKUP($A109+8860000,'Growth Data'!$A:$Z,9,0)),0,VLOOKUP($A109+8860000,'Growth Data'!$A:$Z,9,0))","v":0},0,null,"NO",{"$f":"IF(ISERROR(VLOOKUP($A109+8860000,'Growth Data'!$A:$Z,5,0)),\"NO\",VLOOKUP($A109+8860000,'Growth Data'!$A:$Z,5,0))","v":"NO"},0,null,0,{"$f":"IF(ISERROR(VLOOKUP($A109+8860000,'Growth Data'!$A:$Z,10,0)),0,VLOOKUP($A109+8860000,'Growth Data'!$A:$Z,10,0))","v":0},0,null,0,{"$f":"IF(ISERROR(VLOOKUP($A109+8860000,'Growth Data'!$A:$Z,11,0)),0,VLOOKUP($A109+8860000,'Growth Data'!$A:$Z,11,0))","v":0},0]
[2265,"Hoath Primary School",null,"Hoath Primary School",null,1,null,258321.15,258321.14907473585,9.2526414664462209E-4,null,12260.41,12260.411578823538,-1.5788235377840465E-3,null,1282.08,1282.0810394736836,-1.0394736837042728E-3,null,21551.74,21551.74233333331,-2.3333333083428442E-3,null,120084,120083.99999999999,0,null,0,0,0,null,0,0,0,null,0,0,0,null,14346,14346,0,null,0,0,0,null,0,0,0,null,0,0,0,null,427845.38,427845.3840263664,-4.0263663977384567E-3,null,0,0,0,null,427845.38,427845.3840263664,-4.0263663977384567E-3,null,0,null,0,null,3224.34,null,3224.34,null,0,null,0,null,40428.67,40428.667258638678,0,null,1957.13,null,1957,null,4543.95,4543.9492750150175,0,null,0,null,0,null,0,null,0,null,0,null,0,null,0,null,0,null,0,null,0,null,"NO",{"$f":"IF(ISERROR(VLOOKUP($A110+8860000,'Growth Data'!$A:$F,3,0)),\"NO\",VLOOKUP($A110+8860000,'Growth Data'!$A:$F,3,0))","v":"YES"},1,null,0,{"$f":"IF(DI110=\"YES\",IF(ISERROR(VLOOKUP($A110+8860000,'Growth Data'!$A:$F,6,0)),0,VLOOKUP($A110+8860000,'Growth Data'!$A:$F,6,0)),0)","v":92},-92,null,0,{"$f":"IF(ISERROR(VLOOKUP($A110+8860000,'Growth Data'!$A:$Z,7,0)),0,VLOOKUP($A110+8860000,'Growth Data'!$A:$Z,7,0))","v":93},1,null,"NO",{"$f":"IF(ISERROR(VLOOKUP($A110+8860000,'Growth Data'!$A:$F,4,0)),\"NO\",VLOOKUP($A110+8860000,'Growth Data'!$A:$F,4,0))","v":"YES"},1,null,0,{"$f":"IF(ISERROR(VLOOKUP($A110+8860000,'Growth Data'!$A:$Z,8,0)),0,VLOOKUP($A110+8860000,'Growth Data'!$A:$Z,8,0))","v":92},1,null,0,{"$f":"IF(ISERROR(VLOOKUP($A110+8860000,'Growth Data'!$A:$Z,9,0)),0,VLOOKUP($A110+8860000,'Growth Data'!$A:$Z,9,0))","v":99},1,null,"NO",{"$f":"IF(ISERROR(VLOOKUP($A110+8860000,'Growth Data'!$A:$Z,5,0)),\"NO\",VLOOKUP($A110+8860000,'Growth Data'!$A:$Z,5,0))","v":"YES"},1,null,0,{"$f":"IF(ISERROR(VLOOKUP($A110+8860000,'Growth Data'!$A:$Z,10,0)),0,VLOOKUP($A110+8860000,'Growth Data'!$A:$Z,10,0))","v":92},1,null,0,{"$f":"IF(ISERROR(VLOOKUP($A110+8860000,'Growth Data'!$A:$Z,11,0)),0,VLOOKUP($A110+8860000,'Growth Data'!$A:$Z,11,0))","v":105},1]
[2166,"Hollingbourne Primary School",null,"Hollingbourne Primary School",null,1,null,286708.09000000003,286708.08853349806,1.4665019698441029E-3,null,9294.5,9294.5016000000142,-1.6000000141502824E-3,null,1886.26,1886.2613197674441,-1.3197674441016716E-3,null,24640.55,24640.549572289114,4.2771088556037284E-4,null,120084,120083.99999999999,0,null,0,0,0,null,0,0,0,null,0,0,0,null,13723,13723,0,null,0,0,0,null,0,0,0,null,0,0,0,null,456336.4,456336.40102555463,-1.0255546076223254E-3,null,0,0,0,null,456336.4,456336.40102555463,-1.0255546076223254E-3,null,0,null,0,null,3193.36,null,3193.36,null,0,null,0,null,36652.589999999997,36652.594799064711,0,null,2334.7399999999998,null,2335,null,4382.3100000000004,4382.3109012431169,0,null,0,null,0,null,0,null,0,null,0,null,0,null,0,null,0,null,0,null,0,null,"NO",{"$f":"IF(ISERROR(VLOOKUP($A111+8860000,'Growth Data'!$A:$F,3,0)),\"NO\",VLOOKUP($A111+8860000,'Growth Data'!$A:$F,3,0))","v":"NO"},0,null,0,{"$f":"IF(DI111=\"YES\",IF(ISERROR(VLOOKUP($A111+8860000,'Growth Data'!$A:$F,6,0)),0,VLOOKUP($A111+8860000,'Growth Data'!$A:$F,6,0)),0)","v":0},0,null,0,{"$f":"IF(ISERROR(VLOOKUP($A111+8860000,'Growth Data'!$A:$Z,7,0)),0,VLOOKUP($A111+8860000,'Growth Data'!$A:$Z,7,0))","v":0},0,null,"NO",{"$f":"IF(ISERROR(VLOOKUP($A111+8860000,'Growth Data'!$A:$F,4,0)),\"NO\",VLOOKUP($A111+8860000,'Growth Data'!$A:$F,4,0))","v":"NO"},0,null,0,{"$f":"IF(ISERROR(VLOOKUP($A111+8860000,'Growth Data'!$A:$Z,8,0)),0,VLOOKUP($A111+8860000,'Growth Data'!$A:$Z,8,0))","v":0},0,null,0,{"$f":"IF(ISERROR(VLOOKUP($A111+8860000,'Growth Data'!$A:$Z,9,0)),0,VLOOKUP($A111+8860000,'Growth Data'!$A:$Z,9,0))","v":0},0,null,"NO",{"$f":"IF(ISERROR(VLOOKUP($A111+8860000,'Growth Data'!$A:$Z,5,0)),\"NO\",VLOOKUP($A111+8860000,'Growth Data'!$A:$Z,5,0))","v":"NO"},0,null,0,{"$f":"IF(ISERROR(VLOOKUP($A111+8860000,'Growth Data'!$A:$Z,10,0)),0,VLOOKUP($A111+8860000,'Growth Data'!$A:$Z,10,0))","v":0},0,null,0,{"$f":"IF(ISERROR(VLOOKUP($A111+8860000,'Growth Data'!$A:$Z,11,0)),0,VLOOKUP($A111+8860000,'Growth Data'!$A:$Z,11,0))","v":0},0]
[4065,"Holmesdale School, The",null,"Holmesdale School, The",null,1,null,2095724.18,2095724.179106059,8.9394091628491879E-4,null,239184.54,239184.54106793893,-1.0679389233700931E-3,null,1441.01,1441.0080000000007,1.9999999992705852E-3,null,251703.03,251703.02660757664,3.3924233575817198E-3,null,114480.08,114480.07999999999,0,null,0,0,0,null,0,0,0,null,0,0,0,null,36864,36864,0,null,1074162.44,1074162.4395025661,4.9743382260203362E-4,null,0,0,0,null,0,0,0,null,3813559.27,3813559.2742841407,-4.2841406539082527E-3,null,0,0,0,null,3813559.27,3813559.2742841407,-4.2841406539082527E-3,null,0,null,0,null,5238.97,null,5238.97,null,0,null,0,null,456219.25,456219.24883483566,0,null,0,null,0,null,5470.71,5470.7142404485285,0,null,0,null,0,null,0,null,0,null,0,null,0,null,0,null,0,null,0,null,0,null,"NO",{"$f":"IF(ISERROR(VLOOKUP($A112+8860000,'Growth Data'!$A:$F,3,0)),\"NO\",VLOOKUP($A112+8860000,'Growth Data'!$A:$F,3,0))","v":"NO"},0,null,0,{"$f":"IF(DI112=\"YES\",IF(ISERROR(VLOOKUP($A112+8860000,'Growth Data'!$A:$F,6,0)),0,VLOOKUP($A112+8860000,'Growth Data'!$A:$F,6,0)),0)","v":0},0,null,0,{"$f":"IF(ISERROR(VLOOKUP($A112+8860000,'Growth Data'!$A:$Z,7,0)),0,VLOOKUP($A112+8860000,'Growth Data'!$A:$Z,7,0))","v":0},0,null,"YES",{"$f":"IF(ISERROR(VLOOKUP($A112+8860000,'Growth Data'!$A:$F,4,0)),\"NO\",VLOOKUP($A112+8860000,'Growth Data'!$A:$F,4,0))","v":"NO"},1,null,60,{"$f":"IF(ISERROR(VLOOKUP($A112+8860000,'Growth Data'!$A:$Z,8,0)),0,VLOOKUP($A112+8860000,'Growth Data'!$A:$Z,8,0))","v":0},1,null,90,{"$f":"IF(ISERROR(VLOOKUP($A112+8860000,'Growth Data'!$A:$Z,9,0)),0,VLOOKUP($A112+8860000,'Growth Data'!$A:$Z,9,0))","v":0},1,null,"YES",{"$f":"IF(ISERROR(VLOOKUP($A112+8860000,'Growth Data'!$A:$Z,5,0)),\"NO\",VLOOKUP($A112+8860000,'Growth Data'!$A:$Z,5,0))","v":"NO"},1,null,62,{"$f":"IF(ISERROR(VLOOKUP($A112+8860000,'Growth Data'!$A:$Z,10,0)),0,VLOOKUP($A112+8860000,'Growth Data'!$A:$Z,10,0))","v":0},1,null,90,{"$f":"IF(ISERROR(VLOOKUP($A112+8860000,'Growth Data'!$A:$Z,11,0)),0,VLOOKUP($A112+8860000,'Growth Data'!$A:$Z,11,0))","v":0},1]
[3179,"Holy Trinity & St John's CEP School, Margate",null,"Holy Trinity & St John's CEP School, Margate",null,1,null,1115606.72,1115606.7207293536,-7.2935363277792931E-4,null,292755.88,292755.87667272735,3.3272726577706635E-3,null,30419.59,30419.592072289142,-2.0722891422337852E-3,null,209418.99,209418.99075,-7.5000000651925802E-4,null,120084,120083.99999999999,0,null,0,0,0,null,0,0,0,null,0,0,0,null,31488,31488,0,null,0,0,0,null,0,0,0,null,0,0,0,null,1799773.18,1799773.1802243702,-2.2437027655541897E-4,null,0,0,0,null,1799773.18,1799773.1802243702,-2.2437027655541897E-4,null,0,null,0,null,4193.8999999999996,null,4193.8999999999996,null,0,null,0,null,473533.85,473533.84680202458,0,null,0,null,0,null,4499.45,4499.4533847948378,0,null,0,null,0,null,0,null,0,null,0,null,0,null,0,null,0,null,0,null,0,null,"NO",{"$f":"IF(ISERROR(VLOOKUP($A113+8860000,'Growth Data'!$A:$F,3,0)),\"NO\",VLOOKUP($A113+8860000,'Growth Data'!$A:$F,3,0))","v":"NO"},0,null,0,{"$f":"IF(DI113=\"YES\",IF(ISERROR(VLOOKUP($A113+8860000,'Growth Data'!$A:$F,6,0)),0,VLOOKUP($A113+8860000,'Growth Data'!$A:$F,6,0)),0)","v":0},0,null,0,{"$f":"IF(ISERROR(VLOOKUP($A113+8860000,'Growth Data'!$A:$Z,7,0)),0,VLOOKUP($A113+8860000,'Growth Data'!$A:$Z,7,0))","v":0},0,null,"NO",{"$f":"IF(ISERROR(VLOOKUP($A113+8860000,'Growth Data'!$A:$F,4,0)),\"NO\",VLOOKUP($A113+8860000,'Growth Data'!$A:$F,4,0))","v":"NO"},0,null,0,{"$f":"IF(ISERROR(VLOOKUP($A113+8860000,'Growth Data'!$A:$Z,8,0)),0,VLOOKUP($A113+8860000,'Growth Data'!$A:$Z,8,0))","v":0},0,null,0,{"$f":"IF(ISERROR(VLOOKUP($A113+8860000,'Growth Data'!$A:$Z,9,0)),0,VLOOKUP($A113+8860000,'Growth Data'!$A:$Z,9,0))","v":0},0,null,"NO",{"$f":"IF(ISERROR(VLOOKUP($A113+8860000,'Growth Data'!$A:$Z,5,0)),\"NO\",VLOOKUP($A113+8860000,'Growth Data'!$A:$Z,5,0))","v":"NO"},0,null,0,{"$f":"IF(ISERROR(VLOOKUP($A113+8860000,'Growth Data'!$A:$Z,10,0)),0,VLOOKUP($A113+8860000,'Growth Data'!$A:$Z,10,0))","v":0},0,null,0,{"$f":"IF(ISERROR(VLOOKUP($A113+8860000,'Growth Data'!$A:$Z,11,0)),0,VLOOKUP($A113+8860000,'Growth Data'!$A:$Z,11,0))","v":0},0]
[5202,"Holy Trinity CEP School",null,"Holy Trinity CEP School",null,1,null,1246186.6399999999,1246186.6422396598,-2.2396598942577839E-3,null,132771.88,132771.87530000007,4.6999999321997166E-3,null,63041.74,63041.741579427173,-1.5794271748745814E-3,null,161184.26,161184.25920274382,7.972561870701611E-4,null,120084,120083.99999999999,0,null,0,0,0,null,0,0,0,null,0,0,0,null,9830,9830,0,null,0,0,0,null,0,0,0,null,0,0,0,null,1733098.52,1733098.518321831,1.6781690064817667E-3,null,0,0,0,null,1733098.52,1733098.518321831,1.6781690064817667E-3,null,0,null,0,null,3651.9,null,3651.9,null,0.17,null,0.17,null,335763.72,335763.72338917915,0,null,0,null,0,null,3925.44,3925.4408162228515,0,null,0,null,0,null,0,null,0,null,0,null,0,null,0,null,0,null,0,null,0,null,"NO",{"$f":"IF(ISERROR(VLOOKUP($A114+8860000,'Growth Data'!$A:$F,3,0)),\"NO\",VLOOKUP($A114+8860000,'Growth Data'!$A:$F,3,0))","v":"NO"},0,null,0,{"$f":"IF(DI114=\"YES\",IF(ISERROR(VLOOKUP($A114+8860000,'Growth Data'!$A:$F,6,0)),0,VLOOKUP($A114+8860000,'Growth Data'!$A:$F,6,0)),0)","v":0},0,null,0,{"$f":"IF(ISERROR(VLOOKUP($A114+8860000,'Growth Data'!$A:$Z,7,0)),0,VLOOKUP($A114+8860000,'Growth Data'!$A:$Z,7,0))","v":0},0,null,"NO",{"$f":"IF(ISERROR(VLOOKUP($A114+8860000,'Growth Data'!$A:$F,4,0)),\"NO\",VLOOKUP($A114+8860000,'Growth Data'!$A:$F,4,0))","v":"NO"},0,null,0,{"$f":"IF(ISERROR(VLOOKUP($A114+8860000,'Growth Data'!$A:$Z,8,0)),0,VLOOKUP($A114+8860000,'Growth Data'!$A:$Z,8,0))","v":0},0,null,0,{"$f":"IF(ISERROR(VLOOKUP($A114+8860000,'Growth Data'!$A:$Z,9,0)),0,VLOOKUP($A114+8860000,'Growth Data'!$A:$Z,9,0))","v":0},0,null,"NO",{"$f":"IF(ISERROR(VLOOKUP($A114+8860000,'Growth Data'!$A:$Z,5,0)),\"NO\",VLOOKUP($A114+8860000,'Growth Data'!$A:$Z,5,0))","v":"NO"},0,null,0,{"$f":"IF(ISERROR(VLOOKUP($A114+8860000,'Growth Data'!$A:$Z,10,0)),0,VLOOKUP($A114+8860000,'Growth Data'!$A:$Z,10,0))","v":0},0,null,0,{"$f":"IF(ISERROR(VLOOKUP($A114+8860000,'Growth Data'!$A:$Z,11,0)),0,VLOOKUP($A114+8860000,'Growth Data'!$A:$Z,11,0))","v":0},0]
[5213,"Holy Trinity CEP School, Dartford",null,"Holy Trinity CEP School, Dartford",null,1,null,1206444.93,1206444.9269973927,3.0026072636246681E-3,null,72382.31,72382.314642180136,-4.6421801380347461E-3,null,50350.7,50350.697023809422,2.9761905752820894E-3,null,84023.99,84023.993043478447,-3.0434784421231598E-3,null,120084,120083.99999999999,0,null,0,0,0,null,55811.61,55811.607914129709,2.0858702919213101E-3,null,0,0,0,null,8550,8550,0,null,0,0,0,null,0,0,0,null,4652.46,4652.4603790096007,-3.7900960069237044E-4,null,1602300,1602300,0,null,0,0,0,null,1602300,1602300,0,null,0,null,0,null,3750,null,3750,null,0,null,0,null,205810.37,205810.37134387589,0,null,0,null,0,null,3750,3750,0,null,0,null,0,null,0,null,0,null,0,null,0,null,0,null,0,null,0,null,0,null,"NO",{"$f":"IF(ISERROR(VLOOKUP($A115+8860000,'Growth Data'!$A:$F,3,0)),\"NO\",VLOOKUP($A115+8860000,'Growth Data'!$A:$F,3,0))","v":"NO"},0,null,0,{"$f":"IF(DI115=\"YES\",IF(ISERROR(VLOOKUP($A115+8860000,'Growth Data'!$A:$F,6,0)),0,VLOOKUP($A115+8860000,'Growth Data'!$A:$F,6,0)),0)","v":0},0,null,0,{"$f":"IF(ISERROR(VLOOKUP($A115+8860000,'Growth Data'!$A:$Z,7,0)),0,VLOOKUP($A115+8860000,'Growth Data'!$A:$Z,7,0))","v":0},0,null,"NO",{"$f":"IF(ISERROR(VLOOKUP($A115+8860000,'Growth Data'!$A:$F,4,0)),\"NO\",VLOOKUP($A115+8860000,'Growth Data'!$A:$F,4,0))","v":"NO"},0,null,0,{"$f":"IF(ISERROR(VLOOKUP($A115+8860000,'Growth Data'!$A:$Z,8,0)),0,VLOOKUP($A115+8860000,'Growth Data'!$A:$Z,8,0))","v":0},0,null,0,{"$f":"IF(ISERROR(VLOOKUP($A115+8860000,'Growth Data'!$A:$Z,9,0)),0,VLOOKUP($A115+8860000,'Growth Data'!$A:$Z,9,0))","v":0},0,null,"NO",{"$f":"IF(ISERROR(VLOOKUP($A115+8860000,'Growth Data'!$A:$Z,5,0)),\"NO\",VLOOKUP($A115+8860000,'Growth Data'!$A:$Z,5,0))","v":"NO"},0,null,0,{"$f":"IF(ISERROR(VLOOKUP($A115+8860000,'Growth Data'!$A:$Z,10,0)),0,VLOOKUP($A115+8860000,'Growth Data'!$A:$Z,10,0))","v":0},0,null,0,{"$f":"IF(ISERROR(VLOOKUP($A115+8860000,'Growth Data'!$A:$Z,11,0)),0,VLOOKUP($A115+8860000,'Growth Data'!$A:$Z,11,0))","v":0},0]
[2629,"Holywell Primary School Upchurch",null,"Holywell Primary School Upchurch",null,1,null,573416.18000000005,573416.17706699611,2.9330039396882057E-3,null,27591.3,27591.300400000058,-4.000000590167474E-4,null,9831.42,9831.4226363636353,-2.6363636352471076E-3,null,34765.81,34765.809726708147,2.7329185104463249E-4,null,120084,120083.99999999999,0,null,0,0,0,null,0,0,0,null,0,0,0,null,23578,23578,0,null,0,0,0,null,0,0,0,null,0,0,0,null,789266.71,789266.70983006794,1.6993202734738588E-4,null,0,0,0,null,789266.71,789266.70983006794,1.6993202734738588E-4,null,0,null,0,null,3196.06,null,3196.06,null,0,null,0,null,65814.78,65814.775070079952,0,null,0,null,0,null,3790.54,3790.5381674755854,0,null,0,null,0,null,0,null,0,null,0,null,0,null,0,null,0,null,0,null,0,null,"NO",{"$f":"IF(ISERROR(VLOOKUP($A116+8860000,'Growth Data'!$A:$F,3,0)),\"NO\",VLOOKUP($A116+8860000,'Growth Data'!$A:$F,3,0))","v":"NO"},0,null,0,{"$f":"IF(DI116=\"YES\",IF(ISERROR(VLOOKUP($A116+8860000,'Growth Data'!$A:$F,6,0)),0,VLOOKUP($A116+8860000,'Growth Data'!$A:$F,6,0)),0)","v":0},0,null,0,{"$f":"IF(ISERROR(VLOOKUP($A116+8860000,'Growth Data'!$A:$Z,7,0)),0,VLOOKUP($A116+8860000,'Growth Data'!$A:$Z,7,0))","v":0},0,null,"NO",{"$f":"IF(ISERROR(VLOOKUP($A116+8860000,'Growth Data'!$A:$F,4,0)),\"NO\",VLOOKUP($A116+8860000,'Growth Data'!$A:$F,4,0))","v":"NO"},0,null,0,{"$f":"IF(ISERROR(VLOOKUP($A116+8860000,'Growth Data'!$A:$Z,8,0)),0,VLOOKUP($A116+8860000,'Growth Data'!$A:$Z,8,0))","v":0},0,null,0,{"$f":"IF(ISERROR(VLOOKUP($A116+8860000,'Growth Data'!$A:$Z,9,0)),0,VLOOKUP($A116+8860000,'Growth Data'!$A:$Z,9,0))","v":0},0,null,"NO",{"$f":"IF(ISERROR(VLOOKUP($A116+8860000,'Growth Data'!$A:$Z,5,0)),\"NO\",VLOOKUP($A116+8860000,'Growth Data'!$A:$Z,5,0))","v":"NO"},0,null,0,{"$f":"IF(ISERROR(VLOOKUP($A116+8860000,'Growth Data'!$A:$Z,10,0)),0,VLOOKUP($A116+8860000,'Growth Data'!$A:$Z,10,0))","v":0},0,null,0,{"$f":"IF(ISERROR(VLOOKUP($A116+8860000,'Growth Data'!$A:$Z,11,0)),0,VLOOKUP($A116+8860000,'Growth Data'!$A:$Z,11,0))","v":0},0]
[5431,"Hugh Christie School",null,"Hugh Christie School",null,1,null,3188632.28,3188632.2777865715,2.2134282626211643E-3,null,315566.82,315566.82233955018,-2.3395501775667071E-3,null,17292.099999999999,17292.095999999972,4.0000000262807589E-3,null,378630.83,378630.82888307155,1.1169284698553383E-3,null,114480.08,114480.07999999999,0,null,0,0,0,null,0,0,0,null,0,0,0,null,44544,44544,0,null,900853.36,900853.36249140068,-2.4914006935432553E-3,null,0,0,0,null,0,0,0,null,4959999.47,4959999.4675005935,2.4994062259793282E-3,null,0,0,0,null,4959999.47,4959999.4675005935,2.4994062259793282E-3,null,0,null,0,null,5125,null,5125,null,0,null,0,null,651964.04,651964.04038194194,0,null,0,null,0,null,5275.43,5275.4298357545222,0,null,0,null,0,null,0,null,0,null,0,null,0,null,0,null,0,null,0,null,0,null,"NO",{"$f":"IF(ISERROR(VLOOKUP($A117+8860000,'Growth Data'!$A:$F,3,0)),\"NO\",VLOOKUP($A117+8860000,'Growth Data'!$A:$F,3,0))","v":"NO"},0,null,0,{"$f":"IF(DI117=\"YES\",IF(ISERROR(VLOOKUP($A117+8860000,'Growth Data'!$A:$F,6,0)),0,VLOOKUP($A117+8860000,'Growth Data'!$A:$F,6,0)),0)","v":0},0,null,0,{"$f":"IF(ISERROR(VLOOKUP($A117+8860000,'Growth Data'!$A:$Z,7,0)),0,VLOOKUP($A117+8860000,'Growth Data'!$A:$Z,7,0))","v":0},0,null,"NO",{"$f":"IF(ISERROR(VLOOKUP($A117+8860000,'Growth Data'!$A:$F,4,0)),\"NO\",VLOOKUP($A117+8860000,'Growth Data'!$A:$F,4,0))","v":"NO"},0,null,0,{"$f":"IF(ISERROR(VLOOKUP($A117+8860000,'Growth Data'!$A:$Z,8,0)),0,VLOOKUP($A117+8860000,'Growth Data'!$A:$Z,8,0))","v":0},0,null,0,{"$f":"IF(ISERROR(VLOOKUP($A117+8860000,'Growth Data'!$A:$Z,9,0)),0,VLOOKUP($A117+8860000,'Growth Data'!$A:$Z,9,0))","v":0},0,null,"NO",{"$f":"IF(ISERROR(VLOOKUP($A117+8860000,'Growth Data'!$A:$Z,5,0)),\"NO\",VLOOKUP($A117+8860000,'Growth Data'!$A:$Z,5,0))","v":"NO"},0,null,0,{"$f":"IF(ISERROR(VLOOKUP($A117+8860000,'Growth Data'!$A:$Z,10,0)),0,VLOOKUP($A117+8860000,'Growth Data'!$A:$Z,10,0))","v":0},0,null,0,{"$f":"IF(ISERROR(VLOOKUP($A117+8860000,'Growth Data'!$A:$Z,11,0)),0,VLOOKUP($A117+8860000,'Growth Data'!$A:$Z,11,0))","v":0},0]
[3323,"Hunton CEP School",null,"Hunton CEP School",null,1,null,258321.15,258321.14907473585,9.2526414664462209E-4,null,11200.38,11200.380236363641,-2.363636413065251E-4,null,0,0,0,null,15517.25,15517.25448,-4.4799999996030238E-3,null,120084,120083.99999999999,0,null,0,0,0,null,0,0,0,null,0,0,0,null,2509,2509,0,null,0,0,0,null,0,0,0,null,0,0,0,null,407631.78,407631.7837910995,-3.7910994724370539E-3,null,0,0,0,null,407631.78,407631.7837910995,-3.7910994724370539E-3,null,0,null,0,null,3132.29,null,3132.29,null,0,null,0,null,29800.49,29800.492023371789,0,null,3019.95,null,3020,null,4451.8999999999996,4451.8987229791173,0,null,0,null,0,null,0,null,0,null,0,null,0,null,0,null,0,null,0,null,0,null,"NO",{"$f":"IF(ISERROR(VLOOKUP($A118+8860000,'Growth Data'!$A:$F,3,0)),\"NO\",VLOOKUP($A118+8860000,'Growth Data'!$A:$F,3,0))","v":"NO"},0,null,0,{"$f":"IF(DI118=\"YES\",IF(ISERROR(VLOOKUP($A118+8860000,'Growth Data'!$A:$F,6,0)),0,VLOOKUP($A118+8860000,'Growth Data'!$A:$F,6,0)),0)","v":0},0,null,0,{"$f":"IF(ISERROR(VLOOKUP($A118+8860000,'Growth Data'!$A:$Z,7,0)),0,VLOOKUP($A118+8860000,'Growth Data'!$A:$Z,7,0))","v":0},0,null,"NO",{"$f":"IF(ISERROR(VLOOKUP($A118+8860000,'Growth Data'!$A:$F,4,0)),\"NO\",VLOOKUP($A118+8860000,'Growth Data'!$A:$F,4,0))","v":"NO"},0,null,0,{"$f":"IF(ISERROR(VLOOKUP($A118+8860000,'Growth Data'!$A:$Z,8,0)),0,VLOOKUP($A118+8860000,'Growth Data'!$A:$Z,8,0))","v":0},0,null,0,{"$f":"IF(ISERROR(VLOOKUP($A118+8860000,'Growth Data'!$A:$Z,9,0)),0,VLOOKUP($A118+8860000,'Growth Data'!$A:$Z,9,0))","v":0},0,null,"NO",{"$f":"IF(ISERROR(VLOOKUP($A118+8860000,'Growth Data'!$A:$Z,5,0)),\"NO\",VLOOKUP($A118+8860000,'Growth Data'!$A:$Z,5,0))","v":"NO"},0,null,0,{"$f":"IF(ISERROR(VLOOKUP($A118+8860000,'Growth Data'!$A:$Z,10,0)),0,VLOOKUP($A118+8860000,'Growth Data'!$A:$Z,10,0))","v":0},0,null,0,{"$f":"IF(ISERROR(VLOOKUP($A118+8860000,'Growth Data'!$A:$Z,11,0)),0,VLOOKUP($A118+8860000,'Growth Data'!$A:$Z,11,0))","v":0},0]
[3902,"Hythe Bay C of E Primary School",null,"Hythe Bay C of E Primary School",null,1,null,1007736.35,1007736.3507860574,-7.8605744056403637E-4,null,132945.49,132945.49014907648,-1.4907648437656462E-4,null,7263.36,7263.3610509554064,-1.0509554067539284E-3,null,123237.67,123237.67182410412,-1.8241041252622381E-3,null,120084,120083.99999999999,0,null,0,0,0,null,0,0,0,null,0,0,0,null,59392,59392,0,null,0,0,0,null,0,0,0,null,0,0,0,null,1450658.87,1450658.8738101935,-3.8101933896541595E-3,null,0,0,0,null,1450658.87,1450658.8738101935,-3.8101933896541595E-3,null,0,null,0,null,3580.8,null,3580.8,null,0,null,0,null,228702.92,228702.92033114418,0,null,0,null,0,null,3919.06,3919.0616163667437,0,null,0,null,0,null,0,null,0,null,0,null,0,null,0,null,0,null,0,null,0,null,"NO",{"$f":"IF(ISERROR(VLOOKUP($A119+8860000,'Growth Data'!$A:$F,3,0)),\"NO\",VLOOKUP($A119+8860000,'Growth Data'!$A:$F,3,0))","v":"NO"},0,null,0,{"$f":"IF(DI119=\"YES\",IF(ISERROR(VLOOKUP($A119+8860000,'Growth Data'!$A:$F,6,0)),0,VLOOKUP($A119+8860000,'Growth Data'!$A:$F,6,0)),0)","v":0},0,null,0,{"$f":"IF(ISERROR(VLOOKUP($A119+8860000,'Growth Data'!$A:$Z,7,0)),0,VLOOKUP($A119+8860000,'Growth Data'!$A:$Z,7,0))","v":0},0,null,"NO",{"$f":"IF(ISERROR(VLOOKUP($A119+8860000,'Growth Data'!$A:$F,4,0)),\"NO\",VLOOKUP($A119+8860000,'Growth Data'!$A:$F,4,0))","v":"NO"},0,null,0,{"$f":"IF(ISERROR(VLOOKUP($A119+8860000,'Growth Data'!$A:$Z,8,0)),0,VLOOKUP($A119+8860000,'Growth Data'!$A:$Z,8,0))","v":0},0,null,0,{"$f":"IF(ISERROR(VLOOKUP($A119+8860000,'Growth Data'!$A:$Z,9,0)),0,VLOOKUP($A119+8860000,'Growth Data'!$A:$Z,9,0))","v":0},0,null,"NO",{"$f":"IF(ISERROR(VLOOKUP($A119+8860000,'Growth Data'!$A:$Z,5,0)),\"NO\",VLOOKUP($A119+8860000,'Growth Data'!$A:$Z,5,0))","v":"NO"},0,null,0,{"$f":"IF(ISERROR(VLOOKUP($A119+8860000,'Growth Data'!$A:$Z,10,0)),0,VLOOKUP($A119+8860000,'Growth Data'!$A:$Z,10,0))","v":0},0,null,0,{"$f":"IF(ISERROR(VLOOKUP($A119+8860000,'Growth Data'!$A:$Z,11,0)),0,VLOOKUP($A119+8860000,'Growth Data'!$A:$Z,11,0))","v":0},0]
[3318,"Ide Hill CEP School",null,"Ide Hill CEP School",null,1,null,437158.87,437158.86766493757,2.3350624251179397E-3,null,6269.98,6269.9753165562979,4.683443701651413E-3,null,0,0,0,null,28885.97,28885.966032,3.9680000008956995E-3,null,120084,120083.99999999999,0,null,0,0,0,null,21563.32,21563.316648091168,3.3519088319735602E-3,null,0,0,0,null,1997,1997,0,null,0,0,0,null,0,0,0,null,0,0,0,null,615959.13,615959.12566158501,4.3384149903431535E-3,null,0,0,0,null,615959.13,615959.12566158501,4.3384149903431535E-3,null,0,null,0,null,3178.62,null,3178.62,null,0,null,0,null,40097.4,40097.397392626983,0,null,1990.26,null,1990,null,3986.77,3986.7670497505542,0,null,0,null,0,null,0,null,0,null,0,null,0,null,0,null,0,null,0,null,0,null,"YES",{"$f":"IF(ISERROR(VLOOKUP($A120+8860000,'Growth Data'!$A:$F,3,0)),\"NO\",VLOOKUP($A120+8860000,'Growth Data'!$A:$F,3,0))","v":"NO"},1,null,60,{"$f":"IF(DI120=\"YES\",IF(ISERROR(VLOOKUP($A120+8860000,'Growth Data'!$A:$F,6,0)),0,VLOOKUP($A120+8860000,'Growth Data'!$A:$F,6,0)),0)","v":0},60,null,90,{"$f":"IF(ISERROR(VLOOKUP($A120+8860000,'Growth Data'!$A:$Z,7,0)),0,VLOOKUP($A120+8860000,'Growth Data'!$A:$Z,7,0))","v":0},1,null,"YES",{"$f":"IF(ISERROR(VLOOKUP($A120+8860000,'Growth Data'!$A:$F,4,0)),\"NO\",VLOOKUP($A120+8860000,'Growth Data'!$A:$F,4,0))","v":"NO"},1,null,60,{"$f":"IF(ISERROR(VLOOKUP($A120+8860000,'Growth Data'!$A:$Z,8,0)),0,VLOOKUP($A120+8860000,'Growth Data'!$A:$Z,8,0))","v":0},1,null,90,{"$f":"IF(ISERROR(VLOOKUP($A120+8860000,'Growth Data'!$A:$Z,9,0)),0,VLOOKUP($A120+8860000,'Growth Data'!$A:$Z,9,0))","v":0},1,null,"NO",{"$f":"IF(ISERROR(VLOOKUP($A120+8860000,'Growth Data'!$A:$Z,5,0)),\"NO\",VLOOKUP($A120+8860000,'Growth Data'!$A:$Z,5,0))","v":"NO"},0,null,0,{"$f":"IF(ISERROR(VLOOKUP($A120+8860000,'Growth Data'!$A:$Z,10,0)),0,VLOOKUP($A120+8860000,'Growth Data'!$A:$Z,10,0))","v":0},0,null,0,{"$f":"IF(ISERROR(VLOOKUP($A120+8860000,'Growth Data'!$A:$Z,11,0)),0,VLOOKUP($A120+8860000,'Growth Data'!$A:$Z,11,0))","v":0},0]
[2167,"Ightham Primary School",null,"Ightham Primary School",null,1,null,587609.65,587609.64679637714,3.2036228803917766E-3,null,3670.65,3670.6468633663362,3.13663366387118E-3,null,2518.69,2518.6936704545424,-3.6704545423162926E-3,null,27068.63,27068.628036809707,1.9631902941910084E-3,null,120084,120083.99999999999,0,null,0,0,0,null,0,0,0,null,0,0,0,null,21457,21457,0,null,0,0,0,null,0,0,0,null,35298.379999999997,35298.384632992209,-4.6329922115546651E-3,null,797707,797707,0,null,0,0,0,null,797707,797707,0,null,0,null,0,null,3750,null,3750,null,0,null,0,null,39042.720000000001,39042.715877638737,0,null,2095.73,null,2096,null,3750,3750,0,null,0,null,0,null,0,null,0,null,0,null,0,null,0,null,0,null,0,null,0,null,"NO",{"$f":"IF(ISERROR(VLOOKUP($A121+8860000,'Growth Data'!$A:$F,3,0)),\"NO\",VLOOKUP($A121+8860000,'Growth Data'!$A:$F,3,0))","v":"NO"},0,null,0,{"$f":"IF(DI121=\"YES\",IF(ISERROR(VLOOKUP($A121+8860000,'Growth Data'!$A:$F,6,0)),0,VLOOKUP($A121+8860000,'Growth Data'!$A:$F,6,0)),0)","v":0},0,null,0,{"$f":"IF(ISERROR(VLOOKUP($A121+8860000,'Growth Data'!$A:$Z,7,0)),0,VLOOKUP($A121+8860000,'Growth Data'!$A:$Z,7,0))","v":0},0,null,"NO",{"$f":"IF(ISERROR(VLOOKUP($A121+8860000,'Growth Data'!$A:$F,4,0)),\"NO\",VLOOKUP($A121+8860000,'Growth Data'!$A:$F,4,0))","v":"NO"},0,null,0,{"$f":"IF(ISERROR(VLOOKUP($A121+8860000,'Growth Data'!$A:$Z,8,0)),0,VLOOKUP($A121+8860000,'Growth Data'!$A:$Z,8,0))","v":0},0,null,0,{"$f":"IF(ISERROR(VLOOKUP($A121+8860000,'Growth Data'!$A:$Z,9,0)),0,VLOOKUP($A121+8860000,'Growth Data'!$A:$Z,9,0))","v":0},0,null,"NO",{"$f":"IF(ISERROR(VLOOKUP($A121+8860000,'Growth Data'!$A:$Z,5,0)),\"NO\",VLOOKUP($A121+8860000,'Growth Data'!$A:$Z,5,0))","v":"NO"},0,null,0,{"$f":"IF(ISERROR(VLOOKUP($A121+8860000,'Growth Data'!$A:$Z,10,0)),0,VLOOKUP($A121+8860000,'Growth Data'!$A:$Z,10,0))","v":0},0,null,0,{"$f":"IF(ISERROR(VLOOKUP($A121+8860000,'Growth Data'!$A:$Z,11,0)),0,VLOOKUP($A121+8860000,'Growth Data'!$A:$Z,11,0))","v":0},0]
[3134,"John Mayne CEP School",null,"John Mayne CEP School",null,1,null,246966.37,246966.37329123096,-3.2912309688981622E-3,null,7491.86,7491.8560153846138,3.9846153858889011E-3,null,0,0,0,null,27270.55,27270.546617647102,3.3823528974608053E-3,null,120084,120083.99999999999,0,null,21814.77,21814.774793057411,-4.7930574110068846E-3,null,0,0,0,null,0,0,0,null,14222,14222,0,null,0,0,0,null,0,0,0,null,0,0,0,null,437849.55,437849.55071732006,-7.1732007199898362E-4,null,0,0,0,null,437849.55,437849.55071732006,-7.1732007199898362E-4,null,0,null,0,null,3238.26,null,3238.26,null,0,null,0,null,37845.26,37845.259940039869,0,null,2215.4699999999998,null,2215,null,4869.28,4869.2821921531058,0,null,0,null,0,null,0,null,0,null,0,null,0,null,0,null,0,null,0,null,0,null,"NO",{"$f":"IF(ISERROR(VLOOKUP($A122+8860000,'Growth Data'!$A:$F,3,0)),\"NO\",VLOOKUP($A122+8860000,'Growth Data'!$A:$F,3,0))","v":"NO"},0,null,0,{"$f":"IF(DI122=\"YES\",IF(ISERROR(VLOOKUP($A122+8860000,'Growth Data'!$A:$F,6,0)),0,VLOOKUP($A122+8860000,'Growth Data'!$A:$F,6,0)),0)","v":0},0,null,0,{"$f":"IF(ISERROR(VLOOKUP($A122+8860000,'Growth Data'!$A:$Z,7,0)),0,VLOOKUP($A122+8860000,'Growth Data'!$A:$Z,7,0))","v":0},0,null,"NO",{"$f":"IF(ISERROR(VLOOKUP($A122+8860000,'Growth Data'!$A:$F,4,0)),\"NO\",VLOOKUP($A122+8860000,'Growth Data'!$A:$F,4,0))","v":"NO"},0,null,0,{"$f":"IF(ISERROR(VLOOKUP($A122+8860000,'Growth Data'!$A:$Z,8,0)),0,VLOOKUP($A122+8860000,'Growth Data'!$A:$Z,8,0))","v":0},0,null,0,{"$f":"IF(ISERROR(VLOOKUP($A122+8860000,'Growth Data'!$A:$Z,9,0)),0,VLOOKUP($A122+8860000,'Growth Data'!$A:$Z,9,0))","v":0},0,null,"NO",{"$f":"IF(ISERROR(VLOOKUP($A122+8860000,'Growth Data'!$A:$Z,5,0)),\"NO\",VLOOKUP($A122+8860000,'Growth Data'!$A:$Z,5,0))","v":"NO"},0,null,0,{"$f":"IF(ISERROR(VLOOKUP($A122+8860000,'Growth Data'!$A:$Z,10,0)),0,VLOOKUP($A122+8860000,'Growth Data'!$A:$Z,10,0))","v":0},0,null,0,{"$f":"IF(ISERROR(VLOOKUP($A122+8860000,'Growth Data'!$A:$Z,11,0)),0,VLOOKUP($A122+8860000,'Growth Data'!$A:$Z,11,0))","v":0},0]
[3299,"John Wesley Primary School",null,"John Wesley Primary School",null,1,null,1271734.8899999999,1271734.8877525458,2.2474541328847408E-3,null,99465.43,99465.434084754641,-4.0847546479199082E-3,null,20399.419999999998,20399.424247422685,-4.247422686603386E-3,null,167301.94,167301.9350943398,4.9056602001655847E-3,null,120084,120083.99999999999,0,null,0,0,0,null,0,0,0,null,0,0,0,null,11571,11571,0,null,0,0,0,null,0,0,0,null,1014.32,1014.318820937071,1.179062929054453E-3,null,1691571,1691571,0,null,0,0,0,null,1691571,1691571,0,null,0,null,0,null,3750,null,3750,null,0,null,0,null,270886.11,270886.10573352524,0,null,0,null,0,null,3750,3750,0,null,0,null,0,null,0,null,0,null,0,null,0,null,0,null,0,null,0,null,0,null,"NO",{"$f":"IF(ISERROR(VLOOKUP($A123+8860000,'Growth Data'!$A:$F,3,0)),\"NO\",VLOOKUP($A123+8860000,'Growth Data'!$A:$F,3,0))","v":"NO"},0,null,0,{"$f":"IF(DI123=\"YES\",IF(ISERROR(VLOOKUP($A123+8860000,'Growth Data'!$A:$F,6,0)),0,VLOOKUP($A123+8860000,'Growth Data'!$A:$F,6,0)),0)","v":0},0,null,0,{"$f":"IF(ISERROR(VLOOKUP($A123+8860000,'Growth Data'!$A:$Z,7,0)),0,VLOOKUP($A123+8860000,'Growth Data'!$A:$Z,7,0))","v":0},0,null,"NO",{"$f":"IF(ISERROR(VLOOKUP($A123+8860000,'Growth Data'!$A:$F,4,0)),\"NO\",VLOOKUP($A123+8860000,'Growth Data'!$A:$F,4,0))","v":"NO"},0,null,0,{"$f":"IF(ISERROR(VLOOKUP($A123+8860000,'Growth Data'!$A:$Z,8,0)),0,VLOOKUP($A123+8860000,'Growth Data'!$A:$Z,8,0))","v":0},0,null,0,{"$f":"IF(ISERROR(VLOOKUP($A123+8860000,'Growth Data'!$A:$Z,9,0)),0,VLOOKUP($A123+8860000,'Growth Data'!$A:$Z,9,0))","v":0},0,null,"NO",{"$f":"IF(ISERROR(VLOOKUP($A123+8860000,'Growth Data'!$A:$Z,5,0)),\"NO\",VLOOKUP($A123+8860000,'Growth Data'!$A:$Z,5,0))","v":"NO"},0,null,0,{"$f":"IF(ISERROR(VLOOKUP($A123+8860000,'Growth Data'!$A:$Z,10,0)),0,VLOOKUP($A123+8860000,'Growth Data'!$A:$Z,10,0))","v":0},0,null,0,{"$f":"IF(ISERROR(VLOOKUP($A123+8860000,'Growth Data'!$A:$Z,11,0)),0,VLOOKUP($A123+8860000,'Growth Data'!$A:$Z,11,0))","v":0},0]
[3910,"Joy Lane Primary School",null,"Joy Lane Primary School",null,1,null,1660635.96,1660635.9583375875,1.6624124255031347E-3,null,125201.53,125201.53152590312,-1.52590312063694E-3,null,7531.72,7531.7214228457015,-1.4228457011995488E-3,null,192223.31,192223.30600405682,3.9959431742317975E-3,null,120084,120083.99999999999,0,null,0,0,0,null,0,0,0,null,0,0,0,null,13005,13005,0,null,0,0,0,null,0,0,0,null,88073.48,88073.482709606644,-2.709606647840701E-3,null,2206755,2206755,0,null,0,0,0,null,2206755,2206755,0,null,0,null,0,null,3750,null,3750,null,0,null,0,null,289762.64,289762.64125981386,0,null,0,null,0,null,3750,3750,0,null,0,null,0,null,0,null,0,null,0,null,0,null,0,null,0,null,0,null,0,null,"NO",{"$f":"IF(ISERROR(VLOOKUP($A124+8860000,'Growth Data'!$A:$F,3,0)),\"NO\",VLOOKUP($A124+8860000,'Growth Data'!$A:$F,3,0))","v":"NO"},0,null,0,{"$f":"IF(DI124=\"YES\",IF(ISERROR(VLOOKUP($A124+8860000,'Growth Data'!$A:$F,6,0)),0,VLOOKUP($A124+8860000,'Growth Data'!$A:$F,6,0)),0)","v":0},0,null,0,{"$f":"IF(ISERROR(VLOOKUP($A124+8860000,'Growth Data'!$A:$Z,7,0)),0,VLOOKUP($A124+8860000,'Growth Data'!$A:$Z,7,0))","v":0},0,null,"NO",{"$f":"IF(ISERROR(VLOOKUP($A124+8860000,'Growth Data'!$A:$F,4,0)),\"NO\",VLOOKUP($A124+8860000,'Growth Data'!$A:$F,4,0))","v":"NO"},0,null,0,{"$f":"IF(ISERROR(VLOOKUP($A124+8860000,'Growth Data'!$A:$Z,8,0)),0,VLOOKUP($A124+8860000,'Growth Data'!$A:$Z,8,0))","v":0},0,null,0,{"$f":"IF(ISERROR(VLOOKUP($A124+8860000,'Growth Data'!$A:$Z,9,0)),0,VLOOKUP($A124+8860000,'Growth Data'!$A:$Z,9,0))","v":0},0,null,"NO",{"$f":"IF(ISERROR(VLOOKUP($A124+8860000,'Growth Data'!$A:$Z,5,0)),\"NO\",VLOOKUP($A124+8860000,'Growth Data'!$A:$Z,5,0))","v":"NO"},0,null,0,{"$f":"IF(ISERROR(VLOOKUP($A124+8860000,'Growth Data'!$A:$Z,10,0)),0,VLOOKUP($A124+8860000,'Growth Data'!$A:$Z,10,0))","v":0},0,null,0,{"$f":"IF(ISERROR(VLOOKUP($A124+8860000,'Growth Data'!$A:$Z,11,0)),0,VLOOKUP($A124+8860000,'Growth Data'!$A:$Z,11,0))","v":0},0]
[4622,"Judd School, The",null,"Judd School, The",null,1,null,3657021.75,3657021.7468189513,3.1810486689209938E-3,null,36847.68,36847.681809352507,-1.8093525068252347E-3,null,23056.13,23056.12799999999,2.00000001132139E-3,null,5613.79,5613.7939449763062,-3.9449763062293641E-3,null,114480.08,114480.07999999999,0,null,0,0,0,null,0,0,0,null,0,0,0,null,37376,37376,0,null,0,0,0,null,0,0,0,null,532980.56999999995,532980.56942671956,5.732803838327527E-4,null,4407376,4407376,0,null,0,0,0,null,4407376,4407376,0,null,58220.38,null,58220.38,null,5000,null,5000,null,0,null,0,null,63181.9,63181.901913648879,0,null,0,null,0,null,5000,5000,0,null,24000,null,24000,null,1023.24,null,1023,null,1023.24,null,1023,null,1023.24,null,1023,null,1023.24,null,1023,null,"YES",{"$f":"IF(ISERROR(VLOOKUP($A125+8860000,'Growth Data'!$A:$F,3,0)),\"NO\",VLOOKUP($A125+8860000,'Growth Data'!$A:$F,3,0))","v":"YES"},0,null,92,{"$f":"IF(DI125=\"YES\",IF(ISERROR(VLOOKUP($A125+8860000,'Growth Data'!$A:$F,6,0)),0,VLOOKUP($A125+8860000,'Growth Data'!$A:$F,6,0)),0)","v":155},-63,null,120,{"$f":"IF(ISERROR(VLOOKUP($A125+8860000,'Growth Data'!$A:$Z,7,0)),0,VLOOKUP($A125+8860000,'Growth Data'!$A:$Z,7,0))","v":180},1,null,"YES",{"$f":"IF(ISERROR(VLOOKUP($A125+8860000,'Growth Data'!$A:$F,4,0)),\"NO\",VLOOKUP($A125+8860000,'Growth Data'!$A:$F,4,0))","v":"YES"},0,null,90,{"$f":"IF(ISERROR(VLOOKUP($A125+8860000,'Growth Data'!$A:$Z,8,0)),0,VLOOKUP($A125+8860000,'Growth Data'!$A:$Z,8,0))","v":158},1,null,120,{"$f":"IF(ISERROR(VLOOKUP($A125+8860000,'Growth Data'!$A:$Z,9,0)),0,VLOOKUP($A125+8860000,'Growth Data'!$A:$Z,9,0))","v":180},1,null,"NO",{"$f":"IF(ISERROR(VLOOKUP($A125+8860000,'Growth Data'!$A:$Z,5,0)),\"NO\",VLOOKUP($A125+8860000,'Growth Data'!$A:$Z,5,0))","v":"NO"},0,null,0,{"$f":"IF(ISERROR(VLOOKUP($A125+8860000,'Growth Data'!$A:$Z,10,0)),0,VLOOKUP($A125+8860000,'Growth Data'!$A:$Z,10,0))","v":0},0,null,0,{"$f":"IF(ISERROR(VLOOKUP($A125+8860000,'Growth Data'!$A:$Z,11,0)),0,VLOOKUP($A125+8860000,'Growth Data'!$A:$Z,11,0))","v":0},0]
[2136,"Kemsing Primary School",null,"Kemsing Primary School",null,1,null,559222.71,559222.70733761496,2.6623849989846349E-3,null,18349.12,18349.117448717901,2.5512820975563955E-3,null,1263.0999999999999,1263.0991197604772,8.8023952275761985E-4,null,67439.08,67439.083427272679,-3.4272726770723239E-3,null,120084,120083.99999999999,0,null,0,0,0,null,27895.43,27895.431466934511,-1.4669345109723508E-3,null,0,0,0,null,21956,21956,0,null,0,0,0,null,0,0,0,null,0,0,0,null,816209.44,816209.43880030047,1.1996994726359844E-3,null,0,0,0,null,816209.44,816209.43880030047,1.1996994726359844E-3,null,0,null,0,null,3399.99,null,3399.99,null,0,null,0,null,86414.44,86414.443638579673,0,null,0,null,0,null,4031.74,4031.7433441639641,0,null,0,null,0,null,0,null,0,null,0,null,0,null,0,null,0,null,0,null,0,null,"NO",{"$f":"IF(ISERROR(VLOOKUP($A126+8860000,'Growth Data'!$A:$F,3,0)),\"NO\",VLOOKUP($A126+8860000,'Growth Data'!$A:$F,3,0))","v":"NO"},0,null,0,{"$f":"IF(DI126=\"YES\",IF(ISERROR(VLOOKUP($A126+8860000,'Growth Data'!$A:$F,6,0)),0,VLOOKUP($A126+8860000,'Growth Data'!$A:$F,6,0)),0)","v":0},0,null,0,{"$f":"IF(ISERROR(VLOOKUP($A126+8860000,'Growth Data'!$A:$Z,7,0)),0,VLOOKUP($A126+8860000,'Growth Data'!$A:$Z,7,0))","v":0},0,null,"NO",{"$f":"IF(ISERROR(VLOOKUP($A126+8860000,'Growth Data'!$A:$F,4,0)),\"NO\",VLOOKUP($A126+8860000,'Growth Data'!$A:$F,4,0))","v":"NO"},0,null,0,{"$f":"IF(ISERROR(VLOOKUP($A126+8860000,'Growth Data'!$A:$Z,8,0)),0,VLOOKUP($A126+8860000,'Growth Data'!$A:$Z,8,0))","v":0},0,null,0,{"$f":"IF(ISERROR(VLOOKUP($A126+8860000,'Growth Data'!$A:$Z,9,0)),0,VLOOKUP($A126+8860000,'Growth Data'!$A:$Z,9,0))","v":0},0,null,"NO",{"$f":"IF(ISERROR(VLOOKUP($A126+8860000,'Growth Data'!$A:$Z,5,0)),\"NO\",VLOOKUP($A126+8860000,'Growth Data'!$A:$Z,5,0))","v":"NO"},0,null,0,{"$f":"IF(ISERROR(VLOOKUP($A126+8860000,'Growth Data'!$A:$Z,10,0)),0,VLOOKUP($A126+8860000,'Growth Data'!$A:$Z,10,0))","v":0},0,null,0,{"$f":"IF(ISERROR(VLOOKUP($A126+8860000,'Growth Data'!$A:$Z,11,0)),0,VLOOKUP($A126+8860000,'Growth Data'!$A:$Z,11,0))","v":0},0]
[2674,"King's Farm Primary School",null,"King's Farm Primary School",null,1,null,1021929.82,1021929.8205154386,-5.1543861627578735E-4,null,223019.33,223019.33302089141,-3.020891424966976E-3,null,23938.400000000001,23938.401210191092,-1.2101910906494595E-3,null,148984.63,148984.62865979373,1.3402062759269029E-3,null,120084,120083.99999999999,0,null,0,0,0,null,0,0,0,null,0,0,0,null,43264,43264,0,null,0,0,0,null,0,0,0,null,0,0,0,null,1581220.18,1581220.1834063148,-3.4063148777931929E-3,null,237197.77,237197.7706934684,-6.9346840609796345E-4,null,1818417.95,1818417.9540997832,-4.0997832547873259E-3,null,0,null,0,null,4597.42,null,4597.42,null,0.39,null,0.39,null,336881.75,336881.75019788434,0,null,0,null,0,null,4930.9799999999996,4930.983205878958,0,null,0,null,0,null,0,null,0,null,0,null,0,null,0,null,0,null,0,null,0,null,"NO",{"$f":"IF(ISERROR(VLOOKUP($A127+8860000,'Growth Data'!$A:$F,3,0)),\"NO\",VLOOKUP($A127+8860000,'Growth Data'!$A:$F,3,0))","v":"NO"},0,null,0,{"$f":"IF(DI127=\"YES\",IF(ISERROR(VLOOKUP($A127+8860000,'Growth Data'!$A:$F,6,0)),0,VLOOKUP($A127+8860000,'Growth Data'!$A:$F,6,0)),0)","v":0},0,null,0,{"$f":"IF(ISERROR(VLOOKUP($A127+8860000,'Growth Data'!$A:$Z,7,0)),0,VLOOKUP($A127+8860000,'Growth Data'!$A:$Z,7,0))","v":0},0,null,"NO",{"$f":"IF(ISERROR(VLOOKUP($A127+8860000,'Growth Data'!$A:$F,4,0)),\"NO\",VLOOKUP($A127+8860000,'Growth Data'!$A:$F,4,0))","v":"NO"},0,null,0,{"$f":"IF(ISERROR(VLOOKUP($A127+8860000,'Growth Data'!$A:$Z,8,0)),0,VLOOKUP($A127+8860000,'Growth Data'!$A:$Z,8,0))","v":0},0,null,0,{"$f":"IF(ISERROR(VLOOKUP($A127+8860000,'Growth Data'!$A:$Z,9,0)),0,VLOOKUP($A127+8860000,'Growth Data'!$A:$Z,9,0))","v":0},0,null,"NO",{"$f":"IF(ISERROR(VLOOKUP($A127+8860000,'Growth Data'!$A:$Z,5,0)),\"NO\",VLOOKUP($A127+8860000,'Growth Data'!$A:$Z,5,0))","v":"NO"},0,null,0,{"$f":"IF(ISERROR(VLOOKUP($A127+8860000,'Growth Data'!$A:$Z,10,0)),0,VLOOKUP($A127+8860000,'Growth Data'!$A:$Z,10,0))","v":0},0,null,0,{"$f":"IF(ISERROR(VLOOKUP($A127+8860000,'Growth Data'!$A:$Z,11,0)),0,VLOOKUP($A127+8860000,'Growth Data'!$A:$Z,11,0))","v":0},0]
[2680,"Kings Hill School",null,"Kings Hill School",null,1,null,1354057.01,1354057.0121829561,-2.1829560864716768E-3,null,30399.46,30399.464739999999,-4.7400000003108289E-3,null,9186.1,9186.1020323740922,-2.0323740918684052E-3,null,104213.92,104213.9237175,-3.717500003403984E-3,null,120084,120083.99999999999,0,null,0,0,0,null,0,0,0,null,0,0,0,null,52224,52224,0,null,0,0,0,null,0,0,0,null,170809.5,170809.49732716987,2.6728301309049129E-3,null,1840974,1840974,0,null,0,0,0,null,1840974,1840974,0,null,0,null,0,null,3750,null,3750,null,0,null,0,null,136525.1,136525.10279688225,0,null,0,null,0,null,3750,3750,0,null,0,null,0,null,0,null,0,null,0,null,0,null,0,null,0,null,0,null,0,null,"NO",{"$f":"IF(ISERROR(VLOOKUP($A128+8860000,'Growth Data'!$A:$F,3,0)),\"NO\",VLOOKUP($A128+8860000,'Growth Data'!$A:$F,3,0))","v":"NO"},0,null,0,{"$f":"IF(DI128=\"YES\",IF(ISERROR(VLOOKUP($A128+8860000,'Growth Data'!$A:$F,6,0)),0,VLOOKUP($A128+8860000,'Growth Data'!$A:$F,6,0)),0)","v":0},0,null,0,{"$f":"IF(ISERROR(VLOOKUP($A128+8860000,'Growth Data'!$A:$Z,7,0)),0,VLOOKUP($A128+8860000,'Growth Data'!$A:$Z,7,0))","v":0},0,null,"NO",{"$f":"IF(ISERROR(VLOOKUP($A128+8860000,'Growth Data'!$A:$F,4,0)),\"NO\",VLOOKUP($A128+8860000,'Growth Data'!$A:$F,4,0))","v":"NO"},0,null,0,{"$f":"IF(ISERROR(VLOOKUP($A128+8860000,'Growth Data'!$A:$Z,8,0)),0,VLOOKUP($A128+8860000,'Growth Data'!$A:$Z,8,0))","v":0},0,null,0,{"$f":"IF(ISERROR(VLOOKUP($A128+8860000,'Growth Data'!$A:$Z,9,0)),0,VLOOKUP($A128+8860000,'Growth Data'!$A:$Z,9,0))","v":0},0,null,"NO",{"$f":"IF(ISERROR(VLOOKUP($A128+8860000,'Growth Data'!$A:$Z,5,0)),\"NO\",VLOOKUP($A128+8860000,'Growth Data'!$A:$Z,5,0))","v":"NO"},0,null,0,{"$f":"IF(ISERROR(VLOOKUP($A128+8860000,'Growth Data'!$A:$Z,10,0)),0,VLOOKUP($A128+8860000,'Growth Data'!$A:$Z,10,0))","v":0},0,null,0,{"$f":"IF(ISERROR(VLOOKUP($A128+8860000,'Growth Data'!$A:$Z,11,0)),0,VLOOKUP($A128+8860000,'Growth Data'!$A:$Z,11,0))","v":0},0]
[3173,"Kingsdown & Ringwould CEP School",null,"Kingsdown & Ringwould CEP School",null,1,null,607480.5,607480.5044175107,-4.4175107032060623E-3,null,22366.65,22366.645699999997,4.3000000041502062E-3,null,3079.84,3079.8425537634375,-2.5537634373904439E-3,null,21303.200000000001,21303.198510989008,1.4890109923726413E-3,null,120084,120083.99999999999,0,null,0,0,0,null,0,0,0,null,0,0,0,null,20584,20584,0,null,0,0,0,null,0,0,0,null,28185.81,28185.808817736921,1.1822630804090295E-3,null,823084,823084,0,null,0,0,0,null,823084,823084,0,null,0,null,0,null,3750,null,3750,null,0,null,0,null,44428.76,44428.76407176059,0,null,1557.12,null,1557,null,3750,3750,0,null,0,null,0,null,0,null,0,null,0,null,0,null,0,null,0,null,0,null,0,null,"NO",{"$f":"IF(ISERROR(VLOOKUP($A129+8860000,'Growth Data'!$A:$F,3,0)),\"NO\",VLOOKUP($A129+8860000,'Growth Data'!$A:$F,3,0))","v":"NO"},0,null,0,{"$f":"IF(DI129=\"YES\",IF(ISERROR(VLOOKUP($A129+8860000,'Growth Data'!$A:$F,6,0)),0,VLOOKUP($A129+8860000,'Growth Data'!$A:$F,6,0)),0)","v":0},0,null,0,{"$f":"IF(ISERROR(VLOOKUP($A129+8860000,'Growth Data'!$A:$Z,7,0)),0,VLOOKUP($A129+8860000,'Growth Data'!$A:$Z,7,0))","v":0},0,null,"NO",{"$f":"IF(ISERROR(VLOOKUP($A129+8860000,'Growth Data'!$A:$F,4,0)),\"NO\",VLOOKUP($A129+8860000,'Growth Data'!$A:$F,4,0))","v":"NO"},0,null,0,{"$f":"IF(ISERROR(VLOOKUP($A129+8860000,'Growth Data'!$A:$Z,8,0)),0,VLOOKUP($A129+8860000,'Growth Data'!$A:$Z,8,0))","v":0},0,null,0,{"$f":"IF(ISERROR(VLOOKUP($A129+8860000,'Growth Data'!$A:$Z,9,0)),0,VLOOKUP($A129+8860000,'Growth Data'!$A:$Z,9,0))","v":0},0,null,"NO",{"$f":"IF(ISERROR(VLOOKUP($A129+8860000,'Growth Data'!$A:$Z,5,0)),\"NO\",VLOOKUP($A129+8860000,'Growth Data'!$A:$Z,5,0))","v":"NO"},0,null,0,{"$f":"IF(ISERROR(VLOOKUP($A129+8860000,'Growth Data'!$A:$Z,10,0)),0,VLOOKUP($A129+8860000,'Growth Data'!$A:$Z,10,0))","v":0},0,null,0,{"$f":"IF(ISERROR(VLOOKUP($A129+8860000,'Growth Data'!$A:$Z,11,0)),0,VLOOKUP($A129+8860000,'Growth Data'!$A:$Z,11,0))","v":0},0]
[2578,"Kingswood Primary School",null,"Kingswood Primary School",null,{"$f":"IF(E130=D130,0,1)","v":1},null,334965.89,334965.88561339374,{"$f":"H130-I130","v":4.3866062769666314E-3},null,10394.6,10394.598918780317,{"$f":"L130-M130","v":1.081219683328527E-3},null,638.12,638.1231414141414,{"$f":"P130-Q130","v":-3.1414141413961261E-3},null,21378.85,21378.854730000003,{"$f":"T130-U130","v":-4.730000004201429E-3},null,120084,120083.99999999999,{"$f":"X130-Y130","v":0},null,0,0,{"$f":"AB130-AC130","v":0},null,0,0,{"$f":"AF130-AG130","v":0},null,0,0,{"$f":"AJ130-AK130","v":0},null,16093,16093,{"$f":"AN130-AO130","v":0},null,0,0,{"$f":"AR130-AS130","v":0},null,0,0,{"$f":"AV130-AW130","v":0},null,0,0,{"$f":"AZ130-BA130","v":0},null,503554.46,503554.46240358823,{"$f":"BD130-BE130","v":-2.403588208835572E-3},null,0,0,{"$f":"BH130-BI130","v":0},null,503554.46,503554.46240358823,{"$f":"BL130-BM130","v":-2.403588208835572E-3},null,0,null,{"$f":"BP130-BQ130","v":0},null,3113.37,null,{"$f":"BT130-BU130","v":3113.37},null,0,null,{"$f":"BX130-BY130","v":0},null,34593.800000000003,34593.804097202606,{"$f":"ROUND(CB130-CC130,0)","v":0},null,2540.62,null,{"$f":"ROUND(CF130-CG130,0)","v":2541},null,4131.03,4131.0293424032925,{"$f":"ROUND(CJ130-CK130,0)","v":0},null,0,null,{"$f":"ROUND(CN130-CO130,0)","v":0},null,0,null,{"$f":"ROUND(CR130-CS130,0)","v":0},null,0,null,{"$f":"ROUND(CV130-CW130,0)","v":0},null,0,null,{"$f":"ROUND(CZ130-DA130,0)","v":0},null,0,null,{"$f":"ROUND(DD130-DE130,0)","v":0},null,"NO",{"$f":"IF(ISERROR(VLOOKUP($A130+8860000,'Growth Data'!$A:$F,3,0)),\"NO\",VLOOKUP($A130+8860000,'Growth Data'!$A:$F,3,0))","v":"NO"},{"$f":"IF(DH130=DI130,0,1)","v":0},null,0,{"$f":"IF(DI130=\"YES\",IF(ISERROR(VLOOKUP($A130+8860000,'Growth Data'!$A:$F,6,0)),0,VLOOKUP($A130+8860000,'Growth Data'!$A:$F,6,0)),0)","v":0},{"$f":"ROUND(DL130-DM130,0)","v":0},null,0,{"$f":"IF(ISERROR(VLOOKUP($A130+8860000,'Growth Data'!$A:$Z,7,0)),0,VLOOKUP($A130+8860000,'Growth Data'!$A:$Z,7,0))","v":0},{"$f":"IF(DP130=DQ130,0,1)","v":0},null,"NO",{"$f":"IF(ISERROR(VLOOKUP($A130+8860000,'Growth Data'!$A:$F,4,0)),\"NO\",VLOOKUP($A130+8860000,'Growth Data'!$A:$F,4,0))","v":"NO"},{"$f":"IF(DT130=DU130,0,1)","v":0},null,0,{"$f":"IF(ISERROR(VLOOKUP($A130+8860000,'Growth Data'!$A:$Z,8,0)),0,VLOOKUP($A130+8860000,'Growth Data'!$A:$Z,8,0))","v":0},{"$f":"IF(DX130=DY130,0,1)","v":0},null,0,{"$f":"IF(ISERROR(VLOOKUP($A130+8860000,'Growth Data'!$A:$Z,9,0)),0,VLOOKUP($A130+8860000,'Growth Data'!$A:$Z,9,0))","v":0},{"$f":"IF(EB130=EC130,0,1)","v":0},null,"NO",{"$f":"IF(ISERROR(VLOOKUP($A130+8860000,'Growth Data'!$A:$Z,5,0)),\"NO\",VLOOKUP($A130+8860000,'Growth Data'!$A:$Z,5,0))","v":"NO"},{"$f":"IF(EF130=EG130,0,1)","v":0},null,0,{"$f":"IF(ISERROR(VLOOKUP($A130+8860000,'Growth Data'!$A:$Z,10,0)),0,VLOOKUP($A130+8860000,'Growth Data'!$A:$Z,10,0))","v":0},{"$f":"IF(EJ130=EK130,0,1)","v":0},null,0,{"$f":"IF(ISERROR(VLOOKUP($A130+8860000,'Growth Data'!$A:$Z,11,0)),0,VLOOKUP($A130+8860000,'Growth Data'!$A:$Z,11,0))","v":0},{"$f":"IF(EN130=EO130,0,1)","v":0}]
[3091,"Laddingford St Mary's CEP School",null,"Laddingford St Mary's CEP School",null,1,null,238450.29,238450.29145360232,-1.4536023081745952E-3,null,14728.07,14728.071669230783,-1.6692307835910469E-3,null,576.55999999999995,576.55715384615291,2.8461538470310188E-3,null,21806.79,21806.792538461574,-2.5384615728398785E-3,null,120084,120083.99999999999,0,null,0,0,0,null,0,0,0,null,0,0,0,null,5240,5240,0,null,0,0,0,null,5427,5427,0,null,0,0,0,null,406312.71,406312.71281514084,-2.8151408187113702E-3,null,0,0,0,null,406312.71,406312.71281514084,-2.8151408187113702E-3,null,0,null,0,null,3345.1,null,3345.1,null,0,null,0,null,36591.760000000002,36591.758668546645,0,null,2340.8200000000002,null,2341,null,4710.07,4710.0680097040586,0,null,0,null,0,null,0,null,0,null,0,null,0,null,0,null,0,null,0,null,0,null,"NO",{"$f":"IF(ISERROR(VLOOKUP($A131+8860000,'Growth Data'!$A:$F,3,0)),\"NO\",VLOOKUP($A131+8860000,'Growth Data'!$A:$F,3,0))","v":"NO"},0,null,0,{"$f":"IF(DI131=\"YES\",IF(ISERROR(VLOOKUP($A131+8860000,'Growth Data'!$A:$F,6,0)),0,VLOOKUP($A131+8860000,'Growth Data'!$A:$F,6,0)),0)","v":0},0,null,0,{"$f":"IF(ISERROR(VLOOKUP($A131+8860000,'Growth Data'!$A:$Z,7,0)),0,VLOOKUP($A131+8860000,'Growth Data'!$A:$Z,7,0))","v":0},0,null,"NO",{"$f":"IF(ISERROR(VLOOKUP($A131+8860000,'Growth Data'!$A:$F,4,0)),\"NO\",VLOOKUP($A131+8860000,'Growth Data'!$A:$F,4,0))","v":"NO"},0,null,0,{"$f":"IF(ISERROR(VLOOKUP($A131+8860000,'Growth Data'!$A:$Z,8,0)),0,VLOOKUP($A131+8860000,'Growth Data'!$A:$Z,8,0))","v":0},0,null,0,{"$f":"IF(ISERROR(VLOOKUP($A131+8860000,'Growth Data'!$A:$Z,9,0)),0,VLOOKUP($A131+8860000,'Growth Data'!$A:$Z,9,0))","v":0},0,null,"NO",{"$f":"IF(ISERROR(VLOOKUP($A131+8860000,'Growth Data'!$A:$Z,5,0)),\"NO\",VLOOKUP($A131+8860000,'Growth Data'!$A:$Z,5,0))","v":"NO"},0,null,0,{"$f":"IF(ISERROR(VLOOKUP($A131+8860000,'Growth Data'!$A:$Z,10,0)),0,VLOOKUP($A131+8860000,'Growth Data'!$A:$Z,10,0))","v":0},0,null,0,{"$f":"IF(ISERROR(VLOOKUP($A131+8860000,'Growth Data'!$A:$Z,11,0)),0,VLOOKUP($A131+8860000,'Growth Data'!$A:$Z,11,0))","v":0},0]
[3317,"Lady Boswell's CEP School, Sevenoaks",null,"Lady Boswell's CEP School, Sevenoaks",null,1,null,1229154.48,1229154.4785644023,1.4355976600199938E-3,null,9504.65,9504.648599999995,1.4000000046507921E-3,null,14294.36,14294.355617962463,4.3820375376526499E-3,null,51128.53,51128.534825284303,-4.8252843043883331E-3,null,120084,120083.99999999999,0,null,0,0,0,null,51839.64,51839.64304091841,-3.0409184109885246E-3,null,0,0,0,null,9062,9062,0,null,0,0,0,null,0,0,0,null,147744.34,147744.33935143217,6.4856783137656748E-4,null,1632812,1632811.9999999998,0,null,0,0,0,null,1632812,1632811.9999999998,0,null,0,null,0,null,3750,null,3750,null,0,null,0,null,78516.44,78516.442447404203,0,null,0,null,0,null,3750,3750,0,null,120000,null,120000,null,665.39,null,665,null,665.39,null,665,null,665.39,null,665,null,665.39,null,665,null,"NO",{"$f":"IF(ISERROR(VLOOKUP($A132+8860000,'Growth Data'!$A:$F,3,0)),\"NO\",VLOOKUP($A132+8860000,'Growth Data'!$A:$F,3,0))","v":"NO"},0,null,0,{"$f":"IF(DI132=\"YES\",IF(ISERROR(VLOOKUP($A132+8860000,'Growth Data'!$A:$F,6,0)),0,VLOOKUP($A132+8860000,'Growth Data'!$A:$F,6,0)),0)","v":0},0,null,0,{"$f":"IF(ISERROR(VLOOKUP($A132+8860000,'Growth Data'!$A:$Z,7,0)),0,VLOOKUP($A132+8860000,'Growth Data'!$A:$Z,7,0))","v":0},0,null,"NO",{"$f":"IF(ISERROR(VLOOKUP($A132+8860000,'Growth Data'!$A:$F,4,0)),\"NO\",VLOOKUP($A132+8860000,'Growth Data'!$A:$F,4,0))","v":"NO"},0,null,0,{"$f":"IF(ISERROR(VLOOKUP($A132+8860000,'Growth Data'!$A:$Z,8,0)),0,VLOOKUP($A132+8860000,'Growth Data'!$A:$Z,8,0))","v":0},0,null,0,{"$f":"IF(ISERROR(VLOOKUP($A132+8860000,'Growth Data'!$A:$Z,9,0)),0,VLOOKUP($A132+8860000,'Growth Data'!$A:$Z,9,0))","v":0},0,null,"NO",{"$f":"IF(ISERROR(VLOOKUP($A132+8860000,'Growth Data'!$A:$Z,5,0)),\"NO\",VLOOKUP($A132+8860000,'Growth Data'!$A:$Z,5,0))","v":"NO"},0,null,0,{"$f":"IF(ISERROR(VLOOKUP($A132+8860000,'Growth Data'!$A:$Z,10,0)),0,VLOOKUP($A132+8860000,'Growth Data'!$A:$Z,10,0))","v":0},0,null,0,{"$f":"IF(ISERROR(VLOOKUP($A132+8860000,'Growth Data'!$A:$Z,11,0)),0,VLOOKUP($A132+8860000,'Growth Data'!$A:$Z,11,0))","v":0},0]
[3284,"Lady Joanna Thornhill (Endowed) Primary School",null,"Lady Joanna Thornhill (Endowed) Primary School",null,1,null,1203606.23,1203606.2330515166,-3.0515165999531746E-3,null,23863.91,23863.913111976846,-3.1119768464122899E-3,null,6202.15,6202.152677595629,-2.6775956293931813E-3,null,71746.34,71746.343298050168,-3.2980501709971577E-3,null,120084,120083.99999999999,0,null,0,0,0,null,0,0,0,null,0,0,0,null,42496,42496,0,null,0,0,0,null,0,0,0,null,164497.35999999999,164497.35786086111,2.1391388727352023E-3,null,1632496,1632496.0000000002,0,null,0,0,0,null,1632496,1632496.0000000002,0,null,0,null,0,null,3750,null,3750,null,0,null,0,null,100842.43,100842.4313946308,0,null,0,null,0,null,3750,3750,0,null,0,null,0,null,0,null,0,null,0,null,0,null,0,null,0,null,0,null,0,null,"NO",{"$f":"IF(ISERROR(VLOOKUP($A133+8860000,'Growth Data'!$A:$F,3,0)),\"NO\",VLOOKUP($A133+8860000,'Growth Data'!$A:$F,3,0))","v":"NO"},0,null,0,{"$f":"IF(DI133=\"YES\",IF(ISERROR(VLOOKUP($A133+8860000,'Growth Data'!$A:$F,6,0)),0,VLOOKUP($A133+8860000,'Growth Data'!$A:$F,6,0)),0)","v":0},0,null,0,{"$f":"IF(ISERROR(VLOOKUP($A133+8860000,'Growth Data'!$A:$Z,7,0)),0,VLOOKUP($A133+8860000,'Growth Data'!$A:$Z,7,0))","v":0},0,null,"YES",{"$f":"IF(ISERROR(VLOOKUP($A133+8860000,'Growth Data'!$A:$F,4,0)),\"NO\",VLOOKUP($A133+8860000,'Growth Data'!$A:$F,4,0))","v":"NO"},1,null,61,{"$f":"IF(ISERROR(VLOOKUP($A133+8860000,'Growth Data'!$A:$Z,8,0)),0,VLOOKUP($A133+8860000,'Growth Data'!$A:$Z,8,0))","v":0},1,null,90,{"$f":"IF(ISERROR(VLOOKUP($A133+8860000,'Growth Data'!$A:$Z,9,0)),0,VLOOKUP($A133+8860000,'Growth Data'!$A:$Z,9,0))","v":0},1,null,"YES",{"$f":"IF(ISERROR(VLOOKUP($A133+8860000,'Growth Data'!$A:$Z,5,0)),\"NO\",VLOOKUP($A133+8860000,'Growth Data'!$A:$Z,5,0))","v":"NO"},1,null,63,{"$f":"IF(ISERROR(VLOOKUP($A133+8860000,'Growth Data'!$A:$Z,10,0)),0,VLOOKUP($A133+8860000,'Growth Data'!$A:$Z,10,0))","v":0},1,null,90,{"$f":"IF(ISERROR(VLOOKUP($A133+8860000,'Growth Data'!$A:$Z,11,0)),0,VLOOKUP($A133+8860000,'Growth Data'!$A:$Z,11,0))","v":0},1]
[3034,"Lamberhurst St Mary's CEP School",null,"Lamberhurst St Mary's CEP School",null,1,null,579093.56999999995,579093.56495874852,5.0412514247000217E-3,null,6912.52,6912.5247029126203,-4.7029126199049642E-3,null,3138.4,3138.4022413793055,-2.2413793053601694E-3,null,42976.81,42976.806906976701,3.0930232969694771E-3,null,120084,120083.99999999999,0,null,0,0,0,null,0,0,0,null,0,0,0,null,27904,27904,0,null,0,0,0,null,0,0,0,null,12794.7,12794.701189982821,-1.1899828205059748E-3,null,792904,792904,0,null,0,0,0,null,792904,792904,0,null,0,null,0,null,3750,null,3750,null,0,null,0,null,55660.28,55660.276158276778,0,null,433.97,null,434,null,3750,3750,0,null,0,null,0,null,0,null,0,null,0,null,0,null,0,null,0,null,0,null,0,null,"NO",{"$f":"IF(ISERROR(VLOOKUP($A134+8860000,'Growth Data'!$A:$F,3,0)),\"NO\",VLOOKUP($A134+8860000,'Growth Data'!$A:$F,3,0))","v":"NO"},0,null,0,{"$f":"IF(DI134=\"YES\",IF(ISERROR(VLOOKUP($A134+8860000,'Growth Data'!$A:$F,6,0)),0,VLOOKUP($A134+8860000,'Growth Data'!$A:$F,6,0)),0)","v":0},0,null,0,{"$f":"IF(ISERROR(VLOOKUP($A134+8860000,'Growth Data'!$A:$Z,7,0)),0,VLOOKUP($A134+8860000,'Growth Data'!$A:$Z,7,0))","v":0},0,null,"NO",{"$f":"IF(ISERROR(VLOOKUP($A134+8860000,'Growth Data'!$A:$F,4,0)),\"NO\",VLOOKUP($A134+8860000,'Growth Data'!$A:$F,4,0))","v":"NO"},0,null,0,{"$f":"IF(ISERROR(VLOOKUP($A134+8860000,'Growth Data'!$A:$Z,8,0)),0,VLOOKUP($A134+8860000,'Growth Data'!$A:$Z,8,0))","v":0},0,null,0,{"$f":"IF(ISERROR(VLOOKUP($A134+8860000,'Growth Data'!$A:$Z,9,0)),0,VLOOKUP($A134+8860000,'Growth Data'!$A:$Z,9,0))","v":0},0,null,"NO",{"$f":"IF(ISERROR(VLOOKUP($A134+8860000,'Growth Data'!$A:$Z,5,0)),\"NO\",VLOOKUP($A134+8860000,'Growth Data'!$A:$Z,5,0))","v":"NO"},0,null,0,{"$f":"IF(ISERROR(VLOOKUP($A134+8860000,'Growth Data'!$A:$Z,10,0)),0,VLOOKUP($A134+8860000,'Growth Data'!$A:$Z,10,0))","v":0},0,null,0,{"$f":"IF(ISERROR(VLOOKUP($A134+8860000,'Growth Data'!$A:$Z,11,0)),0,VLOOKUP($A134+8860000,'Growth Data'!$A:$Z,11,0))","v":0},0]
[3296,"Langafel CEP School",null,"Langafel CEP School",null,1,null,914059.45,914059.45057214226,-5.7214230764657259E-4,null,82460.66,82460.662731612872,-2.7316128689562902E-3,null,4325.21,4325.2119103942605,-1.9103942604488111E-3,null,102438.82,102438.82119402981,-1.1940297990804538E-3,null,120084,120083.99999999999,0,null,0,0,0,null,44530.6,44530.60052925771,-5.2925771160516888E-4,null,0,0,0,null,37888,37888,0,null,0,0,0,null,0,0,0,null,0,0,0,null,1305786.75,1305786.746937437,3.0625630170106888E-3,null,0,0,0,null,1305786.75,1305786.746937437,3.0625630170106888E-3,null,0,null,0,null,3551.07,null,3551.07,null,0,null,0,null,168038.21,168038.21485545198,0,null,0,null,0,null,3937.57,3937.5737482529112,0,null,0,null,0,null,0,null,0,null,0,null,0,null,0,null,0,null,0,null,0,null,"NO",{"$f":"IF(ISERROR(VLOOKUP($A135+8860000,'Growth Data'!$A:$F,3,0)),\"NO\",VLOOKUP($A135+8860000,'Growth Data'!$A:$F,3,0))","v":"NO"},0,null,0,{"$f":"IF(DI135=\"YES\",IF(ISERROR(VLOOKUP($A135+8860000,'Growth Data'!$A:$F,6,0)),0,VLOOKUP($A135+8860000,'Growth Data'!$A:$F,6,0)),0)","v":0},0,null,0,{"$f":"IF(ISERROR(VLOOKUP($A135+8860000,'Growth Data'!$A:$Z,7,0)),0,VLOOKUP($A135+8860000,'Growth Data'!$A:$Z,7,0))","v":0},0,null,"NO",{"$f":"IF(ISERROR(VLOOKUP($A135+8860000,'Growth Data'!$A:$F,4,0)),\"NO\",VLOOKUP($A135+8860000,'Growth Data'!$A:$F,4,0))","v":"NO"},0,null,0,{"$f":"IF(ISERROR(VLOOKUP($A135+8860000,'Growth Data'!$A:$Z,8,0)),0,VLOOKUP($A135+8860000,'Growth Data'!$A:$Z,8,0))","v":0},0,null,0,{"$f":"IF(ISERROR(VLOOKUP($A135+8860000,'Growth Data'!$A:$Z,9,0)),0,VLOOKUP($A135+8860000,'Growth Data'!$A:$Z,9,0))","v":0},0,null,"NO",{"$f":"IF(ISERROR(VLOOKUP($A135+8860000,'Growth Data'!$A:$Z,5,0)),\"NO\",VLOOKUP($A135+8860000,'Growth Data'!$A:$Z,5,0))","v":"NO"},0,null,0,{"$f":"IF(ISERROR(VLOOKUP($A135+8860000,'Growth Data'!$A:$Z,10,0)),0,VLOOKUP($A135+8860000,'Growth Data'!$A:$Z,10,0))","v":0},0,null,0,{"$f":"IF(ISERROR(VLOOKUP($A135+8860000,'Growth Data'!$A:$Z,11,0)),0,VLOOKUP($A135+8860000,'Growth Data'!$A:$Z,11,0))","v":0},0]
[2318,"Langdon Primary School",null,"Langdon Primary School",null,1,null,258321.15,258321.14907473585,9.2526414664462209E-4,null,18941.25,18941.249600000003,3.9999999717110768E-4,null,1873.81,1873.8107500000019,-7.5000000197178451E-4,null,16589.169999999998,16589.170085526282,-8.5526284237857908E-5,null,120084,120083.99999999999,0,null,0,0,0,null,0,0,0,null,0,0,0,null,4990,4990,0,null,0,0,0,null,0,0,0,null,0,0,0,null,420799.38,420799.37951026217,4.8973783850669861E-4,null,0,0,0,null,420799.38,420799.37951026217,4.8973783850669861E-4,null,0,null,0,null,3249.73,null,3249.73,null,0,null,0,null,37785.199999999997,37785.19774253443,0,null,2221.48,null,2221,null,4569.33,4569.333840772113,0,null,0,null,0,null,0,null,0,null,0,null,0,null,0,null,0,null,0,null,0,null,"NO",{"$f":"IF(ISERROR(VLOOKUP($A136+8860000,'Growth Data'!$A:$F,3,0)),\"NO\",VLOOKUP($A136+8860000,'Growth Data'!$A:$F,3,0))","v":"NO"},0,null,0,{"$f":"IF(DI136=\"YES\",IF(ISERROR(VLOOKUP($A136+8860000,'Growth Data'!$A:$F,6,0)),0,VLOOKUP($A136+8860000,'Growth Data'!$A:$F,6,0)),0)","v":0},0,null,0,{"$f":"IF(ISERROR(VLOOKUP($A136+8860000,'Growth Data'!$A:$Z,7,0)),0,VLOOKUP($A136+8860000,'Growth Data'!$A:$Z,7,0))","v":0},0,null,"NO",{"$f":"IF(ISERROR(VLOOKUP($A136+8860000,'Growth Data'!$A:$F,4,0)),\"NO\",VLOOKUP($A136+8860000,'Growth Data'!$A:$F,4,0))","v":"NO"},0,null,0,{"$f":"IF(ISERROR(VLOOKUP($A136+8860000,'Growth Data'!$A:$Z,8,0)),0,VLOOKUP($A136+8860000,'Growth Data'!$A:$Z,8,0))","v":0},0,null,0,{"$f":"IF(ISERROR(VLOOKUP($A136+8860000,'Growth Data'!$A:$Z,9,0)),0,VLOOKUP($A136+8860000,'Growth Data'!$A:$Z,9,0))","v":0},0,null,"NO",{"$f":"IF(ISERROR(VLOOKUP($A136+8860000,'Growth Data'!$A:$Z,5,0)),\"NO\",VLOOKUP($A136+8860000,'Growth Data'!$A:$Z,5,0))","v":"NO"},0,null,0,{"$f":"IF(ISERROR(VLOOKUP($A136+8860000,'Growth Data'!$A:$Z,10,0)),0,VLOOKUP($A136+8860000,'Growth Data'!$A:$Z,10,0))","v":0},0,null,0,{"$f":"IF(ISERROR(VLOOKUP($A136+8860000,'Growth Data'!$A:$Z,11,0)),0,VLOOKUP($A136+8860000,'Growth Data'!$A:$Z,11,0))","v":0},0]
[2482,"Langton Green Primary School",null,"Langton Green Primary School",null,1,null,1178057.99,1178057.9875386306,2.4613693822175264E-3,null,17684,17683.998046511617,1.9534883831511252E-3,null,3744.61,3744.6137780898962,-3.7780898960591003E-3,null,69428.36,69428.362369186274,-2.3691862734267488E-3,null,120084,120083.99999999999,0,null,0,0,0,null,0,0,0,null,0,0,0,null,39168,39168,0,null,0,0,0,null,0,0,0,null,167251.04,167251.03826758196,1.7324180516880006E-3,null,1595418,1595418.0000000002,0,null,0,0,0,null,1595418,1595418.0000000002,0,null,0,null,0,null,3750,null,3750,null,0,null,0,null,91688.26,91688.256500795935,0,null,0,null,0,null,3750,3750,0,null,0,null,0,null,0,null,0,null,0,null,0,null,0,null,0,null,0,null,0,null,"NO",{"$f":"IF(ISERROR(VLOOKUP($A137+8860000,'Growth Data'!$A:$F,3,0)),\"NO\",VLOOKUP($A137+8860000,'Growth Data'!$A:$F,3,0))","v":"NO"},0,null,0,{"$f":"IF(DI137=\"YES\",IF(ISERROR(VLOOKUP($A137+8860000,'Growth Data'!$A:$F,6,0)),0,VLOOKUP($A137+8860000,'Growth Data'!$A:$F,6,0)),0)","v":0},0,null,0,{"$f":"IF(ISERROR(VLOOKUP($A137+8860000,'Growth Data'!$A:$Z,7,0)),0,VLOOKUP($A137+8860000,'Growth Data'!$A:$Z,7,0))","v":0},0,null,"NO",{"$f":"IF(ISERROR(VLOOKUP($A137+8860000,'Growth Data'!$A:$F,4,0)),\"NO\",VLOOKUP($A137+8860000,'Growth Data'!$A:$F,4,0))","v":"NO"},0,null,0,{"$f":"IF(ISERROR(VLOOKUP($A137+8860000,'Growth Data'!$A:$Z,8,0)),0,VLOOKUP($A137+8860000,'Growth Data'!$A:$Z,8,0))","v":0},0,null,0,{"$f":"IF(ISERROR(VLOOKUP($A137+8860000,'Growth Data'!$A:$Z,9,0)),0,VLOOKUP($A137+8860000,'Growth Data'!$A:$Z,9,0))","v":0},0,null,"NO",{"$f":"IF(ISERROR(VLOOKUP($A137+8860000,'Growth Data'!$A:$Z,5,0)),\"NO\",VLOOKUP($A137+8860000,'Growth Data'!$A:$Z,5,0))","v":"NO"},0,null,0,{"$f":"IF(ISERROR(VLOOKUP($A137+8860000,'Growth Data'!$A:$Z,10,0)),0,VLOOKUP($A137+8860000,'Growth Data'!$A:$Z,10,0))","v":0},0,null,0,{"$f":"IF(ISERROR(VLOOKUP($A137+8860000,'Growth Data'!$A:$Z,11,0)),0,VLOOKUP($A137+8860000,'Growth Data'!$A:$Z,11,0))","v":0},0]
[2116,"Lawn Primary School",null,"Lawn Primary School",null,1,null,584770.94999999995,584770.95285050094,-2.8505009831860662E-3,null,163747.78,163747.78089009898,-8.9009897783398628E-4,null,19124.939999999999,19124.938786127121,1.2138728779973462E-3,null,100682.4,100682.40290445868,-2.9044586844975129E-3,null,120084,120083.99999999999,0,null,0,0,0,null,0,0,0,null,0,0,0,null,20709,20709,0,null,0,0,0,null,0,0,0,null,0,0,0,null,1009119.08,1009119.0754311858,4.5688141835853457E-3,null,0,0,0,null,1009119.08,1009119.0754311858,4.5688141835853457E-3,null,0,null,0,null,4215.18,null,4215.18,null,0.86,null,0.86,null,242507.11,242507.1098876929,0,null,0,null,0,null,4798.1099999999997,4798.1071622873105,0,null,0,null,0,null,0,null,0,null,0,null,0,null,0,null,0,null,0,null,0,null,"NO",{"$f":"IF(ISERROR(VLOOKUP($A138+8860000,'Growth Data'!$A:$F,3,0)),\"NO\",VLOOKUP($A138+8860000,'Growth Data'!$A:$F,3,0))","v":"NO"},0,null,0,{"$f":"IF(DI138=\"YES\",IF(ISERROR(VLOOKUP($A138+8860000,'Growth Data'!$A:$F,6,0)),0,VLOOKUP($A138+8860000,'Growth Data'!$A:$F,6,0)),0)","v":0},0,null,0,{"$f":"IF(ISERROR(VLOOKUP($A138+8860000,'Growth Data'!$A:$Z,7,0)),0,VLOOKUP($A138+8860000,'Growth Data'!$A:$Z,7,0))","v":0},0,null,"NO",{"$f":"IF(ISERROR(VLOOKUP($A138+8860000,'Growth Data'!$A:$F,4,0)),\"NO\",VLOOKUP($A138+8860000,'Growth Data'!$A:$F,4,0))","v":"NO"},0,null,0,{"$f":"IF(ISERROR(VLOOKUP($A138+8860000,'Growth Data'!$A:$Z,8,0)),0,VLOOKUP($A138+8860000,'Growth Data'!$A:$Z,8,0))","v":0},0,null,0,{"$f":"IF(ISERROR(VLOOKUP($A138+8860000,'Growth Data'!$A:$Z,9,0)),0,VLOOKUP($A138+8860000,'Growth Data'!$A:$Z,9,0))","v":0},0,null,"NO",{"$f":"IF(ISERROR(VLOOKUP($A138+8860000,'Growth Data'!$A:$Z,5,0)),\"NO\",VLOOKUP($A138+8860000,'Growth Data'!$A:$Z,5,0))","v":"NO"},0,null,0,{"$f":"IF(ISERROR(VLOOKUP($A138+8860000,'Growth Data'!$A:$Z,10,0)),0,VLOOKUP($A138+8860000,'Growth Data'!$A:$Z,10,0))","v":0},0,null,0,{"$f":"IF(ISERROR(VLOOKUP($A138+8860000,'Growth Data'!$A:$Z,11,0)),0,VLOOKUP($A138+8860000,'Growth Data'!$A:$Z,11,0))","v":0},0]
[3069,"Leeds & Broomfield CEP School",null,"Leeds & Broomfield CEP School",null,1,null,175999.02,175999.02464432552,-4.6443255268968642E-3,null,12274.77,12274.770539473689,-5.3947368905937765E-4,null,0,0,0,null,14416.63,14416.630036363626,-3.6363626350066625E-5,null,120084,120083.99999999999,0,null,0,0,0,null,0,0,0,null,0,0,0,null,5489,5489,0,null,0,0,0,null,0,0,0,null,0,0,0,null,328263.43,328263.42522016284,4.7798371524550021E-3,null,0,0,0,null,328263.43,328263.42522016284,4.7798371524550021E-3,null,0,null,0,null,3269.2,null,3269.2,null,0,null,0,null,27072.37,27072.367882845454,0,null,3292.76,null,3293,null,5206.04,5206.0391164542416,0,null,0,null,0,null,0,null,0,null,0,null,0,null,0,null,0,null,0,null,0,null,"YES",{"$f":"IF(ISERROR(VLOOKUP($A139+8860000,'Growth Data'!$A:$F,3,0)),\"NO\",VLOOKUP($A139+8860000,'Growth Data'!$A:$F,3,0))","v":"NO"},1,null,30,{"$f":"IF(DI139=\"YES\",IF(ISERROR(VLOOKUP($A139+8860000,'Growth Data'!$A:$F,6,0)),0,VLOOKUP($A139+8860000,'Growth Data'!$A:$F,6,0)),0)","v":0},30,null,60,{"$f":"IF(ISERROR(VLOOKUP($A139+8860000,'Growth Data'!$A:$Z,7,0)),0,VLOOKUP($A139+8860000,'Growth Data'!$A:$Z,7,0))","v":0},1,null,"YES",{"$f":"IF(ISERROR(VLOOKUP($A139+8860000,'Growth Data'!$A:$F,4,0)),\"NO\",VLOOKUP($A139+8860000,'Growth Data'!$A:$F,4,0))","v":"NO"},1,null,30,{"$f":"IF(ISERROR(VLOOKUP($A139+8860000,'Growth Data'!$A:$Z,8,0)),0,VLOOKUP($A139+8860000,'Growth Data'!$A:$Z,8,0))","v":0},1,null,60,{"$f":"IF(ISERROR(VLOOKUP($A139+8860000,'Growth Data'!$A:$Z,9,0)),0,VLOOKUP($A139+8860000,'Growth Data'!$A:$Z,9,0))","v":0},1,null,"NO",{"$f":"IF(ISERROR(VLOOKUP($A139+8860000,'Growth Data'!$A:$Z,5,0)),\"NO\",VLOOKUP($A139+8860000,'Growth Data'!$A:$Z,5,0))","v":"NO"},0,null,0,{"$f":"IF(ISERROR(VLOOKUP($A139+8860000,'Growth Data'!$A:$Z,10,0)),0,VLOOKUP($A139+8860000,'Growth Data'!$A:$Z,10,0))","v":0},0,null,0,{"$f":"IF(ISERROR(VLOOKUP($A139+8860000,'Growth Data'!$A:$Z,11,0)),0,VLOOKUP($A139+8860000,'Growth Data'!$A:$Z,11,0))","v":0},0]
[2137,"Leigh Primary School",null,"Leigh Primary School",null,1,null,474061.89,474061.88896132843,1.0386715875938535E-3,null,9708.24,9708.2360982658938,3.9017341059661703E-3,null,0,0,0,null,37338.36,37338.356328671362,3.6713286390295252E-3,null,120084,120083.99999999999,0,null,0,0,0,null,23339.41,23339.406322532865,3.6774671352759469E-3,null,0,0,0,null,12200,12200,0,null,0,0,0,null,0,0,0,null,0,0,0,null,676731.89,676731.88771079865,2.2892013657838106E-3,null,0,0,0,null,676731.89,676731.88771079865,2.2892013657838106E-3,null,0,null,0,null,3233.99,null,3233.99,null,0,null,0,null,51020.75,51020.748772261017,0,null,897.93,null,898,null,3979.23,3979.2328605437051,0,null,0,null,0,null,0,null,0,null,0,null,0,null,0,null,0,null,0,null,0,null,"NO",{"$f":"IF(ISERROR(VLOOKUP($A140+8860000,'Growth Data'!$A:$F,3,0)),\"NO\",VLOOKUP($A140+8860000,'Growth Data'!$A:$F,3,0))","v":"NO"},0,null,0,{"$f":"IF(DI140=\"YES\",IF(ISERROR(VLOOKUP($A140+8860000,'Growth Data'!$A:$F,6,0)),0,VLOOKUP($A140+8860000,'Growth Data'!$A:$F,6,0)),0)","v":0},0,null,0,{"$f":"IF(ISERROR(VLOOKUP($A140+8860000,'Growth Data'!$A:$Z,7,0)),0,VLOOKUP($A140+8860000,'Growth Data'!$A:$Z,7,0))","v":0},0,null,"NO",{"$f":"IF(ISERROR(VLOOKUP($A140+8860000,'Growth Data'!$A:$F,4,0)),\"NO\",VLOOKUP($A140+8860000,'Growth Data'!$A:$F,4,0))","v":"NO"},0,null,0,{"$f":"IF(ISERROR(VLOOKUP($A140+8860000,'Growth Data'!$A:$Z,8,0)),0,VLOOKUP($A140+8860000,'Growth Data'!$A:$Z,8,0))","v":0},0,null,0,{"$f":"IF(ISERROR(VLOOKUP($A140+8860000,'Growth Data'!$A:$Z,9,0)),0,VLOOKUP($A140+8860000,'Growth Data'!$A:$Z,9,0))","v":0},0,null,"NO",{"$f":"IF(ISERROR(VLOOKUP($A140+8860000,'Growth Data'!$A:$Z,5,0)),\"NO\",VLOOKUP($A140+8860000,'Growth Data'!$A:$Z,5,0))","v":"NO"},0,null,0,{"$f":"IF(ISERROR(VLOOKUP($A140+8860000,'Growth Data'!$A:$Z,10,0)),0,VLOOKUP($A140+8860000,'Growth Data'!$A:$Z,10,0))","v":0},0,null,0,{"$f":"IF(ISERROR(VLOOKUP($A140+8860000,'Growth Data'!$A:$Z,11,0)),0,VLOOKUP($A140+8860000,'Growth Data'!$A:$Z,11,0))","v":0},0]
[2168,"Lenham Primary School",null,"Lenham Primary School",null,1,null,593287.03,593287.03468812956,-4.6881295274943113E-3,null,26399.42,26399.42319130438,-3.191304382198723E-3,null,1250.2,1250.2041396648044,-4.1396648043701134E-3,null,53154.06,53154.056812500086,3.1874999112915248E-3,null,120084,120083.99999999999,0,null,0,0,0,null,0,0,0,null,0,0,0,null,18837,18837,0,null,0,0,0,null,0,0,0,null,0,0,0,null,813011.72,813011.71883159888,1.1684010969474912E-3,null,0,0,0,null,813011.72,813011.71883159888,1.1684010969474912E-3,null,0,null,0,null,3225.31,null,3225.31,null,0,null,0,null,73078.98,73078.981450477382,0,null,0,null,0,null,3799.88,3799.8790374717664,0,null,0,null,0,null,0,null,0,null,0,null,0,null,0,null,0,null,0,null,0,null,"NO",{"$f":"IF(ISERROR(VLOOKUP($A141+8860000,'Growth Data'!$A:$F,3,0)),\"NO\",VLOOKUP($A141+8860000,'Growth Data'!$A:$F,3,0))","v":"NO"},0,null,0,{"$f":"IF(DI141=\"YES\",IF(ISERROR(VLOOKUP($A141+8860000,'Growth Data'!$A:$F,6,0)),0,VLOOKUP($A141+8860000,'Growth Data'!$A:$F,6,0)),0)","v":0},0,null,0,{"$f":"IF(ISERROR(VLOOKUP($A141+8860000,'Growth Data'!$A:$Z,7,0)),0,VLOOKUP($A141+8860000,'Growth Data'!$A:$Z,7,0))","v":0},0,null,"NO",{"$f":"IF(ISERROR(VLOOKUP($A141+8860000,'Growth Data'!$A:$F,4,0)),\"NO\",VLOOKUP($A141+8860000,'Growth Data'!$A:$F,4,0))","v":"NO"},0,null,0,{"$f":"IF(ISERROR(VLOOKUP($A141+8860000,'Growth Data'!$A:$Z,8,0)),0,VLOOKUP($A141+8860000,'Growth Data'!$A:$Z,8,0))","v":0},0,null,0,{"$f":"IF(ISERROR(VLOOKUP($A141+8860000,'Growth Data'!$A:$Z,9,0)),0,VLOOKUP($A141+8860000,'Growth Data'!$A:$Z,9,0))","v":0},0,null,"YES",{"$f":"IF(ISERROR(VLOOKUP($A141+8860000,'Growth Data'!$A:$Z,5,0)),\"NO\",VLOOKUP($A141+8860000,'Growth Data'!$A:$Z,5,0))","v":"NO"},1,null,31,{"$f":"IF(ISERROR(VLOOKUP($A141+8860000,'Growth Data'!$A:$Z,10,0)),0,VLOOKUP($A141+8860000,'Growth Data'!$A:$Z,10,0))","v":0},1,null,60,{"$f":"IF(ISERROR(VLOOKUP($A141+8860000,'Growth Data'!$A:$Z,11,0)),0,VLOOKUP($A141+8860000,'Growth Data'!$A:$Z,11,0))","v":0},1]
[3126,"Littlebourne CEP School",null,"Littlebourne CEP School",null,1,null,269675.92,269675.9248582407,-4.8582407180219889E-3,null,25691.97,25691.971799999999,-1.799999998183921E-3,null,4450.3,4450.3005312499999,-5.3124999976716936E-4,null,33748.61,33748.607499999962,2.5000000387080945E-3,null,120084,120083.99999999999,0,null,0,0,0,null,0,0,0,null,0,0,0,null,11228,11228,0,null,0,0,0,null,0,0,0,null,0,0,0,null,464878.8,464878.8046894907,-4.6894907136447728E-3,null,0,0,0,null,464878.8,464878.8046894907,-4.6894907136447728E-3,null,0,null,0,null,3511.23,null,3511.23,null,0,null,0,null,60219.01,60219.012138258113,0,null,0,null,0,null,4775.2700000000004,4775.2716283104301,0,null,0,null,0,null,0,null,0,null,0,null,0,null,0,null,0,null,0,null,0,null,"NO",{"$f":"IF(ISERROR(VLOOKUP($A142+8860000,'Growth Data'!$A:$F,3,0)),\"NO\",VLOOKUP($A142+8860000,'Growth Data'!$A:$F,3,0))","v":"NO"},0,null,0,{"$f":"IF(DI142=\"YES\",IF(ISERROR(VLOOKUP($A142+8860000,'Growth Data'!$A:$F,6,0)),0,VLOOKUP($A142+8860000,'Growth Data'!$A:$F,6,0)),0)","v":0},0,null,0,{"$f":"IF(ISERROR(VLOOKUP($A142+8860000,'Growth Data'!$A:$Z,7,0)),0,VLOOKUP($A142+8860000,'Growth Data'!$A:$Z,7,0))","v":0},0,null,"NO",{"$f":"IF(ISERROR(VLOOKUP($A142+8860000,'Growth Data'!$A:$F,4,0)),\"NO\",VLOOKUP($A142+8860000,'Growth Data'!$A:$F,4,0))","v":"NO"},0,null,0,{"$f":"IF(ISERROR(VLOOKUP($A142+8860000,'Growth Data'!$A:$Z,8,0)),0,VLOOKUP($A142+8860000,'Growth Data'!$A:$Z,8,0))","v":0},0,null,0,{"$f":"IF(ISERROR(VLOOKUP($A142+8860000,'Growth Data'!$A:$Z,9,0)),0,VLOOKUP($A142+8860000,'Growth Data'!$A:$Z,9,0))","v":0},0,null,"NO",{"$f":"IF(ISERROR(VLOOKUP($A142+8860000,'Growth Data'!$A:$Z,5,0)),\"NO\",VLOOKUP($A142+8860000,'Growth Data'!$A:$Z,5,0))","v":"NO"},0,null,0,{"$f":"IF(ISERROR(VLOOKUP($A142+8860000,'Growth Data'!$A:$Z,10,0)),0,VLOOKUP($A142+8860000,'Growth Data'!$A:$Z,10,0))","v":0},0,null,0,{"$f":"IF(ISERROR(VLOOKUP($A142+8860000,'Growth Data'!$A:$Z,11,0)),0,VLOOKUP($A142+8860000,'Growth Data'!$A:$Z,11,0))","v":0},0]
[2662,"Long Mead Community Primary School",null,"Long Mead Community Primary School",null,1,null,366191.52,366191.51901803212,9.8196789622306824E-4,null,64254.95,64254.947000000015,2.9999999824212864E-3,null,2423.27,2423.2740526315779,-4.0526315779061406E-3,null,51713.1,51713.100454128478,-4.5412847975967452E-4,null,120084,120083.99999999999,0,null,0,0,0,null,0,0,0,null,0,0,0,null,18463,18463,0,null,0,0,0,null,0,0,0,null,0,0,0,null,623129.84,623129.84052479221,-5.2479223813861609E-4,null,0,0,0,null,623129.84,623129.84052479221,-5.2479223813861609E-4,null,0,null,0,null,3756.46,null,3756.46,null,0.17,null,0.17,null,99859.06,99859.058813768206,0,null,0,null,0,null,4687.34,4687.3398490293985,0,null,0,null,0,null,0,null,0,null,0,null,0,null,0,null,0,null,0,null,0,null,"NO",{"$f":"IF(ISERROR(VLOOKUP($A143+8860000,'Growth Data'!$A:$F,3,0)),\"NO\",VLOOKUP($A143+8860000,'Growth Data'!$A:$F,3,0))","v":"NO"},0,null,0,{"$f":"IF(DI143=\"YES\",IF(ISERROR(VLOOKUP($A143+8860000,'Growth Data'!$A:$F,6,0)),0,VLOOKUP($A143+8860000,'Growth Data'!$A:$F,6,0)),0)","v":0},0,null,0,{"$f":"IF(ISERROR(VLOOKUP($A143+8860000,'Growth Data'!$A:$Z,7,0)),0,VLOOKUP($A143+8860000,'Growth Data'!$A:$Z,7,0))","v":0},0,null,"YES",{"$f":"IF(ISERROR(VLOOKUP($A143+8860000,'Growth Data'!$A:$F,4,0)),\"NO\",VLOOKUP($A143+8860000,'Growth Data'!$A:$F,4,0))","v":"NO"},1,null,62,{"$f":"IF(ISERROR(VLOOKUP($A143+8860000,'Growth Data'!$A:$Z,8,0)),0,VLOOKUP($A143+8860000,'Growth Data'!$A:$Z,8,0))","v":0},1,null,90,{"$f":"IF(ISERROR(VLOOKUP($A143+8860000,'Growth Data'!$A:$Z,9,0)),0,VLOOKUP($A143+8860000,'Growth Data'!$A:$Z,9,0))","v":0},1,null,"NO",{"$f":"IF(ISERROR(VLOOKUP($A143+8860000,'Growth Data'!$A:$Z,5,0)),\"NO\",VLOOKUP($A143+8860000,'Growth Data'!$A:$Z,5,0))","v":"NO"},0,null,0,{"$f":"IF(ISERROR(VLOOKUP($A143+8860000,'Growth Data'!$A:$Z,10,0)),0,VLOOKUP($A143+8860000,'Growth Data'!$A:$Z,10,0))","v":0},0,null,0,{"$f":"IF(ISERROR(VLOOKUP($A143+8860000,'Growth Data'!$A:$Z,11,0)),0,VLOOKUP($A143+8860000,'Growth Data'!$A:$Z,11,0))","v":0},0]
[2231,"Lower Halstow School",null,"Lower Halstow School",null,1,null,451352.34,451352.33739431866,2.6056813658215106E-3,null,19940.900000000001,19940.897250967755,2.7490322463563643E-3,null,644.88,644.8829204545458,-2.9204545458014763E-3,null,33610.620000000003,33610.618413223223,1.5867767797317356E-3,null,120084,120083.99999999999,0,null,0,0,0,null,0,0,0,null,0,0,0,null,20833,20833,0,null,0,0,0,null,0,0,0,null,0,0,0,null,646465.74,646465.73597896413,4.0210358565673232E-3,null,0,0,0,null,646465.74,646465.73597896413,4.0210358565673232E-3,null,0,null,0,null,3179.55,null,3179.55,null,0,null,0,null,55478,55477.995891653671,0,null,452.2,null,452,null,3934.8,3934.7970816287075,0,null,0,null,0,null,0,null,0,null,0,null,0,null,0,null,0,null,0,null,0,null,"NO",{"$f":"IF(ISERROR(VLOOKUP($A144+8860000,'Growth Data'!$A:$F,3,0)),\"NO\",VLOOKUP($A144+8860000,'Growth Data'!$A:$F,3,0))","v":"YES"},1,null,0,{"$f":"IF(DI144=\"YES\",IF(ISERROR(VLOOKUP($A144+8860000,'Growth Data'!$A:$F,6,0)),0,VLOOKUP($A144+8860000,'Growth Data'!$A:$F,6,0)),0)","v":20},-20,null,0,{"$f":"IF(ISERROR(VLOOKUP($A144+8860000,'Growth Data'!$A:$Z,7,0)),0,VLOOKUP($A144+8860000,'Growth Data'!$A:$Z,7,0))","v":30},1,null,"NO",{"$f":"IF(ISERROR(VLOOKUP($A144+8860000,'Growth Data'!$A:$F,4,0)),\"NO\",VLOOKUP($A144+8860000,'Growth Data'!$A:$F,4,0))","v":"YES"},1,null,0,{"$f":"IF(ISERROR(VLOOKUP($A144+8860000,'Growth Data'!$A:$Z,8,0)),0,VLOOKUP($A144+8860000,'Growth Data'!$A:$Z,8,0))","v":27},1,null,0,{"$f":"IF(ISERROR(VLOOKUP($A144+8860000,'Growth Data'!$A:$Z,9,0)),0,VLOOKUP($A144+8860000,'Growth Data'!$A:$Z,9,0))","v":30},1,null,"NO",{"$f":"IF(ISERROR(VLOOKUP($A144+8860000,'Growth Data'!$A:$Z,5,0)),\"NO\",VLOOKUP($A144+8860000,'Growth Data'!$A:$Z,5,0))","v":"YES"},1,null,0,{"$f":"IF(ISERROR(VLOOKUP($A144+8860000,'Growth Data'!$A:$Z,10,0)),0,VLOOKUP($A144+8860000,'Growth Data'!$A:$Z,10,0))","v":20},1,null,0,{"$f":"IF(ISERROR(VLOOKUP($A144+8860000,'Growth Data'!$A:$Z,11,0)),0,VLOOKUP($A144+8860000,'Growth Data'!$A:$Z,11,0))","v":30},1]
[2562,"Lunsford Primary School",null,"Lunsford Primary School",null,1,null,590448.34,590448.34074225335,-7.422533817589283E-4,null,25145.59,25145.589599999992,4.000000080850441E-4,null,3128.03,3128.0307865168497,-7.8651684953001677E-4,null,51059.99,51059.986651685307,3.3483146908110939E-3,null,120084,120083.99999999999,0,null,0,0,0,null,0,0,0,null,0,0,0,null,19087,19087,0,null,0,0,0,null,0,0,0,null,0,0,0,null,808952.95,808952.94778045546,2.2195444907993078E-3,null,0,0,0,null,808952.95,808952.94778045546,2.2195444907993078E-3,null,0,null,0,null,3220.11,null,3220.11,null,0,null,0,null,73860.479999999996,73860.479345210304,0,null,0,null,0,null,3797.43,3797.4324412521914,0,null,0,null,0,null,0,null,0,null,0,null,0,null,0,null,0,null,0,null,0,null,"NO",{"$f":"IF(ISERROR(VLOOKUP($A145+8860000,'Growth Data'!$A:$F,3,0)),\"NO\",VLOOKUP($A145+8860000,'Growth Data'!$A:$F,3,0))","v":"NO"},0,null,0,{"$f":"IF(DI145=\"YES\",IF(ISERROR(VLOOKUP($A145+8860000,'Growth Data'!$A:$F,6,0)),0,VLOOKUP($A145+8860000,'Growth Data'!$A:$F,6,0)),0)","v":0},0,null,0,{"$f":"IF(ISERROR(VLOOKUP($A145+8860000,'Growth Data'!$A:$Z,7,0)),0,VLOOKUP($A145+8860000,'Growth Data'!$A:$Z,7,0))","v":0},0,null,"NO",{"$f":"IF(ISERROR(VLOOKUP($A145+8860000,'Growth Data'!$A:$F,4,0)),\"NO\",VLOOKUP($A145+8860000,'Growth Data'!$A:$F,4,0))","v":"NO"},0,null,0,{"$f":"IF(ISERROR(VLOOKUP($A145+8860000,'Growth Data'!$A:$Z,8,0)),0,VLOOKUP($A145+8860000,'Growth Data'!$A:$Z,8,0))","v":0},0,null,0,{"$f":"IF(ISERROR(VLOOKUP($A145+8860000,'Growth Data'!$A:$Z,9,0)),0,VLOOKUP($A145+8860000,'Growth Data'!$A:$Z,9,0))","v":0},0,null,"YES",{"$f":"IF(ISERROR(VLOOKUP($A145+8860000,'Growth Data'!$A:$Z,5,0)),\"NO\",VLOOKUP($A145+8860000,'Growth Data'!$A:$Z,5,0))","v":"NO"},1,null,30,{"$f":"IF(ISERROR(VLOOKUP($A145+8860000,'Growth Data'!$A:$Z,10,0)),0,VLOOKUP($A145+8860000,'Growth Data'!$A:$Z,10,0))","v":0},1,null,60,{"$f":"IF(ISERROR(VLOOKUP($A145+8860000,'Growth Data'!$A:$Z,11,0)),0,VLOOKUP($A145+8860000,'Growth Data'!$A:$Z,11,0))","v":0},1]
[2321,"Lydden Primary School",null,"Lydden Primary School",null,1,null,238450.29,238450.29145360232,-1.4536023081745952E-3,null,19220.439999999999,19220.444899999995,-4.8999999962688889E-3,null,0,0,0,null,3836.68,3836.6838000000039,-3.8000000040483428E-3,null,120084,120083.99999999999,0,null,0,0,0,null,0,0,0,null,0,0,0,null,8483,8483,0,null,0,0,0,null,0,0,0,null,0,0,0,null,390074.42,390074.42015360232,-1.5360233373939991E-4,null,0,0,0,null,390074.42,390074.42015360232,-1.5360233373939991E-4,null,0,null,0,null,3113.18,null,3113.18,null,0,null,0,null,24338.73,24338.726007008143,0,null,3566.13,null,3566,null,4542.76,4542.7550018286001,0,null,0,null,0,null,0,null,0,null,0,null,0,null,0,null,0,null,0,null,0,null,"YES",{"$f":"IF(ISERROR(VLOOKUP($A146+8860000,'Growth Data'!$A:$F,3,0)),\"NO\",VLOOKUP($A146+8860000,'Growth Data'!$A:$F,3,0))","v":"NO"},1,null,45,{"$f":"IF(DI146=\"YES\",IF(ISERROR(VLOOKUP($A146+8860000,'Growth Data'!$A:$F,6,0)),0,VLOOKUP($A146+8860000,'Growth Data'!$A:$F,6,0)),0)","v":0},45,null,60,{"$f":"IF(ISERROR(VLOOKUP($A146+8860000,'Growth Data'!$A:$Z,7,0)),0,VLOOKUP($A146+8860000,'Growth Data'!$A:$Z,7,0))","v":0},1,null,"NO",{"$f":"IF(ISERROR(VLOOKUP($A146+8860000,'Growth Data'!$A:$F,4,0)),\"NO\",VLOOKUP($A146+8860000,'Growth Data'!$A:$F,4,0))","v":"NO"},0,null,0,{"$f":"IF(ISERROR(VLOOKUP($A146+8860000,'Growth Data'!$A:$Z,8,0)),0,VLOOKUP($A146+8860000,'Growth Data'!$A:$Z,8,0))","v":0},0,null,0,{"$f":"IF(ISERROR(VLOOKUP($A146+8860000,'Growth Data'!$A:$Z,9,0)),0,VLOOKUP($A146+8860000,'Growth Data'!$A:$Z,9,0))","v":0},0,null,"NO",{"$f":"IF(ISERROR(VLOOKUP($A146+8860000,'Growth Data'!$A:$Z,5,0)),\"NO\",VLOOKUP($A146+8860000,'Growth Data'!$A:$Z,5,0))","v":"NO"},0,null,0,{"$f":"IF(ISERROR(VLOOKUP($A146+8860000,'Growth Data'!$A:$Z,10,0)),0,VLOOKUP($A146+8860000,'Growth Data'!$A:$Z,10,0))","v":0},0,null,0,{"$f":"IF(ISERROR(VLOOKUP($A146+8860000,'Growth Data'!$A:$Z,11,0)),0,VLOOKUP($A146+8860000,'Growth Data'!$A:$Z,11,0))","v":0},0]
[3154,"Lyminge CEP School",null,"Lyminge CEP School",null,1,null,542190.54,542190.54366235761,-3.662357572466135E-3,null,13156.84,13156.837006930691,2.9930693090136629E-3,null,1793.97,1793.9742017543851,-4.2017543851216033E-3,null,26498.6,26498.595213017667,4.7869823320070282E-3,null,120084,120083.99999999999,0,null,0,0,0,null,0,0,0,null,0,0,0,null,28160,28160,0,null,0,0,0,null,0,0,0,null,12526.05,12526.049915939453,8.4060546214459464E-5,null,744410,744409.99999999988,0,null,0,0,0,null,744410,744409.99999999988,0,null,0,null,0,null,3750,null,3750,null,0,null,0,null,43631.63,43631.633728710898,0,null,1636.84,null,1637,null,3750,3750,0,null,0,null,0,null,0,null,0,null,0,null,0,null,0,null,0,null,0,null,0,null,"NO",{"$f":"IF(ISERROR(VLOOKUP($A147+8860000,'Growth Data'!$A:$F,3,0)),\"NO\",VLOOKUP($A147+8860000,'Growth Data'!$A:$F,3,0))","v":"NO"},0,null,0,{"$f":"IF(DI147=\"YES\",IF(ISERROR(VLOOKUP($A147+8860000,'Growth Data'!$A:$F,6,0)),0,VLOOKUP($A147+8860000,'Growth Data'!$A:$F,6,0)),0)","v":0},0,null,0,{"$f":"IF(ISERROR(VLOOKUP($A147+8860000,'Growth Data'!$A:$Z,7,0)),0,VLOOKUP($A147+8860000,'Growth Data'!$A:$Z,7,0))","v":0},0,null,"NO",{"$f":"IF(ISERROR(VLOOKUP($A147+8860000,'Growth Data'!$A:$F,4,0)),\"NO\",VLOOKUP($A147+8860000,'Growth Data'!$A:$F,4,0))","v":"NO"},0,null,0,{"$f":"IF(ISERROR(VLOOKUP($A147+8860000,'Growth Data'!$A:$Z,8,0)),0,VLOOKUP($A147+8860000,'Growth Data'!$A:$Z,8,0))","v":0},0,null,0,{"$f":"IF(ISERROR(VLOOKUP($A147+8860000,'Growth Data'!$A:$Z,9,0)),0,VLOOKUP($A147+8860000,'Growth Data'!$A:$Z,9,0))","v":0},0,null,"NO",{"$f":"IF(ISERROR(VLOOKUP($A147+8860000,'Growth Data'!$A:$Z,5,0)),\"NO\",VLOOKUP($A147+8860000,'Growth Data'!$A:$Z,5,0))","v":"NO"},0,null,0,{"$f":"IF(ISERROR(VLOOKUP($A147+8860000,'Growth Data'!$A:$Z,10,0)),0,VLOOKUP($A147+8860000,'Growth Data'!$A:$Z,10,0))","v":0},0,null,0,{"$f":"IF(ISERROR(VLOOKUP($A147+8860000,'Growth Data'!$A:$Z,11,0)),0,VLOOKUP($A147+8860000,'Growth Data'!$A:$Z,11,0))","v":0},0]
[3155,"Lympne CEP School",null,"Lympne CEP School",null,1,null,564900.1,564900.09522936738,4.7706326004117727E-3,null,16694.439999999999,16694.439126865651,8.7313434778479859E-4,null,1238.83,1238.8316918604667,-1.6918604667353065E-3,null,55811.41,55811.409078947341,9.2105266230646521E-4,null,120084,120083.99999999999,0,null,0,0,0,null,0,0,0,null,0,0,0,null,45824,45824,0,null,0,0,0,null,0,0,0,null,0,0,0,null,804552.78,804552.77512704092,4.8729591071605682E-3,null,0,0,0,null,804552.78,804552.77512704092,4.8729591071605682E-3,null,0,null,0,null,3209.27,null,3209.27,null,0,null,0,null,77277.850000000006,77277.852204681607,0,null,0,null,0,null,3812.71,3812.707412698699,0,null,0,null,0,null,0,null,0,null,0,null,0,null,0,null,0,null,0,null,0,null,"NO",{"$f":"IF(ISERROR(VLOOKUP($A148+8860000,'Growth Data'!$A:$F,3,0)),\"NO\",VLOOKUP($A148+8860000,'Growth Data'!$A:$F,3,0))","v":"NO"},0,null,0,{"$f":"IF(DI148=\"YES\",IF(ISERROR(VLOOKUP($A148+8860000,'Growth Data'!$A:$F,6,0)),0,VLOOKUP($A148+8860000,'Growth Data'!$A:$F,6,0)),0)","v":0},0,null,0,{"$f":"IF(ISERROR(VLOOKUP($A148+8860000,'Growth Data'!$A:$Z,7,0)),0,VLOOKUP($A148+8860000,'Growth Data'!$A:$Z,7,0))","v":0},0,null,"NO",{"$f":"IF(ISERROR(VLOOKUP($A148+8860000,'Growth Data'!$A:$F,4,0)),\"NO\",VLOOKUP($A148+8860000,'Growth Data'!$A:$F,4,0))","v":"NO"},0,null,0,{"$f":"IF(ISERROR(VLOOKUP($A148+8860000,'Growth Data'!$A:$Z,8,0)),0,VLOOKUP($A148+8860000,'Growth Data'!$A:$Z,8,0))","v":0},0,null,0,{"$f":"IF(ISERROR(VLOOKUP($A148+8860000,'Growth Data'!$A:$Z,9,0)),0,VLOOKUP($A148+8860000,'Growth Data'!$A:$Z,9,0))","v":0},0,null,"NO",{"$f":"IF(ISERROR(VLOOKUP($A148+8860000,'Growth Data'!$A:$Z,5,0)),\"NO\",VLOOKUP($A148+8860000,'Growth Data'!$A:$Z,5,0))","v":"NO"},0,null,0,{"$f":"IF(ISERROR(VLOOKUP($A148+8860000,'Growth Data'!$A:$Z,10,0)),0,VLOOKUP($A148+8860000,'Growth Data'!$A:$Z,10,0))","v":0},0,null,0,{"$f":"IF(ISERROR(VLOOKUP($A148+8860000,'Growth Data'!$A:$Z,11,0)),0,VLOOKUP($A148+8860000,'Growth Data'!$A:$Z,11,0))","v":0},0]
[2520,"Madginford Primary School",null,"Madginford Primary School",null,1,null,1813925.43,1813925.4314149034,-1.4149034395813942E-3,null,69493.41,69493.413525347802,-3.5253477981314063E-3,null,18104.060000000001,18104.059962591251,3.7408750358736143E-5,null,120178.48,120178.47785294108,2.1470589126693085E-3,null,120084,120083.99999999999,0,null,0,0,0,null,0,0,0,null,0,0,0,null,58880,58880,0,null,0,0,0,null,0,0,0,null,254464.62,254464.61724421661,2.7557833818718791E-3,null,2455130,2455130,0,null,0,0,0,null,2455130,2455130,0,null,0,null,0,null,3750,null,3750,null,0,null,0,null,202753.14,202753.13864788826,0,null,0,null,0,null,3750,3750,0,null,42000,null,42000,null,868.22,null,868,null,868.22,null,868,null,868.22,null,868,null,868.22,null,868,null,"NO",{"$f":"IF(ISERROR(VLOOKUP($A149+8860000,'Growth Data'!$A:$F,3,0)),\"NO\",VLOOKUP($A149+8860000,'Growth Data'!$A:$F,3,0))","v":"NO"},0,null,0,{"$f":"IF(DI149=\"YES\",IF(ISERROR(VLOOKUP($A149+8860000,'Growth Data'!$A:$F,6,0)),0,VLOOKUP($A149+8860000,'Growth Data'!$A:$F,6,0)),0)","v":0},0,null,0,{"$f":"IF(ISERROR(VLOOKUP($A149+8860000,'Growth Data'!$A:$Z,7,0)),0,VLOOKUP($A149+8860000,'Growth Data'!$A:$Z,7,0))","v":0},0,null,"NO",{"$f":"IF(ISERROR(VLOOKUP($A149+8860000,'Growth Data'!$A:$F,4,0)),\"NO\",VLOOKUP($A149+8860000,'Growth Data'!$A:$F,4,0))","v":"NO"},0,null,0,{"$f":"IF(ISERROR(VLOOKUP($A149+8860000,'Growth Data'!$A:$Z,8,0)),0,VLOOKUP($A149+8860000,'Growth Data'!$A:$Z,8,0))","v":0},0,null,0,{"$f":"IF(ISERROR(VLOOKUP($A149+8860000,'Growth Data'!$A:$Z,9,0)),0,VLOOKUP($A149+8860000,'Growth Data'!$A:$Z,9,0))","v":0},0,null,"NO",{"$f":"IF(ISERROR(VLOOKUP($A149+8860000,'Growth Data'!$A:$Z,5,0)),\"NO\",VLOOKUP($A149+8860000,'Growth Data'!$A:$Z,5,0))","v":"NO"},0,null,0,{"$f":"IF(ISERROR(VLOOKUP($A149+8860000,'Growth Data'!$A:$Z,10,0)),0,VLOOKUP($A149+8860000,'Growth Data'!$A:$Z,10,0))","v":0},0,null,0,{"$f":"IF(ISERROR(VLOOKUP($A149+8860000,'Growth Data'!$A:$Z,11,0)),0,VLOOKUP($A149+8860000,'Growth Data'!$A:$Z,11,0))","v":0},0]
[4522,"Maidstone Grammar School",null,"Maidstone Grammar School",null,1,null,4228563.01,4228563.0147239352,-4.7239353880286217E-3,null,103739.09,103739.09234123712,-2.3412371228914708E-3,null,4323.0200000000004,4323.0239999999985,-3.9999999980864231E-3,null,13911.26,13911.260861855963,-8.6185596228460781E-4,null,114480.08,114480.07999999999,0,null,0,0,0,null,0,0,0,null,0,0,0,null,35840,35840,0,null,0,0,0,null,0,0,0,null,584983.53,584983.52807297185,1.927028177306056E-3,null,5085840,5085840,0,null,0,0,0,null,5085840,5085840,0,null,48905.120000000003,null,48905.120000000003,null,5000,null,5000,null,0,null,0,null,114684.21,114684.21036241317,0,null,0,null,0,null,5000,5000,0,null,0,null,0,null,0,null,0,null,0,null,0,null,0,null,0,null,0,null,0,null,"NO",{"$f":"IF(ISERROR(VLOOKUP($A150+8860000,'Growth Data'!$A:$F,3,0)),\"NO\",VLOOKUP($A150+8860000,'Growth Data'!$A:$F,3,0))","v":"YES"},1,null,0,{"$f":"IF(DI150=\"YES\",IF(ISERROR(VLOOKUP($A150+8860000,'Growth Data'!$A:$F,6,0)),0,VLOOKUP($A150+8860000,'Growth Data'!$A:$F,6,0)),0)","v":184},-184,null,0,{"$f":"IF(ISERROR(VLOOKUP($A150+8860000,'Growth Data'!$A:$Z,7,0)),0,VLOOKUP($A150+8860000,'Growth Data'!$A:$Z,7,0))","v":205},1,null,"NO",{"$f":"IF(ISERROR(VLOOKUP($A150+8860000,'Growth Data'!$A:$F,4,0)),\"NO\",VLOOKUP($A150+8860000,'Growth Data'!$A:$F,4,0))","v":"YES"},1,null,0,{"$f":"IF(ISERROR(VLOOKUP($A150+8860000,'Growth Data'!$A:$Z,8,0)),0,VLOOKUP($A150+8860000,'Growth Data'!$A:$Z,8,0))","v":185},1,null,0,{"$f":"IF(ISERROR(VLOOKUP($A150+8860000,'Growth Data'!$A:$Z,9,0)),0,VLOOKUP($A150+8860000,'Growth Data'!$A:$Z,9,0))","v":205},1,null,"NO",{"$f":"IF(ISERROR(VLOOKUP($A150+8860000,'Growth Data'!$A:$Z,5,0)),\"NO\",VLOOKUP($A150+8860000,'Growth Data'!$A:$Z,5,0))","v":"NO"},0,null,0,{"$f":"IF(ISERROR(VLOOKUP($A150+8860000,'Growth Data'!$A:$Z,10,0)),0,VLOOKUP($A150+8860000,'Growth Data'!$A:$Z,10,0))","v":0},0,null,0,{"$f":"IF(ISERROR(VLOOKUP($A150+8860000,'Growth Data'!$A:$Z,11,0)),0,VLOOKUP($A150+8860000,'Growth Data'!$A:$Z,11,0))","v":0},0]
[4523,"Maidstone Grammar School for Girls",null,"Maidstone Grammar School for Girls",null,1,null,3820273.97,3820273.9725022521,-2.5022518821060658E-3,null,132343.38,132343.3836013393,-3.6013392964377999E-3,null,8655.58,8655.5805777287733,-5.777287733508274E-4,null,11814.08,11814.082788468753,-2.7884687533514807E-3,null,114480.08,114480.07999999999,0,null,0,0,0,null,0,0,0,null,0,0,0,null,35328,35328,0,null,0,0,0,null,0,0,0,null,452432.9,452432.9005302107,-5.3021067287772894E-4,null,4575328,4575328,0,null,0,0,0,null,4575328,4575328,0,null,0,null,0,null,5000,null,5000,null,0,null,0,null,139219.47,139219.4701268569,0,null,0,null,0,null,5000,5000,0,null,0,null,0,null,0,null,0,null,0,null,0,null,0,null,0,null,0,null,0,null,"NO",{"$f":"IF(ISERROR(VLOOKUP($A151+8860000,'Growth Data'!$A:$F,3,0)),\"NO\",VLOOKUP($A151+8860000,'Growth Data'!$A:$F,3,0))","v":"NO"},0,null,0,{"$f":"IF(DI151=\"YES\",IF(ISERROR(VLOOKUP($A151+8860000,'Growth Data'!$A:$F,6,0)),0,VLOOKUP($A151+8860000,'Growth Data'!$A:$F,6,0)),0)","v":0},0,null,0,{"$f":"IF(ISERROR(VLOOKUP($A151+8860000,'Growth Data'!$A:$Z,7,0)),0,VLOOKUP($A151+8860000,'Growth Data'!$A:$Z,7,0))","v":0},0,null,"NO",{"$f":"IF(ISERROR(VLOOKUP($A151+8860000,'Growth Data'!$A:$F,4,0)),\"NO\",VLOOKUP($A151+8860000,'Growth Data'!$A:$F,4,0))","v":"NO"},0,null,0,{"$f":"IF(ISERROR(VLOOKUP($A151+8860000,'Growth Data'!$A:$Z,8,0)),0,VLOOKUP($A151+8860000,'Growth Data'!$A:$Z,8,0))","v":0},0,null,0,{"$f":"IF(ISERROR(VLOOKUP($A151+8860000,'Growth Data'!$A:$Z,9,0)),0,VLOOKUP($A151+8860000,'Growth Data'!$A:$Z,9,0))","v":0},0,null,"NO",{"$f":"IF(ISERROR(VLOOKUP($A151+8860000,'Growth Data'!$A:$Z,5,0)),\"NO\",VLOOKUP($A151+8860000,'Growth Data'!$A:$Z,5,0))","v":"NO"},0,null,0,{"$f":"IF(ISERROR(VLOOKUP($A151+8860000,'Growth Data'!$A:$Z,10,0)),0,VLOOKUP($A151+8860000,'Growth Data'!$A:$Z,10,0))","v":0},0,null,0,{"$f":"IF(ISERROR(VLOOKUP($A151+8860000,'Growth Data'!$A:$Z,11,0)),0,VLOOKUP($A151+8860000,'Growth Data'!$A:$Z,11,0))","v":0},0]
[5425,"Malling School, The",null,"Malling School, The",null,1,null,3649684.07,3649684.0657582944,4.2417054064571857E-3,null,332257.19,332257.19282827666,-2.8282766579650342E-3,null,5764.03,5764.0319999999974,-1.9999999976789695E-3,null,407590.94,407590.9440700555,-4.0700554964132607E-3,null,114480.08,114480.07999999999,0,null,0,0,0,null,0,0,0,null,0,0,0,null,33792,33792,0,null,847696.29,847696.28785920015,2.140799886547029E-3,null,0,0,0,null,0,0,0,null,5391264.5999999996,5391264.6025158269,-2.5158273056149483E-3,null,0,0,0,null,5391264.5999999996,5391264.6025158269,-2.5158273056149483E-3,null,0,null,0,null,5023.2,null,5023.2,null,0,null,0,null,691940.56,691940.55705765216,0,null,0,null,0,null,5154.03,5154.0300738932838,0,null,0,null,0,null,0,null,0,null,0,null,0,null,0,null,0,null,0,null,0,null,"NO",{"$f":"IF(ISERROR(VLOOKUP($A152+8860000,'Growth Data'!$A:$F,3,0)),\"NO\",VLOOKUP($A152+8860000,'Growth Data'!$A:$F,3,0))","v":"NO"},0,null,0,{"$f":"IF(DI152=\"YES\",IF(ISERROR(VLOOKUP($A152+8860000,'Growth Data'!$A:$F,6,0)),0,VLOOKUP($A152+8860000,'Growth Data'!$A:$F,6,0)),0)","v":0},0,null,0,{"$f":"IF(ISERROR(VLOOKUP($A152+8860000,'Growth Data'!$A:$Z,7,0)),0,VLOOKUP($A152+8860000,'Growth Data'!$A:$Z,7,0))","v":0},0,null,"NO",{"$f":"IF(ISERROR(VLOOKUP($A152+8860000,'Growth Data'!$A:$F,4,0)),\"NO\",VLOOKUP($A152+8860000,'Growth Data'!$A:$F,4,0))","v":"NO"},0,null,0,{"$f":"IF(ISERROR(VLOOKUP($A152+8860000,'Growth Data'!$A:$Z,8,0)),0,VLOOKUP($A152+8860000,'Growth Data'!$A:$Z,8,0))","v":0},0,null,0,{"$f":"IF(ISERROR(VLOOKUP($A152+8860000,'Growth Data'!$A:$Z,9,0)),0,VLOOKUP($A152+8860000,'Growth Data'!$A:$Z,9,0))","v":0},0,null,"NO",{"$f":"IF(ISERROR(VLOOKUP($A152+8860000,'Growth Data'!$A:$Z,5,0)),\"NO\",VLOOKUP($A152+8860000,'Growth Data'!$A:$Z,5,0))","v":"NO"},0,null,0,{"$f":"IF(ISERROR(VLOOKUP($A152+8860000,'Growth Data'!$A:$Z,10,0)),0,VLOOKUP($A152+8860000,'Growth Data'!$A:$Z,10,0))","v":0},0,null,0,{"$f":"IF(ISERROR(VLOOKUP($A152+8860000,'Growth Data'!$A:$Z,11,0)),0,VLOOKUP($A152+8860000,'Growth Data'!$A:$Z,11,0))","v":0},0]
[2183,"Marden Primary School",null,"Marden Primary School",null,1,null,774963.45,774963.44722420757,2.7757923817262053E-3,null,91275.49,91275.490796911734,-7.9691172868479043E-4,null,3829.45,3829.447296943229,2.7030567707697628E-3,null,79945.31,79945.314466216296,-4.4662162981694564E-3,null,120084,120083.99999999999,0,null,0,0,0,null,0,0,0,null,0,0,0,null,26624,26624,0,null,0,0,0,null,0,0,0,null,0,0,0,null,1096721.7,1096721.6997842789,2.1572108380496502E-4,null,0,0,0,null,1096721.7,1096721.6997842789,2.1572108380496502E-4,null,0,null,0,null,3479.9,null,3479.9,null,0,null,0,null,152465.15,152465.15486707946,0,null,0,null,0,null,3919.77,3919.7717940816092,0,null,0,null,0,null,0,null,0,null,0,null,0,null,0,null,0,null,0,null,0,null,"NO",{"$f":"IF(ISERROR(VLOOKUP($A153+8860000,'Growth Data'!$A:$F,3,0)),\"NO\",VLOOKUP($A153+8860000,'Growth Data'!$A:$F,3,0))","v":"NO"},0,null,0,{"$f":"IF(DI153=\"YES\",IF(ISERROR(VLOOKUP($A153+8860000,'Growth Data'!$A:$F,6,0)),0,VLOOKUP($A153+8860000,'Growth Data'!$A:$F,6,0)),0)","v":0},0,null,0,{"$f":"IF(ISERROR(VLOOKUP($A153+8860000,'Growth Data'!$A:$Z,7,0)),0,VLOOKUP($A153+8860000,'Growth Data'!$A:$Z,7,0))","v":0},0,null,"NO",{"$f":"IF(ISERROR(VLOOKUP($A153+8860000,'Growth Data'!$A:$F,4,0)),\"NO\",VLOOKUP($A153+8860000,'Growth Data'!$A:$F,4,0))","v":"NO"},0,null,0,{"$f":"IF(ISERROR(VLOOKUP($A153+8860000,'Growth Data'!$A:$Z,8,0)),0,VLOOKUP($A153+8860000,'Growth Data'!$A:$Z,8,0))","v":0},0,null,0,{"$f":"IF(ISERROR(VLOOKUP($A153+8860000,'Growth Data'!$A:$Z,9,0)),0,VLOOKUP($A153+8860000,'Growth Data'!$A:$Z,9,0))","v":0},0,null,"NO",{"$f":"IF(ISERROR(VLOOKUP($A153+8860000,'Growth Data'!$A:$Z,5,0)),\"NO\",VLOOKUP($A153+8860000,'Growth Data'!$A:$Z,5,0))","v":"NO"},0,null,0,{"$f":"IF(ISERROR(VLOOKUP($A153+8860000,'Growth Data'!$A:$Z,10,0)),0,VLOOKUP($A153+8860000,'Growth Data'!$A:$Z,10,0))","v":0},0,null,0,{"$f":"IF(ISERROR(VLOOKUP($A153+8860000,'Growth Data'!$A:$Z,11,0)),0,VLOOKUP($A153+8860000,'Growth Data'!$A:$Z,11,0))","v":0},0]
[2066,"Maypole Primary School",null,"Maypole Primary School",null,1,null,1161025.82,1161025.8238633731,-3.8633730728179216E-3,null,65745.919999999998,65745.921991262076,-1.9912620773538947E-3,null,9953.1,9953.0986590909179,1.3409090825007297E-3,null,119806,119805.99851754402,1.4824559766566381E-3,null,120084,120083.99999999999,0,null,0,0,0,null,53748.78,53748.780286338217,-2.863382178475149E-4,null,0,0,0,null,38144,38144,0,null,0,0,0,null,0,0,0,null,3386.38,3386.376682391623,3.3176083770740661E-3,null,1571894,1571894,0,null,0,0,0,null,1571894,1571894,0,null,0,null,0,null,3750,null,3750,null,0,null,0,null,186214.8,186214.80360659171,0,null,0,null,0,null,3750,3750,0,null,0,null,0,null,0,null,0,null,0,null,0,null,0,null,0,null,0,null,0,null,"NO",{"$f":"IF(ISERROR(VLOOKUP($A154+8860000,'Growth Data'!$A:$F,3,0)),\"NO\",VLOOKUP($A154+8860000,'Growth Data'!$A:$F,3,0))","v":"NO"},0,null,0,{"$f":"IF(DI154=\"YES\",IF(ISERROR(VLOOKUP($A154+8860000,'Growth Data'!$A:$F,6,0)),0,VLOOKUP($A154+8860000,'Growth Data'!$A:$F,6,0)),0)","v":0},0,null,0,{"$f":"IF(ISERROR(VLOOKUP($A154+8860000,'Growth Data'!$A:$Z,7,0)),0,VLOOKUP($A154+8860000,'Growth Data'!$A:$Z,7,0))","v":0},0,null,"NO",{"$f":"IF(ISERROR(VLOOKUP($A154+8860000,'Growth Data'!$A:$F,4,0)),\"NO\",VLOOKUP($A154+8860000,'Growth Data'!$A:$F,4,0))","v":"NO"},0,null,0,{"$f":"IF(ISERROR(VLOOKUP($A154+8860000,'Growth Data'!$A:$Z,8,0)),0,VLOOKUP($A154+8860000,'Growth Data'!$A:$Z,8,0))","v":0},0,null,0,{"$f":"IF(ISERROR(VLOOKUP($A154+8860000,'Growth Data'!$A:$Z,9,0)),0,VLOOKUP($A154+8860000,'Growth Data'!$A:$Z,9,0))","v":0},0,null,"NO",{"$f":"IF(ISERROR(VLOOKUP($A154+8860000,'Growth Data'!$A:$Z,5,0)),\"NO\",VLOOKUP($A154+8860000,'Growth Data'!$A:$Z,5,0))","v":"NO"},0,null,0,{"$f":"IF(ISERROR(VLOOKUP($A154+8860000,'Growth Data'!$A:$Z,10,0)),0,VLOOKUP($A154+8860000,'Growth Data'!$A:$Z,10,0))","v":0},0,null,0,{"$f":"IF(ISERROR(VLOOKUP($A154+8860000,'Growth Data'!$A:$Z,11,0)),0,VLOOKUP($A154+8860000,'Growth Data'!$A:$Z,11,0))","v":0},0]
[2185,"Mereworth Community Primary School",null,"Mereworth Community Primary School",null,1,null,593287.03,593287.03468812956,-4.6881295274943113E-3,null,23009.03,23009.032274627105,-2.2746271060896106E-3,null,1250.2,1250.2041396648044,-4.1396648043701134E-3,null,51888.480000000003,51888.4840312499,-4.0312498967978172E-3,null,120084,120083.99999999999,0,null,0,0,0,null,0,0,0,null,0,0,0,null,26368,26368,0,null,0,0,0,null,0,0,0,null,0,0,0,null,815886.76,815886.75513367134,4.8663286725059152E-3,null,0,0,0,null,815886.76,815886.75513367134,4.8663286725059152E-3,null,0,null,0,null,3203.04,null,3203.04,null,0,null,0,null,73376.479999999996,73376.482752549957,0,null,0,null,0,null,3777.6,3777.6016992041709,0,null,0,null,0,null,0,null,0,null,0,null,0,null,0,null,0,null,0,null,0,null,"YES",{"$f":"IF(ISERROR(VLOOKUP($A155+8860000,'Growth Data'!$A:$F,3,0)),\"NO\",VLOOKUP($A155+8860000,'Growth Data'!$A:$F,3,0))","v":"NO"},1,null,75,{"$f":"IF(DI155=\"YES\",IF(ISERROR(VLOOKUP($A155+8860000,'Growth Data'!$A:$F,6,0)),0,VLOOKUP($A155+8860000,'Growth Data'!$A:$F,6,0)),0)","v":0},75,null,90,{"$f":"IF(ISERROR(VLOOKUP($A155+8860000,'Growth Data'!$A:$Z,7,0)),0,VLOOKUP($A155+8860000,'Growth Data'!$A:$Z,7,0))","v":0},1,null,"NO",{"$f":"IF(ISERROR(VLOOKUP($A155+8860000,'Growth Data'!$A:$F,4,0)),\"NO\",VLOOKUP($A155+8860000,'Growth Data'!$A:$F,4,0))","v":"NO"},0,null,0,{"$f":"IF(ISERROR(VLOOKUP($A155+8860000,'Growth Data'!$A:$Z,8,0)),0,VLOOKUP($A155+8860000,'Growth Data'!$A:$Z,8,0))","v":0},0,null,0,{"$f":"IF(ISERROR(VLOOKUP($A155+8860000,'Growth Data'!$A:$Z,9,0)),0,VLOOKUP($A155+8860000,'Growth Data'!$A:$Z,9,0))","v":0},0,null,"NO",{"$f":"IF(ISERROR(VLOOKUP($A155+8860000,'Growth Data'!$A:$Z,5,0)),\"NO\",VLOOKUP($A155+8860000,'Growth Data'!$A:$Z,5,0))","v":"NO"},0,null,0,{"$f":"IF(ISERROR(VLOOKUP($A155+8860000,'Growth Data'!$A:$Z,10,0)),0,VLOOKUP($A155+8860000,'Growth Data'!$A:$Z,10,0))","v":0},0,null,0,{"$f":"IF(ISERROR(VLOOKUP($A155+8860000,'Growth Data'!$A:$Z,11,0)),0,VLOOKUP($A155+8860000,'Growth Data'!$A:$Z,11,0))","v":0},0]
[2285,"Mersham Primary School",null,"Mersham Primary School",null,1,null,550706.63,550706.62549998634,4.5000136597082019E-3,null,21430.86,21430.860218324604,-2.183246033382602E-4,null,621.92999999999995,621.93205389221578,-2.0538922158266359E-3,null,42378.28,42378.277583850955,2.4161490437109023E-3,null,120084,120083.99999999999,0,null,0,0,0,null,0,0,0,null,0,0,0,null,7859,7859,0,null,0,0,0,null,0,0,0,null,0,0,0,null,743080.7,743080.695356054,4.6439459547400475E-3,null,0,0,0,null,743080.7,743080.695356054,4.6439459547400475E-3,null,0,null,0,null,3170.81,null,3170.81,null,0,null,0,null,64812.04,64812.037163075925,0,null,0,null,0,null,3789.8,3789.802553381724,0,null,0,null,0,null,0,null,0,null,0,null,0,null,0,null,0,null,0,null,0,null,"NO",{"$f":"IF(ISERROR(VLOOKUP($A156+8860000,'Growth Data'!$A:$F,3,0)),\"NO\",VLOOKUP($A156+8860000,'Growth Data'!$A:$F,3,0))","v":"NO"},0,null,0,{"$f":"IF(DI156=\"YES\",IF(ISERROR(VLOOKUP($A156+8860000,'Growth Data'!$A:$F,6,0)),0,VLOOKUP($A156+8860000,'Growth Data'!$A:$F,6,0)),0)","v":0},0,null,0,{"$f":"IF(ISERROR(VLOOKUP($A156+8860000,'Growth Data'!$A:$Z,7,0)),0,VLOOKUP($A156+8860000,'Growth Data'!$A:$Z,7,0))","v":0},0,null,"NO",{"$f":"IF(ISERROR(VLOOKUP($A156+8860000,'Growth Data'!$A:$F,4,0)),\"NO\",VLOOKUP($A156+8860000,'Growth Data'!$A:$F,4,0))","v":"NO"},0,null,0,{"$f":"IF(ISERROR(VLOOKUP($A156+8860000,'Growth Data'!$A:$Z,8,0)),0,VLOOKUP($A156+8860000,'Growth Data'!$A:$Z,8,0))","v":0},0,null,0,{"$f":"IF(ISERROR(VLOOKUP($A156+8860000,'Growth Data'!$A:$Z,9,0)),0,VLOOKUP($A156+8860000,'Growth Data'!$A:$Z,9,0))","v":0},0,null,"NO",{"$f":"IF(ISERROR(VLOOKUP($A156+8860000,'Growth Data'!$A:$Z,5,0)),\"NO\",VLOOKUP($A156+8860000,'Growth Data'!$A:$Z,5,0))","v":"NO"},0,null,0,{"$f":"IF(ISERROR(VLOOKUP($A156+8860000,'Growth Data'!$A:$Z,10,0)),0,VLOOKUP($A156+8860000,'Growth Data'!$A:$Z,10,0))","v":0},0,null,0,{"$f":"IF(ISERROR(VLOOKUP($A156+8860000,'Growth Data'!$A:$Z,11,0)),0,VLOOKUP($A156+8860000,'Growth Data'!$A:$Z,11,0))","v":0},0]
[3182,"Minster CEP School",null,"Minster CEP School",null,1,null,1109929.33,1109929.3328376012,-2.8376011177897453E-3,null,64339.39,64339.393507102475,-3.5071024758508429E-3,null,2514.4899999999998,2514.4916456456431,-1.6456456432933919E-3,null,118698.21,118698.21244545461,-2.4454546073684469E-3,null,120084,120083.99999999999,0,null,0,0,0,null,0,0,0,null,0,0,0,null,35072,35072,0,null,0,0,0,null,0,0,0,null,50684.57,50684.569564195815,4.3580418423516676E-4,null,1501322,1501321.9999999998,0,null,0,0,0,null,1501322,1501321.9999999998,0,null,0,null,0,null,3750,null,3750,null,0,null,0,null,167470.15,167470.14990521094,0,null,0,null,0,null,3750,3750,0,null,0,null,0,null,0,null,0,null,0,null,0,null,0,null,0,null,0,null,0,null,"NO",{"$f":"IF(ISERROR(VLOOKUP($A157+8860000,'Growth Data'!$A:$F,3,0)),\"NO\",VLOOKUP($A157+8860000,'Growth Data'!$A:$F,3,0))","v":"NO"},0,null,0,{"$f":"IF(DI157=\"YES\",IF(ISERROR(VLOOKUP($A157+8860000,'Growth Data'!$A:$F,6,0)),0,VLOOKUP($A157+8860000,'Growth Data'!$A:$F,6,0)),0)","v":0},0,null,0,{"$f":"IF(ISERROR(VLOOKUP($A157+8860000,'Growth Data'!$A:$Z,7,0)),0,VLOOKUP($A157+8860000,'Growth Data'!$A:$Z,7,0))","v":0},0,null,"NO",{"$f":"IF(ISERROR(VLOOKUP($A157+8860000,'Growth Data'!$A:$F,4,0)),\"NO\",VLOOKUP($A157+8860000,'Growth Data'!$A:$F,4,0))","v":"NO"},0,null,0,{"$f":"IF(ISERROR(VLOOKUP($A157+8860000,'Growth Data'!$A:$Z,8,0)),0,VLOOKUP($A157+8860000,'Growth Data'!$A:$Z,8,0))","v":0},0,null,0,{"$f":"IF(ISERROR(VLOOKUP($A157+8860000,'Growth Data'!$A:$Z,9,0)),0,VLOOKUP($A157+8860000,'Growth Data'!$A:$Z,9,0))","v":0},0,null,"NO",{"$f":"IF(ISERROR(VLOOKUP($A157+8860000,'Growth Data'!$A:$Z,5,0)),\"NO\",VLOOKUP($A157+8860000,'Growth Data'!$A:$Z,5,0))","v":"NO"},0,null,0,{"$f":"IF(ISERROR(VLOOKUP($A157+8860000,'Growth Data'!$A:$Z,10,0)),0,VLOOKUP($A157+8860000,'Growth Data'!$A:$Z,10,0))","v":0},0,null,0,{"$f":"IF(ISERROR(VLOOKUP($A157+8860000,'Growth Data'!$A:$Z,11,0)),0,VLOOKUP($A157+8860000,'Growth Data'!$A:$Z,11,0))","v":0},0]
[3183,"Monkton CEP School",null,"Monkton CEP School",null,1,null,289546.78000000003,289546.78247937426,-2.4793742340989411E-3,null,16745.830000000002,16745.833884000014,-3.8840000124764629E-3,null,1269.96,1269.9581162790714,1.8837209286175494E-3,null,29414.58,29414.575800000039,4.199999963020673E-3,null,120084,120083.99999999999,0,null,0,0,0,null,0,0,0,null,0,0,0,null,19087,19087,0,null,0,0,0,null,0,0,0,null,0,0,0,null,476148.15,476148.15027965343,-2.7965340996161103E-4,null,0,0,0,null,476148.15,476148.15027965343,-2.7965340996161103E-4,null,0,null,0,null,3303.7,null,3303.7,null,0,null,0,null,46010.080000000002,46010.075107287259,0,null,1398.99,null,1399,null,4480.99,4480.9916694083686,0,null,0,null,0,null,0,null,0,null,0,null,0,null,0,null,0,null,0,null,0,null,"NO",{"$f":"IF(ISERROR(VLOOKUP($A158+8860000,'Growth Data'!$A:$F,3,0)),\"NO\",VLOOKUP($A158+8860000,'Growth Data'!$A:$F,3,0))","v":"NO"},0,null,0,{"$f":"IF(DI158=\"YES\",IF(ISERROR(VLOOKUP($A158+8860000,'Growth Data'!$A:$F,6,0)),0,VLOOKUP($A158+8860000,'Growth Data'!$A:$F,6,0)),0)","v":0},0,null,0,{"$f":"IF(ISERROR(VLOOKUP($A158+8860000,'Growth Data'!$A:$Z,7,0)),0,VLOOKUP($A158+8860000,'Growth Data'!$A:$Z,7,0))","v":0},0,null,"NO",{"$f":"IF(ISERROR(VLOOKUP($A158+8860000,'Growth Data'!$A:$F,4,0)),\"NO\",VLOOKUP($A158+8860000,'Growth Data'!$A:$F,4,0))","v":"NO"},0,null,0,{"$f":"IF(ISERROR(VLOOKUP($A158+8860000,'Growth Data'!$A:$Z,8,0)),0,VLOOKUP($A158+8860000,'Growth Data'!$A:$Z,8,0))","v":0},0,null,0,{"$f":"IF(ISERROR(VLOOKUP($A158+8860000,'Growth Data'!$A:$Z,9,0)),0,VLOOKUP($A158+8860000,'Growth Data'!$A:$Z,9,0))","v":0},0,null,"NO",{"$f":"IF(ISERROR(VLOOKUP($A158+8860000,'Growth Data'!$A:$Z,5,0)),\"NO\",VLOOKUP($A158+8860000,'Growth Data'!$A:$Z,5,0))","v":"NO"},0,null,0,{"$f":"IF(ISERROR(VLOOKUP($A158+8860000,'Growth Data'!$A:$Z,10,0)),0,VLOOKUP($A158+8860000,'Growth Data'!$A:$Z,10,0))","v":0},0,null,0,{"$f":"IF(ISERROR(VLOOKUP($A158+8860000,'Growth Data'!$A:$Z,11,0)),0,VLOOKUP($A158+8860000,'Growth Data'!$A:$Z,11,0))","v":0},0]
[2296,"Mundella Primary School",null,"Mundella Primary School",null,1,null,530835.77,530835.76787885278,2.121147233992815E-3,null,139589.06,139589.05870187786,1.298122137086466E-3,null,7747,7746.9964851190498,3.514880950206134E-3,null,80219.13,80219.132981132032,-2.9811320273438469E-3,null,120084,120083.99999999999,0,null,0,0,0,null,0,0,0,null,0,0,0,null,17017,17017,0,null,0,0,0,null,0,0,0,null,0,0,0,null,895491.96,895491.95604698174,3.9530182257294655E-3,null,0,0,0,null,895491.96,895491.95604698174,3.9530182257294655E-3,null,0,null,0,null,4055.57,null,4055.57,null,0,null,0,null,202718.52,202718.5154751371,0,null,0,null,0,null,4697.7299999999996,4697.7270376843962,0,null,0,null,0,null,0,null,0,null,0,null,0,null,0,null,0,null,0,null,0,null,"NO",{"$f":"IF(ISERROR(VLOOKUP($A159+8860000,'Growth Data'!$A:$F,3,0)),\"NO\",VLOOKUP($A159+8860000,'Growth Data'!$A:$F,3,0))","v":"NO"},0,null,0,{"$f":"IF(DI159=\"YES\",IF(ISERROR(VLOOKUP($A159+8860000,'Growth Data'!$A:$F,6,0)),0,VLOOKUP($A159+8860000,'Growth Data'!$A:$F,6,0)),0)","v":0},0,null,0,{"$f":"IF(ISERROR(VLOOKUP($A159+8860000,'Growth Data'!$A:$Z,7,0)),0,VLOOKUP($A159+8860000,'Growth Data'!$A:$Z,7,0))","v":0},0,null,"NO",{"$f":"IF(ISERROR(VLOOKUP($A159+8860000,'Growth Data'!$A:$F,4,0)),\"NO\",VLOOKUP($A159+8860000,'Growth Data'!$A:$F,4,0))","v":"NO"},0,null,0,{"$f":"IF(ISERROR(VLOOKUP($A159+8860000,'Growth Data'!$A:$Z,8,0)),0,VLOOKUP($A159+8860000,'Growth Data'!$A:$Z,8,0))","v":0},0,null,0,{"$f":"IF(ISERROR(VLOOKUP($A159+8860000,'Growth Data'!$A:$Z,9,0)),0,VLOOKUP($A159+8860000,'Growth Data'!$A:$Z,9,0))","v":0},0,null,"NO",{"$f":"IF(ISERROR(VLOOKUP($A159+8860000,'Growth Data'!$A:$Z,5,0)),\"NO\",VLOOKUP($A159+8860000,'Growth Data'!$A:$Z,5,0))","v":"NO"},0,null,0,{"$f":"IF(ISERROR(VLOOKUP($A159+8860000,'Growth Data'!$A:$Z,10,0)),0,VLOOKUP($A159+8860000,'Growth Data'!$A:$Z,10,0))","v":0},0,null,0,{"$f":"IF(ISERROR(VLOOKUP($A159+8860000,'Growth Data'!$A:$Z,11,0)),0,VLOOKUP($A159+8860000,'Growth Data'!$A:$Z,11,0))","v":0},0]
[2682,"New Ash Green Primary School",null,"New Ash Green Primary School",null,1,null,1141154.97,1141154.9662422396,3.7577603943645954E-3,null,53968.66,53968.660727272683,-7.2727267979644239E-4,null,5034.3999999999996,5034.3988070175492,1.1929824504477438E-3,null,124424.19,124424.19169760493,-1.6976049228105694E-3,null,120084,120083.99999999999,0,null,0,0,0,null,52585.85,52585.850316058495,-3.1605849653715268E-4,null,0,0,0,null,33792,33792,0,null,0,0,0,null,0,0,0,null,10247.93,10247.932209806284,-2.2098062836448662E-3,null,1541292,1541291.9999999998,0,null,0,0,0,null,1541292,1541291.9999999998,0,null,0,null,0,null,3750,null,3750,null,0,null,0,null,185365.07,185365.06656771939,0,null,0,null,0,null,3750,3750,0,null,0,null,0,null,0,null,0,null,0,null,0,null,0,null,0,null,0,null,0,null,"NO",{"$f":"IF(ISERROR(VLOOKUP($A160+8860000,'Growth Data'!$A:$F,3,0)),\"NO\",VLOOKUP($A160+8860000,'Growth Data'!$A:$F,3,0))","v":"NO"},0,null,0,{"$f":"IF(DI160=\"YES\",IF(ISERROR(VLOOKUP($A160+8860000,'Growth Data'!$A:$F,6,0)),0,VLOOKUP($A160+8860000,'Growth Data'!$A:$F,6,0)),0)","v":0},0,null,0,{"$f":"IF(ISERROR(VLOOKUP($A160+8860000,'Growth Data'!$A:$Z,7,0)),0,VLOOKUP($A160+8860000,'Growth Data'!$A:$Z,7,0))","v":0},0,null,"NO",{"$f":"IF(ISERROR(VLOOKUP($A160+8860000,'Growth Data'!$A:$F,4,0)),\"NO\",VLOOKUP($A160+8860000,'Growth Data'!$A:$F,4,0))","v":"NO"},0,null,0,{"$f":"IF(ISERROR(VLOOKUP($A160+8860000,'Growth Data'!$A:$Z,8,0)),0,VLOOKUP($A160+8860000,'Growth Data'!$A:$Z,8,0))","v":0},0,null,0,{"$f":"IF(ISERROR(VLOOKUP($A160+8860000,'Growth Data'!$A:$Z,9,0)),0,VLOOKUP($A160+8860000,'Growth Data'!$A:$Z,9,0))","v":0},0,null,"NO",{"$f":"IF(ISERROR(VLOOKUP($A160+8860000,'Growth Data'!$A:$Z,5,0)),\"NO\",VLOOKUP($A160+8860000,'Growth Data'!$A:$Z,5,0))","v":"NO"},0,null,0,{"$f":"IF(ISERROR(VLOOKUP($A160+8860000,'Growth Data'!$A:$Z,10,0)),0,VLOOKUP($A160+8860000,'Growth Data'!$A:$Z,10,0))","v":0},0,null,0,{"$f":"IF(ISERROR(VLOOKUP($A160+8860000,'Growth Data'!$A:$Z,11,0)),0,VLOOKUP($A160+8860000,'Growth Data'!$A:$Z,11,0))","v":0},0]
[3111,"Newington CEP School",null,"Newington CEP School",null,1,null,510964.91,510964.91025771928,-2.5771930813789368E-4,null,47226.94,47226.94482727268,-4.8272726780851372E-3,null,3803.98,3803.976710526314,3.2894736859816476E-3,null,48293.919999999998,48293.921958042003,-1.9580420048441738E-3,null,120084,120083.99999999999,0,null,0,0,0,null,0,0,0,null,0,0,0,null,34048,34048,0,null,0,0,0,null,0,0,0,null,0,0,0,null,764421.75,764421.75375356025,-3.7535602459684014E-3,null,0,0,0,null,764421.75,764421.75375356025,-3.7535602459684014E-3,null,0,null,0,null,3390.5,null,3390.5,null,0,null,0,null,90699.51,90699.510802849181,0,null,0,null,0,null,4057.63,4057.631965297559,0,null,0,null,0,null,0,null,0,null,0,null,0,null,0,null,0,null,0,null,0,null,"NO",{"$f":"IF(ISERROR(VLOOKUP($A161+8860000,'Growth Data'!$A:$F,3,0)),\"NO\",VLOOKUP($A161+8860000,'Growth Data'!$A:$F,3,0))","v":"NO"},0,null,0,{"$f":"IF(DI161=\"YES\",IF(ISERROR(VLOOKUP($A161+8860000,'Growth Data'!$A:$F,6,0)),0,VLOOKUP($A161+8860000,'Growth Data'!$A:$F,6,0)),0)","v":0},0,null,0,{"$f":"IF(ISERROR(VLOOKUP($A161+8860000,'Growth Data'!$A:$Z,7,0)),0,VLOOKUP($A161+8860000,'Growth Data'!$A:$Z,7,0))","v":0},0,null,"NO",{"$f":"IF(ISERROR(VLOOKUP($A161+8860000,'Growth Data'!$A:$F,4,0)),\"NO\",VLOOKUP($A161+8860000,'Growth Data'!$A:$F,4,0))","v":"NO"},0,null,0,{"$f":"IF(ISERROR(VLOOKUP($A161+8860000,'Growth Data'!$A:$Z,8,0)),0,VLOOKUP($A161+8860000,'Growth Data'!$A:$Z,8,0))","v":0},0,null,0,{"$f":"IF(ISERROR(VLOOKUP($A161+8860000,'Growth Data'!$A:$Z,9,0)),0,VLOOKUP($A161+8860000,'Growth Data'!$A:$Z,9,0))","v":0},0,null,"YES",{"$f":"IF(ISERROR(VLOOKUP($A161+8860000,'Growth Data'!$A:$Z,5,0)),\"NO\",VLOOKUP($A161+8860000,'Growth Data'!$A:$Z,5,0))","v":"NO"},1,null,30,{"$f":"IF(ISERROR(VLOOKUP($A161+8860000,'Growth Data'!$A:$Z,10,0)),0,VLOOKUP($A161+8860000,'Growth Data'!$A:$Z,10,0))","v":0},1,null,60,{"$f":"IF(ISERROR(VLOOKUP($A161+8860000,'Growth Data'!$A:$Z,11,0)),0,VLOOKUP($A161+8860000,'Growth Data'!$A:$Z,11,0))","v":0},1]
[3918,"Newington Community Primary School and Nursery",null,"Newington Community Primary School and Nursery",null,1,null,1876376.7,1876376.6982241801,1.7758198082447052E-3,null,386248.8,386248.7951467121,4.8532878863625228E-3,null,10074.950000000001,10074.947886120992,2.1138790089025861E-3,null,97384.65,97384.647600538839,2.3994611547095701E-3,null,120084,120083.99999999999,0,null,0,0,0,null,0,0,0,null,0,0,0,null,9114,9114,0,null,0,0,0,null,0,0,0,null,0,0,0,null,2499283.09,2499283.0888575525,1.1424473486840725E-3,null,80428.320000000007,80428.319138382096,8.6161791114136577E-4,null,2579711.41,2579711.4079959346,2.0040655508637428E-3,null,0,null,0,null,3707.28,null,3707.28,null,0.52,null,0.52,null,415284.23,415284.23294038023,0,null,0,null,0,null,3888.95,3888.9522056793667,0,null,0,null,0,null,0,null,0,null,0,null,0,null,0,null,0,null,0,null,0,null,"NO",{"$f":"IF(ISERROR(VLOOKUP($A162+8860000,'Growth Data'!$A:$F,3,0)),\"NO\",VLOOKUP($A162+8860000,'Growth Data'!$A:$F,3,0))","v":"NO"},0,null,0,{"$f":"IF(DI162=\"YES\",IF(ISERROR(VLOOKUP($A162+8860000,'Growth Data'!$A:$F,6,0)),0,VLOOKUP($A162+8860000,'Growth Data'!$A:$F,6,0)),0)","v":0},0,null,0,{"$f":"IF(ISERROR(VLOOKUP($A162+8860000,'Growth Data'!$A:$Z,7,0)),0,VLOOKUP($A162+8860000,'Growth Data'!$A:$Z,7,0))","v":0},0,null,"NO",{"$f":"IF(ISERROR(VLOOKUP($A162+8860000,'Growth Data'!$A:$F,4,0)),\"NO\",VLOOKUP($A162+8860000,'Growth Data'!$A:$F,4,0))","v":"NO"},0,null,0,{"$f":"IF(ISERROR(VLOOKUP($A162+8860000,'Growth Data'!$A:$Z,8,0)),0,VLOOKUP($A162+8860000,'Growth Data'!$A:$Z,8,0))","v":0},0,null,0,{"$f":"IF(ISERROR(VLOOKUP($A162+8860000,'Growth Data'!$A:$Z,9,0)),0,VLOOKUP($A162+8860000,'Growth Data'!$A:$Z,9,0))","v":0},0,null,"NO",{"$f":"IF(ISERROR(VLOOKUP($A162+8860000,'Growth Data'!$A:$Z,5,0)),\"NO\",VLOOKUP($A162+8860000,'Growth Data'!$A:$Z,5,0))","v":"NO"},0,null,0,{"$f":"IF(ISERROR(VLOOKUP($A162+8860000,'Growth Data'!$A:$Z,10,0)),0,VLOOKUP($A162+8860000,'Growth Data'!$A:$Z,10,0))","v":0},0,null,0,{"$f":"IF(ISERROR(VLOOKUP($A162+8860000,'Growth Data'!$A:$Z,11,0)),0,VLOOKUP($A162+8860000,'Growth Data'!$A:$Z,11,0))","v":0},0]
[3171,"Nonington CEP School",null,"Nonington CEP School",null,1,null,139096,139096.00334793469,-3.3479346893727779E-3,null,15536.94,15536.937813913055,2.1860869455849752E-3,null,624.6,624.60358333333318,-3.5833333331538597E-3,null,19105.439999999999,19105.437621951201,2.3780487972544506E-3,null,120084,120083.99999999999,0,null,0,0,0,null,0,0,0,null,0,0,0,null,9606,9606,0,null,0,0,0,null,0,0,0,null,0,0,0,null,304052.98,304052.98236713227,-2.3671322851441801E-3,null,0,0,0,null,304052.98,304052.98236713227,-2.3671322851441801E-3,null,0,null,0,null,3558.43,null,3558.43,null,0,null,0,null,38800.15,38800.151326205734,0,null,2119.98,null,2120,null,6009.12,6009.1220891251505,0,null,0,null,0,null,0,null,0,null,0,null,0,null,0,null,0,null,0,null,0,null,"NO",{"$f":"IF(ISERROR(VLOOKUP($A163+8860000,'Growth Data'!$A:$F,3,0)),\"NO\",VLOOKUP($A163+8860000,'Growth Data'!$A:$F,3,0))","v":"NO"},0,null,0,{"$f":"IF(DI163=\"YES\",IF(ISERROR(VLOOKUP($A163+8860000,'Growth Data'!$A:$F,6,0)),0,VLOOKUP($A163+8860000,'Growth Data'!$A:$F,6,0)),0)","v":0},0,null,0,{"$f":"IF(ISERROR(VLOOKUP($A163+8860000,'Growth Data'!$A:$Z,7,0)),0,VLOOKUP($A163+8860000,'Growth Data'!$A:$Z,7,0))","v":0},0,null,"NO",{"$f":"IF(ISERROR(VLOOKUP($A163+8860000,'Growth Data'!$A:$F,4,0)),\"NO\",VLOOKUP($A163+8860000,'Growth Data'!$A:$F,4,0))","v":"NO"},0,null,0,{"$f":"IF(ISERROR(VLOOKUP($A163+8860000,'Growth Data'!$A:$Z,8,0)),0,VLOOKUP($A163+8860000,'Growth Data'!$A:$Z,8,0))","v":0},0,null,0,{"$f":"IF(ISERROR(VLOOKUP($A163+8860000,'Growth Data'!$A:$Z,9,0)),0,VLOOKUP($A163+8860000,'Growth Data'!$A:$Z,9,0))","v":0},0,null,"NO",{"$f":"IF(ISERROR(VLOOKUP($A163+8860000,'Growth Data'!$A:$Z,5,0)),\"NO\",VLOOKUP($A163+8860000,'Growth Data'!$A:$Z,5,0))","v":"NO"},0,null,0,{"$f":"IF(ISERROR(VLOOKUP($A163+8860000,'Growth Data'!$A:$Z,10,0)),0,VLOOKUP($A163+8860000,'Growth Data'!$A:$Z,10,0))","v":0},0,null,0,{"$f":"IF(ISERROR(VLOOKUP($A163+8860000,'Growth Data'!$A:$Z,11,0)),0,VLOOKUP($A163+8860000,'Growth Data'!$A:$Z,11,0))","v":0},0]
[2175,"North Borough Junior School",null,"North Borough Junior School",null,1,null,965155.94,965155.94159791421,-1.5979142626747489E-3,null,80041.8,80041.795373451387,4.6265486162155867E-3,null,25697.98,25697.975999999944,4.0000000553845894E-3,null,119539.29,119539.289072165,9.2783498985227197E-4,null,120084,120083.99999999999,0,null,0,0,0,null,0,0,0,null,0,0,0,null,23328,23328,0,null,0,0,0,null,0,0,0,null,0,0,0,null,1333847,1333847.0020435306,-2.0435305777937174E-3,null,0,0,0,null,1333847,1333847.0020435306,-2.0435305777937174E-3,null,0,null,0,null,3501.28,null,3501.28,null,0,null,0,null,201793.33,201793.33275262441,0,null,0,null,0,null,3854.47,3854.4676530692091,0,null,0,null,0,null,0,null,0,null,0,null,0,null,0,null,0,null,0,null,0,null,"NO",{"$f":"IF(ISERROR(VLOOKUP($A164+8860000,'Growth Data'!$A:$F,3,0)),\"NO\",VLOOKUP($A164+8860000,'Growth Data'!$A:$F,3,0))","v":"NO"},0,null,0,{"$f":"IF(DI164=\"YES\",IF(ISERROR(VLOOKUP($A164+8860000,'Growth Data'!$A:$F,6,0)),0,VLOOKUP($A164+8860000,'Growth Data'!$A:$F,6,0)),0)","v":0},0,null,0,{"$f":"IF(ISERROR(VLOOKUP($A164+8860000,'Growth Data'!$A:$Z,7,0)),0,VLOOKUP($A164+8860000,'Growth Data'!$A:$Z,7,0))","v":0},0,null,"NO",{"$f":"IF(ISERROR(VLOOKUP($A164+8860000,'Growth Data'!$A:$F,4,0)),\"NO\",VLOOKUP($A164+8860000,'Growth Data'!$A:$F,4,0))","v":"NO"},0,null,0,{"$f":"IF(ISERROR(VLOOKUP($A164+8860000,'Growth Data'!$A:$Z,8,0)),0,VLOOKUP($A164+8860000,'Growth Data'!$A:$Z,8,0))","v":0},0,null,0,{"$f":"IF(ISERROR(VLOOKUP($A164+8860000,'Growth Data'!$A:$Z,9,0)),0,VLOOKUP($A164+8860000,'Growth Data'!$A:$Z,9,0))","v":0},0,null,"NO",{"$f":"IF(ISERROR(VLOOKUP($A164+8860000,'Growth Data'!$A:$Z,5,0)),\"NO\",VLOOKUP($A164+8860000,'Growth Data'!$A:$Z,5,0))","v":"NO"},0,null,0,{"$f":"IF(ISERROR(VLOOKUP($A164+8860000,'Growth Data'!$A:$Z,10,0)),0,VLOOKUP($A164+8860000,'Growth Data'!$A:$Z,10,0))","v":0},0,null,0,{"$f":"IF(ISERROR(VLOOKUP($A164+8860000,'Growth Data'!$A:$Z,11,0)),0,VLOOKUP($A164+8860000,'Growth Data'!$A:$Z,11,0))","v":0},0]
[4246,"North School, The",null,"North School, The",null,1,null,3810669.91,3810669.9068106739,3.1893262639641762E-3,null,443676.12,443676.12007616501,-7.616501534357667E-5,null,44671.25,44671.248000000007,1.999999993131496E-3,null,464927.23,464927.22571125638,4.2887435993179679E-3,null,114480.08,114480.07999999999,0,null,0,0,0,null,0,0,0,null,0,0,0,null,224000,224000,0,null,1129362.04,1129362.0381378992,1.8621007911860943E-3,null,0,0,0,null,0,0,0,null,6231786.6200000001,6231786.6187359933,1.2640068307518959E-3,null,0,0,0,null,6231786.6200000001,6231786.6187359933,1.2640068307518959E-3,null,0,null,0,null,5229.3599999999997,null,5229.3599999999997,null,0,null,0,null,879338.81,879338.80694674142,0,null,0,null,0,null,5355.02,5355.0214935215081,0,null,180000,null,180000,null,627.58000000000004,null,628,null,627.58000000000004,null,628,null,627.58000000000004,null,628,null,627.58000000000004,null,628,null,"YES",{"$f":"IF(ISERROR(VLOOKUP($A165+8860000,'Growth Data'!$A:$F,3,0)),\"NO\",VLOOKUP($A165+8860000,'Growth Data'!$A:$F,3,0))","v":"NO"},1,null,60,{"$f":"IF(DI165=\"YES\",IF(ISERROR(VLOOKUP($A165+8860000,'Growth Data'!$A:$F,6,0)),0,VLOOKUP($A165+8860000,'Growth Data'!$A:$F,6,0)),0)","v":0},60,null,90,{"$f":"IF(ISERROR(VLOOKUP($A165+8860000,'Growth Data'!$A:$Z,7,0)),0,VLOOKUP($A165+8860000,'Growth Data'!$A:$Z,7,0))","v":0},1,null,"YES",{"$f":"IF(ISERROR(VLOOKUP($A165+8860000,'Growth Data'!$A:$F,4,0)),\"NO\",VLOOKUP($A165+8860000,'Growth Data'!$A:$F,4,0))","v":"NO"},1,null,60,{"$f":"IF(ISERROR(VLOOKUP($A165+8860000,'Growth Data'!$A:$Z,8,0)),0,VLOOKUP($A165+8860000,'Growth Data'!$A:$Z,8,0))","v":0},1,null,90,{"$f":"IF(ISERROR(VLOOKUP($A165+8860000,'Growth Data'!$A:$Z,9,0)),0,VLOOKUP($A165+8860000,'Growth Data'!$A:$Z,9,0))","v":0},1,null,"NO",{"$f":"IF(ISERROR(VLOOKUP($A165+8860000,'Growth Data'!$A:$Z,5,0)),\"NO\",VLOOKUP($A165+8860000,'Growth Data'!$A:$Z,5,0))","v":"NO"},0,null,0,{"$f":"IF(ISERROR(VLOOKUP($A165+8860000,'Growth Data'!$A:$Z,10,0)),0,VLOOKUP($A165+8860000,'Growth Data'!$A:$Z,10,0))","v":0},0,null,0,{"$f":"IF(ISERROR(VLOOKUP($A165+8860000,'Growth Data'!$A:$Z,11,0)),0,VLOOKUP($A165+8860000,'Growth Data'!$A:$Z,11,0))","v":0},0]
[1001,"Northfleet Nursery",null,"Northfleet Nursery",null,1,null,0,0,0,null,0,0,0,null,0,0,0,null,0,0,0,null,0,0,0,null,0,0,0,null,0,0,0,null,0,0,0,null,0,0,0,null,0,0,0,null,0,0,0,null,0,0,0,null,0,0,0,null,0,0,0,null,0,0,0,null,0,null,0,null,0,0,0,null,0.2,null,0.2,null,0,0,0,null,0,null,0,null,0,0,0,null,0,null,0,null,0,null,0,null,0,null,0,null,0,null,0,null,0,null,0,null,"NO",{"$f":"IF(ISERROR(VLOOKUP($A166+8860000,'Growth Data'!$A:$F,3,0)),\"NO\",VLOOKUP($A166+8860000,'Growth Data'!$A:$F,3,0))","v":"NO"},0,null,0,{"$f":"IF(DI166=\"YES\",IF(ISERROR(VLOOKUP($A166+8860000,'Growth Data'!$A:$F,6,0)),0,VLOOKUP($A166+8860000,'Growth Data'!$A:$F,6,0)),0)","v":0},0,null,0,{"$f":"IF(ISERROR(VLOOKUP($A166+8860000,'Growth Data'!$A:$Z,7,0)),0,VLOOKUP($A166+8860000,'Growth Data'!$A:$Z,7,0))","v":0},0,null,"NO",{"$f":"IF(ISERROR(VLOOKUP($A166+8860000,'Growth Data'!$A:$F,4,0)),\"NO\",VLOOKUP($A166+8860000,'Growth Data'!$A:$F,4,0))","v":"NO"},0,null,0,{"$f":"IF(ISERROR(VLOOKUP($A166+8860000,'Growth Data'!$A:$Z,8,0)),0,VLOOKUP($A166+8860000,'Growth Data'!$A:$Z,8,0))","v":0},0,null,0,{"$f":"IF(ISERROR(VLOOKUP($A166+8860000,'Growth Data'!$A:$Z,9,0)),0,VLOOKUP($A166+8860000,'Growth Data'!$A:$Z,9,0))","v":0},0,null,"NO",{"$f":"IF(ISERROR(VLOOKUP($A166+8860000,'Growth Data'!$A:$Z,5,0)),\"NO\",VLOOKUP($A166+8860000,'Growth Data'!$A:$Z,5,0))","v":"NO"},0,null,0,{"$f":"IF(ISERROR(VLOOKUP($A166+8860000,'Growth Data'!$A:$Z,10,0)),0,VLOOKUP($A166+8860000,'Growth Data'!$A:$Z,10,0))","v":0},0,null,0,{"$f":"IF(ISERROR(VLOOKUP($A166+8860000,'Growth Data'!$A:$Z,11,0)),0,VLOOKUP($A166+8860000,'Growth Data'!$A:$Z,11,0))","v":0},0]
[4040,"Northfleet School for Girls",null,"Northfleet School for Girls",null,1,null,3523443.16,3523443.1629604981,-2.9604979790747166E-3,null,478785.69,478785.68694558844,3.0544115579687059E-3,null,52000.1,52000.097756563198,2.2434368001995608E-3,null,370487.24,370487.24013469729,-1.3469730038195848E-4,null,114480.08,114480.07999999999,0,null,0,0,0,null,0,0,0,null,0,0,0,null,27136,27136,0,null,0,0,0,null,0,0,0,null,0,0,0,null,4566332.2699999996,4566332.2677973472,2.2026523947715759E-3,null,0,0,0,null,4566332.2699999996,4566332.2677973472,2.2026523947715759E-3,null,81508.539999999994,null,81508.539999999994,null,5267.52,null,5267.52,null,0,null,0,null,802119.6,802119.59799616924,0,null,0,null,0,null,5403.81,5403.8050807111249,0,null,117000,null,117000,null,292.24,null,292,null,292.24,null,292,null,292.24,null,292,null,292.24,null,292,null,"NO",{"$f":"IF(ISERROR(VLOOKUP($A167+8860000,'Growth Data'!$A:$F,3,0)),\"NO\",VLOOKUP($A167+8860000,'Growth Data'!$A:$F,3,0))","v":"YES"},1,null,0,{"$f":"IF(DI167=\"YES\",IF(ISERROR(VLOOKUP($A167+8860000,'Growth Data'!$A:$F,6,0)),0,VLOOKUP($A167+8860000,'Growth Data'!$A:$F,6,0)),0)","v":175},-175,null,0,{"$f":"IF(ISERROR(VLOOKUP($A167+8860000,'Growth Data'!$A:$Z,7,0)),0,VLOOKUP($A167+8860000,'Growth Data'!$A:$Z,7,0))","v":210},1,null,"NO",{"$f":"IF(ISERROR(VLOOKUP($A167+8860000,'Growth Data'!$A:$F,4,0)),\"NO\",VLOOKUP($A167+8860000,'Growth Data'!$A:$F,4,0))","v":"NO"},0,null,0,{"$f":"IF(ISERROR(VLOOKUP($A167+8860000,'Growth Data'!$A:$Z,8,0)),0,VLOOKUP($A167+8860000,'Growth Data'!$A:$Z,8,0))","v":0},0,null,0,{"$f":"IF(ISERROR(VLOOKUP($A167+8860000,'Growth Data'!$A:$Z,9,0)),0,VLOOKUP($A167+8860000,'Growth Data'!$A:$Z,9,0))","v":0},0,null,"NO",{"$f":"IF(ISERROR(VLOOKUP($A167+8860000,'Growth Data'!$A:$Z,5,0)),\"NO\",VLOOKUP($A167+8860000,'Growth Data'!$A:$Z,5,0))","v":"NO"},0,null,0,{"$f":"IF(ISERROR(VLOOKUP($A167+8860000,'Growth Data'!$A:$Z,10,0)),0,VLOOKUP($A167+8860000,'Growth Data'!$A:$Z,10,0))","v":0},0,null,0,{"$f":"IF(ISERROR(VLOOKUP($A167+8860000,'Growth Data'!$A:$Z,11,0)),0,VLOOKUP($A167+8860000,'Growth Data'!$A:$Z,11,0))","v":0},0]
[5456,"Northfleet Technology College",null,"Northfleet Technology College",null,1,null,3382419.59,3382419.5900448347,-4.4834800064563751E-5,null,426187.71,426187.7071845826,2.815417421516031E-3,null,36025.199999999997,36025.200000000019,0,null,414082.78,414082.78471743927,-4.717439238447696E-3,null,114480.08,114480.07999999999,0,null,0,0,0,null,0,0,0,null,0,0,0,null,34560,34560,0,null,875983.98,875983.98362190009,-3.6219001049175858E-3,null,0,0,0,null,0,0,0,null,5283739.3499999996,5283739.3455687566,4.4312430545687675E-3,null,0,0,0,null,5283739.3499999996,5283739.3455687566,4.4312430545687675E-3,null,0,null,0,null,5296.91,null,5296.91,null,0,null,0,null,813617.78,813617.78006134194,0,null,0,null,0,null,5439.3,5439.2977138642482,0,null,0,null,0,null,0,null,0,null,0,null,0,null,0,null,0,null,0,null,0,null,"NO",{"$f":"IF(ISERROR(VLOOKUP($A168+8860000,'Growth Data'!$A:$F,3,0)),\"NO\",VLOOKUP($A168+8860000,'Growth Data'!$A:$F,3,0))","v":"NO"},0,null,0,{"$f":"IF(DI168=\"YES\",IF(ISERROR(VLOOKUP($A168+8860000,'Growth Data'!$A:$F,6,0)),0,VLOOKUP($A168+8860000,'Growth Data'!$A:$F,6,0)),0)","v":0},0,null,0,{"$f":"IF(ISERROR(VLOOKUP($A168+8860000,'Growth Data'!$A:$Z,7,0)),0,VLOOKUP($A168+8860000,'Growth Data'!$A:$Z,7,0))","v":0},0,null,"NO",{"$f":"IF(ISERROR(VLOOKUP($A168+8860000,'Growth Data'!$A:$F,4,0)),\"NO\",VLOOKUP($A168+8860000,'Growth Data'!$A:$F,4,0))","v":"NO"},0,null,0,{"$f":"IF(ISERROR(VLOOKUP($A168+8860000,'Growth Data'!$A:$Z,8,0)),0,VLOOKUP($A168+8860000,'Growth Data'!$A:$Z,8,0))","v":0},0,null,0,{"$f":"IF(ISERROR(VLOOKUP($A168+8860000,'Growth Data'!$A:$Z,9,0)),0,VLOOKUP($A168+8860000,'Growth Data'!$A:$Z,9,0))","v":0},0,null,"NO",{"$f":"IF(ISERROR(VLOOKUP($A168+8860000,'Growth Data'!$A:$Z,5,0)),\"NO\",VLOOKUP($A168+8860000,'Growth Data'!$A:$Z,5,0))","v":"NO"},0,null,0,{"$f":"IF(ISERROR(VLOOKUP($A168+8860000,'Growth Data'!$A:$Z,10,0)),0,VLOOKUP($A168+8860000,'Growth Data'!$A:$Z,10,0))","v":0},0,null,0,{"$f":"IF(ISERROR(VLOOKUP($A168+8860000,'Growth Data'!$A:$Z,11,0)),0,VLOOKUP($A168+8860000,'Growth Data'!$A:$Z,11,0))","v":0},0]
[2187,"Offham Primary School",null,"Offham Primary School",null,1,null,598964.42000000004,598964.42257988197,-2.5798819260671735E-3,null,9794.2099999999991,9794.2096415094402,3.5849055893777404E-4,null,1248.22,1248.2212099447538,-1.2099447537821106E-3,null,36636.5,36636.498396067473,1.603932527359575E-3,null,120084,120083.99999999999,0,null,0,0,0,null,0,0,0,null,0,0,0,null,23827,23827,0,null,0,0,0,null,0,0,0,null,24522.65,24522.64817259612,1.8274038811796345E-3,null,815077,815076.99999999988,0,null,0,0,0,null,815077,815076.99999999988,0,null,0,null,0,null,3750,null,3750,null,0,null,0,null,53013.36,53013.361554529816,0,null,698.66,null,699,null,3750,3750,0,null,0,null,0,null,0,null,0,null,0,null,0,null,0,null,0,null,0,null,0,null,"NO",{"$f":"IF(ISERROR(VLOOKUP($A169+8860000,'Growth Data'!$A:$F,3,0)),\"NO\",VLOOKUP($A169+8860000,'Growth Data'!$A:$F,3,0))","v":"NO"},0,null,0,{"$f":"IF(DI169=\"YES\",IF(ISERROR(VLOOKUP($A169+8860000,'Growth Data'!$A:$F,6,0)),0,VLOOKUP($A169+8860000,'Growth Data'!$A:$F,6,0)),0)","v":0},0,null,0,{"$f":"IF(ISERROR(VLOOKUP($A169+8860000,'Growth Data'!$A:$Z,7,0)),0,VLOOKUP($A169+8860000,'Growth Data'!$A:$Z,7,0))","v":0},0,null,"NO",{"$f":"IF(ISERROR(VLOOKUP($A169+8860000,'Growth Data'!$A:$F,4,0)),\"NO\",VLOOKUP($A169+8860000,'Growth Data'!$A:$F,4,0))","v":"NO"},0,null,0,{"$f":"IF(ISERROR(VLOOKUP($A169+8860000,'Growth Data'!$A:$Z,8,0)),0,VLOOKUP($A169+8860000,'Growth Data'!$A:$Z,8,0))","v":0},0,null,0,{"$f":"IF(ISERROR(VLOOKUP($A169+8860000,'Growth Data'!$A:$Z,9,0)),0,VLOOKUP($A169+8860000,'Growth Data'!$A:$Z,9,0))","v":0},0,null,"NO",{"$f":"IF(ISERROR(VLOOKUP($A169+8860000,'Growth Data'!$A:$Z,5,0)),\"NO\",VLOOKUP($A169+8860000,'Growth Data'!$A:$Z,5,0))","v":"NO"},0,null,0,{"$f":"IF(ISERROR(VLOOKUP($A169+8860000,'Growth Data'!$A:$Z,10,0)),0,VLOOKUP($A169+8860000,'Growth Data'!$A:$Z,10,0))","v":0},0,null,0,{"$f":"IF(ISERROR(VLOOKUP($A169+8860000,'Growth Data'!$A:$Z,11,0)),0,VLOOKUP($A169+8860000,'Growth Data'!$A:$Z,11,0))","v":0},0]
[3108,"Ospringe CEP School",null,"Ospringe CEP School",null,1,null,607480.5,607480.5044175107,-4.4175107032060623E-3,null,87587.35,87587.349337837819,6.6216218692716211E-4,null,4177.04,4177.0364635416636,3.5364583363843849E-3,null,63420.41,63420.406010695086,3.9893049179227091E-3,null,120084,120083.99999999999,0,null,0,0,0,null,0,0,0,null,0,0,0,null,23079,23079,0,null,0,0,0,null,0,0,0,null,0,0,0,null,905828.3,905828.29622958519,3.7704148562625051E-3,null,0,0,0,null,905828.3,905828.29622958519,3.7704148562625051E-3,null,0,null,0,null,3563.86,null,3563.86,null,0,null,0,null,136202.21,136202.21411908272,0,null,0,null,0,null,4125,4124.9967113532039,0,null,0,null,0,null,0,null,0,null,0,null,0,null,0,null,0,null,0,null,0,null,"NO",{"$f":"IF(ISERROR(VLOOKUP($A170+8860000,'Growth Data'!$A:$F,3,0)),\"NO\",VLOOKUP($A170+8860000,'Growth Data'!$A:$F,3,0))","v":"NO"},0,null,0,{"$f":"IF(DI170=\"YES\",IF(ISERROR(VLOOKUP($A170+8860000,'Growth Data'!$A:$F,6,0)),0,VLOOKUP($A170+8860000,'Growth Data'!$A:$F,6,0)),0)","v":0},0,null,0,{"$f":"IF(ISERROR(VLOOKUP($A170+8860000,'Growth Data'!$A:$Z,7,0)),0,VLOOKUP($A170+8860000,'Growth Data'!$A:$Z,7,0))","v":0},0,null,"NO",{"$f":"IF(ISERROR(VLOOKUP($A170+8860000,'Growth Data'!$A:$F,4,0)),\"NO\",VLOOKUP($A170+8860000,'Growth Data'!$A:$F,4,0))","v":"NO"},0,null,0,{"$f":"IF(ISERROR(VLOOKUP($A170+8860000,'Growth Data'!$A:$Z,8,0)),0,VLOOKUP($A170+8860000,'Growth Data'!$A:$Z,8,0))","v":0},0,null,0,{"$f":"IF(ISERROR(VLOOKUP($A170+8860000,'Growth Data'!$A:$Z,9,0)),0,VLOOKUP($A170+8860000,'Growth Data'!$A:$Z,9,0))","v":0},0,null,"NO",{"$f":"IF(ISERROR(VLOOKUP($A170+8860000,'Growth Data'!$A:$Z,5,0)),\"NO\",VLOOKUP($A170+8860000,'Growth Data'!$A:$Z,5,0))","v":"NO"},0,null,0,{"$f":"IF(ISERROR(VLOOKUP($A170+8860000,'Growth Data'!$A:$Z,10,0)),0,VLOOKUP($A170+8860000,'Growth Data'!$A:$Z,10,0))","v":0},0,null,0,{"$f":"IF(ISERROR(VLOOKUP($A170+8860000,'Growth Data'!$A:$Z,11,0)),0,VLOOKUP($A170+8860000,'Growth Data'!$A:$Z,11,0))","v":0},0]
[2138,"Otford Primary School",null,"Otford Primary School",null,1,null,1124122.8,1124122.8025669823,-2.5669822935014963E-3,null,25512.93,25512.926556000002,3.4439999981259461E-3,null,1859.72,1859.7219473684202,-1.9473684201329888E-3,null,60108.05,60108.046199999822,3.800000180490315E-3,null,120084,120083.99999999999,0,null,0,0,0,null,48473.42,48473.424900640748,-4.9006407498382032E-3,null,0,0,0,null,29440,29440,0,null,0,0,0,null,0,0,0,null,104839.08,104839.07782900869,2.1709913125960156E-3,null,1514440,1514440,0,null,0,0,0,null,1514440,1514440,0,null,0,null,0,null,3750,null,3750,null,0,null,0,null,85459.35,85459.348915554103,0,null,0,null,0,null,3750,3750,0,null,0,null,0,null,0,null,0,null,0,null,0,null,0,null,0,null,0,null,0,null,"NO",{"$f":"IF(ISERROR(VLOOKUP($A171+8860000,'Growth Data'!$A:$F,3,0)),\"NO\",VLOOKUP($A171+8860000,'Growth Data'!$A:$F,3,0))","v":"NO"},0,null,0,{"$f":"IF(DI171=\"YES\",IF(ISERROR(VLOOKUP($A171+8860000,'Growth Data'!$A:$F,6,0)),0,VLOOKUP($A171+8860000,'Growth Data'!$A:$F,6,0)),0)","v":0},0,null,0,{"$f":"IF(ISERROR(VLOOKUP($A171+8860000,'Growth Data'!$A:$Z,7,0)),0,VLOOKUP($A171+8860000,'Growth Data'!$A:$Z,7,0))","v":0},0,null,"NO",{"$f":"IF(ISERROR(VLOOKUP($A171+8860000,'Growth Data'!$A:$F,4,0)),\"NO\",VLOOKUP($A171+8860000,'Growth Data'!$A:$F,4,0))","v":"NO"},0,null,0,{"$f":"IF(ISERROR(VLOOKUP($A171+8860000,'Growth Data'!$A:$Z,8,0)),0,VLOOKUP($A171+8860000,'Growth Data'!$A:$Z,8,0))","v":0},0,null,0,{"$f":"IF(ISERROR(VLOOKUP($A171+8860000,'Growth Data'!$A:$Z,9,0)),0,VLOOKUP($A171+8860000,'Growth Data'!$A:$Z,9,0))","v":0},0,null,"NO",{"$f":"IF(ISERROR(VLOOKUP($A171+8860000,'Growth Data'!$A:$Z,5,0)),\"NO\",VLOOKUP($A171+8860000,'Growth Data'!$A:$Z,5,0))","v":"NO"},0,null,0,{"$f":"IF(ISERROR(VLOOKUP($A171+8860000,'Growth Data'!$A:$Z,10,0)),0,VLOOKUP($A171+8860000,'Growth Data'!$A:$Z,10,0))","v":0},0,null,0,{"$f":"IF(ISERROR(VLOOKUP($A171+8860000,'Growth Data'!$A:$Z,11,0)),0,VLOOKUP($A171+8860000,'Growth Data'!$A:$Z,11,0))","v":0},0]
[3733,"Our Lady's Catholic Primary School, Dartford",null,"Our Lady's Catholic Primary School, Dartford",null,1,null,627351.36,627351.36203864415,-2.0386441610753536E-3,null,25181.33,25181.326927397266,3.0726027362106834E-3,null,11831.78,11831.776450000001,3.5499999994499376E-3,null,54159.25,54159.248590909061,1.4090909389778972E-3,null,120084,120083.99999999999,0,null,0,0,0,null,30525.32,30525.320789852987,-7.8985298750922084E-4,null,0,0,0,null,4096,4096,0,null,0,0,0,null,0,0,0,null,0,0,0,null,873229.03,873229.03479680349,-4.7968034632503986E-3,null,0,0,0,null,873229.03,873229.03479680349,-4.7968034632503986E-3,null,0,null,0,null,3369.58,null,3369.58,null,0,null,0,null,100019.63,100019.63122293593,0,null,0,null,0,null,3932.73,3932.7286642389317,0,null,0,null,0,null,0,null,0,null,0,null,0,null,0,null,0,null,0,null,0,null,"NO",{"$f":"IF(ISERROR(VLOOKUP($A172+8860000,'Growth Data'!$A:$F,3,0)),\"NO\",VLOOKUP($A172+8860000,'Growth Data'!$A:$F,3,0))","v":"NO"},0,null,0,{"$f":"IF(DI172=\"YES\",IF(ISERROR(VLOOKUP($A172+8860000,'Growth Data'!$A:$F,6,0)),0,VLOOKUP($A172+8860000,'Growth Data'!$A:$F,6,0)),0)","v":0},0,null,0,{"$f":"IF(ISERROR(VLOOKUP($A172+8860000,'Growth Data'!$A:$Z,7,0)),0,VLOOKUP($A172+8860000,'Growth Data'!$A:$Z,7,0))","v":0},0,null,"NO",{"$f":"IF(ISERROR(VLOOKUP($A172+8860000,'Growth Data'!$A:$F,4,0)),\"NO\",VLOOKUP($A172+8860000,'Growth Data'!$A:$F,4,0))","v":"NO"},0,null,0,{"$f":"IF(ISERROR(VLOOKUP($A172+8860000,'Growth Data'!$A:$Z,8,0)),0,VLOOKUP($A172+8860000,'Growth Data'!$A:$Z,8,0))","v":0},0,null,0,{"$f":"IF(ISERROR(VLOOKUP($A172+8860000,'Growth Data'!$A:$Z,9,0)),0,VLOOKUP($A172+8860000,'Growth Data'!$A:$Z,9,0))","v":0},0,null,"NO",{"$f":"IF(ISERROR(VLOOKUP($A172+8860000,'Growth Data'!$A:$Z,5,0)),\"NO\",VLOOKUP($A172+8860000,'Growth Data'!$A:$Z,5,0))","v":"NO"},0,null,0,{"$f":"IF(ISERROR(VLOOKUP($A172+8860000,'Growth Data'!$A:$Z,10,0)),0,VLOOKUP($A172+8860000,'Growth Data'!$A:$Z,10,0))","v":0},0,null,0,{"$f":"IF(ISERROR(VLOOKUP($A172+8860000,'Growth Data'!$A:$Z,11,0)),0,VLOOKUP($A172+8860000,'Growth Data'!$A:$Z,11,0))","v":0},0]
[2525,"Painters Ash Primary School",null,"Painters Ash Primary School",null,1,null,1163864.52,1163864.5178092495,2.1907505579292774E-3,null,107778.71,107778.7134927006,-3.4927005908684805E-3,null,22513.18,22513.184102564199,-4.1025641985470429E-3,null,115927.01,115927.01051020426,-5.1020426326431334E-4,null,120084,120083.99999999999,0,null,0,0,0,null,0,0,0,null,0,0,0,null,41728,41728,0,null,0,0,0,null,0,0,0,null,7332.57,7332.5740852814633,-4.0852814636309631E-3,null,1579228,1579228,0,null,0,0,0,null,1579228,1579228,0,null,0,null,0,null,3750,null,3750,null,0,null,0,null,221832.55,221832.55041247729,0,null,0,null,0,null,3750,3750,0,null,0,null,0,null,0,null,0,null,0,null,0,null,0,null,0,null,0,null,0,null,"NO",{"$f":"IF(ISERROR(VLOOKUP($A173+8860000,'Growth Data'!$A:$F,3,0)),\"NO\",VLOOKUP($A173+8860000,'Growth Data'!$A:$F,3,0))","v":"NO"},0,null,0,{"$f":"IF(DI173=\"YES\",IF(ISERROR(VLOOKUP($A173+8860000,'Growth Data'!$A:$F,6,0)),0,VLOOKUP($A173+8860000,'Growth Data'!$A:$F,6,0)),0)","v":0},0,null,0,{"$f":"IF(ISERROR(VLOOKUP($A173+8860000,'Growth Data'!$A:$Z,7,0)),0,VLOOKUP($A173+8860000,'Growth Data'!$A:$Z,7,0))","v":0},0,null,"NO",{"$f":"IF(ISERROR(VLOOKUP($A173+8860000,'Growth Data'!$A:$F,4,0)),\"NO\",VLOOKUP($A173+8860000,'Growth Data'!$A:$F,4,0))","v":"NO"},0,null,0,{"$f":"IF(ISERROR(VLOOKUP($A173+8860000,'Growth Data'!$A:$Z,8,0)),0,VLOOKUP($A173+8860000,'Growth Data'!$A:$Z,8,0))","v":0},0,null,0,{"$f":"IF(ISERROR(VLOOKUP($A173+8860000,'Growth Data'!$A:$Z,9,0)),0,VLOOKUP($A173+8860000,'Growth Data'!$A:$Z,9,0))","v":0},0,null,"NO",{"$f":"IF(ISERROR(VLOOKUP($A173+8860000,'Growth Data'!$A:$Z,5,0)),\"NO\",VLOOKUP($A173+8860000,'Growth Data'!$A:$Z,5,0))","v":"NO"},0,null,0,{"$f":"IF(ISERROR(VLOOKUP($A173+8860000,'Growth Data'!$A:$Z,10,0)),0,VLOOKUP($A173+8860000,'Growth Data'!$A:$Z,10,0))","v":0},0,null,0,{"$f":"IF(ISERROR(VLOOKUP($A173+8860000,'Growth Data'!$A:$Z,11,0)),0,VLOOKUP($A173+8860000,'Growth Data'!$A:$Z,11,0))","v":0},0]
[3906,"Palace Wood Primary School",null,"Palace Wood Primary School",null,1,null,1166703.21,1166703.2117551256,-1.7551255878061056E-3,null,69833.39,69833.388207704149,1.7922958504641429E-3,null,14710.12,14710.122752089141,-2.7520891399035463E-3,null,104109.43,104109.43432173919,-4.321739193983376E-3,null,120084,120083.99999999999,0,null,0,0,0,null,0,0,0,null,0,0,0,null,34304,34304,0,null,0,0,0,null,0,0,0,null,65809.84,65809.842963341856,-2.9633418598677963E-3,null,1575554,1575553.9999999998,0,null,0,0,0,null,1575554,1575553.9999999998,0,null,0,null,0,null,3750,null,3750,null,0,null,0,null,168769.74,168769.73758854065,0,null,0,null,0,null,3750,3750,0,null,0,null,0,null,0,null,0,null,0,null,0,null,0,null,0,null,0,null,0,null,"NO",{"$f":"IF(ISERROR(VLOOKUP($A174+8860000,'Growth Data'!$A:$F,3,0)),\"NO\",VLOOKUP($A174+8860000,'Growth Data'!$A:$F,3,0))","v":"NO"},0,null,0,{"$f":"IF(DI174=\"YES\",IF(ISERROR(VLOOKUP($A174+8860000,'Growth Data'!$A:$F,6,0)),0,VLOOKUP($A174+8860000,'Growth Data'!$A:$F,6,0)),0)","v":0},0,null,0,{"$f":"IF(ISERROR(VLOOKUP($A174+8860000,'Growth Data'!$A:$Z,7,0)),0,VLOOKUP($A174+8860000,'Growth Data'!$A:$Z,7,0))","v":0},0,null,"NO",{"$f":"IF(ISERROR(VLOOKUP($A174+8860000,'Growth Data'!$A:$F,4,0)),\"NO\",VLOOKUP($A174+8860000,'Growth Data'!$A:$F,4,0))","v":"NO"},0,null,0,{"$f":"IF(ISERROR(VLOOKUP($A174+8860000,'Growth Data'!$A:$Z,8,0)),0,VLOOKUP($A174+8860000,'Growth Data'!$A:$Z,8,0))","v":0},0,null,0,{"$f":"IF(ISERROR(VLOOKUP($A174+8860000,'Growth Data'!$A:$Z,9,0)),0,VLOOKUP($A174+8860000,'Growth Data'!$A:$Z,9,0))","v":0},0,null,"NO",{"$f":"IF(ISERROR(VLOOKUP($A174+8860000,'Growth Data'!$A:$Z,5,0)),\"NO\",VLOOKUP($A174+8860000,'Growth Data'!$A:$Z,5,0))","v":"NO"},0,null,0,{"$f":"IF(ISERROR(VLOOKUP($A174+8860000,'Growth Data'!$A:$Z,10,0)),0,VLOOKUP($A174+8860000,'Growth Data'!$A:$Z,10,0))","v":0},0,null,0,{"$f":"IF(ISERROR(VLOOKUP($A174+8860000,'Growth Data'!$A:$Z,11,0)),0,VLOOKUP($A174+8860000,'Growth Data'!$A:$Z,11,0))","v":0},0]
[2672,"Palm Bay Primary School",null,"Palm Bay Primary School",null,1,null,1203606.23,1203606.2330515166,-3.0515165999531746E-3,null,97239.2,97239.202497658,-2.4976580025395378E-3,null,5016.55,5016.5478011049827,2.1988950175000355E-3,null,113907.82,113907.82374515245,-3.7451524403877556E-3,null,120084,120083.99999999999,0,null,0,0,0,null,0,0,0,null,0,0,0,null,54272,54272,0,null,0,0,0,null,0,0,0,null,50146.19,50146.192904568044,-2.9045680421404541E-3,null,1644272,1644272.0000000002,0,null,0,0,0,null,1644272,1644272.0000000002,0,null,0,null,0,null,3750,null,3750,null,0,null,0,null,201684.15,201684.14635092355,0,null,0,null,0,null,3750,3750,0,null,0,null,0,null,0,null,0,null,0,null,0,null,0,null,0,null,0,null,0,null,"NO",{"$f":"IF(ISERROR(VLOOKUP($A175+8860000,'Growth Data'!$A:$F,3,0)),\"NO\",VLOOKUP($A175+8860000,'Growth Data'!$A:$F,3,0))","v":"NO"},0,null,0,{"$f":"IF(DI175=\"YES\",IF(ISERROR(VLOOKUP($A175+8860000,'Growth Data'!$A:$F,6,0)),0,VLOOKUP($A175+8860000,'Growth Data'!$A:$F,6,0)),0)","v":0},0,null,0,{"$f":"IF(ISERROR(VLOOKUP($A175+8860000,'Growth Data'!$A:$Z,7,0)),0,VLOOKUP($A175+8860000,'Growth Data'!$A:$Z,7,0))","v":0},0,null,"NO",{"$f":"IF(ISERROR(VLOOKUP($A175+8860000,'Growth Data'!$A:$F,4,0)),\"NO\",VLOOKUP($A175+8860000,'Growth Data'!$A:$F,4,0))","v":"NO"},0,null,0,{"$f":"IF(ISERROR(VLOOKUP($A175+8860000,'Growth Data'!$A:$Z,8,0)),0,VLOOKUP($A175+8860000,'Growth Data'!$A:$Z,8,0))","v":0},0,null,0,{"$f":"IF(ISERROR(VLOOKUP($A175+8860000,'Growth Data'!$A:$Z,9,0)),0,VLOOKUP($A175+8860000,'Growth Data'!$A:$Z,9,0))","v":0},0,null,"NO",{"$f":"IF(ISERROR(VLOOKUP($A175+8860000,'Growth Data'!$A:$Z,5,0)),\"NO\",VLOOKUP($A175+8860000,'Growth Data'!$A:$Z,5,0))","v":"NO"},0,null,0,{"$f":"IF(ISERROR(VLOOKUP($A175+8860000,'Growth Data'!$A:$Z,10,0)),0,VLOOKUP($A175+8860000,'Growth Data'!$A:$Z,10,0))","v":0},0,null,0,{"$f":"IF(ISERROR(VLOOKUP($A175+8860000,'Growth Data'!$A:$Z,11,0)),0,VLOOKUP($A175+8860000,'Growth Data'!$A:$Z,11,0))","v":0},0]
[2524,"Palmarsh Primary School",null,"Palmarsh Primary School",null,1,null,442836.26,442836.25555669004,4.4433099683374166E-3,null,43082.7,43082.695232467508,4.7675324894953519E-3,null,1219.25,1219.2470364963501,2.9635036498802947E-3,null,52899.73,52899.731181818155,-1.1818181519629434E-3,null,120084,120083.99999999999,0,null,0,0,0,null,0,0,0,null,0,0,0,null,16218,16218,0,null,0,0,0,null,0,0,0,null,0,0,0,null,676339.93,676339.929007472,9.9252804648131132E-4,null,0,0,0,null,676339.93,676339.929007472,9.9252804648131132E-4,null,0,null,0,null,3461.78,null,3461.78,null,0,null,0,null,91278.23,91278.230757790167,0,null,0,null,0,null,4231.55,4231.5508269709762,0,null,0,null,0,null,0,null,0,null,0,null,0,null,0,null,0,null,0,null,0,null,"NO",{"$f":"IF(ISERROR(VLOOKUP($A176+8860000,'Growth Data'!$A:$F,3,0)),\"NO\",VLOOKUP($A176+8860000,'Growth Data'!$A:$F,3,0))","v":"NO"},0,null,0,{"$f":"IF(DI176=\"YES\",IF(ISERROR(VLOOKUP($A176+8860000,'Growth Data'!$A:$F,6,0)),0,VLOOKUP($A176+8860000,'Growth Data'!$A:$F,6,0)),0)","v":0},0,null,0,{"$f":"IF(ISERROR(VLOOKUP($A176+8860000,'Growth Data'!$A:$Z,7,0)),0,VLOOKUP($A176+8860000,'Growth Data'!$A:$Z,7,0))","v":0},0,null,"YES",{"$f":"IF(ISERROR(VLOOKUP($A176+8860000,'Growth Data'!$A:$F,4,0)),\"NO\",VLOOKUP($A176+8860000,'Growth Data'!$A:$F,4,0))","v":"NO"},1,null,30,{"$f":"IF(ISERROR(VLOOKUP($A176+8860000,'Growth Data'!$A:$Z,8,0)),0,VLOOKUP($A176+8860000,'Growth Data'!$A:$Z,8,0))","v":0},1,null,60,{"$f":"IF(ISERROR(VLOOKUP($A176+8860000,'Growth Data'!$A:$Z,9,0)),0,VLOOKUP($A176+8860000,'Growth Data'!$A:$Z,9,0))","v":0},1,null,"YES",{"$f":"IF(ISERROR(VLOOKUP($A176+8860000,'Growth Data'!$A:$Z,5,0)),\"NO\",VLOOKUP($A176+8860000,'Growth Data'!$A:$Z,5,0))","v":"NO"},1,null,30,{"$f":"IF(ISERROR(VLOOKUP($A176+8860000,'Growth Data'!$A:$Z,10,0)),0,VLOOKUP($A176+8860000,'Growth Data'!$A:$Z,10,0))","v":0},1,null,60,{"$f":"IF(ISERROR(VLOOKUP($A176+8860000,'Growth Data'!$A:$Z,11,0)),0,VLOOKUP($A176+8860000,'Growth Data'!$A:$Z,11,0))","v":0},1]
[2176,"Park Way Primary School",null,"Park Way Primary School",null,1,null,882833.82,882833.81716750388,2.8324960730969906E-3,null,108699.97,108699.97181948059,-1.8194805888924748E-3,null,25377.55,25377.547395910711,2.6040892880700994E-3,null,100815.08,100815.0836937501,-3.6937500990461558E-3,null,120084,120083.99999999999,0,null,0,0,0,null,0,0,0,null,0,0,0,null,28416,28416,0,null,0,0,0,null,0,0,0,null,0,0,0,null,1266226.42,1266226.4200766452,-7.6645286753773689E-5,null,0,0,0,null,1266226.42,1266226.4200766452,-7.6645286753773689E-5,null,0,null,0,null,3593.98,null,3593.98,null,0,null,0,null,210055.93,210055.93021614949,0,null,0,null,0,null,3980.1,3980.0978137512725,0,null,0,null,0,null,0,null,0,null,0,null,0,null,0,null,0,null,0,null,0,null,"NO",{"$f":"IF(ISERROR(VLOOKUP($A177+8860000,'Growth Data'!$A:$F,3,0)),\"NO\",VLOOKUP($A177+8860000,'Growth Data'!$A:$F,3,0))","v":"NO"},0,null,0,{"$f":"IF(DI177=\"YES\",IF(ISERROR(VLOOKUP($A177+8860000,'Growth Data'!$A:$F,6,0)),0,VLOOKUP($A177+8860000,'Growth Data'!$A:$F,6,0)),0)","v":0},0,null,0,{"$f":"IF(ISERROR(VLOOKUP($A177+8860000,'Growth Data'!$A:$Z,7,0)),0,VLOOKUP($A177+8860000,'Growth Data'!$A:$Z,7,0))","v":0},0,null,"NO",{"$f":"IF(ISERROR(VLOOKUP($A177+8860000,'Growth Data'!$A:$F,4,0)),\"NO\",VLOOKUP($A177+8860000,'Growth Data'!$A:$F,4,0))","v":"NO"},0,null,0,{"$f":"IF(ISERROR(VLOOKUP($A177+8860000,'Growth Data'!$A:$Z,8,0)),0,VLOOKUP($A177+8860000,'Growth Data'!$A:$Z,8,0))","v":0},0,null,0,{"$f":"IF(ISERROR(VLOOKUP($A177+8860000,'Growth Data'!$A:$Z,9,0)),0,VLOOKUP($A177+8860000,'Growth Data'!$A:$Z,9,0))","v":0},0,null,"NO",{"$f":"IF(ISERROR(VLOOKUP($A177+8860000,'Growth Data'!$A:$Z,5,0)),\"NO\",VLOOKUP($A177+8860000,'Growth Data'!$A:$Z,5,0))","v":"NO"},0,null,0,{"$f":"IF(ISERROR(VLOOKUP($A177+8860000,'Growth Data'!$A:$Z,10,0)),0,VLOOKUP($A177+8860000,'Growth Data'!$A:$Z,10,0))","v":0},0,null,0,{"$f":"IF(ISERROR(VLOOKUP($A177+8860000,'Growth Data'!$A:$Z,11,0)),0,VLOOKUP($A177+8860000,'Growth Data'!$A:$Z,11,0))","v":0},0]
[2607,"Parkside Community Primary School",null,"Parkside Community Primary School",null,1,null,252643.76,252643.76118298341,-1.1829833965748549E-3,null,75071.77,75071.771545161289,-1.5451612853212282E-3,null,3054.38,3054.3801602564099,-1.6025640979933087E-4,null,53272.68,53272.675746575311,4.2534246895229444E-3,null,120084,120083.99999999999,0,null,0,0,0,null,0,0,0,null,0,0,0,null,20958,20958,0,null,0,0,0,null,0,0,0,null,0,0,0,null,525084.59,525084.58863497642,1.3650235487148166E-3,null,6824.62,6824.6226217446383,-2.6217446384180221E-3,null,531909.21,531909.21125672106,-1.256721094250679E-3,null,0,null,0,null,4391.7700000000004,null,4391.7700000000004,null,0,null,0,null,113767.19,113767.19475900117,0,null,0,null,0,null,5741.02,5741.0248458768183,0,null,0,null,0,null,0,null,0,null,0,null,0,null,0,null,0,null,0,null,0,null,"NO",{"$f":"IF(ISERROR(VLOOKUP($A178+8860000,'Growth Data'!$A:$F,3,0)),\"NO\",VLOOKUP($A178+8860000,'Growth Data'!$A:$F,3,0))","v":"NO"},0,null,0,{"$f":"IF(DI178=\"YES\",IF(ISERROR(VLOOKUP($A178+8860000,'Growth Data'!$A:$F,6,0)),0,VLOOKUP($A178+8860000,'Growth Data'!$A:$F,6,0)),0)","v":0},0,null,0,{"$f":"IF(ISERROR(VLOOKUP($A178+8860000,'Growth Data'!$A:$Z,7,0)),0,VLOOKUP($A178+8860000,'Growth Data'!$A:$Z,7,0))","v":0},0,null,"NO",{"$f":"IF(ISERROR(VLOOKUP($A178+8860000,'Growth Data'!$A:$F,4,0)),\"NO\",VLOOKUP($A178+8860000,'Growth Data'!$A:$F,4,0))","v":"NO"},0,null,0,{"$f":"IF(ISERROR(VLOOKUP($A178+8860000,'Growth Data'!$A:$Z,8,0)),0,VLOOKUP($A178+8860000,'Growth Data'!$A:$Z,8,0))","v":0},0,null,0,{"$f":"IF(ISERROR(VLOOKUP($A178+8860000,'Growth Data'!$A:$Z,9,0)),0,VLOOKUP($A178+8860000,'Growth Data'!$A:$Z,9,0))","v":0},0,null,"NO",{"$f":"IF(ISERROR(VLOOKUP($A178+8860000,'Growth Data'!$A:$Z,5,0)),\"NO\",VLOOKUP($A178+8860000,'Growth Data'!$A:$Z,5,0))","v":"NO"},0,null,0,{"$f":"IF(ISERROR(VLOOKUP($A178+8860000,'Growth Data'!$A:$Z,10,0)),0,VLOOKUP($A178+8860000,'Growth Data'!$A:$Z,10,0))","v":0},0,null,0,{"$f":"IF(ISERROR(VLOOKUP($A178+8860000,'Growth Data'!$A:$Z,11,0)),0,VLOOKUP($A178+8860000,'Growth Data'!$A:$Z,11,0))","v":0},0]
[2139,"Pembury School",null,"Pembury School",null,1,null,1178057.99,1178057.9875386306,2.4613693822175264E-3,null,23051,23050.997390300228,2.6096997717104387E-3,null,13106.15,13106.148223314602,1.7766853979992447E-3,null,83402.2,83402.197842857335,2.1571426623268053E-3,null,120084,120083.99999999999,0,null,0,0,0,null,0,0,0,null,0,0,0,null,42496,42496,0,null,0,0,0,null,0,0,0,null,138548.67000000001,138548.66900489735,9.9510265863500535E-4,null,1598746,1598746.0000000002,0,null,0,0,0,null,1598746,1598746.0000000002,0,null,0,null,0,null,3750,null,3750,null,0,null,0,null,116788.11,116788.10576348031,0,null,0,null,0,null,3750,3750,0,null,0,null,0,null,0,null,0,null,0,null,0,null,0,null,0,null,0,null,0,null,"NO",{"$f":"IF(ISERROR(VLOOKUP($A179+8860000,'Growth Data'!$A:$F,3,0)),\"NO\",VLOOKUP($A179+8860000,'Growth Data'!$A:$F,3,0))","v":"NO"},0,null,0,{"$f":"IF(DI179=\"YES\",IF(ISERROR(VLOOKUP($A179+8860000,'Growth Data'!$A:$F,6,0)),0,VLOOKUP($A179+8860000,'Growth Data'!$A:$F,6,0)),0)","v":0},0,null,0,{"$f":"IF(ISERROR(VLOOKUP($A179+8860000,'Growth Data'!$A:$Z,7,0)),0,VLOOKUP($A179+8860000,'Growth Data'!$A:$Z,7,0))","v":0},0,null,"NO",{"$f":"IF(ISERROR(VLOOKUP($A179+8860000,'Growth Data'!$A:$F,4,0)),\"NO\",VLOOKUP($A179+8860000,'Growth Data'!$A:$F,4,0))","v":"NO"},0,null,0,{"$f":"IF(ISERROR(VLOOKUP($A179+8860000,'Growth Data'!$A:$Z,8,0)),0,VLOOKUP($A179+8860000,'Growth Data'!$A:$Z,8,0))","v":0},0,null,0,{"$f":"IF(ISERROR(VLOOKUP($A179+8860000,'Growth Data'!$A:$Z,9,0)),0,VLOOKUP($A179+8860000,'Growth Data'!$A:$Z,9,0))","v":0},0,null,"NO",{"$f":"IF(ISERROR(VLOOKUP($A179+8860000,'Growth Data'!$A:$Z,5,0)),\"NO\",VLOOKUP($A179+8860000,'Growth Data'!$A:$Z,5,0))","v":"NO"},0,null,0,{"$f":"IF(ISERROR(VLOOKUP($A179+8860000,'Growth Data'!$A:$Z,10,0)),0,VLOOKUP($A179+8860000,'Growth Data'!$A:$Z,10,0))","v":0},0,null,0,{"$f":"IF(ISERROR(VLOOKUP($A179+8860000,'Growth Data'!$A:$Z,11,0)),0,VLOOKUP($A179+8860000,'Growth Data'!$A:$Z,11,0))","v":0},0]
[3314,"Penshurst CEP School",null,"Penshurst CEP School",null,1,null,246966.37,246966.37329123096,-3.2912309688981622E-3,null,4419.84,4419.841725000003,-1.7250000028070644E-3,null,612.86,612.86291447368399,-2.9144736839725738E-3,null,16511.759999999998,16511.755623287678,4.3767123206635006E-3,null,120084,120083.99999999999,0,null,0,0,0,null,14144.85,14144.851941365316,-1.9413653153605992E-3,null,0,0,0,null,2048,2048,0,null,0,0,0,null,0,0,0,null,0,0,0,null,404787.69,404787.68549535767,4.5046423329040408E-3,null,0,0,0,null,404787.69,404787.68549535767,4.5046423329040408E-3,null,0,null,0,null,3198.67,null,3198.67,null,0,null,0,null,27390.58,27390.577793309119,0,null,3260.94,null,3261,null,4629.1899999999996,4629.1917873029633,0,null,0,null,0,null,0,null,0,null,0,null,0,null,0,null,0,null,0,null,0,null,"NO",{"$f":"IF(ISERROR(VLOOKUP($A180+8860000,'Growth Data'!$A:$F,3,0)),\"NO\",VLOOKUP($A180+8860000,'Growth Data'!$A:$F,3,0))","v":"NO"},0,null,0,{"$f":"IF(DI180=\"YES\",IF(ISERROR(VLOOKUP($A180+8860000,'Growth Data'!$A:$F,6,0)),0,VLOOKUP($A180+8860000,'Growth Data'!$A:$F,6,0)),0)","v":0},0,null,0,{"$f":"IF(ISERROR(VLOOKUP($A180+8860000,'Growth Data'!$A:$Z,7,0)),0,VLOOKUP($A180+8860000,'Growth Data'!$A:$Z,7,0))","v":0},0,null,"NO",{"$f":"IF(ISERROR(VLOOKUP($A180+8860000,'Growth Data'!$A:$F,4,0)),\"NO\",VLOOKUP($A180+8860000,'Growth Data'!$A:$F,4,0))","v":"NO"},0,null,0,{"$f":"IF(ISERROR(VLOOKUP($A180+8860000,'Growth Data'!$A:$Z,8,0)),0,VLOOKUP($A180+8860000,'Growth Data'!$A:$Z,8,0))","v":0},0,null,0,{"$f":"IF(ISERROR(VLOOKUP($A180+8860000,'Growth Data'!$A:$Z,9,0)),0,VLOOKUP($A180+8860000,'Growth Data'!$A:$Z,9,0))","v":0},0,null,"NO",{"$f":"IF(ISERROR(VLOOKUP($A180+8860000,'Growth Data'!$A:$Z,5,0)),\"NO\",VLOOKUP($A180+8860000,'Growth Data'!$A:$Z,5,0))","v":"NO"},0,null,0,{"$f":"IF(ISERROR(VLOOKUP($A180+8860000,'Growth Data'!$A:$Z,10,0)),0,VLOOKUP($A180+8860000,'Growth Data'!$A:$Z,10,0))","v":0},0,null,0,{"$f":"IF(ISERROR(VLOOKUP($A180+8860000,'Growth Data'!$A:$Z,11,0)),0,VLOOKUP($A180+8860000,'Growth Data'!$A:$Z,11,0))","v":0},0]
[3893,"Phoenix Community Primary School",null,"Phoenix Community Primary School",null,1,null,590448.34,590448.34074225335,-7.422533817589283E-4,null,104973.61,104973.60715741625,2.8425837517715991E-3,null,10695.39,10695.391141242937,-1.1412429375923239E-3,null,66754.42,66754.422681818265,-2.681818266864866E-3,null,120084,120083.99999999999,0,null,0,0,0,null,0,0,0,null,0,0,0,null,53248,53248,0,null,0,0,0,null,0,0,0,null,0,0,0,null,946203.76,946203.76172273082,-1.7227308126166463E-3,null,0,0,0,null,946203.76,946203.76172273082,-1.7227308126166463E-3,null,0,null,0,null,3715.73,null,3715.73,null,0,null,0,null,156235.79999999999,156235.80328748561,0,null,0,null,0,null,4293.0600000000004,4293.0565467439001,0,null,0,null,0,null,0,null,0,null,0,null,0,null,0,null,0,null,0,null,0,null,"NO",{"$f":"IF(ISERROR(VLOOKUP($A181+8860000,'Growth Data'!$A:$F,3,0)),\"NO\",VLOOKUP($A181+8860000,'Growth Data'!$A:$F,3,0))","v":"NO"},0,null,0,{"$f":"IF(DI181=\"YES\",IF(ISERROR(VLOOKUP($A181+8860000,'Growth Data'!$A:$F,6,0)),0,VLOOKUP($A181+8860000,'Growth Data'!$A:$F,6,0)),0)","v":0},0,null,0,{"$f":"IF(ISERROR(VLOOKUP($A181+8860000,'Growth Data'!$A:$Z,7,0)),0,VLOOKUP($A181+8860000,'Growth Data'!$A:$Z,7,0))","v":0},0,null,"NO",{"$f":"IF(ISERROR(VLOOKUP($A181+8860000,'Growth Data'!$A:$F,4,0)),\"NO\",VLOOKUP($A181+8860000,'Growth Data'!$A:$F,4,0))","v":"NO"},0,null,0,{"$f":"IF(ISERROR(VLOOKUP($A181+8860000,'Growth Data'!$A:$Z,8,0)),0,VLOOKUP($A181+8860000,'Growth Data'!$A:$Z,8,0))","v":0},0,null,0,{"$f":"IF(ISERROR(VLOOKUP($A181+8860000,'Growth Data'!$A:$Z,9,0)),0,VLOOKUP($A181+8860000,'Growth Data'!$A:$Z,9,0))","v":0},0,null,"NO",{"$f":"IF(ISERROR(VLOOKUP($A181+8860000,'Growth Data'!$A:$Z,5,0)),\"NO\",VLOOKUP($A181+8860000,'Growth Data'!$A:$Z,5,0))","v":"NO"},0,null,0,{"$f":"IF(ISERROR(VLOOKUP($A181+8860000,'Growth Data'!$A:$Z,10,0)),0,VLOOKUP($A181+8860000,'Growth Data'!$A:$Z,10,0))","v":0},0,null,0,{"$f":"IF(ISERROR(VLOOKUP($A181+8860000,'Growth Data'!$A:$Z,11,0)),0,VLOOKUP($A181+8860000,'Growth Data'!$A:$Z,11,0))","v":0},0]
[3325,"Platt CEP School",null,"Platt CEP School",null,1,null,451352.34,451352.33739431866,2.6056813658215106E-3,null,15646.95,15646.9452,4.8000000006140908E-3,null,1920.1,1920.1025300751871,-2.5300751872237015E-3,null,35467.019999999997,35467.01884883715,1.1511628472362645E-3,null,120084,120083.99999999999,0,null,0,0,0,null,0,0,0,null,0,0,0,null,2918,2918,0,null,0,0,0,null,0,0,0,null,0,0,0,null,627388.4,627388.40397323098,-3.9732309523969889E-3,null,0,0,0,null,627388.4,627388.40397323098,-3.9732309523969889E-3,null,0,null,0,null,3172.24,null,3172.24,null,0,null,0,null,52964.72,52964.718885920491,0,null,703.53,null,704,null,3927.49,3927.4868174417056,0,null,0,null,0,null,0,null,0,null,0,null,0,null,0,null,0,null,0,null,0,null,"NO",{"$f":"IF(ISERROR(VLOOKUP($A182+8860000,'Growth Data'!$A:$F,3,0)),\"NO\",VLOOKUP($A182+8860000,'Growth Data'!$A:$F,3,0))","v":"NO"},0,null,0,{"$f":"IF(DI182=\"YES\",IF(ISERROR(VLOOKUP($A182+8860000,'Growth Data'!$A:$F,6,0)),0,VLOOKUP($A182+8860000,'Growth Data'!$A:$F,6,0)),0)","v":0},0,null,0,{"$f":"IF(ISERROR(VLOOKUP($A182+8860000,'Growth Data'!$A:$Z,7,0)),0,VLOOKUP($A182+8860000,'Growth Data'!$A:$Z,7,0))","v":0},0,null,"NO",{"$f":"IF(ISERROR(VLOOKUP($A182+8860000,'Growth Data'!$A:$F,4,0)),\"NO\",VLOOKUP($A182+8860000,'Growth Data'!$A:$F,4,0))","v":"NO"},0,null,0,{"$f":"IF(ISERROR(VLOOKUP($A182+8860000,'Growth Data'!$A:$Z,8,0)),0,VLOOKUP($A182+8860000,'Growth Data'!$A:$Z,8,0))","v":0},0,null,0,{"$f":"IF(ISERROR(VLOOKUP($A182+8860000,'Growth Data'!$A:$Z,9,0)),0,VLOOKUP($A182+8860000,'Growth Data'!$A:$Z,9,0))","v":0},0,null,"NO",{"$f":"IF(ISERROR(VLOOKUP($A182+8860000,'Growth Data'!$A:$Z,5,0)),\"NO\",VLOOKUP($A182+8860000,'Growth Data'!$A:$Z,5,0))","v":"NO"},0,null,0,{"$f":"IF(ISERROR(VLOOKUP($A182+8860000,'Growth Data'!$A:$Z,10,0)),0,VLOOKUP($A182+8860000,'Growth Data'!$A:$Z,10,0))","v":0},0,null,0,{"$f":"IF(ISERROR(VLOOKUP($A182+8860000,'Growth Data'!$A:$Z,11,0)),0,VLOOKUP($A182+8860000,'Growth Data'!$A:$Z,11,0))","v":0},0]
[2169,"Platts Heath Primary School",null,"Platts Heath Primary School",null,1,null,187353.8,187353.8004278304,-4.2783041135407984E-4,null,11269.88,11269.883400000002,-3.4000000032392563E-3,null,619.91,619.90731578947339,2.6842105265814098E-3,null,20841.25,20841.245333333311,4.6666666894452646E-3,null,120084,120083.99999999999,0,null,0,0,0,null,0,0,0,null,0,0,0,null,2345,2345,0,null,0,0,0,null,0,0,0,null,0,0,0,null,342513.84,342513.83647695318,3.5230468492954969E-3,null,0,0,0,null,342513.84,342513.83647695318,3.5230468492954969E-3,null,0,null,0,null,3334.62,null,3334.62,null,0,null,0,null,33112,33112.003356130932,0,null,2688.8,null,2689,null,5154.07,5154.0732799538382,0,null,0,null,0,null,0,null,0,null,0,null,0,null,0,null,0,null,0,null,0,null,"NO",{"$f":"IF(ISERROR(VLOOKUP($A183+8860000,'Growth Data'!$A:$F,3,0)),\"NO\",VLOOKUP($A183+8860000,'Growth Data'!$A:$F,3,0))","v":"NO"},0,null,0,{"$f":"IF(DI183=\"YES\",IF(ISERROR(VLOOKUP($A183+8860000,'Growth Data'!$A:$F,6,0)),0,VLOOKUP($A183+8860000,'Growth Data'!$A:$F,6,0)),0)","v":0},0,null,0,{"$f":"IF(ISERROR(VLOOKUP($A183+8860000,'Growth Data'!$A:$Z,7,0)),0,VLOOKUP($A183+8860000,'Growth Data'!$A:$Z,7,0))","v":0},0,null,"NO",{"$f":"IF(ISERROR(VLOOKUP($A183+8860000,'Growth Data'!$A:$F,4,0)),\"NO\",VLOOKUP($A183+8860000,'Growth Data'!$A:$F,4,0))","v":"NO"},0,null,0,{"$f":"IF(ISERROR(VLOOKUP($A183+8860000,'Growth Data'!$A:$Z,8,0)),0,VLOOKUP($A183+8860000,'Growth Data'!$A:$Z,8,0))","v":0},0,null,0,{"$f":"IF(ISERROR(VLOOKUP($A183+8860000,'Growth Data'!$A:$Z,9,0)),0,VLOOKUP($A183+8860000,'Growth Data'!$A:$Z,9,0))","v":0},0,null,"NO",{"$f":"IF(ISERROR(VLOOKUP($A183+8860000,'Growth Data'!$A:$Z,5,0)),\"NO\",VLOOKUP($A183+8860000,'Growth Data'!$A:$Z,5,0))","v":"NO"},0,null,0,{"$f":"IF(ISERROR(VLOOKUP($A183+8860000,'Growth Data'!$A:$Z,10,0)),0,VLOOKUP($A183+8860000,'Growth Data'!$A:$Z,10,0))","v":0},0,null,0,{"$f":"IF(ISERROR(VLOOKUP($A183+8860000,'Growth Data'!$A:$Z,11,0)),0,VLOOKUP($A183+8860000,'Growth Data'!$A:$Z,11,0))","v":0},0]
[2188,"Plaxtol Primary School",null,"Plaxtol Primary School",null,1,null,272514.62,272514.61880411697,1.195883029140532E-3,null,6132.29,6132.2895999999964,4.0000000353757059E-4,null,0,0,0,null,16154.46,16154.458105263133,1.8947368662338704E-3,null,120084,120083.99999999999,0,null,0,0,0,null,0,0,0,null,0,0,0,null,13847,13847,0,null,0,0,0,null,0,0,0,null,0,0,0,null,428732.37,428732.36650938011,3.4906198852695525E-3,null,0,0,0,null,428732.37,428732.36650938011,3.4906198852695525E-3,null,0,null,0,null,3070.85,null,3070.85,null,0,null,0,null,26270.240000000002,26270.235012271278,0,null,3372.98,null,3373,null,4321.72,4321.722567806044,0,null,0,null,0,null,0,null,0,null,0,null,0,null,0,null,0,null,0,null,0,null,"NO",{"$f":"IF(ISERROR(VLOOKUP($A184+8860000,'Growth Data'!$A:$F,3,0)),\"NO\",VLOOKUP($A184+8860000,'Growth Data'!$A:$F,3,0))","v":"NO"},0,null,0,{"$f":"IF(DI184=\"YES\",IF(ISERROR(VLOOKUP($A184+8860000,'Growth Data'!$A:$F,6,0)),0,VLOOKUP($A184+8860000,'Growth Data'!$A:$F,6,0)),0)","v":0},0,null,0,{"$f":"IF(ISERROR(VLOOKUP($A184+8860000,'Growth Data'!$A:$Z,7,0)),0,VLOOKUP($A184+8860000,'Growth Data'!$A:$Z,7,0))","v":0},0,null,"NO",{"$f":"IF(ISERROR(VLOOKUP($A184+8860000,'Growth Data'!$A:$F,4,0)),\"NO\",VLOOKUP($A184+8860000,'Growth Data'!$A:$F,4,0))","v":"NO"},0,null,0,{"$f":"IF(ISERROR(VLOOKUP($A184+8860000,'Growth Data'!$A:$Z,8,0)),0,VLOOKUP($A184+8860000,'Growth Data'!$A:$Z,8,0))","v":0},0,null,0,{"$f":"IF(ISERROR(VLOOKUP($A184+8860000,'Growth Data'!$A:$Z,9,0)),0,VLOOKUP($A184+8860000,'Growth Data'!$A:$Z,9,0))","v":0},0,null,"NO",{"$f":"IF(ISERROR(VLOOKUP($A184+8860000,'Growth Data'!$A:$Z,5,0)),\"NO\",VLOOKUP($A184+8860000,'Growth Data'!$A:$Z,5,0))","v":"NO"},0,null,0,{"$f":"IF(ISERROR(VLOOKUP($A184+8860000,'Growth Data'!$A:$Z,10,0)),0,VLOOKUP($A184+8860000,'Growth Data'!$A:$Z,10,0))","v":0},0,null,0,{"$f":"IF(ISERROR(VLOOKUP($A184+8860000,'Growth Data'!$A:$Z,11,0)),0,VLOOKUP($A184+8860000,'Growth Data'!$A:$Z,11,0))","v":0},0]
[2322,"Preston Primary School",null,"Preston Primary School",null,1,null,371868.91,371868.90690978459,3.0902153812348843E-3,null,14922.73,14922.729468990381,5.3100961849850137E-4,null,2482.62,2482.6215752212411,-1.5752212411825894E-3,null,29917,29916.998678571388,1.3214286118454766E-3,null,120084,120083.99999999999,0,null,6530.54,6530.5376769025315,2.3230974684338435E-3,null,0,0,0,null,0,0,0,null,17964,17964,0,null,0,0,0,null,0,0,0,null,0,0,0,null,563769.79,563769.7943094701,-4.3094700668007135E-3,null,0,0,0,null,563769.79,563769.7943094701,-4.3094700668007135E-3,null,0,null,0,null,3199.93,null,3199.93,null,0,null,0,null,49954.89,49954.892029791161,0,null,1004.51,null,1005,null,4166.46,4166.4564451104607,0,null,0,null,0,null,0,null,0,null,0,null,0,null,0,null,0,null,0,null,0,null,"NO",{"$f":"IF(ISERROR(VLOOKUP($A185+8860000,'Growth Data'!$A:$F,3,0)),\"NO\",VLOOKUP($A185+8860000,'Growth Data'!$A:$F,3,0))","v":"NO"},0,null,0,{"$f":"IF(DI185=\"YES\",IF(ISERROR(VLOOKUP($A185+8860000,'Growth Data'!$A:$F,6,0)),0,VLOOKUP($A185+8860000,'Growth Data'!$A:$F,6,0)),0)","v":0},0,null,0,{"$f":"IF(ISERROR(VLOOKUP($A185+8860000,'Growth Data'!$A:$Z,7,0)),0,VLOOKUP($A185+8860000,'Growth Data'!$A:$Z,7,0))","v":0},0,null,"NO",{"$f":"IF(ISERROR(VLOOKUP($A185+8860000,'Growth Data'!$A:$F,4,0)),\"NO\",VLOOKUP($A185+8860000,'Growth Data'!$A:$F,4,0))","v":"NO"},0,null,0,{"$f":"IF(ISERROR(VLOOKUP($A185+8860000,'Growth Data'!$A:$Z,8,0)),0,VLOOKUP($A185+8860000,'Growth Data'!$A:$Z,8,0))","v":0},0,null,0,{"$f":"IF(ISERROR(VLOOKUP($A185+8860000,'Growth Data'!$A:$Z,9,0)),0,VLOOKUP($A185+8860000,'Growth Data'!$A:$Z,9,0))","v":0},0,null,"NO",{"$f":"IF(ISERROR(VLOOKUP($A185+8860000,'Growth Data'!$A:$Z,5,0)),\"NO\",VLOOKUP($A185+8860000,'Growth Data'!$A:$Z,5,0))","v":"NO"},0,null,0,{"$f":"IF(ISERROR(VLOOKUP($A185+8860000,'Growth Data'!$A:$Z,10,0)),0,VLOOKUP($A185+8860000,'Growth Data'!$A:$Z,10,0))","v":0},0,null,0,{"$f":"IF(ISERROR(VLOOKUP($A185+8860000,'Growth Data'!$A:$Z,11,0)),0,VLOOKUP($A185+8860000,'Growth Data'!$A:$Z,11,0))","v":0},0]
[2345,"Priory Infant School",null,"Priory Infant School",null,1,null,505287.52,505287.52236596681,-2.3659667931497097E-3,null,76861.990000000005,76861.986093220359,3.9067796460585669E-3,null,12706.22,12706.221466666635,-1.4666666356788483E-3,null,87677.72,87677.71802521011,1.9747898913919926E-3,null,120084,120083.99999999999,0,null,0,0,0,null,0,0,0,null,0,0,0,null,30976,30976,0,null,0,0,0,null,0,0,0,null,0,0,0,null,833593.45,833593.44795106386,2.0489360904321074E-3,null,0,0,0,null,833593.45,833593.44795106386,2.0489360904321074E-3,null,0,null,0,null,3834.46,null,3834.46,null,0,null,0,null,169521.22,169521.2228921052,0,null,0,null,0,null,4509.09,4509.0867862419336,0,null,0,null,0,null,0,null,0,null,0,null,0,null,0,null,0,null,0,null,0,null,"NO",{"$f":"IF(ISERROR(VLOOKUP($A186+8860000,'Growth Data'!$A:$F,3,0)),\"NO\",VLOOKUP($A186+8860000,'Growth Data'!$A:$F,3,0))","v":"NO"},0,null,0,{"$f":"IF(DI186=\"YES\",IF(ISERROR(VLOOKUP($A186+8860000,'Growth Data'!$A:$F,6,0)),0,VLOOKUP($A186+8860000,'Growth Data'!$A:$F,6,0)),0)","v":0},0,null,0,{"$f":"IF(ISERROR(VLOOKUP($A186+8860000,'Growth Data'!$A:$Z,7,0)),0,VLOOKUP($A186+8860000,'Growth Data'!$A:$Z,7,0))","v":0},0,null,"NO",{"$f":"IF(ISERROR(VLOOKUP($A186+8860000,'Growth Data'!$A:$F,4,0)),\"NO\",VLOOKUP($A186+8860000,'Growth Data'!$A:$F,4,0))","v":"NO"},0,null,0,{"$f":"IF(ISERROR(VLOOKUP($A186+8860000,'Growth Data'!$A:$Z,8,0)),0,VLOOKUP($A186+8860000,'Growth Data'!$A:$Z,8,0))","v":0},0,null,0,{"$f":"IF(ISERROR(VLOOKUP($A186+8860000,'Growth Data'!$A:$Z,9,0)),0,VLOOKUP($A186+8860000,'Growth Data'!$A:$Z,9,0))","v":0},0,null,"NO",{"$f":"IF(ISERROR(VLOOKUP($A186+8860000,'Growth Data'!$A:$Z,5,0)),\"NO\",VLOOKUP($A186+8860000,'Growth Data'!$A:$Z,5,0))","v":"NO"},0,null,0,{"$f":"IF(ISERROR(VLOOKUP($A186+8860000,'Growth Data'!$A:$Z,10,0)),0,VLOOKUP($A186+8860000,'Growth Data'!$A:$Z,10,0))","v":0},0,null,0,{"$f":"IF(ISERROR(VLOOKUP($A186+8860000,'Growth Data'!$A:$Z,11,0)),0,VLOOKUP($A186+8860000,'Growth Data'!$A:$Z,11,0))","v":0},0]
[2237,"Queenborough School and Nursery",null,"Queenborough School and Nursery",null,1,null,1234831.8700000001,1234831.866456155,3.5438451450318098E-3,null,281581.92,281581.92338479264,-3.3847926533780992E-3,null,3105.17,3105.1720999999925,-2.0999999924242729E-3,null,130308.99,130308.99032432429,-3.2432428270112723E-4,null,120084,120083.99999999999,0,null,0,0,0,null,0,0,0,null,0,0,0,null,34048,34048,0,null,0,0,0,null,0,0,0,null,0,0,0,null,1803959.95,1803959.9522652719,-2.2652719635516405E-3,null,0,0,0,null,1803959.95,1803959.9522652719,-2.2652719635516405E-3,null,0,null,0,null,3792.71,null,3792.71,null,0.32,null,0.32,null,360888.94,360888.93811612512,0,null,0,null,0,null,4068.76,4068.763108655799,0,null,0,null,0,null,0,null,0,null,0,null,0,null,0,null,0,null,0,null,0,null,"NO",{"$f":"IF(ISERROR(VLOOKUP($A187+8860000,'Growth Data'!$A:$F,3,0)),\"NO\",VLOOKUP($A187+8860000,'Growth Data'!$A:$F,3,0))","v":"NO"},0,null,0,{"$f":"IF(DI187=\"YES\",IF(ISERROR(VLOOKUP($A187+8860000,'Growth Data'!$A:$F,6,0)),0,VLOOKUP($A187+8860000,'Growth Data'!$A:$F,6,0)),0)","v":0},0,null,0,{"$f":"IF(ISERROR(VLOOKUP($A187+8860000,'Growth Data'!$A:$Z,7,0)),0,VLOOKUP($A187+8860000,'Growth Data'!$A:$Z,7,0))","v":0},0,null,"NO",{"$f":"IF(ISERROR(VLOOKUP($A187+8860000,'Growth Data'!$A:$F,4,0)),\"NO\",VLOOKUP($A187+8860000,'Growth Data'!$A:$F,4,0))","v":"NO"},0,null,0,{"$f":"IF(ISERROR(VLOOKUP($A187+8860000,'Growth Data'!$A:$Z,8,0)),0,VLOOKUP($A187+8860000,'Growth Data'!$A:$Z,8,0))","v":0},0,null,0,{"$f":"IF(ISERROR(VLOOKUP($A187+8860000,'Growth Data'!$A:$Z,9,0)),0,VLOOKUP($A187+8860000,'Growth Data'!$A:$Z,9,0))","v":0},0,null,"NO",{"$f":"IF(ISERROR(VLOOKUP($A187+8860000,'Growth Data'!$A:$Z,5,0)),\"NO\",VLOOKUP($A187+8860000,'Growth Data'!$A:$Z,5,0))","v":"NO"},0,null,0,{"$f":"IF(ISERROR(VLOOKUP($A187+8860000,'Growth Data'!$A:$Z,10,0)),0,VLOOKUP($A187+8860000,'Growth Data'!$A:$Z,10,0))","v":0},0,null,0,{"$f":"IF(ISERROR(VLOOKUP($A187+8860000,'Growth Data'!$A:$Z,11,0)),0,VLOOKUP($A187+8860000,'Growth Data'!$A:$Z,11,0))","v":0},0]
[3364,"Ramsgate, Holy Trinity CEP School",null,"Ramsgate, Holy Trinity CEP School",null,1,null,598964.42000000004,598964.42257988197,-2.5798819260671735E-3,null,41507.03,41507.034599999999,-4.6000000002095476E-3,null,624.11,624.11060497237588,-6.0497237586787378E-4,null,44216.46,44216.463581460659,-3.581460659916047E-3,null,120084,120083.99999999999,0,null,0,0,0,null,0,0,0,null,0,0,0,null,5939,5939,0,null,0,0,0,null,0,0,0,null,0,0,0,null,811335.03,811335.03136631497,-1.3663149438798428E-3,null,0,0,0,null,811335.03,811335.03136631497,-1.3663149438798428E-3,null,0,null,0,null,3247.92,null,3247.92,null,0,null,0,null,84927.32,84927.316093441186,0,null,0,null,0,null,3817.04,3817.0428026839595,0,null,0,null,0,null,0,null,0,null,0,null,0,null,0,null,0,null,0,null,0,null,"YES",{"$f":"IF(ISERROR(VLOOKUP($A188+8860000,'Growth Data'!$A:$F,3,0)),\"NO\",VLOOKUP($A188+8860000,'Growth Data'!$A:$F,3,0))","v":"NO"},1,null,30,{"$f":"IF(DI188=\"YES\",IF(ISERROR(VLOOKUP($A188+8860000,'Growth Data'!$A:$F,6,0)),0,VLOOKUP($A188+8860000,'Growth Data'!$A:$F,6,0)),0)","v":0},30,null,60,{"$f":"IF(ISERROR(VLOOKUP($A188+8860000,'Growth Data'!$A:$Z,7,0)),0,VLOOKUP($A188+8860000,'Growth Data'!$A:$Z,7,0))","v":0},1,null,"YES",{"$f":"IF(ISERROR(VLOOKUP($A188+8860000,'Growth Data'!$A:$F,4,0)),\"NO\",VLOOKUP($A188+8860000,'Growth Data'!$A:$F,4,0))","v":"NO"},1,null,30,{"$f":"IF(ISERROR(VLOOKUP($A188+8860000,'Growth Data'!$A:$Z,8,0)),0,VLOOKUP($A188+8860000,'Growth Data'!$A:$Z,8,0))","v":0},1,null,60,{"$f":"IF(ISERROR(VLOOKUP($A188+8860000,'Growth Data'!$A:$Z,9,0)),0,VLOOKUP($A188+8860000,'Growth Data'!$A:$Z,9,0))","v":0},1,null,"YES",{"$f":"IF(ISERROR(VLOOKUP($A188+8860000,'Growth Data'!$A:$Z,5,0)),\"NO\",VLOOKUP($A188+8860000,'Growth Data'!$A:$Z,5,0))","v":"NO"},1,null,30,{"$f":"IF(ISERROR(VLOOKUP($A188+8860000,'Growth Data'!$A:$Z,10,0)),0,VLOOKUP($A188+8860000,'Growth Data'!$A:$Z,10,0))","v":0},1,null,60,{"$f":"IF(ISERROR(VLOOKUP($A188+8860000,'Growth Data'!$A:$Z,11,0)),0,VLOOKUP($A188+8860000,'Growth Data'!$A:$Z,11,0))","v":0},1]
[2002,"Repton Manor Primary School",null,"Repton Manor Primary School",null,1,null,1362573.09,1362573.0940205846,-4.0205845143646002E-3,null,60724.02,60724.021966597051,-1.9665970539790578E-3,null,24474.26,24474.26285714285,-2.8571428520081099E-3,null,103319.56,103319.56374384252,-3.7438425206346437E-3,null,120084,120083.99999999999,0,null,0,0,0,null,0,0,0,null,0,0,0,null,10650,10650,0,null,0,0,0,null,0,0,0,null,128825.06,128825.05741183273,2.5881672627292573E-3,null,1810650,1810649.9999999998,0,null,0,0,0,null,1810650,1810649.9999999998,0,null,0,null,0,null,3750,null,3750,null,0,null,0,null,179442.2,179442.20087459055,0,null,0,null,0,null,3750,3750,0,null,0,null,0,null,0,null,0,null,0,null,0,null,0,null,0,null,0,null,0,null,"YES",{"$f":"IF(ISERROR(VLOOKUP($A189+8860000,'Growth Data'!$A:$F,3,0)),\"NO\",VLOOKUP($A189+8860000,'Growth Data'!$A:$F,3,0))","v":"NO"},1,null,33,{"$f":"IF(DI189=\"YES\",IF(ISERROR(VLOOKUP($A189+8860000,'Growth Data'!$A:$F,6,0)),0,VLOOKUP($A189+8860000,'Growth Data'!$A:$F,6,0)),0)","v":0},33,null,60,{"$f":"IF(ISERROR(VLOOKUP($A189+8860000,'Growth Data'!$A:$Z,7,0)),0,VLOOKUP($A189+8860000,'Growth Data'!$A:$Z,7,0))","v":0},1,null,"NO",{"$f":"IF(ISERROR(VLOOKUP($A189+8860000,'Growth Data'!$A:$F,4,0)),\"NO\",VLOOKUP($A189+8860000,'Growth Data'!$A:$F,4,0))","v":"NO"},0,null,0,{"$f":"IF(ISERROR(VLOOKUP($A189+8860000,'Growth Data'!$A:$Z,8,0)),0,VLOOKUP($A189+8860000,'Growth Data'!$A:$Z,8,0))","v":0},0,null,0,{"$f":"IF(ISERROR(VLOOKUP($A189+8860000,'Growth Data'!$A:$Z,9,0)),0,VLOOKUP($A189+8860000,'Growth Data'!$A:$Z,9,0))","v":0},0,null,"NO",{"$f":"IF(ISERROR(VLOOKUP($A189+8860000,'Growth Data'!$A:$Z,5,0)),\"NO\",VLOOKUP($A189+8860000,'Growth Data'!$A:$Z,5,0))","v":"NO"},0,null,0,{"$f":"IF(ISERROR(VLOOKUP($A189+8860000,'Growth Data'!$A:$Z,10,0)),0,VLOOKUP($A189+8860000,'Growth Data'!$A:$Z,10,0))","v":0},0,null,0,{"$f":"IF(ISERROR(VLOOKUP($A189+8860000,'Growth Data'!$A:$Z,11,0)),0,VLOOKUP($A189+8860000,'Growth Data'!$A:$Z,11,0))","v":0},0]
[2312,"River Primary School",null,"River Primary School",null,1,null,1186574.07,1186574.0693762591,6.2374095432460308E-4,null,93614.56,93614.561545111108,-1.5451111103175208E-3,null,3125.51,3125.5103491620166,-3.491620163913467E-4,null,105113.64,105113.64043820211,-4.3820211431011558E-4,null,120084,120083.99999999999,0,null,0,0,0,null,0,0,0,null,0,0,0,null,40960,40960,0,null,0,0,0,null,0,0,0,null,58988.22,58988.21829126589,1.7087341111619025E-3,null,1608460,1608460,0,null,0,0,0,null,1608460,1608460,0,null,0,null,0,null,3750,null,3750,null,0,null,0,null,193228.38,193228.37963948338,0,null,0,null,0,null,3750,3750,0,null,0,null,0,null,0,null,0,null,0,null,0,null,0,null,0,null,0,null,0,null,"NO",{"$f":"IF(ISERROR(VLOOKUP($A190+8860000,'Growth Data'!$A:$F,3,0)),\"NO\",VLOOKUP($A190+8860000,'Growth Data'!$A:$F,3,0))","v":"NO"},0,null,0,{"$f":"IF(DI190=\"YES\",IF(ISERROR(VLOOKUP($A190+8860000,'Growth Data'!$A:$F,6,0)),0,VLOOKUP($A190+8860000,'Growth Data'!$A:$F,6,0)),0)","v":0},0,null,0,{"$f":"IF(ISERROR(VLOOKUP($A190+8860000,'Growth Data'!$A:$Z,7,0)),0,VLOOKUP($A190+8860000,'Growth Data'!$A:$Z,7,0))","v":0},0,null,"NO",{"$f":"IF(ISERROR(VLOOKUP($A190+8860000,'Growth Data'!$A:$F,4,0)),\"NO\",VLOOKUP($A190+8860000,'Growth Data'!$A:$F,4,0))","v":"NO"},0,null,0,{"$f":"IF(ISERROR(VLOOKUP($A190+8860000,'Growth Data'!$A:$Z,8,0)),0,VLOOKUP($A190+8860000,'Growth Data'!$A:$Z,8,0))","v":0},0,null,0,{"$f":"IF(ISERROR(VLOOKUP($A190+8860000,'Growth Data'!$A:$Z,9,0)),0,VLOOKUP($A190+8860000,'Growth Data'!$A:$Z,9,0))","v":0},0,null,"NO",{"$f":"IF(ISERROR(VLOOKUP($A190+8860000,'Growth Data'!$A:$Z,5,0)),\"NO\",VLOOKUP($A190+8860000,'Growth Data'!$A:$Z,5,0))","v":"NO"},0,null,0,{"$f":"IF(ISERROR(VLOOKUP($A190+8860000,'Growth Data'!$A:$Z,10,0)),0,VLOOKUP($A190+8860000,'Growth Data'!$A:$Z,10,0))","v":0},0,null,0,{"$f":"IF(ISERROR(VLOOKUP($A190+8860000,'Growth Data'!$A:$Z,11,0)),0,VLOOKUP($A190+8860000,'Growth Data'!$A:$Z,11,0))","v":0},0]
[2459,"Riverhead Infant School",null,"Riverhead Infant School",null,1,null,755092.59,755092.58960307401,3.9692595601081848E-4,null,7745.42,7745.417999999996,2.0000000040454324E-3,null,13524.94,13524.935692737423,4.3072625776403584E-3,null,35638.53,35638.529520000084,4.7999991511460394E-4,null,120084,120083.99999999999,0,null,0,0,0,null,33927.910000000003,33927.911210495527,-1.2104955239919946E-3,null,0,0,0,null,38912,38912,0,null,0,0,0,null,0,0,0,null,31486.62,31486.615973692969,4.0263070295623038E-3,null,1036412,1036412,0,null,0,0,0,null,1036412,1036412,0,null,0,null,0,null,3750,null,3750,null,0,null,0,null,60775.32,60775.320476664398,0,null,0,null,0,null,3750,3750,0,null,0,null,0,null,0,null,0,null,0,null,0,null,0,null,0,null,0,null,0,null,"NO",{"$f":"IF(ISERROR(VLOOKUP($A191+8860000,'Growth Data'!$A:$F,3,0)),\"NO\",VLOOKUP($A191+8860000,'Growth Data'!$A:$F,3,0))","v":"NO"},0,null,0,{"$f":"IF(DI191=\"YES\",IF(ISERROR(VLOOKUP($A191+8860000,'Growth Data'!$A:$F,6,0)),0,VLOOKUP($A191+8860000,'Growth Data'!$A:$F,6,0)),0)","v":0},0,null,0,{"$f":"IF(ISERROR(VLOOKUP($A191+8860000,'Growth Data'!$A:$Z,7,0)),0,VLOOKUP($A191+8860000,'Growth Data'!$A:$Z,7,0))","v":0},0,null,"NO",{"$f":"IF(ISERROR(VLOOKUP($A191+8860000,'Growth Data'!$A:$F,4,0)),\"NO\",VLOOKUP($A191+8860000,'Growth Data'!$A:$F,4,0))","v":"NO"},0,null,0,{"$f":"IF(ISERROR(VLOOKUP($A191+8860000,'Growth Data'!$A:$Z,8,0)),0,VLOOKUP($A191+8860000,'Growth Data'!$A:$Z,8,0))","v":0},0,null,0,{"$f":"IF(ISERROR(VLOOKUP($A191+8860000,'Growth Data'!$A:$Z,9,0)),0,VLOOKUP($A191+8860000,'Growth Data'!$A:$Z,9,0))","v":0},0,null,"NO",{"$f":"IF(ISERROR(VLOOKUP($A191+8860000,'Growth Data'!$A:$Z,5,0)),\"NO\",VLOOKUP($A191+8860000,'Growth Data'!$A:$Z,5,0))","v":"NO"},0,null,0,{"$f":"IF(ISERROR(VLOOKUP($A191+8860000,'Growth Data'!$A:$Z,10,0)),0,VLOOKUP($A191+8860000,'Growth Data'!$A:$Z,10,0))","v":0},0,null,0,{"$f":"IF(ISERROR(VLOOKUP($A191+8860000,'Growth Data'!$A:$Z,11,0)),0,VLOOKUP($A191+8860000,'Growth Data'!$A:$Z,11,0))","v":0},0]
[2239,"Rodmersham School",null,"Rodmersham School",null,1,null,292385.48,292385.47642525047,3.5747495130635798E-3,null,8284.2800000000007,8284.2806542857124,-6.5428571178927086E-4,null,1225.4100000000001,1225.4127444444432,-2.744444443123939E-3,null,17664.43,17664.425413793095,4.5862069055147003E-3,null,120084,120083.99999999999,0,null,0,0,0,null,0,0,0,null,0,0,0,null,5863,5863,0,null,0,0,0,null,6027,6027,0,null,0,0,0,null,451533.6,451533.59523777367,4.7622263082303107E-3,null,0,0,0,null,451533.6,451533.59523777367,4.7622263082303107E-3,null,0,null,0,null,3161.03,null,3161.03,null,0,null,0,null,32958.870000000003,32958.866119531398,0,null,2704.11,null,2704,null,4268.38,4268.3844197842127,0,null,0,null,0,null,0,null,0,null,0,null,0,null,0,null,0,null,0,null,0,null,"NO",{"$f":"IF(ISERROR(VLOOKUP($A192+8860000,'Growth Data'!$A:$F,3,0)),\"NO\",VLOOKUP($A192+8860000,'Growth Data'!$A:$F,3,0))","v":"NO"},0,null,0,{"$f":"IF(DI192=\"YES\",IF(ISERROR(VLOOKUP($A192+8860000,'Growth Data'!$A:$F,6,0)),0,VLOOKUP($A192+8860000,'Growth Data'!$A:$F,6,0)),0)","v":0},0,null,0,{"$f":"IF(ISERROR(VLOOKUP($A192+8860000,'Growth Data'!$A:$Z,7,0)),0,VLOOKUP($A192+8860000,'Growth Data'!$A:$Z,7,0))","v":0},0,null,"NO",{"$f":"IF(ISERROR(VLOOKUP($A192+8860000,'Growth Data'!$A:$F,4,0)),\"NO\",VLOOKUP($A192+8860000,'Growth Data'!$A:$F,4,0))","v":"NO"},0,null,0,{"$f":"IF(ISERROR(VLOOKUP($A192+8860000,'Growth Data'!$A:$Z,8,0)),0,VLOOKUP($A192+8860000,'Growth Data'!$A:$Z,8,0))","v":0},0,null,0,{"$f":"IF(ISERROR(VLOOKUP($A192+8860000,'Growth Data'!$A:$Z,9,0)),0,VLOOKUP($A192+8860000,'Growth Data'!$A:$Z,9,0))","v":0},0,null,"NO",{"$f":"IF(ISERROR(VLOOKUP($A192+8860000,'Growth Data'!$A:$Z,5,0)),\"NO\",VLOOKUP($A192+8860000,'Growth Data'!$A:$Z,5,0))","v":"NO"},0,null,0,{"$f":"IF(ISERROR(VLOOKUP($A192+8860000,'Growth Data'!$A:$Z,10,0)),0,VLOOKUP($A192+8860000,'Growth Data'!$A:$Z,10,0))","v":0},0,null,0,{"$f":"IF(ISERROR(VLOOKUP($A192+8860000,'Growth Data'!$A:$Z,11,0)),0,VLOOKUP($A192+8860000,'Growth Data'!$A:$Z,11,0))","v":0},0]
[2245,"Rose Street School",null,"Rose Street School",null,1,null,1061671.54,1061671.5357577056,4.24229446798563E-3,null,309650.83,309650.83473076927,-4.7307692584581673E-3,null,15207.35,15207.346556962028,3.4430379728291882E-3,null,118923.22,118923.2208098361,-8.0983609950635582E-4,null,120084,120083.99999999999,0,null,0,0,0,null,0,0,0,null,0,0,0,null,79872,79872,0,null,0,0,0,null,0,0,0,null,0,0,0,null,1705408.94,1705408.937855273,2.144726924598217E-3,null,0,0,0,null,1705408.94,1705408.937855273,2.144726924598217E-3,null,0,null,0,null,4025.28,null,4025.28,null,0.4,null,0.4,null,368959.76,368959.76440457557,0,null,0,null,0,null,4346.3599999999997,4346.3554488108921,0,null,0,null,0,null,0,null,0,null,0,null,0,null,0,null,0,null,0,null,0,null,"NO",{"$f":"IF(ISERROR(VLOOKUP($A193+8860000,'Growth Data'!$A:$F,3,0)),\"NO\",VLOOKUP($A193+8860000,'Growth Data'!$A:$F,3,0))","v":"YES"},1,null,0,{"$f":"IF(DI193=\"YES\",IF(ISERROR(VLOOKUP($A193+8860000,'Growth Data'!$A:$F,6,0)),0,VLOOKUP($A193+8860000,'Growth Data'!$A:$F,6,0)),0)","v":30},-30,null,0,{"$f":"IF(ISERROR(VLOOKUP($A193+8860000,'Growth Data'!$A:$Z,7,0)),0,VLOOKUP($A193+8860000,'Growth Data'!$A:$Z,7,0))","v":60},1,null,"NO",{"$f":"IF(ISERROR(VLOOKUP($A193+8860000,'Growth Data'!$A:$F,4,0)),\"NO\",VLOOKUP($A193+8860000,'Growth Data'!$A:$F,4,0))","v":"NO"},0,null,0,{"$f":"IF(ISERROR(VLOOKUP($A193+8860000,'Growth Data'!$A:$Z,8,0)),0,VLOOKUP($A193+8860000,'Growth Data'!$A:$Z,8,0))","v":0},0,null,0,{"$f":"IF(ISERROR(VLOOKUP($A193+8860000,'Growth Data'!$A:$Z,9,0)),0,VLOOKUP($A193+8860000,'Growth Data'!$A:$Z,9,0))","v":0},0,null,"NO",{"$f":"IF(ISERROR(VLOOKUP($A193+8860000,'Growth Data'!$A:$Z,5,0)),\"NO\",VLOOKUP($A193+8860000,'Growth Data'!$A:$Z,5,0))","v":"NO"},0,null,0,{"$f":"IF(ISERROR(VLOOKUP($A193+8860000,'Growth Data'!$A:$Z,10,0)),0,VLOOKUP($A193+8860000,'Growth Data'!$A:$Z,10,0))","v":0},0,null,0,{"$f":"IF(ISERROR(VLOOKUP($A193+8860000,'Growth Data'!$A:$Z,11,0)),0,VLOOKUP($A193+8860000,'Growth Data'!$A:$Z,11,0))","v":0},0]
[5203,"Roseacre Junior School",null,"Roseacre Junior School",null,{"$f":"IF(E194=D194,0,1)","v":1},null,1209283.6200000001,1209283.620943269,{"$f":"H194-I194","v":-9.4326888211071491E-4},null,23587.1,23587.096009147877,{"$f":"L194-M194","v":3.9908521212055348E-3},null,4818.37,4818.3705000000036,{"$f":"P194-Q194","v":-5.0000000373984221E-4},null,88188.52,88188.523316546867,{"$f":"T194-U194","v":-3.3165468630613759E-3},null,120084,120083.99999999999,{"$f":"X194-Y194","v":0},null,0,0,{"$f":"AB194-AC194","v":0},null,0,0,{"$f":"AF194-AG194","v":0},null,0,0,{"$f":"AJ194-AK194","v":0},null,5939,5939,{"$f":"AN194-AO194","v":0},null,0,0,{"$f":"AR194-AS194","v":0},null,0,0,{"$f":"AV194-AW194","v":0},null,151538.39000000001,151538.38923103665,{"$f":"AZ194-BA194","v":7.6896336395293474E-4},null,1603439,1603439.0000000002,{"$f":"BD194-BE194","v":0},null,0,0,{"$f":"BH194-BI194","v":0},null,1603439,1603439.0000000002,{"$f":"BL194-BM194","v":0},null,0,null,{"$f":"BP194-BQ194","v":0},null,3750,null,{"$f":"BT194-BU194","v":3750},null,0,null,{"$f":"BX194-BY194","v":0},null,115173.7,115173.6971327029,{"$f":"ROUND(CB194-CC194,0)","v":0},null,0,null,{"$f":"ROUND(CF194-CG194,0)","v":0},null,3750,3750,{"$f":"ROUND(CJ194-CK194,0)","v":0},null,0,null,{"$f":"ROUND(CN194-CO194,0)","v":0},null,0,null,{"$f":"ROUND(CR194-CS194,0)","v":0},null,0,null,{"$f":"ROUND(CV194-CW194,0)","v":0},null,0,null,{"$f":"ROUND(CZ194-DA194,0)","v":0},null,0,null,{"$f":"ROUND(DD194-DE194,0)","v":0},null,"NO",{"$f":"IF(ISERROR(VLOOKUP($A194+8860000,'Growth Data'!$A:$F,3,0)),\"NO\",VLOOKUP($A194+8860000,'Growth Data'!$A:$F,3,0))","v":"NO"},{"$f":"IF(DH194=DI194,0,1)","v":0},null,0,{"$f":"IF(DI194=\"YES\",IF(ISERROR(VLOOKUP($A194+8860000,'Growth Data'!$A:$F,6,0)),0,VLOOKUP($A194+8860000,'Growth Data'!$A:$F,6,0)),0)","v":0},{"$f":"ROUND(DL194-DM194,0)","v":0},null,0,{"$f":"IF(ISERROR(VLOOKUP($A194+8860000,'Growth Data'!$A:$Z,7,0)),0,VLOOKUP($A194+8860000,'Growth Data'!$A:$Z,7,0))","v":0},{"$f":"IF(DP194=DQ194,0,1)","v":0},null,"NO",{"$f":"IF(ISERROR(VLOOKUP($A194+8860000,'Growth Data'!$A:$F,4,0)),\"NO\",VLOOKUP($A194+8860000,'Growth Data'!$A:$F,4,0))","v":"NO"},{"$f":"IF(DT194=DU194,0,1)","v":0},null,0,{"$f":"IF(ISERROR(VLOOKUP($A194+8860000,'Growth Data'!$A:$Z,8,0)),0,VLOOKUP($A194+8860000,'Growth Data'!$A:$Z,8,0))","v":0},{"$f":"IF(DX194=DY194,0,1)","v":0},null,0,{"$f":"IF(ISERROR(VLOOKUP($A194+8860000,'Growth Data'!$A:$Z,9,0)),0,VLOOKUP($A194+8860000,'Growth Data'!$A:$Z,9,0))","v":0},{"$f":"IF(EB194=EC194,0,1)","v":0},null,"NO",{"$f":"IF(ISERROR(VLOOKUP($A194+8860000,'Growth Data'!$A:$Z,5,0)),\"NO\",VLOOKUP($A194+8860000,'Growth Data'!$A:$Z,5,0))","v":"NO"},{"$f":"IF(EF194=EG194,0,1)","v":0},null,0,{"$f":"IF(ISERROR(VLOOKUP($A194+8860000,'Growth Data'!$A:$Z,10,0)),0,VLOOKUP($A194+8860000,'Growth Data'!$A:$Z,10,0))","v":0},{"$f":"IF(EJ194=EK194,0,1)","v":0},null,0,{"$f":"IF(ISERROR(VLOOKUP($A194+8860000,'Growth Data'!$A:$Z,11,0)),0,VLOOKUP($A194+8860000,'Growth Data'!$A:$Z,11,0))","v":0},{"$f":"IF(EN194=EO194,0,1)","v":0}]
[5468,"Royal Harbour Academy, The",null,"Royal Harbour Academy, The",null,1,null,3401624.74,3401624.7406503102,-6.5030995756387711E-4,null,816982.04,816982.04032823478,-3.2823474612087011E-4,null,23084.52,23084.522246305365,-2.2463053646788467E-3,null,413706.07,413706.0682421219,1.7578781116753817E-3,null,114480.08,114480.07999999999,0,null,0,0,0,null,0,0,0,null,0,0,0,null,88320,88320,0,null,673902.22,673902.21617833874,3.8216612301766872E-3,null,58590.12,58590.12,0,null,0,0,0,null,5590689.79,5590689.7876453111,2.3546889424324036E-3,null,0,0,0,null,5590689.79,5590689.7876453111,2.3546889424324036E-3,null,0,null,0,null,5798.26,null,5798.26,null,0,null,0,null,1118594,1118594.0039759823,0,null,0,null,0,null,5867.01,5867.0079353837264,0,null,0,null,0,null,0,null,0,null,0,null,0,null,0,null,0,null,0,null,0,null,"NO",{"$f":"IF(ISERROR(VLOOKUP($A195+8860000,'Growth Data'!$A:$F,3,0)),\"NO\",VLOOKUP($A195+8860000,'Growth Data'!$A:$F,3,0))","v":"NO"},0,null,0,{"$f":"IF(DI195=\"YES\",IF(ISERROR(VLOOKUP($A195+8860000,'Growth Data'!$A:$F,6,0)),0,VLOOKUP($A195+8860000,'Growth Data'!$A:$F,6,0)),0)","v":0},0,null,0,{"$f":"IF(ISERROR(VLOOKUP($A195+8860000,'Growth Data'!$A:$Z,7,0)),0,VLOOKUP($A195+8860000,'Growth Data'!$A:$Z,7,0))","v":0},0,null,"NO",{"$f":"IF(ISERROR(VLOOKUP($A195+8860000,'Growth Data'!$A:$F,4,0)),\"NO\",VLOOKUP($A195+8860000,'Growth Data'!$A:$F,4,0))","v":"NO"},0,null,0,{"$f":"IF(ISERROR(VLOOKUP($A195+8860000,'Growth Data'!$A:$Z,8,0)),0,VLOOKUP($A195+8860000,'Growth Data'!$A:$Z,8,0))","v":0},0,null,0,{"$f":"IF(ISERROR(VLOOKUP($A195+8860000,'Growth Data'!$A:$Z,9,0)),0,VLOOKUP($A195+8860000,'Growth Data'!$A:$Z,9,0))","v":0},0,null,"NO",{"$f":"IF(ISERROR(VLOOKUP($A195+8860000,'Growth Data'!$A:$Z,5,0)),\"NO\",VLOOKUP($A195+8860000,'Growth Data'!$A:$Z,5,0))","v":"NO"},0,null,0,{"$f":"IF(ISERROR(VLOOKUP($A195+8860000,'Growth Data'!$A:$Z,10,0)),0,VLOOKUP($A195+8860000,'Growth Data'!$A:$Z,10,0))","v":0},0,null,0,{"$f":"IF(ISERROR(VLOOKUP($A195+8860000,'Growth Data'!$A:$Z,11,0)),0,VLOOKUP($A195+8860000,'Growth Data'!$A:$Z,11,0))","v":0},0]
[3913,"Rusthall, St Paul's CE VA School",null,"Rusthall, St Paul's CE VA School",null,1,null,496771.44,496771.44052833819,-5.2833819063380361E-4,null,32078.799999999999,32078.803090909052,-3.0909090528439265E-3,null,3470.02,3470.0199074074039,9.259259604732506E-5,null,44899.46,44899.463194444492,-3.1944444926921278E-3,null,120084,120083.99999999999,0,null,0,0,0,null,0,0,0,null,0,0,0,null,5427,5427,0,null,0,0,0,null,0,0,0,null,0,0,0,null,702730.73,702730.72672109911,3.2789008691906929E-3,null,0,0,0,null,702730.73,702730.72672109911,3.2789008691906929E-3,null,0,null,0,null,3298.4,null,3298.4,null,0,null,0,null,76326.100000000006,76326.103499769131,0,null,0,null,0,null,3984.59,3984.5927241205682,0,null,0,null,0,null,0,null,0,null,0,null,0,null,0,null,0,null,0,null,0,null,"NO",{"$f":"IF(ISERROR(VLOOKUP($A196+8860000,'Growth Data'!$A:$F,3,0)),\"NO\",VLOOKUP($A196+8860000,'Growth Data'!$A:$F,3,0))","v":"NO"},0,null,0,{"$f":"IF(DI196=\"YES\",IF(ISERROR(VLOOKUP($A196+8860000,'Growth Data'!$A:$F,6,0)),0,VLOOKUP($A196+8860000,'Growth Data'!$A:$F,6,0)),0)","v":0},0,null,0,{"$f":"IF(ISERROR(VLOOKUP($A196+8860000,'Growth Data'!$A:$Z,7,0)),0,VLOOKUP($A196+8860000,'Growth Data'!$A:$Z,7,0))","v":0},0,null,"NO",{"$f":"IF(ISERROR(VLOOKUP($A196+8860000,'Growth Data'!$A:$F,4,0)),\"NO\",VLOOKUP($A196+8860000,'Growth Data'!$A:$F,4,0))","v":"NO"},0,null,0,{"$f":"IF(ISERROR(VLOOKUP($A196+8860000,'Growth Data'!$A:$Z,8,0)),0,VLOOKUP($A196+8860000,'Growth Data'!$A:$Z,8,0))","v":0},0,null,0,{"$f":"IF(ISERROR(VLOOKUP($A196+8860000,'Growth Data'!$A:$Z,9,0)),0,VLOOKUP($A196+8860000,'Growth Data'!$A:$Z,9,0))","v":0},0,null,"NO",{"$f":"IF(ISERROR(VLOOKUP($A196+8860000,'Growth Data'!$A:$Z,5,0)),\"NO\",VLOOKUP($A196+8860000,'Growth Data'!$A:$Z,5,0))","v":"NO"},0,null,0,{"$f":"IF(ISERROR(VLOOKUP($A196+8860000,'Growth Data'!$A:$Z,10,0)),0,VLOOKUP($A196+8860000,'Growth Data'!$A:$Z,10,0))","v":0},0,null,0,{"$f":"IF(ISERROR(VLOOKUP($A196+8860000,'Growth Data'!$A:$Z,11,0)),0,VLOOKUP($A196+8860000,'Growth Data'!$A:$Z,11,0))","v":0},0]
[2189,"Ryarsh Primary School",null,"Ryarsh Primary School",null,1,null,593287.03,593287.03468812956,-4.6881295274943113E-3,null,5095.8500000000004,5095.8503142857116,-3.1428571128344629E-4,null,0,0,0,null,37540.589999999997,37540.585870786599,4.1292133973911405E-3,null,120084,120083.99999999999,0,null,0,0,0,null,0,0,0,null,0,0,0,null,17964,17964,0,null,0,0,0,null,0,0,0,null,27742.53,27742.529126798152,8.7320184684358537E-4,null,801714,801714,0,null,0,0,0,null,801714,801714,0,null,0,null,0,null,3750,null,3750,null,0,null,0,null,47520.55,47520.553492080464,0,null,1247.94,null,1248,null,3750,3750,0,null,0,null,0,null,0,null,0,null,0,null,0,null,0,null,0,null,0,null,0,null,"NO",{"$f":"IF(ISERROR(VLOOKUP($A197+8860000,'Growth Data'!$A:$F,3,0)),\"NO\",VLOOKUP($A197+8860000,'Growth Data'!$A:$F,3,0))","v":"NO"},0,null,0,{"$f":"IF(DI197=\"YES\",IF(ISERROR(VLOOKUP($A197+8860000,'Growth Data'!$A:$F,6,0)),0,VLOOKUP($A197+8860000,'Growth Data'!$A:$F,6,0)),0)","v":0},0,null,0,{"$f":"IF(ISERROR(VLOOKUP($A197+8860000,'Growth Data'!$A:$Z,7,0)),0,VLOOKUP($A197+8860000,'Growth Data'!$A:$Z,7,0))","v":0},0,null,"NO",{"$f":"IF(ISERROR(VLOOKUP($A197+8860000,'Growth Data'!$A:$F,4,0)),\"NO\",VLOOKUP($A197+8860000,'Growth Data'!$A:$F,4,0))","v":"NO"},0,null,0,{"$f":"IF(ISERROR(VLOOKUP($A197+8860000,'Growth Data'!$A:$Z,8,0)),0,VLOOKUP($A197+8860000,'Growth Data'!$A:$Z,8,0))","v":0},0,null,0,{"$f":"IF(ISERROR(VLOOKUP($A197+8860000,'Growth Data'!$A:$Z,9,0)),0,VLOOKUP($A197+8860000,'Growth Data'!$A:$Z,9,0))","v":0},0,null,"NO",{"$f":"IF(ISERROR(VLOOKUP($A197+8860000,'Growth Data'!$A:$Z,5,0)),\"NO\",VLOOKUP($A197+8860000,'Growth Data'!$A:$Z,5,0))","v":"NO"},0,null,0,{"$f":"IF(ISERROR(VLOOKUP($A197+8860000,'Growth Data'!$A:$Z,10,0)),0,VLOOKUP($A197+8860000,'Growth Data'!$A:$Z,10,0))","v":0},0,null,0,{"$f":"IF(ISERROR(VLOOKUP($A197+8860000,'Growth Data'!$A:$Z,11,0)),0,VLOOKUP($A197+8860000,'Growth Data'!$A:$Z,11,0))","v":0},0]
[3350,"Saltwood CEP School",null,"Saltwood CEP School",null,1,null,624512.67000000004,624512.66809276794,1.9072321010753512E-3,null,15288.5,15288.499893665165,1.0633483543642797E-4,null,2479.63,2479.6292631578981,7.3684210201463429E-4,null,42403.07,42403.065638297812,4.3617021874524653E-3,null,120084,120083.99999999999,0,null,0,0,0,null,0,0,0,null,0,0,0,null,5222,5222,0,null,0,0,0,null,0,0,0,null,20232.14,20232.137112111202,2.8878887969767675E-3,null,830222,830222,0,null,0,0,0,null,830222,830222,0,null,0,null,0,null,3750,null,3750,null,0,null,0,null,63704.37,63704.367102129021,0,null,0,null,0,null,3750,3750,0,null,0,null,0,null,0,null,0,null,0,null,0,null,0,null,0,null,0,null,0,null,"NO",{"$f":"IF(ISERROR(VLOOKUP($A198+8860000,'Growth Data'!$A:$F,3,0)),\"NO\",VLOOKUP($A198+8860000,'Growth Data'!$A:$F,3,0))","v":"NO"},0,null,0,{"$f":"IF(DI198=\"YES\",IF(ISERROR(VLOOKUP($A198+8860000,'Growth Data'!$A:$F,6,0)),0,VLOOKUP($A198+8860000,'Growth Data'!$A:$F,6,0)),0)","v":0},0,null,0,{"$f":"IF(ISERROR(VLOOKUP($A198+8860000,'Growth Data'!$A:$Z,7,0)),0,VLOOKUP($A198+8860000,'Growth Data'!$A:$Z,7,0))","v":0},0,null,"NO",{"$f":"IF(ISERROR(VLOOKUP($A198+8860000,'Growth Data'!$A:$F,4,0)),\"NO\",VLOOKUP($A198+8860000,'Growth Data'!$A:$F,4,0))","v":"NO"},0,null,0,{"$f":"IF(ISERROR(VLOOKUP($A198+8860000,'Growth Data'!$A:$Z,8,0)),0,VLOOKUP($A198+8860000,'Growth Data'!$A:$Z,8,0))","v":0},0,null,0,{"$f":"IF(ISERROR(VLOOKUP($A198+8860000,'Growth Data'!$A:$Z,9,0)),0,VLOOKUP($A198+8860000,'Growth Data'!$A:$Z,9,0))","v":0},0,null,"NO",{"$f":"IF(ISERROR(VLOOKUP($A198+8860000,'Growth Data'!$A:$Z,5,0)),\"NO\",VLOOKUP($A198+8860000,'Growth Data'!$A:$Z,5,0))","v":"NO"},0,null,0,{"$f":"IF(ISERROR(VLOOKUP($A198+8860000,'Growth Data'!$A:$Z,10,0)),0,VLOOKUP($A198+8860000,'Growth Data'!$A:$Z,10,0))","v":0},0,null,0,{"$f":"IF(ISERROR(VLOOKUP($A198+8860000,'Growth Data'!$A:$Z,11,0)),0,VLOOKUP($A198+8860000,'Growth Data'!$A:$Z,11,0))","v":0},0]
[2545,"Sandgate Primary School",null,"Sandgate Primary School",null,1,null,1203606.23,1203606.2330515166,-3.0515165999531746E-3,null,60681.45,60681.447299999927,2.7000000700354576E-3,null,6859.85,6859.8534835164792,-3.4835164788091788E-3,null,82386.25,82386.248817679429,1.182320571388118E-3,null,120084,120083.99999999999,0,null,0,0,0,null,0,0,0,null,0,0,0,null,46592,46592,0,null,0,0,0,null,0,0,0,null,116382.22,116382.21734728781,2.6527121954131871E-3,null,1636592,1636592.0000000002,0,null,0,0,0,null,1636592,1636592.0000000002,0,null,0,null,0,null,3750,null,3750,null,0,null,0,null,136348.75,136348.75190820405,0,null,0,null,0,null,3750,3750,0,null,0,null,0,null,0,null,0,null,0,null,0,null,0,null,0,null,0,null,0,null,"NO",{"$f":"IF(ISERROR(VLOOKUP($A199+8860000,'Growth Data'!$A:$F,3,0)),\"NO\",VLOOKUP($A199+8860000,'Growth Data'!$A:$F,3,0))","v":"NO"},0,null,0,{"$f":"IF(DI199=\"YES\",IF(ISERROR(VLOOKUP($A199+8860000,'Growth Data'!$A:$F,6,0)),0,VLOOKUP($A199+8860000,'Growth Data'!$A:$F,6,0)),0)","v":0},0,null,0,{"$f":"IF(ISERROR(VLOOKUP($A199+8860000,'Growth Data'!$A:$Z,7,0)),0,VLOOKUP($A199+8860000,'Growth Data'!$A:$Z,7,0))","v":0},0,null,"NO",{"$f":"IF(ISERROR(VLOOKUP($A199+8860000,'Growth Data'!$A:$F,4,0)),\"NO\",VLOOKUP($A199+8860000,'Growth Data'!$A:$F,4,0))","v":"NO"},0,null,0,{"$f":"IF(ISERROR(VLOOKUP($A199+8860000,'Growth Data'!$A:$Z,8,0)),0,VLOOKUP($A199+8860000,'Growth Data'!$A:$Z,8,0))","v":0},0,null,0,{"$f":"IF(ISERROR(VLOOKUP($A199+8860000,'Growth Data'!$A:$Z,9,0)),0,VLOOKUP($A199+8860000,'Growth Data'!$A:$Z,9,0))","v":0},0,null,"NO",{"$f":"IF(ISERROR(VLOOKUP($A199+8860000,'Growth Data'!$A:$Z,5,0)),\"NO\",VLOOKUP($A199+8860000,'Growth Data'!$A:$Z,5,0))","v":"NO"},0,null,0,{"$f":"IF(ISERROR(VLOOKUP($A199+8860000,'Growth Data'!$A:$Z,10,0)),0,VLOOKUP($A199+8860000,'Growth Data'!$A:$Z,10,0))","v":0},0,null,0,{"$f":"IF(ISERROR(VLOOKUP($A199+8860000,'Growth Data'!$A:$Z,11,0)),0,VLOOKUP($A199+8860000,'Growth Data'!$A:$Z,11,0))","v":0},0]
[2142,"Sandhurst Primary School",null,"Sandhurst Primary School",null,1,null,420126.7,420126.70398968027,-3.989680262748152E-3,null,25476.82,25476.8213,-1.299999999901047E-3,null,1800.81,1800.8051363636343,4.8636363655987225E-3,null,39432.58,39432.583500000001,-3.4999999988940544E-3,null,120084,120083.99999999999,0,null,0,0,0,null,0,0,0,null,0,0,0,null,21582,21582,0,null,0,0,0,null,0,0,0,null,0,0,0,null,628502.91,628502.9139260439,-3.9260438643395901E-3,null,0,0,0,null,628502.91,628502.9139260439,-3.9260438643395901E-3,null,0,null,0,null,3289.44,null,3289.44,null,0,null,0,null,61687.4,61687.397243371779,0,null,0,null,0,null,4100.82,4100.8169859867858,0,null,0,null,0,null,0,null,0,null,0,null,0,null,0,null,0,null,0,null,0,null,"NO",{"$f":"IF(ISERROR(VLOOKUP($A200+8860000,'Growth Data'!$A:$F,3,0)),\"NO\",VLOOKUP($A200+8860000,'Growth Data'!$A:$F,3,0))","v":"NO"},0,null,0,{"$f":"IF(DI200=\"YES\",IF(ISERROR(VLOOKUP($A200+8860000,'Growth Data'!$A:$F,6,0)),0,VLOOKUP($A200+8860000,'Growth Data'!$A:$F,6,0)),0)","v":0},0,null,0,{"$f":"IF(ISERROR(VLOOKUP($A200+8860000,'Growth Data'!$A:$Z,7,0)),0,VLOOKUP($A200+8860000,'Growth Data'!$A:$Z,7,0))","v":0},0,null,"NO",{"$f":"IF(ISERROR(VLOOKUP($A200+8860000,'Growth Data'!$A:$F,4,0)),\"NO\",VLOOKUP($A200+8860000,'Growth Data'!$A:$F,4,0))","v":"NO"},0,null,0,{"$f":"IF(ISERROR(VLOOKUP($A200+8860000,'Growth Data'!$A:$Z,8,0)),0,VLOOKUP($A200+8860000,'Growth Data'!$A:$Z,8,0))","v":0},0,null,0,{"$f":"IF(ISERROR(VLOOKUP($A200+8860000,'Growth Data'!$A:$Z,9,0)),0,VLOOKUP($A200+8860000,'Growth Data'!$A:$Z,9,0))","v":0},0,null,"NO",{"$f":"IF(ISERROR(VLOOKUP($A200+8860000,'Growth Data'!$A:$Z,5,0)),\"NO\",VLOOKUP($A200+8860000,'Growth Data'!$A:$Z,5,0))","v":"NO"},0,null,0,{"$f":"IF(ISERROR(VLOOKUP($A200+8860000,'Growth Data'!$A:$Z,10,0)),0,VLOOKUP($A200+8860000,'Growth Data'!$A:$Z,10,0))","v":0},0,null,0,{"$f":"IF(ISERROR(VLOOKUP($A200+8860000,'Growth Data'!$A:$Z,11,0)),0,VLOOKUP($A200+8860000,'Growth Data'!$A:$Z,11,0))","v":0},0]
[2552,"Sandling Primary School",null,"Sandling Primary School",null,1,null,1183735.3799999999,1183735.375430383,4.5696168672293425E-3,null,22292.720000000001,22292.721648936167,-1.6489361660205759E-3,null,10571.78,10571.782257660179,-2.2576601786568062E-3,null,87878.85,87878.845042372748,4.9576272576814517E-3,null,120084,120083.99999999999,0,null,0,0,0,null,0,0,0,null,0,0,0,null,30720,30720,0,null,0,0,0,null,0,0,0,null,139187.28,139187.27562064771,4.3793522927444428E-3,null,1594470,1594470,0,null,0,0,0,null,1594470,1594470,0,null,0,null,0,null,3750,null,3750,null,0,null,0,null,119323.06,119323.05625597724,0,null,0,null,0,null,3750,3750,0,null,0,null,0,null,0,null,0,null,0,null,0,null,0,null,0,null,0,null,0,null,"NO",{"$f":"IF(ISERROR(VLOOKUP($A201+8860000,'Growth Data'!$A:$F,3,0)),\"NO\",VLOOKUP($A201+8860000,'Growth Data'!$A:$F,3,0))","v":"NO"},0,null,0,{"$f":"IF(DI201=\"YES\",IF(ISERROR(VLOOKUP($A201+8860000,'Growth Data'!$A:$F,6,0)),0,VLOOKUP($A201+8860000,'Growth Data'!$A:$F,6,0)),0)","v":0},0,null,0,{"$f":"IF(ISERROR(VLOOKUP($A201+8860000,'Growth Data'!$A:$Z,7,0)),0,VLOOKUP($A201+8860000,'Growth Data'!$A:$Z,7,0))","v":0},0,null,"NO",{"$f":"IF(ISERROR(VLOOKUP($A201+8860000,'Growth Data'!$A:$F,4,0)),\"NO\",VLOOKUP($A201+8860000,'Growth Data'!$A:$F,4,0))","v":"NO"},0,null,0,{"$f":"IF(ISERROR(VLOOKUP($A201+8860000,'Growth Data'!$A:$Z,8,0)),0,VLOOKUP($A201+8860000,'Growth Data'!$A:$Z,8,0))","v":0},0,null,0,{"$f":"IF(ISERROR(VLOOKUP($A201+8860000,'Growth Data'!$A:$Z,9,0)),0,VLOOKUP($A201+8860000,'Growth Data'!$A:$Z,9,0))","v":0},0,null,"NO",{"$f":"IF(ISERROR(VLOOKUP($A201+8860000,'Growth Data'!$A:$Z,5,0)),\"NO\",VLOOKUP($A201+8860000,'Growth Data'!$A:$Z,5,0))","v":"NO"},0,null,0,{"$f":"IF(ISERROR(VLOOKUP($A201+8860000,'Growth Data'!$A:$Z,10,0)),0,VLOOKUP($A201+8860000,'Growth Data'!$A:$Z,10,0))","v":0},0,null,0,{"$f":"IF(ISERROR(VLOOKUP($A201+8860000,'Growth Data'!$A:$Z,11,0)),0,VLOOKUP($A201+8860000,'Growth Data'!$A:$Z,11,0))","v":0},0]
[2626,"Sandwich Infant School",null,"Sandwich Infant School",null,1,null,371868.91,371868.90690978459,3.0902153812348843E-3,null,29865.89,29865.891500000005,-1.5000000057625584E-3,null,4383.38,4383.3787187500002,1.2812499999199645E-3,null,39031.5,39031.49648387092,3.5161290797987022E-3,null,120084,120083.99999999999,0,null,0,0,0,null,0,0,0,null,0,0,0,null,14097,14097,0,null,0,0,0,null,0,0,0,null,0,0,0,null,579330.67000000004,579330.67361240555,-3.6124055041000247E-3,null,0,0,0,null,579330.67000000004,579330.67361240555,-3.6124055041000247E-3,null,0,null,0,null,3398.09,null,3398.09,null,0,null,0,null,70509.53,70509.529009629056,0,null,0,null,0,null,4314.76,4314.7608672702727,0,null,0,null,0,null,0,null,0,null,0,null,0,null,0,null,0,null,0,null,0,null,"NO",{"$f":"IF(ISERROR(VLOOKUP($A202+8860000,'Growth Data'!$A:$F,3,0)),\"NO\",VLOOKUP($A202+8860000,'Growth Data'!$A:$F,3,0))","v":"NO"},0,null,0,{"$f":"IF(DI202=\"YES\",IF(ISERROR(VLOOKUP($A202+8860000,'Growth Data'!$A:$F,6,0)),0,VLOOKUP($A202+8860000,'Growth Data'!$A:$F,6,0)),0)","v":0},0,null,0,{"$f":"IF(ISERROR(VLOOKUP($A202+8860000,'Growth Data'!$A:$Z,7,0)),0,VLOOKUP($A202+8860000,'Growth Data'!$A:$Z,7,0))","v":0},0,null,"NO",{"$f":"IF(ISERROR(VLOOKUP($A202+8860000,'Growth Data'!$A:$F,4,0)),\"NO\",VLOOKUP($A202+8860000,'Growth Data'!$A:$F,4,0))","v":"NO"},0,null,0,{"$f":"IF(ISERROR(VLOOKUP($A202+8860000,'Growth Data'!$A:$Z,8,0)),0,VLOOKUP($A202+8860000,'Growth Data'!$A:$Z,8,0))","v":0},0,null,0,{"$f":"IF(ISERROR(VLOOKUP($A202+8860000,'Growth Data'!$A:$Z,9,0)),0,VLOOKUP($A202+8860000,'Growth Data'!$A:$Z,9,0))","v":0},0,null,"NO",{"$f":"IF(ISERROR(VLOOKUP($A202+8860000,'Growth Data'!$A:$Z,5,0)),\"NO\",VLOOKUP($A202+8860000,'Growth Data'!$A:$Z,5,0))","v":"NO"},0,null,0,{"$f":"IF(ISERROR(VLOOKUP($A202+8860000,'Growth Data'!$A:$Z,10,0)),0,VLOOKUP($A202+8860000,'Growth Data'!$A:$Z,10,0))","v":0},0,null,0,{"$f":"IF(ISERROR(VLOOKUP($A202+8860000,'Growth Data'!$A:$Z,11,0)),0,VLOOKUP($A202+8860000,'Growth Data'!$A:$Z,11,0))","v":0},0]
[2627,"Sandwich Junior School",null,"Sandwich Junior School",null,1,null,567738.79,567738.78917524358,8.2475645467638969E-4,null,54515.78,54515.780091928245,-9.1928246547468007E-5,null,2141.5,2141.498,1.9999999999527063E-3,null,47489.18,47489.17772020727,2.279792730405461E-3,null,120084,120083.99999999999,0,null,0,0,0,null,0,0,0,null,0,0,0,null,28160,28160,0,null,0,0,0,null,0,0,0,null,0,0,0,null,820129.25,820129.24498737906,5.0126209389418364E-3,null,0,0,0,null,820129.25,820129.24498737906,5.0126209389418364E-3,null,0,null,0,null,3359.43,null,3359.43,null,0,null,0,null,92819.23,92819.233119143668,0,null,0,null,0,null,3959.85,3959.8462249368972,0,null,96000,null,96000,null,521.84,null,522,null,521.84,null,522,null,521.84,null,522,null,521.84,null,522,null,"NO",{"$f":"IF(ISERROR(VLOOKUP($A203+8860000,'Growth Data'!$A:$F,3,0)),\"NO\",VLOOKUP($A203+8860000,'Growth Data'!$A:$F,3,0))","v":"NO"},0,null,0,{"$f":"IF(DI203=\"YES\",IF(ISERROR(VLOOKUP($A203+8860000,'Growth Data'!$A:$F,6,0)),0,VLOOKUP($A203+8860000,'Growth Data'!$A:$F,6,0)),0)","v":0},0,null,0,{"$f":"IF(ISERROR(VLOOKUP($A203+8860000,'Growth Data'!$A:$Z,7,0)),0,VLOOKUP($A203+8860000,'Growth Data'!$A:$Z,7,0))","v":0},0,null,"NO",{"$f":"IF(ISERROR(VLOOKUP($A203+8860000,'Growth Data'!$A:$F,4,0)),\"NO\",VLOOKUP($A203+8860000,'Growth Data'!$A:$F,4,0))","v":"NO"},0,null,0,{"$f":"IF(ISERROR(VLOOKUP($A203+8860000,'Growth Data'!$A:$Z,8,0)),0,VLOOKUP($A203+8860000,'Growth Data'!$A:$Z,8,0))","v":0},0,null,0,{"$f":"IF(ISERROR(VLOOKUP($A203+8860000,'Growth Data'!$A:$Z,9,0)),0,VLOOKUP($A203+8860000,'Growth Data'!$A:$Z,9,0))","v":0},0,null,"NO",{"$f":"IF(ISERROR(VLOOKUP($A203+8860000,'Growth Data'!$A:$Z,5,0)),\"NO\",VLOOKUP($A203+8860000,'Growth Data'!$A:$Z,5,0))","v":"NO"},0,null,0,{"$f":"IF(ISERROR(VLOOKUP($A203+8860000,'Growth Data'!$A:$Z,10,0)),0,VLOOKUP($A203+8860000,'Growth Data'!$A:$Z,10,0))","v":0},0,null,0,{"$f":"IF(ISERROR(VLOOKUP($A203+8860000,'Growth Data'!$A:$Z,11,0)),0,VLOOKUP($A203+8860000,'Growth Data'!$A:$Z,11,0))","v":0},0]
[3153,"Seabrook CEP School",null,"Seabrook CEP School",null,1,null,303740.25,303740.25220875535,-2.2087553516030312E-3,null,23911.69,23911.688737735843,1.2622641552297864E-3,null,0,0,0,null,14094.18,14094.18487078657,-4.8707865698816022E-3,null,120084,120083.99999999999,0,null,0,0,0,null,0,0,0,null,0,0,0,null,607,607,0,null,0,0,0,null,0,0,0,null,0,0,0,null,462437.13,462437.12581727776,4.1827222448773682E-3,null,0,0,0,null,462437.13,462437.12581727776,4.1827222448773682E-3,null,0,null,0,null,3193.89,null,3193.89,null,0,null,0,null,39737.79,39737.785915530563,0,null,2026.22,null,2026,null,4316.17,4316.169400161476,0,null,0,null,0,null,0,null,0,null,0,null,0,null,0,null,0,null,0,null,0,null,"NO",{"$f":"IF(ISERROR(VLOOKUP($A204+8860000,'Growth Data'!$A:$F,3,0)),\"NO\",VLOOKUP($A204+8860000,'Growth Data'!$A:$F,3,0))","v":"NO"},0,null,0,{"$f":"IF(DI204=\"YES\",IF(ISERROR(VLOOKUP($A204+8860000,'Growth Data'!$A:$F,6,0)),0,VLOOKUP($A204+8860000,'Growth Data'!$A:$F,6,0)),0)","v":0},0,null,0,{"$f":"IF(ISERROR(VLOOKUP($A204+8860000,'Growth Data'!$A:$Z,7,0)),0,VLOOKUP($A204+8860000,'Growth Data'!$A:$Z,7,0))","v":0},0,null,"NO",{"$f":"IF(ISERROR(VLOOKUP($A204+8860000,'Growth Data'!$A:$F,4,0)),\"NO\",VLOOKUP($A204+8860000,'Growth Data'!$A:$F,4,0))","v":"NO"},0,null,0,{"$f":"IF(ISERROR(VLOOKUP($A204+8860000,'Growth Data'!$A:$Z,8,0)),0,VLOOKUP($A204+8860000,'Growth Data'!$A:$Z,8,0))","v":0},0,null,0,{"$f":"IF(ISERROR(VLOOKUP($A204+8860000,'Growth Data'!$A:$Z,9,0)),0,VLOOKUP($A204+8860000,'Growth Data'!$A:$Z,9,0))","v":0},0,null,"NO",{"$f":"IF(ISERROR(VLOOKUP($A204+8860000,'Growth Data'!$A:$Z,5,0)),\"NO\",VLOOKUP($A204+8860000,'Growth Data'!$A:$Z,5,0))","v":"NO"},0,null,0,{"$f":"IF(ISERROR(VLOOKUP($A204+8860000,'Growth Data'!$A:$Z,10,0)),0,VLOOKUP($A204+8860000,'Growth Data'!$A:$Z,10,0))","v":0},0,null,0,{"$f":"IF(ISERROR(VLOOKUP($A204+8860000,'Growth Data'!$A:$Z,11,0)),0,VLOOKUP($A204+8860000,'Growth Data'!$A:$Z,11,0))","v":0},0]
[3035,"Seal CEP School",null,"Seal CEP School",null,1,null,840253.41,840253.40797936055,2.0206394838169217E-3,null,40956.730000000003,40956.731289795898,-1.2897958949906752E-3,null,8910.01,8910.0077429718913,2.2570281089429045E-3,null,68578.41,68578.4060869565,3.9130435034167022E-3,null,120084,120083.99999999999,0,null,0,0,0,null,39267.68,39267.684932806675,-4.9328066743328236E-3,null,0,0,0,null,17839,17839,0,null,0,0,0,null,0,0,0,null,0,0,0,null,1135889.24,1135889.2380318916,1.9681083504110575E-3,null,0,0,0,null,1135889.24,1135889.2380318916,1.9681083504110575E-3,null,0,null,0,null,3356.74,null,3356.74,null,0,null,0,null,110550.31,110550.30833706552,0,null,0,null,0,null,3777.2,3777.1967501077438,0,null,0,null,0,null,0,null,0,null,0,null,0,null,0,null,0,null,0,null,0,null,"NO",{"$f":"IF(ISERROR(VLOOKUP($A205+8860000,'Growth Data'!$A:$F,3,0)),\"NO\",VLOOKUP($A205+8860000,'Growth Data'!$A:$F,3,0))","v":"YES"},1,null,0,{"$f":"IF(DI205=\"YES\",IF(ISERROR(VLOOKUP($A205+8860000,'Growth Data'!$A:$F,6,0)),0,VLOOKUP($A205+8860000,'Growth Data'!$A:$F,6,0)),0)","v":30},-30,null,0,{"$f":"IF(ISERROR(VLOOKUP($A205+8860000,'Growth Data'!$A:$Z,7,0)),0,VLOOKUP($A205+8860000,'Growth Data'!$A:$Z,7,0))","v":60},1,null,"NO",{"$f":"IF(ISERROR(VLOOKUP($A205+8860000,'Growth Data'!$A:$F,4,0)),\"NO\",VLOOKUP($A205+8860000,'Growth Data'!$A:$F,4,0))","v":"YES"},1,null,0,{"$f":"IF(ISERROR(VLOOKUP($A205+8860000,'Growth Data'!$A:$Z,8,0)),0,VLOOKUP($A205+8860000,'Growth Data'!$A:$Z,8,0))","v":33},1,null,0,{"$f":"IF(ISERROR(VLOOKUP($A205+8860000,'Growth Data'!$A:$Z,9,0)),0,VLOOKUP($A205+8860000,'Growth Data'!$A:$Z,9,0))","v":60},1,null,"NO",{"$f":"IF(ISERROR(VLOOKUP($A205+8860000,'Growth Data'!$A:$Z,5,0)),\"NO\",VLOOKUP($A205+8860000,'Growth Data'!$A:$Z,5,0))","v":"NO"},0,null,0,{"$f":"IF(ISERROR(VLOOKUP($A205+8860000,'Growth Data'!$A:$Z,10,0)),0,VLOOKUP($A205+8860000,'Growth Data'!$A:$Z,10,0))","v":0},0,null,0,{"$f":"IF(ISERROR(VLOOKUP($A205+8860000,'Growth Data'!$A:$Z,11,0)),0,VLOOKUP($A205+8860000,'Growth Data'!$A:$Z,11,0))","v":0},0]
[3020,"Sedley's CEP School",null,"Sedley's CEP School",null,1,null,278192.01,278192.00669586938,3.3041306305676699E-3,null,11036.65,11036.647675962027,2.3240379723574733E-3,null,1249.21,1249.2071666666664,2.8333333336831856E-3,null,27416.3,27416.302987500003,-2.9875000036554411E-3,null,120084,120083.99999999999,0,null,0,0,0,null,15942.41,15942.405188746325,4.8112536751432344E-3,null,0,0,0,null,5863,5863,0,null,0,0,0,null,0,0,0,null,0,0,0,null,459783.57,459783.5697147444,2.852556062862277E-4,null,0,0,0,null,459783.57,459783.5697147444,2.852556062862277E-4,null,0,null,0,null,3361.89,null,3361.89,null,0,null,0,null,45275.8,45275.802620128627,0,null,1472.42,null,1472,null,4631.84,4631.8425481096383,0,null,21000,null,21000,null,691.77,null,692,null,691.77,null,692,null,691.77,null,692,null,691.77,null,692,null,"NO",{"$f":"IF(ISERROR(VLOOKUP($A206+8860000,'Growth Data'!$A:$F,3,0)),\"NO\",VLOOKUP($A206+8860000,'Growth Data'!$A:$F,3,0))","v":"NO"},0,null,0,{"$f":"IF(DI206=\"YES\",IF(ISERROR(VLOOKUP($A206+8860000,'Growth Data'!$A:$F,6,0)),0,VLOOKUP($A206+8860000,'Growth Data'!$A:$F,6,0)),0)","v":0},0,null,0,{"$f":"IF(ISERROR(VLOOKUP($A206+8860000,'Growth Data'!$A:$Z,7,0)),0,VLOOKUP($A206+8860000,'Growth Data'!$A:$Z,7,0))","v":0},0,null,"NO",{"$f":"IF(ISERROR(VLOOKUP($A206+8860000,'Growth Data'!$A:$F,4,0)),\"NO\",VLOOKUP($A206+8860000,'Growth Data'!$A:$F,4,0))","v":"NO"},0,null,0,{"$f":"IF(ISERROR(VLOOKUP($A206+8860000,'Growth Data'!$A:$Z,8,0)),0,VLOOKUP($A206+8860000,'Growth Data'!$A:$Z,8,0))","v":0},0,null,0,{"$f":"IF(ISERROR(VLOOKUP($A206+8860000,'Growth Data'!$A:$Z,9,0)),0,VLOOKUP($A206+8860000,'Growth Data'!$A:$Z,9,0))","v":0},0,null,"NO",{"$f":"IF(ISERROR(VLOOKUP($A206+8860000,'Growth Data'!$A:$Z,5,0)),\"NO\",VLOOKUP($A206+8860000,'Growth Data'!$A:$Z,5,0))","v":"NO"},0,null,0,{"$f":"IF(ISERROR(VLOOKUP($A206+8860000,'Growth Data'!$A:$Z,10,0)),0,VLOOKUP($A206+8860000,'Growth Data'!$A:$Z,10,0))","v":0},0,null,0,{"$f":"IF(ISERROR(VLOOKUP($A206+8860000,'Growth Data'!$A:$Z,11,0)),0,VLOOKUP($A206+8860000,'Growth Data'!$A:$Z,11,0))","v":0},0]
[2300,"Sellindge Primary School",null,"Sellindge Primary School",null,1,null,306578.95,306578.94615463156,3.8453684537671506E-3,null,10005,10004.998599999988,1.4000000119267497E-3,null,1906.17,1906.1685494505516,1.4505494484637893E-3,null,27826.5,27826.49789010992,2.1098900797369424E-3,null,120084,120083.99999999999,0,null,0,0,0,null,0,0,0,null,0,0,0,null,17216,17216,0,null,0,0,0,null,0,0,0,null,0,0,0,null,483616.61,483616.61119419202,-1.1941920383833349E-3,null,0,0,0,null,483616.61,483616.61119419202,-1.1941920383833349E-3,null,0,null,0,null,3206.64,null,3206.64,null,0,null,0,null,40568.949999999997,40568.947346568617,0,null,1943.11,null,1943,null,4318.5200000000004,4318.5241777240017,0,null,0,null,0,null,0,null,0,null,0,null,0,null,0,null,0,null,0,null,0,null,"NO",{"$f":"IF(ISERROR(VLOOKUP($A207+8860000,'Growth Data'!$A:$F,3,0)),\"NO\",VLOOKUP($A207+8860000,'Growth Data'!$A:$F,3,0))","v":"NO"},0,null,0,{"$f":"IF(DI207=\"YES\",IF(ISERROR(VLOOKUP($A207+8860000,'Growth Data'!$A:$F,6,0)),0,VLOOKUP($A207+8860000,'Growth Data'!$A:$F,6,0)),0)","v":0},0,null,0,{"$f":"IF(ISERROR(VLOOKUP($A207+8860000,'Growth Data'!$A:$Z,7,0)),0,VLOOKUP($A207+8860000,'Growth Data'!$A:$Z,7,0))","v":0},0,null,"NO",{"$f":"IF(ISERROR(VLOOKUP($A207+8860000,'Growth Data'!$A:$F,4,0)),\"NO\",VLOOKUP($A207+8860000,'Growth Data'!$A:$F,4,0))","v":"NO"},0,null,0,{"$f":"IF(ISERROR(VLOOKUP($A207+8860000,'Growth Data'!$A:$Z,8,0)),0,VLOOKUP($A207+8860000,'Growth Data'!$A:$Z,8,0))","v":0},0,null,0,{"$f":"IF(ISERROR(VLOOKUP($A207+8860000,'Growth Data'!$A:$Z,9,0)),0,VLOOKUP($A207+8860000,'Growth Data'!$A:$Z,9,0))","v":0},0,null,"NO",{"$f":"IF(ISERROR(VLOOKUP($A207+8860000,'Growth Data'!$A:$Z,5,0)),\"NO\",VLOOKUP($A207+8860000,'Growth Data'!$A:$Z,5,0))","v":"NO"},0,null,0,{"$f":"IF(ISERROR(VLOOKUP($A207+8860000,'Growth Data'!$A:$Z,10,0)),0,VLOOKUP($A207+8860000,'Growth Data'!$A:$Z,10,0))","v":0},0,null,0,{"$f":"IF(ISERROR(VLOOKUP($A207+8860000,'Growth Data'!$A:$Z,11,0)),0,VLOOKUP($A207+8860000,'Growth Data'!$A:$Z,11,0))","v":0},0]
[3160,"Selsted CEP School",null,"Selsted CEP School",null,1,null,272514.62,272514.61880411697,1.195883029140532E-3,null,11947.77,11947.769352941179,6.4705882141424809E-4,null,0,0,0,null,20209.689999999999,20209.692444444459,-2.4444444607070182E-3,null,120084,120083.99999999999,0,null,18688.45,18688.453564753003,-3.564753002137877E-3,null,0,0,0,null,0,0,0,null,10978,10978,0,null,0,0,0,null,0,0,0,null,0,0,0,null,454422.53,454422.53416625562,-4.1662555886432528E-3,null,0,0,0,null,454422.53,454422.53416625562,-4.1662555886432528E-3,null,0,null,0,null,3173.67,null,3173.67,null,0,null,0,null,37491.89,37491.894104393788,0,null,2250.81,null,2251,null,4619.21,4619.2138975651642,0,null,0,null,0,null,0,null,0,null,0,null,0,null,0,null,0,null,0,null,0,null,"NO",{"$f":"IF(ISERROR(VLOOKUP($A208+8860000,'Growth Data'!$A:$F,3,0)),\"NO\",VLOOKUP($A208+8860000,'Growth Data'!$A:$F,3,0))","v":"NO"},0,null,0,{"$f":"IF(DI208=\"YES\",IF(ISERROR(VLOOKUP($A208+8860000,'Growth Data'!$A:$F,6,0)),0,VLOOKUP($A208+8860000,'Growth Data'!$A:$F,6,0)),0)","v":0},0,null,0,{"$f":"IF(ISERROR(VLOOKUP($A208+8860000,'Growth Data'!$A:$Z,7,0)),0,VLOOKUP($A208+8860000,'Growth Data'!$A:$Z,7,0))","v":0},0,null,"NO",{"$f":"IF(ISERROR(VLOOKUP($A208+8860000,'Growth Data'!$A:$F,4,0)),\"NO\",VLOOKUP($A208+8860000,'Growth Data'!$A:$F,4,0))","v":"NO"},0,null,0,{"$f":"IF(ISERROR(VLOOKUP($A208+8860000,'Growth Data'!$A:$Z,8,0)),0,VLOOKUP($A208+8860000,'Growth Data'!$A:$Z,8,0))","v":0},0,null,0,{"$f":"IF(ISERROR(VLOOKUP($A208+8860000,'Growth Data'!$A:$Z,9,0)),0,VLOOKUP($A208+8860000,'Growth Data'!$A:$Z,9,0))","v":0},0,null,"NO",{"$f":"IF(ISERROR(VLOOKUP($A208+8860000,'Growth Data'!$A:$Z,5,0)),\"NO\",VLOOKUP($A208+8860000,'Growth Data'!$A:$Z,5,0))","v":"NO"},0,null,0,{"$f":"IF(ISERROR(VLOOKUP($A208+8860000,'Growth Data'!$A:$Z,10,0)),0,VLOOKUP($A208+8860000,'Growth Data'!$A:$Z,10,0))","v":0},0,null,0,{"$f":"IF(ISERROR(VLOOKUP($A208+8860000,'Growth Data'!$A:$Z,11,0)),0,VLOOKUP($A208+8860000,'Growth Data'!$A:$Z,11,0))","v":0},0]
[2586,"Senacre Wood Primary School",null,"Senacre Wood Primary School",null,1,null,587609.65,587609.64679637714,3.2036228803917766E-3,null,85366.83,85366.830365384638,-3.6538463609758765E-4,null,5008.93,5008.9275254237346,2.4745762657403247E-3,null,72290.06,72290.05916949152,8.3050847752019763E-4,null,120084,120083.99999999999,0,null,0,0,0,null,0,0,0,null,0,0,0,null,21332,21332,0,null,0,0,0,null,0,0,0,null,0,0,0,null,891691.46,891691.46385667706,-3.85667709633708E-3,null,0,0,0,null,891691.46,891691.46385667706,-3.85667709633708E-3,null,0,null,0,null,3624.52,null,3624.52,null,0,null,0,null,150437.96,150437.96436730798,0,null,0,null,0,null,4204.6400000000003,4204.6350910950596,0,null,0,null,0,null,0,null,0,null,0,null,0,null,0,null,0,null,0,null,0,null,"NO",{"$f":"IF(ISERROR(VLOOKUP($A209+8860000,'Growth Data'!$A:$F,3,0)),\"NO\",VLOOKUP($A209+8860000,'Growth Data'!$A:$F,3,0))","v":"NO"},0,null,0,{"$f":"IF(DI209=\"YES\",IF(ISERROR(VLOOKUP($A209+8860000,'Growth Data'!$A:$F,6,0)),0,VLOOKUP($A209+8860000,'Growth Data'!$A:$F,6,0)),0)","v":0},0,null,0,{"$f":"IF(ISERROR(VLOOKUP($A209+8860000,'Growth Data'!$A:$Z,7,0)),0,VLOOKUP($A209+8860000,'Growth Data'!$A:$Z,7,0))","v":0},0,null,"NO",{"$f":"IF(ISERROR(VLOOKUP($A209+8860000,'Growth Data'!$A:$F,4,0)),\"NO\",VLOOKUP($A209+8860000,'Growth Data'!$A:$F,4,0))","v":"NO"},0,null,0,{"$f":"IF(ISERROR(VLOOKUP($A209+8860000,'Growth Data'!$A:$Z,8,0)),0,VLOOKUP($A209+8860000,'Growth Data'!$A:$Z,8,0))","v":0},0,null,0,{"$f":"IF(ISERROR(VLOOKUP($A209+8860000,'Growth Data'!$A:$Z,9,0)),0,VLOOKUP($A209+8860000,'Growth Data'!$A:$Z,9,0))","v":0},0,null,"NO",{"$f":"IF(ISERROR(VLOOKUP($A209+8860000,'Growth Data'!$A:$Z,5,0)),\"NO\",VLOOKUP($A209+8860000,'Growth Data'!$A:$Z,5,0))","v":"NO"},0,null,0,{"$f":"IF(ISERROR(VLOOKUP($A209+8860000,'Growth Data'!$A:$Z,10,0)),0,VLOOKUP($A209+8860000,'Growth Data'!$A:$Z,10,0))","v":0},0,null,0,{"$f":"IF(ISERROR(VLOOKUP($A209+8860000,'Growth Data'!$A:$Z,11,0)),0,VLOOKUP($A209+8860000,'Growth Data'!$A:$Z,11,0))","v":0},0]
[2632,"Sevenoaks Primary School",null,"Sevenoaks Primary School",null,1,null,1759990.25,1759990.2464432551,3.5567448940128088E-3,null,37901.93,37901.927976413557,2.0235864431015216E-3,null,42268.52,42268.518576778872,1.4232211251510307E-3,null,115031.48,115031.47785425105,2.1457489492604509E-3,null,120084,120083.99999999999,0,null,0,0,0,null,75540.05,75540.052618965419,-2.6189654163317755E-3,null,0,0,0,null,75264,75264,0,null,0,0,0,null,0,0,0,null,174183.78,174183.77653033566,3.4696643415372819E-3,null,2400264,2400264,0,null,0,0,0,null,2400264,2400264,0,null,0,null,0,null,3750,null,3750,null,0,null,0,null,186834.09,186834.08912885768,0,null,0,null,0,null,3750,3750,0,null,0,null,0,null,0,null,0,null,0,null,0,null,0,null,0,null,0,null,0,null,"NO",{"$f":"IF(ISERROR(VLOOKUP($A210+8860000,'Growth Data'!$A:$F,3,0)),\"NO\",VLOOKUP($A210+8860000,'Growth Data'!$A:$F,3,0))","v":"NO"},0,null,0,{"$f":"IF(DI210=\"YES\",IF(ISERROR(VLOOKUP($A210+8860000,'Growth Data'!$A:$F,6,0)),0,VLOOKUP($A210+8860000,'Growth Data'!$A:$F,6,0)),0)","v":0},0,null,0,{"$f":"IF(ISERROR(VLOOKUP($A210+8860000,'Growth Data'!$A:$Z,7,0)),0,VLOOKUP($A210+8860000,'Growth Data'!$A:$Z,7,0))","v":0},0,null,"NO",{"$f":"IF(ISERROR(VLOOKUP($A210+8860000,'Growth Data'!$A:$F,4,0)),\"NO\",VLOOKUP($A210+8860000,'Growth Data'!$A:$F,4,0))","v":"NO"},0,null,0,{"$f":"IF(ISERROR(VLOOKUP($A210+8860000,'Growth Data'!$A:$Z,8,0)),0,VLOOKUP($A210+8860000,'Growth Data'!$A:$Z,8,0))","v":0},0,null,0,{"$f":"IF(ISERROR(VLOOKUP($A210+8860000,'Growth Data'!$A:$Z,9,0)),0,VLOOKUP($A210+8860000,'Growth Data'!$A:$Z,9,0))","v":0},0,null,"NO",{"$f":"IF(ISERROR(VLOOKUP($A210+8860000,'Growth Data'!$A:$Z,5,0)),\"NO\",VLOOKUP($A210+8860000,'Growth Data'!$A:$Z,5,0))","v":"NO"},0,null,0,{"$f":"IF(ISERROR(VLOOKUP($A210+8860000,'Growth Data'!$A:$Z,10,0)),0,VLOOKUP($A210+8860000,'Growth Data'!$A:$Z,10,0))","v":0},0,null,0,{"$f":"IF(ISERROR(VLOOKUP($A210+8860000,'Growth Data'!$A:$Z,11,0)),0,VLOOKUP($A210+8860000,'Growth Data'!$A:$Z,11,0))","v":0},0]
[2119,"Shears Green Infant School",null,"Shears Green Infant School",null,1,null,1016252.43,1016252.432623686,-2.6236859848722816E-3,null,75027.5,75027.500439719835,-4.3971983541268855E-4,null,27380.58,27380.581571428596,-1.5714285946160089E-3,null,54505.27,54505.269857142906,1.4285709039540961E-4,null,120084,120083.99999999999,0,null,0,0,0,null,0,0,0,null,0,0,0,null,21760,21760,0,null,0,0,0,null,0,0,0,null,49250.22,49250.215508022811,4.4919771899003536E-3,null,1364260,1364260,0,null,0,0,0,null,1364260,1364260,0,null,0,null,0,null,3750,null,3750,null,0,null,0,null,149638.96,149638.96417529948,0,null,0,null,0,null,3750,3750,0,null,0,null,0,null,0,null,0,null,0,null,0,null,0,null,0,null,0,null,0,null,"NO",{"$f":"IF(ISERROR(VLOOKUP($A211+8860000,'Growth Data'!$A:$F,3,0)),\"NO\",VLOOKUP($A211+8860000,'Growth Data'!$A:$F,3,0))","v":"NO"},0,null,0,{"$f":"IF(DI211=\"YES\",IF(ISERROR(VLOOKUP($A211+8860000,'Growth Data'!$A:$F,6,0)),0,VLOOKUP($A211+8860000,'Growth Data'!$A:$F,6,0)),0)","v":0},0,null,0,{"$f":"IF(ISERROR(VLOOKUP($A211+8860000,'Growth Data'!$A:$Z,7,0)),0,VLOOKUP($A211+8860000,'Growth Data'!$A:$Z,7,0))","v":0},0,null,"NO",{"$f":"IF(ISERROR(VLOOKUP($A211+8860000,'Growth Data'!$A:$F,4,0)),\"NO\",VLOOKUP($A211+8860000,'Growth Data'!$A:$F,4,0))","v":"NO"},0,null,0,{"$f":"IF(ISERROR(VLOOKUP($A211+8860000,'Growth Data'!$A:$Z,8,0)),0,VLOOKUP($A211+8860000,'Growth Data'!$A:$Z,8,0))","v":0},0,null,0,{"$f":"IF(ISERROR(VLOOKUP($A211+8860000,'Growth Data'!$A:$Z,9,0)),0,VLOOKUP($A211+8860000,'Growth Data'!$A:$Z,9,0))","v":0},0,null,"NO",{"$f":"IF(ISERROR(VLOOKUP($A211+8860000,'Growth Data'!$A:$Z,5,0)),\"NO\",VLOOKUP($A211+8860000,'Growth Data'!$A:$Z,5,0))","v":"NO"},0,null,0,{"$f":"IF(ISERROR(VLOOKUP($A211+8860000,'Growth Data'!$A:$Z,10,0)),0,VLOOKUP($A211+8860000,'Growth Data'!$A:$Z,10,0))","v":0},0,null,0,{"$f":"IF(ISERROR(VLOOKUP($A211+8860000,'Growth Data'!$A:$Z,11,0)),0,VLOOKUP($A211+8860000,'Growth Data'!$A:$Z,11,0))","v":0},0]
[2431,"Shears Green Junior School",null,"Shears Green Junior School",null,1,null,1356895.71,1356895.7061288322,3.8711677771061659E-3,null,125344.6,125344.60048817986,-4.8817985225468874E-4,null,8565.99,8565.9919999999911,-1.9999999913125066E-3,null,134751.49,134751.48586451611,4.1354838758707047E-3,null,120084,120083.99999999999,0,null,0,0,0,null,0,0,0,null,0,0,0,null,21760,21760,0,null,0,0,0,null,0,0,0,null,46858.22,46858.215518471785,4.4815282162744552E-3,null,1814260,1814260,0,null,0,0,0,null,1814260,1814260,0,null,0,null,0,null,3750,null,3750,null,0,null,0,null,237971.31,237971.31065970406,0,null,0,null,0,null,3750,3750,0,null,0,null,0,null,0,null,0,null,0,null,0,null,0,null,0,null,0,null,0,null,"NO",{"$f":"IF(ISERROR(VLOOKUP($A212+8860000,'Growth Data'!$A:$F,3,0)),\"NO\",VLOOKUP($A212+8860000,'Growth Data'!$A:$F,3,0))","v":"NO"},0,null,0,{"$f":"IF(DI212=\"YES\",IF(ISERROR(VLOOKUP($A212+8860000,'Growth Data'!$A:$F,6,0)),0,VLOOKUP($A212+8860000,'Growth Data'!$A:$F,6,0)),0)","v":0},0,null,0,{"$f":"IF(ISERROR(VLOOKUP($A212+8860000,'Growth Data'!$A:$Z,7,0)),0,VLOOKUP($A212+8860000,'Growth Data'!$A:$Z,7,0))","v":0},0,null,"NO",{"$f":"IF(ISERROR(VLOOKUP($A212+8860000,'Growth Data'!$A:$F,4,0)),\"NO\",VLOOKUP($A212+8860000,'Growth Data'!$A:$F,4,0))","v":"NO"},0,null,0,{"$f":"IF(ISERROR(VLOOKUP($A212+8860000,'Growth Data'!$A:$Z,8,0)),0,VLOOKUP($A212+8860000,'Growth Data'!$A:$Z,8,0))","v":0},0,null,0,{"$f":"IF(ISERROR(VLOOKUP($A212+8860000,'Growth Data'!$A:$Z,9,0)),0,VLOOKUP($A212+8860000,'Growth Data'!$A:$Z,9,0))","v":0},0,null,"NO",{"$f":"IF(ISERROR(VLOOKUP($A212+8860000,'Growth Data'!$A:$Z,5,0)),\"NO\",VLOOKUP($A212+8860000,'Growth Data'!$A:$Z,5,0))","v":"NO"},0,null,0,{"$f":"IF(ISERROR(VLOOKUP($A212+8860000,'Growth Data'!$A:$Z,10,0)),0,VLOOKUP($A212+8860000,'Growth Data'!$A:$Z,10,0))","v":0},0,null,0,{"$f":"IF(ISERROR(VLOOKUP($A212+8860000,'Growth Data'!$A:$Z,11,0)),0,VLOOKUP($A212+8860000,'Growth Data'!$A:$Z,11,0))","v":0},0]
[2190,"Shipbourne School",null,"Shipbourne School",null,1,null,158966.85999999999,158966.86096906822,-9.6906823455356061E-4,null,10468.799999999999,10468.79671578948,3.2842105192685267E-3,null,2398.48,2398.4777600000002,2.2399999998015119E-3,null,5079.3,5079.2977021276592,2.297872340932372E-3,null,120084,120083.99999999999,0,null,0,0,0,null,0,0,0,null,0,0,0,null,6737,6737,0,null,0,0,0,null,0,0,0,null,0,0,0,null,303734.43,303734.43314698536,-3.1469853711314499E-3,null,0,0,0,null,303734.43,303734.43314698536,-3.1469853711314499E-3,null,0,null,0,null,3159.17,null,3159.17,null,0,null,0,null,20128.8,20128.799484925279,0,null,3987.12,null,3987,null,5303.53,5303.5255919104538,0,null,0,null,0,null,0,null,0,null,0,null,0,null,0,null,0,null,0,null,0,null,"NO",{"$f":"IF(ISERROR(VLOOKUP($A213+8860000,'Growth Data'!$A:$F,3,0)),\"NO\",VLOOKUP($A213+8860000,'Growth Data'!$A:$F,3,0))","v":"NO"},0,null,0,{"$f":"IF(DI213=\"YES\",IF(ISERROR(VLOOKUP($A213+8860000,'Growth Data'!$A:$F,6,0)),0,VLOOKUP($A213+8860000,'Growth Data'!$A:$F,6,0)),0)","v":0},0,null,0,{"$f":"IF(ISERROR(VLOOKUP($A213+8860000,'Growth Data'!$A:$Z,7,0)),0,VLOOKUP($A213+8860000,'Growth Data'!$A:$Z,7,0))","v":0},0,null,"NO",{"$f":"IF(ISERROR(VLOOKUP($A213+8860000,'Growth Data'!$A:$F,4,0)),\"NO\",VLOOKUP($A213+8860000,'Growth Data'!$A:$F,4,0))","v":"NO"},0,null,0,{"$f":"IF(ISERROR(VLOOKUP($A213+8860000,'Growth Data'!$A:$Z,8,0)),0,VLOOKUP($A213+8860000,'Growth Data'!$A:$Z,8,0))","v":0},0,null,0,{"$f":"IF(ISERROR(VLOOKUP($A213+8860000,'Growth Data'!$A:$Z,9,0)),0,VLOOKUP($A213+8860000,'Growth Data'!$A:$Z,9,0))","v":0},0,null,"NO",{"$f":"IF(ISERROR(VLOOKUP($A213+8860000,'Growth Data'!$A:$Z,5,0)),\"NO\",VLOOKUP($A213+8860000,'Growth Data'!$A:$Z,5,0))","v":"NO"},0,null,0,{"$f":"IF(ISERROR(VLOOKUP($A213+8860000,'Growth Data'!$A:$Z,10,0)),0,VLOOKUP($A213+8860000,'Growth Data'!$A:$Z,10,0))","v":0},0,null,0,{"$f":"IF(ISERROR(VLOOKUP($A213+8860000,'Growth Data'!$A:$Z,11,0)),0,VLOOKUP($A213+8860000,'Growth Data'!$A:$Z,11,0))","v":0},0]
[2148,"Shoreham Village School",null,"Shoreham Village School",null,1,null,281030.7,281030.70064174559,-6.4174557337537408E-4,null,16934.099999999999,16934.095575000014,4.424999984621536E-3,null,1892.93,1892.9312678571421,-1.2678571420110529E-3,null,28046.639999999999,28046.64423417726,-4.2341772605141159E-3,null,120084,120083.99999999999,0,null,0,0,0,null,16306.78,16306.776730563588,3.2694364126655273E-3,null,0,0,0,null,14097,14097,0,null,0,0,0,null,0,0,0,null,0,0,0,null,478392.15,478392.14844934363,1.5506563941016793E-3,null,0,0,0,null,478392.15,478392.14844934363,1.5506563941016793E-3,null,0,null,0,null,3432.73,null,3432.73,null,0,null,0,null,47574.59,47574.587823221693,0,null,1242.54,null,1243,null,4689.8500000000004,4689.8499843368054,0,null,0,null,0,null,0,null,0,null,0,null,0,null,0,null,0,null,0,null,0,null,"NO",{"$f":"IF(ISERROR(VLOOKUP($A214+8860000,'Growth Data'!$A:$F,3,0)),\"NO\",VLOOKUP($A214+8860000,'Growth Data'!$A:$F,3,0))","v":"NO"},0,null,0,{"$f":"IF(DI214=\"YES\",IF(ISERROR(VLOOKUP($A214+8860000,'Growth Data'!$A:$F,6,0)),0,VLOOKUP($A214+8860000,'Growth Data'!$A:$F,6,0)),0)","v":0},0,null,0,{"$f":"IF(ISERROR(VLOOKUP($A214+8860000,'Growth Data'!$A:$Z,7,0)),0,VLOOKUP($A214+8860000,'Growth Data'!$A:$Z,7,0))","v":0},0,null,"NO",{"$f":"IF(ISERROR(VLOOKUP($A214+8860000,'Growth Data'!$A:$F,4,0)),\"NO\",VLOOKUP($A214+8860000,'Growth Data'!$A:$F,4,0))","v":"NO"},0,null,0,{"$f":"IF(ISERROR(VLOOKUP($A214+8860000,'Growth Data'!$A:$Z,8,0)),0,VLOOKUP($A214+8860000,'Growth Data'!$A:$Z,8,0))","v":0},0,null,0,{"$f":"IF(ISERROR(VLOOKUP($A214+8860000,'Growth Data'!$A:$Z,9,0)),0,VLOOKUP($A214+8860000,'Growth Data'!$A:$Z,9,0))","v":0},0,null,"NO",{"$f":"IF(ISERROR(VLOOKUP($A214+8860000,'Growth Data'!$A:$Z,5,0)),\"NO\",VLOOKUP($A214+8860000,'Growth Data'!$A:$Z,5,0))","v":"NO"},0,null,0,{"$f":"IF(ISERROR(VLOOKUP($A214+8860000,'Growth Data'!$A:$Z,10,0)),0,VLOOKUP($A214+8860000,'Growth Data'!$A:$Z,10,0))","v":0},0,null,0,{"$f":"IF(ISERROR(VLOOKUP($A214+8860000,'Growth Data'!$A:$Z,11,0)),0,VLOOKUP($A214+8860000,'Growth Data'!$A:$Z,11,0))","v":0},0]
[3175,"Sibertswold CEP School",null,"Sibertswold CEP School",null,1,null,564900.1,564900.09522936738,4.7706326004117727E-3,null,31817.21,31817.208619617199,1.3803828005620744E-3,null,5013.62,5013.6247294117693,-4.7294117694036686E-3,null,25248.02,25248.018392857131,1.6071428690338507E-3,null,120084,120083.99999999999,0,null,0,0,0,null,0,0,0,null,0,0,0,null,27136,27136,0,null,0,0,0,null,0,0,0,null,0,0,0,null,774198.95,774198.94697125349,3.0287464614957571E-3,null,0,0,0,null,774198.95,774198.94697125349,3.0287464614957571E-3,null,0,null,0,null,3150.65,null,3150.65,null,0,null,0,null,62910.13,62910.134048894251,0,null,0,null,0,null,3754.09,3754.085160659567,0,null,0,null,0,null,0,null,0,null,0,null,0,null,0,null,0,null,0,null,0,null,"NO",{"$f":"IF(ISERROR(VLOOKUP($A215+8860000,'Growth Data'!$A:$F,3,0)),\"NO\",VLOOKUP($A215+8860000,'Growth Data'!$A:$F,3,0))","v":"NO"},0,null,0,{"$f":"IF(DI215=\"YES\",IF(ISERROR(VLOOKUP($A215+8860000,'Growth Data'!$A:$F,6,0)),0,VLOOKUP($A215+8860000,'Growth Data'!$A:$F,6,0)),0)","v":0},0,null,0,{"$f":"IF(ISERROR(VLOOKUP($A215+8860000,'Growth Data'!$A:$Z,7,0)),0,VLOOKUP($A215+8860000,'Growth Data'!$A:$Z,7,0))","v":0},0,null,"NO",{"$f":"IF(ISERROR(VLOOKUP($A215+8860000,'Growth Data'!$A:$F,4,0)),\"NO\",VLOOKUP($A215+8860000,'Growth Data'!$A:$F,4,0))","v":"NO"},0,null,0,{"$f":"IF(ISERROR(VLOOKUP($A215+8860000,'Growth Data'!$A:$Z,8,0)),0,VLOOKUP($A215+8860000,'Growth Data'!$A:$Z,8,0))","v":0},0,null,0,{"$f":"IF(ISERROR(VLOOKUP($A215+8860000,'Growth Data'!$A:$Z,9,0)),0,VLOOKUP($A215+8860000,'Growth Data'!$A:$Z,9,0))","v":0},0,null,"NO",{"$f":"IF(ISERROR(VLOOKUP($A215+8860000,'Growth Data'!$A:$Z,5,0)),\"NO\",VLOOKUP($A215+8860000,'Growth Data'!$A:$Z,5,0))","v":"NO"},0,null,0,{"$f":"IF(ISERROR(VLOOKUP($A215+8860000,'Growth Data'!$A:$Z,10,0)),0,VLOOKUP($A215+8860000,'Growth Data'!$A:$Z,10,0))","v":0},0,null,0,{"$f":"IF(ISERROR(VLOOKUP($A215+8860000,'Growth Data'!$A:$Z,11,0)),0,VLOOKUP($A215+8860000,'Growth Data'!$A:$Z,11,0))","v":0},0]
[4534,"Simon Langton Girls' Grammar School",null,"Simon Langton Girls' Grammar School",null,1,null,3590125.15,3590125.1468931707,3.1068292446434498E-3,null,115610.81,115610.81051989261,-5.1989260828122497E-4,null,18755.07,18755.065434935499,4.5650645006389823E-3,null,21356.29,21356.2863146237,3.6853763012913987E-3,null,114480.08,114480.07999999999,0,null,0,0,0,null,0,0,0,null,0,0,0,null,165120,165120,0,null,0,0,0,null,0,0,0,null,409672.61,409672.61083737714,-8.3737715613096952E-4,null,4435120,4435120,0,null,0,0,0,null,4435120,4435120,0,null,0,null,0,null,5000,null,5000,null,0,null,0,null,140777.64000000001,140777.64042877185,0,null,0,null,0,null,5000,5000,0,null,0,null,0,null,0,null,0,null,0,null,0,null,0,null,0,null,0,null,0,null,"NO",{"$f":"IF(ISERROR(VLOOKUP($A216+8860000,'Growth Data'!$A:$F,3,0)),\"NO\",VLOOKUP($A216+8860000,'Growth Data'!$A:$F,3,0))","v":"NO"},0,null,0,{"$f":"IF(DI216=\"YES\",IF(ISERROR(VLOOKUP($A216+8860000,'Growth Data'!$A:$F,6,0)),0,VLOOKUP($A216+8860000,'Growth Data'!$A:$F,6,0)),0)","v":0},0,null,0,{"$f":"IF(ISERROR(VLOOKUP($A216+8860000,'Growth Data'!$A:$Z,7,0)),0,VLOOKUP($A216+8860000,'Growth Data'!$A:$Z,7,0))","v":0},0,null,"YES",{"$f":"IF(ISERROR(VLOOKUP($A216+8860000,'Growth Data'!$A:$F,4,0)),\"NO\",VLOOKUP($A216+8860000,'Growth Data'!$A:$F,4,0))","v":"NO"},1,null,45,{"$f":"IF(ISERROR(VLOOKUP($A216+8860000,'Growth Data'!$A:$Z,8,0)),0,VLOOKUP($A216+8860000,'Growth Data'!$A:$Z,8,0))","v":0},1,null,60,{"$f":"IF(ISERROR(VLOOKUP($A216+8860000,'Growth Data'!$A:$Z,9,0)),0,VLOOKUP($A216+8860000,'Growth Data'!$A:$Z,9,0))","v":0},1,null,"YES",{"$f":"IF(ISERROR(VLOOKUP($A216+8860000,'Growth Data'!$A:$Z,5,0)),\"NO\",VLOOKUP($A216+8860000,'Growth Data'!$A:$Z,5,0))","v":"NO"},1,null,53,{"$f":"IF(ISERROR(VLOOKUP($A216+8860000,'Growth Data'!$A:$Z,10,0)),0,VLOOKUP($A216+8860000,'Growth Data'!$A:$Z,10,0))","v":0},1,null,60,{"$f":"IF(ISERROR(VLOOKUP($A216+8860000,'Growth Data'!$A:$Z,11,0)),0,VLOOKUP($A216+8860000,'Growth Data'!$A:$Z,11,0))","v":0},1]
[5412,"Simon Langton Grammar School for Boys",null,"Simon Langton Grammar School for Boys",null,1,null,2844111.01,2844111.0125170723,-2.5170724838972092E-3,null,70988.990000000005,70988.987735882256,2.2641177492914721E-3,null,17292.099999999999,17292.095999999972,4.0000000262807589E-3,null,6815.82,6815.8155177923063,4.4822076933996868E-3,null,114480.08,114480.07999999999,0,null,0,0,0,null,0,0,0,null,0,0,0,null,32256,32256,0,null,0,0,0,null,0,0,0,null,331312.01,331312.00822925288,1.7707471270114183E-3,null,3417256,3417256,0,null,0,0,0,null,3417256,3417256,0,null,0,null,0,null,5000,null,5000,null,0,null,0,null,92761.2,92761.197412994603,0,null,0,null,0,null,5000,5000,0,null,0,null,0,null,0,null,0,null,0,null,0,null,0,null,0,null,0,null,0,null,"NO",{"$f":"IF(ISERROR(VLOOKUP($A217+8860000,'Growth Data'!$A:$F,3,0)),\"NO\",VLOOKUP($A217+8860000,'Growth Data'!$A:$F,3,0))","v":"NO"},0,null,0,{"$f":"IF(DI217=\"YES\",IF(ISERROR(VLOOKUP($A217+8860000,'Growth Data'!$A:$F,6,0)),0,VLOOKUP($A217+8860000,'Growth Data'!$A:$F,6,0)),0)","v":0},0,null,0,{"$f":"IF(ISERROR(VLOOKUP($A217+8860000,'Growth Data'!$A:$Z,7,0)),0,VLOOKUP($A217+8860000,'Growth Data'!$A:$Z,7,0))","v":0},0,null,"NO",{"$f":"IF(ISERROR(VLOOKUP($A217+8860000,'Growth Data'!$A:$F,4,0)),\"NO\",VLOOKUP($A217+8860000,'Growth Data'!$A:$F,4,0))","v":"NO"},0,null,0,{"$f":"IF(ISERROR(VLOOKUP($A217+8860000,'Growth Data'!$A:$Z,8,0)),0,VLOOKUP($A217+8860000,'Growth Data'!$A:$Z,8,0))","v":0},0,null,0,{"$f":"IF(ISERROR(VLOOKUP($A217+8860000,'Growth Data'!$A:$Z,9,0)),0,VLOOKUP($A217+8860000,'Growth Data'!$A:$Z,9,0))","v":0},0,null,"NO",{"$f":"IF(ISERROR(VLOOKUP($A217+8860000,'Growth Data'!$A:$Z,5,0)),\"NO\",VLOOKUP($A217+8860000,'Growth Data'!$A:$Z,5,0))","v":"NO"},0,null,0,{"$f":"IF(ISERROR(VLOOKUP($A217+8860000,'Growth Data'!$A:$Z,10,0)),0,VLOOKUP($A217+8860000,'Growth Data'!$A:$Z,10,0))","v":0},0,null,0,{"$f":"IF(ISERROR(VLOOKUP($A217+8860000,'Growth Data'!$A:$Z,11,0)),0,VLOOKUP($A217+8860000,'Growth Data'!$A:$Z,11,0))","v":0},0]
[2509,"Singlewell Primary School",null,"Singlewell Primary School",null,1,null,908382.06,908382.06268038973,-2.6803896762430668E-3,null,74120.63,74120.633308713033,-3.3087130286730826E-3,null,19767.669999999998,19767.673846153779,-3.8461537806142587E-3,null,91562.880000000005,91562.881867704418,-1.8677044135984033E-3,null,120084,120083.99999999999,0,null,0,0,0,null,0,0,0,null,0,0,0,null,51712,51712,0,null,0,0,0,null,0,0,0,null,0,0,0,null,1265629.25,1265629.251702961,-1.7029610462486744E-3,null,0,0,0,null,1265629.25,1265629.251702961,-1.7029610462486744E-3,null,0,null,0,null,3418.23,null,3418.23,null,0,null,0,null,175474.91,175474.91132957936,0,null,0,null,0,null,3793.49,3793.4914115717556,0,null,0,null,0,null,0,null,0,null,0,null,0,null,0,null,0,null,0,null,0,null,"NO",{"$f":"IF(ISERROR(VLOOKUP($A218+8860000,'Growth Data'!$A:$F,3,0)),\"NO\",VLOOKUP($A218+8860000,'Growth Data'!$A:$F,3,0))","v":"YES"},1,null,0,{"$f":"IF(DI218=\"YES\",IF(ISERROR(VLOOKUP($A218+8860000,'Growth Data'!$A:$F,6,0)),0,VLOOKUP($A218+8860000,'Growth Data'!$A:$F,6,0)),0)","v":30},-30,null,0,{"$f":"IF(ISERROR(VLOOKUP($A218+8860000,'Growth Data'!$A:$Z,7,0)),0,VLOOKUP($A218+8860000,'Growth Data'!$A:$Z,7,0))","v":60},1,null,"NO",{"$f":"IF(ISERROR(VLOOKUP($A218+8860000,'Growth Data'!$A:$F,4,0)),\"NO\",VLOOKUP($A218+8860000,'Growth Data'!$A:$F,4,0))","v":"YES"},1,null,0,{"$f":"IF(ISERROR(VLOOKUP($A218+8860000,'Growth Data'!$A:$Z,8,0)),0,VLOOKUP($A218+8860000,'Growth Data'!$A:$Z,8,0))","v":31},1,null,0,{"$f":"IF(ISERROR(VLOOKUP($A218+8860000,'Growth Data'!$A:$Z,9,0)),0,VLOOKUP($A218+8860000,'Growth Data'!$A:$Z,9,0))","v":60},1,null,"NO",{"$f":"IF(ISERROR(VLOOKUP($A218+8860000,'Growth Data'!$A:$Z,5,0)),\"NO\",VLOOKUP($A218+8860000,'Growth Data'!$A:$Z,5,0))","v":"YES"},1,null,0,{"$f":"IF(ISERROR(VLOOKUP($A218+8860000,'Growth Data'!$A:$Z,10,0)),0,VLOOKUP($A218+8860000,'Growth Data'!$A:$Z,10,0))","v":30},1,null,0,{"$f":"IF(ISERROR(VLOOKUP($A218+8860000,'Growth Data'!$A:$Z,11,0)),0,VLOOKUP($A218+8860000,'Growth Data'!$A:$Z,11,0))","v":60},1]
[3309,"Sissinghurst CEP School",null,"Sissinghurst CEP School",null,1,null,457029.73,457029.72528607113,4.7139288508333266E-3,null,13013.73,13013.728237499996,1.7625000036787242E-3,null,0,0,0,null,43835.59,43835.59045620446,-4.5620446326211095E-4,null,120084,120083.99999999999,0,null,0,0,0,null,0,0,0,null,0,0,0,null,7987,7987,0,null,0,0,0,null,0,0,0,null,0,0,0,null,641950.04,641950.04397977563,-3.9797755889594555E-3,null,0,0,0,null,641950.04,641950.04397977563,-3.9797755889594555E-3,null,0,null,0,null,3191.8,null,3191.8,null,0,null,0,null,56329.66,56329.65600071261,0,null,367.03,null,367,null,3937.66,3937.6586582594773,0,null,0,null,0,null,0,null,0,null,0,null,0,null,0,null,0,null,0,null,0,null,"NO",{"$f":"IF(ISERROR(VLOOKUP($A219+8860000,'Growth Data'!$A:$F,3,0)),\"NO\",VLOOKUP($A219+8860000,'Growth Data'!$A:$F,3,0))","v":"NO"},0,null,0,{"$f":"IF(DI219=\"YES\",IF(ISERROR(VLOOKUP($A219+8860000,'Growth Data'!$A:$F,6,0)),0,VLOOKUP($A219+8860000,'Growth Data'!$A:$F,6,0)),0)","v":0},0,null,0,{"$f":"IF(ISERROR(VLOOKUP($A219+8860000,'Growth Data'!$A:$Z,7,0)),0,VLOOKUP($A219+8860000,'Growth Data'!$A:$Z,7,0))","v":0},0,null,"NO",{"$f":"IF(ISERROR(VLOOKUP($A219+8860000,'Growth Data'!$A:$F,4,0)),\"NO\",VLOOKUP($A219+8860000,'Growth Data'!$A:$F,4,0))","v":"NO"},0,null,0,{"$f":"IF(ISERROR(VLOOKUP($A219+8860000,'Growth Data'!$A:$Z,8,0)),0,VLOOKUP($A219+8860000,'Growth Data'!$A:$Z,8,0))","v":0},0,null,0,{"$f":"IF(ISERROR(VLOOKUP($A219+8860000,'Growth Data'!$A:$Z,9,0)),0,VLOOKUP($A219+8860000,'Growth Data'!$A:$Z,9,0))","v":0},0,null,"NO",{"$f":"IF(ISERROR(VLOOKUP($A219+8860000,'Growth Data'!$A:$Z,5,0)),\"NO\",VLOOKUP($A219+8860000,'Growth Data'!$A:$Z,5,0))","v":"NO"},0,null,0,{"$f":"IF(ISERROR(VLOOKUP($A219+8860000,'Growth Data'!$A:$Z,10,0)),0,VLOOKUP($A219+8860000,'Growth Data'!$A:$Z,10,0))","v":0},0,null,0,{"$f":"IF(ISERROR(VLOOKUP($A219+8860000,'Growth Data'!$A:$Z,11,0)),0,VLOOKUP($A219+8860000,'Growth Data'!$A:$Z,11,0))","v":0},0]
[2155,"Slade Primary School",null,"Slade Primary School",null,1,null,1149671.05,1149671.0480798683,1.9201317336410284E-3,null,31401.66,31401.658092307676,1.9076923235843424E-3,null,20111.46,20111.459478260873,5.2173912627040409E-4,null,118891.25,118891.24949101789,5.0898210611194372E-4,null,120084,120083.99999999999,0,null,0,0,0,null,0,0,0,null,0,0,0,null,29952,29952,0,null,0,0,0,null,0,0,0,null,78590.58,78590.584858545102,-4.8585451004328206E-3,null,1548702,1548702,0,null,0,0,0,null,1548702,1548702,0,null,0,null,0,null,3750,null,3750,null,0,null,0,null,163580.29,163580.29436859459,0,null,0,null,0,null,3750,3750,0,null,0,null,0,null,0,null,0,null,0,null,0,null,0,null,0,null,0,null,0,null,"NO",{"$f":"IF(ISERROR(VLOOKUP($A220+8860000,'Growth Data'!$A:$F,3,0)),\"NO\",VLOOKUP($A220+8860000,'Growth Data'!$A:$F,3,0))","v":"YES"},1,null,0,{"$f":"IF(DI220=\"YES\",IF(ISERROR(VLOOKUP($A220+8860000,'Growth Data'!$A:$F,6,0)),0,VLOOKUP($A220+8860000,'Growth Data'!$A:$F,6,0)),0)","v":47},-47,null,0,{"$f":"IF(ISERROR(VLOOKUP($A220+8860000,'Growth Data'!$A:$Z,7,0)),0,VLOOKUP($A220+8860000,'Growth Data'!$A:$Z,7,0))","v":60},1,null,"NO",{"$f":"IF(ISERROR(VLOOKUP($A220+8860000,'Growth Data'!$A:$F,4,0)),\"NO\",VLOOKUP($A220+8860000,'Growth Data'!$A:$F,4,0))","v":"NO"},0,null,0,{"$f":"IF(ISERROR(VLOOKUP($A220+8860000,'Growth Data'!$A:$Z,8,0)),0,VLOOKUP($A220+8860000,'Growth Data'!$A:$Z,8,0))","v":0},0,null,0,{"$f":"IF(ISERROR(VLOOKUP($A220+8860000,'Growth Data'!$A:$Z,9,0)),0,VLOOKUP($A220+8860000,'Growth Data'!$A:$Z,9,0))","v":0},0,null,"NO",{"$f":"IF(ISERROR(VLOOKUP($A220+8860000,'Growth Data'!$A:$Z,5,0)),\"NO\",VLOOKUP($A220+8860000,'Growth Data'!$A:$Z,5,0))","v":"NO"},0,null,0,{"$f":"IF(ISERROR(VLOOKUP($A220+8860000,'Growth Data'!$A:$Z,10,0)),0,VLOOKUP($A220+8860000,'Growth Data'!$A:$Z,10,0))","v":0},0,null,0,{"$f":"IF(ISERROR(VLOOKUP($A220+8860000,'Growth Data'!$A:$Z,11,0)),0,VLOOKUP($A220+8860000,'Growth Data'!$A:$Z,11,0))","v":0},0]
[2289,"Smeeth Community Primary School",null,"Smeeth Community Primary School",null,1,null,363352.83,363352.82507215592,4.9278441001661122E-3,null,9818.01,9818.0062584615371,3.7415384631458437E-3,null,646.49,646.48996226415068,3.7735849332420912E-5,null,29422.93,29422.934588235305,-4.58823530425434E-3,null,120084,120083.99999999999,0,null,0,0,0,null,0,0,0,null,0,0,0,null,14845,14845,0,null,0,0,0,null,0,0,0,null,0,0,0,null,538169.26,538169.25588111684,4.1188831673935056E-3,null,0,0,0,null,538169.26,538169.25588111684,4.1188831673935056E-3,null,0,null,0,null,3150.31,null,3150.31,null,0,null,0,null,43870.92,43870.918115969143,0,null,1612.91,null,1613,null,4088.47,4088.4707490712281,0,null,0,null,0,null,0,null,0,null,0,null,0,null,0,null,0,null,0,null,0,null,"NO",{"$f":"IF(ISERROR(VLOOKUP($A221+8860000,'Growth Data'!$A:$F,3,0)),\"NO\",VLOOKUP($A221+8860000,'Growth Data'!$A:$F,3,0))","v":"NO"},0,null,0,{"$f":"IF(DI221=\"YES\",IF(ISERROR(VLOOKUP($A221+8860000,'Growth Data'!$A:$F,6,0)),0,VLOOKUP($A221+8860000,'Growth Data'!$A:$F,6,0)),0)","v":0},0,null,0,{"$f":"IF(ISERROR(VLOOKUP($A221+8860000,'Growth Data'!$A:$Z,7,0)),0,VLOOKUP($A221+8860000,'Growth Data'!$A:$Z,7,0))","v":0},0,null,"NO",{"$f":"IF(ISERROR(VLOOKUP($A221+8860000,'Growth Data'!$A:$F,4,0)),\"NO\",VLOOKUP($A221+8860000,'Growth Data'!$A:$F,4,0))","v":"NO"},0,null,0,{"$f":"IF(ISERROR(VLOOKUP($A221+8860000,'Growth Data'!$A:$Z,8,0)),0,VLOOKUP($A221+8860000,'Growth Data'!$A:$Z,8,0))","v":0},0,null,0,{"$f":"IF(ISERROR(VLOOKUP($A221+8860000,'Growth Data'!$A:$Z,9,0)),0,VLOOKUP($A221+8860000,'Growth Data'!$A:$Z,9,0))","v":0},0,null,"NO",{"$f":"IF(ISERROR(VLOOKUP($A221+8860000,'Growth Data'!$A:$Z,5,0)),\"NO\",VLOOKUP($A221+8860000,'Growth Data'!$A:$Z,5,0))","v":"NO"},0,null,0,{"$f":"IF(ISERROR(VLOOKUP($A221+8860000,'Growth Data'!$A:$Z,10,0)),0,VLOOKUP($A221+8860000,'Growth Data'!$A:$Z,10,0))","v":0},0,null,0,{"$f":"IF(ISERROR(VLOOKUP($A221+8860000,'Growth Data'!$A:$Z,11,0)),0,VLOOKUP($A221+8860000,'Growth Data'!$A:$Z,11,0))","v":0},0]
[5200,"Snodland CEP School",null,"Snodland CEP School",null,1,null,1146832.3500000001,1146832.3541339922,-4.1339921299368143E-3,null,126117.51,126117.51281230766,-2.8123076626798138E-3,null,3125.6,3125.5967919075101,3.2080924897854857E-3,null,107324.63,107324.63480938418,-4.8093841760419309E-3,null,120084,120083.99999999999,0,null,0,0,0,null,0,0,0,null,0,0,0,null,8550,8550,0,null,0,0,0,null,0,0,0,null,11515.9,11515.901452408871,-1.4524088710459182E-3,null,1523550,1523550.0000000002,0,null,0,0,0,null,1523550,1523550.0000000002,0,null,0,null,0,null,3750,null,3750,null,0,null,0,null,214883.28,214883.27672060757,0,null,0,null,0,null,3750,3750,0,null,0,null,0,null,0,null,0,null,0,null,0,null,0,null,0,null,0,null,0,null,"NO",{"$f":"IF(ISERROR(VLOOKUP($A222+8860000,'Growth Data'!$A:$F,3,0)),\"NO\",VLOOKUP($A222+8860000,'Growth Data'!$A:$F,3,0))","v":"NO"},0,null,0,{"$f":"IF(DI222=\"YES\",IF(ISERROR(VLOOKUP($A222+8860000,'Growth Data'!$A:$F,6,0)),0,VLOOKUP($A222+8860000,'Growth Data'!$A:$F,6,0)),0)","v":0},0,null,0,{"$f":"IF(ISERROR(VLOOKUP($A222+8860000,'Growth Data'!$A:$Z,7,0)),0,VLOOKUP($A222+8860000,'Growth Data'!$A:$Z,7,0))","v":0},0,null,"NO",{"$f":"IF(ISERROR(VLOOKUP($A222+8860000,'Growth Data'!$A:$F,4,0)),\"NO\",VLOOKUP($A222+8860000,'Growth Data'!$A:$F,4,0))","v":"NO"},0,null,0,{"$f":"IF(ISERROR(VLOOKUP($A222+8860000,'Growth Data'!$A:$Z,8,0)),0,VLOOKUP($A222+8860000,'Growth Data'!$A:$Z,8,0))","v":0},0,null,0,{"$f":"IF(ISERROR(VLOOKUP($A222+8860000,'Growth Data'!$A:$Z,9,0)),0,VLOOKUP($A222+8860000,'Growth Data'!$A:$Z,9,0))","v":0},0,null,"NO",{"$f":"IF(ISERROR(VLOOKUP($A222+8860000,'Growth Data'!$A:$Z,5,0)),\"NO\",VLOOKUP($A222+8860000,'Growth Data'!$A:$Z,5,0))","v":"NO"},0,null,0,{"$f":"IF(ISERROR(VLOOKUP($A222+8860000,'Growth Data'!$A:$Z,10,0)),0,VLOOKUP($A222+8860000,'Growth Data'!$A:$Z,10,0))","v":0},0,null,0,{"$f":"IF(ISERROR(VLOOKUP($A222+8860000,'Growth Data'!$A:$Z,11,0)),0,VLOOKUP($A222+8860000,'Growth Data'!$A:$Z,11,0))","v":0},0]
[3297,"Southborough CEP School",null,"Southborough CEP School",null,1,null,1711732.45,1711732.4493633595,6.3664047047495842E-4,null,68371.820000000007,68371.82156073302,-1.5607330133207142E-3,null,17124.62,17124.621285854613,-1.2858546142524574E-3,null,112879.67999999999,112879.67906586801,9.3413198192138225E-4,null,120084,120083.99999999999,0,null,0,0,0,null,0,0,0,null,0,0,0,null,64000,64000,0,null,0,0,0,null,0,0,0,null,231057.43,231057.42872418487,1.2758151278831065E-3,null,2325250,2325250,0,null,0,0,0,null,2325250,2325250,0,null,0,null,0,null,3750,null,3750,null,0,null,0,null,172188.5,172188.50421946374,0,null,0,null,0,null,3750,3750,0,null,0,null,0,null,0,null,0,null,0,null,0,null,0,null,0,null,0,null,0,null,"NO",{"$f":"IF(ISERROR(VLOOKUP($A223+8860000,'Growth Data'!$A:$F,3,0)),\"NO\",VLOOKUP($A223+8860000,'Growth Data'!$A:$F,3,0))","v":"NO"},0,null,0,{"$f":"IF(DI223=\"YES\",IF(ISERROR(VLOOKUP($A223+8860000,'Growth Data'!$A:$F,6,0)),0,VLOOKUP($A223+8860000,'Growth Data'!$A:$F,6,0)),0)","v":0},0,null,0,{"$f":"IF(ISERROR(VLOOKUP($A223+8860000,'Growth Data'!$A:$Z,7,0)),0,VLOOKUP($A223+8860000,'Growth Data'!$A:$Z,7,0))","v":0},0,null,"NO",{"$f":"IF(ISERROR(VLOOKUP($A223+8860000,'Growth Data'!$A:$F,4,0)),\"NO\",VLOOKUP($A223+8860000,'Growth Data'!$A:$F,4,0))","v":"NO"},0,null,0,{"$f":"IF(ISERROR(VLOOKUP($A223+8860000,'Growth Data'!$A:$Z,8,0)),0,VLOOKUP($A223+8860000,'Growth Data'!$A:$Z,8,0))","v":0},0,null,0,{"$f":"IF(ISERROR(VLOOKUP($A223+8860000,'Growth Data'!$A:$Z,9,0)),0,VLOOKUP($A223+8860000,'Growth Data'!$A:$Z,9,0))","v":0},0,null,"NO",{"$f":"IF(ISERROR(VLOOKUP($A223+8860000,'Growth Data'!$A:$Z,5,0)),\"NO\",VLOOKUP($A223+8860000,'Growth Data'!$A:$Z,5,0))","v":"NO"},0,null,0,{"$f":"IF(ISERROR(VLOOKUP($A223+8860000,'Growth Data'!$A:$Z,10,0)),0,VLOOKUP($A223+8860000,'Growth Data'!$A:$Z,10,0))","v":0},0,null,0,{"$f":"IF(ISERROR(VLOOKUP($A223+8860000,'Growth Data'!$A:$Z,11,0)),0,VLOOKUP($A223+8860000,'Growth Data'!$A:$Z,11,0))","v":0},0]
[3042,"Speldhurst CEP School",null,"Speldhurst CEP School",null,1,null,550706.63,550706.62549998634,4.5000136597082019E-3,null,2597.91,2597.9051736263737,4.82637362620153E-3,null,1899.93,1899.9265792682959,3.4207317041818897E-3,null,22201.84,22201.839140939501,8.5906049935147166E-4,null,120084,120083.99999999999,0,null,0,0,0,null,0,0,0,null,0,0,0,null,3098,3098,0,null,0,0,0,null,0,0,0,null,30009.7,30009.70360617945,-3.6061794489796739E-3,null,730598,730598,0,null,0,0,0,null,730598,730598,0,null,0,null,0,null,3750,null,3750,null,0,null,0,null,31583.79,31583.788200842315,0,null,2841.62,null,2842,null,3750,3750,0,null,0,null,0,null,0,null,0,null,0,null,0,null,0,null,0,null,0,null,0,null,"NO",{"$f":"IF(ISERROR(VLOOKUP($A224+8860000,'Growth Data'!$A:$F,3,0)),\"NO\",VLOOKUP($A224+8860000,'Growth Data'!$A:$F,3,0))","v":"NO"},0,null,0,{"$f":"IF(DI224=\"YES\",IF(ISERROR(VLOOKUP($A224+8860000,'Growth Data'!$A:$F,6,0)),0,VLOOKUP($A224+8860000,'Growth Data'!$A:$F,6,0)),0)","v":0},0,null,0,{"$f":"IF(ISERROR(VLOOKUP($A224+8860000,'Growth Data'!$A:$Z,7,0)),0,VLOOKUP($A224+8860000,'Growth Data'!$A:$Z,7,0))","v":0},0,null,"NO",{"$f":"IF(ISERROR(VLOOKUP($A224+8860000,'Growth Data'!$A:$F,4,0)),\"NO\",VLOOKUP($A224+8860000,'Growth Data'!$A:$F,4,0))","v":"NO"},0,null,0,{"$f":"IF(ISERROR(VLOOKUP($A224+8860000,'Growth Data'!$A:$Z,8,0)),0,VLOOKUP($A224+8860000,'Growth Data'!$A:$Z,8,0))","v":0},0,null,0,{"$f":"IF(ISERROR(VLOOKUP($A224+8860000,'Growth Data'!$A:$Z,9,0)),0,VLOOKUP($A224+8860000,'Growth Data'!$A:$Z,9,0))","v":0},0,null,"NO",{"$f":"IF(ISERROR(VLOOKUP($A224+8860000,'Growth Data'!$A:$Z,5,0)),\"NO\",VLOOKUP($A224+8860000,'Growth Data'!$A:$Z,5,0))","v":"NO"},0,null,0,{"$f":"IF(ISERROR(VLOOKUP($A224+8860000,'Growth Data'!$A:$Z,10,0)),0,VLOOKUP($A224+8860000,'Growth Data'!$A:$Z,10,0))","v":0},0,null,0,{"$f":"IF(ISERROR(VLOOKUP($A224+8860000,'Growth Data'!$A:$Z,11,0)),0,VLOOKUP($A224+8860000,'Growth Data'!$A:$Z,11,0))","v":0},0]
[3129,"St Alphege CEI School",null,"St Alphege CEI School",null,1,null,411610.62,411610.6221520516,-2.152051602024585E-3,null,27221.68,27221.678209090947,1.7909090529428795E-3,null,2239.31,2239.3068028846119,3.1971153880476777E-3,null,49996,49996.002132352958,-2.1323529581422918E-3,null,120084,120083.99999999999,0,null,0,0,0,null,0,0,0,null,0,0,0,null,31488,31488,0,null,0,0,0,null,0,0,0,null,0,0,0,null,642639.61,642639.60929638008,7.0361990947276354E-4,null,0,0,0,null,642639.61,642639.60929638008,7.0361990947276354E-4,null,0,null,0,null,3386.67,null,3386.67,null,0,null,0,null,76235.429999999993,76235.434451336638,0,null,0,null,0,null,4214.84,4214.8386848026239,0,null,0,null,0,null,0,null,0,null,0,null,0,null,0,null,0,null,0,null,0,null,"NO",{"$f":"IF(ISERROR(VLOOKUP($A225+8860000,'Growth Data'!$A:$F,3,0)),\"NO\",VLOOKUP($A225+8860000,'Growth Data'!$A:$F,3,0))","v":"NO"},0,null,0,{"$f":"IF(DI225=\"YES\",IF(ISERROR(VLOOKUP($A225+8860000,'Growth Data'!$A:$F,6,0)),0,VLOOKUP($A225+8860000,'Growth Data'!$A:$F,6,0)),0)","v":0},0,null,0,{"$f":"IF(ISERROR(VLOOKUP($A225+8860000,'Growth Data'!$A:$Z,7,0)),0,VLOOKUP($A225+8860000,'Growth Data'!$A:$Z,7,0))","v":0},0,null,"NO",{"$f":"IF(ISERROR(VLOOKUP($A225+8860000,'Growth Data'!$A:$F,4,0)),\"NO\",VLOOKUP($A225+8860000,'Growth Data'!$A:$F,4,0))","v":"NO"},0,null,0,{"$f":"IF(ISERROR(VLOOKUP($A225+8860000,'Growth Data'!$A:$Z,8,0)),0,VLOOKUP($A225+8860000,'Growth Data'!$A:$Z,8,0))","v":0},0,null,0,{"$f":"IF(ISERROR(VLOOKUP($A225+8860000,'Growth Data'!$A:$Z,9,0)),0,VLOOKUP($A225+8860000,'Growth Data'!$A:$Z,9,0))","v":0},0,null,"NO",{"$f":"IF(ISERROR(VLOOKUP($A225+8860000,'Growth Data'!$A:$Z,5,0)),\"NO\",VLOOKUP($A225+8860000,'Growth Data'!$A:$Z,5,0))","v":"NO"},0,null,0,{"$f":"IF(ISERROR(VLOOKUP($A225+8860000,'Growth Data'!$A:$Z,10,0)),0,VLOOKUP($A225+8860000,'Growth Data'!$A:$Z,10,0))","v":0},0,null,0,{"$f":"IF(ISERROR(VLOOKUP($A225+8860000,'Growth Data'!$A:$Z,11,0)),0,VLOOKUP($A225+8860000,'Growth Data'!$A:$Z,11,0))","v":0},0]
[3728,"St Anselm's Catholic Primary School, Dartford",null,"St Anselm's Catholic Primary School, Dartford",null,1,null,596125.73,596125.72863400576,1.3659942196682096E-3,null,49998.97,49998.974800000004,-4.8000000024330802E-3,null,21861.13,21861.125416666619,4.5833333824703004E-3,null,37087.94,37087.943400000062,-3.4000000596279278E-3,null,120084,120083.99999999999,0,null,0,0,0,null,30035.74,30035.742909924469,-2.9099244675308E-3,null,0,0,0,null,4454,4454,0,null,0,0,0,null,0,0,0,null,0,0,0,null,859647.52,859647.51516059693,4.8394030891358852E-3,null,0,0,0,null,859647.52,859647.51516059693,4.8394030891358852E-3,null,0,null,0,null,3479.71,null,3479.71,null,0,null,0,null,115642.12,115642.11925129659,0,null,0,null,0,null,4072.35,4072.350072193321,0,null,0,null,0,null,0,null,0,null,0,null,0,null,0,null,0,null,0,null,0,null,"NO",{"$f":"IF(ISERROR(VLOOKUP($A226+8860000,'Growth Data'!$A:$F,3,0)),\"NO\",VLOOKUP($A226+8860000,'Growth Data'!$A:$F,3,0))","v":"NO"},0,null,0,{"$f":"IF(DI226=\"YES\",IF(ISERROR(VLOOKUP($A226+8860000,'Growth Data'!$A:$F,6,0)),0,VLOOKUP($A226+8860000,'Growth Data'!$A:$F,6,0)),0)","v":0},0,null,0,{"$f":"IF(ISERROR(VLOOKUP($A226+8860000,'Growth Data'!$A:$Z,7,0)),0,VLOOKUP($A226+8860000,'Growth Data'!$A:$Z,7,0))","v":0},0,null,"NO",{"$f":"IF(ISERROR(VLOOKUP($A226+8860000,'Growth Data'!$A:$F,4,0)),\"NO\",VLOOKUP($A226+8860000,'Growth Data'!$A:$F,4,0))","v":"NO"},0,null,0,{"$f":"IF(ISERROR(VLOOKUP($A226+8860000,'Growth Data'!$A:$Z,8,0)),0,VLOOKUP($A226+8860000,'Growth Data'!$A:$Z,8,0))","v":0},0,null,0,{"$f":"IF(ISERROR(VLOOKUP($A226+8860000,'Growth Data'!$A:$Z,9,0)),0,VLOOKUP($A226+8860000,'Growth Data'!$A:$Z,9,0))","v":0},0,null,"NO",{"$f":"IF(ISERROR(VLOOKUP($A226+8860000,'Growth Data'!$A:$Z,5,0)),\"NO\",VLOOKUP($A226+8860000,'Growth Data'!$A:$Z,5,0))","v":"NO"},0,null,0,{"$f":"IF(ISERROR(VLOOKUP($A226+8860000,'Growth Data'!$A:$Z,10,0)),0,VLOOKUP($A226+8860000,'Growth Data'!$A:$Z,10,0))","v":0},0,null,0,{"$f":"IF(ISERROR(VLOOKUP($A226+8860000,'Growth Data'!$A:$Z,11,0)),0,VLOOKUP($A226+8860000,'Growth Data'!$A:$Z,11,0))","v":0},0]
[3718,"St Augustine's Catholic Primary School, Hythe",null,"St Augustine's Catholic Primary School, Hythe",null,1,null,590448.34,590448.34074225335,-7.422533817589283E-4,null,30231.35,30231.347139999998,2.8600000005098991E-3,null,4354.78,4354.7780558659169,1.9441340828052489E-3,null,64067.94,64067.937572254246,2.4277457559946924E-3,null,120084,120083.99999999999,0,null,0,0,0,null,0,0,0,null,0,0,0,null,7014,7014,0,null,0,0,0,null,0,0,0,null,0,0,0,null,816200.4,816200.40351037343,-3.5103734117001295E-3,null,0,0,0,null,816200.4,816200.40351037343,-3.5103734117001295E-3,null,0,null,0,null,3312.99,null,3312.99,null,0,null,0,null,96783.46,96783.45507512831,0,null,0,null,0,null,3890.32,3890.3192476460285,0,null,0,null,0,null,0,null,0,null,0,null,0,null,0,null,0,null,0,null,0,null,"NO",{"$f":"IF(ISERROR(VLOOKUP($A227+8860000,'Growth Data'!$A:$F,3,0)),\"NO\",VLOOKUP($A227+8860000,'Growth Data'!$A:$F,3,0))","v":"NO"},0,null,0,{"$f":"IF(DI227=\"YES\",IF(ISERROR(VLOOKUP($A227+8860000,'Growth Data'!$A:$F,6,0)),0,VLOOKUP($A227+8860000,'Growth Data'!$A:$F,6,0)),0)","v":0},0,null,0,{"$f":"IF(ISERROR(VLOOKUP($A227+8860000,'Growth Data'!$A:$Z,7,0)),0,VLOOKUP($A227+8860000,'Growth Data'!$A:$Z,7,0))","v":0},0,null,"NO",{"$f":"IF(ISERROR(VLOOKUP($A227+8860000,'Growth Data'!$A:$F,4,0)),\"NO\",VLOOKUP($A227+8860000,'Growth Data'!$A:$F,4,0))","v":"NO"},0,null,0,{"$f":"IF(ISERROR(VLOOKUP($A227+8860000,'Growth Data'!$A:$Z,8,0)),0,VLOOKUP($A227+8860000,'Growth Data'!$A:$Z,8,0))","v":0},0,null,0,{"$f":"IF(ISERROR(VLOOKUP($A227+8860000,'Growth Data'!$A:$Z,9,0)),0,VLOOKUP($A227+8860000,'Growth Data'!$A:$Z,9,0))","v":0},0,null,"NO",{"$f":"IF(ISERROR(VLOOKUP($A227+8860000,'Growth Data'!$A:$Z,5,0)),\"NO\",VLOOKUP($A227+8860000,'Growth Data'!$A:$Z,5,0))","v":"NO"},0,null,0,{"$f":"IF(ISERROR(VLOOKUP($A227+8860000,'Growth Data'!$A:$Z,10,0)),0,VLOOKUP($A227+8860000,'Growth Data'!$A:$Z,10,0))","v":0},0,null,0,{"$f":"IF(ISERROR(VLOOKUP($A227+8860000,'Growth Data'!$A:$Z,11,0)),0,VLOOKUP($A227+8860000,'Growth Data'!$A:$Z,11,0))","v":0},0]
[3320,"St Barnabas CEP School",null,"St Barnabas CEP School",null,1,null,579093.56999999995,579093.56495874852,5.0412514247000217E-3,null,42401.43,42401.429469230796,5.3076920448802412E-4,null,21341.14,21341.135241379343,4.7586206565028988E-3,null,65882.45,65882.449090909082,9.0909091522917151E-4,null,120084,120083.99999999999,0,null,0,0,0,null,0,0,0,null,0,0,0,null,2970,2970,0,null,0,0,0,null,0,0,0,null,0,0,0,null,831772.58,831772.57876026782,1.2397321406751871E-3,null,8254.41,8254.4119313096162,-1.9313096163386945E-3,null,840026.99,840026.99069157743,-6.9157744292169809E-4,null,0,null,0,null,3514.57,null,3514.57,null,0,null,0,null,115595.9,115595.90110852734,0,null,0,null,0,null,4103.22,4103.220542792279,0,null,0,null,0,null,0,null,0,null,0,null,0,null,0,null,0,null,0,null,0,null,"NO",{"$f":"IF(ISERROR(VLOOKUP($A228+8860000,'Growth Data'!$A:$F,3,0)),\"NO\",VLOOKUP($A228+8860000,'Growth Data'!$A:$F,3,0))","v":"NO"},0,null,0,{"$f":"IF(DI228=\"YES\",IF(ISERROR(VLOOKUP($A228+8860000,'Growth Data'!$A:$F,6,0)),0,VLOOKUP($A228+8860000,'Growth Data'!$A:$F,6,0)),0)","v":0},0,null,0,{"$f":"IF(ISERROR(VLOOKUP($A228+8860000,'Growth Data'!$A:$Z,7,0)),0,VLOOKUP($A228+8860000,'Growth Data'!$A:$Z,7,0))","v":0},0,null,"NO",{"$f":"IF(ISERROR(VLOOKUP($A228+8860000,'Growth Data'!$A:$F,4,0)),\"NO\",VLOOKUP($A228+8860000,'Growth Data'!$A:$F,4,0))","v":"NO"},0,null,0,{"$f":"IF(ISERROR(VLOOKUP($A228+8860000,'Growth Data'!$A:$Z,8,0)),0,VLOOKUP($A228+8860000,'Growth Data'!$A:$Z,8,0))","v":0},0,null,0,{"$f":"IF(ISERROR(VLOOKUP($A228+8860000,'Growth Data'!$A:$Z,9,0)),0,VLOOKUP($A228+8860000,'Growth Data'!$A:$Z,9,0))","v":0},0,null,"NO",{"$f":"IF(ISERROR(VLOOKUP($A228+8860000,'Growth Data'!$A:$Z,5,0)),\"NO\",VLOOKUP($A228+8860000,'Growth Data'!$A:$Z,5,0))","v":"NO"},0,null,0,{"$f":"IF(ISERROR(VLOOKUP($A228+8860000,'Growth Data'!$A:$Z,10,0)),0,VLOOKUP($A228+8860000,'Growth Data'!$A:$Z,10,0))","v":0},0,null,0,{"$f":"IF(ISERROR(VLOOKUP($A228+8860000,'Growth Data'!$A:$Z,11,0)),0,VLOOKUP($A228+8860000,'Growth Data'!$A:$Z,11,0))","v":0},0]
[5214,"St Bartholomew's Catholic Primary School",null,"St Bartholomew's Catholic Primary School",null,1,null,993542.88,993542.88105667639,-1.0566763812676072E-3,null,118446.73,118446.73079394826,-7.9394826025236398E-4,null,24984.14,24984.143333333272,-3.333333272166783E-3,null,95807.6,95807.600599315017,-5.9931501164101064E-4,null,120084,120083.99999999999,0,null,0,0,0,null,49244.3,49244.298950511118,1.049488884746097E-3,null,0,0,0,null,6195,6195,0,null,0,0,0,null,0,0,0,null,0,0,0,null,1408304.65,1408304.654733784,-4.7337841242551804E-3,null,0,0,0,null,1408304.65,1408304.654733784,-4.7337841242551804E-3,null,0,null,0,null,3650.44,null,3650.44,null,0,null,0,null,233873.69,233873.68927762785,0,null,0,null,0,null,4006.03,4006.0275849536702,0,null,150000,null,150000,null,650.94000000000005,null,651,null,650.94000000000005,null,651,null,650.94000000000005,null,651,null,650.94000000000005,null,651,null,"NO",{"$f":"IF(ISERROR(VLOOKUP($A229+8860000,'Growth Data'!$A:$F,3,0)),\"NO\",VLOOKUP($A229+8860000,'Growth Data'!$A:$F,3,0))","v":"NO"},0,null,0,{"$f":"IF(DI229=\"YES\",IF(ISERROR(VLOOKUP($A229+8860000,'Growth Data'!$A:$F,6,0)),0,VLOOKUP($A229+8860000,'Growth Data'!$A:$F,6,0)),0)","v":0},0,null,0,{"$f":"IF(ISERROR(VLOOKUP($A229+8860000,'Growth Data'!$A:$Z,7,0)),0,VLOOKUP($A229+8860000,'Growth Data'!$A:$Z,7,0))","v":0},0,null,"NO",{"$f":"IF(ISERROR(VLOOKUP($A229+8860000,'Growth Data'!$A:$F,4,0)),\"NO\",VLOOKUP($A229+8860000,'Growth Data'!$A:$F,4,0))","v":"NO"},0,null,0,{"$f":"IF(ISERROR(VLOOKUP($A229+8860000,'Growth Data'!$A:$Z,8,0)),0,VLOOKUP($A229+8860000,'Growth Data'!$A:$Z,8,0))","v":0},0,null,0,{"$f":"IF(ISERROR(VLOOKUP($A229+8860000,'Growth Data'!$A:$Z,9,0)),0,VLOOKUP($A229+8860000,'Growth Data'!$A:$Z,9,0))","v":0},0,null,"NO",{"$f":"IF(ISERROR(VLOOKUP($A229+8860000,'Growth Data'!$A:$Z,5,0)),\"NO\",VLOOKUP($A229+8860000,'Growth Data'!$A:$Z,5,0))","v":"NO"},0,null,0,{"$f":"IF(ISERROR(VLOOKUP($A229+8860000,'Growth Data'!$A:$Z,10,0)),0,VLOOKUP($A229+8860000,'Growth Data'!$A:$Z,10,0))","v":0},0,null,0,{"$f":"IF(ISERROR(VLOOKUP($A229+8860000,'Growth Data'!$A:$Z,11,0)),0,VLOOKUP($A229+8860000,'Growth Data'!$A:$Z,11,0))","v":0},0]
[2337,"St Crispin's Community Primary Infant School",null,"St Crispin's Community Primary Infant School",null,1,null,763608.67,763608.67144070263,-1.4407025882974267E-3,null,53452.39,53452.390500000052,-5.0000005285255611E-4,null,4827.34,4827.3432569832403,-3.2569832401350141E-3,null,64787.69,64787.692542372955,-2.5423729530302808E-3,null,120084,120083.99999999999,0,null,0,0,0,null,0,0,0,null,0,0,0,null,20085,20085,0,null,0,0,0,null,0,0,0,null,1989.9,1989.9022599410964,-2.2599410963266564E-3,null,1028835,1028835,0,null,0,0,0,null,1028835,1028835,0,null,0,null,0,null,3750,null,3750,null,0,null,0,null,113541.46,113541.46360636437,0,null,0,null,0,null,3750,3750,0,null,0,null,0,null,0,null,0,null,0,null,0,null,0,null,0,null,0,null,0,null,"NO",{"$f":"IF(ISERROR(VLOOKUP($A230+8860000,'Growth Data'!$A:$F,3,0)),\"NO\",VLOOKUP($A230+8860000,'Growth Data'!$A:$F,3,0))","v":"NO"},0,null,0,{"$f":"IF(DI230=\"YES\",IF(ISERROR(VLOOKUP($A230+8860000,'Growth Data'!$A:$F,6,0)),0,VLOOKUP($A230+8860000,'Growth Data'!$A:$F,6,0)),0)","v":0},0,null,0,{"$f":"IF(ISERROR(VLOOKUP($A230+8860000,'Growth Data'!$A:$Z,7,0)),0,VLOOKUP($A230+8860000,'Growth Data'!$A:$Z,7,0))","v":0},0,null,"NO",{"$f":"IF(ISERROR(VLOOKUP($A230+8860000,'Growth Data'!$A:$F,4,0)),\"NO\",VLOOKUP($A230+8860000,'Growth Data'!$A:$F,4,0))","v":"NO"},0,null,0,{"$f":"IF(ISERROR(VLOOKUP($A230+8860000,'Growth Data'!$A:$Z,8,0)),0,VLOOKUP($A230+8860000,'Growth Data'!$A:$Z,8,0))","v":0},0,null,0,{"$f":"IF(ISERROR(VLOOKUP($A230+8860000,'Growth Data'!$A:$Z,9,0)),0,VLOOKUP($A230+8860000,'Growth Data'!$A:$Z,9,0))","v":0},0,null,"NO",{"$f":"IF(ISERROR(VLOOKUP($A230+8860000,'Growth Data'!$A:$Z,5,0)),\"NO\",VLOOKUP($A230+8860000,'Growth Data'!$A:$Z,5,0))","v":"NO"},0,null,0,{"$f":"IF(ISERROR(VLOOKUP($A230+8860000,'Growth Data'!$A:$Z,10,0)),0,VLOOKUP($A230+8860000,'Growth Data'!$A:$Z,10,0))","v":0},0,null,0,{"$f":"IF(ISERROR(VLOOKUP($A230+8860000,'Growth Data'!$A:$Z,11,0)),0,VLOOKUP($A230+8860000,'Growth Data'!$A:$Z,11,0))","v":0},0]
[3722,"St Ethelbert's Catholic Primary School, Ramsgate",null,"St Ethelbert's Catholic Primary School, Ramsgate",null,1,null,576254.87,576254.87101287232,-1.0128723224624991E-3,null,83404.740000000005,83404.742479999943,-2.4799999373499304E-3,null,10679.64,10679.638147398842,1.8526011572248535E-3,null,64007.79,64007.791863905222,-1.8639052213984542E-3,null,120084,120083.99999999999,0,null,0,0,0,null,0,0,0,null,0,0,0,null,5197,5197,0,null,0,0,0,null,0,0,0,null,0,0,0,null,859628.04,859628.04350417631,-3.5041762748733163E-3,null,0,0,0,null,859628.04,859628.04350417631,-3.5041762748733163E-3,null,0,null,0,null,3617.47,null,3617.47,null,0,null,0,null,146314.63,146314.63479831218,0,null,0,null,0,null,4209.0200000000004,4209.0199187397866,0,null,0,null,0,null,0,null,0,null,0,null,0,null,0,null,0,null,0,null,0,null,"NO",{"$f":"IF(ISERROR(VLOOKUP($A231+8860000,'Growth Data'!$A:$F,3,0)),\"NO\",VLOOKUP($A231+8860000,'Growth Data'!$A:$F,3,0))","v":"NO"},0,null,0,{"$f":"IF(DI231=\"YES\",IF(ISERROR(VLOOKUP($A231+8860000,'Growth Data'!$A:$F,6,0)),0,VLOOKUP($A231+8860000,'Growth Data'!$A:$F,6,0)),0)","v":0},0,null,0,{"$f":"IF(ISERROR(VLOOKUP($A231+8860000,'Growth Data'!$A:$Z,7,0)),0,VLOOKUP($A231+8860000,'Growth Data'!$A:$Z,7,0))","v":0},0,null,"NO",{"$f":"IF(ISERROR(VLOOKUP($A231+8860000,'Growth Data'!$A:$F,4,0)),\"NO\",VLOOKUP($A231+8860000,'Growth Data'!$A:$F,4,0))","v":"NO"},0,null,0,{"$f":"IF(ISERROR(VLOOKUP($A231+8860000,'Growth Data'!$A:$Z,8,0)),0,VLOOKUP($A231+8860000,'Growth Data'!$A:$Z,8,0))","v":0},0,null,0,{"$f":"IF(ISERROR(VLOOKUP($A231+8860000,'Growth Data'!$A:$Z,9,0)),0,VLOOKUP($A231+8860000,'Growth Data'!$A:$Z,9,0))","v":0},0,null,"NO",{"$f":"IF(ISERROR(VLOOKUP($A231+8860000,'Growth Data'!$A:$Z,5,0)),\"NO\",VLOOKUP($A231+8860000,'Growth Data'!$A:$Z,5,0))","v":"NO"},0,null,0,{"$f":"IF(ISERROR(VLOOKUP($A231+8860000,'Growth Data'!$A:$Z,10,0)),0,VLOOKUP($A231+8860000,'Growth Data'!$A:$Z,10,0))","v":0},0,null,0,{"$f":"IF(ISERROR(VLOOKUP($A231+8860000,'Growth Data'!$A:$Z,11,0)),0,VLOOKUP($A231+8860000,'Growth Data'!$A:$Z,11,0))","v":0},0]
[5207,"St Francis' Catholic Primary School, Maidstone",null,"St Francis' Catholic Primary School, Maidstone",null,1,null,1175219.29,1175219.2935927543,-3.5927542485296726E-3,null,60255.77,60255.773615479156,-3.6154791596345603E-3,null,37256.57,37256.574179487157,-4.1794871576712467E-3,null,103659.8,103659.80025903633,-2.5903632922563702E-4,null,120084,120083.99999999999,0,null,0,0,0,null,0,0,0,null,0,0,0,null,11366,11366,0,null,0,0,0,null,0,0,0,null,56024.56,56024.558353243163,1.6467568348161876E-3,null,1563866,1563866,0,null,0,0,0,null,1563866,1563866,0,null,0,null,0,null,3750,null,3750,null,0,null,0,null,188493.98,188493.98036101076,0,null,0,null,0,null,3750,3750,0,null,0,null,0,null,0,null,0,null,0,null,0,null,0,null,0,null,0,null,0,null,"NO",{"$f":"IF(ISERROR(VLOOKUP($A232+8860000,'Growth Data'!$A:$F,3,0)),\"NO\",VLOOKUP($A232+8860000,'Growth Data'!$A:$F,3,0))","v":"NO"},0,null,0,{"$f":"IF(DI232=\"YES\",IF(ISERROR(VLOOKUP($A232+8860000,'Growth Data'!$A:$F,6,0)),0,VLOOKUP($A232+8860000,'Growth Data'!$A:$F,6,0)),0)","v":0},0,null,0,{"$f":"IF(ISERROR(VLOOKUP($A232+8860000,'Growth Data'!$A:$Z,7,0)),0,VLOOKUP($A232+8860000,'Growth Data'!$A:$Z,7,0))","v":0},0,null,"NO",{"$f":"IF(ISERROR(VLOOKUP($A232+8860000,'Growth Data'!$A:$F,4,0)),\"NO\",VLOOKUP($A232+8860000,'Growth Data'!$A:$F,4,0))","v":"NO"},0,null,0,{"$f":"IF(ISERROR(VLOOKUP($A232+8860000,'Growth Data'!$A:$Z,8,0)),0,VLOOKUP($A232+8860000,'Growth Data'!$A:$Z,8,0))","v":0},0,null,0,{"$f":"IF(ISERROR(VLOOKUP($A232+8860000,'Growth Data'!$A:$Z,9,0)),0,VLOOKUP($A232+8860000,'Growth Data'!$A:$Z,9,0))","v":0},0,null,"NO",{"$f":"IF(ISERROR(VLOOKUP($A232+8860000,'Growth Data'!$A:$Z,5,0)),\"NO\",VLOOKUP($A232+8860000,'Growth Data'!$A:$Z,5,0))","v":"NO"},0,null,0,{"$f":"IF(ISERROR(VLOOKUP($A232+8860000,'Growth Data'!$A:$Z,10,0)),0,VLOOKUP($A232+8860000,'Growth Data'!$A:$Z,10,0))","v":0},0,null,0,{"$f":"IF(ISERROR(VLOOKUP($A232+8860000,'Growth Data'!$A:$Z,11,0)),0,VLOOKUP($A232+8860000,'Growth Data'!$A:$Z,11,0))","v":0},0]
[5447,"St George's CE Foundation School",null,"St George's CE Foundation School",null,1,null,5479074.7699999996,5479074.7653802559,4.619743674993515E-3,null,702189.82,702189.81913684937,8.6315057706087828E-4,null,25630.43,25630.428750000032,1.249999968422344E-3,null,544865.78,544865.78017500322,-1.7500319518148899E-4,null,114480.08,114480.07999999999,0,null,0,0,0,null,0,0,0,null,0,0,0,null,69380,69380,0,null,0,0,0,null,0,0,0,null,0,0,0,null,6935620.8700000001,6935620.8734421087,-3.4421086311340332E-3,null,0,0,0,null,6935620.8700000001,6935620.8734421087,-3.4421086311340332E-3,null,0,null,0,null,4819.24,null,4819.24,null,0,null,0,null,1183439.53,1183439.5312211725,0,null,0,null,0,null,4900.96,4900.957083113567,0,null,0,null,0,null,0,null,0,null,0,null,0,null,0,null,0,null,0,null,0,null,"NO",{"$f":"IF(ISERROR(VLOOKUP($A233+8860000,'Growth Data'!$A:$F,3,0)),\"NO\",VLOOKUP($A233+8860000,'Growth Data'!$A:$F,3,0))","v":"YES"},1,null,0,{"$f":"IF(DI233=\"YES\",IF(ISERROR(VLOOKUP($A233+8860000,'Growth Data'!$A:$F,6,0)),0,VLOOKUP($A233+8860000,'Growth Data'!$A:$F,6,0)),0)","v":0},0,null,0,{"$f":"IF(ISERROR(VLOOKUP($A233+8860000,'Growth Data'!$A:$Z,7,0)),0,VLOOKUP($A233+8860000,'Growth Data'!$A:$Z,7,0))","v":60},1,null,"NO",{"$f":"IF(ISERROR(VLOOKUP($A233+8860000,'Growth Data'!$A:$F,4,0)),\"NO\",VLOOKUP($A233+8860000,'Growth Data'!$A:$F,4,0))","v":"YES"},1,null,0,{"$f":"IF(ISERROR(VLOOKUP($A233+8860000,'Growth Data'!$A:$Z,8,0)),0,VLOOKUP($A233+8860000,'Growth Data'!$A:$Z,8,0))","v":31},1,null,0,{"$f":"IF(ISERROR(VLOOKUP($A233+8860000,'Growth Data'!$A:$Z,9,0)),0,VLOOKUP($A233+8860000,'Growth Data'!$A:$Z,9,0))","v":60},1,null,"NO",{"$f":"IF(ISERROR(VLOOKUP($A233+8860000,'Growth Data'!$A:$Z,5,0)),\"NO\",VLOOKUP($A233+8860000,'Growth Data'!$A:$Z,5,0))","v":"YES"},1,null,0,{"$f":"IF(ISERROR(VLOOKUP($A233+8860000,'Growth Data'!$A:$Z,10,0)),0,VLOOKUP($A233+8860000,'Growth Data'!$A:$Z,10,0))","v":31},1,null,0,{"$f":"IF(ISERROR(VLOOKUP($A233+8860000,'Growth Data'!$A:$Z,11,0)),0,VLOOKUP($A233+8860000,'Growth Data'!$A:$Z,11,0))","v":60},1]
[3089,"St George's CEP School",null,"St George's CEP School",null,1,null,596125.73,596125.72863400576,1.3659942196682096E-3,null,29699.35,29699.353203791499,-3.2037915007094853E-3,null,1249.21,1249.2071666666654,2.8333333345926803E-3,null,65898.600000000006,65898.59674999991,3.2500000961590558E-3,null,120084,120083.99999999999,0,null,0,0,0,null,0,0,0,null,0,0,0,null,18214,18214,0,null,0,0,0,null,0,0,0,null,0,0,0,null,831270.89,831270.88575446384,4.2455361690372229E-3,null,0,0,0,null,831270.89,831270.88575446384,4.2455361690372229E-3,null,0,null,0,null,3299.87,null,3299.87,null,0,null,0,null,90923.71,90923.714427466184,0,null,0,null,0,null,3871.7,3871.6994559736395,0,null,0,null,0,null,0,null,0,null,0,null,0,null,0,null,0,null,0,null,0,null,"NO",{"$f":"IF(ISERROR(VLOOKUP($A234+8860000,'Growth Data'!$A:$F,3,0)),\"NO\",VLOOKUP($A234+8860000,'Growth Data'!$A:$F,3,0))","v":"NO"},0,null,0,{"$f":"IF(DI234=\"YES\",IF(ISERROR(VLOOKUP($A234+8860000,'Growth Data'!$A:$F,6,0)),0,VLOOKUP($A234+8860000,'Growth Data'!$A:$F,6,0)),0)","v":0},0,null,0,{"$f":"IF(ISERROR(VLOOKUP($A234+8860000,'Growth Data'!$A:$Z,7,0)),0,VLOOKUP($A234+8860000,'Growth Data'!$A:$Z,7,0))","v":0},0,null,"NO",{"$f":"IF(ISERROR(VLOOKUP($A234+8860000,'Growth Data'!$A:$F,4,0)),\"NO\",VLOOKUP($A234+8860000,'Growth Data'!$A:$F,4,0))","v":"NO"},0,null,0,{"$f":"IF(ISERROR(VLOOKUP($A234+8860000,'Growth Data'!$A:$Z,8,0)),0,VLOOKUP($A234+8860000,'Growth Data'!$A:$Z,8,0))","v":0},0,null,0,{"$f":"IF(ISERROR(VLOOKUP($A234+8860000,'Growth Data'!$A:$Z,9,0)),0,VLOOKUP($A234+8860000,'Growth Data'!$A:$Z,9,0))","v":0},0,null,"NO",{"$f":"IF(ISERROR(VLOOKUP($A234+8860000,'Growth Data'!$A:$Z,5,0)),\"NO\",VLOOKUP($A234+8860000,'Growth Data'!$A:$Z,5,0))","v":"NO"},0,null,0,{"$f":"IF(ISERROR(VLOOKUP($A234+8860000,'Growth Data'!$A:$Z,10,0)),0,VLOOKUP($A234+8860000,'Growth Data'!$A:$Z,10,0))","v":0},0,null,0,{"$f":"IF(ISERROR(VLOOKUP($A234+8860000,'Growth Data'!$A:$Z,11,0)),0,VLOOKUP($A234+8860000,'Growth Data'!$A:$Z,11,0))","v":0},0]
[3322,"St James' Church of England Voluntary Aided Primary School",null,"St James' Church of England Voluntary Aided Primary School",null,1,null,1782699.8,1782699.798010265,1.9897350575774908E-3,null,24962.04,24962.043486075945,-3.4860759442381095E-3,null,41399.629999999997,41399.631111940311,-1.1119403134216554E-3,null,140499.43,140499.42583969439,4.1603056015446782E-3,null,204142.8,204142.79999999996,0,null,0,0,0,null,0,0,0,null,0,0,0,null,11162,11162,0,null,0,0,0,null,0,0,0,null,161296.29999999999,161296.3015520242,-1.5520242159254849E-3,null,2366162,2366162,0,null,0,0,0,null,2366162,2366162,0,null,0,null,0,null,3750,null,3750,null,0,null,0,null,208904.72,208904.7213596245,0,null,0,null,0,null,3750,3750,0,null,21000,null,21000,null,304.42,null,304,null,304.42,null,304,null,304.42,null,304,null,304.42,null,304,null,"NO",{"$f":"IF(ISERROR(VLOOKUP($A235+8860000,'Growth Data'!$A:$F,3,0)),\"NO\",VLOOKUP($A235+8860000,'Growth Data'!$A:$F,3,0))","v":"NO"},0,null,0,{"$f":"IF(DI235=\"YES\",IF(ISERROR(VLOOKUP($A235+8860000,'Growth Data'!$A:$F,6,0)),0,VLOOKUP($A235+8860000,'Growth Data'!$A:$F,6,0)),0)","v":0},0,null,0,{"$f":"IF(ISERROR(VLOOKUP($A235+8860000,'Growth Data'!$A:$Z,7,0)),0,VLOOKUP($A235+8860000,'Growth Data'!$A:$Z,7,0))","v":0},0,null,"NO",{"$f":"IF(ISERROR(VLOOKUP($A235+8860000,'Growth Data'!$A:$F,4,0)),\"NO\",VLOOKUP($A235+8860000,'Growth Data'!$A:$F,4,0))","v":"NO"},0,null,0,{"$f":"IF(ISERROR(VLOOKUP($A235+8860000,'Growth Data'!$A:$Z,8,0)),0,VLOOKUP($A235+8860000,'Growth Data'!$A:$Z,8,0))","v":0},0,null,0,{"$f":"IF(ISERROR(VLOOKUP($A235+8860000,'Growth Data'!$A:$Z,9,0)),0,VLOOKUP($A235+8860000,'Growth Data'!$A:$Z,9,0))","v":0},0,null,"NO",{"$f":"IF(ISERROR(VLOOKUP($A235+8860000,'Growth Data'!$A:$Z,5,0)),\"NO\",VLOOKUP($A235+8860000,'Growth Data'!$A:$Z,5,0))","v":"NO"},0,null,0,{"$f":"IF(ISERROR(VLOOKUP($A235+8860000,'Growth Data'!$A:$Z,10,0)),0,VLOOKUP($A235+8860000,'Growth Data'!$A:$Z,10,0))","v":0},0,null,0,{"$f":"IF(ISERROR(VLOOKUP($A235+8860000,'Growth Data'!$A:$Z,11,0)),0,VLOOKUP($A235+8860000,'Growth Data'!$A:$Z,11,0))","v":0},0]
[2000,"St Johns C of E Primary School",null,"St Johns C of E Primary School",null,1,null,990704.19,990704.18711080006,2.8891998808830976E-3,null,216404.89,216404.8867732918,3.2267082133330405E-3,null,31140.95,31140.950083333395,-8.3333394286455587E-5,null,135668.53,135668.52858811486,1.4118851395323873E-3,null,120084,120083.99999999999,0,null,0,0,0,null,0,0,0,null,0,0,0,null,24576,24576,0,null,0,0,0,null,0,0,0,null,0,0,0,null,1518578.55,1518578.5525555399,-2.5555398315191269E-3,null,0,0,0,null,1518578.55,1518578.5525555399,-2.5555398315191269E-3,null,0,null,0,null,3936.73,null,3936.73,null,0.16,null,0.16,null,322352.49,322352.49275174824,0,null,0,null,0,null,4280.8100000000004,4280.8096061763345,0,null,0,null,0,null,0,null,0,null,0,null,0,null,0,null,0,null,0,null,0,null,"NO",{"$f":"IF(ISERROR(VLOOKUP($A236+8860000,'Growth Data'!$A:$F,3,0)),\"NO\",VLOOKUP($A236+8860000,'Growth Data'!$A:$F,3,0))","v":"YES"},1,null,0,{"$f":"IF(DI236=\"YES\",IF(ISERROR(VLOOKUP($A236+8860000,'Growth Data'!$A:$F,6,0)),0,VLOOKUP($A236+8860000,'Growth Data'!$A:$F,6,0)),0)","v":45},-45,null,0,{"$f":"IF(ISERROR(VLOOKUP($A236+8860000,'Growth Data'!$A:$Z,7,0)),0,VLOOKUP($A236+8860000,'Growth Data'!$A:$Z,7,0))","v":60},1,null,"NO",{"$f":"IF(ISERROR(VLOOKUP($A236+8860000,'Growth Data'!$A:$F,4,0)),\"NO\",VLOOKUP($A236+8860000,'Growth Data'!$A:$F,4,0))","v":"YES"},1,null,0,{"$f":"IF(ISERROR(VLOOKUP($A236+8860000,'Growth Data'!$A:$Z,8,0)),0,VLOOKUP($A236+8860000,'Growth Data'!$A:$Z,8,0))","v":51},1,null,0,{"$f":"IF(ISERROR(VLOOKUP($A236+8860000,'Growth Data'!$A:$Z,9,0)),0,VLOOKUP($A236+8860000,'Growth Data'!$A:$Z,9,0))","v":60},1,null,"NO",{"$f":"IF(ISERROR(VLOOKUP($A236+8860000,'Growth Data'!$A:$Z,5,0)),\"NO\",VLOOKUP($A236+8860000,'Growth Data'!$A:$Z,5,0))","v":"YES"},1,null,0,{"$f":"IF(ISERROR(VLOOKUP($A236+8860000,'Growth Data'!$A:$Z,10,0)),0,VLOOKUP($A236+8860000,'Growth Data'!$A:$Z,10,0))","v":49},1,null,0,{"$f":"IF(ISERROR(VLOOKUP($A236+8860000,'Growth Data'!$A:$Z,11,0)),0,VLOOKUP($A236+8860000,'Growth Data'!$A:$Z,11,0))","v":60},1]
[5461,"St John's Catholic Comprehensive School",null,"St John's Catholic Comprehensive School",null,1,null,4023987.27,4023987.2744417563,-4.4417562894523144E-3,null,506129.09,506129.09444311459,-4.4431145652197301E-3,null,36025.199999999997,36025.20000000007,-7.2759576141834259E-11,null,461898.46,461898.46151006065,-1.5100606251507998E-3,null,114480.08,114480.07999999999,0,null,0,0,0,null,0,0,0,null,0,0,0,null,50944,50944,0,null,1161474.5900000001,1161474.5852852932,4.7147069126367569E-3,null,0,0,0,null,0,0,0,null,6354938.7000000002,6354938.6956802243,4.3197758495807648E-3,null,0,0,0,null,6354938.7000000002,6354938.6956802243,4.3197758495807648E-3,null,0,null,0,null,5253.96,null,5253.96,null,0,null,0,null,945427.68,945427.67911249539,0,null,0,null,0,null,5373.58,5373.5842323875959,0,null,132500,null,132500,null,228.01,null,228,null,228.01,null,228,null,228.01,null,228,null,228.01,null,228,null,"NO",{"$f":"IF(ISERROR(VLOOKUP($A237+8860000,'Growth Data'!$A:$F,3,0)),\"NO\",VLOOKUP($A237+8860000,'Growth Data'!$A:$F,3,0))","v":"NO"},0,null,0,{"$f":"IF(DI237=\"YES\",IF(ISERROR(VLOOKUP($A237+8860000,'Growth Data'!$A:$F,6,0)),0,VLOOKUP($A237+8860000,'Growth Data'!$A:$F,6,0)),0)","v":0},0,null,0,{"$f":"IF(ISERROR(VLOOKUP($A237+8860000,'Growth Data'!$A:$Z,7,0)),0,VLOOKUP($A237+8860000,'Growth Data'!$A:$Z,7,0))","v":0},0,null,"NO",{"$f":"IF(ISERROR(VLOOKUP($A237+8860000,'Growth Data'!$A:$F,4,0)),\"NO\",VLOOKUP($A237+8860000,'Growth Data'!$A:$F,4,0))","v":"NO"},0,null,0,{"$f":"IF(ISERROR(VLOOKUP($A237+8860000,'Growth Data'!$A:$Z,8,0)),0,VLOOKUP($A237+8860000,'Growth Data'!$A:$Z,8,0))","v":0},0,null,0,{"$f":"IF(ISERROR(VLOOKUP($A237+8860000,'Growth Data'!$A:$Z,9,0)),0,VLOOKUP($A237+8860000,'Growth Data'!$A:$Z,9,0))","v":0},0,null,"NO",{"$f":"IF(ISERROR(VLOOKUP($A237+8860000,'Growth Data'!$A:$Z,5,0)),\"NO\",VLOOKUP($A237+8860000,'Growth Data'!$A:$Z,5,0))","v":"NO"},0,null,0,{"$f":"IF(ISERROR(VLOOKUP($A237+8860000,'Growth Data'!$A:$Z,10,0)),0,VLOOKUP($A237+8860000,'Growth Data'!$A:$Z,10,0))","v":0},0,null,0,{"$f":"IF(ISERROR(VLOOKUP($A237+8860000,'Growth Data'!$A:$Z,11,0)),0,VLOOKUP($A237+8860000,'Growth Data'!$A:$Z,11,0))","v":0},0]
[3050,"St John's CEP School",null,"St John's CEP School",null,1,null,1828118.9,1828118.9011442845,-1.1442846152931452E-3,null,48975.96,48975.955643605528,4.3563944709603675E-3,null,39974.629999999997,39974.629333333243,6.6666675411397591E-4,null,179267.94,179267.93708955208,2.9104479181114584E-3,null,120084,120083.99999999999,0,null,0,0,0,null,0,0,0,null,0,0,0,null,73216,73216,0,null,0,0,0,null,0,0,0,null,198578.58,198578.57678922452,3.2107754668686539E-3,null,2488216,2488216,0,null,0,0,0,null,2488216,2488216,0,null,0,null,0,null,3750,null,3750,null,0,null,0,null,258242.24,258242.24437349901,0,null,0,null,0,null,3750,3750,0,null,0,null,0,null,0,null,0,null,0,null,0,null,0,null,0,null,0,null,0,null,"NO",{"$f":"IF(ISERROR(VLOOKUP($A238+8860000,'Growth Data'!$A:$F,3,0)),\"NO\",VLOOKUP($A238+8860000,'Growth Data'!$A:$F,3,0))","v":"NO"},0,null,0,{"$f":"IF(DI238=\"YES\",IF(ISERROR(VLOOKUP($A238+8860000,'Growth Data'!$A:$F,6,0)),0,VLOOKUP($A238+8860000,'Growth Data'!$A:$F,6,0)),0)","v":0},0,null,0,{"$f":"IF(ISERROR(VLOOKUP($A238+8860000,'Growth Data'!$A:$Z,7,0)),0,VLOOKUP($A238+8860000,'Growth Data'!$A:$Z,7,0))","v":0},0,null,"NO",{"$f":"IF(ISERROR(VLOOKUP($A238+8860000,'Growth Data'!$A:$F,4,0)),\"NO\",VLOOKUP($A238+8860000,'Growth Data'!$A:$F,4,0))","v":"NO"},0,null,0,{"$f":"IF(ISERROR(VLOOKUP($A238+8860000,'Growth Data'!$A:$Z,8,0)),0,VLOOKUP($A238+8860000,'Growth Data'!$A:$Z,8,0))","v":0},0,null,0,{"$f":"IF(ISERROR(VLOOKUP($A238+8860000,'Growth Data'!$A:$Z,9,0)),0,VLOOKUP($A238+8860000,'Growth Data'!$A:$Z,9,0))","v":0},0,null,"NO",{"$f":"IF(ISERROR(VLOOKUP($A238+8860000,'Growth Data'!$A:$Z,5,0)),\"NO\",VLOOKUP($A238+8860000,'Growth Data'!$A:$Z,5,0))","v":"NO"},0,null,0,{"$f":"IF(ISERROR(VLOOKUP($A238+8860000,'Growth Data'!$A:$Z,10,0)),0,VLOOKUP($A238+8860000,'Growth Data'!$A:$Z,10,0))","v":0},0,null,0,{"$f":"IF(ISERROR(VLOOKUP($A238+8860000,'Growth Data'!$A:$Z,11,0)),0,VLOOKUP($A238+8860000,'Growth Data'!$A:$Z,11,0))","v":0},0]
[3037,"St John's CEP School, Sevenoaks",null,"St John's CEP School, Sevenoaks",null,1,null,604641.81000000006,604641.8104716345,-4.7163444105535746E-4,null,11404.97,11404.9738155102,-3.8155102010932751E-3,null,9347.11,9347.1121721311483,-2.172131147744949E-3,null,41639.75,41639.748736686415,1.2633135847863741E-3,null,120084,120083.99999999999,0,null,0,0,0,null,28651.08,28651.082285133016,-2.28513301408384E-3,null,0,0,0,null,22330,22330,0,null,0,0,0,null,0,0,0,null,0,0,0,null,838098.73,838098.72748109535,2.5189046282321215E-3,null,65807.509999999995,65807.505429561483,4.5704385120188817E-3,null,903906.23,903906.23291065684,-2.9106568545103073E-3,null,0,null,0,null,3554.56,null,3554.56,null,0,null,0,null,65991.149999999994,65991.144957276541,0,null,0,null,0,null,4138.8599999999997,4138.7521961016728,0,null,0,null,0,null,0,null,0,null,0,null,0,null,0,null,0,null,0,null,0,null,"NO",{"$f":"IF(ISERROR(VLOOKUP($A239+8860000,'Growth Data'!$A:$F,3,0)),\"NO\",VLOOKUP($A239+8860000,'Growth Data'!$A:$F,3,0))","v":"NO"},0,null,0,{"$f":"IF(DI239=\"YES\",IF(ISERROR(VLOOKUP($A239+8860000,'Growth Data'!$A:$F,6,0)),0,VLOOKUP($A239+8860000,'Growth Data'!$A:$F,6,0)),0)","v":0},0,null,0,{"$f":"IF(ISERROR(VLOOKUP($A239+8860000,'Growth Data'!$A:$Z,7,0)),0,VLOOKUP($A239+8860000,'Growth Data'!$A:$Z,7,0))","v":0},0,null,"NO",{"$f":"IF(ISERROR(VLOOKUP($A239+8860000,'Growth Data'!$A:$F,4,0)),\"NO\",VLOOKUP($A239+8860000,'Growth Data'!$A:$F,4,0))","v":"NO"},0,null,0,{"$f":"IF(ISERROR(VLOOKUP($A239+8860000,'Growth Data'!$A:$Z,8,0)),0,VLOOKUP($A239+8860000,'Growth Data'!$A:$Z,8,0))","v":0},0,null,0,{"$f":"IF(ISERROR(VLOOKUP($A239+8860000,'Growth Data'!$A:$Z,9,0)),0,VLOOKUP($A239+8860000,'Growth Data'!$A:$Z,9,0))","v":0},0,null,"NO",{"$f":"IF(ISERROR(VLOOKUP($A239+8860000,'Growth Data'!$A:$Z,5,0)),\"NO\",VLOOKUP($A239+8860000,'Growth Data'!$A:$Z,5,0))","v":"NO"},0,null,0,{"$f":"IF(ISERROR(VLOOKUP($A239+8860000,'Growth Data'!$A:$Z,10,0)),0,VLOOKUP($A239+8860000,'Growth Data'!$A:$Z,10,0))","v":0},0,null,0,{"$f":"IF(ISERROR(VLOOKUP($A239+8860000,'Growth Data'!$A:$Z,11,0)),0,VLOOKUP($A239+8860000,'Growth Data'!$A:$Z,11,0))","v":0},0]
[3303,"St Katharine's Knockholt CEP School",null,"St Katharine's Knockholt CEP School",null,1,null,508126.22,508126.21631184302,3.6881569540128112E-3,null,5598.84,5598.8353621621573,4.6378378428926226E-3,null,2441.58,2441.5805222929912,-5.2229299126338447E-4,null,59460.29,59460.294389610448,-4.3896104471059516E-3,null,120084,120083.99999999999,0,null,0,0,0,null,25323.88,25323.877727727067,2.2722729336237535E-3,null,0,0,0,null,4045,4045,0,null,0,0,0,null,0,0,0,null,0,0,0,null,725079.8,725079.80431363569,-4.3136356398463249E-3,null,0,0,0,null,725079.8,725079.80431363569,-4.3136356398463249E-3,null,0,null,0,null,3332.85,null,3332.85,null,0,null,0,null,74086.22,74086.222373024837,0,null,0,null,0,null,4028.13,4028.1273984002014,0,null,0,null,0,null,0,null,0,null,0,null,0,null,0,null,0,null,0,null,0,null,"NO",{"$f":"IF(ISERROR(VLOOKUP($A240+8860000,'Growth Data'!$A:$F,3,0)),\"NO\",VLOOKUP($A240+8860000,'Growth Data'!$A:$F,3,0))","v":"NO"},0,null,0,{"$f":"IF(DI240=\"YES\",IF(ISERROR(VLOOKUP($A240+8860000,'Growth Data'!$A:$F,6,0)),0,VLOOKUP($A240+8860000,'Growth Data'!$A:$F,6,0)),0)","v":0},0,null,0,{"$f":"IF(ISERROR(VLOOKUP($A240+8860000,'Growth Data'!$A:$Z,7,0)),0,VLOOKUP($A240+8860000,'Growth Data'!$A:$Z,7,0))","v":0},0,null,"NO",{"$f":"IF(ISERROR(VLOOKUP($A240+8860000,'Growth Data'!$A:$F,4,0)),\"NO\",VLOOKUP($A240+8860000,'Growth Data'!$A:$F,4,0))","v":"NO"},0,null,0,{"$f":"IF(ISERROR(VLOOKUP($A240+8860000,'Growth Data'!$A:$Z,8,0)),0,VLOOKUP($A240+8860000,'Growth Data'!$A:$Z,8,0))","v":0},0,null,0,{"$f":"IF(ISERROR(VLOOKUP($A240+8860000,'Growth Data'!$A:$Z,9,0)),0,VLOOKUP($A240+8860000,'Growth Data'!$A:$Z,9,0))","v":0},0,null,"NO",{"$f":"IF(ISERROR(VLOOKUP($A240+8860000,'Growth Data'!$A:$Z,5,0)),\"NO\",VLOOKUP($A240+8860000,'Growth Data'!$A:$Z,5,0))","v":"NO"},0,null,0,{"$f":"IF(ISERROR(VLOOKUP($A240+8860000,'Growth Data'!$A:$Z,10,0)),0,VLOOKUP($A240+8860000,'Growth Data'!$A:$Z,10,0))","v":0},0,null,0,{"$f":"IF(ISERROR(VLOOKUP($A240+8860000,'Growth Data'!$A:$Z,11,0)),0,VLOOKUP($A240+8860000,'Growth Data'!$A:$Z,11,0))","v":0},0]
[3201,"St Lawrence CEP School",null,"St Lawrence CEP School",null,1,null,244127.68,244127.67934535476,6.546452350448817E-4,null,6970.88,6970.8762000000206,3.7999999794919859E-3,null,622.19000000000005,622.1919864864858,-1.9864864857481734E-3,null,24623.49,24623.493044776078,-3.0447760764218401E-3,null,120084,120083.99999999999,0,null,0,0,0,null,14429.99,14429.987956988867,2.0430111326277256E-3,null,0,0,0,null,6861,6861,0,null,0,0,0,null,0,0,0,null,0,0,0,null,417719.23,417719.22853360622,1.4663937618024647E-3,null,0,0,0,null,417719.23,417719.22853360622,1.4663937618024647E-3,null,0,null,0,null,3330.27,null,3330.27,null,0,null,0,null,35650.9,35650.904441063773,0,null,2434.91,null,2435,null,4777.42,4777.4212620186781,0,null,0,null,0,null,0,null,0,null,0,null,0,null,0,null,0,null,0,null,0,null,"NO",{"$f":"IF(ISERROR(VLOOKUP($A241+8860000,'Growth Data'!$A:$F,3,0)),\"NO\",VLOOKUP($A241+8860000,'Growth Data'!$A:$F,3,0))","v":"NO"},0,null,0,{"$f":"IF(DI241=\"YES\",IF(ISERROR(VLOOKUP($A241+8860000,'Growth Data'!$A:$F,6,0)),0,VLOOKUP($A241+8860000,'Growth Data'!$A:$F,6,0)),0)","v":0},0,null,0,{"$f":"IF(ISERROR(VLOOKUP($A241+8860000,'Growth Data'!$A:$Z,7,0)),0,VLOOKUP($A241+8860000,'Growth Data'!$A:$Z,7,0))","v":0},0,null,"NO",{"$f":"IF(ISERROR(VLOOKUP($A241+8860000,'Growth Data'!$A:$F,4,0)),\"NO\",VLOOKUP($A241+8860000,'Growth Data'!$A:$F,4,0))","v":"NO"},0,null,0,{"$f":"IF(ISERROR(VLOOKUP($A241+8860000,'Growth Data'!$A:$Z,8,0)),0,VLOOKUP($A241+8860000,'Growth Data'!$A:$Z,8,0))","v":0},0,null,0,{"$f":"IF(ISERROR(VLOOKUP($A241+8860000,'Growth Data'!$A:$Z,9,0)),0,VLOOKUP($A241+8860000,'Growth Data'!$A:$Z,9,0))","v":0},0,null,"NO",{"$f":"IF(ISERROR(VLOOKUP($A241+8860000,'Growth Data'!$A:$Z,5,0)),\"NO\",VLOOKUP($A241+8860000,'Growth Data'!$A:$Z,5,0))","v":"NO"},0,null,0,{"$f":"IF(ISERROR(VLOOKUP($A241+8860000,'Growth Data'!$A:$Z,10,0)),0,VLOOKUP($A241+8860000,'Growth Data'!$A:$Z,10,0))","v":0},0,null,0,{"$f":"IF(ISERROR(VLOOKUP($A241+8860000,'Growth Data'!$A:$Z,11,0)),0,VLOOKUP($A241+8860000,'Growth Data'!$A:$Z,11,0))","v":0},0]
[3090,"St Margaret's CEP School, Collier Street",null,"St Margaret's CEP School, Collier Street",null,1,null,346320.66,346320.66139689862,-1.3968986459076405E-3,null,8900.02,8900.0187586206866,1.2413793137966422E-3,null,1866.16,1866.1625428571447,-2.5428571445900161E-3,null,52508.46,52508.460980769247,-9.8076924768975005E-4,null,120084,120083.99999999999,0,null,0,0,0,null,0,0,0,null,0,0,0,null,13972,13972,0,null,0,0,0,null,0,0,0,null,0,0,0,null,543651.30000000005,543651.30367914564,-3.6791455931961536E-3,null,0,0,0,null,543651.30000000005,543651.30367914564,-3.6791455931961536E-3,null,0,null,0,null,3357.34,null,3357.34,null,0,null,0,null,68158.759999999995,68158.75958925522,0,null,0,null,0,null,4341.63,4341.6336367143103,0,null,0,null,0,null,0,null,0,null,0,null,0,null,0,null,0,null,0,null,0,null,"NO",{"$f":"IF(ISERROR(VLOOKUP($A242+8860000,'Growth Data'!$A:$F,3,0)),\"NO\",VLOOKUP($A242+8860000,'Growth Data'!$A:$F,3,0))","v":"NO"},0,null,0,{"$f":"IF(DI242=\"YES\",IF(ISERROR(VLOOKUP($A242+8860000,'Growth Data'!$A:$F,6,0)),0,VLOOKUP($A242+8860000,'Growth Data'!$A:$F,6,0)),0)","v":0},0,null,0,{"$f":"IF(ISERROR(VLOOKUP($A242+8860000,'Growth Data'!$A:$Z,7,0)),0,VLOOKUP($A242+8860000,'Growth Data'!$A:$Z,7,0))","v":0},0,null,"NO",{"$f":"IF(ISERROR(VLOOKUP($A242+8860000,'Growth Data'!$A:$F,4,0)),\"NO\",VLOOKUP($A242+8860000,'Growth Data'!$A:$F,4,0))","v":"NO"},0,null,0,{"$f":"IF(ISERROR(VLOOKUP($A242+8860000,'Growth Data'!$A:$Z,8,0)),0,VLOOKUP($A242+8860000,'Growth Data'!$A:$Z,8,0))","v":0},0,null,0,{"$f":"IF(ISERROR(VLOOKUP($A242+8860000,'Growth Data'!$A:$Z,9,0)),0,VLOOKUP($A242+8860000,'Growth Data'!$A:$Z,9,0))","v":0},0,null,"NO",{"$f":"IF(ISERROR(VLOOKUP($A242+8860000,'Growth Data'!$A:$Z,5,0)),\"NO\",VLOOKUP($A242+8860000,'Growth Data'!$A:$Z,5,0))","v":"NO"},0,null,0,{"$f":"IF(ISERROR(VLOOKUP($A242+8860000,'Growth Data'!$A:$Z,10,0)),0,VLOOKUP($A242+8860000,'Growth Data'!$A:$Z,10,0))","v":0},0,null,0,{"$f":"IF(ISERROR(VLOOKUP($A242+8860000,'Growth Data'!$A:$Z,11,0)),0,VLOOKUP($A242+8860000,'Growth Data'!$A:$Z,11,0))","v":0},0]
[2532,"St Margaret's-at-Cliffe Primary School",null,"St Margaret's-at-Cliffe Primary School",null,1,null,556384.01,556384.01339173876,-3.391738748177886E-3,null,20668.060000000001,20668.057520000009,2.4799999919196125E-3,null,3639.31,3639.3087398843945,1.2601156054188323E-3,null,36103.769999999997,36103.773481481374,-3.4814813770935871E-3,null,120084,120083.99999999999,0,null,0,0,0,null,0,0,0,null,0,0,0,null,18713,18713,0,null,0,0,0,null,0,0,0,null,0,0,0,null,755592.15,755592.15313310456,-3.1331045320257545E-3,null,0,0,0,null,755592.15,755592.15313310456,-3.1331045320257545E-3,null,0,null,0,null,3146.91,null,3146.91,null,0,null,0,null,62593.37,62593.367048373926,0,null,0,null,0,null,3759.59,3759.5875159852289,0,null,0,null,0,null,0,null,0,null,0,null,0,null,0,null,0,null,0,null,0,null,"NO",{"$f":"IF(ISERROR(VLOOKUP($A243+8860000,'Growth Data'!$A:$F,3,0)),\"NO\",VLOOKUP($A243+8860000,'Growth Data'!$A:$F,3,0))","v":"NO"},0,null,0,{"$f":"IF(DI243=\"YES\",IF(ISERROR(VLOOKUP($A243+8860000,'Growth Data'!$A:$F,6,0)),0,VLOOKUP($A243+8860000,'Growth Data'!$A:$F,6,0)),0)","v":0},0,null,0,{"$f":"IF(ISERROR(VLOOKUP($A243+8860000,'Growth Data'!$A:$Z,7,0)),0,VLOOKUP($A243+8860000,'Growth Data'!$A:$Z,7,0))","v":0},0,null,"NO",{"$f":"IF(ISERROR(VLOOKUP($A243+8860000,'Growth Data'!$A:$F,4,0)),\"NO\",VLOOKUP($A243+8860000,'Growth Data'!$A:$F,4,0))","v":"NO"},0,null,0,{"$f":"IF(ISERROR(VLOOKUP($A243+8860000,'Growth Data'!$A:$Z,8,0)),0,VLOOKUP($A243+8860000,'Growth Data'!$A:$Z,8,0))","v":0},0,null,0,{"$f":"IF(ISERROR(VLOOKUP($A243+8860000,'Growth Data'!$A:$Z,9,0)),0,VLOOKUP($A243+8860000,'Growth Data'!$A:$Z,9,0))","v":0},0,null,"NO",{"$f":"IF(ISERROR(VLOOKUP($A243+8860000,'Growth Data'!$A:$Z,5,0)),\"NO\",VLOOKUP($A243+8860000,'Growth Data'!$A:$Z,5,0))","v":"NO"},0,null,0,{"$f":"IF(ISERROR(VLOOKUP($A243+8860000,'Growth Data'!$A:$Z,10,0)),0,VLOOKUP($A243+8860000,'Growth Data'!$A:$Z,10,0))","v":0},0,null,0,{"$f":"IF(ISERROR(VLOOKUP($A243+8860000,'Growth Data'!$A:$Z,11,0)),0,VLOOKUP($A243+8860000,'Growth Data'!$A:$Z,11,0))","v":0},0]
[3052,"St Mark's CEP School",null,"St Mark's CEP School",null,1,null,911220.76,911220.75662626605,3.3737339545041323E-3,null,80941.88,80941.876845621009,3.1543789955321699E-3,null,22155.55,22155.550301393778,-3.0139377849991433E-4,null,97930.62,97930.621803435177,-1.8034351815003902E-3,null,120084,120083.99999999999,0,null,0,0,0,null,0,0,0,null,0,0,0,null,45568,45568,0,null,0,0,0,null,0,0,0,null,0,0,0,null,1277900.81,1277900.8055767161,4.4232839718461037E-3,null,0,0,0,null,1277900.81,1277900.8055767161,4.4232839718461037E-3,null,0,null,0,null,3464.95,null,3464.95,null,0,null,0,null,181595.16,181595.15625745809,0,null,0,null,0,null,3839.04,3839.0430080271544,0,null,0,null,0,null,0,null,0,null,0,null,0,null,0,null,0,null,0,null,0,null,"NO",{"$f":"IF(ISERROR(VLOOKUP($A244+8860000,'Growth Data'!$A:$F,3,0)),\"NO\",VLOOKUP($A244+8860000,'Growth Data'!$A:$F,3,0))","v":"NO"},0,null,0,{"$f":"IF(DI244=\"YES\",IF(ISERROR(VLOOKUP($A244+8860000,'Growth Data'!$A:$F,6,0)),0,VLOOKUP($A244+8860000,'Growth Data'!$A:$F,6,0)),0)","v":0},0,null,0,{"$f":"IF(ISERROR(VLOOKUP($A244+8860000,'Growth Data'!$A:$Z,7,0)),0,VLOOKUP($A244+8860000,'Growth Data'!$A:$Z,7,0))","v":0},0,null,"NO",{"$f":"IF(ISERROR(VLOOKUP($A244+8860000,'Growth Data'!$A:$F,4,0)),\"NO\",VLOOKUP($A244+8860000,'Growth Data'!$A:$F,4,0))","v":"NO"},0,null,0,{"$f":"IF(ISERROR(VLOOKUP($A244+8860000,'Growth Data'!$A:$Z,8,0)),0,VLOOKUP($A244+8860000,'Growth Data'!$A:$Z,8,0))","v":0},0,null,0,{"$f":"IF(ISERROR(VLOOKUP($A244+8860000,'Growth Data'!$A:$Z,9,0)),0,VLOOKUP($A244+8860000,'Growth Data'!$A:$Z,9,0))","v":0},0,null,"NO",{"$f":"IF(ISERROR(VLOOKUP($A244+8860000,'Growth Data'!$A:$Z,5,0)),\"NO\",VLOOKUP($A244+8860000,'Growth Data'!$A:$Z,5,0))","v":"NO"},0,null,0,{"$f":"IF(ISERROR(VLOOKUP($A244+8860000,'Growth Data'!$A:$Z,10,0)),0,VLOOKUP($A244+8860000,'Growth Data'!$A:$Z,10,0))","v":0},0,null,0,{"$f":"IF(ISERROR(VLOOKUP($A244+8860000,'Growth Data'!$A:$Z,11,0)),0,VLOOKUP($A244+8860000,'Growth Data'!$A:$Z,11,0))","v":0},0]
[3149,"St Martin's CEP School, Folkestone",null,"St Martin's CEP School, Folkestone",null,1,null,587609.65,587609.64679637714,3.2036228803917766E-3,null,35559.129999999997,35559.131122857092,-1.1228570947423577E-3,null,3130.58,3130.5797033898343,2.9661016560567077E-4,null,45688.32,45688.320399408207,-3.9940820715855807E-4,null,120084,120083.99999999999,0,null,0,0,0,null,0,0,0,null,0,0,0,null,19511,19511,0,null,0,0,0,null,0,0,0,null,0,0,0,null,811582.68,811582.67802203225,1.9779677968472242E-3,null,0,0,0,null,811582.68,811582.67802203225,1.9779677968472242E-3,null,0,null,0,null,3246.32,null,3246.32,null,0,null,0,null,79355.22,79355.218532663319,0,null,0,null,0,null,3826.43,3826.4332271595777,0,null,0,null,0,null,0,null,0,null,0,null,0,null,0,null,0,null,0,null,0,null,"NO",{"$f":"IF(ISERROR(VLOOKUP($A245+8860000,'Growth Data'!$A:$F,3,0)),\"NO\",VLOOKUP($A245+8860000,'Growth Data'!$A:$F,3,0))","v":"NO"},0,null,0,{"$f":"IF(DI245=\"YES\",IF(ISERROR(VLOOKUP($A245+8860000,'Growth Data'!$A:$F,6,0)),0,VLOOKUP($A245+8860000,'Growth Data'!$A:$F,6,0)),0)","v":0},0,null,0,{"$f":"IF(ISERROR(VLOOKUP($A245+8860000,'Growth Data'!$A:$Z,7,0)),0,VLOOKUP($A245+8860000,'Growth Data'!$A:$Z,7,0))","v":0},0,null,"NO",{"$f":"IF(ISERROR(VLOOKUP($A245+8860000,'Growth Data'!$A:$F,4,0)),\"NO\",VLOOKUP($A245+8860000,'Growth Data'!$A:$F,4,0))","v":"NO"},0,null,0,{"$f":"IF(ISERROR(VLOOKUP($A245+8860000,'Growth Data'!$A:$Z,8,0)),0,VLOOKUP($A245+8860000,'Growth Data'!$A:$Z,8,0))","v":0},0,null,0,{"$f":"IF(ISERROR(VLOOKUP($A245+8860000,'Growth Data'!$A:$Z,9,0)),0,VLOOKUP($A245+8860000,'Growth Data'!$A:$Z,9,0))","v":0},0,null,"NO",{"$f":"IF(ISERROR(VLOOKUP($A245+8860000,'Growth Data'!$A:$Z,5,0)),\"NO\",VLOOKUP($A245+8860000,'Growth Data'!$A:$Z,5,0))","v":"NO"},0,null,0,{"$f":"IF(ISERROR(VLOOKUP($A245+8860000,'Growth Data'!$A:$Z,10,0)),0,VLOOKUP($A245+8860000,'Growth Data'!$A:$Z,10,0))","v":0},0,null,0,{"$f":"IF(ISERROR(VLOOKUP($A245+8860000,'Growth Data'!$A:$Z,11,0)),0,VLOOKUP($A245+8860000,'Growth Data'!$A:$Z,11,0))","v":0},0]
[3373,"St Mary's CEP School",null,"St Mary's CEP School",null,1,null,553545.31999999995,553545.31944586255,5.5413739755749702E-4,null,118650.26,118650.26024210529,-2.4210529227275401E-4,null,6917.94,6917.9415813253063,-1.5813253066880861E-3,null,63249.68,63249.678586956623,1.4130433773971163E-3,null,120084,120083.99999999999,0,null,0,0,0,null,31393.08,31393.07807476748,1.9252325218985789E-3,null,0,0,0,null,5274,5274,0,null,0,0,0,null,0,0,0,null,0,0,0,null,899114.28,899114.27793101722,2.0689828088507056E-3,null,0,0,0,null,899114.28,899114.27793101722,2.0689828088507056E-3,null,0,null,0,null,3945.57,null,3945.57,null,0,null,0,null,173217.07,173217.06894030853,0,null,0,null,0,null,4583.8,4583.7962970821418,0,null,0,null,0,null,0,null,0,null,0,null,0,null,0,null,0,null,0,null,0,null,"NO",{"$f":"IF(ISERROR(VLOOKUP($A246+8860000,'Growth Data'!$A:$F,3,0)),\"NO\",VLOOKUP($A246+8860000,'Growth Data'!$A:$F,3,0))","v":"NO"},0,null,0,{"$f":"IF(DI246=\"YES\",IF(ISERROR(VLOOKUP($A246+8860000,'Growth Data'!$A:$F,6,0)),0,VLOOKUP($A246+8860000,'Growth Data'!$A:$F,6,0)),0)","v":0},0,null,0,{"$f":"IF(ISERROR(VLOOKUP($A246+8860000,'Growth Data'!$A:$Z,7,0)),0,VLOOKUP($A246+8860000,'Growth Data'!$A:$Z,7,0))","v":0},0,null,"NO",{"$f":"IF(ISERROR(VLOOKUP($A246+8860000,'Growth Data'!$A:$F,4,0)),\"NO\",VLOOKUP($A246+8860000,'Growth Data'!$A:$F,4,0))","v":"NO"},0,null,0,{"$f":"IF(ISERROR(VLOOKUP($A246+8860000,'Growth Data'!$A:$Z,8,0)),0,VLOOKUP($A246+8860000,'Growth Data'!$A:$Z,8,0))","v":0},0,null,0,{"$f":"IF(ISERROR(VLOOKUP($A246+8860000,'Growth Data'!$A:$Z,9,0)),0,VLOOKUP($A246+8860000,'Growth Data'!$A:$Z,9,0))","v":0},0,null,"NO",{"$f":"IF(ISERROR(VLOOKUP($A246+8860000,'Growth Data'!$A:$Z,5,0)),\"NO\",VLOOKUP($A246+8860000,'Growth Data'!$A:$Z,5,0))","v":"NO"},0,null,0,{"$f":"IF(ISERROR(VLOOKUP($A246+8860000,'Growth Data'!$A:$Z,10,0)),0,VLOOKUP($A246+8860000,'Growth Data'!$A:$Z,10,0))","v":0},0,null,0,{"$f":"IF(ISERROR(VLOOKUP($A246+8860000,'Growth Data'!$A:$Z,11,0)),0,VLOOKUP($A246+8860000,'Growth Data'!$A:$Z,11,0))","v":0},0]
[3340,"St Mary's CEP School, Ashford",null,"St Mary's CEP School, Ashford",null,1,null,1163864.52,1163864.5178092495,2.1907505579292774E-3,null,116713.16,116713.16284230663,-2.84230662509799E-3,null,23831.81,23831.813457142951,-3.457142949628178E-3,null,133657.01999999999,133657.02388235275,-3.8823527575004846E-3,null,120084,120083.99999999999,0,null,0,0,0,null,0,0,0,null,0,0,0,null,8960,8960,0,null,0,0,0,null,0,0,0,null,0,0,0,null,1567110.52,1567110.5179910518,2.0089482422918081E-3,null,0,0,0,null,1567110.52,1567110.5179910518,2.0089482422918081E-3,null,0,null,0,null,3507.48,null,3507.48,null,0,null,0,null,243961.55,243961.54748881049,0,null,0,null,0,null,3800.37,3800.3671170513476,0,null,0,null,0,null,0,null,0,null,0,null,0,null,0,null,0,null,0,null,0,null,"NO",{"$f":"IF(ISERROR(VLOOKUP($A247+8860000,'Growth Data'!$A:$F,3,0)),\"NO\",VLOOKUP($A247+8860000,'Growth Data'!$A:$F,3,0))","v":"NO"},0,null,0,{"$f":"IF(DI247=\"YES\",IF(ISERROR(VLOOKUP($A247+8860000,'Growth Data'!$A:$F,6,0)),0,VLOOKUP($A247+8860000,'Growth Data'!$A:$F,6,0)),0)","v":0},0,null,0,{"$f":"IF(ISERROR(VLOOKUP($A247+8860000,'Growth Data'!$A:$Z,7,0)),0,VLOOKUP($A247+8860000,'Growth Data'!$A:$Z,7,0))","v":0},0,null,"NO",{"$f":"IF(ISERROR(VLOOKUP($A247+8860000,'Growth Data'!$A:$F,4,0)),\"NO\",VLOOKUP($A247+8860000,'Growth Data'!$A:$F,4,0))","v":"NO"},0,null,0,{"$f":"IF(ISERROR(VLOOKUP($A247+8860000,'Growth Data'!$A:$Z,8,0)),0,VLOOKUP($A247+8860000,'Growth Data'!$A:$Z,8,0))","v":0},0,null,0,{"$f":"IF(ISERROR(VLOOKUP($A247+8860000,'Growth Data'!$A:$Z,9,0)),0,VLOOKUP($A247+8860000,'Growth Data'!$A:$Z,9,0))","v":0},0,null,"NO",{"$f":"IF(ISERROR(VLOOKUP($A247+8860000,'Growth Data'!$A:$Z,5,0)),\"NO\",VLOOKUP($A247+8860000,'Growth Data'!$A:$Z,5,0))","v":"NO"},0,null,0,{"$f":"IF(ISERROR(VLOOKUP($A247+8860000,'Growth Data'!$A:$Z,10,0)),0,VLOOKUP($A247+8860000,'Growth Data'!$A:$Z,10,0))","v":0},0,null,0,{"$f":"IF(ISERROR(VLOOKUP($A247+8860000,'Growth Data'!$A:$Z,11,0)),0,VLOOKUP($A247+8860000,'Growth Data'!$A:$Z,11,0))","v":0},0]
[3356,"St Mary's CEP School, Dover",null,"St Mary's CEP School, Dover",null,1,null,530835.77,530835.76787885278,2.121147233992815E-3,null,97236.41,97236.409675335977,3.2466402626596391E-4,null,24403.040000000001,24403.038928124999,1.0718750017986167E-3,null,59788.32,59788.322550000004,-2.550000004703179E-3,null,120084,120083.99999999999,0,null,0,0,0,null,0,0,0,null,0,0,0,null,4289,4289,0,null,0,0,0,null,0,0,0,null,0,0,0,null,836636.54,836636.53903231386,9.676861809566617E-4,null,0,0,0,null,836636.54,836636.53903231386,9.676861809566617E-4,null,0,null,0,null,3808.9,null,3808.9,null,0,null,0,null,170100.55,170100.54846046914,0,null,0,null,0,null,4451.0600000000004,4451.0563584615729,0,null,0,null,0,null,0,null,0,null,0,null,0,null,0,null,0,null,0,null,0,null,"NO",{"$f":"IF(ISERROR(VLOOKUP($A248+8860000,'Growth Data'!$A:$F,3,0)),\"NO\",VLOOKUP($A248+8860000,'Growth Data'!$A:$F,3,0))","v":"NO"},0,null,0,{"$f":"IF(DI248=\"YES\",IF(ISERROR(VLOOKUP($A248+8860000,'Growth Data'!$A:$F,6,0)),0,VLOOKUP($A248+8860000,'Growth Data'!$A:$F,6,0)),0)","v":0},0,null,0,{"$f":"IF(ISERROR(VLOOKUP($A248+8860000,'Growth Data'!$A:$Z,7,0)),0,VLOOKUP($A248+8860000,'Growth Data'!$A:$Z,7,0))","v":0},0,null,"NO",{"$f":"IF(ISERROR(VLOOKUP($A248+8860000,'Growth Data'!$A:$F,4,0)),\"NO\",VLOOKUP($A248+8860000,'Growth Data'!$A:$F,4,0))","v":"NO"},0,null,0,{"$f":"IF(ISERROR(VLOOKUP($A248+8860000,'Growth Data'!$A:$Z,8,0)),0,VLOOKUP($A248+8860000,'Growth Data'!$A:$Z,8,0))","v":0},0,null,0,{"$f":"IF(ISERROR(VLOOKUP($A248+8860000,'Growth Data'!$A:$Z,9,0)),0,VLOOKUP($A248+8860000,'Growth Data'!$A:$Z,9,0))","v":0},0,null,"NO",{"$f":"IF(ISERROR(VLOOKUP($A248+8860000,'Growth Data'!$A:$Z,5,0)),\"NO\",VLOOKUP($A248+8860000,'Growth Data'!$A:$Z,5,0))","v":"NO"},0,null,0,{"$f":"IF(ISERROR(VLOOKUP($A248+8860000,'Growth Data'!$A:$Z,10,0)),0,VLOOKUP($A248+8860000,'Growth Data'!$A:$Z,10,0))","v":0},0,null,0,{"$f":"IF(ISERROR(VLOOKUP($A248+8860000,'Growth Data'!$A:$Z,11,0)),0,VLOOKUP($A248+8860000,'Growth Data'!$A:$Z,11,0))","v":0},0]
[3294,"St Matthew's High Brooms CEP School",null,"St Matthew's High Brooms CEP School",null,1,null,1058832.8400000001,1058832.8418118292,-1.811829162761569E-3,null,134440.89000000001,134440.88800049142,1.9995085895061493E-3,null,9390.0300000000007,9390.0323746081485,-2.3746081478748238E-3,null,109925.99,109925.99404823167,-4.0482316690031439E-3,null,120084,120083.99999999999,0,null,0,0,0,null,0,0,0,null,0,0,0,null,36864,36864,0,null,0,0,0,null,0,0,0,null,0,0,0,null,1469537.76,1469537.7562351606,3.7648393772542477E-3,null,0,0,0,null,1469537.76,1469537.7562351606,3.7648393772542477E-3,null,0,null,0,null,3519.01,null,3519.01,null,0,null,0,null,211808.27,211808.27173033939,0,null,0,null,0,null,3840.95,3840.9484081371611,0,null,0,null,0,null,0,null,0,null,0,null,0,null,0,null,0,null,0,null,0,null,"NO",{"$f":"IF(ISERROR(VLOOKUP($A249+8860000,'Growth Data'!$A:$F,3,0)),\"NO\",VLOOKUP($A249+8860000,'Growth Data'!$A:$F,3,0))","v":"NO"},0,null,0,{"$f":"IF(DI249=\"YES\",IF(ISERROR(VLOOKUP($A249+8860000,'Growth Data'!$A:$F,6,0)),0,VLOOKUP($A249+8860000,'Growth Data'!$A:$F,6,0)),0)","v":0},0,null,0,{"$f":"IF(ISERROR(VLOOKUP($A249+8860000,'Growth Data'!$A:$Z,7,0)),0,VLOOKUP($A249+8860000,'Growth Data'!$A:$Z,7,0))","v":0},0,null,"NO",{"$f":"IF(ISERROR(VLOOKUP($A249+8860000,'Growth Data'!$A:$F,4,0)),\"NO\",VLOOKUP($A249+8860000,'Growth Data'!$A:$F,4,0))","v":"NO"},0,null,0,{"$f":"IF(ISERROR(VLOOKUP($A249+8860000,'Growth Data'!$A:$Z,8,0)),0,VLOOKUP($A249+8860000,'Growth Data'!$A:$Z,8,0))","v":0},0,null,0,{"$f":"IF(ISERROR(VLOOKUP($A249+8860000,'Growth Data'!$A:$Z,9,0)),0,VLOOKUP($A249+8860000,'Growth Data'!$A:$Z,9,0))","v":0},0,null,"NO",{"$f":"IF(ISERROR(VLOOKUP($A249+8860000,'Growth Data'!$A:$Z,5,0)),\"NO\",VLOOKUP($A249+8860000,'Growth Data'!$A:$Z,5,0))","v":"NO"},0,null,0,{"$f":"IF(ISERROR(VLOOKUP($A249+8860000,'Growth Data'!$A:$Z,10,0)),0,VLOOKUP($A249+8860000,'Growth Data'!$A:$Z,10,0))","v":0},0,null,0,{"$f":"IF(ISERROR(VLOOKUP($A249+8860000,'Growth Data'!$A:$Z,11,0)),0,VLOOKUP($A249+8860000,'Growth Data'!$A:$Z,11,0))","v":0},0]
[3073,"St Michael's CEI School, Maidstone",null,"St Michael's CEI School, Maidstone",null,1,null,337804.58,337804.57955926994,4.4073007302358747E-4,null,16445.5,16445.503799999999,-3.7999999985913746E-3,null,12096.75,12096.752943037976,-2.9430379763653036E-3,null,32107.27,32107.269493670847,5.0632915372261778E-4,null,120084,120083.99999999999,0,null,0,0,0,null,0,0,0,null,0,0,0,null,10105,10105,0,null,0,0,0,null,0,0,0,null,0,0,0,null,528643.11,528643.1057959788,4.2040211847051978E-3,null,0,0,0,null,528643.11,528643.1057959788,4.2040211847051978E-3,null,0,null,0,null,3348.35,null,3348.35,null,0,null,0,null,61931.12,61931.123543716967,0,null,0,null,0,null,4357.46,4357.4630739157901,0,null,0,null,0,null,0,null,0,null,0,null,0,null,0,null,0,null,0,null,0,null,"NO",{"$f":"IF(ISERROR(VLOOKUP($A250+8860000,'Growth Data'!$A:$F,3,0)),\"NO\",VLOOKUP($A250+8860000,'Growth Data'!$A:$F,3,0))","v":"NO"},0,null,0,{"$f":"IF(DI250=\"YES\",IF(ISERROR(VLOOKUP($A250+8860000,'Growth Data'!$A:$F,6,0)),0,VLOOKUP($A250+8860000,'Growth Data'!$A:$F,6,0)),0)","v":0},0,null,0,{"$f":"IF(ISERROR(VLOOKUP($A250+8860000,'Growth Data'!$A:$Z,7,0)),0,VLOOKUP($A250+8860000,'Growth Data'!$A:$Z,7,0))","v":0},0,null,"NO",{"$f":"IF(ISERROR(VLOOKUP($A250+8860000,'Growth Data'!$A:$F,4,0)),\"NO\",VLOOKUP($A250+8860000,'Growth Data'!$A:$F,4,0))","v":"NO"},0,null,0,{"$f":"IF(ISERROR(VLOOKUP($A250+8860000,'Growth Data'!$A:$Z,8,0)),0,VLOOKUP($A250+8860000,'Growth Data'!$A:$Z,8,0))","v":0},0,null,0,{"$f":"IF(ISERROR(VLOOKUP($A250+8860000,'Growth Data'!$A:$Z,9,0)),0,VLOOKUP($A250+8860000,'Growth Data'!$A:$Z,9,0))","v":0},0,null,"NO",{"$f":"IF(ISERROR(VLOOKUP($A250+8860000,'Growth Data'!$A:$Z,5,0)),\"NO\",VLOOKUP($A250+8860000,'Growth Data'!$A:$Z,5,0))","v":"NO"},0,null,0,{"$f":"IF(ISERROR(VLOOKUP($A250+8860000,'Growth Data'!$A:$Z,10,0)),0,VLOOKUP($A250+8860000,'Growth Data'!$A:$Z,10,0))","v":0},0,null,0,{"$f":"IF(ISERROR(VLOOKUP($A250+8860000,'Growth Data'!$A:$Z,11,0)),0,VLOOKUP($A250+8860000,'Growth Data'!$A:$Z,11,0))","v":0},0]
[3072,"St Michael's CEJ School, Maidstone",null,"St Michael's CEJ School, Maidstone",null,1,null,479739.28,479739.27685308084,3.1469191890209913E-3,null,29401.23,29401.229114457827,8.8554217290948145E-4,null,9101.3700000000008,9101.3664999999673,3.5000000334548531E-3,null,40024.660000000003,40024.66433333329,-4.333333286922425E-3,null,120084,120083.99999999999,0,null,0,0,0,null,0,0,0,null,0,0,0,null,10230,10230,0,null,0,0,0,null,0,0,0,null,0,0,0,null,688580.54,688580.53680087195,3.1991280848160386E-3,null,0,0,0,null,688580.54,688580.53680087195,3.1991280848160386E-3,null,0,null,0,null,3303.35,null,3303.35,null,0,null,0,null,76656.649999999994,76656.652254799235,0,null,0,null,0,null,4013.91,4013.9085017803095,0,null,0,null,0,null,0,null,0,null,0,null,0,null,0,null,0,null,0,null,0,null,"NO",{"$f":"IF(ISERROR(VLOOKUP($A251+8860000,'Growth Data'!$A:$F,3,0)),\"NO\",VLOOKUP($A251+8860000,'Growth Data'!$A:$F,3,0))","v":"NO"},0,null,0,{"$f":"IF(DI251=\"YES\",IF(ISERROR(VLOOKUP($A251+8860000,'Growth Data'!$A:$F,6,0)),0,VLOOKUP($A251+8860000,'Growth Data'!$A:$F,6,0)),0)","v":0},0,null,0,{"$f":"IF(ISERROR(VLOOKUP($A251+8860000,'Growth Data'!$A:$Z,7,0)),0,VLOOKUP($A251+8860000,'Growth Data'!$A:$Z,7,0))","v":0},0,null,"NO",{"$f":"IF(ISERROR(VLOOKUP($A251+8860000,'Growth Data'!$A:$F,4,0)),\"NO\",VLOOKUP($A251+8860000,'Growth Data'!$A:$F,4,0))","v":"NO"},0,null,0,{"$f":"IF(ISERROR(VLOOKUP($A251+8860000,'Growth Data'!$A:$Z,8,0)),0,VLOOKUP($A251+8860000,'Growth Data'!$A:$Z,8,0))","v":0},0,null,0,{"$f":"IF(ISERROR(VLOOKUP($A251+8860000,'Growth Data'!$A:$Z,9,0)),0,VLOOKUP($A251+8860000,'Growth Data'!$A:$Z,9,0))","v":0},0,null,"NO",{"$f":"IF(ISERROR(VLOOKUP($A251+8860000,'Growth Data'!$A:$Z,5,0)),\"NO\",VLOOKUP($A251+8860000,'Growth Data'!$A:$Z,5,0))","v":"NO"},0,null,0,{"$f":"IF(ISERROR(VLOOKUP($A251+8860000,'Growth Data'!$A:$Z,10,0)),0,VLOOKUP($A251+8860000,'Growth Data'!$A:$Z,10,0))","v":0},0,null,0,{"$f":"IF(ISERROR(VLOOKUP($A251+8860000,'Growth Data'!$A:$Z,11,0)),0,VLOOKUP($A251+8860000,'Growth Data'!$A:$Z,11,0))","v":0},0]
[2328,"St Mildred's Primary Infant School",null,"St Mildred's Primary Infant School",null,1,null,760769.98,760769.97749482642,2.5051735574379563E-3,null,43581.49,43581.485699999997,4.3000000005122274E-3,null,16031.33,16031.325810055869,4.1899441312125418E-3,null,78625.67,78625.673629213634,-3.6292136355768889E-3,null,120084,120083.99999999999,0,null,0,0,0,null,0,0,0,null,0,0,0,null,24950,24950,0,null,0,0,0,null,0,0,0,null,0,0,0,null,1044042.46,1044042.4626340958,-2.6340958429500461E-3,null,0,0,0,null,1044042.46,1044042.4626340958,-2.6340958429500461E-3,null,0,null,0,null,3354.51,null,3354.51,null,0,null,0,null,129162.84,129162.83744627766,0,null,0,null,0,null,3802.58,3802.5838157988669,0,null,0,null,0,null,0,null,0,null,0,null,0,null,0,null,0,null,0,null,0,null,"NO",{"$f":"IF(ISERROR(VLOOKUP($A252+8860000,'Growth Data'!$A:$F,3,0)),\"NO\",VLOOKUP($A252+8860000,'Growth Data'!$A:$F,3,0))","v":"NO"},0,null,0,{"$f":"IF(DI252=\"YES\",IF(ISERROR(VLOOKUP($A252+8860000,'Growth Data'!$A:$F,6,0)),0,VLOOKUP($A252+8860000,'Growth Data'!$A:$F,6,0)),0)","v":0},0,null,0,{"$f":"IF(ISERROR(VLOOKUP($A252+8860000,'Growth Data'!$A:$Z,7,0)),0,VLOOKUP($A252+8860000,'Growth Data'!$A:$Z,7,0))","v":0},0,null,"NO",{"$f":"IF(ISERROR(VLOOKUP($A252+8860000,'Growth Data'!$A:$F,4,0)),\"NO\",VLOOKUP($A252+8860000,'Growth Data'!$A:$F,4,0))","v":"NO"},0,null,0,{"$f":"IF(ISERROR(VLOOKUP($A252+8860000,'Growth Data'!$A:$Z,8,0)),0,VLOOKUP($A252+8860000,'Growth Data'!$A:$Z,8,0))","v":0},0,null,0,{"$f":"IF(ISERROR(VLOOKUP($A252+8860000,'Growth Data'!$A:$Z,9,0)),0,VLOOKUP($A252+8860000,'Growth Data'!$A:$Z,9,0))","v":0},0,null,"NO",{"$f":"IF(ISERROR(VLOOKUP($A252+8860000,'Growth Data'!$A:$Z,5,0)),\"NO\",VLOOKUP($A252+8860000,'Growth Data'!$A:$Z,5,0))","v":"NO"},0,null,0,{"$f":"IF(ISERROR(VLOOKUP($A252+8860000,'Growth Data'!$A:$Z,10,0)),0,VLOOKUP($A252+8860000,'Growth Data'!$A:$Z,10,0))","v":0},0,null,0,{"$f":"IF(ISERROR(VLOOKUP($A252+8860000,'Growth Data'!$A:$Z,11,0)),0,VLOOKUP($A252+8860000,'Growth Data'!$A:$Z,11,0))","v":0},0]
[3186,"St Nicholas at Wade CEP School",null,"St Nicholas at Wade CEP School",null,1,null,581932.26,581932.25890462473,1.0953752789646387E-3,null,15063.9,15063.903693069311,-3.6930693113390589E-3,null,1254.31,1254.3059714285685,4.0285714314904908E-3,null,51105.919999999998,51105.924561403561,-4.561403562547639E-3,null,120084,120083.99999999999,0,null,0,0,0,null,0,0,0,null,0,0,0,null,13473,13473,0,null,0,0,0,null,0,0,0,null,0,0,0,null,782913.39,782913.39313052618,-3.1305261654779315E-3,null,0,0,0,null,782913.39,782913.39313052618,-3.1305261654779315E-3,null,0,null,0,null,3167.59,null,3167.59,null,0,null,0,null,68705.73,68705.731532909587,0,null,0,null,0,null,3753.37,3753.3677713684219,0,null,0,null,0,null,0,null,0,null,0,null,0,null,0,null,0,null,0,null,0,null,"NO",{"$f":"IF(ISERROR(VLOOKUP($A253+8860000,'Growth Data'!$A:$F,3,0)),\"NO\",VLOOKUP($A253+8860000,'Growth Data'!$A:$F,3,0))","v":"NO"},0,null,0,{"$f":"IF(DI253=\"YES\",IF(ISERROR(VLOOKUP($A253+8860000,'Growth Data'!$A:$F,6,0)),0,VLOOKUP($A253+8860000,'Growth Data'!$A:$F,6,0)),0)","v":0},0,null,0,{"$f":"IF(ISERROR(VLOOKUP($A253+8860000,'Growth Data'!$A:$Z,7,0)),0,VLOOKUP($A253+8860000,'Growth Data'!$A:$Z,7,0))","v":0},0,null,"NO",{"$f":"IF(ISERROR(VLOOKUP($A253+8860000,'Growth Data'!$A:$F,4,0)),\"NO\",VLOOKUP($A253+8860000,'Growth Data'!$A:$F,4,0))","v":"NO"},0,null,0,{"$f":"IF(ISERROR(VLOOKUP($A253+8860000,'Growth Data'!$A:$Z,8,0)),0,VLOOKUP($A253+8860000,'Growth Data'!$A:$Z,8,0))","v":0},0,null,0,{"$f":"IF(ISERROR(VLOOKUP($A253+8860000,'Growth Data'!$A:$Z,9,0)),0,VLOOKUP($A253+8860000,'Growth Data'!$A:$Z,9,0))","v":0},0,null,"NO",{"$f":"IF(ISERROR(VLOOKUP($A253+8860000,'Growth Data'!$A:$Z,5,0)),\"NO\",VLOOKUP($A253+8860000,'Growth Data'!$A:$Z,5,0))","v":"NO"},0,null,0,{"$f":"IF(ISERROR(VLOOKUP($A253+8860000,'Growth Data'!$A:$Z,10,0)),0,VLOOKUP($A253+8860000,'Growth Data'!$A:$Z,10,0))","v":0},0,null,0,{"$f":"IF(ISERROR(VLOOKUP($A253+8860000,'Growth Data'!$A:$Z,11,0)),0,VLOOKUP($A253+8860000,'Growth Data'!$A:$Z,11,0))","v":0},0]
[3010,"St Paul's CEP School",null,"St Paul's CEP School",null,1,null,315095.03000000003,315095.02799226023,2.0077397930435836E-3,null,12135.49,12135.4889,1.0999999994965037E-3,null,619.03,619.02676562500199,3.2343749979872882E-3,null,23413.1,23413.096453125039,3.5468749592837412E-3,null,120084,120083.99999999999,0,null,0,0,0,null,17157.02,17157.017700040768,2.2999592329142615E-3,null,0,0,0,null,10729,10729,0,null,0,0,0,null,0,0,0,null,0,0,0,null,499232.66,499232.65781105106,2.1889489144086838E-3,null,0,0,0,null,499232.66,499232.65781105106,2.1889489144086838E-3,null,0,null,0,null,3279.72,null,3279.72,null,0,null,0,null,40212.480000000003,40212.480046855788,0,null,1978.75,null,1979,null,4400.93,4400.9338541536144,0,null,0,null,0,null,0,null,0,null,0,null,0,null,0,null,0,null,0,null,0,null,"NO",{"$f":"IF(ISERROR(VLOOKUP($A254+8860000,'Growth Data'!$A:$F,3,0)),\"NO\",VLOOKUP($A254+8860000,'Growth Data'!$A:$F,3,0))","v":"NO"},0,null,0,{"$f":"IF(DI254=\"YES\",IF(ISERROR(VLOOKUP($A254+8860000,'Growth Data'!$A:$F,6,0)),0,VLOOKUP($A254+8860000,'Growth Data'!$A:$F,6,0)),0)","v":0},0,null,0,{"$f":"IF(ISERROR(VLOOKUP($A254+8860000,'Growth Data'!$A:$Z,7,0)),0,VLOOKUP($A254+8860000,'Growth Data'!$A:$Z,7,0))","v":0},0,null,"NO",{"$f":"IF(ISERROR(VLOOKUP($A254+8860000,'Growth Data'!$A:$F,4,0)),\"NO\",VLOOKUP($A254+8860000,'Growth Data'!$A:$F,4,0))","v":"NO"},0,null,0,{"$f":"IF(ISERROR(VLOOKUP($A254+8860000,'Growth Data'!$A:$Z,8,0)),0,VLOOKUP($A254+8860000,'Growth Data'!$A:$Z,8,0))","v":0},0,null,0,{"$f":"IF(ISERROR(VLOOKUP($A254+8860000,'Growth Data'!$A:$Z,9,0)),0,VLOOKUP($A254+8860000,'Growth Data'!$A:$Z,9,0))","v":0},0,null,"NO",{"$f":"IF(ISERROR(VLOOKUP($A254+8860000,'Growth Data'!$A:$Z,5,0)),\"NO\",VLOOKUP($A254+8860000,'Growth Data'!$A:$Z,5,0))","v":"NO"},0,null,0,{"$f":"IF(ISERROR(VLOOKUP($A254+8860000,'Growth Data'!$A:$Z,10,0)),0,VLOOKUP($A254+8860000,'Growth Data'!$A:$Z,10,0))","v":0},0,null,0,{"$f":"IF(ISERROR(VLOOKUP($A254+8860000,'Growth Data'!$A:$Z,11,0)),0,VLOOKUP($A254+8860000,'Growth Data'!$A:$Z,11,0))","v":0},0]
[2474,"St Paul's Infant School",null,"St Paul's Infant School",null,1,null,746576.51,746576.50776544539,2.2345546167343855E-3,null,54984.87,54984.871577272686,-1.5772726837894879E-3,null,45258.27,45258.265767857083,4.2321429136791267E-3,null,85978.85,85978.8547546013,-4.7546012938255444E-3,null,120084,120083.99999999999,0,null,0,0,0,null,0,0,0,null,0,0,0,null,11477,11477,0,null,0,0,0,null,0,0,0,null,0,0,0,null,1064359.5,1064359.4998651764,1.3482361100614071E-4,null,0,0,0,null,1064359.5,1064359.4998651764,1.3482361100614071E-4,null,0,null,0,null,3546.76,null,3546.76,null,0,null,0,null,172192.88,172192.87940673923,0,null,0,null,0,null,4003.36,4003.3555127953491,0,null,82500,null,82500,null,257.45999999999998,null,257,null,257.45999999999998,null,257,null,257.45999999999998,null,257,null,257.45999999999998,null,257,null,"NO",{"$f":"IF(ISERROR(VLOOKUP($A255+8860000,'Growth Data'!$A:$F,3,0)),\"NO\",VLOOKUP($A255+8860000,'Growth Data'!$A:$F,3,0))","v":"NO"},0,null,0,{"$f":"IF(DI255=\"YES\",IF(ISERROR(VLOOKUP($A255+8860000,'Growth Data'!$A:$F,6,0)),0,VLOOKUP($A255+8860000,'Growth Data'!$A:$F,6,0)),0)","v":0},0,null,0,{"$f":"IF(ISERROR(VLOOKUP($A255+8860000,'Growth Data'!$A:$Z,7,0)),0,VLOOKUP($A255+8860000,'Growth Data'!$A:$Z,7,0))","v":0},0,null,"YES",{"$f":"IF(ISERROR(VLOOKUP($A255+8860000,'Growth Data'!$A:$F,4,0)),\"NO\",VLOOKUP($A255+8860000,'Growth Data'!$A:$F,4,0))","v":"NO"},1,null,61,{"$f":"IF(ISERROR(VLOOKUP($A255+8860000,'Growth Data'!$A:$Z,8,0)),0,VLOOKUP($A255+8860000,'Growth Data'!$A:$Z,8,0))","v":0},1,null,90,{"$f":"IF(ISERROR(VLOOKUP($A255+8860000,'Growth Data'!$A:$Z,9,0)),0,VLOOKUP($A255+8860000,'Growth Data'!$A:$Z,9,0))","v":0},1,null,"YES",{"$f":"IF(ISERROR(VLOOKUP($A255+8860000,'Growth Data'!$A:$Z,5,0)),\"NO\",VLOOKUP($A255+8860000,'Growth Data'!$A:$Z,5,0))","v":"NO"},1,null,60,{"$f":"IF(ISERROR(VLOOKUP($A255+8860000,'Growth Data'!$A:$Z,10,0)),0,VLOOKUP($A255+8860000,'Growth Data'!$A:$Z,10,0))","v":0},1,null,90,{"$f":"IF(ISERROR(VLOOKUP($A255+8860000,'Growth Data'!$A:$Z,11,0)),0,VLOOKUP($A255+8860000,'Growth Data'!$A:$Z,11,0))","v":0},1]
[3360,"St Peter-in-Thanet CEJ School",null,"St Peter-in-Thanet CEJ School",null,1,null,1019091.13,1019091.1265695622,3.4304377622902393E-3,null,112468.87,112468.8742887335,-4.2887335002887994E-3,null,2141.5,2141.497999999991,2.0000000090476533E-3,null,71942.38,71942.375717948715,4.2820512899197638E-3,null,120084,120083.99999999999,0,null,0,0,0,null,0,0,0,null,0,0,0,null,9984,9984,0,null,0,0,0,null,0,0,0,null,20522.13,20522.12542375573,4.5762442714476492E-3,null,1356234,1356234,0,null,0,0,0,null,1356234,1356234,0,null,0,null,0,null,3750,null,3750,null,0,null,0,null,167570.17000000001,167570.17031369029,0,null,0,null,0,null,3750,3750,0,null,0,null,0,null,0,null,0,null,0,null,0,null,0,null,0,null,0,null,0,null,"NO",{"$f":"IF(ISERROR(VLOOKUP($A256+8860000,'Growth Data'!$A:$F,3,0)),\"NO\",VLOOKUP($A256+8860000,'Growth Data'!$A:$F,3,0))","v":"NO"},0,null,0,{"$f":"IF(DI256=\"YES\",IF(ISERROR(VLOOKUP($A256+8860000,'Growth Data'!$A:$F,6,0)),0,VLOOKUP($A256+8860000,'Growth Data'!$A:$F,6,0)),0)","v":0},0,null,0,{"$f":"IF(ISERROR(VLOOKUP($A256+8860000,'Growth Data'!$A:$Z,7,0)),0,VLOOKUP($A256+8860000,'Growth Data'!$A:$Z,7,0))","v":0},0,null,"NO",{"$f":"IF(ISERROR(VLOOKUP($A256+8860000,'Growth Data'!$A:$F,4,0)),\"NO\",VLOOKUP($A256+8860000,'Growth Data'!$A:$F,4,0))","v":"NO"},0,null,0,{"$f":"IF(ISERROR(VLOOKUP($A256+8860000,'Growth Data'!$A:$Z,8,0)),0,VLOOKUP($A256+8860000,'Growth Data'!$A:$Z,8,0))","v":0},0,null,0,{"$f":"IF(ISERROR(VLOOKUP($A256+8860000,'Growth Data'!$A:$Z,9,0)),0,VLOOKUP($A256+8860000,'Growth Data'!$A:$Z,9,0))","v":0},0,null,"NO",{"$f":"IF(ISERROR(VLOOKUP($A256+8860000,'Growth Data'!$A:$Z,5,0)),\"NO\",VLOOKUP($A256+8860000,'Growth Data'!$A:$Z,5,0))","v":"NO"},0,null,0,{"$f":"IF(ISERROR(VLOOKUP($A256+8860000,'Growth Data'!$A:$Z,10,0)),0,VLOOKUP($A256+8860000,'Growth Data'!$A:$Z,10,0))","v":0},0,null,0,{"$f":"IF(ISERROR(VLOOKUP($A256+8860000,'Growth Data'!$A:$Z,11,0)),0,VLOOKUP($A256+8860000,'Growth Data'!$A:$Z,11,0))","v":0},0]
[3053,"St Peter's CEP School",null,"St Peter's CEP School",null,1,null,425804.09,425804.09188143269,-1.8814326613210142E-3,null,14762.39,14762.389381118879,6.1888112031738274E-4,null,6022.96,6022.9631250000002,-3.1250000001818989E-3,null,30059.49,30059.488461538458,1.5384615435323212E-3,null,120084,120083.99999999999,0,null,0,0,0,null,0,0,0,null,0,0,0,null,11477,11477,0,null,0,0,0,null,7250,7250,0,null,0,0,0,null,615459.93000000005,615459.93284908996,-2.8490899130702019E-3,null,0,0,0,null,615459.93000000005,615459.93284908996,-2.8490899130702019E-3,null,0,null,0,null,3225.99,null,3225.99,null,0,null,0,null,50325.18,50325.178274665486,0,null,967.48,null,967,null,3978.22,3978.219552327269,0,null,0,null,0,null,0,null,0,null,0,null,0,null,0,null,0,null,0,null,0,null,"YES",{"$f":"IF(ISERROR(VLOOKUP($A257+8860000,'Growth Data'!$A:$F,3,0)),\"NO\",VLOOKUP($A257+8860000,'Growth Data'!$A:$F,3,0))","v":"NO"},1,null,21,{"$f":"IF(DI257=\"YES\",IF(ISERROR(VLOOKUP($A257+8860000,'Growth Data'!$A:$F,6,0)),0,VLOOKUP($A257+8860000,'Growth Data'!$A:$F,6,0)),0)","v":0},21,null,30,{"$f":"IF(ISERROR(VLOOKUP($A257+8860000,'Growth Data'!$A:$Z,7,0)),0,VLOOKUP($A257+8860000,'Growth Data'!$A:$Z,7,0))","v":0},1,null,"NO",{"$f":"IF(ISERROR(VLOOKUP($A257+8860000,'Growth Data'!$A:$F,4,0)),\"NO\",VLOOKUP($A257+8860000,'Growth Data'!$A:$F,4,0))","v":"NO"},0,null,0,{"$f":"IF(ISERROR(VLOOKUP($A257+8860000,'Growth Data'!$A:$Z,8,0)),0,VLOOKUP($A257+8860000,'Growth Data'!$A:$Z,8,0))","v":0},0,null,0,{"$f":"IF(ISERROR(VLOOKUP($A257+8860000,'Growth Data'!$A:$Z,9,0)),0,VLOOKUP($A257+8860000,'Growth Data'!$A:$Z,9,0))","v":0},0,null,"NO",{"$f":"IF(ISERROR(VLOOKUP($A257+8860000,'Growth Data'!$A:$Z,5,0)),\"NO\",VLOOKUP($A257+8860000,'Growth Data'!$A:$Z,5,0))","v":"YES"},1,null,0,{"$f":"IF(ISERROR(VLOOKUP($A257+8860000,'Growth Data'!$A:$Z,10,0)),0,VLOOKUP($A257+8860000,'Growth Data'!$A:$Z,10,0))","v":20},1,null,0,{"$f":"IF(ISERROR(VLOOKUP($A257+8860000,'Growth Data'!$A:$Z,11,0)),0,VLOOKUP($A257+8860000,'Growth Data'!$A:$Z,11,0))","v":30},1]
[3057,"St Peter's CEP School",null,"St Peter's CEP School",null,{"$f":"IF(E258=D258,0,1)","v":1},null,491094.05,491094.05263658572,{"$f":"H258-I258","v":-2.6365857338532805E-3},null,30260.07,30260.070846987968,{"$f":"L258-M258","v":-8.4698796854354441E-4},null,4351.2700000000004,4351.2652315436271,{"$f":"P258-Q258","v":4.7684563733128016E-3},null,41673.57,41673.568900684935,{"$f":"T258-U258","v":1.0993150644935668E-3},null,120084,120083.99999999999,{"$f":"X258-Y258","v":0},null,0,0,{"$f":"AB258-AC258","v":0},null,0,0,{"$f":"AF258-AG258","v":0},null,0,0,{"$f":"AJ258-AK258","v":0},null,16342,16342,{"$f":"AN258-AO258","v":0},null,0,0,{"$f":"AR258-AS258","v":0},null,10199,10199,{"$f":"AV258-AW258","v":0},null,0,0,{"$f":"AZ258-BA258","v":0},null,714003.96,714003.95761580218,{"$f":"BD258-BE258","v":2.3841977817937732E-3},null,0,0,{"$f":"BH258-BI258","v":0},null,714003.96,714003.95761580218,{"$f":"BL258-BM258","v":2.3841977817937732E-3},null,0,null,{"$f":"BP258-BQ258","v":0},null,3338.6,null,{"$f":"BT258-BU258","v":3338.6},null,0,null,{"$f":"BX258-BY258","v":0},null,72162.720000000001,72162.722286224656,{"$f":"ROUND(CB258-CC258,0)","v":0},null,0,null,{"$f":"ROUND(CF258-CG258,0)","v":0},null,3973.77,3973.7743214786274,{"$f":"ROUND(CJ258-CK258,0)","v":0},null,0,null,{"$f":"ROUND(CN258-CO258,0)","v":0},null,0,null,{"$f":"ROUND(CR258-CS258,0)","v":0},null,0,null,{"$f":"ROUND(CV258-CW258,0)","v":0},null,0,null,{"$f":"ROUND(CZ258-DA258,0)","v":0},null,0,null,{"$f":"ROUND(DD258-DE258,0)","v":0},null,"NO",{"$f":"IF(ISERROR(VLOOKUP($A258+8860000,'Growth Data'!$A:$F,3,0)),\"NO\",VLOOKUP($A258+8860000,'Growth Data'!$A:$F,3,0))","v":"NO"},{"$f":"IF(DH258=DI258,0,1)","v":0},null,0,{"$f":"IF(DI258=\"YES\",IF(ISERROR(VLOOKUP($A258+8860000,'Growth Data'!$A:$F,6,0)),0,VLOOKUP($A258+8860000,'Growth Data'!$A:$F,6,0)),0)","v":0},{"$f":"ROUND(DL258-DM258,0)","v":0},null,0,{"$f":"IF(ISERROR(VLOOKUP($A258+8860000,'Growth Data'!$A:$Z,7,0)),0,VLOOKUP($A258+8860000,'Growth Data'!$A:$Z,7,0))","v":0},{"$f":"IF(DP258=DQ258,0,1)","v":0},null,"NO",{"$f":"IF(ISERROR(VLOOKUP($A258+8860000,'Growth Data'!$A:$F,4,0)),\"NO\",VLOOKUP($A258+8860000,'Growth Data'!$A:$F,4,0))","v":"NO"},{"$f":"IF(DT258=DU258,0,1)","v":0},null,0,{"$f":"IF(ISERROR(VLOOKUP($A258+8860000,'Growth Data'!$A:$Z,8,0)),0,VLOOKUP($A258+8860000,'Growth Data'!$A:$Z,8,0))","v":0},{"$f":"IF(DX258=DY258,0,1)","v":0},null,0,{"$f":"IF(ISERROR(VLOOKUP($A258+8860000,'Growth Data'!$A:$Z,9,0)),0,VLOOKUP($A258+8860000,'Growth Data'!$A:$Z,9,0))","v":0},{"$f":"IF(EB258=EC258,0,1)","v":0},null,"NO",{"$f":"IF(ISERROR(VLOOKUP($A258+8860000,'Growth Data'!$A:$Z,5,0)),\"NO\",VLOOKUP($A258+8860000,'Growth Data'!$A:$Z,5,0))","v":"NO"},{"$f":"IF(EF258=EG258,0,1)","v":0},null,0,{"$f":"IF(ISERROR(VLOOKUP($A258+8860000,'Growth Data'!$A:$Z,10,0)),0,VLOOKUP($A258+8860000,'Growth Data'!$A:$Z,10,0))","v":0},{"$f":"IF(EJ258=EK258,0,1)","v":0},null,0,{"$f":"IF(ISERROR(VLOOKUP($A258+8860000,'Growth Data'!$A:$Z,11,0)),0,VLOOKUP($A258+8860000,'Growth Data'!$A:$Z,11,0))","v":0},{"$f":"IF(EN258=EO258,0,1)","v":0}]
[3150,"St Peter's CEP School, Folkestone",null,"St Peter's CEP School, Folkestone",null,1,null,298062.86,298062.86431700288,-4.3170028948225081E-3,null,81924.5,81924.503299065371,-3.2990653708111495E-3,null,2470.96,2470.9592307692333,7.6923076676393976E-4,null,35545.75,35545.746970588189,3.0294118114397861E-3,null,120084,120083.99999999999,0,null,0,0,0,null,0,0,0,null,0,0,0,null,2707,2707,0,null,0,0,0,null,27480,27480,0,null,0,0,0,null,568275.06999999995,568275.07381742564,-3.8174256915226579E-3,null,0,0,0,null,568275.06999999995,568275.07381742564,-3.8174256915226579E-3,null,0,null,0,null,4242.71,null,4242.71,null,0,null,0,null,107713.36,107713.35680743096,0,null,0,null,0,null,5124.6499999999996,5124.6483220707223,0,null,0,null,0,null,0,null,0,null,0,null,0,null,0,null,0,null,0,null,0,null,"NO",{"$f":"IF(ISERROR(VLOOKUP($A259+8860000,'Growth Data'!$A:$F,3,0)),\"NO\",VLOOKUP($A259+8860000,'Growth Data'!$A:$F,3,0))","v":"NO"},0,null,0,{"$f":"IF(DI259=\"YES\",IF(ISERROR(VLOOKUP($A259+8860000,'Growth Data'!$A:$F,6,0)),0,VLOOKUP($A259+8860000,'Growth Data'!$A:$F,6,0)),0)","v":0},0,null,0,{"$f":"IF(ISERROR(VLOOKUP($A259+8860000,'Growth Data'!$A:$Z,7,0)),0,VLOOKUP($A259+8860000,'Growth Data'!$A:$Z,7,0))","v":0},0,null,"NO",{"$f":"IF(ISERROR(VLOOKUP($A259+8860000,'Growth Data'!$A:$F,4,0)),\"NO\",VLOOKUP($A259+8860000,'Growth Data'!$A:$F,4,0))","v":"NO"},0,null,0,{"$f":"IF(ISERROR(VLOOKUP($A259+8860000,'Growth Data'!$A:$Z,8,0)),0,VLOOKUP($A259+8860000,'Growth Data'!$A:$Z,8,0))","v":0},0,null,0,{"$f":"IF(ISERROR(VLOOKUP($A259+8860000,'Growth Data'!$A:$Z,9,0)),0,VLOOKUP($A259+8860000,'Growth Data'!$A:$Z,9,0))","v":0},0,null,"NO",{"$f":"IF(ISERROR(VLOOKUP($A259+8860000,'Growth Data'!$A:$Z,5,0)),\"NO\",VLOOKUP($A259+8860000,'Growth Data'!$A:$Z,5,0))","v":"NO"},0,null,0,{"$f":"IF(ISERROR(VLOOKUP($A259+8860000,'Growth Data'!$A:$Z,10,0)),0,VLOOKUP($A259+8860000,'Growth Data'!$A:$Z,10,0))","v":0},0,null,0,{"$f":"IF(ISERROR(VLOOKUP($A259+8860000,'Growth Data'!$A:$Z,11,0)),0,VLOOKUP($A259+8860000,'Growth Data'!$A:$Z,11,0))","v":0},0]
[3289,"St Peter's Methodist Primary School, Canterbury",null,"St Peter's Methodist Primary School, Canterbury",null,1,null,581932.26,581932.25890462473,1.0953752789646387E-3,null,47017.49,47017.489219999952,7.8000004577916116E-4,null,31357.65,31357.649285714317,7.1428568480769172E-4,null,53218.96,53218.957980769323,2.0192306765238754E-3,null,120084,120083.99999999999,0,null,0,0,0,null,0,0,0,null,0,0,0,null,18837,18837,0,null,0,0,0,null,0,0,0,null,0,0,0,null,852447.36,852447.35539110831,4.6088916715234518E-3,null,0,0,0,null,852447.36,852447.35539110831,4.6088916715234518E-3,null,0,null,0,null,3480.62,null,3480.62,null,0,null,0,null,131074.43,131074.43379349174,0,null,0,null,0,null,4066.39,4066.3919775176032,0,null,0,null,0,null,0,null,0,null,0,null,0,null,0,null,0,null,0,null,0,null,"NO",{"$f":"IF(ISERROR(VLOOKUP($A260+8860000,'Growth Data'!$A:$F,3,0)),\"NO\",VLOOKUP($A260+8860000,'Growth Data'!$A:$F,3,0))","v":"NO"},0,null,0,{"$f":"IF(DI260=\"YES\",IF(ISERROR(VLOOKUP($A260+8860000,'Growth Data'!$A:$F,6,0)),0,VLOOKUP($A260+8860000,'Growth Data'!$A:$F,6,0)),0)","v":0},0,null,0,{"$f":"IF(ISERROR(VLOOKUP($A260+8860000,'Growth Data'!$A:$Z,7,0)),0,VLOOKUP($A260+8860000,'Growth Data'!$A:$Z,7,0))","v":0},0,null,"NO",{"$f":"IF(ISERROR(VLOOKUP($A260+8860000,'Growth Data'!$A:$F,4,0)),\"NO\",VLOOKUP($A260+8860000,'Growth Data'!$A:$F,4,0))","v":"NO"},0,null,0,{"$f":"IF(ISERROR(VLOOKUP($A260+8860000,'Growth Data'!$A:$Z,8,0)),0,VLOOKUP($A260+8860000,'Growth Data'!$A:$Z,8,0))","v":0},0,null,0,{"$f":"IF(ISERROR(VLOOKUP($A260+8860000,'Growth Data'!$A:$Z,9,0)),0,VLOOKUP($A260+8860000,'Growth Data'!$A:$Z,9,0))","v":0},0,null,"NO",{"$f":"IF(ISERROR(VLOOKUP($A260+8860000,'Growth Data'!$A:$Z,5,0)),\"NO\",VLOOKUP($A260+8860000,'Growth Data'!$A:$Z,5,0))","v":"NO"},0,null,0,{"$f":"IF(ISERROR(VLOOKUP($A260+8860000,'Growth Data'!$A:$Z,10,0)),0,VLOOKUP($A260+8860000,'Growth Data'!$A:$Z,10,0))","v":0},0,null,0,{"$f":"IF(ISERROR(VLOOKUP($A260+8860000,'Growth Data'!$A:$Z,11,0)),0,VLOOKUP($A260+8860000,'Growth Data'!$A:$Z,11,0))","v":0},0]
[3181,"St Saviour's CEJ School",null,"St Saviour's CEJ School",null,1,null,1090058.48,1090058.4752164679,4.7835321165621281E-3,null,77232.94,77232.941030526359,-1.0305263567715883E-3,null,536.77,536.77234464751893,-2.3446475189530247E-3,null,104767.05,104767.04563200001,4.3679999944288284E-3,null,120084,120083.99999999999,0,null,0,0,0,null,0,0,0,null,0,0,0,null,50150,50150,0,null,0,0,0,null,0,0,0,null,47320.77,47320.765776358545,4.2236414519720711E-3,null,1490150,1490150.0000000002,0,null,0,0,0,null,1490150,1490150.0000000002,0,null,0,null,0,null,3750,null,3750,null,0,null,0,null,166706.39000000001,166706.38631418196,0,null,0,null,0,null,3750,3750,0,null,0,null,0,null,0,null,0,null,0,null,0,null,0,null,0,null,0,null,0,null,"NO",{"$f":"IF(ISERROR(VLOOKUP($A261+8860000,'Growth Data'!$A:$F,3,0)),\"NO\",VLOOKUP($A261+8860000,'Growth Data'!$A:$F,3,0))","v":"NO"},0,null,0,{"$f":"IF(DI261=\"YES\",IF(ISERROR(VLOOKUP($A261+8860000,'Growth Data'!$A:$F,6,0)),0,VLOOKUP($A261+8860000,'Growth Data'!$A:$F,6,0)),0)","v":0},0,null,0,{"$f":"IF(ISERROR(VLOOKUP($A261+8860000,'Growth Data'!$A:$Z,7,0)),0,VLOOKUP($A261+8860000,'Growth Data'!$A:$Z,7,0))","v":0},0,null,"NO",{"$f":"IF(ISERROR(VLOOKUP($A261+8860000,'Growth Data'!$A:$F,4,0)),\"NO\",VLOOKUP($A261+8860000,'Growth Data'!$A:$F,4,0))","v":"NO"},0,null,0,{"$f":"IF(ISERROR(VLOOKUP($A261+8860000,'Growth Data'!$A:$Z,8,0)),0,VLOOKUP($A261+8860000,'Growth Data'!$A:$Z,8,0))","v":0},0,null,0,{"$f":"IF(ISERROR(VLOOKUP($A261+8860000,'Growth Data'!$A:$Z,9,0)),0,VLOOKUP($A261+8860000,'Growth Data'!$A:$Z,9,0))","v":0},0,null,"NO",{"$f":"IF(ISERROR(VLOOKUP($A261+8860000,'Growth Data'!$A:$Z,5,0)),\"NO\",VLOOKUP($A261+8860000,'Growth Data'!$A:$Z,5,0))","v":"NO"},0,null,0,{"$f":"IF(ISERROR(VLOOKUP($A261+8860000,'Growth Data'!$A:$Z,10,0)),0,VLOOKUP($A261+8860000,'Growth Data'!$A:$Z,10,0))","v":0},0,null,0,{"$f":"IF(ISERROR(VLOOKUP($A261+8860000,'Growth Data'!$A:$Z,11,0)),0,VLOOKUP($A261+8860000,'Growth Data'!$A:$Z,11,0))","v":0},0]
[2611,"St Stephen's Infant School",null,"St Stephen's Infant School",null,1,null,760769.98,760769.97749482642,2.5051735574379563E-3,null,115163.56,115163.55810000005,1.8999999447260052E-3,null,41109.54,41109.543067415703,-3.0674157023895532E-3,null,77596.13,77596.129005780444,9.9421956110745668E-4,null,120084,120083.99999999999,0,null,0,0,0,null,0,0,0,null,0,0,0,null,24950,24950,0,null,0,0,0,null,0,0,0,null,0,0,0,null,1139673.21,1139673.2076680225,2.3319774772971869E-3,null,0,0,0,null,1139673.21,1139673.2076680225,2.3319774772971869E-3,null,0,null,0,null,3711.34,null,3711.34,null,0,null,0,null,212184.76,212184.76248020428,0,null,0,null,0,null,4159.42,4159.4149539851614,0,null,0,null,0,null,0,null,0,null,0,null,0,null,0,null,0,null,0,null,0,null,"NO",{"$f":"IF(ISERROR(VLOOKUP($A262+8860000,'Growth Data'!$A:$F,3,0)),\"NO\",VLOOKUP($A262+8860000,'Growth Data'!$A:$F,3,0))","v":"NO"},0,null,0,{"$f":"IF(DI262=\"YES\",IF(ISERROR(VLOOKUP($A262+8860000,'Growth Data'!$A:$F,6,0)),0,VLOOKUP($A262+8860000,'Growth Data'!$A:$F,6,0)),0)","v":0},0,null,0,{"$f":"IF(ISERROR(VLOOKUP($A262+8860000,'Growth Data'!$A:$Z,7,0)),0,VLOOKUP($A262+8860000,'Growth Data'!$A:$Z,7,0))","v":0},0,null,"NO",{"$f":"IF(ISERROR(VLOOKUP($A262+8860000,'Growth Data'!$A:$F,4,0)),\"NO\",VLOOKUP($A262+8860000,'Growth Data'!$A:$F,4,0))","v":"NO"},0,null,0,{"$f":"IF(ISERROR(VLOOKUP($A262+8860000,'Growth Data'!$A:$Z,8,0)),0,VLOOKUP($A262+8860000,'Growth Data'!$A:$Z,8,0))","v":0},0,null,0,{"$f":"IF(ISERROR(VLOOKUP($A262+8860000,'Growth Data'!$A:$Z,9,0)),0,VLOOKUP($A262+8860000,'Growth Data'!$A:$Z,9,0))","v":0},0,null,"NO",{"$f":"IF(ISERROR(VLOOKUP($A262+8860000,'Growth Data'!$A:$Z,5,0)),\"NO\",VLOOKUP($A262+8860000,'Growth Data'!$A:$Z,5,0))","v":"NO"},0,null,0,{"$f":"IF(ISERROR(VLOOKUP($A262+8860000,'Growth Data'!$A:$Z,10,0)),0,VLOOKUP($A262+8860000,'Growth Data'!$A:$Z,10,0))","v":0},0,null,0,{"$f":"IF(ISERROR(VLOOKUP($A262+8860000,'Growth Data'!$A:$Z,11,0)),0,VLOOKUP($A262+8860000,'Growth Data'!$A:$Z,11,0))","v":0},0]
[3749,"St Thomas' Catholic Primary School, Canterbury",null,"St Thomas' Catholic Primary School, Canterbury",null,1,null,596125.73,596125.72863400576,1.3659942196682096E-3,null,65338.86,65338.863105263204,-3.105263203906361E-3,null,30605.58,30605.575583333306,4.4166666957607958E-3,null,53661.22,53661.220789473671,-7.8947367001092061E-4,null,120084,120083.99999999999,0,null,0,0,0,null,0,0,0,null,0,0,0,null,5069,5069,0,null,0,0,0,null,0,0,0,null,0,0,0,null,870884.39,870884.38811207586,1.8879241542890668E-3,null,0,0,0,null,870884.39,870884.38811207586,1.8879241542890668E-3,null,0,null,0,null,3551.1,null,3551.1,null,0,null,0,null,146384.10999999999,146384.10678507833,0,null,0,null,0,null,4122.93,4122.9304195813165,0,null,0,null,0,null,0,null,0,null,0,null,0,null,0,null,0,null,0,null,0,null,"NO",{"$f":"IF(ISERROR(VLOOKUP($A263+8860000,'Growth Data'!$A:$F,3,0)),\"NO\",VLOOKUP($A263+8860000,'Growth Data'!$A:$F,3,0))","v":"NO"},0,null,0,{"$f":"IF(DI263=\"YES\",IF(ISERROR(VLOOKUP($A263+8860000,'Growth Data'!$A:$F,6,0)),0,VLOOKUP($A263+8860000,'Growth Data'!$A:$F,6,0)),0)","v":0},0,null,0,{"$f":"IF(ISERROR(VLOOKUP($A263+8860000,'Growth Data'!$A:$Z,7,0)),0,VLOOKUP($A263+8860000,'Growth Data'!$A:$Z,7,0))","v":0},0,null,"NO",{"$f":"IF(ISERROR(VLOOKUP($A263+8860000,'Growth Data'!$A:$F,4,0)),\"NO\",VLOOKUP($A263+8860000,'Growth Data'!$A:$F,4,0))","v":"NO"},0,null,0,{"$f":"IF(ISERROR(VLOOKUP($A263+8860000,'Growth Data'!$A:$Z,8,0)),0,VLOOKUP($A263+8860000,'Growth Data'!$A:$Z,8,0))","v":0},0,null,0,{"$f":"IF(ISERROR(VLOOKUP($A263+8860000,'Growth Data'!$A:$Z,9,0)),0,VLOOKUP($A263+8860000,'Growth Data'!$A:$Z,9,0))","v":0},0,null,"NO",{"$f":"IF(ISERROR(VLOOKUP($A263+8860000,'Growth Data'!$A:$Z,5,0)),\"NO\",VLOOKUP($A263+8860000,'Growth Data'!$A:$Z,5,0))","v":"NO"},0,null,0,{"$f":"IF(ISERROR(VLOOKUP($A263+8860000,'Growth Data'!$A:$Z,10,0)),0,VLOOKUP($A263+8860000,'Growth Data'!$A:$Z,10,0))","v":0},0,null,0,{"$f":"IF(ISERROR(VLOOKUP($A263+8860000,'Growth Data'!$A:$Z,11,0)),0,VLOOKUP($A263+8860000,'Growth Data'!$A:$Z,11,0))","v":0},0]
[2192,"Staplehurst School",null,"Staplehurst School",null,1,null,1041800.68,1041800.678136572,1.8634280422702432E-3,null,51264.07,51264.069048837264,9.5116273587336764E-4,null,5407.77,5407.7736192660523,-3.6192660518281627E-3,null,97159.33,97159.333385350357,-3.3853503555292264E-3,null,120084,120083.99999999999,0,null,0,0,0,null,0,0,0,null,0,0,0,null,37632,37632,0,null,0,0,0,null,0,0,0,null,60534.15,60534.145809974289,4.1900257128872909E-3,null,1413882,1413882,0,null,0,0,0,null,1413882,1413882,0,null,0,null,0,null,3750,null,3750,null,0,null,0,null,135298.91,135298.91336046177,0,null,0,null,0,null,3750,3750,0,null,0,null,0,null,0,null,0,null,0,null,0,null,0,null,0,null,0,null,0,null,"NO",{"$f":"IF(ISERROR(VLOOKUP($A264+8860000,'Growth Data'!$A:$F,3,0)),\"NO\",VLOOKUP($A264+8860000,'Growth Data'!$A:$F,3,0))","v":"NO"},0,null,0,{"$f":"IF(DI264=\"YES\",IF(ISERROR(VLOOKUP($A264+8860000,'Growth Data'!$A:$F,6,0)),0,VLOOKUP($A264+8860000,'Growth Data'!$A:$F,6,0)),0)","v":0},0,null,0,{"$f":"IF(ISERROR(VLOOKUP($A264+8860000,'Growth Data'!$A:$Z,7,0)),0,VLOOKUP($A264+8860000,'Growth Data'!$A:$Z,7,0))","v":0},0,null,"NO",{"$f":"IF(ISERROR(VLOOKUP($A264+8860000,'Growth Data'!$A:$F,4,0)),\"NO\",VLOOKUP($A264+8860000,'Growth Data'!$A:$F,4,0))","v":"NO"},0,null,0,{"$f":"IF(ISERROR(VLOOKUP($A264+8860000,'Growth Data'!$A:$Z,8,0)),0,VLOOKUP($A264+8860000,'Growth Data'!$A:$Z,8,0))","v":0},0,null,0,{"$f":"IF(ISERROR(VLOOKUP($A264+8860000,'Growth Data'!$A:$Z,9,0)),0,VLOOKUP($A264+8860000,'Growth Data'!$A:$Z,9,0))","v":0},0,null,"NO",{"$f":"IF(ISERROR(VLOOKUP($A264+8860000,'Growth Data'!$A:$Z,5,0)),\"NO\",VLOOKUP($A264+8860000,'Growth Data'!$A:$Z,5,0))","v":"NO"},0,null,0,{"$f":"IF(ISERROR(VLOOKUP($A264+8860000,'Growth Data'!$A:$Z,10,0)),0,VLOOKUP($A264+8860000,'Growth Data'!$A:$Z,10,0))","v":0},0,null,0,{"$f":"IF(ISERROR(VLOOKUP($A264+8860000,'Growth Data'!$A:$Z,11,0)),0,VLOOKUP($A264+8860000,'Growth Data'!$A:$Z,11,0))","v":0},0]
[3158,"Stelling Minnis CEP School",null,"Stelling Minnis CEP School",null,1,null,252643.76,252643.76118298341,-1.1829833965748549E-3,null,7436.04,7436.0402967741911,-2.9677419115614612E-4,null,1270.6199999999999,1270.6221466666682,-2.1466666682954383E-3,null,22710.89,22710.886500000015,3.4999999843421392E-3,null,120084,120083.99999999999,0,null,21120.04,21120.0367423231,3.2576769008301198E-3,null,0,0,0,null,0,0,0,null,14097,14097,0,null,0,0,0,null,0,0,0,null,0,0,0,null,439362.35,439362.34686874732,3.1312526552937925E-3,null,0,0,0,null,439362.35,439362.34686874732,3.1312526552937925E-3,null,0,null,0,null,3191.7,null,3191.7,null,0,null,0,null,34500.410000000003,34500.406250449021,0,null,2549.96,null,2550,null,4778.26,4778.26232436795,0,null,0,null,0,null,0,null,0,null,0,null,0,null,0,null,0,null,0,null,0,null,"NO",{"$f":"IF(ISERROR(VLOOKUP($A265+8860000,'Growth Data'!$A:$F,3,0)),\"NO\",VLOOKUP($A265+8860000,'Growth Data'!$A:$F,3,0))","v":"NO"},0,null,0,{"$f":"IF(DI265=\"YES\",IF(ISERROR(VLOOKUP($A265+8860000,'Growth Data'!$A:$F,6,0)),0,VLOOKUP($A265+8860000,'Growth Data'!$A:$F,6,0)),0)","v":0},0,null,0,{"$f":"IF(ISERROR(VLOOKUP($A265+8860000,'Growth Data'!$A:$Z,7,0)),0,VLOOKUP($A265+8860000,'Growth Data'!$A:$Z,7,0))","v":0},0,null,"NO",{"$f":"IF(ISERROR(VLOOKUP($A265+8860000,'Growth Data'!$A:$F,4,0)),\"NO\",VLOOKUP($A265+8860000,'Growth Data'!$A:$F,4,0))","v":"NO"},0,null,0,{"$f":"IF(ISERROR(VLOOKUP($A265+8860000,'Growth Data'!$A:$Z,8,0)),0,VLOOKUP($A265+8860000,'Growth Data'!$A:$Z,8,0))","v":0},0,null,0,{"$f":"IF(ISERROR(VLOOKUP($A265+8860000,'Growth Data'!$A:$Z,9,0)),0,VLOOKUP($A265+8860000,'Growth Data'!$A:$Z,9,0))","v":0},0,null,"NO",{"$f":"IF(ISERROR(VLOOKUP($A265+8860000,'Growth Data'!$A:$Z,5,0)),\"NO\",VLOOKUP($A265+8860000,'Growth Data'!$A:$Z,5,0))","v":"NO"},0,null,0,{"$f":"IF(ISERROR(VLOOKUP($A265+8860000,'Growth Data'!$A:$Z,10,0)),0,VLOOKUP($A265+8860000,'Growth Data'!$A:$Z,10,0))","v":0},0,null,0,{"$f":"IF(ISERROR(VLOOKUP($A265+8860000,'Growth Data'!$A:$Z,11,0)),0,VLOOKUP($A265+8860000,'Growth Data'!$A:$Z,11,0))","v":0},0]
[2539,"Stocks Green Primary School",null,"Stocks Green Primary School",null,1,null,615996.59,615996.58625513932,3.7448606453835964E-3,null,3087.5,3087.4977647887326,2.235211267361592E-3,null,3089.79,3089.7943218085147,-4.3218085147600505E-3,null,31252.27,31252.266689189157,3.3108108436863404E-3,null,120084,120083.99999999999,0,null,0,0,0,null,0,0,0,null,0,0,0,null,23204,23204,0,null,0,0,0,null,0,0,0,null,40239.86,40239.854969074368,5.0309256330365315E-3,null,836954,836954,0,null,0,0,0,null,836954,836954,0,null,0,null,0,null,3750,null,3750,null,0,null,0,null,42763.99,42763.991082794557,0,null,1723.6,null,1724,null,3750,3750,0,null,0,null,0,null,0,null,0,null,0,null,0,null,0,null,0,null,0,null,0,null,"NO",{"$f":"IF(ISERROR(VLOOKUP($A266+8860000,'Growth Data'!$A:$F,3,0)),\"NO\",VLOOKUP($A266+8860000,'Growth Data'!$A:$F,3,0))","v":"NO"},0,null,0,{"$f":"IF(DI266=\"YES\",IF(ISERROR(VLOOKUP($A266+8860000,'Growth Data'!$A:$F,6,0)),0,VLOOKUP($A266+8860000,'Growth Data'!$A:$F,6,0)),0)","v":0},0,null,0,{"$f":"IF(ISERROR(VLOOKUP($A266+8860000,'Growth Data'!$A:$Z,7,0)),0,VLOOKUP($A266+8860000,'Growth Data'!$A:$Z,7,0))","v":0},0,null,"NO",{"$f":"IF(ISERROR(VLOOKUP($A266+8860000,'Growth Data'!$A:$F,4,0)),\"NO\",VLOOKUP($A266+8860000,'Growth Data'!$A:$F,4,0))","v":"NO"},0,null,0,{"$f":"IF(ISERROR(VLOOKUP($A266+8860000,'Growth Data'!$A:$Z,8,0)),0,VLOOKUP($A266+8860000,'Growth Data'!$A:$Z,8,0))","v":0},0,null,0,{"$f":"IF(ISERROR(VLOOKUP($A266+8860000,'Growth Data'!$A:$Z,9,0)),0,VLOOKUP($A266+8860000,'Growth Data'!$A:$Z,9,0))","v":0},0,null,"NO",{"$f":"IF(ISERROR(VLOOKUP($A266+8860000,'Growth Data'!$A:$Z,5,0)),\"NO\",VLOOKUP($A266+8860000,'Growth Data'!$A:$Z,5,0))","v":"NO"},0,null,0,{"$f":"IF(ISERROR(VLOOKUP($A266+8860000,'Growth Data'!$A:$Z,10,0)),0,VLOOKUP($A266+8860000,'Growth Data'!$A:$Z,10,0))","v":0},0,null,0,{"$f":"IF(ISERROR(VLOOKUP($A266+8860000,'Growth Data'!$A:$Z,11,0)),0,VLOOKUP($A266+8860000,'Growth Data'!$A:$Z,11,0))","v":0},0]
[3159,"Stowting CEP School",null,"Stowting CEP School",null,1,null,283869.39,283869.39458762179,-4.587621777318418E-3,null,3067.15,3067.1454999999996,4.5000000004620233E-3,null,0,0,0,null,21568.66,21568.658928571385,1.071428614523029E-3,null,120084,120083.99999999999,0,null,0,0,0,null,0,0,0,null,0,0,0,null,13972,13972,0,null,0,0,0,null,0,0,0,null,0,0,0,null,442561.2,442561.19901619316,9.8380685085430741E-4,null,0,0,0,null,442561.2,442561.19901619316,9.8380685085430741E-4,null,0,null,0,null,3085.05,null,3085.05,null,0,null,0,null,29970.240000000002,29970.236735579532,0,null,3002.98,null,3003,null,4285.8900000000003,4285.8919901619338,0,null,0,null,0,null,0,null,0,null,0,null,0,null,0,null,0,null,0,null,0,null,"YES",{"$f":"IF(ISERROR(VLOOKUP($A267+8860000,'Growth Data'!$A:$F,3,0)),\"NO\",VLOOKUP($A267+8860000,'Growth Data'!$A:$F,3,0))","v":"NO"},1,null,20,{"$f":"IF(DI267=\"YES\",IF(ISERROR(VLOOKUP($A267+8860000,'Growth Data'!$A:$F,6,0)),0,VLOOKUP($A267+8860000,'Growth Data'!$A:$F,6,0)),0)","v":0},20,null,26,{"$f":"IF(ISERROR(VLOOKUP($A267+8860000,'Growth Data'!$A:$Z,7,0)),0,VLOOKUP($A267+8860000,'Growth Data'!$A:$Z,7,0))","v":0},1,null,"NO",{"$f":"IF(ISERROR(VLOOKUP($A267+8860000,'Growth Data'!$A:$F,4,0)),\"NO\",VLOOKUP($A267+8860000,'Growth Data'!$A:$F,4,0))","v":"NO"},0,null,0,{"$f":"IF(ISERROR(VLOOKUP($A267+8860000,'Growth Data'!$A:$Z,8,0)),0,VLOOKUP($A267+8860000,'Growth Data'!$A:$Z,8,0))","v":0},0,null,0,{"$f":"IF(ISERROR(VLOOKUP($A267+8860000,'Growth Data'!$A:$Z,9,0)),0,VLOOKUP($A267+8860000,'Growth Data'!$A:$Z,9,0))","v":0},0,null,"YES",{"$f":"IF(ISERROR(VLOOKUP($A267+8860000,'Growth Data'!$A:$Z,5,0)),\"NO\",VLOOKUP($A267+8860000,'Growth Data'!$A:$Z,5,0))","v":"NO"},1,null,21,{"$f":"IF(ISERROR(VLOOKUP($A267+8860000,'Growth Data'!$A:$Z,10,0)),0,VLOOKUP($A267+8860000,'Growth Data'!$A:$Z,10,0))","v":0},1,null,26,{"$f":"IF(ISERROR(VLOOKUP($A267+8860000,'Growth Data'!$A:$Z,11,0)),0,VLOOKUP($A267+8860000,'Growth Data'!$A:$Z,11,0))","v":0},1]
[3043,"Sundridge & Brasted CEP School",null,"Sundridge & Brasted CEP School",null,1,null,258321.15,258321.14907473585,9.2526414664462209E-4,null,13537.47,13537.469600000004,3.9999999535211828E-4,null,3205.2,3205.2025986842091,-2.5986842092606821E-3,null,14262.18,14262.18242647061,-2.4264706098620081E-3,null,120084,120083.99999999999,0,null,0,0,0,null,14902.52,14902.524134676016,-4.1346760153828654E-3,null,0,0,0,null,7111,7111,0,null,0,0,0,null,0,0,0,null,0,0,0,null,431423.53,431423.52783456672,2.1654333104379475E-3,null,0,0,0,null,431423.53,431423.52783456672,2.1654333104379475E-3,null,0,null,0,null,3295.14,null,3295.14,null,0,null,0,null,32994.97,32994.972316493695,0,null,2700.5,null,2701,null,4662.78,4662.7750311490863,0,null,0,null,0,null,0,null,0,null,0,null,0,null,0,null,0,null,0,null,0,null,"NO",{"$f":"IF(ISERROR(VLOOKUP($A268+8860000,'Growth Data'!$A:$F,3,0)),\"NO\",VLOOKUP($A268+8860000,'Growth Data'!$A:$F,3,0))","v":"NO"},0,null,0,{"$f":"IF(DI268=\"YES\",IF(ISERROR(VLOOKUP($A268+8860000,'Growth Data'!$A:$F,6,0)),0,VLOOKUP($A268+8860000,'Growth Data'!$A:$F,6,0)),0)","v":0},0,null,0,{"$f":"IF(ISERROR(VLOOKUP($A268+8860000,'Growth Data'!$A:$Z,7,0)),0,VLOOKUP($A268+8860000,'Growth Data'!$A:$Z,7,0))","v":0},0,null,"NO",{"$f":"IF(ISERROR(VLOOKUP($A268+8860000,'Growth Data'!$A:$F,4,0)),\"NO\",VLOOKUP($A268+8860000,'Growth Data'!$A:$F,4,0))","v":"NO"},0,null,0,{"$f":"IF(ISERROR(VLOOKUP($A268+8860000,'Growth Data'!$A:$Z,8,0)),0,VLOOKUP($A268+8860000,'Growth Data'!$A:$Z,8,0))","v":0},0,null,0,{"$f":"IF(ISERROR(VLOOKUP($A268+8860000,'Growth Data'!$A:$Z,9,0)),0,VLOOKUP($A268+8860000,'Growth Data'!$A:$Z,9,0))","v":0},0,null,"NO",{"$f":"IF(ISERROR(VLOOKUP($A268+8860000,'Growth Data'!$A:$Z,5,0)),\"NO\",VLOOKUP($A268+8860000,'Growth Data'!$A:$Z,5,0))","v":"NO"},0,null,0,{"$f":"IF(ISERROR(VLOOKUP($A268+8860000,'Growth Data'!$A:$Z,10,0)),0,VLOOKUP($A268+8860000,'Growth Data'!$A:$Z,10,0))","v":0},0,null,0,{"$f":"IF(ISERROR(VLOOKUP($A268+8860000,'Growth Data'!$A:$Z,11,0)),0,VLOOKUP($A268+8860000,'Growth Data'!$A:$Z,11,0))","v":0},0]
[2156,"Sussex Road Community Primary School",null,"Sussex Road Community Primary School",null,1,null,1254702.72,1254702.7240772883,-4.0772883221507072E-3,null,40918.800000000003,40918.802497757846,-2.4977578432299197E-3,null,19053.77,19053.769867532465,1.3246753587736748E-4,null,77881.84,77881.83915199984,8.4800015611108392E-4,null,120084,120083.99999999999,0,null,0,0,0,null,0,0,0,null,0,0,0,null,44544,44544,0,null,0,0,0,null,0,0,0,null,144858.85999999999,144858.86440542131,-4.4054213212803006E-3,null,1702044,1702043.9999999998,0,null,0,0,0,null,1702044,1702043.9999999998,0,null,0,null,0,null,3750,null,3750,null,0,null,0,null,126076.87,126076.87382429829,0,null,0,null,0,null,3750,3750,0,null,0,null,0,null,0,null,0,null,0,null,0,null,0,null,0,null,0,null,0,null,"NO",{"$f":"IF(ISERROR(VLOOKUP($A269+8860000,'Growth Data'!$A:$F,3,0)),\"NO\",VLOOKUP($A269+8860000,'Growth Data'!$A:$F,3,0))","v":"NO"},0,null,0,{"$f":"IF(DI269=\"YES\",IF(ISERROR(VLOOKUP($A269+8860000,'Growth Data'!$A:$F,6,0)),0,VLOOKUP($A269+8860000,'Growth Data'!$A:$F,6,0)),0)","v":0},0,null,0,{"$f":"IF(ISERROR(VLOOKUP($A269+8860000,'Growth Data'!$A:$Z,7,0)),0,VLOOKUP($A269+8860000,'Growth Data'!$A:$Z,7,0))","v":0},0,null,"NO",{"$f":"IF(ISERROR(VLOOKUP($A269+8860000,'Growth Data'!$A:$F,4,0)),\"NO\",VLOOKUP($A269+8860000,'Growth Data'!$A:$F,4,0))","v":"NO"},0,null,0,{"$f":"IF(ISERROR(VLOOKUP($A269+8860000,'Growth Data'!$A:$Z,8,0)),0,VLOOKUP($A269+8860000,'Growth Data'!$A:$Z,8,0))","v":0},0,null,0,{"$f":"IF(ISERROR(VLOOKUP($A269+8860000,'Growth Data'!$A:$Z,9,0)),0,VLOOKUP($A269+8860000,'Growth Data'!$A:$Z,9,0))","v":0},0,null,"NO",{"$f":"IF(ISERROR(VLOOKUP($A269+8860000,'Growth Data'!$A:$Z,5,0)),\"NO\",VLOOKUP($A269+8860000,'Growth Data'!$A:$Z,5,0))","v":"NO"},0,null,0,{"$f":"IF(ISERROR(VLOOKUP($A269+8860000,'Growth Data'!$A:$Z,10,0)),0,VLOOKUP($A269+8860000,'Growth Data'!$A:$Z,10,0))","v":0},0,null,0,{"$f":"IF(ISERROR(VLOOKUP($A269+8860000,'Growth Data'!$A:$Z,11,0)),0,VLOOKUP($A269+8860000,'Growth Data'!$A:$Z,11,0))","v":0},0]
[2193,"Sutton Valence Primary School",null,"Sutton Valence Primary School",null,1,null,573416.18000000005,573416.17706699611,2.9330039396882057E-3,null,26888.6,26888.599429319394,5.7068060414167121E-4,null,3750.72,3750.716150289019,3.8497109808304231E-3,null,39265.01,39265.013452830142,-3.452830140304286E-3,null,120084,120083.99999999999,0,null,0,0,0,null,0,0,0,null,0,0,0,null,19835,19835,0,null,0,0,0,null,0,0,0,null,0,0,0,null,783239.51,783239.50609943469,3.9005653234198689E-3,null,0,0,0,null,783239.51,783239.50609943469,3.9005653234198689E-3,null,0,null,0,null,3184.76,null,3184.76,null,0,null,0,null,65782.149999999994,65782.146339446699,0,null,0,null,0,null,3779.23,3779.2302282150249,0,null,0,null,0,null,0,null,0,null,0,null,0,null,0,null,0,null,0,null,0,null,"NO",{"$f":"IF(ISERROR(VLOOKUP($A270+8860000,'Growth Data'!$A:$F,3,0)),\"NO\",VLOOKUP($A270+8860000,'Growth Data'!$A:$F,3,0))","v":"NO"},0,null,0,{"$f":"IF(DI270=\"YES\",IF(ISERROR(VLOOKUP($A270+8860000,'Growth Data'!$A:$F,6,0)),0,VLOOKUP($A270+8860000,'Growth Data'!$A:$F,6,0)),0)","v":0},0,null,0,{"$f":"IF(ISERROR(VLOOKUP($A270+8860000,'Growth Data'!$A:$Z,7,0)),0,VLOOKUP($A270+8860000,'Growth Data'!$A:$Z,7,0))","v":0},0,null,"NO",{"$f":"IF(ISERROR(VLOOKUP($A270+8860000,'Growth Data'!$A:$F,4,0)),\"NO\",VLOOKUP($A270+8860000,'Growth Data'!$A:$F,4,0))","v":"NO"},0,null,0,{"$f":"IF(ISERROR(VLOOKUP($A270+8860000,'Growth Data'!$A:$Z,8,0)),0,VLOOKUP($A270+8860000,'Growth Data'!$A:$Z,8,0))","v":0},0,null,0,{"$f":"IF(ISERROR(VLOOKUP($A270+8860000,'Growth Data'!$A:$Z,9,0)),0,VLOOKUP($A270+8860000,'Growth Data'!$A:$Z,9,0))","v":0},0,null,"NO",{"$f":"IF(ISERROR(VLOOKUP($A270+8860000,'Growth Data'!$A:$Z,5,0)),\"NO\",VLOOKUP($A270+8860000,'Growth Data'!$A:$Z,5,0))","v":"NO"},0,null,0,{"$f":"IF(ISERROR(VLOOKUP($A270+8860000,'Growth Data'!$A:$Z,10,0)),0,VLOOKUP($A270+8860000,'Growth Data'!$A:$Z,10,0))","v":0},0,null,0,{"$f":"IF(ISERROR(VLOOKUP($A270+8860000,'Growth Data'!$A:$Z,11,0)),0,VLOOKUP($A270+8860000,'Growth Data'!$A:$Z,11,0))","v":0},0]
[2643,"Swalecliffe Community Primary School",null,"Swalecliffe Community Primary School",null,1,null,1748635.47,1748635.4706597503,-6.597503088414669E-4,null,82799.16,82799.158484345055,1.5156549488892779E-3,null,4894.8500000000004,4894.8525714285815,-2.5714285811773152E-3,null,146573,146572.99837148213,1.628517871722579E-3,null,120084,120083.99999999999,0,null,0,0,0,null,0,0,0,null,0,0,0,null,59904,59904,0,null,0,0,0,null,0,0,0,null,207013.52,207013.519912994,8.7005988461896777E-5,null,2369904,2369904,0,null,0,0,0,null,2369904,2369904,0,null,0,null,0,null,3750,null,3750,null,0,null,0,null,209430.34,209430.33673426392,0,null,0,null,0,null,3750,3750,0,null,0,null,0,null,0,null,0,null,0,null,0,null,0,null,0,null,0,null,0,null,"NO",{"$f":"IF(ISERROR(VLOOKUP($A271+8860000,'Growth Data'!$A:$F,3,0)),\"NO\",VLOOKUP($A271+8860000,'Growth Data'!$A:$F,3,0))","v":"NO"},0,null,0,{"$f":"IF(DI271=\"YES\",IF(ISERROR(VLOOKUP($A271+8860000,'Growth Data'!$A:$F,6,0)),0,VLOOKUP($A271+8860000,'Growth Data'!$A:$F,6,0)),0)","v":0},0,null,0,{"$f":"IF(ISERROR(VLOOKUP($A271+8860000,'Growth Data'!$A:$Z,7,0)),0,VLOOKUP($A271+8860000,'Growth Data'!$A:$Z,7,0))","v":0},0,null,"NO",{"$f":"IF(ISERROR(VLOOKUP($A271+8860000,'Growth Data'!$A:$F,4,0)),\"NO\",VLOOKUP($A271+8860000,'Growth Data'!$A:$F,4,0))","v":"NO"},0,null,0,{"$f":"IF(ISERROR(VLOOKUP($A271+8860000,'Growth Data'!$A:$Z,8,0)),0,VLOOKUP($A271+8860000,'Growth Data'!$A:$Z,8,0))","v":0},0,null,0,{"$f":"IF(ISERROR(VLOOKUP($A271+8860000,'Growth Data'!$A:$Z,9,0)),0,VLOOKUP($A271+8860000,'Growth Data'!$A:$Z,9,0))","v":0},0,null,"NO",{"$f":"IF(ISERROR(VLOOKUP($A271+8860000,'Growth Data'!$A:$Z,5,0)),\"NO\",VLOOKUP($A271+8860000,'Growth Data'!$A:$Z,5,0))","v":"NO"},0,null,0,{"$f":"IF(ISERROR(VLOOKUP($A271+8860000,'Growth Data'!$A:$Z,10,0)),0,VLOOKUP($A271+8860000,'Growth Data'!$A:$Z,10,0))","v":0},0,null,0,{"$f":"IF(ISERROR(VLOOKUP($A271+8860000,'Growth Data'!$A:$Z,11,0)),0,VLOOKUP($A271+8860000,'Growth Data'!$A:$Z,11,0))","v":0},0]
[3117,"Teynham Parochial CEP School",null,"Teynham Parochial CEP School",null,1,null,576254.87,576254.87101287232,-1.0128723224624991E-3,null,65587.509999999995,65587.513759615365,-3.759615370654501E-3,null,6910.35,6910.3540953757192,-4.0953757188617601E-3,null,71688.73,71688.726887573925,3.1124260713113472E-3,null,120084,120083.99999999999,0,null,0,0,0,null,0,0,0,null,0,0,0,null,23827,23827,0,null,0,0,0,null,0,0,0,null,0,0,0,null,864352.47,864352.46575543738,4.2445625877007842E-3,null,0,0,0,null,864352.47,864352.46575543738,4.2445625877007842E-3,null,0,null,0,null,3548.97,null,3548.97,null,0,null,0,null,135561.26,135561.26204957312,0,null,0,null,0,null,4140.5200000000004,4140.519535741073,0,null,0,null,0,null,0,null,0,null,0,null,0,null,0,null,0,null,0,null,0,null,"NO",{"$f":"IF(ISERROR(VLOOKUP($A272+8860000,'Growth Data'!$A:$F,3,0)),\"NO\",VLOOKUP($A272+8860000,'Growth Data'!$A:$F,3,0))","v":"NO"},0,null,0,{"$f":"IF(DI272=\"YES\",IF(ISERROR(VLOOKUP($A272+8860000,'Growth Data'!$A:$F,6,0)),0,VLOOKUP($A272+8860000,'Growth Data'!$A:$F,6,0)),0)","v":0},0,null,0,{"$f":"IF(ISERROR(VLOOKUP($A272+8860000,'Growth Data'!$A:$Z,7,0)),0,VLOOKUP($A272+8860000,'Growth Data'!$A:$Z,7,0))","v":0},0,null,"NO",{"$f":"IF(ISERROR(VLOOKUP($A272+8860000,'Growth Data'!$A:$F,4,0)),\"NO\",VLOOKUP($A272+8860000,'Growth Data'!$A:$F,4,0))","v":"NO"},0,null,0,{"$f":"IF(ISERROR(VLOOKUP($A272+8860000,'Growth Data'!$A:$Z,8,0)),0,VLOOKUP($A272+8860000,'Growth Data'!$A:$Z,8,0))","v":0},0,null,0,{"$f":"IF(ISERROR(VLOOKUP($A272+8860000,'Growth Data'!$A:$Z,9,0)),0,VLOOKUP($A272+8860000,'Growth Data'!$A:$Z,9,0))","v":0},0,null,"NO",{"$f":"IF(ISERROR(VLOOKUP($A272+8860000,'Growth Data'!$A:$Z,5,0)),\"NO\",VLOOKUP($A272+8860000,'Growth Data'!$A:$Z,5,0))","v":"NO"},0,null,0,{"$f":"IF(ISERROR(VLOOKUP($A272+8860000,'Growth Data'!$A:$Z,10,0)),0,VLOOKUP($A272+8860000,'Growth Data'!$A:$Z,10,0))","v":0},0,null,0,{"$f":"IF(ISERROR(VLOOKUP($A272+8860000,'Growth Data'!$A:$Z,11,0)),0,VLOOKUP($A272+8860000,'Growth Data'!$A:$Z,11,0))","v":0},0]
[5407,"Thamesview School",null,"Thamesview School",null,1,null,3554841.68,3554841.6814706959,-1.4706957153975964E-3,null,510780.8,510780.80294805166,-2.9480516677722335E-3,null,33182.31,33182.314087367195,-4.0873671969166026E-3,null,437080.23,437080.22970317065,2.96829326543957E-4,null,114480.08,114480.07999999999,0,null,0,0,0,null,0,0,0,null,0,0,0,null,37376,37376,0,null,962634.87,962634.87280851952,-2.8085195226594806E-3,null,0,0,0,null,0,0,0,null,5650375.9800000004,5650375.9810178047,-1.0178042575716972E-3,null,0,0,0,null,5650375.9800000004,5650375.9810178047,-1.0178042575716972E-3,null,69864.460000000006,null,69864.460000000006,null,5348.92,null,5348.92,null,0,null,0,null,892247.16,892247.16489790985,0,null,0,null,0,null,5483.92,5483.9211181713254,0,null,0,null,0,null,0,null,0,null,0,null,0,null,0,null,0,null,0,null,0,null,"NO",{"$f":"IF(ISERROR(VLOOKUP($A273+8860000,'Growth Data'!$A:$F,3,0)),\"NO\",VLOOKUP($A273+8860000,'Growth Data'!$A:$F,3,0))","v":"YES"},1,null,0,{"$f":"IF(DI273=\"YES\",IF(ISERROR(VLOOKUP($A273+8860000,'Growth Data'!$A:$F,6,0)),0,VLOOKUP($A273+8860000,'Growth Data'!$A:$F,6,0)),0)","v":150},-150,null,0,{"$f":"IF(ISERROR(VLOOKUP($A273+8860000,'Growth Data'!$A:$Z,7,0)),0,VLOOKUP($A273+8860000,'Growth Data'!$A:$Z,7,0))","v":180},1,null,"NO",{"$f":"IF(ISERROR(VLOOKUP($A273+8860000,'Growth Data'!$A:$F,4,0)),\"NO\",VLOOKUP($A273+8860000,'Growth Data'!$A:$F,4,0))","v":"NO"},0,null,0,{"$f":"IF(ISERROR(VLOOKUP($A273+8860000,'Growth Data'!$A:$Z,8,0)),0,VLOOKUP($A273+8860000,'Growth Data'!$A:$Z,8,0))","v":0},0,null,0,{"$f":"IF(ISERROR(VLOOKUP($A273+8860000,'Growth Data'!$A:$Z,9,0)),0,VLOOKUP($A273+8860000,'Growth Data'!$A:$Z,9,0))","v":0},0,null,"NO",{"$f":"IF(ISERROR(VLOOKUP($A273+8860000,'Growth Data'!$A:$Z,5,0)),\"NO\",VLOOKUP($A273+8860000,'Growth Data'!$A:$Z,5,0))","v":"NO"},0,null,0,{"$f":"IF(ISERROR(VLOOKUP($A273+8860000,'Growth Data'!$A:$Z,10,0)),0,VLOOKUP($A273+8860000,'Growth Data'!$A:$Z,10,0))","v":0},0,null,0,{"$f":"IF(ISERROR(VLOOKUP($A273+8860000,'Growth Data'!$A:$Z,11,0)),0,VLOOKUP($A273+8860000,'Growth Data'!$A:$Z,11,0))","v":0},0]
[3081,"Thurnham CEI School",null,"Thurnham CEI School",null,1,null,766447.37,766447.36538657884,4.6134211588650942E-3,null,4779.34,4779.3431999999948,-3.1999999946492608E-3,null,5621.43,5621.4322500000017,-2.25000000136788E-3,null,54353.02,54353.020500000028,-5.0000003102468327E-4,null,120084,120083.99999999999,0,null,0,0,0,null,0,0,0,null,0,0,0,null,26368,26368,0,null,0,0,0,null,0,0,0,null,61214.84,61214.838663421222,1.3365787744987756E-3,null,1038868,1038868,0,null,0,0,0,null,1038868,1038868,0,null,0,null,0,null,3750,null,3750,null,0,null,0,null,69187.600000000006,69187.598257008169,0,null,0,null,0,null,3750,3750,0,null,0,null,0,null,0,null,0,null,0,null,0,null,0,null,0,null,0,null,0,null,"NO",{"$f":"IF(ISERROR(VLOOKUP($A274+8860000,'Growth Data'!$A:$F,3,0)),\"NO\",VLOOKUP($A274+8860000,'Growth Data'!$A:$F,3,0))","v":"NO"},0,null,0,{"$f":"IF(DI274=\"YES\",IF(ISERROR(VLOOKUP($A274+8860000,'Growth Data'!$A:$F,6,0)),0,VLOOKUP($A274+8860000,'Growth Data'!$A:$F,6,0)),0)","v":0},0,null,0,{"$f":"IF(ISERROR(VLOOKUP($A274+8860000,'Growth Data'!$A:$Z,7,0)),0,VLOOKUP($A274+8860000,'Growth Data'!$A:$Z,7,0))","v":0},0,null,"NO",{"$f":"IF(ISERROR(VLOOKUP($A274+8860000,'Growth Data'!$A:$F,4,0)),\"NO\",VLOOKUP($A274+8860000,'Growth Data'!$A:$F,4,0))","v":"NO"},0,null,0,{"$f":"IF(ISERROR(VLOOKUP($A274+8860000,'Growth Data'!$A:$Z,8,0)),0,VLOOKUP($A274+8860000,'Growth Data'!$A:$Z,8,0))","v":0},0,null,0,{"$f":"IF(ISERROR(VLOOKUP($A274+8860000,'Growth Data'!$A:$Z,9,0)),0,VLOOKUP($A274+8860000,'Growth Data'!$A:$Z,9,0))","v":0},0,null,"NO",{"$f":"IF(ISERROR(VLOOKUP($A274+8860000,'Growth Data'!$A:$Z,5,0)),\"NO\",VLOOKUP($A274+8860000,'Growth Data'!$A:$Z,5,0))","v":"NO"},0,null,0,{"$f":"IF(ISERROR(VLOOKUP($A274+8860000,'Growth Data'!$A:$Z,10,0)),0,VLOOKUP($A274+8860000,'Growth Data'!$A:$Z,10,0))","v":0},0,null,0,{"$f":"IF(ISERROR(VLOOKUP($A274+8860000,'Growth Data'!$A:$Z,11,0)),0,VLOOKUP($A274+8860000,'Growth Data'!$A:$Z,11,0))","v":0},0]
[3082,"Trottiscliffe CEP School",null,"Trottiscliffe CEP School",null,1,null,246966.37,246966.37329123096,-3.2912309688981622E-3,null,6233.84,6233.8416493670893,-1.6493670891577494E-3,null,0,0,0,null,17541.59,17541.594851351332,-4.851351332035847E-3,null,120084,120083.99999999999,0,null,0,0,0,null,0,0,0,null,0,0,0,null,6362,6362,0,null,0,0,0,null,0,0,0,null,0,0,0,null,397187.81,397187.8097919494,2.0805059466511011E-4,null,0,0,0,null,397187.81,397187.8097919494,2.0805059466511011E-4,null,0,null,0,null,3111.97,null,3111.97,null,0,null,0,null,28209.24,28209.238807726568,0,null,3179.08,null,3179,null,4492.25,4492.2506872637887,0,null,0,null,0,null,0,null,0,null,0,null,0,null,0,null,0,null,0,null,0,null,"NO",{"$f":"IF(ISERROR(VLOOKUP($A275+8860000,'Growth Data'!$A:$F,3,0)),\"NO\",VLOOKUP($A275+8860000,'Growth Data'!$A:$F,3,0))","v":"NO"},0,null,0,{"$f":"IF(DI275=\"YES\",IF(ISERROR(VLOOKUP($A275+8860000,'Growth Data'!$A:$F,6,0)),0,VLOOKUP($A275+8860000,'Growth Data'!$A:$F,6,0)),0)","v":0},0,null,0,{"$f":"IF(ISERROR(VLOOKUP($A275+8860000,'Growth Data'!$A:$Z,7,0)),0,VLOOKUP($A275+8860000,'Growth Data'!$A:$Z,7,0))","v":0},0,null,"NO",{"$f":"IF(ISERROR(VLOOKUP($A275+8860000,'Growth Data'!$A:$F,4,0)),\"NO\",VLOOKUP($A275+8860000,'Growth Data'!$A:$F,4,0))","v":"NO"},0,null,0,{"$f":"IF(ISERROR(VLOOKUP($A275+8860000,'Growth Data'!$A:$Z,8,0)),0,VLOOKUP($A275+8860000,'Growth Data'!$A:$Z,8,0))","v":0},0,null,0,{"$f":"IF(ISERROR(VLOOKUP($A275+8860000,'Growth Data'!$A:$Z,9,0)),0,VLOOKUP($A275+8860000,'Growth Data'!$A:$Z,9,0))","v":0},0,null,"NO",{"$f":"IF(ISERROR(VLOOKUP($A275+8860000,'Growth Data'!$A:$Z,5,0)),\"NO\",VLOOKUP($A275+8860000,'Growth Data'!$A:$Z,5,0))","v":"NO"},0,null,0,{"$f":"IF(ISERROR(VLOOKUP($A275+8860000,'Growth Data'!$A:$Z,10,0)),0,VLOOKUP($A275+8860000,'Growth Data'!$A:$Z,10,0))","v":0},0,null,0,{"$f":"IF(ISERROR(VLOOKUP($A275+8860000,'Growth Data'!$A:$Z,11,0)),0,VLOOKUP($A275+8860000,'Growth Data'!$A:$Z,11,0))","v":0},0]
[4043,"Tunbridge Wells Girls' Grammar School",null,"Tunbridge Wells Girls' Grammar School",null,1,null,3030021.12,3030021.122954228,-2.9542278498411179E-3,null,39732.480000000003,39732.480590072388,-5.9007238451158628E-4,null,4323.0200000000004,4323.0240000000022,-4.000000001724402E-3,null,5879.59,5879.5893738148679,6.2618513220513705E-4,null,114480.08,114480.07999999999,0,null,0,0,0,null,0,0,0,null,0,0,0,null,42496,42496,0,null,0,0,0,null,0,0,0,null,410563.7,410563.70308188442,-3.0818844097666442E-3,null,3647496,3647496,0,null,0,0,0,null,3647496,3647496,0,null,0,null,0,null,5000,null,5000,null,0,null,0,null,48950.34,48950.33712320734,0,null,1104.97,null,1105,null,5000,5000,0,null,32500,null,32500,null,974.2,null,974,null,974.2,null,974,null,974.2,null,974,null,974.2,null,974,null,"NO",{"$f":"IF(ISERROR(VLOOKUP($A276+8860000,'Growth Data'!$A:$F,3,0)),\"NO\",VLOOKUP($A276+8860000,'Growth Data'!$A:$F,3,0))","v":"NO"},0,null,0,{"$f":"IF(DI276=\"YES\",IF(ISERROR(VLOOKUP($A276+8860000,'Growth Data'!$A:$F,6,0)),0,VLOOKUP($A276+8860000,'Growth Data'!$A:$F,6,0)),0)","v":0},0,null,0,{"$f":"IF(ISERROR(VLOOKUP($A276+8860000,'Growth Data'!$A:$Z,7,0)),0,VLOOKUP($A276+8860000,'Growth Data'!$A:$Z,7,0))","v":0},0,null,"NO",{"$f":"IF(ISERROR(VLOOKUP($A276+8860000,'Growth Data'!$A:$F,4,0)),\"NO\",VLOOKUP($A276+8860000,'Growth Data'!$A:$F,4,0))","v":"NO"},0,null,0,{"$f":"IF(ISERROR(VLOOKUP($A276+8860000,'Growth Data'!$A:$Z,8,0)),0,VLOOKUP($A276+8860000,'Growth Data'!$A:$Z,8,0))","v":0},0,null,0,{"$f":"IF(ISERROR(VLOOKUP($A276+8860000,'Growth Data'!$A:$Z,9,0)),0,VLOOKUP($A276+8860000,'Growth Data'!$A:$Z,9,0))","v":0},0,null,"NO",{"$f":"IF(ISERROR(VLOOKUP($A276+8860000,'Growth Data'!$A:$Z,5,0)),\"NO\",VLOOKUP($A276+8860000,'Growth Data'!$A:$Z,5,0))","v":"NO"},0,null,0,{"$f":"IF(ISERROR(VLOOKUP($A276+8860000,'Growth Data'!$A:$Z,10,0)),0,VLOOKUP($A276+8860000,'Growth Data'!$A:$Z,10,0))","v":0},0,null,0,{"$f":"IF(ISERROR(VLOOKUP($A276+8860000,'Growth Data'!$A:$Z,11,0)),0,VLOOKUP($A276+8860000,'Growth Data'!$A:$Z,11,0))","v":0},0]
[4045,"Tunbridge Wells Grammar School for Boys",null,"Tunbridge Wells Grammar School for Boys",null,1,null,4350704.3499999996,4350704.3546163458,-4.6163462102413177E-3,null,90513.22,90513.224107273854,-4.1072738531511277E-3,null,10087.06,10087.056000000006,3.9999999935389496E-3,null,27153.45,27153.452217422659,-2.2174226578499656E-3,null,114480.08,114480.07999999999,0,null,0,0,0,null,0,0,0,null,0,0,0,null,166400,166400,0,null,0,0,0,null,140582.88,140582.88,0,null,612061.82999999996,612061.83305895794,-3.0589579837396741E-3,null,5511982.8799999999,5511982.8799999999,0,null,0,0,0,null,5511982.8799999999,5511982.8799999999,0,null,69864.460000000006,null,69864.460000000006,null,5135.05,null,5135.05,null,0,null,0,null,119563.94,119563.93548401659,0,null,0,null,0,null,5000,5000,0,null,0,null,0,null,0,null,0,null,0,null,0,null,0,null,0,null,0,null,0,null,"NO",{"$f":"IF(ISERROR(VLOOKUP($A277+8860000,'Growth Data'!$A:$F,3,0)),\"NO\",VLOOKUP($A277+8860000,'Growth Data'!$A:$F,3,0))","v":"YES"},1,null,0,{"$f":"IF(DI277=\"YES\",IF(ISERROR(VLOOKUP($A277+8860000,'Growth Data'!$A:$F,6,0)),0,VLOOKUP($A277+8860000,'Growth Data'!$A:$F,6,0)),0)","v":180},-180,null,0,{"$f":"IF(ISERROR(VLOOKUP($A277+8860000,'Growth Data'!$A:$Z,7,0)),0,VLOOKUP($A277+8860000,'Growth Data'!$A:$Z,7,0))","v":210},1,null,"NO",{"$f":"IF(ISERROR(VLOOKUP($A277+8860000,'Growth Data'!$A:$F,4,0)),\"NO\",VLOOKUP($A277+8860000,'Growth Data'!$A:$F,4,0))","v":"YES"},1,null,0,{"$f":"IF(ISERROR(VLOOKUP($A277+8860000,'Growth Data'!$A:$Z,8,0)),0,VLOOKUP($A277+8860000,'Growth Data'!$A:$Z,8,0))","v":196},1,null,0,{"$f":"IF(ISERROR(VLOOKUP($A277+8860000,'Growth Data'!$A:$Z,9,0)),0,VLOOKUP($A277+8860000,'Growth Data'!$A:$Z,9,0))","v":210},1,null,"NO",{"$f":"IF(ISERROR(VLOOKUP($A277+8860000,'Growth Data'!$A:$Z,5,0)),\"NO\",VLOOKUP($A277+8860000,'Growth Data'!$A:$Z,5,0))","v":"NO"},0,null,0,{"$f":"IF(ISERROR(VLOOKUP($A277+8860000,'Growth Data'!$A:$Z,10,0)),0,VLOOKUP($A277+8860000,'Growth Data'!$A:$Z,10,0))","v":0},0,null,0,{"$f":"IF(ISERROR(VLOOKUP($A277+8860000,'Growth Data'!$A:$Z,11,0)),0,VLOOKUP($A277+8860000,'Growth Data'!$A:$Z,11,0))","v":0},0]
[2530,"Tunbury Primary School",null,"Tunbury Primary School",null,1,null,1706055.06,1706055.0614716071,-1.4716070145368576E-3,null,37886.76,37886.756281087153,3.7189128488535061E-3,null,3111.8,3111.799559961315,4.400386851557414E-4,null,111557.07,111557.06663307261,3.3669273980194703E-3,null,120084,120083.99999999999,0,null,0,0,0,null,0,0,0,null,0,0,0,null,46336,46336,0,null,0,0,0,null,0,0,0,null,275055.32,275055.31605427177,3.9457282400690019E-3,null,2300086,2300086,0,null,0,0,0,null,2300086,2300086,0,null,0,null,0,null,3750,null,3750,null,0,null,0,null,154287.53,154287.53478112922,0,null,0,null,0,null,3750,3750,0,null,0,null,0,null,0,null,0,null,0,null,0,null,0,null,0,null,0,null,0,null,"NO",{"$f":"IF(ISERROR(VLOOKUP($A278+8860000,'Growth Data'!$A:$F,3,0)),\"NO\",VLOOKUP($A278+8860000,'Growth Data'!$A:$F,3,0))","v":"NO"},0,null,0,{"$f":"IF(DI278=\"YES\",IF(ISERROR(VLOOKUP($A278+8860000,'Growth Data'!$A:$F,6,0)),0,VLOOKUP($A278+8860000,'Growth Data'!$A:$F,6,0)),0)","v":0},0,null,0,{"$f":"IF(ISERROR(VLOOKUP($A278+8860000,'Growth Data'!$A:$Z,7,0)),0,VLOOKUP($A278+8860000,'Growth Data'!$A:$Z,7,0))","v":0},0,null,"NO",{"$f":"IF(ISERROR(VLOOKUP($A278+8860000,'Growth Data'!$A:$F,4,0)),\"NO\",VLOOKUP($A278+8860000,'Growth Data'!$A:$F,4,0))","v":"NO"},0,null,0,{"$f":"IF(ISERROR(VLOOKUP($A278+8860000,'Growth Data'!$A:$Z,8,0)),0,VLOOKUP($A278+8860000,'Growth Data'!$A:$Z,8,0))","v":0},0,null,0,{"$f":"IF(ISERROR(VLOOKUP($A278+8860000,'Growth Data'!$A:$Z,9,0)),0,VLOOKUP($A278+8860000,'Growth Data'!$A:$Z,9,0))","v":0},0,null,"NO",{"$f":"IF(ISERROR(VLOOKUP($A278+8860000,'Growth Data'!$A:$Z,5,0)),\"NO\",VLOOKUP($A278+8860000,'Growth Data'!$A:$Z,5,0))","v":"NO"},0,null,0,{"$f":"IF(ISERROR(VLOOKUP($A278+8860000,'Growth Data'!$A:$Z,10,0)),0,VLOOKUP($A278+8860000,'Growth Data'!$A:$Z,10,0))","v":0},0,null,0,{"$f":"IF(ISERROR(VLOOKUP($A278+8860000,'Growth Data'!$A:$Z,11,0)),0,VLOOKUP($A278+8860000,'Growth Data'!$A:$Z,11,0))","v":0},0]
[3337,"Tunstall CEP School",null,"Tunstall CEP School",null,1,null,1007736.35,1007736.3507860574,-7.8605744056403637E-4,null,22416.73,22416.729366261388,6.3373861121363007E-4,null,3199.63,3199.6287457912395,1.2542087606561836E-3,null,65006.81,65006.813144329746,-3.1443297484656796E-3,null,120084,120083.99999999999,0,null,0,0,0,null,0,0,0,null,0,0,0,null,10547,10547,0,null,0,0,0,null,0,0,0,null,112806.48,112806.47795756022,2.0424397807801142E-3,null,1341797,1341797,0,null,0,0,0,null,1341797,1341797,0,null,0,null,0,null,3750,null,3750,null,0,null,0,null,93706.03,93706.02856339053,0,null,0,null,0,null,3750,3750,0,null,0,null,0,null,0,null,0,null,0,null,0,null,0,null,0,null,0,null,0,null,"NO",{"$f":"IF(ISERROR(VLOOKUP($A279+8860000,'Growth Data'!$A:$F,3,0)),\"NO\",VLOOKUP($A279+8860000,'Growth Data'!$A:$F,3,0))","v":"YES"},1,null,0,{"$f":"IF(DI279=\"YES\",IF(ISERROR(VLOOKUP($A279+8860000,'Growth Data'!$A:$F,6,0)),0,VLOOKUP($A279+8860000,'Growth Data'!$A:$F,6,0)),0)","v":30},-30,null,0,{"$f":"IF(ISERROR(VLOOKUP($A279+8860000,'Growth Data'!$A:$Z,7,0)),0,VLOOKUP($A279+8860000,'Growth Data'!$A:$Z,7,0))","v":60},1,null,"NO",{"$f":"IF(ISERROR(VLOOKUP($A279+8860000,'Growth Data'!$A:$F,4,0)),\"NO\",VLOOKUP($A279+8860000,'Growth Data'!$A:$F,4,0))","v":"YES"},1,null,0,{"$f":"IF(ISERROR(VLOOKUP($A279+8860000,'Growth Data'!$A:$Z,8,0)),0,VLOOKUP($A279+8860000,'Growth Data'!$A:$Z,8,0))","v":30},1,null,0,{"$f":"IF(ISERROR(VLOOKUP($A279+8860000,'Growth Data'!$A:$Z,9,0)),0,VLOOKUP($A279+8860000,'Growth Data'!$A:$Z,9,0))","v":60},1,null,"NO",{"$f":"IF(ISERROR(VLOOKUP($A279+8860000,'Growth Data'!$A:$Z,5,0)),\"NO\",VLOOKUP($A279+8860000,'Growth Data'!$A:$Z,5,0))","v":"NO"},0,null,0,{"$f":"IF(ISERROR(VLOOKUP($A279+8860000,'Growth Data'!$A:$Z,10,0)),0,VLOOKUP($A279+8860000,'Growth Data'!$A:$Z,10,0))","v":0},0,null,0,{"$f":"IF(ISERROR(VLOOKUP($A279+8860000,'Growth Data'!$A:$Z,11,0)),0,VLOOKUP($A279+8860000,'Growth Data'!$A:$Z,11,0))","v":0},0]
[3083,"Ulcombe CEP School",null,"Ulcombe CEP School",null,1,null,210063.35,210063.35199484014,-1.994840131374076E-3,null,19700.689999999999,19700.693882608684,-3.8826086856715847E-3,null,1148.3399999999999,1148.3395072463766,4.9275362334810779E-4,null,32979.980000000003,32979.978927272714,1.0727272892836481E-3,null,120084,120083.99999999999,0,null,0,0,0,null,0,0,0,null,0,0,0,null,7236,7236,0,null,0,0,0,null,0,0,0,null,0,0,0,null,391212.36,391212.36431196792,-4.3119679321534932E-3,null,0,0,0,null,391212.36,391212.36431196792,-4.3119679321534932E-3,null,0,null,0,null,3566.11,null,3566.11,null,0,null,0,null,50157.14,50157.144624135937,0,null,984.29,null,984,null,5188.87,5188.869787999568,0,null,0,null,0,null,0,null,0,null,0,null,0,null,0,null,0,null,0,null,0,null,"NO",{"$f":"IF(ISERROR(VLOOKUP($A280+8860000,'Growth Data'!$A:$F,3,0)),\"NO\",VLOOKUP($A280+8860000,'Growth Data'!$A:$F,3,0))","v":"NO"},0,null,0,{"$f":"IF(DI280=\"YES\",IF(ISERROR(VLOOKUP($A280+8860000,'Growth Data'!$A:$F,6,0)),0,VLOOKUP($A280+8860000,'Growth Data'!$A:$F,6,0)),0)","v":0},0,null,0,{"$f":"IF(ISERROR(VLOOKUP($A280+8860000,'Growth Data'!$A:$Z,7,0)),0,VLOOKUP($A280+8860000,'Growth Data'!$A:$Z,7,0))","v":0},0,null,"NO",{"$f":"IF(ISERROR(VLOOKUP($A280+8860000,'Growth Data'!$A:$F,4,0)),\"NO\",VLOOKUP($A280+8860000,'Growth Data'!$A:$F,4,0))","v":"NO"},0,null,0,{"$f":"IF(ISERROR(VLOOKUP($A280+8860000,'Growth Data'!$A:$Z,8,0)),0,VLOOKUP($A280+8860000,'Growth Data'!$A:$Z,8,0))","v":0},0,null,0,{"$f":"IF(ISERROR(VLOOKUP($A280+8860000,'Growth Data'!$A:$Z,9,0)),0,VLOOKUP($A280+8860000,'Growth Data'!$A:$Z,9,0))","v":0},0,null,"NO",{"$f":"IF(ISERROR(VLOOKUP($A280+8860000,'Growth Data'!$A:$Z,5,0)),\"NO\",VLOOKUP($A280+8860000,'Growth Data'!$A:$Z,5,0))","v":"NO"},0,null,0,{"$f":"IF(ISERROR(VLOOKUP($A280+8860000,'Growth Data'!$A:$Z,10,0)),0,VLOOKUP($A280+8860000,'Growth Data'!$A:$Z,10,0))","v":0},0,null,0,{"$f":"IF(ISERROR(VLOOKUP($A280+8860000,'Growth Data'!$A:$Z,11,0)),0,VLOOKUP($A280+8860000,'Growth Data'!$A:$Z,11,0))","v":0},0]
[2275,"Victoria Road Primary School",null,"Victoria Road Primary School",null,1,null,576254.87,576254.87101287232,-1.0128723224624991E-3,null,65351.55,65351.546618660272,3.3813397312769666E-3,null,11307.85,11307.852156069313,-2.156069313059561E-3,null,47087.14,47087.143826470499,-3.8264704999164678E-3,null,120084,120083.99999999999,0,null,0,0,0,null,0,0,0,null,0,0,0,null,15095,15095,0,null,0,0,0,null,0,0,0,null,0,0,0,null,835180.41,835180.41361407237,-3.6140723386779428E-3,null,0,0,0,null,835180.41,835180.41361407237,-3.6140723386779428E-3,null,0,null,0,null,3448.28,null,3448.28,null,0,null,0,null,112419.32,112419.31990820826,0,null,0,null,0,null,4039.83,4039.8296237146437,0,null,0,null,0,null,0,null,0,null,0,null,0,null,0,null,0,null,0,null,0,null,"NO",{"$f":"IF(ISERROR(VLOOKUP($A281+8860000,'Growth Data'!$A:$F,3,0)),\"NO\",VLOOKUP($A281+8860000,'Growth Data'!$A:$F,3,0))","v":"NO"},0,null,0,{"$f":"IF(DI281=\"YES\",IF(ISERROR(VLOOKUP($A281+8860000,'Growth Data'!$A:$F,6,0)),0,VLOOKUP($A281+8860000,'Growth Data'!$A:$F,6,0)),0)","v":0},0,null,0,{"$f":"IF(ISERROR(VLOOKUP($A281+8860000,'Growth Data'!$A:$Z,7,0)),0,VLOOKUP($A281+8860000,'Growth Data'!$A:$Z,7,0))","v":0},0,null,"NO",{"$f":"IF(ISERROR(VLOOKUP($A281+8860000,'Growth Data'!$A:$F,4,0)),\"NO\",VLOOKUP($A281+8860000,'Growth Data'!$A:$F,4,0))","v":"NO"},0,null,0,{"$f":"IF(ISERROR(VLOOKUP($A281+8860000,'Growth Data'!$A:$Z,8,0)),0,VLOOKUP($A281+8860000,'Growth Data'!$A:$Z,8,0))","v":0},0,null,0,{"$f":"IF(ISERROR(VLOOKUP($A281+8860000,'Growth Data'!$A:$Z,9,0)),0,VLOOKUP($A281+8860000,'Growth Data'!$A:$Z,9,0))","v":0},0,null,"NO",{"$f":"IF(ISERROR(VLOOKUP($A281+8860000,'Growth Data'!$A:$Z,5,0)),\"NO\",VLOOKUP($A281+8860000,'Growth Data'!$A:$Z,5,0))","v":"NO"},0,null,0,{"$f":"IF(ISERROR(VLOOKUP($A281+8860000,'Growth Data'!$A:$Z,10,0)),0,VLOOKUP($A281+8860000,'Growth Data'!$A:$Z,10,0))","v":0},0,null,0,{"$f":"IF(ISERROR(VLOOKUP($A281+8860000,'Growth Data'!$A:$Z,11,0)),0,VLOOKUP($A281+8860000,'Growth Data'!$A:$Z,11,0))","v":0},0]
[2519,"Vigo Village School",null,"Vigo Village School",null,1,null,516642.3,516642.2981494717,1.8505282932892442E-3,null,15537.27,15537.269550267378,4.4973262265557423E-4,null,2466.79,2466.7888354430352,1.164556964795338E-3,null,53373.11,53373.10685234893,3.1476510703214444E-3,null,120084,120083.99999999999,0,null,0,0,0,null,0,0,0,null,0,0,0,null,22081,22081,0,null,0,0,0,null,0,0,0,null,0,0,0,null,730184.46,730184.46338753111,-3.3875311492010951E-3,null,0,0,0,null,730184.46,730184.46338753111,-3.3875311492010951E-3,null,0,null,0,null,3230.88,null,3230.88,null,0,null,0,null,72658.759999999995,72658.762545067497,0,null,0,null,0,null,3890.68,3890.678370261161,0,null,0,null,0,null,0,null,0,null,0,null,0,null,0,null,0,null,0,null,0,null,"NO",{"$f":"IF(ISERROR(VLOOKUP($A282+8860000,'Growth Data'!$A:$F,3,0)),\"NO\",VLOOKUP($A282+8860000,'Growth Data'!$A:$F,3,0))","v":"NO"},0,null,0,{"$f":"IF(DI282=\"YES\",IF(ISERROR(VLOOKUP($A282+8860000,'Growth Data'!$A:$F,6,0)),0,VLOOKUP($A282+8860000,'Growth Data'!$A:$F,6,0)),0)","v":0},0,null,0,{"$f":"IF(ISERROR(VLOOKUP($A282+8860000,'Growth Data'!$A:$Z,7,0)),0,VLOOKUP($A282+8860000,'Growth Data'!$A:$Z,7,0))","v":0},0,null,"YES",{"$f":"IF(ISERROR(VLOOKUP($A282+8860000,'Growth Data'!$A:$F,4,0)),\"NO\",VLOOKUP($A282+8860000,'Growth Data'!$A:$F,4,0))","v":"NO"},1,null,31,{"$f":"IF(ISERROR(VLOOKUP($A282+8860000,'Growth Data'!$A:$Z,8,0)),0,VLOOKUP($A282+8860000,'Growth Data'!$A:$Z,8,0))","v":0},1,null,60,{"$f":"IF(ISERROR(VLOOKUP($A282+8860000,'Growth Data'!$A:$Z,9,0)),0,VLOOKUP($A282+8860000,'Growth Data'!$A:$Z,9,0))","v":0},1,null,"NO",{"$f":"IF(ISERROR(VLOOKUP($A282+8860000,'Growth Data'!$A:$Z,5,0)),\"NO\",VLOOKUP($A282+8860000,'Growth Data'!$A:$Z,5,0))","v":"NO"},0,null,0,{"$f":"IF(ISERROR(VLOOKUP($A282+8860000,'Growth Data'!$A:$Z,10,0)),0,VLOOKUP($A282+8860000,'Growth Data'!$A:$Z,10,0))","v":0},0,null,0,{"$f":"IF(ISERROR(VLOOKUP($A282+8860000,'Growth Data'!$A:$Z,11,0)),0,VLOOKUP($A282+8860000,'Growth Data'!$A:$Z,11,0))","v":0},0]
[3084,"Wateringbury CEP School",null,"Wateringbury CEP School",null,1,null,570577.48,570577.48312111979,-3.1211198074743152E-3,null,22684.959999999999,22684.963942340983,-3.9423409834853373E-3,null,3022.76,3022.7605196629174,-5.1966291721328162E-4,null,52923.67,52923.667711764756,2.2882352423039265E-3,null,120084,120083.99999999999,0,null,0,0,0,null,0,0,0,null,0,0,0,null,4890,4890,0,null,0,0,0,null,0,0,0,null,0,0,0,null,774182.88,774182.87529488839,4.7051116125658154E-3,null,0,0,0,null,774182.88,774182.87529488839,4.7051116125658154E-3,null,0,null,0,null,3229.89,null,3229.89,null,0,null,0,null,74058.89,74058.894480776798,0,null,0,null,0,null,3827.33,3827.3277377855165,0,null,0,null,0,null,0,null,0,null,0,null,0,null,0,null,0,null,0,null,0,null,"NO",{"$f":"IF(ISERROR(VLOOKUP($A283+8860000,'Growth Data'!$A:$F,3,0)),\"NO\",VLOOKUP($A283+8860000,'Growth Data'!$A:$F,3,0))","v":"NO"},0,null,0,{"$f":"IF(DI283=\"YES\",IF(ISERROR(VLOOKUP($A283+8860000,'Growth Data'!$A:$F,6,0)),0,VLOOKUP($A283+8860000,'Growth Data'!$A:$F,6,0)),0)","v":0},0,null,0,{"$f":"IF(ISERROR(VLOOKUP($A283+8860000,'Growth Data'!$A:$Z,7,0)),0,VLOOKUP($A283+8860000,'Growth Data'!$A:$Z,7,0))","v":0},0,null,"NO",{"$f":"IF(ISERROR(VLOOKUP($A283+8860000,'Growth Data'!$A:$F,4,0)),\"NO\",VLOOKUP($A283+8860000,'Growth Data'!$A:$F,4,0))","v":"NO"},0,null,0,{"$f":"IF(ISERROR(VLOOKUP($A283+8860000,'Growth Data'!$A:$Z,8,0)),0,VLOOKUP($A283+8860000,'Growth Data'!$A:$Z,8,0))","v":0},0,null,0,{"$f":"IF(ISERROR(VLOOKUP($A283+8860000,'Growth Data'!$A:$Z,9,0)),0,VLOOKUP($A283+8860000,'Growth Data'!$A:$Z,9,0))","v":0},0,null,"NO",{"$f":"IF(ISERROR(VLOOKUP($A283+8860000,'Growth Data'!$A:$Z,5,0)),\"NO\",VLOOKUP($A283+8860000,'Growth Data'!$A:$Z,5,0))","v":"NO"},0,null,0,{"$f":"IF(ISERROR(VLOOKUP($A283+8860000,'Growth Data'!$A:$Z,10,0)),0,VLOOKUP($A283+8860000,'Growth Data'!$A:$Z,10,0))","v":0},0,null,0,{"$f":"IF(ISERROR(VLOOKUP($A283+8860000,'Growth Data'!$A:$Z,11,0)),0,VLOOKUP($A283+8860000,'Growth Data'!$A:$Z,11,0))","v":0},0]
[2147,"Weald Community Primary School",null,"Weald Community Primary School",null,1,null,420126.7,420126.70398968027,-3.989680262748152E-3,null,11780.24,11780.240399999993,-3.9999999353312887E-4,null,4437.18,4437.1838560000006,-3.8560000002689776E-3,null,43511.82,43511.816275862031,3.7241379686747678E-3,null,120084,120083.99999999999,0,null,625.26,625.26424566087906,-4.2456608790644168E-3,null,21860.57,21860.573599126186,-3.5991261866001878E-3,null,0,0,0,null,15220,15220,0,null,0,0,0,null,0,0,0,null,0,0,0,null,637645.78,637645.78236632934,-2.3663293104618788E-3,null,0,0,0,null,637645.78,637645.78236632934,-2.3663293104618788E-3,null,0,null,0,null,3360.44,null,3360.44,null,0,null,0,null,62298.22,62298.219404205054,0,null,0,null,0,null,4205.58,4205.5796105833078,0,null,0,null,0,null,0,null,0,null,0,null,0,null,0,null,0,null,0,null,0,null,"NO",{"$f":"IF(ISERROR(VLOOKUP($A284+8860000,'Growth Data'!$A:$F,3,0)),\"NO\",VLOOKUP($A284+8860000,'Growth Data'!$A:$F,3,0))","v":"NO"},0,null,0,{"$f":"IF(DI284=\"YES\",IF(ISERROR(VLOOKUP($A284+8860000,'Growth Data'!$A:$F,6,0)),0,VLOOKUP($A284+8860000,'Growth Data'!$A:$F,6,0)),0)","v":0},0,null,0,{"$f":"IF(ISERROR(VLOOKUP($A284+8860000,'Growth Data'!$A:$Z,7,0)),0,VLOOKUP($A284+8860000,'Growth Data'!$A:$Z,7,0))","v":0},0,null,"NO",{"$f":"IF(ISERROR(VLOOKUP($A284+8860000,'Growth Data'!$A:$F,4,0)),\"NO\",VLOOKUP($A284+8860000,'Growth Data'!$A:$F,4,0))","v":"NO"},0,null,0,{"$f":"IF(ISERROR(VLOOKUP($A284+8860000,'Growth Data'!$A:$Z,8,0)),0,VLOOKUP($A284+8860000,'Growth Data'!$A:$Z,8,0))","v":0},0,null,0,{"$f":"IF(ISERROR(VLOOKUP($A284+8860000,'Growth Data'!$A:$Z,9,0)),0,VLOOKUP($A284+8860000,'Growth Data'!$A:$Z,9,0))","v":0},0,null,"NO",{"$f":"IF(ISERROR(VLOOKUP($A284+8860000,'Growth Data'!$A:$Z,5,0)),\"NO\",VLOOKUP($A284+8860000,'Growth Data'!$A:$Z,5,0))","v":"NO"},0,null,0,{"$f":"IF(ISERROR(VLOOKUP($A284+8860000,'Growth Data'!$A:$Z,10,0)),0,VLOOKUP($A284+8860000,'Growth Data'!$A:$Z,10,0))","v":0},0,null,0,{"$f":"IF(ISERROR(VLOOKUP($A284+8860000,'Growth Data'!$A:$Z,11,0)),0,VLOOKUP($A284+8860000,'Growth Data'!$A:$Z,11,0))","v":0},0]
[2653,"West Borough Primary School",null,"West Borough Primary School",null,1,null,1271734.8899999999,1271734.8877525458,2.2474541328847408E-3,null,83120.14,83120.143400000001,-3.4000000014202669E-3,null,42653.34,42653.341608247487,-1.6082474903669208E-3,null,112496.01,112496.0071890409,2.8109590930398554E-3,null,120084,120083.99999999999,0,null,0,0,0,null,0,0,0,null,0,0,0,null,58368,58368,0,null,0,0,0,null,0,0,0,null,49911.62,49911.620050165802,-5.0165799621026963E-5,null,1738368,1738368,0,null,0,0,0,null,1738368,1738368,0,null,0,null,0,null,3750,null,3750,null,0,null,0,null,216585.02,216585.02450429654,0,null,0,null,0,null,3750,3750,0,null,0,null,0,null,0,null,0,null,0,null,0,null,0,null,0,null,0,null,0,null,"NO",{"$f":"IF(ISERROR(VLOOKUP($A285+8860000,'Growth Data'!$A:$F,3,0)),\"NO\",VLOOKUP($A285+8860000,'Growth Data'!$A:$F,3,0))","v":"NO"},0,null,0,{"$f":"IF(DI285=\"YES\",IF(ISERROR(VLOOKUP($A285+8860000,'Growth Data'!$A:$F,6,0)),0,VLOOKUP($A285+8860000,'Growth Data'!$A:$F,6,0)),0)","v":0},0,null,0,{"$f":"IF(ISERROR(VLOOKUP($A285+8860000,'Growth Data'!$A:$Z,7,0)),0,VLOOKUP($A285+8860000,'Growth Data'!$A:$Z,7,0))","v":0},0,null,"NO",{"$f":"IF(ISERROR(VLOOKUP($A285+8860000,'Growth Data'!$A:$F,4,0)),\"NO\",VLOOKUP($A285+8860000,'Growth Data'!$A:$F,4,0))","v":"NO"},0,null,0,{"$f":"IF(ISERROR(VLOOKUP($A285+8860000,'Growth Data'!$A:$Z,8,0)),0,VLOOKUP($A285+8860000,'Growth Data'!$A:$Z,8,0))","v":0},0,null,0,{"$f":"IF(ISERROR(VLOOKUP($A285+8860000,'Growth Data'!$A:$Z,9,0)),0,VLOOKUP($A285+8860000,'Growth Data'!$A:$Z,9,0))","v":0},0,null,"NO",{"$f":"IF(ISERROR(VLOOKUP($A285+8860000,'Growth Data'!$A:$Z,5,0)),\"NO\",VLOOKUP($A285+8860000,'Growth Data'!$A:$Z,5,0))","v":"NO"},0,null,0,{"$f":"IF(ISERROR(VLOOKUP($A285+8860000,'Growth Data'!$A:$Z,10,0)),0,VLOOKUP($A285+8860000,'Growth Data'!$A:$Z,10,0))","v":0},0,null,0,{"$f":"IF(ISERROR(VLOOKUP($A285+8860000,'Growth Data'!$A:$Z,11,0)),0,VLOOKUP($A285+8860000,'Growth Data'!$A:$Z,11,0))","v":0},0]
[3298,"West Kingsdown C.E. (V.C.) Primary School",null,"West Kingsdown C.E. (V.C.) Primary School",null,1,null,411610.62,411610.6221520516,-2.152051602024585E-3,null,19799.849999999999,19799.850199999961,-1.9999996220576577E-4,null,1863.1,1863.1032600000001,-3.2600000001821172E-3,null,31409.17,31409.166158536555,3.8414634436776396E-3,null,120084,120083.99999999999,0,null,1667.37,1667.3713217623442,-1.3217623443324555E-3,null,21346.2,21346.201716561547,-1.7165615463454742E-3,null,0,0,0,null,30189,30189,0,null,0,0,0,null,0,0,0,null,0,0,0,null,637969.31000000006,637969.31480891199,-4.80891193728894E-3,null,0,0,0,null,637969.31000000006,637969.31480891199,-4.80891193728894E-3,null,0,null,0,null,3321.78,null,3321.78,null,0,null,0,null,50265.01,50265.00816363452,0,null,973.5,null,974,null,4191.59,4191.5883779924989,0,null,0,null,0,null,0,null,0,null,0,null,0,null,0,null,0,null,0,null,0,null,"NO",{"$f":"IF(ISERROR(VLOOKUP($A286+8860000,'Growth Data'!$A:$F,3,0)),\"NO\",VLOOKUP($A286+8860000,'Growth Data'!$A:$F,3,0))","v":"NO"},0,null,0,{"$f":"IF(DI286=\"YES\",IF(ISERROR(VLOOKUP($A286+8860000,'Growth Data'!$A:$F,6,0)),0,VLOOKUP($A286+8860000,'Growth Data'!$A:$F,6,0)),0)","v":0},0,null,0,{"$f":"IF(ISERROR(VLOOKUP($A286+8860000,'Growth Data'!$A:$Z,7,0)),0,VLOOKUP($A286+8860000,'Growth Data'!$A:$Z,7,0))","v":0},0,null,"NO",{"$f":"IF(ISERROR(VLOOKUP($A286+8860000,'Growth Data'!$A:$F,4,0)),\"NO\",VLOOKUP($A286+8860000,'Growth Data'!$A:$F,4,0))","v":"NO"},0,null,0,{"$f":"IF(ISERROR(VLOOKUP($A286+8860000,'Growth Data'!$A:$Z,8,0)),0,VLOOKUP($A286+8860000,'Growth Data'!$A:$Z,8,0))","v":0},0,null,0,{"$f":"IF(ISERROR(VLOOKUP($A286+8860000,'Growth Data'!$A:$Z,9,0)),0,VLOOKUP($A286+8860000,'Growth Data'!$A:$Z,9,0))","v":0},0,null,"NO",{"$f":"IF(ISERROR(VLOOKUP($A286+8860000,'Growth Data'!$A:$Z,5,0)),\"NO\",VLOOKUP($A286+8860000,'Growth Data'!$A:$Z,5,0))","v":"NO"},0,null,0,{"$f":"IF(ISERROR(VLOOKUP($A286+8860000,'Growth Data'!$A:$Z,10,0)),0,VLOOKUP($A286+8860000,'Growth Data'!$A:$Z,10,0))","v":0},0,null,0,{"$f":"IF(ISERROR(VLOOKUP($A286+8860000,'Growth Data'!$A:$Z,11,0)),0,VLOOKUP($A286+8860000,'Growth Data'!$A:$Z,11,0))","v":0},0]
[2434,"West Minster Primary School",null,"West Minster Primary School",null,1,null,1291605.75,1291605.7453736793,4.6263206750154495E-3,null,356348.67,356348.66958000022,4.1999976383522153E-4,null,5074.8999999999996,5074.9041145833253,-4.1145833256450715E-3,null,118649.22,118649.2197606384,2.3936160141602159E-4,null,120084,120083.99999999999,0,null,0,0,0,null,0,0,0,null,0,0,0,null,80384,80384,0,null,0,0,0,null,0,0,0,null,0,0,0,null,1972146.54,1972146.5388289012,1.1710987892001867E-3,null,0,0,0,null,1972146.54,1972146.5388289012,1.1710987892001867E-3,null,0,null,0,null,3893.8,null,3893.8,null,0.61,null,0.61,null,407052.42,407052.41576223,0,null,0,null,0,null,4157.72,4157.719865558026,0,null,0,null,0,null,0,null,0,null,0,null,0,null,0,null,0,null,0,null,0,null,"NO",{"$f":"IF(ISERROR(VLOOKUP($A287+8860000,'Growth Data'!$A:$F,3,0)),\"NO\",VLOOKUP($A287+8860000,'Growth Data'!$A:$F,3,0))","v":"YES"},1,null,0,{"$f":"IF(DI287=\"YES\",IF(ISERROR(VLOOKUP($A287+8860000,'Growth Data'!$A:$F,6,0)),0,VLOOKUP($A287+8860000,'Growth Data'!$A:$F,6,0)),0)","v":60},-60,null,0,{"$f":"IF(ISERROR(VLOOKUP($A287+8860000,'Growth Data'!$A:$Z,7,0)),0,VLOOKUP($A287+8860000,'Growth Data'!$A:$Z,7,0))","v":90},1,null,"NO",{"$f":"IF(ISERROR(VLOOKUP($A287+8860000,'Growth Data'!$A:$F,4,0)),\"NO\",VLOOKUP($A287+8860000,'Growth Data'!$A:$F,4,0))","v":"YES"},1,null,0,{"$f":"IF(ISERROR(VLOOKUP($A287+8860000,'Growth Data'!$A:$Z,8,0)),0,VLOOKUP($A287+8860000,'Growth Data'!$A:$Z,8,0))","v":62},1,null,0,{"$f":"IF(ISERROR(VLOOKUP($A287+8860000,'Growth Data'!$A:$Z,9,0)),0,VLOOKUP($A287+8860000,'Growth Data'!$A:$Z,9,0))","v":90},1,null,"NO",{"$f":"IF(ISERROR(VLOOKUP($A287+8860000,'Growth Data'!$A:$Z,5,0)),\"NO\",VLOOKUP($A287+8860000,'Growth Data'!$A:$Z,5,0))","v":"YES"},1,null,0,{"$f":"IF(ISERROR(VLOOKUP($A287+8860000,'Growth Data'!$A:$Z,10,0)),0,VLOOKUP($A287+8860000,'Growth Data'!$A:$Z,10,0))","v":60},1,null,0,{"$f":"IF(ISERROR(VLOOKUP($A287+8860000,'Growth Data'!$A:$Z,11,0)),0,VLOOKUP($A287+8860000,'Growth Data'!$A:$Z,11,0))","v":90},1]
[2268,"Westmeads Community Infant School",null,"Westmeads Community Infant School",null,1,null,491094.05,491094.05263658572,-2.6365857338532805E-3,null,19306.509999999998,19306.505099999933,4.9000000653904863E-3,null,2395.34,2395.3393577586166,6.4224138350255089E-4,null,40081.300000000003,40081.298152173898,1.847826104494743E-3,null,120084,120083.99999999999,0,null,0,0,0,null,0,0,0,null,0,0,0,null,19711,19711,0,null,0,0,0,null,0,0,0,null,0,0,0,null,692672.2,692672.19524651824,4.7534817131236196E-3,null,0,0,0,null,692672.2,692672.19524651824,4.7534817131236196E-3,null,0,null,0,null,3195.82,null,3195.82,null,0,null,0,null,58111.27,58111.274916940631,0,null,188.87,null,189,null,3889.95,3889.9491054712053,0,null,0,null,0,null,0,null,0,null,0,null,0,null,0,null,0,null,0,null,0,null,"NO",{"$f":"IF(ISERROR(VLOOKUP($A288+8860000,'Growth Data'!$A:$F,3,0)),\"NO\",VLOOKUP($A288+8860000,'Growth Data'!$A:$F,3,0))","v":"NO"},0,null,0,{"$f":"IF(DI288=\"YES\",IF(ISERROR(VLOOKUP($A288+8860000,'Growth Data'!$A:$F,6,0)),0,VLOOKUP($A288+8860000,'Growth Data'!$A:$F,6,0)),0)","v":0},0,null,0,{"$f":"IF(ISERROR(VLOOKUP($A288+8860000,'Growth Data'!$A:$Z,7,0)),0,VLOOKUP($A288+8860000,'Growth Data'!$A:$Z,7,0))","v":0},0,null,"NO",{"$f":"IF(ISERROR(VLOOKUP($A288+8860000,'Growth Data'!$A:$F,4,0)),\"NO\",VLOOKUP($A288+8860000,'Growth Data'!$A:$F,4,0))","v":"NO"},0,null,0,{"$f":"IF(ISERROR(VLOOKUP($A288+8860000,'Growth Data'!$A:$Z,8,0)),0,VLOOKUP($A288+8860000,'Growth Data'!$A:$Z,8,0))","v":0},0,null,0,{"$f":"IF(ISERROR(VLOOKUP($A288+8860000,'Growth Data'!$A:$Z,9,0)),0,VLOOKUP($A288+8860000,'Growth Data'!$A:$Z,9,0))","v":0},0,null,"NO",{"$f":"IF(ISERROR(VLOOKUP($A288+8860000,'Growth Data'!$A:$Z,5,0)),\"NO\",VLOOKUP($A288+8860000,'Growth Data'!$A:$Z,5,0))","v":"NO"},0,null,0,{"$f":"IF(ISERROR(VLOOKUP($A288+8860000,'Growth Data'!$A:$Z,10,0)),0,VLOOKUP($A288+8860000,'Growth Data'!$A:$Z,10,0))","v":0},0,null,0,{"$f":"IF(ISERROR(VLOOKUP($A288+8860000,'Growth Data'!$A:$Z,11,0)),0,VLOOKUP($A288+8860000,'Growth Data'!$A:$Z,11,0))","v":0},0]
[2471,"Whitfield Aspen School",null,"Whitfield Aspen School",null,1,null,1399476.12,1399476.1153169756,4.6830244828015566E-3,null,184761,184761.00198542094,-1.9854209385812283E-3,null,3218.78,3218.7759573170702,4.0426829300486133E-3,null,223496.38,223496.37533955212,4.6604478848166764E-3,null,120084,120083.99999999999,0,null,0,0,0,null,0,0,0,null,19250,19249.999999999996,0,null,65024,65024,0,null,0,0,0,null,0,0,0,null,0,0,0,null,2015310.27,2015310.2685992657,1.4007342979311943E-3,null,0,0,0,null,2015310.27,2015310.2685992657,1.4007342979311943E-3,null,0,null,0,null,3712.38,null,3712.38,null,0,null,0,null,367275.94,367275.93558929831,0,null,0,null,0,null,3916.91,3916.9092669356323,0,null,0,null,0,null,0,null,0,null,0,null,0,null,0,null,0,null,0,null,0,null,"NO",{"$f":"IF(ISERROR(VLOOKUP($A289+8860000,'Growth Data'!$A:$F,3,0)),\"NO\",VLOOKUP($A289+8860000,'Growth Data'!$A:$F,3,0))","v":"NO"},0,null,0,{"$f":"IF(DI289=\"YES\",IF(ISERROR(VLOOKUP($A289+8860000,'Growth Data'!$A:$F,6,0)),0,VLOOKUP($A289+8860000,'Growth Data'!$A:$F,6,0)),0)","v":0},0,null,0,{"$f":"IF(ISERROR(VLOOKUP($A289+8860000,'Growth Data'!$A:$Z,7,0)),0,VLOOKUP($A289+8860000,'Growth Data'!$A:$Z,7,0))","v":0},0,null,"NO",{"$f":"IF(ISERROR(VLOOKUP($A289+8860000,'Growth Data'!$A:$F,4,0)),\"NO\",VLOOKUP($A289+8860000,'Growth Data'!$A:$F,4,0))","v":"NO"},0,null,0,{"$f":"IF(ISERROR(VLOOKUP($A289+8860000,'Growth Data'!$A:$Z,8,0)),0,VLOOKUP($A289+8860000,'Growth Data'!$A:$Z,8,0))","v":0},0,null,0,{"$f":"IF(ISERROR(VLOOKUP($A289+8860000,'Growth Data'!$A:$Z,9,0)),0,VLOOKUP($A289+8860000,'Growth Data'!$A:$Z,9,0))","v":0},0,null,"NO",{"$f":"IF(ISERROR(VLOOKUP($A289+8860000,'Growth Data'!$A:$Z,5,0)),\"NO\",VLOOKUP($A289+8860000,'Growth Data'!$A:$Z,5,0))","v":"NO"},0,null,0,{"$f":"IF(ISERROR(VLOOKUP($A289+8860000,'Growth Data'!$A:$Z,10,0)),0,VLOOKUP($A289+8860000,'Growth Data'!$A:$Z,10,0))","v":0},0,null,0,{"$f":"IF(ISERROR(VLOOKUP($A289+8860000,'Growth Data'!$A:$Z,11,0)),0,VLOOKUP($A289+8860000,'Growth Data'!$A:$Z,11,0))","v":0},0]
[3339,"Whitstable & Seasalter Endowed CEJ School",null,"Whitstable & Seasalter Endowed CEJ School",null,1,null,547867.93000000005,547867.93155411014,-1.554110087454319E-3,null,22024.16,22024.156124999998,3.8750000021536835E-3,null,1614.49,1614.4887265625,1.273437500003638E-3,null,50328.13,50328.130579787277,-5.7978728000307456E-4,null,120084,120083.99999999999,0,null,0,0,0,null,0,0,0,null,0,0,0,null,3584,3584,0,null,0,0,0,null,0,0,0,null,0,0,0,null,745502.71,745502.7069854599,3.0145400669425726E-3,null,0,0,0,null,745502.71,745502.7069854599,3.0145400669425726E-3,null,0,null,0,null,3221.94,null,3221.94,null,0,null,0,null,71645.850000000006,71645.85273835792,0,null,0,null,0,null,3844.14,3844.1383781630066,0,null,0,null,0,null,0,null,0,null,0,null,0,null,0,null,0,null,0,null,0,null,"YES",{"$f":"IF(ISERROR(VLOOKUP($A290+8860000,'Growth Data'!$A:$F,3,0)),\"NO\",VLOOKUP($A290+8860000,'Growth Data'!$A:$F,3,0))","v":"NO"},1,null,32,{"$f":"IF(DI290=\"YES\",IF(ISERROR(VLOOKUP($A290+8860000,'Growth Data'!$A:$F,6,0)),0,VLOOKUP($A290+8860000,'Growth Data'!$A:$F,6,0)),0)","v":0},32,null,60,{"$f":"IF(ISERROR(VLOOKUP($A290+8860000,'Growth Data'!$A:$Z,7,0)),0,VLOOKUP($A290+8860000,'Growth Data'!$A:$Z,7,0))","v":0},1,null,"YES",{"$f":"IF(ISERROR(VLOOKUP($A290+8860000,'Growth Data'!$A:$F,4,0)),\"NO\",VLOOKUP($A290+8860000,'Growth Data'!$A:$F,4,0))","v":"NO"},1,null,32,{"$f":"IF(ISERROR(VLOOKUP($A290+8860000,'Growth Data'!$A:$Z,8,0)),0,VLOOKUP($A290+8860000,'Growth Data'!$A:$Z,8,0))","v":0},1,null,60,{"$f":"IF(ISERROR(VLOOKUP($A290+8860000,'Growth Data'!$A:$Z,9,0)),0,VLOOKUP($A290+8860000,'Growth Data'!$A:$Z,9,0))","v":0},1,null,"NO",{"$f":"IF(ISERROR(VLOOKUP($A290+8860000,'Growth Data'!$A:$Z,5,0)),\"NO\",VLOOKUP($A290+8860000,'Growth Data'!$A:$Z,5,0))","v":"NO"},0,null,0,{"$f":"IF(ISERROR(VLOOKUP($A290+8860000,'Growth Data'!$A:$Z,10,0)),0,VLOOKUP($A290+8860000,'Growth Data'!$A:$Z,10,0))","v":0},0,null,0,{"$f":"IF(ISERROR(VLOOKUP($A290+8860000,'Growth Data'!$A:$Z,11,0)),0,VLOOKUP($A290+8860000,'Growth Data'!$A:$Z,11,0))","v":0},0]
[2269,"Whitstable Junior School",null,"Whitstable Junior School",null,1,null,772124.75,772124.75327833137,-3.2783313654363155E-3,null,58922.48,58922.483640685648,-3.6406856452231295E-3,null,1606.12,1606.1235000000027,-3.5000000027594069E-3,null,88605.68,88605.678701886907,1.2981130857951939E-3,null,120084,120083.99999999999,0,null,0,0,0,null,0,0,0,null,0,0,0,null,18837,18837,0,null,0,0,0,null,0,0,0,null,0,0,0,null,1060180.04,1060180.0391209039,8.7909610010683537E-4,null,0,0,0,null,1060180.04,1060180.0391209039,8.7909610010683537E-4,null,0,null,0,null,3386.98,null,3386.98,null,0,null,0,null,140508.95000000001,140508.95314958066,0,null,0,null,0,null,3828.47,3828.4670555915604,0,null,0,null,0,null,0,null,0,null,0,null,0,null,0,null,0,null,0,null,0,null,"NO",{"$f":"IF(ISERROR(VLOOKUP($A291+8860000,'Growth Data'!$A:$F,3,0)),\"NO\",VLOOKUP($A291+8860000,'Growth Data'!$A:$F,3,0))","v":"NO"},0,null,0,{"$f":"IF(DI291=\"YES\",IF(ISERROR(VLOOKUP($A291+8860000,'Growth Data'!$A:$F,6,0)),0,VLOOKUP($A291+8860000,'Growth Data'!$A:$F,6,0)),0)","v":0},0,null,0,{"$f":"IF(ISERROR(VLOOKUP($A291+8860000,'Growth Data'!$A:$Z,7,0)),0,VLOOKUP($A291+8860000,'Growth Data'!$A:$Z,7,0))","v":0},0,null,"YES",{"$f":"IF(ISERROR(VLOOKUP($A291+8860000,'Growth Data'!$A:$F,4,0)),\"NO\",VLOOKUP($A291+8860000,'Growth Data'!$A:$F,4,0))","v":"NO"},1,null,47,{"$f":"IF(ISERROR(VLOOKUP($A291+8860000,'Growth Data'!$A:$Z,8,0)),0,VLOOKUP($A291+8860000,'Growth Data'!$A:$Z,8,0))","v":0},1,null,60,{"$f":"IF(ISERROR(VLOOKUP($A291+8860000,'Growth Data'!$A:$Z,9,0)),0,VLOOKUP($A291+8860000,'Growth Data'!$A:$Z,9,0))","v":0},1,null,"YES",{"$f":"IF(ISERROR(VLOOKUP($A291+8860000,'Growth Data'!$A:$Z,5,0)),\"NO\",VLOOKUP($A291+8860000,'Growth Data'!$A:$Z,5,0))","v":"NO"},1,null,49,{"$f":"IF(ISERROR(VLOOKUP($A291+8860000,'Growth Data'!$A:$Z,10,0)),0,VLOOKUP($A291+8860000,'Growth Data'!$A:$Z,10,0))","v":0},1,null,60,{"$f":"IF(ISERROR(VLOOKUP($A291+8860000,'Growth Data'!$A:$Z,11,0)),0,VLOOKUP($A291+8860000,'Growth Data'!$A:$Z,11,0))","v":0},1]
[3130,"Wickhambreaux CEP School",null,"Wickhambreaux CEP School",null,1,null,388901.07,388901.07058504189,-5.8504188200458884E-4,null,8662.34,8662.3429805970136,-2.9805970134475501E-3,null,5500.97,5500.9729875000003,-2.9875000000174623E-3,null,10429.08,10429.080964285709,-9.6428570941498037E-4,null,120084,120083.99999999999,0,null,0,0,0,null,0,0,0,null,0,0,0,null,8733,8733,0,null,0,0,0,null,0,0,0,null,0,0,0,null,542310.47,542310.46751742461,2.4825753644108772E-3,null,0,0,0,null,542310.47,542310.46751742461,2.4825753644108772E-3,null,0,null,0,null,3018.2,null,3018.2,null,0,null,0,null,28575.88,28575.884239390867,0,null,3142.41,null,3142,null,3894.73,3894.726040273174,0,null,0,null,0,null,0,null,0,null,0,null,0,null,0,null,0,null,0,null,0,null,"NO",{"$f":"IF(ISERROR(VLOOKUP($A292+8860000,'Growth Data'!$A:$F,3,0)),\"NO\",VLOOKUP($A292+8860000,'Growth Data'!$A:$F,3,0))","v":"NO"},0,null,0,{"$f":"IF(DI292=\"YES\",IF(ISERROR(VLOOKUP($A292+8860000,'Growth Data'!$A:$F,6,0)),0,VLOOKUP($A292+8860000,'Growth Data'!$A:$F,6,0)),0)","v":0},0,null,0,{"$f":"IF(ISERROR(VLOOKUP($A292+8860000,'Growth Data'!$A:$Z,7,0)),0,VLOOKUP($A292+8860000,'Growth Data'!$A:$Z,7,0))","v":0},0,null,"NO",{"$f":"IF(ISERROR(VLOOKUP($A292+8860000,'Growth Data'!$A:$F,4,0)),\"NO\",VLOOKUP($A292+8860000,'Growth Data'!$A:$F,4,0))","v":"NO"},0,null,0,{"$f":"IF(ISERROR(VLOOKUP($A292+8860000,'Growth Data'!$A:$Z,8,0)),0,VLOOKUP($A292+8860000,'Growth Data'!$A:$Z,8,0))","v":0},0,null,0,{"$f":"IF(ISERROR(VLOOKUP($A292+8860000,'Growth Data'!$A:$Z,9,0)),0,VLOOKUP($A292+8860000,'Growth Data'!$A:$Z,9,0))","v":0},0,null,"NO",{"$f":"IF(ISERROR(VLOOKUP($A292+8860000,'Growth Data'!$A:$Z,5,0)),\"NO\",VLOOKUP($A292+8860000,'Growth Data'!$A:$Z,5,0))","v":"NO"},0,null,0,{"$f":"IF(ISERROR(VLOOKUP($A292+8860000,'Growth Data'!$A:$Z,10,0)),0,VLOOKUP($A292+8860000,'Growth Data'!$A:$Z,10,0))","v":0},0,null,0,{"$f":"IF(ISERROR(VLOOKUP($A292+8860000,'Growth Data'!$A:$Z,11,0)),0,VLOOKUP($A292+8860000,'Growth Data'!$A:$Z,11,0))","v":0},0]
[2276,"Willesborough Infant School",null,"Willesborough Infant School",null,1,null,996381.58,996381.57500255259,4.9974473658949137E-3,null,71735.66,71735.663709677319,-3.7096773157827556E-3,null,38400.32,38400.317941304442,2.0586955579346977E-3,null,62346.11,62346.11175000012,-1.7500001195003279E-3,null,120084,120083.99999999999,0,null,0,0,0,null,0,0,0,null,0,0,0,null,23079,23079,0,null,0,0,0,null,0,0,0,null,27302.33,27302.331596465316,-1.5964653139235452E-3,null,1339329,1339329,0,null,0,0,0,null,1339329,1339329,0,null,0,null,0,null,3750,null,3750,null,0,null,0,null,158452.98000000001,158452.98070799006,0,null,0,null,0,null,3750,3750,0,null,0,null,0,null,0,null,0,null,0,null,0,null,0,null,0,null,0,null,0,null,"NO",{"$f":"IF(ISERROR(VLOOKUP($A293+8860000,'Growth Data'!$A:$F,3,0)),\"NO\",VLOOKUP($A293+8860000,'Growth Data'!$A:$F,3,0))","v":"NO"},0,null,0,{"$f":"IF(DI293=\"YES\",IF(ISERROR(VLOOKUP($A293+8860000,'Growth Data'!$A:$F,6,0)),0,VLOOKUP($A293+8860000,'Growth Data'!$A:$F,6,0)),0)","v":0},0,null,0,{"$f":"IF(ISERROR(VLOOKUP($A293+8860000,'Growth Data'!$A:$Z,7,0)),0,VLOOKUP($A293+8860000,'Growth Data'!$A:$Z,7,0))","v":0},0,null,"NO",{"$f":"IF(ISERROR(VLOOKUP($A293+8860000,'Growth Data'!$A:$F,4,0)),\"NO\",VLOOKUP($A293+8860000,'Growth Data'!$A:$F,4,0))","v":"NO"},0,null,0,{"$f":"IF(ISERROR(VLOOKUP($A293+8860000,'Growth Data'!$A:$Z,8,0)),0,VLOOKUP($A293+8860000,'Growth Data'!$A:$Z,8,0))","v":0},0,null,0,{"$f":"IF(ISERROR(VLOOKUP($A293+8860000,'Growth Data'!$A:$Z,9,0)),0,VLOOKUP($A293+8860000,'Growth Data'!$A:$Z,9,0))","v":0},0,null,"NO",{"$f":"IF(ISERROR(VLOOKUP($A293+8860000,'Growth Data'!$A:$Z,5,0)),\"NO\",VLOOKUP($A293+8860000,'Growth Data'!$A:$Z,5,0))","v":"NO"},0,null,0,{"$f":"IF(ISERROR(VLOOKUP($A293+8860000,'Growth Data'!$A:$Z,10,0)),0,VLOOKUP($A293+8860000,'Growth Data'!$A:$Z,10,0))","v":0},0,null,0,{"$f":"IF(ISERROR(VLOOKUP($A293+8860000,'Growth Data'!$A:$Z,11,0)),0,VLOOKUP($A293+8860000,'Growth Data'!$A:$Z,11,0))","v":0},0]
[5226,"Willesborough Junior School",null,"Willesborough Junior School",null,1,null,1444895.22,1444895.2184509949,1.5490050427615643E-3,null,108488.7,108488.70107703557,-1.0770355729619041E-3,null,23556.48,23556.478000000006,1.999999993131496E-3,null,138143.12,138143.12322670824,-3.2267082424368709E-3,null,120084,120083.99999999999,0,null,0,0,0,null,0,0,0,null,0,0,0,null,10189,10189,0,null,0,0,0,null,0,0,0,null,73582.48,73582.479245260824,7.5473917240742594E-4,null,1918939,1918938.9999999998,0,null,0,0,0,null,1918939,1918938.9999999998,0,null,0,null,0,null,3750,null,3750,null,0,null,0,null,258410.76,258410.76461075194,0,null,0,null,0,null,3750,3750,0,null,0,null,0,null,0,null,0,null,0,null,0,null,0,null,0,null,0,null,0,null,"NO",{"$f":"IF(ISERROR(VLOOKUP($A294+8860000,'Growth Data'!$A:$F,3,0)),\"NO\",VLOOKUP($A294+8860000,'Growth Data'!$A:$F,3,0))","v":"NO"},0,null,0,{"$f":"IF(DI294=\"YES\",IF(ISERROR(VLOOKUP($A294+8860000,'Growth Data'!$A:$F,6,0)),0,VLOOKUP($A294+8860000,'Growth Data'!$A:$F,6,0)),0)","v":0},0,null,0,{"$f":"IF(ISERROR(VLOOKUP($A294+8860000,'Growth Data'!$A:$Z,7,0)),0,VLOOKUP($A294+8860000,'Growth Data'!$A:$Z,7,0))","v":0},0,null,"NO",{"$f":"IF(ISERROR(VLOOKUP($A294+8860000,'Growth Data'!$A:$F,4,0)),\"NO\",VLOOKUP($A294+8860000,'Growth Data'!$A:$F,4,0))","v":"NO"},0,null,0,{"$f":"IF(ISERROR(VLOOKUP($A294+8860000,'Growth Data'!$A:$Z,8,0)),0,VLOOKUP($A294+8860000,'Growth Data'!$A:$Z,8,0))","v":0},0,null,0,{"$f":"IF(ISERROR(VLOOKUP($A294+8860000,'Growth Data'!$A:$Z,9,0)),0,VLOOKUP($A294+8860000,'Growth Data'!$A:$Z,9,0))","v":0},0,null,"NO",{"$f":"IF(ISERROR(VLOOKUP($A294+8860000,'Growth Data'!$A:$Z,5,0)),\"NO\",VLOOKUP($A294+8860000,'Growth Data'!$A:$Z,5,0))","v":"NO"},0,null,0,{"$f":"IF(ISERROR(VLOOKUP($A294+8860000,'Growth Data'!$A:$Z,10,0)),0,VLOOKUP($A294+8860000,'Growth Data'!$A:$Z,10,0))","v":0},0,null,0,{"$f":"IF(ISERROR(VLOOKUP($A294+8860000,'Growth Data'!$A:$Z,11,0)),0,VLOOKUP($A294+8860000,'Growth Data'!$A:$Z,11,0))","v":0},0]
[5221,"Wincheap Foundation Primary School",null,"Wincheap Foundation Primary School",null,1,null,1246186.6399999999,1246186.6422396598,-2.2396598942577839E-3,null,155131.94,155131.9384137615,1.5862385043874383E-3,null,13642.87,13642.86786543535,2.1345646509871585E-3,null,137307.41,137307.40664673902,3.3532609813846648E-3,null,120084,120083.99999999999,0,null,0,0,0,null,0,0,0,null,0,0,0,null,12110,12110,0,null,0,0,0,null,0,0,0,null,0,0,0,null,1684462.86,1684462.8551655957,4.8344044480472803E-3,null,0,0,0,null,1684462.86,1684462.8551655957,4.8344044480472803E-3,null,0,null,0,null,3535.92,null,3535.92,null,0,null,0,null,262332.31,262332.31023294397,0,null,0,null,0,null,3809.46,3809.4598067553447,0,null,0,null,0,null,0,null,0,null,0,null,0,null,0,null,0,null,0,null,0,null,"NO",{"$f":"IF(ISERROR(VLOOKUP($A295+8860000,'Growth Data'!$A:$F,3,0)),\"NO\",VLOOKUP($A295+8860000,'Growth Data'!$A:$F,3,0))","v":"NO"},0,null,0,{"$f":"IF(DI295=\"YES\",IF(ISERROR(VLOOKUP($A295+8860000,'Growth Data'!$A:$F,6,0)),0,VLOOKUP($A295+8860000,'Growth Data'!$A:$F,6,0)),0)","v":0},0,null,0,{"$f":"IF(ISERROR(VLOOKUP($A295+8860000,'Growth Data'!$A:$Z,7,0)),0,VLOOKUP($A295+8860000,'Growth Data'!$A:$Z,7,0))","v":0},0,null,"NO",{"$f":"IF(ISERROR(VLOOKUP($A295+8860000,'Growth Data'!$A:$F,4,0)),\"NO\",VLOOKUP($A295+8860000,'Growth Data'!$A:$F,4,0))","v":"NO"},0,null,0,{"$f":"IF(ISERROR(VLOOKUP($A295+8860000,'Growth Data'!$A:$Z,8,0)),0,VLOOKUP($A295+8860000,'Growth Data'!$A:$Z,8,0))","v":0},0,null,0,{"$f":"IF(ISERROR(VLOOKUP($A295+8860000,'Growth Data'!$A:$Z,9,0)),0,VLOOKUP($A295+8860000,'Growth Data'!$A:$Z,9,0))","v":0},0,null,"NO",{"$f":"IF(ISERROR(VLOOKUP($A295+8860000,'Growth Data'!$A:$Z,5,0)),\"NO\",VLOOKUP($A295+8860000,'Growth Data'!$A:$Z,5,0))","v":"NO"},0,null,0,{"$f":"IF(ISERROR(VLOOKUP($A295+8860000,'Growth Data'!$A:$Z,10,0)),0,VLOOKUP($A295+8860000,'Growth Data'!$A:$Z,10,0))","v":0},0,null,0,{"$f":"IF(ISERROR(VLOOKUP($A295+8860000,'Growth Data'!$A:$Z,11,0)),0,VLOOKUP($A295+8860000,'Growth Data'!$A:$Z,11,0))","v":0},0]
[2326,"Wingham Primary School",null,"Wingham Primary School",null,1,null,559222.71,559222.70733761496,2.6623849989846349E-3,null,16073.39,16073.391829186603,-1.8291866035724524E-3,null,627.79,627.79033630952358,-3.3630952361818345E-4,null,54714.73,54714.728063636452,1.9363635510671884E-3,null,120084,120083.99999999999,0,null,0,0,0,null,0,0,0,null,0,0,0,null,31232,31232,0,null,0,0,0,null,0,0,0,null,0,0,0,null,781954.62,781954.61756674747,2.4332525208592415E-3,null,0,0,0,null,781954.62,781954.61756674747,2.4332525208592415E-3,null,0,null,0,null,3201.21,null,3201.21,null,0,null,0,null,70896.25,70896.247536140727,0,null,0,null,0,null,3810.77,3810.774708460649,0,null,72000,null,72000,null,262.76,null,263,null,262.76,null,263,null,262.76,null,263,null,262.76,null,263,null,"NO",{"$f":"IF(ISERROR(VLOOKUP($A296+8860000,'Growth Data'!$A:$F,3,0)),\"NO\",VLOOKUP($A296+8860000,'Growth Data'!$A:$F,3,0))","v":"NO"},0,null,0,{"$f":"IF(DI296=\"YES\",IF(ISERROR(VLOOKUP($A296+8860000,'Growth Data'!$A:$F,6,0)),0,VLOOKUP($A296+8860000,'Growth Data'!$A:$F,6,0)),0)","v":0},0,null,0,{"$f":"IF(ISERROR(VLOOKUP($A296+8860000,'Growth Data'!$A:$Z,7,0)),0,VLOOKUP($A296+8860000,'Growth Data'!$A:$Z,7,0))","v":0},0,null,"NO",{"$f":"IF(ISERROR(VLOOKUP($A296+8860000,'Growth Data'!$A:$F,4,0)),\"NO\",VLOOKUP($A296+8860000,'Growth Data'!$A:$F,4,0))","v":"NO"},0,null,0,{"$f":"IF(ISERROR(VLOOKUP($A296+8860000,'Growth Data'!$A:$Z,8,0)),0,VLOOKUP($A296+8860000,'Growth Data'!$A:$Z,8,0))","v":0},0,null,0,{"$f":"IF(ISERROR(VLOOKUP($A296+8860000,'Growth Data'!$A:$Z,9,0)),0,VLOOKUP($A296+8860000,'Growth Data'!$A:$Z,9,0))","v":0},0,null,"NO",{"$f":"IF(ISERROR(VLOOKUP($A296+8860000,'Growth Data'!$A:$Z,5,0)),\"NO\",VLOOKUP($A296+8860000,'Growth Data'!$A:$Z,5,0))","v":"NO"},0,null,0,{"$f":"IF(ISERROR(VLOOKUP($A296+8860000,'Growth Data'!$A:$Z,10,0)),0,VLOOKUP($A296+8860000,'Growth Data'!$A:$Z,10,0))","v":0},0,null,0,{"$f":"IF(ISERROR(VLOOKUP($A296+8860000,'Growth Data'!$A:$Z,11,0)),0,VLOOKUP($A296+8860000,'Growth Data'!$A:$Z,11,0))","v":0},0]
[3346,"Wittersham CEP School",null,"Wittersham CEP School",null,1,null,363352.83,363352.82507215592,4.9278441001661122E-3,null,16501.73,16501.729176744186,8.2325581388431601E-4,null,634.52,634.51792592592608,2.0740740739029206E-3,null,42072.05,42072.046654205602,3.3457944009569474E-3,null,120084,120083.99999999999,0,null,7572.64,7572.6447530040059,-4.7530040055789868E-3,null,0,0,0,null,0,0,0,null,3507,3507,0,null,0,0,0,null,0,0,0,null,0,0,0,null,553724.76,553724.76358203555,-3.5820355406031013E-3,null,0,0,0,null,553724.76,553724.76358203555,-3.5820355406031013E-3,null,0,null,0,null,3301.26,null,3301.26,null,0,null,0,null,60489.89,60489.891063883864,0,null,0,null,0,null,4298.58,4298.5762779846555,0,null,0,null,0,null,0,null,0,null,0,null,0,null,0,null,0,null,0,null,0,null,"NO",{"$f":"IF(ISERROR(VLOOKUP($A297+8860000,'Growth Data'!$A:$F,3,0)),\"NO\",VLOOKUP($A297+8860000,'Growth Data'!$A:$F,3,0))","v":"NO"},0,null,0,{"$f":"IF(DI297=\"YES\",IF(ISERROR(VLOOKUP($A297+8860000,'Growth Data'!$A:$F,6,0)),0,VLOOKUP($A297+8860000,'Growth Data'!$A:$F,6,0)),0)","v":0},0,null,0,{"$f":"IF(ISERROR(VLOOKUP($A297+8860000,'Growth Data'!$A:$Z,7,0)),0,VLOOKUP($A297+8860000,'Growth Data'!$A:$Z,7,0))","v":0},0,null,"NO",{"$f":"IF(ISERROR(VLOOKUP($A297+8860000,'Growth Data'!$A:$F,4,0)),\"NO\",VLOOKUP($A297+8860000,'Growth Data'!$A:$F,4,0))","v":"NO"},0,null,0,{"$f":"IF(ISERROR(VLOOKUP($A297+8860000,'Growth Data'!$A:$Z,8,0)),0,VLOOKUP($A297+8860000,'Growth Data'!$A:$Z,8,0))","v":0},0,null,0,{"$f":"IF(ISERROR(VLOOKUP($A297+8860000,'Growth Data'!$A:$Z,9,0)),0,VLOOKUP($A297+8860000,'Growth Data'!$A:$Z,9,0))","v":0},0,null,"NO",{"$f":"IF(ISERROR(VLOOKUP($A297+8860000,'Growth Data'!$A:$Z,5,0)),\"NO\",VLOOKUP($A297+8860000,'Growth Data'!$A:$Z,5,0))","v":"NO"},0,null,0,{"$f":"IF(ISERROR(VLOOKUP($A297+8860000,'Growth Data'!$A:$Z,10,0)),0,VLOOKUP($A297+8860000,'Growth Data'!$A:$Z,10,0))","v":0},0,null,0,{"$f":"IF(ISERROR(VLOOKUP($A297+8860000,'Growth Data'!$A:$Z,11,0)),0,VLOOKUP($A297+8860000,'Growth Data'!$A:$Z,11,0))","v":0},0]
[3145,"Woodchurch CEP School",null,"Woodchurch CEP School",null,1,null,457029.73,457029.72528607113,4.7139288508333266E-3,null,25065.91,25065.913175862031,-3.1758620316395536E-3,null,0,0,0,null,53080.26,53080.259687050435,3.1294956716010347E-4,null,120084,120083.99999999999,0,null,0,0,0,null,0,0,0,null,0,0,0,null,12226,12226,0,null,0,0,0,null,0,0,0,null,0,0,0,null,667485.9,667485.8981489836,1.8510164227336645E-3,null,0,0,0,null,667485.9,667485.8981489836,1.8510164227336645E-3,null,0,null,0,null,3324.07,null,3324.07,null,0,null,0,null,71322.100000000006,71322.100169920654,0,null,0,null,0,null,4069.94,4069.9372555837513,0,null,0,null,0,null,0,null,0,null,0,null,0,null,0,null,0,null,0,null,0,null,"NO",{"$f":"IF(ISERROR(VLOOKUP($A298+8860000,'Growth Data'!$A:$F,3,0)),\"NO\",VLOOKUP($A298+8860000,'Growth Data'!$A:$F,3,0))","v":"YES"},1,null,0,{"$f":"IF(DI298=\"YES\",IF(ISERROR(VLOOKUP($A298+8860000,'Growth Data'!$A:$F,6,0)),0,VLOOKUP($A298+8860000,'Growth Data'!$A:$F,6,0)),0)","v":25},-25,null,0,{"$f":"IF(ISERROR(VLOOKUP($A298+8860000,'Growth Data'!$A:$Z,7,0)),0,VLOOKUP($A298+8860000,'Growth Data'!$A:$Z,7,0))","v":26},1,null,"NO",{"$f":"IF(ISERROR(VLOOKUP($A298+8860000,'Growth Data'!$A:$F,4,0)),\"NO\",VLOOKUP($A298+8860000,'Growth Data'!$A:$F,4,0))","v":"NO"},0,null,0,{"$f":"IF(ISERROR(VLOOKUP($A298+8860000,'Growth Data'!$A:$Z,8,0)),0,VLOOKUP($A298+8860000,'Growth Data'!$A:$Z,8,0))","v":0},0,null,0,{"$f":"IF(ISERROR(VLOOKUP($A298+8860000,'Growth Data'!$A:$Z,9,0)),0,VLOOKUP($A298+8860000,'Growth Data'!$A:$Z,9,0))","v":0},0,null,"NO",{"$f":"IF(ISERROR(VLOOKUP($A298+8860000,'Growth Data'!$A:$Z,5,0)),\"NO\",VLOOKUP($A298+8860000,'Growth Data'!$A:$Z,5,0))","v":"NO"},0,null,0,{"$f":"IF(ISERROR(VLOOKUP($A298+8860000,'Growth Data'!$A:$Z,10,0)),0,VLOOKUP($A298+8860000,'Growth Data'!$A:$Z,10,0))","v":0},0,null,0,{"$f":"IF(ISERROR(VLOOKUP($A298+8860000,'Growth Data'!$A:$Z,11,0)),0,VLOOKUP($A298+8860000,'Growth Data'!$A:$Z,11,0))","v":0},0]
[2079,"Woodlands Primary School",null,"Woodlands Primary School",null,1,null,1825280.21,1825280.2071984082,2.8015917632728815E-3,null,88118.39,88118.385063354086,4.9366459134034812E-3,null,10450.32,10450.319034821443,9.6517855672573205E-4,null,151587.20000000001,151587.1976901282,2.3098718083929271E-3,null,120084,120083.99999999999,0,null,0,0,0,null,0,0,0,null,0,0,0,null,57856,57856,0,null,0,0,0,null,0,0,0,null,215729.89,215729.8910132884,-1.0132883908227086E-3,null,2469106,2469106,0,null,0,0,0,null,2469106,2469106,0,null,0,null,0,null,3750,null,3750,null,0,null,0,null,227120.49,227120.48909531173,0,null,0,null,0,null,3750,3750,0,null,0,null,0,null,0,null,0,null,0,null,0,null,0,null,0,null,0,null,0,null,"NO",{"$f":"IF(ISERROR(VLOOKUP($A299+8860000,'Growth Data'!$A:$F,3,0)),\"NO\",VLOOKUP($A299+8860000,'Growth Data'!$A:$F,3,0))","v":"NO"},0,null,0,{"$f":"IF(DI299=\"YES\",IF(ISERROR(VLOOKUP($A299+8860000,'Growth Data'!$A:$F,6,0)),0,VLOOKUP($A299+8860000,'Growth Data'!$A:$F,6,0)),0)","v":0},0,null,0,{"$f":"IF(ISERROR(VLOOKUP($A299+8860000,'Growth Data'!$A:$Z,7,0)),0,VLOOKUP($A299+8860000,'Growth Data'!$A:$Z,7,0))","v":0},0,null,"NO",{"$f":"IF(ISERROR(VLOOKUP($A299+8860000,'Growth Data'!$A:$F,4,0)),\"NO\",VLOOKUP($A299+8860000,'Growth Data'!$A:$F,4,0))","v":"NO"},0,null,0,{"$f":"IF(ISERROR(VLOOKUP($A299+8860000,'Growth Data'!$A:$Z,8,0)),0,VLOOKUP($A299+8860000,'Growth Data'!$A:$Z,8,0))","v":0},0,null,0,{"$f":"IF(ISERROR(VLOOKUP($A299+8860000,'Growth Data'!$A:$Z,9,0)),0,VLOOKUP($A299+8860000,'Growth Data'!$A:$Z,9,0))","v":0},0,null,"NO",{"$f":"IF(ISERROR(VLOOKUP($A299+8860000,'Growth Data'!$A:$Z,5,0)),\"NO\",VLOOKUP($A299+8860000,'Growth Data'!$A:$Z,5,0))","v":"NO"},0,null,0,{"$f":"IF(ISERROR(VLOOKUP($A299+8860000,'Growth Data'!$A:$Z,10,0)),0,VLOOKUP($A299+8860000,'Growth Data'!$A:$Z,10,0))","v":0},0,null,0,{"$f":"IF(ISERROR(VLOOKUP($A299+8860000,'Growth Data'!$A:$Z,11,0)),0,VLOOKUP($A299+8860000,'Growth Data'!$A:$Z,11,0))","v":0},0]
[2327,"Worth Primary School",null,"Worth Primary School",null,1,null,201547.27,201547.27015721149,-1.5721149975433946E-4,null,16913.830000000002,16913.831400000014,-1.4000000119267497E-3,null,1267.05,1267.0529833333319,-2.98333333194023E-3,null,18264.669999999998,18264.672879310379,-2.8793103811040055E-3,null,120084,120083.99999999999,0,null,0,0,0,null,0,0,0,null,0,0,0,null,3393,3393,0,null,0,0,0,null,0,0,0,null,0,0,0,null,361469.83,361469.82741985522,2.5801447918638587E-3,null,0,0,0,null,361469.83,361469.82741985522,2.5801447918638587E-3,null,0,null,0,null,3352.01,null,3352.01,null,0,null,0,null,36826.519999999997,36826.524569651869,0,null,2317.35,null,2317,null,5043.34,5043.3355974627511,0,null,0,null,0,null,0,null,0,null,0,null,0,null,0,null,0,null,0,null,0,null,"NO",{"$f":"IF(ISERROR(VLOOKUP($A300+8860000,'Growth Data'!$A:$F,3,0)),\"NO\",VLOOKUP($A300+8860000,'Growth Data'!$A:$F,3,0))","v":"NO"},0,null,0,{"$f":"IF(DI300=\"YES\",IF(ISERROR(VLOOKUP($A300+8860000,'Growth Data'!$A:$F,6,0)),0,VLOOKUP($A300+8860000,'Growth Data'!$A:$F,6,0)),0)","v":0},0,null,0,{"$f":"IF(ISERROR(VLOOKUP($A300+8860000,'Growth Data'!$A:$Z,7,0)),0,VLOOKUP($A300+8860000,'Growth Data'!$A:$Z,7,0))","v":0},0,null,"NO",{"$f":"IF(ISERROR(VLOOKUP($A300+8860000,'Growth Data'!$A:$F,4,0)),\"NO\",VLOOKUP($A300+8860000,'Growth Data'!$A:$F,4,0))","v":"NO"},0,null,0,{"$f":"IF(ISERROR(VLOOKUP($A300+8860000,'Growth Data'!$A:$Z,8,0)),0,VLOOKUP($A300+8860000,'Growth Data'!$A:$Z,8,0))","v":0},0,null,0,{"$f":"IF(ISERROR(VLOOKUP($A300+8860000,'Growth Data'!$A:$Z,9,0)),0,VLOOKUP($A300+8860000,'Growth Data'!$A:$Z,9,0))","v":0},0,null,"NO",{"$f":"IF(ISERROR(VLOOKUP($A300+8860000,'Growth Data'!$A:$Z,5,0)),\"NO\",VLOOKUP($A300+8860000,'Growth Data'!$A:$Z,5,0))","v":"NO"},0,null,0,{"$f":"IF(ISERROR(VLOOKUP($A300+8860000,'Growth Data'!$A:$Z,10,0)),0,VLOOKUP($A300+8860000,'Growth Data'!$A:$Z,10,0))","v":0},0,null,0,{"$f":"IF(ISERROR(VLOOKUP($A300+8860000,'Growth Data'!$A:$Z,11,0)),0,VLOOKUP($A300+8860000,'Growth Data'!$A:$Z,11,0))","v":0},0]
[3088,"Wouldham, All Saint's CEP School",null,"Wouldham, All Saint's CEP School",null,1,null,1115606.72,1115606.7207293536,-7.2935363277792931E-4,null,61299.78,61299.782567477159,-2.5674771604826674E-3,null,1884.2,1884.198613432837,1.3865671630810539E-3,null,115679.06,115679.06155714276,-1.5571427647955716E-3,null,120084,120083.99999999999,0,null,0,0,0,null,0,0,0,null,0,0,0,null,70656,70656,0,null,0,0,0,null,0,0,0,null,59196.24,59196.236532593379,3.4674066191655584E-3,null,1544406,1544405.9999999998,0,null,0,0,0,null,1544406,1544405.9999999998,0,null,0,null,0,null,3750,null,3750,null,0,null,0,null,168886.77,168886.76504506089,0,null,0,null,0,null,3750,3750,0,null,0,null,0,null,0,null,0,null,0,null,0,null,0,null,0,null,0,null,0,null,"YES",{"$f":"IF(ISERROR(VLOOKUP($A301+8860000,'Growth Data'!$A:$F,3,0)),\"NO\",VLOOKUP($A301+8860000,'Growth Data'!$A:$F,3,0))","v":"YES"},0,null,55,{"$f":"IF(DI301=\"YES\",IF(ISERROR(VLOOKUP($A301+8860000,'Growth Data'!$A:$F,6,0)),0,VLOOKUP($A301+8860000,'Growth Data'!$A:$F,6,0)),0)","v":47},8,null,60,{"$f":"IF(ISERROR(VLOOKUP($A301+8860000,'Growth Data'!$A:$Z,7,0)),0,VLOOKUP($A301+8860000,'Growth Data'!$A:$Z,7,0))","v":60},0,null,"YES",{"$f":"IF(ISERROR(VLOOKUP($A301+8860000,'Growth Data'!$A:$F,4,0)),\"NO\",VLOOKUP($A301+8860000,'Growth Data'!$A:$F,4,0))","v":"YES"},0,null,55,{"$f":"IF(ISERROR(VLOOKUP($A301+8860000,'Growth Data'!$A:$Z,8,0)),0,VLOOKUP($A301+8860000,'Growth Data'!$A:$Z,8,0))","v":51},1,null,60,{"$f":"IF(ISERROR(VLOOKUP($A301+8860000,'Growth Data'!$A:$Z,9,0)),0,VLOOKUP($A301+8860000,'Growth Data'!$A:$Z,9,0))","v":60},0,null,"NO",{"$f":"IF(ISERROR(VLOOKUP($A301+8860000,'Growth Data'!$A:$Z,5,0)),\"NO\",VLOOKUP($A301+8860000,'Growth Data'!$A:$Z,5,0))","v":"NO"},0,null,0,{"$f":"IF(ISERROR(VLOOKUP($A301+8860000,'Growth Data'!$A:$Z,10,0)),0,VLOOKUP($A301+8860000,'Growth Data'!$A:$Z,10,0))","v":0},0,null,0,{"$f":"IF(ISERROR(VLOOKUP($A301+8860000,'Growth Data'!$A:$Z,11,0)),0,VLOOKUP($A301+8860000,'Growth Data'!$A:$Z,11,0))","v":0},0]
[3092,"Yalding St Peter & St Paul CEP School",null,"Yalding St Peter & St Paul CEP School",null,1,null,471223.2,471223.19501545222,4.9845477915368974E-3,null,9216.4500000000007,9216.4470000000019,2.999999998792191E-3,null,612.91,612.9114965517241,-1.496551724130768E-3,null,39314.17,39314.167333333295,2.6666667035897262E-3,null,120084,120083.99999999999,0,null,0,0,0,null,0,0,0,null,0,0,0,null,14222,14222,0,null,0,0,0,null,0,0,0,null,0,0,0,null,654672.72,654672.72084533714,-8.4533717017620802E-4,null,0,0,0,null,654672.72,654672.72084533714,-8.4533717017620802E-4,null,0,null,0,null,3134.74,null,3134.74,null,0,null,0,null,50875.44,50875.438136893172,0,null,912.46,null,912,null,3858.14,3858.1368725622742,0,null,0,null,0,null,0,null,0,null,0,null,0,null,0,null,0,null,0,null,0,null,"NO",{"$f":"IF(ISERROR(VLOOKUP($A302+8860000,'Growth Data'!$A:$F,3,0)),\"NO\",VLOOKUP($A302+8860000,'Growth Data'!$A:$F,3,0))","v":"NO"},0,null,0,{"$f":"IF(DI302=\"YES\",IF(ISERROR(VLOOKUP($A302+8860000,'Growth Data'!$A:$F,6,0)),0,VLOOKUP($A302+8860000,'Growth Data'!$A:$F,6,0)),0)","v":0},0,null,0,{"$f":"IF(ISERROR(VLOOKUP($A302+8860000,'Growth Data'!$A:$Z,7,0)),0,VLOOKUP($A302+8860000,'Growth Data'!$A:$Z,7,0))","v":0},0,null,"NO",{"$f":"IF(ISERROR(VLOOKUP($A302+8860000,'Growth Data'!$A:$F,4,0)),\"NO\",VLOOKUP($A302+8860000,'Growth Data'!$A:$F,4,0))","v":"NO"},0,null,0,{"$f":"IF(ISERROR(VLOOKUP($A302+8860000,'Growth Data'!$A:$Z,8,0)),0,VLOOKUP($A302+8860000,'Growth Data'!$A:$Z,8,0))","v":0},0,null,0,{"$f":"IF(ISERROR(VLOOKUP($A302+8860000,'Growth Data'!$A:$Z,9,0)),0,VLOOKUP($A302+8860000,'Growth Data'!$A:$Z,9,0))","v":0},0,null,"NO",{"$f":"IF(ISERROR(VLOOKUP($A302+8860000,'Growth Data'!$A:$Z,5,0)),\"NO\",VLOOKUP($A302+8860000,'Growth Data'!$A:$Z,5,0))","v":"NO"},0,null,0,{"$f":"IF(ISERROR(VLOOKUP($A302+8860000,'Growth Data'!$A:$Z,10,0)),0,VLOOKUP($A302+8860000,'Growth Data'!$A:$Z,10,0))","v":0},0,null,0,{"$f":"IF(ISERROR(VLOOKUP($A302+8860000,'Growth Data'!$A:$Z,11,0)),0,VLOOKUP($A302+8860000,'Growth Data'!$A:$Z,11,0))","v":0},0]
[null,null,null,null,null,null,null,0,null,null,null,0,null,null,null,0,null,null,null,0,null,null,null,0,null,null,null,0,null,null,null,0,null,null,null,0,null,null,null,0,null,null,null,0,null,null,null,0,null,null,null,0,null,null,null,0,null,null,null,0,null,null,null,0,null,null,null,0,null,null,null,0,null,null,null,0,null,null,null,0,null,null,null,6000,null,null,null,0,0]
[null,null,null,null,null,null,null,0,null,null,null,0,null,null,null,0,null,null,null,0,null,null,null,0,null,null,null,0,null,null,null,0,null,null,null,0,null,null,null,0,null,null,null,0,null,null,null,0,null,null,null,0,null,null,null,0,null,null,null,0,null,null,null,0,null,null,null,0,null,null,null,0,null,null,null,0,null,null,null,0,null,null,null,6000,null,null,null,0,0]
[null,null,null,null,null,null,null,0,null,null,null,0,null,null,null,0,null,null,null,0,null,null,null,0,null,null,null,0,null,null,null,0,null,null,null,0,null,null,null,0,null,null,null,0,null,null,null,0,null,null,null,0,null,null,null,0,null,null,null,0,null,null,null,0,null,null,null,0,null,null,null,0,null,null,null,0,null,null,null,0,null,null,null,6000,null,null,null,0,0]
[null,null,null,null,null,null,null,0,null,null,null,0,null,null,null,0,null,null,null,0,null,null,null,0,null,null,null,0,null,null,null,0,null,null,null,0,null,null,null,0,null,null,null,0,null,null,null,0,null,null,null,0,null,null,null,0,null,null,null,0,null,null,null,0,null,null,null,0,null,null,null,0,null,null,null,0,null,null,null,0,null,null,null,6000,null,null,null,0,0]

{"sheet":"Growth Data","index":2,"n_rows":30,"n_cols":11,"rows_kept":30,"cut":false,"hidden":true,"merged":[[2,5,2,6],[2,7,2,8],[2,9,2,10]]}
["LA "]
[]
[null,null,null,null,null,"2020-21",null,"2021-22",null,"2022-23"]
[null,null,"2020-21","2021-22","2022-23","Lower","Higher","Lower","Higher","Lower","Higher"]
[8862000,"St Johns Church of England Primary School","YES","YES","YES",45,60,51,60,49,60]
[8862155,"Slade Primary School","YES","NO","NO",47,60]
[8862165,"Headcorn Primary School","YES","YES","YES",31,60,32,60,30,60]
[8862231,"Lower Halstow School","YES","YES","YES",20,30,27,30,20,30]
[8862245,"Rose Street School","YES","NO","NO",30,60]
[8862259,"Chartham Primary School","YES","YES","NO",46,60,46,60]
[8862265,"Hoath Primary School","YES","YES","YES",92,93,92,99,92,105]
[8862434,"West Minster Primary School","YES","YES","YES",60,90,62,90,60,90]
[8862509,"Singlewell Primary School","YES","YES","YES",30,60,31,60,30,60]
[8862534,"Bysing Wood Primary School","YES","YES","YES",30,60,30,60,30,60]
[8862689,"Craylands School, The","YES","YES","YES",30,60,31,60,30,60]
[8863035,"Seal CEP School","YES","YES","NO",30,60,33,60]
[8863053,"St Peters CEPS (T Wells)","NO","NO","YES",null,null,null,null,20,30]
[8863067,"Harrietsham CEP School","NO","NO","YES",null,null,null,null,30,60]
[8863088,"Wouldham, All Saint's CEP School","YES","YES","NO",47,60,51,60]
[8863145,"Woodchurch CEP School","YES","NO","NO",25,26]
[8863178,"Birchington CEP School","YES","YES","YES",61,90,60,90,60,90]
[8863337,"Tunstall CEP School","YES","YES","NO",30,60,30,60]
[8863907,"Hextable Primary School","YES","YES","NO",60,90,59,90]
[8863916,"Green Park Community Primary School","YES","NO","NO",49,60]
[8864040,"Northfleet School for Girls","YES","NO","NO",175,210]
[8864045,"Tunbridge Wells Grammar School for Boys","YES","YES","NO",180,210,196,210]
[8864522,"Maidstone Grammar School","YES","YES","NO",184,205,185,205]
[8864622,"Judd School, The","YES","YES","NO",155,180,158,180]
[8865407,"Thamesview School","YES","NO","NO",150,180]
[8865447,"St George's Church of England Foundation School","YES","YES","YES",0,60,31,60,31,60]

{"sheet":"TestAreaY2","index":3,"n_rows":325,"n_cols":90,"rows_kept":325,"cut":false,"hidden":true,"merged":[]}
["MI DfE no","School Name",null,"Macro School Name","Data Calc",{"$f":"SUM(F2:F324)","v":0},null,"Macro Formula Factors","Data Calc SBS",{"$f":"SUM(J2:J324)","v":0},null,"Macro MFG","Data Calc",{"$f":"SUM(N2:N324)","v":0},null,"Macro SBS","Data Calc",{"$f":"SUM(R2:R324)","v":0},null,"Y2 DeDel Total","Data Calc",{"$f":"SUM(V2:V324)","v":0},null,"July UIFSM","APSA",{"$f":"SUM(Z2:Z324)","v":0},null,"Early years rate",null,{"$f":"SUM(AD2:AD324)","v":0},null,"Macro Notional SEN","Data Calc",{"$f":"SUM(AH2:AH324)","v":26725206},null,"Macro SEN top up","Data Calc",{"$f":"SUM(AL2:AL324)","v":441614},null,"SRP Element 1","Data Calc",{"$f":"SUM(AP2:AP324)","v":1161999},null,"SRP Element 2","Data Calc",{"$f":"SUM(AT2:AT324)","v":1743000},null,"SRP 1 Pre","Data Calc",{"$f":"SUM(AX2:AX324)","v":0},null,"SRP 1 Post","Data Calc",{"$f":"SUM(BB2:BB324)","v":0},null,"SRP 2 Pre","Data Calc",{"$f":"SUM(BF2:BF324)","v":0},null,"SRP 2 Post","Data Calc",{"$f":"SUM(BJ2:BJ324)","v":0},null,"Qual Year1","Data Calc",{"$f":"SUM(BN2:BN324)","v":43},null,"Orig PAN 1","Data Calc",{"$f":"SUM(BR2:BR324)","v":-571},null,"Qual Year2","Data Calc",{"$f":"SUM(BV2:BV324)","v":38},null,"Orig PAN 2","Data Calc",{"$f":"SUM(BZ2:BZ324)","v":-541},null,"Qual Year3","Data Calc",{"$f":"SUM(CD2:CD324)","v":36},null,"Orig PAN 3","Data Calc",{"$f":"SUM(CH2:CH324)","v":658},null,"SEN protect","Data Calc",{"$f":"SUM(CL2:CL324)","v":0}]
[1001,"Northfleet Nursery",null,"Northfleet Nursery","Northfleet Nursery",{"$f":"IF(E2=D2,0,1)","v":0},null,0,0,{"$f":"ROUND(H2-I2,0)","v":0},null,0,0,{"$f":"ROUND(L2-M2,0)","v":0},null,0,0,{"$f":"ROUND(P2-Q2,0)","v":0},null,0,0,{"$f":"ROUND(T2-U2,0)","v":0},null,null,null,{"$f":"ROUND(X2-Y2,0)","v":0},null,5.01,5.01,{"$f":"ROUND(AB2-AC2,0)","v":0},null,0,null,{"$f":"ROUND(AF2-AG2,0)","v":0},null,0,null,{"$f":"ROUND(AJ2-AK2,0)","v":0},null,0,null,{"$f":"ROUND(AN2-AO2,0)","v":0},null,0,null,{"$f":"ROUND(AR2-AS2,0)","v":0},null,null,null,{"$f":"ROUND(AV2-AW2,0)","v":0},null,null,null,{"$f":"ROUND(AZ2-BA2,0)","v":0},null,null,null,{"$f":"ROUND(BD2-BE2,0)","v":0},null,null,null,{"$f":"ROUND(BH2-BI2,0)","v":0},null,"NO",{"$f":"IF(ISERROR(VLOOKUP($A2+8860000,'Growth Data'!$A:$F,3,0)),\"NO\",VLOOKUP($A2+8860000,'Growth Data'!$A:$F,3,0))","v":"NO"},{"$f":"IF(BL2=BM2,0,1)","v":0},null,0,{"$f":"IF(BM2=\"YES\",IF(ISERROR(VLOOKUP($A2+8860000,'Growth Data'!$A:$F,6,0)),0,VLOOKUP($A2+8860000,'Growth Data'!$A:$F,6,0)),0)","v":0},{"$f":"ROUND(BP2-BQ2,0)","v":0},null,"NO",{"$f":"IF(ISERROR(VLOOKUP($A2+8860000,'Growth Data'!$A:$F,4,0)),\"NO\",VLOOKUP($A2+8860000,'Growth Data'!$A:$F,4,0))","v":"NO"},{"$f":"IF(BT2=BU2,0,1)","v":0},null,0,{"$f":"IF(BU2=\"YES\",IF(ISERROR(VLOOKUP($A2+8860000,'Growth Data'!$A:$Z,7,0)),0,VLOOKUP($A2+8860000,'Growth Data'!$A:$Z,7,0)),0)","v":0},{"$f":"ROUND(BX2-BY2,0)","v":0},null,"NO",{"$f":"IF(ISERROR(VLOOKUP($A2+8860000,'Growth Data'!$A:$F,5,0)),\"NO\",VLOOKUP($A2+8860000,'Growth Data'!$A:$F,5,0))","v":"NO"},{"$f":"IF(CB2=CC2,0,1)","v":0},null,0,{"$f":"IF(CC2=\"YES\",IF(ISERROR(VLOOKUP($A2+8860000,'Growth Data'!$A:$Z,8,0)),0,VLOOKUP($A2+8860000,'Growth Data'!$A:$Z,8,0)),0)","v":0},{"$f":"ROUND(CF2-CG2,0)","v":0},null,null,null,{"$f":"ROUND(CJ2-CK2,0)","v":0}]
[2000,"St Johns C of E Primary School",null,"St Johns C of E Primary School","St Johns C of E Primary School",{"$f":"IF(E3=D3,0,1)","v":0},null,1154700.31,1154700.3098665797,{"$f":"ROUND(H3-I3,0)","v":0},null,0,0,{"$f":"ROUND(L3-M3,0)","v":0},null,1154700.31,1154700.3098665797,{"$f":"ROUND(P3-Q3,0)","v":0},null,6984.34,6984.3358687999998,{"$f":"ROUND(T3-U3,0)","v":0},null,null,null,{"$f":"ROUND(X3-Y3,0)","v":0},null,5,5,{"$f":"ROUND(AB3-AC3,0)","v":0},null,177198.44,null,{"$f":"ROUND(AF3-AG3,0)","v":177198},null,0,null,{"$f":"ROUND(AJ3-AK3,0)","v":0},null,0,null,{"$f":"ROUND(AN3-AO3,0)","v":0},null,0,null,{"$f":"ROUND(AR3-AS3,0)","v":0},null,null,null,{"$f":"ROUND(AV3-AW3,0)","v":0},null,null,null,{"$f":"ROUND(AZ3-BA3,0)","v":0},null,null,null,{"$f":"ROUND(BD3-BE3,0)","v":0},null,null,null,{"$f":"ROUND(BH3-BI3,0)","v":0},null,"NO",{"$f":"IF(ISERROR(VLOOKUP($A3+8860000,'Growth Data'!$A:$F,3,0)),\"NO\",VLOOKUP($A3+8860000,'Growth Data'!$A:$F,3,0))","v":"YES"},{"$f":"IF(BL3=BM3,0,1)","v":1},null,0,{"$f":"IF(BM3=\"YES\",IF(ISERROR(VLOOKUP($A3+8860000,'Growth Data'!$A:$F,6,0)),0,VLOOKUP($A3+8860000,'Growth Data'!$A:$F,6,0)),0)","v":45},{"$f":"ROUND(BP3-BQ3,0)","v":-45},null,"NO",{"$f":"IF(ISERROR(VLOOKUP($A3+8860000,'Growth Data'!$A:$F,4,0)),\"NO\",VLOOKUP($A3+8860000,'Growth Data'!$A:$F,4,0))","v":"YES"},{"$f":"IF(BT3=BU3,0,1)","v":1},null,0,{"$f":"IF(BU3=\"YES\",IF(ISERROR(VLOOKUP($A3+8860000,'Growth Data'!$A:$Z,7,0)),0,VLOOKUP($A3+8860000,'Growth Data'!$A:$Z,7,0)),0)","v":60},{"$f":"ROUND(BX3-BY3,0)","v":-60},null,"NO",{"$f":"IF(ISERROR(VLOOKUP($A3+8860000,'Growth Data'!$A:$F,5,0)),\"NO\",VLOOKUP($A3+8860000,'Growth Data'!$A:$F,5,0))","v":"YES"},{"$f":"IF(CB3=CC3,0,1)","v":1},null,0,{"$f":"IF(CC3=\"YES\",IF(ISERROR(VLOOKUP($A3+8860000,'Growth Data'!$A:$Z,8,0)),0,VLOOKUP($A3+8860000,'Growth Data'!$A:$Z,8,0)),0)","v":51},{"$f":"ROUND(CF3-CG3,0)","v":-51},null,null,null,{"$f":"ROUND(CJ3-CK3,0)","v":0}]
[2002,"Repton Manor Primary School",null,"Repton Manor Primary School","Repton Manor Primary School",0,null,1541106,1541106.0000000002,0,null,0,0,0,null,1541106,1541106.0000000002,0,null,11529.29,11529.289724599999,0,null,null,null,0,null,0,0,0,null,102895.27,null,102895,null,0,null,0,null,0,null,0,null,0,null,0,null,null,null,0,null,null,null,0,null,null,null,0,null,null,null,0,null,"YES",{"$f":"IF(ISERROR(VLOOKUP($A4+8860000,'Growth Data'!$A:$F,3,0)),\"NO\",VLOOKUP($A4+8860000,'Growth Data'!$A:$F,3,0))","v":"NO"},1,null,60,{"$f":"IF(BM4=\"YES\",IF(ISERROR(VLOOKUP($A4+8860000,'Growth Data'!$A:$F,6,0)),0,VLOOKUP($A4+8860000,'Growth Data'!$A:$F,6,0)),0)","v":0},60,null,"YES",{"$f":"IF(ISERROR(VLOOKUP($A4+8860000,'Growth Data'!$A:$F,4,0)),\"NO\",VLOOKUP($A4+8860000,'Growth Data'!$A:$F,4,0))","v":"NO"},1,null,60,{"$f":"IF(BU4=\"YES\",IF(ISERROR(VLOOKUP($A4+8860000,'Growth Data'!$A:$Z,7,0)),0,VLOOKUP($A4+8860000,'Growth Data'!$A:$Z,7,0)),0)","v":0},60,null,"NO",{"$f":"IF(ISERROR(VLOOKUP($A4+8860000,'Growth Data'!$A:$F,5,0)),\"NO\",VLOOKUP($A4+8860000,'Growth Data'!$A:$F,5,0))","v":"NO"},0,null,0,{"$f":"IF(CC4=\"YES\",IF(ISERROR(VLOOKUP($A4+8860000,'Growth Data'!$A:$Z,8,0)),0,VLOOKUP($A4+8860000,'Growth Data'!$A:$Z,8,0)),0)","v":0},0,null,null,null,0]
[2044,"Loose Primary School",null,"Loose Primary School","Loose Primary School",0,null,2274481,2274481,0,null,0,0,0,null,2274481,2274481,0,null,16741.86,16741.863920800002,0,null,null,null,0,null,0,0,0,null,149287.38,null,149287,null,0,null,0,null,0,null,0,null,0,null,0,null,null,null,0,null,null,null,0,null,null,null,0,null,null,null,0,null,"NO",{"$f":"IF(ISERROR(VLOOKUP($A5+8860000,'Growth Data'!$A:$F,3,0)),\"NO\",VLOOKUP($A5+8860000,'Growth Data'!$A:$F,3,0))","v":"NO"},0,null,0,{"$f":"IF(BM5=\"YES\",IF(ISERROR(VLOOKUP($A5+8860000,'Growth Data'!$A:$F,6,0)),0,VLOOKUP($A5+8860000,'Growth Data'!$A:$F,6,0)),0)","v":0},0,null,"NO",{"$f":"IF(ISERROR(VLOOKUP($A5+8860000,'Growth Data'!$A:$F,4,0)),\"NO\",VLOOKUP($A5+8860000,'Growth Data'!$A:$F,4,0))","v":"NO"},0,null,0,{"$f":"IF(BU5=\"YES\",IF(ISERROR(VLOOKUP($A5+8860000,'Growth Data'!$A:$Z,7,0)),0,VLOOKUP($A5+8860000,'Growth Data'!$A:$Z,7,0)),0)","v":0},0,null,"NO",{"$f":"IF(ISERROR(VLOOKUP($A5+8860000,'Growth Data'!$A:$F,5,0)),\"NO\",VLOOKUP($A5+8860000,'Growth Data'!$A:$F,5,0))","v":"NO"},0,null,0,{"$f":"IF(CC5=\"YES\",IF(ISERROR(VLOOKUP($A5+8860000,'Growth Data'!$A:$Z,8,0)),0,VLOOKUP($A5+8860000,'Growth Data'!$A:$Z,8,0)),0)","v":0},0,null,null,null,0]
[2062,"Darenth Community Primary School",null,"Darenth Community Primary School","Darenth Community Primary School",0,null,794948.12,794948.11500552902,0,null,0,0,0,null,794948.12,794948.11500552902,0,null,4923.29,4923.2891671635998,0,null,null,null,0,null,0,0,0,null,108769.02,null,108769,null,0,null,0,null,0,null,0,null,0,null,0,null,null,null,0,null,null,null,0,null,null,null,0,null,null,null,0,null,"NO",{"$f":"IF(ISERROR(VLOOKUP($A6+8860000,'Growth Data'!$A:$F,3,0)),\"NO\",VLOOKUP($A6+8860000,'Growth Data'!$A:$F,3,0))","v":"NO"},0,null,0,{"$f":"IF(BM6=\"YES\",IF(ISERROR(VLOOKUP($A6+8860000,'Growth Data'!$A:$F,6,0)),0,VLOOKUP($A6+8860000,'Growth Data'!$A:$F,6,0)),0)","v":0},0,null,"NO",{"$f":"IF(ISERROR(VLOOKUP($A6+8860000,'Growth Data'!$A:$F,4,0)),\"NO\",VLOOKUP($A6+8860000,'Growth Data'!$A:$F,4,0))","v":"NO"},0,null,0,{"$f":"IF(BU6=\"YES\",IF(ISERROR(VLOOKUP($A6+8860000,'Growth Data'!$A:$Z,7,0)),0,VLOOKUP($A6+8860000,'Growth Data'!$A:$Z,7,0)),0)","v":0},0,null,"NO",{"$f":"IF(ISERROR(VLOOKUP($A6+8860000,'Growth Data'!$A:$F,5,0)),\"NO\",VLOOKUP($A6+8860000,'Growth Data'!$A:$F,5,0))","v":"NO"},0,null,0,{"$f":"IF(CC6=\"YES\",IF(ISERROR(VLOOKUP($A6+8860000,'Growth Data'!$A:$Z,8,0)),0,VLOOKUP($A6+8860000,'Growth Data'!$A:$Z,8,0)),0)","v":0},0,null,null,null,0]
[2065,"Discovery School, The",null,"Discovery School, The","Discovery School, The",0,null,2215457,2215457,0,null,0,0,0,null,2215457,2215457,0,null,16176.95,16176.954402000001,0,null,null,null,0,null,0,0,0,null,98017.44,null,98017,null,0,null,0,null,0,null,0,null,0,null,0,null,null,null,0,null,null,null,0,null,null,null,0,null,null,null,0,null,"NO",{"$f":"IF(ISERROR(VLOOKUP($A7+8860000,'Growth Data'!$A:$F,3,0)),\"NO\",VLOOKUP($A7+8860000,'Growth Data'!$A:$F,3,0))","v":"NO"},0,null,0,{"$f":"IF(BM7=\"YES\",IF(ISERROR(VLOOKUP($A7+8860000,'Growth Data'!$A:$F,6,0)),0,VLOOKUP($A7+8860000,'Growth Data'!$A:$F,6,0)),0)","v":0},0,null,"NO",{"$f":"IF(ISERROR(VLOOKUP($A7+8860000,'Growth Data'!$A:$F,4,0)),\"NO\",VLOOKUP($A7+8860000,'Growth Data'!$A:$F,4,0))","v":"NO"},0,null,0,{"$f":"IF(BU7=\"YES\",IF(ISERROR(VLOOKUP($A7+8860000,'Growth Data'!$A:$Z,7,0)),0,VLOOKUP($A7+8860000,'Growth Data'!$A:$Z,7,0)),0)","v":0},0,null,"NO",{"$f":"IF(ISERROR(VLOOKUP($A7+8860000,'Growth Data'!$A:$F,5,0)),\"NO\",VLOOKUP($A7+8860000,'Growth Data'!$A:$F,5,0))","v":"NO"},0,null,0,{"$f":"IF(CC7=\"YES\",IF(ISERROR(VLOOKUP($A7+8860000,'Growth Data'!$A:$Z,8,0)),0,VLOOKUP($A7+8860000,'Growth Data'!$A:$Z,8,0)),0)","v":0},0,null,null,null,0]
[2066,"Maypole Primary School",null,"Maypole Primary School","Maypole Primary School",0,null,1499637.65,1499637.6495489718,0,null,0,0,0,null,1499637.65,1499637.6495489718,0,null,10911.07,10911.073289389598,0,null,null,null,0,null,0,0,0,null,119178.78,null,119179,null,0,null,0,null,0,null,0,null,0,null,0,null,null,null,0,null,null,null,0,null,null,null,0,null,null,null,0,null,"NO",{"$f":"IF(ISERROR(VLOOKUP($A8+8860000,'Growth Data'!$A:$F,3,0)),\"NO\",VLOOKUP($A8+8860000,'Growth Data'!$A:$F,3,0))","v":"NO"},0,null,0,{"$f":"IF(BM8=\"YES\",IF(ISERROR(VLOOKUP($A8+8860000,'Growth Data'!$A:$F,6,0)),0,VLOOKUP($A8+8860000,'Growth Data'!$A:$F,6,0)),0)","v":0},0,null,"NO",{"$f":"IF(ISERROR(VLOOKUP($A8+8860000,'Growth Data'!$A:$F,4,0)),\"NO\",VLOOKUP($A8+8860000,'Growth Data'!$A:$F,4,0))","v":"NO"},0,null,0,{"$f":"IF(BU8=\"YES\",IF(ISERROR(VLOOKUP($A8+8860000,'Growth Data'!$A:$Z,7,0)),0,VLOOKUP($A8+8860000,'Growth Data'!$A:$Z,7,0)),0)","v":0},0,null,"NO",{"$f":"IF(ISERROR(VLOOKUP($A8+8860000,'Growth Data'!$A:$F,5,0)),\"NO\",VLOOKUP($A8+8860000,'Growth Data'!$A:$F,5,0))","v":"NO"},0,null,0,{"$f":"IF(CC8=\"YES\",IF(ISERROR(VLOOKUP($A8+8860000,'Growth Data'!$A:$Z,8,0)),0,VLOOKUP($A8+8860000,'Growth Data'!$A:$Z,8,0)),0)","v":0},0,null,null,null,0]
[2074,"Sunny Bank Primary School",null,"Sunny Bank Primary School","Sunny Bank Primary School",0,null,1174236.55,1174236.5507490817,0,null,0,0,0,null,1174236.55,1174236.5507490817,0,null,7010.01,7010.0135742000002,0,null,null,null,0,null,5.1100000000000003,5.1100000000000003,0,null,193117.8,null,193118,null,0,null,0,null,0,null,0,null,0,null,0,null,null,null,0,null,null,null,0,null,null,null,0,null,null,null,0,null,"NO",{"$f":"IF(ISERROR(VLOOKUP($A9+8860000,'Growth Data'!$A:$F,3,0)),\"NO\",VLOOKUP($A9+8860000,'Growth Data'!$A:$F,3,0))","v":"NO"},0,null,0,{"$f":"IF(BM9=\"YES\",IF(ISERROR(VLOOKUP($A9+8860000,'Growth Data'!$A:$F,6,0)),0,VLOOKUP($A9+8860000,'Growth Data'!$A:$F,6,0)),0)","v":0},0,null,"NO",{"$f":"IF(ISERROR(VLOOKUP($A9+8860000,'Growth Data'!$A:$F,4,0)),\"NO\",VLOOKUP($A9+8860000,'Growth Data'!$A:$F,4,0))","v":"NO"},0,null,0,{"$f":"IF(BU9=\"YES\",IF(ISERROR(VLOOKUP($A9+8860000,'Growth Data'!$A:$Z,7,0)),0,VLOOKUP($A9+8860000,'Growth Data'!$A:$Z,7,0)),0)","v":0},0,null,"NO",{"$f":"IF(ISERROR(VLOOKUP($A9+8860000,'Growth Data'!$A:$F,5,0)),\"NO\",VLOOKUP($A9+8860000,'Growth Data'!$A:$F,5,0))","v":"NO"},0,null,0,{"$f":"IF(CC9=\"YES\",IF(ISERROR(VLOOKUP($A9+8860000,'Growth Data'!$A:$Z,8,0)),0,VLOOKUP($A9+8860000,'Growth Data'!$A:$Z,8,0)),0)","v":0},0,null,null,null,0]
[2079,"Woodlands Primary School",null,"Woodlands Primary School","Woodlands Primary School",0,null,2275909,2275909,0,null,0,0,0,null,2275909,2275909,0,null,16767.54,16767.5416262,0,null,null,null,0,null,0,0,0,null,142087.03,null,142087,null,0,null,0,null,0,null,0,null,0,null,0,null,null,null,0,null,null,null,0,null,null,null,0,null,null,null,0,null,"NO",{"$f":"IF(ISERROR(VLOOKUP($A10+8860000,'Growth Data'!$A:$F,3,0)),\"NO\",VLOOKUP($A10+8860000,'Growth Data'!$A:$F,3,0))","v":"NO"},0,null,0,{"$f":"IF(BM10=\"YES\",IF(ISERROR(VLOOKUP($A10+8860000,'Growth Data'!$A:$F,6,0)),0,VLOOKUP($A10+8860000,'Growth Data'!$A:$F,6,0)),0)","v":0},0,null,"NO",{"$f":"IF(ISERROR(VLOOKUP($A10+8860000,'Growth Data'!$A:$F,4,0)),\"NO\",VLOOKUP($A10+8860000,'Growth Data'!$A:$F,4,0))","v":"NO"},0,null,0,{"$f":"IF(BU10=\"YES\",IF(ISERROR(VLOOKUP($A10+8860000,'Growth Data'!$A:$Z,7,0)),0,VLOOKUP($A10+8860000,'Growth Data'!$A:$Z,7,0)),0)","v":0},0,null,"NO",{"$f":"IF(ISERROR(VLOOKUP($A10+8860000,'Growth Data'!$A:$F,5,0)),\"NO\",VLOOKUP($A10+8860000,'Growth Data'!$A:$F,5,0))","v":"NO"},0,null,0,{"$f":"IF(CC10=\"YES\",IF(ISERROR(VLOOKUP($A10+8860000,'Growth Data'!$A:$Z,8,0)),0,VLOOKUP($A10+8860000,'Growth Data'!$A:$Z,8,0)),0)","v":0},0,null,null,null,0]
[2088,"Crockenhill Primary School",null,"Crockenhill Primary School","Crockenhill Primary School",0,null,808523.32,808523.32217854587,0,null,0,0,0,null,808523.32,808523.32217854587,0,null,5508.76,5508.7613924479201,0,null,null,null,0,null,0,0,0,null,60901.599999999999,null,60902,null,0,null,0,null,0,null,0,null,0,null,0,null,null,null,0,null,null,null,0,null,null,null,0,null,null,null,0,null,"NO",{"$f":"IF(ISERROR(VLOOKUP($A11+8860000,'Growth Data'!$A:$F,3,0)),\"NO\",VLOOKUP($A11+8860000,'Growth Data'!$A:$F,3,0))","v":"NO"},0,null,0,{"$f":"IF(BM11=\"YES\",IF(ISERROR(VLOOKUP($A11+8860000,'Growth Data'!$A:$F,6,0)),0,VLOOKUP($A11+8860000,'Growth Data'!$A:$F,6,0)),0)","v":0},0,null,"NO",{"$f":"IF(ISERROR(VLOOKUP($A11+8860000,'Growth Data'!$A:$F,4,0)),\"NO\",VLOOKUP($A11+8860000,'Growth Data'!$A:$F,4,0))","v":"NO"},0,null,0,{"$f":"IF(BU11=\"YES\",IF(ISERROR(VLOOKUP($A11+8860000,'Growth Data'!$A:$Z,7,0)),0,VLOOKUP($A11+8860000,'Growth Data'!$A:$Z,7,0)),0)","v":0},0,null,"NO",{"$f":"IF(ISERROR(VLOOKUP($A11+8860000,'Growth Data'!$A:$F,5,0)),\"NO\",VLOOKUP($A11+8860000,'Growth Data'!$A:$F,5,0))","v":"NO"},0,null,0,{"$f":"IF(CC11=\"YES\",IF(ISERROR(VLOOKUP($A11+8860000,'Growth Data'!$A:$Z,8,0)),0,VLOOKUP($A11+8860000,'Growth Data'!$A:$Z,8,0)),0)","v":0},0,null,null,null,0]
[2089,"Anthony Roper Primary School, The",null,"Anthony Roper Primary School, The","Anthony Roper Primary School, The",0,null,1096372.07,1096372.0702849976,0,null,0,0,0,null,1096372.07,1096372.0702849976,0,null,8356.2900000000009,8356.2853972398389,0,null,null,null,0,null,0,0,0,null,59777.88,null,59778,null,22.21,null,22,null,0,null,0,null,0,null,0,null,null,null,0,null,null,null,0,null,null,null,0,null,null,null,0,null,"NO",{"$f":"IF(ISERROR(VLOOKUP($A12+8860000,'Growth Data'!$A:$F,3,0)),\"NO\",VLOOKUP($A12+8860000,'Growth Data'!$A:$F,3,0))","v":"NO"},0,null,0,{"$f":"IF(BM12=\"YES\",IF(ISERROR(VLOOKUP($A12+8860000,'Growth Data'!$A:$F,6,0)),0,VLOOKUP($A12+8860000,'Growth Data'!$A:$F,6,0)),0)","v":0},0,null,"NO",{"$f":"IF(ISERROR(VLOOKUP($A12+8860000,'Growth Data'!$A:$F,4,0)),\"NO\",VLOOKUP($A12+8860000,'Growth Data'!$A:$F,4,0))","v":"NO"},0,null,0,{"$f":"IF(BU12=\"YES\",IF(ISERROR(VLOOKUP($A12+8860000,'Growth Data'!$A:$Z,7,0)),0,VLOOKUP($A12+8860000,'Growth Data'!$A:$Z,7,0)),0)","v":0},0,null,"NO",{"$f":"IF(ISERROR(VLOOKUP($A12+8860000,'Growth Data'!$A:$F,5,0)),\"NO\",VLOOKUP($A12+8860000,'Growth Data'!$A:$F,5,0))","v":"NO"},0,null,0,{"$f":"IF(CC12=\"YES\",IF(ISERROR(VLOOKUP($A12+8860000,'Growth Data'!$A:$Z,8,0)),0,VLOOKUP($A12+8860000,'Growth Data'!$A:$Z,8,0)),0)","v":0},0,null,null,null,0]
[2094,"Cobham Primary School",null,"Cobham Primary School","Cobham Primary School",0,null,775017.67,775017.66946996679,0,null,0,0,0,null,775017.67,775017.66946996679,0,null,5597.74,5597.7397772000004,0,null,null,null,0,null,0,0,0,null,36479.06,null,36479,null,2352.09,null,2352,null,0,null,0,null,0,null,0,null,null,null,0,null,null,null,0,null,null,null,0,null,null,null,0,null,"NO",{"$f":"IF(ISERROR(VLOOKUP($A13+8860000,'Growth Data'!$A:$F,3,0)),\"NO\",VLOOKUP($A13+8860000,'Growth Data'!$A:$F,3,0))","v":"NO"},0,null,0,{"$f":"IF(BM13=\"YES\",IF(ISERROR(VLOOKUP($A13+8860000,'Growth Data'!$A:$F,6,0)),0,VLOOKUP($A13+8860000,'Growth Data'!$A:$F,6,0)),0)","v":0},0,null,"NO",{"$f":"IF(ISERROR(VLOOKUP($A13+8860000,'Growth Data'!$A:$F,4,0)),\"NO\",VLOOKUP($A13+8860000,'Growth Data'!$A:$F,4,0))","v":"NO"},0,null,0,{"$f":"IF(BU13=\"YES\",IF(ISERROR(VLOOKUP($A13+8860000,'Growth Data'!$A:$Z,7,0)),0,VLOOKUP($A13+8860000,'Growth Data'!$A:$Z,7,0)),0)","v":0},0,null,"NO",{"$f":"IF(ISERROR(VLOOKUP($A13+8860000,'Growth Data'!$A:$F,5,0)),\"NO\",VLOOKUP($A13+8860000,'Growth Data'!$A:$F,5,0))","v":"NO"},0,null,0,{"$f":"IF(CC13=\"YES\",IF(ISERROR(VLOOKUP($A13+8860000,'Growth Data'!$A:$Z,8,0)),0,VLOOKUP($A13+8860000,'Growth Data'!$A:$Z,8,0)),0)","v":0},0,null,null,null,0]
[2095,"Cecil Road Primary and Nursery School",null,"Cecil Road Primary and Nursery School","Cecil Road Primary and Nursery School",0,null,1405654.29,1405654.2915977519,0,null,0,0,0,null,1405654.29,1405654.2915977519,0,null,9808.8799999999992,9808.8834628000004,0,null,null,null,0,null,4.9000000000000004,4.9000000000000004,0,null,127687.21,null,127687,null,0,null,0,null,0,null,0,null,0,null,0,null,null,null,0,null,null,null,0,null,null,null,0,null,null,null,0,null,"NO",{"$f":"IF(ISERROR(VLOOKUP($A14+8860000,'Growth Data'!$A:$F,3,0)),\"NO\",VLOOKUP($A14+8860000,'Growth Data'!$A:$F,3,0))","v":"NO"},0,null,0,{"$f":"IF(BM14=\"YES\",IF(ISERROR(VLOOKUP($A14+8860000,'Growth Data'!$A:$F,6,0)),0,VLOOKUP($A14+8860000,'Growth Data'!$A:$F,6,0)),0)","v":0},0,null,"NO",{"$f":"IF(ISERROR(VLOOKUP($A14+8860000,'Growth Data'!$A:$F,4,0)),\"NO\",VLOOKUP($A14+8860000,'Growth Data'!$A:$F,4,0))","v":"NO"},0,null,0,{"$f":"IF(BU14=\"YES\",IF(ISERROR(VLOOKUP($A14+8860000,'Growth Data'!$A:$Z,7,0)),0,VLOOKUP($A14+8860000,'Growth Data'!$A:$Z,7,0)),0)","v":0},0,null,"NO",{"$f":"IF(ISERROR(VLOOKUP($A14+8860000,'Growth Data'!$A:$F,5,0)),\"NO\",VLOOKUP($A14+8860000,'Growth Data'!$A:$F,5,0))","v":"NO"},0,null,0,{"$f":"IF(CC14=\"YES\",IF(ISERROR(VLOOKUP($A14+8860000,'Growth Data'!$A:$Z,8,0)),0,VLOOKUP($A14+8860000,'Growth Data'!$A:$Z,8,0)),0)","v":0},0,null,null,null,0]
[2109,"Higham Primary School",null,"Higham Primary School","Higham Primary School",0,null,781784.36,781784.36182316369,0,null,0,0,0,null,781784.36,781784.36182316369,0,null,5546.38,5546.3843664000005,0,null,null,null,0,null,0,0,0,null,42130.03,null,42130,null,1787,null,1787,null,0,null,0,null,0,null,0,null,null,null,0,null,null,null,0,null,null,null,0,null,null,null,0,null,"NO",{"$f":"IF(ISERROR(VLOOKUP($A15+8860000,'Growth Data'!$A:$F,3,0)),\"NO\",VLOOKUP($A15+8860000,'Growth Data'!$A:$F,3,0))","v":"NO"},0,null,0,{"$f":"IF(BM15=\"YES\",IF(ISERROR(VLOOKUP($A15+8860000,'Growth Data'!$A:$F,6,0)),0,VLOOKUP($A15+8860000,'Growth Data'!$A:$F,6,0)),0)","v":0},0,null,"NO",{"$f":"IF(ISERROR(VLOOKUP($A15+8860000,'Growth Data'!$A:$F,4,0)),\"NO\",VLOOKUP($A15+8860000,'Growth Data'!$A:$F,4,0))","v":"NO"},0,null,0,{"$f":"IF(BU15=\"YES\",IF(ISERROR(VLOOKUP($A15+8860000,'Growth Data'!$A:$Z,7,0)),0,VLOOKUP($A15+8860000,'Growth Data'!$A:$Z,7,0)),0)","v":0},0,null,"NO",{"$f":"IF(ISERROR(VLOOKUP($A15+8860000,'Growth Data'!$A:$F,5,0)),\"NO\",VLOOKUP($A15+8860000,'Growth Data'!$A:$F,5,0))","v":"NO"},0,null,0,{"$f":"IF(CC15=\"YES\",IF(ISERROR(VLOOKUP($A15+8860000,'Growth Data'!$A:$Z,8,0)),0,VLOOKUP($A15+8860000,'Growth Data'!$A:$Z,8,0)),0)","v":0},0,null,null,null,0]
[2116,"Lawn Primary School",null,"Lawn Primary School","Lawn Primary School",0,null,926060.85,926060.84849564463,0,null,0,0,0,null,926060.85,926060.84849564463,0,null,5135.54,5135.5410799999991,0,null,null,null,0,null,5.52,5.52,0,null,170279.84,null,170280,null,0,null,0,null,0,null,0,null,0,null,0,null,null,null,0,null,null,null,0,null,null,null,0,null,null,null,0,null,"NO",{"$f":"IF(ISERROR(VLOOKUP($A16+8860000,'Growth Data'!$A:$F,3,0)),\"NO\",VLOOKUP($A16+8860000,'Growth Data'!$A:$F,3,0))","v":"NO"},0,null,0,{"$f":"IF(BM16=\"YES\",IF(ISERROR(VLOOKUP($A16+8860000,'Growth Data'!$A:$F,6,0)),0,VLOOKUP($A16+8860000,'Growth Data'!$A:$F,6,0)),0)","v":0},0,null,"NO",{"$f":"IF(ISERROR(VLOOKUP($A16+8860000,'Growth Data'!$A:$F,4,0)),\"NO\",VLOOKUP($A16+8860000,'Growth Data'!$A:$F,4,0))","v":"NO"},0,null,0,{"$f":"IF(BU16=\"YES\",IF(ISERROR(VLOOKUP($A16+8860000,'Growth Data'!$A:$Z,7,0)),0,VLOOKUP($A16+8860000,'Growth Data'!$A:$Z,7,0)),0)","v":0},0,null,"NO",{"$f":"IF(ISERROR(VLOOKUP($A16+8860000,'Growth Data'!$A:$F,5,0)),\"NO\",VLOOKUP($A16+8860000,'Growth Data'!$A:$F,5,0))","v":"NO"},0,null,0,{"$f":"IF(CC16=\"YES\",IF(ISERROR(VLOOKUP($A16+8860000,'Growth Data'!$A:$Z,8,0)),0,VLOOKUP($A16+8860000,'Growth Data'!$A:$Z,8,0)),0)","v":0},0,null,null,null,0]
[2119,"Shears Green Infant School",null,"Shears Green Infant School","Shears Green Infant School",0,null,1279430.33,1279430.3302759652,0,null,169.72,169.71956342295744,0,null,1279600.05,1279600.0498393881,0,null,9218.2999999999993,9218.2962385999999,0,null,null,null,0,null,0,0,0,null,109827.78,null,109828,null,0,null,0,null,0,null,0,null,0,null,0,null,null,null,0,null,null,null,0,null,null,null,0,null,null,null,0,null,"NO",{"$f":"IF(ISERROR(VLOOKUP($A17+8860000,'Growth Data'!$A:$F,3,0)),\"NO\",VLOOKUP($A17+8860000,'Growth Data'!$A:$F,3,0))","v":"NO"},0,null,0,{"$f":"IF(BM17=\"YES\",IF(ISERROR(VLOOKUP($A17+8860000,'Growth Data'!$A:$F,6,0)),0,VLOOKUP($A17+8860000,'Growth Data'!$A:$F,6,0)),0)","v":0},0,null,"NO",{"$f":"IF(ISERROR(VLOOKUP($A17+8860000,'Growth Data'!$A:$F,4,0)),\"NO\",VLOOKUP($A17+8860000,'Growth Data'!$A:$F,4,0))","v":"NO"},0,null,0,{"$f":"IF(BU17=\"YES\",IF(ISERROR(VLOOKUP($A17+8860000,'Growth Data'!$A:$Z,7,0)),0,VLOOKUP($A17+8860000,'Growth Data'!$A:$Z,7,0)),0)","v":0},0,null,"NO",{"$f":"IF(ISERROR(VLOOKUP($A17+8860000,'Growth Data'!$A:$F,5,0)),\"NO\",VLOOKUP($A17+8860000,'Growth Data'!$A:$F,5,0))","v":"NO"},0,null,0,{"$f":"IF(CC17=\"YES\",IF(ISERROR(VLOOKUP($A17+8860000,'Growth Data'!$A:$Z,8,0)),0,VLOOKUP($A17+8860000,'Growth Data'!$A:$Z,8,0)),0)","v":0},0,null,null,null,0]
[2120,"Bean Primary School",null,"Bean Primary School","Bean Primary School",0,null,824107.02,824107.02485826134,0,null,0,0,0,null,824107.02,824107.02485826134,0,null,5428.92,5428.9242708182401,0,null,null,null,0,null,0,0,0,null,87801.9,null,87802,null,0,null,0,null,0,null,0,null,0,null,0,null,null,null,0,null,null,null,0,null,null,null,0,null,null,null,0,null,"NO",{"$f":"IF(ISERROR(VLOOKUP($A18+8860000,'Growth Data'!$A:$F,3,0)),\"NO\",VLOOKUP($A18+8860000,'Growth Data'!$A:$F,3,0))","v":"NO"},0,null,0,{"$f":"IF(BM18=\"YES\",IF(ISERROR(VLOOKUP($A18+8860000,'Growth Data'!$A:$F,6,0)),0,VLOOKUP($A18+8860000,'Growth Data'!$A:$F,6,0)),0)","v":0},0,null,"NO",{"$f":"IF(ISERROR(VLOOKUP($A18+8860000,'Growth Data'!$A:$F,4,0)),\"NO\",VLOOKUP($A18+8860000,'Growth Data'!$A:$F,4,0))","v":"NO"},0,null,0,{"$f":"IF(BU18=\"YES\",IF(ISERROR(VLOOKUP($A18+8860000,'Growth Data'!$A:$Z,7,0)),0,VLOOKUP($A18+8860000,'Growth Data'!$A:$Z,7,0)),0)","v":0},0,null,"NO",{"$f":"IF(ISERROR(VLOOKUP($A18+8860000,'Growth Data'!$A:$F,5,0)),\"NO\",VLOOKUP($A18+8860000,'Growth Data'!$A:$F,5,0))","v":"NO"},0,null,0,{"$f":"IF(CC18=\"YES\",IF(ISERROR(VLOOKUP($A18+8860000,'Growth Data'!$A:$Z,8,0)),0,VLOOKUP($A18+8860000,'Growth Data'!$A:$Z,8,0)),0)","v":0},0,null,null,null,0]
[2127,"Paddock Wood Primary School",null,"Paddock Wood Primary School","Paddock Wood Primary School",0,null,2115174,2115174,0,null,0,0,0,null,2115174,2115174,0,null,15535.01,15535.011767,0,null,null,null,0,null,0,0,0,null,133290.46,null,133290,null,0,null,0,null,0,null,0,null,0,null,0,null,null,null,0,null,null,null,0,null,null,null,0,null,null,null,0,null,"NO",{"$f":"IF(ISERROR(VLOOKUP($A19+8860000,'Growth Data'!$A:$F,3,0)),\"NO\",VLOOKUP($A19+8860000,'Growth Data'!$A:$F,3,0))","v":"NO"},0,null,0,{"$f":"IF(BM19=\"YES\",IF(ISERROR(VLOOKUP($A19+8860000,'Growth Data'!$A:$F,6,0)),0,VLOOKUP($A19+8860000,'Growth Data'!$A:$F,6,0)),0)","v":0},0,null,"NO",{"$f":"IF(ISERROR(VLOOKUP($A19+8860000,'Growth Data'!$A:$F,4,0)),\"NO\",VLOOKUP($A19+8860000,'Growth Data'!$A:$F,4,0))","v":"NO"},0,null,0,{"$f":"IF(BU19=\"YES\",IF(ISERROR(VLOOKUP($A19+8860000,'Growth Data'!$A:$Z,7,0)),0,VLOOKUP($A19+8860000,'Growth Data'!$A:$Z,7,0)),0)","v":0},0,null,"NO",{"$f":"IF(ISERROR(VLOOKUP($A19+8860000,'Growth Data'!$A:$F,5,0)),\"NO\",VLOOKUP($A19+8860000,'Growth Data'!$A:$F,5,0))","v":"NO"},0,null,0,{"$f":"IF(CC19=\"YES\",IF(ISERROR(VLOOKUP($A19+8860000,'Growth Data'!$A:$Z,8,0)),0,VLOOKUP($A19+8860000,'Growth Data'!$A:$Z,8,0)),0)","v":0},0,null,null,null,0]
[2128,"Capel Primary School",null,"Capel Primary School","Capel Primary School",0,null,759926.06,759926.06037858571,0,null,0,0,0,null,759926.06,759926.06037858571,0,null,5443.67,5443.6735447999999,0,null,null,null,0,null,0,0,0,null,36677.129999999997,null,36677,null,2332.29,null,2332,null,0,null,0,null,0,null,0,null,null,null,0,null,null,null,0,null,null,null,0,null,null,null,0,null,"NO",{"$f":"IF(ISERROR(VLOOKUP($A20+8860000,'Growth Data'!$A:$F,3,0)),\"NO\",VLOOKUP($A20+8860000,'Growth Data'!$A:$F,3,0))","v":"NO"},0,null,0,{"$f":"IF(BM20=\"YES\",IF(ISERROR(VLOOKUP($A20+8860000,'Growth Data'!$A:$F,6,0)),0,VLOOKUP($A20+8860000,'Growth Data'!$A:$F,6,0)),0)","v":0},0,null,"NO",{"$f":"IF(ISERROR(VLOOKUP($A20+8860000,'Growth Data'!$A:$F,4,0)),\"NO\",VLOOKUP($A20+8860000,'Growth Data'!$A:$F,4,0))","v":"NO"},0,null,0,{"$f":"IF(BU20=\"YES\",IF(ISERROR(VLOOKUP($A20+8860000,'Growth Data'!$A:$Z,7,0)),0,VLOOKUP($A20+8860000,'Growth Data'!$A:$Z,7,0)),0)","v":0},0,null,"NO",{"$f":"IF(ISERROR(VLOOKUP($A20+8860000,'Growth Data'!$A:$F,5,0)),\"NO\",VLOOKUP($A20+8860000,'Growth Data'!$A:$F,5,0))","v":"NO"},0,null,0,{"$f":"IF(CC20=\"YES\",IF(ISERROR(VLOOKUP($A20+8860000,'Growth Data'!$A:$Z,8,0)),0,VLOOKUP($A20+8860000,'Growth Data'!$A:$Z,8,0)),0)","v":0},0,null,null,null,0]
[2130,"Dunton Green Primary School",null,"Dunton Green Primary School","Dunton Green Primary School",0,null,671024.43999999994,671024.43770723161,0,null,0,0,0,null,671024.43999999994,671024.43770723161,0,null,4311.2,4311.2045680027195,0,null,null,null,0,null,0,0,0,null,43988.5,null,43989,null,1601.15,null,1601,null,0,null,0,null,0,null,0,null,null,null,0,null,null,null,0,null,null,null,0,null,null,null,0,null,"NO",{"$f":"IF(ISERROR(VLOOKUP($A21+8860000,'Growth Data'!$A:$F,3,0)),\"NO\",VLOOKUP($A21+8860000,'Growth Data'!$A:$F,3,0))","v":"NO"},0,null,0,{"$f":"IF(BM21=\"YES\",IF(ISERROR(VLOOKUP($A21+8860000,'Growth Data'!$A:$F,6,0)),0,VLOOKUP($A21+8860000,'Growth Data'!$A:$F,6,0)),0)","v":0},0,null,"NO",{"$f":"IF(ISERROR(VLOOKUP($A21+8860000,'Growth Data'!$A:$F,4,0)),\"NO\",VLOOKUP($A21+8860000,'Growth Data'!$A:$F,4,0))","v":"NO"},0,null,0,{"$f":"IF(BU21=\"YES\",IF(ISERROR(VLOOKUP($A21+8860000,'Growth Data'!$A:$Z,7,0)),0,VLOOKUP($A21+8860000,'Growth Data'!$A:$Z,7,0)),0)","v":0},0,null,"NO",{"$f":"IF(ISERROR(VLOOKUP($A21+8860000,'Growth Data'!$A:$F,5,0)),\"NO\",VLOOKUP($A21+8860000,'Growth Data'!$A:$F,5,0))","v":"NO"},0,null,0,{"$f":"IF(CC21=\"YES\",IF(ISERROR(VLOOKUP($A21+8860000,'Growth Data'!$A:$Z,8,0)),0,VLOOKUP($A21+8860000,'Growth Data'!$A:$Z,8,0)),0)","v":0},0,null,null,null,0]
[2132,"Hadlow School",null,"Hadlow School","Hadlow School",0,null,795026.34,795026.34068316116,0,null,0,0,0,null,795026.34,795026.34068316116,0,null,5263.93,5263.9296069999991,0,null,null,null,0,null,0,0,0,null,70527.990000000005,null,70528,null,0,null,0,null,0,null,0,null,0,null,0,null,null,null,0,null,null,null,0,null,null,null,0,null,null,null,0,null,"NO",{"$f":"IF(ISERROR(VLOOKUP($A22+8860000,'Growth Data'!$A:$F,3,0)),\"NO\",VLOOKUP($A22+8860000,'Growth Data'!$A:$F,3,0))","v":"NO"},0,null,0,{"$f":"IF(BM22=\"YES\",IF(ISERROR(VLOOKUP($A22+8860000,'Growth Data'!$A:$F,6,0)),0,VLOOKUP($A22+8860000,'Growth Data'!$A:$F,6,0)),0)","v":0},0,null,"NO",{"$f":"IF(ISERROR(VLOOKUP($A22+8860000,'Growth Data'!$A:$F,4,0)),\"NO\",VLOOKUP($A22+8860000,'Growth Data'!$A:$F,4,0))","v":"NO"},0,null,0,{"$f":"IF(BU22=\"YES\",IF(ISERROR(VLOOKUP($A22+8860000,'Growth Data'!$A:$Z,7,0)),0,VLOOKUP($A22+8860000,'Growth Data'!$A:$Z,7,0)),0)","v":0},0,null,"NO",{"$f":"IF(ISERROR(VLOOKUP($A22+8860000,'Growth Data'!$A:$F,5,0)),\"NO\",VLOOKUP($A22+8860000,'Growth Data'!$A:$F,5,0))","v":"NO"},0,null,0,{"$f":"IF(CC22=\"YES\",IF(ISERROR(VLOOKUP($A22+8860000,'Growth Data'!$A:$Z,8,0)),0,VLOOKUP($A22+8860000,'Growth Data'!$A:$Z,8,0)),0)","v":0},0,null,null,null,0]
[2133,"Halstead Community Primary School",null,"Halstead Community Primary School","Halstead Community Primary School",0,null,438759.66,438759.65651731932,0,null,0,0,0,null,438759.66,438759.65651731932,0,null,2421.73,2421.7260227669599,0,null,null,null,0,null,0,0,0,null,34033.97,null,34034,null,2596.6,null,2597,null,0,null,0,null,0,null,0,null,null,null,0,null,null,null,0,null,null,null,0,null,null,null,0,null,"NO",{"$f":"IF(ISERROR(VLOOKUP($A23+8860000,'Growth Data'!$A:$F,3,0)),\"NO\",VLOOKUP($A23+8860000,'Growth Data'!$A:$F,3,0))","v":"NO"},0,null,0,{"$f":"IF(BM23=\"YES\",IF(ISERROR(VLOOKUP($A23+8860000,'Growth Data'!$A:$F,6,0)),0,VLOOKUP($A23+8860000,'Growth Data'!$A:$F,6,0)),0)","v":0},0,null,"NO",{"$f":"IF(ISERROR(VLOOKUP($A23+8860000,'Growth Data'!$A:$F,4,0)),\"NO\",VLOOKUP($A23+8860000,'Growth Data'!$A:$F,4,0))","v":"NO"},0,null,0,{"$f":"IF(BU23=\"YES\",IF(ISERROR(VLOOKUP($A23+8860000,'Growth Data'!$A:$Z,7,0)),0,VLOOKUP($A23+8860000,'Growth Data'!$A:$Z,7,0)),0)","v":0},0,null,"NO",{"$f":"IF(ISERROR(VLOOKUP($A23+8860000,'Growth Data'!$A:$F,5,0)),\"NO\",VLOOKUP($A23+8860000,'Growth Data'!$A:$F,5,0))","v":"NO"},0,null,0,{"$f":"IF(CC23=\"YES\",IF(ISERROR(VLOOKUP($A23+8860000,'Growth Data'!$A:$Z,8,0)),0,VLOOKUP($A23+8860000,'Growth Data'!$A:$Z,8,0)),0)","v":0},0,null,null,null,0]
[2134,"Four Elms Primary School",null,"Four Elms Primary School","Four Elms Primary School",0,null,491590.87,491590.87096195959,0,null,0,0,0,null,491590.87,491590.87096195959,0,null,2927.36,2927.3611264216001,0,null,null,null,0,null,0,0,0,null,37571.410000000003,null,37571,null,2242.86,null,2243,null,0,null,0,null,0,null,0,null,null,null,0,null,null,null,0,null,null,null,0,null,null,null,0,null,"NO",{"$f":"IF(ISERROR(VLOOKUP($A24+8860000,'Growth Data'!$A:$F,3,0)),\"NO\",VLOOKUP($A24+8860000,'Growth Data'!$A:$F,3,0))","v":"NO"},0,null,0,{"$f":"IF(BM24=\"YES\",IF(ISERROR(VLOOKUP($A24+8860000,'Growth Data'!$A:$F,6,0)),0,VLOOKUP($A24+8860000,'Growth Data'!$A:$F,6,0)),0)","v":0},0,null,"NO",{"$f":"IF(ISERROR(VLOOKUP($A24+8860000,'Growth Data'!$A:$F,4,0)),\"NO\",VLOOKUP($A24+8860000,'Growth Data'!$A:$F,4,0))","v":"NO"},0,null,0,{"$f":"IF(BU24=\"YES\",IF(ISERROR(VLOOKUP($A24+8860000,'Growth Data'!$A:$Z,7,0)),0,VLOOKUP($A24+8860000,'Growth Data'!$A:$Z,7,0)),0)","v":0},0,null,"NO",{"$f":"IF(ISERROR(VLOOKUP($A24+8860000,'Growth Data'!$A:$F,5,0)),\"NO\",VLOOKUP($A24+8860000,'Growth Data'!$A:$F,5,0))","v":"NO"},0,null,0,{"$f":"IF(CC24=\"YES\",IF(ISERROR(VLOOKUP($A24+8860000,'Growth Data'!$A:$Z,8,0)),0,VLOOKUP($A24+8860000,'Growth Data'!$A:$Z,8,0)),0)","v":0},0,null,null,null,0]
[2135,"Horsmonden Primary School",null,"Horsmonden Primary School","Horsmonden Primary School",0,null,710849.06,710849.05967784498,0,null,0,0,0,null,710849.06,710849.05967784498,0,null,4930.12,4930.1194368000006,0,null,null,null,0,null,0,0,0,null,37609.480000000003,null,37609,null,2239.0500000000002,null,2239,null,0,null,0,null,0,null,0,null,null,null,0,null,null,null,0,null,null,null,0,null,null,null,0,null,"NO",{"$f":"IF(ISERROR(VLOOKUP($A25+8860000,'Growth Data'!$A:$F,3,0)),\"NO\",VLOOKUP($A25+8860000,'Growth Data'!$A:$F,3,0))","v":"NO"},0,null,0,{"$f":"IF(BM25=\"YES\",IF(ISERROR(VLOOKUP($A25+8860000,'Growth Data'!$A:$F,6,0)),0,VLOOKUP($A25+8860000,'Growth Data'!$A:$F,6,0)),0)","v":0},0,null,"NO",{"$f":"IF(ISERROR(VLOOKUP($A25+8860000,'Growth Data'!$A:$F,4,0)),\"NO\",VLOOKUP($A25+8860000,'Growth Data'!$A:$F,4,0))","v":"NO"},0,null,0,{"$f":"IF(BU25=\"YES\",IF(ISERROR(VLOOKUP($A25+8860000,'Growth Data'!$A:$Z,7,0)),0,VLOOKUP($A25+8860000,'Growth Data'!$A:$Z,7,0)),0)","v":0},0,null,"NO",{"$f":"IF(ISERROR(VLOOKUP($A25+8860000,'Growth Data'!$A:$F,5,0)),\"NO\",VLOOKUP($A25+8860000,'Growth Data'!$A:$F,5,0))","v":"NO"},0,null,0,{"$f":"IF(CC25=\"YES\",IF(ISERROR(VLOOKUP($A25+8860000,'Growth Data'!$A:$Z,8,0)),0,VLOOKUP($A25+8860000,'Growth Data'!$A:$Z,8,0)),0)","v":0},0,null,null,null,0]
[2136,"Kemsing Primary School",null,"Kemsing Primary School","Kemsing Primary School",0,null,773836.74,773836.74166534317,0,null,0,0,0,null,773836.74,773836.74166534317,0,null,5322.47,5322.4747753119991,0,null,null,null,0,null,0,0,0,null,52372.2,null,52372,null,762.78,null,763,null,0,null,0,null,0,null,0,null,null,null,0,null,null,null,0,null,null,null,0,null,null,null,0,null,"NO",{"$f":"IF(ISERROR(VLOOKUP($A26+8860000,'Growth Data'!$A:$F,3,0)),\"NO\",VLOOKUP($A26+8860000,'Growth Data'!$A:$F,3,0))","v":"NO"},0,null,0,{"$f":"IF(BM26=\"YES\",IF(ISERROR(VLOOKUP($A26+8860000,'Growth Data'!$A:$F,6,0)),0,VLOOKUP($A26+8860000,'Growth Data'!$A:$F,6,0)),0)","v":0},0,null,"NO",{"$f":"IF(ISERROR(VLOOKUP($A26+8860000,'Growth Data'!$A:$F,4,0)),\"NO\",VLOOKUP($A26+8860000,'Growth Data'!$A:$F,4,0))","v":"NO"},0,null,0,{"$f":"IF(BU26=\"YES\",IF(ISERROR(VLOOKUP($A26+8860000,'Growth Data'!$A:$Z,7,0)),0,VLOOKUP($A26+8860000,'Growth Data'!$A:$Z,7,0)),0)","v":0},0,null,"NO",{"$f":"IF(ISERROR(VLOOKUP($A26+8860000,'Growth Data'!$A:$F,5,0)),\"NO\",VLOOKUP($A26+8860000,'Growth Data'!$A:$F,5,0))","v":"NO"},0,null,0,{"$f":"IF(CC26=\"YES\",IF(ISERROR(VLOOKUP($A26+8860000,'Growth Data'!$A:$Z,8,0)),0,VLOOKUP($A26+8860000,'Growth Data'!$A:$Z,8,0)),0)","v":0},0,null,null,null,0]
[2137,"Leigh Primary School",null,"Leigh Primary School","Leigh Primary School",0,null,629449.92000000004,629449.9228418516,0,null,0,0,0,null,629449.92000000004,629449.9228418516,0,null,4284.59,4284.5921941261595,0,null,null,null,0,null,0,0,0,null,34459.760000000002,null,34460,null,2554.02,null,2554,null,0,null,0,null,0,null,0,null,null,null,0,null,null,null,0,null,null,null,0,null,null,null,0,null,"NO",{"$f":"IF(ISERROR(VLOOKUP($A27+8860000,'Growth Data'!$A:$F,3,0)),\"NO\",VLOOKUP($A27+8860000,'Growth Data'!$A:$F,3,0))","v":"NO"},0,null,0,{"$f":"IF(BM27=\"YES\",IF(ISERROR(VLOOKUP($A27+8860000,'Growth Data'!$A:$F,6,0)),0,VLOOKUP($A27+8860000,'Growth Data'!$A:$F,6,0)),0)","v":0},0,null,"NO",{"$f":"IF(ISERROR(VLOOKUP($A27+8860000,'Growth Data'!$A:$F,4,0)),\"NO\",VLOOKUP($A27+8860000,'Growth Data'!$A:$F,4,0))","v":"NO"},0,null,0,{"$f":"IF(BU27=\"YES\",IF(ISERROR(VLOOKUP($A27+8860000,'Growth Data'!$A:$Z,7,0)),0,VLOOKUP($A27+8860000,'Growth Data'!$A:$Z,7,0)),0)","v":0},0,null,"NO",{"$f":"IF(ISERROR(VLOOKUP($A27+8860000,'Growth Data'!$A:$F,5,0)),\"NO\",VLOOKUP($A27+8860000,'Growth Data'!$A:$F,5,0))","v":"NO"},0,null,0,{"$f":"IF(CC27=\"YES\",IF(ISERROR(VLOOKUP($A27+8860000,'Growth Data'!$A:$Z,8,0)),0,VLOOKUP($A27+8860000,'Growth Data'!$A:$Z,8,0)),0)","v":0},0,null,null,null,0]
[2138,"Otford Primary School",null,"Otford Primary School","Otford Primary School",0,null,1371348,1371348.0000000002,0,null,0,0,0,null,1371348,1371348.0000000002,0,null,10511.89,10511.887681241198,0,null,null,null,0,null,0,0,0,null,67986.12,null,67986,null,0,null,0,null,0,null,0,null,0,null,0,null,null,null,0,null,null,null,0,null,null,null,0,null,null,null,0,null,"YES",{"$f":"IF(ISERROR(VLOOKUP($A28+8860000,'Growth Data'!$A:$F,3,0)),\"NO\",VLOOKUP($A28+8860000,'Growth Data'!$A:$F,3,0))","v":"NO"},1,null,50,{"$f":"IF(BM28=\"YES\",IF(ISERROR(VLOOKUP($A28+8860000,'Growth Data'!$A:$F,6,0)),0,VLOOKUP($A28+8860000,'Growth Data'!$A:$F,6,0)),0)","v":0},50,null,"YES",{"$f":"IF(ISERROR(VLOOKUP($A28+8860000,'Growth Data'!$A:$F,4,0)),\"NO\",VLOOKUP($A28+8860000,'Growth Data'!$A:$F,4,0))","v":"NO"},1,null,56,{"$f":"IF(BU28=\"YES\",IF(ISERROR(VLOOKUP($A28+8860000,'Growth Data'!$A:$Z,7,0)),0,VLOOKUP($A28+8860000,'Growth Data'!$A:$Z,7,0)),0)","v":0},56,null,"NO",{"$f":"IF(ISERROR(VLOOKUP($A28+8860000,'Growth Data'!$A:$F,5,0)),\"NO\",VLOOKUP($A28+8860000,'Growth Data'!$A:$F,5,0))","v":"NO"},0,null,0,{"$f":"IF(CC28=\"YES\",IF(ISERROR(VLOOKUP($A28+8860000,'Growth Data'!$A:$Z,8,0)),0,VLOOKUP($A28+8860000,'Growth Data'!$A:$Z,8,0)),0)","v":0},0,null,null,null,0]
[2139,"Pembury School",null,"Pembury School","Pembury School",0,null,1655919,1655919,0,null,0,0,0,null,1655919,1655919,0,null,12196.91,12196.910064999996,0,null,null,null,0,null,0,0,0,null,75145.899999999994,null,75146,null,0,null,0,null,0,null,0,null,0,null,0,null,null,null,0,null,null,null,0,null,null,null,0,null,null,null,0,null,"NO",{"$f":"IF(ISERROR(VLOOKUP($A29+8860000,'Growth Data'!$A:$F,3,0)),\"NO\",VLOOKUP($A29+8860000,'Growth Data'!$A:$F,3,0))","v":"NO"},0,null,0,{"$f":"IF(BM29=\"YES\",IF(ISERROR(VLOOKUP($A29+8860000,'Growth Data'!$A:$F,6,0)),0,VLOOKUP($A29+8860000,'Growth Data'!$A:$F,6,0)),0)","v":0},0,null,"NO",{"$f":"IF(ISERROR(VLOOKUP($A29+8860000,'Growth Data'!$A:$F,4,0)),\"NO\",VLOOKUP($A29+8860000,'Growth Data'!$A:$F,4,0))","v":"NO"},0,null,0,{"$f":"IF(BU29=\"YES\",IF(ISERROR(VLOOKUP($A29+8860000,'Growth Data'!$A:$Z,7,0)),0,VLOOKUP($A29+8860000,'Growth Data'!$A:$Z,7,0)),0)","v":0},0,null,"NO",{"$f":"IF(ISERROR(VLOOKUP($A29+8860000,'Growth Data'!$A:$F,5,0)),\"NO\",VLOOKUP($A29+8860000,'Growth Data'!$A:$F,5,0))","v":"NO"},0,null,0,{"$f":"IF(CC29=\"YES\",IF(ISERROR(VLOOKUP($A29+8860000,'Growth Data'!$A:$Z,8,0)),0,VLOOKUP($A29+8860000,'Growth Data'!$A:$Z,8,0)),0)","v":0},0,null,null,null,0]
[2142,"Sandhurst Primary School",null,"Sandhurst Primary School","Sandhurst Primary School",0,null,563942.84,563942.8364064201,0,null,0,0,0,null,563942.84,563942.8364064201,0,null,3543.52,3543.5233452000002,0,null,null,null,0,null,0,0,0,null,36840.21,null,36840,null,2315.98,null,2316,null,0,null,0,null,0,null,0,null,null,null,0,null,null,null,0,null,null,null,0,null,null,null,0,null,"NO",{"$f":"IF(ISERROR(VLOOKUP($A30+8860000,'Growth Data'!$A:$F,3,0)),\"NO\",VLOOKUP($A30+8860000,'Growth Data'!$A:$F,3,0))","v":"NO"},0,null,0,{"$f":"IF(BM30=\"YES\",IF(ISERROR(VLOOKUP($A30+8860000,'Growth Data'!$A:$F,6,0)),0,VLOOKUP($A30+8860000,'Growth Data'!$A:$F,6,0)),0)","v":0},0,null,"NO",{"$f":"IF(ISERROR(VLOOKUP($A30+8860000,'Growth Data'!$A:$F,4,0)),\"NO\",VLOOKUP($A30+8860000,'Growth Data'!$A:$F,4,0))","v":"NO"},0,null,0,{"$f":"IF(BU30=\"YES\",IF(ISERROR(VLOOKUP($A30+8860000,'Growth Data'!$A:$Z,7,0)),0,VLOOKUP($A30+8860000,'Growth Data'!$A:$Z,7,0)),0)","v":0},0,null,"NO",{"$f":"IF(ISERROR(VLOOKUP($A30+8860000,'Growth Data'!$A:$F,5,0)),\"NO\",VLOOKUP($A30+8860000,'Growth Data'!$A:$F,5,0))","v":"NO"},0,null,0,{"$f":"IF(CC30=\"YES\",IF(ISERROR(VLOOKUP($A30+8860000,'Growth Data'!$A:$Z,8,0)),0,VLOOKUP($A30+8860000,'Growth Data'!$A:$Z,8,0)),0)","v":0},0,null,null,null,0]
[2147,"Weald Community Primary School",null,"Weald Community Primary School","Weald Community Primary School",0,null,623731.86,623731.86471756757,0,null,0,0,0,null,623731.86,623731.86471756757,0,null,4204.76,4204.7550724964804,0,null,null,null,0,null,0,0,0,null,32227.1,null,32227,null,2777.29,null,2777,null,0,null,0,null,0,null,0,null,null,null,0,null,null,null,0,null,null,null,0,null,null,null,0,null,"NO",{"$f":"IF(ISERROR(VLOOKUP($A31+8860000,'Growth Data'!$A:$F,3,0)),\"NO\",VLOOKUP($A31+8860000,'Growth Data'!$A:$F,3,0))","v":"NO"},0,null,0,{"$f":"IF(BM31=\"YES\",IF(ISERROR(VLOOKUP($A31+8860000,'Growth Data'!$A:$F,6,0)),0,VLOOKUP($A31+8860000,'Growth Data'!$A:$F,6,0)),0)","v":0},0,null,"NO",{"$f":"IF(ISERROR(VLOOKUP($A31+8860000,'Growth Data'!$A:$F,4,0)),\"NO\",VLOOKUP($A31+8860000,'Growth Data'!$A:$F,4,0))","v":"NO"},0,null,0,{"$f":"IF(BU31=\"YES\",IF(ISERROR(VLOOKUP($A31+8860000,'Growth Data'!$A:$Z,7,0)),0,VLOOKUP($A31+8860000,'Growth Data'!$A:$Z,7,0)),0)","v":0},0,null,"NO",{"$f":"IF(ISERROR(VLOOKUP($A31+8860000,'Growth Data'!$A:$F,5,0)),\"NO\",VLOOKUP($A31+8860000,'Growth Data'!$A:$F,5,0))","v":"NO"},0,null,0,{"$f":"IF(CC31=\"YES\",IF(ISERROR(VLOOKUP($A31+8860000,'Growth Data'!$A:$Z,8,0)),0,VLOOKUP($A31+8860000,'Growth Data'!$A:$Z,8,0)),0)","v":0},0,null,null,null,0]
[2148,"Shoreham Village School",null,"Shoreham Village School","Shoreham Village School",0,null,428515.04,428515.04135797231,0,null,0,0,0,null,428515.04,428515.04135797231,0,null,2368.5,2368.5012750138399,0,null,null,null,0,null,0,0,0,null,31241.66,null,31242,null,2875.83,null,2876,null,0,null,0,null,0,null,0,null,null,null,0,null,null,null,0,null,null,null,0,null,null,null,0,null,"NO",{"$f":"IF(ISERROR(VLOOKUP($A32+8860000,'Growth Data'!$A:$F,3,0)),\"NO\",VLOOKUP($A32+8860000,'Growth Data'!$A:$F,3,0))","v":"NO"},0,null,0,{"$f":"IF(BM32=\"YES\",IF(ISERROR(VLOOKUP($A32+8860000,'Growth Data'!$A:$F,6,0)),0,VLOOKUP($A32+8860000,'Growth Data'!$A:$F,6,0)),0)","v":0},0,null,"NO",{"$f":"IF(ISERROR(VLOOKUP($A32+8860000,'Growth Data'!$A:$F,4,0)),\"NO\",VLOOKUP($A32+8860000,'Growth Data'!$A:$F,4,0))","v":"NO"},0,null,0,{"$f":"IF(BU32=\"YES\",IF(ISERROR(VLOOKUP($A32+8860000,'Growth Data'!$A:$Z,7,0)),0,VLOOKUP($A32+8860000,'Growth Data'!$A:$Z,7,0)),0)","v":0},0,null,"NO",{"$f":"IF(ISERROR(VLOOKUP($A32+8860000,'Growth Data'!$A:$F,5,0)),\"NO\",VLOOKUP($A32+8860000,'Growth Data'!$A:$F,5,0))","v":"NO"},0,null,0,{"$f":"IF(CC32=\"YES\",IF(ISERROR(VLOOKUP($A32+8860000,'Growth Data'!$A:$Z,8,0)),0,VLOOKUP($A32+8860000,'Growth Data'!$A:$Z,8,0)),0)","v":0},0,null,null,null,0]
[2155,"Slade Primary School",null,"Slade Primary School","Slade Primary School",0,null,1313054,1313054,0,null,0,0,0,null,1313054,1313054,0,null,9731.85,9731.8503466000002,0,null,null,null,0,null,0,0,0,null,86935.57,null,86936,null,0,null,0,null,0,null,0,null,0,null,0,null,null,null,0,null,null,null,0,null,null,null,0,null,null,null,0,null,"YES",{"$f":"IF(ISERROR(VLOOKUP($A33+8860000,'Growth Data'!$A:$F,3,0)),\"NO\",VLOOKUP($A33+8860000,'Growth Data'!$A:$F,3,0))","v":"YES"},0,null,45,{"$f":"IF(BM33=\"YES\",IF(ISERROR(VLOOKUP($A33+8860000,'Growth Data'!$A:$F,6,0)),0,VLOOKUP($A33+8860000,'Growth Data'!$A:$F,6,0)),0)","v":47},-2,null,"YES",{"$f":"IF(ISERROR(VLOOKUP($A33+8860000,'Growth Data'!$A:$F,4,0)),\"NO\",VLOOKUP($A33+8860000,'Growth Data'!$A:$F,4,0))","v":"NO"},1,null,47,{"$f":"IF(BU33=\"YES\",IF(ISERROR(VLOOKUP($A33+8860000,'Growth Data'!$A:$Z,7,0)),0,VLOOKUP($A33+8860000,'Growth Data'!$A:$Z,7,0)),0)","v":0},47,null,"YES",{"$f":"IF(ISERROR(VLOOKUP($A33+8860000,'Growth Data'!$A:$F,5,0)),\"NO\",VLOOKUP($A33+8860000,'Growth Data'!$A:$F,5,0))","v":"NO"},1,null,45,{"$f":"IF(CC33=\"YES\",IF(ISERROR(VLOOKUP($A33+8860000,'Growth Data'!$A:$Z,8,0)),0,VLOOKUP($A33+8860000,'Growth Data'!$A:$Z,8,0)),0)","v":0},45,null,null,null,0]
[2156,"Sussex Road Community Primary School",null,"Sussex Road Community Primary School","Sussex Road Community Primary School",0,null,1545691,1545691,0,null,0,0,0,null,1545691,1545691,0,null,11349.55,11349.545786799998,0,null,null,null,0,null,0,0,0,null,68816.350000000006,null,68816,null,0,null,0,null,20000,null,20000,null,30000,null,30000,null,null,null,0,null,null,null,0,null,null,null,0,null,null,null,0,null,"NO",{"$f":"IF(ISERROR(VLOOKUP($A34+8860000,'Growth Data'!$A:$F,3,0)),\"NO\",VLOOKUP($A34+8860000,'Growth Data'!$A:$F,3,0))","v":"NO"},0,null,0,{"$f":"IF(BM34=\"YES\",IF(ISERROR(VLOOKUP($A34+8860000,'Growth Data'!$A:$F,6,0)),0,VLOOKUP($A34+8860000,'Growth Data'!$A:$F,6,0)),0)","v":0},0,null,"NO",{"$f":"IF(ISERROR(VLOOKUP($A34+8860000,'Growth Data'!$A:$F,4,0)),\"NO\",VLOOKUP($A34+8860000,'Growth Data'!$A:$F,4,0))","v":"NO"},0,null,0,{"$f":"IF(BU34=\"YES\",IF(ISERROR(VLOOKUP($A34+8860000,'Growth Data'!$A:$Z,7,0)),0,VLOOKUP($A34+8860000,'Growth Data'!$A:$Z,7,0)),0)","v":0},0,null,"NO",{"$f":"IF(ISERROR(VLOOKUP($A34+8860000,'Growth Data'!$A:$F,5,0)),\"NO\",VLOOKUP($A34+8860000,'Growth Data'!$A:$F,5,0))","v":"NO"},0,null,0,{"$f":"IF(CC34=\"YES\",IF(ISERROR(VLOOKUP($A34+8860000,'Growth Data'!$A:$Z,8,0)),0,VLOOKUP($A34+8860000,'Growth Data'!$A:$Z,8,0)),0)","v":0},0,null,null,null,0]
[2161,"Boughton Monchelsea Primary School",null,"Boughton Monchelsea Primary School","Boughton Monchelsea Primary School",0,null,787442.28,787442.27850527957,0,null,0,0,0,null,787442.28,787442.27850527957,0,null,5418,5417.9958393999996,0,null,null,null,0,null,0,0,0,null,56812.83,null,56813,null,318.72000000000003,null,319,null,0,null,0,null,0,null,0,null,null,null,0,null,null,null,0,null,null,null,0,null,null,null,0,null,"NO",{"$f":"IF(ISERROR(VLOOKUP($A35+8860000,'Growth Data'!$A:$F,3,0)),\"NO\",VLOOKUP($A35+8860000,'Growth Data'!$A:$F,3,0))","v":"NO"},0,null,0,{"$f":"IF(BM35=\"YES\",IF(ISERROR(VLOOKUP($A35+8860000,'Growth Data'!$A:$F,6,0)),0,VLOOKUP($A35+8860000,'Growth Data'!$A:$F,6,0)),0)","v":0},0,null,"NO",{"$f":"IF(ISERROR(VLOOKUP($A35+8860000,'Growth Data'!$A:$F,4,0)),\"NO\",VLOOKUP($A35+8860000,'Growth Data'!$A:$F,4,0))","v":"NO"},0,null,0,{"$f":"IF(BU35=\"YES\",IF(ISERROR(VLOOKUP($A35+8860000,'Growth Data'!$A:$Z,7,0)),0,VLOOKUP($A35+8860000,'Growth Data'!$A:$Z,7,0)),0)","v":0},0,null,"NO",{"$f":"IF(ISERROR(VLOOKUP($A35+8860000,'Growth Data'!$A:$F,5,0)),\"NO\",VLOOKUP($A35+8860000,'Growth Data'!$A:$F,5,0))","v":"NO"},0,null,0,{"$f":"IF(CC35=\"YES\",IF(ISERROR(VLOOKUP($A35+8860000,'Growth Data'!$A:$Z,8,0)),0,VLOOKUP($A35+8860000,'Growth Data'!$A:$Z,8,0)),0)","v":0},0,null,null,null,0]
[2163,"East Farleigh Primary School",null,"East Farleigh Primary School","East Farleigh Primary School",0,null,742107.89,742107.89137599966,0,null,0,0,0,null,742107.89,742107.89137599966,0,null,5212.57,5212.5741962000011,0,null,null,null,0,null,0,0,0,null,42933.120000000003,null,42933,null,1706.69,null,1707,null,0,null,0,null,0,null,0,null,null,null,0,null,null,null,0,null,null,null,0,null,null,null,0,null,"NO",{"$f":"IF(ISERROR(VLOOKUP($A36+8860000,'Growth Data'!$A:$F,3,0)),\"NO\",VLOOKUP($A36+8860000,'Growth Data'!$A:$F,3,0))","v":"NO"},0,null,0,{"$f":"IF(BM36=\"YES\",IF(ISERROR(VLOOKUP($A36+8860000,'Growth Data'!$A:$F,6,0)),0,VLOOKUP($A36+8860000,'Growth Data'!$A:$F,6,0)),0)","v":0},0,null,"NO",{"$f":"IF(ISERROR(VLOOKUP($A36+8860000,'Growth Data'!$A:$F,4,0)),\"NO\",VLOOKUP($A36+8860000,'Growth Data'!$A:$F,4,0))","v":"NO"},0,null,0,{"$f":"IF(BU36=\"YES\",IF(ISERROR(VLOOKUP($A36+8860000,'Growth Data'!$A:$Z,7,0)),0,VLOOKUP($A36+8860000,'Growth Data'!$A:$Z,7,0)),0)","v":0},0,null,"NO",{"$f":"IF(ISERROR(VLOOKUP($A36+8860000,'Growth Data'!$A:$F,5,0)),\"NO\",VLOOKUP($A36+8860000,'Growth Data'!$A:$F,5,0))","v":"NO"},0,null,0,{"$f":"IF(CC36=\"YES\",IF(ISERROR(VLOOKUP($A36+8860000,'Growth Data'!$A:$Z,8,0)),0,VLOOKUP($A36+8860000,'Growth Data'!$A:$Z,8,0)),0)","v":0},0,null,null,null,0]
[2164,"East Peckham Primary School",null,"East Peckham Primary School","East Peckham Primary School",0,null,632355.36,632355.35778366774,0,null,0,0,0,null,632355.36,632355.35778366774,0,null,4236.82,4236.8213909999995,0,null,null,null,0,null,0,0,0,null,38191.56,null,38192,null,2180.84,null,2181,null,0,null,0,null,0,null,0,null,null,null,0,null,null,null,0,null,null,null,0,null,null,null,0,null,"NO",{"$f":"IF(ISERROR(VLOOKUP($A37+8860000,'Growth Data'!$A:$F,3,0)),\"NO\",VLOOKUP($A37+8860000,'Growth Data'!$A:$F,3,0))","v":"NO"},0,null,0,{"$f":"IF(BM37=\"YES\",IF(ISERROR(VLOOKUP($A37+8860000,'Growth Data'!$A:$F,6,0)),0,VLOOKUP($A37+8860000,'Growth Data'!$A:$F,6,0)),0)","v":0},0,null,"NO",{"$f":"IF(ISERROR(VLOOKUP($A37+8860000,'Growth Data'!$A:$F,4,0)),\"NO\",VLOOKUP($A37+8860000,'Growth Data'!$A:$F,4,0))","v":"NO"},0,null,0,{"$f":"IF(BU37=\"YES\",IF(ISERROR(VLOOKUP($A37+8860000,'Growth Data'!$A:$Z,7,0)),0,VLOOKUP($A37+8860000,'Growth Data'!$A:$Z,7,0)),0)","v":0},0,null,"NO",{"$f":"IF(ISERROR(VLOOKUP($A37+8860000,'Growth Data'!$A:$F,5,0)),\"NO\",VLOOKUP($A37+8860000,'Growth Data'!$A:$F,5,0))","v":"NO"},0,null,0,{"$f":"IF(CC37=\"YES\",IF(ISERROR(VLOOKUP($A37+8860000,'Growth Data'!$A:$Z,8,0)),0,VLOOKUP($A37+8860000,'Growth Data'!$A:$Z,8,0)),0)","v":0},0,null,null,null,0]
[2165,"Headcorn Primary School",null,"Headcorn Primary School","Headcorn Primary School",0,null,786742.94,786742.94307622116,0,null,0,0,0,null,786742.94,786742.94307622116,0,null,5777.48,5777.4837149999994,0,null,null,null,0,null,0,0,0,null,24260.31,null,24260,null,3573.97,null,3574,null,0,null,0,null,0,null,0,null,null,null,0,null,null,null,0,null,null,null,0,null,null,null,0,null,"NO",{"$f":"IF(ISERROR(VLOOKUP($A38+8860000,'Growth Data'!$A:$F,3,0)),\"NO\",VLOOKUP($A38+8860000,'Growth Data'!$A:$F,3,0))","v":"YES"},1,null,0,{"$f":"IF(BM38=\"YES\",IF(ISERROR(VLOOKUP($A38+8860000,'Growth Data'!$A:$F,6,0)),0,VLOOKUP($A38+8860000,'Growth Data'!$A:$F,6,0)),0)","v":31},-31,null,"NO",{"$f":"IF(ISERROR(VLOOKUP($A38+8860000,'Growth Data'!$A:$F,4,0)),\"NO\",VLOOKUP($A38+8860000,'Growth Data'!$A:$F,4,0))","v":"YES"},1,null,0,{"$f":"IF(BU38=\"YES\",IF(ISERROR(VLOOKUP($A38+8860000,'Growth Data'!$A:$Z,7,0)),0,VLOOKUP($A38+8860000,'Growth Data'!$A:$Z,7,0)),0)","v":60},-60,null,"NO",{"$f":"IF(ISERROR(VLOOKUP($A38+8860000,'Growth Data'!$A:$F,5,0)),\"NO\",VLOOKUP($A38+8860000,'Growth Data'!$A:$F,5,0))","v":"YES"},1,null,0,{"$f":"IF(CC38=\"YES\",IF(ISERROR(VLOOKUP($A38+8860000,'Growth Data'!$A:$Z,8,0)),0,VLOOKUP($A38+8860000,'Growth Data'!$A:$Z,8,0)),0)","v":32},-32,null,null,null,0]
[2166,"Hollingbourne Primary School",null,"Hollingbourne Primary School","Hollingbourne Primary School",0,null,429685.36,429685.36260473059,0,null,0,0,0,null,429685.36,429685.36260473059,0,null,2567.77,2567.7705399999995,0,null,null,null,0,null,0,0,0,null,22011.09,null,22011,null,3798.89,null,3799,null,0,null,0,null,0,null,0,null,null,null,0,null,null,null,0,null,null,null,0,null,null,null,0,null,"NO",{"$f":"IF(ISERROR(VLOOKUP($A39+8860000,'Growth Data'!$A:$F,3,0)),\"NO\",VLOOKUP($A39+8860000,'Growth Data'!$A:$F,3,0))","v":"NO"},0,null,0,{"$f":"IF(BM39=\"YES\",IF(ISERROR(VLOOKUP($A39+8860000,'Growth Data'!$A:$F,6,0)),0,VLOOKUP($A39+8860000,'Growth Data'!$A:$F,6,0)),0)","v":0},0,null,"NO",{"$f":"IF(ISERROR(VLOOKUP($A39+8860000,'Growth Data'!$A:$F,4,0)),\"NO\",VLOOKUP($A39+8860000,'Growth Data'!$A:$F,4,0))","v":"NO"},0,null,0,{"$f":"IF(BU39=\"YES\",IF(ISERROR(VLOOKUP($A39+8860000,'Growth Data'!$A:$Z,7,0)),0,VLOOKUP($A39+8860000,'Growth Data'!$A:$Z,7,0)),0)","v":0},0,null,"NO",{"$f":"IF(ISERROR(VLOOKUP($A39+8860000,'Growth Data'!$A:$F,5,0)),\"NO\",VLOOKUP($A39+8860000,'Growth Data'!$A:$F,5,0))","v":"NO"},0,null,0,{"$f":"IF(CC39=\"YES\",IF(ISERROR(VLOOKUP($A39+8860000,'Growth Data'!$A:$Z,8,0)),0,VLOOKUP($A39+8860000,'Growth Data'!$A:$Z,8,0)),0)","v":0},0,null,null,null,0]
[2167,"Ightham Primary School",null,"Ightham Primary School","Ightham Primary School",0,null,733520.33,733520.33016684814,0,null,0,0,0,null,733520.33,733520.33016684814,0,null,5263.93,5263.9296069999991,0,null,null,null,0,null,0,0,0,null,29227.94,null,29228,null,3077.21,null,3077,null,0,null,0,null,0,null,0,null,null,null,0,null,null,null,0,null,null,null,0,null,null,null,0,null,"NO",{"$f":"IF(ISERROR(VLOOKUP($A40+8860000,'Growth Data'!$A:$F,3,0)),\"NO\",VLOOKUP($A40+8860000,'Growth Data'!$A:$F,3,0))","v":"NO"},0,null,0,{"$f":"IF(BM40=\"YES\",IF(ISERROR(VLOOKUP($A40+8860000,'Growth Data'!$A:$F,6,0)),0,VLOOKUP($A40+8860000,'Growth Data'!$A:$F,6,0)),0)","v":0},0,null,"NO",{"$f":"IF(ISERROR(VLOOKUP($A40+8860000,'Growth Data'!$A:$F,4,0)),\"NO\",VLOOKUP($A40+8860000,'Growth Data'!$A:$F,4,0))","v":"NO"},0,null,0,{"$f":"IF(BU40=\"YES\",IF(ISERROR(VLOOKUP($A40+8860000,'Growth Data'!$A:$Z,7,0)),0,VLOOKUP($A40+8860000,'Growth Data'!$A:$Z,7,0)),0)","v":0},0,null,"NO",{"$f":"IF(ISERROR(VLOOKUP($A40+8860000,'Growth Data'!$A:$F,5,0)),\"NO\",VLOOKUP($A40+8860000,'Growth Data'!$A:$F,5,0))","v":"NO"},0,null,0,{"$f":"IF(CC40=\"YES\",IF(ISERROR(VLOOKUP($A40+8860000,'Growth Data'!$A:$Z,8,0)),0,VLOOKUP($A40+8860000,'Growth Data'!$A:$Z,8,0)),0)","v":0},0,null,null,null,0]
[2168,"Lenham Primary School",null,"Lenham Primary School","Lenham Primary School",0,null,757688.92,757688.92257838824,0,null,0,0,0,null,757688.92,757688.92257838824,0,null,5340.96,5340.9627231999993,0,null,null,null,0,null,0,0,0,null,39403.269999999997,null,39403,null,2059.67,null,2060,null,0,null,0,null,0,null,0,null,null,null,0,null,null,null,0,null,null,null,0,null,null,null,0,null,"NO",{"$f":"IF(ISERROR(VLOOKUP($A41+8860000,'Growth Data'!$A:$F,3,0)),\"NO\",VLOOKUP($A41+8860000,'Growth Data'!$A:$F,3,0))","v":"NO"},0,null,0,{"$f":"IF(BM41=\"YES\",IF(ISERROR(VLOOKUP($A41+8860000,'Growth Data'!$A:$F,6,0)),0,VLOOKUP($A41+8860000,'Growth Data'!$A:$F,6,0)),0)","v":0},0,null,"NO",{"$f":"IF(ISERROR(VLOOKUP($A41+8860000,'Growth Data'!$A:$F,4,0)),\"NO\",VLOOKUP($A41+8860000,'Growth Data'!$A:$F,4,0))","v":"NO"},0,null,0,{"$f":"IF(BU41=\"YES\",IF(ISERROR(VLOOKUP($A41+8860000,'Growth Data'!$A:$Z,7,0)),0,VLOOKUP($A41+8860000,'Growth Data'!$A:$Z,7,0)),0)","v":0},0,null,"NO",{"$f":"IF(ISERROR(VLOOKUP($A41+8860000,'Growth Data'!$A:$F,5,0)),\"NO\",VLOOKUP($A41+8860000,'Growth Data'!$A:$F,5,0))","v":"NO"},0,null,0,{"$f":"IF(CC41=\"YES\",IF(ISERROR(VLOOKUP($A41+8860000,'Growth Data'!$A:$Z,8,0)),0,VLOOKUP($A41+8860000,'Growth Data'!$A:$Z,8,0)),0)","v":0},0,null,null,null,0]
[2169,"Platts Heath Primary School",null,"Platts Heath Primary School","Platts Heath Primary School",0,null,364807.72,364807.71809952916,0,null,0,0,0,null,364807.72,364807.71809952916,0,null,1977.18,1977.1833157999999,0,null,null,null,0,null,0,0,0,null,29320.52,null,29321,null,3067.95,null,3068,null,0,null,0,null,0,null,0,null,null,null,0,null,null,null,0,null,null,null,0,null,null,null,0,null,"NO",{"$f":"IF(ISERROR(VLOOKUP($A42+8860000,'Growth Data'!$A:$F,3,0)),\"NO\",VLOOKUP($A42+8860000,'Growth Data'!$A:$F,3,0))","v":"NO"},0,null,0,{"$f":"IF(BM42=\"YES\",IF(ISERROR(VLOOKUP($A42+8860000,'Growth Data'!$A:$F,6,0)),0,VLOOKUP($A42+8860000,'Growth Data'!$A:$F,6,0)),0)","v":0},0,null,"NO",{"$f":"IF(ISERROR(VLOOKUP($A42+8860000,'Growth Data'!$A:$F,4,0)),\"NO\",VLOOKUP($A42+8860000,'Growth Data'!$A:$F,4,0))","v":"NO"},0,null,0,{"$f":"IF(BU42=\"YES\",IF(ISERROR(VLOOKUP($A42+8860000,'Growth Data'!$A:$Z,7,0)),0,VLOOKUP($A42+8860000,'Growth Data'!$A:$Z,7,0)),0)","v":0},0,null,"NO",{"$f":"IF(ISERROR(VLOOKUP($A42+8860000,'Growth Data'!$A:$F,5,0)),\"NO\",VLOOKUP($A42+8860000,'Growth Data'!$A:$F,5,0))","v":"NO"},0,null,0,{"$f":"IF(CC42=\"YES\",IF(ISERROR(VLOOKUP($A42+8860000,'Growth Data'!$A:$Z,8,0)),0,VLOOKUP($A42+8860000,'Growth Data'!$A:$Z,8,0)),0)","v":0},0,null,null,null,0]
[2171,"Brunswick House Primary School",null,"Brunswick House Primary School","Brunswick House Primary School",0,null,1491597,1491597,0,null,0,0,0,null,1491597,1491597,0,null,10784.64,10784.636268,0,null,null,null,0,null,0,0,0,null,92776.71,null,92777,null,0,null,0,null,0,null,0,null,0,null,0,null,null,null,0,null,null,null,0,null,null,null,0,null,null,null,0,null,"NO",{"$f":"IF(ISERROR(VLOOKUP($A43+8860000,'Growth Data'!$A:$F,3,0)),\"NO\",VLOOKUP($A43+8860000,'Growth Data'!$A:$F,3,0))","v":"NO"},0,null,0,{"$f":"IF(BM43=\"YES\",IF(ISERROR(VLOOKUP($A43+8860000,'Growth Data'!$A:$F,6,0)),0,VLOOKUP($A43+8860000,'Growth Data'!$A:$F,6,0)),0)","v":0},0,null,"NO",{"$f":"IF(ISERROR(VLOOKUP($A43+8860000,'Growth Data'!$A:$F,4,0)),\"NO\",VLOOKUP($A43+8860000,'Growth Data'!$A:$F,4,0))","v":"NO"},0,null,0,{"$f":"IF(BU43=\"YES\",IF(ISERROR(VLOOKUP($A43+8860000,'Growth Data'!$A:$Z,7,0)),0,VLOOKUP($A43+8860000,'Growth Data'!$A:$Z,7,0)),0)","v":0},0,null,"NO",{"$f":"IF(ISERROR(VLOOKUP($A43+8860000,'Growth Data'!$A:$F,5,0)),\"NO\",VLOOKUP($A43+8860000,'Growth Data'!$A:$F,5,0))","v":"NO"},0,null,0,{"$f":"IF(CC43=\"YES\",IF(ISERROR(VLOOKUP($A43+8860000,'Growth Data'!$A:$Z,8,0)),0,VLOOKUP($A43+8860000,'Growth Data'!$A:$Z,8,0)),0)","v":0},0,null,null,null,0]
[2175,"North Borough Junior School",null,"North Borough Junior School","North Borough Junior School",0,null,1228119.3999999999,1228119.40202188,0,null,0,0,0,null,1228119.3999999999,1228119.40202188,0,null,8447.9699999999993,8447.9650765999995,0,null,null,null,0,null,0,0,0,null,5580,null,5580,null,5442,null,5442,null,0,null,0,null,0,null,0,null,null,null,0,null,null,null,0,null,null,null,0,null,null,null,0,null,"NO",{"$f":"IF(ISERROR(VLOOKUP($A44+8860000,'Growth Data'!$A:$F,3,0)),\"NO\",VLOOKUP($A44+8860000,'Growth Data'!$A:$F,3,0))","v":"NO"},0,null,0,{"$f":"IF(BM44=\"YES\",IF(ISERROR(VLOOKUP($A44+8860000,'Growth Data'!$A:$F,6,0)),0,VLOOKUP($A44+8860000,'Growth Data'!$A:$F,6,0)),0)","v":0},0,null,"NO",{"$f":"IF(ISERROR(VLOOKUP($A44+8860000,'Growth Data'!$A:$F,4,0)),\"NO\",VLOOKUP($A44+8860000,'Growth Data'!$A:$F,4,0))","v":"NO"},0,null,0,{"$f":"IF(BU44=\"YES\",IF(ISERROR(VLOOKUP($A44+8860000,'Growth Data'!$A:$Z,7,0)),0,VLOOKUP($A44+8860000,'Growth Data'!$A:$Z,7,0)),0)","v":0},0,null,"NO",{"$f":"IF(ISERROR(VLOOKUP($A44+8860000,'Growth Data'!$A:$F,5,0)),\"NO\",VLOOKUP($A44+8860000,'Growth Data'!$A:$F,5,0))","v":"NO"},0,null,0,{"$f":"IF(CC44=\"YES\",IF(ISERROR(VLOOKUP($A44+8860000,'Growth Data'!$A:$Z,8,0)),0,VLOOKUP($A44+8860000,'Growth Data'!$A:$Z,8,0)),0)","v":0},0,null,null,null,0]
[2176,"Park Way Primary School",null,"Park Way Primary School","Park Way Primary School",0,null,1210048.5,1210048.4992474101,0,null,0,0,0,null,1210048.5,1210048.4992474101,0,null,8011.44,8011.4440848000004,0,null,null,null,0,null,0,0,0,null,123982.51,null,123983,null,0,null,0,null,0,null,0,null,0,null,0,null,null,null,0,null,null,null,0,null,null,null,0,null,null,null,0,null,"YES",{"$f":"IF(ISERROR(VLOOKUP($A45+8860000,'Growth Data'!$A:$F,3,0)),\"NO\",VLOOKUP($A45+8860000,'Growth Data'!$A:$F,3,0))","v":"NO"},1,null,75,{"$f":"IF(BM45=\"YES\",IF(ISERROR(VLOOKUP($A45+8860000,'Growth Data'!$A:$F,6,0)),0,VLOOKUP($A45+8860000,'Growth Data'!$A:$F,6,0)),0)","v":0},75,null,"YES",{"$f":"IF(ISERROR(VLOOKUP($A45+8860000,'Growth Data'!$A:$F,4,0)),\"NO\",VLOOKUP($A45+8860000,'Growth Data'!$A:$F,4,0))","v":"NO"},1,null,75,{"$f":"IF(BU45=\"YES\",IF(ISERROR(VLOOKUP($A45+8860000,'Growth Data'!$A:$Z,7,0)),0,VLOOKUP($A45+8860000,'Growth Data'!$A:$Z,7,0)),0)","v":0},75,null,"NO",{"$f":"IF(ISERROR(VLOOKUP($A45+8860000,'Growth Data'!$A:$F,5,0)),\"NO\",VLOOKUP($A45+8860000,'Growth Data'!$A:$F,5,0))","v":"NO"},0,null,0,{"$f":"IF(CC45=\"YES\",IF(ISERROR(VLOOKUP($A45+8860000,'Growth Data'!$A:$Z,8,0)),0,VLOOKUP($A45+8860000,'Growth Data'!$A:$Z,8,0)),0)","v":0},0,null,null,null,0]
[2183,"Marden Primary School",null,"Marden Primary School","Marden Primary School",0,null,982451.67,982451.6667634953,0,null,0,0,0,null,982451.67,982451.6667634953,0,null,6599.17,6599.1702877999987,0,null,null,null,0,null,0,0,0,null,146702.95000000001,null,146703,null,0,null,0,null,0,null,0,null,0,null,0,null,null,null,0,null,null,null,0,null,null,null,0,null,null,null,0,null,"NO",{"$f":"IF(ISERROR(VLOOKUP($A46+8860000,'Growth Data'!$A:$F,3,0)),\"NO\",VLOOKUP($A46+8860000,'Growth Data'!$A:$F,3,0))","v":"NO"},0,null,0,{"$f":"IF(BM46=\"YES\",IF(ISERROR(VLOOKUP($A46+8860000,'Growth Data'!$A:$F,6,0)),0,VLOOKUP($A46+8860000,'Growth Data'!$A:$F,6,0)),0)","v":0},0,null,"NO",{"$f":"IF(ISERROR(VLOOKUP($A46+8860000,'Growth Data'!$A:$F,4,0)),\"NO\",VLOOKUP($A46+8860000,'Growth Data'!$A:$F,4,0))","v":"NO"},0,null,0,{"$f":"IF(BU46=\"YES\",IF(ISERROR(VLOOKUP($A46+8860000,'Growth Data'!$A:$Z,7,0)),0,VLOOKUP($A46+8860000,'Growth Data'!$A:$Z,7,0)),0)","v":0},0,null,"NO",{"$f":"IF(ISERROR(VLOOKUP($A46+8860000,'Growth Data'!$A:$F,5,0)),\"NO\",VLOOKUP($A46+8860000,'Growth Data'!$A:$F,5,0))","v":"NO"},0,null,0,{"$f":"IF(CC46=\"YES\",IF(ISERROR(VLOOKUP($A46+8860000,'Growth Data'!$A:$Z,8,0)),0,VLOOKUP($A46+8860000,'Growth Data'!$A:$Z,8,0)),0)","v":0},0,null,null,null,0]
[2185,"Mereworth Community Primary School",null,"Mereworth Community Primary School","Mereworth Community Primary School",0,null,787560.55,787560.54821482429,0,null,0,0,0,null,787560.55,787560.54821482429,0,null,5469.35,5469.3512501999994,0,null,null,null,0,null,0,0,0,null,102263.44,null,102263,null,0,null,0,null,0,null,0,null,0,null,0,null,null,null,0,null,null,null,0,null,null,null,0,null,null,null,0,null,"NO",{"$f":"IF(ISERROR(VLOOKUP($A47+8860000,'Growth Data'!$A:$F,3,0)),\"NO\",VLOOKUP($A47+8860000,'Growth Data'!$A:$F,3,0))","v":"NO"},0,null,0,{"$f":"IF(BM47=\"YES\",IF(ISERROR(VLOOKUP($A47+8860000,'Growth Data'!$A:$F,6,0)),0,VLOOKUP($A47+8860000,'Growth Data'!$A:$F,6,0)),0)","v":0},0,null,"NO",{"$f":"IF(ISERROR(VLOOKUP($A47+8860000,'Growth Data'!$A:$F,4,0)),\"NO\",VLOOKUP($A47+8860000,'Growth Data'!$A:$F,4,0))","v":"NO"},0,null,0,{"$f":"IF(BU47=\"YES\",IF(ISERROR(VLOOKUP($A47+8860000,'Growth Data'!$A:$Z,7,0)),0,VLOOKUP($A47+8860000,'Growth Data'!$A:$Z,7,0)),0)","v":0},0,null,"NO",{"$f":"IF(ISERROR(VLOOKUP($A47+8860000,'Growth Data'!$A:$F,5,0)),\"NO\",VLOOKUP($A47+8860000,'Growth Data'!$A:$F,5,0))","v":"NO"},0,null,0,{"$f":"IF(CC47=\"YES\",IF(ISERROR(VLOOKUP($A47+8860000,'Growth Data'!$A:$Z,8,0)),0,VLOOKUP($A47+8860000,'Growth Data'!$A:$Z,8,0)),0)","v":0},0,null,null,null,0]
[2187,"Offham Primary School",null,"Offham Primary School","Offham Primary School",0,null,749104.62,749104.62057808507,0,null,0,0,0,null,749104.62,749104.62057808507,0,null,5340.96,5340.9627231999993,0,null,null,null,0,null,0,0,0,null,46008.54,null,46009,null,1399.15,null,1399,null,0,null,0,null,0,null,0,null,null,null,0,null,null,null,0,null,null,null,0,null,null,null,0,null,"NO",{"$f":"IF(ISERROR(VLOOKUP($A48+8860000,'Growth Data'!$A:$F,3,0)),\"NO\",VLOOKUP($A48+8860000,'Growth Data'!$A:$F,3,0))","v":"NO"},0,null,0,{"$f":"IF(BM48=\"YES\",IF(ISERROR(VLOOKUP($A48+8860000,'Growth Data'!$A:$F,6,0)),0,VLOOKUP($A48+8860000,'Growth Data'!$A:$F,6,0)),0)","v":0},0,null,"NO",{"$f":"IF(ISERROR(VLOOKUP($A48+8860000,'Growth Data'!$A:$F,4,0)),\"NO\",VLOOKUP($A48+8860000,'Growth Data'!$A:$F,4,0))","v":"NO"},0,null,0,{"$f":"IF(BU48=\"YES\",IF(ISERROR(VLOOKUP($A48+8860000,'Growth Data'!$A:$Z,7,0)),0,VLOOKUP($A48+8860000,'Growth Data'!$A:$Z,7,0)),0)","v":0},0,null,"NO",{"$f":"IF(ISERROR(VLOOKUP($A48+8860000,'Growth Data'!$A:$F,5,0)),\"NO\",VLOOKUP($A48+8860000,'Growth Data'!$A:$F,5,0))","v":"NO"},0,null,0,{"$f":"IF(CC48=\"YES\",IF(ISERROR(VLOOKUP($A48+8860000,'Growth Data'!$A:$Z,8,0)),0,VLOOKUP($A48+8860000,'Growth Data'!$A:$Z,8,0)),0)","v":0},0,null,null,null,0]
[2188,"Plaxtol Primary School",null,"Plaxtol Primary School","Plaxtol Primary School",0,null,406021.37,406021.36963066412,0,null,0,0,0,null,406021.37,406021.36963066412,0,null,2388.0300000000002,2388.0266022000001,0,null,null,null,0,null,0,0,0,null,35490.61,null,35491,null,2450.94,null,2451,null,0,null,0,null,0,null,0,null,null,null,0,null,null,null,0,null,null,null,0,null,null,null,0,null,"NO",{"$f":"IF(ISERROR(VLOOKUP($A49+8860000,'Growth Data'!$A:$F,3,0)),\"NO\",VLOOKUP($A49+8860000,'Growth Data'!$A:$F,3,0))","v":"NO"},0,null,0,{"$f":"IF(BM49=\"YES\",IF(ISERROR(VLOOKUP($A49+8860000,'Growth Data'!$A:$F,6,0)),0,VLOOKUP($A49+8860000,'Growth Data'!$A:$F,6,0)),0)","v":0},0,null,"NO",{"$f":"IF(ISERROR(VLOOKUP($A49+8860000,'Growth Data'!$A:$F,4,0)),\"NO\",VLOOKUP($A49+8860000,'Growth Data'!$A:$F,4,0))","v":"NO"},0,null,0,{"$f":"IF(BU49=\"YES\",IF(ISERROR(VLOOKUP($A49+8860000,'Growth Data'!$A:$Z,7,0)),0,VLOOKUP($A49+8860000,'Growth Data'!$A:$Z,7,0)),0)","v":0},0,null,"NO",{"$f":"IF(ISERROR(VLOOKUP($A49+8860000,'Growth Data'!$A:$F,5,0)),\"NO\",VLOOKUP($A49+8860000,'Growth Data'!$A:$F,5,0))","v":"NO"},0,null,0,{"$f":"IF(CC49=\"YES\",IF(ISERROR(VLOOKUP($A49+8860000,'Growth Data'!$A:$Z,8,0)),0,VLOOKUP($A49+8860000,'Growth Data'!$A:$Z,8,0)),0)","v":0},0,null,null,null,0]
[2189,"Ryarsh Primary School",null,"Ryarsh Primary School","Ryarsh Primary School",0,null,750159.41,750159.41286680428,0,null,0,0,0,null,750159.41,750159.41286680428,0,null,5392.32,5392.3181340000001,0,null,null,null,0,null,0,0,0,null,20008.650000000001,null,20009,null,3999.13,null,3999,null,0,null,0,null,0,null,0,null,null,null,0,null,null,null,0,null,null,null,0,null,null,null,0,null,"NO",{"$f":"IF(ISERROR(VLOOKUP($A50+8860000,'Growth Data'!$A:$F,3,0)),\"NO\",VLOOKUP($A50+8860000,'Growth Data'!$A:$F,3,0))","v":"NO"},0,null,0,{"$f":"IF(BM50=\"YES\",IF(ISERROR(VLOOKUP($A50+8860000,'Growth Data'!$A:$F,6,0)),0,VLOOKUP($A50+8860000,'Growth Data'!$A:$F,6,0)),0)","v":0},0,null,"NO",{"$f":"IF(ISERROR(VLOOKUP($A50+8860000,'Growth Data'!$A:$F,4,0)),\"NO\",VLOOKUP($A50+8860000,'Growth Data'!$A:$F,4,0))","v":"NO"},0,null,0,{"$f":"IF(BU50=\"YES\",IF(ISERROR(VLOOKUP($A50+8860000,'Growth Data'!$A:$Z,7,0)),0,VLOOKUP($A50+8860000,'Growth Data'!$A:$Z,7,0)),0)","v":0},0,null,"NO",{"$f":"IF(ISERROR(VLOOKUP($A50+8860000,'Growth Data'!$A:$F,5,0)),\"NO\",VLOOKUP($A50+8860000,'Growth Data'!$A:$F,5,0))","v":"NO"},0,null,0,{"$f":"IF(CC50=\"YES\",IF(ISERROR(VLOOKUP($A50+8860000,'Growth Data'!$A:$Z,8,0)),0,VLOOKUP($A50+8860000,'Growth Data'!$A:$Z,8,0)),0)","v":0},0,null,null,null,0]
[2190,"Shipbourne School",null,"Shipbourne School","Shipbourne School",0,null,283001.21000000002,283001.21206590912,0,null,0,0,0,null,283001.21000000002,283001.21206590912,0,null,1309.56,1309.5629753999999,0,null,null,null,0,null,0,0,0,null,34664.14,null,34664,null,2533.59,null,2534,null,0,null,0,null,0,null,0,null,null,null,0,null,null,null,0,null,null,null,0,null,null,null,0,null,"NO",{"$f":"IF(ISERROR(VLOOKUP($A51+8860000,'Growth Data'!$A:$F,3,0)),\"NO\",VLOOKUP($A51+8860000,'Growth Data'!$A:$F,3,0))","v":"NO"},0,null,0,{"$f":"IF(BM51=\"YES\",IF(ISERROR(VLOOKUP($A51+8860000,'Growth Data'!$A:$F,6,0)),0,VLOOKUP($A51+8860000,'Growth Data'!$A:$F,6,0)),0)","v":0},0,null,"NO",{"$f":"IF(ISERROR(VLOOKUP($A51+8860000,'Growth Data'!$A:$F,4,0)),\"NO\",VLOOKUP($A51+8860000,'Growth Data'!$A:$F,4,0))","v":"NO"},0,null,0,{"$f":"IF(BU51=\"YES\",IF(ISERROR(VLOOKUP($A51+8860000,'Growth Data'!$A:$Z,7,0)),0,VLOOKUP($A51+8860000,'Growth Data'!$A:$Z,7,0)),0)","v":0},0,null,"NO",{"$f":"IF(ISERROR(VLOOKUP($A51+8860000,'Growth Data'!$A:$F,5,0)),\"NO\",VLOOKUP($A51+8860000,'Growth Data'!$A:$F,5,0))","v":"NO"},0,null,0,{"$f":"IF(CC51=\"YES\",IF(ISERROR(VLOOKUP($A51+8860000,'Growth Data'!$A:$Z,8,0)),0,VLOOKUP($A51+8860000,'Growth Data'!$A:$Z,8,0)),0)","v":0},0,null,null,null,0]
[2191,"St Katherine's School",null,"St Katherine's School","St Katherine's School",0,null,2040034,2040034,0,null,0,0,0,null,2040034,2040034,0,null,14893.07,14893.069131999997,0,null,null,null,0,null,4.9000000000000004,4.9000000000000004,0,null,16696.2,null,16696,null,4330.38,null,4330,null,0,null,0,null,0,null,0,null,null,null,0,null,null,null,0,null,null,null,0,null,null,null,0,null,"NO",{"$f":"IF(ISERROR(VLOOKUP($A52+8860000,'Growth Data'!$A:$F,3,0)),\"NO\",VLOOKUP($A52+8860000,'Growth Data'!$A:$F,3,0))","v":"NO"},0,null,0,{"$f":"IF(BM52=\"YES\",IF(ISERROR(VLOOKUP($A52+8860000,'Growth Data'!$A:$F,6,0)),0,VLOOKUP($A52+8860000,'Growth Data'!$A:$F,6,0)),0)","v":0},0,null,"NO",{"$f":"IF(ISERROR(VLOOKUP($A52+8860000,'Growth Data'!$A:$F,4,0)),\"NO\",VLOOKUP($A52+8860000,'Growth Data'!$A:$F,4,0))","v":"NO"},0,null,0,{"$f":"IF(BU52=\"YES\",IF(ISERROR(VLOOKUP($A52+8860000,'Growth Data'!$A:$Z,7,0)),0,VLOOKUP($A52+8860000,'Growth Data'!$A:$Z,7,0)),0)","v":0},0,null,"NO",{"$f":"IF(ISERROR(VLOOKUP($A52+8860000,'Growth Data'!$A:$F,5,0)),\"NO\",VLOOKUP($A52+8860000,'Growth Data'!$A:$F,5,0))","v":"NO"},0,null,0,{"$f":"IF(CC52=\"YES\",IF(ISERROR(VLOOKUP($A52+8860000,'Growth Data'!$A:$Z,8,0)),0,VLOOKUP($A52+8860000,'Growth Data'!$A:$Z,8,0)),0)","v":0},0,null,null,null,0]
[2192,"Staplehurst School",null,"Staplehurst School","Staplehurst School",0,null,1484636,1484636,0,null,0,0,0,null,1484636,1484636,0,null,10938.7,10938.702500399999,0,null,null,null,0,null,0,0,0,null,196789.88,null,196790,null,0,null,0,null,0,null,0,null,0,null,0,null,null,null,0,null,null,null,0,null,null,null,0,null,null,null,0,null,"NO",{"$f":"IF(ISERROR(VLOOKUP($A53+8860000,'Growth Data'!$A:$F,3,0)),\"NO\",VLOOKUP($A53+8860000,'Growth Data'!$A:$F,3,0))","v":"NO"},0,null,0,{"$f":"IF(BM53=\"YES\",IF(ISERROR(VLOOKUP($A53+8860000,'Growth Data'!$A:$F,6,0)),0,VLOOKUP($A53+8860000,'Growth Data'!$A:$F,6,0)),0)","v":0},0,null,"NO",{"$f":"IF(ISERROR(VLOOKUP($A53+8860000,'Growth Data'!$A:$F,4,0)),\"NO\",VLOOKUP($A53+8860000,'Growth Data'!$A:$F,4,0))","v":"NO"},0,null,0,{"$f":"IF(BU53=\"YES\",IF(ISERROR(VLOOKUP($A53+8860000,'Growth Data'!$A:$Z,7,0)),0,VLOOKUP($A53+8860000,'Growth Data'!$A:$Z,7,0)),0)","v":0},0,null,"NO",{"$f":"IF(ISERROR(VLOOKUP($A53+8860000,'Growth Data'!$A:$F,5,0)),\"NO\",VLOOKUP($A53+8860000,'Growth Data'!$A:$F,5,0))","v":"NO"},0,null,0,{"$f":"IF(CC53=\"YES\",IF(ISERROR(VLOOKUP($A53+8860000,'Growth Data'!$A:$Z,8,0)),0,VLOOKUP($A53+8860000,'Growth Data'!$A:$Z,8,0)),0)","v":0},0,null,null,null,0]
[2193,"Sutton Valence Primary School",null,"Sutton Valence Primary School","Sutton Valence Primary School",0,null,672519.92,672519.91913649172,0,null,0,0,0,null,672519.92,672519.91913649172,0,null,4467.92,4467.9207396000002,0,null,null,null,0,null,0,0,0,null,89079.27,null,89079,null,0,null,0,null,0,null,0,null,0,null,0,null,null,null,0,null,null,null,0,null,null,null,0,null,null,null,0,null,"NO",{"$f":"IF(ISERROR(VLOOKUP($A54+8860000,'Growth Data'!$A:$F,3,0)),\"NO\",VLOOKUP($A54+8860000,'Growth Data'!$A:$F,3,0))","v":"NO"},0,null,0,{"$f":"IF(BM54=\"YES\",IF(ISERROR(VLOOKUP($A54+8860000,'Growth Data'!$A:$F,6,0)),0,VLOOKUP($A54+8860000,'Growth Data'!$A:$F,6,0)),0)","v":0},0,null,"NO",{"$f":"IF(ISERROR(VLOOKUP($A54+8860000,'Growth Data'!$A:$F,4,0)),\"NO\",VLOOKUP($A54+8860000,'Growth Data'!$A:$F,4,0))","v":"NO"},0,null,0,{"$f":"IF(BU54=\"YES\",IF(ISERROR(VLOOKUP($A54+8860000,'Growth Data'!$A:$Z,7,0)),0,VLOOKUP($A54+8860000,'Growth Data'!$A:$Z,7,0)),0)","v":0},0,null,"NO",{"$f":"IF(ISERROR(VLOOKUP($A54+8860000,'Growth Data'!$A:$F,5,0)),\"NO\",VLOOKUP($A54+8860000,'Growth Data'!$A:$F,5,0))","v":"NO"},0,null,0,{"$f":"IF(CC54=\"YES\",IF(ISERROR(VLOOKUP($A54+8860000,'Growth Data'!$A:$Z,8,0)),0,VLOOKUP($A54+8860000,'Growth Data'!$A:$Z,8,0)),0)","v":0},0,null,null,null,0]
[2226,"Eastling Primary School",null,"Eastling Primary School","Eastling Primary School",0,null,467547.29,467547.29039824411,0,null,0,0,0,null,467547.29,467547.29039824411,0,null,2696.16,2696.1590670000001,0,null,null,null,0,null,0,0,0,null,44196.25,null,44196,null,1580.37,null,1580,null,0,null,0,null,0,null,0,null,null,null,0,null,null,null,0,null,null,null,0,null,null,null,0,null,"NO",{"$f":"IF(ISERROR(VLOOKUP($A55+8860000,'Growth Data'!$A:$F,3,0)),\"NO\",VLOOKUP($A55+8860000,'Growth Data'!$A:$F,3,0))","v":"NO"},0,null,0,{"$f":"IF(BM55=\"YES\",IF(ISERROR(VLOOKUP($A55+8860000,'Growth Data'!$A:$F,6,0)),0,VLOOKUP($A55+8860000,'Growth Data'!$A:$F,6,0)),0)","v":0},0,null,"NO",{"$f":"IF(ISERROR(VLOOKUP($A55+8860000,'Growth Data'!$A:$F,4,0)),\"NO\",VLOOKUP($A55+8860000,'Growth Data'!$A:$F,4,0))","v":"NO"},0,null,0,{"$f":"IF(BU55=\"YES\",IF(ISERROR(VLOOKUP($A55+8860000,'Growth Data'!$A:$Z,7,0)),0,VLOOKUP($A55+8860000,'Growth Data'!$A:$Z,7,0)),0)","v":0},0,null,"NO",{"$f":"IF(ISERROR(VLOOKUP($A55+8860000,'Growth Data'!$A:$F,5,0)),\"NO\",VLOOKUP($A55+8860000,'Growth Data'!$A:$F,5,0))","v":"NO"},0,null,0,{"$f":"IF(CC55=\"YES\",IF(ISERROR(VLOOKUP($A55+8860000,'Growth Data'!$A:$Z,8,0)),0,VLOOKUP($A55+8860000,'Growth Data'!$A:$Z,8,0)),0)","v":0},0,null,null,null,0]
[2227,"Ethelbert Road Primary School",null,"Ethelbert Road Primary School","Ethelbert Road Primary School",0,null,769388.65,769388.648285373,0,null,0,0,0,null,769388.65,769388.648285373,0,null,5392.32,5392.3181340000001,0,null,null,null,0,null,0,0,0,null,33477.870000000003,null,33478,null,2652.21,null,2652,null,0,null,0,null,0,null,0,null,null,null,0,null,null,null,0,null,null,null,0,null,null,null,0,null,"NO",{"$f":"IF(ISERROR(VLOOKUP($A56+8860000,'Growth Data'!$A:$F,3,0)),\"NO\",VLOOKUP($A56+8860000,'Growth Data'!$A:$F,3,0))","v":"NO"},0,null,0,{"$f":"IF(BM56=\"YES\",IF(ISERROR(VLOOKUP($A56+8860000,'Growth Data'!$A:$F,6,0)),0,VLOOKUP($A56+8860000,'Growth Data'!$A:$F,6,0)),0)","v":0},0,null,"NO",{"$f":"IF(ISERROR(VLOOKUP($A56+8860000,'Growth Data'!$A:$F,4,0)),\"NO\",VLOOKUP($A56+8860000,'Growth Data'!$A:$F,4,0))","v":"NO"},0,null,0,{"$f":"IF(BU56=\"YES\",IF(ISERROR(VLOOKUP($A56+8860000,'Growth Data'!$A:$Z,7,0)),0,VLOOKUP($A56+8860000,'Growth Data'!$A:$Z,7,0)),0)","v":0},0,null,"NO",{"$f":"IF(ISERROR(VLOOKUP($A56+8860000,'Growth Data'!$A:$F,5,0)),\"NO\",VLOOKUP($A56+8860000,'Growth Data'!$A:$F,5,0))","v":"NO"},0,null,0,{"$f":"IF(CC56=\"YES\",IF(ISERROR(VLOOKUP($A56+8860000,'Growth Data'!$A:$Z,8,0)),0,VLOOKUP($A56+8860000,'Growth Data'!$A:$Z,8,0)),0)","v":0},0,null,null,null,0]
[2228,"Davington Primary School",null,"Davington Primary School","Davington Primary School",0,null,1529174.43,1529174.4325844939,0,null,0,0,0,null,1529174.43,1529174.4325844939,0,null,10707.6,10707.6031518,0,null,null,null,0,null,0,0,0,null,54764.959999999999,null,54765,null,523.5,null,524,null,0,null,0,null,0,null,0,null,null,null,0,null,null,null,0,null,null,null,0,null,null,null,0,null,"NO",{"$f":"IF(ISERROR(VLOOKUP($A57+8860000,'Growth Data'!$A:$F,3,0)),\"NO\",VLOOKUP($A57+8860000,'Growth Data'!$A:$F,3,0))","v":"NO"},0,null,0,{"$f":"IF(BM57=\"YES\",IF(ISERROR(VLOOKUP($A57+8860000,'Growth Data'!$A:$F,6,0)),0,VLOOKUP($A57+8860000,'Growth Data'!$A:$F,6,0)),0)","v":0},0,null,"NO",{"$f":"IF(ISERROR(VLOOKUP($A57+8860000,'Growth Data'!$A:$F,4,0)),\"NO\",VLOOKUP($A57+8860000,'Growth Data'!$A:$F,4,0))","v":"NO"},0,null,0,{"$f":"IF(BU57=\"YES\",IF(ISERROR(VLOOKUP($A57+8860000,'Growth Data'!$A:$Z,7,0)),0,VLOOKUP($A57+8860000,'Growth Data'!$A:$Z,7,0)),0)","v":0},0,null,"NO",{"$f":"IF(ISERROR(VLOOKUP($A57+8860000,'Growth Data'!$A:$F,5,0)),\"NO\",VLOOKUP($A57+8860000,'Growth Data'!$A:$F,5,0))","v":"NO"},0,null,0,{"$f":"IF(CC57=\"YES\",IF(ISERROR(VLOOKUP($A57+8860000,'Growth Data'!$A:$Z,8,0)),0,VLOOKUP($A57+8860000,'Growth Data'!$A:$Z,8,0)),0)","v":0},0,null,null,null,0]
[2231,"Lower Halstow School",null,"Lower Halstow School","Lower Halstow School",0,null,620031.73,620031.72683125769,0,null,0,0,0,null,620031.73,620031.72683125769,0,null,4005.72,4005.7220424000002,0,null,null,null,0,null,0,0,0,null,189060.27,null,189060,null,0,null,0,null,0,null,0,null,0,null,0,null,null,null,0,null,null,null,0,null,null,null,0,null,null,null,0,null,"NO",{"$f":"IF(ISERROR(VLOOKUP($A58+8860000,'Growth Data'!$A:$F,3,0)),\"NO\",VLOOKUP($A58+8860000,'Growth Data'!$A:$F,3,0))","v":"YES"},1,null,0,{"$f":"IF(BM58=\"YES\",IF(ISERROR(VLOOKUP($A58+8860000,'Growth Data'!$A:$F,6,0)),0,VLOOKUP($A58+8860000,'Growth Data'!$A:$F,6,0)),0)","v":20},-20,null,"NO",{"$f":"IF(ISERROR(VLOOKUP($A58+8860000,'Growth Data'!$A:$F,4,0)),\"NO\",VLOOKUP($A58+8860000,'Growth Data'!$A:$F,4,0))","v":"YES"},1,null,0,{"$f":"IF(BU58=\"YES\",IF(ISERROR(VLOOKUP($A58+8860000,'Growth Data'!$A:$Z,7,0)),0,VLOOKUP($A58+8860000,'Growth Data'!$A:$Z,7,0)),0)","v":30},-30,null,"NO",{"$f":"IF(ISERROR(VLOOKUP($A58+8860000,'Growth Data'!$A:$F,5,0)),\"NO\",VLOOKUP($A58+8860000,'Growth Data'!$A:$F,5,0))","v":"YES"},1,null,0,{"$f":"IF(CC58=\"YES\",IF(ISERROR(VLOOKUP($A58+8860000,'Growth Data'!$A:$Z,8,0)),0,VLOOKUP($A58+8860000,'Growth Data'!$A:$Z,8,0)),0)","v":27},-27,null,null,null,0]
[2237,"Queenborough School and Nursery",null,"Queenborough School and Nursery","Queenborough School and Nursery",0,null,1643604.65,1643604.6465239706,0,null,0,0,0,null,1643604.65,1643604.6465239706,0,null,10733.28,10733.280857199998,0,null,null,null,0,null,5.13,5.13,0,null,45967.1,null,45967,null,1403.29,null,1403,null,0,null,0,null,0,null,0,null,null,null,0,null,null,null,0,null,null,null,0,null,null,null,0,null,"NO",{"$f":"IF(ISERROR(VLOOKUP($A59+8860000,'Growth Data'!$A:$F,3,0)),\"NO\",VLOOKUP($A59+8860000,'Growth Data'!$A:$F,3,0))","v":"NO"},0,null,0,{"$f":"IF(BM59=\"YES\",IF(ISERROR(VLOOKUP($A59+8860000,'Growth Data'!$A:$F,6,0)),0,VLOOKUP($A59+8860000,'Growth Data'!$A:$F,6,0)),0)","v":0},0,null,"NO",{"$f":"IF(ISERROR(VLOOKUP($A59+8860000,'Growth Data'!$A:$F,4,0)),\"NO\",VLOOKUP($A59+8860000,'Growth Data'!$A:$F,4,0))","v":"NO"},0,null,0,{"$f":"IF(BU59=\"YES\",IF(ISERROR(VLOOKUP($A59+8860000,'Growth Data'!$A:$Z,7,0)),0,VLOOKUP($A59+8860000,'Growth Data'!$A:$Z,7,0)),0)","v":0},0,null,"NO",{"$f":"IF(ISERROR(VLOOKUP($A59+8860000,'Growth Data'!$A:$F,5,0)),\"NO\",VLOOKUP($A59+8860000,'Growth Data'!$A:$F,5,0))","v":"NO"},0,null,0,{"$f":"IF(CC59=\"YES\",IF(ISERROR(VLOOKUP($A59+8860000,'Growth Data'!$A:$Z,8,0)),0,VLOOKUP($A59+8860000,'Growth Data'!$A:$Z,8,0)),0)","v":0},0,null,null,null,0]
[2239,"Rodmersham School",null,"Rodmersham School","Rodmersham School",0,null,408258.66,408258.66467924858,0,null,0,0,0,null,408258.66,408258.66467924858,0,null,2542.09,2542.0928346000001,0,null,null,null,0,null,0,0,0,null,276461.96000000002,null,276462,null,0,null,0,null,0,null,0,null,0,null,0,null,null,null,0,null,null,null,0,null,null,null,0,null,null,null,0,null,"YES",{"$f":"IF(ISERROR(VLOOKUP($A60+8860000,'Growth Data'!$A:$F,3,0)),\"NO\",VLOOKUP($A60+8860000,'Growth Data'!$A:$F,3,0))","v":"NO"},1,null,55,{"$f":"IF(BM60=\"YES\",IF(ISERROR(VLOOKUP($A60+8860000,'Growth Data'!$A:$F,6,0)),0,VLOOKUP($A60+8860000,'Growth Data'!$A:$F,6,0)),0)","v":0},55,null,"NO",{"$f":"IF(ISERROR(VLOOKUP($A60+8860000,'Growth Data'!$A:$F,4,0)),\"NO\",VLOOKUP($A60+8860000,'Growth Data'!$A:$F,4,0))","v":"NO"},0,null,0,{"$f":"IF(BU60=\"YES\",IF(ISERROR(VLOOKUP($A60+8860000,'Growth Data'!$A:$Z,7,0)),0,VLOOKUP($A60+8860000,'Growth Data'!$A:$Z,7,0)),0)","v":0},0,null,"NO",{"$f":"IF(ISERROR(VLOOKUP($A60+8860000,'Growth Data'!$A:$F,5,0)),\"NO\",VLOOKUP($A60+8860000,'Growth Data'!$A:$F,5,0))","v":"NO"},0,null,0,{"$f":"IF(CC60=\"YES\",IF(ISERROR(VLOOKUP($A60+8860000,'Growth Data'!$A:$Z,8,0)),0,VLOOKUP($A60+8860000,'Growth Data'!$A:$Z,8,0)),0)","v":0},0,null,null,null,0]
[2245,"Rose Street School",null,"Rose Street School","Rose Street School",0,null,1353820.27,1353820.2690983273,0,null,6335.46,6335.4550541585777,0,null,1360155.72,1360155.7241524858,0,null,8268.2199999999993,8268.2211387999996,0,null,null,null,0,null,5.41,5.41,0,null,16189.06,null,16189,null,4381.09,null,4381,null,0,null,0,null,0,null,0,null,null,null,0,null,null,null,0,null,null,null,0,null,null,null,0,null,"NO",{"$f":"IF(ISERROR(VLOOKUP($A61+8860000,'Growth Data'!$A:$F,3,0)),\"NO\",VLOOKUP($A61+8860000,'Growth Data'!$A:$F,3,0))","v":"YES"},1,null,0,{"$f":"IF(BM61=\"YES\",IF(ISERROR(VLOOKUP($A61+8860000,'Growth Data'!$A:$F,6,0)),0,VLOOKUP($A61+8860000,'Growth Data'!$A:$F,6,0)),0)","v":30},-30,null,"NO",{"$f":"IF(ISERROR(VLOOKUP($A61+8860000,'Growth Data'!$A:$F,4,0)),\"NO\",VLOOKUP($A61+8860000,'Growth Data'!$A:$F,4,0))","v":"NO"},0,null,0,{"$f":"IF(BU61=\"YES\",IF(ISERROR(VLOOKUP($A61+8860000,'Growth Data'!$A:$Z,7,0)),0,VLOOKUP($A61+8860000,'Growth Data'!$A:$Z,7,0)),0)","v":0},0,null,"NO",{"$f":"IF(ISERROR(VLOOKUP($A61+8860000,'Growth Data'!$A:$F,5,0)),\"NO\",VLOOKUP($A61+8860000,'Growth Data'!$A:$F,5,0))","v":"NO"},0,null,0,{"$f":"IF(CC61=\"YES\",IF(ISERROR(VLOOKUP($A61+8860000,'Growth Data'!$A:$Z,8,0)),0,VLOOKUP($A61+8860000,'Growth Data'!$A:$Z,8,0)),0)","v":0},0,null,null,null,0]
[2254,"Canterbury Road Primary School",null,"Canterbury Road Primary School","Canterbury Road Primary School",0,null,869358.81,869358.80756126565,0,null,0,0,0,null,869358.81,869358.80756126565,0,null,5366.64,5366.6404285999988,0,null,null,null,0,null,0,0,0,null,243426.63,null,243427,null,0,null,0,null,0,null,0,null,0,null,0,null,null,null,0,null,null,null,0,null,null,null,0,null,null,null,0,null,"YES",{"$f":"IF(ISERROR(VLOOKUP($A62+8860000,'Growth Data'!$A:$F,3,0)),\"NO\",VLOOKUP($A62+8860000,'Growth Data'!$A:$F,3,0))","v":"NO"},1,null,31,{"$f":"IF(BM62=\"YES\",IF(ISERROR(VLOOKUP($A62+8860000,'Growth Data'!$A:$F,6,0)),0,VLOOKUP($A62+8860000,'Growth Data'!$A:$F,6,0)),0)","v":0},31,null,"YES",{"$f":"IF(ISERROR(VLOOKUP($A62+8860000,'Growth Data'!$A:$F,4,0)),\"NO\",VLOOKUP($A62+8860000,'Growth Data'!$A:$F,4,0))","v":"NO"},1,null,30,{"$f":"IF(BU62=\"YES\",IF(ISERROR(VLOOKUP($A62+8860000,'Growth Data'!$A:$Z,7,0)),0,VLOOKUP($A62+8860000,'Growth Data'!$A:$Z,7,0)),0)","v":0},30,null,"YES",{"$f":"IF(ISERROR(VLOOKUP($A62+8860000,'Growth Data'!$A:$F,5,0)),\"NO\",VLOOKUP($A62+8860000,'Growth Data'!$A:$F,5,0))","v":"NO"},1,null,30,{"$f":"IF(CC62=\"YES\",IF(ISERROR(VLOOKUP($A62+8860000,'Growth Data'!$A:$Z,8,0)),0,VLOOKUP($A62+8860000,'Growth Data'!$A:$Z,8,0)),0)","v":0},30,null,null,null,0]
[2258,"Blean Primary School",null,"Blean Primary School","Blean Primary School",0,null,1513900,1513900,0,null,0,0,0,null,1513900,1513900,0,null,11169.8,11169.801848999999,0,null,null,null,0,null,0,0,0,null,125425.22,null,125425,null,0,null,0,null,0,null,0,null,0,null,0,null,null,null,0,null,null,null,0,null,null,null,0,null,null,null,0,null,"NO",{"$f":"IF(ISERROR(VLOOKUP($A63+8860000,'Growth Data'!$A:$F,3,0)),\"NO\",VLOOKUP($A63+8860000,'Growth Data'!$A:$F,3,0))","v":"NO"},0,null,0,{"$f":"IF(BM63=\"YES\",IF(ISERROR(VLOOKUP($A63+8860000,'Growth Data'!$A:$F,6,0)),0,VLOOKUP($A63+8860000,'Growth Data'!$A:$F,6,0)),0)","v":0},0,null,"NO",{"$f":"IF(ISERROR(VLOOKUP($A63+8860000,'Growth Data'!$A:$F,4,0)),\"NO\",VLOOKUP($A63+8860000,'Growth Data'!$A:$F,4,0))","v":"NO"},0,null,0,{"$f":"IF(BU63=\"YES\",IF(ISERROR(VLOOKUP($A63+8860000,'Growth Data'!$A:$Z,7,0)),0,VLOOKUP($A63+8860000,'Growth Data'!$A:$Z,7,0)),0)","v":0},0,null,"NO",{"$f":"IF(ISERROR(VLOOKUP($A63+8860000,'Growth Data'!$A:$F,5,0)),\"NO\",VLOOKUP($A63+8860000,'Growth Data'!$A:$F,5,0))","v":"NO"},0,null,0,{"$f":"IF(CC63=\"YES\",IF(ISERROR(VLOOKUP($A63+8860000,'Growth Data'!$A:$Z,8,0)),0,VLOOKUP($A63+8860000,'Growth Data'!$A:$Z,8,0)),0)","v":0},0,null,null,null,0]
[2259,"Chartham Primary School",null,"Chartham Primary School","Chartham Primary School",0,null,1214815.92,1214815.9154718157,0,null,0,0,0,null,1214815.92,1214815.9154718157,0,null,8987.2000000000007,8987.1968899999993,0,null,null,null,0,null,0,0,0,null,90252.51,null,90253,null,0,null,0,null,0,null,0,null,0,null,0,null,null,null,0,null,null,null,0,null,null,null,0,null,null,null,0,null,"NO",{"$f":"IF(ISERROR(VLOOKUP($A64+8860000,'Growth Data'!$A:$F,3,0)),\"NO\",VLOOKUP($A64+8860000,'Growth Data'!$A:$F,3,0))","v":"YES"},1,null,0,{"$f":"IF(BM64=\"YES\",IF(ISERROR(VLOOKUP($A64+8860000,'Growth Data'!$A:$F,6,0)),0,VLOOKUP($A64+8860000,'Growth Data'!$A:$F,6,0)),0)","v":46},-46,null,"NO",{"$f":"IF(ISERROR(VLOOKUP($A64+8860000,'Growth Data'!$A:$F,4,0)),\"NO\",VLOOKUP($A64+8860000,'Growth Data'!$A:$F,4,0))","v":"YES"},1,null,0,{"$f":"IF(BU64=\"YES\",IF(ISERROR(VLOOKUP($A64+8860000,'Growth Data'!$A:$Z,7,0)),0,VLOOKUP($A64+8860000,'Growth Data'!$A:$Z,7,0)),0)","v":60},-60,null,"NO",{"$f":"IF(ISERROR(VLOOKUP($A64+8860000,'Growth Data'!$A:$F,5,0)),\"NO\",VLOOKUP($A64+8860000,'Growth Data'!$A:$F,5,0))","v":"NO"},0,null,0,{"$f":"IF(CC64=\"YES\",IF(ISERROR(VLOOKUP($A64+8860000,'Growth Data'!$A:$Z,8,0)),0,VLOOKUP($A64+8860000,'Growth Data'!$A:$Z,8,0)),0)","v":0},0,null,null,null,0]
[2263,"Herne Bay Infant School",null,"Herne Bay Infant School","Herne Bay Infant School",0,null,1274604.22,1274604.2159670133,0,null,0,0,0,null,1274604.22,1274604.2159670133,0,null,8858.81,8858.8083630000001,0,null,null,null,0,null,4.9000000000000004,4.9000000000000004,0,null,77501.27,null,77501,null,0,null,0,null,0,null,0,null,0,null,0,null,null,null,0,null,null,null,0,null,null,null,0,null,null,null,0,null,"NO",{"$f":"IF(ISERROR(VLOOKUP($A65+8860000,'Growth Data'!$A:$F,3,0)),\"NO\",VLOOKUP($A65+8860000,'Growth Data'!$A:$F,3,0))","v":"NO"},0,null,0,{"$f":"IF(BM65=\"YES\",IF(ISERROR(VLOOKUP($A65+8860000,'Growth Data'!$A:$F,6,0)),0,VLOOKUP($A65+8860000,'Growth Data'!$A:$F,6,0)),0)","v":0},0,null,"NO",{"$f":"IF(ISERROR(VLOOKUP($A65+8860000,'Growth Data'!$A:$F,4,0)),\"NO\",VLOOKUP($A65+8860000,'Growth Data'!$A:$F,4,0))","v":"NO"},0,null,0,{"$f":"IF(BU65=\"YES\",IF(ISERROR(VLOOKUP($A65+8860000,'Growth Data'!$A:$Z,7,0)),0,VLOOKUP($A65+8860000,'Growth Data'!$A:$Z,7,0)),0)","v":0},0,null,"YES",{"$f":"IF(ISERROR(VLOOKUP($A65+8860000,'Growth Data'!$A:$F,5,0)),\"NO\",VLOOKUP($A65+8860000,'Growth Data'!$A:$F,5,0))","v":"NO"},1,null,45,{"$f":"IF(CC65=\"YES\",IF(ISERROR(VLOOKUP($A65+8860000,'Growth Data'!$A:$Z,8,0)),0,VLOOKUP($A65+8860000,'Growth Data'!$A:$Z,8,0)),0)","v":0},45,null,null,null,0]
[2265,"Hoath Primary School",null,"Hoath Primary School","Hoath Primary School",0,null,398869.92,398869.92189959937,0,null,0,0,0,null,398869.92,398869.92189959937,0,null,2208.2800000000002,2208.2826643999997,0,null,null,null,0,null,0,0,0,null,154112.53,null,154113,null,0,null,0,null,0,null,0,null,0,null,0,null,null,null,0,null,null,null,0,null,null,null,0,null,null,null,0,null,"NO",{"$f":"IF(ISERROR(VLOOKUP($A66+8860000,'Growth Data'!$A:$F,3,0)),\"NO\",VLOOKUP($A66+8860000,'Growth Data'!$A:$F,3,0))","v":"YES"},1,null,0,{"$f":"IF(BM66=\"YES\",IF(ISERROR(VLOOKUP($A66+8860000,'Growth Data'!$A:$F,6,0)),0,VLOOKUP($A66+8860000,'Growth Data'!$A:$F,6,0)),0)","v":92},-92,null,"NO",{"$f":"IF(ISERROR(VLOOKUP($A66+8860000,'Growth Data'!$A:$F,4,0)),\"NO\",VLOOKUP($A66+8860000,'Growth Data'!$A:$F,4,0))","v":"YES"},1,null,0,{"$f":"IF(BU66=\"YES\",IF(ISERROR(VLOOKUP($A66+8860000,'Growth Data'!$A:$Z,7,0)),0,VLOOKUP($A66+8860000,'Growth Data'!$A:$Z,7,0)),0)","v":93},-93,null,"NO",{"$f":"IF(ISERROR(VLOOKUP($A66+8860000,'Growth Data'!$A:$F,5,0)),\"NO\",VLOOKUP($A66+8860000,'Growth Data'!$A:$F,5,0))","v":"YES"},1,null,0,{"$f":"IF(CC66=\"YES\",IF(ISERROR(VLOOKUP($A66+8860000,'Growth Data'!$A:$Z,8,0)),0,VLOOKUP($A66+8860000,'Growth Data'!$A:$Z,8,0)),0)","v":92},-92,null,null,null,0]
[2268,"Westmeads Community Infant School",null,"Westmeads Community Infant School","Westmeads Community Infant School",{"$f":"IF(E67=D67,0,1)","v":0},null,681777.32,681777.31711709313,{"$f":"ROUND(H67-I67,0)","v":0},null,0,0,{"$f":"ROUND(L67-M67,0)","v":0},null,681777.32,681777.31711709313,{"$f":"ROUND(P67-Q67,0)","v":0},null,4596.3100000000004,4596.3092666000011,{"$f":"ROUND(T67-U67,0)","v":0},null,null,null,{"$f":"ROUND(X67-Y67,0)","v":0},null,0,0,{"$f":"ROUND(AB67-AC67,0)","v":0},null,28830.76,null,{"$f":"ROUND(AF67-AG67,0)","v":28831},null,3116.92,null,{"$f":"ROUND(AJ67-AK67,0)","v":3117},null,0,null,{"$f":"ROUND(AN67-AO67,0)","v":0},null,0,null,{"$f":"ROUND(AR67-AS67,0)","v":0},null,null,null,{"$f":"ROUND(AV67-AW67,0)","v":0},null,null,null,{"$f":"ROUND(AZ67-BA67,0)","v":0},null,null,null,{"$f":"ROUND(BD67-BE67,0)","v":0},null,null,null,{"$f":"ROUND(BH67-BI67,0)","v":0},null,"NO",{"$f":"IF(ISERROR(VLOOKUP($A67+8860000,'Growth Data'!$A:$F,3,0)),\"NO\",VLOOKUP($A67+8860000,'Growth Data'!$A:$F,3,0))","v":"NO"},{"$f":"IF(BL67=BM67,0,1)","v":0},null,0,{"$f":"IF(BM67=\"YES\",IF(ISERROR(VLOOKUP($A67+8860000,'Growth Data'!$A:$F,6,0)),0,VLOOKUP($A67+8860000,'Growth Data'!$A:$F,6,0)),0)","v":0},{"$f":"ROUND(BP67-BQ67,0)","v":0},null,"NO",{"$f":"IF(ISERROR(VLOOKUP($A67+8860000,'Growth Data'!$A:$F,4,0)),\"NO\",VLOOKUP($A67+8860000,'Growth Data'!$A:$F,4,0))","v":"NO"},{"$f":"IF(BT67=BU67,0,1)","v":0},null,0,{"$f":"IF(BU67=\"YES\",IF(ISERROR(VLOOKUP($A67+8860000,'Growth Data'!$A:$Z,7,0)),0,VLOOKUP($A67+8860000,'Growth Data'!$A:$Z,7,0)),0)","v":0},{"$f":"ROUND(BX67-BY67,0)","v":0},null,"NO",{"$f":"IF(ISERROR(VLOOKUP($A67+8860000,'Growth Data'!$A:$F,5,0)),\"NO\",VLOOKUP($A67+8860000,'Growth Data'!$A:$F,5,0))","v":"NO"},{"$f":"IF(CB67=CC67,0,1)","v":0},null,0,{"$f":"IF(CC67=\"YES\",IF(ISERROR(VLOOKUP($A67+8860000,'Growth Data'!$A:$Z,8,0)),0,VLOOKUP($A67+8860000,'Growth Data'!$A:$Z,8,0)),0)","v":0},{"$f":"ROUND(CF67-CG67,0)","v":0},null,null,null,{"$f":"ROUND(CJ67-CK67,0)","v":0}]
[2269,"Whitstable Junior School",null,"Whitstable Junior School","Whitstable Junior School",0,null,997161.56,997161.56150700268,0,null,0,0,0,null,997161.56,997161.56150700268,0,null,6881.63,6881.6250472000002,0,null,null,null,0,null,0,0,0,null,40555.25,null,40555,null,1944.47,null,1944,null,0,null,0,null,0,null,0,null,null,null,0,null,null,null,0,null,null,null,0,null,null,null,0,null,"NO",{"$f":"IF(ISERROR(VLOOKUP($A68+8860000,'Growth Data'!$A:$F,3,0)),\"NO\",VLOOKUP($A68+8860000,'Growth Data'!$A:$F,3,0))","v":"NO"},0,null,0,{"$f":"IF(BM68=\"YES\",IF(ISERROR(VLOOKUP($A68+8860000,'Growth Data'!$A:$F,6,0)),0,VLOOKUP($A68+8860000,'Growth Data'!$A:$F,6,0)),0)","v":0},0,null,"NO",{"$f":"IF(ISERROR(VLOOKUP($A68+8860000,'Growth Data'!$A:$F,4,0)),\"NO\",VLOOKUP($A68+8860000,'Growth Data'!$A:$F,4,0))","v":"NO"},0,null,0,{"$f":"IF(BU68=\"YES\",IF(ISERROR(VLOOKUP($A68+8860000,'Growth Data'!$A:$Z,7,0)),0,VLOOKUP($A68+8860000,'Growth Data'!$A:$Z,7,0)),0)","v":0},0,null,"NO",{"$f":"IF(ISERROR(VLOOKUP($A68+8860000,'Growth Data'!$A:$F,5,0)),\"NO\",VLOOKUP($A68+8860000,'Growth Data'!$A:$F,5,0))","v":"NO"},0,null,0,{"$f":"IF(CC68=\"YES\",IF(ISERROR(VLOOKUP($A68+8860000,'Growth Data'!$A:$Z,8,0)),0,VLOOKUP($A68+8860000,'Growth Data'!$A:$Z,8,0)),0)","v":0},0,null,null,null,0]
[2270,"Aldington Primary School",null,"Aldington Primary School","Aldington Primary School",0,null,762232.52,762232.51846664574,0,null,0,0,0,null,762232.52,762232.51846664574,0,null,5289.61,5289.6073123999995,0,null,null,null,0,null,0,0,0,null,97705.27,null,97705,null,0,null,0,null,0,null,0,null,0,null,0,null,null,null,0,null,null,null,0,null,null,null,0,null,null,null,0,null,"NO",{"$f":"IF(ISERROR(VLOOKUP($A69+8860000,'Growth Data'!$A:$F,3,0)),\"NO\",VLOOKUP($A69+8860000,'Growth Data'!$A:$F,3,0))","v":"NO"},0,null,0,{"$f":"IF(BM69=\"YES\",IF(ISERROR(VLOOKUP($A69+8860000,'Growth Data'!$A:$F,6,0)),0,VLOOKUP($A69+8860000,'Growth Data'!$A:$F,6,0)),0)","v":0},0,null,"NO",{"$f":"IF(ISERROR(VLOOKUP($A69+8860000,'Growth Data'!$A:$F,4,0)),\"NO\",VLOOKUP($A69+8860000,'Growth Data'!$A:$F,4,0))","v":"NO"},0,null,0,{"$f":"IF(BU69=\"YES\",IF(ISERROR(VLOOKUP($A69+8860000,'Growth Data'!$A:$Z,7,0)),0,VLOOKUP($A69+8860000,'Growth Data'!$A:$Z,7,0)),0)","v":0},0,null,"NO",{"$f":"IF(ISERROR(VLOOKUP($A69+8860000,'Growth Data'!$A:$F,5,0)),\"NO\",VLOOKUP($A69+8860000,'Growth Data'!$A:$F,5,0))","v":"NO"},0,null,0,{"$f":"IF(CC69=\"YES\",IF(ISERROR(VLOOKUP($A69+8860000,'Growth Data'!$A:$Z,8,0)),0,VLOOKUP($A69+8860000,'Growth Data'!$A:$Z,8,0)),0)","v":0},0,null,null,null,0]
[2272,"East Stour Primary School",null,"East Stour Primary School","East Stour Primary School",0,null,1556225.84,1556225.8360694114,0,null,0,0,0,null,1556225.84,1556225.8360694114,0,null,10476.5,10476.503803199999,0,null,null,null,0,null,4.9000000000000004,4.9000000000000004,0,null,45195.360000000001,null,45195,null,1480.46,null,1480,null,0,null,0,null,0,null,0,null,null,null,0,null,null,null,0,null,null,null,0,null,null,null,0,null,"YES",{"$f":"IF(ISERROR(VLOOKUP($A70+8860000,'Growth Data'!$A:$F,3,0)),\"NO\",VLOOKUP($A70+8860000,'Growth Data'!$A:$F,3,0))","v":"NO"},1,null,22,{"$f":"IF(BM70=\"YES\",IF(ISERROR(VLOOKUP($A70+8860000,'Growth Data'!$A:$F,6,0)),0,VLOOKUP($A70+8860000,'Growth Data'!$A:$F,6,0)),0)","v":0},22,null,"NO",{"$f":"IF(ISERROR(VLOOKUP($A70+8860000,'Growth Data'!$A:$F,4,0)),\"NO\",VLOOKUP($A70+8860000,'Growth Data'!$A:$F,4,0))","v":"NO"},0,null,0,{"$f":"IF(BU70=\"YES\",IF(ISERROR(VLOOKUP($A70+8860000,'Growth Data'!$A:$Z,7,0)),0,VLOOKUP($A70+8860000,'Growth Data'!$A:$Z,7,0)),0)","v":0},0,null,"NO",{"$f":"IF(ISERROR(VLOOKUP($A70+8860000,'Growth Data'!$A:$F,5,0)),\"NO\",VLOOKUP($A70+8860000,'Growth Data'!$A:$F,5,0))","v":"NO"},0,null,0,{"$f":"IF(CC70=\"YES\",IF(ISERROR(VLOOKUP($A70+8860000,'Growth Data'!$A:$Z,8,0)),0,VLOOKUP($A70+8860000,'Growth Data'!$A:$Z,8,0)),0)","v":0},0,null,null,null,0]
[2275,"Victoria Road Primary School",null,"Victoria Road Primary School","Victoria Road Primary School",0,null,831342.44,831342.43799014739,0,null,0,0,0,null,831342.44,831342.43799014739,0,null,5392.32,5392.3181340000001,0,null,null,null,0,null,0,0,0,null,193061.95,null,193062,null,0,null,0,null,0,null,0,null,0,null,0,null,null,null,0,null,null,null,0,null,null,null,0,null,null,null,0,null,"NO",{"$f":"IF(ISERROR(VLOOKUP($A71+8860000,'Growth Data'!$A:$F,3,0)),\"NO\",VLOOKUP($A71+8860000,'Growth Data'!$A:$F,3,0))","v":"NO"},0,null,0,{"$f":"IF(BM71=\"YES\",IF(ISERROR(VLOOKUP($A71+8860000,'Growth Data'!$A:$F,6,0)),0,VLOOKUP($A71+8860000,'Growth Data'!$A:$F,6,0)),0)","v":0},0,null,"NO",{"$f":"IF(ISERROR(VLOOKUP($A71+8860000,'Growth Data'!$A:$F,4,0)),\"NO\",VLOOKUP($A71+8860000,'Growth Data'!$A:$F,4,0))","v":"NO"},0,null,0,{"$f":"IF(BU71=\"YES\",IF(ISERROR(VLOOKUP($A71+8860000,'Growth Data'!$A:$Z,7,0)),0,VLOOKUP($A71+8860000,'Growth Data'!$A:$Z,7,0)),0)","v":0},0,null,"NO",{"$f":"IF(ISERROR(VLOOKUP($A71+8860000,'Growth Data'!$A:$F,5,0)),\"NO\",VLOOKUP($A71+8860000,'Growth Data'!$A:$F,5,0))","v":"NO"},0,null,0,{"$f":"IF(CC71=\"YES\",IF(ISERROR(VLOOKUP($A71+8860000,'Growth Data'!$A:$Z,8,0)),0,VLOOKUP($A71+8860000,'Growth Data'!$A:$Z,8,0)),0)","v":0},0,null,null,null,0]
[2276,"Willesborough Infant School",null,"Willesborough Infant School","Willesborough Infant School",0,null,1351227.25,1351227.2506524283,0,null,0,0,0,null,1351227.25,1351227.2506524283,0,null,9731.85,9731.8503466000002,0,null,null,null,0,null,0,0,0,null,92834.99,null,92835,null,0,null,0,null,0,null,0,null,0,null,0,null,null,null,0,null,null,null,0,null,null,null,0,null,null,null,0,null,"NO",{"$f":"IF(ISERROR(VLOOKUP($A72+8860000,'Growth Data'!$A:$F,3,0)),\"NO\",VLOOKUP($A72+8860000,'Growth Data'!$A:$F,3,0))","v":"NO"},0,null,0,{"$f":"IF(BM72=\"YES\",IF(ISERROR(VLOOKUP($A72+8860000,'Growth Data'!$A:$F,6,0)),0,VLOOKUP($A72+8860000,'Growth Data'!$A:$F,6,0)),0)","v":0},0,null,"NO",{"$f":"IF(ISERROR(VLOOKUP($A72+8860000,'Growth Data'!$A:$F,4,0)),\"NO\",VLOOKUP($A72+8860000,'Growth Data'!$A:$F,4,0))","v":"NO"},0,null,0,{"$f":"IF(BU72=\"YES\",IF(ISERROR(VLOOKUP($A72+8860000,'Growth Data'!$A:$Z,7,0)),0,VLOOKUP($A72+8860000,'Growth Data'!$A:$Z,7,0)),0)","v":0},0,null,"NO",{"$f":"IF(ISERROR(VLOOKUP($A72+8860000,'Growth Data'!$A:$F,5,0)),\"NO\",VLOOKUP($A72+8860000,'Growth Data'!$A:$F,5,0))","v":"NO"},0,null,0,{"$f":"IF(CC72=\"YES\",IF(ISERROR(VLOOKUP($A72+8860000,'Growth Data'!$A:$Z,8,0)),0,VLOOKUP($A72+8860000,'Growth Data'!$A:$Z,8,0)),0)","v":0},0,null,null,null,0]
[2278,"Bethersden Primary School",null,"Bethersden Primary School","Bethersden Primary School",0,null,531884.25,531884.2475939492,0,null,0,0,0,null,531884.25,531884.2475939492,0,null,3209.71,3209.7131750000003,0,null,null,null,0,null,0,0,0,null,107180.29,null,107180,null,0,null,0,null,0,null,0,null,0,null,0,null,null,null,0,null,null,null,0,null,null,null,0,null,null,null,0,null,"NO",{"$f":"IF(ISERROR(VLOOKUP($A73+8860000,'Growth Data'!$A:$F,3,0)),\"NO\",VLOOKUP($A73+8860000,'Growth Data'!$A:$F,3,0))","v":"NO"},0,null,0,{"$f":"IF(BM73=\"YES\",IF(ISERROR(VLOOKUP($A73+8860000,'Growth Data'!$A:$F,6,0)),0,VLOOKUP($A73+8860000,'Growth Data'!$A:$F,6,0)),0)","v":0},0,null,"NO",{"$f":"IF(ISERROR(VLOOKUP($A73+8860000,'Growth Data'!$A:$F,4,0)),\"NO\",VLOOKUP($A73+8860000,'Growth Data'!$A:$F,4,0))","v":"NO"},0,null,0,{"$f":"IF(BU73=\"YES\",IF(ISERROR(VLOOKUP($A73+8860000,'Growth Data'!$A:$Z,7,0)),0,VLOOKUP($A73+8860000,'Growth Data'!$A:$Z,7,0)),0)","v":0},0,null,"NO",{"$f":"IF(ISERROR(VLOOKUP($A73+8860000,'Growth Data'!$A:$F,5,0)),\"NO\",VLOOKUP($A73+8860000,'Growth Data'!$A:$F,5,0))","v":"NO"},0,null,0,{"$f":"IF(CC73=\"YES\",IF(ISERROR(VLOOKUP($A73+8860000,'Growth Data'!$A:$Z,8,0)),0,VLOOKUP($A73+8860000,'Growth Data'!$A:$Z,8,0)),0)","v":0},0,null,null,null,0]
[2279,"Brook Community Primary School",null,"Brook Community Primary School","Brook Community Primary School",0,null,403499.67,403499.66739442095,0,null,0,0,0,null,403499.67,403499.66739442095,0,null,2259.64,2259.6380752000005,0,null,null,null,0,null,0,0,0,null,39780.879999999997,null,39781,null,2021.91,null,2022,null,0,null,0,null,0,null,0,null,null,null,0,null,null,null,0,null,null,null,0,null,null,null,0,null,"NO",{"$f":"IF(ISERROR(VLOOKUP($A74+8860000,'Growth Data'!$A:$F,3,0)),\"NO\",VLOOKUP($A74+8860000,'Growth Data'!$A:$F,3,0))","v":"NO"},0,null,0,{"$f":"IF(BM74=\"YES\",IF(ISERROR(VLOOKUP($A74+8860000,'Growth Data'!$A:$F,6,0)),0,VLOOKUP($A74+8860000,'Growth Data'!$A:$F,6,0)),0)","v":0},0,null,"NO",{"$f":"IF(ISERROR(VLOOKUP($A74+8860000,'Growth Data'!$A:$F,4,0)),\"NO\",VLOOKUP($A74+8860000,'Growth Data'!$A:$F,4,0))","v":"NO"},0,null,0,{"$f":"IF(BU74=\"YES\",IF(ISERROR(VLOOKUP($A74+8860000,'Growth Data'!$A:$Z,7,0)),0,VLOOKUP($A74+8860000,'Growth Data'!$A:$Z,7,0)),0)","v":0},0,null,"NO",{"$f":"IF(ISERROR(VLOOKUP($A74+8860000,'Growth Data'!$A:$F,5,0)),\"NO\",VLOOKUP($A74+8860000,'Growth Data'!$A:$F,5,0))","v":"NO"},0,null,0,{"$f":"IF(CC74=\"YES\",IF(ISERROR(VLOOKUP($A74+8860000,'Growth Data'!$A:$Z,8,0)),0,VLOOKUP($A74+8860000,'Growth Data'!$A:$Z,8,0)),0)","v":0},0,null,null,null,0]
[2280,"Challock Primary School",null,"Challock Primary School","Challock Primary School",0,null,761997.03,761997.02937557525,0,null,0,0,0,null,761997.03,761997.02937557525,0,null,5418,5417.9958393999996,0,null,null,null,0,null,0,0,0,null,29958.71,null,29959,null,3004.13,null,3004,null,0,null,0,null,0,null,0,null,null,null,0,null,null,null,0,null,null,null,0,null,null,null,0,null,"NO",{"$f":"IF(ISERROR(VLOOKUP($A75+8860000,'Growth Data'!$A:$F,3,0)),\"NO\",VLOOKUP($A75+8860000,'Growth Data'!$A:$F,3,0))","v":"NO"},0,null,0,{"$f":"IF(BM75=\"YES\",IF(ISERROR(VLOOKUP($A75+8860000,'Growth Data'!$A:$F,6,0)),0,VLOOKUP($A75+8860000,'Growth Data'!$A:$F,6,0)),0)","v":0},0,null,"NO",{"$f":"IF(ISERROR(VLOOKUP($A75+8860000,'Growth Data'!$A:$F,4,0)),\"NO\",VLOOKUP($A75+8860000,'Growth Data'!$A:$F,4,0))","v":"NO"},0,null,0,{"$f":"IF(BU75=\"YES\",IF(ISERROR(VLOOKUP($A75+8860000,'Growth Data'!$A:$Z,7,0)),0,VLOOKUP($A75+8860000,'Growth Data'!$A:$Z,7,0)),0)","v":0},0,null,"NO",{"$f":"IF(ISERROR(VLOOKUP($A75+8860000,'Growth Data'!$A:$F,5,0)),\"NO\",VLOOKUP($A75+8860000,'Growth Data'!$A:$F,5,0))","v":"NO"},0,null,0,{"$f":"IF(CC75=\"YES\",IF(ISERROR(VLOOKUP($A75+8860000,'Growth Data'!$A:$Z,8,0)),0,VLOOKUP($A75+8860000,'Growth Data'!$A:$Z,8,0)),0)","v":0},0,null,null,null,0]
[2282,"Great Chart Primary School",null,"Great Chart Primary School","Great Chart Primary School",0,null,1679422,1679422,0,null,0,0,0,null,1679422,1679422,0,null,12402.33,12402.331708199999,0,null,null,null,0,null,0,0,0,null,40596.03,null,40596,null,1940.4,null,1940,null,0,null,0,null,0,null,0,null,null,null,0,null,null,null,0,null,null,null,0,null,null,null,0,null,"NO",{"$f":"IF(ISERROR(VLOOKUP($A76+8860000,'Growth Data'!$A:$F,3,0)),\"NO\",VLOOKUP($A76+8860000,'Growth Data'!$A:$F,3,0))","v":"NO"},0,null,0,{"$f":"IF(BM76=\"YES\",IF(ISERROR(VLOOKUP($A76+8860000,'Growth Data'!$A:$F,6,0)),0,VLOOKUP($A76+8860000,'Growth Data'!$A:$F,6,0)),0)","v":0},0,null,"NO",{"$f":"IF(ISERROR(VLOOKUP($A76+8860000,'Growth Data'!$A:$F,4,0)),\"NO\",VLOOKUP($A76+8860000,'Growth Data'!$A:$F,4,0))","v":"NO"},0,null,0,{"$f":"IF(BU76=\"YES\",IF(ISERROR(VLOOKUP($A76+8860000,'Growth Data'!$A:$Z,7,0)),0,VLOOKUP($A76+8860000,'Growth Data'!$A:$Z,7,0)),0)","v":0},0,null,"NO",{"$f":"IF(ISERROR(VLOOKUP($A76+8860000,'Growth Data'!$A:$F,5,0)),\"NO\",VLOOKUP($A76+8860000,'Growth Data'!$A:$F,5,0))","v":"NO"},0,null,0,{"$f":"IF(CC76=\"YES\",IF(ISERROR(VLOOKUP($A76+8860000,'Growth Data'!$A:$Z,8,0)),0,VLOOKUP($A76+8860000,'Growth Data'!$A:$Z,8,0)),0)","v":0},0,null,null,null,0]
[2285,"Mersham Primary School",null,"Mersham Primary School","Mersham Primary School",0,null,717710.11,717710.11067558755,0,null,0,0,0,null,717710.11,717710.11067558755,0,null,5109.8599999999997,5109.8633746000005,0,null,null,null,0,null,0,0,0,null,102641.56,null,102642,null,0,null,0,null,0,null,0,null,0,null,0,null,null,null,0,null,null,null,0,null,null,null,0,null,null,null,0,null,"NO",{"$f":"IF(ISERROR(VLOOKUP($A77+8860000,'Growth Data'!$A:$F,3,0)),\"NO\",VLOOKUP($A77+8860000,'Growth Data'!$A:$F,3,0))","v":"NO"},0,null,0,{"$f":"IF(BM77=\"YES\",IF(ISERROR(VLOOKUP($A77+8860000,'Growth Data'!$A:$F,6,0)),0,VLOOKUP($A77+8860000,'Growth Data'!$A:$F,6,0)),0)","v":0},0,null,"NO",{"$f":"IF(ISERROR(VLOOKUP($A77+8860000,'Growth Data'!$A:$F,4,0)),\"NO\",VLOOKUP($A77+8860000,'Growth Data'!$A:$F,4,0))","v":"NO"},0,null,0,{"$f":"IF(BU77=\"YES\",IF(ISERROR(VLOOKUP($A77+8860000,'Growth Data'!$A:$Z,7,0)),0,VLOOKUP($A77+8860000,'Growth Data'!$A:$Z,7,0)),0)","v":0},0,null,"NO",{"$f":"IF(ISERROR(VLOOKUP($A77+8860000,'Growth Data'!$A:$F,5,0)),\"NO\",VLOOKUP($A77+8860000,'Growth Data'!$A:$F,5,0))","v":"NO"},0,null,0,{"$f":"IF(CC77=\"YES\",IF(ISERROR(VLOOKUP($A77+8860000,'Growth Data'!$A:$Z,8,0)),0,VLOOKUP($A77+8860000,'Growth Data'!$A:$Z,8,0)),0)","v":0},0,null,null,null,0]
[2287,"Rolvenden Primary School",null,"Rolvenden Primary School","Rolvenden Primary School",0,null,484230.77,484230.77297699515,0,null,0,0,0,null,484230.77,484230.77297699515,0,null,2721.84,2721.8367724,0,null,null,null,0,null,0,0,0,null,40134,null,40134,null,1986.6,null,1987,null,0,null,0,null,0,null,0,null,null,null,0,null,null,null,0,null,null,null,0,null,null,null,0,null,"NO",{"$f":"IF(ISERROR(VLOOKUP($A78+8860000,'Growth Data'!$A:$F,3,0)),\"NO\",VLOOKUP($A78+8860000,'Growth Data'!$A:$F,3,0))","v":"NO"},0,null,0,{"$f":"IF(BM78=\"YES\",IF(ISERROR(VLOOKUP($A78+8860000,'Growth Data'!$A:$F,6,0)),0,VLOOKUP($A78+8860000,'Growth Data'!$A:$F,6,0)),0)","v":0},0,null,"NO",{"$f":"IF(ISERROR(VLOOKUP($A78+8860000,'Growth Data'!$A:$F,4,0)),\"NO\",VLOOKUP($A78+8860000,'Growth Data'!$A:$F,4,0))","v":"NO"},0,null,0,{"$f":"IF(BU78=\"YES\",IF(ISERROR(VLOOKUP($A78+8860000,'Growth Data'!$A:$Z,7,0)),0,VLOOKUP($A78+8860000,'Growth Data'!$A:$Z,7,0)),0)","v":0},0,null,"NO",{"$f":"IF(ISERROR(VLOOKUP($A78+8860000,'Growth Data'!$A:$F,5,0)),\"NO\",VLOOKUP($A78+8860000,'Growth Data'!$A:$F,5,0))","v":"NO"},0,null,0,{"$f":"IF(CC78=\"YES\",IF(ISERROR(VLOOKUP($A78+8860000,'Growth Data'!$A:$Z,8,0)),0,VLOOKUP($A78+8860000,'Growth Data'!$A:$Z,8,0)),0)","v":0},0,null,null,null,0]
[2289,"Smeeth Community Primary School",null,"Smeeth Community Primary School","Smeeth Community Primary School",0,null,546433.64,546433.64467871003,0,null,0,0,0,null,546433.64,546433.64467871003,0,null,3543.52,3543.5233452000002,0,null,null,null,0,null,0,0,0,null,42401.9,null,42402,null,1759.81,null,1760,null,0,null,0,null,0,null,0,null,null,null,0,null,null,null,0,null,null,null,0,null,null,null,0,null,"NO",{"$f":"IF(ISERROR(VLOOKUP($A79+8860000,'Growth Data'!$A:$F,3,0)),\"NO\",VLOOKUP($A79+8860000,'Growth Data'!$A:$F,3,0))","v":"NO"},0,null,0,{"$f":"IF(BM79=\"YES\",IF(ISERROR(VLOOKUP($A79+8860000,'Growth Data'!$A:$F,6,0)),0,VLOOKUP($A79+8860000,'Growth Data'!$A:$F,6,0)),0)","v":0},0,null,"NO",{"$f":"IF(ISERROR(VLOOKUP($A79+8860000,'Growth Data'!$A:$F,4,0)),\"NO\",VLOOKUP($A79+8860000,'Growth Data'!$A:$F,4,0))","v":"NO"},0,null,0,{"$f":"IF(BU79=\"YES\",IF(ISERROR(VLOOKUP($A79+8860000,'Growth Data'!$A:$Z,7,0)),0,VLOOKUP($A79+8860000,'Growth Data'!$A:$Z,7,0)),0)","v":0},0,null,"NO",{"$f":"IF(ISERROR(VLOOKUP($A79+8860000,'Growth Data'!$A:$F,5,0)),\"NO\",VLOOKUP($A79+8860000,'Growth Data'!$A:$F,5,0))","v":"NO"},0,null,0,{"$f":"IF(CC79=\"YES\",IF(ISERROR(VLOOKUP($A79+8860000,'Growth Data'!$A:$Z,8,0)),0,VLOOKUP($A79+8860000,'Growth Data'!$A:$Z,8,0)),0)","v":0},0,null,null,null,0]
[2296,"Mundella Primary School",null,"Mundella Primary School","Mundella Primary School",0,null,868622.5,868622.50211785024,0,null,0,0,0,null,868622.5,868622.50211785024,0,null,4981.47,4981.4748475999986,0,null,null,null,0,null,0,0,0,null,33598.42,null,33598,null,2640.16,null,2640,null,0,null,0,null,0,null,0,null,null,null,0,null,null,null,0,null,null,null,0,null,null,null,0,null,"NO",{"$f":"IF(ISERROR(VLOOKUP($A80+8860000,'Growth Data'!$A:$F,3,0)),\"NO\",VLOOKUP($A80+8860000,'Growth Data'!$A:$F,3,0))","v":"NO"},0,null,0,{"$f":"IF(BM80=\"YES\",IF(ISERROR(VLOOKUP($A80+8860000,'Growth Data'!$A:$F,6,0)),0,VLOOKUP($A80+8860000,'Growth Data'!$A:$F,6,0)),0)","v":0},0,null,"NO",{"$f":"IF(ISERROR(VLOOKUP($A80+8860000,'Growth Data'!$A:$F,4,0)),\"NO\",VLOOKUP($A80+8860000,'Growth Data'!$A:$F,4,0))","v":"NO"},0,null,0,{"$f":"IF(BU80=\"YES\",IF(ISERROR(VLOOKUP($A80+8860000,'Growth Data'!$A:$Z,7,0)),0,VLOOKUP($A80+8860000,'Growth Data'!$A:$Z,7,0)),0)","v":0},0,null,"NO",{"$f":"IF(ISERROR(VLOOKUP($A80+8860000,'Growth Data'!$A:$F,5,0)),\"NO\",VLOOKUP($A80+8860000,'Growth Data'!$A:$F,5,0))","v":"NO"},0,null,0,{"$f":"IF(CC80=\"YES\",IF(ISERROR(VLOOKUP($A80+8860000,'Growth Data'!$A:$Z,8,0)),0,VLOOKUP($A80+8860000,'Growth Data'!$A:$Z,8,0)),0)","v":0},0,null,null,null,0]
[2298,"Hawkinge Primary School",null,"Hawkinge Primary School","Hawkinge Primary School",0,null,1323165.77,1323165.7688930249,0,null,0,0,0,null,1323165.77,1323165.7688930249,0,null,9526.43,9526.4287034000008,0,null,null,null,0,null,0,0,0,null,153876.04,null,153876,null,0,null,0,null,0,null,0,null,0,null,0,null,null,null,0,null,null,null,0,null,null,null,0,null,null,null,0,null,"NO",{"$f":"IF(ISERROR(VLOOKUP($A81+8860000,'Growth Data'!$A:$F,3,0)),\"NO\",VLOOKUP($A81+8860000,'Growth Data'!$A:$F,3,0))","v":"NO"},0,null,0,{"$f":"IF(BM81=\"YES\",IF(ISERROR(VLOOKUP($A81+8860000,'Growth Data'!$A:$F,6,0)),0,VLOOKUP($A81+8860000,'Growth Data'!$A:$F,6,0)),0)","v":0},0,null,"NO",{"$f":"IF(ISERROR(VLOOKUP($A81+8860000,'Growth Data'!$A:$F,4,0)),\"NO\",VLOOKUP($A81+8860000,'Growth Data'!$A:$F,4,0))","v":"NO"},0,null,0,{"$f":"IF(BU81=\"YES\",IF(ISERROR(VLOOKUP($A81+8860000,'Growth Data'!$A:$Z,7,0)),0,VLOOKUP($A81+8860000,'Growth Data'!$A:$Z,7,0)),0)","v":0},0,null,"NO",{"$f":"IF(ISERROR(VLOOKUP($A81+8860000,'Growth Data'!$A:$F,5,0)),\"NO\",VLOOKUP($A81+8860000,'Growth Data'!$A:$F,5,0))","v":"NO"},0,null,0,{"$f":"IF(CC81=\"YES\",IF(ISERROR(VLOOKUP($A81+8860000,'Growth Data'!$A:$Z,8,0)),0,VLOOKUP($A81+8860000,'Growth Data'!$A:$Z,8,0)),0)","v":0},0,null,null,null,0]
[2300,"Sellindge Primary School",null,"Sellindge Primary School","Sellindge Primary School",0,null,465876.38,465876.37942039763,0,null,0,0,0,null,465876.38,465876.37942039763,0,null,2850.23,2850.2252994,0,null,null,null,0,null,0,0,0,null,133182.31,null,133182,null,0,null,0,null,0,null,0,null,0,null,0,null,null,null,0,null,null,null,0,null,null,null,0,null,null,null,0,null,"YES",{"$f":"IF(ISERROR(VLOOKUP($A82+8860000,'Growth Data'!$A:$F,3,0)),\"NO\",VLOOKUP($A82+8860000,'Growth Data'!$A:$F,3,0))","v":"NO"},1,null,45,{"$f":"IF(BM82=\"YES\",IF(ISERROR(VLOOKUP($A82+8860000,'Growth Data'!$A:$F,6,0)),0,VLOOKUP($A82+8860000,'Growth Data'!$A:$F,6,0)),0)","v":0},45,null,"YES",{"$f":"IF(ISERROR(VLOOKUP($A82+8860000,'Growth Data'!$A:$F,4,0)),\"NO\",VLOOKUP($A82+8860000,'Growth Data'!$A:$F,4,0))","v":"NO"},1,null,45,{"$f":"IF(BU82=\"YES\",IF(ISERROR(VLOOKUP($A82+8860000,'Growth Data'!$A:$Z,7,0)),0,VLOOKUP($A82+8860000,'Growth Data'!$A:$Z,7,0)),0)","v":0},45,null,"NO",{"$f":"IF(ISERROR(VLOOKUP($A82+8860000,'Growth Data'!$A:$F,5,0)),\"NO\",VLOOKUP($A82+8860000,'Growth Data'!$A:$F,5,0))","v":"NO"},0,null,0,{"$f":"IF(CC82=\"YES\",IF(ISERROR(VLOOKUP($A82+8860000,'Growth Data'!$A:$Z,8,0)),0,VLOOKUP($A82+8860000,'Growth Data'!$A:$Z,8,0)),0)","v":0},0,null,null,null,0]
[2312,"River Primary School",null,"River Primary School","River Primary School",0,null,1495169.47,1495169.4659156231,0,null,0,0,0,null,1495169.47,1495169.4659156231,0,null,10990.06,10990.057911200001,0,null,null,null,0,null,0,0,0,null,23722.01,null,23722,null,3627.8,null,3628,null,0,null,0,null,0,null,0,null,null,null,0,null,null,null,0,null,null,null,0,null,null,null,0,null,"NO",{"$f":"IF(ISERROR(VLOOKUP($A83+8860000,'Growth Data'!$A:$F,3,0)),\"NO\",VLOOKUP($A83+8860000,'Growth Data'!$A:$F,3,0))","v":"NO"},0,null,0,{"$f":"IF(BM83=\"YES\",IF(ISERROR(VLOOKUP($A83+8860000,'Growth Data'!$A:$F,6,0)),0,VLOOKUP($A83+8860000,'Growth Data'!$A:$F,6,0)),0)","v":0},0,null,"NO",{"$f":"IF(ISERROR(VLOOKUP($A83+8860000,'Growth Data'!$A:$F,4,0)),\"NO\",VLOOKUP($A83+8860000,'Growth Data'!$A:$F,4,0))","v":"NO"},0,null,0,{"$f":"IF(BU83=\"YES\",IF(ISERROR(VLOOKUP($A83+8860000,'Growth Data'!$A:$Z,7,0)),0,VLOOKUP($A83+8860000,'Growth Data'!$A:$Z,7,0)),0)","v":0},0,null,"NO",{"$f":"IF(ISERROR(VLOOKUP($A83+8860000,'Growth Data'!$A:$F,5,0)),\"NO\",VLOOKUP($A83+8860000,'Growth Data'!$A:$F,5,0))","v":"NO"},0,null,0,{"$f":"IF(CC83=\"YES\",IF(ISERROR(VLOOKUP($A83+8860000,'Growth Data'!$A:$Z,8,0)),0,VLOOKUP($A83+8860000,'Growth Data'!$A:$Z,8,0)),0)","v":0},0,null,null,null,0]
[2318,"Langdon Primary School",null,"Langdon Primary School","Langdon Primary School",0,null,377042.56,377042.56450084626,0,null,0,0,0,null,377042.56,377042.56450084626,0,null,2105.5700000000002,2105.5718428000005,0,null,null,null,0,null,0,0,0,null,136965.84,null,136966,null,0,null,0,null,0,null,0,null,0,null,0,null,null,null,0,null,null,null,0,null,null,null,0,null,null,null,0,null,"NO",{"$f":"IF(ISERROR(VLOOKUP($A84+8860000,'Growth Data'!$A:$F,3,0)),\"NO\",VLOOKUP($A84+8860000,'Growth Data'!$A:$F,3,0))","v":"NO"},0,null,0,{"$f":"IF(BM84=\"YES\",IF(ISERROR(VLOOKUP($A84+8860000,'Growth Data'!$A:$F,6,0)),0,VLOOKUP($A84+8860000,'Growth Data'!$A:$F,6,0)),0)","v":0},0,null,"NO",{"$f":"IF(ISERROR(VLOOKUP($A84+8860000,'Growth Data'!$A:$F,4,0)),\"NO\",VLOOKUP($A84+8860000,'Growth Data'!$A:$F,4,0))","v":"NO"},0,null,0,{"$f":"IF(BU84=\"YES\",IF(ISERROR(VLOOKUP($A84+8860000,'Growth Data'!$A:$Z,7,0)),0,VLOOKUP($A84+8860000,'Growth Data'!$A:$Z,7,0)),0)","v":0},0,null,"NO",{"$f":"IF(ISERROR(VLOOKUP($A84+8860000,'Growth Data'!$A:$F,5,0)),\"NO\",VLOOKUP($A84+8860000,'Growth Data'!$A:$F,5,0))","v":"NO"},0,null,0,{"$f":"IF(CC84=\"YES\",IF(ISERROR(VLOOKUP($A84+8860000,'Growth Data'!$A:$Z,8,0)),0,VLOOKUP($A84+8860000,'Growth Data'!$A:$Z,8,0)),0)","v":0},0,null,null,null,0]
[2320,"Eythorne Elvington Community Primary School",null,"Eythorne Elvington Community Primary School","Eythorne Elvington Community Primary School",0,null,496016.76,496016.7557554355,0,null,0,0,0,null,496016.76,496016.7557554355,0,null,2644.8,2644.8036561999998,0,null,null,null,0,null,0,0,0,null,25287.16,null,25287,null,3471.28,null,3471,null,0,null,0,null,0,null,0,null,null,null,0,null,null,null,0,null,null,null,0,null,null,null,0,null,"NO",{"$f":"IF(ISERROR(VLOOKUP($A85+8860000,'Growth Data'!$A:$F,3,0)),\"NO\",VLOOKUP($A85+8860000,'Growth Data'!$A:$F,3,0))","v":"NO"},0,null,0,{"$f":"IF(BM85=\"YES\",IF(ISERROR(VLOOKUP($A85+8860000,'Growth Data'!$A:$F,6,0)),0,VLOOKUP($A85+8860000,'Growth Data'!$A:$F,6,0)),0)","v":0},0,null,"NO",{"$f":"IF(ISERROR(VLOOKUP($A85+8860000,'Growth Data'!$A:$F,4,0)),\"NO\",VLOOKUP($A85+8860000,'Growth Data'!$A:$F,4,0))","v":"NO"},0,null,0,{"$f":"IF(BU85=\"YES\",IF(ISERROR(VLOOKUP($A85+8860000,'Growth Data'!$A:$Z,7,0)),0,VLOOKUP($A85+8860000,'Growth Data'!$A:$Z,7,0)),0)","v":0},0,null,"NO",{"$f":"IF(ISERROR(VLOOKUP($A85+8860000,'Growth Data'!$A:$F,5,0)),\"NO\",VLOOKUP($A85+8860000,'Growth Data'!$A:$F,5,0))","v":"NO"},0,null,0,{"$f":"IF(CC85=\"YES\",IF(ISERROR(VLOOKUP($A85+8860000,'Growth Data'!$A:$Z,8,0)),0,VLOOKUP($A85+8860000,'Growth Data'!$A:$Z,8,0)),0)","v":0},0,null,null,null,0]
[2321,"Lydden Primary School",null,"Lydden Primary School","Lydden Primary School",0,null,394742.47,394742.46671796223,0,null,0,0,0,null,394742.47,394742.46671796223,0,null,2310.9899999999998,2310.9934859999998,0,null,null,null,0,null,0,0,0,null,55151.72,null,55152,null,484.83,null,485,null,48000,null,48000,null,72000,null,72000,null,null,null,0,null,null,null,0,null,null,null,0,null,null,null,0,null,"NO",{"$f":"IF(ISERROR(VLOOKUP($A86+8860000,'Growth Data'!$A:$F,3,0)),\"NO\",VLOOKUP($A86+8860000,'Growth Data'!$A:$F,3,0))","v":"NO"},0,null,0,{"$f":"IF(BM86=\"YES\",IF(ISERROR(VLOOKUP($A86+8860000,'Growth Data'!$A:$F,6,0)),0,VLOOKUP($A86+8860000,'Growth Data'!$A:$F,6,0)),0)","v":0},0,null,"NO",{"$f":"IF(ISERROR(VLOOKUP($A86+8860000,'Growth Data'!$A:$F,4,0)),\"NO\",VLOOKUP($A86+8860000,'Growth Data'!$A:$F,4,0))","v":"NO"},0,null,0,{"$f":"IF(BU86=\"YES\",IF(ISERROR(VLOOKUP($A86+8860000,'Growth Data'!$A:$Z,7,0)),0,VLOOKUP($A86+8860000,'Growth Data'!$A:$Z,7,0)),0)","v":0},0,null,"NO",{"$f":"IF(ISERROR(VLOOKUP($A86+8860000,'Growth Data'!$A:$F,5,0)),\"NO\",VLOOKUP($A86+8860000,'Growth Data'!$A:$F,5,0))","v":"NO"},0,null,0,{"$f":"IF(CC86=\"YES\",IF(ISERROR(VLOOKUP($A86+8860000,'Growth Data'!$A:$Z,8,0)),0,VLOOKUP($A86+8860000,'Growth Data'!$A:$Z,8,0)),0)","v":0},0,null,null,null,0]
[2322,"Preston Primary School",null,"Preston Primary School","Preston Primary School",0,null,506871.58,506871.57956617628,0,null,0,0,0,null,506871.58,506871.57956617628,0,null,3107,3107.0023534000002,0,null,null,null,0,null,0,0,0,null,22481.62,null,22482,null,3751.84,null,3752,null,0,null,0,null,0,null,0,null,null,null,0,null,null,null,0,null,null,null,0,null,null,null,0,null,"NO",{"$f":"IF(ISERROR(VLOOKUP($A87+8860000,'Growth Data'!$A:$F,3,0)),\"NO\",VLOOKUP($A87+8860000,'Growth Data'!$A:$F,3,0))","v":"NO"},0,null,0,{"$f":"IF(BM87=\"YES\",IF(ISERROR(VLOOKUP($A87+8860000,'Growth Data'!$A:$F,6,0)),0,VLOOKUP($A87+8860000,'Growth Data'!$A:$F,6,0)),0)","v":0},0,null,"NO",{"$f":"IF(ISERROR(VLOOKUP($A87+8860000,'Growth Data'!$A:$F,4,0)),\"NO\",VLOOKUP($A87+8860000,'Growth Data'!$A:$F,4,0))","v":"NO"},0,null,0,{"$f":"IF(BU87=\"YES\",IF(ISERROR(VLOOKUP($A87+8860000,'Growth Data'!$A:$Z,7,0)),0,VLOOKUP($A87+8860000,'Growth Data'!$A:$Z,7,0)),0)","v":0},0,null,"NO",{"$f":"IF(ISERROR(VLOOKUP($A87+8860000,'Growth Data'!$A:$F,5,0)),\"NO\",VLOOKUP($A87+8860000,'Growth Data'!$A:$F,5,0))","v":"NO"},0,null,0,{"$f":"IF(CC87=\"YES\",IF(ISERROR(VLOOKUP($A87+8860000,'Growth Data'!$A:$Z,8,0)),0,VLOOKUP($A87+8860000,'Growth Data'!$A:$Z,8,0)),0)","v":0},0,null,null,null,0]
[2326,"Wingham Primary School",null,"Wingham Primary School","Wingham Primary School",0,null,749443.94,749443.93760281312,0,null,0,0,0,null,749443.94,749443.93760281312,0,null,5084.1899999999996,5084.1856692000001,0,null,null,null,0,null,0,0,0,null,34040.18,null,34040,null,2595.98,null,2596,null,0,null,0,null,0,null,0,null,null,null,0,null,null,null,0,null,null,null,0,null,null,null,0,null,"NO",{"$f":"IF(ISERROR(VLOOKUP($A88+8860000,'Growth Data'!$A:$F,3,0)),\"NO\",VLOOKUP($A88+8860000,'Growth Data'!$A:$F,3,0))","v":"NO"},0,null,0,{"$f":"IF(BM88=\"YES\",IF(ISERROR(VLOOKUP($A88+8860000,'Growth Data'!$A:$F,6,0)),0,VLOOKUP($A88+8860000,'Growth Data'!$A:$F,6,0)),0)","v":0},0,null,"NO",{"$f":"IF(ISERROR(VLOOKUP($A88+8860000,'Growth Data'!$A:$F,4,0)),\"NO\",VLOOKUP($A88+8860000,'Growth Data'!$A:$F,4,0))","v":"NO"},0,null,0,{"$f":"IF(BU88=\"YES\",IF(ISERROR(VLOOKUP($A88+8860000,'Growth Data'!$A:$Z,7,0)),0,VLOOKUP($A88+8860000,'Growth Data'!$A:$Z,7,0)),0)","v":0},0,null,"NO",{"$f":"IF(ISERROR(VLOOKUP($A88+8860000,'Growth Data'!$A:$F,5,0)),\"NO\",VLOOKUP($A88+8860000,'Growth Data'!$A:$F,5,0))","v":"NO"},0,null,0,{"$f":"IF(CC88=\"YES\",IF(ISERROR(VLOOKUP($A88+8860000,'Growth Data'!$A:$Z,8,0)),0,VLOOKUP($A88+8860000,'Growth Data'!$A:$Z,8,0)),0)","v":0},0,null,null,null,0]
[2327,"Worth Primary School",null,"Worth Primary School","Worth Primary School",0,null,331137.38,331137.37618963287,0,null,0,0,0,null,331137.38,331137.37618963287,0,null,1694.73,1694.7285563999997,0,null,null,null,0,null,0,0,0,null,43991.02,null,43991,null,1600.9,null,1601,null,0,null,0,null,0,null,0,null,null,null,0,null,null,null,0,null,null,null,0,null,null,null,0,null,"NO",{"$f":"IF(ISERROR(VLOOKUP($A89+8860000,'Growth Data'!$A:$F,3,0)),\"NO\",VLOOKUP($A89+8860000,'Growth Data'!$A:$F,3,0))","v":"NO"},0,null,0,{"$f":"IF(BM89=\"YES\",IF(ISERROR(VLOOKUP($A89+8860000,'Growth Data'!$A:$F,6,0)),0,VLOOKUP($A89+8860000,'Growth Data'!$A:$F,6,0)),0)","v":0},0,null,"NO",{"$f":"IF(ISERROR(VLOOKUP($A89+8860000,'Growth Data'!$A:$F,4,0)),\"NO\",VLOOKUP($A89+8860000,'Growth Data'!$A:$F,4,0))","v":"NO"},0,null,0,{"$f":"IF(BU89=\"YES\",IF(ISERROR(VLOOKUP($A89+8860000,'Growth Data'!$A:$Z,7,0)),0,VLOOKUP($A89+8860000,'Growth Data'!$A:$Z,7,0)),0)","v":0},0,null,"NO",{"$f":"IF(ISERROR(VLOOKUP($A89+8860000,'Growth Data'!$A:$F,5,0)),\"NO\",VLOOKUP($A89+8860000,'Growth Data'!$A:$F,5,0))","v":"NO"},0,null,0,{"$f":"IF(CC89=\"YES\",IF(ISERROR(VLOOKUP($A89+8860000,'Growth Data'!$A:$Z,8,0)),0,VLOOKUP($A89+8860000,'Growth Data'!$A:$Z,8,0)),0)","v":0},0,null,null,null,0]
[2328,"St Mildred's Primary Infant School",null,"St Mildred's Primary Infant School","St Mildred's Primary Infant School",0,null,989941.46,989941.45705560292,0,null,0,0,0,null,989941.46,989941.45705560292,0,null,6932.98,6932.980458,0,null,null,null,0,null,0,0,0,null,23554.17,null,23554,null,3644.58,null,3645,null,0,null,0,null,0,null,0,null,null,null,0,null,null,null,0,null,null,null,0,null,null,null,0,null,"NO",{"$f":"IF(ISERROR(VLOOKUP($A90+8860000,'Growth Data'!$A:$F,3,0)),\"NO\",VLOOKUP($A90+8860000,'Growth Data'!$A:$F,3,0))","v":"NO"},0,null,0,{"$f":"IF(BM90=\"YES\",IF(ISERROR(VLOOKUP($A90+8860000,'Growth Data'!$A:$F,6,0)),0,VLOOKUP($A90+8860000,'Growth Data'!$A:$F,6,0)),0)","v":0},0,null,"NO",{"$f":"IF(ISERROR(VLOOKUP($A90+8860000,'Growth Data'!$A:$F,4,0)),\"NO\",VLOOKUP($A90+8860000,'Growth Data'!$A:$F,4,0))","v":"NO"},0,null,0,{"$f":"IF(BU90=\"YES\",IF(ISERROR(VLOOKUP($A90+8860000,'Growth Data'!$A:$Z,7,0)),0,VLOOKUP($A90+8860000,'Growth Data'!$A:$Z,7,0)),0)","v":0},0,null,"NO",{"$f":"IF(ISERROR(VLOOKUP($A90+8860000,'Growth Data'!$A:$F,5,0)),\"NO\",VLOOKUP($A90+8860000,'Growth Data'!$A:$F,5,0))","v":"NO"},0,null,0,{"$f":"IF(CC90=\"YES\",IF(ISERROR(VLOOKUP($A90+8860000,'Growth Data'!$A:$Z,8,0)),0,VLOOKUP($A90+8860000,'Growth Data'!$A:$Z,8,0)),0)","v":0},0,null,null,null,0]
[2329,"Callis Grange Nursery & Infant School",null,"Callis Grange Nursery & Infant School","Callis Grange Nursery & Infant School",0,null,1013391.05,1013391.0493283081,0,null,0,0,0,null,1013391.05,1013391.0493283081,0,null,6855.95,6855.9473417999998,0,null,null,null,0,null,4.9000000000000004,4.9000000000000004,0,null,79570.81,null,79571,null,0,null,0,null,0,null,0,null,0,null,0,null,null,null,0,null,null,null,0,null,null,null,0,null,null,null,0,null,"NO",{"$f":"IF(ISERROR(VLOOKUP($A91+8860000,'Growth Data'!$A:$F,3,0)),\"NO\",VLOOKUP($A91+8860000,'Growth Data'!$A:$F,3,0))","v":"NO"},0,null,0,{"$f":"IF(BM91=\"YES\",IF(ISERROR(VLOOKUP($A91+8860000,'Growth Data'!$A:$F,6,0)),0,VLOOKUP($A91+8860000,'Growth Data'!$A:$F,6,0)),0)","v":0},0,null,"NO",{"$f":"IF(ISERROR(VLOOKUP($A91+8860000,'Growth Data'!$A:$F,4,0)),\"NO\",VLOOKUP($A91+8860000,'Growth Data'!$A:$F,4,0))","v":"NO"},0,null,0,{"$f":"IF(BU91=\"YES\",IF(ISERROR(VLOOKUP($A91+8860000,'Growth Data'!$A:$Z,7,0)),0,VLOOKUP($A91+8860000,'Growth Data'!$A:$Z,7,0)),0)","v":0},0,null,"NO",{"$f":"IF(ISERROR(VLOOKUP($A91+8860000,'Growth Data'!$A:$F,5,0)),\"NO\",VLOOKUP($A91+8860000,'Growth Data'!$A:$F,5,0))","v":"NO"},0,null,0,{"$f":"IF(CC91=\"YES\",IF(ISERROR(VLOOKUP($A91+8860000,'Growth Data'!$A:$Z,8,0)),0,VLOOKUP($A91+8860000,'Growth Data'!$A:$Z,8,0)),0)","v":0},0,null,null,null,0]
[2337,"St Crispin's Community Primary Infant School",null,"St Crispin's Community Primary Infant School","St Crispin's Community Primary Infant School",0,null,961038.34,961038.33787233464,0,null,0,0,0,null,961038.34,961038.33787233464,0,null,6881.63,6881.6250472000002,0,null,null,null,0,null,0,0,0,null,92366.26,null,92366,null,0,null,0,null,0,null,0,null,0,null,0,null,null,null,0,null,null,null,0,null,null,null,0,null,null,null,0,null,"NO",{"$f":"IF(ISERROR(VLOOKUP($A92+8860000,'Growth Data'!$A:$F,3,0)),\"NO\",VLOOKUP($A92+8860000,'Growth Data'!$A:$F,3,0))","v":"NO"},0,null,0,{"$f":"IF(BM92=\"YES\",IF(ISERROR(VLOOKUP($A92+8860000,'Growth Data'!$A:$F,6,0)),0,VLOOKUP($A92+8860000,'Growth Data'!$A:$F,6,0)),0)","v":0},0,null,"NO",{"$f":"IF(ISERROR(VLOOKUP($A92+8860000,'Growth Data'!$A:$F,4,0)),\"NO\",VLOOKUP($A92+8860000,'Growth Data'!$A:$F,4,0))","v":"NO"},0,null,0,{"$f":"IF(BU92=\"YES\",IF(ISERROR(VLOOKUP($A92+8860000,'Growth Data'!$A:$Z,7,0)),0,VLOOKUP($A92+8860000,'Growth Data'!$A:$Z,7,0)),0)","v":0},0,null,"NO",{"$f":"IF(ISERROR(VLOOKUP($A92+8860000,'Growth Data'!$A:$F,5,0)),\"NO\",VLOOKUP($A92+8860000,'Growth Data'!$A:$F,5,0))","v":"NO"},0,null,0,{"$f":"IF(CC92=\"YES\",IF(ISERROR(VLOOKUP($A92+8860000,'Growth Data'!$A:$Z,8,0)),0,VLOOKUP($A92+8860000,'Growth Data'!$A:$Z,8,0)),0)","v":0},0,null,null,null,0]
[2340,"Ellington Infant School",null,"Ellington Infant School","Ellington Infant School",0,null,850195.46,850195.46229299437,0,null,0,0,0,null,850195.46,850195.46229299437,0,null,5212.57,5212.5741962000011,0,null,null,null,0,null,0,0,0,null,69898.52,null,69899,null,0,null,0,null,0,null,0,null,0,null,0,null,null,null,0,null,null,null,0,null,null,null,0,null,null,null,0,null,"NO",{"$f":"IF(ISERROR(VLOOKUP($A93+8860000,'Growth Data'!$A:$F,3,0)),\"NO\",VLOOKUP($A93+8860000,'Growth Data'!$A:$F,3,0))","v":"NO"},0,null,0,{"$f":"IF(BM93=\"YES\",IF(ISERROR(VLOOKUP($A93+8860000,'Growth Data'!$A:$F,6,0)),0,VLOOKUP($A93+8860000,'Growth Data'!$A:$F,6,0)),0)","v":0},0,null,"NO",{"$f":"IF(ISERROR(VLOOKUP($A93+8860000,'Growth Data'!$A:$F,4,0)),\"NO\",VLOOKUP($A93+8860000,'Growth Data'!$A:$F,4,0))","v":"NO"},0,null,0,{"$f":"IF(BU93=\"YES\",IF(ISERROR(VLOOKUP($A93+8860000,'Growth Data'!$A:$Z,7,0)),0,VLOOKUP($A93+8860000,'Growth Data'!$A:$Z,7,0)),0)","v":0},0,null,"NO",{"$f":"IF(ISERROR(VLOOKUP($A93+8860000,'Growth Data'!$A:$F,5,0)),\"NO\",VLOOKUP($A93+8860000,'Growth Data'!$A:$F,5,0))","v":"NO"},0,null,0,{"$f":"IF(CC93=\"YES\",IF(ISERROR(VLOOKUP($A93+8860000,'Growth Data'!$A:$Z,8,0)),0,VLOOKUP($A93+8860000,'Growth Data'!$A:$Z,8,0)),0)","v":0},0,null,null,null,0]
[2345,"Priory Infant School",null,"Priory Infant School","Priory Infant School",0,null,756762.3,756762.30335076037,0,null,0,0,0,null,756762.3,756762.30335076037,0,null,4596.3100000000004,4596.3092666000011,0,null,null,null,0,null,0,0,0,null,113224.37,null,113224,null,0,null,0,null,0,null,0,null,0,null,0,null,null,null,0,null,null,null,0,null,null,null,0,null,null,null,0,null,"NO",{"$f":"IF(ISERROR(VLOOKUP($A94+8860000,'Growth Data'!$A:$F,3,0)),\"NO\",VLOOKUP($A94+8860000,'Growth Data'!$A:$F,3,0))","v":"NO"},0,null,0,{"$f":"IF(BM94=\"YES\",IF(ISERROR(VLOOKUP($A94+8860000,'Growth Data'!$A:$F,6,0)),0,VLOOKUP($A94+8860000,'Growth Data'!$A:$F,6,0)),0)","v":0},0,null,"NO",{"$f":"IF(ISERROR(VLOOKUP($A94+8860000,'Growth Data'!$A:$F,4,0)),\"NO\",VLOOKUP($A94+8860000,'Growth Data'!$A:$F,4,0))","v":"NO"},0,null,0,{"$f":"IF(BU94=\"YES\",IF(ISERROR(VLOOKUP($A94+8860000,'Growth Data'!$A:$Z,7,0)),0,VLOOKUP($A94+8860000,'Growth Data'!$A:$Z,7,0)),0)","v":0},0,null,"NO",{"$f":"IF(ISERROR(VLOOKUP($A94+8860000,'Growth Data'!$A:$F,5,0)),\"NO\",VLOOKUP($A94+8860000,'Growth Data'!$A:$F,5,0))","v":"NO"},0,null,0,{"$f":"IF(CC94=\"YES\",IF(ISERROR(VLOOKUP($A94+8860000,'Growth Data'!$A:$Z,8,0)),0,VLOOKUP($A94+8860000,'Growth Data'!$A:$Z,8,0)),0)","v":0},0,null,null,null,0]
[2431,"Shears Green Junior School",null,"Shears Green Junior School","Shears Green Junior School",0,null,1678178.13,1678178.1322888494,0,null,0,0,0,null,1678178.13,1678178.1322888494,0,null,12299.62,12299.620886599996,0,null,null,null,0,null,0,0,0,null,92397.42,null,92397,null,0,null,0,null,0,null,0,null,0,null,0,null,null,null,0,null,null,null,0,null,null,null,0,null,null,null,0,null,"NO",{"$f":"IF(ISERROR(VLOOKUP($A95+8860000,'Growth Data'!$A:$F,3,0)),\"NO\",VLOOKUP($A95+8860000,'Growth Data'!$A:$F,3,0))","v":"NO"},0,null,0,{"$f":"IF(BM95=\"YES\",IF(ISERROR(VLOOKUP($A95+8860000,'Growth Data'!$A:$F,6,0)),0,VLOOKUP($A95+8860000,'Growth Data'!$A:$F,6,0)),0)","v":0},0,null,"NO",{"$f":"IF(ISERROR(VLOOKUP($A95+8860000,'Growth Data'!$A:$F,4,0)),\"NO\",VLOOKUP($A95+8860000,'Growth Data'!$A:$F,4,0))","v":"NO"},0,null,0,{"$f":"IF(BU95=\"YES\",IF(ISERROR(VLOOKUP($A95+8860000,'Growth Data'!$A:$Z,7,0)),0,VLOOKUP($A95+8860000,'Growth Data'!$A:$Z,7,0)),0)","v":0},0,null,"NO",{"$f":"IF(ISERROR(VLOOKUP($A95+8860000,'Growth Data'!$A:$F,5,0)),\"NO\",VLOOKUP($A95+8860000,'Growth Data'!$A:$F,5,0))","v":"NO"},0,null,0,{"$f":"IF(CC95=\"YES\",IF(ISERROR(VLOOKUP($A95+8860000,'Growth Data'!$A:$Z,8,0)),0,VLOOKUP($A95+8860000,'Growth Data'!$A:$Z,8,0)),0)","v":0},0,null,null,null,0]
[2434,"West Minster Primary School",null,"West Minster Primary School","West Minster Primary School",0,null,1797729.34,1797729.3427273666,0,null,0,0,0,null,1797729.34,1797729.3427273666,0,null,11323.87,11323.8680814,0,null,null,null,0,null,5.51,5.51,0,null,164462.01,null,164462,null,0,null,0,null,0,null,0,null,0,null,0,null,null,null,0,null,null,null,0,null,null,null,0,null,null,null,0,null,"NO",{"$f":"IF(ISERROR(VLOOKUP($A96+8860000,'Growth Data'!$A:$F,3,0)),\"NO\",VLOOKUP($A96+8860000,'Growth Data'!$A:$F,3,0))","v":"YES"},1,null,0,{"$f":"IF(BM96=\"YES\",IF(ISERROR(VLOOKUP($A96+8860000,'Growth Data'!$A:$F,6,0)),0,VLOOKUP($A96+8860000,'Growth Data'!$A:$F,6,0)),0)","v":60},-60,null,"NO",{"$f":"IF(ISERROR(VLOOKUP($A96+8860000,'Growth Data'!$A:$F,4,0)),\"NO\",VLOOKUP($A96+8860000,'Growth Data'!$A:$F,4,0))","v":"YES"},1,null,0,{"$f":"IF(BU96=\"YES\",IF(ISERROR(VLOOKUP($A96+8860000,'Growth Data'!$A:$Z,7,0)),0,VLOOKUP($A96+8860000,'Growth Data'!$A:$Z,7,0)),0)","v":90},-90,null,"NO",{"$f":"IF(ISERROR(VLOOKUP($A96+8860000,'Growth Data'!$A:$F,5,0)),\"NO\",VLOOKUP($A96+8860000,'Growth Data'!$A:$F,5,0))","v":"YES"},1,null,0,{"$f":"IF(CC96=\"YES\",IF(ISERROR(VLOOKUP($A96+8860000,'Growth Data'!$A:$Z,8,0)),0,VLOOKUP($A96+8860000,'Growth Data'!$A:$Z,8,0)),0)","v":62},-62,null,null,null,0]
[2454,"Aycliffe Community Primary School",null,"Aycliffe Community Primary School","Aycliffe Community Primary School",0,null,612913.06000000006,612913.0640998024,0,null,0,0,0,null,612913.06000000006,612913.0640998024,0,null,3261.07,3261.0685858000006,0,null,null,null,0,null,0,0,0,null,317536.88,null,317537,null,0,null,0,null,0,null,0,null,0,null,0,null,null,null,0,null,null,null,0,null,null,null,0,null,null,null,0,null,"NO",{"$f":"IF(ISERROR(VLOOKUP($A97+8860000,'Growth Data'!$A:$F,3,0)),\"NO\",VLOOKUP($A97+8860000,'Growth Data'!$A:$F,3,0))","v":"NO"},0,null,0,{"$f":"IF(BM97=\"YES\",IF(ISERROR(VLOOKUP($A97+8860000,'Growth Data'!$A:$F,6,0)),0,VLOOKUP($A97+8860000,'Growth Data'!$A:$F,6,0)),0)","v":0},0,null,"NO",{"$f":"IF(ISERROR(VLOOKUP($A97+8860000,'Growth Data'!$A:$F,4,0)),\"NO\",VLOOKUP($A97+8860000,'Growth Data'!$A:$F,4,0))","v":"NO"},0,null,0,{"$f":"IF(BU97=\"YES\",IF(ISERROR(VLOOKUP($A97+8860000,'Growth Data'!$A:$Z,7,0)),0,VLOOKUP($A97+8860000,'Growth Data'!$A:$Z,7,0)),0)","v":0},0,null,"YES",{"$f":"IF(ISERROR(VLOOKUP($A97+8860000,'Growth Data'!$A:$F,5,0)),\"NO\",VLOOKUP($A97+8860000,'Growth Data'!$A:$F,5,0))","v":"NO"},1,null,60,{"$f":"IF(CC97=\"YES\",IF(ISERROR(VLOOKUP($A97+8860000,'Growth Data'!$A:$Z,8,0)),0,VLOOKUP($A97+8860000,'Growth Data'!$A:$Z,8,0)),0)","v":0},60,null,null,null,0]
[2459,"Riverhead Infant School",null,"Riverhead Infant School","Riverhead Infant School",0,null,960427.37,960427.36543086008,0,null,0,0,0,null,960427.37,960427.36543086008,0,null,7052.28,7052.2790772884,0,null,null,null,0,null,0,0,0,null,5580,null,5580,null,5442,null,5442,null,0,null,0,null,0,null,0,null,null,null,0,null,null,null,0,null,null,null,0,null,null,null,0,null,"NO",{"$f":"IF(ISERROR(VLOOKUP($A98+8860000,'Growth Data'!$A:$F,3,0)),\"NO\",VLOOKUP($A98+8860000,'Growth Data'!$A:$F,3,0))","v":"NO"},0,null,0,{"$f":"IF(BM98=\"YES\",IF(ISERROR(VLOOKUP($A98+8860000,'Growth Data'!$A:$F,6,0)),0,VLOOKUP($A98+8860000,'Growth Data'!$A:$F,6,0)),0)","v":0},0,null,"NO",{"$f":"IF(ISERROR(VLOOKUP($A98+8860000,'Growth Data'!$A:$F,4,0)),\"NO\",VLOOKUP($A98+8860000,'Growth Data'!$A:$F,4,0))","v":"NO"},0,null,0,{"$f":"IF(BU98=\"YES\",IF(ISERROR(VLOOKUP($A98+8860000,'Growth Data'!$A:$Z,7,0)),0,VLOOKUP($A98+8860000,'Growth Data'!$A:$Z,7,0)),0)","v":0},0,null,"NO",{"$f":"IF(ISERROR(VLOOKUP($A98+8860000,'Growth Data'!$A:$F,5,0)),\"NO\",VLOOKUP($A98+8860000,'Growth Data'!$A:$F,5,0))","v":"NO"},0,null,0,{"$f":"IF(CC98=\"YES\",IF(ISERROR(VLOOKUP($A98+8860000,'Growth Data'!$A:$Z,8,0)),0,VLOOKUP($A98+8860000,'Growth Data'!$A:$Z,8,0)),0)","v":0},0,null,null,null,0]
[2465,"Claremont Primary School",null,"Claremont Primary School","Claremont Primary School",0,null,1732534,1732534,0,null,0,0,0,null,1732534,1732534,0,null,12813.18,12813.174994599998,0,null,null,null,0,null,0,0,0,null,94477.49,null,94477,null,0,null,0,null,0,null,0,null,0,null,0,null,null,null,0,null,null,null,0,null,null,null,0,null,null,null,0,null,"NO",{"$f":"IF(ISERROR(VLOOKUP($A99+8860000,'Growth Data'!$A:$F,3,0)),\"NO\",VLOOKUP($A99+8860000,'Growth Data'!$A:$F,3,0))","v":"NO"},0,null,0,{"$f":"IF(BM99=\"YES\",IF(ISERROR(VLOOKUP($A99+8860000,'Growth Data'!$A:$F,6,0)),0,VLOOKUP($A99+8860000,'Growth Data'!$A:$F,6,0)),0)","v":0},0,null,"NO",{"$f":"IF(ISERROR(VLOOKUP($A99+8860000,'Growth Data'!$A:$F,4,0)),\"NO\",VLOOKUP($A99+8860000,'Growth Data'!$A:$F,4,0))","v":"NO"},0,null,0,{"$f":"IF(BU99=\"YES\",IF(ISERROR(VLOOKUP($A99+8860000,'Growth Data'!$A:$Z,7,0)),0,VLOOKUP($A99+8860000,'Growth Data'!$A:$Z,7,0)),0)","v":0},0,null,"NO",{"$f":"IF(ISERROR(VLOOKUP($A99+8860000,'Growth Data'!$A:$F,5,0)),\"NO\",VLOOKUP($A99+8860000,'Growth Data'!$A:$F,5,0))","v":"NO"},0,null,0,{"$f":"IF(CC99=\"YES\",IF(ISERROR(VLOOKUP($A99+8860000,'Growth Data'!$A:$Z,8,0)),0,VLOOKUP($A99+8860000,'Growth Data'!$A:$Z,8,0)),0)","v":0},0,null,null,null,0]
[2471,"Whitfield Aspen School",null,"Whitfield Aspen School","Whitfield Aspen School",0,null,1780277.66,1780277.661240191,0,null,0,0,0,null,1780277.66,1780277.661240191,0,null,12171.23,12171.232359599999,0,null,null,null,0,null,0,0,0,null,29861.74,null,29862,null,3013.83,null,3014,null,32000,null,32000,null,48000,null,48000,null,null,null,0,null,null,null,0,null,null,null,0,null,null,null,0,null,"NO",{"$f":"IF(ISERROR(VLOOKUP($A100+8860000,'Growth Data'!$A:$F,3,0)),\"NO\",VLOOKUP($A100+8860000,'Growth Data'!$A:$F,3,0))","v":"NO"},0,null,0,{"$f":"IF(BM100=\"YES\",IF(ISERROR(VLOOKUP($A100+8860000,'Growth Data'!$A:$F,6,0)),0,VLOOKUP($A100+8860000,'Growth Data'!$A:$F,6,0)),0)","v":0},0,null,"NO",{"$f":"IF(ISERROR(VLOOKUP($A100+8860000,'Growth Data'!$A:$F,4,0)),\"NO\",VLOOKUP($A100+8860000,'Growth Data'!$A:$F,4,0))","v":"NO"},0,null,0,{"$f":"IF(BU100=\"YES\",IF(ISERROR(VLOOKUP($A100+8860000,'Growth Data'!$A:$Z,7,0)),0,VLOOKUP($A100+8860000,'Growth Data'!$A:$Z,7,0)),0)","v":0},0,null,"NO",{"$f":"IF(ISERROR(VLOOKUP($A100+8860000,'Growth Data'!$A:$F,5,0)),\"NO\",VLOOKUP($A100+8860000,'Growth Data'!$A:$F,5,0))","v":"NO"},0,null,0,{"$f":"IF(CC100=\"YES\",IF(ISERROR(VLOOKUP($A100+8860000,'Growth Data'!$A:$Z,8,0)),0,VLOOKUP($A100+8860000,'Growth Data'!$A:$Z,8,0)),0)","v":0},0,null,null,null,0]
[2474,"St Paul's Infant School",null,"St Paul's Infant School","St Paul's Infant School",0,null,1034904.55,1034904.5535487607,0,null,10691.06,10691.058507435839,0,null,1045595.61,1045595.6120561966,0,null,6932.98,6932.980458,0,null,null,null,0,null,0,0,0,null,5580,null,5580,null,5442,null,5442,null,0,null,0,null,0,null,0,null,null,null,0,null,null,null,0,null,null,null,0,null,null,null,0,null,"NO",{"$f":"IF(ISERROR(VLOOKUP($A101+8860000,'Growth Data'!$A:$F,3,0)),\"NO\",VLOOKUP($A101+8860000,'Growth Data'!$A:$F,3,0))","v":"NO"},0,null,0,{"$f":"IF(BM101=\"YES\",IF(ISERROR(VLOOKUP($A101+8860000,'Growth Data'!$A:$F,6,0)),0,VLOOKUP($A101+8860000,'Growth Data'!$A:$F,6,0)),0)","v":0},0,null,"NO",{"$f":"IF(ISERROR(VLOOKUP($A101+8860000,'Growth Data'!$A:$F,4,0)),\"NO\",VLOOKUP($A101+8860000,'Growth Data'!$A:$F,4,0))","v":"NO"},0,null,0,{"$f":"IF(BU101=\"YES\",IF(ISERROR(VLOOKUP($A101+8860000,'Growth Data'!$A:$Z,7,0)),0,VLOOKUP($A101+8860000,'Growth Data'!$A:$Z,7,0)),0)","v":0},0,null,"NO",{"$f":"IF(ISERROR(VLOOKUP($A101+8860000,'Growth Data'!$A:$F,5,0)),\"NO\",VLOOKUP($A101+8860000,'Growth Data'!$A:$F,5,0))","v":"NO"},0,null,0,{"$f":"IF(CC101=\"YES\",IF(ISERROR(VLOOKUP($A101+8860000,'Growth Data'!$A:$Z,8,0)),0,VLOOKUP($A101+8860000,'Growth Data'!$A:$Z,8,0)),0)","v":0},0,null,null,null,0]
[2482,"Langton Green Primary School",null,"Langton Green Primary School","Langton Green Primary School",0,null,1367115,1367115,0,null,0,0,0,null,1367115,1367115,0,null,10039.98,10039.982811400001,0,null,null,null,0,null,0,0,0,null,63518.13,null,63518,null,0,null,0,null,0,null,0,null,0,null,0,null,null,null,0,null,null,null,0,null,null,null,0,null,null,null,0,null,"NO",{"$f":"IF(ISERROR(VLOOKUP($A102+8860000,'Growth Data'!$A:$F,3,0)),\"NO\",VLOOKUP($A102+8860000,'Growth Data'!$A:$F,3,0))","v":"NO"},0,null,0,{"$f":"IF(BM102=\"YES\",IF(ISERROR(VLOOKUP($A102+8860000,'Growth Data'!$A:$F,6,0)),0,VLOOKUP($A102+8860000,'Growth Data'!$A:$F,6,0)),0)","v":0},0,null,"NO",{"$f":"IF(ISERROR(VLOOKUP($A102+8860000,'Growth Data'!$A:$F,4,0)),\"NO\",VLOOKUP($A102+8860000,'Growth Data'!$A:$F,4,0))","v":"NO"},0,null,0,{"$f":"IF(BU102=\"YES\",IF(ISERROR(VLOOKUP($A102+8860000,'Growth Data'!$A:$Z,7,0)),0,VLOOKUP($A102+8860000,'Growth Data'!$A:$Z,7,0)),0)","v":0},0,null,"NO",{"$f":"IF(ISERROR(VLOOKUP($A102+8860000,'Growth Data'!$A:$F,5,0)),\"NO\",VLOOKUP($A102+8860000,'Growth Data'!$A:$F,5,0))","v":"NO"},0,null,0,{"$f":"IF(CC102=\"YES\",IF(ISERROR(VLOOKUP($A102+8860000,'Growth Data'!$A:$Z,8,0)),0,VLOOKUP($A102+8860000,'Growth Data'!$A:$Z,8,0)),0)","v":0},0,null,null,null,0]
[2490,"Bishops Down Primary School",null,"Bishops Down Primary School","Bishops Down Primary School",0,null,1048484.13,1048484.1282754833,0,null,0,0,0,null,1048484.13,1048484.1282754833,0,null,7651.96,7651.9562091999996,0,null,null,null,0,null,4.9000000000000004,4.9000000000000004,0,null,231689.29,null,231689,null,0,null,0,null,0,null,0,null,0,null,0,null,null,null,0,null,null,null,0,null,null,null,0,null,null,null,0,null,"NO",{"$f":"IF(ISERROR(VLOOKUP($A103+8860000,'Growth Data'!$A:$F,3,0)),\"NO\",VLOOKUP($A103+8860000,'Growth Data'!$A:$F,3,0))","v":"NO"},0,null,0,{"$f":"IF(BM103=\"YES\",IF(ISERROR(VLOOKUP($A103+8860000,'Growth Data'!$A:$F,6,0)),0,VLOOKUP($A103+8860000,'Growth Data'!$A:$F,6,0)),0)","v":0},0,null,"NO",{"$f":"IF(ISERROR(VLOOKUP($A103+8860000,'Growth Data'!$A:$F,4,0)),\"NO\",VLOOKUP($A103+8860000,'Growth Data'!$A:$F,4,0))","v":"NO"},0,null,0,{"$f":"IF(BU103=\"YES\",IF(ISERROR(VLOOKUP($A103+8860000,'Growth Data'!$A:$Z,7,0)),0,VLOOKUP($A103+8860000,'Growth Data'!$A:$Z,7,0)),0)","v":0},0,null,"YES",{"$f":"IF(ISERROR(VLOOKUP($A103+8860000,'Growth Data'!$A:$F,5,0)),\"NO\",VLOOKUP($A103+8860000,'Growth Data'!$A:$F,5,0))","v":"NO"},1,null,62,{"$f":"IF(CC103=\"YES\",IF(ISERROR(VLOOKUP($A103+8860000,'Growth Data'!$A:$Z,8,0)),0,VLOOKUP($A103+8860000,'Growth Data'!$A:$Z,8,0)),0)","v":0},62,null,null,null,0]
[2509,"Singlewell Primary School",null,"Singlewell Primary School","Singlewell Primary School",0,null,989906.17,989906.16529900744,0,null,0,0,0,null,989906.17,989906.16529900744,0,null,6599.17,6599.1702877999987,0,null,null,null,0,null,0,0,0,null,87466.35,null,87466,null,0,null,0,null,0,null,0,null,0,null,0,null,null,null,0,null,null,null,0,null,null,null,0,null,null,null,0,null,"NO",{"$f":"IF(ISERROR(VLOOKUP($A104+8860000,'Growth Data'!$A:$F,3,0)),\"NO\",VLOOKUP($A104+8860000,'Growth Data'!$A:$F,3,0))","v":"YES"},1,null,0,{"$f":"IF(BM104=\"YES\",IF(ISERROR(VLOOKUP($A104+8860000,'Growth Data'!$A:$F,6,0)),0,VLOOKUP($A104+8860000,'Growth Data'!$A:$F,6,0)),0)","v":30},-30,null,"NO",{"$f":"IF(ISERROR(VLOOKUP($A104+8860000,'Growth Data'!$A:$F,4,0)),\"NO\",VLOOKUP($A104+8860000,'Growth Data'!$A:$F,4,0))","v":"YES"},1,null,0,{"$f":"IF(BU104=\"YES\",IF(ISERROR(VLOOKUP($A104+8860000,'Growth Data'!$A:$Z,7,0)),0,VLOOKUP($A104+8860000,'Growth Data'!$A:$Z,7,0)),0)","v":60},-60,null,"NO",{"$f":"IF(ISERROR(VLOOKUP($A104+8860000,'Growth Data'!$A:$F,5,0)),\"NO\",VLOOKUP($A104+8860000,'Growth Data'!$A:$F,5,0))","v":"YES"},1,null,0,{"$f":"IF(CC104=\"YES\",IF(ISERROR(VLOOKUP($A104+8860000,'Growth Data'!$A:$Z,8,0)),0,VLOOKUP($A104+8860000,'Growth Data'!$A:$Z,8,0)),0)","v":31},-31,null,null,null,0]
[2510,"Cheriton Primary School",null,"Cheriton Primary School","Cheriton Primary School",0,null,1621316.88,1621316.8755767778,0,null,0,0,0,null,1621316.88,1621316.8755767778,0,null,11632,11632.000546199999,0,null,null,null,0,null,0,0,0,null,53016.06,null,53016,null,698.39,null,698,null,103333.33,null,103333,null,155000,null,155000,null,null,null,0,null,null,null,0,null,null,null,0,null,null,null,0,null,"YES",{"$f":"IF(ISERROR(VLOOKUP($A105+8860000,'Growth Data'!$A:$F,3,0)),\"NO\",VLOOKUP($A105+8860000,'Growth Data'!$A:$F,3,0))","v":"NO"},1,null,32,{"$f":"IF(BM105=\"YES\",IF(ISERROR(VLOOKUP($A105+8860000,'Growth Data'!$A:$F,6,0)),0,VLOOKUP($A105+8860000,'Growth Data'!$A:$F,6,0)),0)","v":0},32,null,"YES",{"$f":"IF(ISERROR(VLOOKUP($A105+8860000,'Growth Data'!$A:$F,4,0)),\"NO\",VLOOKUP($A105+8860000,'Growth Data'!$A:$F,4,0))","v":"NO"},1,null,60,{"$f":"IF(BU105=\"YES\",IF(ISERROR(VLOOKUP($A105+8860000,'Growth Data'!$A:$Z,7,0)),0,VLOOKUP($A105+8860000,'Growth Data'!$A:$Z,7,0)),0)","v":0},60,null,"YES",{"$f":"IF(ISERROR(VLOOKUP($A105+8860000,'Growth Data'!$A:$F,5,0)),\"NO\",VLOOKUP($A105+8860000,'Growth Data'!$A:$F,5,0))","v":"NO"},1,null,31,{"$f":"IF(CC105=\"YES\",IF(ISERROR(VLOOKUP($A105+8860000,'Growth Data'!$A:$Z,8,0)),0,VLOOKUP($A105+8860000,'Growth Data'!$A:$Z,8,0)),0)","v":0},31,null,null,null,0]
[2514,"Brookfield Infant School",null,"Brookfield Infant School","Brookfield Infant School",0,null,696895.11,696895.11061833892,0,null,0,0,0,null,696895.11,696895.11061833892,0,null,4570.63,4570.6315611999999,0,null,null,null,0,null,0,0,0,null,66253.789999999994,null,66254,null,0,null,0,null,0,null,0,null,0,null,0,null,null,null,0,null,null,null,0,null,null,null,0,null,null,null,0,null,"NO",{"$f":"IF(ISERROR(VLOOKUP($A106+8860000,'Growth Data'!$A:$F,3,0)),\"NO\",VLOOKUP($A106+8860000,'Growth Data'!$A:$F,3,0))","v":"NO"},0,null,0,{"$f":"IF(BM106=\"YES\",IF(ISERROR(VLOOKUP($A106+8860000,'Growth Data'!$A:$F,6,0)),0,VLOOKUP($A106+8860000,'Growth Data'!$A:$F,6,0)),0)","v":0},0,null,"NO",{"$f":"IF(ISERROR(VLOOKUP($A106+8860000,'Growth Data'!$A:$F,4,0)),\"NO\",VLOOKUP($A106+8860000,'Growth Data'!$A:$F,4,0))","v":"NO"},0,null,0,{"$f":"IF(BU106=\"YES\",IF(ISERROR(VLOOKUP($A106+8860000,'Growth Data'!$A:$Z,7,0)),0,VLOOKUP($A106+8860000,'Growth Data'!$A:$Z,7,0)),0)","v":0},0,null,"NO",{"$f":"IF(ISERROR(VLOOKUP($A106+8860000,'Growth Data'!$A:$F,5,0)),\"NO\",VLOOKUP($A106+8860000,'Growth Data'!$A:$F,5,0))","v":"NO"},0,null,0,{"$f":"IF(CC106=\"YES\",IF(ISERROR(VLOOKUP($A106+8860000,'Growth Data'!$A:$Z,8,0)),0,VLOOKUP($A106+8860000,'Growth Data'!$A:$Z,8,0)),0)","v":0},0,null,null,null,0]
[2519,"Vigo Village School",null,"Vigo Village School","Vigo Village School",0,null,734053.66,734053.66223423451,0,null,0,0,0,null,734053.66,734053.66223423451,0,null,5007.1499999999996,5007.1525529999999,0,null,null,null,0,null,0,0,0,null,83160.13,null,83160,null,0,null,0,null,360000,null,360000,null,540000,null,540000,null,null,null,0,null,null,null,0,null,null,null,0,null,null,null,0,null,"NO",{"$f":"IF(ISERROR(VLOOKUP($A107+8860000,'Growth Data'!$A:$F,3,0)),\"NO\",VLOOKUP($A107+8860000,'Growth Data'!$A:$F,3,0))","v":"NO"},0,null,0,{"$f":"IF(BM107=\"YES\",IF(ISERROR(VLOOKUP($A107+8860000,'Growth Data'!$A:$F,6,0)),0,VLOOKUP($A107+8860000,'Growth Data'!$A:$F,6,0)),0)","v":0},0,null,"NO",{"$f":"IF(ISERROR(VLOOKUP($A107+8860000,'Growth Data'!$A:$F,4,0)),\"NO\",VLOOKUP($A107+8860000,'Growth Data'!$A:$F,4,0))","v":"NO"},0,null,0,{"$f":"IF(BU107=\"YES\",IF(ISERROR(VLOOKUP($A107+8860000,'Growth Data'!$A:$Z,7,0)),0,VLOOKUP($A107+8860000,'Growth Data'!$A:$Z,7,0)),0)","v":0},0,null,"YES",{"$f":"IF(ISERROR(VLOOKUP($A107+8860000,'Growth Data'!$A:$F,5,0)),\"NO\",VLOOKUP($A107+8860000,'Growth Data'!$A:$F,5,0))","v":"NO"},1,null,30,{"$f":"IF(CC107=\"YES\",IF(ISERROR(VLOOKUP($A107+8860000,'Growth Data'!$A:$Z,8,0)),0,VLOOKUP($A107+8860000,'Growth Data'!$A:$Z,8,0)),0)","v":0},30,null,null,null,0]
[2520,"Madginford Primary School",null,"Madginford Primary School","Madginford Primary School",0,null,2225895,2225895,0,null,0,0,0,null,2225895,2225895,0,null,16382.38,16382.376045200001,0,null,null,null,0,null,0,0,0,null,161861.15,null,161861,null,0,null,0,null,0,null,0,null,0,null,0,null,null,null,0,null,null,null,0,null,null,null,0,null,null,null,0,null,"NO",{"$f":"IF(ISERROR(VLOOKUP($A108+8860000,'Growth Data'!$A:$F,3,0)),\"NO\",VLOOKUP($A108+8860000,'Growth Data'!$A:$F,3,0))","v":"NO"},0,null,0,{"$f":"IF(BM108=\"YES\",IF(ISERROR(VLOOKUP($A108+8860000,'Growth Data'!$A:$F,6,0)),0,VLOOKUP($A108+8860000,'Growth Data'!$A:$F,6,0)),0)","v":0},0,null,"NO",{"$f":"IF(ISERROR(VLOOKUP($A108+8860000,'Growth Data'!$A:$F,4,0)),\"NO\",VLOOKUP($A108+8860000,'Growth Data'!$A:$F,4,0))","v":"NO"},0,null,0,{"$f":"IF(BU108=\"YES\",IF(ISERROR(VLOOKUP($A108+8860000,'Growth Data'!$A:$Z,7,0)),0,VLOOKUP($A108+8860000,'Growth Data'!$A:$Z,7,0)),0)","v":0},0,null,"NO",{"$f":"IF(ISERROR(VLOOKUP($A108+8860000,'Growth Data'!$A:$F,5,0)),\"NO\",VLOOKUP($A108+8860000,'Growth Data'!$A:$F,5,0))","v":"NO"},0,null,0,{"$f":"IF(CC108=\"YES\",IF(ISERROR(VLOOKUP($A108+8860000,'Growth Data'!$A:$Z,8,0)),0,VLOOKUP($A108+8860000,'Growth Data'!$A:$Z,8,0)),0)","v":0},0,null,null,null,0]
[2524,"Palmarsh Primary School",null,"Palmarsh Primary School","Palmarsh Primary School",0,null,571066.25,571066.24780282727,0,null,0,0,0,null,571066.25,571066.24780282727,0,null,3415.13,3415.1348181999992,0,null,null,null,0,null,0,0,0,null,5580,null,5580,null,5442,null,5442,null,0,null,0,null,0,null,0,null,null,null,0,null,null,null,0,null,null,null,0,null,null,null,0,null,"NO",{"$f":"IF(ISERROR(VLOOKUP($A109+8860000,'Growth Data'!$A:$F,3,0)),\"NO\",VLOOKUP($A109+8860000,'Growth Data'!$A:$F,3,0))","v":"NO"},0,null,0,{"$f":"IF(BM109=\"YES\",IF(ISERROR(VLOOKUP($A109+8860000,'Growth Data'!$A:$F,6,0)),0,VLOOKUP($A109+8860000,'Growth Data'!$A:$F,6,0)),0)","v":0},0,null,"NO",{"$f":"IF(ISERROR(VLOOKUP($A109+8860000,'Growth Data'!$A:$F,4,0)),\"NO\",VLOOKUP($A109+8860000,'Growth Data'!$A:$F,4,0))","v":"NO"},0,null,0,{"$f":"IF(BU109=\"YES\",IF(ISERROR(VLOOKUP($A109+8860000,'Growth Data'!$A:$Z,7,0)),0,VLOOKUP($A109+8860000,'Growth Data'!$A:$Z,7,0)),0)","v":0},0,null,"NO",{"$f":"IF(ISERROR(VLOOKUP($A109+8860000,'Growth Data'!$A:$F,5,0)),\"NO\",VLOOKUP($A109+8860000,'Growth Data'!$A:$F,5,0))","v":"NO"},0,null,0,{"$f":"IF(CC109=\"YES\",IF(ISERROR(VLOOKUP($A109+8860000,'Growth Data'!$A:$Z,8,0)),0,VLOOKUP($A109+8860000,'Growth Data'!$A:$Z,8,0)),0)","v":0},0,null,null,null,0]
[2525,"Painters Ash Primary School",null,"Painters Ash Primary School","Painters Ash Primary School",0,null,1510053.23,1510053.2258614693,0,null,0,0,0,null,1510053.23,1510053.2258614693,0,null,10656.25,10656.247741000003,0,null,null,null,0,null,0,0,0,null,52618.35,null,52618,null,738.17,null,738,null,0,null,0,null,0,null,0,null,null,null,0,null,null,null,0,null,null,null,0,null,null,null,0,null,"NO",{"$f":"IF(ISERROR(VLOOKUP($A110+8860000,'Growth Data'!$A:$F,3,0)),\"NO\",VLOOKUP($A110+8860000,'Growth Data'!$A:$F,3,0))","v":"NO"},0,null,0,{"$f":"IF(BM110=\"YES\",IF(ISERROR(VLOOKUP($A110+8860000,'Growth Data'!$A:$F,6,0)),0,VLOOKUP($A110+8860000,'Growth Data'!$A:$F,6,0)),0)","v":0},0,null,"NO",{"$f":"IF(ISERROR(VLOOKUP($A110+8860000,'Growth Data'!$A:$F,4,0)),\"NO\",VLOOKUP($A110+8860000,'Growth Data'!$A:$F,4,0))","v":"NO"},0,null,0,{"$f":"IF(BU110=\"YES\",IF(ISERROR(VLOOKUP($A110+8860000,'Growth Data'!$A:$Z,7,0)),0,VLOOKUP($A110+8860000,'Growth Data'!$A:$Z,7,0)),0)","v":0},0,null,"NO",{"$f":"IF(ISERROR(VLOOKUP($A110+8860000,'Growth Data'!$A:$F,5,0)),\"NO\",VLOOKUP($A110+8860000,'Growth Data'!$A:$F,5,0))","v":"NO"},0,null,0,{"$f":"IF(CC110=\"YES\",IF(ISERROR(VLOOKUP($A110+8860000,'Growth Data'!$A:$Z,8,0)),0,VLOOKUP($A110+8860000,'Growth Data'!$A:$Z,8,0)),0)","v":0},0,null,null,null,0]
[2530,"Tunbury Primary School",null,"Tunbury Primary School","Tunbury Primary School",0,null,2108370,2108370,0,null,0,0,0,null,2108370,2108370,0,null,15612.04,15612.044883199998,0,null,null,null,0,null,0,0,0,null,50014.86,null,50015,null,998.51,null,999,null,20000,null,20000,null,30000,null,30000,null,null,null,0,null,null,null,0,null,null,null,0,null,null,null,0,null,"NO",{"$f":"IF(ISERROR(VLOOKUP($A111+8860000,'Growth Data'!$A:$F,3,0)),\"NO\",VLOOKUP($A111+8860000,'Growth Data'!$A:$F,3,0))","v":"NO"},0,null,0,{"$f":"IF(BM111=\"YES\",IF(ISERROR(VLOOKUP($A111+8860000,'Growth Data'!$A:$F,6,0)),0,VLOOKUP($A111+8860000,'Growth Data'!$A:$F,6,0)),0)","v":0},0,null,"NO",{"$f":"IF(ISERROR(VLOOKUP($A111+8860000,'Growth Data'!$A:$F,4,0)),\"NO\",VLOOKUP($A111+8860000,'Growth Data'!$A:$F,4,0))","v":"NO"},0,null,0,{"$f":"IF(BU111=\"YES\",IF(ISERROR(VLOOKUP($A111+8860000,'Growth Data'!$A:$Z,7,0)),0,VLOOKUP($A111+8860000,'Growth Data'!$A:$Z,7,0)),0)","v":0},0,null,"NO",{"$f":"IF(ISERROR(VLOOKUP($A111+8860000,'Growth Data'!$A:$F,5,0)),\"NO\",VLOOKUP($A111+8860000,'Growth Data'!$A:$F,5,0))","v":"NO"},0,null,0,{"$f":"IF(CC111=\"YES\",IF(ISERROR(VLOOKUP($A111+8860000,'Growth Data'!$A:$Z,8,0)),0,VLOOKUP($A111+8860000,'Growth Data'!$A:$Z,8,0)),0)","v":0},0,null,null,null,0]
[2532,"St Margaret's-at-Cliffe Primary School",null,"St Margaret's-at-Cliffe Primary School","St Margaret's-at-Cliffe Primary School",0,null,697359.07,697359.06503411336,0,null,0,0,0,null,697359.07,697359.06503411336,0,null,4878.76,4878.7640259999998,0,null,null,null,0,null,0,0,0,null,130088.8,null,130089,null,0,null,0,null,0,null,0,null,0,null,0,null,null,null,0,null,null,null,0,null,null,null,0,null,null,null,0,null,"NO",{"$f":"IF(ISERROR(VLOOKUP($A112+8860000,'Growth Data'!$A:$F,3,0)),\"NO\",VLOOKUP($A112+8860000,'Growth Data'!$A:$F,3,0))","v":"NO"},0,null,0,{"$f":"IF(BM112=\"YES\",IF(ISERROR(VLOOKUP($A112+8860000,'Growth Data'!$A:$F,6,0)),0,VLOOKUP($A112+8860000,'Growth Data'!$A:$F,6,0)),0)","v":0},0,null,"NO",{"$f":"IF(ISERROR(VLOOKUP($A112+8860000,'Growth Data'!$A:$F,4,0)),\"NO\",VLOOKUP($A112+8860000,'Growth Data'!$A:$F,4,0))","v":"NO"},0,null,0,{"$f":"IF(BU112=\"YES\",IF(ISERROR(VLOOKUP($A112+8860000,'Growth Data'!$A:$Z,7,0)),0,VLOOKUP($A112+8860000,'Growth Data'!$A:$Z,7,0)),0)","v":0},0,null,"NO",{"$f":"IF(ISERROR(VLOOKUP($A112+8860000,'Growth Data'!$A:$F,5,0)),\"NO\",VLOOKUP($A112+8860000,'Growth Data'!$A:$F,5,0))","v":"NO"},0,null,0,{"$f":"IF(CC112=\"YES\",IF(ISERROR(VLOOKUP($A112+8860000,'Growth Data'!$A:$Z,8,0)),0,VLOOKUP($A112+8860000,'Growth Data'!$A:$Z,8,0)),0)","v":0},0,null,null,null,0]
[2534,"Bysing Wood Primary School",null,"Bysing Wood Primary School","Bysing Wood Primary School",0,null,719028.36,719028.36379898922,0,null,0,0,0,null,719028.36,719028.36379898922,0,null,3980.04,3980.0443369999998,0,null,null,null,0,null,0,0,0,null,61164.46,null,61164,null,0,null,0,null,0,null,0,null,0,null,0,null,null,null,0,null,null,null,0,null,null,null,0,null,null,null,0,null,"NO",{"$f":"IF(ISERROR(VLOOKUP($A113+8860000,'Growth Data'!$A:$F,3,0)),\"NO\",VLOOKUP($A113+8860000,'Growth Data'!$A:$F,3,0))","v":"YES"},1,null,0,{"$f":"IF(BM113=\"YES\",IF(ISERROR(VLOOKUP($A113+8860000,'Growth Data'!$A:$F,6,0)),0,VLOOKUP($A113+8860000,'Growth Data'!$A:$F,6,0)),0)","v":30},-30,null,"NO",{"$f":"IF(ISERROR(VLOOKUP($A113+8860000,'Growth Data'!$A:$F,4,0)),\"NO\",VLOOKUP($A113+8860000,'Growth Data'!$A:$F,4,0))","v":"YES"},1,null,0,{"$f":"IF(BU113=\"YES\",IF(ISERROR(VLOOKUP($A113+8860000,'Growth Data'!$A:$Z,7,0)),0,VLOOKUP($A113+8860000,'Growth Data'!$A:$Z,7,0)),0)","v":60},-60,null,"NO",{"$f":"IF(ISERROR(VLOOKUP($A113+8860000,'Growth Data'!$A:$F,5,0)),\"NO\",VLOOKUP($A113+8860000,'Growth Data'!$A:$F,5,0))","v":"YES"},1,null,0,{"$f":"IF(CC113=\"YES\",IF(ISERROR(VLOOKUP($A113+8860000,'Growth Data'!$A:$Z,8,0)),0,VLOOKUP($A113+8860000,'Growth Data'!$A:$Z,8,0)),0)","v":30},-30,null,null,null,0]
[2539,"Stocks Green Primary School",null,"Stocks Green Primary School","Stocks Green Primary School",0,null,760062.49,760062.48632655165,0,null,0,0,0,null,760062.49,760062.48632655165,0,null,5597.74,5597.7397772000004,0,null,null,null,0,null,0,0,0,null,153857.60000000001,null,153858,null,0,null,0,null,46333.33,null,46333,null,69500,null,69500,null,null,null,0,null,null,null,0,null,null,null,0,null,null,null,0,null,"NO",{"$f":"IF(ISERROR(VLOOKUP($A114+8860000,'Growth Data'!$A:$F,3,0)),\"NO\",VLOOKUP($A114+8860000,'Growth Data'!$A:$F,3,0))","v":"NO"},0,null,0,{"$f":"IF(BM114=\"YES\",IF(ISERROR(VLOOKUP($A114+8860000,'Growth Data'!$A:$F,6,0)),0,VLOOKUP($A114+8860000,'Growth Data'!$A:$F,6,0)),0)","v":0},0,null,"NO",{"$f":"IF(ISERROR(VLOOKUP($A114+8860000,'Growth Data'!$A:$F,4,0)),\"NO\",VLOOKUP($A114+8860000,'Growth Data'!$A:$F,4,0))","v":"NO"},0,null,0,{"$f":"IF(BU114=\"YES\",IF(ISERROR(VLOOKUP($A114+8860000,'Growth Data'!$A:$Z,7,0)),0,VLOOKUP($A114+8860000,'Growth Data'!$A:$Z,7,0)),0)","v":0},0,null,"NO",{"$f":"IF(ISERROR(VLOOKUP($A114+8860000,'Growth Data'!$A:$F,5,0)),\"NO\",VLOOKUP($A114+8860000,'Growth Data'!$A:$F,5,0))","v":"NO"},0,null,0,{"$f":"IF(CC114=\"YES\",IF(ISERROR(VLOOKUP($A114+8860000,'Growth Data'!$A:$Z,8,0)),0,VLOOKUP($A114+8860000,'Growth Data'!$A:$Z,8,0)),0)","v":0},0,null,null,null,0]
[2545,"Sandgate Primary School",null,"Sandgate Primary School","Sandgate Primary School",0,null,1478456,1478456.0000000002,0,null,0,0,0,null,1478456,1478456.0000000002,0,null,10835.99,10835.991678799999,0,null,null,null,0,null,0,0,0,null,95076.86,null,95077,null,0,null,0,null,0,null,0,null,0,null,0,null,null,null,0,null,null,null,0,null,null,null,0,null,null,null,0,null,"NO",{"$f":"IF(ISERROR(VLOOKUP($A115+8860000,'Growth Data'!$A:$F,3,0)),\"NO\",VLOOKUP($A115+8860000,'Growth Data'!$A:$F,3,0))","v":"NO"},0,null,0,{"$f":"IF(BM115=\"YES\",IF(ISERROR(VLOOKUP($A115+8860000,'Growth Data'!$A:$F,6,0)),0,VLOOKUP($A115+8860000,'Growth Data'!$A:$F,6,0)),0)","v":0},0,null,"NO",{"$f":"IF(ISERROR(VLOOKUP($A115+8860000,'Growth Data'!$A:$F,4,0)),\"NO\",VLOOKUP($A115+8860000,'Growth Data'!$A:$F,4,0))","v":"NO"},0,null,0,{"$f":"IF(BU115=\"YES\",IF(ISERROR(VLOOKUP($A115+8860000,'Growth Data'!$A:$Z,7,0)),0,VLOOKUP($A115+8860000,'Growth Data'!$A:$Z,7,0)),0)","v":0},0,null,"NO",{"$f":"IF(ISERROR(VLOOKUP($A115+8860000,'Growth Data'!$A:$F,5,0)),\"NO\",VLOOKUP($A115+8860000,'Growth Data'!$A:$F,5,0))","v":"NO"},0,null,0,{"$f":"IF(CC115=\"YES\",IF(ISERROR(VLOOKUP($A115+8860000,'Growth Data'!$A:$Z,8,0)),0,VLOOKUP($A115+8860000,'Growth Data'!$A:$Z,8,0)),0)","v":0},0,null,null,null,0]
[2552,"Sandling Primary School",null,"Sandling Primary School","Sandling Primary School",0,null,1455802,1455802,0,null,0,0,0,null,1455802,1455802,0,null,10810.31,10810.3139734,0,null,null,null,0,null,0,0,0,null,5580,null,5580,null,5442,null,5442,null,0,null,0,null,0,null,0,null,null,null,0,null,null,null,0,null,null,null,0,null,null,null,0,null,"NO",{"$f":"IF(ISERROR(VLOOKUP($A116+8860000,'Growth Data'!$A:$F,3,0)),\"NO\",VLOOKUP($A116+8860000,'Growth Data'!$A:$F,3,0))","v":"NO"},0,null,0,{"$f":"IF(BM116=\"YES\",IF(ISERROR(VLOOKUP($A116+8860000,'Growth Data'!$A:$F,6,0)),0,VLOOKUP($A116+8860000,'Growth Data'!$A:$F,6,0)),0)","v":0},0,null,"NO",{"$f":"IF(ISERROR(VLOOKUP($A116+8860000,'Growth Data'!$A:$F,4,0)),\"NO\",VLOOKUP($A116+8860000,'Growth Data'!$A:$F,4,0))","v":"NO"},0,null,0,{"$f":"IF(BU116=\"YES\",IF(ISERROR(VLOOKUP($A116+8860000,'Growth Data'!$A:$Z,7,0)),0,VLOOKUP($A116+8860000,'Growth Data'!$A:$Z,7,0)),0)","v":0},0,null,"NO",{"$f":"IF(ISERROR(VLOOKUP($A116+8860000,'Growth Data'!$A:$F,5,0)),\"NO\",VLOOKUP($A116+8860000,'Growth Data'!$A:$F,5,0))","v":"NO"},0,null,0,{"$f":"IF(CC116=\"YES\",IF(ISERROR(VLOOKUP($A116+8860000,'Growth Data'!$A:$Z,8,0)),0,VLOOKUP($A116+8860000,'Growth Data'!$A:$Z,8,0)),0)","v":0},0,null,null,null,0]
[2559,"Capel-le-Ferne Primary School",null,"Capel-le-Ferne Primary School","Capel-le-Ferne Primary School",0,null,782131.29,782131.28808722121,0,null,0,0,0,null,782131.29,782131.28808722121,0,null,5289.61,5289.6073123999995,0,null,null,null,0,null,0,0,0,null,38318.58,null,38319,null,2168.14,null,2168,null,0,null,0,null,0,null,0,null,null,null,0,null,null,null,0,null,null,null,0,null,null,null,0,null,"NO",{"$f":"IF(ISERROR(VLOOKUP($A117+8860000,'Growth Data'!$A:$F,3,0)),\"NO\",VLOOKUP($A117+8860000,'Growth Data'!$A:$F,3,0))","v":"NO"},0,null,0,{"$f":"IF(BM117=\"YES\",IF(ISERROR(VLOOKUP($A117+8860000,'Growth Data'!$A:$F,6,0)),0,VLOOKUP($A117+8860000,'Growth Data'!$A:$F,6,0)),0)","v":0},0,null,"NO",{"$f":"IF(ISERROR(VLOOKUP($A117+8860000,'Growth Data'!$A:$F,4,0)),\"NO\",VLOOKUP($A117+8860000,'Growth Data'!$A:$F,4,0))","v":"NO"},0,null,0,{"$f":"IF(BU117=\"YES\",IF(ISERROR(VLOOKUP($A117+8860000,'Growth Data'!$A:$Z,7,0)),0,VLOOKUP($A117+8860000,'Growth Data'!$A:$Z,7,0)),0)","v":0},0,null,"NO",{"$f":"IF(ISERROR(VLOOKUP($A117+8860000,'Growth Data'!$A:$F,5,0)),\"NO\",VLOOKUP($A117+8860000,'Growth Data'!$A:$F,5,0))","v":"NO"},0,null,0,{"$f":"IF(CC117=\"YES\",IF(ISERROR(VLOOKUP($A117+8860000,'Growth Data'!$A:$Z,8,0)),0,VLOOKUP($A117+8860000,'Growth Data'!$A:$Z,8,0)),0)","v":0},0,null,null,null,0]
[2562,"Lunsford Primary School",null,"Lunsford Primary School","Lunsford Primary School",0,null,767558.67,767558.67073565477,0,null,0,0,0,null,767558.67,767558.67073565477,0,null,5392.32,5392.3181340000001,0,null,null,null,0,null,0,0,0,null,117872.01,null,117872,null,0,null,0,null,0,null,0,null,0,null,0,null,null,null,0,null,null,null,0,null,null,null,0,null,null,null,0,null,"YES",{"$f":"IF(ISERROR(VLOOKUP($A118+8860000,'Growth Data'!$A:$F,3,0)),\"NO\",VLOOKUP($A118+8860000,'Growth Data'!$A:$F,3,0))","v":"NO"},1,null,49,{"$f":"IF(BM118=\"YES\",IF(ISERROR(VLOOKUP($A118+8860000,'Growth Data'!$A:$F,6,0)),0,VLOOKUP($A118+8860000,'Growth Data'!$A:$F,6,0)),0)","v":0},49,null,"NO",{"$f":"IF(ISERROR(VLOOKUP($A118+8860000,'Growth Data'!$A:$F,4,0)),\"NO\",VLOOKUP($A118+8860000,'Growth Data'!$A:$F,4,0))","v":"NO"},0,null,0,{"$f":"IF(BU118=\"YES\",IF(ISERROR(VLOOKUP($A118+8860000,'Growth Data'!$A:$Z,7,0)),0,VLOOKUP($A118+8860000,'Growth Data'!$A:$Z,7,0)),0)","v":0},0,null,"NO",{"$f":"IF(ISERROR(VLOOKUP($A118+8860000,'Growth Data'!$A:$F,5,0)),\"NO\",VLOOKUP($A118+8860000,'Growth Data'!$A:$F,5,0))","v":"NO"},0,null,0,{"$f":"IF(CC118=\"YES\",IF(ISERROR(VLOOKUP($A118+8860000,'Growth Data'!$A:$Z,8,0)),0,VLOOKUP($A118+8860000,'Growth Data'!$A:$Z,8,0)),0)","v":0},0,null,null,null,0]
[2569,"Briary Primary School",null,"Briary Primary School","Briary Primary School",0,null,1402234.16,1402234.1560184399,0,null,0,0,0,null,1402234.16,1402234.1560184399,0,null,9860.24,9860.2388736000012,0,null,null,null,0,null,0,0,0,null,21899.040000000001,null,21899,null,3810.1,null,3810,null,0,null,0,null,0,null,0,null,null,null,0,null,null,null,0,null,null,null,0,null,null,null,0,null,"NO",{"$f":"IF(ISERROR(VLOOKUP($A119+8860000,'Growth Data'!$A:$F,3,0)),\"NO\",VLOOKUP($A119+8860000,'Growth Data'!$A:$F,3,0))","v":"NO"},0,null,0,{"$f":"IF(BM119=\"YES\",IF(ISERROR(VLOOKUP($A119+8860000,'Growth Data'!$A:$F,6,0)),0,VLOOKUP($A119+8860000,'Growth Data'!$A:$F,6,0)),0)","v":0},0,null,"NO",{"$f":"IF(ISERROR(VLOOKUP($A119+8860000,'Growth Data'!$A:$F,4,0)),\"NO\",VLOOKUP($A119+8860000,'Growth Data'!$A:$F,4,0))","v":"NO"},0,null,0,{"$f":"IF(BU119=\"YES\",IF(ISERROR(VLOOKUP($A119+8860000,'Growth Data'!$A:$Z,7,0)),0,VLOOKUP($A119+8860000,'Growth Data'!$A:$Z,7,0)),0)","v":0},0,null,"NO",{"$f":"IF(ISERROR(VLOOKUP($A119+8860000,'Growth Data'!$A:$F,5,0)),\"NO\",VLOOKUP($A119+8860000,'Growth Data'!$A:$F,5,0))","v":"NO"},0,null,0,{"$f":"IF(CC119=\"YES\",IF(ISERROR(VLOOKUP($A119+8860000,'Growth Data'!$A:$Z,8,0)),0,VLOOKUP($A119+8860000,'Growth Data'!$A:$Z,8,0)),0)","v":0},0,null,null,null,0]
[2574,"Downs View Infant School",null,"Downs View Infant School","Downs View Infant School",0,null,982423.65,982423.64616967994,0,null,0,0,0,null,982423.65,982423.64616967994,0,null,6727.56,6727.5588147999997,0,null,null,null,0,null,0,0,0,null,76812.38,null,76812,null,0,null,0,null,0,null,0,null,0,null,0,null,null,null,0,null,null,null,0,null,null,null,0,null,null,null,0,null,"NO",{"$f":"IF(ISERROR(VLOOKUP($A120+8860000,'Growth Data'!$A:$F,3,0)),\"NO\",VLOOKUP($A120+8860000,'Growth Data'!$A:$F,3,0))","v":"NO"},0,null,0,{"$f":"IF(BM120=\"YES\",IF(ISERROR(VLOOKUP($A120+8860000,'Growth Data'!$A:$F,6,0)),0,VLOOKUP($A120+8860000,'Growth Data'!$A:$F,6,0)),0)","v":0},0,null,"NO",{"$f":"IF(ISERROR(VLOOKUP($A120+8860000,'Growth Data'!$A:$F,4,0)),\"NO\",VLOOKUP($A120+8860000,'Growth Data'!$A:$F,4,0))","v":"NO"},0,null,0,{"$f":"IF(BU120=\"YES\",IF(ISERROR(VLOOKUP($A120+8860000,'Growth Data'!$A:$Z,7,0)),0,VLOOKUP($A120+8860000,'Growth Data'!$A:$Z,7,0)),0)","v":0},0,null,"NO",{"$f":"IF(ISERROR(VLOOKUP($A120+8860000,'Growth Data'!$A:$F,5,0)),\"NO\",VLOOKUP($A120+8860000,'Growth Data'!$A:$F,5,0))","v":"NO"},0,null,0,{"$f":"IF(CC120=\"YES\",IF(ISERROR(VLOOKUP($A120+8860000,'Growth Data'!$A:$Z,8,0)),0,VLOOKUP($A120+8860000,'Growth Data'!$A:$Z,8,0)),0)","v":0},0,null,null,null,0]
[2578,"Kingswood Primary School",null,"Kingswood Primary School","Kingswood Primary School",0,null,478766.76,478766.76480031165,0,null,0,0,0,null,478766.76,478766.76480031165,0,null,3055.65,3055.6469426000003,0,null,null,null,0,null,0,0,0,null,70083.44,null,70083,null,0,null,0,null,0,null,0,null,0,null,0,null,null,null,0,null,null,null,0,null,null,null,0,null,null,null,0,null,"NO",{"$f":"IF(ISERROR(VLOOKUP($A121+8860000,'Growth Data'!$A:$F,3,0)),\"NO\",VLOOKUP($A121+8860000,'Growth Data'!$A:$F,3,0))","v":"NO"},0,null,0,{"$f":"IF(BM121=\"YES\",IF(ISERROR(VLOOKUP($A121+8860000,'Growth Data'!$A:$F,6,0)),0,VLOOKUP($A121+8860000,'Growth Data'!$A:$F,6,0)),0)","v":0},0,null,"NO",{"$f":"IF(ISERROR(VLOOKUP($A121+8860000,'Growth Data'!$A:$F,4,0)),\"NO\",VLOOKUP($A121+8860000,'Growth Data'!$A:$F,4,0))","v":"NO"},0,null,0,{"$f":"IF(BU121=\"YES\",IF(ISERROR(VLOOKUP($A121+8860000,'Growth Data'!$A:$Z,7,0)),0,VLOOKUP($A121+8860000,'Growth Data'!$A:$Z,7,0)),0)","v":0},0,null,"NO",{"$f":"IF(ISERROR(VLOOKUP($A121+8860000,'Growth Data'!$A:$F,5,0)),\"NO\",VLOOKUP($A121+8860000,'Growth Data'!$A:$F,5,0))","v":"NO"},0,null,0,{"$f":"IF(CC121=\"YES\",IF(ISERROR(VLOOKUP($A121+8860000,'Growth Data'!$A:$Z,8,0)),0,VLOOKUP($A121+8860000,'Growth Data'!$A:$Z,8,0)),0)","v":0},0,null,null,null,0]
[2586,"Senacre Wood Primary School",null,"Senacre Wood Primary School","Senacre Wood Primary School",0,null,839105.11,839105.11150569213,0,null,0,0,0,null,839105.11,839105.11150569213,0,null,5315.29,5315.2850177999999,0,null,null,null,0,null,0,0,0,null,72242.59,null,72243,null,0,null,0,null,0,null,0,null,0,null,0,null,null,null,0,null,null,null,0,null,null,null,0,null,null,null,0,null,"NO",{"$f":"IF(ISERROR(VLOOKUP($A122+8860000,'Growth Data'!$A:$F,3,0)),\"NO\",VLOOKUP($A122+8860000,'Growth Data'!$A:$F,3,0))","v":"NO"},0,null,0,{"$f":"IF(BM122=\"YES\",IF(ISERROR(VLOOKUP($A122+8860000,'Growth Data'!$A:$F,6,0)),0,VLOOKUP($A122+8860000,'Growth Data'!$A:$F,6,0)),0)","v":0},0,null,"NO",{"$f":"IF(ISERROR(VLOOKUP($A122+8860000,'Growth Data'!$A:$F,4,0)),\"NO\",VLOOKUP($A122+8860000,'Growth Data'!$A:$F,4,0))","v":"NO"},0,null,0,{"$f":"IF(BU122=\"YES\",IF(ISERROR(VLOOKUP($A122+8860000,'Growth Data'!$A:$Z,7,0)),0,VLOOKUP($A122+8860000,'Growth Data'!$A:$Z,7,0)),0)","v":0},0,null,"NO",{"$f":"IF(ISERROR(VLOOKUP($A122+8860000,'Growth Data'!$A:$F,5,0)),\"NO\",VLOOKUP($A122+8860000,'Growth Data'!$A:$F,5,0))","v":"NO"},0,null,0,{"$f":"IF(CC122=\"YES\",IF(ISERROR(VLOOKUP($A122+8860000,'Growth Data'!$A:$Z,8,0)),0,VLOOKUP($A122+8860000,'Growth Data'!$A:$Z,8,0)),0)","v":0},0,null,null,null,0]
[2603,"Bromstone Primary School, Broadstairs",null,"Bromstone Primary School, Broadstairs","Bromstone Primary School, Broadstairs",0,null,1836069.85,1836069.8468247659,0,null,0,0,0,null,1836069.85,1836069.8468247659,0,null,12633.43,12633.431056800002,0,null,null,null,0,null,0,0,0,null,44855.27,null,44855,null,1514.47,null,1514,null,0,null,0,null,0,null,0,null,null,null,0,null,null,null,0,null,null,null,0,null,null,null,0,null,"NO",{"$f":"IF(ISERROR(VLOOKUP($A123+8860000,'Growth Data'!$A:$F,3,0)),\"NO\",VLOOKUP($A123+8860000,'Growth Data'!$A:$F,3,0))","v":"NO"},0,null,0,{"$f":"IF(BM123=\"YES\",IF(ISERROR(VLOOKUP($A123+8860000,'Growth Data'!$A:$F,6,0)),0,VLOOKUP($A123+8860000,'Growth Data'!$A:$F,6,0)),0)","v":0},0,null,"NO",{"$f":"IF(ISERROR(VLOOKUP($A123+8860000,'Growth Data'!$A:$F,4,0)),\"NO\",VLOOKUP($A123+8860000,'Growth Data'!$A:$F,4,0))","v":"NO"},0,null,0,{"$f":"IF(BU123=\"YES\",IF(ISERROR(VLOOKUP($A123+8860000,'Growth Data'!$A:$Z,7,0)),0,VLOOKUP($A123+8860000,'Growth Data'!$A:$Z,7,0)),0)","v":0},0,null,"NO",{"$f":"IF(ISERROR(VLOOKUP($A123+8860000,'Growth Data'!$A:$F,5,0)),\"NO\",VLOOKUP($A123+8860000,'Growth Data'!$A:$F,5,0))","v":"NO"},0,null,0,{"$f":"IF(CC123=\"YES\",IF(ISERROR(VLOOKUP($A123+8860000,'Growth Data'!$A:$Z,8,0)),0,VLOOKUP($A123+8860000,'Growth Data'!$A:$Z,8,0)),0)","v":0},0,null,null,null,0]
[2607,"Parkside Community Primary School",null,"Parkside Community Primary School","Parkside Community Primary School",0,null,572902.23,572902.23350121966,0,null,42660.81,42660.807761153905,0,null,615563.04,615563.04126237356,0,null,2824.55,2824.5475939999992,0,null,null,null,0,null,4.9000000000000004,4.9000000000000004,0,null,138988.67000000001,null,138989,null,0,null,0,null,0,null,0,null,0,null,0,null,null,null,0,null,null,null,0,null,null,null,0,null,null,null,0,null,"NO",{"$f":"IF(ISERROR(VLOOKUP($A124+8860000,'Growth Data'!$A:$F,3,0)),\"NO\",VLOOKUP($A124+8860000,'Growth Data'!$A:$F,3,0))","v":"NO"},0,null,0,{"$f":"IF(BM124=\"YES\",IF(ISERROR(VLOOKUP($A124+8860000,'Growth Data'!$A:$F,6,0)),0,VLOOKUP($A124+8860000,'Growth Data'!$A:$F,6,0)),0)","v":0},0,null,"NO",{"$f":"IF(ISERROR(VLOOKUP($A124+8860000,'Growth Data'!$A:$F,4,0)),\"NO\",VLOOKUP($A124+8860000,'Growth Data'!$A:$F,4,0))","v":"NO"},0,null,0,{"$f":"IF(BU124=\"YES\",IF(ISERROR(VLOOKUP($A124+8860000,'Growth Data'!$A:$Z,7,0)),0,VLOOKUP($A124+8860000,'Growth Data'!$A:$Z,7,0)),0)","v":0},0,null,"NO",{"$f":"IF(ISERROR(VLOOKUP($A124+8860000,'Growth Data'!$A:$F,5,0)),\"NO\",VLOOKUP($A124+8860000,'Growth Data'!$A:$F,5,0))","v":"NO"},0,null,0,{"$f":"IF(CC124=\"YES\",IF(ISERROR(VLOOKUP($A124+8860000,'Growth Data'!$A:$Z,8,0)),0,VLOOKUP($A124+8860000,'Growth Data'!$A:$Z,8,0)),0)","v":0},0,null,null,null,0]
[2611,"St Stephen's Infant School",null,"St Stephen's Infant School","St Stephen's Infant School",0,null,1065694.8899999999,1065694.890298774,0,null,0,0,0,null,1065694.8899999999,1065694.890298774,0,null,6932.98,6932.980458,0,null,null,null,0,null,0,0,0,null,89259.27,null,89259,null,0,null,0,null,0,null,0,null,0,null,0,null,null,null,0,null,null,null,0,null,null,null,0,null,null,null,0,null,"NO",{"$f":"IF(ISERROR(VLOOKUP($A125+8860000,'Growth Data'!$A:$F,3,0)),\"NO\",VLOOKUP($A125+8860000,'Growth Data'!$A:$F,3,0))","v":"NO"},0,null,0,{"$f":"IF(BM125=\"YES\",IF(ISERROR(VLOOKUP($A125+8860000,'Growth Data'!$A:$F,6,0)),0,VLOOKUP($A125+8860000,'Growth Data'!$A:$F,6,0)),0)","v":0},0,null,"NO",{"$f":"IF(ISERROR(VLOOKUP($A125+8860000,'Growth Data'!$A:$F,4,0)),\"NO\",VLOOKUP($A125+8860000,'Growth Data'!$A:$F,4,0))","v":"NO"},0,null,0,{"$f":"IF(BU125=\"YES\",IF(ISERROR(VLOOKUP($A125+8860000,'Growth Data'!$A:$Z,7,0)),0,VLOOKUP($A125+8860000,'Growth Data'!$A:$Z,7,0)),0)","v":0},0,null,"NO",{"$f":"IF(ISERROR(VLOOKUP($A125+8860000,'Growth Data'!$A:$F,5,0)),\"NO\",VLOOKUP($A125+8860000,'Growth Data'!$A:$F,5,0))","v":"NO"},0,null,0,{"$f":"IF(CC125=\"YES\",IF(ISERROR(VLOOKUP($A125+8860000,'Growth Data'!$A:$Z,8,0)),0,VLOOKUP($A125+8860000,'Growth Data'!$A:$Z,8,0)),0)","v":0},0,null,null,null,0]
[2615,"High Firs Primary School",null,"High Firs Primary School","High Firs Primary School",0,null,820825.06,820825.06437850546,0,null,0,0,0,null,820825.06,820825.06437850546,0,null,5428.92,5428.9242708182401,0,null,null,null,0,null,0,0,0,null,22908.19,null,22908,null,3709.18,null,3709,null,0,null,0,null,0,null,0,null,null,null,0,null,null,null,0,null,null,null,0,null,null,null,0,null,"NO",{"$f":"IF(ISERROR(VLOOKUP($A126+8860000,'Growth Data'!$A:$F,3,0)),\"NO\",VLOOKUP($A126+8860000,'Growth Data'!$A:$F,3,0))","v":"NO"},0,null,0,{"$f":"IF(BM126=\"YES\",IF(ISERROR(VLOOKUP($A126+8860000,'Growth Data'!$A:$F,6,0)),0,VLOOKUP($A126+8860000,'Growth Data'!$A:$F,6,0)),0)","v":0},0,null,"NO",{"$f":"IF(ISERROR(VLOOKUP($A126+8860000,'Growth Data'!$A:$F,4,0)),\"NO\",VLOOKUP($A126+8860000,'Growth Data'!$A:$F,4,0))","v":"NO"},0,null,0,{"$f":"IF(BU126=\"YES\",IF(ISERROR(VLOOKUP($A126+8860000,'Growth Data'!$A:$Z,7,0)),0,VLOOKUP($A126+8860000,'Growth Data'!$A:$Z,7,0)),0)","v":0},0,null,"NO",{"$f":"IF(ISERROR(VLOOKUP($A126+8860000,'Growth Data'!$A:$F,5,0)),\"NO\",VLOOKUP($A126+8860000,'Growth Data'!$A:$F,5,0))","v":"NO"},0,null,0,{"$f":"IF(CC126=\"YES\",IF(ISERROR(VLOOKUP($A126+8860000,'Growth Data'!$A:$Z,8,0)),0,VLOOKUP($A126+8860000,'Growth Data'!$A:$Z,8,0)),0)","v":0},0,null,null,null,0]
[2626,"Sandwich Infant School",null,"Sandwich Infant School","Sandwich Infant School",0,null,574807.16,574807.16465321463,0,null,0,0,0,null,574807.16,574807.16465321463,0,null,3594.88,3594.8787560000001,0,null,null,null,0,null,0,0,0,null,108372.61,null,108373,null,0,null,0,null,0,null,0,null,0,null,0,null,null,null,0,null,null,null,0,null,null,null,0,null,null,null,0,null,"NO",{"$f":"IF(ISERROR(VLOOKUP($A127+8860000,'Growth Data'!$A:$F,3,0)),\"NO\",VLOOKUP($A127+8860000,'Growth Data'!$A:$F,3,0))","v":"NO"},0,null,0,{"$f":"IF(BM127=\"YES\",IF(ISERROR(VLOOKUP($A127+8860000,'Growth Data'!$A:$F,6,0)),0,VLOOKUP($A127+8860000,'Growth Data'!$A:$F,6,0)),0)","v":0},0,null,"NO",{"$f":"IF(ISERROR(VLOOKUP($A127+8860000,'Growth Data'!$A:$F,4,0)),\"NO\",VLOOKUP($A127+8860000,'Growth Data'!$A:$F,4,0))","v":"NO"},0,null,0,{"$f":"IF(BU127=\"YES\",IF(ISERROR(VLOOKUP($A127+8860000,'Growth Data'!$A:$Z,7,0)),0,VLOOKUP($A127+8860000,'Growth Data'!$A:$Z,7,0)),0)","v":0},0,null,"NO",{"$f":"IF(ISERROR(VLOOKUP($A127+8860000,'Growth Data'!$A:$F,5,0)),\"NO\",VLOOKUP($A127+8860000,'Growth Data'!$A:$F,5,0))","v":"NO"},0,null,0,{"$f":"IF(CC127=\"YES\",IF(ISERROR(VLOOKUP($A127+8860000,'Growth Data'!$A:$Z,8,0)),0,VLOOKUP($A127+8860000,'Growth Data'!$A:$Z,8,0)),0)","v":0},0,null,null,null,0]
[2627,"Sandwich Junior School",null,"Sandwich Junior School","Sandwich Junior School",0,null,837285.22,837285.22071902524,0,null,0,0,0,null,837285.22,837285.22071902524,0,null,5777.48,5777.4837149999994,0,null,null,null,0,null,0,0,0,null,250789.2,null,250789,null,0,null,0,null,0,null,0,null,0,null,0,null,null,null,0,null,null,null,0,null,null,null,0,null,null,null,0,null,"NO",{"$f":"IF(ISERROR(VLOOKUP($A128+8860000,'Growth Data'!$A:$F,3,0)),\"NO\",VLOOKUP($A128+8860000,'Growth Data'!$A:$F,3,0))","v":"NO"},0,null,0,{"$f":"IF(BM128=\"YES\",IF(ISERROR(VLOOKUP($A128+8860000,'Growth Data'!$A:$F,6,0)),0,VLOOKUP($A128+8860000,'Growth Data'!$A:$F,6,0)),0)","v":0},0,null,"NO",{"$f":"IF(ISERROR(VLOOKUP($A128+8860000,'Growth Data'!$A:$F,4,0)),\"NO\",VLOOKUP($A128+8860000,'Growth Data'!$A:$F,4,0))","v":"NO"},0,null,0,{"$f":"IF(BU128=\"YES\",IF(ISERROR(VLOOKUP($A128+8860000,'Growth Data'!$A:$Z,7,0)),0,VLOOKUP($A128+8860000,'Growth Data'!$A:$Z,7,0)),0)","v":0},0,null,"NO",{"$f":"IF(ISERROR(VLOOKUP($A128+8860000,'Growth Data'!$A:$F,5,0)),\"NO\",VLOOKUP($A128+8860000,'Growth Data'!$A:$F,5,0))","v":"NO"},0,null,0,{"$f":"IF(CC128=\"YES\",IF(ISERROR(VLOOKUP($A128+8860000,'Growth Data'!$A:$Z,8,0)),0,VLOOKUP($A128+8860000,'Growth Data'!$A:$Z,8,0)),0)","v":0},0,null,null,null,0]
[2629,"Holywell Primary School Upchurch",null,"Holywell Primary School Upchurch","Holywell Primary School Upchurch",0,null,736419.56,736419.55513364449,0,null,0,0,0,null,736419.56,736419.55513364449,0,null,5161.22,5161.2187854000003,0,null,null,null,0,null,0,0,0,null,96179.54,null,96180,null,0,null,0,null,0,null,0,null,0,null,0,null,null,null,0,null,null,null,0,null,null,null,0,null,null,null,0,null,"NO",{"$f":"IF(ISERROR(VLOOKUP($A129+8860000,'Growth Data'!$A:$F,3,0)),\"NO\",VLOOKUP($A129+8860000,'Growth Data'!$A:$F,3,0))","v":"NO"},0,null,0,{"$f":"IF(BM129=\"YES\",IF(ISERROR(VLOOKUP($A129+8860000,'Growth Data'!$A:$F,6,0)),0,VLOOKUP($A129+8860000,'Growth Data'!$A:$F,6,0)),0)","v":0},0,null,"NO",{"$f":"IF(ISERROR(VLOOKUP($A129+8860000,'Growth Data'!$A:$F,4,0)),\"NO\",VLOOKUP($A129+8860000,'Growth Data'!$A:$F,4,0))","v":"NO"},0,null,0,{"$f":"IF(BU129=\"YES\",IF(ISERROR(VLOOKUP($A129+8860000,'Growth Data'!$A:$Z,7,0)),0,VLOOKUP($A129+8860000,'Growth Data'!$A:$Z,7,0)),0)","v":0},0,null,"NO",{"$f":"IF(ISERROR(VLOOKUP($A129+8860000,'Growth Data'!$A:$F,5,0)),\"NO\",VLOOKUP($A129+8860000,'Growth Data'!$A:$F,5,0))","v":"NO"},0,null,0,{"$f":"IF(CC129=\"YES\",IF(ISERROR(VLOOKUP($A129+8860000,'Growth Data'!$A:$Z,8,0)),0,VLOOKUP($A129+8860000,'Growth Data'!$A:$Z,8,0)),0)","v":0},0,null,null,null,0]
[2632,"Sevenoaks Primary School",null,"Sevenoaks Primary School","Sevenoaks Primary School",0,null,2107150,2107150,0,null,0,0,0,null,2107150,2107150,0,null,15914.2,15914.199578182881,0,null,null,null,0,null,0,0,0,null,126283.68,null,126284,null,0,null,0,null,0,null,0,null,0,null,0,null,null,null,0,null,null,null,0,null,null,null,0,null,null,null,0,null,"NO",{"$f":"IF(ISERROR(VLOOKUP($A130+8860000,'Growth Data'!$A:$F,3,0)),\"NO\",VLOOKUP($A130+8860000,'Growth Data'!$A:$F,3,0))","v":"NO"},0,null,0,{"$f":"IF(BM130=\"YES\",IF(ISERROR(VLOOKUP($A130+8860000,'Growth Data'!$A:$F,6,0)),0,VLOOKUP($A130+8860000,'Growth Data'!$A:$F,6,0)),0)","v":0},0,null,"NO",{"$f":"IF(ISERROR(VLOOKUP($A130+8860000,'Growth Data'!$A:$F,4,0)),\"NO\",VLOOKUP($A130+8860000,'Growth Data'!$A:$F,4,0))","v":"NO"},0,null,0,{"$f":"IF(BU130=\"YES\",IF(ISERROR(VLOOKUP($A130+8860000,'Growth Data'!$A:$Z,7,0)),0,VLOOKUP($A130+8860000,'Growth Data'!$A:$Z,7,0)),0)","v":0},0,null,"NO",{"$f":"IF(ISERROR(VLOOKUP($A130+8860000,'Growth Data'!$A:$F,5,0)),\"NO\",VLOOKUP($A130+8860000,'Growth Data'!$A:$F,5,0))","v":"NO"},0,null,0,{"$f":"IF(CC130=\"YES\",IF(ISERROR(VLOOKUP($A130+8860000,'Growth Data'!$A:$Z,8,0)),0,VLOOKUP($A130+8860000,'Growth Data'!$A:$Z,8,0)),0)","v":0},0,null,null,null,0]
[2636,"Edenbridge Primary School",null,"Edenbridge Primary School","Edenbridge Primary School",{"$f":"IF(E131=D131,0,1)","v":0},null,1524891.25,1524891.2534374609,{"$f":"ROUND(H131-I131,0)","v":0},null,0,0,{"$f":"ROUND(L131-M131,0)","v":0},null,1524891.25,1524891.2534374609,{"$f":"ROUND(P131-Q131,0)","v":0},null,10591.72,10591.72480287088,{"$f":"ROUND(T131-U131,0)","v":0},null,null,null,{"$f":"ROUND(X131-Y131,0)","v":0},null,4.9000000000000004,4.9000000000000004,{"$f":"ROUND(AB131-AC131,0)","v":0},null,77024.14,null,{"$f":"ROUND(AF131-AG131,0)","v":77024},null,0,null,{"$f":"ROUND(AJ131-AK131,0)","v":0},null,0,null,{"$f":"ROUND(AN131-AO131,0)","v":0},null,0,null,{"$f":"ROUND(AR131-AS131,0)","v":0},null,null,null,{"$f":"ROUND(AV131-AW131,0)","v":0},null,null,null,{"$f":"ROUND(AZ131-BA131,0)","v":0},null,null,null,{"$f":"ROUND(BD131-BE131,0)","v":0},null,null,null,{"$f":"ROUND(BH131-BI131,0)","v":0},null,"NO",{"$f":"IF(ISERROR(VLOOKUP($A131+8860000,'Growth Data'!$A:$F,3,0)),\"NO\",VLOOKUP($A131+8860000,'Growth Data'!$A:$F,3,0))","v":"NO"},{"$f":"IF(BL131=BM131,0,1)","v":0},null,0,{"$f":"IF(BM131=\"YES\",IF(ISERROR(VLOOKUP($A131+8860000,'Growth Data'!$A:$F,6,0)),0,VLOOKUP($A131+8860000,'Growth Data'!$A:$F,6,0)),0)","v":0},{"$f":"ROUND(BP131-BQ131,0)","v":0},null,"NO",{"$f":"IF(ISERROR(VLOOKUP($A131+8860000,'Growth Data'!$A:$F,4,0)),\"NO\",VLOOKUP($A131+8860000,'Growth Data'!$A:$F,4,0))","v":"NO"},{"$f":"IF(BT131=BU131,0,1)","v":0},null,0,{"$f":"IF(BU131=\"YES\",IF(ISERROR(VLOOKUP($A131+8860000,'Growth Data'!$A:$Z,7,0)),0,VLOOKUP($A131+8860000,'Growth Data'!$A:$Z,7,0)),0)","v":0},{"$f":"ROUND(BX131-BY131,0)","v":0},null,"NO",{"$f":"IF(ISERROR(VLOOKUP($A131+8860000,'Growth Data'!$A:$F,5,0)),\"NO\",VLOOKUP($A131+8860000,'Growth Data'!$A:$F,5,0))","v":"NO"},{"$f":"IF(CB131=CC131,0,1)","v":0},null,0,{"$f":"IF(CC131=\"YES\",IF(ISERROR(VLOOKUP($A131+8860000,'Growth Data'!$A:$Z,8,0)),0,VLOOKUP($A131+8860000,'Growth Data'!$A:$Z,8,0)),0)","v":0},{"$f":"ROUND(CF131-CG131,0)","v":0},null,null,null,{"$f":"ROUND(CJ131-CK131,0)","v":0}]
[2643,"Swalecliffe Community Primary School",null,"Swalecliffe Community Primary School","Swalecliffe Community Primary School",0,null,2213281,2213281,0,null,0,0,0,null,2213281,2213281,0,null,16279.67,16279.665223599999,0,null,null,null,0,null,0,0,0,null,49098.48,null,49098,null,1090.1500000000001,null,1090,null,0,null,0,null,0,null,0,null,null,null,0,null,null,null,0,null,null,null,0,null,null,null,0,null,"NO",{"$f":"IF(ISERROR(VLOOKUP($A132+8860000,'Growth Data'!$A:$F,3,0)),\"NO\",VLOOKUP($A132+8860000,'Growth Data'!$A:$F,3,0))","v":"NO"},0,null,0,{"$f":"IF(BM132=\"YES\",IF(ISERROR(VLOOKUP($A132+8860000,'Growth Data'!$A:$F,6,0)),0,VLOOKUP($A132+8860000,'Growth Data'!$A:$F,6,0)),0)","v":0},0,null,"NO",{"$f":"IF(ISERROR(VLOOKUP($A132+8860000,'Growth Data'!$A:$F,4,0)),\"NO\",VLOOKUP($A132+8860000,'Growth Data'!$A:$F,4,0))","v":"NO"},0,null,0,{"$f":"IF(BU132=\"YES\",IF(ISERROR(VLOOKUP($A132+8860000,'Growth Data'!$A:$Z,7,0)),0,VLOOKUP($A132+8860000,'Growth Data'!$A:$Z,7,0)),0)","v":0},0,null,"NO",{"$f":"IF(ISERROR(VLOOKUP($A132+8860000,'Growth Data'!$A:$F,5,0)),\"NO\",VLOOKUP($A132+8860000,'Growth Data'!$A:$F,5,0))","v":"NO"},0,null,0,{"$f":"IF(CC132=\"YES\",IF(ISERROR(VLOOKUP($A132+8860000,'Growth Data'!$A:$Z,8,0)),0,VLOOKUP($A132+8860000,'Growth Data'!$A:$Z,8,0)),0)","v":0},0,null,null,null,0]
[2648,"Aylesham Primary School",null,"Aylesham Primary School","Aylesham Primary School",0,null,930979.26,930979.26401220495,0,null,0,0,0,null,930979.26,930979.26401220495,0,null,5905.87,5905.8722420000013,0,null,null,null,0,null,0,0,0,null,66167.5,null,66168,null,0,null,0,null,0,null,0,null,0,null,0,null,null,null,0,null,null,null,0,null,null,null,0,null,null,null,0,null,"NO",{"$f":"IF(ISERROR(VLOOKUP($A133+8860000,'Growth Data'!$A:$F,3,0)),\"NO\",VLOOKUP($A133+8860000,'Growth Data'!$A:$F,3,0))","v":"NO"},0,null,0,{"$f":"IF(BM133=\"YES\",IF(ISERROR(VLOOKUP($A133+8860000,'Growth Data'!$A:$F,6,0)),0,VLOOKUP($A133+8860000,'Growth Data'!$A:$F,6,0)),0)","v":0},0,null,"NO",{"$f":"IF(ISERROR(VLOOKUP($A133+8860000,'Growth Data'!$A:$F,4,0)),\"NO\",VLOOKUP($A133+8860000,'Growth Data'!$A:$F,4,0))","v":"NO"},0,null,0,{"$f":"IF(BU133=\"YES\",IF(ISERROR(VLOOKUP($A133+8860000,'Growth Data'!$A:$Z,7,0)),0,VLOOKUP($A133+8860000,'Growth Data'!$A:$Z,7,0)),0)","v":0},0,null,"NO",{"$f":"IF(ISERROR(VLOOKUP($A133+8860000,'Growth Data'!$A:$F,5,0)),\"NO\",VLOOKUP($A133+8860000,'Growth Data'!$A:$F,5,0))","v":"NO"},0,null,0,{"$f":"IF(CC133=\"YES\",IF(ISERROR(VLOOKUP($A133+8860000,'Growth Data'!$A:$Z,8,0)),0,VLOOKUP($A133+8860000,'Growth Data'!$A:$Z,8,0)),0)","v":0},0,null,null,null,0]
[2651,"Broadwater Primary School",null,"Broadwater Primary School","Broadwater Primary School",0,null,773541.51,773541.50737390586,0,null,0,0,0,null,773541.51,773541.50737390586,0,null,4827.41,4827.4086152,0,null,null,null,0,null,0,0,0,null,35678.199999999997,null,35678,null,2432.1799999999998,null,2432,null,75000,null,75000,null,112500,null,112500,null,null,null,0,null,null,null,0,null,null,null,0,null,null,null,0,null,"NO",{"$f":"IF(ISERROR(VLOOKUP($A134+8860000,'Growth Data'!$A:$F,3,0)),\"NO\",VLOOKUP($A134+8860000,'Growth Data'!$A:$F,3,0))","v":"NO"},0,null,0,{"$f":"IF(BM134=\"YES\",IF(ISERROR(VLOOKUP($A134+8860000,'Growth Data'!$A:$F,6,0)),0,VLOOKUP($A134+8860000,'Growth Data'!$A:$F,6,0)),0)","v":0},0,null,"NO",{"$f":"IF(ISERROR(VLOOKUP($A134+8860000,'Growth Data'!$A:$F,4,0)),\"NO\",VLOOKUP($A134+8860000,'Growth Data'!$A:$F,4,0))","v":"NO"},0,null,0,{"$f":"IF(BU134=\"YES\",IF(ISERROR(VLOOKUP($A134+8860000,'Growth Data'!$A:$Z,7,0)),0,VLOOKUP($A134+8860000,'Growth Data'!$A:$Z,7,0)),0)","v":0},0,null,"NO",{"$f":"IF(ISERROR(VLOOKUP($A134+8860000,'Growth Data'!$A:$F,5,0)),\"NO\",VLOOKUP($A134+8860000,'Growth Data'!$A:$F,5,0))","v":"NO"},0,null,0,{"$f":"IF(CC134=\"YES\",IF(ISERROR(VLOOKUP($A134+8860000,'Growth Data'!$A:$Z,8,0)),0,VLOOKUP($A134+8860000,'Growth Data'!$A:$Z,8,0)),0)","v":0},0,null,null,null,0]
[2653,"West Borough Primary School",null,"West Borough Primary School","West Borough Primary School",0,null,1620069.04,1620069.0362003618,0,null,0,0,0,null,1620069.04,1620069.0362003618,0,null,11503.61,11503.612019199998,0,null,null,null,0,null,4.9000000000000004,4.9000000000000004,0,null,80569.06,null,80569,null,0,null,0,null,0,null,0,null,0,null,0,null,null,null,0,null,null,null,0,null,null,null,0,null,null,null,0,null,"YES",{"$f":"IF(ISERROR(VLOOKUP($A135+8860000,'Growth Data'!$A:$F,3,0)),\"NO\",VLOOKUP($A135+8860000,'Growth Data'!$A:$F,3,0))","v":"NO"},1,null,60,{"$f":"IF(BM135=\"YES\",IF(ISERROR(VLOOKUP($A135+8860000,'Growth Data'!$A:$F,6,0)),0,VLOOKUP($A135+8860000,'Growth Data'!$A:$F,6,0)),0)","v":0},60,null,"NO",{"$f":"IF(ISERROR(VLOOKUP($A135+8860000,'Growth Data'!$A:$F,4,0)),\"NO\",VLOOKUP($A135+8860000,'Growth Data'!$A:$F,4,0))","v":"NO"},0,null,0,{"$f":"IF(BU135=\"YES\",IF(ISERROR(VLOOKUP($A135+8860000,'Growth Data'!$A:$Z,7,0)),0,VLOOKUP($A135+8860000,'Growth Data'!$A:$Z,7,0)),0)","v":0},0,null,"YES",{"$f":"IF(ISERROR(VLOOKUP($A135+8860000,'Growth Data'!$A:$F,5,0)),\"NO\",VLOOKUP($A135+8860000,'Growth Data'!$A:$F,5,0))","v":"NO"},1,null,60,{"$f":"IF(CC135=\"YES\",IF(ISERROR(VLOOKUP($A135+8860000,'Growth Data'!$A:$Z,8,0)),0,VLOOKUP($A135+8860000,'Growth Data'!$A:$Z,8,0)),0)","v":0},60,null,null,null,0]
[2659,"Sandown School",null,"Sandown School","Sandown School",0,null,1371153.59,1371153.5871800603,0,null,0,0,0,null,1371153.59,1371153.5871800603,0,null,9731.85,9731.8503466000002,0,null,null,null,0,null,0,0,0,null,167719,null,167719,null,0,null,0,null,0,null,0,null,0,null,0,null,null,null,0,null,null,null,0,null,null,null,0,null,null,null,0,null,"NO",{"$f":"IF(ISERROR(VLOOKUP($A136+8860000,'Growth Data'!$A:$F,3,0)),\"NO\",VLOOKUP($A136+8860000,'Growth Data'!$A:$F,3,0))","v":"NO"},0,null,0,{"$f":"IF(BM136=\"YES\",IF(ISERROR(VLOOKUP($A136+8860000,'Growth Data'!$A:$F,6,0)),0,VLOOKUP($A136+8860000,'Growth Data'!$A:$F,6,0)),0)","v":0},0,null,"YES",{"$f":"IF(ISERROR(VLOOKUP($A136+8860000,'Growth Data'!$A:$F,4,0)),\"NO\",VLOOKUP($A136+8860000,'Growth Data'!$A:$F,4,0))","v":"NO"},1,null,60,{"$f":"IF(BU136=\"YES\",IF(ISERROR(VLOOKUP($A136+8860000,'Growth Data'!$A:$Z,7,0)),0,VLOOKUP($A136+8860000,'Growth Data'!$A:$Z,7,0)),0)","v":0},60,null,"YES",{"$f":"IF(ISERROR(VLOOKUP($A136+8860000,'Growth Data'!$A:$F,5,0)),\"NO\",VLOOKUP($A136+8860000,'Growth Data'!$A:$F,5,0))","v":"NO"},1,null,60,{"$f":"IF(CC136=\"YES\",IF(ISERROR(VLOOKUP($A136+8860000,'Growth Data'!$A:$Z,8,0)),0,VLOOKUP($A136+8860000,'Growth Data'!$A:$Z,8,0)),0)","v":0},60,null,null,null,0]
[2661,"Cage Green Primary School",null,"Cage Green Primary School","Cage Green Primary School",0,null,1514146,1514146.0014892553,0,null,0,0,0,null,1514146,1514146.0014892553,0,null,10656.25,10656.247741000003,0,null,null,null,0,null,0,0,0,null,144405.29999999999,null,144405,null,0,null,0,null,0,null,0,null,0,null,0,null,null,null,0,null,null,null,0,null,null,null,0,null,null,null,0,null,"NO",{"$f":"IF(ISERROR(VLOOKUP($A137+8860000,'Growth Data'!$A:$F,3,0)),\"NO\",VLOOKUP($A137+8860000,'Growth Data'!$A:$F,3,0))","v":"NO"},0,null,0,{"$f":"IF(BM137=\"YES\",IF(ISERROR(VLOOKUP($A137+8860000,'Growth Data'!$A:$F,6,0)),0,VLOOKUP($A137+8860000,'Growth Data'!$A:$F,6,0)),0)","v":0},0,null,"NO",{"$f":"IF(ISERROR(VLOOKUP($A137+8860000,'Growth Data'!$A:$F,4,0)),\"NO\",VLOOKUP($A137+8860000,'Growth Data'!$A:$F,4,0))","v":"NO"},0,null,0,{"$f":"IF(BU137=\"YES\",IF(ISERROR(VLOOKUP($A137+8860000,'Growth Data'!$A:$Z,7,0)),0,VLOOKUP($A137+8860000,'Growth Data'!$A:$Z,7,0)),0)","v":0},0,null,"NO",{"$f":"IF(ISERROR(VLOOKUP($A137+8860000,'Growth Data'!$A:$F,5,0)),\"NO\",VLOOKUP($A137+8860000,'Growth Data'!$A:$F,5,0))","v":"NO"},0,null,0,{"$f":"IF(CC137=\"YES\",IF(ISERROR(VLOOKUP($A137+8860000,'Growth Data'!$A:$Z,8,0)),0,VLOOKUP($A137+8860000,'Growth Data'!$A:$Z,8,0)),0)","v":0},0,null,null,null,0]
[2662,"Long Mead Community Primary School",null,"Long Mead Community Primary School","Long Mead Community Primary School",0,null,643136.23,643136.23185896524,0,null,0,0,0,null,643136.23,643136.23185896524,0,null,3800.3,3800.3003991999994,0,null,null,null,0,null,5.04,5.04,0,null,129233.12,null,129233,null,0,null,0,null,0,null,0,null,0,null,0,null,null,null,0,null,null,null,0,null,null,null,0,null,null,null,0,null,"NO",{"$f":"IF(ISERROR(VLOOKUP($A138+8860000,'Growth Data'!$A:$F,3,0)),\"NO\",VLOOKUP($A138+8860000,'Growth Data'!$A:$F,3,0))","v":"NO"},0,null,0,{"$f":"IF(BM138=\"YES\",IF(ISERROR(VLOOKUP($A138+8860000,'Growth Data'!$A:$F,6,0)),0,VLOOKUP($A138+8860000,'Growth Data'!$A:$F,6,0)),0)","v":0},0,null,"NO",{"$f":"IF(ISERROR(VLOOKUP($A138+8860000,'Growth Data'!$A:$F,4,0)),\"NO\",VLOOKUP($A138+8860000,'Growth Data'!$A:$F,4,0))","v":"NO"},0,null,0,{"$f":"IF(BU138=\"YES\",IF(ISERROR(VLOOKUP($A138+8860000,'Growth Data'!$A:$Z,7,0)),0,VLOOKUP($A138+8860000,'Growth Data'!$A:$Z,7,0)),0)","v":0},0,null,"NO",{"$f":"IF(ISERROR(VLOOKUP($A138+8860000,'Growth Data'!$A:$F,5,0)),\"NO\",VLOOKUP($A138+8860000,'Growth Data'!$A:$F,5,0))","v":"NO"},0,null,0,{"$f":"IF(CC138=\"YES\",IF(ISERROR(VLOOKUP($A138+8860000,'Growth Data'!$A:$Z,8,0)),0,VLOOKUP($A138+8860000,'Growth Data'!$A:$Z,8,0)),0)","v":0},0,null,null,null,0]
[2666,"Wrotham Road Primary School",null,"Wrotham Road Primary School","Wrotham Road Primary School",0,null,1559503.86,1559503.8556324823,0,null,0,0,0,null,1559503.86,1559503.8556324823,0,null,10553.54,10553.536919400001,0,null,null,null,0,null,5.12,5.12,0,null,91122.91,null,91123,null,0,null,0,null,0,null,0,null,0,null,0,null,null,null,0,null,null,null,0,null,null,null,0,null,null,null,0,null,"NO",{"$f":"IF(ISERROR(VLOOKUP($A139+8860000,'Growth Data'!$A:$F,3,0)),\"NO\",VLOOKUP($A139+8860000,'Growth Data'!$A:$F,3,0))","v":"NO"},0,null,0,{"$f":"IF(BM139=\"YES\",IF(ISERROR(VLOOKUP($A139+8860000,'Growth Data'!$A:$F,6,0)),0,VLOOKUP($A139+8860000,'Growth Data'!$A:$F,6,0)),0)","v":0},0,null,"NO",{"$f":"IF(ISERROR(VLOOKUP($A139+8860000,'Growth Data'!$A:$F,4,0)),\"NO\",VLOOKUP($A139+8860000,'Growth Data'!$A:$F,4,0))","v":"NO"},0,null,0,{"$f":"IF(BU139=\"YES\",IF(ISERROR(VLOOKUP($A139+8860000,'Growth Data'!$A:$Z,7,0)),0,VLOOKUP($A139+8860000,'Growth Data'!$A:$Z,7,0)),0)","v":0},0,null,"NO",{"$f":"IF(ISERROR(VLOOKUP($A139+8860000,'Growth Data'!$A:$F,5,0)),\"NO\",VLOOKUP($A139+8860000,'Growth Data'!$A:$F,5,0))","v":"NO"},0,null,0,{"$f":"IF(CC139=\"YES\",IF(ISERROR(VLOOKUP($A139+8860000,'Growth Data'!$A:$Z,8,0)),0,VLOOKUP($A139+8860000,'Growth Data'!$A:$Z,8,0)),0)","v":0},0,null,null,null,0]
[2672,"Palm Bay Primary School",null,"Palm Bay Primary School","Palm Bay Primary School",0,null,1501855.79,1501855.7945308334,0,null,0,0,0,null,1501855.79,1501855.7945308334,0,null,10835.99,10835.991678799999,0,null,null,null,0,null,0,0,0,null,129857.22,null,129857,null,0,null,0,null,0,null,0,null,0,null,0,null,null,null,0,null,null,null,0,null,null,null,0,null,null,null,0,null,"NO",{"$f":"IF(ISERROR(VLOOKUP($A140+8860000,'Growth Data'!$A:$F,3,0)),\"NO\",VLOOKUP($A140+8860000,'Growth Data'!$A:$F,3,0))","v":"NO"},0,null,0,{"$f":"IF(BM140=\"YES\",IF(ISERROR(VLOOKUP($A140+8860000,'Growth Data'!$A:$F,6,0)),0,VLOOKUP($A140+8860000,'Growth Data'!$A:$F,6,0)),0)","v":0},0,null,"NO",{"$f":"IF(ISERROR(VLOOKUP($A140+8860000,'Growth Data'!$A:$F,4,0)),\"NO\",VLOOKUP($A140+8860000,'Growth Data'!$A:$F,4,0))","v":"NO"},0,null,0,{"$f":"IF(BU140=\"YES\",IF(ISERROR(VLOOKUP($A140+8860000,'Growth Data'!$A:$Z,7,0)),0,VLOOKUP($A140+8860000,'Growth Data'!$A:$Z,7,0)),0)","v":0},0,null,"NO",{"$f":"IF(ISERROR(VLOOKUP($A140+8860000,'Growth Data'!$A:$F,5,0)),\"NO\",VLOOKUP($A140+8860000,'Growth Data'!$A:$F,5,0))","v":"NO"},0,null,0,{"$f":"IF(CC140=\"YES\",IF(ISERROR(VLOOKUP($A140+8860000,'Growth Data'!$A:$Z,8,0)),0,VLOOKUP($A140+8860000,'Growth Data'!$A:$Z,8,0)),0)","v":0},0,null,null,null,0]
[2674,"King's Farm Primary School",null,"King's Farm Primary School","King's Farm Primary School",0,null,1424072.34,1424072.3376881867,0,null,299991.69,299991.68948705238,0,null,1724064.03,1724064.0271752391,0,null,8833.1299999999992,8833.1306575999988,0,null,null,null,0,null,5.17,5.17,0,null,133033.44,null,133033,null,0,null,0,null,0,null,0,null,0,null,0,null,null,null,0,null,null,null,0,null,null,null,0,null,null,null,0,null,"NO",{"$f":"IF(ISERROR(VLOOKUP($A141+8860000,'Growth Data'!$A:$F,3,0)),\"NO\",VLOOKUP($A141+8860000,'Growth Data'!$A:$F,3,0))","v":"NO"},0,null,0,{"$f":"IF(BM141=\"YES\",IF(ISERROR(VLOOKUP($A141+8860000,'Growth Data'!$A:$F,6,0)),0,VLOOKUP($A141+8860000,'Growth Data'!$A:$F,6,0)),0)","v":0},0,null,"NO",{"$f":"IF(ISERROR(VLOOKUP($A141+8860000,'Growth Data'!$A:$F,4,0)),\"NO\",VLOOKUP($A141+8860000,'Growth Data'!$A:$F,4,0))","v":"NO"},0,null,0,{"$f":"IF(BU141=\"YES\",IF(ISERROR(VLOOKUP($A141+8860000,'Growth Data'!$A:$Z,7,0)),0,VLOOKUP($A141+8860000,'Growth Data'!$A:$Z,7,0)),0)","v":0},0,null,"NO",{"$f":"IF(ISERROR(VLOOKUP($A141+8860000,'Growth Data'!$A:$F,5,0)),\"NO\",VLOOKUP($A141+8860000,'Growth Data'!$A:$F,5,0))","v":"NO"},0,null,0,{"$f":"IF(CC141=\"YES\",IF(ISERROR(VLOOKUP($A141+8860000,'Growth Data'!$A:$Z,8,0)),0,VLOOKUP($A141+8860000,'Growth Data'!$A:$Z,8,0)),0)","v":0},0,null,null,null,0]
[2677,"Coxheath Primary School",null,"Coxheath Primary School","Coxheath Primary School",0,null,1273741.29,1273741.2877359982,0,null,0,0,0,null,1273741.29,1273741.2877359982,0,null,9089.91,9089.9077116000008,0,null,null,null,0,null,0,0,0,null,159695.35,null,159695,null,0,null,0,null,0,null,0,null,0,null,0,null,null,null,0,null,null,null,0,null,null,null,0,null,null,null,0,null,"NO",{"$f":"IF(ISERROR(VLOOKUP($A142+8860000,'Growth Data'!$A:$F,3,0)),\"NO\",VLOOKUP($A142+8860000,'Growth Data'!$A:$F,3,0))","v":"NO"},0,null,0,{"$f":"IF(BM142=\"YES\",IF(ISERROR(VLOOKUP($A142+8860000,'Growth Data'!$A:$F,6,0)),0,VLOOKUP($A142+8860000,'Growth Data'!$A:$F,6,0)),0)","v":0},0,null,"NO",{"$f":"IF(ISERROR(VLOOKUP($A142+8860000,'Growth Data'!$A:$F,4,0)),\"NO\",VLOOKUP($A142+8860000,'Growth Data'!$A:$F,4,0))","v":"NO"},0,null,0,{"$f":"IF(BU142=\"YES\",IF(ISERROR(VLOOKUP($A142+8860000,'Growth Data'!$A:$Z,7,0)),0,VLOOKUP($A142+8860000,'Growth Data'!$A:$Z,7,0)),0)","v":0},0,null,"NO",{"$f":"IF(ISERROR(VLOOKUP($A142+8860000,'Growth Data'!$A:$F,5,0)),\"NO\",VLOOKUP($A142+8860000,'Growth Data'!$A:$F,5,0))","v":"NO"},0,null,0,{"$f":"IF(CC142=\"YES\",IF(ISERROR(VLOOKUP($A142+8860000,'Growth Data'!$A:$Z,8,0)),0,VLOOKUP($A142+8860000,'Growth Data'!$A:$Z,8,0)),0)","v":0},0,null,null,null,0]
[2680,"Kings Hill School",null,"Kings Hill School","Kings Hill School",0,null,1665286,1665286,0,null,0,0,0,null,1665286,1665286,0,null,12196.91,12196.910064999996,0,null,null,null,0,null,0,0,0,null,74048.11,null,74048,null,0,null,0,null,0,null,0,null,0,null,0,null,null,null,0,null,null,null,0,null,null,null,0,null,null,null,0,null,"NO",{"$f":"IF(ISERROR(VLOOKUP($A143+8860000,'Growth Data'!$A:$F,3,0)),\"NO\",VLOOKUP($A143+8860000,'Growth Data'!$A:$F,3,0))","v":"NO"},0,null,0,{"$f":"IF(BM143=\"YES\",IF(ISERROR(VLOOKUP($A143+8860000,'Growth Data'!$A:$F,6,0)),0,VLOOKUP($A143+8860000,'Growth Data'!$A:$F,6,0)),0)","v":0},0,null,"NO",{"$f":"IF(ISERROR(VLOOKUP($A143+8860000,'Growth Data'!$A:$F,4,0)),\"NO\",VLOOKUP($A143+8860000,'Growth Data'!$A:$F,4,0))","v":"NO"},0,null,0,{"$f":"IF(BU143=\"YES\",IF(ISERROR(VLOOKUP($A143+8860000,'Growth Data'!$A:$Z,7,0)),0,VLOOKUP($A143+8860000,'Growth Data'!$A:$Z,7,0)),0)","v":0},0,null,"NO",{"$f":"IF(ISERROR(VLOOKUP($A143+8860000,'Growth Data'!$A:$F,5,0)),\"NO\",VLOOKUP($A143+8860000,'Growth Data'!$A:$F,5,0))","v":"NO"},0,null,0,{"$f":"IF(CC143=\"YES\",IF(ISERROR(VLOOKUP($A143+8860000,'Growth Data'!$A:$Z,8,0)),0,VLOOKUP($A143+8860000,'Growth Data'!$A:$Z,8,0)),0)","v":0},0,null,null,null,0]
[2682,"New Ash Green Primary School",null,"New Ash Green Primary School","New Ash Green Primary School",0,null,1350150.23,1350150.2300240088,0,null,0,0,0,null,1350150.23,1350150.2300240088,0,null,10032.870000000001,10032.86495146312,0,null,null,null,0,null,0,0,0,null,183049.93,null,183050,null,0,null,0,null,0,null,0,null,0,null,0,null,null,null,0,null,null,null,0,null,null,null,0,null,null,null,0,null,"NO",{"$f":"IF(ISERROR(VLOOKUP($A144+8860000,'Growth Data'!$A:$F,3,0)),\"NO\",VLOOKUP($A144+8860000,'Growth Data'!$A:$F,3,0))","v":"NO"},0,null,0,{"$f":"IF(BM144=\"YES\",IF(ISERROR(VLOOKUP($A144+8860000,'Growth Data'!$A:$F,6,0)),0,VLOOKUP($A144+8860000,'Growth Data'!$A:$F,6,0)),0)","v":0},0,null,"NO",{"$f":"IF(ISERROR(VLOOKUP($A144+8860000,'Growth Data'!$A:$F,4,0)),\"NO\",VLOOKUP($A144+8860000,'Growth Data'!$A:$F,4,0))","v":"NO"},0,null,0,{"$f":"IF(BU144=\"YES\",IF(ISERROR(VLOOKUP($A144+8860000,'Growth Data'!$A:$Z,7,0)),0,VLOOKUP($A144+8860000,'Growth Data'!$A:$Z,7,0)),0)","v":0},0,null,"NO",{"$f":"IF(ISERROR(VLOOKUP($A144+8860000,'Growth Data'!$A:$F,5,0)),\"NO\",VLOOKUP($A144+8860000,'Growth Data'!$A:$F,5,0))","v":"NO"},0,null,0,{"$f":"IF(CC144=\"YES\",IF(ISERROR(VLOOKUP($A144+8860000,'Growth Data'!$A:$Z,8,0)),0,VLOOKUP($A144+8860000,'Growth Data'!$A:$Z,8,0)),0)","v":0},0,null,null,null,0]
[2689,"Craylands School, The",null,"Craylands School, The","Craylands School, The",0,null,1147388.56,1147388.5579946938,0,null,0,0,0,null,1147388.56,1147388.5579946938,0,null,7078.89,7078.89145116496,0,null,null,null,0,null,0,0,0,null,5580,null,5580,null,5442,null,5442,null,0,null,0,null,0,null,0,null,null,null,0,null,null,null,0,null,null,null,0,null,null,null,0,null,"NO",{"$f":"IF(ISERROR(VLOOKUP($A145+8860000,'Growth Data'!$A:$F,3,0)),\"NO\",VLOOKUP($A145+8860000,'Growth Data'!$A:$F,3,0))","v":"YES"},1,null,0,{"$f":"IF(BM145=\"YES\",IF(ISERROR(VLOOKUP($A145+8860000,'Growth Data'!$A:$F,6,0)),0,VLOOKUP($A145+8860000,'Growth Data'!$A:$F,6,0)),0)","v":30},-30,null,"NO",{"$f":"IF(ISERROR(VLOOKUP($A145+8860000,'Growth Data'!$A:$F,4,0)),\"NO\",VLOOKUP($A145+8860000,'Growth Data'!$A:$F,4,0))","v":"YES"},1,null,0,{"$f":"IF(BU145=\"YES\",IF(ISERROR(VLOOKUP($A145+8860000,'Growth Data'!$A:$Z,7,0)),0,VLOOKUP($A145+8860000,'Growth Data'!$A:$Z,7,0)),0)","v":60},-60,null,"NO",{"$f":"IF(ISERROR(VLOOKUP($A145+8860000,'Growth Data'!$A:$F,5,0)),\"NO\",VLOOKUP($A145+8860000,'Growth Data'!$A:$F,5,0))","v":"YES"},1,null,0,{"$f":"IF(CC145=\"YES\",IF(ISERROR(VLOOKUP($A145+8860000,'Growth Data'!$A:$Z,8,0)),0,VLOOKUP($A145+8860000,'Growth Data'!$A:$Z,8,0)),0)","v":31},-31,null,null,null,0]
[2692,"Churchill School, The",null,"Churchill School, The","Churchill School, The",0,null,1426528,1426528,0,null,0,0,0,null,1426528,1426528,0,null,10681.93,10681.925446399999,0,null,null,null,0,null,0,0,0,null,137248.78,null,137249,null,0,null,0,null,0,null,0,null,0,null,0,null,null,null,0,null,null,null,0,null,null,null,0,null,null,null,0,null,"NO",{"$f":"IF(ISERROR(VLOOKUP($A146+8860000,'Growth Data'!$A:$F,3,0)),\"NO\",VLOOKUP($A146+8860000,'Growth Data'!$A:$F,3,0))","v":"NO"},0,null,0,{"$f":"IF(BM146=\"YES\",IF(ISERROR(VLOOKUP($A146+8860000,'Growth Data'!$A:$F,6,0)),0,VLOOKUP($A146+8860000,'Growth Data'!$A:$F,6,0)),0)","v":0},0,null,"NO",{"$f":"IF(ISERROR(VLOOKUP($A146+8860000,'Growth Data'!$A:$F,4,0)),\"NO\",VLOOKUP($A146+8860000,'Growth Data'!$A:$F,4,0))","v":"NO"},0,null,0,{"$f":"IF(BU146=\"YES\",IF(ISERROR(VLOOKUP($A146+8860000,'Growth Data'!$A:$Z,7,0)),0,VLOOKUP($A146+8860000,'Growth Data'!$A:$Z,7,0)),0)","v":0},0,null,"NO",{"$f":"IF(ISERROR(VLOOKUP($A146+8860000,'Growth Data'!$A:$F,5,0)),\"NO\",VLOOKUP($A146+8860000,'Growth Data'!$A:$F,5,0))","v":"NO"},0,null,0,{"$f":"IF(CC146=\"YES\",IF(ISERROR(VLOOKUP($A146+8860000,'Growth Data'!$A:$Z,8,0)),0,VLOOKUP($A146+8860000,'Growth Data'!$A:$Z,8,0)),0)","v":0},0,null,null,null,0]
[3010,"St Paul's CEP School",null,"St Paul's CEP School","St Paul's CEP School",0,null,475348.2,475348.19927142555,0,null,0,0,0,null,475348.2,475348.19927142555,0,null,2874.14,2874.1363786684797,0,null,null,null,0,null,0,0,0,null,226854.47,null,226854,null,0,null,0,null,0,null,0,null,0,null,0,null,null,null,0,null,null,null,0,null,null,null,0,null,null,null,0,null,"NO",{"$f":"IF(ISERROR(VLOOKUP($A147+8860000,'Growth Data'!$A:$F,3,0)),\"NO\",VLOOKUP($A147+8860000,'Growth Data'!$A:$F,3,0))","v":"NO"},0,null,0,{"$f":"IF(BM147=\"YES\",IF(ISERROR(VLOOKUP($A147+8860000,'Growth Data'!$A:$F,6,0)),0,VLOOKUP($A147+8860000,'Growth Data'!$A:$F,6,0)),0)","v":0},0,null,"NO",{"$f":"IF(ISERROR(VLOOKUP($A147+8860000,'Growth Data'!$A:$F,4,0)),\"NO\",VLOOKUP($A147+8860000,'Growth Data'!$A:$F,4,0))","v":"NO"},0,null,0,{"$f":"IF(BU147=\"YES\",IF(ISERROR(VLOOKUP($A147+8860000,'Growth Data'!$A:$Z,7,0)),0,VLOOKUP($A147+8860000,'Growth Data'!$A:$Z,7,0)),0)","v":0},0,null,"NO",{"$f":"IF(ISERROR(VLOOKUP($A147+8860000,'Growth Data'!$A:$F,5,0)),\"NO\",VLOOKUP($A147+8860000,'Growth Data'!$A:$F,5,0))","v":"NO"},0,null,0,{"$f":"IF(CC147=\"YES\",IF(ISERROR(VLOOKUP($A147+8860000,'Growth Data'!$A:$Z,8,0)),0,VLOOKUP($A147+8860000,'Growth Data'!$A:$Z,8,0)),0)","v":0},0,null,null,null,0]
[3015,"Fawkham CEP School",null,"Fawkham CEP School","Fawkham CEP School",0,null,452373.13,452373.12560984795,0,null,0,0,0,null,452373.13,452373.12560984795,0,null,2714.46,2714.46213540912,0,null,null,null,0,null,0,0,0,null,5580,null,5580,null,5442,null,5442,null,0,null,0,null,0,null,0,null,null,null,0,null,null,null,0,null,null,null,0,null,null,null,0,null,"NO",{"$f":"IF(ISERROR(VLOOKUP($A148+8860000,'Growth Data'!$A:$F,3,0)),\"NO\",VLOOKUP($A148+8860000,'Growth Data'!$A:$F,3,0))","v":"NO"},0,null,0,{"$f":"IF(BM148=\"YES\",IF(ISERROR(VLOOKUP($A148+8860000,'Growth Data'!$A:$F,6,0)),0,VLOOKUP($A148+8860000,'Growth Data'!$A:$F,6,0)),0)","v":0},0,null,"NO",{"$f":"IF(ISERROR(VLOOKUP($A148+8860000,'Growth Data'!$A:$F,4,0)),\"NO\",VLOOKUP($A148+8860000,'Growth Data'!$A:$F,4,0))","v":"NO"},0,null,0,{"$f":"IF(BU148=\"YES\",IF(ISERROR(VLOOKUP($A148+8860000,'Growth Data'!$A:$Z,7,0)),0,VLOOKUP($A148+8860000,'Growth Data'!$A:$Z,7,0)),0)","v":0},0,null,"NO",{"$f":"IF(ISERROR(VLOOKUP($A148+8860000,'Growth Data'!$A:$F,5,0)),\"NO\",VLOOKUP($A148+8860000,'Growth Data'!$A:$F,5,0))","v":"NO"},0,null,0,{"$f":"IF(CC148=\"YES\",IF(ISERROR(VLOOKUP($A148+8860000,'Growth Data'!$A:$Z,8,0)),0,VLOOKUP($A148+8860000,'Growth Data'!$A:$Z,8,0)),0)","v":0},0,null,null,null,0]
[3020,"Sedley's CEP School",null,"Sedley's CEP School","Sedley's CEP School",0,null,443128.86,443128.85522466962,0,null,0,0,0,null,443128.86,443128.85522466962,0,null,2687.85,2687.84976153256,0,null,null,null,0,null,0,0,0,null,121066.27,null,121066,null,0,null,0,null,0,null,0,null,0,null,0,null,null,null,0,null,null,null,0,null,null,null,0,null,null,null,0,null,"NO",{"$f":"IF(ISERROR(VLOOKUP($A149+8860000,'Growth Data'!$A:$F,3,0)),\"NO\",VLOOKUP($A149+8860000,'Growth Data'!$A:$F,3,0))","v":"NO"},0,null,0,{"$f":"IF(BM149=\"YES\",IF(ISERROR(VLOOKUP($A149+8860000,'Growth Data'!$A:$F,6,0)),0,VLOOKUP($A149+8860000,'Growth Data'!$A:$F,6,0)),0)","v":0},0,null,"NO",{"$f":"IF(ISERROR(VLOOKUP($A149+8860000,'Growth Data'!$A:$F,4,0)),\"NO\",VLOOKUP($A149+8860000,'Growth Data'!$A:$F,4,0))","v":"NO"},0,null,0,{"$f":"IF(BU149=\"YES\",IF(ISERROR(VLOOKUP($A149+8860000,'Growth Data'!$A:$Z,7,0)),0,VLOOKUP($A149+8860000,'Growth Data'!$A:$Z,7,0)),0)","v":0},0,null,"NO",{"$f":"IF(ISERROR(VLOOKUP($A149+8860000,'Growth Data'!$A:$F,5,0)),\"NO\",VLOOKUP($A149+8860000,'Growth Data'!$A:$F,5,0))","v":"NO"},0,null,0,{"$f":"IF(CC149=\"YES\",IF(ISERROR(VLOOKUP($A149+8860000,'Growth Data'!$A:$Z,8,0)),0,VLOOKUP($A149+8860000,'Growth Data'!$A:$Z,8,0)),0)","v":0},0,null,null,null,0]
[3022,"Benenden CEP School",null,"Benenden CEP School","Benenden CEP School",0,null,617046.31999999995,617046.32300493203,0,null,0,0,0,null,617046.31999999995,617046.32300493203,0,null,4159.79,4159.7882748000002,0,null,null,null,0,null,0,0,0,null,78328.08,null,78328,null,0,null,0,null,120000,null,120000,null,180000,null,180000,null,null,null,0,null,null,null,0,null,null,null,0,null,null,null,0,null,"NO",{"$f":"IF(ISERROR(VLOOKUP($A150+8860000,'Growth Data'!$A:$F,3,0)),\"NO\",VLOOKUP($A150+8860000,'Growth Data'!$A:$F,3,0))","v":"NO"},0,null,0,{"$f":"IF(BM150=\"YES\",IF(ISERROR(VLOOKUP($A150+8860000,'Growth Data'!$A:$F,6,0)),0,VLOOKUP($A150+8860000,'Growth Data'!$A:$F,6,0)),0)","v":0},0,null,"NO",{"$f":"IF(ISERROR(VLOOKUP($A150+8860000,'Growth Data'!$A:$F,4,0)),\"NO\",VLOOKUP($A150+8860000,'Growth Data'!$A:$F,4,0))","v":"NO"},0,null,0,{"$f":"IF(BU150=\"YES\",IF(ISERROR(VLOOKUP($A150+8860000,'Growth Data'!$A:$Z,7,0)),0,VLOOKUP($A150+8860000,'Growth Data'!$A:$Z,7,0)),0)","v":0},0,null,"NO",{"$f":"IF(ISERROR(VLOOKUP($A150+8860000,'Growth Data'!$A:$F,5,0)),\"NO\",VLOOKUP($A150+8860000,'Growth Data'!$A:$F,5,0))","v":"NO"},0,null,0,{"$f":"IF(CC150=\"YES\",IF(ISERROR(VLOOKUP($A150+8860000,'Growth Data'!$A:$Z,8,0)),0,VLOOKUP($A150+8860000,'Growth Data'!$A:$Z,8,0)),0)","v":0},0,null,null,null,0]
[3023,"Bidborough CEP School",null,"Bidborough CEP School","Bidborough CEP School",0,null,738028.42,738028.41974978044,0,null,0,0,0,null,738028.42,738028.41974978044,0,null,5289.61,5289.6073123999995,0,null,null,null,0,null,0,0,0,null,102771.63,null,102772,null,0,null,0,null,0,null,0,null,0,null,0,null,null,null,0,null,null,null,0,null,null,null,0,null,null,null,0,null,"NO",{"$f":"IF(ISERROR(VLOOKUP($A151+8860000,'Growth Data'!$A:$F,3,0)),\"NO\",VLOOKUP($A151+8860000,'Growth Data'!$A:$F,3,0))","v":"NO"},0,null,0,{"$f":"IF(BM151=\"YES\",IF(ISERROR(VLOOKUP($A151+8860000,'Growth Data'!$A:$F,6,0)),0,VLOOKUP($A151+8860000,'Growth Data'!$A:$F,6,0)),0)","v":0},0,null,"NO",{"$f":"IF(ISERROR(VLOOKUP($A151+8860000,'Growth Data'!$A:$F,4,0)),\"NO\",VLOOKUP($A151+8860000,'Growth Data'!$A:$F,4,0))","v":"NO"},0,null,0,{"$f":"IF(BU151=\"YES\",IF(ISERROR(VLOOKUP($A151+8860000,'Growth Data'!$A:$Z,7,0)),0,VLOOKUP($A151+8860000,'Growth Data'!$A:$Z,7,0)),0)","v":0},0,null,"NO",{"$f":"IF(ISERROR(VLOOKUP($A151+8860000,'Growth Data'!$A:$F,5,0)),\"NO\",VLOOKUP($A151+8860000,'Growth Data'!$A:$F,5,0))","v":"NO"},0,null,0,{"$f":"IF(CC151=\"YES\",IF(ISERROR(VLOOKUP($A151+8860000,'Growth Data'!$A:$Z,8,0)),0,VLOOKUP($A151+8860000,'Growth Data'!$A:$Z,8,0)),0)","v":0},0,null,null,null,0]
[3027,"Cranbrook CEP School",null,"Cranbrook CEP School","Cranbrook CEP School",0,null,632199.13,632199.13053242804,0,null,0,0,0,null,632199.13,632199.13053242804,0,null,3851.66,3851.6558099999997,0,null,null,null,0,null,0,0,0,null,123519.05,null,123519,null,0,null,0,null,0,null,0,null,0,null,0,null,null,null,0,null,null,null,0,null,null,null,0,null,null,null,0,null,"NO",{"$f":"IF(ISERROR(VLOOKUP($A152+8860000,'Growth Data'!$A:$F,3,0)),\"NO\",VLOOKUP($A152+8860000,'Growth Data'!$A:$F,3,0))","v":"NO"},0,null,0,{"$f":"IF(BM152=\"YES\",IF(ISERROR(VLOOKUP($A152+8860000,'Growth Data'!$A:$F,6,0)),0,VLOOKUP($A152+8860000,'Growth Data'!$A:$F,6,0)),0)","v":0},0,null,"NO",{"$f":"IF(ISERROR(VLOOKUP($A152+8860000,'Growth Data'!$A:$F,4,0)),\"NO\",VLOOKUP($A152+8860000,'Growth Data'!$A:$F,4,0))","v":"NO"},0,null,0,{"$f":"IF(BU152=\"YES\",IF(ISERROR(VLOOKUP($A152+8860000,'Growth Data'!$A:$Z,7,0)),0,VLOOKUP($A152+8860000,'Growth Data'!$A:$Z,7,0)),0)","v":0},0,null,"YES",{"$f":"IF(ISERROR(VLOOKUP($A152+8860000,'Growth Data'!$A:$F,5,0)),\"NO\",VLOOKUP($A152+8860000,'Growth Data'!$A:$F,5,0))","v":"NO"},1,null,30,{"$f":"IF(CC152=\"YES\",IF(ISERROR(VLOOKUP($A152+8860000,'Growth Data'!$A:$Z,8,0)),0,VLOOKUP($A152+8860000,'Growth Data'!$A:$Z,8,0)),0)","v":0},30,null,null,null,0]
[3029,"Goudhurst & Kilndown CEP School",null,"Goudhurst & Kilndown CEP School","Goudhurst & Kilndown CEP School",0,null,759523.32,759523.32203536516,0,null,0,0,0,null,759523.32,759523.32203536516,0,null,5418,5417.9958393999996,0,null,null,null,0,null,0,0,0,null,112839.79,null,112840,null,0,null,0,null,0,null,0,null,0,null,0,null,null,null,0,null,null,null,0,null,null,null,0,null,null,null,0,null,"NO",{"$f":"IF(ISERROR(VLOOKUP($A153+8860000,'Growth Data'!$A:$F,3,0)),\"NO\",VLOOKUP($A153+8860000,'Growth Data'!$A:$F,3,0))","v":"NO"},0,null,0,{"$f":"IF(BM153=\"YES\",IF(ISERROR(VLOOKUP($A153+8860000,'Growth Data'!$A:$F,6,0)),0,VLOOKUP($A153+8860000,'Growth Data'!$A:$F,6,0)),0)","v":0},0,null,"NO",{"$f":"IF(ISERROR(VLOOKUP($A153+8860000,'Growth Data'!$A:$F,4,0)),\"NO\",VLOOKUP($A153+8860000,'Growth Data'!$A:$F,4,0))","v":"NO"},0,null,0,{"$f":"IF(BU153=\"YES\",IF(ISERROR(VLOOKUP($A153+8860000,'Growth Data'!$A:$Z,7,0)),0,VLOOKUP($A153+8860000,'Growth Data'!$A:$Z,7,0)),0)","v":0},0,null,"NO",{"$f":"IF(ISERROR(VLOOKUP($A153+8860000,'Growth Data'!$A:$F,5,0)),\"NO\",VLOOKUP($A153+8860000,'Growth Data'!$A:$F,5,0))","v":"NO"},0,null,0,{"$f":"IF(CC153=\"YES\",IF(ISERROR(VLOOKUP($A153+8860000,'Growth Data'!$A:$Z,8,0)),0,VLOOKUP($A153+8860000,'Growth Data'!$A:$Z,8,0)),0)","v":0},0,null,null,null,0]
[3032,"Hawkhurst CEP School",null,"Hawkhurst CEP School","Hawkhurst CEP School",0,null,786218.33,786218.33125416748,0,null,0,0,0,null,786218.33,786218.33125416748,0,null,5032.83,5032.8302583999994,0,null,null,null,0,null,0,0,0,null,33023.96,null,33024,null,2697.6,null,2698,null,0,null,0,null,0,null,0,null,null,null,0,null,null,null,0,null,null,null,0,null,null,null,0,null,"NO",{"$f":"IF(ISERROR(VLOOKUP($A154+8860000,'Growth Data'!$A:$F,3,0)),\"NO\",VLOOKUP($A154+8860000,'Growth Data'!$A:$F,3,0))","v":"NO"},0,null,0,{"$f":"IF(BM154=\"YES\",IF(ISERROR(VLOOKUP($A154+8860000,'Growth Data'!$A:$F,6,0)),0,VLOOKUP($A154+8860000,'Growth Data'!$A:$F,6,0)),0)","v":0},0,null,"NO",{"$f":"IF(ISERROR(VLOOKUP($A154+8860000,'Growth Data'!$A:$F,4,0)),\"NO\",VLOOKUP($A154+8860000,'Growth Data'!$A:$F,4,0))","v":"NO"},0,null,0,{"$f":"IF(BU154=\"YES\",IF(ISERROR(VLOOKUP($A154+8860000,'Growth Data'!$A:$Z,7,0)),0,VLOOKUP($A154+8860000,'Growth Data'!$A:$Z,7,0)),0)","v":0},0,null,"NO",{"$f":"IF(ISERROR(VLOOKUP($A154+8860000,'Growth Data'!$A:$F,5,0)),\"NO\",VLOOKUP($A154+8860000,'Growth Data'!$A:$F,5,0))","v":"NO"},0,null,0,{"$f":"IF(CC154=\"YES\",IF(ISERROR(VLOOKUP($A154+8860000,'Growth Data'!$A:$Z,8,0)),0,VLOOKUP($A154+8860000,'Growth Data'!$A:$Z,8,0)),0)","v":0},0,null,null,null,0]
[3033,"Hildenborough CEP School",null,"Hildenborough CEP School","Hildenborough CEP School",0,null,732146.87,732146.86867745896,0,null,0,0,0,null,732146.87,732146.86867745896,0,null,5084.1899999999996,5084.1856692000001,0,null,null,null,0,null,0,0,0,null,18906.14,null,18906,null,4109.3900000000003,null,4109,null,0,null,0,null,0,null,0,null,null,null,0,null,null,null,0,null,null,null,0,null,null,null,0,null,"NO",{"$f":"IF(ISERROR(VLOOKUP($A155+8860000,'Growth Data'!$A:$F,3,0)),\"NO\",VLOOKUP($A155+8860000,'Growth Data'!$A:$F,3,0))","v":"NO"},0,null,0,{"$f":"IF(BM155=\"YES\",IF(ISERROR(VLOOKUP($A155+8860000,'Growth Data'!$A:$F,6,0)),0,VLOOKUP($A155+8860000,'Growth Data'!$A:$F,6,0)),0)","v":0},0,null,"NO",{"$f":"IF(ISERROR(VLOOKUP($A155+8860000,'Growth Data'!$A:$F,4,0)),\"NO\",VLOOKUP($A155+8860000,'Growth Data'!$A:$F,4,0))","v":"NO"},0,null,0,{"$f":"IF(BU155=\"YES\",IF(ISERROR(VLOOKUP($A155+8860000,'Growth Data'!$A:$Z,7,0)),0,VLOOKUP($A155+8860000,'Growth Data'!$A:$Z,7,0)),0)","v":0},0,null,"NO",{"$f":"IF(ISERROR(VLOOKUP($A155+8860000,'Growth Data'!$A:$F,5,0)),\"NO\",VLOOKUP($A155+8860000,'Growth Data'!$A:$F,5,0))","v":"NO"},0,null,0,{"$f":"IF(CC155=\"YES\",IF(ISERROR(VLOOKUP($A155+8860000,'Growth Data'!$A:$Z,8,0)),0,VLOOKUP($A155+8860000,'Growth Data'!$A:$Z,8,0)),0)","v":0},0,null,null,null,0]
[3034,"Lamberhurst St Mary's CEP School",null,"Lamberhurst St Mary's CEP School","Lamberhurst St Mary's CEP School",0,null,722431.51,722431.5102413845,0,null,0,0,0,null,722431.51,722431.5102413845,0,null,5084.1899999999996,5084.1856692000001,0,null,null,null,0,null,0,0,0,null,27864.65,null,27865,null,3213.54,null,3214,null,0,null,0,null,0,null,0,null,null,null,0,null,null,null,0,null,null,null,0,null,null,null,0,null,"NO",{"$f":"IF(ISERROR(VLOOKUP($A156+8860000,'Growth Data'!$A:$F,3,0)),\"NO\",VLOOKUP($A156+8860000,'Growth Data'!$A:$F,3,0))","v":"NO"},0,null,0,{"$f":"IF(BM156=\"YES\",IF(ISERROR(VLOOKUP($A156+8860000,'Growth Data'!$A:$F,6,0)),0,VLOOKUP($A156+8860000,'Growth Data'!$A:$F,6,0)),0)","v":0},0,null,"NO",{"$f":"IF(ISERROR(VLOOKUP($A156+8860000,'Growth Data'!$A:$F,4,0)),\"NO\",VLOOKUP($A156+8860000,'Growth Data'!$A:$F,4,0))","v":"NO"},0,null,0,{"$f":"IF(BU156=\"YES\",IF(ISERROR(VLOOKUP($A156+8860000,'Growth Data'!$A:$Z,7,0)),0,VLOOKUP($A156+8860000,'Growth Data'!$A:$Z,7,0)),0)","v":0},0,null,"NO",{"$f":"IF(ISERROR(VLOOKUP($A156+8860000,'Growth Data'!$A:$F,5,0)),\"NO\",VLOOKUP($A156+8860000,'Growth Data'!$A:$F,5,0))","v":"NO"},0,null,0,{"$f":"IF(CC156=\"YES\",IF(ISERROR(VLOOKUP($A156+8860000,'Growth Data'!$A:$Z,8,0)),0,VLOOKUP($A156+8860000,'Growth Data'!$A:$Z,8,0)),0)","v":0},0,null,null,null,0]
[3035,"Seal CEP School",null,"Seal CEP School","Seal CEP School",0,null,993997.32,993997.32455857156,0,null,0,0,0,null,993997.32,993997.32455857156,0,null,6999.05,6999.05432953528,0,null,null,null,0,null,0,0,0,null,5580,null,5580,null,5442,null,5442,null,0,null,0,null,0,null,0,null,null,null,0,null,null,null,0,null,null,null,0,null,null,null,0,null,"YES",{"$f":"IF(ISERROR(VLOOKUP($A157+8860000,'Growth Data'!$A:$F,3,0)),\"NO\",VLOOKUP($A157+8860000,'Growth Data'!$A:$F,3,0))","v":"YES"},0,null,60,{"$f":"IF(BM157=\"YES\",IF(ISERROR(VLOOKUP($A157+8860000,'Growth Data'!$A:$F,6,0)),0,VLOOKUP($A157+8860000,'Growth Data'!$A:$F,6,0)),0)","v":30},30,null,"YES",{"$f":"IF(ISERROR(VLOOKUP($A157+8860000,'Growth Data'!$A:$F,4,0)),\"NO\",VLOOKUP($A157+8860000,'Growth Data'!$A:$F,4,0))","v":"YES"},0,null,62,{"$f":"IF(BU157=\"YES\",IF(ISERROR(VLOOKUP($A157+8860000,'Growth Data'!$A:$Z,7,0)),0,VLOOKUP($A157+8860000,'Growth Data'!$A:$Z,7,0)),0)","v":60},2,null,"YES",{"$f":"IF(ISERROR(VLOOKUP($A157+8860000,'Growth Data'!$A:$F,5,0)),\"NO\",VLOOKUP($A157+8860000,'Growth Data'!$A:$F,5,0))","v":"NO"},1,null,61,{"$f":"IF(CC157=\"YES\",IF(ISERROR(VLOOKUP($A157+8860000,'Growth Data'!$A:$Z,8,0)),0,VLOOKUP($A157+8860000,'Growth Data'!$A:$Z,8,0)),0)","v":0},61,null,null,null,0]
[3037,"St John's CEP School, Sevenoaks",null,"St John's CEP School, Sevenoaks","St John's CEP School, Sevenoaks",0,null,898784.94,898784.93775298796,0,null,103968.35,103968.34714865801,0,null,1002753.28,1002753.284901646,0,null,6440.19,6440.1944781275206,0,null,null,null,0,null,0,0,0,null,30217.360000000001,null,30217,null,2978.26,null,2978,null,0,null,0,null,0,null,0,null,null,null,0,null,null,null,0,null,null,null,0,null,null,null,0,null,"NO",{"$f":"IF(ISERROR(VLOOKUP($A158+8860000,'Growth Data'!$A:$F,3,0)),\"NO\",VLOOKUP($A158+8860000,'Growth Data'!$A:$F,3,0))","v":"NO"},0,null,0,{"$f":"IF(BM158=\"YES\",IF(ISERROR(VLOOKUP($A158+8860000,'Growth Data'!$A:$F,6,0)),0,VLOOKUP($A158+8860000,'Growth Data'!$A:$F,6,0)),0)","v":0},0,null,"NO",{"$f":"IF(ISERROR(VLOOKUP($A158+8860000,'Growth Data'!$A:$F,4,0)),\"NO\",VLOOKUP($A158+8860000,'Growth Data'!$A:$F,4,0))","v":"NO"},0,null,0,{"$f":"IF(BU158=\"YES\",IF(ISERROR(VLOOKUP($A158+8860000,'Growth Data'!$A:$Z,7,0)),0,VLOOKUP($A158+8860000,'Growth Data'!$A:$Z,7,0)),0)","v":0},0,null,"NO",{"$f":"IF(ISERROR(VLOOKUP($A158+8860000,'Growth Data'!$A:$F,5,0)),\"NO\",VLOOKUP($A158+8860000,'Growth Data'!$A:$F,5,0))","v":"NO"},0,null,0,{"$f":"IF(CC158=\"YES\",IF(ISERROR(VLOOKUP($A158+8860000,'Growth Data'!$A:$Z,8,0)),0,VLOOKUP($A158+8860000,'Growth Data'!$A:$Z,8,0)),0)","v":0},0,null,null,null,0]
[3042,"Speldhurst CEP School",null,"Speldhurst CEP School","Speldhurst CEP School",0,null,541530.62,541530.61656375614,0,null,0,0,0,null,541530.62,541530.61656375614,0,null,3723.27,3723.2672829999992,0,null,null,null,0,null,0,0,0,null,35214.11,null,35214,null,2478.59,null,2479,null,0,null,0,null,0,null,0,null,null,null,0,null,null,null,0,null,null,null,0,null,null,null,0,null,"NO",{"$f":"IF(ISERROR(VLOOKUP($A159+8860000,'Growth Data'!$A:$F,3,0)),\"NO\",VLOOKUP($A159+8860000,'Growth Data'!$A:$F,3,0))","v":"NO"},0,null,0,{"$f":"IF(BM159=\"YES\",IF(ISERROR(VLOOKUP($A159+8860000,'Growth Data'!$A:$F,6,0)),0,VLOOKUP($A159+8860000,'Growth Data'!$A:$F,6,0)),0)","v":0},0,null,"NO",{"$f":"IF(ISERROR(VLOOKUP($A159+8860000,'Growth Data'!$A:$F,4,0)),\"NO\",VLOOKUP($A159+8860000,'Growth Data'!$A:$F,4,0))","v":"NO"},0,null,0,{"$f":"IF(BU159=\"YES\",IF(ISERROR(VLOOKUP($A159+8860000,'Growth Data'!$A:$Z,7,0)),0,VLOOKUP($A159+8860000,'Growth Data'!$A:$Z,7,0)),0)","v":0},0,null,"NO",{"$f":"IF(ISERROR(VLOOKUP($A159+8860000,'Growth Data'!$A:$F,5,0)),\"NO\",VLOOKUP($A159+8860000,'Growth Data'!$A:$F,5,0))","v":"NO"},0,null,0,{"$f":"IF(CC159=\"YES\",IF(ISERROR(VLOOKUP($A159+8860000,'Growth Data'!$A:$Z,8,0)),0,VLOOKUP($A159+8860000,'Growth Data'!$A:$Z,8,0)),0)","v":0},0,null,null,null,0]
[3043,"Sundridge & Brasted CEP School",null,"Sundridge & Brasted CEP School","Sundridge & Brasted CEP School",0,null,431815.47,431815.47423331806,0,null,0,0,0,null,431815.47,431815.47423331806,0,null,2554.79,2554.78789214976,0,null,null,null,0,null,0,0,0,null,52911.46,null,52911,null,708.85,null,709,null,0,null,0,null,0,null,0,null,null,null,0,null,null,null,0,null,null,null,0,null,null,null,0,null,"NO",{"$f":"IF(ISERROR(VLOOKUP($A160+8860000,'Growth Data'!$A:$F,3,0)),\"NO\",VLOOKUP($A160+8860000,'Growth Data'!$A:$F,3,0))","v":"NO"},0,null,0,{"$f":"IF(BM160=\"YES\",IF(ISERROR(VLOOKUP($A160+8860000,'Growth Data'!$A:$F,6,0)),0,VLOOKUP($A160+8860000,'Growth Data'!$A:$F,6,0)),0)","v":0},0,null,"NO",{"$f":"IF(ISERROR(VLOOKUP($A160+8860000,'Growth Data'!$A:$F,4,0)),\"NO\",VLOOKUP($A160+8860000,'Growth Data'!$A:$F,4,0))","v":"NO"},0,null,0,{"$f":"IF(BU160=\"YES\",IF(ISERROR(VLOOKUP($A160+8860000,'Growth Data'!$A:$Z,7,0)),0,VLOOKUP($A160+8860000,'Growth Data'!$A:$Z,7,0)),0)","v":0},0,null,"NO",{"$f":"IF(ISERROR(VLOOKUP($A160+8860000,'Growth Data'!$A:$F,5,0)),\"NO\",VLOOKUP($A160+8860000,'Growth Data'!$A:$F,5,0))","v":"NO"},0,null,0,{"$f":"IF(CC160=\"YES\",IF(ISERROR(VLOOKUP($A160+8860000,'Growth Data'!$A:$Z,8,0)),0,VLOOKUP($A160+8860000,'Growth Data'!$A:$Z,8,0)),0)","v":0},0,null,null,null,0]
[3049,"St James' CEJ School",null,"St James' CEJ School","St James' CEJ School",0,null,1261417,1261417,0,null,0,0,0,null,1261417,1261417,0,null,9269.65,9269.6516494000007,0,null,null,null,0,null,0,0,0,null,27005.74,null,27006,null,3299.43,null,3299,null,0,null,0,null,0,null,0,null,null,null,0,null,null,null,0,null,null,null,0,null,null,null,0,null,"NO",{"$f":"IF(ISERROR(VLOOKUP($A161+8860000,'Growth Data'!$A:$F,3,0)),\"NO\",VLOOKUP($A161+8860000,'Growth Data'!$A:$F,3,0))","v":"NO"},0,null,0,{"$f":"IF(BM161=\"YES\",IF(ISERROR(VLOOKUP($A161+8860000,'Growth Data'!$A:$F,6,0)),0,VLOOKUP($A161+8860000,'Growth Data'!$A:$F,6,0)),0)","v":0},0,null,"NO",{"$f":"IF(ISERROR(VLOOKUP($A161+8860000,'Growth Data'!$A:$F,4,0)),\"NO\",VLOOKUP($A161+8860000,'Growth Data'!$A:$F,4,0))","v":"NO"},0,null,0,{"$f":"IF(BU161=\"YES\",IF(ISERROR(VLOOKUP($A161+8860000,'Growth Data'!$A:$Z,7,0)),0,VLOOKUP($A161+8860000,'Growth Data'!$A:$Z,7,0)),0)","v":0},0,null,"NO",{"$f":"IF(ISERROR(VLOOKUP($A161+8860000,'Growth Data'!$A:$F,5,0)),\"NO\",VLOOKUP($A161+8860000,'Growth Data'!$A:$F,5,0))","v":"NO"},0,null,0,{"$f":"IF(CC161=\"YES\",IF(ISERROR(VLOOKUP($A161+8860000,'Growth Data'!$A:$Z,8,0)),0,VLOOKUP($A161+8860000,'Growth Data'!$A:$Z,8,0)),0)","v":0},0,null,null,null,0]
[3050,"St John's CEP School",null,"St John's CEP School","St John's CEP School",0,null,2219299,2219299,0,null,0,0,0,null,2219299,2219299,0,null,16228.31,16228.3098128,0,null,null,null,0,null,0,0,0,null,68732.460000000006,null,68732,null,0,null,0,null,0,null,0,null,0,null,0,null,null,null,0,null,null,null,0,null,null,null,0,null,null,null,0,null,"NO",{"$f":"IF(ISERROR(VLOOKUP($A162+8860000,'Growth Data'!$A:$F,3,0)),\"NO\",VLOOKUP($A162+8860000,'Growth Data'!$A:$F,3,0))","v":"NO"},0,null,0,{"$f":"IF(BM162=\"YES\",IF(ISERROR(VLOOKUP($A162+8860000,'Growth Data'!$A:$F,6,0)),0,VLOOKUP($A162+8860000,'Growth Data'!$A:$F,6,0)),0)","v":0},0,null,"NO",{"$f":"IF(ISERROR(VLOOKUP($A162+8860000,'Growth Data'!$A:$F,4,0)),\"NO\",VLOOKUP($A162+8860000,'Growth Data'!$A:$F,4,0))","v":"NO"},0,null,0,{"$f":"IF(BU162=\"YES\",IF(ISERROR(VLOOKUP($A162+8860000,'Growth Data'!$A:$Z,7,0)),0,VLOOKUP($A162+8860000,'Growth Data'!$A:$Z,7,0)),0)","v":0},0,null,"NO",{"$f":"IF(ISERROR(VLOOKUP($A162+8860000,'Growth Data'!$A:$F,5,0)),\"NO\",VLOOKUP($A162+8860000,'Growth Data'!$A:$F,5,0))","v":"NO"},0,null,0,{"$f":"IF(CC162=\"YES\",IF(ISERROR(VLOOKUP($A162+8860000,'Growth Data'!$A:$Z,8,0)),0,VLOOKUP($A162+8860000,'Growth Data'!$A:$Z,8,0)),0)","v":0},0,null,null,null,0]
[3052,"St Mark's CEP School",null,"St Mark's CEP School","St Mark's CEP School",0,null,1172943.08,1172943.0803358208,0,null,0,0,0,null,1172943.08,1172943.0803358208,0,null,7960.09,7960.0886739999996,0,null,null,null,0,null,0,0,0,null,37780.519999999997,null,37781,null,2221.9499999999998,null,2222,null,0,null,0,null,0,null,0,null,null,null,0,null,null,null,0,null,null,null,0,null,null,null,0,null,"NO",{"$f":"IF(ISERROR(VLOOKUP($A163+8860000,'Growth Data'!$A:$F,3,0)),\"NO\",VLOOKUP($A163+8860000,'Growth Data'!$A:$F,3,0))","v":"NO"},0,null,0,{"$f":"IF(BM163=\"YES\",IF(ISERROR(VLOOKUP($A163+8860000,'Growth Data'!$A:$F,6,0)),0,VLOOKUP($A163+8860000,'Growth Data'!$A:$F,6,0)),0)","v":0},0,null,"NO",{"$f":"IF(ISERROR(VLOOKUP($A163+8860000,'Growth Data'!$A:$F,4,0)),\"NO\",VLOOKUP($A163+8860000,'Growth Data'!$A:$F,4,0))","v":"NO"},0,null,0,{"$f":"IF(BU163=\"YES\",IF(ISERROR(VLOOKUP($A163+8860000,'Growth Data'!$A:$Z,7,0)),0,VLOOKUP($A163+8860000,'Growth Data'!$A:$Z,7,0)),0)","v":0},0,null,"NO",{"$f":"IF(ISERROR(VLOOKUP($A163+8860000,'Growth Data'!$A:$F,5,0)),\"NO\",VLOOKUP($A163+8860000,'Growth Data'!$A:$F,5,0))","v":"NO"},0,null,0,{"$f":"IF(CC163=\"YES\",IF(ISERROR(VLOOKUP($A163+8860000,'Growth Data'!$A:$Z,8,0)),0,VLOOKUP($A163+8860000,'Growth Data'!$A:$Z,8,0)),0)","v":0},0,null,null,null,0]
[3053,"St Peter's CEP School",null,"St Peter's CEP School","St Peter's CEP School",0,null,556912.73,556912.72886477842,0,null,0,0,0,null,556912.73,556912.72886477842,0,null,3569.2,3569.2010506000001,0,null,null,null,0,null,0,0,0,null,31147.78,null,31148,null,2885.22,null,2885,null,0,null,0,null,0,null,0,null,null,null,0,null,null,null,0,null,null,null,0,null,null,null,0,null,"YES",{"$f":"IF(ISERROR(VLOOKUP($A164+8860000,'Growth Data'!$A:$F,3,0)),\"NO\",VLOOKUP($A164+8860000,'Growth Data'!$A:$F,3,0))","v":"NO"},1,null,29,{"$f":"IF(BM164=\"YES\",IF(ISERROR(VLOOKUP($A164+8860000,'Growth Data'!$A:$F,6,0)),0,VLOOKUP($A164+8860000,'Growth Data'!$A:$F,6,0)),0)","v":0},29,null,"YES",{"$f":"IF(ISERROR(VLOOKUP($A164+8860000,'Growth Data'!$A:$F,4,0)),\"NO\",VLOOKUP($A164+8860000,'Growth Data'!$A:$F,4,0))","v":"NO"},1,null,20,{"$f":"IF(BU164=\"YES\",IF(ISERROR(VLOOKUP($A164+8860000,'Growth Data'!$A:$Z,7,0)),0,VLOOKUP($A164+8860000,'Growth Data'!$A:$Z,7,0)),0)","v":0},20,null,"NO",{"$f":"IF(ISERROR(VLOOKUP($A164+8860000,'Growth Data'!$A:$F,5,0)),\"NO\",VLOOKUP($A164+8860000,'Growth Data'!$A:$F,5,0))","v":"YES"},1,null,0,{"$f":"IF(CC164=\"YES\",IF(ISERROR(VLOOKUP($A164+8860000,'Growth Data'!$A:$Z,8,0)),0,VLOOKUP($A164+8860000,'Growth Data'!$A:$Z,8,0)),0)","v":0},0,null,null,null,0]
[3054,"Crockham Hill CEP School",null,"Crockham Hill CEP School","Crockham Hill CEP School",0,null,575386.89,575386.88965827634,0,null,0,0,0,null,575386.89,575386.88965827634,0,null,3645.9,3645.8952210887201,0,null,null,null,0,null,0,0,0,null,68946.33,null,68946,null,0,null,0,null,0,null,0,null,0,null,0,null,null,null,0,null,null,null,0,null,null,null,0,null,null,null,0,null,"NO",{"$f":"IF(ISERROR(VLOOKUP($A165+8860000,'Growth Data'!$A:$F,3,0)),\"NO\",VLOOKUP($A165+8860000,'Growth Data'!$A:$F,3,0))","v":"NO"},0,null,0,{"$f":"IF(BM165=\"YES\",IF(ISERROR(VLOOKUP($A165+8860000,'Growth Data'!$A:$F,6,0)),0,VLOOKUP($A165+8860000,'Growth Data'!$A:$F,6,0)),0)","v":0},0,null,"YES",{"$f":"IF(ISERROR(VLOOKUP($A165+8860000,'Growth Data'!$A:$F,4,0)),\"NO\",VLOOKUP($A165+8860000,'Growth Data'!$A:$F,4,0))","v":"NO"},1,null,30,{"$f":"IF(BU165=\"YES\",IF(ISERROR(VLOOKUP($A165+8860000,'Growth Data'!$A:$Z,7,0)),0,VLOOKUP($A165+8860000,'Growth Data'!$A:$Z,7,0)),0)","v":0},30,null,"YES",{"$f":"IF(ISERROR(VLOOKUP($A165+8860000,'Growth Data'!$A:$F,5,0)),\"NO\",VLOOKUP($A165+8860000,'Growth Data'!$A:$F,5,0))","v":"NO"},1,null,42,{"$f":"IF(CC165=\"YES\",IF(ISERROR(VLOOKUP($A165+8860000,'Growth Data'!$A:$Z,8,0)),0,VLOOKUP($A165+8860000,'Growth Data'!$A:$Z,8,0)),0)","v":0},42,null,null,null,0]
[3055,"Churchill CEP School",null,"Churchill CEP School","Churchill CEP School",0,null,1050077.81,1050077.8072642668,0,null,0,0,0,null,1050077.81,1050077.8072642668,0,null,7824.04,7824.0379197086395,0,null,null,null,0,null,0,0,0,null,48370.64,null,48371,null,1162.94,null,1163,null,0,null,0,null,0,null,0,null,null,null,0,null,null,null,0,null,null,null,0,null,null,null,0,null,"NO",{"$f":"IF(ISERROR(VLOOKUP($A166+8860000,'Growth Data'!$A:$F,3,0)),\"NO\",VLOOKUP($A166+8860000,'Growth Data'!$A:$F,3,0))","v":"NO"},0,null,0,{"$f":"IF(BM166=\"YES\",IF(ISERROR(VLOOKUP($A166+8860000,'Growth Data'!$A:$F,6,0)),0,VLOOKUP($A166+8860000,'Growth Data'!$A:$F,6,0)),0)","v":0},0,null,"NO",{"$f":"IF(ISERROR(VLOOKUP($A166+8860000,'Growth Data'!$A:$F,4,0)),\"NO\",VLOOKUP($A166+8860000,'Growth Data'!$A:$F,4,0))","v":"NO"},0,null,0,{"$f":"IF(BU166=\"YES\",IF(ISERROR(VLOOKUP($A166+8860000,'Growth Data'!$A:$Z,7,0)),0,VLOOKUP($A166+8860000,'Growth Data'!$A:$Z,7,0)),0)","v":0},0,null,"NO",{"$f":"IF(ISERROR(VLOOKUP($A166+8860000,'Growth Data'!$A:$F,5,0)),\"NO\",VLOOKUP($A166+8860000,'Growth Data'!$A:$F,5,0))","v":"NO"},0,null,0,{"$f":"IF(CC166=\"YES\",IF(ISERROR(VLOOKUP($A166+8860000,'Growth Data'!$A:$Z,8,0)),0,VLOOKUP($A166+8860000,'Growth Data'!$A:$Z,8,0)),0)","v":0},0,null,null,null,0]
[3057,"St Peter's CEP School",null,"St Peter's CEP School","St Peter's CEP School",0,null,643836.52,643836.51963994582,0,null,0,0,0,null,643836.52,643836.51963994582,0,null,4236.82,4236.8213909999995,0,null,null,null,0,null,0,0,0,null,20471.84,null,20472,null,3952.82,null,3953,null,0,null,0,null,0,null,0,null,null,null,0,null,null,null,0,null,null,null,0,null,null,null,0,null,"NO",{"$f":"IF(ISERROR(VLOOKUP($A167+8860000,'Growth Data'!$A:$F,3,0)),\"NO\",VLOOKUP($A167+8860000,'Growth Data'!$A:$F,3,0))","v":"NO"},0,null,0,{"$f":"IF(BM167=\"YES\",IF(ISERROR(VLOOKUP($A167+8860000,'Growth Data'!$A:$F,6,0)),0,VLOOKUP($A167+8860000,'Growth Data'!$A:$F,6,0)),0)","v":0},0,null,"NO",{"$f":"IF(ISERROR(VLOOKUP($A167+8860000,'Growth Data'!$A:$F,4,0)),\"NO\",VLOOKUP($A167+8860000,'Growth Data'!$A:$F,4,0))","v":"NO"},0,null,0,{"$f":"IF(BU167=\"YES\",IF(ISERROR(VLOOKUP($A167+8860000,'Growth Data'!$A:$Z,7,0)),0,VLOOKUP($A167+8860000,'Growth Data'!$A:$Z,7,0)),0)","v":0},0,null,"NO",{"$f":"IF(ISERROR(VLOOKUP($A167+8860000,'Growth Data'!$A:$F,5,0)),\"NO\",VLOOKUP($A167+8860000,'Growth Data'!$A:$F,5,0))","v":"NO"},0,null,0,{"$f":"IF(CC167=\"YES\",IF(ISERROR(VLOOKUP($A167+8860000,'Growth Data'!$A:$Z,8,0)),0,VLOOKUP($A167+8860000,'Growth Data'!$A:$Z,8,0)),0)","v":0},0,null,null,null,0]
[3061,"Bredhurst CEP School",null,"Bredhurst CEP School","Bredhurst CEP School",0,null,493733.46,493733.46340221929,0,null,0,0,0,null,493733.46,493733.46340221929,0,null,3081.32,3081.3246479999998,0,null,null,null,0,null,0,0,0,null,26057.89,null,26058,null,3394.21,null,3394,null,0,null,0,null,0,null,0,null,null,null,0,null,null,null,0,null,null,null,0,null,null,null,0,null,"NO",{"$f":"IF(ISERROR(VLOOKUP($A168+8860000,'Growth Data'!$A:$F,3,0)),\"NO\",VLOOKUP($A168+8860000,'Growth Data'!$A:$F,3,0))","v":"NO"},0,null,0,{"$f":"IF(BM168=\"YES\",IF(ISERROR(VLOOKUP($A168+8860000,'Growth Data'!$A:$F,6,0)),0,VLOOKUP($A168+8860000,'Growth Data'!$A:$F,6,0)),0)","v":0},0,null,"NO",{"$f":"IF(ISERROR(VLOOKUP($A168+8860000,'Growth Data'!$A:$F,4,0)),\"NO\",VLOOKUP($A168+8860000,'Growth Data'!$A:$F,4,0))","v":"NO"},0,null,0,{"$f":"IF(BU168=\"YES\",IF(ISERROR(VLOOKUP($A168+8860000,'Growth Data'!$A:$Z,7,0)),0,VLOOKUP($A168+8860000,'Growth Data'!$A:$Z,7,0)),0)","v":0},0,null,"NO",{"$f":"IF(ISERROR(VLOOKUP($A168+8860000,'Growth Data'!$A:$F,5,0)),\"NO\",VLOOKUP($A168+8860000,'Growth Data'!$A:$F,5,0))","v":"NO"},0,null,0,{"$f":"IF(CC168=\"YES\",IF(ISERROR(VLOOKUP($A168+8860000,'Growth Data'!$A:$Z,8,0)),0,VLOOKUP($A168+8860000,'Growth Data'!$A:$Z,8,0)),0)","v":0},0,null,null,null,0]
[3062,"Burham CEP School",null,"Burham CEP School","Burham CEP School",0,null,609000.57999999996,609000.57603415707,0,null,0,0,0,null,609000.57999999996,609000.57603415707,0,null,3851.66,3851.6558099999997,0,null,null,null,0,null,0,0,0,null,64710.12,null,64710,null,0,null,0,null,0,null,0,null,0,null,0,null,null,null,0,null,null,null,0,null,null,null,0,null,null,null,0,null,"NO",{"$f":"IF(ISERROR(VLOOKUP($A169+8860000,'Growth Data'!$A:$F,3,0)),\"NO\",VLOOKUP($A169+8860000,'Growth Data'!$A:$F,3,0))","v":"NO"},0,null,0,{"$f":"IF(BM169=\"YES\",IF(ISERROR(VLOOKUP($A169+8860000,'Growth Data'!$A:$F,6,0)),0,VLOOKUP($A169+8860000,'Growth Data'!$A:$F,6,0)),0)","v":0},0,null,"NO",{"$f":"IF(ISERROR(VLOOKUP($A169+8860000,'Growth Data'!$A:$F,4,0)),\"NO\",VLOOKUP($A169+8860000,'Growth Data'!$A:$F,4,0))","v":"NO"},0,null,0,{"$f":"IF(BU169=\"YES\",IF(ISERROR(VLOOKUP($A169+8860000,'Growth Data'!$A:$Z,7,0)),0,VLOOKUP($A169+8860000,'Growth Data'!$A:$Z,7,0)),0)","v":0},0,null,"NO",{"$f":"IF(ISERROR(VLOOKUP($A169+8860000,'Growth Data'!$A:$F,5,0)),\"NO\",VLOOKUP($A169+8860000,'Growth Data'!$A:$F,5,0))","v":"NO"},0,null,0,{"$f":"IF(CC169=\"YES\",IF(ISERROR(VLOOKUP($A169+8860000,'Growth Data'!$A:$Z,8,0)),0,VLOOKUP($A169+8860000,'Growth Data'!$A:$Z,8,0)),0)","v":0},0,null,null,null,0]
[3067,"Harrietsham CEP School",null,"Harrietsham CEP School","Harrietsham CEP School",0,null,733605.67,733605.66670987825,0,null,0,0,0,null,733605.67,733605.66670987825,0,null,4981.47,4981.4748475999986,0,null,null,null,0,null,0,0,0,null,129566.65,null,129567,null,0,null,0,null,0,null,0,null,0,null,0,null,null,null,0,null,null,null,0,null,null,null,0,null,null,null,0,null,"NO",{"$f":"IF(ISERROR(VLOOKUP($A170+8860000,'Growth Data'!$A:$F,3,0)),\"NO\",VLOOKUP($A170+8860000,'Growth Data'!$A:$F,3,0))","v":"NO"},0,null,0,{"$f":"IF(BM170=\"YES\",IF(ISERROR(VLOOKUP($A170+8860000,'Growth Data'!$A:$F,6,0)),0,VLOOKUP($A170+8860000,'Growth Data'!$A:$F,6,0)),0)","v":0},0,null,"NO",{"$f":"IF(ISERROR(VLOOKUP($A170+8860000,'Growth Data'!$A:$F,4,0)),\"NO\",VLOOKUP($A170+8860000,'Growth Data'!$A:$F,4,0))","v":"NO"},0,null,0,{"$f":"IF(BU170=\"YES\",IF(ISERROR(VLOOKUP($A170+8860000,'Growth Data'!$A:$Z,7,0)),0,VLOOKUP($A170+8860000,'Growth Data'!$A:$Z,7,0)),0)","v":0},0,null,"NO",{"$f":"IF(ISERROR(VLOOKUP($A170+8860000,'Growth Data'!$A:$F,5,0)),\"NO\",VLOOKUP($A170+8860000,'Growth Data'!$A:$F,5,0))","v":"YES"},1,null,0,{"$f":"IF(CC170=\"YES\",IF(ISERROR(VLOOKUP($A170+8860000,'Growth Data'!$A:$Z,8,0)),0,VLOOKUP($A170+8860000,'Growth Data'!$A:$Z,8,0)),0)","v":0},0,null,null,null,0]
[3069,"Leeds & Broomfield CEP School",null,"Leeds & Broomfield CEP School","Leeds & Broomfield CEP School",0,null,370920.82,370920.8154138379,0,null,0,0,0,null,370920.82,370920.8154138379,0,null,2028.54,2028.5387266,0,null,null,null,0,null,0,0,0,null,112585.35,null,112585,null,0,null,0,null,0,null,0,null,0,null,0,null,null,null,0,null,null,null,0,null,null,null,0,null,null,null,0,null,"YES",{"$f":"IF(ISERROR(VLOOKUP($A171+8860000,'Growth Data'!$A:$F,3,0)),\"NO\",VLOOKUP($A171+8860000,'Growth Data'!$A:$F,3,0))","v":"NO"},1,null,30,{"$f":"IF(BM171=\"YES\",IF(ISERROR(VLOOKUP($A171+8860000,'Growth Data'!$A:$F,6,0)),0,VLOOKUP($A171+8860000,'Growth Data'!$A:$F,6,0)),0)","v":0},30,null,"YES",{"$f":"IF(ISERROR(VLOOKUP($A171+8860000,'Growth Data'!$A:$F,4,0)),\"NO\",VLOOKUP($A171+8860000,'Growth Data'!$A:$F,4,0))","v":"NO"},1,null,30,{"$f":"IF(BU171=\"YES\",IF(ISERROR(VLOOKUP($A171+8860000,'Growth Data'!$A:$Z,7,0)),0,VLOOKUP($A171+8860000,'Growth Data'!$A:$Z,7,0)),0)","v":0},30,null,"YES",{"$f":"IF(ISERROR(VLOOKUP($A171+8860000,'Growth Data'!$A:$F,5,0)),\"NO\",VLOOKUP($A171+8860000,'Growth Data'!$A:$F,5,0))","v":"NO"},1,null,30,{"$f":"IF(CC171=\"YES\",IF(ISERROR(VLOOKUP($A171+8860000,'Growth Data'!$A:$Z,8,0)),0,VLOOKUP($A171+8860000,'Growth Data'!$A:$Z,8,0)),0)","v":0},30,null,null,null,0]
[3072,"St Michael's CEJ School, Maidstone",null,"St Michael's CEJ School, Maidstone","St Michael's CEJ School, Maidstone",0,null,644191.5,644191.49863776751,0,null,0,0,0,null,644191.5,644191.49863776751,0,null,4185.47,4185.4659802000006,0,null,null,null,0,null,0,0,0,null,31915.62,null,31916,null,2808.44,null,2808,null,0,null,0,null,0,null,0,null,null,null,0,null,null,null,0,null,null,null,0,null,null,null,0,null,"NO",{"$f":"IF(ISERROR(VLOOKUP($A172+8860000,'Growth Data'!$A:$F,3,0)),\"NO\",VLOOKUP($A172+8860000,'Growth Data'!$A:$F,3,0))","v":"NO"},0,null,0,{"$f":"IF(BM172=\"YES\",IF(ISERROR(VLOOKUP($A172+8860000,'Growth Data'!$A:$F,6,0)),0,VLOOKUP($A172+8860000,'Growth Data'!$A:$F,6,0)),0)","v":0},0,null,"NO",{"$f":"IF(ISERROR(VLOOKUP($A172+8860000,'Growth Data'!$A:$F,4,0)),\"NO\",VLOOKUP($A172+8860000,'Growth Data'!$A:$F,4,0))","v":"NO"},0,null,0,{"$f":"IF(BU172=\"YES\",IF(ISERROR(VLOOKUP($A172+8860000,'Growth Data'!$A:$Z,7,0)),0,VLOOKUP($A172+8860000,'Growth Data'!$A:$Z,7,0)),0)","v":0},0,null,"NO",{"$f":"IF(ISERROR(VLOOKUP($A172+8860000,'Growth Data'!$A:$F,5,0)),\"NO\",VLOOKUP($A172+8860000,'Growth Data'!$A:$F,5,0))","v":"NO"},0,null,0,{"$f":"IF(CC172=\"YES\",IF(ISERROR(VLOOKUP($A172+8860000,'Growth Data'!$A:$Z,8,0)),0,VLOOKUP($A172+8860000,'Growth Data'!$A:$Z,8,0)),0)","v":0},0,null,null,null,0]
[3073,"St Michael's CEI School, Maidstone",null,"St Michael's CEI School, Maidstone","St Michael's CEI School, Maidstone",0,null,519211.2,519211.19880819443,0,null,0,0,0,null,519211.2,519211.19880819443,0,null,3107,3107.0023534000002,0,null,null,null,0,null,0,0,0,null,21621.7,null,21622,null,3837.83,null,3838,null,0,null,0,null,0,null,0,null,null,null,0,null,null,null,0,null,null,null,0,null,null,null,0,null,"NO",{"$f":"IF(ISERROR(VLOOKUP($A173+8860000,'Growth Data'!$A:$F,3,0)),\"NO\",VLOOKUP($A173+8860000,'Growth Data'!$A:$F,3,0))","v":"NO"},0,null,0,{"$f":"IF(BM173=\"YES\",IF(ISERROR(VLOOKUP($A173+8860000,'Growth Data'!$A:$F,6,0)),0,VLOOKUP($A173+8860000,'Growth Data'!$A:$F,6,0)),0)","v":0},0,null,"NO",{"$f":"IF(ISERROR(VLOOKUP($A173+8860000,'Growth Data'!$A:$F,4,0)),\"NO\",VLOOKUP($A173+8860000,'Growth Data'!$A:$F,4,0))","v":"NO"},0,null,0,{"$f":"IF(BU173=\"YES\",IF(ISERROR(VLOOKUP($A173+8860000,'Growth Data'!$A:$Z,7,0)),0,VLOOKUP($A173+8860000,'Growth Data'!$A:$Z,7,0)),0)","v":0},0,null,"NO",{"$f":"IF(ISERROR(VLOOKUP($A173+8860000,'Growth Data'!$A:$F,5,0)),\"NO\",VLOOKUP($A173+8860000,'Growth Data'!$A:$F,5,0))","v":"NO"},0,null,0,{"$f":"IF(CC173=\"YES\",IF(ISERROR(VLOOKUP($A173+8860000,'Growth Data'!$A:$Z,8,0)),0,VLOOKUP($A173+8860000,'Growth Data'!$A:$Z,8,0)),0)","v":0},0,null,null,null,0]
[3081,"Thurnham CEI School",null,"Thurnham CEI School","Thurnham CEI School",0,null,953590,953590,0,null,0,0,0,null,953590,953590,0,null,7010.01,7010.0135742000002,0,null,null,null,0,null,0,0,0,null,49721.67,null,49722,null,1027.83,null,1028,null,0,null,0,null,0,null,0,null,null,null,0,null,null,null,0,null,null,null,0,null,null,null,0,null,"NO",{"$f":"IF(ISERROR(VLOOKUP($A174+8860000,'Growth Data'!$A:$F,3,0)),\"NO\",VLOOKUP($A174+8860000,'Growth Data'!$A:$F,3,0))","v":"NO"},0,null,0,{"$f":"IF(BM174=\"YES\",IF(ISERROR(VLOOKUP($A174+8860000,'Growth Data'!$A:$F,6,0)),0,VLOOKUP($A174+8860000,'Growth Data'!$A:$F,6,0)),0)","v":0},0,null,"NO",{"$f":"IF(ISERROR(VLOOKUP($A174+8860000,'Growth Data'!$A:$F,4,0)),\"NO\",VLOOKUP($A174+8860000,'Growth Data'!$A:$F,4,0))","v":"NO"},0,null,0,{"$f":"IF(BU174=\"YES\",IF(ISERROR(VLOOKUP($A174+8860000,'Growth Data'!$A:$Z,7,0)),0,VLOOKUP($A174+8860000,'Growth Data'!$A:$Z,7,0)),0)","v":0},0,null,"NO",{"$f":"IF(ISERROR(VLOOKUP($A174+8860000,'Growth Data'!$A:$F,5,0)),\"NO\",VLOOKUP($A174+8860000,'Growth Data'!$A:$F,5,0))","v":"NO"},0,null,0,{"$f":"IF(CC174=\"YES\",IF(ISERROR(VLOOKUP($A174+8860000,'Growth Data'!$A:$Z,8,0)),0,VLOOKUP($A174+8860000,'Growth Data'!$A:$Z,8,0)),0)","v":0},0,null,null,null,0]
[3082,"Trottiscliffe CEP School",null,"Trottiscliffe CEP School","Trottiscliffe CEP School",0,null,322585.31,322585.30653361621,0,null,0,0,0,null,322585.31,322585.30653361621,0,null,1694.73,1694.7285563999997,0,null,null,null,0,null,0,0,0,null,40483.9,null,40484,null,1951.61,null,1952,null,0,null,0,null,0,null,0,null,null,null,0,null,null,null,0,null,null,null,0,null,null,null,0,null,"NO",{"$f":"IF(ISERROR(VLOOKUP($A175+8860000,'Growth Data'!$A:$F,3,0)),\"NO\",VLOOKUP($A175+8860000,'Growth Data'!$A:$F,3,0))","v":"NO"},0,null,0,{"$f":"IF(BM175=\"YES\",IF(ISERROR(VLOOKUP($A175+8860000,'Growth Data'!$A:$F,6,0)),0,VLOOKUP($A175+8860000,'Growth Data'!$A:$F,6,0)),0)","v":0},0,null,"NO",{"$f":"IF(ISERROR(VLOOKUP($A175+8860000,'Growth Data'!$A:$F,4,0)),\"NO\",VLOOKUP($A175+8860000,'Growth Data'!$A:$F,4,0))","v":"NO"},0,null,0,{"$f":"IF(BU175=\"YES\",IF(ISERROR(VLOOKUP($A175+8860000,'Growth Data'!$A:$Z,7,0)),0,VLOOKUP($A175+8860000,'Growth Data'!$A:$Z,7,0)),0)","v":0},0,null,"NO",{"$f":"IF(ISERROR(VLOOKUP($A175+8860000,'Growth Data'!$A:$F,5,0)),\"NO\",VLOOKUP($A175+8860000,'Growth Data'!$A:$F,5,0))","v":"NO"},0,null,0,{"$f":"IF(CC175=\"YES\",IF(ISERROR(VLOOKUP($A175+8860000,'Growth Data'!$A:$Z,8,0)),0,VLOOKUP($A175+8860000,'Growth Data'!$A:$Z,8,0)),0)","v":0},0,null,null,null,0]
[3083,"Ulcombe CEP School",null,"Ulcombe CEP School","Ulcombe CEP School",0,null,354896.68,354896.68255705963,0,null,0,0,0,null,354896.68,354896.68255705963,0,null,1823.12,1823.1170834,0,null,null,null,0,null,0,0,0,null,5580,null,5580,null,5442,null,5442,null,0,null,0,null,0,null,0,null,null,null,0,null,null,null,0,null,null,null,0,null,null,null,0,null,"NO",{"$f":"IF(ISERROR(VLOOKUP($A176+8860000,'Growth Data'!$A:$F,3,0)),\"NO\",VLOOKUP($A176+8860000,'Growth Data'!$A:$F,3,0))","v":"NO"},0,null,0,{"$f":"IF(BM176=\"YES\",IF(ISERROR(VLOOKUP($A176+8860000,'Growth Data'!$A:$F,6,0)),0,VLOOKUP($A176+8860000,'Growth Data'!$A:$F,6,0)),0)","v":0},0,null,"NO",{"$f":"IF(ISERROR(VLOOKUP($A176+8860000,'Growth Data'!$A:$F,4,0)),\"NO\",VLOOKUP($A176+8860000,'Growth Data'!$A:$F,4,0))","v":"NO"},0,null,0,{"$f":"IF(BU176=\"YES\",IF(ISERROR(VLOOKUP($A176+8860000,'Growth Data'!$A:$Z,7,0)),0,VLOOKUP($A176+8860000,'Growth Data'!$A:$Z,7,0)),0)","v":0},0,null,"NO",{"$f":"IF(ISERROR(VLOOKUP($A176+8860000,'Growth Data'!$A:$F,5,0)),\"NO\",VLOOKUP($A176+8860000,'Growth Data'!$A:$F,5,0))","v":"NO"},0,null,0,{"$f":"IF(CC176=\"YES\",IF(ISERROR(VLOOKUP($A176+8860000,'Growth Data'!$A:$Z,8,0)),0,VLOOKUP($A176+8860000,'Growth Data'!$A:$Z,8,0)),0)","v":0},0,null,null,null,0]
[3084,"Wateringbury CEP School",null,"Wateringbury CEP School","Wateringbury CEP School",0,null,720358.87,720358.87071298459,0,null,0,0,0,null,720358.87,720358.87071298459,0,null,5109.8599999999997,5109.8633746000005,0,null,null,null,0,null,0,0,0,null,29098.639999999999,null,29099,null,3090.14,null,3090,null,0,null,0,null,0,null,0,null,null,null,0,null,null,null,0,null,null,null,0,null,null,null,0,null,"NO",{"$f":"IF(ISERROR(VLOOKUP($A177+8860000,'Growth Data'!$A:$F,3,0)),\"NO\",VLOOKUP($A177+8860000,'Growth Data'!$A:$F,3,0))","v":"NO"},0,null,0,{"$f":"IF(BM177=\"YES\",IF(ISERROR(VLOOKUP($A177+8860000,'Growth Data'!$A:$F,6,0)),0,VLOOKUP($A177+8860000,'Growth Data'!$A:$F,6,0)),0)","v":0},0,null,"NO",{"$f":"IF(ISERROR(VLOOKUP($A177+8860000,'Growth Data'!$A:$F,4,0)),\"NO\",VLOOKUP($A177+8860000,'Growth Data'!$A:$F,4,0))","v":"NO"},0,null,0,{"$f":"IF(BU177=\"YES\",IF(ISERROR(VLOOKUP($A177+8860000,'Growth Data'!$A:$Z,7,0)),0,VLOOKUP($A177+8860000,'Growth Data'!$A:$Z,7,0)),0)","v":0},0,null,"NO",{"$f":"IF(ISERROR(VLOOKUP($A177+8860000,'Growth Data'!$A:$F,5,0)),\"NO\",VLOOKUP($A177+8860000,'Growth Data'!$A:$F,5,0))","v":"NO"},0,null,0,{"$f":"IF(CC177=\"YES\",IF(ISERROR(VLOOKUP($A177+8860000,'Growth Data'!$A:$Z,8,0)),0,VLOOKUP($A177+8860000,'Growth Data'!$A:$Z,8,0)),0)","v":0},0,null,null,null,0]
[3088,"Wouldham, All Saint's CEP School",null,"Wouldham, All Saint's CEP School","Wouldham, All Saint's CEP School",0,null,796902.03,796902.03237016243,0,null,0,0,0,null,796902.03,796902.03237016243,0,null,5520.71,5520.7066610000002,0,null,null,null,0,null,0,0,0,null,48793.22,null,48793,null,1120.68,null,1121,null,0,null,0,null,0,null,0,null,null,null,0,null,null,null,0,null,null,null,0,null,null,null,0,null,"NO",{"$f":"IF(ISERROR(VLOOKUP($A178+8860000,'Growth Data'!$A:$F,3,0)),\"NO\",VLOOKUP($A178+8860000,'Growth Data'!$A:$F,3,0))","v":"YES"},1,null,0,{"$f":"IF(BM178=\"YES\",IF(ISERROR(VLOOKUP($A178+8860000,'Growth Data'!$A:$F,6,0)),0,VLOOKUP($A178+8860000,'Growth Data'!$A:$F,6,0)),0)","v":47},-47,null,"NO",{"$f":"IF(ISERROR(VLOOKUP($A178+8860000,'Growth Data'!$A:$F,4,0)),\"NO\",VLOOKUP($A178+8860000,'Growth Data'!$A:$F,4,0))","v":"YES"},1,null,0,{"$f":"IF(BU178=\"YES\",IF(ISERROR(VLOOKUP($A178+8860000,'Growth Data'!$A:$Z,7,0)),0,VLOOKUP($A178+8860000,'Growth Data'!$A:$Z,7,0)),0)","v":60},-60,null,"NO",{"$f":"IF(ISERROR(VLOOKUP($A178+8860000,'Growth Data'!$A:$F,5,0)),\"NO\",VLOOKUP($A178+8860000,'Growth Data'!$A:$F,5,0))","v":"NO"},0,null,0,{"$f":"IF(CC178=\"YES\",IF(ISERROR(VLOOKUP($A178+8860000,'Growth Data'!$A:$Z,8,0)),0,VLOOKUP($A178+8860000,'Growth Data'!$A:$Z,8,0)),0)","v":0},0,null,null,null,0]
[3089,"St George's CEP School",null,"St George's CEP School","St George's CEP School",0,null,804718.68,804718.6820235193,0,null,0,0,0,null,804718.68,804718.6820235193,0,null,5392.32,5392.3181340000001,0,null,null,null,0,null,0,0,0,null,42482.21,null,42482,null,1751.78,null,1752,null,0,null,0,null,0,null,0,null,null,null,0,null,null,null,0,null,null,null,0,null,null,null,0,null,"NO",{"$f":"IF(ISERROR(VLOOKUP($A179+8860000,'Growth Data'!$A:$F,3,0)),\"NO\",VLOOKUP($A179+8860000,'Growth Data'!$A:$F,3,0))","v":"NO"},0,null,0,{"$f":"IF(BM179=\"YES\",IF(ISERROR(VLOOKUP($A179+8860000,'Growth Data'!$A:$F,6,0)),0,VLOOKUP($A179+8860000,'Growth Data'!$A:$F,6,0)),0)","v":0},0,null,"YES",{"$f":"IF(ISERROR(VLOOKUP($A179+8860000,'Growth Data'!$A:$F,4,0)),\"NO\",VLOOKUP($A179+8860000,'Growth Data'!$A:$F,4,0))","v":"NO"},1,null,26,{"$f":"IF(BU179=\"YES\",IF(ISERROR(VLOOKUP($A179+8860000,'Growth Data'!$A:$Z,7,0)),0,VLOOKUP($A179+8860000,'Growth Data'!$A:$Z,7,0)),0)","v":0},26,null,"YES",{"$f":"IF(ISERROR(VLOOKUP($A179+8860000,'Growth Data'!$A:$F,5,0)),\"NO\",VLOOKUP($A179+8860000,'Growth Data'!$A:$F,5,0))","v":"NO"},1,null,25,{"$f":"IF(CC179=\"YES\",IF(ISERROR(VLOOKUP($A179+8860000,'Growth Data'!$A:$Z,8,0)),0,VLOOKUP($A179+8860000,'Growth Data'!$A:$Z,8,0)),0)","v":0},25,null,null,null,0]
[3090,"St Margaret's CEP School, Collier Street",null,"St Margaret's CEP School, Collier Street","St Margaret's CEP School, Collier Street",0,null,508691.99,508691.98623359756,0,null,0,0,0,null,508691.99,508691.98623359756,0,null,3081.32,3081.3246479999998,0,null,null,null,0,null,0,0,0,null,28406.47,null,28406,null,3159.35,null,3159,null,0,null,0,null,0,null,0,null,null,null,0,null,null,null,0,null,null,null,0,null,null,null,0,null,"NO",{"$f":"IF(ISERROR(VLOOKUP($A180+8860000,'Growth Data'!$A:$F,3,0)),\"NO\",VLOOKUP($A180+8860000,'Growth Data'!$A:$F,3,0))","v":"NO"},0,null,0,{"$f":"IF(BM180=\"YES\",IF(ISERROR(VLOOKUP($A180+8860000,'Growth Data'!$A:$F,6,0)),0,VLOOKUP($A180+8860000,'Growth Data'!$A:$F,6,0)),0)","v":0},0,null,"NO",{"$f":"IF(ISERROR(VLOOKUP($A180+8860000,'Growth Data'!$A:$F,4,0)),\"NO\",VLOOKUP($A180+8860000,'Growth Data'!$A:$F,4,0))","v":"NO"},0,null,0,{"$f":"IF(BU180=\"YES\",IF(ISERROR(VLOOKUP($A180+8860000,'Growth Data'!$A:$Z,7,0)),0,VLOOKUP($A180+8860000,'Growth Data'!$A:$Z,7,0)),0)","v":0},0,null,"NO",{"$f":"IF(ISERROR(VLOOKUP($A180+8860000,'Growth Data'!$A:$F,5,0)),\"NO\",VLOOKUP($A180+8860000,'Growth Data'!$A:$F,5,0))","v":"NO"},0,null,0,{"$f":"IF(CC180=\"YES\",IF(ISERROR(VLOOKUP($A180+8860000,'Growth Data'!$A:$Z,8,0)),0,VLOOKUP($A180+8860000,'Growth Data'!$A:$Z,8,0)),0)","v":0},0,null,null,null,0]
[3091,"Laddingford St Mary's CEP School",null,"Laddingford St Mary's CEP School","Laddingford St Mary's CEP School",0,null,372409.56,372409.55781155889,0,null,0,0,0,null,372409.56,372409.55781155889,0,null,2002.86,2002.8610212000001,0,null,null,null,0,null,0,0,0,null,53711.01,null,53711,null,628.9,null,629,null,0,null,0,null,0,null,0,null,null,null,0,null,null,null,0,null,null,null,0,null,null,null,0,null,"NO",{"$f":"IF(ISERROR(VLOOKUP($A181+8860000,'Growth Data'!$A:$F,3,0)),\"NO\",VLOOKUP($A181+8860000,'Growth Data'!$A:$F,3,0))","v":"NO"},0,null,0,{"$f":"IF(BM181=\"YES\",IF(ISERROR(VLOOKUP($A181+8860000,'Growth Data'!$A:$F,6,0)),0,VLOOKUP($A181+8860000,'Growth Data'!$A:$F,6,0)),0)","v":0},0,null,"NO",{"$f":"IF(ISERROR(VLOOKUP($A181+8860000,'Growth Data'!$A:$F,4,0)),\"NO\",VLOOKUP($A181+8860000,'Growth Data'!$A:$F,4,0))","v":"NO"},0,null,0,{"$f":"IF(BU181=\"YES\",IF(ISERROR(VLOOKUP($A181+8860000,'Growth Data'!$A:$Z,7,0)),0,VLOOKUP($A181+8860000,'Growth Data'!$A:$Z,7,0)),0)","v":0},0,null,"NO",{"$f":"IF(ISERROR(VLOOKUP($A181+8860000,'Growth Data'!$A:$F,5,0)),\"NO\",VLOOKUP($A181+8860000,'Growth Data'!$A:$F,5,0))","v":"NO"},0,null,0,{"$f":"IF(CC181=\"YES\",IF(ISERROR(VLOOKUP($A181+8860000,'Growth Data'!$A:$Z,8,0)),0,VLOOKUP($A181+8860000,'Growth Data'!$A:$Z,8,0)),0)","v":0},0,null,null,null,0]
[3092,"Yalding St Peter & St Paul CEP School",null,"Yalding St Peter & St Paul CEP School","Yalding St Peter & St Paul CEP School",0,null,595722.46,595722.45708601631,0,null,0,0,0,null,595722.46,595722.45708601631,0,null,4005.72,4005.7220424000002,0,null,null,null,0,null,0,0,0,null,35978.71,null,35979,null,2402.13,null,2402,null,0,null,0,null,0,null,0,null,null,null,0,null,null,null,0,null,null,null,0,null,null,null,0,null,"NO",{"$f":"IF(ISERROR(VLOOKUP($A182+8860000,'Growth Data'!$A:$F,3,0)),\"NO\",VLOOKUP($A182+8860000,'Growth Data'!$A:$F,3,0))","v":"NO"},0,null,0,{"$f":"IF(BM182=\"YES\",IF(ISERROR(VLOOKUP($A182+8860000,'Growth Data'!$A:$F,6,0)),0,VLOOKUP($A182+8860000,'Growth Data'!$A:$F,6,0)),0)","v":0},0,null,"NO",{"$f":"IF(ISERROR(VLOOKUP($A182+8860000,'Growth Data'!$A:$F,4,0)),\"NO\",VLOOKUP($A182+8860000,'Growth Data'!$A:$F,4,0))","v":"NO"},0,null,0,{"$f":"IF(BU182=\"YES\",IF(ISERROR(VLOOKUP($A182+8860000,'Growth Data'!$A:$Z,7,0)),0,VLOOKUP($A182+8860000,'Growth Data'!$A:$Z,7,0)),0)","v":0},0,null,"NO",{"$f":"IF(ISERROR(VLOOKUP($A182+8860000,'Growth Data'!$A:$F,5,0)),\"NO\",VLOOKUP($A182+8860000,'Growth Data'!$A:$F,5,0))","v":"NO"},0,null,0,{"$f":"IF(CC182=\"YES\",IF(ISERROR(VLOOKUP($A182+8860000,'Growth Data'!$A:$Z,8,0)),0,VLOOKUP($A182+8860000,'Growth Data'!$A:$Z,8,0)),0)","v":0},0,null,null,null,0]
[3106,"Eastchurch CEP School",null,"Eastchurch CEP School","Eastchurch CEP School",0,null,1852620.77,1852620.7665678812,0,null,0,0,0,null,1852620.77,1852620.7665678812,0,null,11991.49,11991.488421800001,0,null,null,null,0,null,4.9000000000000004,4.9000000000000004,0,null,40361.39,null,40361,null,1963.86,null,1964,null,0,null,0,null,0,null,0,null,null,null,0,null,null,null,0,null,null,null,0,null,null,null,0,null,"NO",{"$f":"IF(ISERROR(VLOOKUP($A183+8860000,'Growth Data'!$A:$F,3,0)),\"NO\",VLOOKUP($A183+8860000,'Growth Data'!$A:$F,3,0))","v":"NO"},0,null,0,{"$f":"IF(BM183=\"YES\",IF(ISERROR(VLOOKUP($A183+8860000,'Growth Data'!$A:$F,6,0)),0,VLOOKUP($A183+8860000,'Growth Data'!$A:$F,6,0)),0)","v":0},0,null,"NO",{"$f":"IF(ISERROR(VLOOKUP($A183+8860000,'Growth Data'!$A:$F,4,0)),\"NO\",VLOOKUP($A183+8860000,'Growth Data'!$A:$F,4,0))","v":"NO"},0,null,0,{"$f":"IF(BU183=\"YES\",IF(ISERROR(VLOOKUP($A183+8860000,'Growth Data'!$A:$Z,7,0)),0,VLOOKUP($A183+8860000,'Growth Data'!$A:$Z,7,0)),0)","v":0},0,null,"NO",{"$f":"IF(ISERROR(VLOOKUP($A183+8860000,'Growth Data'!$A:$F,5,0)),\"NO\",VLOOKUP($A183+8860000,'Growth Data'!$A:$F,5,0))","v":"NO"},0,null,0,{"$f":"IF(CC183=\"YES\",IF(ISERROR(VLOOKUP($A183+8860000,'Growth Data'!$A:$Z,8,0)),0,VLOOKUP($A183+8860000,'Growth Data'!$A:$Z,8,0)),0)","v":0},0,null,null,null,0]
[3108,"Ospringe CEP School",null,"Ospringe CEP School","Ospringe CEP School",0,null,943179.99,943179.99381897389,0,null,0,0,0,null,943179.99,943179.99381897389,0,null,6316.72,6316.7155284000009,0,null,null,null,0,null,0,0,0,null,18786.09,null,18786,null,4121.3900000000003,null,4121,null,0,null,0,null,0,null,0,null,null,null,0,null,null,null,0,null,null,null,0,null,null,null,0,null,"NO",{"$f":"IF(ISERROR(VLOOKUP($A184+8860000,'Growth Data'!$A:$F,3,0)),\"NO\",VLOOKUP($A184+8860000,'Growth Data'!$A:$F,3,0))","v":"NO"},0,null,0,{"$f":"IF(BM184=\"YES\",IF(ISERROR(VLOOKUP($A184+8860000,'Growth Data'!$A:$F,6,0)),0,VLOOKUP($A184+8860000,'Growth Data'!$A:$F,6,0)),0)","v":0},0,null,"NO",{"$f":"IF(ISERROR(VLOOKUP($A184+8860000,'Growth Data'!$A:$F,4,0)),\"NO\",VLOOKUP($A184+8860000,'Growth Data'!$A:$F,4,0))","v":"NO"},0,null,0,{"$f":"IF(BU184=\"YES\",IF(ISERROR(VLOOKUP($A184+8860000,'Growth Data'!$A:$Z,7,0)),0,VLOOKUP($A184+8860000,'Growth Data'!$A:$Z,7,0)),0)","v":0},0,null,"NO",{"$f":"IF(ISERROR(VLOOKUP($A184+8860000,'Growth Data'!$A:$F,5,0)),\"NO\",VLOOKUP($A184+8860000,'Growth Data'!$A:$F,5,0))","v":"NO"},0,null,0,{"$f":"IF(CC184=\"YES\",IF(ISERROR(VLOOKUP($A184+8860000,'Growth Data'!$A:$Z,8,0)),0,VLOOKUP($A184+8860000,'Growth Data'!$A:$Z,8,0)),0)","v":0},0,null,null,null,0]
[3109,"Hernhill CEP School",null,"Hernhill CEP School","Hernhill CEP School",0,null,762123.23,762123.22862540476,0,null,0,0,0,null,762123.23,762123.22862540476,0,null,5263.93,5263.9296069999991,0,null,null,null,0,null,0,0,0,null,30068.83,null,30069,null,2993.12,null,2993,null,0,null,0,null,0,null,0,null,null,null,0,null,null,null,0,null,null,null,0,null,null,null,0,null,"NO",{"$f":"IF(ISERROR(VLOOKUP($A185+8860000,'Growth Data'!$A:$F,3,0)),\"NO\",VLOOKUP($A185+8860000,'Growth Data'!$A:$F,3,0))","v":"NO"},0,null,0,{"$f":"IF(BM185=\"YES\",IF(ISERROR(VLOOKUP($A185+8860000,'Growth Data'!$A:$F,6,0)),0,VLOOKUP($A185+8860000,'Growth Data'!$A:$F,6,0)),0)","v":0},0,null,"NO",{"$f":"IF(ISERROR(VLOOKUP($A185+8860000,'Growth Data'!$A:$F,4,0)),\"NO\",VLOOKUP($A185+8860000,'Growth Data'!$A:$F,4,0))","v":"NO"},0,null,0,{"$f":"IF(BU185=\"YES\",IF(ISERROR(VLOOKUP($A185+8860000,'Growth Data'!$A:$Z,7,0)),0,VLOOKUP($A185+8860000,'Growth Data'!$A:$Z,7,0)),0)","v":0},0,null,"NO",{"$f":"IF(ISERROR(VLOOKUP($A185+8860000,'Growth Data'!$A:$F,5,0)),\"NO\",VLOOKUP($A185+8860000,'Growth Data'!$A:$F,5,0))","v":"NO"},0,null,0,{"$f":"IF(CC185=\"YES\",IF(ISERROR(VLOOKUP($A185+8860000,'Growth Data'!$A:$Z,8,0)),0,VLOOKUP($A185+8860000,'Growth Data'!$A:$Z,8,0)),0)","v":0},0,null,null,null,0]
[3111,"Newington CEP School",null,"Newington CEP School","Newington CEP School",0,null,701627.68,701627.67902485142,0,null,0,0,0,null,701627.68,701627.67902485142,0,null,4390.8900000000003,4390.8876233999999,0,null,null,null,0,null,0,0,0,null,41775.39,null,41775,null,1822.46,null,1822,null,0,null,0,null,0,null,0,null,null,null,0,null,null,null,0,null,null,null,0,null,null,null,0,null,"NO",{"$f":"IF(ISERROR(VLOOKUP($A186+8860000,'Growth Data'!$A:$F,3,0)),\"NO\",VLOOKUP($A186+8860000,'Growth Data'!$A:$F,3,0))","v":"NO"},0,null,0,{"$f":"IF(BM186=\"YES\",IF(ISERROR(VLOOKUP($A186+8860000,'Growth Data'!$A:$F,6,0)),0,VLOOKUP($A186+8860000,'Growth Data'!$A:$F,6,0)),0)","v":0},0,null,"NO",{"$f":"IF(ISERROR(VLOOKUP($A186+8860000,'Growth Data'!$A:$F,4,0)),\"NO\",VLOOKUP($A186+8860000,'Growth Data'!$A:$F,4,0))","v":"NO"},0,null,0,{"$f":"IF(BU186=\"YES\",IF(ISERROR(VLOOKUP($A186+8860000,'Growth Data'!$A:$Z,7,0)),0,VLOOKUP($A186+8860000,'Growth Data'!$A:$Z,7,0)),0)","v":0},0,null,"NO",{"$f":"IF(ISERROR(VLOOKUP($A186+8860000,'Growth Data'!$A:$F,5,0)),\"NO\",VLOOKUP($A186+8860000,'Growth Data'!$A:$F,5,0))","v":"NO"},0,null,0,{"$f":"IF(CC186=\"YES\",IF(ISERROR(VLOOKUP($A186+8860000,'Growth Data'!$A:$Z,8,0)),0,VLOOKUP($A186+8860000,'Growth Data'!$A:$Z,8,0)),0)","v":0},0,null,null,null,0]
[3117,"Teynham Parochial CEP School",null,"Teynham Parochial CEP School","Teynham Parochial CEP School",0,null,800947.16,800947.16189293377,0,null,0,0,0,null,800947.16,800947.16189293377,0,null,5186.8999999999996,5186.8964907999998,0,null,null,null,0,null,0,0,0,null,63768.99,null,63769,null,0,null,0,null,0,null,0,null,0,null,0,null,null,null,0,null,null,null,0,null,null,null,0,null,null,null,0,null,"NO",{"$f":"IF(ISERROR(VLOOKUP($A187+8860000,'Growth Data'!$A:$F,3,0)),\"NO\",VLOOKUP($A187+8860000,'Growth Data'!$A:$F,3,0))","v":"NO"},0,null,0,{"$f":"IF(BM187=\"YES\",IF(ISERROR(VLOOKUP($A187+8860000,'Growth Data'!$A:$F,6,0)),0,VLOOKUP($A187+8860000,'Growth Data'!$A:$F,6,0)),0)","v":0},0,null,"NO",{"$f":"IF(ISERROR(VLOOKUP($A187+8860000,'Growth Data'!$A:$F,4,0)),\"NO\",VLOOKUP($A187+8860000,'Growth Data'!$A:$F,4,0))","v":"NO"},0,null,0,{"$f":"IF(BU187=\"YES\",IF(ISERROR(VLOOKUP($A187+8860000,'Growth Data'!$A:$Z,7,0)),0,VLOOKUP($A187+8860000,'Growth Data'!$A:$Z,7,0)),0)","v":0},0,null,"NO",{"$f":"IF(ISERROR(VLOOKUP($A187+8860000,'Growth Data'!$A:$F,5,0)),\"NO\",VLOOKUP($A187+8860000,'Growth Data'!$A:$F,5,0))","v":"NO"},0,null,0,{"$f":"IF(CC187=\"YES\",IF(ISERROR(VLOOKUP($A187+8860000,'Growth Data'!$A:$Z,8,0)),0,VLOOKUP($A187+8860000,'Growth Data'!$A:$Z,8,0)),0)","v":0},0,null,null,null,0]
[3120,"Barham CEP School",null,"Barham CEP School","Barham CEP School",0,null,740319.47,740319.46659774263,0,null,0,0,0,null,740319.47,740319.46659774263,0,null,5186.8999999999996,5186.8964907999998,0,null,null,null,0,null,0,0,0,null,80483.92,null,80484,null,0,null,0,null,0,null,0,null,0,null,0,null,null,null,0,null,null,null,0,null,null,null,0,null,null,null,0,null,"NO",{"$f":"IF(ISERROR(VLOOKUP($A188+8860000,'Growth Data'!$A:$F,3,0)),\"NO\",VLOOKUP($A188+8860000,'Growth Data'!$A:$F,3,0))","v":"NO"},0,null,0,{"$f":"IF(BM188=\"YES\",IF(ISERROR(VLOOKUP($A188+8860000,'Growth Data'!$A:$F,6,0)),0,VLOOKUP($A188+8860000,'Growth Data'!$A:$F,6,0)),0)","v":0},0,null,"NO",{"$f":"IF(ISERROR(VLOOKUP($A188+8860000,'Growth Data'!$A:$F,4,0)),\"NO\",VLOOKUP($A188+8860000,'Growth Data'!$A:$F,4,0))","v":"NO"},0,null,0,{"$f":"IF(BU188=\"YES\",IF(ISERROR(VLOOKUP($A188+8860000,'Growth Data'!$A:$Z,7,0)),0,VLOOKUP($A188+8860000,'Growth Data'!$A:$Z,7,0)),0)","v":0},0,null,"NO",{"$f":"IF(ISERROR(VLOOKUP($A188+8860000,'Growth Data'!$A:$F,5,0)),\"NO\",VLOOKUP($A188+8860000,'Growth Data'!$A:$F,5,0))","v":"NO"},0,null,0,{"$f":"IF(CC188=\"YES\",IF(ISERROR(VLOOKUP($A188+8860000,'Growth Data'!$A:$Z,8,0)),0,VLOOKUP($A188+8860000,'Growth Data'!$A:$Z,8,0)),0)","v":0},0,null,null,null,0]
[3122,"Bridge & Patrixbourne CEP School",null,"Bridge & Patrixbourne CEP School","Bridge & Patrixbourne CEP School",0,null,1437971,1437971,0,null,0,0,0,null,1437971,1437971,0,null,10604.89,10604.892330199998,0,null,null,null,0,null,0,0,0,null,41378.559999999998,null,41379,null,1862.14,null,1862,null,0,null,0,null,0,null,0,null,null,null,0,null,null,null,0,null,null,null,0,null,null,null,0,null,"NO",{"$f":"IF(ISERROR(VLOOKUP($A189+8860000,'Growth Data'!$A:$F,3,0)),\"NO\",VLOOKUP($A189+8860000,'Growth Data'!$A:$F,3,0))","v":"NO"},0,null,0,{"$f":"IF(BM189=\"YES\",IF(ISERROR(VLOOKUP($A189+8860000,'Growth Data'!$A:$F,6,0)),0,VLOOKUP($A189+8860000,'Growth Data'!$A:$F,6,0)),0)","v":0},0,null,"NO",{"$f":"IF(ISERROR(VLOOKUP($A189+8860000,'Growth Data'!$A:$F,4,0)),\"NO\",VLOOKUP($A189+8860000,'Growth Data'!$A:$F,4,0))","v":"NO"},0,null,0,{"$f":"IF(BU189=\"YES\",IF(ISERROR(VLOOKUP($A189+8860000,'Growth Data'!$A:$Z,7,0)),0,VLOOKUP($A189+8860000,'Growth Data'!$A:$Z,7,0)),0)","v":0},0,null,"NO",{"$f":"IF(ISERROR(VLOOKUP($A189+8860000,'Growth Data'!$A:$F,5,0)),\"NO\",VLOOKUP($A189+8860000,'Growth Data'!$A:$F,5,0))","v":"NO"},0,null,0,{"$f":"IF(CC189=\"YES\",IF(ISERROR(VLOOKUP($A189+8860000,'Growth Data'!$A:$Z,8,0)),0,VLOOKUP($A189+8860000,'Growth Data'!$A:$Z,8,0)),0)","v":0},0,null,null,null,0]
[3123,"Chislet CEP School",null,"Chislet CEP School","Chislet CEP School",0,null,412508.67,412508.66967558267,0,null,0,0,0,null,412508.67,412508.66967558267,0,null,2439.38,2439.3820129999999,0,null,null,null,0,null,0,0,0,null,27116.3,null,27116,null,3288.37,null,3288,null,0,null,0,null,0,null,0,null,null,null,0,null,null,null,0,null,null,null,0,null,null,null,0,null,"NO",{"$f":"IF(ISERROR(VLOOKUP($A190+8860000,'Growth Data'!$A:$F,3,0)),\"NO\",VLOOKUP($A190+8860000,'Growth Data'!$A:$F,3,0))","v":"NO"},0,null,0,{"$f":"IF(BM190=\"YES\",IF(ISERROR(VLOOKUP($A190+8860000,'Growth Data'!$A:$F,6,0)),0,VLOOKUP($A190+8860000,'Growth Data'!$A:$F,6,0)),0)","v":0},0,null,"NO",{"$f":"IF(ISERROR(VLOOKUP($A190+8860000,'Growth Data'!$A:$F,4,0)),\"NO\",VLOOKUP($A190+8860000,'Growth Data'!$A:$F,4,0))","v":"NO"},0,null,0,{"$f":"IF(BU190=\"YES\",IF(ISERROR(VLOOKUP($A190+8860000,'Growth Data'!$A:$Z,7,0)),0,VLOOKUP($A190+8860000,'Growth Data'!$A:$Z,7,0)),0)","v":0},0,null,"NO",{"$f":"IF(ISERROR(VLOOKUP($A190+8860000,'Growth Data'!$A:$F,5,0)),\"NO\",VLOOKUP($A190+8860000,'Growth Data'!$A:$F,5,0))","v":"NO"},0,null,0,{"$f":"IF(CC190=\"YES\",IF(ISERROR(VLOOKUP($A190+8860000,'Growth Data'!$A:$Z,8,0)),0,VLOOKUP($A190+8860000,'Growth Data'!$A:$Z,8,0)),0)","v":0},0,null,null,null,0]
[3126,"Littlebourne CEP School",null,"Littlebourne CEP School","Littlebourne CEP School",0,null,415569.3,415569.29761906288,0,null,0,0,0,null,415569.3,415569.29761906288,0,null,2259.64,2259.6380752000005,0,null,null,null,0,null,0,0,0,null,32442.16,null,32442,null,2755.78,null,2756,null,0,null,0,null,0,null,0,null,null,null,0,null,null,null,0,null,null,null,0,null,null,null,0,null,"NO",{"$f":"IF(ISERROR(VLOOKUP($A191+8860000,'Growth Data'!$A:$F,3,0)),\"NO\",VLOOKUP($A191+8860000,'Growth Data'!$A:$F,3,0))","v":"NO"},0,null,0,{"$f":"IF(BM191=\"YES\",IF(ISERROR(VLOOKUP($A191+8860000,'Growth Data'!$A:$F,6,0)),0,VLOOKUP($A191+8860000,'Growth Data'!$A:$F,6,0)),0)","v":0},0,null,"NO",{"$f":"IF(ISERROR(VLOOKUP($A191+8860000,'Growth Data'!$A:$F,4,0)),\"NO\",VLOOKUP($A191+8860000,'Growth Data'!$A:$F,4,0))","v":"NO"},0,null,0,{"$f":"IF(BU191=\"YES\",IF(ISERROR(VLOOKUP($A191+8860000,'Growth Data'!$A:$Z,7,0)),0,VLOOKUP($A191+8860000,'Growth Data'!$A:$Z,7,0)),0)","v":0},0,null,"NO",{"$f":"IF(ISERROR(VLOOKUP($A191+8860000,'Growth Data'!$A:$F,5,0)),\"NO\",VLOOKUP($A191+8860000,'Growth Data'!$A:$F,5,0))","v":"NO"},0,null,0,{"$f":"IF(CC191=\"YES\",IF(ISERROR(VLOOKUP($A191+8860000,'Growth Data'!$A:$Z,8,0)),0,VLOOKUP($A191+8860000,'Growth Data'!$A:$Z,8,0)),0)","v":0},0,null,null,null,0]
[3129,"St Alphege CEI School",null,"St Alphege CEI School","St Alphege CEI School",0,null,666619.56000000006,666619.56408065581,0,null,0,0,0,null,666619.56000000006,666619.56408065581,0,null,4211.1400000000003,4211.1436856000009,0,null,null,null,0,null,4.9000000000000004,4.9000000000000004,0,null,292682,null,292682,null,0,null,0,null,0,null,0,null,0,null,0,null,null,null,0,null,null,null,0,null,null,null,0,null,null,null,0,null,"NO",{"$f":"IF(ISERROR(VLOOKUP($A192+8860000,'Growth Data'!$A:$F,3,0)),\"NO\",VLOOKUP($A192+8860000,'Growth Data'!$A:$F,3,0))","v":"NO"},0,null,0,{"$f":"IF(BM192=\"YES\",IF(ISERROR(VLOOKUP($A192+8860000,'Growth Data'!$A:$F,6,0)),0,VLOOKUP($A192+8860000,'Growth Data'!$A:$F,6,0)),0)","v":0},0,null,"NO",{"$f":"IF(ISERROR(VLOOKUP($A192+8860000,'Growth Data'!$A:$F,4,0)),\"NO\",VLOOKUP($A192+8860000,'Growth Data'!$A:$F,4,0))","v":"NO"},0,null,0,{"$f":"IF(BU192=\"YES\",IF(ISERROR(VLOOKUP($A192+8860000,'Growth Data'!$A:$Z,7,0)),0,VLOOKUP($A192+8860000,'Growth Data'!$A:$Z,7,0)),0)","v":0},0,null,"NO",{"$f":"IF(ISERROR(VLOOKUP($A192+8860000,'Growth Data'!$A:$F,5,0)),\"NO\",VLOOKUP($A192+8860000,'Growth Data'!$A:$F,5,0))","v":"NO"},0,null,0,{"$f":"IF(CC192=\"YES\",IF(ISERROR(VLOOKUP($A192+8860000,'Growth Data'!$A:$Z,8,0)),0,VLOOKUP($A192+8860000,'Growth Data'!$A:$Z,8,0)),0)","v":0},0,null,null,null,0]
[3130,"Wickhambreaux CEP School",null,"Wickhambreaux CEP School","Wickhambreaux CEP School",0,null,493038.44,493038.4350651186,0,null,6452.65,6452.6455293217441,0,null,499491.08,499491.08059444034,0,null,3209.71,3209.7131750000003,0,null,null,null,0,null,0,0,0,null,102719.75,null,102720,null,0,null,0,null,0,null,0,null,0,null,0,null,null,null,0,null,null,null,0,null,null,null,0,null,null,null,0,null,"NO",{"$f":"IF(ISERROR(VLOOKUP($A193+8860000,'Growth Data'!$A:$F,3,0)),\"NO\",VLOOKUP($A193+8860000,'Growth Data'!$A:$F,3,0))","v":"NO"},0,null,0,{"$f":"IF(BM193=\"YES\",IF(ISERROR(VLOOKUP($A193+8860000,'Growth Data'!$A:$F,6,0)),0,VLOOKUP($A193+8860000,'Growth Data'!$A:$F,6,0)),0)","v":0},0,null,"NO",{"$f":"IF(ISERROR(VLOOKUP($A193+8860000,'Growth Data'!$A:$F,4,0)),\"NO\",VLOOKUP($A193+8860000,'Growth Data'!$A:$F,4,0))","v":"NO"},0,null,0,{"$f":"IF(BU193=\"YES\",IF(ISERROR(VLOOKUP($A193+8860000,'Growth Data'!$A:$Z,7,0)),0,VLOOKUP($A193+8860000,'Growth Data'!$A:$Z,7,0)),0)","v":0},0,null,"NO",{"$f":"IF(ISERROR(VLOOKUP($A193+8860000,'Growth Data'!$A:$F,5,0)),\"NO\",VLOOKUP($A193+8860000,'Growth Data'!$A:$F,5,0))","v":"NO"},0,null,0,{"$f":"IF(CC193=\"YES\",IF(ISERROR(VLOOKUP($A193+8860000,'Growth Data'!$A:$Z,8,0)),0,VLOOKUP($A193+8860000,'Growth Data'!$A:$Z,8,0)),0)","v":0},0,null,null,null,0]
[3134,"John Mayne CEP School",null,"John Mayne CEP School","John Mayne CEP School",0,null,493211.22,493211.2241907554,0,null,0,0,0,null,493211.22,493211.2241907554,0,null,2978.61,2978.6138264000001,0,null,null,null,0,null,0,0,0,null,45735.39,null,45735,null,1426.46,null,1426,null,0,null,0,null,0,null,0,null,null,null,0,null,null,null,0,null,null,null,0,null,null,null,0,null,"NO",{"$f":"IF(ISERROR(VLOOKUP($A194+8860000,'Growth Data'!$A:$F,3,0)),\"NO\",VLOOKUP($A194+8860000,'Growth Data'!$A:$F,3,0))","v":"NO"},0,null,0,{"$f":"IF(BM194=\"YES\",IF(ISERROR(VLOOKUP($A194+8860000,'Growth Data'!$A:$F,6,0)),0,VLOOKUP($A194+8860000,'Growth Data'!$A:$F,6,0)),0)","v":0},0,null,"NO",{"$f":"IF(ISERROR(VLOOKUP($A194+8860000,'Growth Data'!$A:$F,4,0)),\"NO\",VLOOKUP($A194+8860000,'Growth Data'!$A:$F,4,0))","v":"NO"},0,null,0,{"$f":"IF(BU194=\"YES\",IF(ISERROR(VLOOKUP($A194+8860000,'Growth Data'!$A:$Z,7,0)),0,VLOOKUP($A194+8860000,'Growth Data'!$A:$Z,7,0)),0)","v":0},0,null,"NO",{"$f":"IF(ISERROR(VLOOKUP($A194+8860000,'Growth Data'!$A:$F,5,0)),\"NO\",VLOOKUP($A194+8860000,'Growth Data'!$A:$F,5,0))","v":"NO"},0,null,0,{"$f":"IF(CC194=\"YES\",IF(ISERROR(VLOOKUP($A194+8860000,'Growth Data'!$A:$Z,8,0)),0,VLOOKUP($A194+8860000,'Growth Data'!$A:$Z,8,0)),0)","v":0},0,null,null,null,0]
[3136,"Brabourne CEP School",null,"Brabourne CEP School","Brabourne CEP School",{"$f":"IF(E195=D195,0,1)","v":0},null,412402.82,412402.82117432146,{"$f":"ROUND(H195-I195,0)","v":0},null,0,0,{"$f":"ROUND(L195-M195,0)","v":0},null,412402.82,412402.82117432146,{"$f":"ROUND(P195-Q195,0)","v":0},null,2465.06,2465.0597184000003,{"$f":"ROUND(T195-U195,0)","v":0},null,null,null,{"$f":"ROUND(X195-Y195,0)","v":0},null,0,0,{"$f":"ROUND(AB195-AC195,0)","v":0},null,59472.34,null,{"$f":"ROUND(AF195-AG195,0)","v":59472},null,52.77,null,{"$f":"ROUND(AJ195-AK195,0)","v":53},null,0,null,{"$f":"ROUND(AN195-AO195,0)","v":0},null,0,null,{"$f":"ROUND(AR195-AS195,0)","v":0},null,null,null,{"$f":"ROUND(AV195-AW195,0)","v":0},null,null,null,{"$f":"ROUND(AZ195-BA195,0)","v":0},null,null,null,{"$f":"ROUND(BD195-BE195,0)","v":0},null,null,null,{"$f":"ROUND(BH195-BI195,0)","v":0},null,"NO",{"$f":"IF(ISERROR(VLOOKUP($A195+8860000,'Growth Data'!$A:$F,3,0)),\"NO\",VLOOKUP($A195+8860000,'Growth Data'!$A:$F,3,0))","v":"NO"},{"$f":"IF(BL195=BM195,0,1)","v":0},null,0,{"$f":"IF(BM195=\"YES\",IF(ISERROR(VLOOKUP($A195+8860000,'Growth Data'!$A:$F,6,0)),0,VLOOKUP($A195+8860000,'Growth Data'!$A:$F,6,0)),0)","v":0},{"$f":"ROUND(BP195-BQ195,0)","v":0},null,"NO",{"$f":"IF(ISERROR(VLOOKUP($A195+8860000,'Growth Data'!$A:$F,4,0)),\"NO\",VLOOKUP($A195+8860000,'Growth Data'!$A:$F,4,0))","v":"NO"},{"$f":"IF(BT195=BU195,0,1)","v":0},null,0,{"$f":"IF(BU195=\"YES\",IF(ISERROR(VLOOKUP($A195+8860000,'Growth Data'!$A:$Z,7,0)),0,VLOOKUP($A195+8860000,'Growth Data'!$A:$Z,7,0)),0)","v":0},{"$f":"ROUND(BX195-BY195,0)","v":0},null,"NO",{"$f":"IF(ISERROR(VLOOKUP($A195+8860000,'Growth Data'!$A:$F,5,0)),\"NO\",VLOOKUP($A195+8860000,'Growth Data'!$A:$F,5,0))","v":"NO"},{"$f":"IF(CB195=CC195,0,1)","v":0},null,0,{"$f":"IF(CC195=\"YES\",IF(ISERROR(VLOOKUP($A195+8860000,'Growth Data'!$A:$Z,8,0)),0,VLOOKUP($A195+8860000,'Growth Data'!$A:$Z,8,0)),0)","v":0},{"$f":"ROUND(CF195-CG195,0)","v":0},null,null,null,{"$f":"ROUND(CJ195-CK195,0)","v":0}]
[3137,"Brookland CEP School",null,"Brookland CEP School","Brookland CEP School",0,null,450706.84,450706.84091767634,0,null,0,0,0,null,450706.84,450706.84091767634,0,null,2619.13,2619.1259507999998,0,null,null,null,0,null,0,0,0,null,90042.14,null,90042,null,0,null,0,null,0,null,0,null,0,null,0,null,null,null,0,null,null,null,0,null,null,null,0,null,null,null,0,null,"NO",{"$f":"IF(ISERROR(VLOOKUP($A196+8860000,'Growth Data'!$A:$F,3,0)),\"NO\",VLOOKUP($A196+8860000,'Growth Data'!$A:$F,3,0))","v":"NO"},0,null,0,{"$f":"IF(BM196=\"YES\",IF(ISERROR(VLOOKUP($A196+8860000,'Growth Data'!$A:$F,6,0)),0,VLOOKUP($A196+8860000,'Growth Data'!$A:$F,6,0)),0)","v":0},0,null,"NO",{"$f":"IF(ISERROR(VLOOKUP($A196+8860000,'Growth Data'!$A:$F,4,0)),\"NO\",VLOOKUP($A196+8860000,'Growth Data'!$A:$F,4,0))","v":"NO"},0,null,0,{"$f":"IF(BU196=\"YES\",IF(ISERROR(VLOOKUP($A196+8860000,'Growth Data'!$A:$Z,7,0)),0,VLOOKUP($A196+8860000,'Growth Data'!$A:$Z,7,0)),0)","v":0},0,null,"NO",{"$f":"IF(ISERROR(VLOOKUP($A196+8860000,'Growth Data'!$A:$F,5,0)),\"NO\",VLOOKUP($A196+8860000,'Growth Data'!$A:$F,5,0))","v":"NO"},0,null,0,{"$f":"IF(CC196=\"YES\",IF(ISERROR(VLOOKUP($A196+8860000,'Growth Data'!$A:$Z,8,0)),0,VLOOKUP($A196+8860000,'Growth Data'!$A:$Z,8,0)),0)","v":0},0,null,null,null,0]
[3138,"Chilham St Mary's CEP School",null,"Chilham St Mary's CEP School","Chilham St Mary's CEP School",0,null,423364.33,423364.33423268457,0,null,0,0,0,null,423364.33,423364.33423268457,0,null,2336.67,2336.6711914000002,0,null,null,null,0,null,0,0,0,null,36573.480000000003,null,36573,null,2342.65,null,2343,null,0,null,0,null,0,null,0,null,null,null,0,null,null,null,0,null,null,null,0,null,null,null,0,null,"NO",{"$f":"IF(ISERROR(VLOOKUP($A197+8860000,'Growth Data'!$A:$F,3,0)),\"NO\",VLOOKUP($A197+8860000,'Growth Data'!$A:$F,3,0))","v":"NO"},0,null,0,{"$f":"IF(BM197=\"YES\",IF(ISERROR(VLOOKUP($A197+8860000,'Growth Data'!$A:$F,6,0)),0,VLOOKUP($A197+8860000,'Growth Data'!$A:$F,6,0)),0)","v":0},0,null,"NO",{"$f":"IF(ISERROR(VLOOKUP($A197+8860000,'Growth Data'!$A:$F,4,0)),\"NO\",VLOOKUP($A197+8860000,'Growth Data'!$A:$F,4,0))","v":"NO"},0,null,0,{"$f":"IF(BU197=\"YES\",IF(ISERROR(VLOOKUP($A197+8860000,'Growth Data'!$A:$Z,7,0)),0,VLOOKUP($A197+8860000,'Growth Data'!$A:$Z,7,0)),0)","v":0},0,null,"NO",{"$f":"IF(ISERROR(VLOOKUP($A197+8860000,'Growth Data'!$A:$F,5,0)),\"NO\",VLOOKUP($A197+8860000,'Growth Data'!$A:$F,5,0))","v":"NO"},0,null,0,{"$f":"IF(CC197=\"YES\",IF(ISERROR(VLOOKUP($A197+8860000,'Growth Data'!$A:$Z,8,0)),0,VLOOKUP($A197+8860000,'Growth Data'!$A:$Z,8,0)),0)","v":0},0,null,null,null,0]
[3139,"High Halden CEP School",null,"High Halden CEP School","High Halden CEP School",0,null,413877.87,413877.86872208177,0,null,0,0,0,null,413877.87,413877.86872208177,0,null,2362.35,2362.3488968000001,0,null,null,null,0,null,0,0,0,null,57767.24,null,57767,null,223.28,null,223,null,0,null,0,null,0,null,0,null,null,null,0,null,null,null,0,null,null,null,0,null,null,null,0,null,"NO",{"$f":"IF(ISERROR(VLOOKUP($A198+8860000,'Growth Data'!$A:$F,3,0)),\"NO\",VLOOKUP($A198+8860000,'Growth Data'!$A:$F,3,0))","v":"NO"},0,null,0,{"$f":"IF(BM198=\"YES\",IF(ISERROR(VLOOKUP($A198+8860000,'Growth Data'!$A:$F,6,0)),0,VLOOKUP($A198+8860000,'Growth Data'!$A:$F,6,0)),0)","v":0},0,null,"NO",{"$f":"IF(ISERROR(VLOOKUP($A198+8860000,'Growth Data'!$A:$F,4,0)),\"NO\",VLOOKUP($A198+8860000,'Growth Data'!$A:$F,4,0))","v":"NO"},0,null,0,{"$f":"IF(BU198=\"YES\",IF(ISERROR(VLOOKUP($A198+8860000,'Growth Data'!$A:$Z,7,0)),0,VLOOKUP($A198+8860000,'Growth Data'!$A:$Z,7,0)),0)","v":0},0,null,"NO",{"$f":"IF(ISERROR(VLOOKUP($A198+8860000,'Growth Data'!$A:$F,5,0)),\"NO\",VLOOKUP($A198+8860000,'Growth Data'!$A:$F,5,0))","v":"NO"},0,null,0,{"$f":"IF(CC198=\"YES\",IF(ISERROR(VLOOKUP($A198+8860000,'Growth Data'!$A:$Z,8,0)),0,VLOOKUP($A198+8860000,'Growth Data'!$A:$Z,8,0)),0)","v":0},0,null,null,null,0]
[3145,"Woodchurch CEP School",null,"Woodchurch CEP School","Woodchurch CEP School",0,null,629651.89,629651.8917879482,0,null,0,0,0,null,629651.89,629651.8917879482,0,null,4185.47,4185.4659802000006,0,null,null,null,0,null,0,0,0,null,28865.87,null,28866,null,3113.41,null,3113,null,0,null,0,null,0,null,0,null,null,null,0,null,null,null,0,null,null,null,0,null,null,null,0,null,"NO",{"$f":"IF(ISERROR(VLOOKUP($A199+8860000,'Growth Data'!$A:$F,3,0)),\"NO\",VLOOKUP($A199+8860000,'Growth Data'!$A:$F,3,0))","v":"YES"},1,null,0,{"$f":"IF(BM199=\"YES\",IF(ISERROR(VLOOKUP($A199+8860000,'Growth Data'!$A:$F,6,0)),0,VLOOKUP($A199+8860000,'Growth Data'!$A:$F,6,0)),0)","v":25},-25,null,"NO",{"$f":"IF(ISERROR(VLOOKUP($A199+8860000,'Growth Data'!$A:$F,4,0)),\"NO\",VLOOKUP($A199+8860000,'Growth Data'!$A:$F,4,0))","v":"NO"},0,null,0,{"$f":"IF(BU199=\"YES\",IF(ISERROR(VLOOKUP($A199+8860000,'Growth Data'!$A:$Z,7,0)),0,VLOOKUP($A199+8860000,'Growth Data'!$A:$Z,7,0)),0)","v":0},0,null,"NO",{"$f":"IF(ISERROR(VLOOKUP($A199+8860000,'Growth Data'!$A:$F,5,0)),\"NO\",VLOOKUP($A199+8860000,'Growth Data'!$A:$F,5,0))","v":"NO"},0,null,0,{"$f":"IF(CC199=\"YES\",IF(ISERROR(VLOOKUP($A199+8860000,'Growth Data'!$A:$Z,8,0)),0,VLOOKUP($A199+8860000,'Growth Data'!$A:$Z,8,0)),0)","v":0},0,null,null,null,0]
[3146,"Bodsham CEP School",null,"Bodsham CEP School","Bodsham CEP School",0,null,411609.71,411609.70978936384,0,null,0,0,0,null,411609.71,411609.70978936384,0,null,2388.0300000000002,2388.0266022000001,0,null,null,null,0,null,0,0,0,null,33500.629999999997,null,33501,null,2649.94,null,2650,null,0,null,0,null,0,null,0,null,null,null,0,null,null,null,0,null,null,null,0,null,null,null,0,null,"NO",{"$f":"IF(ISERROR(VLOOKUP($A200+8860000,'Growth Data'!$A:$F,3,0)),\"NO\",VLOOKUP($A200+8860000,'Growth Data'!$A:$F,3,0))","v":"NO"},0,null,0,{"$f":"IF(BM200=\"YES\",IF(ISERROR(VLOOKUP($A200+8860000,'Growth Data'!$A:$F,6,0)),0,VLOOKUP($A200+8860000,'Growth Data'!$A:$F,6,0)),0)","v":0},0,null,"NO",{"$f":"IF(ISERROR(VLOOKUP($A200+8860000,'Growth Data'!$A:$F,4,0)),\"NO\",VLOOKUP($A200+8860000,'Growth Data'!$A:$F,4,0))","v":"NO"},0,null,0,{"$f":"IF(BU200=\"YES\",IF(ISERROR(VLOOKUP($A200+8860000,'Growth Data'!$A:$Z,7,0)),0,VLOOKUP($A200+8860000,'Growth Data'!$A:$Z,7,0)),0)","v":0},0,null,"NO",{"$f":"IF(ISERROR(VLOOKUP($A200+8860000,'Growth Data'!$A:$F,5,0)),\"NO\",VLOOKUP($A200+8860000,'Growth Data'!$A:$F,5,0))","v":"NO"},0,null,0,{"$f":"IF(CC200=\"YES\",IF(ISERROR(VLOOKUP($A200+8860000,'Growth Data'!$A:$Z,8,0)),0,VLOOKUP($A200+8860000,'Growth Data'!$A:$Z,8,0)),0)","v":0},0,null,null,null,0]
[3149,"St Martin's CEP School, Folkestone",null,"St Martin's CEP School, Folkestone","St Martin's CEP School, Folkestone",0,null,770017.92,770017.91694077326,0,null,0,0,0,null,770017.92,770017.91694077326,0,null,5315.29,5315.2850177999999,0,null,null,null,0,null,0,0,0,null,56164.79,null,56165,null,383.52,null,384,null,0,null,0,null,0,null,0,null,null,null,0,null,null,null,0,null,null,null,0,null,null,null,0,null,"NO",{"$f":"IF(ISERROR(VLOOKUP($A201+8860000,'Growth Data'!$A:$F,3,0)),\"NO\",VLOOKUP($A201+8860000,'Growth Data'!$A:$F,3,0))","v":"NO"},0,null,0,{"$f":"IF(BM201=\"YES\",IF(ISERROR(VLOOKUP($A201+8860000,'Growth Data'!$A:$F,6,0)),0,VLOOKUP($A201+8860000,'Growth Data'!$A:$F,6,0)),0)","v":0},0,null,"NO",{"$f":"IF(ISERROR(VLOOKUP($A201+8860000,'Growth Data'!$A:$F,4,0)),\"NO\",VLOOKUP($A201+8860000,'Growth Data'!$A:$F,4,0))","v":"NO"},0,null,0,{"$f":"IF(BU201=\"YES\",IF(ISERROR(VLOOKUP($A201+8860000,'Growth Data'!$A:$Z,7,0)),0,VLOOKUP($A201+8860000,'Growth Data'!$A:$Z,7,0)),0)","v":0},0,null,"NO",{"$f":"IF(ISERROR(VLOOKUP($A201+8860000,'Growth Data'!$A:$F,5,0)),\"NO\",VLOOKUP($A201+8860000,'Growth Data'!$A:$F,5,0))","v":"NO"},0,null,0,{"$f":"IF(CC201=\"YES\",IF(ISERROR(VLOOKUP($A201+8860000,'Growth Data'!$A:$Z,8,0)),0,VLOOKUP($A201+8860000,'Growth Data'!$A:$Z,8,0)),0)","v":0},0,null,null,null,0]
[3150,"St Peter's CEP School, Folkestone",null,"St Peter's CEP School, Folkestone","St Peter's CEP School, Folkestone",0,null,539877.59,539877.58516257768,0,null,0,0,0,null,539877.59,539877.58516257768,0,null,2670.48,2670.4813615999997,0,null,null,null,0,null,0,0,0,null,19720.43,null,19720,null,4027.96,null,4028,null,0,null,0,null,0,null,0,null,null,null,0,null,null,null,0,null,null,null,0,null,null,null,0,null,"NO",{"$f":"IF(ISERROR(VLOOKUP($A202+8860000,'Growth Data'!$A:$F,3,0)),\"NO\",VLOOKUP($A202+8860000,'Growth Data'!$A:$F,3,0))","v":"NO"},0,null,0,{"$f":"IF(BM202=\"YES\",IF(ISERROR(VLOOKUP($A202+8860000,'Growth Data'!$A:$F,6,0)),0,VLOOKUP($A202+8860000,'Growth Data'!$A:$F,6,0)),0)","v":0},0,null,"NO",{"$f":"IF(ISERROR(VLOOKUP($A202+8860000,'Growth Data'!$A:$F,4,0)),\"NO\",VLOOKUP($A202+8860000,'Growth Data'!$A:$F,4,0))","v":"NO"},0,null,0,{"$f":"IF(BU202=\"YES\",IF(ISERROR(VLOOKUP($A202+8860000,'Growth Data'!$A:$Z,7,0)),0,VLOOKUP($A202+8860000,'Growth Data'!$A:$Z,7,0)),0)","v":0},0,null,"NO",{"$f":"IF(ISERROR(VLOOKUP($A202+8860000,'Growth Data'!$A:$F,5,0)),\"NO\",VLOOKUP($A202+8860000,'Growth Data'!$A:$F,5,0))","v":"NO"},0,null,0,{"$f":"IF(CC202=\"YES\",IF(ISERROR(VLOOKUP($A202+8860000,'Growth Data'!$A:$Z,8,0)),0,VLOOKUP($A202+8860000,'Growth Data'!$A:$Z,8,0)),0)","v":0},0,null,null,null,0]
[3153,"Seabrook CEP School",null,"Seabrook CEP School","Seabrook CEP School",0,null,452875.85,452875.84500757448,0,null,0,0,0,null,452875.85,452875.84500757448,0,null,2747.51,2747.5144778000003,0,null,null,null,0,null,0,0,0,null,29259.62,null,29260,null,3074.04,null,3074,null,0,null,0,null,0,null,0,null,null,null,0,null,null,null,0,null,null,null,0,null,null,null,0,null,"NO",{"$f":"IF(ISERROR(VLOOKUP($A203+8860000,'Growth Data'!$A:$F,3,0)),\"NO\",VLOOKUP($A203+8860000,'Growth Data'!$A:$F,3,0))","v":"NO"},0,null,0,{"$f":"IF(BM203=\"YES\",IF(ISERROR(VLOOKUP($A203+8860000,'Growth Data'!$A:$F,6,0)),0,VLOOKUP($A203+8860000,'Growth Data'!$A:$F,6,0)),0)","v":0},0,null,"NO",{"$f":"IF(ISERROR(VLOOKUP($A203+8860000,'Growth Data'!$A:$F,4,0)),\"NO\",VLOOKUP($A203+8860000,'Growth Data'!$A:$F,4,0))","v":"NO"},0,null,0,{"$f":"IF(BU203=\"YES\",IF(ISERROR(VLOOKUP($A203+8860000,'Growth Data'!$A:$Z,7,0)),0,VLOOKUP($A203+8860000,'Growth Data'!$A:$Z,7,0)),0)","v":0},0,null,"NO",{"$f":"IF(ISERROR(VLOOKUP($A203+8860000,'Growth Data'!$A:$F,5,0)),\"NO\",VLOOKUP($A203+8860000,'Growth Data'!$A:$F,5,0))","v":"NO"},0,null,0,{"$f":"IF(CC203=\"YES\",IF(ISERROR(VLOOKUP($A203+8860000,'Growth Data'!$A:$Z,8,0)),0,VLOOKUP($A203+8860000,'Growth Data'!$A:$Z,8,0)),0)","v":0},0,null,null,null,0]
[3154,"Lyminge CEP School",null,"Lyminge CEP School","Lyminge CEP School",0,null,721905.67,721905.66690269276,0,null,0,0,0,null,721905.67,721905.66690269276,0,null,5109.8599999999997,5109.8633746000005,0,null,null,null,0,null,0,0,0,null,23345.89,null,23346,null,3665.41,null,3665,null,0,null,0,null,0,null,0,null,null,null,0,null,null,null,0,null,null,null,0,null,null,null,0,null,"NO",{"$f":"IF(ISERROR(VLOOKUP($A204+8860000,'Growth Data'!$A:$F,3,0)),\"NO\",VLOOKUP($A204+8860000,'Growth Data'!$A:$F,3,0))","v":"NO"},0,null,0,{"$f":"IF(BM204=\"YES\",IF(ISERROR(VLOOKUP($A204+8860000,'Growth Data'!$A:$F,6,0)),0,VLOOKUP($A204+8860000,'Growth Data'!$A:$F,6,0)),0)","v":0},0,null,"NO",{"$f":"IF(ISERROR(VLOOKUP($A204+8860000,'Growth Data'!$A:$F,4,0)),\"NO\",VLOOKUP($A204+8860000,'Growth Data'!$A:$F,4,0))","v":"NO"},0,null,0,{"$f":"IF(BU204=\"YES\",IF(ISERROR(VLOOKUP($A204+8860000,'Growth Data'!$A:$Z,7,0)),0,VLOOKUP($A204+8860000,'Growth Data'!$A:$Z,7,0)),0)","v":0},0,null,"NO",{"$f":"IF(ISERROR(VLOOKUP($A204+8860000,'Growth Data'!$A:$F,5,0)),\"NO\",VLOOKUP($A204+8860000,'Growth Data'!$A:$F,5,0))","v":"NO"},0,null,0,{"$f":"IF(CC204=\"YES\",IF(ISERROR(VLOOKUP($A204+8860000,'Growth Data'!$A:$Z,8,0)),0,VLOOKUP($A204+8860000,'Growth Data'!$A:$Z,8,0)),0)","v":0},0,null,null,null,0]
[3155,"Lympne CEP School",null,"Lympne CEP School","Lympne CEP School",0,null,822036.78,822036.77604477282,0,null,0,0,0,null,822036.78,822036.77604477282,0,null,5546.38,5546.3843664000005,0,null,null,null,0,null,0,0,0,null,36914.660000000003,null,36915,null,2308.5300000000002,null,2309,null,0,null,0,null,0,null,0,null,null,null,0,null,null,null,0,null,null,null,0,null,null,null,0,null,"NO",{"$f":"IF(ISERROR(VLOOKUP($A205+8860000,'Growth Data'!$A:$F,3,0)),\"NO\",VLOOKUP($A205+8860000,'Growth Data'!$A:$F,3,0))","v":"NO"},0,null,0,{"$f":"IF(BM205=\"YES\",IF(ISERROR(VLOOKUP($A205+8860000,'Growth Data'!$A:$F,6,0)),0,VLOOKUP($A205+8860000,'Growth Data'!$A:$F,6,0)),0)","v":0},0,null,"NO",{"$f":"IF(ISERROR(VLOOKUP($A205+8860000,'Growth Data'!$A:$F,4,0)),\"NO\",VLOOKUP($A205+8860000,'Growth Data'!$A:$F,4,0))","v":"NO"},0,null,0,{"$f":"IF(BU205=\"YES\",IF(ISERROR(VLOOKUP($A205+8860000,'Growth Data'!$A:$Z,7,0)),0,VLOOKUP($A205+8860000,'Growth Data'!$A:$Z,7,0)),0)","v":0},0,null,"NO",{"$f":"IF(ISERROR(VLOOKUP($A205+8860000,'Growth Data'!$A:$F,5,0)),\"NO\",VLOOKUP($A205+8860000,'Growth Data'!$A:$F,5,0))","v":"NO"},0,null,0,{"$f":"IF(CC205=\"YES\",IF(ISERROR(VLOOKUP($A205+8860000,'Growth Data'!$A:$Z,8,0)),0,VLOOKUP($A205+8860000,'Growth Data'!$A:$Z,8,0)),0)","v":0},0,null,null,null,0]
[3158,"Stelling Minnis CEP School",null,"Stelling Minnis CEP School","Stelling Minnis CEP School",0,null,440662.45,440662.449860472,0,null,0,0,0,null,440662.45,440662.449860472,0,null,2516.42,2516.4151291999997,0,null,null,null,0,null,0,0,0,null,29855.16,null,29855,null,3014.48,null,3014,null,0,null,0,null,0,null,0,null,null,null,0,null,null,null,0,null,null,null,0,null,null,null,0,null,"NO",{"$f":"IF(ISERROR(VLOOKUP($A206+8860000,'Growth Data'!$A:$F,3,0)),\"NO\",VLOOKUP($A206+8860000,'Growth Data'!$A:$F,3,0))","v":"NO"},0,null,0,{"$f":"IF(BM206=\"YES\",IF(ISERROR(VLOOKUP($A206+8860000,'Growth Data'!$A:$F,6,0)),0,VLOOKUP($A206+8860000,'Growth Data'!$A:$F,6,0)),0)","v":0},0,null,"NO",{"$f":"IF(ISERROR(VLOOKUP($A206+8860000,'Growth Data'!$A:$F,4,0)),\"NO\",VLOOKUP($A206+8860000,'Growth Data'!$A:$F,4,0))","v":"NO"},0,null,0,{"$f":"IF(BU206=\"YES\",IF(ISERROR(VLOOKUP($A206+8860000,'Growth Data'!$A:$Z,7,0)),0,VLOOKUP($A206+8860000,'Growth Data'!$A:$Z,7,0)),0)","v":0},0,null,"NO",{"$f":"IF(ISERROR(VLOOKUP($A206+8860000,'Growth Data'!$A:$F,5,0)),\"NO\",VLOOKUP($A206+8860000,'Growth Data'!$A:$F,5,0))","v":"NO"},0,null,0,{"$f":"IF(CC206=\"YES\",IF(ISERROR(VLOOKUP($A206+8860000,'Growth Data'!$A:$Z,8,0)),0,VLOOKUP($A206+8860000,'Growth Data'!$A:$Z,8,0)),0)","v":0},0,null,null,null,0]
[3159,"Stowting CEP School",null,"Stowting CEP School","Stowting CEP School",0,null,415626.8,415626.7952188967,0,null,0,0,0,null,415626.8,415626.7952188967,0,null,2439.38,2439.3820129999999,0,null,null,null,0,null,0,0,0,null,25013.360000000001,null,25013,null,3498.66,null,3499,null,0,null,0,null,0,null,0,null,null,null,0,null,null,null,0,null,null,null,0,null,null,null,0,null,"NO",{"$f":"IF(ISERROR(VLOOKUP($A207+8860000,'Growth Data'!$A:$F,3,0)),\"NO\",VLOOKUP($A207+8860000,'Growth Data'!$A:$F,3,0))","v":"NO"},0,null,0,{"$f":"IF(BM207=\"YES\",IF(ISERROR(VLOOKUP($A207+8860000,'Growth Data'!$A:$F,6,0)),0,VLOOKUP($A207+8860000,'Growth Data'!$A:$F,6,0)),0)","v":0},0,null,"NO",{"$f":"IF(ISERROR(VLOOKUP($A207+8860000,'Growth Data'!$A:$F,4,0)),\"NO\",VLOOKUP($A207+8860000,'Growth Data'!$A:$F,4,0))","v":"NO"},0,null,0,{"$f":"IF(BU207=\"YES\",IF(ISERROR(VLOOKUP($A207+8860000,'Growth Data'!$A:$Z,7,0)),0,VLOOKUP($A207+8860000,'Growth Data'!$A:$Z,7,0)),0)","v":0},0,null,"NO",{"$f":"IF(ISERROR(VLOOKUP($A207+8860000,'Growth Data'!$A:$F,5,0)),\"NO\",VLOOKUP($A207+8860000,'Growth Data'!$A:$F,5,0))","v":"NO"},0,null,0,{"$f":"IF(CC207=\"YES\",IF(ISERROR(VLOOKUP($A207+8860000,'Growth Data'!$A:$Z,8,0)),0,VLOOKUP($A207+8860000,'Growth Data'!$A:$Z,8,0)),0)","v":0},0,null,null,null,0]
[3160,"Selsted CEP School",null,"Selsted CEP School","Selsted CEP School",0,null,440941.79,440941.78603267774,0,null,0,0,0,null,440941.79,440941.78603267774,0,null,2465.06,2465.0597184000003,0,null,null,null,0,null,0,0,0,null,42831.27,null,42831,null,1716.87,null,1717,null,0,null,0,null,0,null,0,null,null,null,0,null,null,null,0,null,null,null,0,null,null,null,0,null,"YES",{"$f":"IF(ISERROR(VLOOKUP($A208+8860000,'Growth Data'!$A:$F,3,0)),\"NO\",VLOOKUP($A208+8860000,'Growth Data'!$A:$F,3,0))","v":"NO"},1,null,21,{"$f":"IF(BM208=\"YES\",IF(ISERROR(VLOOKUP($A208+8860000,'Growth Data'!$A:$F,6,0)),0,VLOOKUP($A208+8860000,'Growth Data'!$A:$F,6,0)),0)","v":0},21,null,"YES",{"$f":"IF(ISERROR(VLOOKUP($A208+8860000,'Growth Data'!$A:$F,4,0)),\"NO\",VLOOKUP($A208+8860000,'Growth Data'!$A:$F,4,0))","v":"NO"},1,null,23,{"$f":"IF(BU208=\"YES\",IF(ISERROR(VLOOKUP($A208+8860000,'Growth Data'!$A:$Z,7,0)),0,VLOOKUP($A208+8860000,'Growth Data'!$A:$Z,7,0)),0)","v":0},23,null,"YES",{"$f":"IF(ISERROR(VLOOKUP($A208+8860000,'Growth Data'!$A:$F,5,0)),\"NO\",VLOOKUP($A208+8860000,'Growth Data'!$A:$F,5,0))","v":"NO"},1,null,24,{"$f":"IF(CC208=\"YES\",IF(ISERROR(VLOOKUP($A208+8860000,'Growth Data'!$A:$Z,8,0)),0,VLOOKUP($A208+8860000,'Growth Data'!$A:$Z,8,0)),0)","v":0},24,null,null,null,0]
[3163,"Downs CEP School, The",null,"Downs CEP School, The","Downs CEP School, The",0,null,1446296.1,1446296.0977838933,0,null,0,0,0,null,1446296.1,1446296.0977838933,0,null,10194.049999999999,10194.049043799996,0,null,null,null,0,null,0,0,0,null,13693.05,null,13693,null,4630.7,null,4631,null,0,null,0,null,0,null,0,null,null,null,0,null,null,null,0,null,null,null,0,null,null,null,0,null,"NO",{"$f":"IF(ISERROR(VLOOKUP($A209+8860000,'Growth Data'!$A:$F,3,0)),\"NO\",VLOOKUP($A209+8860000,'Growth Data'!$A:$F,3,0))","v":"NO"},0,null,0,{"$f":"IF(BM209=\"YES\",IF(ISERROR(VLOOKUP($A209+8860000,'Growth Data'!$A:$F,6,0)),0,VLOOKUP($A209+8860000,'Growth Data'!$A:$F,6,0)),0)","v":0},0,null,"NO",{"$f":"IF(ISERROR(VLOOKUP($A209+8860000,'Growth Data'!$A:$F,4,0)),\"NO\",VLOOKUP($A209+8860000,'Growth Data'!$A:$F,4,0))","v":"NO"},0,null,0,{"$f":"IF(BU209=\"YES\",IF(ISERROR(VLOOKUP($A209+8860000,'Growth Data'!$A:$Z,7,0)),0,VLOOKUP($A209+8860000,'Growth Data'!$A:$Z,7,0)),0)","v":0},0,null,"NO",{"$f":"IF(ISERROR(VLOOKUP($A209+8860000,'Growth Data'!$A:$F,5,0)),\"NO\",VLOOKUP($A209+8860000,'Growth Data'!$A:$F,5,0))","v":"NO"},0,null,0,{"$f":"IF(CC209=\"YES\",IF(ISERROR(VLOOKUP($A209+8860000,'Growth Data'!$A:$Z,8,0)),0,VLOOKUP($A209+8860000,'Growth Data'!$A:$Z,8,0)),0)","v":0},0,null,null,null,0]
[3167,"Eastry CEP School",null,"Eastry CEP School","Eastry CEP School",0,null,788123.64,788123.64113605546,0,null,0,0,0,null,788123.64,788123.64113605546,0,null,5495.03,5495.0289556000007,0,null,null,null,0,null,0,0,0,null,54190.26,null,54190,null,580.97,null,581,null,0,null,0,null,0,null,0,null,null,null,0,null,null,null,0,null,null,null,0,null,null,null,0,null,"NO",{"$f":"IF(ISERROR(VLOOKUP($A210+8860000,'Growth Data'!$A:$F,3,0)),\"NO\",VLOOKUP($A210+8860000,'Growth Data'!$A:$F,3,0))","v":"NO"},0,null,0,{"$f":"IF(BM210=\"YES\",IF(ISERROR(VLOOKUP($A210+8860000,'Growth Data'!$A:$F,6,0)),0,VLOOKUP($A210+8860000,'Growth Data'!$A:$F,6,0)),0)","v":0},0,null,"NO",{"$f":"IF(ISERROR(VLOOKUP($A210+8860000,'Growth Data'!$A:$F,4,0)),\"NO\",VLOOKUP($A210+8860000,'Growth Data'!$A:$F,4,0))","v":"NO"},0,null,0,{"$f":"IF(BU210=\"YES\",IF(ISERROR(VLOOKUP($A210+8860000,'Growth Data'!$A:$Z,7,0)),0,VLOOKUP($A210+8860000,'Growth Data'!$A:$Z,7,0)),0)","v":0},0,null,"NO",{"$f":"IF(ISERROR(VLOOKUP($A210+8860000,'Growth Data'!$A:$F,5,0)),\"NO\",VLOOKUP($A210+8860000,'Growth Data'!$A:$F,5,0))","v":"NO"},0,null,0,{"$f":"IF(CC210=\"YES\",IF(ISERROR(VLOOKUP($A210+8860000,'Growth Data'!$A:$Z,8,0)),0,VLOOKUP($A210+8860000,'Growth Data'!$A:$Z,8,0)),0)","v":0},0,null,null,null,0]
[3168,"Goodnestone CEP School",null,"Goodnestone CEP School","Goodnestone CEP School",0,null,308008.46999999997,308008.4688255529,0,null,0,0,0,null,308008.46999999997,308008.4688255529,0,null,1489.31,1489.3069132000001,0,null,null,null,0,null,0,0,0,null,86973.68,null,86974,null,0,null,0,null,0,null,0,null,0,null,0,null,null,null,0,null,null,null,0,null,null,null,0,null,null,null,0,null,"NO",{"$f":"IF(ISERROR(VLOOKUP($A211+8860000,'Growth Data'!$A:$F,3,0)),\"NO\",VLOOKUP($A211+8860000,'Growth Data'!$A:$F,3,0))","v":"NO"},0,null,0,{"$f":"IF(BM211=\"YES\",IF(ISERROR(VLOOKUP($A211+8860000,'Growth Data'!$A:$F,6,0)),0,VLOOKUP($A211+8860000,'Growth Data'!$A:$F,6,0)),0)","v":0},0,null,"NO",{"$f":"IF(ISERROR(VLOOKUP($A211+8860000,'Growth Data'!$A:$F,4,0)),\"NO\",VLOOKUP($A211+8860000,'Growth Data'!$A:$F,4,0))","v":"NO"},0,null,0,{"$f":"IF(BU211=\"YES\",IF(ISERROR(VLOOKUP($A211+8860000,'Growth Data'!$A:$Z,7,0)),0,VLOOKUP($A211+8860000,'Growth Data'!$A:$Z,7,0)),0)","v":0},0,null,"NO",{"$f":"IF(ISERROR(VLOOKUP($A211+8860000,'Growth Data'!$A:$F,5,0)),\"NO\",VLOOKUP($A211+8860000,'Growth Data'!$A:$F,5,0))","v":"NO"},0,null,0,{"$f":"IF(CC211=\"YES\",IF(ISERROR(VLOOKUP($A211+8860000,'Growth Data'!$A:$Z,8,0)),0,VLOOKUP($A211+8860000,'Growth Data'!$A:$Z,8,0)),0)","v":0},0,null,null,null,0]
[3169,"Guston CEP School",null,"Guston CEP School","Guston CEP School",0,null,616862.76,616862.76006401889,0,null,15326.73,15326.730778417434,0,null,632189.49,632189.49084243632,0,null,3800.3,3800.3003991999994,0,null,null,null,0,null,0,0,0,null,34662.65,null,34663,null,2533.7399999999998,null,2534,null,0,null,0,null,0,null,0,null,null,null,0,null,null,null,0,null,null,null,0,null,null,null,0,null,"NO",{"$f":"IF(ISERROR(VLOOKUP($A212+8860000,'Growth Data'!$A:$F,3,0)),\"NO\",VLOOKUP($A212+8860000,'Growth Data'!$A:$F,3,0))","v":"NO"},0,null,0,{"$f":"IF(BM212=\"YES\",IF(ISERROR(VLOOKUP($A212+8860000,'Growth Data'!$A:$F,6,0)),0,VLOOKUP($A212+8860000,'Growth Data'!$A:$F,6,0)),0)","v":0},0,null,"NO",{"$f":"IF(ISERROR(VLOOKUP($A212+8860000,'Growth Data'!$A:$F,4,0)),\"NO\",VLOOKUP($A212+8860000,'Growth Data'!$A:$F,4,0))","v":"NO"},0,null,0,{"$f":"IF(BU212=\"YES\",IF(ISERROR(VLOOKUP($A212+8860000,'Growth Data'!$A:$Z,7,0)),0,VLOOKUP($A212+8860000,'Growth Data'!$A:$Z,7,0)),0)","v":0},0,null,"NO",{"$f":"IF(ISERROR(VLOOKUP($A212+8860000,'Growth Data'!$A:$F,5,0)),\"NO\",VLOOKUP($A212+8860000,'Growth Data'!$A:$F,5,0))","v":"NO"},0,null,0,{"$f":"IF(CC212=\"YES\",IF(ISERROR(VLOOKUP($A212+8860000,'Growth Data'!$A:$Z,8,0)),0,VLOOKUP($A212+8860000,'Growth Data'!$A:$Z,8,0)),0)","v":0},0,null,null,null,0]
[3171,"Nonington CEP School",null,"Nonington CEP School","Nonington CEP School",0,null,355507.02,355507.02436647442,0,null,0,0,0,null,355507.02,355507.02436647442,0,null,1720.41,1720.4062618,0,null,null,null,0,null,0,0,0,null,25278.79,null,25279,null,3472.12,null,3472,null,0,null,0,null,0,null,0,null,null,null,0,null,null,null,0,null,null,null,0,null,null,null,0,null,"NO",{"$f":"IF(ISERROR(VLOOKUP($A213+8860000,'Growth Data'!$A:$F,3,0)),\"NO\",VLOOKUP($A213+8860000,'Growth Data'!$A:$F,3,0))","v":"NO"},0,null,0,{"$f":"IF(BM213=\"YES\",IF(ISERROR(VLOOKUP($A213+8860000,'Growth Data'!$A:$F,6,0)),0,VLOOKUP($A213+8860000,'Growth Data'!$A:$F,6,0)),0)","v":0},0,null,"NO",{"$f":"IF(ISERROR(VLOOKUP($A213+8860000,'Growth Data'!$A:$F,4,0)),\"NO\",VLOOKUP($A213+8860000,'Growth Data'!$A:$F,4,0))","v":"NO"},0,null,0,{"$f":"IF(BU213=\"YES\",IF(ISERROR(VLOOKUP($A213+8860000,'Growth Data'!$A:$Z,7,0)),0,VLOOKUP($A213+8860000,'Growth Data'!$A:$Z,7,0)),0)","v":0},0,null,"NO",{"$f":"IF(ISERROR(VLOOKUP($A213+8860000,'Growth Data'!$A:$F,5,0)),\"NO\",VLOOKUP($A213+8860000,'Growth Data'!$A:$F,5,0))","v":"NO"},0,null,0,{"$f":"IF(CC213=\"YES\",IF(ISERROR(VLOOKUP($A213+8860000,'Growth Data'!$A:$Z,8,0)),0,VLOOKUP($A213+8860000,'Growth Data'!$A:$Z,8,0)),0)","v":0},0,null,null,null,0]
[3172,"Northbourne CEP School",null,"Northbourne CEP School","Northbourne CEP School",0,null,496051.98,496051.98051162547,0,null,0,0,0,null,496051.98,496051.98051162547,0,null,3132.68,3132.6800587999996,0,null,null,null,0,null,0,0,0,null,56591.63,null,56592,null,340.84,null,341,null,0,null,0,null,0,null,0,null,null,null,0,null,null,null,0,null,null,null,0,null,null,null,0,null,"NO",{"$f":"IF(ISERROR(VLOOKUP($A214+8860000,'Growth Data'!$A:$F,3,0)),\"NO\",VLOOKUP($A214+8860000,'Growth Data'!$A:$F,3,0))","v":"NO"},0,null,0,{"$f":"IF(BM214=\"YES\",IF(ISERROR(VLOOKUP($A214+8860000,'Growth Data'!$A:$F,6,0)),0,VLOOKUP($A214+8860000,'Growth Data'!$A:$F,6,0)),0)","v":0},0,null,"NO",{"$f":"IF(ISERROR(VLOOKUP($A214+8860000,'Growth Data'!$A:$F,4,0)),\"NO\",VLOOKUP($A214+8860000,'Growth Data'!$A:$F,4,0))","v":"NO"},0,null,0,{"$f":"IF(BU214=\"YES\",IF(ISERROR(VLOOKUP($A214+8860000,'Growth Data'!$A:$Z,7,0)),0,VLOOKUP($A214+8860000,'Growth Data'!$A:$Z,7,0)),0)","v":0},0,null,"NO",{"$f":"IF(ISERROR(VLOOKUP($A214+8860000,'Growth Data'!$A:$F,5,0)),\"NO\",VLOOKUP($A214+8860000,'Growth Data'!$A:$F,5,0))","v":"NO"},0,null,0,{"$f":"IF(CC214=\"YES\",IF(ISERROR(VLOOKUP($A214+8860000,'Growth Data'!$A:$Z,8,0)),0,VLOOKUP($A214+8860000,'Growth Data'!$A:$Z,8,0)),0)","v":0},0,null,null,null,0]
[3173,"Kingsdown & Ringwould CEP School",null,"Kingsdown & Ringwould CEP School","Kingsdown & Ringwould CEP School",0,null,790807.52,790807.52191960788,0,null,0,0,0,null,790807.52,790807.52191960788,0,null,5623.42,5623.4174826000008,0,null,null,null,0,null,0,0,0,null,20618.240000000002,null,20618,null,3938.18,null,3938,null,0,null,0,null,0,null,0,null,null,null,0,null,null,null,0,null,null,null,0,null,null,null,0,null,"NO",{"$f":"IF(ISERROR(VLOOKUP($A215+8860000,'Growth Data'!$A:$F,3,0)),\"NO\",VLOOKUP($A215+8860000,'Growth Data'!$A:$F,3,0))","v":"NO"},0,null,0,{"$f":"IF(BM215=\"YES\",IF(ISERROR(VLOOKUP($A215+8860000,'Growth Data'!$A:$F,6,0)),0,VLOOKUP($A215+8860000,'Growth Data'!$A:$F,6,0)),0)","v":0},0,null,"NO",{"$f":"IF(ISERROR(VLOOKUP($A215+8860000,'Growth Data'!$A:$F,4,0)),\"NO\",VLOOKUP($A215+8860000,'Growth Data'!$A:$F,4,0))","v":"NO"},0,null,0,{"$f":"IF(BU215=\"YES\",IF(ISERROR(VLOOKUP($A215+8860000,'Growth Data'!$A:$Z,7,0)),0,VLOOKUP($A215+8860000,'Growth Data'!$A:$Z,7,0)),0)","v":0},0,null,"NO",{"$f":"IF(ISERROR(VLOOKUP($A215+8860000,'Growth Data'!$A:$F,5,0)),\"NO\",VLOOKUP($A215+8860000,'Growth Data'!$A:$F,5,0))","v":"NO"},0,null,0,{"$f":"IF(CC215=\"YES\",IF(ISERROR(VLOOKUP($A215+8860000,'Growth Data'!$A:$Z,8,0)),0,VLOOKUP($A215+8860000,'Growth Data'!$A:$Z,8,0)),0)","v":0},0,null,null,null,0]
[3175,"Sibertswold CEP School",null,"Sibertswold CEP School","Sibertswold CEP School",0,null,765200.99,765200.99142208486,0,null,0,0,0,null,765200.99,765200.99142208486,0,null,5340.96,5340.9627231999993,0,null,null,null,0,null,0,0,0,null,22755.32,null,22755,null,3724.47,null,3724,null,0,null,0,null,0,null,0,null,null,null,0,null,null,null,0,null,null,null,0,null,null,null,0,null,"NO",{"$f":"IF(ISERROR(VLOOKUP($A216+8860000,'Growth Data'!$A:$F,3,0)),\"NO\",VLOOKUP($A216+8860000,'Growth Data'!$A:$F,3,0))","v":"NO"},0,null,0,{"$f":"IF(BM216=\"YES\",IF(ISERROR(VLOOKUP($A216+8860000,'Growth Data'!$A:$F,6,0)),0,VLOOKUP($A216+8860000,'Growth Data'!$A:$F,6,0)),0)","v":0},0,null,"NO",{"$f":"IF(ISERROR(VLOOKUP($A216+8860000,'Growth Data'!$A:$F,4,0)),\"NO\",VLOOKUP($A216+8860000,'Growth Data'!$A:$F,4,0))","v":"NO"},0,null,0,{"$f":"IF(BU216=\"YES\",IF(ISERROR(VLOOKUP($A216+8860000,'Growth Data'!$A:$Z,7,0)),0,VLOOKUP($A216+8860000,'Growth Data'!$A:$Z,7,0)),0)","v":0},0,null,"NO",{"$f":"IF(ISERROR(VLOOKUP($A216+8860000,'Growth Data'!$A:$F,5,0)),\"NO\",VLOOKUP($A216+8860000,'Growth Data'!$A:$F,5,0))","v":"NO"},0,null,0,{"$f":"IF(CC216=\"YES\",IF(ISERROR(VLOOKUP($A216+8860000,'Growth Data'!$A:$Z,8,0)),0,VLOOKUP($A216+8860000,'Growth Data'!$A:$Z,8,0)),0)","v":0},0,null,null,null,0]
[3178,"Birchington CEP School",null,"Birchington CEP School","Birchington CEP School",0,null,1623684.15,1623684.148993111,0,null,0,0,0,null,1623684.15,1623684.148993111,0,null,11709.03,11709.033662400001,0,null,null,null,0,null,0,0,0,null,29165.63,null,29166,null,3083.44,null,3083,null,0,null,0,null,0,null,0,null,null,null,0,null,null,null,0,null,null,null,0,null,null,null,0,null,"NO",{"$f":"IF(ISERROR(VLOOKUP($A217+8860000,'Growth Data'!$A:$F,3,0)),\"NO\",VLOOKUP($A217+8860000,'Growth Data'!$A:$F,3,0))","v":"YES"},1,null,0,{"$f":"IF(BM217=\"YES\",IF(ISERROR(VLOOKUP($A217+8860000,'Growth Data'!$A:$F,6,0)),0,VLOOKUP($A217+8860000,'Growth Data'!$A:$F,6,0)),0)","v":61},-61,null,"NO",{"$f":"IF(ISERROR(VLOOKUP($A217+8860000,'Growth Data'!$A:$F,4,0)),\"NO\",VLOOKUP($A217+8860000,'Growth Data'!$A:$F,4,0))","v":"YES"},1,null,0,{"$f":"IF(BU217=\"YES\",IF(ISERROR(VLOOKUP($A217+8860000,'Growth Data'!$A:$Z,7,0)),0,VLOOKUP($A217+8860000,'Growth Data'!$A:$Z,7,0)),0)","v":90},-90,null,"NO",{"$f":"IF(ISERROR(VLOOKUP($A217+8860000,'Growth Data'!$A:$F,5,0)),\"NO\",VLOOKUP($A217+8860000,'Growth Data'!$A:$F,5,0))","v":"YES"},1,null,0,{"$f":"IF(CC217=\"YES\",IF(ISERROR(VLOOKUP($A217+8860000,'Growth Data'!$A:$Z,8,0)),0,VLOOKUP($A217+8860000,'Growth Data'!$A:$Z,8,0)),0)","v":60},-60,null,null,null,0]
[3179,"Holy Trinity & St John's CEP School, Margate",null,"Holy Trinity & St John's CEP School, Margate","Holy Trinity & St John's CEP School, Margate",0,null,1684940.08,1684940.0798396859,0,null,0,0,0,null,1684940.08,1684940.0798396859,0,null,10425.15,10425.148392400002,0,null,null,null,0,null,4.9000000000000004,4.9000000000000004,0,null,157583.16,null,157583,null,0,null,0,null,0,null,0,null,0,null,0,null,null,null,0,null,null,null,0,null,null,null,0,null,null,null,0,null,"NO",{"$f":"IF(ISERROR(VLOOKUP($A218+8860000,'Growth Data'!$A:$F,3,0)),\"NO\",VLOOKUP($A218+8860000,'Growth Data'!$A:$F,3,0))","v":"NO"},0,null,0,{"$f":"IF(BM218=\"YES\",IF(ISERROR(VLOOKUP($A218+8860000,'Growth Data'!$A:$F,6,0)),0,VLOOKUP($A218+8860000,'Growth Data'!$A:$F,6,0)),0)","v":0},0,null,"NO",{"$f":"IF(ISERROR(VLOOKUP($A218+8860000,'Growth Data'!$A:$F,4,0)),\"NO\",VLOOKUP($A218+8860000,'Growth Data'!$A:$F,4,0))","v":"NO"},0,null,0,{"$f":"IF(BU218=\"YES\",IF(ISERROR(VLOOKUP($A218+8860000,'Growth Data'!$A:$Z,7,0)),0,VLOOKUP($A218+8860000,'Growth Data'!$A:$Z,7,0)),0)","v":0},0,null,"NO",{"$f":"IF(ISERROR(VLOOKUP($A218+8860000,'Growth Data'!$A:$F,5,0)),\"NO\",VLOOKUP($A218+8860000,'Growth Data'!$A:$F,5,0))","v":"NO"},0,null,0,{"$f":"IF(CC218=\"YES\",IF(ISERROR(VLOOKUP($A218+8860000,'Growth Data'!$A:$Z,8,0)),0,VLOOKUP($A218+8860000,'Growth Data'!$A:$Z,8,0)),0)","v":0},0,null,null,null,0]
[3181,"St Saviour's CEJ School",null,"St Saviour's CEJ School","St Saviour's CEJ School",0,null,1378275.96,1378275.9595458526,0,null,0,0,0,null,1378275.96,1378275.9595458526,0,null,9860.24,9860.2388736000012,0,null,null,null,0,null,0,0,0,null,56084.04,null,56084,null,391.6,null,392,null,0,null,0,null,0,null,0,null,null,null,0,null,null,null,0,null,null,null,0,null,null,null,0,null,"NO",{"$f":"IF(ISERROR(VLOOKUP($A219+8860000,'Growth Data'!$A:$F,3,0)),\"NO\",VLOOKUP($A219+8860000,'Growth Data'!$A:$F,3,0))","v":"NO"},0,null,0,{"$f":"IF(BM219=\"YES\",IF(ISERROR(VLOOKUP($A219+8860000,'Growth Data'!$A:$F,6,0)),0,VLOOKUP($A219+8860000,'Growth Data'!$A:$F,6,0)),0)","v":0},0,null,"NO",{"$f":"IF(ISERROR(VLOOKUP($A219+8860000,'Growth Data'!$A:$F,4,0)),\"NO\",VLOOKUP($A219+8860000,'Growth Data'!$A:$F,4,0))","v":"NO"},0,null,0,{"$f":"IF(BU219=\"YES\",IF(ISERROR(VLOOKUP($A219+8860000,'Growth Data'!$A:$Z,7,0)),0,VLOOKUP($A219+8860000,'Growth Data'!$A:$Z,7,0)),0)","v":0},0,null,"NO",{"$f":"IF(ISERROR(VLOOKUP($A219+8860000,'Growth Data'!$A:$F,5,0)),\"NO\",VLOOKUP($A219+8860000,'Growth Data'!$A:$F,5,0))","v":"NO"},0,null,0,{"$f":"IF(CC219=\"YES\",IF(ISERROR(VLOOKUP($A219+8860000,'Growth Data'!$A:$Z,8,0)),0,VLOOKUP($A219+8860000,'Growth Data'!$A:$Z,8,0)),0)","v":0},0,null,null,null,0]
[3182,"Minster CEP School",null,"Minster CEP School","Minster CEP School",0,null,1417571,1417571,0,null,0,0,0,null,1417571,1417571,0,null,10450.83,10450.826097800002,0,null,null,null,0,null,0,0,0,null,27669.24,null,27669,null,3233.08,null,3233,null,0,null,0,null,0,null,0,null,null,null,0,null,null,null,0,null,null,null,0,null,null,null,0,null,"NO",{"$f":"IF(ISERROR(VLOOKUP($A220+8860000,'Growth Data'!$A:$F,3,0)),\"NO\",VLOOKUP($A220+8860000,'Growth Data'!$A:$F,3,0))","v":"NO"},0,null,0,{"$f":"IF(BM220=\"YES\",IF(ISERROR(VLOOKUP($A220+8860000,'Growth Data'!$A:$F,6,0)),0,VLOOKUP($A220+8860000,'Growth Data'!$A:$F,6,0)),0)","v":0},0,null,"NO",{"$f":"IF(ISERROR(VLOOKUP($A220+8860000,'Growth Data'!$A:$F,4,0)),\"NO\",VLOOKUP($A220+8860000,'Growth Data'!$A:$F,4,0))","v":"NO"},0,null,0,{"$f":"IF(BU220=\"YES\",IF(ISERROR(VLOOKUP($A220+8860000,'Growth Data'!$A:$Z,7,0)),0,VLOOKUP($A220+8860000,'Growth Data'!$A:$Z,7,0)),0)","v":0},0,null,"NO",{"$f":"IF(ISERROR(VLOOKUP($A220+8860000,'Growth Data'!$A:$F,5,0)),\"NO\",VLOOKUP($A220+8860000,'Growth Data'!$A:$F,5,0))","v":"NO"},0,null,0,{"$f":"IF(CC220=\"YES\",IF(ISERROR(VLOOKUP($A220+8860000,'Growth Data'!$A:$Z,8,0)),0,VLOOKUP($A220+8860000,'Growth Data'!$A:$Z,8,0)),0)","v":0},0,null,null,null,0]
[3183,"Monkton CEP School",null,"Monkton CEP School","Monkton CEP School",0,null,462595.69,462595.69400050136,0,null,0,0,0,null,462595.69,462595.69400050136,0,null,2721.84,2721.8367724,0,null,null,null,0,null,0,0,0,null,41287.919999999998,null,41288,null,1871.21,null,1871,null,0,null,0,null,0,null,0,null,null,null,0,null,null,null,0,null,null,null,0,null,null,null,0,null,"NO",{"$f":"IF(ISERROR(VLOOKUP($A221+8860000,'Growth Data'!$A:$F,3,0)),\"NO\",VLOOKUP($A221+8860000,'Growth Data'!$A:$F,3,0))","v":"NO"},0,null,0,{"$f":"IF(BM221=\"YES\",IF(ISERROR(VLOOKUP($A221+8860000,'Growth Data'!$A:$F,6,0)),0,VLOOKUP($A221+8860000,'Growth Data'!$A:$F,6,0)),0)","v":0},0,null,"NO",{"$f":"IF(ISERROR(VLOOKUP($A221+8860000,'Growth Data'!$A:$F,4,0)),\"NO\",VLOOKUP($A221+8860000,'Growth Data'!$A:$F,4,0))","v":"NO"},0,null,0,{"$f":"IF(BU221=\"YES\",IF(ISERROR(VLOOKUP($A221+8860000,'Growth Data'!$A:$Z,7,0)),0,VLOOKUP($A221+8860000,'Growth Data'!$A:$Z,7,0)),0)","v":0},0,null,"NO",{"$f":"IF(ISERROR(VLOOKUP($A221+8860000,'Growth Data'!$A:$F,5,0)),\"NO\",VLOOKUP($A221+8860000,'Growth Data'!$A:$F,5,0))","v":"NO"},0,null,0,{"$f":"IF(CC221=\"YES\",IF(ISERROR(VLOOKUP($A221+8860000,'Growth Data'!$A:$Z,8,0)),0,VLOOKUP($A221+8860000,'Growth Data'!$A:$Z,8,0)),0)","v":0},0,null,null,null,0]
[3186,"St Nicholas at Wade CEP School",null,"St Nicholas at Wade CEP School","St Nicholas at Wade CEP School",0,null,754188.43,754188.43409203645,0,null,0,0,0,null,754188.43,754188.43409203645,0,null,5366.64,5366.6404285999988,0,null,null,null,0,null,0,0,0,null,40907.79,null,40908,null,1909.22,null,1909,null,0,null,0,null,0,null,0,null,null,null,0,null,null,null,0,null,null,null,0,null,null,null,0,null,"NO",{"$f":"IF(ISERROR(VLOOKUP($A222+8860000,'Growth Data'!$A:$F,3,0)),\"NO\",VLOOKUP($A222+8860000,'Growth Data'!$A:$F,3,0))","v":"NO"},0,null,0,{"$f":"IF(BM222=\"YES\",IF(ISERROR(VLOOKUP($A222+8860000,'Growth Data'!$A:$F,6,0)),0,VLOOKUP($A222+8860000,'Growth Data'!$A:$F,6,0)),0)","v":0},0,null,"NO",{"$f":"IF(ISERROR(VLOOKUP($A222+8860000,'Growth Data'!$A:$F,4,0)),\"NO\",VLOOKUP($A222+8860000,'Growth Data'!$A:$F,4,0))","v":"NO"},0,null,0,{"$f":"IF(BU222=\"YES\",IF(ISERROR(VLOOKUP($A222+8860000,'Growth Data'!$A:$Z,7,0)),0,VLOOKUP($A222+8860000,'Growth Data'!$A:$Z,7,0)),0)","v":0},0,null,"NO",{"$f":"IF(ISERROR(VLOOKUP($A222+8860000,'Growth Data'!$A:$F,5,0)),\"NO\",VLOOKUP($A222+8860000,'Growth Data'!$A:$F,5,0))","v":"NO"},0,null,0,{"$f":"IF(CC222=\"YES\",IF(ISERROR(VLOOKUP($A222+8860000,'Growth Data'!$A:$Z,8,0)),0,VLOOKUP($A222+8860000,'Growth Data'!$A:$Z,8,0)),0)","v":0},0,null,null,null,0]
[3198,"Frittenden CEP School",null,"Frittenden CEP School","Frittenden CEP School",0,null,409151.16,409151.15532367019,0,null,0,0,0,null,409151.16,409151.15532367019,0,null,2439.38,2439.3820129999999,0,null,null,null,0,null,0,0,0,null,23737.02,null,23737,null,3626.3,null,3626,null,0,null,0,null,0,null,0,null,null,null,0,null,null,null,0,null,null,null,0,null,null,null,0,null,"NO",{"$f":"IF(ISERROR(VLOOKUP($A223+8860000,'Growth Data'!$A:$F,3,0)),\"NO\",VLOOKUP($A223+8860000,'Growth Data'!$A:$F,3,0))","v":"NO"},0,null,0,{"$f":"IF(BM223=\"YES\",IF(ISERROR(VLOOKUP($A223+8860000,'Growth Data'!$A:$F,6,0)),0,VLOOKUP($A223+8860000,'Growth Data'!$A:$F,6,0)),0)","v":0},0,null,"NO",{"$f":"IF(ISERROR(VLOOKUP($A223+8860000,'Growth Data'!$A:$F,4,0)),\"NO\",VLOOKUP($A223+8860000,'Growth Data'!$A:$F,4,0))","v":"NO"},0,null,0,{"$f":"IF(BU223=\"YES\",IF(ISERROR(VLOOKUP($A223+8860000,'Growth Data'!$A:$Z,7,0)),0,VLOOKUP($A223+8860000,'Growth Data'!$A:$Z,7,0)),0)","v":0},0,null,"NO",{"$f":"IF(ISERROR(VLOOKUP($A223+8860000,'Growth Data'!$A:$F,5,0)),\"NO\",VLOOKUP($A223+8860000,'Growth Data'!$A:$F,5,0))","v":"NO"},0,null,0,{"$f":"IF(CC223=\"YES\",IF(ISERROR(VLOOKUP($A223+8860000,'Growth Data'!$A:$Z,8,0)),0,VLOOKUP($A223+8860000,'Growth Data'!$A:$Z,8,0)),0)","v":0},0,null,null,null,0]
[3199,"Egerton CEP School",null,"Egerton CEP School","Egerton CEP School",0,null,749451.93,749451.92519613239,0,null,0,0,0,null,749451.93,749451.92519613239,0,null,5289.61,5289.6073123999995,0,null,null,null,0,null,0,0,0,null,38061.410000000003,null,38061,null,2193.86,null,2194,null,0,null,0,null,0,null,0,null,null,null,0,null,null,null,0,null,null,null,0,null,null,null,0,null,"NO",{"$f":"IF(ISERROR(VLOOKUP($A224+8860000,'Growth Data'!$A:$F,3,0)),\"NO\",VLOOKUP($A224+8860000,'Growth Data'!$A:$F,3,0))","v":"NO"},0,null,0,{"$f":"IF(BM224=\"YES\",IF(ISERROR(VLOOKUP($A224+8860000,'Growth Data'!$A:$F,6,0)),0,VLOOKUP($A224+8860000,'Growth Data'!$A:$F,6,0)),0)","v":0},0,null,"NO",{"$f":"IF(ISERROR(VLOOKUP($A224+8860000,'Growth Data'!$A:$F,4,0)),\"NO\",VLOOKUP($A224+8860000,'Growth Data'!$A:$F,4,0))","v":"NO"},0,null,0,{"$f":"IF(BU224=\"YES\",IF(ISERROR(VLOOKUP($A224+8860000,'Growth Data'!$A:$Z,7,0)),0,VLOOKUP($A224+8860000,'Growth Data'!$A:$Z,7,0)),0)","v":0},0,null,"NO",{"$f":"IF(ISERROR(VLOOKUP($A224+8860000,'Growth Data'!$A:$F,5,0)),\"NO\",VLOOKUP($A224+8860000,'Growth Data'!$A:$F,5,0))","v":"NO"},0,null,0,{"$f":"IF(CC224=\"YES\",IF(ISERROR(VLOOKUP($A224+8860000,'Growth Data'!$A:$Z,8,0)),0,VLOOKUP($A224+8860000,'Growth Data'!$A:$Z,8,0)),0)","v":0},0,null,null,null,0]
[3201,"St Lawrence CEP School",null,"St Lawrence CEP School","St Lawrence CEP School",0,null,398025.24,398025.23556199,0,null,0,0,0,null,398025.24,398025.23556199,0,null,2288.66,2288.6641533841603,0,null,null,null,0,null,0,0,0,null,42489.17,null,42489,null,1751.08,null,1751,null,0,null,0,null,0,null,0,null,null,null,0,null,null,null,0,null,null,null,0,null,null,null,0,null,"NO",{"$f":"IF(ISERROR(VLOOKUP($A225+8860000,'Growth Data'!$A:$F,3,0)),\"NO\",VLOOKUP($A225+8860000,'Growth Data'!$A:$F,3,0))","v":"NO"},0,null,0,{"$f":"IF(BM225=\"YES\",IF(ISERROR(VLOOKUP($A225+8860000,'Growth Data'!$A:$F,6,0)),0,VLOOKUP($A225+8860000,'Growth Data'!$A:$F,6,0)),0)","v":0},0,null,"NO",{"$f":"IF(ISERROR(VLOOKUP($A225+8860000,'Growth Data'!$A:$F,4,0)),\"NO\",VLOOKUP($A225+8860000,'Growth Data'!$A:$F,4,0))","v":"NO"},0,null,0,{"$f":"IF(BU225=\"YES\",IF(ISERROR(VLOOKUP($A225+8860000,'Growth Data'!$A:$Z,7,0)),0,VLOOKUP($A225+8860000,'Growth Data'!$A:$Z,7,0)),0)","v":0},0,null,"NO",{"$f":"IF(ISERROR(VLOOKUP($A225+8860000,'Growth Data'!$A:$F,5,0)),\"NO\",VLOOKUP($A225+8860000,'Growth Data'!$A:$F,5,0))","v":"NO"},0,null,0,{"$f":"IF(CC225=\"YES\",IF(ISERROR(VLOOKUP($A225+8860000,'Growth Data'!$A:$Z,8,0)),0,VLOOKUP($A225+8860000,'Growth Data'!$A:$Z,8,0)),0)","v":0},0,null,null,null,0]
[3282,"Boughton-under-Blean & Dunkirk Primary School",null,"Boughton-under-Blean & Dunkirk Primary School","Boughton-under-Blean & Dunkirk Primary School",0,null,857202.27,857202.26914721797,0,null,0,0,0,null,857202.27,857202.26914721797,0,null,5803.16,5803.1614204000016,0,null,null,null,0,null,0,0,0,null,160788.26999999999,null,160788,null,0,null,0,null,0,null,0,null,0,null,0,null,null,null,0,null,null,null,0,null,null,null,0,null,null,null,0,null,"NO",{"$f":"IF(ISERROR(VLOOKUP($A226+8860000,'Growth Data'!$A:$F,3,0)),\"NO\",VLOOKUP($A226+8860000,'Growth Data'!$A:$F,3,0))","v":"NO"},0,null,0,{"$f":"IF(BM226=\"YES\",IF(ISERROR(VLOOKUP($A226+8860000,'Growth Data'!$A:$F,6,0)),0,VLOOKUP($A226+8860000,'Growth Data'!$A:$F,6,0)),0)","v":0},0,null,"NO",{"$f":"IF(ISERROR(VLOOKUP($A226+8860000,'Growth Data'!$A:$F,4,0)),\"NO\",VLOOKUP($A226+8860000,'Growth Data'!$A:$F,4,0))","v":"NO"},0,null,0,{"$f":"IF(BU226=\"YES\",IF(ISERROR(VLOOKUP($A226+8860000,'Growth Data'!$A:$Z,7,0)),0,VLOOKUP($A226+8860000,'Growth Data'!$A:$Z,7,0)),0)","v":0},0,null,"YES",{"$f":"IF(ISERROR(VLOOKUP($A226+8860000,'Growth Data'!$A:$F,5,0)),\"NO\",VLOOKUP($A226+8860000,'Growth Data'!$A:$F,5,0))","v":"NO"},1,null,61,{"$f":"IF(CC226=\"YES\",IF(ISERROR(VLOOKUP($A226+8860000,'Growth Data'!$A:$Z,8,0)),0,VLOOKUP($A226+8860000,'Growth Data'!$A:$Z,8,0)),0)","v":0},61,null,null,null,0]
[3284,"Lady Joanna Thornhill (Endowed) Primary School",null,"Lady Joanna Thornhill (Endowed) Primary School","Lady Joanna Thornhill (Endowed) Primary School",0,null,1462119,1462119,0,null,0,0,0,null,1462119,1462119,0,null,10733.28,10733.280857199998,0,null,null,null,0,null,0,0,0,null,317855.87,null,317856,null,0,null,0,null,0,null,0,null,0,null,0,null,null,null,0,null,null,null,0,null,null,null,0,null,null,null,0,null,"NO",{"$f":"IF(ISERROR(VLOOKUP($A227+8860000,'Growth Data'!$A:$F,3,0)),\"NO\",VLOOKUP($A227+8860000,'Growth Data'!$A:$F,3,0))","v":"NO"},0,null,0,{"$f":"IF(BM227=\"YES\",IF(ISERROR(VLOOKUP($A227+8860000,'Growth Data'!$A:$F,6,0)),0,VLOOKUP($A227+8860000,'Growth Data'!$A:$F,6,0)),0)","v":0},0,null,"NO",{"$f":"IF(ISERROR(VLOOKUP($A227+8860000,'Growth Data'!$A:$F,4,0)),\"NO\",VLOOKUP($A227+8860000,'Growth Data'!$A:$F,4,0))","v":"NO"},0,null,0,{"$f":"IF(BU227=\"YES\",IF(ISERROR(VLOOKUP($A227+8860000,'Growth Data'!$A:$Z,7,0)),0,VLOOKUP($A227+8860000,'Growth Data'!$A:$Z,7,0)),0)","v":0},0,null,"NO",{"$f":"IF(ISERROR(VLOOKUP($A227+8860000,'Growth Data'!$A:$F,5,0)),\"NO\",VLOOKUP($A227+8860000,'Growth Data'!$A:$F,5,0))","v":"NO"},0,null,0,{"$f":"IF(CC227=\"YES\",IF(ISERROR(VLOOKUP($A227+8860000,'Growth Data'!$A:$Z,8,0)),0,VLOOKUP($A227+8860000,'Growth Data'!$A:$Z,8,0)),0)","v":0},0,null,null,null,0]
[3289,"St Peter's Methodist Primary School, Canterbury",null,"St Peter's Methodist Primary School, Canterbury","St Peter's Methodist Primary School, Canterbury",0,null,792532.98,792532.97919164656,0,null,0,0,0,null,792532.98,792532.97919164656,0,null,5135.54,5135.5410799999991,0,null,null,null,0,null,0,0,0,null,129079.35,null,129079,null,0,null,0,null,0,null,0,null,0,null,0,null,null,null,0,null,null,null,0,null,null,null,0,null,null,null,0,null,"NO",{"$f":"IF(ISERROR(VLOOKUP($A228+8860000,'Growth Data'!$A:$F,3,0)),\"NO\",VLOOKUP($A228+8860000,'Growth Data'!$A:$F,3,0))","v":"NO"},0,null,0,{"$f":"IF(BM228=\"YES\",IF(ISERROR(VLOOKUP($A228+8860000,'Growth Data'!$A:$F,6,0)),0,VLOOKUP($A228+8860000,'Growth Data'!$A:$F,6,0)),0)","v":0},0,null,"NO",{"$f":"IF(ISERROR(VLOOKUP($A228+8860000,'Growth Data'!$A:$F,4,0)),\"NO\",VLOOKUP($A228+8860000,'Growth Data'!$A:$F,4,0))","v":"NO"},0,null,0,{"$f":"IF(BU228=\"YES\",IF(ISERROR(VLOOKUP($A228+8860000,'Growth Data'!$A:$Z,7,0)),0,VLOOKUP($A228+8860000,'Growth Data'!$A:$Z,7,0)),0)","v":0},0,null,"NO",{"$f":"IF(ISERROR(VLOOKUP($A228+8860000,'Growth Data'!$A:$F,5,0)),\"NO\",VLOOKUP($A228+8860000,'Growth Data'!$A:$F,5,0))","v":"NO"},0,null,0,{"$f":"IF(CC228=\"YES\",IF(ISERROR(VLOOKUP($A228+8860000,'Growth Data'!$A:$Z,8,0)),0,VLOOKUP($A228+8860000,'Growth Data'!$A:$Z,8,0)),0)","v":0},0,null,null,null,0]
[3294,"St Matthew's High Brooms CEP School",null,"St Matthew's High Brooms CEP School","St Matthew's High Brooms CEP School",0,null,1622632.75,1622632.745111133,0,null,0,0,0,null,1622632.75,1622632.745111133,0,null,11349.55,11349.545786799998,0,null,null,null,0,null,0,0,0,null,104426.51,null,104427,null,0,null,0,null,0,null,0,null,0,null,0,null,null,null,0,null,null,null,0,null,null,null,0,null,null,null,0,null,"NO",{"$f":"IF(ISERROR(VLOOKUP($A229+8860000,'Growth Data'!$A:$F,3,0)),\"NO\",VLOOKUP($A229+8860000,'Growth Data'!$A:$F,3,0))","v":"NO"},0,null,0,{"$f":"IF(BM229=\"YES\",IF(ISERROR(VLOOKUP($A229+8860000,'Growth Data'!$A:$F,6,0)),0,VLOOKUP($A229+8860000,'Growth Data'!$A:$F,6,0)),0)","v":0},0,null,"NO",{"$f":"IF(ISERROR(VLOOKUP($A229+8860000,'Growth Data'!$A:$F,4,0)),\"NO\",VLOOKUP($A229+8860000,'Growth Data'!$A:$F,4,0))","v":"NO"},0,null,0,{"$f":"IF(BU229=\"YES\",IF(ISERROR(VLOOKUP($A229+8860000,'Growth Data'!$A:$Z,7,0)),0,VLOOKUP($A229+8860000,'Growth Data'!$A:$Z,7,0)),0)","v":0},0,null,"NO",{"$f":"IF(ISERROR(VLOOKUP($A229+8860000,'Growth Data'!$A:$F,5,0)),\"NO\",VLOOKUP($A229+8860000,'Growth Data'!$A:$F,5,0))","v":"NO"},0,null,0,{"$f":"IF(CC229=\"YES\",IF(ISERROR(VLOOKUP($A229+8860000,'Growth Data'!$A:$Z,8,0)),0,VLOOKUP($A229+8860000,'Growth Data'!$A:$Z,8,0)),0)","v":0},0,null,null,null,0]
[3295,"Herne CEI School",null,"Herne CEI School","Herne CEI School",0,null,965684.5,965684.50087081641,0,null,0,0,0,null,965684.5,965684.50087081641,0,null,6881.63,6881.6250472000002,0,null,null,null,0,null,4.9000000000000004,4.9000000000000004,0,null,28307.9,null,28308,null,3169.21,null,3169,null,0,null,0,null,0,null,0,null,null,null,0,null,null,null,0,null,null,null,0,null,null,null,0,null,"NO",{"$f":"IF(ISERROR(VLOOKUP($A230+8860000,'Growth Data'!$A:$F,3,0)),\"NO\",VLOOKUP($A230+8860000,'Growth Data'!$A:$F,3,0))","v":"NO"},0,null,0,{"$f":"IF(BM230=\"YES\",IF(ISERROR(VLOOKUP($A230+8860000,'Growth Data'!$A:$F,6,0)),0,VLOOKUP($A230+8860000,'Growth Data'!$A:$F,6,0)),0)","v":0},0,null,"NO",{"$f":"IF(ISERROR(VLOOKUP($A230+8860000,'Growth Data'!$A:$F,4,0)),\"NO\",VLOOKUP($A230+8860000,'Growth Data'!$A:$F,4,0))","v":"NO"},0,null,0,{"$f":"IF(BU230=\"YES\",IF(ISERROR(VLOOKUP($A230+8860000,'Growth Data'!$A:$Z,7,0)),0,VLOOKUP($A230+8860000,'Growth Data'!$A:$Z,7,0)),0)","v":0},0,null,"NO",{"$f":"IF(ISERROR(VLOOKUP($A230+8860000,'Growth Data'!$A:$F,5,0)),\"NO\",VLOOKUP($A230+8860000,'Growth Data'!$A:$F,5,0))","v":"NO"},0,null,0,{"$f":"IF(CC230=\"YES\",IF(ISERROR(VLOOKUP($A230+8860000,'Growth Data'!$A:$Z,8,0)),0,VLOOKUP($A230+8860000,'Growth Data'!$A:$Z,8,0)),0)","v":0},0,null,null,null,0]
[3296,"Langafel CEP School",null,"Langafel CEP School","Langafel CEP School",0,null,1249141.8799999999,1249141.8766398334,0,null,0,0,0,null,1249141.8799999999,1249141.8766398334,0,null,8702.25,8702.2462576351209,0,null,null,null,0,null,0,0,0,null,42084.89,null,42085,null,1791.51,null,1792,null,0,null,0,null,0,null,0,null,null,null,0,null,null,null,0,null,null,null,0,null,null,null,0,null,"NO",{"$f":"IF(ISERROR(VLOOKUP($A231+8860000,'Growth Data'!$A:$F,3,0)),\"NO\",VLOOKUP($A231+8860000,'Growth Data'!$A:$F,3,0))","v":"NO"},0,null,0,{"$f":"IF(BM231=\"YES\",IF(ISERROR(VLOOKUP($A231+8860000,'Growth Data'!$A:$F,6,0)),0,VLOOKUP($A231+8860000,'Growth Data'!$A:$F,6,0)),0)","v":0},0,null,"NO",{"$f":"IF(ISERROR(VLOOKUP($A231+8860000,'Growth Data'!$A:$F,4,0)),\"NO\",VLOOKUP($A231+8860000,'Growth Data'!$A:$F,4,0))","v":"NO"},0,null,0,{"$f":"IF(BU231=\"YES\",IF(ISERROR(VLOOKUP($A231+8860000,'Growth Data'!$A:$Z,7,0)),0,VLOOKUP($A231+8860000,'Growth Data'!$A:$Z,7,0)),0)","v":0},0,null,"NO",{"$f":"IF(ISERROR(VLOOKUP($A231+8860000,'Growth Data'!$A:$F,5,0)),\"NO\",VLOOKUP($A231+8860000,'Growth Data'!$A:$F,5,0))","v":"NO"},0,null,0,{"$f":"IF(CC231=\"YES\",IF(ISERROR(VLOOKUP($A231+8860000,'Growth Data'!$A:$Z,8,0)),0,VLOOKUP($A231+8860000,'Growth Data'!$A:$Z,8,0)),0)","v":0},0,null,null,null,0]
[3297,"Southborough CEP School",null,"Southborough CEP School","Southborough CEP School",0,null,1901365,1901365,0,null,0,0,0,null,1901365,1901365,0,null,13968.67,13968.6717376,0,null,null,null,0,null,0,0,0,null,17624.61,null,17625,null,4237.54,null,4238,null,0,null,0,null,0,null,0,null,null,null,0,null,null,null,0,null,null,null,0,null,null,null,0,null,"NO",{"$f":"IF(ISERROR(VLOOKUP($A232+8860000,'Growth Data'!$A:$F,3,0)),\"NO\",VLOOKUP($A232+8860000,'Growth Data'!$A:$F,3,0))","v":"NO"},0,null,0,{"$f":"IF(BM232=\"YES\",IF(ISERROR(VLOOKUP($A232+8860000,'Growth Data'!$A:$F,6,0)),0,VLOOKUP($A232+8860000,'Growth Data'!$A:$F,6,0)),0)","v":0},0,null,"NO",{"$f":"IF(ISERROR(VLOOKUP($A232+8860000,'Growth Data'!$A:$F,4,0)),\"NO\",VLOOKUP($A232+8860000,'Growth Data'!$A:$F,4,0))","v":"NO"},0,null,0,{"$f":"IF(BU232=\"YES\",IF(ISERROR(VLOOKUP($A232+8860000,'Growth Data'!$A:$Z,7,0)),0,VLOOKUP($A232+8860000,'Growth Data'!$A:$Z,7,0)),0)","v":0},0,null,"NO",{"$f":"IF(ISERROR(VLOOKUP($A232+8860000,'Growth Data'!$A:$F,5,0)),\"NO\",VLOOKUP($A232+8860000,'Growth Data'!$A:$F,5,0))","v":"NO"},0,null,0,{"$f":"IF(CC232=\"YES\",IF(ISERROR(VLOOKUP($A232+8860000,'Growth Data'!$A:$Z,8,0)),0,VLOOKUP($A232+8860000,'Growth Data'!$A:$Z,8,0)),0)","v":0},0,null,null,null,0]
[3298,"West Kingsdown C.E. (V.C.) Primary School",null,"West Kingsdown C.E. (V.C.) Primary School","West Kingsdown C.E. (V.C.) Primary School",0,null,631395.99,631395.99428764998,0,null,0,0,0,null,631395.99,631395.99428764998,0,null,4098.3100000000004,4098.3055769902403,0,null,null,null,0,null,0,0,0,null,43476.43,null,43476,null,1652.36,null,1652,null,0,null,0,null,0,null,0,null,null,null,0,null,null,null,0,null,null,null,0,null,null,null,0,null,"NO",{"$f":"IF(ISERROR(VLOOKUP($A233+8860000,'Growth Data'!$A:$F,3,0)),\"NO\",VLOOKUP($A233+8860000,'Growth Data'!$A:$F,3,0))","v":"NO"},0,null,0,{"$f":"IF(BM233=\"YES\",IF(ISERROR(VLOOKUP($A233+8860000,'Growth Data'!$A:$F,6,0)),0,VLOOKUP($A233+8860000,'Growth Data'!$A:$F,6,0)),0)","v":0},0,null,"NO",{"$f":"IF(ISERROR(VLOOKUP($A233+8860000,'Growth Data'!$A:$F,4,0)),\"NO\",VLOOKUP($A233+8860000,'Growth Data'!$A:$F,4,0))","v":"NO"},0,null,0,{"$f":"IF(BU233=\"YES\",IF(ISERROR(VLOOKUP($A233+8860000,'Growth Data'!$A:$Z,7,0)),0,VLOOKUP($A233+8860000,'Growth Data'!$A:$Z,7,0)),0)","v":0},0,null,"NO",{"$f":"IF(ISERROR(VLOOKUP($A233+8860000,'Growth Data'!$A:$F,5,0)),\"NO\",VLOOKUP($A233+8860000,'Growth Data'!$A:$F,5,0))","v":"NO"},0,null,0,{"$f":"IF(CC233=\"YES\",IF(ISERROR(VLOOKUP($A233+8860000,'Growth Data'!$A:$Z,8,0)),0,VLOOKUP($A233+8860000,'Growth Data'!$A:$Z,8,0)),0)","v":0},0,null,null,null,0]
[3299,"John Wesley Primary School",null,"John Wesley Primary School","John Wesley Primary School",0,null,1522076.9,1522076.9004068666,0,null,0,0,0,null,1522076.9,1522076.9004068666,0,null,11144.12,11144.124143599998,0,null,null,null,0,null,0,0,0,null,21826.37,null,21826,null,3817.36,null,3817,null,0,null,0,null,0,null,0,null,null,null,0,null,null,null,0,null,null,null,0,null,null,null,0,null,"NO",{"$f":"IF(ISERROR(VLOOKUP($A234+8860000,'Growth Data'!$A:$F,3,0)),\"NO\",VLOOKUP($A234+8860000,'Growth Data'!$A:$F,3,0))","v":"NO"},0,null,0,{"$f":"IF(BM234=\"YES\",IF(ISERROR(VLOOKUP($A234+8860000,'Growth Data'!$A:$F,6,0)),0,VLOOKUP($A234+8860000,'Growth Data'!$A:$F,6,0)),0)","v":0},0,null,"NO",{"$f":"IF(ISERROR(VLOOKUP($A234+8860000,'Growth Data'!$A:$F,4,0)),\"NO\",VLOOKUP($A234+8860000,'Growth Data'!$A:$F,4,0))","v":"NO"},0,null,0,{"$f":"IF(BU234=\"YES\",IF(ISERROR(VLOOKUP($A234+8860000,'Growth Data'!$A:$Z,7,0)),0,VLOOKUP($A234+8860000,'Growth Data'!$A:$Z,7,0)),0)","v":0},0,null,"NO",{"$f":"IF(ISERROR(VLOOKUP($A234+8860000,'Growth Data'!$A:$F,5,0)),\"NO\",VLOOKUP($A234+8860000,'Growth Data'!$A:$F,5,0))","v":"NO"},0,null,0,{"$f":"IF(CC234=\"YES\",IF(ISERROR(VLOOKUP($A234+8860000,'Growth Data'!$A:$Z,8,0)),0,VLOOKUP($A234+8860000,'Growth Data'!$A:$Z,8,0)),0)","v":0},0,null,null,null,0]
[3303,"St Katharine's Knockholt CEP School",null,"St Katharine's Knockholt CEP School","St Katharine's Knockholt CEP School",0,null,745807.97,745807.9705848922,0,null,0,0,0,null,745807.97,745807.9705848922,0,null,5269.25,5269.25002755888,0,null,null,null,0,null,0,0,0,null,81748.14,null,81748,null,0,null,0,null,0,null,0,null,0,null,0,null,null,null,0,null,null,null,0,null,null,null,0,null,null,null,0,null,"NO",{"$f":"IF(ISERROR(VLOOKUP($A235+8860000,'Growth Data'!$A:$F,3,0)),\"NO\",VLOOKUP($A235+8860000,'Growth Data'!$A:$F,3,0))","v":"NO"},0,null,0,{"$f":"IF(BM235=\"YES\",IF(ISERROR(VLOOKUP($A235+8860000,'Growth Data'!$A:$F,6,0)),0,VLOOKUP($A235+8860000,'Growth Data'!$A:$F,6,0)),0)","v":0},0,null,"NO",{"$f":"IF(ISERROR(VLOOKUP($A235+8860000,'Growth Data'!$A:$F,4,0)),\"NO\",VLOOKUP($A235+8860000,'Growth Data'!$A:$F,4,0))","v":"NO"},0,null,0,{"$f":"IF(BU235=\"YES\",IF(ISERROR(VLOOKUP($A235+8860000,'Growth Data'!$A:$Z,7,0)),0,VLOOKUP($A235+8860000,'Growth Data'!$A:$Z,7,0)),0)","v":0},0,null,"NO",{"$f":"IF(ISERROR(VLOOKUP($A235+8860000,'Growth Data'!$A:$F,5,0)),\"NO\",VLOOKUP($A235+8860000,'Growth Data'!$A:$F,5,0))","v":"NO"},0,null,0,{"$f":"IF(CC235=\"YES\",IF(ISERROR(VLOOKUP($A235+8860000,'Growth Data'!$A:$Z,8,0)),0,VLOOKUP($A235+8860000,'Growth Data'!$A:$Z,8,0)),0)","v":0},0,null,null,null,0]
[3307,"Chevening (St Botolph's) CEP School",null,"Chevening (St Botolph's) CEP School","Chevening (St Botolph's) CEP School",0,null,756056.47,756056.47095980204,0,null,0,0,0,null,756056.47,756056.47095980204,0,null,5508.76,5508.7613924479201,0,null,null,null,0,null,0,0,0,null,63107.05,null,63107,null,0,null,0,null,0,null,0,null,0,null,0,null,null,null,0,null,null,null,0,null,null,null,0,null,null,null,0,null,"NO",{"$f":"IF(ISERROR(VLOOKUP($A236+8860000,'Growth Data'!$A:$F,3,0)),\"NO\",VLOOKUP($A236+8860000,'Growth Data'!$A:$F,3,0))","v":"NO"},0,null,0,{"$f":"IF(BM236=\"YES\",IF(ISERROR(VLOOKUP($A236+8860000,'Growth Data'!$A:$F,6,0)),0,VLOOKUP($A236+8860000,'Growth Data'!$A:$F,6,0)),0)","v":0},0,null,"NO",{"$f":"IF(ISERROR(VLOOKUP($A236+8860000,'Growth Data'!$A:$F,4,0)),\"NO\",VLOOKUP($A236+8860000,'Growth Data'!$A:$F,4,0))","v":"NO"},0,null,0,{"$f":"IF(BU236=\"YES\",IF(ISERROR(VLOOKUP($A236+8860000,'Growth Data'!$A:$Z,7,0)),0,VLOOKUP($A236+8860000,'Growth Data'!$A:$Z,7,0)),0)","v":0},0,null,"NO",{"$f":"IF(ISERROR(VLOOKUP($A236+8860000,'Growth Data'!$A:$F,5,0)),\"NO\",VLOOKUP($A236+8860000,'Growth Data'!$A:$F,5,0))","v":"NO"},0,null,0,{"$f":"IF(CC236=\"YES\",IF(ISERROR(VLOOKUP($A236+8860000,'Growth Data'!$A:$Z,8,0)),0,VLOOKUP($A236+8860000,'Growth Data'!$A:$Z,8,0)),0)","v":0},0,null,null,null,0]
[3308,"Colliers Green CEP School",null,"Colliers Green CEP School","Colliers Green CEP School",0,null,454982.91,454982.91088644095,0,null,0,0,0,null,454982.91,454982.91088644095,0,null,2901.58,2901.5807102000008,0,null,null,null,0,null,0,0,0,null,69939.67,null,69940,null,0,null,0,null,0,null,0,null,0,null,0,null,null,null,0,null,null,null,0,null,null,null,0,null,null,null,0,null,"NO",{"$f":"IF(ISERROR(VLOOKUP($A237+8860000,'Growth Data'!$A:$F,3,0)),\"NO\",VLOOKUP($A237+8860000,'Growth Data'!$A:$F,3,0))","v":"NO"},0,null,0,{"$f":"IF(BM237=\"YES\",IF(ISERROR(VLOOKUP($A237+8860000,'Growth Data'!$A:$F,6,0)),0,VLOOKUP($A237+8860000,'Growth Data'!$A:$F,6,0)),0)","v":0},0,null,"NO",{"$f":"IF(ISERROR(VLOOKUP($A237+8860000,'Growth Data'!$A:$F,4,0)),\"NO\",VLOOKUP($A237+8860000,'Growth Data'!$A:$F,4,0))","v":"NO"},0,null,0,{"$f":"IF(BU237=\"YES\",IF(ISERROR(VLOOKUP($A237+8860000,'Growth Data'!$A:$Z,7,0)),0,VLOOKUP($A237+8860000,'Growth Data'!$A:$Z,7,0)),0)","v":0},0,null,"NO",{"$f":"IF(ISERROR(VLOOKUP($A237+8860000,'Growth Data'!$A:$F,5,0)),\"NO\",VLOOKUP($A237+8860000,'Growth Data'!$A:$F,5,0))","v":"NO"},0,null,0,{"$f":"IF(CC237=\"YES\",IF(ISERROR(VLOOKUP($A237+8860000,'Growth Data'!$A:$Z,8,0)),0,VLOOKUP($A237+8860000,'Growth Data'!$A:$Z,8,0)),0)","v":0},0,null,null,null,0]
[3309,"Sissinghurst CEP School",null,"Sissinghurst CEP School","Sissinghurst CEP School",0,null,618789.17000000004,618789.17045375763,0,null,0,0,0,null,618789.17000000004,618789.17045375763,0,null,4159.79,4159.7882748000002,0,null,null,null,0,null,0,0,0,null,179354.07,null,179354,null,0,null,0,null,0,null,0,null,0,null,0,null,null,null,0,null,null,null,0,null,null,null,0,null,null,null,0,null,"NO",{"$f":"IF(ISERROR(VLOOKUP($A238+8860000,'Growth Data'!$A:$F,3,0)),\"NO\",VLOOKUP($A238+8860000,'Growth Data'!$A:$F,3,0))","v":"NO"},0,null,0,{"$f":"IF(BM238=\"YES\",IF(ISERROR(VLOOKUP($A238+8860000,'Growth Data'!$A:$F,6,0)),0,VLOOKUP($A238+8860000,'Growth Data'!$A:$F,6,0)),0)","v":0},0,null,"NO",{"$f":"IF(ISERROR(VLOOKUP($A238+8860000,'Growth Data'!$A:$F,4,0)),\"NO\",VLOOKUP($A238+8860000,'Growth Data'!$A:$F,4,0))","v":"NO"},0,null,0,{"$f":"IF(BU238=\"YES\",IF(ISERROR(VLOOKUP($A238+8860000,'Growth Data'!$A:$Z,7,0)),0,VLOOKUP($A238+8860000,'Growth Data'!$A:$Z,7,0)),0)","v":0},0,null,"NO",{"$f":"IF(ISERROR(VLOOKUP($A238+8860000,'Growth Data'!$A:$F,5,0)),\"NO\",VLOOKUP($A238+8860000,'Growth Data'!$A:$F,5,0))","v":"NO"},0,null,0,{"$f":"IF(CC238=\"YES\",IF(ISERROR(VLOOKUP($A238+8860000,'Growth Data'!$A:$Z,8,0)),0,VLOOKUP($A238+8860000,'Growth Data'!$A:$Z,8,0)),0)","v":0},0,null,null,null,0]
[3312,"Hever CEP School",null,"Hever CEP School","Hever CEP School",0,null,547078.25,547078.25054012239,0,null,0,0,0,null,547078.25,547078.25054012239,0,null,3486.22,3486.22097782936,0,null,null,null,0,null,0,0,0,null,54402.1,null,54402,null,559.79,null,560,null,0,null,0,null,0,null,0,null,null,null,0,null,null,null,0,null,null,null,0,null,null,null,0,null,"NO",{"$f":"IF(ISERROR(VLOOKUP($A239+8860000,'Growth Data'!$A:$F,3,0)),\"NO\",VLOOKUP($A239+8860000,'Growth Data'!$A:$F,3,0))","v":"NO"},0,null,0,{"$f":"IF(BM239=\"YES\",IF(ISERROR(VLOOKUP($A239+8860000,'Growth Data'!$A:$F,6,0)),0,VLOOKUP($A239+8860000,'Growth Data'!$A:$F,6,0)),0)","v":0},0,null,"NO",{"$f":"IF(ISERROR(VLOOKUP($A239+8860000,'Growth Data'!$A:$F,4,0)),\"NO\",VLOOKUP($A239+8860000,'Growth Data'!$A:$F,4,0))","v":"NO"},0,null,0,{"$f":"IF(BU239=\"YES\",IF(ISERROR(VLOOKUP($A239+8860000,'Growth Data'!$A:$Z,7,0)),0,VLOOKUP($A239+8860000,'Growth Data'!$A:$Z,7,0)),0)","v":0},0,null,"NO",{"$f":"IF(ISERROR(VLOOKUP($A239+8860000,'Growth Data'!$A:$F,5,0)),\"NO\",VLOOKUP($A239+8860000,'Growth Data'!$A:$F,5,0))","v":"NO"},0,null,0,{"$f":"IF(CC239=\"YES\",IF(ISERROR(VLOOKUP($A239+8860000,'Growth Data'!$A:$Z,8,0)),0,VLOOKUP($A239+8860000,'Growth Data'!$A:$Z,8,0)),0)","v":0},0,null,null,null,0]
[3313,"Fordcombe CEP School",null,"Fordcombe CEP School","Fordcombe CEP School",0,null,432491.94,432491.94478023256,0,null,0,0,0,null,432491.94,432491.94478023256,0,null,2608.0100000000002,2608.01263990288,0,null,null,null,0,null,0,0,0,null,117103.81,null,117104,null,0,null,0,null,0,null,0,null,0,null,0,null,null,null,0,null,null,null,0,null,null,null,0,null,null,null,0,null,"NO",{"$f":"IF(ISERROR(VLOOKUP($A240+8860000,'Growth Data'!$A:$F,3,0)),\"NO\",VLOOKUP($A240+8860000,'Growth Data'!$A:$F,3,0))","v":"NO"},0,null,0,{"$f":"IF(BM240=\"YES\",IF(ISERROR(VLOOKUP($A240+8860000,'Growth Data'!$A:$F,6,0)),0,VLOOKUP($A240+8860000,'Growth Data'!$A:$F,6,0)),0)","v":0},0,null,"NO",{"$f":"IF(ISERROR(VLOOKUP($A240+8860000,'Growth Data'!$A:$F,4,0)),\"NO\",VLOOKUP($A240+8860000,'Growth Data'!$A:$F,4,0))","v":"NO"},0,null,0,{"$f":"IF(BU240=\"YES\",IF(ISERROR(VLOOKUP($A240+8860000,'Growth Data'!$A:$Z,7,0)),0,VLOOKUP($A240+8860000,'Growth Data'!$A:$Z,7,0)),0)","v":0},0,null,"NO",{"$f":"IF(ISERROR(VLOOKUP($A240+8860000,'Growth Data'!$A:$F,5,0)),\"NO\",VLOOKUP($A240+8860000,'Growth Data'!$A:$F,5,0))","v":"NO"},0,null,0,{"$f":"IF(CC240=\"YES\",IF(ISERROR(VLOOKUP($A240+8860000,'Growth Data'!$A:$Z,8,0)),0,VLOOKUP($A240+8860000,'Growth Data'!$A:$Z,8,0)),0)","v":0},0,null,null,null,0]
[3314,"Penshurst CEP School",null,"Penshurst CEP School","Penshurst CEP School",0,null,434231.82,434231.81796168489,0,null,0,0,0,null,434231.82,434231.81796168489,0,null,2661.24,2661.2373876559996,0,null,null,null,0,null,0,0,0,null,98884.66,null,98885,null,0,null,0,null,0,null,0,null,0,null,0,null,null,null,0,null,null,null,0,null,null,null,0,null,null,null,0,null,"YES",{"$f":"IF(ISERROR(VLOOKUP($A241+8860000,'Growth Data'!$A:$F,3,0)),\"NO\",VLOOKUP($A241+8860000,'Growth Data'!$A:$F,3,0))","v":"NO"},1,null,60,{"$f":"IF(BM241=\"YES\",IF(ISERROR(VLOOKUP($A241+8860000,'Growth Data'!$A:$F,6,0)),0,VLOOKUP($A241+8860000,'Growth Data'!$A:$F,6,0)),0)","v":0},60,null,"YES",{"$f":"IF(ISERROR(VLOOKUP($A241+8860000,'Growth Data'!$A:$F,4,0)),\"NO\",VLOOKUP($A241+8860000,'Growth Data'!$A:$F,4,0))","v":"NO"},1,null,63,{"$f":"IF(BU241=\"YES\",IF(ISERROR(VLOOKUP($A241+8860000,'Growth Data'!$A:$Z,7,0)),0,VLOOKUP($A241+8860000,'Growth Data'!$A:$Z,7,0)),0)","v":0},63,null,"YES",{"$f":"IF(ISERROR(VLOOKUP($A241+8860000,'Growth Data'!$A:$F,5,0)),\"NO\",VLOOKUP($A241+8860000,'Growth Data'!$A:$F,5,0))","v":"NO"},1,null,60,{"$f":"IF(CC241=\"YES\",IF(ISERROR(VLOOKUP($A241+8860000,'Growth Data'!$A:$Z,8,0)),0,VLOOKUP($A241+8860000,'Growth Data'!$A:$Z,8,0)),0)","v":0},60,null,null,null,0]
[3317,"Lady Boswell's CEP School, Sevenoaks",null,"Lady Boswell's CEP School, Sevenoaks","Lady Boswell's CEP School, Sevenoaks",0,null,1273230,1273230,0,null,0,0,0,null,1273230,1273230,0,null,9899.7999999999993,9899.8030820803178,0,null,null,null,0,null,0,0,0,null,35158.79,null,35159,null,2484.12,null,2484,null,0,null,0,null,0,null,0,null,null,null,0,null,null,null,0,null,null,null,0,null,null,null,0,null,"NO",{"$f":"IF(ISERROR(VLOOKUP($A242+8860000,'Growth Data'!$A:$F,3,0)),\"NO\",VLOOKUP($A242+8860000,'Growth Data'!$A:$F,3,0))","v":"NO"},0,null,0,{"$f":"IF(BM242=\"YES\",IF(ISERROR(VLOOKUP($A242+8860000,'Growth Data'!$A:$F,6,0)),0,VLOOKUP($A242+8860000,'Growth Data'!$A:$F,6,0)),0)","v":0},0,null,"NO",{"$f":"IF(ISERROR(VLOOKUP($A242+8860000,'Growth Data'!$A:$F,4,0)),\"NO\",VLOOKUP($A242+8860000,'Growth Data'!$A:$F,4,0))","v":"NO"},0,null,0,{"$f":"IF(BU242=\"YES\",IF(ISERROR(VLOOKUP($A242+8860000,'Growth Data'!$A:$Z,7,0)),0,VLOOKUP($A242+8860000,'Growth Data'!$A:$Z,7,0)),0)","v":0},0,null,"NO",{"$f":"IF(ISERROR(VLOOKUP($A242+8860000,'Growth Data'!$A:$F,5,0)),\"NO\",VLOOKUP($A242+8860000,'Growth Data'!$A:$F,5,0))","v":"NO"},0,null,0,{"$f":"IF(CC242=\"YES\",IF(ISERROR(VLOOKUP($A242+8860000,'Growth Data'!$A:$Z,8,0)),0,VLOOKUP($A242+8860000,'Growth Data'!$A:$Z,8,0)),0)","v":0},0,null,null,null,0]
[3318,"Ide Hill CEP School",null,"Ide Hill CEP School","Ide Hill CEP School",0,null,542679.48,542679.47788890149,0,null,0,0,0,null,542679.48,542679.47788890149,0,null,3645.9,3645.8952210887201,0,null,null,null,0,null,0,0,0,null,161983.31,null,161983,null,0,null,0,null,0,null,0,null,0,null,0,null,null,null,0,null,null,null,0,null,null,null,0,null,null,null,0,null,"YES",{"$f":"IF(ISERROR(VLOOKUP($A243+8860000,'Growth Data'!$A:$F,3,0)),\"NO\",VLOOKUP($A243+8860000,'Growth Data'!$A:$F,3,0))","v":"NO"},1,null,30,{"$f":"IF(BM243=\"YES\",IF(ISERROR(VLOOKUP($A243+8860000,'Growth Data'!$A:$F,6,0)),0,VLOOKUP($A243+8860000,'Growth Data'!$A:$F,6,0)),0)","v":0},30,null,"NO",{"$f":"IF(ISERROR(VLOOKUP($A243+8860000,'Growth Data'!$A:$F,4,0)),\"NO\",VLOOKUP($A243+8860000,'Growth Data'!$A:$F,4,0))","v":"NO"},0,null,0,{"$f":"IF(BU243=\"YES\",IF(ISERROR(VLOOKUP($A243+8860000,'Growth Data'!$A:$Z,7,0)),0,VLOOKUP($A243+8860000,'Growth Data'!$A:$Z,7,0)),0)","v":0},0,null,"NO",{"$f":"IF(ISERROR(VLOOKUP($A243+8860000,'Growth Data'!$A:$F,5,0)),\"NO\",VLOOKUP($A243+8860000,'Growth Data'!$A:$F,5,0))","v":"NO"},0,null,0,{"$f":"IF(CC243=\"YES\",IF(ISERROR(VLOOKUP($A243+8860000,'Growth Data'!$A:$Z,8,0)),0,VLOOKUP($A243+8860000,'Growth Data'!$A:$Z,8,0)),0)","v":0},0,null,null,null,0]
[3320,"St Barnabas CEP School",null,"St Barnabas CEP School","St Barnabas CEP School",0,null,753772.36,753772.35712786438,0,null,64727.11,64727.111618378316,0,null,818499.47,818499.4687462427,0,null,5109.8599999999997,5109.8633746000005,0,null,null,null,0,null,0,0,0,null,49253.03,null,49253,null,1074.7,null,1075,null,0,null,0,null,0,null,0,null,null,null,0,null,null,null,0,null,null,null,0,null,null,null,0,null,"YES",{"$f":"IF(ISERROR(VLOOKUP($A244+8860000,'Growth Data'!$A:$F,3,0)),\"NO\",VLOOKUP($A244+8860000,'Growth Data'!$A:$F,3,0))","v":"NO"},1,null,27,{"$f":"IF(BM244=\"YES\",IF(ISERROR(VLOOKUP($A244+8860000,'Growth Data'!$A:$F,6,0)),0,VLOOKUP($A244+8860000,'Growth Data'!$A:$F,6,0)),0)","v":0},27,null,"NO",{"$f":"IF(ISERROR(VLOOKUP($A244+8860000,'Growth Data'!$A:$F,4,0)),\"NO\",VLOOKUP($A244+8860000,'Growth Data'!$A:$F,4,0))","v":"NO"},0,null,0,{"$f":"IF(BU244=\"YES\",IF(ISERROR(VLOOKUP($A244+8860000,'Growth Data'!$A:$Z,7,0)),0,VLOOKUP($A244+8860000,'Growth Data'!$A:$Z,7,0)),0)","v":0},0,null,"NO",{"$f":"IF(ISERROR(VLOOKUP($A244+8860000,'Growth Data'!$A:$F,5,0)),\"NO\",VLOOKUP($A244+8860000,'Growth Data'!$A:$F,5,0))","v":"NO"},0,null,0,{"$f":"IF(CC244=\"YES\",IF(ISERROR(VLOOKUP($A244+8860000,'Growth Data'!$A:$Z,8,0)),0,VLOOKUP($A244+8860000,'Growth Data'!$A:$Z,8,0)),0)","v":0},0,null,null,null,0]
[3322,"St James' CEI School",null,"St James' CEI School","St James' CEI School",0,null,962703.76,962703.75514640636,0,null,0,0,0,null,962703.76,962703.75514640636,0,null,6932.98,6932.980458,0,null,null,null,0,null,0,0,0,null,33604.58,null,33605,null,2639.54,null,2640,null,0,null,0,null,0,null,0,null,null,null,0,null,null,null,0,null,null,null,0,null,null,null,0,null,"NO",{"$f":"IF(ISERROR(VLOOKUP($A245+8860000,'Growth Data'!$A:$F,3,0)),\"NO\",VLOOKUP($A245+8860000,'Growth Data'!$A:$F,3,0))","v":"NO"},0,null,0,{"$f":"IF(BM245=\"YES\",IF(ISERROR(VLOOKUP($A245+8860000,'Growth Data'!$A:$F,6,0)),0,VLOOKUP($A245+8860000,'Growth Data'!$A:$F,6,0)),0)","v":0},0,null,"NO",{"$f":"IF(ISERROR(VLOOKUP($A245+8860000,'Growth Data'!$A:$F,4,0)),\"NO\",VLOOKUP($A245+8860000,'Growth Data'!$A:$F,4,0))","v":"NO"},0,null,0,{"$f":"IF(BU245=\"YES\",IF(ISERROR(VLOOKUP($A245+8860000,'Growth Data'!$A:$Z,7,0)),0,VLOOKUP($A245+8860000,'Growth Data'!$A:$Z,7,0)),0)","v":0},0,null,"NO",{"$f":"IF(ISERROR(VLOOKUP($A245+8860000,'Growth Data'!$A:$F,5,0)),\"NO\",VLOOKUP($A245+8860000,'Growth Data'!$A:$F,5,0))","v":"NO"},0,null,0,{"$f":"IF(CC245=\"YES\",IF(ISERROR(VLOOKUP($A245+8860000,'Growth Data'!$A:$Z,8,0)),0,VLOOKUP($A245+8860000,'Growth Data'!$A:$Z,8,0)),0)","v":0},0,null,null,null,0]
[3323,"Hunton CEP School",null,"Hunton CEP School","Hunton CEP School",0,null,405938.83,405938.83260569535,0,null,0,0,0,null,405938.83,405938.83260569535,0,null,2439.38,2439.3820129999999,0,null,null,null,0,null,0,0,0,null,23011.66,null,23012,null,3698.83,null,3699,null,0,null,0,null,0,null,0,null,null,null,0,null,null,null,0,null,null,null,0,null,null,null,0,null,"NO",{"$f":"IF(ISERROR(VLOOKUP($A246+8860000,'Growth Data'!$A:$F,3,0)),\"NO\",VLOOKUP($A246+8860000,'Growth Data'!$A:$F,3,0))","v":"NO"},0,null,0,{"$f":"IF(BM246=\"YES\",IF(ISERROR(VLOOKUP($A246+8860000,'Growth Data'!$A:$F,6,0)),0,VLOOKUP($A246+8860000,'Growth Data'!$A:$F,6,0)),0)","v":0},0,null,"NO",{"$f":"IF(ISERROR(VLOOKUP($A246+8860000,'Growth Data'!$A:$F,4,0)),\"NO\",VLOOKUP($A246+8860000,'Growth Data'!$A:$F,4,0))","v":"NO"},0,null,0,{"$f":"IF(BU246=\"YES\",IF(ISERROR(VLOOKUP($A246+8860000,'Growth Data'!$A:$Z,7,0)),0,VLOOKUP($A246+8860000,'Growth Data'!$A:$Z,7,0)),0)","v":0},0,null,"NO",{"$f":"IF(ISERROR(VLOOKUP($A246+8860000,'Growth Data'!$A:$F,5,0)),\"NO\",VLOOKUP($A246+8860000,'Growth Data'!$A:$F,5,0))","v":"NO"},0,null,0,{"$f":"IF(CC246=\"YES\",IF(ISERROR(VLOOKUP($A246+8860000,'Growth Data'!$A:$Z,8,0)),0,VLOOKUP($A246+8860000,'Growth Data'!$A:$Z,8,0)),0)","v":0},0,null,null,null,0]
[3325,"Platt CEP School",null,"Platt CEP School","Platt CEP School",0,null,563234.65,563234.64854615717,0,null,0,0,0,null,563234.65,563234.64854615717,0,null,3748.95,3748.9449883999996,0,null,null,null,0,null,0,0,0,null,40510.230000000003,null,40510,null,1948.98,null,1949,null,0,null,0,null,0,null,0,null,null,null,0,null,null,null,0,null,null,null,0,null,null,null,0,null,"NO",{"$f":"IF(ISERROR(VLOOKUP($A247+8860000,'Growth Data'!$A:$F,3,0)),\"NO\",VLOOKUP($A247+8860000,'Growth Data'!$A:$F,3,0))","v":"NO"},0,null,0,{"$f":"IF(BM247=\"YES\",IF(ISERROR(VLOOKUP($A247+8860000,'Growth Data'!$A:$F,6,0)),0,VLOOKUP($A247+8860000,'Growth Data'!$A:$F,6,0)),0)","v":0},0,null,"NO",{"$f":"IF(ISERROR(VLOOKUP($A247+8860000,'Growth Data'!$A:$F,4,0)),\"NO\",VLOOKUP($A247+8860000,'Growth Data'!$A:$F,4,0))","v":"NO"},0,null,0,{"$f":"IF(BU247=\"YES\",IF(ISERROR(VLOOKUP($A247+8860000,'Growth Data'!$A:$Z,7,0)),0,VLOOKUP($A247+8860000,'Growth Data'!$A:$Z,7,0)),0)","v":0},0,null,"NO",{"$f":"IF(ISERROR(VLOOKUP($A247+8860000,'Growth Data'!$A:$F,5,0)),\"NO\",VLOOKUP($A247+8860000,'Growth Data'!$A:$F,5,0))","v":"NO"},0,null,0,{"$f":"IF(CC247=\"YES\",IF(ISERROR(VLOOKUP($A247+8860000,'Growth Data'!$A:$Z,8,0)),0,VLOOKUP($A247+8860000,'Growth Data'!$A:$Z,8,0)),0)","v":0},0,null,null,null,0]
[3328,"Bapchild & Tonge CEP School",null,"Bapchild & Tonge CEP School","Bapchild & Tonge CEP School",0,null,756102.18,756102.18020719686,0,null,0,0,0,null,756102.18,756102.18020719686,0,null,5186.8999999999996,5186.8964907999998,0,null,null,null,0,null,0,0,0,null,39404.81,null,39405,null,2059.52,null,2060,null,0,null,0,null,0,null,0,null,null,null,0,null,null,null,0,null,null,null,0,null,null,null,0,null,"NO",{"$f":"IF(ISERROR(VLOOKUP($A248+8860000,'Growth Data'!$A:$F,3,0)),\"NO\",VLOOKUP($A248+8860000,'Growth Data'!$A:$F,3,0))","v":"NO"},0,null,0,{"$f":"IF(BM248=\"YES\",IF(ISERROR(VLOOKUP($A248+8860000,'Growth Data'!$A:$F,6,0)),0,VLOOKUP($A248+8860000,'Growth Data'!$A:$F,6,0)),0)","v":0},0,null,"NO",{"$f":"IF(ISERROR(VLOOKUP($A248+8860000,'Growth Data'!$A:$F,4,0)),\"NO\",VLOOKUP($A248+8860000,'Growth Data'!$A:$F,4,0))","v":"NO"},0,null,0,{"$f":"IF(BU248=\"YES\",IF(ISERROR(VLOOKUP($A248+8860000,'Growth Data'!$A:$Z,7,0)),0,VLOOKUP($A248+8860000,'Growth Data'!$A:$Z,7,0)),0)","v":0},0,null,"NO",{"$f":"IF(ISERROR(VLOOKUP($A248+8860000,'Growth Data'!$A:$F,5,0)),\"NO\",VLOOKUP($A248+8860000,'Growth Data'!$A:$F,5,0))","v":"NO"},0,null,0,{"$f":"IF(CC248=\"YES\",IF(ISERROR(VLOOKUP($A248+8860000,'Growth Data'!$A:$Z,8,0)),0,VLOOKUP($A248+8860000,'Growth Data'!$A:$Z,8,0)),0)","v":0},0,null,null,null,0]
[3332,"Hartlip Endowed CEP School",null,"Hartlip Endowed CEP School","Hartlip Endowed CEP School",0,null,437473.83,437473.83047884161,0,null,0,0,0,null,437473.83,437473.83047884161,0,null,2670.48,2670.4813615999997,0,null,null,null,0,null,0,0,0,null,25255.89,null,25256,null,3474.41,null,3474,null,0,null,0,null,0,null,0,null,null,null,0,null,null,null,0,null,null,null,0,null,null,null,0,null,"NO",{"$f":"IF(ISERROR(VLOOKUP($A249+8860000,'Growth Data'!$A:$F,3,0)),\"NO\",VLOOKUP($A249+8860000,'Growth Data'!$A:$F,3,0))","v":"NO"},0,null,0,{"$f":"IF(BM249=\"YES\",IF(ISERROR(VLOOKUP($A249+8860000,'Growth Data'!$A:$F,6,0)),0,VLOOKUP($A249+8860000,'Growth Data'!$A:$F,6,0)),0)","v":0},0,null,"NO",{"$f":"IF(ISERROR(VLOOKUP($A249+8860000,'Growth Data'!$A:$F,4,0)),\"NO\",VLOOKUP($A249+8860000,'Growth Data'!$A:$F,4,0))","v":"NO"},0,null,0,{"$f":"IF(BU249=\"YES\",IF(ISERROR(VLOOKUP($A249+8860000,'Growth Data'!$A:$Z,7,0)),0,VLOOKUP($A249+8860000,'Growth Data'!$A:$Z,7,0)),0)","v":0},0,null,"NO",{"$f":"IF(ISERROR(VLOOKUP($A249+8860000,'Growth Data'!$A:$F,5,0)),\"NO\",VLOOKUP($A249+8860000,'Growth Data'!$A:$F,5,0))","v":"NO"},0,null,0,{"$f":"IF(CC249=\"YES\",IF(ISERROR(VLOOKUP($A249+8860000,'Growth Data'!$A:$Z,8,0)),0,VLOOKUP($A249+8860000,'Growth Data'!$A:$Z,8,0)),0)","v":0},0,null,null,null,0]
[3337,"Tunstall CEP School",null,"Tunstall CEP School","Tunstall CEP School",0,null,1017833,1017833,0,null,0,0,0,null,1017833,1017833,0,null,7600.6,7600.6007983999989,0,null,null,null,0,null,0,0,0,null,22371.84,null,22372,null,3762.82,null,3763,null,75000,null,75000,null,112500,null,112500,null,null,null,0,null,null,null,0,null,null,null,0,null,null,null,0,null,"NO",{"$f":"IF(ISERROR(VLOOKUP($A250+8860000,'Growth Data'!$A:$F,3,0)),\"NO\",VLOOKUP($A250+8860000,'Growth Data'!$A:$F,3,0))","v":"YES"},1,null,0,{"$f":"IF(BM250=\"YES\",IF(ISERROR(VLOOKUP($A250+8860000,'Growth Data'!$A:$F,6,0)),0,VLOOKUP($A250+8860000,'Growth Data'!$A:$F,6,0)),0)","v":30},-30,null,"NO",{"$f":"IF(ISERROR(VLOOKUP($A250+8860000,'Growth Data'!$A:$F,4,0)),\"NO\",VLOOKUP($A250+8860000,'Growth Data'!$A:$F,4,0))","v":"YES"},1,null,0,{"$f":"IF(BU250=\"YES\",IF(ISERROR(VLOOKUP($A250+8860000,'Growth Data'!$A:$Z,7,0)),0,VLOOKUP($A250+8860000,'Growth Data'!$A:$Z,7,0)),0)","v":60},-60,null,"NO",{"$f":"IF(ISERROR(VLOOKUP($A250+8860000,'Growth Data'!$A:$F,5,0)),\"NO\",VLOOKUP($A250+8860000,'Growth Data'!$A:$F,5,0))","v":"NO"},0,null,0,{"$f":"IF(CC250=\"YES\",IF(ISERROR(VLOOKUP($A250+8860000,'Growth Data'!$A:$Z,8,0)),0,VLOOKUP($A250+8860000,'Growth Data'!$A:$Z,8,0)),0)","v":0},0,null,null,null,0]
[3338,"Herne CEJ School",null,"Herne CEJ School","Herne CEJ School",0,null,1241743,1241743,0,null,0,0,0,null,1241743,1241743,0,null,9321.01,9321.0070601999996,0,null,null,null,0,null,0,0,0,null,40421.279999999999,null,40421,null,1957.87,null,1958,null,0,null,0,null,0,null,0,null,null,null,0,null,null,null,0,null,null,null,0,null,null,null,0,null,"YES",{"$f":"IF(ISERROR(VLOOKUP($A251+8860000,'Growth Data'!$A:$F,3,0)),\"NO\",VLOOKUP($A251+8860000,'Growth Data'!$A:$F,3,0))","v":"NO"},1,null,32,{"$f":"IF(BM251=\"YES\",IF(ISERROR(VLOOKUP($A251+8860000,'Growth Data'!$A:$F,6,0)),0,VLOOKUP($A251+8860000,'Growth Data'!$A:$F,6,0)),0)","v":0},32,null,"YES",{"$f":"IF(ISERROR(VLOOKUP($A251+8860000,'Growth Data'!$A:$F,4,0)),\"NO\",VLOOKUP($A251+8860000,'Growth Data'!$A:$F,4,0))","v":"NO"},1,null,32,{"$f":"IF(BU251=\"YES\",IF(ISERROR(VLOOKUP($A251+8860000,'Growth Data'!$A:$Z,7,0)),0,VLOOKUP($A251+8860000,'Growth Data'!$A:$Z,7,0)),0)","v":0},32,null,"YES",{"$f":"IF(ISERROR(VLOOKUP($A251+8860000,'Growth Data'!$A:$F,5,0)),\"NO\",VLOOKUP($A251+8860000,'Growth Data'!$A:$F,5,0))","v":"NO"},1,null,32,{"$f":"IF(CC251=\"YES\",IF(ISERROR(VLOOKUP($A251+8860000,'Growth Data'!$A:$Z,8,0)),0,VLOOKUP($A251+8860000,'Growth Data'!$A:$Z,8,0)),0)","v":0},32,null,null,null,0]
[3339,"Whitstable & Seasalter Endowed CEJ School",null,"Whitstable & Seasalter Endowed CEJ School","Whitstable & Seasalter Endowed CEJ School",0,null,707260.31,707260.30836920452,0,null,0,0,0,null,707260.31,707260.30836920452,0,null,4981.47,4981.4748475999986,0,null,null,null,0,null,0,0,0,null,26455.599999999999,null,26456,null,3354.44,null,3354,null,0,null,0,null,0,null,0,null,null,null,0,null,null,null,0,null,null,null,0,null,null,null,0,null,"NO",{"$f":"IF(ISERROR(VLOOKUP($A252+8860000,'Growth Data'!$A:$F,3,0)),\"NO\",VLOOKUP($A252+8860000,'Growth Data'!$A:$F,3,0))","v":"NO"},0,null,0,{"$f":"IF(BM252=\"YES\",IF(ISERROR(VLOOKUP($A252+8860000,'Growth Data'!$A:$F,6,0)),0,VLOOKUP($A252+8860000,'Growth Data'!$A:$F,6,0)),0)","v":0},0,null,"NO",{"$f":"IF(ISERROR(VLOOKUP($A252+8860000,'Growth Data'!$A:$F,4,0)),\"NO\",VLOOKUP($A252+8860000,'Growth Data'!$A:$F,4,0))","v":"NO"},0,null,0,{"$f":"IF(BU252=\"YES\",IF(ISERROR(VLOOKUP($A252+8860000,'Growth Data'!$A:$Z,7,0)),0,VLOOKUP($A252+8860000,'Growth Data'!$A:$Z,7,0)),0)","v":0},0,null,"NO",{"$f":"IF(ISERROR(VLOOKUP($A252+8860000,'Growth Data'!$A:$F,5,0)),\"NO\",VLOOKUP($A252+8860000,'Growth Data'!$A:$F,5,0))","v":"NO"},0,null,0,{"$f":"IF(CC252=\"YES\",IF(ISERROR(VLOOKUP($A252+8860000,'Growth Data'!$A:$Z,8,0)),0,VLOOKUP($A252+8860000,'Growth Data'!$A:$Z,8,0)),0)","v":0},0,null,null,null,0]
[3340,"St Mary's CEP School, Ashford",null,"St Mary's CEP School, Ashford","St Mary's CEP School, Ashford",0,null,1508636.76,1508636.7626552125,0,null,0,0,0,null,1508636.76,1508636.7626552125,0,null,10784.64,10784.636268,0,null,null,null,0,null,0,0,0,null,53722.02,null,53722,null,627.79999999999995,null,628,null,0,null,0,null,0,null,0,null,null,null,0,null,null,null,0,null,null,null,0,null,null,null,0,null,"NO",{"$f":"IF(ISERROR(VLOOKUP($A253+8860000,'Growth Data'!$A:$F,3,0)),\"NO\",VLOOKUP($A253+8860000,'Growth Data'!$A:$F,3,0))","v":"NO"},0,null,0,{"$f":"IF(BM253=\"YES\",IF(ISERROR(VLOOKUP($A253+8860000,'Growth Data'!$A:$F,6,0)),0,VLOOKUP($A253+8860000,'Growth Data'!$A:$F,6,0)),0)","v":0},0,null,"NO",{"$f":"IF(ISERROR(VLOOKUP($A253+8860000,'Growth Data'!$A:$F,4,0)),\"NO\",VLOOKUP($A253+8860000,'Growth Data'!$A:$F,4,0))","v":"NO"},0,null,0,{"$f":"IF(BU253=\"YES\",IF(ISERROR(VLOOKUP($A253+8860000,'Growth Data'!$A:$Z,7,0)),0,VLOOKUP($A253+8860000,'Growth Data'!$A:$Z,7,0)),0)","v":0},0,null,"NO",{"$f":"IF(ISERROR(VLOOKUP($A253+8860000,'Growth Data'!$A:$F,5,0)),\"NO\",VLOOKUP($A253+8860000,'Growth Data'!$A:$F,5,0))","v":"NO"},0,null,0,{"$f":"IF(CC253=\"YES\",IF(ISERROR(VLOOKUP($A253+8860000,'Growth Data'!$A:$Z,8,0)),0,VLOOKUP($A253+8860000,'Growth Data'!$A:$Z,8,0)),0)","v":0},0,null,null,null,0]
[3346,"Wittersham CEP School",null,"Wittersham CEP School","Wittersham CEP School",0,null,523040.98,523040.98122937884,0,null,0,0,0,null,523040.98,523040.98122937884,0,null,3209.71,3209.7131750000003,0,null,null,null,0,null,0,0,0,null,55348.4,null,55348,null,465.16,null,465,null,0,null,0,null,0,null,0,null,null,null,0,null,null,null,0,null,null,null,0,null,null,null,0,null,"NO",{"$f":"IF(ISERROR(VLOOKUP($A254+8860000,'Growth Data'!$A:$F,3,0)),\"NO\",VLOOKUP($A254+8860000,'Growth Data'!$A:$F,3,0))","v":"NO"},0,null,0,{"$f":"IF(BM254=\"YES\",IF(ISERROR(VLOOKUP($A254+8860000,'Growth Data'!$A:$F,6,0)),0,VLOOKUP($A254+8860000,'Growth Data'!$A:$F,6,0)),0)","v":0},0,null,"NO",{"$f":"IF(ISERROR(VLOOKUP($A254+8860000,'Growth Data'!$A:$F,4,0)),\"NO\",VLOOKUP($A254+8860000,'Growth Data'!$A:$F,4,0))","v":"NO"},0,null,0,{"$f":"IF(BU254=\"YES\",IF(ISERROR(VLOOKUP($A254+8860000,'Growth Data'!$A:$Z,7,0)),0,VLOOKUP($A254+8860000,'Growth Data'!$A:$Z,7,0)),0)","v":0},0,null,"NO",{"$f":"IF(ISERROR(VLOOKUP($A254+8860000,'Growth Data'!$A:$F,5,0)),\"NO\",VLOOKUP($A254+8860000,'Growth Data'!$A:$F,5,0))","v":"NO"},0,null,0,{"$f":"IF(CC254=\"YES\",IF(ISERROR(VLOOKUP($A254+8860000,'Growth Data'!$A:$Z,8,0)),0,VLOOKUP($A254+8860000,'Growth Data'!$A:$Z,8,0)),0)","v":0},0,null,null,null,0]
[3347,"Elham CEP School",null,"Elham CEP School","Elham CEP School",0,null,522764.79,522764.790397587,0,null,0,0,0,null,522764.79,522764.790397587,0,null,3415.13,3415.1348181999992,0,null,null,null,0,null,0,0,0,null,24617.18,null,24617,null,3538.28,null,3538,null,0,null,0,null,0,null,0,null,null,null,0,null,null,null,0,null,null,null,0,null,null,null,0,null,"NO",{"$f":"IF(ISERROR(VLOOKUP($A255+8860000,'Growth Data'!$A:$F,3,0)),\"NO\",VLOOKUP($A255+8860000,'Growth Data'!$A:$F,3,0))","v":"NO"},0,null,0,{"$f":"IF(BM255=\"YES\",IF(ISERROR(VLOOKUP($A255+8860000,'Growth Data'!$A:$F,6,0)),0,VLOOKUP($A255+8860000,'Growth Data'!$A:$F,6,0)),0)","v":0},0,null,"NO",{"$f":"IF(ISERROR(VLOOKUP($A255+8860000,'Growth Data'!$A:$F,4,0)),\"NO\",VLOOKUP($A255+8860000,'Growth Data'!$A:$F,4,0))","v":"NO"},0,null,0,{"$f":"IF(BU255=\"YES\",IF(ISERROR(VLOOKUP($A255+8860000,'Growth Data'!$A:$Z,7,0)),0,VLOOKUP($A255+8860000,'Growth Data'!$A:$Z,7,0)),0)","v":0},0,null,"NO",{"$f":"IF(ISERROR(VLOOKUP($A255+8860000,'Growth Data'!$A:$F,5,0)),\"NO\",VLOOKUP($A255+8860000,'Growth Data'!$A:$F,5,0))","v":"NO"},0,null,0,{"$f":"IF(CC255=\"YES\",IF(ISERROR(VLOOKUP($A255+8860000,'Growth Data'!$A:$Z,8,0)),0,VLOOKUP($A255+8860000,'Growth Data'!$A:$Z,8,0)),0)","v":0},0,null,null,null,0]
[3350,"Saltwood CEP School",null,"Saltwood CEP School","Saltwood CEP School",0,null,773267.18,773267.17678625858,0,null,0,0,0,null,773267.18,773267.17678625858,0,null,5649.1,5649.0951879999984,0,null,null,null,0,null,0,0,0,null,5580,null,5580,null,5442,null,5442,null,0,null,0,null,0,null,0,null,null,null,0,null,null,null,0,null,null,null,0,null,null,null,0,null,"NO",{"$f":"IF(ISERROR(VLOOKUP($A256+8860000,'Growth Data'!$A:$F,3,0)),\"NO\",VLOOKUP($A256+8860000,'Growth Data'!$A:$F,3,0))","v":"NO"},0,null,0,{"$f":"IF(BM256=\"YES\",IF(ISERROR(VLOOKUP($A256+8860000,'Growth Data'!$A:$F,6,0)),0,VLOOKUP($A256+8860000,'Growth Data'!$A:$F,6,0)),0)","v":0},0,null,"NO",{"$f":"IF(ISERROR(VLOOKUP($A256+8860000,'Growth Data'!$A:$F,4,0)),\"NO\",VLOOKUP($A256+8860000,'Growth Data'!$A:$F,4,0))","v":"NO"},0,null,0,{"$f":"IF(BU256=\"YES\",IF(ISERROR(VLOOKUP($A256+8860000,'Growth Data'!$A:$Z,7,0)),0,VLOOKUP($A256+8860000,'Growth Data'!$A:$Z,7,0)),0)","v":0},0,null,"NO",{"$f":"IF(ISERROR(VLOOKUP($A256+8860000,'Growth Data'!$A:$F,5,0)),\"NO\",VLOOKUP($A256+8860000,'Growth Data'!$A:$F,5,0))","v":"NO"},0,null,0,{"$f":"IF(CC256=\"YES\",IF(ISERROR(VLOOKUP($A256+8860000,'Growth Data'!$A:$Z,8,0)),0,VLOOKUP($A256+8860000,'Growth Data'!$A:$Z,8,0)),0)","v":0},0,null,null,null,0]
[3351,"Ash Cartwright and Kelsey CEP School",null,"Ash Cartwright and Kelsey CEP School","Ash Cartwright and Kelsey CEP School",0,null,625833.09,625833.09488971438,0,null,0,0,0,null,625833.09,625833.09488971438,0,null,4211.1400000000003,4211.1436856000009,0,null,null,null,0,null,4.9000000000000004,4.9000000000000004,0,null,36697.35,null,36697,null,2330.2600000000002,null,2330,null,0,null,0,null,0,null,0,null,null,null,0,null,null,null,0,null,null,null,0,null,null,null,0,null,"NO",{"$f":"IF(ISERROR(VLOOKUP($A257+8860000,'Growth Data'!$A:$F,3,0)),\"NO\",VLOOKUP($A257+8860000,'Growth Data'!$A:$F,3,0))","v":"NO"},0,null,0,{"$f":"IF(BM257=\"YES\",IF(ISERROR(VLOOKUP($A257+8860000,'Growth Data'!$A:$F,6,0)),0,VLOOKUP($A257+8860000,'Growth Data'!$A:$F,6,0)),0)","v":0},0,null,"NO",{"$f":"IF(ISERROR(VLOOKUP($A257+8860000,'Growth Data'!$A:$F,4,0)),\"NO\",VLOOKUP($A257+8860000,'Growth Data'!$A:$F,4,0))","v":"NO"},0,null,0,{"$f":"IF(BU257=\"YES\",IF(ISERROR(VLOOKUP($A257+8860000,'Growth Data'!$A:$Z,7,0)),0,VLOOKUP($A257+8860000,'Growth Data'!$A:$Z,7,0)),0)","v":0},0,null,"NO",{"$f":"IF(ISERROR(VLOOKUP($A257+8860000,'Growth Data'!$A:$F,5,0)),\"NO\",VLOOKUP($A257+8860000,'Growth Data'!$A:$F,5,0))","v":"NO"},0,null,0,{"$f":"IF(CC257=\"YES\",IF(ISERROR(VLOOKUP($A257+8860000,'Growth Data'!$A:$Z,8,0)),0,VLOOKUP($A257+8860000,'Growth Data'!$A:$Z,8,0)),0)","v":0},0,null,null,null,0]
[3353,"Deal Parochial CEP School",null,"Deal Parochial CEP School","Deal Parochial CEP School",0,null,781598.08,781598.0777630657,0,null,0,0,0,null,781598.08,781598.0777630657,0,null,5263.93,5263.9296069999991,0,null,null,null,0,null,0,0,0,null,70988.77,null,70989,null,0,null,0,null,0,null,0,null,0,null,0,null,null,null,0,null,null,null,0,null,null,null,0,null,null,null,0,null,"NO",{"$f":"IF(ISERROR(VLOOKUP($A258+8860000,'Growth Data'!$A:$F,3,0)),\"NO\",VLOOKUP($A258+8860000,'Growth Data'!$A:$F,3,0))","v":"NO"},0,null,0,{"$f":"IF(BM258=\"YES\",IF(ISERROR(VLOOKUP($A258+8860000,'Growth Data'!$A:$F,6,0)),0,VLOOKUP($A258+8860000,'Growth Data'!$A:$F,6,0)),0)","v":0},0,null,"NO",{"$f":"IF(ISERROR(VLOOKUP($A258+8860000,'Growth Data'!$A:$F,4,0)),\"NO\",VLOOKUP($A258+8860000,'Growth Data'!$A:$F,4,0))","v":"NO"},0,null,0,{"$f":"IF(BU258=\"YES\",IF(ISERROR(VLOOKUP($A258+8860000,'Growth Data'!$A:$Z,7,0)),0,VLOOKUP($A258+8860000,'Growth Data'!$A:$Z,7,0)),0)","v":0},0,null,"NO",{"$f":"IF(ISERROR(VLOOKUP($A258+8860000,'Growth Data'!$A:$F,5,0)),\"NO\",VLOOKUP($A258+8860000,'Growth Data'!$A:$F,5,0))","v":"NO"},0,null,0,{"$f":"IF(CC258=\"YES\",IF(ISERROR(VLOOKUP($A258+8860000,'Growth Data'!$A:$Z,8,0)),0,VLOOKUP($A258+8860000,'Growth Data'!$A:$Z,8,0)),0)","v":0},0,null,null,null,0]
[3356,"St Mary's CEP School, Dover",null,"St Mary's CEP School, Dover","St Mary's CEP School, Dover",{"$f":"IF(E259=D259,0,1)","v":0},null,893411.85,893411.85001536366,{"$f":"ROUND(H259-I259,0)","v":0},null,0,0,{"$f":"ROUND(L259-M259,0)","v":0},null,893411.85,893411.85001536366,{"$f":"ROUND(P259-Q259,0)","v":0},null,5520.71,5520.7066610000002,{"$f":"ROUND(T259-U259,0)","v":0},null,null,null,{"$f":"ROUND(X259-Y259,0)","v":0},null,0,0,{"$f":"ROUND(AB259-AC259,0)","v":0},null,5580,null,{"$f":"ROUND(AF259-AG259,0)","v":5580},null,5442,null,{"$f":"ROUND(AJ259-AK259,0)","v":5442},null,0,null,{"$f":"ROUND(AN259-AO259,0)","v":0},null,0,null,{"$f":"ROUND(AR259-AS259,0)","v":0},null,null,null,{"$f":"ROUND(AV259-AW259,0)","v":0},null,null,null,{"$f":"ROUND(AZ259-BA259,0)","v":0},null,null,null,{"$f":"ROUND(BD259-BE259,0)","v":0},null,null,null,{"$f":"ROUND(BH259-BI259,0)","v":0},null,"NO",{"$f":"IF(ISERROR(VLOOKUP($A259+8860000,'Growth Data'!$A:$F,3,0)),\"NO\",VLOOKUP($A259+8860000,'Growth Data'!$A:$F,3,0))","v":"NO"},{"$f":"IF(BL259=BM259,0,1)","v":0},null,0,{"$f":"IF(BM259=\"YES\",IF(ISERROR(VLOOKUP($A259+8860000,'Growth Data'!$A:$F,6,0)),0,VLOOKUP($A259+8860000,'Growth Data'!$A:$F,6,0)),0)","v":0},{"$f":"ROUND(BP259-BQ259,0)","v":0},null,"NO",{"$f":"IF(ISERROR(VLOOKUP($A259+8860000,'Growth Data'!$A:$F,4,0)),\"NO\",VLOOKUP($A259+8860000,'Growth Data'!$A:$F,4,0))","v":"NO"},{"$f":"IF(BT259=BU259,0,1)","v":0},null,0,{"$f":"IF(BU259=\"YES\",IF(ISERROR(VLOOKUP($A259+8860000,'Growth Data'!$A:$Z,7,0)),0,VLOOKUP($A259+8860000,'Growth Data'!$A:$Z,7,0)),0)","v":0},{"$f":"ROUND(BX259-BY259,0)","v":0},null,"NO",{"$f":"IF(ISERROR(VLOOKUP($A259+8860000,'Growth Data'!$A:$F,5,0)),\"NO\",VLOOKUP($A259+8860000,'Growth Data'!$A:$F,5,0))","v":"NO"},{"$f":"IF(CB259=CC259,0,1)","v":0},null,0,{"$f":"IF(CC259=\"YES\",IF(ISERROR(VLOOKUP($A259+8860000,'Growth Data'!$A:$Z,8,0)),0,VLOOKUP($A259+8860000,'Growth Data'!$A:$Z,8,0)),0)","v":0},{"$f":"ROUND(CF259-CG259,0)","v":0},null,null,null,{"$f":"ROUND(CJ259-CK259,0)","v":0}]
[3358,"Sholden CEP School",null,"Sholden CEP School","Sholden CEP School",0,null,447011.47,447011.46925779578,0,null,0,0,0,null,447011.47,447011.46925779578,0,null,2721.84,2721.8367724,0,null,null,null,0,null,0,0,0,null,5580,null,5580,null,5442,null,5442,null,0,null,0,null,0,null,0,null,null,null,0,null,null,null,0,null,null,null,0,null,null,null,0,null,"NO",{"$f":"IF(ISERROR(VLOOKUP($A260+8860000,'Growth Data'!$A:$F,3,0)),\"NO\",VLOOKUP($A260+8860000,'Growth Data'!$A:$F,3,0))","v":"NO"},0,null,0,{"$f":"IF(BM260=\"YES\",IF(ISERROR(VLOOKUP($A260+8860000,'Growth Data'!$A:$F,6,0)),0,VLOOKUP($A260+8860000,'Growth Data'!$A:$F,6,0)),0)","v":0},0,null,"NO",{"$f":"IF(ISERROR(VLOOKUP($A260+8860000,'Growth Data'!$A:$F,4,0)),\"NO\",VLOOKUP($A260+8860000,'Growth Data'!$A:$F,4,0))","v":"NO"},0,null,0,{"$f":"IF(BU260=\"YES\",IF(ISERROR(VLOOKUP($A260+8860000,'Growth Data'!$A:$Z,7,0)),0,VLOOKUP($A260+8860000,'Growth Data'!$A:$Z,7,0)),0)","v":0},0,null,"NO",{"$f":"IF(ISERROR(VLOOKUP($A260+8860000,'Growth Data'!$A:$F,5,0)),\"NO\",VLOOKUP($A260+8860000,'Growth Data'!$A:$F,5,0))","v":"NO"},0,null,0,{"$f":"IF(CC260=\"YES\",IF(ISERROR(VLOOKUP($A260+8860000,'Growth Data'!$A:$Z,8,0)),0,VLOOKUP($A260+8860000,'Growth Data'!$A:$Z,8,0)),0)","v":0},0,null,null,null,0]
[3360,"St Peter-in-Thanet CEJ School",null,"St Peter-in-Thanet CEJ School","St Peter-in-Thanet CEJ School",0,null,1336049.71,1336049.7119691852,0,null,0,0,0,null,1336049.71,1336049.7119691852,0,null,9577.7800000000007,9577.7841141999997,0,null,null,null,0,null,0,0,0,null,31458.26,null,31458,null,2854.17,null,2854,null,0,null,0,null,0,null,0,null,null,null,0,null,null,null,0,null,null,null,0,null,null,null,0,null,"NO",{"$f":"IF(ISERROR(VLOOKUP($A261+8860000,'Growth Data'!$A:$F,3,0)),\"NO\",VLOOKUP($A261+8860000,'Growth Data'!$A:$F,3,0))","v":"NO"},0,null,0,{"$f":"IF(BM261=\"YES\",IF(ISERROR(VLOOKUP($A261+8860000,'Growth Data'!$A:$F,6,0)),0,VLOOKUP($A261+8860000,'Growth Data'!$A:$F,6,0)),0)","v":0},0,null,"NO",{"$f":"IF(ISERROR(VLOOKUP($A261+8860000,'Growth Data'!$A:$F,4,0)),\"NO\",VLOOKUP($A261+8860000,'Growth Data'!$A:$F,4,0))","v":"NO"},0,null,0,{"$f":"IF(BU261=\"YES\",IF(ISERROR(VLOOKUP($A261+8860000,'Growth Data'!$A:$Z,7,0)),0,VLOOKUP($A261+8860000,'Growth Data'!$A:$Z,7,0)),0)","v":0},0,null,"NO",{"$f":"IF(ISERROR(VLOOKUP($A261+8860000,'Growth Data'!$A:$F,5,0)),\"NO\",VLOOKUP($A261+8860000,'Growth Data'!$A:$F,5,0))","v":"NO"},0,null,0,{"$f":"IF(CC261=\"YES\",IF(ISERROR(VLOOKUP($A261+8860000,'Growth Data'!$A:$Z,8,0)),0,VLOOKUP($A261+8860000,'Growth Data'!$A:$Z,8,0)),0)","v":0},0,null,null,null,0]
[3364,"Ramsgate, Holy Trinity CEP School",null,"Ramsgate, Holy Trinity CEP School","Ramsgate, Holy Trinity CEP School",0,null,775371.75,775371.75429207576,0,null,0,0,0,null,775371.75,775371.75429207576,0,null,5392.32,5392.3181340000001,0,null,null,null,0,null,0,0,0,null,53581.73,null,53582,null,641.83000000000004,null,642,null,0,null,0,null,0,null,0,null,null,null,0,null,null,null,0,null,null,null,0,null,null,null,0,null,"NO",{"$f":"IF(ISERROR(VLOOKUP($A262+8860000,'Growth Data'!$A:$F,3,0)),\"NO\",VLOOKUP($A262+8860000,'Growth Data'!$A:$F,3,0))","v":"NO"},0,null,0,{"$f":"IF(BM262=\"YES\",IF(ISERROR(VLOOKUP($A262+8860000,'Growth Data'!$A:$F,6,0)),0,VLOOKUP($A262+8860000,'Growth Data'!$A:$F,6,0)),0)","v":0},0,null,"YES",{"$f":"IF(ISERROR(VLOOKUP($A262+8860000,'Growth Data'!$A:$F,4,0)),\"NO\",VLOOKUP($A262+8860000,'Growth Data'!$A:$F,4,0))","v":"NO"},1,null,30,{"$f":"IF(BU262=\"YES\",IF(ISERROR(VLOOKUP($A262+8860000,'Growth Data'!$A:$Z,7,0)),0,VLOOKUP($A262+8860000,'Growth Data'!$A:$Z,7,0)),0)","v":0},30,null,"YES",{"$f":"IF(ISERROR(VLOOKUP($A262+8860000,'Growth Data'!$A:$F,5,0)),\"NO\",VLOOKUP($A262+8860000,'Growth Data'!$A:$F,5,0))","v":"NO"},1,null,30,{"$f":"IF(CC262=\"YES\",IF(ISERROR(VLOOKUP($A262+8860000,'Growth Data'!$A:$Z,8,0)),0,VLOOKUP($A262+8860000,'Growth Data'!$A:$Z,8,0)),0)","v":0},30,null,null,null,0]
[3373,"St Mary's CEP School",null,"St Mary's CEP School","St Mary's CEP School",0,null,866657.33,866657.32513030386,0,null,0,0,0,null,866657.33,866657.32513030386,0,null,5295.86,5295.86240143544,0,null,null,null,0,null,4.91,4.91,0,null,70243.12,null,70243,null,0,null,0,null,0,null,0,null,0,null,0,null,null,null,0,null,null,null,0,null,null,null,0,null,null,null,0,null,"NO",{"$f":"IF(ISERROR(VLOOKUP($A263+8860000,'Growth Data'!$A:$F,3,0)),\"NO\",VLOOKUP($A263+8860000,'Growth Data'!$A:$F,3,0))","v":"NO"},0,null,0,{"$f":"IF(BM263=\"YES\",IF(ISERROR(VLOOKUP($A263+8860000,'Growth Data'!$A:$F,6,0)),0,VLOOKUP($A263+8860000,'Growth Data'!$A:$F,6,0)),0)","v":0},0,null,"NO",{"$f":"IF(ISERROR(VLOOKUP($A263+8860000,'Growth Data'!$A:$F,4,0)),\"NO\",VLOOKUP($A263+8860000,'Growth Data'!$A:$F,4,0))","v":"NO"},0,null,0,{"$f":"IF(BU263=\"YES\",IF(ISERROR(VLOOKUP($A263+8860000,'Growth Data'!$A:$Z,7,0)),0,VLOOKUP($A263+8860000,'Growth Data'!$A:$Z,7,0)),0)","v":0},0,null,"NO",{"$f":"IF(ISERROR(VLOOKUP($A263+8860000,'Growth Data'!$A:$F,5,0)),\"NO\",VLOOKUP($A263+8860000,'Growth Data'!$A:$F,5,0))","v":"NO"},0,null,0,{"$f":"IF(CC263=\"YES\",IF(ISERROR(VLOOKUP($A263+8860000,'Growth Data'!$A:$Z,8,0)),0,VLOOKUP($A263+8860000,'Growth Data'!$A:$Z,8,0)),0)","v":0},0,null,null,null,0]
[3718,"St Augustine's Catholic Primary School, Hythe",null,"St Augustine's Catholic Primary School, Hythe","St Augustine's Catholic Primary School, Hythe",0,null,769373.04,769373.03572807042,0,null,0,0,0,null,769373.04,769373.03572807042,0,null,5263.93,5263.9296069999991,0,null,null,null,0,null,0,0,0,null,46425.85,null,46426,null,1357.42,null,1357,null,0,null,0,null,0,null,0,null,null,null,0,null,null,null,0,null,null,null,0,null,null,null,0,null,"NO",{"$f":"IF(ISERROR(VLOOKUP($A264+8860000,'Growth Data'!$A:$F,3,0)),\"NO\",VLOOKUP($A264+8860000,'Growth Data'!$A:$F,3,0))","v":"NO"},0,null,0,{"$f":"IF(BM264=\"YES\",IF(ISERROR(VLOOKUP($A264+8860000,'Growth Data'!$A:$F,6,0)),0,VLOOKUP($A264+8860000,'Growth Data'!$A:$F,6,0)),0)","v":0},0,null,"NO",{"$f":"IF(ISERROR(VLOOKUP($A264+8860000,'Growth Data'!$A:$F,4,0)),\"NO\",VLOOKUP($A264+8860000,'Growth Data'!$A:$F,4,0))","v":"NO"},0,null,0,{"$f":"IF(BU264=\"YES\",IF(ISERROR(VLOOKUP($A264+8860000,'Growth Data'!$A:$Z,7,0)),0,VLOOKUP($A264+8860000,'Growth Data'!$A:$Z,7,0)),0)","v":0},0,null,"NO",{"$f":"IF(ISERROR(VLOOKUP($A264+8860000,'Growth Data'!$A:$F,5,0)),\"NO\",VLOOKUP($A264+8860000,'Growth Data'!$A:$F,5,0))","v":"NO"},0,null,0,{"$f":"IF(CC264=\"YES\",IF(ISERROR(VLOOKUP($A264+8860000,'Growth Data'!$A:$Z,8,0)),0,VLOOKUP($A264+8860000,'Growth Data'!$A:$Z,8,0)),0)","v":0},0,null,null,null,0]
[3722,"St Ethelbert's Catholic Primary School, Ramsgate",null,"St Ethelbert's Catholic Primary School, Ramsgate","St Ethelbert's Catholic Primary School, Ramsgate",0,null,825756.41,825756.40827610134,0,null,0,0,0,null,825756.41,825756.40827610134,0,null,5418,5417.9958393999996,0,null,null,null,0,null,0,0,0,null,168291.81,null,168292,null,0,null,0,null,0,null,0,null,0,null,0,null,null,null,0,null,null,null,0,null,null,null,0,null,null,null,0,null,"NO",{"$f":"IF(ISERROR(VLOOKUP($A265+8860000,'Growth Data'!$A:$F,3,0)),\"NO\",VLOOKUP($A265+8860000,'Growth Data'!$A:$F,3,0))","v":"NO"},0,null,0,{"$f":"IF(BM265=\"YES\",IF(ISERROR(VLOOKUP($A265+8860000,'Growth Data'!$A:$F,6,0)),0,VLOOKUP($A265+8860000,'Growth Data'!$A:$F,6,0)),0)","v":0},0,null,"NO",{"$f":"IF(ISERROR(VLOOKUP($A265+8860000,'Growth Data'!$A:$F,4,0)),\"NO\",VLOOKUP($A265+8860000,'Growth Data'!$A:$F,4,0))","v":"NO"},0,null,0,{"$f":"IF(BU265=\"YES\",IF(ISERROR(VLOOKUP($A265+8860000,'Growth Data'!$A:$Z,7,0)),0,VLOOKUP($A265+8860000,'Growth Data'!$A:$Z,7,0)),0)","v":0},0,null,"NO",{"$f":"IF(ISERROR(VLOOKUP($A265+8860000,'Growth Data'!$A:$F,5,0)),\"NO\",VLOOKUP($A265+8860000,'Growth Data'!$A:$F,5,0))","v":"NO"},0,null,0,{"$f":"IF(CC265=\"YES\",IF(ISERROR(VLOOKUP($A265+8860000,'Growth Data'!$A:$Z,8,0)),0,VLOOKUP($A265+8860000,'Growth Data'!$A:$Z,8,0)),0)","v":0},0,null,null,null,0]
[3728,"St Anselm's Catholic Primary School, Dartford",null,"St Anselm's Catholic Primary School, Dartford","St Anselm's Catholic Primary School, Dartford",0,null,848439.37,848439.36696426885,0,null,0,0,0,null,848439.37,848439.36696426885,0,null,5615.21,5615.2108879541593,0,null,null,null,0,null,0,0,0,null,5580,null,5580,null,5442,null,5442,null,0,null,0,null,0,null,0,null,null,null,0,null,null,null,0,null,null,null,0,null,null,null,0,null,"NO",{"$f":"IF(ISERROR(VLOOKUP($A266+8860000,'Growth Data'!$A:$F,3,0)),\"NO\",VLOOKUP($A266+8860000,'Growth Data'!$A:$F,3,0))","v":"NO"},0,null,0,{"$f":"IF(BM266=\"YES\",IF(ISERROR(VLOOKUP($A266+8860000,'Growth Data'!$A:$F,6,0)),0,VLOOKUP($A266+8860000,'Growth Data'!$A:$F,6,0)),0)","v":0},0,null,"NO",{"$f":"IF(ISERROR(VLOOKUP($A266+8860000,'Growth Data'!$A:$F,4,0)),\"NO\",VLOOKUP($A266+8860000,'Growth Data'!$A:$F,4,0))","v":"NO"},0,null,0,{"$f":"IF(BU266=\"YES\",IF(ISERROR(VLOOKUP($A266+8860000,'Growth Data'!$A:$Z,7,0)),0,VLOOKUP($A266+8860000,'Growth Data'!$A:$Z,7,0)),0)","v":0},0,null,"NO",{"$f":"IF(ISERROR(VLOOKUP($A266+8860000,'Growth Data'!$A:$F,5,0)),\"NO\",VLOOKUP($A266+8860000,'Growth Data'!$A:$F,5,0))","v":"NO"},0,null,0,{"$f":"IF(CC266=\"YES\",IF(ISERROR(VLOOKUP($A266+8860000,'Growth Data'!$A:$Z,8,0)),0,VLOOKUP($A266+8860000,'Growth Data'!$A:$Z,8,0)),0)","v":0},0,null,null,null,0]
[3733,"Our Lady's Catholic Primary School, Dartford",null,"Our Lady's Catholic Primary School, Dartford","Our Lady's Catholic Primary School, Dartford",0,null,819670.61,819670.61230458401,0,null,0,0,0,null,819670.61,819670.61230458401,0,null,5748.27,5748.2727573369593,0,null,null,null,0,null,0,0,0,null,40902.68,null,40903,null,1909.73,null,1910,null,0,null,0,null,0,null,0,null,null,null,0,null,null,null,0,null,null,null,0,null,null,null,0,null,"NO",{"$f":"IF(ISERROR(VLOOKUP($A267+8860000,'Growth Data'!$A:$F,3,0)),\"NO\",VLOOKUP($A267+8860000,'Growth Data'!$A:$F,3,0))","v":"NO"},0,null,0,{"$f":"IF(BM267=\"YES\",IF(ISERROR(VLOOKUP($A267+8860000,'Growth Data'!$A:$F,6,0)),0,VLOOKUP($A267+8860000,'Growth Data'!$A:$F,6,0)),0)","v":0},0,null,"NO",{"$f":"IF(ISERROR(VLOOKUP($A267+8860000,'Growth Data'!$A:$F,4,0)),\"NO\",VLOOKUP($A267+8860000,'Growth Data'!$A:$F,4,0))","v":"NO"},0,null,0,{"$f":"IF(BU267=\"YES\",IF(ISERROR(VLOOKUP($A267+8860000,'Growth Data'!$A:$Z,7,0)),0,VLOOKUP($A267+8860000,'Growth Data'!$A:$Z,7,0)),0)","v":0},0,null,"NO",{"$f":"IF(ISERROR(VLOOKUP($A267+8860000,'Growth Data'!$A:$F,5,0)),\"NO\",VLOOKUP($A267+8860000,'Growth Data'!$A:$F,5,0))","v":"NO"},0,null,0,{"$f":"IF(CC267=\"YES\",IF(ISERROR(VLOOKUP($A267+8860000,'Growth Data'!$A:$Z,8,0)),0,VLOOKUP($A267+8860000,'Growth Data'!$A:$Z,8,0)),0)","v":0},0,null,null,null,0]
[3749,"St Thomas' Catholic Primary School, Canterbury",null,"St Thomas' Catholic Primary School, Canterbury","St Thomas' Catholic Primary School, Canterbury",0,null,810765.95,810765.94518769451,0,null,0,0,0,null,810765.95,810765.94518769451,0,null,5315.29,5315.2850177999999,0,null,null,null,0,null,0,0,0,null,33992.51,null,33993,null,2600.75,null,2601,null,0,null,0,null,0,null,0,null,null,null,0,null,null,null,0,null,null,null,0,null,null,null,0,null,"NO",{"$f":"IF(ISERROR(VLOOKUP($A268+8860000,'Growth Data'!$A:$F,3,0)),\"NO\",VLOOKUP($A268+8860000,'Growth Data'!$A:$F,3,0))","v":"NO"},0,null,0,{"$f":"IF(BM268=\"YES\",IF(ISERROR(VLOOKUP($A268+8860000,'Growth Data'!$A:$F,6,0)),0,VLOOKUP($A268+8860000,'Growth Data'!$A:$F,6,0)),0)","v":0},0,null,"NO",{"$f":"IF(ISERROR(VLOOKUP($A268+8860000,'Growth Data'!$A:$F,4,0)),\"NO\",VLOOKUP($A268+8860000,'Growth Data'!$A:$F,4,0))","v":"NO"},0,null,0,{"$f":"IF(BU268=\"YES\",IF(ISERROR(VLOOKUP($A268+8860000,'Growth Data'!$A:$Z,7,0)),0,VLOOKUP($A268+8860000,'Growth Data'!$A:$Z,7,0)),0)","v":0},0,null,"NO",{"$f":"IF(ISERROR(VLOOKUP($A268+8860000,'Growth Data'!$A:$F,5,0)),\"NO\",VLOOKUP($A268+8860000,'Growth Data'!$A:$F,5,0))","v":"NO"},0,null,0,{"$f":"IF(CC268=\"YES\",IF(ISERROR(VLOOKUP($A268+8860000,'Growth Data'!$A:$Z,8,0)),0,VLOOKUP($A268+8860000,'Growth Data'!$A:$Z,8,0)),0)","v":0},0,null,null,null,0]
[3893,"Phoenix Community Primary School",null,"Phoenix Community Primary School","Phoenix Community Primary School",0,null,892271.8,892271.80286878627,0,null,0,0,0,null,892271.8,892271.80286878627,0,null,5263.93,5263.9296069999991,0,null,null,null,0,null,0,0,0,null,40131.379999999997,null,40131,null,1986.86,null,1987,null,0,null,0,null,0,null,0,null,null,null,0,null,null,null,0,null,null,null,0,null,null,null,0,null,"NO",{"$f":"IF(ISERROR(VLOOKUP($A269+8860000,'Growth Data'!$A:$F,3,0)),\"NO\",VLOOKUP($A269+8860000,'Growth Data'!$A:$F,3,0))","v":"NO"},0,null,0,{"$f":"IF(BM269=\"YES\",IF(ISERROR(VLOOKUP($A269+8860000,'Growth Data'!$A:$F,6,0)),0,VLOOKUP($A269+8860000,'Growth Data'!$A:$F,6,0)),0)","v":0},0,null,"NO",{"$f":"IF(ISERROR(VLOOKUP($A269+8860000,'Growth Data'!$A:$F,4,0)),\"NO\",VLOOKUP($A269+8860000,'Growth Data'!$A:$F,4,0))","v":"NO"},0,null,0,{"$f":"IF(BU269=\"YES\",IF(ISERROR(VLOOKUP($A269+8860000,'Growth Data'!$A:$Z,7,0)),0,VLOOKUP($A269+8860000,'Growth Data'!$A:$Z,7,0)),0)","v":0},0,null,"NO",{"$f":"IF(ISERROR(VLOOKUP($A269+8860000,'Growth Data'!$A:$F,5,0)),\"NO\",VLOOKUP($A269+8860000,'Growth Data'!$A:$F,5,0))","v":"NO"},0,null,0,{"$f":"IF(CC269=\"YES\",IF(ISERROR(VLOOKUP($A269+8860000,'Growth Data'!$A:$Z,8,0)),0,VLOOKUP($A269+8860000,'Growth Data'!$A:$Z,8,0)),0)","v":0},0,null,null,null,0]
[3896,"Downsview Primary",null,"Downsview Primary","Downsview Primary",0,null,850881.38,850881.38166219252,0,null,0,0,0,null,850881.38,850881.38166219252,0,null,5482.15,5482.1490185713592,0,null,null,null,0,null,0,0,0,null,40834.959999999999,null,40835,null,1916.5,null,1917,null,0,null,0,null,0,null,0,null,null,null,0,null,null,null,0,null,null,null,0,null,null,null,0,null,"NO",{"$f":"IF(ISERROR(VLOOKUP($A270+8860000,'Growth Data'!$A:$F,3,0)),\"NO\",VLOOKUP($A270+8860000,'Growth Data'!$A:$F,3,0))","v":"NO"},0,null,0,{"$f":"IF(BM270=\"YES\",IF(ISERROR(VLOOKUP($A270+8860000,'Growth Data'!$A:$F,6,0)),0,VLOOKUP($A270+8860000,'Growth Data'!$A:$F,6,0)),0)","v":0},0,null,"NO",{"$f":"IF(ISERROR(VLOOKUP($A270+8860000,'Growth Data'!$A:$F,4,0)),\"NO\",VLOOKUP($A270+8860000,'Growth Data'!$A:$F,4,0))","v":"NO"},0,null,0,{"$f":"IF(BU270=\"YES\",IF(ISERROR(VLOOKUP($A270+8860000,'Growth Data'!$A:$Z,7,0)),0,VLOOKUP($A270+8860000,'Growth Data'!$A:$Z,7,0)),0)","v":0},0,null,"NO",{"$f":"IF(ISERROR(VLOOKUP($A270+8860000,'Growth Data'!$A:$F,5,0)),\"NO\",VLOOKUP($A270+8860000,'Growth Data'!$A:$F,5,0))","v":"NO"},0,null,0,{"$f":"IF(CC270=\"YES\",IF(ISERROR(VLOOKUP($A270+8860000,'Growth Data'!$A:$Z,8,0)),0,VLOOKUP($A270+8860000,'Growth Data'!$A:$Z,8,0)),0)","v":0},0,null,null,null,0]
[3898,"Greenfields Community Primary School",null,"Greenfields Community Primary School","Greenfields Community Primary School",0,null,1248924.56,1248924.5616480687,0,null,163164.13,163164.12635916122,0,null,1412088.69,1412088.6880072299,0,null,8191.19,8191.1880226000003,0,null,null,null,0,null,5.0599999999999996,5.0599999999999996,0,null,67415.179999999993,null,67415,null,0,null,0,null,0,null,0,null,0,null,0,null,null,null,0,null,null,null,0,null,null,null,0,null,null,null,0,null,"NO",{"$f":"IF(ISERROR(VLOOKUP($A271+8860000,'Growth Data'!$A:$F,3,0)),\"NO\",VLOOKUP($A271+8860000,'Growth Data'!$A:$F,3,0))","v":"NO"},0,null,0,{"$f":"IF(BM271=\"YES\",IF(ISERROR(VLOOKUP($A271+8860000,'Growth Data'!$A:$F,6,0)),0,VLOOKUP($A271+8860000,'Growth Data'!$A:$F,6,0)),0)","v":0},0,null,"NO",{"$f":"IF(ISERROR(VLOOKUP($A271+8860000,'Growth Data'!$A:$F,4,0)),\"NO\",VLOOKUP($A271+8860000,'Growth Data'!$A:$F,4,0))","v":"NO"},0,null,0,{"$f":"IF(BU271=\"YES\",IF(ISERROR(VLOOKUP($A271+8860000,'Growth Data'!$A:$Z,7,0)),0,VLOOKUP($A271+8860000,'Growth Data'!$A:$Z,7,0)),0)","v":0},0,null,"NO",{"$f":"IF(ISERROR(VLOOKUP($A271+8860000,'Growth Data'!$A:$F,5,0)),\"NO\",VLOOKUP($A271+8860000,'Growth Data'!$A:$F,5,0))","v":"NO"},0,null,0,{"$f":"IF(CC271=\"YES\",IF(ISERROR(VLOOKUP($A271+8860000,'Growth Data'!$A:$Z,8,0)),0,VLOOKUP($A271+8860000,'Growth Data'!$A:$Z,8,0)),0)","v":0},0,null,null,null,0]
[3902,"Hythe Bay C of E Primary School",null,"Hythe Bay C of E Primary School","Hythe Bay C of E Primary School",0,null,1515098.56,1515098.5550908349,0,null,0,0,0,null,1515098.56,1515098.5550908349,0,null,10245.4,10245.4044546,0,null,null,null,0,null,0,0,0,null,128504.24,null,128504,null,0,null,0,null,0,null,0,null,0,null,0,null,null,null,0,null,null,null,0,null,null,null,0,null,null,null,0,null,"NO",{"$f":"IF(ISERROR(VLOOKUP($A272+8860000,'Growth Data'!$A:$F,3,0)),\"NO\",VLOOKUP($A272+8860000,'Growth Data'!$A:$F,3,0))","v":"NO"},0,null,0,{"$f":"IF(BM272=\"YES\",IF(ISERROR(VLOOKUP($A272+8860000,'Growth Data'!$A:$F,6,0)),0,VLOOKUP($A272+8860000,'Growth Data'!$A:$F,6,0)),0)","v":0},0,null,"NO",{"$f":"IF(ISERROR(VLOOKUP($A272+8860000,'Growth Data'!$A:$F,4,0)),\"NO\",VLOOKUP($A272+8860000,'Growth Data'!$A:$F,4,0))","v":"NO"},0,null,0,{"$f":"IF(BU272=\"YES\",IF(ISERROR(VLOOKUP($A272+8860000,'Growth Data'!$A:$Z,7,0)),0,VLOOKUP($A272+8860000,'Growth Data'!$A:$Z,7,0)),0)","v":0},0,null,"NO",{"$f":"IF(ISERROR(VLOOKUP($A272+8860000,'Growth Data'!$A:$F,5,0)),\"NO\",VLOOKUP($A272+8860000,'Growth Data'!$A:$F,5,0))","v":"NO"},0,null,0,{"$f":"IF(CC272=\"YES\",IF(ISERROR(VLOOKUP($A272+8860000,'Growth Data'!$A:$Z,8,0)),0,VLOOKUP($A272+8860000,'Growth Data'!$A:$Z,8,0)),0)","v":0},0,null,null,null,0]
[3904,"Castle Hill Community Primary School",null,"Castle Hill Community Primary School","Castle Hill Community Primary School",0,null,1641362.11,1641362.1113175887,0,null,0,0,0,null,1641362.11,1641362.1113175887,0,null,9860.24,9860.2388736000012,0,null,null,null,0,null,5.19,5.19,0,null,33752.639999999999,null,33753,null,2624.74,null,2625,null,0,null,0,null,0,null,0,null,null,null,0,null,null,null,0,null,null,null,0,null,null,null,0,null,"NO",{"$f":"IF(ISERROR(VLOOKUP($A273+8860000,'Growth Data'!$A:$F,3,0)),\"NO\",VLOOKUP($A273+8860000,'Growth Data'!$A:$F,3,0))","v":"NO"},0,null,0,{"$f":"IF(BM273=\"YES\",IF(ISERROR(VLOOKUP($A273+8860000,'Growth Data'!$A:$F,6,0)),0,VLOOKUP($A273+8860000,'Growth Data'!$A:$F,6,0)),0)","v":0},0,null,"NO",{"$f":"IF(ISERROR(VLOOKUP($A273+8860000,'Growth Data'!$A:$F,4,0)),\"NO\",VLOOKUP($A273+8860000,'Growth Data'!$A:$F,4,0))","v":"NO"},0,null,0,{"$f":"IF(BU273=\"YES\",IF(ISERROR(VLOOKUP($A273+8860000,'Growth Data'!$A:$Z,7,0)),0,VLOOKUP($A273+8860000,'Growth Data'!$A:$Z,7,0)),0)","v":0},0,null,"NO",{"$f":"IF(ISERROR(VLOOKUP($A273+8860000,'Growth Data'!$A:$F,5,0)),\"NO\",VLOOKUP($A273+8860000,'Growth Data'!$A:$F,5,0))","v":"NO"},0,null,0,{"$f":"IF(CC273=\"YES\",IF(ISERROR(VLOOKUP($A273+8860000,'Growth Data'!$A:$Z,8,0)),0,VLOOKUP($A273+8860000,'Growth Data'!$A:$Z,8,0)),0)","v":0},0,null,null,null,0]
[3906,"Palace Wood Primary School",null,"Palace Wood Primary School","Palace Wood Primary School",0,null,1445241,1445240.9999999998,0,null,0,0,0,null,1445241,1445240.9999999998,0,null,10707.6,10707.6031518,0,null,null,null,0,null,0,0,0,null,150598.69,null,150599,null,0,null,0,null,0,null,0,null,0,null,0,null,null,null,0,null,null,null,0,null,null,null,0,null,null,null,0,null,"NO",{"$f":"IF(ISERROR(VLOOKUP($A274+8860000,'Growth Data'!$A:$F,3,0)),\"NO\",VLOOKUP($A274+8860000,'Growth Data'!$A:$F,3,0))","v":"NO"},0,null,0,{"$f":"IF(BM274=\"YES\",IF(ISERROR(VLOOKUP($A274+8860000,'Growth Data'!$A:$F,6,0)),0,VLOOKUP($A274+8860000,'Growth Data'!$A:$F,6,0)),0)","v":0},0,null,"NO",{"$f":"IF(ISERROR(VLOOKUP($A274+8860000,'Growth Data'!$A:$F,4,0)),\"NO\",VLOOKUP($A274+8860000,'Growth Data'!$A:$F,4,0))","v":"NO"},0,null,0,{"$f":"IF(BU274=\"YES\",IF(ISERROR(VLOOKUP($A274+8860000,'Growth Data'!$A:$Z,7,0)),0,VLOOKUP($A274+8860000,'Growth Data'!$A:$Z,7,0)),0)","v":0},0,null,"NO",{"$f":"IF(ISERROR(VLOOKUP($A274+8860000,'Growth Data'!$A:$F,5,0)),\"NO\",VLOOKUP($A274+8860000,'Growth Data'!$A:$F,5,0))","v":"NO"},0,null,0,{"$f":"IF(CC274=\"YES\",IF(ISERROR(VLOOKUP($A274+8860000,'Growth Data'!$A:$Z,8,0)),0,VLOOKUP($A274+8860000,'Growth Data'!$A:$Z,8,0)),0)","v":0},0,null,null,null,0]
[3907,"Hextable Primary School",null,"Hextable Primary School","Hextable Primary School",0,null,1579475.11,1579475.1095841317,0,null,0,0,0,null,1579475.11,1579475.1095841317,0,null,11842.51,11842.506375069197,0,null,null,null,0,null,0,0,0,null,66013.929999999993,null,66014,null,0,null,0,null,0,null,0,null,0,null,0,null,null,null,0,null,null,null,0,null,null,null,0,null,null,null,0,null,"NO",{"$f":"IF(ISERROR(VLOOKUP($A275+8860000,'Growth Data'!$A:$F,3,0)),\"NO\",VLOOKUP($A275+8860000,'Growth Data'!$A:$F,3,0))","v":"YES"},1,null,0,{"$f":"IF(BM275=\"YES\",IF(ISERROR(VLOOKUP($A275+8860000,'Growth Data'!$A:$F,6,0)),0,VLOOKUP($A275+8860000,'Growth Data'!$A:$F,6,0)),0)","v":60},-60,null,"NO",{"$f":"IF(ISERROR(VLOOKUP($A275+8860000,'Growth Data'!$A:$F,4,0)),\"NO\",VLOOKUP($A275+8860000,'Growth Data'!$A:$F,4,0))","v":"YES"},1,null,0,{"$f":"IF(BU275=\"YES\",IF(ISERROR(VLOOKUP($A275+8860000,'Growth Data'!$A:$Z,7,0)),0,VLOOKUP($A275+8860000,'Growth Data'!$A:$Z,7,0)),0)","v":90},-90,null,"NO",{"$f":"IF(ISERROR(VLOOKUP($A275+8860000,'Growth Data'!$A:$F,5,0)),\"NO\",VLOOKUP($A275+8860000,'Growth Data'!$A:$F,5,0))","v":"NO"},0,null,0,{"$f":"IF(CC275=\"YES\",IF(ISERROR(VLOOKUP($A275+8860000,'Growth Data'!$A:$Z,8,0)),0,VLOOKUP($A275+8860000,'Growth Data'!$A:$Z,8,0)),0)","v":0},0,null,null,null,0]
[3909,"Ashford Oaks Community Primary School",null,"Ashford Oaks Community Primary School","Ashford Oaks Community Primary School",0,null,1729150.65,1729150.6528756265,0,null,0,0,0,null,1729150.65,1729150.6528756265,0,null,10733.28,10733.280857199998,0,null,null,null,0,null,5.31,5.31,0,null,126017.52,null,126018,null,0,null,0,null,0,null,0,null,0,null,0,null,null,null,0,null,null,null,0,null,null,null,0,null,null,null,0,null,"NO",{"$f":"IF(ISERROR(VLOOKUP($A276+8860000,'Growth Data'!$A:$F,3,0)),\"NO\",VLOOKUP($A276+8860000,'Growth Data'!$A:$F,3,0))","v":"NO"},0,null,0,{"$f":"IF(BM276=\"YES\",IF(ISERROR(VLOOKUP($A276+8860000,'Growth Data'!$A:$F,6,0)),0,VLOOKUP($A276+8860000,'Growth Data'!$A:$F,6,0)),0)","v":0},0,null,"NO",{"$f":"IF(ISERROR(VLOOKUP($A276+8860000,'Growth Data'!$A:$F,4,0)),\"NO\",VLOOKUP($A276+8860000,'Growth Data'!$A:$F,4,0))","v":"NO"},0,null,0,{"$f":"IF(BU276=\"YES\",IF(ISERROR(VLOOKUP($A276+8860000,'Growth Data'!$A:$Z,7,0)),0,VLOOKUP($A276+8860000,'Growth Data'!$A:$Z,7,0)),0)","v":0},0,null,"NO",{"$f":"IF(ISERROR(VLOOKUP($A276+8860000,'Growth Data'!$A:$F,5,0)),\"NO\",VLOOKUP($A276+8860000,'Growth Data'!$A:$F,5,0))","v":"NO"},0,null,0,{"$f":"IF(CC276=\"YES\",IF(ISERROR(VLOOKUP($A276+8860000,'Growth Data'!$A:$Z,8,0)),0,VLOOKUP($A276+8860000,'Growth Data'!$A:$Z,8,0)),0)","v":0},0,null,null,null,0]
[3910,"Joy Lane Primary School",null,"Joy Lane Primary School","Joy Lane Primary School",0,null,1928720,1928720,0,null,0,0,0,null,1928720,1928720,0,null,14148.42,14148.4156754,0,null,null,null,0,null,0,0,0,null,5580,null,5580,null,5442,null,5442,null,0,null,0,null,0,null,0,null,null,null,0,null,null,null,0,null,null,null,0,null,null,null,0,null,"NO",{"$f":"IF(ISERROR(VLOOKUP($A277+8860000,'Growth Data'!$A:$F,3,0)),\"NO\",VLOOKUP($A277+8860000,'Growth Data'!$A:$F,3,0))","v":"NO"},0,null,0,{"$f":"IF(BM277=\"YES\",IF(ISERROR(VLOOKUP($A277+8860000,'Growth Data'!$A:$F,6,0)),0,VLOOKUP($A277+8860000,'Growth Data'!$A:$F,6,0)),0)","v":0},0,null,"NO",{"$f":"IF(ISERROR(VLOOKUP($A277+8860000,'Growth Data'!$A:$F,4,0)),\"NO\",VLOOKUP($A277+8860000,'Growth Data'!$A:$F,4,0))","v":"NO"},0,null,0,{"$f":"IF(BU277=\"YES\",IF(ISERROR(VLOOKUP($A277+8860000,'Growth Data'!$A:$Z,7,0)),0,VLOOKUP($A277+8860000,'Growth Data'!$A:$Z,7,0)),0)","v":0},0,null,"NO",{"$f":"IF(ISERROR(VLOOKUP($A277+8860000,'Growth Data'!$A:$F,5,0)),\"NO\",VLOOKUP($A277+8860000,'Growth Data'!$A:$F,5,0))","v":"NO"},0,null,0,{"$f":"IF(CC277=\"YES\",IF(ISERROR(VLOOKUP($A277+8860000,'Growth Data'!$A:$Z,8,0)),0,VLOOKUP($A277+8860000,'Growth Data'!$A:$Z,8,0)),0)","v":0},0,null,null,null,0]
[3911,"Hornbeam Primary School",null,"Hornbeam Primary School","Hornbeam Primary School",0,null,967775.39,967775.38783004961,0,null,0,0,0,null,967775.39,967775.38783004961,0,null,6547.81,6547.8148770000007,0,null,null,null,0,null,0,0,0,null,70043.63,null,70044,null,0,null,0,null,0,null,0,null,0,null,0,null,null,null,0,null,null,null,0,null,null,null,0,null,null,null,0,null,"NO",{"$f":"IF(ISERROR(VLOOKUP($A278+8860000,'Growth Data'!$A:$F,3,0)),\"NO\",VLOOKUP($A278+8860000,'Growth Data'!$A:$F,3,0))","v":"NO"},0,null,0,{"$f":"IF(BM278=\"YES\",IF(ISERROR(VLOOKUP($A278+8860000,'Growth Data'!$A:$F,6,0)),0,VLOOKUP($A278+8860000,'Growth Data'!$A:$F,6,0)),0)","v":0},0,null,"NO",{"$f":"IF(ISERROR(VLOOKUP($A278+8860000,'Growth Data'!$A:$F,4,0)),\"NO\",VLOOKUP($A278+8860000,'Growth Data'!$A:$F,4,0))","v":"NO"},0,null,0,{"$f":"IF(BU278=\"YES\",IF(ISERROR(VLOOKUP($A278+8860000,'Growth Data'!$A:$Z,7,0)),0,VLOOKUP($A278+8860000,'Growth Data'!$A:$Z,7,0)),0)","v":0},0,null,"NO",{"$f":"IF(ISERROR(VLOOKUP($A278+8860000,'Growth Data'!$A:$F,5,0)),\"NO\",VLOOKUP($A278+8860000,'Growth Data'!$A:$F,5,0))","v":"NO"},0,null,0,{"$f":"IF(CC278=\"YES\",IF(ISERROR(VLOOKUP($A278+8860000,'Growth Data'!$A:$Z,8,0)),0,VLOOKUP($A278+8860000,'Growth Data'!$A:$Z,8,0)),0)","v":0},0,null,null,null,0]
[3913,"Rusthall, St Paul's CE VA School",null,"Rusthall, St Paul's CE VA School","Rusthall, St Paul's CE VA School",0,null,813367.42,813367.42357664846,0,null,0,0,0,null,813367.42,813367.42357664846,0,null,5623.42,5623.4174826000008,0,null,null,null,0,null,0,0,0,null,95725.88,null,95726,null,0,null,0,null,0,null,0,null,0,null,0,null,null,null,0,null,null,null,0,null,null,null,0,null,null,null,0,null,"NO",{"$f":"IF(ISERROR(VLOOKUP($A279+8860000,'Growth Data'!$A:$F,3,0)),\"NO\",VLOOKUP($A279+8860000,'Growth Data'!$A:$F,3,0))","v":"NO"},0,null,0,{"$f":"IF(BM279=\"YES\",IF(ISERROR(VLOOKUP($A279+8860000,'Growth Data'!$A:$F,6,0)),0,VLOOKUP($A279+8860000,'Growth Data'!$A:$F,6,0)),0)","v":0},0,null,"NO",{"$f":"IF(ISERROR(VLOOKUP($A279+8860000,'Growth Data'!$A:$F,4,0)),\"NO\",VLOOKUP($A279+8860000,'Growth Data'!$A:$F,4,0))","v":"NO"},0,null,0,{"$f":"IF(BU279=\"YES\",IF(ISERROR(VLOOKUP($A279+8860000,'Growth Data'!$A:$Z,7,0)),0,VLOOKUP($A279+8860000,'Growth Data'!$A:$Z,7,0)),0)","v":0},0,null,"NO",{"$f":"IF(ISERROR(VLOOKUP($A279+8860000,'Growth Data'!$A:$F,5,0)),\"NO\",VLOOKUP($A279+8860000,'Growth Data'!$A:$F,5,0))","v":"NO"},0,null,0,{"$f":"IF(CC279=\"YES\",IF(ISERROR(VLOOKUP($A279+8860000,'Growth Data'!$A:$Z,8,0)),0,VLOOKUP($A279+8860000,'Growth Data'!$A:$Z,8,0)),0)","v":0},0,null,null,null,0]
[3916,"Green Park Community Primary School",null,"Green Park Community Primary School","Green Park Community Primary School",0,null,1411253.24,1411253.2431387079,0,null,5535.95,5535.9452785300091,0,null,1416789.19,1416789.188417238,0,null,9064.23,9064.2300061999995,0,null,null,null,0,null,0,0,0,null,80963.990000000005,null,80964,null,0,null,0,null,0,null,0,null,0,null,0,null,null,null,0,null,null,null,0,null,null,null,0,null,null,null,0,null,"NO",{"$f":"IF(ISERROR(VLOOKUP($A280+8860000,'Growth Data'!$A:$F,3,0)),\"NO\",VLOOKUP($A280+8860000,'Growth Data'!$A:$F,3,0))","v":"YES"},1,null,0,{"$f":"IF(BM280=\"YES\",IF(ISERROR(VLOOKUP($A280+8860000,'Growth Data'!$A:$F,6,0)),0,VLOOKUP($A280+8860000,'Growth Data'!$A:$F,6,0)),0)","v":49},-49,null,"NO",{"$f":"IF(ISERROR(VLOOKUP($A280+8860000,'Growth Data'!$A:$F,4,0)),\"NO\",VLOOKUP($A280+8860000,'Growth Data'!$A:$F,4,0))","v":"NO"},0,null,0,{"$f":"IF(BU280=\"YES\",IF(ISERROR(VLOOKUP($A280+8860000,'Growth Data'!$A:$Z,7,0)),0,VLOOKUP($A280+8860000,'Growth Data'!$A:$Z,7,0)),0)","v":0},0,null,"NO",{"$f":"IF(ISERROR(VLOOKUP($A280+8860000,'Growth Data'!$A:$F,5,0)),\"NO\",VLOOKUP($A280+8860000,'Growth Data'!$A:$F,5,0))","v":"NO"},0,null,0,{"$f":"IF(CC280=\"YES\",IF(ISERROR(VLOOKUP($A280+8860000,'Growth Data'!$A:$Z,8,0)),0,VLOOKUP($A280+8860000,'Growth Data'!$A:$Z,8,0)),0)","v":0},0,null,null,null,0]
[3917,"Garlinge Primary School",null,"Garlinge Primary School","Garlinge Primary School",0,null,2702156.09,2702156.0878491998,0,null,0,0,0,null,2702156.09,2702156.0878491998,0,null,18744.72,18744.724941999997,0,null,null,null,0,null,5.13,5.13,0,null,63340.44,null,63340,null,0,null,0,null,0,null,0,null,0,null,0,null,null,null,0,null,null,null,0,null,null,null,0,null,null,null,0,null,"NO",{"$f":"IF(ISERROR(VLOOKUP($A281+8860000,'Growth Data'!$A:$F,3,0)),\"NO\",VLOOKUP($A281+8860000,'Growth Data'!$A:$F,3,0))","v":"NO"},0,null,0,{"$f":"IF(BM281=\"YES\",IF(ISERROR(VLOOKUP($A281+8860000,'Growth Data'!$A:$F,6,0)),0,VLOOKUP($A281+8860000,'Growth Data'!$A:$F,6,0)),0)","v":0},0,null,"NO",{"$f":"IF(ISERROR(VLOOKUP($A281+8860000,'Growth Data'!$A:$F,4,0)),\"NO\",VLOOKUP($A281+8860000,'Growth Data'!$A:$F,4,0))","v":"NO"},0,null,0,{"$f":"IF(BU281=\"YES\",IF(ISERROR(VLOOKUP($A281+8860000,'Growth Data'!$A:$Z,7,0)),0,VLOOKUP($A281+8860000,'Growth Data'!$A:$Z,7,0)),0)","v":0},0,null,"NO",{"$f":"IF(ISERROR(VLOOKUP($A281+8860000,'Growth Data'!$A:$F,5,0)),\"NO\",VLOOKUP($A281+8860000,'Growth Data'!$A:$F,5,0))","v":"NO"},0,null,0,{"$f":"IF(CC281=\"YES\",IF(ISERROR(VLOOKUP($A281+8860000,'Growth Data'!$A:$Z,8,0)),0,VLOOKUP($A281+8860000,'Growth Data'!$A:$Z,8,0)),0)","v":0},0,null,null,null,0]
[3918,"Newington Community Primary School and Nursery",null,"Newington Community Primary School and Nursery","Newington Community Primary School and Nursery",0,null,2359832.75,2359832.7513161292,0,null,144637.79,144637.78820624063,0,null,2504470.54,2504470.5395223699,0,null,16536.439999999999,16536.442277599999,0,null,null,null,0,null,5.21,5.21,0,null,84125.75,null,84126,null,0,null,0,null,0,null,0,null,0,null,0,null,null,null,0,null,null,null,0,null,null,null,0,null,null,null,0,null,"NO",{"$f":"IF(ISERROR(VLOOKUP($A282+8860000,'Growth Data'!$A:$F,3,0)),\"NO\",VLOOKUP($A282+8860000,'Growth Data'!$A:$F,3,0))","v":"NO"},0,null,0,{"$f":"IF(BM282=\"YES\",IF(ISERROR(VLOOKUP($A282+8860000,'Growth Data'!$A:$F,6,0)),0,VLOOKUP($A282+8860000,'Growth Data'!$A:$F,6,0)),0)","v":0},0,null,"NO",{"$f":"IF(ISERROR(VLOOKUP($A282+8860000,'Growth Data'!$A:$F,4,0)),\"NO\",VLOOKUP($A282+8860000,'Growth Data'!$A:$F,4,0))","v":"NO"},0,null,0,{"$f":"IF(BU282=\"YES\",IF(ISERROR(VLOOKUP($A282+8860000,'Growth Data'!$A:$Z,7,0)),0,VLOOKUP($A282+8860000,'Growth Data'!$A:$Z,7,0)),0)","v":0},0,null,"NO",{"$f":"IF(ISERROR(VLOOKUP($A282+8860000,'Growth Data'!$A:$F,5,0)),\"NO\",VLOOKUP($A282+8860000,'Growth Data'!$A:$F,5,0))","v":"NO"},0,null,0,{"$f":"IF(CC282=\"YES\",IF(ISERROR(VLOOKUP($A282+8860000,'Growth Data'!$A:$Z,8,0)),0,VLOOKUP($A282+8860000,'Growth Data'!$A:$Z,8,0)),0)","v":0},0,null,null,null,0]
[3919,"Dartford Bridge Community Primary School, The",null,"Dartford Bridge Community Primary School, The","Dartford Bridge Community Primary School, The",0,null,1393411.72,1393411.7155291608,0,null,50363.01,50363.007846270455,0,null,1443774.72,1443774.7233754313,0,null,9633.68,9633.6793433147195,0,null,null,null,0,null,4.9000000000000004,4.9000000000000004,0,null,5580,null,5580,null,5442,null,5442,null,0,null,0,null,0,null,0,null,null,null,0,null,null,null,0,null,null,null,0,null,null,null,0,null,"NO",{"$f":"IF(ISERROR(VLOOKUP($A283+8860000,'Growth Data'!$A:$F,3,0)),\"NO\",VLOOKUP($A283+8860000,'Growth Data'!$A:$F,3,0))","v":"NO"},0,null,0,{"$f":"IF(BM283=\"YES\",IF(ISERROR(VLOOKUP($A283+8860000,'Growth Data'!$A:$F,6,0)),0,VLOOKUP($A283+8860000,'Growth Data'!$A:$F,6,0)),0)","v":0},0,null,"NO",{"$f":"IF(ISERROR(VLOOKUP($A283+8860000,'Growth Data'!$A:$F,4,0)),\"NO\",VLOOKUP($A283+8860000,'Growth Data'!$A:$F,4,0))","v":"NO"},0,null,0,{"$f":"IF(BU283=\"YES\",IF(ISERROR(VLOOKUP($A283+8860000,'Growth Data'!$A:$Z,7,0)),0,VLOOKUP($A283+8860000,'Growth Data'!$A:$Z,7,0)),0)","v":0},0,null,"NO",{"$f":"IF(ISERROR(VLOOKUP($A283+8860000,'Growth Data'!$A:$F,5,0)),\"NO\",VLOOKUP($A283+8860000,'Growth Data'!$A:$F,5,0))","v":"NO"},0,null,0,{"$f":"IF(CC283=\"YES\",IF(ISERROR(VLOOKUP($A283+8860000,'Growth Data'!$A:$Z,8,0)),0,VLOOKUP($A283+8860000,'Growth Data'!$A:$Z,8,0)),0)","v":0},0,null,null,null,0]
[3920,"Goat Lees Primary School",null,"Goat Lees Primary School","Goat Lees Primary School",0,null,823754.42,823754.41796337871,0,null,0,0,0,null,823754.42,823754.41796337871,0,null,5315.29,5315.2850177999999,0,null,null,null,0,null,0,0,0,null,108344.42,null,108344,null,0,null,0,null,0,null,0,null,0,null,0,null,null,null,0,null,null,null,0,null,null,null,0,null,null,null,0,null,"NO",{"$f":"IF(ISERROR(VLOOKUP($A284+8860000,'Growth Data'!$A:$F,3,0)),\"NO\",VLOOKUP($A284+8860000,'Growth Data'!$A:$F,3,0))","v":"NO"},0,null,0,{"$f":"IF(BM284=\"YES\",IF(ISERROR(VLOOKUP($A284+8860000,'Growth Data'!$A:$F,6,0)),0,VLOOKUP($A284+8860000,'Growth Data'!$A:$F,6,0)),0)","v":0},0,null,"NO",{"$f":"IF(ISERROR(VLOOKUP($A284+8860000,'Growth Data'!$A:$F,4,0)),\"NO\",VLOOKUP($A284+8860000,'Growth Data'!$A:$F,4,0))","v":"NO"},0,null,0,{"$f":"IF(BU284=\"YES\",IF(ISERROR(VLOOKUP($A284+8860000,'Growth Data'!$A:$Z,7,0)),0,VLOOKUP($A284+8860000,'Growth Data'!$A:$Z,7,0)),0)","v":0},0,null,"NO",{"$f":"IF(ISERROR(VLOOKUP($A284+8860000,'Growth Data'!$A:$F,5,0)),\"NO\",VLOOKUP($A284+8860000,'Growth Data'!$A:$F,5,0))","v":"NO"},0,null,0,{"$f":"IF(CC284=\"YES\",IF(ISERROR(VLOOKUP($A284+8860000,'Growth Data'!$A:$Z,8,0)),0,VLOOKUP($A284+8860000,'Growth Data'!$A:$Z,8,0)),0)","v":0},0,null,null,null,0]
[5200,"Snodland CEP School",null,"Snodland CEP School","Snodland CEP School",0,null,1346019.58,1346019.5759345023,0,null,0,0,0,null,1346019.58,1346019.5759345023,0,null,9706.17,9706.1726411999989,0,null,null,null,0,null,0,0,0,null,98414.28,null,98414,null,0,null,0,null,0,null,0,null,0,null,0,null,null,null,0,null,null,null,0,null,null,null,0,null,null,null,0,null,"NO",{"$f":"IF(ISERROR(VLOOKUP($A285+8860000,'Growth Data'!$A:$F,3,0)),\"NO\",VLOOKUP($A285+8860000,'Growth Data'!$A:$F,3,0))","v":"NO"},0,null,0,{"$f":"IF(BM285=\"YES\",IF(ISERROR(VLOOKUP($A285+8860000,'Growth Data'!$A:$F,6,0)),0,VLOOKUP($A285+8860000,'Growth Data'!$A:$F,6,0)),0)","v":0},0,null,"NO",{"$f":"IF(ISERROR(VLOOKUP($A285+8860000,'Growth Data'!$A:$F,4,0)),\"NO\",VLOOKUP($A285+8860000,'Growth Data'!$A:$F,4,0))","v":"NO"},0,null,0,{"$f":"IF(BU285=\"YES\",IF(ISERROR(VLOOKUP($A285+8860000,'Growth Data'!$A:$Z,7,0)),0,VLOOKUP($A285+8860000,'Growth Data'!$A:$Z,7,0)),0)","v":0},0,null,"NO",{"$f":"IF(ISERROR(VLOOKUP($A285+8860000,'Growth Data'!$A:$F,5,0)),\"NO\",VLOOKUP($A285+8860000,'Growth Data'!$A:$F,5,0))","v":"NO"},0,null,0,{"$f":"IF(CC285=\"YES\",IF(ISERROR(VLOOKUP($A285+8860000,'Growth Data'!$A:$Z,8,0)),0,VLOOKUP($A285+8860000,'Growth Data'!$A:$Z,8,0)),0)","v":0},0,null,null,null,0]
[5201,"Borough Green Primary School",null,"Borough Green Primary School","Borough Green Primary School",0,null,1008819.54,1008819.5390837023,0,null,0,0,0,null,1008819.54,1008819.5390837023,0,null,7472.21,7472.2122714000006,0,null,null,null,0,null,0,0,0,null,158512.09,null,158512,null,0,null,0,null,0,null,0,null,0,null,0,null,null,null,0,null,null,null,0,null,null,null,0,null,null,null,0,null,"NO",{"$f":"IF(ISERROR(VLOOKUP($A286+8860000,'Growth Data'!$A:$F,3,0)),\"NO\",VLOOKUP($A286+8860000,'Growth Data'!$A:$F,3,0))","v":"NO"},0,null,0,{"$f":"IF(BM286=\"YES\",IF(ISERROR(VLOOKUP($A286+8860000,'Growth Data'!$A:$F,6,0)),0,VLOOKUP($A286+8860000,'Growth Data'!$A:$F,6,0)),0)","v":0},0,null,"NO",{"$f":"IF(ISERROR(VLOOKUP($A286+8860000,'Growth Data'!$A:$F,4,0)),\"NO\",VLOOKUP($A286+8860000,'Growth Data'!$A:$F,4,0))","v":"NO"},0,null,0,{"$f":"IF(BU286=\"YES\",IF(ISERROR(VLOOKUP($A286+8860000,'Growth Data'!$A:$Z,7,0)),0,VLOOKUP($A286+8860000,'Growth Data'!$A:$Z,7,0)),0)","v":0},0,null,"NO",{"$f":"IF(ISERROR(VLOOKUP($A286+8860000,'Growth Data'!$A:$F,5,0)),\"NO\",VLOOKUP($A286+8860000,'Growth Data'!$A:$F,5,0))","v":"NO"},0,null,0,{"$f":"IF(CC286=\"YES\",IF(ISERROR(VLOOKUP($A286+8860000,'Growth Data'!$A:$Z,8,0)),0,VLOOKUP($A286+8860000,'Growth Data'!$A:$Z,8,0)),0)","v":0},0,null,null,null,0]
[5202,"Holy Trinity CEP School",null,"Holy Trinity CEP School","Holy Trinity CEP School",0,null,1576306.54,1576306.5402654912,0,null,0,0,0,null,1576306.54,1576306.5402654912,0,null,10990.06,10990.057911200001,0,null,null,null,0,null,5.14,5.14,0,null,180573.61,null,180574,null,0,null,0,null,0,null,0,null,0,null,0,null,null,null,0,null,null,null,0,null,null,null,0,null,null,null,0,null,"NO",{"$f":"IF(ISERROR(VLOOKUP($A287+8860000,'Growth Data'!$A:$F,3,0)),\"NO\",VLOOKUP($A287+8860000,'Growth Data'!$A:$F,3,0))","v":"NO"},0,null,0,{"$f":"IF(BM287=\"YES\",IF(ISERROR(VLOOKUP($A287+8860000,'Growth Data'!$A:$F,6,0)),0,VLOOKUP($A287+8860000,'Growth Data'!$A:$F,6,0)),0)","v":0},0,null,"NO",{"$f":"IF(ISERROR(VLOOKUP($A287+8860000,'Growth Data'!$A:$F,4,0)),\"NO\",VLOOKUP($A287+8860000,'Growth Data'!$A:$F,4,0))","v":"NO"},0,null,0,{"$f":"IF(BU287=\"YES\",IF(ISERROR(VLOOKUP($A287+8860000,'Growth Data'!$A:$Z,7,0)),0,VLOOKUP($A287+8860000,'Growth Data'!$A:$Z,7,0)),0)","v":0},0,null,"NO",{"$f":"IF(ISERROR(VLOOKUP($A287+8860000,'Growth Data'!$A:$F,5,0)),\"NO\",VLOOKUP($A287+8860000,'Growth Data'!$A:$F,5,0))","v":"NO"},0,null,0,{"$f":"IF(CC287=\"YES\",IF(ISERROR(VLOOKUP($A287+8860000,'Growth Data'!$A:$Z,8,0)),0,VLOOKUP($A287+8860000,'Growth Data'!$A:$Z,8,0)),0)","v":0},0,null,null,null,0]
[5203,"Roseacre Junior School",null,"Roseacre Junior School","Roseacre Junior School",0,null,1437063,1437063,0,null,0,0,0,null,1437063,1437063,0,null,10810.31,10810.3139734,0,null,null,null,0,null,0,0,0,null,301814.15999999997,null,301814,null,0,null,0,null,0,null,0,null,0,null,0,null,null,null,0,null,null,null,0,null,null,null,0,null,null,null,0,null,"NO",{"$f":"IF(ISERROR(VLOOKUP($A288+8860000,'Growth Data'!$A:$F,3,0)),\"NO\",VLOOKUP($A288+8860000,'Growth Data'!$A:$F,3,0))","v":"NO"},0,null,0,{"$f":"IF(BM288=\"YES\",IF(ISERROR(VLOOKUP($A288+8860000,'Growth Data'!$A:$F,6,0)),0,VLOOKUP($A288+8860000,'Growth Data'!$A:$F,6,0)),0)","v":0},0,null,"NO",{"$f":"IF(ISERROR(VLOOKUP($A288+8860000,'Growth Data'!$A:$F,4,0)),\"NO\",VLOOKUP($A288+8860000,'Growth Data'!$A:$F,4,0))","v":"NO"},0,null,0,{"$f":"IF(BU288=\"YES\",IF(ISERROR(VLOOKUP($A288+8860000,'Growth Data'!$A:$Z,7,0)),0,VLOOKUP($A288+8860000,'Growth Data'!$A:$Z,7,0)),0)","v":0},0,null,"NO",{"$f":"IF(ISERROR(VLOOKUP($A288+8860000,'Growth Data'!$A:$F,5,0)),\"NO\",VLOOKUP($A288+8860000,'Growth Data'!$A:$F,5,0))","v":"NO"},0,null,0,{"$f":"IF(CC288=\"YES\",IF(ISERROR(VLOOKUP($A288+8860000,'Growth Data'!$A:$Z,8,0)),0,VLOOKUP($A288+8860000,'Growth Data'!$A:$Z,8,0)),0)","v":0},0,null,null,null,0]
[5206,"Herne Bay Junior School",null,"Herne Bay Junior School","Herne Bay Junior School",0,null,1725613.75,1725613.7468964278,0,null,0,0,0,null,1725613.75,1725613.7468964278,0,null,12428.01,12428.009413600001,0,null,null,null,0,null,0,0,0,null,96157.3,null,96157,null,0,null,0,null,0,null,0,null,0,null,0,null,null,null,0,null,null,null,0,null,null,null,0,null,null,null,0,null,"NO",{"$f":"IF(ISERROR(VLOOKUP($A289+8860000,'Growth Data'!$A:$F,3,0)),\"NO\",VLOOKUP($A289+8860000,'Growth Data'!$A:$F,3,0))","v":"NO"},0,null,0,{"$f":"IF(BM289=\"YES\",IF(ISERROR(VLOOKUP($A289+8860000,'Growth Data'!$A:$F,6,0)),0,VLOOKUP($A289+8860000,'Growth Data'!$A:$F,6,0)),0)","v":0},0,null,"NO",{"$f":"IF(ISERROR(VLOOKUP($A289+8860000,'Growth Data'!$A:$F,4,0)),\"NO\",VLOOKUP($A289+8860000,'Growth Data'!$A:$F,4,0))","v":"NO"},0,null,0,{"$f":"IF(BU289=\"YES\",IF(ISERROR(VLOOKUP($A289+8860000,'Growth Data'!$A:$Z,7,0)),0,VLOOKUP($A289+8860000,'Growth Data'!$A:$Z,7,0)),0)","v":0},0,null,"NO",{"$f":"IF(ISERROR(VLOOKUP($A289+8860000,'Growth Data'!$A:$F,5,0)),\"NO\",VLOOKUP($A289+8860000,'Growth Data'!$A:$F,5,0))","v":"NO"},0,null,0,{"$f":"IF(CC289=\"YES\",IF(ISERROR(VLOOKUP($A289+8860000,'Growth Data'!$A:$Z,8,0)),0,VLOOKUP($A289+8860000,'Growth Data'!$A:$Z,8,0)),0)","v":0},0,null,null,null,0]
[5207,"St Francis' Catholic Primary School, Maidstone",null,"St Francis' Catholic Primary School, Maidstone","St Francis' Catholic Primary School, Maidstone",0,null,1417609.42,1417609.4231880412,0,null,0,0,0,null,1417609.42,1417609.4231880412,0,null,10502.18,10502.181508599999,0,null,null,null,0,null,0,0,0,null,138202.25,null,138202,null,0,null,0,null,0,null,0,null,0,null,0,null,null,null,0,null,null,null,0,null,null,null,0,null,null,null,0,null,"NO",{"$f":"IF(ISERROR(VLOOKUP($A290+8860000,'Growth Data'!$A:$F,3,0)),\"NO\",VLOOKUP($A290+8860000,'Growth Data'!$A:$F,3,0))","v":"NO"},0,null,0,{"$f":"IF(BM290=\"YES\",IF(ISERROR(VLOOKUP($A290+8860000,'Growth Data'!$A:$F,6,0)),0,VLOOKUP($A290+8860000,'Growth Data'!$A:$F,6,0)),0)","v":0},0,null,"YES",{"$f":"IF(ISERROR(VLOOKUP($A290+8860000,'Growth Data'!$A:$F,4,0)),\"NO\",VLOOKUP($A290+8860000,'Growth Data'!$A:$F,4,0))","v":"NO"},1,null,60,{"$f":"IF(BU290=\"YES\",IF(ISERROR(VLOOKUP($A290+8860000,'Growth Data'!$A:$Z,7,0)),0,VLOOKUP($A290+8860000,'Growth Data'!$A:$Z,7,0)),0)","v":0},60,null,"YES",{"$f":"IF(ISERROR(VLOOKUP($A290+8860000,'Growth Data'!$A:$F,5,0)),\"NO\",VLOOKUP($A290+8860000,'Growth Data'!$A:$F,5,0))","v":"NO"},1,null,60,{"$f":"IF(CC290=\"YES\",IF(ISERROR(VLOOKUP($A290+8860000,'Growth Data'!$A:$Z,8,0)),0,VLOOKUP($A290+8860000,'Growth Data'!$A:$Z,8,0)),0)","v":0},60,null,null,null,0]
[5208,"Ditton CEJ School",null,"Ditton CEJ School","Ditton CEJ School",0,null,902437.95,902437.94923167746,0,null,0,0,0,null,902437.95,902437.94923167746,0,null,6368.07,6368.0709391999999,0,null,null,null,0,null,0,0,0,null,278035.34000000003,null,278035,null,0,null,0,null,0,null,0,null,0,null,0,null,null,null,0,null,null,null,0,null,null,null,0,null,null,null,0,null,"NO",{"$f":"IF(ISERROR(VLOOKUP($A291+8860000,'Growth Data'!$A:$F,3,0)),\"NO\",VLOOKUP($A291+8860000,'Growth Data'!$A:$F,3,0))","v":"NO"},0,null,0,{"$f":"IF(BM291=\"YES\",IF(ISERROR(VLOOKUP($A291+8860000,'Growth Data'!$A:$F,6,0)),0,VLOOKUP($A291+8860000,'Growth Data'!$A:$F,6,0)),0)","v":0},0,null,"NO",{"$f":"IF(ISERROR(VLOOKUP($A291+8860000,'Growth Data'!$A:$F,4,0)),\"NO\",VLOOKUP($A291+8860000,'Growth Data'!$A:$F,4,0))","v":"NO"},0,null,0,{"$f":"IF(BU291=\"YES\",IF(ISERROR(VLOOKUP($A291+8860000,'Growth Data'!$A:$Z,7,0)),0,VLOOKUP($A291+8860000,'Growth Data'!$A:$Z,7,0)),0)","v":0},0,null,"NO",{"$f":"IF(ISERROR(VLOOKUP($A291+8860000,'Growth Data'!$A:$F,5,0)),\"NO\",VLOOKUP($A291+8860000,'Growth Data'!$A:$F,5,0))","v":"NO"},0,null,0,{"$f":"IF(CC291=\"YES\",IF(ISERROR(VLOOKUP($A291+8860000,'Growth Data'!$A:$Z,8,0)),0,VLOOKUP($A291+8860000,'Growth Data'!$A:$Z,8,0)),0)","v":0},0,null,null,null,0]
[5212,"Ditton Infant School",null,"Ditton Infant School","Ditton Infant School",0,null,665904.99,665904.99006629584,0,null,0,0,0,null,665904.99,665904.99006629584,0,null,4493.6000000000004,4493.5984449999996,0,null,null,null,0,null,0,0,0,null,173990.95,null,173991,null,0,null,0,null,0,null,0,null,0,null,0,null,null,null,0,null,null,null,0,null,null,null,0,null,null,null,0,null,"YES",{"$f":"IF(ISERROR(VLOOKUP($A292+8860000,'Growth Data'!$A:$F,3,0)),\"NO\",VLOOKUP($A292+8860000,'Growth Data'!$A:$F,3,0))","v":"NO"},1,null,61,{"$f":"IF(BM292=\"YES\",IF(ISERROR(VLOOKUP($A292+8860000,'Growth Data'!$A:$F,6,0)),0,VLOOKUP($A292+8860000,'Growth Data'!$A:$F,6,0)),0)","v":0},61,null,"YES",{"$f":"IF(ISERROR(VLOOKUP($A292+8860000,'Growth Data'!$A:$F,4,0)),\"NO\",VLOOKUP($A292+8860000,'Growth Data'!$A:$F,4,0))","v":"NO"},1,null,60,{"$f":"IF(BU292=\"YES\",IF(ISERROR(VLOOKUP($A292+8860000,'Growth Data'!$A:$Z,7,0)),0,VLOOKUP($A292+8860000,'Growth Data'!$A:$Z,7,0)),0)","v":0},60,null,"YES",{"$f":"IF(ISERROR(VLOOKUP($A292+8860000,'Growth Data'!$A:$F,5,0)),\"NO\",VLOOKUP($A292+8860000,'Growth Data'!$A:$F,5,0))","v":"NO"},1,null,61,{"$f":"IF(CC292=\"YES\",IF(ISERROR(VLOOKUP($A292+8860000,'Growth Data'!$A:$Z,8,0)),0,VLOOKUP($A292+8860000,'Growth Data'!$A:$Z,8,0)),0)","v":0},61,null,null,null,0]
[5213,"Holy Trinity CEP School, Dartford",null,"Holy Trinity CEP School, Dartford","Holy Trinity CEP School, Dartford",0,null,1520700.59,1520700.5935493261,0,null,22261.51,22261.508873457322,0,null,1542962.1,1542962.1024227834,0,null,11230.42,11230.421775908319,0,null,null,null,0,null,0,0,0,null,103309.94,null,103310,null,0,null,0,null,0,null,0,null,0,null,0,null,null,null,0,null,null,null,0,null,null,null,0,null,null,null,0,null,"NO",{"$f":"IF(ISERROR(VLOOKUP($A293+8860000,'Growth Data'!$A:$F,3,0)),\"NO\",VLOOKUP($A293+8860000,'Growth Data'!$A:$F,3,0))","v":"NO"},0,null,0,{"$f":"IF(BM293=\"YES\",IF(ISERROR(VLOOKUP($A293+8860000,'Growth Data'!$A:$F,6,0)),0,VLOOKUP($A293+8860000,'Growth Data'!$A:$F,6,0)),0)","v":0},0,null,"NO",{"$f":"IF(ISERROR(VLOOKUP($A293+8860000,'Growth Data'!$A:$F,4,0)),\"NO\",VLOOKUP($A293+8860000,'Growth Data'!$A:$F,4,0))","v":"NO"},0,null,0,{"$f":"IF(BU293=\"YES\",IF(ISERROR(VLOOKUP($A293+8860000,'Growth Data'!$A:$Z,7,0)),0,VLOOKUP($A293+8860000,'Growth Data'!$A:$Z,7,0)),0)","v":0},0,null,"NO",{"$f":"IF(ISERROR(VLOOKUP($A293+8860000,'Growth Data'!$A:$F,5,0)),\"NO\",VLOOKUP($A293+8860000,'Growth Data'!$A:$F,5,0))","v":"NO"},0,null,0,{"$f":"IF(CC293=\"YES\",IF(ISERROR(VLOOKUP($A293+8860000,'Growth Data'!$A:$Z,8,0)),0,VLOOKUP($A293+8860000,'Growth Data'!$A:$Z,8,0)),0)","v":0},0,null,null,null,0]
[5214,"St Bartholomew's Catholic Primary School",null,"St Bartholomew's Catholic Primary School","St Bartholomew's Catholic Primary School",0,null,1340567.29,1340567.2938495991,0,null,0,0,0,null,1340567.29,1340567.2938495991,0,null,9314.33,9314.3308567960012,0,null,null,null,0,null,0,0,0,null,64468.82,null,64469,null,0,null,0,null,0,null,0,null,0,null,0,null,null,null,0,null,null,null,0,null,null,null,0,null,null,null,0,null,"NO",{"$f":"IF(ISERROR(VLOOKUP($A294+8860000,'Growth Data'!$A:$F,3,0)),\"NO\",VLOOKUP($A294+8860000,'Growth Data'!$A:$F,3,0))","v":"NO"},0,null,0,{"$f":"IF(BM294=\"YES\",IF(ISERROR(VLOOKUP($A294+8860000,'Growth Data'!$A:$F,6,0)),0,VLOOKUP($A294+8860000,'Growth Data'!$A:$F,6,0)),0)","v":0},0,null,"NO",{"$f":"IF(ISERROR(VLOOKUP($A294+8860000,'Growth Data'!$A:$F,4,0)),\"NO\",VLOOKUP($A294+8860000,'Growth Data'!$A:$F,4,0))","v":"NO"},0,null,0,{"$f":"IF(BU294=\"YES\",IF(ISERROR(VLOOKUP($A294+8860000,'Growth Data'!$A:$Z,7,0)),0,VLOOKUP($A294+8860000,'Growth Data'!$A:$Z,7,0)),0)","v":0},0,null,"NO",{"$f":"IF(ISERROR(VLOOKUP($A294+8860000,'Growth Data'!$A:$F,5,0)),\"NO\",VLOOKUP($A294+8860000,'Growth Data'!$A:$F,5,0))","v":"NO"},0,null,0,{"$f":"IF(CC294=\"YES\",IF(ISERROR(VLOOKUP($A294+8860000,'Growth Data'!$A:$Z,8,0)),0,VLOOKUP($A294+8860000,'Growth Data'!$A:$Z,8,0)),0)","v":0},0,null,null,null,0]
[5218,"Greatstone Primary School",null,"Greatstone Primary School","Greatstone Primary School",0,null,1247170.8899999999,1247170.8870423958,0,null,9284.5499999999993,9284.5473478336353,0,null,1256455.43,1256455.4343902294,0,null,9192.6200000000008,9192.6185332000023,0,null,null,null,0,null,4.9000000000000004,4.9000000000000004,0,null,224148.72,null,224149,null,0,null,0,null,0,null,0,null,0,null,0,null,null,null,0,null,null,null,0,null,null,null,0,null,null,null,0,null,"NO",{"$f":"IF(ISERROR(VLOOKUP($A295+8860000,'Growth Data'!$A:$F,3,0)),\"NO\",VLOOKUP($A295+8860000,'Growth Data'!$A:$F,3,0))","v":"NO"},0,null,0,{"$f":"IF(BM295=\"YES\",IF(ISERROR(VLOOKUP($A295+8860000,'Growth Data'!$A:$F,6,0)),0,VLOOKUP($A295+8860000,'Growth Data'!$A:$F,6,0)),0)","v":0},0,null,"NO",{"$f":"IF(ISERROR(VLOOKUP($A295+8860000,'Growth Data'!$A:$F,4,0)),\"NO\",VLOOKUP($A295+8860000,'Growth Data'!$A:$F,4,0))","v":"NO"},0,null,0,{"$f":"IF(BU295=\"YES\",IF(ISERROR(VLOOKUP($A295+8860000,'Growth Data'!$A:$Z,7,0)),0,VLOOKUP($A295+8860000,'Growth Data'!$A:$Z,7,0)),0)","v":0},0,null,"YES",{"$f":"IF(ISERROR(VLOOKUP($A295+8860000,'Growth Data'!$A:$F,5,0)),\"NO\",VLOOKUP($A295+8860000,'Growth Data'!$A:$F,5,0))","v":"NO"},1,null,45,{"$f":"IF(CC295=\"YES\",IF(ISERROR(VLOOKUP($A295+8860000,'Growth Data'!$A:$Z,8,0)),0,VLOOKUP($A295+8860000,'Growth Data'!$A:$Z,8,0)),0)","v":0},45,null,null,null,0]
[5221,"Wincheap Foundation Primary School",null,"Wincheap Foundation Primary School","Wincheap Foundation Primary School",0,null,1608600.56,1608600.5590336742,0,null,0,0,0,null,1608600.56,1608600.5590336742,0,null,11375.22,11375.223492200001,0,null,null,null,0,null,0,0,0,null,381224.93,null,381225,null,0,null,0,null,0,null,0,null,0,null,0,null,null,null,0,null,null,null,0,null,null,null,0,null,null,null,0,null,"YES",{"$f":"IF(ISERROR(VLOOKUP($A296+8860000,'Growth Data'!$A:$F,3,0)),\"NO\",VLOOKUP($A296+8860000,'Growth Data'!$A:$F,3,0))","v":"NO"},1,null,60,{"$f":"IF(BM296=\"YES\",IF(ISERROR(VLOOKUP($A296+8860000,'Growth Data'!$A:$F,6,0)),0,VLOOKUP($A296+8860000,'Growth Data'!$A:$F,6,0)),0)","v":0},60,null,"YES",{"$f":"IF(ISERROR(VLOOKUP($A296+8860000,'Growth Data'!$A:$F,4,0)),\"NO\",VLOOKUP($A296+8860000,'Growth Data'!$A:$F,4,0))","v":"NO"},1,null,91,{"$f":"IF(BU296=\"YES\",IF(ISERROR(VLOOKUP($A296+8860000,'Growth Data'!$A:$Z,7,0)),0,VLOOKUP($A296+8860000,'Growth Data'!$A:$Z,7,0)),0)","v":0},91,null,"YES",{"$f":"IF(ISERROR(VLOOKUP($A296+8860000,'Growth Data'!$A:$F,5,0)),\"NO\",VLOOKUP($A296+8860000,'Growth Data'!$A:$F,5,0))","v":"NO"},1,null,90,{"$f":"IF(CC296=\"YES\",IF(ISERROR(VLOOKUP($A296+8860000,'Growth Data'!$A:$Z,8,0)),0,VLOOKUP($A296+8860000,'Growth Data'!$A:$Z,8,0)),0)","v":0},90,null,null,null,0]
[5223,"Brookfield Junior School, Larkfield",null,"Brookfield Junior School, Larkfield","Brookfield Junior School, Larkfield",0,null,908011.92,908011.9249267315,0,null,0,0,0,null,908011.92,908011.9249267315,0,null,6034.26,6034.2607689999995,0,null,null,null,0,null,0,0,0,null,352413.75,null,352414,null,0,null,0,null,0,null,0,null,0,null,0,null,null,null,0,null,null,null,0,null,null,null,0,null,null,null,0,null,"YES",{"$f":"IF(ISERROR(VLOOKUP($A297+8860000,'Growth Data'!$A:$F,3,0)),\"NO\",VLOOKUP($A297+8860000,'Growth Data'!$A:$F,3,0))","v":"NO"},1,null,72,{"$f":"IF(BM297=\"YES\",IF(ISERROR(VLOOKUP($A297+8860000,'Growth Data'!$A:$F,6,0)),0,VLOOKUP($A297+8860000,'Growth Data'!$A:$F,6,0)),0)","v":0},72,null,"NO",{"$f":"IF(ISERROR(VLOOKUP($A297+8860000,'Growth Data'!$A:$F,4,0)),\"NO\",VLOOKUP($A297+8860000,'Growth Data'!$A:$F,4,0))","v":"NO"},0,null,0,{"$f":"IF(BU297=\"YES\",IF(ISERROR(VLOOKUP($A297+8860000,'Growth Data'!$A:$Z,7,0)),0,VLOOKUP($A297+8860000,'Growth Data'!$A:$Z,7,0)),0)","v":0},0,null,"NO",{"$f":"IF(ISERROR(VLOOKUP($A297+8860000,'Growth Data'!$A:$F,5,0)),\"NO\",VLOOKUP($A297+8860000,'Growth Data'!$A:$F,5,0))","v":"NO"},0,null,0,{"$f":"IF(CC297=\"YES\",IF(ISERROR(VLOOKUP($A297+8860000,'Growth Data'!$A:$Z,8,0)),0,VLOOKUP($A297+8860000,'Growth Data'!$A:$Z,8,0)),0)","v":0},0,null,null,null,0]
[5224,"All Souls' CEP School",null,"All Souls' CEP School","All Souls' CEP School",0,null,1042844.82,1042844.822498057,0,null,0,0,0,null,1042844.82,1042844.822498057,0,null,7395.18,7395.1791552000004,0,null,null,null,0,null,0,0,0,null,155381.49,null,155381,null,0,null,0,null,0,null,0,null,0,null,0,null,null,null,0,null,null,null,0,null,null,null,0,null,null,null,0,null,"YES",{"$f":"IF(ISERROR(VLOOKUP($A298+8860000,'Growth Data'!$A:$F,3,0)),\"NO\",VLOOKUP($A298+8860000,'Growth Data'!$A:$F,3,0))","v":"NO"},1,null,30,{"$f":"IF(BM298=\"YES\",IF(ISERROR(VLOOKUP($A298+8860000,'Growth Data'!$A:$F,6,0)),0,VLOOKUP($A298+8860000,'Growth Data'!$A:$F,6,0)),0)","v":0},30,null,"YES",{"$f":"IF(ISERROR(VLOOKUP($A298+8860000,'Growth Data'!$A:$F,4,0)),\"NO\",VLOOKUP($A298+8860000,'Growth Data'!$A:$F,4,0))","v":"NO"},1,null,31,{"$f":"IF(BU298=\"YES\",IF(ISERROR(VLOOKUP($A298+8860000,'Growth Data'!$A:$Z,7,0)),0,VLOOKUP($A298+8860000,'Growth Data'!$A:$Z,7,0)),0)","v":0},31,null,"YES",{"$f":"IF(ISERROR(VLOOKUP($A298+8860000,'Growth Data'!$A:$F,5,0)),\"NO\",VLOOKUP($A298+8860000,'Growth Data'!$A:$F,5,0))","v":"NO"},1,null,31,{"$f":"IF(CC298=\"YES\",IF(ISERROR(VLOOKUP($A298+8860000,'Growth Data'!$A:$Z,8,0)),0,VLOOKUP($A298+8860000,'Growth Data'!$A:$Z,8,0)),0)","v":0},31,null,null,null,0]
[5225,"Harcourt Primary School",null,"Harcourt Primary School","Harcourt Primary School",0,null,658490.94999999995,658490.94956813892,0,null,26761.23,26761.231152498629,0,null,685252.18,685252.18072063755,0,null,4288.18,4288.1768018000002,0,null,null,null,0,null,0,0,0,null,94929.89,null,94930,null,0,null,0,null,0,null,0,null,0,null,0,null,null,null,0,null,null,null,0,null,null,null,0,null,null,null,0,null,"NO",{"$f":"IF(ISERROR(VLOOKUP($A299+8860000,'Growth Data'!$A:$F,3,0)),\"NO\",VLOOKUP($A299+8860000,'Growth Data'!$A:$F,3,0))","v":"NO"},0,null,0,{"$f":"IF(BM299=\"YES\",IF(ISERROR(VLOOKUP($A299+8860000,'Growth Data'!$A:$F,6,0)),0,VLOOKUP($A299+8860000,'Growth Data'!$A:$F,6,0)),0)","v":0},0,null,"NO",{"$f":"IF(ISERROR(VLOOKUP($A299+8860000,'Growth Data'!$A:$F,4,0)),\"NO\",VLOOKUP($A299+8860000,'Growth Data'!$A:$F,4,0))","v":"NO"},0,null,0,{"$f":"IF(BU299=\"YES\",IF(ISERROR(VLOOKUP($A299+8860000,'Growth Data'!$A:$Z,7,0)),0,VLOOKUP($A299+8860000,'Growth Data'!$A:$Z,7,0)),0)","v":0},0,null,"NO",{"$f":"IF(ISERROR(VLOOKUP($A299+8860000,'Growth Data'!$A:$F,5,0)),\"NO\",VLOOKUP($A299+8860000,'Growth Data'!$A:$F,5,0))","v":"NO"},0,null,0,{"$f":"IF(CC299=\"YES\",IF(ISERROR(VLOOKUP($A299+8860000,'Growth Data'!$A:$Z,8,0)),0,VLOOKUP($A299+8860000,'Growth Data'!$A:$Z,8,0)),0)","v":0},0,null,null,null,0]
[5226,"Willesborough Junior School",null,"Willesborough Junior School","Willesborough Junior School",0,null,1660380.5,1660380.5039947438,0,null,0,0,0,null,1660380.5,1660380.5039947438,0,null,12196.91,12196.910064999996,0,null,null,null,0,null,0,0,0,null,327986.53000000003,null,327987,null,0,null,0,null,0,null,0,null,0,null,0,null,null,null,0,null,null,null,0,null,null,null,0,null,null,null,0,null,"NO",{"$f":"IF(ISERROR(VLOOKUP($A300+8860000,'Growth Data'!$A:$F,3,0)),\"NO\",VLOOKUP($A300+8860000,'Growth Data'!$A:$F,3,0))","v":"NO"},0,null,0,{"$f":"IF(BM300=\"YES\",IF(ISERROR(VLOOKUP($A300+8860000,'Growth Data'!$A:$F,6,0)),0,VLOOKUP($A300+8860000,'Growth Data'!$A:$F,6,0)),0)","v":0},0,null,"NO",{"$f":"IF(ISERROR(VLOOKUP($A300+8860000,'Growth Data'!$A:$F,4,0)),\"NO\",VLOOKUP($A300+8860000,'Growth Data'!$A:$F,4,0))","v":"NO"},0,null,0,{"$f":"IF(BU300=\"YES\",IF(ISERROR(VLOOKUP($A300+8860000,'Growth Data'!$A:$Z,7,0)),0,VLOOKUP($A300+8860000,'Growth Data'!$A:$Z,7,0)),0)","v":0},0,null,"NO",{"$f":"IF(ISERROR(VLOOKUP($A300+8860000,'Growth Data'!$A:$F,5,0)),\"NO\",VLOOKUP($A300+8860000,'Growth Data'!$A:$F,5,0))","v":"NO"},0,null,0,{"$f":"IF(CC300=\"YES\",IF(ISERROR(VLOOKUP($A300+8860000,'Growth Data'!$A:$Z,8,0)),0,VLOOKUP($A300+8860000,'Growth Data'!$A:$Z,8,0)),0)","v":0},0,null,null,null,0]
[5229,"Fleetdown Primary School",null,"Fleetdown Primary School","Fleetdown Primary School",0,null,2086769,2086769,0,null,0,0,0,null,2086769,2086769,0,null,16047.26,16047.261447565679,0,null,null,null,0,null,0,0,0,null,464031.63,null,464032,null,0,null,0,null,0,null,0,null,0,null,0,null,null,null,0,null,null,null,0,null,null,null,0,null,null,null,0,null,"NO",{"$f":"IF(ISERROR(VLOOKUP($A301+8860000,'Growth Data'!$A:$F,3,0)),\"NO\",VLOOKUP($A301+8860000,'Growth Data'!$A:$F,3,0))","v":"NO"},0,null,0,{"$f":"IF(BM301=\"YES\",IF(ISERROR(VLOOKUP($A301+8860000,'Growth Data'!$A:$F,6,0)),0,VLOOKUP($A301+8860000,'Growth Data'!$A:$F,6,0)),0)","v":0},0,null,"NO",{"$f":"IF(ISERROR(VLOOKUP($A301+8860000,'Growth Data'!$A:$F,4,0)),\"NO\",VLOOKUP($A301+8860000,'Growth Data'!$A:$F,4,0))","v":"NO"},0,null,0,{"$f":"IF(BU301=\"YES\",IF(ISERROR(VLOOKUP($A301+8860000,'Growth Data'!$A:$Z,7,0)),0,VLOOKUP($A301+8860000,'Growth Data'!$A:$Z,7,0)),0)","v":0},0,null,"NO",{"$f":"IF(ISERROR(VLOOKUP($A301+8860000,'Growth Data'!$A:$F,5,0)),\"NO\",VLOOKUP($A301+8860000,'Growth Data'!$A:$F,5,0))","v":"NO"},0,null,0,{"$f":"IF(CC301=\"YES\",IF(ISERROR(VLOOKUP($A301+8860000,'Growth Data'!$A:$Z,8,0)),0,VLOOKUP($A301+8860000,'Growth Data'!$A:$Z,8,0)),0)","v":0},0,null,null,null,0]
[4026,"Dartford Science and Technology College",null,"Dartford Science and Technology College","Dartford Science and Technology College",0,null,3361770.94,3361770.9413225688,0,null,0,0,0,null,3361770.94,3361770.9413225688,0,null,10819.18,10819.184890112001,0,null,null,null,0,null,0,0,0,null,33608.370000000003,null,33608,null,2639.16,null,2639,null,0,null,0,null,0,null,0,null,null,null,0,null,null,null,0,null,null,null,0,null,null,null,0,null,"NO",{"$f":"IF(ISERROR(VLOOKUP($A302+8860000,'Growth Data'!$A:$F,3,0)),\"NO\",VLOOKUP($A302+8860000,'Growth Data'!$A:$F,3,0))","v":"NO"},0,null,0,{"$f":"IF(BM302=\"YES\",IF(ISERROR(VLOOKUP($A302+8860000,'Growth Data'!$A:$F,6,0)),0,VLOOKUP($A302+8860000,'Growth Data'!$A:$F,6,0)),0)","v":0},0,null,"NO",{"$f":"IF(ISERROR(VLOOKUP($A302+8860000,'Growth Data'!$A:$F,4,0)),\"NO\",VLOOKUP($A302+8860000,'Growth Data'!$A:$F,4,0))","v":"NO"},0,null,0,{"$f":"IF(BU302=\"YES\",IF(ISERROR(VLOOKUP($A302+8860000,'Growth Data'!$A:$Z,7,0)),0,VLOOKUP($A302+8860000,'Growth Data'!$A:$Z,7,0)),0)","v":0},0,null,"NO",{"$f":"IF(ISERROR(VLOOKUP($A302+8860000,'Growth Data'!$A:$F,5,0)),\"NO\",VLOOKUP($A302+8860000,'Growth Data'!$A:$F,5,0))","v":"NO"},0,null,0,{"$f":"IF(CC302=\"YES\",IF(ISERROR(VLOOKUP($A302+8860000,'Growth Data'!$A:$Z,8,0)),0,VLOOKUP($A302+8860000,'Growth Data'!$A:$Z,8,0)),0)","v":0},0,null,null,null,0]
[4040,"Northfleet School for Girls",null,"Northfleet School for Girls","Northfleet School for Girls",0,null,3726189.54,3726189.5440137754,0,null,0,0,0,null,3726189.54,3726189.5440137754,0,null,11907.21,11907.210310000002,0,null,null,null,0,null,0,0,0,null,60125.42,null,60125,null,0,null,0,null,73666.67,null,73667,null,110500,null,110500,null,null,null,0,null,null,null,0,null,null,null,0,null,null,null,0,null,"NO",{"$f":"IF(ISERROR(VLOOKUP($A303+8860000,'Growth Data'!$A:$F,3,0)),\"NO\",VLOOKUP($A303+8860000,'Growth Data'!$A:$F,3,0))","v":"YES"},1,null,0,{"$f":"IF(BM303=\"YES\",IF(ISERROR(VLOOKUP($A303+8860000,'Growth Data'!$A:$F,6,0)),0,VLOOKUP($A303+8860000,'Growth Data'!$A:$F,6,0)),0)","v":175},-175,null,"NO",{"$f":"IF(ISERROR(VLOOKUP($A303+8860000,'Growth Data'!$A:$F,4,0)),\"NO\",VLOOKUP($A303+8860000,'Growth Data'!$A:$F,4,0))","v":"NO"},0,null,0,{"$f":"IF(BU303=\"YES\",IF(ISERROR(VLOOKUP($A303+8860000,'Growth Data'!$A:$Z,7,0)),0,VLOOKUP($A303+8860000,'Growth Data'!$A:$Z,7,0)),0)","v":0},0,null,"NO",{"$f":"IF(ISERROR(VLOOKUP($A303+8860000,'Growth Data'!$A:$F,5,0)),\"NO\",VLOOKUP($A303+8860000,'Growth Data'!$A:$F,5,0))","v":"NO"},0,null,0,{"$f":"IF(CC303=\"YES\",IF(ISERROR(VLOOKUP($A303+8860000,'Growth Data'!$A:$Z,8,0)),0,VLOOKUP($A303+8860000,'Growth Data'!$A:$Z,8,0)),0)","v":0},0,null,null,null,0]
[4043,"Tunbridge Wells Girls' Grammar School",null,"Tunbridge Wells Girls' Grammar School","Tunbridge Wells Girls' Grammar School",0,null,3481857,3481857,0,null,0,0,0,null,3481857,3481857,0,null,11907.21,11907.210310000002,0,null,null,null,0,null,0,0,0,null,5580,null,5580,null,5442,null,5442,null,0,null,0,null,0,null,0,null,null,null,0,null,null,null,0,null,null,null,0,null,null,null,0,null,"NO",{"$f":"IF(ISERROR(VLOOKUP($A304+8860000,'Growth Data'!$A:$F,3,0)),\"NO\",VLOOKUP($A304+8860000,'Growth Data'!$A:$F,3,0))","v":"NO"},0,null,0,{"$f":"IF(BM304=\"YES\",IF(ISERROR(VLOOKUP($A304+8860000,'Growth Data'!$A:$F,6,0)),0,VLOOKUP($A304+8860000,'Growth Data'!$A:$F,6,0)),0)","v":0},0,null,"NO",{"$f":"IF(ISERROR(VLOOKUP($A304+8860000,'Growth Data'!$A:$F,4,0)),\"NO\",VLOOKUP($A304+8860000,'Growth Data'!$A:$F,4,0))","v":"NO"},0,null,0,{"$f":"IF(BU304=\"YES\",IF(ISERROR(VLOOKUP($A304+8860000,'Growth Data'!$A:$Z,7,0)),0,VLOOKUP($A304+8860000,'Growth Data'!$A:$Z,7,0)),0)","v":0},0,null,"NO",{"$f":"IF(ISERROR(VLOOKUP($A304+8860000,'Growth Data'!$A:$F,5,0)),\"NO\",VLOOKUP($A304+8860000,'Growth Data'!$A:$F,5,0))","v":"NO"},0,null,0,{"$f":"IF(CC304=\"YES\",IF(ISERROR(VLOOKUP($A304+8860000,'Growth Data'!$A:$Z,8,0)),0,VLOOKUP($A304+8860000,'Growth Data'!$A:$Z,8,0)),0)","v":0},0,null,null,null,0]
[4045,"Tunbridge Wells Grammar School for Boys",null,"Tunbridge Wells Grammar School for Boys","Tunbridge Wells Grammar School for Boys",0,null,4629925,4629925,0,null,0,0,0,null,4629925,4629925,0,null,15512,15511.995897000003,0,null,null,null,0,null,0,0,0,null,325938.23,null,325938,null,0,null,0,null,14333.33,null,14333,null,21500,null,21500,null,null,null,0,null,null,null,0,null,null,null,0,null,null,null,0,null,"NO",{"$f":"IF(ISERROR(VLOOKUP($A305+8860000,'Growth Data'!$A:$F,3,0)),\"NO\",VLOOKUP($A305+8860000,'Growth Data'!$A:$F,3,0))","v":"YES"},1,null,0,{"$f":"IF(BM305=\"YES\",IF(ISERROR(VLOOKUP($A305+8860000,'Growth Data'!$A:$F,6,0)),0,VLOOKUP($A305+8860000,'Growth Data'!$A:$F,6,0)),0)","v":180},-180,null,"NO",{"$f":"IF(ISERROR(VLOOKUP($A305+8860000,'Growth Data'!$A:$F,4,0)),\"NO\",VLOOKUP($A305+8860000,'Growth Data'!$A:$F,4,0))","v":"YES"},1,null,0,{"$f":"IF(BU305=\"YES\",IF(ISERROR(VLOOKUP($A305+8860000,'Growth Data'!$A:$Z,7,0)),0,VLOOKUP($A305+8860000,'Growth Data'!$A:$Z,7,0)),0)","v":210},-210,null,"NO",{"$f":"IF(ISERROR(VLOOKUP($A305+8860000,'Growth Data'!$A:$F,5,0)),\"NO\",VLOOKUP($A305+8860000,'Growth Data'!$A:$F,5,0))","v":"NO"},0,null,0,{"$f":"IF(CC305=\"YES\",IF(ISERROR(VLOOKUP($A305+8860000,'Growth Data'!$A:$Z,8,0)),0,VLOOKUP($A305+8860000,'Growth Data'!$A:$Z,8,0)),0)","v":0},0,null,null,null,0]
[4065,"Holmesdale School, The",null,"Holmesdale School, The","Holmesdale School, The",0,null,3844856.84,3844856.8443619343,0,null,0,0,0,null,3844856.84,3844856.8443619343,0,null,8775.4500000000007,8775.4508860000005,0,null,null,null,0,null,0,0,0,null,337582.82,null,337583,null,0,null,0,null,0,null,0,null,0,null,0,null,null,null,0,null,null,null,0,null,null,null,0,null,null,null,0,null,"NO",{"$f":"IF(ISERROR(VLOOKUP($A306+8860000,'Growth Data'!$A:$F,3,0)),\"NO\",VLOOKUP($A306+8860000,'Growth Data'!$A:$F,3,0))","v":"NO"},0,null,0,{"$f":"IF(BM306=\"YES\",IF(ISERROR(VLOOKUP($A306+8860000,'Growth Data'!$A:$F,6,0)),0,VLOOKUP($A306+8860000,'Growth Data'!$A:$F,6,0)),0)","v":0},0,null,"NO",{"$f":"IF(ISERROR(VLOOKUP($A306+8860000,'Growth Data'!$A:$F,4,0)),\"NO\",VLOOKUP($A306+8860000,'Growth Data'!$A:$F,4,0))","v":"NO"},0,null,0,{"$f":"IF(BU306=\"YES\",IF(ISERROR(VLOOKUP($A306+8860000,'Growth Data'!$A:$Z,7,0)),0,VLOOKUP($A306+8860000,'Growth Data'!$A:$Z,7,0)),0)","v":0},0,null,"NO",{"$f":"IF(ISERROR(VLOOKUP($A306+8860000,'Growth Data'!$A:$F,5,0)),\"NO\",VLOOKUP($A306+8860000,'Growth Data'!$A:$F,5,0))","v":"NO"},0,null,0,{"$f":"IF(CC306=\"YES\",IF(ISERROR(VLOOKUP($A306+8860000,'Growth Data'!$A:$Z,8,0)),0,VLOOKUP($A306+8860000,'Growth Data'!$A:$Z,8,0)),0)","v":0},0,null,null,null,0]
[4091,"Community College Whitstable, The",null,"Community College Whitstable, The","Community College Whitstable, The",0,null,3623113.08,3623113.0833255546,0,null,0,0,0,null,3623113.08,3623113.0833255546,0,null,11124.27,11124.270454000001,0,null,null,null,0,null,0,0,0,null,172253.96,null,172254,null,0,null,0,null,0,null,0,null,0,null,0,null,null,null,0,null,null,null,0,null,null,null,0,null,null,null,0,null,"NO",{"$f":"IF(ISERROR(VLOOKUP($A307+8860000,'Growth Data'!$A:$F,3,0)),\"NO\",VLOOKUP($A307+8860000,'Growth Data'!$A:$F,3,0))","v":"NO"},0,null,0,{"$f":"IF(BM307=\"YES\",IF(ISERROR(VLOOKUP($A307+8860000,'Growth Data'!$A:$F,6,0)),0,VLOOKUP($A307+8860000,'Growth Data'!$A:$F,6,0)),0)","v":0},0,null,"NO",{"$f":"IF(ISERROR(VLOOKUP($A307+8860000,'Growth Data'!$A:$F,4,0)),\"NO\",VLOOKUP($A307+8860000,'Growth Data'!$A:$F,4,0))","v":"NO"},0,null,0,{"$f":"IF(BU307=\"YES\",IF(ISERROR(VLOOKUP($A307+8860000,'Growth Data'!$A:$Z,7,0)),0,VLOOKUP($A307+8860000,'Growth Data'!$A:$Z,7,0)),0)","v":0},0,null,"NO",{"$f":"IF(ISERROR(VLOOKUP($A307+8860000,'Growth Data'!$A:$F,5,0)),\"NO\",VLOOKUP($A307+8860000,'Growth Data'!$A:$F,5,0))","v":"NO"},0,null,0,{"$f":"IF(CC307=\"YES\",IF(ISERROR(VLOOKUP($A307+8860000,'Growth Data'!$A:$Z,8,0)),0,VLOOKUP($A307+8860000,'Growth Data'!$A:$Z,8,0)),0)","v":0},0,null,null,null,0]
[4109,"Dover Grammar School for Girls",null,"Dover Grammar School for Girls","Dover Grammar School for Girls",0,null,3187848,3187848,0,null,0,0,0,null,3187848,3187848,0,null,10830.67,10830.668008000001,0,null,null,null,0,null,0,0,0,null,549811.92000000004,null,549812,null,0,null,0,null,20000,null,20000,null,30000,null,30000,null,null,null,0,null,null,null,0,null,null,null,0,null,null,null,0,null,"NO",{"$f":"IF(ISERROR(VLOOKUP($A308+8860000,'Growth Data'!$A:$F,3,0)),\"NO\",VLOOKUP($A308+8860000,'Growth Data'!$A:$F,3,0))","v":"NO"},0,null,0,{"$f":"IF(BM308=\"YES\",IF(ISERROR(VLOOKUP($A308+8860000,'Growth Data'!$A:$F,6,0)),0,VLOOKUP($A308+8860000,'Growth Data'!$A:$F,6,0)),0)","v":0},0,null,"NO",{"$f":"IF(ISERROR(VLOOKUP($A308+8860000,'Growth Data'!$A:$F,4,0)),\"NO\",VLOOKUP($A308+8860000,'Growth Data'!$A:$F,4,0))","v":"NO"},0,null,0,{"$f":"IF(BU308=\"YES\",IF(ISERROR(VLOOKUP($A308+8860000,'Growth Data'!$A:$Z,7,0)),0,VLOOKUP($A308+8860000,'Growth Data'!$A:$Z,7,0)),0)","v":0},0,null,"NO",{"$f":"IF(ISERROR(VLOOKUP($A308+8860000,'Growth Data'!$A:$F,5,0)),\"NO\",VLOOKUP($A308+8860000,'Growth Data'!$A:$F,5,0))","v":"NO"},0,null,0,{"$f":"IF(CC308=\"YES\",IF(ISERROR(VLOOKUP($A308+8860000,'Growth Data'!$A:$Z,8,0)),0,VLOOKUP($A308+8860000,'Growth Data'!$A:$Z,8,0)),0)","v":0},0,null,null,null,0]
[4246,"North School, The",null,"North School, The","North School, The",0,null,5857668.8600000003,5857668.8628246821,0,null,0,0,0,null,5857668.8600000003,5857668.8628246821,0,null,14337.59,14337.586113000003,0,null,null,null,0,null,0,0,0,null,74368.39,null,74368,null,0,null,0,null,114333.33,null,114333,null,171500,null,171500,null,null,null,0,null,null,null,0,null,null,null,0,null,null,null,0,null,"NO",{"$f":"IF(ISERROR(VLOOKUP($A309+8860000,'Growth Data'!$A:$F,3,0)),\"NO\",VLOOKUP($A309+8860000,'Growth Data'!$A:$F,3,0))","v":"NO"},0,null,0,{"$f":"IF(BM309=\"YES\",IF(ISERROR(VLOOKUP($A309+8860000,'Growth Data'!$A:$F,6,0)),0,VLOOKUP($A309+8860000,'Growth Data'!$A:$F,6,0)),0)","v":0},0,null,"NO",{"$f":"IF(ISERROR(VLOOKUP($A309+8860000,'Growth Data'!$A:$F,4,0)),\"NO\",VLOOKUP($A309+8860000,'Growth Data'!$A:$F,4,0))","v":"NO"},0,null,0,{"$f":"IF(BU309=\"YES\",IF(ISERROR(VLOOKUP($A309+8860000,'Growth Data'!$A:$Z,7,0)),0,VLOOKUP($A309+8860000,'Growth Data'!$A:$Z,7,0)),0)","v":0},0,null,"NO",{"$f":"IF(ISERROR(VLOOKUP($A309+8860000,'Growth Data'!$A:$F,5,0)),\"NO\",VLOOKUP($A309+8860000,'Growth Data'!$A:$F,5,0))","v":"NO"},0,null,0,{"$f":"IF(CC309=\"YES\",IF(ISERROR(VLOOKUP($A309+8860000,'Growth Data'!$A:$Z,8,0)),0,VLOOKUP($A309+8860000,'Growth Data'!$A:$Z,8,0)),0)","v":0},0,null,null,null,0]
[4522,"Maidstone Grammar School",null,"Maidstone Grammar School","Maidstone Grammar School",0,null,4402059,4402059,0,null,0,0,0,null,4402059,4402059,0,null,15169.46,15169.459710000003,0,null,null,null,0,null,0,0,0,null,89047.75,null,89048,null,0,null,0,null,0,null,0,null,0,null,0,null,null,null,0,null,null,null,0,null,null,null,0,null,null,null,0,null,"NO",{"$f":"IF(ISERROR(VLOOKUP($A310+8860000,'Growth Data'!$A:$F,3,0)),\"NO\",VLOOKUP($A310+8860000,'Growth Data'!$A:$F,3,0))","v":"YES"},1,null,0,{"$f":"IF(BM310=\"YES\",IF(ISERROR(VLOOKUP($A310+8860000,'Growth Data'!$A:$F,6,0)),0,VLOOKUP($A310+8860000,'Growth Data'!$A:$F,6,0)),0)","v":184},-184,null,"NO",{"$f":"IF(ISERROR(VLOOKUP($A310+8860000,'Growth Data'!$A:$F,4,0)),\"NO\",VLOOKUP($A310+8860000,'Growth Data'!$A:$F,4,0))","v":"YES"},1,null,0,{"$f":"IF(BU310=\"YES\",IF(ISERROR(VLOOKUP($A310+8860000,'Growth Data'!$A:$Z,7,0)),0,VLOOKUP($A310+8860000,'Growth Data'!$A:$Z,7,0)),0)","v":205},-205,null,"NO",{"$f":"IF(ISERROR(VLOOKUP($A310+8860000,'Growth Data'!$A:$F,5,0)),\"NO\",VLOOKUP($A310+8860000,'Growth Data'!$A:$F,5,0))","v":"NO"},0,null,0,{"$f":"IF(CC310=\"YES\",IF(ISERROR(VLOOKUP($A310+8860000,'Growth Data'!$A:$Z,8,0)),0,VLOOKUP($A310+8860000,'Growth Data'!$A:$Z,8,0)),0)","v":0},0,null,null,null,0]
[4523,"Maidstone Grammar School for Girls",null,"Maidstone Grammar School for Girls","Maidstone Grammar School for Girls",0,null,4162359,4162359,0,null,0,0,0,null,4162359,4162359,0,null,14337.59,14337.586113000003,0,null,null,null,0,null,0,0,0,null,88185.91,null,88186,null,0,null,0,null,0,null,0,null,0,null,0,null,null,null,0,null,null,null,0,null,null,null,0,null,null,null,0,null,"NO",{"$f":"IF(ISERROR(VLOOKUP($A311+8860000,'Growth Data'!$A:$F,3,0)),\"NO\",VLOOKUP($A311+8860000,'Growth Data'!$A:$F,3,0))","v":"NO"},0,null,0,{"$f":"IF(BM311=\"YES\",IF(ISERROR(VLOOKUP($A311+8860000,'Growth Data'!$A:$F,6,0)),0,VLOOKUP($A311+8860000,'Growth Data'!$A:$F,6,0)),0)","v":0},0,null,"NO",{"$f":"IF(ISERROR(VLOOKUP($A311+8860000,'Growth Data'!$A:$F,4,0)),\"NO\",VLOOKUP($A311+8860000,'Growth Data'!$A:$F,4,0))","v":"NO"},0,null,0,{"$f":"IF(BU311=\"YES\",IF(ISERROR(VLOOKUP($A311+8860000,'Growth Data'!$A:$Z,7,0)),0,VLOOKUP($A311+8860000,'Growth Data'!$A:$Z,7,0)),0)","v":0},0,null,"NO",{"$f":"IF(ISERROR(VLOOKUP($A311+8860000,'Growth Data'!$A:$F,5,0)),\"NO\",VLOOKUP($A311+8860000,'Growth Data'!$A:$F,5,0))","v":"NO"},0,null,0,{"$f":"IF(CC311=\"YES\",IF(ISERROR(VLOOKUP($A311+8860000,'Growth Data'!$A:$Z,8,0)),0,VLOOKUP($A311+8860000,'Growth Data'!$A:$Z,8,0)),0)","v":0},0,null,null,null,0]
[4534,"Simon Langton Girls' Grammar School",null,"Simon Langton Girls' Grammar School","Simon Langton Girls' Grammar School",0,null,4059993,4059993,0,null,0,0,0,null,4059993,4059993,0,null,13538.34,13538.335010000003,0,null,null,null,0,null,0,0,0,null,35063.050000000003,null,35063,null,2493.69,null,2494,null,0,null,0,null,0,null,0,null,null,null,0,null,null,null,0,null,null,null,0,null,null,null,0,null,"NO",{"$f":"IF(ISERROR(VLOOKUP($A312+8860000,'Growth Data'!$A:$F,3,0)),\"NO\",VLOOKUP($A312+8860000,'Growth Data'!$A:$F,3,0))","v":"NO"},0,null,0,{"$f":"IF(BM312=\"YES\",IF(ISERROR(VLOOKUP($A312+8860000,'Growth Data'!$A:$F,6,0)),0,VLOOKUP($A312+8860000,'Growth Data'!$A:$F,6,0)),0)","v":0},0,null,"NO",{"$f":"IF(ISERROR(VLOOKUP($A312+8860000,'Growth Data'!$A:$F,4,0)),\"NO\",VLOOKUP($A312+8860000,'Growth Data'!$A:$F,4,0))","v":"NO"},0,null,0,{"$f":"IF(BU312=\"YES\",IF(ISERROR(VLOOKUP($A312+8860000,'Growth Data'!$A:$Z,7,0)),0,VLOOKUP($A312+8860000,'Growth Data'!$A:$Z,7,0)),0)","v":0},0,null,"NO",{"$f":"IF(ISERROR(VLOOKUP($A312+8860000,'Growth Data'!$A:$F,5,0)),\"NO\",VLOOKUP($A312+8860000,'Growth Data'!$A:$F,5,0))","v":"NO"},0,null,0,{"$f":"IF(CC312=\"YES\",IF(ISERROR(VLOOKUP($A312+8860000,'Growth Data'!$A:$Z,8,0)),0,VLOOKUP($A312+8860000,'Growth Data'!$A:$Z,8,0)),0)","v":0},0,null,null,null,0]
[4622,"Judd School, The",null,"Judd School, The","Judd School, The",0,null,3861789,3861789,0,null,0,0,0,null,3861789,3861789,0,null,13277.36,13277.355058000001,0,null,null,null,0,null,0,0,0,null,141317.09,null,141317,null,0,null,0,null,19333.330000000002,null,19333,null,29000,null,29000,null,null,null,0,null,null,null,0,null,null,null,0,null,null,null,0,null,"NO",{"$f":"IF(ISERROR(VLOOKUP($A313+8860000,'Growth Data'!$A:$F,3,0)),\"NO\",VLOOKUP($A313+8860000,'Growth Data'!$A:$F,3,0))","v":"YES"},1,null,0,{"$f":"IF(BM313=\"YES\",IF(ISERROR(VLOOKUP($A313+8860000,'Growth Data'!$A:$F,6,0)),0,VLOOKUP($A313+8860000,'Growth Data'!$A:$F,6,0)),0)","v":155},-155,null,"NO",{"$f":"IF(ISERROR(VLOOKUP($A313+8860000,'Growth Data'!$A:$F,4,0)),\"NO\",VLOOKUP($A313+8860000,'Growth Data'!$A:$F,4,0))","v":"YES"},1,null,0,{"$f":"IF(BU313=\"YES\",IF(ISERROR(VLOOKUP($A313+8860000,'Growth Data'!$A:$Z,7,0)),0,VLOOKUP($A313+8860000,'Growth Data'!$A:$Z,7,0)),0)","v":180},-180,null,"NO",{"$f":"IF(ISERROR(VLOOKUP($A313+8860000,'Growth Data'!$A:$F,5,0)),\"NO\",VLOOKUP($A313+8860000,'Growth Data'!$A:$F,5,0))","v":"NO"},0,null,0,{"$f":"IF(CC313=\"YES\",IF(ISERROR(VLOOKUP($A313+8860000,'Growth Data'!$A:$Z,8,0)),0,VLOOKUP($A313+8860000,'Growth Data'!$A:$Z,8,0)),0)","v":0},0,null,null,null,0]
[5407,"Thamesview School",null,"Thamesview School","Thamesview School",0,null,5046291.3099999996,5046291.306685403,0,null,0,0,0,null,5046291.3099999996,5046291.306685403,0,null,12706.46,12706.461413000003,0,null,null,null,0,null,0,0,0,null,69671.28,null,69671,null,0,null,0,null,0,null,0,null,0,null,0,null,null,null,0,null,null,null,0,null,null,null,0,null,null,null,0,null,"NO",{"$f":"IF(ISERROR(VLOOKUP($A314+8860000,'Growth Data'!$A:$F,3,0)),\"NO\",VLOOKUP($A314+8860000,'Growth Data'!$A:$F,3,0))","v":"YES"},1,null,0,{"$f":"IF(BM314=\"YES\",IF(ISERROR(VLOOKUP($A314+8860000,'Growth Data'!$A:$F,6,0)),0,VLOOKUP($A314+8860000,'Growth Data'!$A:$F,6,0)),0)","v":150},-150,null,"NO",{"$f":"IF(ISERROR(VLOOKUP($A314+8860000,'Growth Data'!$A:$F,4,0)),\"NO\",VLOOKUP($A314+8860000,'Growth Data'!$A:$F,4,0))","v":"NO"},0,null,0,{"$f":"IF(BU314=\"YES\",IF(ISERROR(VLOOKUP($A314+8860000,'Growth Data'!$A:$Z,7,0)),0,VLOOKUP($A314+8860000,'Growth Data'!$A:$Z,7,0)),0)","v":0},0,null,"NO",{"$f":"IF(ISERROR(VLOOKUP($A314+8860000,'Growth Data'!$A:$F,5,0)),\"NO\",VLOOKUP($A314+8860000,'Growth Data'!$A:$F,5,0))","v":"NO"},0,null,0,{"$f":"IF(CC314=\"YES\",IF(ISERROR(VLOOKUP($A314+8860000,'Growth Data'!$A:$Z,8,0)),0,VLOOKUP($A314+8860000,'Growth Data'!$A:$Z,8,0)),0)","v":0},0,null,null,null,0]
[5410,"Aylesford School - Sports College",null,"Aylesford School - Sports College","Aylesford School - Sports College",0,null,4334126.49,4334126.4855860285,0,null,0,0,0,null,4334126.49,4334126.4855860285,0,null,11140.58,11140.581701000001,0,null,null,null,0,null,0,0,0,null,193252.74,null,193253,null,0,null,0,null,0,null,0,null,0,null,0,null,null,null,0,null,null,null,0,null,null,null,0,null,null,null,0,null,"NO",{"$f":"IF(ISERROR(VLOOKUP($A315+8860000,'Growth Data'!$A:$F,3,0)),\"NO\",VLOOKUP($A315+8860000,'Growth Data'!$A:$F,3,0))","v":"NO"},0,null,0,{"$f":"IF(BM315=\"YES\",IF(ISERROR(VLOOKUP($A315+8860000,'Growth Data'!$A:$F,6,0)),0,VLOOKUP($A315+8860000,'Growth Data'!$A:$F,6,0)),0)","v":0},0,null,"NO",{"$f":"IF(ISERROR(VLOOKUP($A315+8860000,'Growth Data'!$A:$F,4,0)),\"NO\",VLOOKUP($A315+8860000,'Growth Data'!$A:$F,4,0))","v":"NO"},0,null,0,{"$f":"IF(BU315=\"YES\",IF(ISERROR(VLOOKUP($A315+8860000,'Growth Data'!$A:$Z,7,0)),0,VLOOKUP($A315+8860000,'Growth Data'!$A:$Z,7,0)),0)","v":0},0,null,"NO",{"$f":"IF(ISERROR(VLOOKUP($A315+8860000,'Growth Data'!$A:$F,5,0)),\"NO\",VLOOKUP($A315+8860000,'Growth Data'!$A:$F,5,0))","v":"NO"},0,null,0,{"$f":"IF(CC315=\"YES\",IF(ISERROR(VLOOKUP($A315+8860000,'Growth Data'!$A:$Z,8,0)),0,VLOOKUP($A315+8860000,'Growth Data'!$A:$Z,8,0)),0)","v":0},0,null,null,null,0]
[5412,"Simon Langton Grammar School for Boys",null,"Simon Langton Grammar School for Boys","Simon Langton Grammar School for Boys",0,null,3097201,3097201,0,null,0,0,0,null,3097201,3097201,0,null,10651.24,10651.244291000001,0,null,null,null,0,null,0,0,0,null,63836,null,63836,null,0,null,0,null,0,null,0,null,0,null,0,null,null,null,0,null,null,null,0,null,null,null,0,null,null,null,0,null,"NO",{"$f":"IF(ISERROR(VLOOKUP($A316+8860000,'Growth Data'!$A:$F,3,0)),\"NO\",VLOOKUP($A316+8860000,'Growth Data'!$A:$F,3,0))","v":"NO"},0,null,0,{"$f":"IF(BM316=\"YES\",IF(ISERROR(VLOOKUP($A316+8860000,'Growth Data'!$A:$F,6,0)),0,VLOOKUP($A316+8860000,'Growth Data'!$A:$F,6,0)),0)","v":0},0,null,"NO",{"$f":"IF(ISERROR(VLOOKUP($A316+8860000,'Growth Data'!$A:$F,4,0)),\"NO\",VLOOKUP($A316+8860000,'Growth Data'!$A:$F,4,0))","v":"NO"},0,null,0,{"$f":"IF(BU316=\"YES\",IF(ISERROR(VLOOKUP($A316+8860000,'Growth Data'!$A:$Z,7,0)),0,VLOOKUP($A316+8860000,'Growth Data'!$A:$Z,7,0)),0)","v":0},0,null,"NO",{"$f":"IF(ISERROR(VLOOKUP($A316+8860000,'Growth Data'!$A:$F,5,0)),\"NO\",VLOOKUP($A316+8860000,'Growth Data'!$A:$F,5,0))","v":"NO"},0,null,0,{"$f":"IF(CC316=\"YES\",IF(ISERROR(VLOOKUP($A316+8860000,'Growth Data'!$A:$Z,8,0)),0,VLOOKUP($A316+8860000,'Growth Data'!$A:$Z,8,0)),0)","v":0},0,null,null,null,0]
[5425,"Malling School, The",null,"Malling School, The","Malling School, The",0,null,4454686.41,4454686.4148486676,0,null,0,0,0,null,4454686.41,4454686.4148486676,0,null,11760.41,11760.409087000002,0,null,null,null,0,null,0,0,0,null,5580,null,5580,null,5442,null,5442,null,0,null,0,null,0,null,0,null,null,null,0,null,null,null,0,null,null,null,0,null,null,null,0,null,"NO",{"$f":"IF(ISERROR(VLOOKUP($A317+8860000,'Growth Data'!$A:$F,3,0)),\"NO\",VLOOKUP($A317+8860000,'Growth Data'!$A:$F,3,0))","v":"NO"},0,null,0,{"$f":"IF(BM317=\"YES\",IF(ISERROR(VLOOKUP($A317+8860000,'Growth Data'!$A:$F,6,0)),0,VLOOKUP($A317+8860000,'Growth Data'!$A:$F,6,0)),0)","v":0},0,null,"YES",{"$f":"IF(ISERROR(VLOOKUP($A317+8860000,'Growth Data'!$A:$F,4,0)),\"NO\",VLOOKUP($A317+8860000,'Growth Data'!$A:$F,4,0))","v":"NO"},1,null,56,{"$f":"IF(BU317=\"YES\",IF(ISERROR(VLOOKUP($A317+8860000,'Growth Data'!$A:$Z,7,0)),0,VLOOKUP($A317+8860000,'Growth Data'!$A:$Z,7,0)),0)","v":0},56,null,"NO",{"$f":"IF(ISERROR(VLOOKUP($A317+8860000,'Growth Data'!$A:$F,5,0)),\"NO\",VLOOKUP($A317+8860000,'Growth Data'!$A:$F,5,0))","v":"NO"},0,null,0,{"$f":"IF(CC317=\"YES\",IF(ISERROR(VLOOKUP($A317+8860000,'Growth Data'!$A:$Z,8,0)),0,VLOOKUP($A317+8860000,'Growth Data'!$A:$Z,8,0)),0)","v":0},0,null,null,null,0]
[5426,"Archbishop's School, The",null,"Archbishop's School, The","Archbishop's School, The",0,null,3464345.72,3464345.7203482143,0,null,0,0,0,null,3464345.72,3464345.7203482143,0,null,11515.74,11515.740382,0,null,null,null,0,null,0,0,0,null,207612.34,null,207612,null,0,null,0,null,0,null,0,null,0,null,0,null,null,null,0,null,null,null,0,null,null,null,0,null,null,null,0,null,"NO",{"$f":"IF(ISERROR(VLOOKUP($A318+8860000,'Growth Data'!$A:$F,3,0)),\"NO\",VLOOKUP($A318+8860000,'Growth Data'!$A:$F,3,0))","v":"NO"},0,null,0,{"$f":"IF(BM318=\"YES\",IF(ISERROR(VLOOKUP($A318+8860000,'Growth Data'!$A:$F,6,0)),0,VLOOKUP($A318+8860000,'Growth Data'!$A:$F,6,0)),0)","v":0},0,null,"NO",{"$f":"IF(ISERROR(VLOOKUP($A318+8860000,'Growth Data'!$A:$F,4,0)),\"NO\",VLOOKUP($A318+8860000,'Growth Data'!$A:$F,4,0))","v":"NO"},0,null,0,{"$f":"IF(BU318=\"YES\",IF(ISERROR(VLOOKUP($A318+8860000,'Growth Data'!$A:$Z,7,0)),0,VLOOKUP($A318+8860000,'Growth Data'!$A:$Z,7,0)),0)","v":0},0,null,"NO",{"$f":"IF(ISERROR(VLOOKUP($A318+8860000,'Growth Data'!$A:$F,5,0)),\"NO\",VLOOKUP($A318+8860000,'Growth Data'!$A:$F,5,0))","v":"NO"},0,null,0,{"$f":"IF(CC318=\"YES\",IF(ISERROR(VLOOKUP($A318+8860000,'Growth Data'!$A:$Z,8,0)),0,VLOOKUP($A318+8860000,'Growth Data'!$A:$Z,8,0)),0)","v":0},0,null,null,null,0]
[5431,"Hugh Christie Technology College",null,"Hugh Christie Technology College","Hugh Christie Technology College",0,null,4460424.0199999996,4460424.0183366071,0,null,0,0,0,null,4460424.0199999996,4460424.0183366071,0,null,11450.5,11450.495394000001,0,null,null,null,0,null,0,0,0,null,99631.679999999993,null,99632,null,0,null,0,null,0,null,0,null,0,null,0,null,null,null,0,null,null,null,0,null,null,null,0,null,null,null,0,null,"NO",{"$f":"IF(ISERROR(VLOOKUP($A319+8860000,'Growth Data'!$A:$F,3,0)),\"NO\",VLOOKUP($A319+8860000,'Growth Data'!$A:$F,3,0))","v":"NO"},0,null,0,{"$f":"IF(BM319=\"YES\",IF(ISERROR(VLOOKUP($A319+8860000,'Growth Data'!$A:$F,6,0)),0,VLOOKUP($A319+8860000,'Growth Data'!$A:$F,6,0)),0)","v":0},0,null,"NO",{"$f":"IF(ISERROR(VLOOKUP($A319+8860000,'Growth Data'!$A:$F,4,0)),\"NO\",VLOOKUP($A319+8860000,'Growth Data'!$A:$F,4,0))","v":"NO"},0,null,0,{"$f":"IF(BU319=\"YES\",IF(ISERROR(VLOOKUP($A319+8860000,'Growth Data'!$A:$Z,7,0)),0,VLOOKUP($A319+8860000,'Growth Data'!$A:$Z,7,0)),0)","v":0},0,null,"NO",{"$f":"IF(ISERROR(VLOOKUP($A319+8860000,'Growth Data'!$A:$F,5,0)),\"NO\",VLOOKUP($A319+8860000,'Growth Data'!$A:$F,5,0))","v":"NO"},0,null,0,{"$f":"IF(CC319=\"YES\",IF(ISERROR(VLOOKUP($A319+8860000,'Growth Data'!$A:$Z,8,0)),0,VLOOKUP($A319+8860000,'Growth Data'!$A:$Z,8,0)),0)","v":0},0,null,null,null,0]
[5456,"Northfleet Technology College",null,"Northfleet Technology College","Northfleet Technology College",0,null,5175449.59,5175449.5893096207,0,null,0,0,0,null,5175449.59,5175449.5893096207,0,null,13603.58,13603.579998000003,0,null,null,null,0,null,0,0,0,null,81812.509999999995,null,81813,null,0,null,0,null,0,null,0,null,0,null,0,null,null,null,0,null,null,null,0,null,null,null,0,null,null,null,0,null,"NO",{"$f":"IF(ISERROR(VLOOKUP($A320+8860000,'Growth Data'!$A:$F,3,0)),\"NO\",VLOOKUP($A320+8860000,'Growth Data'!$A:$F,3,0))","v":"NO"},0,null,0,{"$f":"IF(BM320=\"YES\",IF(ISERROR(VLOOKUP($A320+8860000,'Growth Data'!$A:$F,6,0)),0,VLOOKUP($A320+8860000,'Growth Data'!$A:$F,6,0)),0)","v":0},0,null,"NO",{"$f":"IF(ISERROR(VLOOKUP($A320+8860000,'Growth Data'!$A:$F,4,0)),\"NO\",VLOOKUP($A320+8860000,'Growth Data'!$A:$F,4,0))","v":"NO"},0,null,0,{"$f":"IF(BU320=\"YES\",IF(ISERROR(VLOOKUP($A320+8860000,'Growth Data'!$A:$Z,7,0)),0,VLOOKUP($A320+8860000,'Growth Data'!$A:$Z,7,0)),0)","v":0},0,null,"NO",{"$f":"IF(ISERROR(VLOOKUP($A320+8860000,'Growth Data'!$A:$F,5,0)),\"NO\",VLOOKUP($A320+8860000,'Growth Data'!$A:$F,5,0))","v":"NO"},0,null,0,{"$f":"IF(CC320=\"YES\",IF(ISERROR(VLOOKUP($A320+8860000,'Growth Data'!$A:$Z,8,0)),0,VLOOKUP($A320+8860000,'Growth Data'!$A:$Z,8,0)),0)","v":0},0,null,null,null,0]
[5459,"Dover Grammar School for Boys",null,"Dover Grammar School for Boys","Dover Grammar School for Boys",0,null,2973456,2973456,0,null,0,0,0,null,2973456,2973456,0,null,10259.77,10259.774363,0,null,null,null,0,null,0,0,0,null,52202.35,null,52202,null,779.76,null,780,null,0,null,0,null,0,null,0,null,null,null,0,null,null,null,0,null,null,null,0,null,null,null,0,null,"NO",{"$f":"IF(ISERROR(VLOOKUP($A321+8860000,'Growth Data'!$A:$F,3,0)),\"NO\",VLOOKUP($A321+8860000,'Growth Data'!$A:$F,3,0))","v":"NO"},0,null,0,{"$f":"IF(BM321=\"YES\",IF(ISERROR(VLOOKUP($A321+8860000,'Growth Data'!$A:$F,6,0)),0,VLOOKUP($A321+8860000,'Growth Data'!$A:$F,6,0)),0)","v":0},0,null,"NO",{"$f":"IF(ISERROR(VLOOKUP($A321+8860000,'Growth Data'!$A:$F,4,0)),\"NO\",VLOOKUP($A321+8860000,'Growth Data'!$A:$F,4,0))","v":"NO"},0,null,0,{"$f":"IF(BU321=\"YES\",IF(ISERROR(VLOOKUP($A321+8860000,'Growth Data'!$A:$Z,7,0)),0,VLOOKUP($A321+8860000,'Growth Data'!$A:$Z,7,0)),0)","v":0},0,null,"NO",{"$f":"IF(ISERROR(VLOOKUP($A321+8860000,'Growth Data'!$A:$F,5,0)),\"NO\",VLOOKUP($A321+8860000,'Growth Data'!$A:$F,5,0))","v":"NO"},0,null,0,{"$f":"IF(CC321=\"YES\",IF(ISERROR(VLOOKUP($A321+8860000,'Growth Data'!$A:$Z,8,0)),0,VLOOKUP($A321+8860000,'Growth Data'!$A:$Z,8,0)),0)","v":0},0,null,null,null,0]
[5461,"St John's Catholic Comprehensive School",null,"St John's Catholic Comprehensive School","St John's Catholic Comprehensive School",0,null,5981075.9100000001,5981075.9094741503,0,null,0,0,0,null,5981075.9100000001,5981075.9094741503,0,null,15120.53,15120.525969,0,null,null,null,0,null,0,0,0,null,114196.92,null,114197,null,0,null,0,null,0,null,0,null,0,null,0,null,null,null,0,null,null,null,0,null,null,null,0,null,null,null,0,null,"NO",{"$f":"IF(ISERROR(VLOOKUP($A322+8860000,'Growth Data'!$A:$F,3,0)),\"NO\",VLOOKUP($A322+8860000,'Growth Data'!$A:$F,3,0))","v":"NO"},0,null,0,{"$f":"IF(BM322=\"YES\",IF(ISERROR(VLOOKUP($A322+8860000,'Growth Data'!$A:$F,6,0)),0,VLOOKUP($A322+8860000,'Growth Data'!$A:$F,6,0)),0)","v":0},0,null,"NO",{"$f":"IF(ISERROR(VLOOKUP($A322+8860000,'Growth Data'!$A:$F,4,0)),\"NO\",VLOOKUP($A322+8860000,'Growth Data'!$A:$F,4,0))","v":"NO"},0,null,0,{"$f":"IF(BU322=\"YES\",IF(ISERROR(VLOOKUP($A322+8860000,'Growth Data'!$A:$Z,7,0)),0,VLOOKUP($A322+8860000,'Growth Data'!$A:$Z,7,0)),0)","v":0},0,null,"NO",{"$f":"IF(ISERROR(VLOOKUP($A322+8860000,'Growth Data'!$A:$F,5,0)),\"NO\",VLOOKUP($A322+8860000,'Growth Data'!$A:$F,5,0))","v":"NO"},0,null,0,{"$f":"IF(CC322=\"YES\",IF(ISERROR(VLOOKUP($A322+8860000,'Growth Data'!$A:$Z,8,0)),0,VLOOKUP($A322+8860000,'Growth Data'!$A:$Z,8,0)),0)","v":0},0,null,null,null,0]
[5468,"Royal Harbour Academy, The",null,"Royal Harbour Academy, The","Royal Harbour Academy, The",{"$f":"IF(E323=D323,0,1)","v":0},null,5097220.09,5097220.0914763175,{"$f":"ROUND(H323-I323,0)","v":0},null,0,0,{"$f":"ROUND(L323-M323,0)","v":0},null,5097220.09,5097220.0914763175,{"$f":"ROUND(P323-Q323,0)","v":0},null,12983.75,12983.752612000002,{"$f":"ROUND(T323-U323,0)","v":0},null,null,null,{"$f":"ROUND(X323-Y323,0)","v":0},null,0,0,{"$f":"ROUND(AB323-AC323,0)","v":0},null,166887.41,null,{"$f":"ROUND(AF323-AG323,0)","v":166887},null,0,null,{"$f":"ROUND(AJ323-AK323,0)","v":0},null,20666.669999999998,null,{"$f":"ROUND(AN323-AO323,0)","v":20667},null,31000,null,{"$f":"ROUND(AR323-AS323,0)","v":31000},null,null,null,{"$f":"ROUND(AV323-AW323,0)","v":0},null,null,null,{"$f":"ROUND(AZ323-BA323,0)","v":0},null,null,null,{"$f":"ROUND(BD323-BE323,0)","v":0},null,null,null,{"$f":"ROUND(BH323-BI323,0)","v":0},null,"NO",{"$f":"IF(ISERROR(VLOOKUP($A323+8860000,'Growth Data'!$A:$F,3,0)),\"NO\",VLOOKUP($A323+8860000,'Growth Data'!$A:$F,3,0))","v":"NO"},{"$f":"IF(BL323=BM323,0,1)","v":0},null,0,{"$f":"IF(BM323=\"YES\",IF(ISERROR(VLOOKUP($A323+8860000,'Growth Data'!$A:$F,6,0)),0,VLOOKUP($A323+8860000,'Growth Data'!$A:$F,6,0)),0)","v":0},{"$f":"ROUND(BP323-BQ323,0)","v":0},null,"NO",{"$f":"IF(ISERROR(VLOOKUP($A323+8860000,'Growth Data'!$A:$F,4,0)),\"NO\",VLOOKUP($A323+8860000,'Growth Data'!$A:$F,4,0))","v":"NO"},{"$f":"IF(BT323=BU323,0,1)","v":0},null,0,{"$f":"IF(BU323=\"YES\",IF(ISERROR(VLOOKUP($A323+8860000,'Growth Data'!$A:$Z,7,0)),0,VLOOKUP($A323+8860000,'Growth Data'!$A:$Z,7,0)),0)","v":0},{"$f":"ROUND(BX323-BY323,0)","v":0},null,"NO",{"$f":"IF(ISERROR(VLOOKUP($A323+8860000,'Growth Data'!$A:$F,5,0)),\"NO\",VLOOKUP($A323+8860000,'Growth Data'!$A:$F,5,0))","v":"NO"},{"$f":"IF(CB323=CC323,0,1)","v":0},null,0,{"$f":"IF(CC323=\"YES\",IF(ISERROR(VLOOKUP($A323+8860000,'Growth Data'!$A:$Z,8,0)),0,VLOOKUP($A323+8860000,'Growth Data'!$A:$Z,8,0)),0)","v":0},{"$f":"ROUND(CF323-CG323,0)","v":0},null,null,null,{"$f":"ROUND(CJ323-CK323,0)","v":0}]
[5447,"St George's CE Foundation School",null,"St George's CE Foundation School","St George's CE Foundation School",0,null,6012712.3200000003,6012712.3202141291,0,null,0,0,0,null,6012712.3200000003,6012712.3202141291,0,null,21984.1,21984.098568599999,0,null,null,null,0,null,0,0,0,null,5580,null,5580,null,5442,null,5442,null,0,null,0,null,0,null,0,null,null,null,0,null,null,null,0,null,null,null,0,null,null,null,0,null,"NO",{"$f":"IF(ISERROR(VLOOKUP($A324+8860000,'Growth Data'!$A:$F,3,0)),\"NO\",VLOOKUP($A324+8860000,'Growth Data'!$A:$F,3,0))","v":"YES"},1,null,0,{"$f":"IF(BM324=\"YES\",IF(ISERROR(VLOOKUP($A324+8860000,'Growth Data'!$A:$F,6,0)),0,VLOOKUP($A324+8860000,'Growth Data'!$A:$F,6,0)),0)","v":0},0,null,"NO",{"$f":"IF(ISERROR(VLOOKUP($A324+8860000,'Growth Data'!$A:$F,4,0)),\"NO\",VLOOKUP($A324+8860000,'Growth Data'!$A:$F,4,0))","v":"YES"},1,null,0,{"$f":"IF(BU324=\"YES\",IF(ISERROR(VLOOKUP($A324+8860000,'Growth Data'!$A:$Z,7,0)),0,VLOOKUP($A324+8860000,'Growth Data'!$A:$Z,7,0)),0)","v":60},-60,null,"NO",{"$f":"IF(ISERROR(VLOOKUP($A324+8860000,'Growth Data'!$A:$F,5,0)),\"NO\",VLOOKUP($A324+8860000,'Growth Data'!$A:$F,5,0))","v":"YES"},1,null,0,{"$f":"IF(CC324=\"YES\",IF(ISERROR(VLOOKUP($A324+8860000,'Growth Data'!$A:$Z,8,0)),0,VLOOKUP($A324+8860000,'Growth Data'!$A:$Z,8,0)),0)","v":31},-31,null,null,null,0]
[null,null,null,null,null,null,null,0,null,null,null,0,null,null,null,0,null,null,null,0,null,null,null,null,null,null,null,0]

{"sheet":"Contents","index":4,"n_rows":17,"n_cols":2,"rows_kept":17,"cut":false,"hidden":false,"merged":[[12,1,12,11],[8,1,8,11],[16,1,16,11],[14,1,14,11],[9,1,9,11],[10,1,10,11],[11,1,11,11],[13,1,13,11],[15,1,15,11],[7,1,7,11],[2,0,2,11],[4,1,4,11],[0,0,1,11],[6,1,6,11],[5,1,5,11],[3,1,3,11]]}
["Contents"]
[]
["Guidance has been written to aid the user in populating this template, to access this guidance click on this link\nUser guidance"]
["Pupils","This is the pupil input sheet for the 2021-22 and 2022-23 SBS. It also has a pupil input for 2023-24 if your school is in receipt of rising roll funding."]
["Other Grants","Various Grants including Pupil Premium (PP), Universal Infant Free Schools Meals (UIFSM), Post 16 formula funding and Teachers Pay & Pensions Grant."]
["Year 1","This is the summary page for your funding for 2020-21, it includes your School Budget Share (SBS) formula funding, Pupil Premium (PP), Universal Infant Free Schools Meals (UIFSM), Growth funding, Early Years Funding, Post 16 formula funding, De-delegation total and total high needs funding (High Needs Mainstream and Specialist Resource Provision (SRP))."]
["Minimum Funding Guarantee (MFG) Y1","This is the detailed MFG calculation for 2020-21. Any MFG funding will be fed into the Year 1 tab."]
["Year 2","This is the summary page for your funding for 2021-22, it includes your School Budget Share (SBS) MFG calculation, Pupil Premium (PP), Universal Infant Free Schools Meals (UIFSM), Growth funding, Early Years Funding, Post formula funding, De-delegation total and total High Needs funding (High Needs Mainstream and Specialist Resource Provision (SRP))."]
["Year 3","This is the summary page for your funding for 2022-23, it includes your School Budget Share (SBS) MFG calculation, Pupil Premium (PP), Universal Infant Free Schools Meals (UIFSM), Growth funding, Early Years Funding, Post formula funding, De-delegation total and total High Needs funding (High Needs Mainstream and Specialist Resource Provision (SRP))."]
["Early Years","This is the input sheet to calculate your Early Years 3 & 4 years olds free entitlement, 2 Year old funding, Special Educational Needs Inclusion Fund (SENIF), Disability Access Fund (DAF), Early Years Pupil Premium. The outcome of this calculation will feed into tabs Year 1, Year 2 and Year 3."]
["High Needs Mainstream","The purpose of this template is to calculate your High Needs mainstream funding. The facility exists to estimate funding for Years 1, 2 and 3. The outputs for Years 1,2 and 3 will subsequently feed into the relevant Year 1, 2 and 3 tabs."]
["SRP Year 1","The purpose of this template is to calculate your Specialist Resource Provision (SRP) Funding for 2020-21. The outcome of this calculation will feed into your Year 1 table ."]
["SPR Funding Summary","The purpose of this is to summarise a schools SRP budget. Element 1 funding is included in a school’s formula funding allocation (tab Year 1) and Elements 2 and 3 are paid from the Dedicated Schools Grant High Needs Block, which is recorded on SRP Year 1 tab to this template."]
["SRP Year 2 & 3 ","The purpose of this template is to calculate your Specialist Resource Provision (SRP) Funding for 2021-22 and 2022-23. The outcome of this calculation will feed into the respective Year 2 and Year 3 tab."]
["SRP Rates","This tabs provides a breakdown of how the SRP rate has been calculated for each SRP."]
["Growth Funding ","This tab needs to populated with any growth funding, this will be made up of either/both reorganisation funding or/and Rising Roll funding."]
["BPS Summary","This tab will be populated with the outputs from tabs Year 1, 2 and 3 and will be subsequently input into the BPS financial tool."]

{"sheet":"Pupils","index":5,"n_rows":34,"n_cols":4,"rows_kept":34,"cut":false,"hidden":false,"merged":[[5,0,6,3],[1,0,1,3]]}
[null,null,null,{"$f":"Year1DfE","v":0}]
[{"$f":"schoolname","v":""}]
[]
["Mainstream Pupil Numbers"]
[]
["Please enter your estimated pupil numbers to calculate future years budgets (October 2022 only needs to be completed if you are entitled to rising roll in 2022/23 - If there is a 'Yes' in cell E43 on the Growth Funding Tab)\n\nWhere a school has a SRP, the pupils in the SRP should be included in this estimate."]
[]
["Year Group","At October 2020","At October 2021","At October 2022"]
["R"]
[1]
[2]
[3]
[4]
[5]
[6]
[7]
[8]
[9]
[10]
[11]
["Total Primary",{"$f":"SUM(B9:B15)","v":0},{"$f":"SUM(C9:C15)","v":0},{"$f":"SUM(D9:D15)","v":0}]
["Total Secondary",{"$f":"SUM(B16:B20)","v":0},{"$f":"SUM(C16:C20)","v":0},{"$f":"SUM(D16:D20)","v":0}]
[]
["For Teachers Pay & Pension Grant"]
[null,"At October 2019","At October 2020","At October 2021"]
["Sixth form pupils"]
[]
[]
[]
[]
["Primary",{"$f":"SUM(B9:B15)","v":0},{"$f":"SUM(C9:C15)","v":0}]
["KS3",{"$f":"SUM(B16:B18)","v":0},{"$f":"SUM(C16:C18)","v":0}]
["KS4",{"$f":"SUM(B19:B20)","v":0},{"$f":"SUM(C19:C20)","v":0}]
["Secondary Check",{"$f":"IF(B22=SUM(B32:B33),\"OK\",\"NOT OK\")","v":"OK"},{"$f":"IF(C22=SUM(C32:C33),\"OK\",\"NOT OK\")","v":"OK"}]

{"sheet":"Other Grants","index":6,"n_rows":53,"n_cols":26,"rows_kept":53,"cut":false,"hidden":false,"merged":[[1,1,1,12],[26,15,26,17],[26,20,26,22]]}
[null,null,null,null,null,null,null,null,null,null,null,null,null,null,null,null,null,null,null,null,null,null,null,null,null,"I02"]
[null,"Other Grants",null,null,null,null,null,null,null,null,null,null,null,null,null,null,null,null,null,null,null,null,null,null,null,"I03"]
[null,null,null,null,null,null,null,null,null,null,null,null,null,null,null,null,null,null,null,null,null,null,null,null,null,"I04"]
[null,null,null,null,null,null,null,null,null,null,null,null,null,null,null,null,null,null,null,null,null,null,null,null,null,"I05"]
[null,null,null,"Units",null,null,null,null,"Rate",null,"Total Funding",null,null,null,null,null,null,null,null,null,null,null,null,null,null,"I06"]
[null,"Grant",null,"2019/20","2020/21","2021/22","2022/23",null,null,null,"2020/21","2021/22","2022/23",null,null,null,null,null,null,null,null,null,null,null,null,"I07"]
[null,"Pupil Premium",null,null,null,null,null,null,null,null,null,null,null,null,null,null,null,null,null,null,null,null,null,null,null,"I08"]
[null,"Free School Meals Ever 6 Primary (January census)",null,null,null,null,null,null,{"$f":"IF(Year1DfE=1001,0,1345)","v":1345},null,{"$f":"E8*$I8","v":0},0,0,null,null,null,null,null,null,null,null,null,null,null,null,"I09"]
[null,"Free School Meals Ever 6 Secondary (January census)",null,null,null,null,null,null,{"$f":"IF(Year1DfE=1001,0,955)","v":955},null,0,0,0,null,null,null,null,null,null,null,null,null,null,null,null,"I10"]
[null,"Adopted (Post-LAC) pupils (January census)",null,null,null,null,null,null,{"$f":"IF(Year1DfE=1001,0,2345)","v":2345},null,0,0,0,null,null,null,null,null,null,null,null,null,null,null,null,"I11"]
[null,"Children in Care (CiC) ",null,null,null,null,null,null,null,null,null,null,null,null,null,null,null,null,null,null,null,null,null,null,null,"I12"]
[null,"Service Children Ever 6 (January census)",null,null,null,null,null,null,{"$f":"IF(Year1DfE=1001,0,310)","v":310},null,{"$f":"E12*$I12","v":0},{"$f":"F12*$I12","v":0},{"$f":"G12*$I12","v":0},null,null,null,null,null,null,null,null,null,null,null,null,"I13"]
[null,"Total Pupil Premium",null,null,null,null,null,null,null,null,{"$f":"SUM(K8:K12)","v":0},{"$f":"SUM(L8:L12)","v":0},{"$f":"SUM(M8:M12)","v":0},null,null,null,null,null,null,null,null,null,null,null,null,"I15"]
[null,null,null,null,null,null,null,null,null,null,null,null,null,null,null,null,null,null,null,null,null,null,null,null,null,"I16"]
[null,"Universal Infant Free School Meals",null,null,null,null,null,null,null,null,null,null,null,null,null,null,null,null,null,null,null,null,null,null,null,"I18"]
[null,"The DfE have not yet confirmed how this will be calculated. However, we have assumed this is on the same basis as 2019/20 guidance."]
[null,null,null,"Academic Year"]
[null,"October Taken meals year R"]
[null,"January Taken meals year R"]
[null,"October Taken meals years 1 & 2"]
[null,"January Taken meals years 1 & 2"]
[null,"Qualifying pupils",null,{"$f":"((D20+D21)/2)+MAX(D19,((D18+D19)/2))","v":0},{"$f":"((E20+E21)/2)+MAX(E19,((E18+E19)/2))","v":0},{"$f":"((F20+F21)/2)+MAX(F19,((F18+F19)/2))","v":0},{"$f":"((G20+G21)/2)+MAX(G19,((G18+G19)/2))","v":0}]
[null,"*190 meals (qualifying pupils X 190)",null,{"$f":"D22*190","v":0},{"$f":"E22*190","v":0},0,0]
[null,"Rate per meal",null,2.2999999999999998,2.2999999999999998,2.2999999999999998,2.2999999999999998]
[null,"Academic Year Allocation",null,{"$f":"D24*D23","v":0},{"$f":"E24*E23","v":0},0,0]
[null,"UIFSMs April to August",null,null,null,null,null,null,null,null,{"$f":"(D25/12*5)","v":0},{"$f":"(E25/12*5)","v":0},{"$f":"(F25/12*5)","v":0}]
[null,"UIFSMs September to March",null,null,null,null,null,null,null,null,{"$f":"(E25/12*7)","v":0},{"$f":"(F25/12*7)","v":0},{"$f":"(G25/12*7)","v":0},null,null,"Teachers pay grant",null,null,null,null,"Teachers pension Grant grant"]
[null,"Total Universal Infant Free School Meals",null,null,null,null,null,null,null,null,{"$f":"(D25/12*5)+(E25/12*7)","v":0},{"$f":"(E25/12*5)+(F25/12*7)","v":0},{"$f":"(F25/12*5)+(G25/12*7)","v":0},null,null,"Rates Sept 19 to Mar 20","Primary","Secondary",null,null,"Rates Sept 19 to Mar 20","Primary","Secondary"]
[null,null,null,null,null,null,null,null,null,null,null,null,null,null,null,"Kent",27.43,40.369999999999997,null,null,"Kent",77.5,114.08]
[null,"Post 16",null,null,null,null,null,null,null,null,null,null,null,null,null,"Fringe",28.26,41.59,null,null,"Fringe",79.849999999999994,117.53]
[null,"Post 16 allocation (Apr - Jul)"]
[null,"Post 16 allocation (Aug - Mar)"]
[null,"Total Post 16 ",null,null,null,null,null,null,null,null,{"$f":"SUM(K31:K32)","v":0},{"$f":"SUM(L31:L32)","v":0},0,null,null,"Teachers Pay Increase 2018 Calculation (Primary)",null,null,null,null,"Teachers Pay Increase 2018 Calculation (Secondary)"]
[]
[null,"Additional Grants","Code",null,null,null,null,null,null,null,null,null,null,null,null,"Period","Rate","Pupil No.","Total",null,"Period","Rate","Pupil No.","Total"]
[null,"Teachers Pay Increase 2018 (TPG)","I01",null,null,null,null,null,null,null,{"$f":"SUM(S37+S38+X37+X38)","v":0},{"$f":"SUM(S39+S40+X39+X40)","v":0},{"$f":"SUM(S41+S42+X41+X42)","v":0}]
[null,"Teachers Pension Grant","I01",null,null,null,null,null,null,null,{"$f":"SUM(S48+S49+X48+X49)","v":0},{"$f":"SUM(S50+S51+X50+X51)","v":0},{"$f":"SUM(S52+S53+X52+X53)","v":0},null,null,"Apr 20 - Aug 2020",{"$f":"Q38/7*5","v":19.592857142857142},{"$f":"IFERROR(VLOOKUP(Year1DfE,dataslate,58,0),0)","v":0},{"$f":"Q37*R37","v":0},null,"Apr 20 - Aug 2020",{"$f":"V38/7*5","v":28.835714285714285},{"$f":"IFERROR(VLOOKUP(Year1DfE,dataslate,59,0),0)","v":0},{"$f":"V37*W37","v":0}]
[null,"Teachers Pension Supplementary Grant","I01",null,null,null,null,null,null,null,null,null,null,null,null,"Sep 20 - Mar 2021",{"$f":"SUM(IF(Year1F9>0,Q30,Q29))","v":27.43},{"$f":"IF(year1phase=6,100,\nIF(OR(year1phase=1,year1phase=4),IF(SUM('Year 1'!F10)<100,100,SUM('Year 1'!F10)),0))","v":0},{"$f":"Q38*R38","v":0},null,"Sep 20 - Mar 2021",{"$f":"SUM(IF(Year1F9>0,R30,R29))","v":40.369999999999997},{"$f":"SUM('Year 1'!F11:F12)+Pupils!B26","v":0},{"$f":"V38*W38","v":0}]
[null,"PE & Sport Premium Grant","I18",null,null,null,null,null,null,null,null,null,null,null,null,"Apr 21 - Aug 2020",{"$f":"Q38/7*5","v":19.592857142857142},{"$f":"R38","v":0},{"$f":"Q39*R39","v":0},null,"Apr 21 - Aug 2020",{"$f":"V38/7*5","v":28.835714285714285},{"$f":"W38","v":0},{"$f":"V39*W39","v":0}]
[null,"Year 7 Catch Up","I06",null,null,null,null,null,null,null,null,null,null,null,null,"Sep 21 - Mar 2022",{"$f":"Q38","v":27.43},{"$f":"IF(year1phase=6,100,IF(OR(year1phase=4,year1phase=1),IF(Pupils!B21=0,0,IF(SUM(Pupils!B21)<100,100,SUM(Pupils!B21))),0))","v":0},{"$f":"Q40*R40","v":0},null,"Sep 21 - Mar 2022",{"$f":"V38","v":40.369999999999997},{"$f":"SUM(Pupils!B22)+Pupils!C26","v":0},{"$f":"V40*W40","v":0}]
[null,null,null,null,null,null,null,null,null,null,null,null,null,null,null,"Apr 22 - Aug 2022",{"$f":"Q40/7*5","v":19.592857142857142},{"$f":"R40","v":0},{"$f":"Q41*R41","v":0},null,"Apr 22 - Aug 2022",{"$f":"V40/7*5","v":28.835714285714285},{"$f":"W40","v":0},{"$f":"V41*W41","v":0}]
[null,null,null,null,null,null,null,null,null,null,null,null,null,null,null,"Sep 22 - Mar 2023",{"$f":"Q40","v":27.43},{"$f":"IF(year1phase=6,100,IF(OR(year1phase=4,year1phase=1),IF(Pupils!C21=0,0,IF(SUM(Pupils!C21)<100,100,SUM(Pupils!C21))),0))","v":0},{"$f":"Q42*R42","v":0},null,"Sep 22 - Mar 2023",{"$f":"V40","v":40.369999999999997},{"$f":"Pupils!C22+Pupils!D26","v":0},{"$f":"V42*W42","v":0}]
[]
[null,null,null,null,null,null,null,null,null,null,null,null,null,null,null,"Teachers Pension Grant (primary)",null,null,null,null,"Teachers Pension Grant (Secondary)"]
[]
[null,null,null,null,null,null,null,null,null,null,null,null,null,null,null,"Period","Rate","Pupil No.","Total",null,"Period","Rate","Pupil No.","Total"]
[]
[null,null,null,null,null,null,null,null,null,null,null,null,null,null,null,"Apr 20 - Aug 2020",{"$f":"Q49/7*5","v":55.357142857142854},{"$f":"R37","v":0},{"$f":"Q48*R48","v":0},null,"Apr 20 - Aug 2020",{"$f":"V49/7*5","v":81.48571428571428},{"$f":"W37","v":0},{"$f":"V48*W48","v":0}]
[null,"Total Additional Grants",null,null,null,null,null,null,null,null,{"$f":"SUM(K36:K48)","v":0},{"$f":"SUM(L36:L48)","v":0},{"$f":"SUM(M36:M48)","v":0},null,null,"Sep 20 - Mar 2021",{"$f":"SUM(IF(Year1F9>0,V30,V29))","v":77.5},{"$f":"R38","v":0},{"$f":"Q49*R49","v":0},null,"Sep 20 - Mar 2021",{"$f":"SUM(IF(Year1F9>0,W30,W29))","v":114.08},{"$f":"W38","v":0},{"$f":"V49*W49","v":0}]
[null,null,null,null,null,null,null,null,null,null,null,null,null,null,null,"Apr 21 - Aug 2020",{"$f":"Q49/7*5","v":55.357142857142854},{"$f":"R39","v":0},{"$f":"Q50*R50","v":0},null,"Apr 21 - Aug 2020",{"$f":"V49/7*5","v":81.48571428571428},0,{"$f":"V50*W50","v":0}]
[null,null,null,null,null,null,null,null,null,null,null,null,null,null,null,"Sep 21 - Mar 2022",{"$f":"Q49","v":77.5},0,{"$f":"Q51*R51","v":0},null,"Sep 21 - Mar 2022",{"$f":"V49","v":114.08},0,{"$f":"V51*W51","v":0}]
[null,null,null,null,null,null,null,null,null,null,null,null,null,null,null,"Apr 22 - Aug 2022",{"$f":"Q51/7*5","v":55.357142857142854},0,{"$f":"Q52*R52","v":0},null,"Apr 22 - Aug 2022",{"$f":"V51/7*5","v":81.48571428571428},0,{"$f":"V52*W52","v":0}]
[null,null,null,null,null,null,null,null,null,null,null,null,null,null,null,"Sep 22 - Mar 2023",{"$f":"Q51","v":77.5},0,{"$f":"Q53*R53","v":0},null,"Sep 22 - Mar 2023",{"$f":"V51","v":114.08},0,{"$f":"V53*W53","v":0}]

{"sheet":"Year 1","index":7,"n_rows":71,"n_cols":8,"rows_kept":71,"cut":false,"hidden":false,"merged":[[70,2,70,7],[35,1,36,1],[32,1,33,1],[5,1,5,7],[9,1,12,1],[13,1,29,1],[30,1,31,1],[39,1,40,1]]}
[]
[null,null,null,null,null,"DfE Number"]
[]
[]
[null,null,null,null,null,null,"Phase",{"$f":"IFERROR(VLOOKUP(Year1DfE,dataslate,3,0),\"\")","v":""}]
[9,{"$f":"IF(ISERROR(VLOOKUP(Year1DfE,dataslate,2,0)),\"\",VLOOKUP(Year1DfE,dataslate,2,0))","v":""}]
[9]
[9,"Formula Budget 2020/21"]
[9,{"$f":"IF(H54>0,\"Formula Budget includes SRP pupils\",\"\")","v":""},null,null,null,"Pupils","Rate","Total"]
[1,"Factor 1","Basic Entitlement Primary",null,null,{"$f":"IFERROR(VLOOKUP(Year1DfE,dataslate,4,0),0)","v":0},2838.6939458762181,{"$f":"(F10*G10)","v":0}]
[2,null,"Basic Entitlement Key Stage 3",null,null,{"$f":"IFERROR(VLOOKUP(Year1DfE,dataslate,5,0),0)","v":0},3992.2549088311721,{"$f":"(F11*G11)","v":0}]
[2,null,"Basic Entitlement Key Stage 4",null,null,{"$f":"IFERROR(VLOOKUP(Year1DfE,dataslate,6,0),0)","v":0},4531.7756692829626,{"$f":"(F12*G12)","v":0}]
[9,null,"Total Basic Entitlement Funding",null,null,null,null,{"$f":"SUM(H10:H12)","v":0}]
[1,"Factor 2","Deprivation FSM - Primary",null,null,{"$f":"IFERROR(IF(OR(year1phase=1,year1phase=4),VLOOKUP(Year1DfE,dataslate,7,0),IF(year1phase=2,0,0)),0)","v":0},450.315,{"$f":"(F14*G14)","v":0}]
[2,null,"Deprivation FSM - Secondary",null,null,{"$f":"IFERROR(IF(year1phase=1,0,IF(OR(year1phase=2,year1phase=4),VLOOKUP(Year1DfE,dataslate,8,0),0)),0)","v":0},450.315,{"$f":"(F15*G15)","v":0}]
[1,null,"Deprivation Ever 6 FSM (Notional SEN Factor) - Primary",null,null,{"$f":"IFERROR(IF(OR(year1phase=1,year1phase=4),VLOOKUP(Year1DfE,dataslate,9,0),IF(year1phase=2,0,0)),0)","v":0},324.22680000000003,{"$f":"(F16*G16)","v":0}]
[2,null,"Deprivation Ever 6 FSM (Notional SEN Factor) - Secondary",null,null,{"$f":"IFERROR(IF(year1phase=1,0,IF(OR(year1phase=2,year1phase=4),VLOOKUP(Year1DfE,dataslate,10,0),0)),0)","v":0},591.41369999999995,0]
[1,null,"Deprivation IDACI Band F (Notional SEN Factor) - Primary",null,null,{"$f":"IFERROR(IF(OR(year1phase=1,year1phase=4),VLOOKUP(Year1DfE,dataslate,11,0),IF(year1phase=2,0,0)),0)","v":0},210.14699999999999,{"$f":"(F18*G18)","v":0}]
[1,null,"Deprivation IDACI Band E (Notional SEN Factor) - Primary",null,null,{"$f":"IFERROR(IF(OR(year1phase=1,year1phase=4),VLOOKUP(Year1DfE,dataslate,12,0),IF(year1phase=2,0,0)),0)","v":0},250.17500000000001,0]
[1,null,"Deprivation IDACI Band D (Notional SEN Factor) - Primary",null,null,{"$f":"IFERROR(IF(OR(year1phase=1,year1phase=4),VLOOKUP(Year1DfE,dataslate,13,0),IF(year1phase=2,0,0)),0)","v":0},375.26249999999999,0]
[1,null,"Deprivation IDACI Band C (Notional SEN Factor) - Primary",null,null,{"$f":"IFERROR(IF(OR(year1phase=1,year1phase=4),VLOOKUP(Year1DfE,dataslate,14,0),IF(year1phase=2,0,0)),0)","v":0},405.2835,0]
[1,null,"Deprivation IDACI Band B (Notional SEN Factor) - Primary",null,null,{"$f":"IFERROR(IF(OR(year1phase=1,year1phase=4),VLOOKUP(Year1DfE,dataslate,15,0),IF(year1phase=2,0,0)),0)","v":0},435.30450000000002,0]
[1,null,"Deprivation IDACI Band A (Notional SEN Factor) - Primary",null,null,{"$f":"IFERROR(IF(OR(year1phase=1,year1phase=4),VLOOKUP(Year1DfE,dataslate,16,0),IF(year1phase=2,0,0)),0)","v":0},600.41999999999996,0]
[2,null,"Deprivation IDACI Band F (Notional SEN Factor) - Secondary",null,null,{"$f":"IFERROR(IF(year1phase=1,0,IF(OR(year1phase=2,year1phase=4),VLOOKUP(Year1DfE,dataslate,17,0),0)),0)","v":0},300.20999999999998,0]
[2,null,"Deprivation IDACI Band E (Notional SEN Factor) - Secondary",null,null,{"$f":"IFERROR(IF(year1phase=1,0,IF(OR(year1phase=2,year1phase=4),VLOOKUP(Year1DfE,dataslate,18,0),0)),0)","v":0},405.2835,0]
[2,null,"Deprivation IDACI Band D (Notional SEN Factor) - Secondary",null,null,{"$f":"IFERROR(IF(year1phase=1,0,IF(OR(year1phase=2,year1phase=4),VLOOKUP(Year1DfE,dataslate,19,0),0)),0)","v":0},535.37450000000001,0]
[2,null,"Deprivation IDACI Band C (Notional SEN Factor) - Secondary",null,null,{"$f":"IFERROR(IF(year1phase=1,0,IF(OR(year1phase=2,year1phase=4),VLOOKUP(Year1DfE,dataslate,20,0),0)),0)","v":0},580.40599999999995,0]
[2,null,"Deprivation IDACI Band B (Notional SEN Factor) - Secondary",null,null,{"$f":"IFERROR(IF(year1phase=1,0,IF(OR(year1phase=2,year1phase=4),VLOOKUP(Year1DfE,dataslate,21,0),0)),0)","v":0},625.4375,0]
[2,null,"Deprivation IDACI Band A (Notional SEN Factor) - Secondary",null,null,{"$f":"IFERROR(IF(year1phase=1,0,IF(OR(year1phase=2,year1phase=4),VLOOKUP(Year1DfE,dataslate,22,0),0)),0)","v":0},840.58799999999997,0]
[9,null,"Total Deprivation Funding",null,null,null,null,{"$f":"SUM(H14:H29)","v":0}]
[1,"Factor 4","English as an additional language (Notional SEN Factor) - Primary",null,null,{"$f":"IFERROR(IF(OR(year1phase=1,year1phase=4),VLOOKUP(Year1DfE,dataslate,23,0),0),0)","v":0},535.37450000000001,{"$f":"(F31*G31)","v":0}]
[2,null,"English as an additional language (Notional SEN Factor) - Secondary",null,null,{"$f":"IFERROR(IF(OR(year1phase=2,year1phase=4),VLOOKUP(Year1DfE,dataslate,24,0),0),0)","v":0},1441.008,{"$f":"(F32*G32)","v":0}]
[1,"Factor 6","Low cost, high incidence SEN (Notional SEN Factor) - Primary",null,null,{"$f":"IFERROR(IF(OR(year1phase=1,year1phase=4),VLOOKUP(Year1DfE,dataslate,25,0),0),0)","v":0},1065.7455,{"$f":"(F33*G33)","v":0}]
[2,null,"Low cost, high incidence SEN (Notional SEN Factor) - Secondary",null,null,{"$f":"IFERROR(IF(OR(year1phase=2,year1phase=4),VLOOKUP(Year1DfE,dataslate,26,0),0),0)","v":0},1611.127,{"$f":"(F34*G34)","v":0}]
[9,"Factor 7","Lump Sum (Partial Notional SEN Factor) - Primary £6,235, Secondary £5,320",null,null,null,null,{"$f":"IF(OR(Year1DfE=\"\",Year1DfE=1001),0,IFERROR(VLOOKUP(Year1DfE,dataslate,27,0),0))","v":0}]
[1,"Factor 8","Sparsity - Primary",null,null,null,null,{"$f":"IFERROR(IF(OR(year1phase=1,year1phase=4),VLOOKUP(Year1DfE,dataslate,28,0),IF(year1phase=2,0,0)),0)","v":0}]
[2,null,"Sparsity - Secondary",null,null,null,null,{"$f":"IFERROR(IF(year1phase=1,0,IF(OR(year1phase=2,year1phase=4),VLOOKUP(Year1DfE,dataslate,29,0),0)),0)","v":0}]
[9,"Factor 9","Area Cost Adjustment - London Fringe (3.64%) (Factors 1 to 8)",null,null,null,null,{"$f":"IFERROR(SUM(H13+SUM(H30:H37))*SUM(VLOOKUP(Year1DfE,dataslate,30,0)-1),0)","v":0}]
[9,"Factor 10","Split Sites",null,null,null,null,{"$f":"IFERROR(VLOOKUP(Year1DfE,dataslate,31,0),0)","v":0}]
[9,"Factor 11","Rates",null,null,null,null,{"$f":"IFERROR(VLOOKUP(Year1DfE,dataslate,32,0),0)","v":0}]
[9,null,"Rates Adjustment (incremental change)",null,null,null,null,0]
[9,"Factor 12","PFI funding",null,null,null,null,{"$f":"IFERROR(VLOOKUP(Year1DfE,dataslate,33,0),0)","v":0}]
[9,"Factor 13","Exceptional Premises Factors",null,null,null,null,{"$f":"IFERROR(VLOOKUP(Year1DfE,dataslate,34,0),0)","v":0}]
[9,"Factor 14","Minimum Per-Pupil Level Funding",null,null,null,null,{"$f":"IFERROR(IF(SUM(H13,H30,H31:H39,H42)/SUM(F10:F12)<VLOOKUP(Year1DfE,dataslate,35,0),(VLOOKUP(Year1DfE,dataslate,35,0)-SUM(H13,H30,H31:H39,H42)/SUM(F10:F12))*SUM(F10:F12),0),0)","v":0}]
[9]
[9,null,"Formula Factors Total",null,null,null,null,{"$f":"H13+H30+SUM(H31:H44)","v":0}]
[9,null,"Minimum Funding Guarantee (MFG)",null,null,null,null,{"$f":"mfgadj","v":0}]
[9]
[9,"School Budget Share (SBS) 2020/21",null,null,null,null,null,{"$f":"MFG+Year1TotalF","v":0}]
[9]
[9,null,"Pupil Premium (PP)",null,null,null,null,{"$f":"'Other Grants'!K13","v":0}]
[9,null,"Growth Funding",null,null,null,null,{"$f":"'Growth Funding'!H55","v":0}]
[9,null,"High Needs Mainstream Funding",null,null,null,null,{"$f":"SUM('High Needs Mainstream'!H9:H12)","v":0}]
[9,null,"Specialist Resource Provision (SRP) Funding",null,null,null,null,{"$f":"'SRP Year 1'!H99","v":0}]
[9,null,"Universal Infant Free School Meals",null,null,null,null,{"$f":"'Other Grants'!K28","v":0}]
[9,null,"Early Years",null,null,null,null,{"$f":"earlyyears+SUM('Early Years'!$C$92:$E$92)+SUM('Early Years'!$C$121:$E$121)+'Early Years'!$C$126+'Early Years'!$C$127","v":0}]
[9,null,"Post 16 ",null,null,null,null,{"$f":"'Other Grants'!K33","v":0}]
[9,null,"Additional Grants",null,null,null,null,{"$f":"'Other Grants'!$K$49","v":0}]
[]
[9,"Overall total estimated funding 2020-21",null,null,null,null,null,{"$f":"SUM(H49:H58)","v":0}]
[9]
[9,"De-Delegation",null,null,null,null,"Rate","De-Delegation"]
[9,null,"Schools in financial difficulties (E23)",null,null,null,{"$f":"IF(year1phase=1,18.8229789,IF(year1phase=2,9.4565205,IF(year1phase=4,11.15365402,0)))","v":0},{"$f":"IF(Year1F9>0,SUM(G63*SUM($F$10:$F$12))*1.0364,SUM(G63*SUM($F$10:$F$12)))","v":0}]
[9,null,"Free School Meals Eligibility (E28)",null,null,null,{"$f":"IF(OR(year1phase=1,year1phase=2,year1phase=4),0.5703933,0)","v":0},{"$f":"IF(Year1F9>0,SUM(G64*SUM($F$10:$F$12))*1.0364,SUM(G64*SUM($F$10:$F$12)))","v":0}]
[9,null,"Licences and Subscriptions (SIMS) (E19)",null,null,null,{"$f":"IF(OR(year1phase=1,year1phase=2,year1phase=4),3.6325047,0)","v":0},{"$f":"IF(Year1F9>0,SUM(G65*SUM($F$10:$F$12))*1.0364,SUM(G65*SUM($F$10:$F$12)))","v":0}]
[9,null,"Trade Union Duties (E10)",null,null,null,{"$f":"IF(OR(year1phase=1,year1phase=2,year1phase=4),1.8512765,0)","v":0},{"$f":"IF(Year1F9>0,SUM(G66*SUM($F$10:$F$12))*1.0364,SUM(G66*SUM($F$10:$F$12)))","v":0}]
[9,null,"Schools Personnel Service (E28)",null,null,null,{"$f":"IF(OR(year1phase=1,year1phase=2,year1phase=4),0.800552,0)","v":0},{"$f":"IF(Year1F9>0,SUM(G67*SUM($F$10:$F$12))*1.0364,SUM(G67*SUM($F$10:$F$12)))","v":0}]
[9,null,"Area Cost Adjustment (Included in the above)"]
[9,null,"Totals",null,null,null,{"$f":"SUM(ROUND(G63,2)+ROUND(G64,2)+ROUND(G65,2)+ROUND(G66,2)+ROUND(G67,2))","v":0},{"$f":"SUM(H63:H68)","v":0}]
[9]
[9,null,"NOTE: Due to rounding, numbers presented throughout this page and others may not add up precisely to the totals provided"]

{"sheet":"MFG Y1","index":8,"n_rows":40,"n_cols":6,"rows_kept":40,"cut":false,"hidden":false,"merged":[[9,1,9,5],[7,1,7,5],[3,9,5,12]]}
[]
[null,null,null,null,null,{"$f":"Year1DfE","v":0}]
[]
[]
[]
[]
[]
[null,{"$f":"schoolname","v":""}]
[]
[null,"Minimum Funding Guarantee (MFG)"]
[]
[null,"School Budget Share (SBS) 2019/20",null,null,null,{"$f":"IFERROR(VLOOKUP(Year1DfE,dataslate,36,0),0)","v":0}]
[]
[null,"Less - Exempt Items"]
[null,"Rates 2019/20",null,null,null,{"$f":"IFERROR(VLOOKUP(Year1DfE,dataslate,40,0),0)","v":0}]
[null,{"$f":"IF(Year1F9>0,\"Lump Sum 2020/21 including - London Fringe (3.64%)\",\"Lump Sum 2020/21\")","v":"Lump Sum 2020/21"},null,null,null,{"$f":"IFERROR('Year 1'!H35*SUM(VLOOKUP(Year1DfE,dataslate,30,0)),0)","v":0}]
[null,{"$f":"IF(Year1F9>0,\"Sparsity 2020/21 including - London Fringe (3.64%)\",\"Sparsity 2020/21\")","v":"Sparsity 2020/21"},null,null,null,{"$f":"IFERROR('Year 1'!H36+'Year 1'!H37,0)","v":0}]
[null,"Total Exempt Items",null,null,null,{"$f":"SUM(F15:F17)","v":0}]
[]
[null,"MFG Baseline (SBS 2019/20 less exempt Items)",null,null,null,{"$f":"F12-F18","v":0}]
[]
[null,"October 2018 Pupil Numbers",null,null,null,{"$f":"IFERROR(VLOOKUP(Year1DfE,dataslate,41,0),0)","v":0}]
[null,"MFG per pupil before 0.5% uplift",null,null,null,{"$f":"IFERROR(F20/F22,0)","v":0}]
[null,"0.5% uplift of MFG per Pupil",null,null,null,{"$f":"0.005*F23","v":0}]
[null,"MFG per pupil after 0.5% uplift",null,null,null,{"$f":"F23*1.005","v":0}]
[]
[null,"October 2019 Pupil Numbers",null,null,null,{"$f":"SUM('Year 1'!F10:'Year 1'!F12)","v":0}]
[null,"New MFG baseline Excluding Exempt Items",null,null,null,{"$f":"F25*F27","v":0}]
[]
[null,"Plus - Exempt Items 2020/21"]
[null,"Rates",null,null,null,{"$f":"Year1F11","v":0}]
[null,"Lump Sum",null,null,null,{"$f":"IFERROR('Year 1'!$H$35*VLOOKUP(Year1DfE,dataslate,30,0),0)","v":0}]
[null,"Sparsity",null,null,null,{"$f":"SUM('Year 1'!H36:H37)","v":0}]
[null,"MFG Technical Adjustment",null,null,null,{"$f":"IF(F2=5425,0,0)","v":0}]
[null,"Total Exempt Items",null,null,null,{"$f":"SUM(F31:F34)","v":0}]
[]
[null,"New MFG Baseline including exempt items (A)",null,null,null,{"$f":"F28+F35","v":0}]
[null,"SBS 2020/21 (B)",null,null,null,{"$f":"Year1TotalF","v":0}]
[null,{"$f":"IF(F37>F38,\"MFG (difference between A and B)\",\"MFG\")","v":"MFG"},null,null,null,{"$f":"IF(F37>F38,SUM(F37-F38),0)","v":0}]
[null,"SBS 2020/21 (the greater of A and B)",null,null,null,{"$f":"MAX(F37:F38)","v":0}]

{"sheet":"Year 2","index":9,"n_rows":62,"n_cols":13,"rows_kept":62,"cut":false,"hidden":false,"merged":[[23,11,25,17],[6,1,6,4],[9,1,9,4],[61,1,62,4]]}
[]
[null,null,null,null,{"$f":"Year1DfE","v":0}]
[]
[]
[]
[]
[null,{"$f":"'Year 1'!B6:H6","v":""}]
[]
[null,"2021/22 Budget Projection"]
[null,{"$f":"\"This projection is reliant on the pupil number estimate provided on the pupils sheet \n\"&'Year 1'!B9","v":"This projection is reliant on the pupil number estimate provided on the pupils sheet \n"}]
[null,"School Budget Share (SBS) 2020/21",null,null,{"$f":"TotalSBS","v":0}]
[]
[null,"Less - Exempt Items"]
[null,"Rates 2020/21",null,null,{"$f":"Year1F11+'Year 1'!$H$41","v":0}]
[null,{"$f":"IF(Year1F9>0,\"Lump Sum 2021/22 including - London Fringe (3.64%)\",\"Lump Sum 2021/22\")","v":"Lump Sum 2021/22"},null,null,{"$f":"IF(Year1DfE=1001,0,\nIF('Year 1'!H44>0,0,'MFG Y1'!F32))","v":0}]
[null,{"$f":"IF(Year1F9>0,\"Sparsity 2021/22 including - London Fringe (3.64%)\",\"Sparsity 2021/22\")","v":"Sparsity 2021/22"},null,null,{"$f":"'MFG Y1'!F17","v":0}]
[null,"PFI Funding",null,null,{"$f":"'Year 1'!$H$42","v":0}]
[null,"Total Exempt Items",null,null,{"$f":"SUM($E$14:$E$17)","v":0},null,null,"Minimum Per Pupil Funding Level Details"]
[null,null,null,null,null,null,null,"This is the per pupil funding amount used to determine whether you meet the minimum per pupil level."]
[null,"MFG Baseline (SBS 2020/21 less exempt Items)",null,null,{"$f":"E11-E18","v":0},null,null,"You can amend the MFG Adjustment percentage to help ensure your per pupil funding meets the minimum rate."]
[null,null,null,null,null,null,null,"For primary schools the MPPL for 2021/22 will be £4,000 and for secondary we are assuming it remains at £5,000."]
[null,"October 2019 Pupil Numbers",null,null,{"$f":"SUM('Year 1'!F10:F12)","v":0},null,null,"The table below also includes a suggested % increase for 2021-22 Based on the advice contained within the 3-year planning guidance."]
[null,"MFG baseline per pupil before any MFG adjustment",null,null,{"$f":"IF(E22=0,0,IF(Year1DfE=1001,0,E20/E22))","v":0}]
[null,"MFG Adjustment (other percentage increase)",null,null,0,null,null,null,"Pupils","Per pupil funding","Advisory %","Please note it is your schools responsibility to determine the % used when estimating your funding, the % provided is purely advisory from the perspective of the LA"]
[null,"MFG Adjustment per Pupil",null,null,{"$f":"MFGrate2*E23","v":0},null,null,"2020/21",{"$f":"E22","v":0},{"$f":"IF(ISERROR((E11-E14-E17-'Year 1'!H43-'Year 1'!H39)/E22),0,(E11-E14-E17-'Year 1'!H43-'Year 1'!H39)/E22)","v":0},{"$f":"IF(E2=0,0,IF(AND(year1phase=2,J25=5000),0,IF(MFG>0,IF(M32<0,0,M32),IF(VLOOKUP(E2,Data!A:BL,64,0)=0,0.03,VLOOKUP(E2,Data!A:BL,64,0)))))","v":0}]
[null,"MFG per pupil after any MFG Adjustment",null,null,{"$f":"E23+E25","v":0},null,null,"2021/22",{"$f":"E28","v":0},{"$f":"IF(ISERROR((E29+E15-'Year 1'!H43-'Year 1'!H39)/E28),0,(E29+E15-'Year 1'!H43-'Year 1'!H39)/E28)","v":0}]
[]
[null,"October 2020 Pupils",null,null,{"$f":"Pupils!$B$21+Pupils!$B$22","v":0},null,null,"More information can be found in the following guidance documents using this link."]
[null,"New MFG baseline Excluding Exempt Items",null,null,{"$f":"E26*E28","v":0},null,null,"- 3 Year Plan Advice to Schools"]
[null,null,null,null,null,null,null,"- Summary Table - 3 Year Budget Planning"]
[null,"Plus - Exempt Items 2021/22"]
[null,"Rates",null,null,{"$f":"E14","v":0},null,null,{"$f":"E23*1.03","v":0},{"$f":"H32-E23","v":0},{"$f":"I32*E22","v":0},{"$f":"J32-MFG","v":0},{"$f":"K32/E22","v":{"$error":"#DIV/0!"}},{"$f":"L32/E23","v":{"$error":"#DIV/0!"}}]
[null,"Lump Sum",null,null,{"$f":"IF(Year1DfE=1001,0,E15)","v":0}]
[null,"Sparsity",null,null,{"$f":"E16","v":0}]
[null,"PFI Funding",null,null,{"$f":"E17","v":0}]
[null,"Total Exempt Items",null,null,{"$f":"SUM(E32:E35)","v":0}]
[]
[null,"Estimated SBS 2021/22",null,null,{"$f":"IF(E28=0,0,E29+E36)","v":0}]
[]
[null,"Pupil Premium (PP)",null,null,{"$f":"'Other Grants'!L13","v":0}]
[null,"Growth Funding",null,null,{"$f":"'Growth Funding'!H57","v":0}]
[null,"High Needs Mainstream Funding",null,null,{"$f":"SUM('High Needs Mainstream'!I9:I12)","v":0}]
[null,"Specialist Resource Provision (SRP) Funding",null,null,{"$f":"'SRP Year 2 & 3'!U24","v":0}]
[null,"Universal Infant Free School Meals",null,null,{"$f":"'Other Grants'!L28","v":0}]
[null,"Early Years",null,null,{"$f":"'Early Years'!J64+SUM('Early Years'!$F$92:$H$92)+SUM('Early Years'!$F$121:$H$121)+'Early Years'!F126+'Early Years'!F127","v":0}]
[null,"Post 16 ",null,null,{"$f":"'Other Grants'!L33","v":0}]
[null,"Additional Grants",null,null,{"$f":"'Other Grants'!L49","v":0}]
[]
[null,"Overall total estimated funding 2021-22",null,null,{"$f":"SUM(E38:E47)","v":0}]
[]
["De-Delegation"]
[null,null,null,"Rate","De-Delegation"]
[null,"Schools in financial difficulties (E23)",null,{"$f":"'Year 1'!G63","v":0},{"$f":"IF(Year1F9>0,SUM(D53*$E$28)*1.0364,SUM(D53*$E$28))","v":0}]
[null,"Free School Meals Eligibility (E28)",null,{"$f":"'Year 1'!G64","v":0},{"$f":"IF(Year1F9>0,SUM(D54*$E$28)*1.0364,SUM(D54*$E$28))","v":0}]
[null,"Licences and Subscriptions (SIMS) (E19)",null,{"$f":"'Year 1'!G65","v":0},{"$f":"IF(Year1F9>0,SUM(D55*$E$28)*1.0364,SUM(D55*$E$28))","v":0}]
[null,"Trade Union Duties (E10)",null,{"$f":"'Year 1'!G66","v":0},{"$f":"IF(Year1F9>0,SUM(D56*$E$28)*1.0364,SUM(D56*$E$28))","v":0}]
[null,"Schools Personnel Service (E28)",null,{"$f":"'Year 1'!G67","v":0},{"$f":"IF(Year1F9>0,SUM(D57*$E$28)*1.0364,SUM(D57*$E$28))","v":0}]
[null,"Area Cost Adjustment (Included in the above)"]
[null,"Totals",null,{"$f":"'Year 1'!$G$69","v":0},{"$f":"SUM(E53:E58)","v":0}]
[]
[]
[null,"NOTE: Due to rounding, numbers presented throughout this page and others may not add up precisely to the totals provided"]

{"sheet":"Year 3","index":10,"n_rows":62,"n_cols":13,"rows_kept":62,"cut":false,"hidden":false,"merged":[[6,1,6,4],[9,1,9,4],[61,1,62,4],[23,11,25,17]]}
[]
[null,null,null,null,{"$f":"Year1DfE","v":0}]
[]
[]
[]
[]
[null,{"$f":"'Year 1'!B6:H6","v":""}]
[]
[null,"2022/23 Budget Projection"]
[null,{"$f":"\"This projection is reliant on the pupil number estimate provided on the pupils sheet \n\"&'Year 1'!B9","v":"This projection is reliant on the pupil number estimate provided on the pupils sheet \n"}]
[null,"School Budget Share (SBS) 2021/22",null,null,{"$f":"'Year 2'!E38","v":0}]
[]
[null,"Less - Exempt Items"]
[null,"Rates 2021/22",null,null,{"$f":"'Year 2'!E32","v":0}]
[null,{"$f":"IF(Year1F9>0,\"Lump Sum 2022/23  including - London Fringe (3.64%)\",\"Lump Sum 2022/23\")","v":"Lump Sum 2022/23"},null,null,{"$f":"IF(Year1DfE=1001,0,'Year 2'!E33)","v":0}]
[null,{"$f":"IF(Year1F9>0,\"Sparsity 2022/23  including - London Fringe (3.64%)\",\"Sparsity 2022/23\")","v":"Sparsity 2022/23"},null,null,{"$f":"'Year 2'!E34","v":0}]
[null,"PFI Funding",null,null,{"$f":"'Year 2'!E35","v":0}]
[null,"Total Exempt Items",null,null,{"$f":"SUM($E$14:$E$17)","v":0},null,null,"Minimum Per Pupil Funding Level Details"]
[null,null,null,null,null,null,null,"This is the per pupil funding amount used to determine whether you meet the minimum per pupil level."]
[null,"MFG Baseline (SBS 2021/22 less exempt Items)",null,null,{"$f":"E11-E18","v":0},null,null,"You can amend the MFG Adjustment percentage to help ensure your per pupil funding meets the minimum rate."]
[null,null,null,null,null,null,null,"For primary schools we are assuming the MPPL for 2022/23 will remain at £4,000 and for secondary remaining at £5,000."]
[null,"October 2020 Pupil Numbers",null,null,{"$f":"SUM(Pupils!B21:B22)","v":0},null,null,"The table below also includes a suggested % increase for 2022-23 Based on the advice contained within the 3-year planning guidance."]
[null,"MFG baseline per pupil before any MFG adjustment",null,null,{"$f":"IF(E22=0,0,IF(Year1DfE=1001,0,E20/E22))","v":0}]
[null,"MFG Adjustment (other percentage increase)",null,null,0,null,null,null,"Pupils","Per pupil funding","Advisory %","Please note it is your schools responsibility to determine the % used when estimating your funding, the % provided is purely advisory from the perspective of the LA"]
[null,"MFG Adjustment per Pupil",null,null,{"$f":"MFGrate3*E23","v":0},null,null,"2021/22",{"$f":"E22","v":0},{"$f":"IF(ISERROR((E11-E14-E17-'Year 1'!H43-'Year 1'!H39)/E22),0,(E11-E14-E17-'Year 1'!H43-'Year 1'!H39)/E22)","v":0},{"$f":"IF(E2=0,0,IF(AND(year1phase=2,J25=5000),0,IF(MFG>0,IF(M32<0,0,M32),IF(VLOOKUP(E2,Data!A:BL,64,0)>0,0,0.03))))","v":0}]
[null,"MFG per pupil after any MFG Adjustment",null,null,{"$f":"E23+E25","v":0},null,null,"2022/23",{"$f":"E28","v":0},{"$f":"IF(ISERROR((E29+E15-'Year 1'!H43-'Year 1'!H39)/E28),0,(E29+E15-'Year 1'!H43-'Year 1'!H39)/E28)","v":0}]
[]
[null,"October 2021 Pupils",null,null,{"$f":"Pupils!$C$21+Pupils!$C$22","v":0},null,null,"More information can be found in the following guidance documents using this link."]
[null,"New MFG baseline Excluding Exempt Items",null,null,{"$f":"E26*E28","v":0},null,null,"- 3 Year Plan Advice to Schools"]
[null,null,null,null,null,null,null,"- Summary Table - 3 Year Budget Planning"]
[null,"Plus - Exempt Items 2022/23"]
[null,"Rates",null,null,{"$f":"E14","v":0},null,null,{"$f":"E23*1.06","v":0},{"$f":"H32-E23","v":0},{"$f":"I32*E22","v":0},{"$f":"J32-MFG","v":0},{"$f":"K32/E22","v":{"$error":"#DIV/0!"}},{"$f":"IF('Year 2'!M32>0,0.03,L32/E23)","v":{"$error":"#DIV/0!"}}]
[null,"Lump Sum",null,null,{"$f":"IF(Year1DfE=1001,0,E15)","v":0}]
[null,"Sparsity",null,null,{"$f":"SUM(E16)","v":0}]
[null,"PFI Funding",null,null,{"$f":"E17","v":0}]
[null,"Total Exempt Items",null,null,{"$f":"SUM(E32:E35)","v":0}]
[]
[null,"Estimated SBS 2022/23",null,null,{"$f":"IF(E28=0,0,E29+E36)","v":0}]
[]
[null,"Pupil Premium (PP)",null,null,{"$f":"'Other Grants'!M13","v":0}]
[null,"Growth Funding",null,null,{"$f":"'Growth Funding'!H59","v":0}]
[null,"High Needs Mainstream Funding",null,null,{"$f":"SUM('High Needs Mainstream'!J9:J12)","v":0}]
[null,"Specialist Resource Provision (SRP) Funding",null,null,{"$f":"'SRP Year 2 & 3'!U38","v":0}]
[null,"Universal Infant Free School Meals",null,null,{"$f":"'Other Grants'!M28","v":0}]
[null,"Early Years",null,null,{"$f":"'Early Years'!J65+SUM('Early Years'!$I$92:$K$92)+SUM('Early Years'!$I$121:$K$121)+'Early Years'!I126+'Early Years'!I127","v":0}]
[null,"Post 16 ",null,null,{"$f":"'Other Grants'!M33","v":0}]
[null,"Additional Grants",null,null,{"$f":"'Other Grants'!M49","v":0}]
[]
[null,"Overall total estimated funding 2022-23",null,null,{"$f":"SUM(E38:E47)","v":0}]
[]
["De-Delegation"]
[null,null,null,"Rate","De-Delegation"]
[null,"Schools in financial difficulties (E23)",null,{"$f":"'Year 1'!G63","v":0},{"$f":"IF(Year1F9>0,SUM(D53*$E$28)*1.0364,SUM(D53*$E$28))","v":0}]
[null,"Free School Meals Eligibility (E28)",null,{"$f":"'Year 1'!G64","v":0},{"$f":"IF(Year1F9>0,SUM(D54*$E$28)*1.0364,SUM(D54*$E$28))","v":0}]
[null,"Licences and Subscriptions (SIMS) (E19)",null,{"$f":"'Year 1'!G65","v":0},{"$f":"IF(Year1F9>0,SUM(D55*$E$28)*1.0364,SUM(D55*$E$28))","v":0}]
[null,"Trade Union Duties (E10)",null,{"$f":"'Year 1'!G66","v":0},{"$f":"IF(Year1F9>0,SUM(D56*$E$28)*1.0364,SUM(D56*$E$28))","v":0}]
[null,"Schools Personnel Service (E28)",null,{"$f":"'Year 1'!G67","v":0},{"$f":"IF(Year1F9>0,SUM(D57*$E$28)*1.0364,SUM(D57*$E$28))","v":0}]
[null,"Area Cost Adjustment (Included in the above)"]
[null,"Totals",null,{"$f":"'Year 1'!$G$69","v":0},{"$f":"SUM(E53:E58)","v":0}]
[]
[]
[null,"NOTE: Due to rounding, numbers presented throughout this page and others may not add up precisely to the totals provided"]

{"sheet":"Early Years","index":11,"n_rows":131,"n_cols":11,"rows_kept":131,"cut":false,"hidden":false,"merged":[[11,6,11,7],[12,6,12,7],[13,6,13,7],[9,8,9,9],[10,8,10,9],[11,8,11,9],[12,8,12,9],[13,8,13,9],[130,1,130,4],[128,1,128,4],[68,1,68,4],[97,1,97,3],[17,1,17,3],[124,8,124,10],[125,8,125,10],[126,8,126,10],[99,2,99,4],[99,5,99,7],[99,8,99,10],[126,2,126,4],[126,5,126,7],[125,2,125,4],[125,5,125,7],[124,2,124,4],[124,5,124,7],[4,2,4,7],[70,2,70,4],[70,5,70,7],[70,8,70,10],[6,0,6,10],[18,2,18,4],[18,5,18,7],[18,8,18,10],[10,4,10,5],[9,2,9,3],[11,4,11,5],[12,4,12,5],[13,4,13,5],[9,4,9,5],[9,6,9,7],[10,6,10,7]]}
[]
[null,null,null,null,null,null,null,null,null,null,{"$f":"Year1DfE","v":0}]
[]
[]
[null,null,{"$f":"schoolname","v":""}]
[]
["2020/21 Early Years Budget Estimation"]
[]
[]
[null,"Hourly Rate","Hourly rate",null,"Summer Term",null,"Autumn Term",null,"Spring Term"]
[null,"Base rate",null,null,{"$f":"IFERROR(VLOOKUP(Year1DfE,dataslate,44,0),0)","v":0},null,{"$f":"E11","v":0},null,{"$f":"G11","v":0}]
[null,"Qualified Teacher Supplement",null,null,{"$f":"IFERROR(VLOOKUP(Year1DfE,dataslate,45,0),0)","v":0},null,{"$f":"E12","v":0},null,{"$f":"G12","v":0}]
[null,"Disadvantage supplement",null,null,{"$f":"IFERROR(VLOOKUP(Year1DfE,dataslate,46,0),0)","v":0},null,{"$f":"IFERROR(VLOOKUP(Year1DfE,dataslate,46,0),0)","v":0},null,{"$f":"IFERROR(VLOOKUP(Year1DfE,dataslate,46,0),0)","v":0}]
[null,null,null,null,{"$f":"SUM(E11:E13)","v":0},null,{"$f":"SUM(G11:G13)","v":0},null,{"$f":"SUM(I11:I13)","v":0}]
[]
[null,"Please Enter your Pupil Numbers"]
[]
[null,"Please only enter qualifying pupils (follow link for guidance)"]
[null,null,"2020/21",null,null,"2021/22",null,null,"2022/23"]
[null,"Pupils Early Years Hours","Summer","Autumn","Spring","Summer","Autumn","Spring","Summer","Autumn","Spring"]
[null,1]
[null,2]
[null,3]
[null,4]
[null,5]
[null,6]
[null,7]
[null,8]
[null,9]
[null,10]
[null,11]
[null,12]
[null,13]
[null,14]
[null,15]
[null,16]
[null,17]
[null,18]
[null,19]
[null,20]
[null,21]
[null,22]
[null,23]
[null,24]
[null,25]
[null,26]
[null,27]
[null,28]
[null,29]
[null,30]
[null,"Total pupils:",{"$f":"SUM(C21:C50)","v":0},0,0,0,0,0,0,0,0]
[null,"Total Weekly Hours:",{"$f":"SUMPRODUCT(C21:C50,$B$21:$B$50)","v":0},{"$f":"SUMPRODUCT(D21:D50,$B$21:$B$50)","v":0},0,0,0,0,{"$f":"SUMPRODUCT(I21:I50,$B$21:$B$50)","v":0},{"$f":"SUMPRODUCT(J21:J50,$B$21:$B$50)","v":0},{"$f":"SUMPRODUCT(K21:K50,$B$21:$B$50)","v":0}]
[null,"Total Hours for Term:",{"$f":"C52*$H$56","v":0},{"$f":"D52*$H$57","v":0},{"$f":"E52*$H$58","v":0},{"$f":"F52*$H$56","v":0},{"$f":"G52*$H$57","v":0},{"$f":"H52*$H$58","v":0},{"$f":"I52*$H$56","v":0},{"$f":"J52*$H$57","v":0},{"$f":"K52*$H$58","v":0}]
[]
[null,null,null,"Hourly Rate",null,"Weekly Hours",null,"Weeks"]
[null,"Summer term 2020",null,{"$f":"littleones","v":0},null,{"$f":"C52","v":0},null,13,null,{"$f":"SUM(F56*H56)*D56","v":0}]
[null,"Autumn term 2020",null,{"$f":"G14","v":0},null,{"$f":"D52","v":0},null,14,null,{"$f":"SUM(F57*H57)*D57","v":0}]
[null,"Spring term 2021",null,{"$f":"I14","v":0},null,{"$f":"E52","v":0},null,11,null,{"$f":"SUM(F58*H58)*D58","v":0}]
[]
[null,{"$f":"IF(K2=1001,\"Nursery Lump Sum\",\"\")","v":""},null,null,null,null,null,null,null,{"$f":"IF(K2=1001,87036,0)","v":0}]
[null,"Total 2020/21 Estimated Budget:",null,null,null,null,null,null,null,{"$f":"IF(K2=1001,SUM(J56:J58)+J60,SUM(J56:J58))","v":0}]
[]
[]
[null,"Total 2021/22 Estimated Budget:",null,null,null,null,null,null,null,{"$f":"(SUM(F53:H53)*D58)+IF(K2=1001,J60,0)","v":0}]
[null,"Total 2022/23 Estimated Budget:",null,null,null,null,null,null,null,{"$f":"(SUM(I53:K53)*D58)+IF(K2=1001,J60,0)","v":0}]
[]
[null,"Early Years Pupil Premium (EYPP)"]
[]
[null,"Please only enter pupils who qualify for the Early Years Pupil Premium"]
[]
[null,null,"2020/21",null,null,"2021/22",null,null,"2022/23"]
[null,"Pupils Early Years Hours","Summer","Autumn","Spring","Summer","Autumn","Spring","Summer","Autumn","Spring"]
[null,1]
[null,2]
[null,3]
[null,4]
[null,5]
[null,6]
[null,7]
[null,8]
[null,9]
[null,10]
[null,11]
[null,12]
[null,13]
[null,14]
[null,15]
[null,"Total pupils:",{"$f":"SUM(C73:C87)","v":0},{"$f":"SUM(D73:D87)","v":0},{"$f":"SUM(E73:E87)","v":0},{"$f":"SUM(F73:F87)","v":0},0,0,0,0,0]
[null,"Total Weekly Hours:",{"$f":"SUMPRODUCT(C73:C87,$B$73:$B$87)","v":0},{"$f":"SUMPRODUCT(D73:D87,$B$73:$B$87)","v":0},0,0,0,0,0,{"$f":"SUMPRODUCT(J73:J87,$B$73:$B$87)","v":0},0]
[null,"Total Hours for Term:",{"$f":"C89*13","v":0},{"$f":"D89*14","v":0},{"$f":"E89*11","v":0},{"$f":"F89*13","v":0},{"$f":"G89*14","v":0},{"$f":"H89*11","v":0},{"$f":"I89*13","v":0},{"$f":"J89*14","v":0},{"$f":"K89*11","v":0}]
[null,"Rate per funded hour:",0.53,0.53,0.53,0.53,0.53,0.53,0.53,0.53,0.53]
[null,"Estimated Pupil Premium Funding:",{"$f":"C90*C91","v":0},{"$f":"D90*D91","v":0},0,0,0,0,0,0,{"$f":"K90*K91","v":0}]
[]
[]
[]
[null,"2 Year old funding"]
[]
[null,"Please only enter pupils who qualify for the 2 Year old funding"]
[]
[null,null,"2020/21",null,null,"2021/22",null,null,"2022/23"]
[null,"Pupils Early Years Hours","Summer","Autumn","Spring","Summer","Autumn","Spring","Summer","Autumn","Spring"]
[null,1]
[null,2]
[null,3]
[null,4]
[null,5]
[null,6]
[null,7]
[null,8]
[null,9]
[null,10]
[null,11]
[null,12]
[null,13]
[null,14]
[null,15]
[null,"Total pupils:",{"$f":"SUM(C102:C116)","v":0},{"$f":"SUM(D102:D116)","v":0},{"$f":"SUM(E102:E116)","v":0},{"$f":"SUM(F102:F116)","v":0},0,0,0,0,0]
[null,"Total Weekly Hours:",{"$f":"SUMPRODUCT(C102:C116,$B$102:$B$116)","v":0},{"$f":"SUMPRODUCT(D102:D116,$B$102:$B$116)","v":0},0,0,0,0,0,0,{"$f":"SUMPRODUCT(K102:K116,$B$102:$B$116)","v":0}]
[null,"Total Hours for Term:",{"$f":"C118*13","v":0},{"$f":"D118*14","v":0},{"$f":"E118*11","v":0},{"$f":"F118*13","v":0},{"$f":"G118*14","v":0},{"$f":"H118*11","v":0},{"$f":"I118*13","v":0},{"$f":"J118*14","v":0},{"$f":"K118*11","v":0}]
[null,"Rate per funded hour:",5.0999999999999996,5.0999999999999996,5.0999999999999996,5.0999999999999996,5.0999999999999996,5.0999999999999996,5.0999999999999996,5.0999999999999996,5.0999999999999996]
[null,"Estimated 2 Year old Funding:",{"$f":"C119*C120","v":0},{"$f":"D119*D120","v":0},0,0,0,0,0,0,{"$f":"K119*K120","v":0}]
[]
[]
[]
[null,null,"2020/21",null,null,"2021/22",null,null,"2022/23"]
[null,"Special Educational Needs Inclusion Fund (SENIF)"]
[null,"Disability Access Fund (DAF)"]
[]
[null,"Please only enter funding for pupils who qualify for the SENIF funding"]
[]
[null,"Please only enter funding for pupils who qualify for the DAF funding"]

{"sheet":"High Needs Mainstream","index":12,"n_rows":85,"n_cols":93,"rows_kept":85,"cut":false,"hidden":false,"merged":[[14,69,14,80],[14,81,14,92],[8,2,8,6],[9,2,9,6],[10,2,10,6],[11,2,11,6],[25,13,25,14],[14,58,14,62],[14,64,14,68],[4,30,4,41],[3,3,3,14],[14,30,14,42],[14,44,14,56],[9,58,9,62],[9,64,9,68],[82,13,82,14],[82,2,82,10],[14,16,14,28],[4,3,4,14],[14,2,14,14],[15,13,15,14],[16,13,16,14],[17,13,17,14],[18,13,18,14],[19,13,19,14],[20,13,20,14],[21,13,21,14],[22,13,22,14],[23,13,23,14],[24,13,24,14],[26,13,26,14],[83,2,83,10],[84,2,84,10],[27,13,27,14],[28,13,28,14],[29,13,29,14],[30,13,30,14],[31,13,31,14],[32,13,32,14],[33,13,33,14],[34,13,34,14],[35,13,35,14],[36,13,36,14],[37,13,37,14],[38,13,38,14],[39,13,39,14],[40,13,40,14],[41,13,41,14],[42,13,42,14],[43,13,43,14],[44,13,44,14],[45,13,45,14],[46,13,46,14],[47,13,47,14],[48,13,48,14],[49,13,49,14],[50,13,50,14],[51,13,51,14],[52,13,52,14],[53,13,53,14],[54,13,54,14],[55,13,55,14],[56,13,56,14],[57,13,57,14],[58,13,58,14],[59,13,59,14],[60,13,60,14],[61,13,61,14],[62,13,62,14],[63,13,63,14],[64,13,64,14],[65,13,65,14],[66,13,66,14],[67,13,67,14],[68,13,68,14],[69,13,69,14],[70,13,70,14],[71,13,71,14],[72,13,72,14],[73,13,73,14],[74,13,74,14],[80,13,80,14],[75,13,75,14],[76,13,76,14],[77,13,77,14],[78,13,78,14],[79,13,79,14]]}
[null,null,null,null,null,null,null,null,null,null,null,null,null,null,null,null,"Notional SEN budget top up rate working"]
[null,null,null,{"$f":"Year1DfE","v":0},null,null,null,null,null,null,null,null,null,null,null,null,"Notional AEN/SEN Budget"]
[null,null,null,null,null,null,null,null,null,null,null,null,null,null,null,null,null,null,null,"IDACI",null,null,{"$f":"SUM('Year 1'!H18:H29)","v":0}]
[null,null,null,{"$f":"schoolname","v":""},null,null,null,null,null,null,null,null,null,null,null,null,null,null,null,"Ever 6 FSM",null,null,{"$f":"SUM('Year 1'!H16:H17)","v":0}]
[null,null,null,"2020/21",null,null,null,null,null,null,null,null,null,null,null,null,null,null,null,"Low Cost, high Incidence SEN",null,null,{"$f":"SUM('Year 1'!H33:H34)","v":0},null,null,null,null,null,null,null,"Extra top up due to 28% rule",null,null,null,null,null,null,null,null,null,null,null,"Total"]
[null,null,null,null,null,null,null,null,null,null,null,null,null,null,null,null,null,null,null,"English as an additional language",null,null,{"$f":"SUM('Year 1'!H31:H32)","v":0},null,null,null,null,null,null,null,{"$f":"AE13","v":0},{"$f":"AF13","v":0},0,0,0,0,0,0,0,0,0,0,{"$f":"SUM(AE6:AP6)","v":0}]
[null,null,null,null,null,null,null,null,null,null,null,null,null,null,null,null,null,null,null,"Element of Lump Sum",null,null,{"$f":"IF(OR(Year1DfE=0,Year1DfE=1001),0,IF(year1phase=1,0.0519225068036387*'Year 1'!H35,0.0464679371233849*'Year 1'!H35))","v":0},null,null,null,null,null,null,"Pupil Months",{"$f":"COUNTIF(Q17:Q81,\">0\")","v":0},{"$f":"COUNTIF(R17:R81,\">0\")","v":0},0,0,0,0,0,0,0,0,0,0]
[null,null,null,null,null,null,null,"Year 1","Year 2","Year 3",null,null,null,null,null,null,null,null,null,"Area Cost Adjustment-London Fringe",null,null,{"$f":"IFERROR(SUM(W3:W7)*SUM(VLOOKUP(Year1DfE,dataslate,30,0)-1),0)","v":0},null,null,null,null,null,null,"Sixth Form Months",{"$f":"COUNTIF(AS17:AS81,\">0\")","v":0},{"$f":"COUNTIF(AT17:AT81,\">0\")","v":0},0,0,0,0,0,0,0,0,0,0]
[null,null,"High Needs Mainstream Funding  - Element 3 Top Up",null,null,null,null,{"$f":"AC83","v":0},{"$f":"SUM(BG83:BI83)","v":0},{"$f":"SUM(BM83:BO83)","v":0},null,null,null,null,null,null,"Total (with Area Cost Adjustment if applicable)",null,null,null,null,null,null,null,{"$f":"SUM(W3:W8)","v":0},null,null,null,null,"School Funded Months",{"$f":"AE7-AE8","v":0},{"$f":"AF7-AF8","v":0},0,0,0,0,0,0,0,0,0,0]
[null,null,"High Needs Mainstream Funding - Notional SEN Top Up 10%",null,null,null,null,{"$f":"AQ83","v":0},{"$f":"BJ83","v":0},{"$f":"BP83","v":0},null,null,null,null,null,null,"School Contribution per Pre-16 Pupil",null,null,null,null,null,null,null,6000,null,null,null,null,"School Funded",{"$f":"AE9*(500-(sentopup/12))","v":0},0,0,0,0,0,0,0,0,0,0,0]
[null,null,"High Needs Mainstream Funding - Notional SEN Top Up 28%",null,null,null,null,{"$f":"AQ6","v":0},{"$f":"IF((COUNTIF(BR17:CC81,1)*(500-(sentopup/12)))<senmax,0,(COUNTIF(BR17:CC81,1)*(500-(sentopup/12)))-senmax)","v":0},{"$f":"IF((COUNTIF(CD17:CO81,1)*(500-(sentopup/12)))<senmax,0,(COUNTIF(CD17:CO81,1)*(500-(sentopup/12)))-senmax)","v":0},null,null,null,null,null,null,"Notional AEN/SEN Top Up per Pre-16 Pupil (10%)",null,null,null,null,null,null,null,{"$f":"IF(Year1DfE=1001,0,IF(Y9>=60000,0,6000-(Y9*0.1)))","v":6000},null,null,null,null,"Cumulative funded",{"$f":"AE10","v":0},{"$f":"AE11+AF10","v":0},{"$f":"AF11+AG10","v":0},{"$f":"AG11+AH10","v":0},{"$f":"AH11+AI10","v":0},0,0,0,0,0,0,0]
[null,null,"High Needs Mainstream Funding - Element 2 Post 16",null,null,null,null,{"$f":"BE83","v":0},{"$f":"BK83","v":0},{"$f":"BQ83","v":0},null,null,null,null,null,null,"Maximum Contribution for all Pre-16 Pupils (28%)",null,null,null,null,null,null,null,{"$f":"Y9*0.28","v":0},null,null,null,null,"Excess over threshold",{"$f":"IF(AE11-senmax<0,0,AE11-senmax)","v":0},0,0,0,0,0,0,0,0,0,0,0]
[null,null,null,null,null,null,null,{"$f":"SUM(H9:H12)","v":0},{"$f":"SUM(I9:I12)","v":0},{"$f":"SUM(J9:J12)","v":0},null,null,null,null,null,null,null,null,null,null,null,null,null,null,null,null,null,null,null,"Less payments to date",{"$f":"AE12","v":0},{"$f":"AF12-AE13","v":0},{"$f":"AG12-SUM($AE13:AF13)","v":0},{"$f":"AH12-SUM($AE13:AG13)","v":0},{"$f":"AI12-SUM($AE13:AH13)","v":0},{"$f":"AJ12-SUM($AE13:AI13)","v":0},{"$f":"AK12-SUM($AE13:AJ13)","v":0},{"$f":"AL12-SUM($AE13:AK13)","v":0},{"$f":"AM12-SUM($AE13:AL13)","v":0},{"$f":"AN12-SUM($AE13:AM13)","v":0},{"$f":"AO12-SUM($AE13:AN13)","v":0},{"$f":"AP12-SUM($AE13:AO13)","v":0}]
[null,null,null,null,"2019-09-01","2020-09-01"]
[null,null,"Pupil Data",null,null,null,null,null,null,null,null,null,null,null,null,null,"Element 3 top up",null,null,null,null,null,null,null,null,null,null,null,null,null,"Notional SEN budget top up",null,null,null,null,null,null,null,null,null,null,null,null,null,"Post 16 Element 2",null,null,null,null,null,null,null,null,null,null,null,null,null,"2021/22",null,null,null,null,null,"2022/23",null,null,null,null,"Year 2",null,null,null,null,null,null,null,null,null,null,null,"Year 3"]
[null,null,"Name","Date of Birth","Year Group (Academic Year Sept 19 - Aug 20)","Year Group (Academic Year Sept 20 - Aug 21)","Start Date","End Date","Year 1 - Period 1 - (Apr to Aug)\nMonthly top up rate","Year 1 - Period 2 - (Sep to Dec)\nMonthly top up rate","Year 1 - Period 3 - (Jan to Mar)\nMonthly top up rate","Year 2 Monthly top up rate","Year 3 Monthly top up rate","Year 1 Total Funding linked to this Pupil",null,null,"April","May","June","July","August","September","October","November","December","January","February","March","Total",null,"April","May","June","July","August","September","October","November","December","January","February","March","Total",null,"April","May","June","July","August","September","October","November","December","January","February","March","Total",null,"April to August (£)","September to December (£)","January to March (£)","Notional SEN Budget Top Up","Post 16 Element 2",null,"April to August (£)","September to December (£)","January to March (£)","Notional SEN Budget Top Up","Post 16 Element 2","April","May","June","July","August","September","October","November","December","January","February","March","April","May","June","July","August","September","October","November","December","January","February","March"]
[null,null,null,null,{"$f":"IF(D17=\"\",\"\",IF(SUM(DATEDIF(D17,DATE(YEAR($E$14)+(MONTH($E$14)>8),8,31),\"Y\")-5)=0,\"R\",IF(SUM(DATEDIF(D17,DATE(YEAR($E$14)+(MONTH($E$14)>8),8,31),\"Y\")-5)<0,\"\",DATEDIF(D17,DATE(YEAR($E$14)+(MONTH($E$14)>8),8,31),\"Y\")-5)))","v":""},{"$f":"IF(D17=\"\",\"\",IF(SUM(DATEDIF(D17,DATE(YEAR($F$14)+(MONTH($F$14)>8),8,31),\"Y\")-5)=0,\"R\",DATEDIF(D17,DATE(YEAR($F$14)+(MONTH($F$14)>8),8,31),\"Y\")-5))","v":""},null,null,null,null,null,null,null,{"$f":"AC17+AQ17+BE17","v":0},null,null,{"$f":"IF(D17=0,0,IF(AND($G17<DATE(2020,5,1),$H17>=DATE(2020,4,1)),$I17,0))","v":0},{"$f":"IF(D17=0,0,IF(AND($G17<DATE(2020,6,1),$H17>=DATE(2020,4,1)),$I17,0))","v":0},{"$f":"IF(D17=0,0,IF(AND($G17<DATE(2020,7,1),$H17>=DATE(2020,4,1)),$I17,0))","v":0},{"$f":"IF(D17=0,0,IF(AND($G17<DATE(2020,8,1),$H17>=DATE(2020,4,1)),$I17,0))","v":0},{"$f":"IF(D17=0,0,IF(AND($G17<DATE(2020,9,1),$H17>=DATE(2020,4,1)),$I17,0))","v":0},{"$f":"IF(D17=0,0,IF(AND($G17<DATE(2020,10,1),$H17>=DATE(2020,9,1)),$J17,0))","v":0},{"$f":"IF(D17=0,0,IF(AND($G17<DATE(2020,11,1),$H17>=DATE(2020,9,1)),$J17,0))","v":0},{"$f":"IF(D17=0,0,IF(AND($G17<DATE(2020,12,1),$H17>=DATE(2020,9,1)),$J17,0))","v":0},{"$f":"IF(D17=0,0,IF(AND($G17<DATE(2021,1,1),$H17>=DATE(2020,9,1)),$J17,0))","v":0},{"$f":"IF(D17=0,0,IF(AND($G17<DATE(2021,2,1),$H17>=DATE(2021,1,1)),$K17,0))","v":0},{"$f":"IF(D17=0,0,IF(AND($G17<DATE(2021,3,1),$H17>=DATE(2021,1,1)),$K17,0))","v":0},{"$f":"IF(D17=0,0,IF(AND($G17<DATE(2021,4,1),$H17>=DATE(2021,1,1)),$K17,0))","v":0},{"$f":"SUM(Q17:AB17)","v":0},null,{"$f":"IF(AND(Q17>0,$D17>DATE(2003,8,31),$D17>1),sentopup/12,0)","v":0},{"$f":"IF(AND(R17>0,$D17>DATE(2003,8,31),$D17>1),sentopup/12,0)","v":0},{"$f":"IF(AND(S17>0,$D17>DATE(2003,8,31),$D17>1),sentopup/12,0)","v":0},{"$f":"IF(AND(T17>0,$D17>DATE(2003,8,31),$D17>1),sentopup/12,0)","v":0},{"$f":"IF(AND(U17>0,$D17>DATE(2003,8,31),$D17>1),sentopup/12,0)","v":0},{"$f":"IF(AND(V17>0,$D17>DATE(2004,8,31),$D17>1),sentopup/12,0)","v":0},{"$f":"IF(AND(W17>0,$D17>DATE(2004,8,31),$D17>1),sentopup/12,0)","v":0},{"$f":"IF(AND(X17>0,$D17>DATE(2004,8,31),$D17>1),sentopup/12,0)","v":0},{"$f":"IF(AND(Y17>0,$D17>DATE(2004,8,31),$D17>1),sentopup/12,0)","v":0},{"$f":"IF(AND(Z17>0,$D17>DATE(2004,8,31),$D17>1),sentopup/12,0)","v":0},{"$f":"IF(AND(AA17>0,$D17>DATE(2004,8,31),$D17>1),sentopup/12,0)","v":0},{"$f":"IF(AND(AB17>0,$D17>DATE(2004,8,31),$D17>1),sentopup/12,0)","v":0},{"$f":"SUM(AE17:AP17)","v":0},null,{"$f":"IF(AND(Q17>0,$D17<DATE(2003,9,1),$D17>1),500,0)","v":0},{"$f":"IF(AND(R17>0,$D17<DATE(2003,9,1),$D17>1),500,0)","v":0},0,0,0,{"$f":"IF(AND(V17>0,$D17<DATE(2004,9,1),$D17>1),500,0)","v":0},{"$f":"IF(AND(W17>0,$D17<DATE(2004,9,1),$D17>1),500,0)","v":0},0,0,0,0,0,{"$f":"SUM(AS17:BD17)","v":0},null,{"$f":"COUNTIF(BR17:BV17,\">0\")*L17","v":0},{"$f":"COUNTIF(BW17:BZ17,\">0\")*L17","v":0},{"$f":"COUNTIF(CA17:CC17,\">0\")*L17","v":0},{"$f":"COUNTIF(BR17:CC17,1)*(sentopup/12)","v":0},{"$f":"COUNTIF(BR17:CC17,2)*500","v":0},null,{"$f":"COUNTIF(CD17:CH17,\">0\")*M17","v":0},{"$f":"COUNTIF(CI17:CL17,\">0\")*M17","v":0},{"$f":"COUNTIF(CM17:CO17,\">0\")*M17","v":0},{"$f":"COUNTIF(CD17:CO17,1)*(sentopup/12)","v":0},{"$f":"COUNTIF(CD17:CO17,2)*500","v":0},{"$f":"IF(AND($G17<DATE(2021,5,1),$H17>=DATE(2021,4,1)),IF($D17<10,0,IF($D17<DATE(2004,9,1),2,IF($D17>=DATE(2004,9,1),1,0))),0)","v":0},{"$f":"IF(AND($G17<DATE(2021,6,1),$H17>=DATE(2021,4,1)),IF($D17<10,0,IF($D17<DATE(2004,9,1),2,IF($D17>=DATE(2004,9,1),1,0))),0)","v":0},{"$f":"IF(AND($G17<DATE(2021,7,1),$H17>=DATE(2021,4,1)),IF($D17<10,0,IF($D17<DATE(2004,9,1),2,IF($D17>=DATE(2004,9,1),1,0))),0)","v":0},{"$f":"IF(AND($G17<DATE(2021,8,1),$H17>=DATE(2021,4,1)),IF($D17<10,0,IF($D17<DATE(2004,9,1),2,IF($D17>=DATE(2004,9,1),1,0))),0)","v":0},{"$f":"IF(AND($G17<DATE(2021,9,1),$H17>=DATE(2021,4,1)),IF($D17<10,0,IF($D17<DATE(2004,9,1),2,IF($D17>=DATE(2004,9,1),1,0))),0)","v":0},{"$f":"IF(AND($G17<DATE(2021,10,1),$H17>=DATE(2021,9,1)),IF($D17<10,0,IF($D17<DATE(2005,9,1),2,IF($D17>=DATE(2005,9,1),1,0))),0)","v":0},{"$f":"IF(AND($G17<DATE(2021,11,1),$H17>=DATE(2021,9,1)),IF($D17<10,0,IF($D17<DATE(2005,9,1),2,IF($D17>=DATE(2005,9,1),1,0))),0)","v":0},{"$f":"IF(AND($G17<DATE(2021,12,1),$H17>=DATE(2021,9,1)),IF($D17<10,0,IF($D17<DATE(2005,9,1),2,IF($D17>=DATE(2005,9,1),1,0))),0)","v":0},{"$f":"IF(AND($G17<DATE(2022,1,1),$H17>=DATE(2021,9,1)),IF($D17<10,0,IF($D17<DATE(2005,9,1),2,IF($D17>=DATE(2005,9,1),1,0))),0)","v":0},{"$f":"IF(AND($G17<DATE(2022,2,1),$H17>=DATE(2022,1,1)),IF($D17<10,0,IF($D17<DATE(2005,9,1),2,IF($D17>=DATE(2005,9,1),1,0))),0)","v":0},{"$f":"IF(AND($G17<DATE(2022,3,1),$H17>=DATE(2022,1,1)),IF($D17<10,0,IF($D17<DATE(2005,9,1),2,IF($D17>=DATE(2005,9,1),1,0))),0)","v":0},{"$f":"IF(AND($G17<DATE(2022,4,1),$H17>=DATE(2022,1,1)),IF($D17<10,0,IF($D17<DATE(2005,9,1),2,IF($D17>=DATE(2005,9,1),1,0))),0)","v":0},{"$f":"IF(AND($G17<DATE(2022,5,1),$H17>=DATE(2022,4,1)),IF($D17<10,0,IF($D17<DATE(2005,9,1),2,IF($D17>=DATE(2005,9,1),1,0))),0)","v":0},{"$f":"IF(AND($G17<DATE(2022,6,1),$H17>=DATE(2022,4,1)),IF($D17<10,0,IF($D17<DATE(2005,9,1),2,IF($D17>=DATE(2005,9,1),1,0))),0)","v":0},{"$f":"IF(AND($G17<DATE(2022,7,1),$H17>=DATE(2022,4,1)),IF($D17<10,0,IF($D17<DATE(2005,9,1),2,IF($D17>=DATE(2005,9,1),1,0))),0)","v":0},{"$f":"IF(AND($G17<DATE(2022,8,1),$H17>=DATE(2022,4,1)),IF($D17<10,0,IF($D17<DATE(2005,9,1),2,IF($D17>=DATE(2005,9,1),1,0))),0)","v":0},{"$f":"IF(AND($G17<DATE(2022,9,1),$H17>=DATE(2022,4,1)),IF($D17<10,0,IF($D17<DATE(2005,9,1),2,IF($D17>=DATE(2005,9,1),1,0))),0)","v":0},{"$f":"IF(AND($G17<DATE(2022,10,1),$H17>=DATE(2022,9,1)),IF($D17<10,0,IF($D17<DATE(2006,9,1),2,IF($D17>=DATE(2006,9,1),1,0))),0)","v":0},{"$f":"IF(AND($G17<DATE(2022,11,1),$H17>=DATE(2022,9,1)),IF($D17<10,0,IF($D17<DATE(2006,9,1),2,IF($D17>=DATE(2006,9,1),1,0))),0)","v":0},{"$f":"IF(AND($G17<DATE(2022,12,1),$H17>=DATE(2022,9,1)),IF($D17<10,0,IF($D17<DATE(2006,9,1),2,IF($D17>=DATE(2006,9,1),1,0))),0)","v":0},{"$f":"IF(AND($G17<DATE(2023,1,1),$H17>=DATE(2022,9,1)),IF($D17<10,0,IF($D17<DATE(2006,9,1),2,IF($D17>=DATE(2006,9,1),1,0))),0)","v":0},{"$f":"IF(AND($G17<DATE(2023,2,1),$H17>=DATE(2023,1,1)),IF($D17<10,0,IF($D17<DATE(2006,9,1),2,IF($D17>=DATE(2006,9,1),1,0))),0)","v":0},{"$f":"IF(AND($G17<DATE(2023,3,1),$H17>=DATE(2023,1,1)),IF($D17<10,0,IF($D17<DATE(2006,9,1),2,IF($D17>=DATE(2006,9,1),1,0))),0)","v":0},{"$f":"IF(AND($G17<DATE(2023,4,1),$H17>=DATE(2023,1,1)),IF($D17<10,0,IF($D17<DATE(2006,9,1),2,IF($D17>=DATE(2006,9,1),1,0))),0)","v":0}]
[null,null,null,null,"","",null,null,null,null,null,null,null,{"$f":"AC18+AQ18+BE18","v":0},null,null,{"$f":"IF(D18=0,0,IF(AND($G18<DATE(2020,5,1),$H18>=DATE(2020,4,1)),$I18,0))","v":0},{"$f":"IF(D18=0,0,IF(AND($G18<DATE(2020,6,1),$H18>=DATE(2020,4,1)),$I18,0))","v":0},{"$f":"IF(D18=0,0,IF(AND($G18<DATE(2020,7,1),$H18>=DATE(2020,4,1)),$I18,0))","v":0},{"$f":"IF(D18=0,0,IF(AND($G18<DATE(2020,8,1),$H18>=DATE(2020,4,1)),$I18,0))","v":0},{"$f":"IF(D18=0,0,IF(AND($G18<DATE(2020,9,1),$H18>=DATE(2020,4,1)),$I18,0))","v":0},{"$f":"IF(D18=0,0,IF(AND($G18<DATE(2020,10,1),$H18>=DATE(2020,9,1)),$J18,0))","v":0},{"$f":"IF(D18=0,0,IF(AND($G18<DATE(2020,11,1),$H18>=DATE(2020,9,1)),$J18,0))","v":0},{"$f":"IF(D18=0,0,IF(AND($G18<DATE(2020,12,1),$H18>=DATE(2020,9,1)),$J18,0))","v":0},{"$f":"IF(D18=0,0,IF(AND($G18<DATE(2021,1,1),$H18>=DATE(2020,9,1)),$J18,0))","v":0},{"$f":"IF(D18=0,0,IF(AND($G18<DATE(2021,2,1),$H18>=DATE(2021,1,1)),$K18,0))","v":0},{"$f":"IF(D18=0,0,IF(AND($G18<DATE(2021,3,1),$H18>=DATE(2021,1,1)),$K18,0))","v":0},{"$f":"IF(D18=0,0,IF(AND($G18<DATE(2021,4,1),$H18>=DATE(2021,1,1)),$K18,0))","v":0},{"$f":"SUM(Q18:AB18)","v":0},null,0,0,0,0,0,0,0,0,0,0,0,0,{"$f":"SUM(AE18:AP18)","v":0},null,{"$f":"IF(AND(Q18>0,$D18<DATE(2003,9,1),$D18>1),500,0)","v":0},{"$f":"IF(AND(R18>0,$D18<DATE(2003,9,1),$D18>1),500,0)","v":0},{"$f":"IF(AND(S18>0,$D18<DATE(2003,9,1),$D18>1),500,0)","v":0},{"$f":"IF(AND(T18>0,$D18<DATE(2003,9,1),$D18>1),500,0)","v":0},{"$f":"IF(AND(U18>0,$D18<DATE(2003,9,1),$D18>1),500,0)","v":0},{"$f":"IF(AND(V18>0,$D18<DATE(2004,9,1),$D18>1),500,0)","v":0},{"$f":"IF(AND(W18>0,$D18<DATE(2004,9,1),$D18>1),500,0)","v":0},{"$f":"IF(AND(X18>0,$D18<DATE(2004,9,1),$D18>1),500,0)","v":0},{"$f":"IF(AND(Y18>0,$D18<DATE(2004,9,1),$D18>1),500,0)","v":0},{"$f":"IF(AND(Z18>0,$D18<DATE(2004,9,1),$D18>1),500,0)","v":0},{"$f":"IF(AND(AA18>0,$D18<DATE(2004,9,1),$D18>1),500,0)","v":0},{"$f":"IF(AND(AB18>0,$D18<DATE(2004,9,1),$D18>1),500,0)","v":0},{"$f":"SUM(AS18:BD18)","v":0},null,{"$f":"COUNTIF(BR18:BV18,\">0\")*L18","v":0},{"$f":"COUNTIF(BW18:BZ18,\">0\")*L18","v":0},{"$f":"COUNTIF(CA18:CC18,\">0\")*L18","v":0},0,{"$f":"COUNTIF(BR18:CC18,2)*500","v":0},null,{"$f":"COUNTIF(CD18:CH18,\">0\")*M18","v":0},{"$f":"COUNTIF(CI18:CL18,\">0\")*M18","v":0},{"$f":"COUNTIF(CM18:CO18,\">0\")*M18","v":0},0,{"$f":"COUNTIF(CD18:CO18,2)*500","v":0},{"$f":"IF(AND($G18<DATE(2021,5,1),$H18>=DATE(2021,4,1)),IF($D18<10,0,IF($D18<DATE(2004,9,1),2,IF($D18>=DATE(2004,9,1),1,0))),0)","v":0},{"$f":"IF(AND($G18<DATE(2021,6,1),$H18>=DATE(2021,4,1)),IF($D18<10,0,IF($D18<DATE(2004,9,1),2,IF($D18>=DATE(2004,9,1),1,0))),0)","v":0},{"$f":"IF(AND($G18<DATE(2021,7,1),$H18>=DATE(2021,4,1)),IF($D18<10,0,IF($D18<DATE(2004,9,1),2,IF($D18>=DATE(2004,9,1),1,0))),0)","v":0},{"$f":"IF(AND($G18<DATE(2021,8,1),$H18>=DATE(2021,4,1)),IF($D18<10,0,IF($D18<DATE(2004,9,1),2,IF($D18>=DATE(2004,9,1),1,0))),0)","v":0},{"$f":"IF(AND($G18<DATE(2021,9,1),$H18>=DATE(2021,4,1)),IF($D18<10,0,IF($D18<DATE(2004,9,1),2,IF($D18>=DATE(2004,9,1),1,0))),0)","v":0},{"$f":"IF(AND($G18<DATE(2021,10,1),$H18>=DATE(2021,9,1)),IF($D18<10,0,IF($D18<DATE(2005,9,1),2,IF($D18>=DATE(2005,9,1),1,0))),0)","v":0},{"$f":"IF(AND($G18<DATE(2021,11,1),$H18>=DATE(2021,9,1)),IF($D18<10,0,IF($D18<DATE(2005,9,1),2,IF($D18>=DATE(2005,9,1),1,0))),0)","v":0},{"$f":"IF(AND($G18<DATE(2021,12,1),$H18>=DATE(2021,9,1)),IF($D18<10,0,IF($D18<DATE(2005,9,1),2,IF($D18>=DATE(2005,9,1),1,0))),0)","v":0},{"$f":"IF(AND($G18<DATE(2022,1,1),$H18>=DATE(2021,9,1)),IF($D18<10,0,IF($D18<DATE(2005,9,1),2,IF($D18>=DATE(2005,9,1),1,0))),0)","v":0},{"$f":"IF(AND($G18<DATE(2022,2,1),$H18>=DATE(2022,1,1)),IF($D18<10,0,IF($D18<DATE(2005,9,1),2,IF($D18>=DATE(2005,9,1),1,0))),0)","v":0},{"$f":"IF(AND($G18<DATE(2022,3,1),$H18>=DATE(2022,1,1)),IF($D18<10,0,IF($D18<DATE(2005,9,1),2,IF($D18>=DATE(2005,9,1),1,0))),0)","v":0},{"$f":"IF(AND($G18<DATE(2022,4,1),$H18>=DATE(2022,1,1)),IF($D18<10,0,IF($D18<DATE(2005,9,1),2,IF($D18>=DATE(2005,9,1),1,0))),0)","v":0},{"$f":"IF(AND($G18<DATE(2022,5,1),$H18>=DATE(2022,4,1)),IF($D18<10,0,IF($D18<DATE(2005,9,1),2,IF($D18>=DATE(2005,9,1),1,0))),0)","v":0},{"$f":"IF(AND($G18<DATE(2022,6,1),$H18>=DATE(2022,4,1)),IF($D18<10,0,IF($D18<DATE(2005,9,1),2,IF($D18>=DATE(2005,9,1),1,0))),0)","v":0},{"$f":"IF(AND($G18<DATE(2022,7,1),$H18>=DATE(2022,4,1)),IF($D18<10,0,IF($D18<DATE(2005,9,1),2,IF($D18>=DATE(2005,9,1),1,0))),0)","v":0},{"$f":"IF(AND($G18<DATE(2022,8,1),$H18>=DATE(2022,4,1)),IF($D18<10,0,IF($D18<DATE(2005,9,1),2,IF($D18>=DATE(2005,9,1),1,0))),0)","v":0},{"$f":"IF(AND($G18<DATE(2022,9,1),$H18>=DATE(2022,4,1)),IF($D18<10,0,IF($D18<DATE(2005,9,1),2,IF($D18>=DATE(2005,9,1),1,0))),0)","v":0},{"$f":"IF(AND($G18<DATE(2022,10,1),$H18>=DATE(2022,9,1)),IF($D18<10,0,IF($D18<DATE(2006,9,1),2,IF($D18>=DATE(2006,9,1),1,0))),0)","v":0},{"$f":"IF(AND($G18<DATE(2022,11,1),$H18>=DATE(2022,9,1)),IF($D18<10,0,IF($D18<DATE(2006,9,1),2,IF($D18>=DATE(2006,9,1),1,0))),0)","v":0},{"$f":"IF(AND($G18<DATE(2022,12,1),$H18>=DATE(2022,9,1)),IF($D18<10,0,IF($D18<DATE(2006,9,1),2,IF($D18>=DATE(2006,9,1),1,0))),0)","v":0},{"$f":"IF(AND($G18<DATE(2023,1,1),$H18>=DATE(2022,9,1)),IF($D18<10,0,IF($D18<DATE(2006,9,1),2,IF($D18>=DATE(2006,9,1),1,0))),0)","v":0},{"$f":"IF(AND($G18<DATE(2023,2,1),$H18>=DATE(2023,1,1)),IF($D18<10,0,IF($D18<DATE(2006,9,1),2,IF($D18>=DATE(2006,9,1),1,0))),0)","v":0},{"$f":"IF(AND($G18<DATE(2023,3,1),$H18>=DATE(2023,1,1)),IF($D18<10,0,IF($D18<DATE(2006,9,1),2,IF($D18>=DATE(2006,9,1),1,0))),0)","v":0},{"$f":"IF(AND($G18<DATE(2023,4,1),$H18>=DATE(2023,1,1)),IF($D18<10,0,IF($D18<DATE(2006,9,1),2,IF($D18>=DATE(2006,9,1),1,0))),0)","v":0}]
[null,null,null,null,"","",null,null,null,null,null,null,null,0,null,null,0,0,0,0,0,0,0,0,0,0,0,0,0,null,0,0,0,0,0,0,0,0,0,0,0,0,0,null,0,0,0,0,0,0,0,0,0,0,0,0,0,null,0,0,0,0,0,null,0,0,0,0,0,0,0,0,0,0,0,0,0,0,0,0,0,0,0,0,0,0,0,0,0,0,0,0,0]
[null,null,null,null,"","",null,null,null,null,null,null,null,0,null,null,0,0,0,0,0,0,0,0,0,0,0,0,0,null,0,0,0,0,0,0,0,0,0,0,0,0,0,null,0,0,0,0,0,0,0,0,0,0,0,0,0,null,0,0,0,0,0,null,0,0,0,0,0,0,0,0,0,0,0,0,0,0,0,0,0,0,0,0,0,0,0,0,0,0,0,0,0]
[null,null,null,null,"","",null,null,null,null,null,null,null,0,null,null,0,0,0,0,0,0,0,0,0,0,0,0,0,null,0,0,0,0,0,0,0,0,0,0,0,0,0,null,0,0,0,0,0,0,0,0,0,0,0,0,0,null,0,0,0,0,0,null,0,0,0,0,0,0,0,0,0,0,0,0,0,0,0,0,0,0,0,0,0,0,0,0,0,0,0,0,0]
[null,null,null,null,"","",null,null,null,null,null,null,null,0,null,null,0,0,0,0,0,0,0,0,0,0,0,0,0,null,0,0,0,0,0,0,0,0,0,0,0,0,0,null,0,0,0,0,0,0,0,0,0,0,0,0,0,null,0,0,0,0,0,null,0,0,0,0,0,0,0,0,0,0,0,0,0,0,0,0,0,0,0,0,0,0,0,0,0,0,0,0,0]
[null,null,null,null,"","",null,null,null,null,null,null,null,0,null,null,0,0,0,0,0,0,0,0,0,0,0,0,0,null,0,0,0,0,0,0,0,0,0,0,0,0,0,null,0,0,0,0,0,0,0,0,0,0,0,0,0,null,0,0,0,0,0,null,0,0,0,0,0,0,0,0,0,0,0,0,0,0,0,0,0,0,0,0,0,0,0,0,0,0,0,0,0]
[null,null,null,null,"","",null,null,null,null,null,null,null,0,null,null,0,0,0,0,0,0,0,0,0,0,0,0,0,null,0,0,0,0,0,0,0,0,0,0,0,0,0,null,0,0,0,0,0,0,0,0,0,0,0,0,0,null,0,0,0,0,0,null,0,0,0,0,0,0,0,0,0,0,0,0,0,0,0,0,0,0,0,0,0,0,0,0,0,0,0,0,0]
[null,null,null,null,"","",null,null,null,null,null,null,null,0,null,null,0,0,0,0,0,0,0,0,0,0,0,0,0,null,0,0,0,0,0,0,0,0,0,0,0,0,0,null,0,0,0,0,0,0,0,0,0,0,0,0,0,null,0,0,0,0,0,null,0,0,0,0,0,0,0,0,0,0,0,0,0,0,0,0,0,0,0,0,0,0,0,0,0,0,0,0,0]
[null,null,null,null,"","",null,null,null,null,null,null,null,0,null,null,0,0,0,0,0,0,0,0,0,0,0,0,0,null,0,0,0,0,0,0,0,0,0,0,0,0,0,null,0,0,0,0,0,0,0,0,0,0,0,0,0,null,0,0,0,0,0,null,0,0,0,0,0,0,0,0,0,0,0,0,0,0,0,0,0,0,0,0,0,0,0,0,0,0,0,0,0]
[null,null,null,null,"","",null,null,null,null,null,null,null,0,null,null,0,0,0,0,0,0,0,0,0,0,0,0,0,null,0,0,0,0,0,0,0,0,0,0,0,0,0,null,0,0,0,0,0,0,0,0,0,0,0,0,0,null,0,0,0,0,0,null,0,0,0,0,0,0,0,0,0,0,0,0,0,0,0,0,0,0,0,0,0,0,0,0,0,0,0,0,0]
[null,null,null,null,"","",null,null,null,null,null,null,null,0,null,null,0,0,0,0,0,0,0,0,0,0,0,0,0,null,0,0,0,0,0,0,0,0,0,0,0,0,0,null,0,0,0,0,0,0,0,0,0,0,0,0,0,null,0,0,0,0,0,null,0,0,0,0,0,0,0,0,0,0,0,0,0,0,0,0,0,0,0,0,0,0,0,0,0,0,0,0,0]
[null,null,null,null,"","",null,null,null,null,null,null,null,0,null,null,0,0,0,0,0,0,0,0,0,0,0,0,0,null,0,0,0,0,0,0,0,0,0,0,0,0,0,null,0,0,0,0,0,0,0,0,0,0,0,0,0,null,0,0,0,0,0,null,0,0,0,0,0,0,0,0,0,0,0,0,0,0,0,0,0,0,0,0,0,0,0,0,0,0,0,0,0]
[null,null,null,null,"","",null,null,null,null,null,null,null,0,null,null,0,0,0,0,0,0,0,0,0,0,0,0,0,null,0,0,0,0,0,0,0,0,0,0,0,0,0,null,0,0,0,0,0,0,0,0,0,0,0,0,0,null,0,0,0,0,0,null,0,0,0,0,0,0,0,0,0,0,0,0,0,0,0,0,0,0,0,0,0,0,0,0,0,0,0,0,0]
[null,null,null,null,"","",null,null,null,null,null,null,null,0,null,null,0,0,0,0,0,0,0,0,0,0,0,0,0,null,0,0,0,0,0,0,0,0,0,0,0,0,0,null,0,0,0,0,0,0,0,0,0,0,0,0,0,null,0,0,0,0,0,null,0,0,0,0,0,0,0,0,0,0,0,0,0,0,0,0,0,0,0,0,0,0,0,0,0,0,0,0,0]
[null,null,null,null,"","",null,null,null,null,null,null,null,0,null,null,0,0,0,0,0,0,0,0,0,0,0,0,0,null,0,0,0,0,0,0,0,0,0,0,0,0,0,null,0,0,0,0,0,0,0,0,0,0,0,0,0,null,0,0,0,0,0,null,0,0,0,0,0,0,0,0,0,0,0,0,0,0,0,0,0,0,0,0,0,0,0,0,0,0,0,0,0]
[null,null,null,null,"","",null,null,null,null,null,null,null,0,null,null,0,0,0,0,0,0,0,0,0,0,0,0,0,null,0,0,0,0,0,0,0,0,0,0,0,0,0,null,0,0,0,0,0,0,0,0,0,0,0,0,0,null,0,0,0,0,0,null,0,0,0,0,0,0,0,0,0,0,0,0,0,0,0,0,0,0,0,0,0,0,0,0,0,0,0,0,0]
[null,null,null,null,{"$f":"IF(D34=\"\",\"\",IF(SUM(DATEDIF(D34,DATE(YEAR($E$14)+(MONTH($E$14)>8),8,31),\"Y\")-5)=0,\"R\",IF(SUM(DATEDIF(D34,DATE(YEAR($E$14)+(MONTH($E$14)>8),8,31),\"Y\")-5)<0,\"\",DATEDIF(D34,DATE(YEAR($E$14)+(MONTH($E$14)>8),8,31),\"Y\")-5)))","v":""},{"$f":"IF(D34=\"\",\"\",IF(SUM(DATEDIF(D34,DATE(YEAR($F$14)+(MONTH($F$14)>8),8,31),\"Y\")-5)=0,\"R\",DATEDIF(D34,DATE(YEAR($F$14)+(MONTH($F$14)>8),8,31),\"Y\")-5))","v":""},null,null,null,null,null,null,null,0,null,null,0,0,0,0,0,0,0,0,0,0,0,0,0,null,0,0,0,0,0,0,0,0,0,0,0,0,0,null,0,0,0,0,0,0,0,0,0,0,0,0,0,null,0,0,0,0,0,null,0,0,0,0,0,0,0,0,0,0,0,0,0,0,0,0,0,0,0,0,0,0,0,0,0,0,0,0,0]
[null,null,null,null,"","",null,null,null,null,null,null,null,0,null,null,0,0,0,0,0,0,0,0,0,0,0,0,0,null,0,0,0,0,0,0,0,0,0,0,0,0,0,null,0,0,0,0,0,0,0,0,0,0,0,0,0,null,0,0,0,0,0,null,0,0,0,0,0,0,0,0,0,0,0,0,0,0,0,0,0,0,0,0,0,0,0,0,0,0,0,0,0]
[null,null,null,null,"","",null,null,null,null,null,null,null,0,null,null,0,0,0,0,0,0,0,0,0,0,0,0,0,null,0,0,0,0,0,0,0,0,0,0,0,0,0,null,0,0,0,0,0,0,0,0,0,0,0,0,0,null,0,0,0,0,0,null,0,0,0,0,0,0,0,0,0,0,0,0,0,0,0,0,0,0,0,0,0,0,0,0,0,0,0,0,0]
[null,null,null,null,"","",null,null,null,null,null,null,null,0,null,null,0,0,0,0,0,0,0,0,0,0,0,0,0,null,0,0,0,0,0,0,0,0,0,0,0,0,0,null,0,0,0,0,0,0,0,0,0,0,0,0,0,null,0,0,0,0,0,null,0,0,0,0,0,0,0,0,0,0,0,0,0,0,0,0,0,0,0,0,0,0,0,0,0,0,0,0,0]
[null,null,null,null,"","",null,null,null,null,null,null,null,0,null,null,0,0,0,0,0,0,0,0,0,0,0,0,0,null,0,0,0,0,0,0,0,0,0,0,0,0,0,null,0,0,0,0,0,0,0,0,0,0,0,0,0,null,0,0,0,0,0,null,0,0,0,0,0,0,0,0,0,0,0,0,0,0,0,0,0,0,0,0,0,0,0,0,0,0,0,0,0]
[null,null,null,null,"","",null,null,null,null,null,null,null,0,null,null,0,0,0,0,0,0,0,0,0,0,0,0,0,null,0,0,0,0,0,0,0,0,0,0,0,0,0,null,0,0,0,0,0,0,0,0,0,0,0,0,0,null,0,0,0,0,0,null,0,0,0,0,0,0,0,0,0,0,0,0,0,0,0,0,0,0,0,0,0,0,0,0,0,0,0,0,0]
[null,null,null,null,"","",null,null,null,null,null,null,null,0,null,null,0,0,0,0,0,0,0,0,0,0,0,0,0,null,0,0,0,0,0,0,0,0,0,0,0,0,0,null,0,0,0,0,0,0,0,0,0,0,0,0,0,null,0,0,0,0,0,null,0,0,0,0,0,0,0,0,0,0,0,0,0,0,0,0,0,0,0,0,0,0,0,0,0,0,0,0,0]
[null,null,null,null,"","",null,null,null,null,null,null,null,0,null,null,0,0,0,0,0,0,0,0,0,0,0,0,0,null,0,0,0,0,0,0,0,0,0,0,0,0,0,null,0,0,0,0,0,0,0,0,0,0,0,0,0,null,0,0,0,0,0,null,0,0,0,0,0,0,0,0,0,0,0,0,0,0,0,0,0,0,0,0,0,0,0,0,0,0,0,0,0]
[null,null,null,null,"","",null,null,null,null,null,null,null,0,null,null,0,0,0,0,0,0,0,0,0,0,0,0,0,null,0,0,0,0,0,0,0,0,0,0,0,0,0,null,0,0,0,0,0,0,0,0,0,0,0,0,0,null,0,0,0,0,0,null,0,0,0,0,0,0,0,0,0,0,0,0,0,0,0,0,0,0,0,0,0,0,0,0,0,0,0,0,0]
[null,null,null,null,"","",null,null,null,null,null,null,null,0,null,null,0,0,0,0,0,0,0,0,0,0,0,0,0,null,0,0,0,0,0,0,0,0,0,0,0,0,0,null,0,0,0,0,0,0,0,0,0,0,0,0,0,null,0,0,0,0,0,null,0,0,0,0,0,0,0,0,0,0,0,0,0,0,0,0,0,0,0,0,0,0,0,0,0,0,0,0,0]
[null,null,null,null,"","",null,null,null,null,null,null,null,0,null,null,0,0,0,0,0,0,0,0,0,0,0,0,0,null,0,0,0,0,0,0,0,0,0,0,0,0,0,null,0,0,0,0,0,0,0,0,0,0,0,0,0,null,0,0,0,0,0,null,0,0,0,0,0,0,0,0,0,0,0,0,0,0,0,0,0,0,0,0,0,0,0,0,0,0,0,0,0]
[null,null,null,null,"","",null,null,null,null,null,null,null,0,null,null,0,0,0,0,0,0,0,0,0,0,0,0,0,null,0,0,0,0,0,0,0,0,0,0,0,0,0,null,0,0,0,0,0,0,0,0,0,0,0,0,0,null,0,0,0,0,0,null,0,0,0,0,0,0,0,0,0,0,0,0,0,0,0,0,0,0,0,0,0,0,0,0,0,0,0,0,0]
[null,null,null,null,"","",null,null,null,null,null,null,null,0,null,null,0,0,0,0,0,0,0,0,0,0,0,0,0,null,0,0,0,0,0,0,0,0,0,0,0,0,0,null,0,0,0,0,0,0,0,0,0,0,0,0,0,null,0,0,0,0,0,null,0,0,0,0,0,0,0,0,0,0,0,0,0,0,0,0,0,0,0,0,0,0,0,0,0,0,0,0,0]
[null,null,null,null,"","",null,null,null,null,null,null,null,0,null,null,0,0,0,0,0,0,0,0,0,0,0,0,0,null,0,0,0,0,0,0,0,0,0,0,0,0,0,null,0,0,0,0,0,0,0,0,0,0,0,0,0,null,0,0,0,0,0,null,0,0,0,0,0,0,0,0,0,0,0,0,0,0,0,0,0,0,0,0,0,0,0,0,0,0,0,0,0]
[null,null,null,null,"","",null,null,null,null,null,null,null,0,null,null,0,0,0,0,0,0,0,0,0,0,0,0,0,null,0,0,0,0,0,0,0,0,0,0,0,0,0,null,0,0,0,0,0,0,0,0,0,0,0,0,0,null,0,0,0,0,0,null,0,0,0,0,0,0,0,0,0,0,0,0,0,0,0,0,0,0,0,0,0,0,0,0,0,0,0,0,0]
[null,null,null,null,"","",null,null,null,null,null,null,null,0,null,null,0,0,0,0,0,0,0,0,0,0,0,0,0,null,{"$f":"IF(AND(Q49>0,$D49>DATE(2003,8,31),$D49>1),sentopup/12,0)","v":0},{"$f":"IF(AND(R49>0,$D49>DATE(2003,8,31),$D49>1),sentopup/12,0)","v":0},{"$f":"IF(AND(S49>0,$D49>DATE(2003,8,31),$D49>1),sentopup/12,0)","v":0},{"$f":"IF(AND(T49>0,$D49>DATE(2003,8,31),$D49>1),sentopup/12,0)","v":0},{"$f":"IF(AND(U49>0,$D49>DATE(2003,8,31),$D49>1),sentopup/12,0)","v":0},{"$f":"IF(AND(V49>0,$D49>DATE(2004,8,31),$D49>1),sentopup/12,0)","v":0},{"$f":"IF(AND(W49>0,$D49>DATE(2004,8,31),$D49>1),sentopup/12,0)","v":0},{"$f":"IF(AND(X49>0,$D49>DATE(2004,8,31),$D49>1),sentopup/12,0)","v":0},{"$f":"IF(AND(Y49>0,$D49>DATE(2004,8,31),$D49>1),sentopup/12,0)","v":0},{"$f":"IF(AND(Z49>0,$D49>DATE(2004,8,31),$D49>1),sentopup/12,0)","v":0},{"$f":"IF(AND(AA49>0,$D49>DATE(2004,8,31),$D49>1),sentopup/12,0)","v":0},{"$f":"IF(AND(AB49>0,$D49>DATE(2004,8,31),$D49>1),sentopup/12,0)","v":0},0,null,0,0,0,0,0,0,0,0,0,0,0,0,0,null,0,0,0,{"$f":"COUNTIF(BR49:CC49,1)*(sentopup/12)","v":0},0,null,0,0,0,{"$f":"COUNTIF(CD49:CO49,1)*(sentopup/12)","v":0},0,0,0,0,0,0,0,0,0,0,0,0,0,0,0,0,0,0,0,0,0,0,0,0,0]
[null,null,null,null,"","",null,null,null,null,null,null,null,0,null,null,0,0,0,0,0,0,0,0,0,0,0,0,0,null,0,0,0,0,0,0,0,0,0,0,0,0,0,null,0,0,0,0,0,0,0,0,0,0,0,0,0,null,0,0,0,0,0,null,0,0,0,0,0,0,0,0,0,0,0,0,0,0,0,0,0,0,0,0,0,0,0,0,0,0,0,0,0]
[null,null,null,null,"","",null,null,null,null,null,null,null,0,null,null,0,0,0,0,0,0,0,0,0,0,0,0,0,null,0,0,0,0,0,0,0,0,0,0,0,0,0,null,0,0,0,0,0,0,0,0,0,0,0,0,0,null,0,0,0,0,0,null,0,0,0,0,0,0,0,0,0,0,0,0,0,0,0,0,0,0,0,0,0,0,0,0,0,0,0,0,0]
[null,null,null,null,"","",null,null,null,null,null,null,null,0,null,null,0,0,0,0,0,0,0,0,0,0,0,0,0,null,0,0,0,0,0,0,0,0,0,0,0,0,0,null,0,0,0,0,0,0,0,0,0,0,0,0,0,null,0,0,0,0,0,null,0,0,0,0,0,0,0,0,0,0,0,0,0,0,0,0,0,0,0,0,0,0,0,0,0,0,0,0,0]
[null,null,null,null,"","",null,null,null,null,null,null,null,0,null,null,0,0,0,0,0,0,0,0,0,0,0,0,0,null,0,0,0,0,0,0,0,0,0,0,0,0,0,null,0,0,0,0,0,0,0,0,0,0,0,0,0,null,0,0,0,0,0,null,0,0,0,0,0,0,0,0,0,0,0,0,0,0,0,0,0,0,0,0,0,0,0,0,0,0,0,0,0]
[null,null,null,null,"","",null,null,null,null,null,null,null,0,null,null,0,0,0,0,0,0,0,0,0,0,0,0,0,null,0,0,0,0,0,0,0,0,0,0,0,0,0,null,0,0,0,0,0,0,0,0,0,0,0,0,0,null,0,0,0,0,0,null,0,0,0,0,0,0,0,0,0,0,0,0,0,0,0,0,0,0,0,0,0,0,0,0,0,0,0,0,0]
[null,null,null,null,"","",null,null,null,null,null,null,null,0,null,null,0,0,0,0,0,0,0,0,0,0,0,0,0,null,0,0,0,0,0,0,0,0,0,0,0,0,0,null,0,0,0,0,0,0,0,0,0,0,0,0,0,null,0,0,0,0,0,null,0,0,0,0,0,0,0,0,0,0,0,0,0,0,0,0,0,0,0,0,0,0,0,0,0,0,0,0,0]
[null,null,null,null,"","",null,null,null,null,null,null,null,0,null,null,0,0,0,0,0,0,0,0,0,0,0,0,0,null,0,0,0,0,0,0,0,0,0,0,0,0,0,null,0,0,0,0,0,0,0,0,0,0,0,0,0,null,0,0,0,0,0,null,0,0,0,0,0,0,0,0,0,0,0,0,0,0,0,0,0,0,0,0,0,0,0,0,0,0,0,0,0]
[null,null,null,null,"","",null,null,null,null,null,null,null,0,null,null,0,0,0,0,0,0,0,0,0,0,0,0,0,null,0,0,0,0,0,0,0,0,0,0,0,0,0,null,0,0,0,0,0,0,0,0,0,0,0,0,0,null,0,0,0,0,0,null,0,0,0,0,0,0,0,0,0,0,0,0,0,0,0,0,0,0,0,0,0,0,0,0,0,0,0,0,0]
[null,null,null,null,"","",null,null,null,null,null,null,null,0,null,null,0,0,0,0,0,0,0,0,0,0,0,0,0,null,0,0,0,0,0,0,0,0,0,0,0,0,0,null,0,0,0,0,0,0,0,0,0,0,0,0,0,null,0,0,0,0,0,null,0,0,0,0,0,0,0,0,0,0,0,0,0,0,0,0,0,0,0,0,0,0,0,0,0,0,0,0,0]
[null,null,null,null,"","",null,null,null,null,null,null,null,0,null,null,0,0,0,0,0,0,0,0,0,0,0,0,0,null,0,0,0,0,0,0,0,0,0,0,0,0,0,null,0,0,0,0,0,0,0,0,0,0,0,0,0,null,0,0,0,0,0,null,0,0,0,0,0,0,0,0,0,0,0,0,0,0,0,0,0,0,0,0,0,0,0,0,0,0,0,0,0]
[null,null,null,null,"","",null,null,null,null,null,null,null,0,null,null,0,0,0,0,0,0,0,0,0,0,0,0,0,null,0,0,0,0,0,0,0,0,0,0,0,0,0,null,0,0,0,0,0,0,0,0,0,0,0,0,0,null,0,0,0,0,0,null,0,0,0,0,0,0,0,0,0,0,0,0,0,0,0,0,0,0,0,0,0,0,0,0,0,0,0,0,0]
[null,null,null,null,"","",null,null,null,null,null,null,null,0,null,null,0,0,0,0,0,0,0,0,0,0,0,0,0,null,0,0,0,0,0,0,0,0,0,0,0,0,0,null,0,0,0,0,0,0,0,0,0,0,0,0,0,null,0,0,0,0,0,null,0,0,0,0,0,0,0,0,0,0,0,0,0,0,0,0,0,0,0,0,0,0,0,0,0,0,0,0,0]
[null,null,null,null,{"$f":"IF(D62=\"\",\"\",IF(SUM(DATEDIF(D62,DATE(YEAR($E$14)+(MONTH($E$14)>8),8,31),\"Y\")-5)=0,\"R\",IF(SUM(DATEDIF(D62,DATE(YEAR($E$14)+(MONTH($E$14)>8),8,31),\"Y\")-5)<0,\"\",DATEDIF(D62,DATE(YEAR($E$14)+(MONTH($E$14)>8),8,31),\"Y\")-5)))","v":""},{"$f":"IF(D62=\"\",\"\",IF(SUM(DATEDIF(D62,DATE(YEAR($F$14)+(MONTH($F$14)>8),8,31),\"Y\")-5)=0,\"R\",DATEDIF(D62,DATE(YEAR($F$14)+(MONTH($F$14)>8),8,31),\"Y\")-5))","v":""},null,null,null,null,null,null,null,0,null,null,0,0,0,0,0,0,0,0,0,0,0,0,0,null,0,0,0,0,0,0,0,0,0,0,0,0,0,null,0,0,0,0,0,0,0,0,0,0,0,0,0,null,0,0,0,0,0,null,0,0,0,0,0,0,0,0,0,0,0,0,0,0,0,0,0,0,0,0,0,0,0,0,0,0,0,0,0]
[null,null,null,null,"","",null,null,null,null,null,null,null,0,null,null,0,0,0,0,0,0,0,0,0,0,0,0,0,null,0,0,0,0,0,0,0,0,0,0,0,0,0,null,0,0,0,0,0,0,0,0,0,0,0,0,0,null,0,0,0,0,0,null,0,0,0,0,0,0,0,0,0,0,0,0,0,0,0,0,0,0,0,0,0,0,0,0,0,0,0,0,0]
[null,null,null,null,"","",null,null,null,null,null,null,null,0,null,null,0,0,0,0,0,0,0,0,0,0,0,0,0,null,0,0,0,0,0,0,0,0,0,0,0,0,0,null,0,0,0,0,0,0,0,0,0,0,0,0,0,null,0,0,0,0,0,null,0,0,0,0,0,0,0,0,0,0,0,0,0,0,0,0,0,0,0,0,0,0,0,0,0,0,0,0,0]
[null,null,null,null,"","",null,null,null,null,null,null,null,0,null,null,0,0,0,0,0,0,0,0,0,0,0,0,0,null,0,0,0,0,0,0,0,0,0,0,0,0,0,null,0,0,0,0,0,0,0,0,0,0,0,0,0,null,0,0,0,0,0,null,0,0,0,0,0,0,0,0,0,0,0,0,0,0,0,0,0,0,0,0,0,0,0,0,0,0,0,0,0]
[null,null,null,null,"","",null,null,null,null,null,null,null,0,null,null,0,0,0,0,0,0,0,0,0,0,0,0,0,null,0,0,0,0,0,0,0,0,0,0,0,0,0,null,0,0,0,0,0,0,0,0,0,0,0,0,0,null,0,0,0,0,0,null,0,0,0,0,0,0,0,0,0,0,0,0,0,0,0,0,0,0,0,0,0,0,0,0,0,0,0,0,0]
[null,null,null,null,"","",null,null,null,null,null,null,null,0,null,null,0,0,0,0,0,0,0,0,0,0,0,0,0,null,0,0,0,0,0,0,0,0,0,0,0,0,0,null,0,0,0,0,0,0,0,0,0,0,0,0,0,null,0,0,0,0,0,null,0,0,0,0,0,0,0,0,0,0,0,0,0,0,0,0,0,0,0,0,0,0,0,0,0,0,0,0,0]
[null,null,null,null,"","",null,null,null,null,null,null,null,0,null,null,0,0,0,0,0,0,0,0,0,0,0,0,0,null,0,0,0,0,0,0,0,0,0,0,0,0,0,null,0,0,0,0,0,0,0,0,0,0,0,0,0,null,0,0,0,0,0,null,0,0,0,0,0,0,0,0,0,0,0,0,0,0,0,0,0,0,0,0,0,0,0,0,0,0,0,0,0]
[null,null,null,null,"","",null,null,null,null,null,null,null,0,null,null,0,0,0,0,0,0,0,0,0,0,0,0,0,null,0,0,0,0,0,0,0,0,0,0,0,0,0,null,0,0,0,0,0,0,0,0,0,0,0,0,0,null,0,0,0,0,0,null,0,0,0,0,0,0,0,0,0,0,0,0,0,0,0,0,0,0,0,0,0,0,0,0,0,0,0,0,0]
[null,null,null,null,"","",null,null,null,null,null,null,null,0,null,null,0,0,0,0,0,0,0,0,0,0,0,0,0,null,0,0,0,0,0,0,0,0,0,0,0,0,0,null,0,0,0,0,0,0,0,0,0,0,0,0,0,null,0,0,0,0,0,null,0,0,0,0,0,0,0,0,0,0,0,0,0,0,0,0,0,0,0,0,0,0,0,0,0,0,0,0,0]
[null,null,null,null,"","",null,null,null,null,null,null,null,0,null,null,0,0,0,0,0,0,0,0,0,0,0,0,0,null,0,0,0,0,0,0,0,0,0,0,0,0,0,null,0,0,0,0,0,0,0,0,0,0,0,0,0,null,0,0,0,0,0,null,0,0,0,0,0,0,0,0,0,0,0,0,0,0,0,0,0,0,0,0,0,0,0,0,0,0,0,0,0]
[null,null,null,null,"","",null,null,null,null,null,null,null,0,null,null,0,0,0,0,0,0,0,0,0,0,0,0,0,null,0,0,0,0,0,0,0,0,0,0,0,0,0,null,0,0,0,0,0,0,0,0,0,0,0,0,0,null,0,0,0,0,0,null,0,0,0,0,0,0,0,0,0,0,0,0,0,0,0,0,0,0,0,0,0,0,0,0,0,0,0,0,0]
[null,null,null,null,"","",null,null,null,null,null,null,null,0,null,null,0,0,0,0,0,0,0,0,0,0,0,0,0,null,0,0,0,0,0,0,0,0,0,0,0,0,0,null,0,0,0,0,0,0,0,0,0,0,0,0,0,null,0,0,0,0,0,null,0,0,0,0,0,0,0,0,0,0,0,0,0,0,0,0,0,0,0,0,0,0,0,0,0,0,0,0,0]
[null,null,null,null,"","",null,null,null,null,null,null,null,0,null,null,0,0,0,0,0,0,0,0,0,0,0,0,0,null,0,0,0,0,0,0,0,0,0,0,0,0,0,null,0,0,0,0,0,0,0,0,0,0,0,0,0,null,0,0,0,0,0,null,0,0,0,0,0,0,0,0,0,0,0,0,0,0,0,0,0,0,0,0,0,0,0,0,0,0,0,0,0]
[null,null,null,null,"","",null,null,null,null,null,null,null,0,null,null,0,0,0,0,0,0,0,0,0,0,0,0,0,null,0,0,0,0,0,0,0,0,0,0,0,0,0,null,0,0,0,0,0,0,0,0,0,0,0,0,0,null,0,0,0,0,0,null,0,0,0,0,0,0,0,0,0,0,0,0,0,0,0,0,0,0,0,0,0,0,0,0,0,0,0,0,0]
[null,null,null,null,"","",null,null,null,null,null,null,null,0,null,null,0,0,0,0,0,0,0,0,0,0,0,0,0,null,0,0,0,0,0,0,0,0,0,0,0,0,0,null,0,0,0,0,0,0,0,0,0,0,0,0,0,null,0,0,0,0,0,null,0,0,0,0,0,0,0,0,0,0,0,0,0,0,0,0,0,0,0,0,0,0,0,0,0,0,0,0,0]
[null,null,null,null,"","",null,null,null,null,null,null,null,0,null,null,0,0,0,0,0,0,0,0,0,0,0,0,0,null,0,0,0,0,0,0,0,0,0,0,0,0,0,null,0,0,0,0,0,0,0,0,0,0,0,0,0,null,0,0,0,0,0,null,0,0,0,0,0,0,0,0,0,0,0,0,0,0,0,0,0,0,0,0,0,0,0,0,0,0,0,0,0]
[null,null,null,null,"","",null,null,null,null,null,null,null,0,null,null,0,0,0,0,0,0,0,0,0,0,0,0,0,null,0,0,0,0,0,0,0,0,0,0,0,0,0,null,0,0,0,0,0,0,0,0,0,0,0,0,0,null,0,0,0,0,0,null,0,0,0,0,0,0,0,0,0,0,0,0,0,0,0,0,0,0,0,0,0,0,0,0,0,0,0,0,0]
[null,null,null,null,"","",null,null,null,null,null,null,null,0,null,null,0,0,0,0,0,0,0,0,0,0,0,0,0,null,0,0,0,0,0,0,0,0,0,0,0,0,0,null,0,0,0,0,0,0,0,0,0,0,0,0,0,null,0,0,0,0,0,null,0,0,0,0,0,0,0,0,0,0,0,0,0,0,0,0,0,0,0,0,0,0,0,0,0,0,0,0,0]
[null,null,null,null,"","",null,null,null,null,null,null,null,0,null,null,0,0,0,0,0,0,0,0,0,0,0,0,0,null,0,0,0,0,0,0,0,0,0,0,0,0,0,null,0,0,0,0,0,0,0,0,0,0,0,0,0,null,0,0,0,0,0,null,0,0,0,0,0,0,0,0,0,0,0,0,0,0,0,0,0,0,0,0,0,0,0,0,0,0,0,0,0]
[null,null,null,null,"","",null,null,null,null,null,null,null,0,null,null,0,0,0,0,0,0,0,0,0,0,0,0,0,null,0,0,0,0,0,0,0,0,0,0,0,0,0,null,0,0,0,0,0,0,0,0,0,0,0,0,0,null,0,0,0,0,0,null,0,0,0,0,0,0,0,0,0,0,0,0,0,0,0,0,0,0,0,0,0,0,0,0,0,0,0,0,0]
[]
[null,null,null,null,null,null,null,null,null,null,null,null,null,{"$f":"SUM(N17:O81)","v":0},null,null,null,null,null,null,null,null,null,null,null,null,null,null,{"$f":"SUM(AC17:AC81)","v":0},null,null,null,null,null,null,null,null,null,null,null,null,null,{"$f":"SUM(AQ17:AQ81)","v":0},null,null,null,null,null,null,null,null,null,null,null,null,null,{"$f":"SUM(BE17:BE81)","v":0},null,{"$f":"SUM(BG17:BG82)","v":0},{"$f":"SUM(BH17:BH82)","v":0},0,0,0,null,{"$f":"SUM(BM17:BM82)","v":0},{"$f":"SUM(BN17:BN82)","v":0},0,{"$f":"SUM(BP17:BP82)","v":0},{"$f":"SUM(BQ17:BQ82)","v":0}]
[null,null,null,null,null,null,null,null,null,null,null,null,null,null,null,null,null,null,null,null,null,null,null,null,null,null,null,null,null,null,null,null,null,null,null,null,null,null,null,null,null,"28% rule",{"$f":"AQ6","v":0}]
[null,null,null,null,null,null,null,null,null,null,null,null,null,null,null,null,null,null,null,null,null,null,null,null,null,null,null,null,null,null,null,null,null,null,null,null,null,null,null,null,null,"Grand total",{"$f":"AQ84+AQ83","v":0},null,null,null,null,null,null,null,null,null,null,null,null,null,null,null,null,null,null,null,{"$f":"SUM(BG83:BK83)","v":0},null,null,null,null,null,{"$f":"SUM(BM83:BQ83)","v":0}]

{"sheet":"Firing Range","index":13,"n_rows":303,"n_cols":5,"rows_kept":303,"cut":false,"hidden":true,"merged":[]}
["DFE","School Name","Notional SEN","Data Calc","Check"]
[1001,"Northfleet Nursery",0,0,{"$f":"ROUND(D2-C2,0)","v":0}]
[2000,"St Johns C of E Primary School",322352.49,322352.49275174824,{"$f":"ROUND(D3-C3,0)","v":0}]
[2002,"Repton Manor Primary School",179442.2,179442.20087459055,0]
[2065,"Discovery School, The",154575.37,154575.37040402662,0]
[2066,"Maypole Primary School",186214.8,186214.80360659171,0]
[2074,"Sunny Bank Primary School",255701.24,255701.24159456056,0]
[2079,"Woodlands Primary School",227120.49,227120.48909531173,0]
[2088,"Crockenhill Primary School",71260.92,71260.921122468397,0]
[2089,"Anthony Roper Primary School, The",85820.7,85820.700337249291,0]
[2094,"Cobham Primary School",47947.03,47947.029712350079,0]
[2095,"Cecil Road Primary and Nursery School",228476.01,228476.01081693682,0]
[2109,"Higham Primary School",67063.95,67063.945745037796,0]
[2116,"Lawn Primary School",242507.11,242507.1098876929,0]
[2119,"Shears Green Infant School",149638.96,149638.96417529948,0]
[2120,"Bean Primary School",116300.79,116300.78787319137,0]
[2128,"Capel Primary School",59839.91,59839.905480976362,0]
[2130,"Dunton Green Primary School",74306.44,74306.438594781954,0]
[2132,"Hadlow Primary School",99509.49,99509.493681705368,0]
[2133,"Halstead Community Primary School",45088.88,45088.884196296356,0]
[2134,"Four Elms Primary School",50280.43,50280.428533290651,0]
[2136,"Kemsing Primary School",86414.44,86414.443638579673,0]
[2137,"Leigh Primary School",51020.75,51020.748772261017,0]
[2138,"Otford Primary School",85459.35,85459.348915554103,0]
[2139,"Pembury School",116788.11,116788.10576348031,0]
[2142,"Sandhurst Primary School",61687.4,61687.397243371779,0]
[2147,"Weald Community Primary School",62298.22,62298.219404205054,0]
[2148,"Shoreham Village School",47574.59,47574.587823221693,0]
[2155,"Slade Primary School",163580.29,163580.29436859459,0]
[2156,"Sussex Road Community Primary School",126076.87,126076.87382429829,0]
[2161,"Boughton Monchelsea Primary School",70324.460000000006,70324.458715908797,0]
[2163,"East Farleigh Primary School",65261.26,65261.261133288848,0]
[2164,"East Peckham Primary School",62540.37,62540.373220060676,0]
[2165,"Headcorn Primary School",66982.66,66982.662375775282,0]
[2166,"Hollingbourne Primary School",36652.589999999997,36652.594799064711,0]
[2167,"Ightham Primary School",39042.720000000001,39042.715877638737,0]
[2168,"Lenham Primary School",73078.98,73078.981450477382,0]
[2169,"Platts Heath Primary School",33112,33112.003356130932,0]
[2171,"Brunswick House Primary School",168316.16,168316.15552091898,0]
[2175,"North Borough Junior School",201793.33,201793.33275262441,0]
[2176,"Park Way Primary School",210055.93,210055.93021614949,0]
[2183,"Marden Primary School",152465.15,152465.15486707946,0]
[2185,"Mereworth Community Primary School",73376.479999999996,73376.482752549957,0]
[2187,"Offham Primary School",53013.36,53013.361554529816,0]
[2188,"Plaxtol Primary School",26270.240000000002,26270.235012271278,0]
[2189,"Ryarsh Primary School",47520.55,47520.553492080464,0]
[2190,"Shipbourne School",20128.8,20128.799484925279,0]
[2192,"Staplehurst School",135298.91,135298.91336046177,0]
[2193,"Sutton Valence Primary School",65782.149999999994,65782.146339446699,0]
[2226,"Eastling Primary School",46024.800000000003,46024.801392940251,0]
[2227,"Ethelbert Road Primary School",78396.789999999994,78396.786507121098,0]
[2228,"Davington Primary School",247946.23,247946.2332018512,0]
[2231,"Lower Halstow School",55478,55477.995891653671,0]
[2237,"Queenborough School and Nursery",360888.94,360888.93811612512,0]
[2239,"Rodmersham School",32958.870000000003,32958.866119531398,0]
[2245,"Rose Street School",368959.76,368959.76440457557,0]
[2254,"Canterbury Road Primary School",171026.29,171026.29149930342,0]
[2258,"Blean Primary School",157761.26,157761.25804252527,0]
[2259,"Chartham Primary School",134279.57,134279.56925834564,0]
[2263,"Herne Bay Infant School",183569.3,183569.30069781863,0]
[2265,"Hoath Primary School",40428.67,40428.667258638678,0]
[2268,"Westmeads Community Infant School",58111.27,58111.274916940631,0]
[2269,"Whitstable Junior School",140508.95000000001,140508.95314958066,0]
[2270,"Aldington Primary School",65823.5,65823.495032008097,0]
[2272,"East Stour Primary School",254486.97,254486.966002253,0]
[2275,"Victoria Road Primary School",112419.32,112419.31990820826,0]
[2276,"Willesborough Infant School",158452.98000000001,158452.98070799006,{"$f":"ROUND(D67-C67,0)","v":0}]
[2278,"Bethersden Primary School",45251.199999999997,45251.201822115661,0]
[2279,"Brook Community Primary School",35914.99,35914.989106398447,0]
[2280,"Challock Primary School",66606.039999999994,66606.040733051341,0]
[2282,"Great Chart Primary School",155741.23000000001,155741.23083667364,0]
[2285,"Mersham Primary School",64812.04,64812.037163075925,0]
[2289,"Smeeth Community Primary School",43870.92,43870.918115969143,0]
[2296,"Mundella Primary School",202718.52,202718.5154751371,0]
[2298,"Hawkinge Primary School",202395.08,202395.07589838948,0]
[2300,"Sellindge Primary School",40568.949999999997,40568.947346568617,0]
[2312,"River Primary School",193228.38,193228.37963948338,0]
[2318,"Langdon Primary School",37785.199999999997,37785.19774253443,0]
[2320,"Eythorne Elvington Community Primary School",75620.77,75620.76843509193,0]
[2321,"Lydden Primary School",24338.73,24338.726007008143,0]
[2322,"Preston Primary School",49954.89,49954.892029791161,0]
[2326,"Wingham Primary School",70896.25,70896.247536140727,0]
[2327,"Worth Primary School",36826.519999999997,36826.524569651869,0]
[2328,"St Mildred's Primary Infant School",129162.84,129162.83744627766,0]
[2329,"Callis Grange Nursery & Infant School",123701.97,123701.96905337671,0]
[2337,"St Crispin's Community Primary Infant School",113541.46,113541.46360636437,0]
[2340,"Ellington Infant School",116161.74,116161.73824515601,0]
[2345,"Priory Infant School",169521.22,169521.2228921052,0]
[2431,"Shears Green Junior School",237971.31,237971.31065970406,0]
[2434,"West Minster Primary School",407052.42,407052.41576223,0]
[2454,"Aycliffe Community Primary School",95093.99,95093.990800189102,0]
[2459,"Riverhead Infant School",60775.32,60775.320476664398,0]
[2465,"Claremont Primary School",105723.23,105723.2275266222,0]
[2471,"Whitfield Aspen School",367275.94,367275.93558929831,0]
[2474,"St Paul's Infant School",172192.88,172192.87940673923,0]
[2482,"Langton Green Primary School",91688.26,91688.256500795935,0]
[2490,"Bishops Down Primary School",85343.28,85343.28184363847,0]
[2509,"Singlewell Primary School",175474.91,175474.91132957936,0]
[2510,"Cheriton Primary School",235002.73,235002.73222704924,0]
[2514,"Brookfield Infant School",89051.81,89051.813705884619,0]
[2519,"Vigo Village School",72658.759999999995,72658.762545067497,0]
[2520,"Madginford Primary School",202753.14,202753.13864788826,0]
[2524,"Palmarsh Primary School",91278.23,91278.230757790167,0]
[2525,"Painters Ash Primary School",221832.55,221832.55041247729,0]
[2530,"Tunbury Primary School",154287.53,154287.53478112922,0]
[2532,"St Margaret's-at-Cliffe Primary School",62593.37,62593.367048373926,0]
[2534,"Bysing Wood Primary School",155688.85,155688.84702126635,0]
[2539,"Stocks Green Primary School",42763.99,42763.991082794557,0]
[2545,"Sandgate Primary School",136348.75,136348.75190820405,0]
[2552,"Sandling Primary School",119323.06,119323.05625597724,0]
[2559,"Capel-le-Ferne Primary School",94394.85,94394.851870744358,0]
[2562,"Lunsford Primary School",73860.479999999996,73860.479345210304,0]
[2569,"Briary Primary School",195400.28,195400.27722014344,0]
[2574,"Downs View Infant School",121990.54,121990.53500010466,0]
[2578,"Kingswood Primary School",34593.800000000003,34593.804097202606,0]
[2586,"Senacre Wood Primary School",150437.96,150437.96436730798,0]
[2603,"Bromstone Primary School, Broadstairs",349120.1,349120.10449443699,0]
[2607,"Parkside Community Primary School",113767.19,113767.19475900117,0]
[2611,"St Stephen's Infant School",212184.76,212184.76248020428,0]
[2615,"High Firs Primary School",114763.25,114763.24700195191,0]
[2626,"Sandwich Infant School",70509.53,70509.529009629056,0]
[2627,"Sandwich Junior School",92819.23,92819.233119143668,0]
[2629,"Holywell Primary School Upchurch",65814.78,65814.775070079952,0]
[2632,"Sevenoaks Primary School",186834.09,186834.08912885768,0]
[2643,"Swalecliffe Community Primary School",209430.34,209430.33673426392,0]
[2648,"Aylesham Primary School",221879.62,221879.6154942562,0]
[2651,"Broadwater Down Primary School",103828.66,103828.66276730958,0]
[2653,"West Borough Primary School",216585.02,216585.02450429654,0]
[2662,"Long Mead Community Primary School",99859.06,99859.058813768206,0]
[2672,"Palm Bay Primary School",201684.15,201684.14635092355,0]
[2674,"King's Farm Primary School",336881.75,336881.75019788434,{"$f":"ROUND(D131-C131,0)","v":0}]
[2680,"Kings Hill School",136525.1,136525.10279688225,0]
[2682,"New Ash Green Primary School",185365.07,185365.06656771939,0]
[2689,"Craylands School, The",198717.26,198717.25832953383,0]
[2692,"Churchill School, The",171000.7,171000.70462432702,0]
[3010,"St Paul's CEP School",40212.480000000003,40212.480046855788,0]
[3015,"Fawkham CEP School",29161.11,29161.109922517542,0]
[3020,"Sedley's CEP School",45275.8,45275.802620128627,0]
[3022,"Benenden CEP School",62130.98,62130.975246301532,0]
[3023,"Bidborough CEP School",73654.66,73654.655791259429,0]
[3027,"Cranbrook CEP School",73236.149999999994,73236.151391354913,0]
[3029,"Goudhurst & Kilndown CEP School",44180.4,44180.395330627143,0]
[3032,"Hawkhurst CEP School",98520.99,98520.99049762603,0]
[3033,"Hildenborough CEP School",59220.14,59220.138322695835,0]
[3034,"Lamberhurst St Mary's CEP School",55660.28,55660.276158276778,0]
[3035,"Seal CEP School",110550.31,110550.30833706552,0]
[3037,"St John's CEP School, Sevenoaks",65991.149999999994,65991.144957276541,0]
[3042,"Speldhurst CEP School",31583.79,31583.788200842315,0]
[3043,"Sundridge & Brasted CEP School",32994.97,32994.972316493695,0]
[3050,"St John's CEP School",258242.24,258242.24437349901,0]
[3052,"St Mark's CEP School",181595.16,181595.15625745809,0]
[3053,"St Peter's CEP School",50325.18,50325.178274665486,0]
[3054,"Crockham Hill CEP School",51056.24,51056.23677912524,0]
[3055,"Churchill CEP School",69943.5,69943.503700412621,0]
[3057,"St Peter's CEP School",72162.720000000001,72162.722286224656,0]
[3061,"Bredhurst CEP School",46929.23,46929.227791604048,0]
[3062,"Burham CEP School",67657.61,67657.614821400333,0]
[3067,"Harrietsham CEP School",82252.67,82252.672622292317,0]
[3069,"Leeds & Broomfield CEP School",27072.37,27072.367882845454,0]
[3072,"St Michael's CEJ School, Maidstone",76656.649999999994,76656.652254799235,0]
[3073,"St Michael's CEI School, Maidstone",61931.12,61931.123543716967,0]
[3081,"Thurnham CEI School",69187.600000000006,69187.598257008169,0]
[3082,"Trottiscliffe CEP School",28209.24,28209.238807726568,0]
[3083,"Ulcombe CEP School",50157.14,50157.144624135937,0]
[3084,"Wateringbury CEP School",74058.89,74058.894480776798,0]
[3088,"Wouldham, All Saint's CEP School",168886.77,168886.76504506089,0]
[3089,"St George's CEP School",90923.71,90923.714427466184,0]
[3090,"St Margaret's CEP School, Collier Street",68158.759999999995,68158.75958925522,0]
[3091,"Laddingford St Mary's CEP School",36591.760000000002,36591.758668546645,0]
[3092,"Yalding St Peter & St Paul CEP School",50875.44,50875.438136893172,0]
[3106,"Eastchurch CEP School",348980.17,348980.17181751115,0]
[3108,"Ospringe CEP School",136202.21,136202.21411908272,0]
[3109,"Hernhill CEP School",73740.17,73740.173999876119,0]
[3111,"Newington CEP School",90699.51,90699.510802849181,0]
[3117,"Teynham Parochial CEP School",135561.26,135561.26204957312,0]
[3120,"Barham CEP School",71122.399999999994,71122.396156737028,0]
[3122,"Bridge & Patrixbourne CEP School",100335.12,100335.12279940186,0]
[3123,"Chislet CEP School",45257.26,45257.25873700816,0]
[3126,"Littlebourne CEP School",60219.01,60219.012138258113,0]
[3129,"St Alphege CEI School",76235.429999999993,76235.434451336638,0]
[3130,"Wickhambreaux CEP School",28575.88,28575.884239390867,0]
[3134,"John Mayne CEP School",37845.26,37845.259940039869,0]
[3136,"Brabourne CEP School",34623.089999999997,34623.089752064545,0]
[3137,"Brookland CEP School",44130.76,44130.764264067991,0]
[3138,"Chilham St Mary's CEP School",37916.53,37916.533412761593,0]
[3139,"High Halden CEP School",34307.4,34307.397238508638,0]
[3145,"Woodchurch CEP School",71322.100000000006,71322.100169920654,0]
[3146,"Bodsham CEP School",17432.32,17432.318554539728,0]
[3149,"St Martin's CEP School, Folkestone",79355.22,79355.218532663319,0]
[3150,"St Peter's CEP School, Folkestone",107713.36,107713.35680743096,0]
[3153,"Seabrook CEP School",39737.79,39737.785915530563,0]
[3154,"Lyminge CEP School",43631.63,43631.633728710898,0]
[3155,"Lympne CEP School",77277.850000000006,77277.852204681607,0]
[3158,"Stelling Minnis CEP School",34500.410000000003,34500.406250449021,0]
[3159,"Stowting CEP School",29970.240000000002,29970.236735579532,{"$f":"ROUND(D195-C195,0)","v":0}]
[3160,"Selsted CEP School",37491.89,37491.894104393788,0]
[3167,"Eastry CEP School",86143.51,86143.513867005138,0]
[3168,"Goodnestone CEP School",26249.43,26249.426847722432,0]
[3169,"Guston CEP School",89530.33,89530.328207008148,0]
[3171,"Nonington CEP School",38800.15,38800.151326205734,0]
[3173,"Kingsdown & Ringwould CEP School",44428.76,44428.76407176059,0]
[3175,"Sibertswold CEP School",62910.13,62910.134048894251,0]
[3178,"Birchington CEP School",229935.03,229935.02814365341,0]
[3179,"Holy Trinity & St John's CEP School, Margate",473533.85,473533.84680202458,0]
[3181,"St Saviour's CEJ School",166706.39000000001,166706.38631418196,0]
[3182,"Minster CEP School",167470.15,167470.14990521094,0]
[3183,"Monkton CEP School",46010.080000000002,46010.075107287259,0]
[3186,"St Nicholas at Wade CEP School",68705.73,68705.731532909587,0]
[3198,"Frittenden CEP School",35799.81,35799.807352452088,0]
[3199,"Egerton CEP School",68682.52,68682.517657360935,0]
[3201,"St Lawrence CEP School",35650.9,35650.904441063773,0]
[3282,"Boughton-under-Blean & Dunkirk Primary School",97035.93,97035.928790011967,0]
[3284,"Lady Joanna Thornhill (Endowed) Primary School",100842.43,100842.4313946308,0]
[3289,"St Peter's Methodist Primary School, Canterbury",131074.43,131074.43379349174,0]
[3294,"St Matthew's High Brooms CEP School",211808.27,211808.27173033939,0]
[3295,"Herne CEI School",82197.259999999995,82197.257307287466,0]
[3296,"Langafel CEP School",168038.21,168038.21485545198,0]
[3297,"Southborough CEP School",172188.5,172188.50421946374,0]
[3298,"West Kingsdown C.E. (V.C.) Primary School",50265.01,50265.00816363452,0]
[3299,"John Wesley Primary School",270886.11,270886.10573352524,0]
[3303,"St Katharine's Knockholt CEP School",74086.22,74086.222373024837,0]
[3307,"Chevening (St Botolph's) CEP School",51227.87,51227.866576342785,0]
[3308,"Colliers Green CEP School",29179.89,29179.890229230394,0]
[3309,"Sissinghurst CEP School",56329.66,56329.65600071261,0]
[3312,"Hever CEP School",62657.99,62657.989003387585,0]
[3314,"Penshurst CEP School",27390.58,27390.577793309119,0]
[3317,"Lady Boswell's CEP School, Sevenoaks",78516.44,78516.442447404203,0]
[3318,"Ide Hill CEP School",40097.4,40097.397392626983,0]
[3320,"St Barnabas CEP School",115595.9,115595.90110852734,0]
[3322,"St James' Church of England Voluntary Aided Primary School",208904.72,208904.7213596245,0]
[3323,"Hunton CEP School",29800.49,29800.492023371789,0]
[3325,"Platt CEP School",52964.72,52964.718885920491,0]
[3328,"Bapchild & Tonge CEP School",94914.84,94914.84359152602,0]
[3332,"Hartlip Endowed CEP School",38885.82,38885.823412414145,0]
[3337,"Tunstall CEP School",93706.03,93706.02856339053,0]
[3338,"Herne CEJ School",119279.26,119279.26053877232,0]
[3339,"Whitstable & Seasalter Endowed CEJ School",71645.850000000006,71645.85273835792,0]
[3340,"St Mary's CEP School, Ashford",243961.55,243961.54748881049,0]
[3346,"Wittersham CEP School",60489.89,60489.891063883864,0]
[3347,"Elham CEP School",46963.91,46963.905845886868,0]
[3350,"Saltwood CEP School",63704.37,63704.367102129021,0]
[3351,"Ash Cartwright and Kelsey CEP School",60001.71,60001.710764136486,0]
[3356,"St Mary's CEP School, Dover",170100.55,170100.54846046914,0]
[3360,"St Peter-in-Thanet CEJ School",167570.17000000001,167570.17031369029,0]
[3364,"Ramsgate, Holy Trinity CEP School",84927.32,84927.316093441186,0]
[3373,"St Mary's CEP School",173217.07,173217.06894030853,0]
[3718,"St Augustine's Catholic Primary School, Hythe",96783.46,96783.45507512831,0]
[3722,"St Ethelbert's Catholic Primary School, Ramsgate",146314.63,146314.63479831218,0]
[3728,"St Anselm's Catholic Primary School, Dartford",115642.12,115642.11925129659,0]
[3733,"Our Lady's Catholic Primary School, Dartford",100019.63,100019.63122293593,0]
[3749,"St Thomas' Catholic Primary School, Canterbury",146384.10999999999,146384.10678507833,0]
[3893,"Phoenix Community Primary School",156235.79999999999,156235.80328748561,0]
[3896,"Downsview Primary",139055.79999999999,139055.79951140092,0]
[3898,"Greenfields Community Primary School",224432.54,224432.53756730224,0]
[3902,"Hythe Bay C of E Primary School",228702.92,228702.92033114418,0]
[3904,"Castle Hill Community Primary School",372768.12,372768.1180623385,0]
[3906,"Palace Wood Primary School",168769.74,168769.73758854065,0]
[3907,"Hextable Primary School",231041.18,231041.17660628576,0]
[3909,"Ashford Oaks Community Primary School",388301.72,388301.71889029979,{"$f":"ROUND(D259-C259,0)","v":0}]
[3910,"Joy Lane Primary School",289762.64,289762.64125981386,0]
[3913,"Rusthall, St Paul's CE VA School",76326.100000000006,76326.103499769131,0]
[3916,"Green Park Community Primary School",322587.75,322587.74944824952,0]
[3917,"Garlinge Primary School",558604.18000000005,558604.18477569474,0]
[3918,"Newington Community Primary School and Nursery",415284.23,415284.23294038023,0]
[3920,"Goat Lees Primary School",136794.17000000001,136794.17241939987,0]
[4026,"Dartford Science and Technology College",523664.62,523664.61877891008,0]
[4040,"Northfleet School for Girls",802119.6,802119.59799616924,0]
[4043,"Tunbridge Wells Girls' Grammar School",48950.34,48950.33712320734,0]
[4045,"Tunbridge Wells Grammar School for Boys",119563.94,119563.93548401659,0]
[4065,"Holmesdale School, The",456219.25,456219.24883483566,0]
[4109,"Dover Grammar School for Girls",229577.1,229577.09805045373,0]
[4246,"North School, The",879338.81,879338.80694674142,0]
[4522,"Maidstone Grammar School",114684.21,114684.21036241317,0]
[4523,"Maidstone Grammar School for Girls",139219.47,139219.4701268569,0]
[4534,"Simon Langton Girls' Grammar School",140777.64000000001,140777.64042877185,0]
[4622,"Judd School, The",63181.9,63181.901913648879,0]
[5200,"Snodland CEP School",214883.28,214883.27672060757,0]
[5201,"Borough Green Primary School",113091.09,113091.08702881374,0]
[5202,"Holy Trinity CEP School",335763.72,335763.72338917915,0]
[5203,"Roseacre Junior School",115173.7,115173.6971327029,0]
[5206,"Herne Bay Junior School",294069.90999999997,294069.90519589157,0]
[5207,"St Francis' Catholic Primary School, Maidstone",188493.98,188493.98036101076,0]
[5208,"Ditton CEJ School",112818.23,112818.22721271648,0]
[5212,"Ditton Infant School",71794.19,71794.194675085033,0]
[5213,"Holy Trinity CEP School, Dartford",205810.37,205810.37134387589,0]
[5214,"St Bartholomew's Catholic Primary School",233873.69,233873.68927762785,0]
[5218,"Greatstone Primary School",141601.81,141601.80516693273,0]
[5221,"Wincheap Foundation Primary School",262332.31,262332.31023294397,0]
[5223,"Brookfield Junior School, Larkfield",114740.71,114740.71400567025,0]
[5225,"Harcourt Primary School",109604.54,109604.54006149282,0]
[5226,"Willesborough Junior School",258410.76,258410.76461075194,0]
[5229,"Fleetdown Primary School",235478.24,235478.23969006207,0]
[5407,"Thamesview School",892247.16,892247.16489790985,0]
[5410,"Aylesford School - Sports College",508985.29,508985.29333416367,0]
[5412,"Simon Langton Grammar School for Boys",92761.2,92761.197412994603,0]
[5425,"Malling School, The",691940.56,691940.55705765216,0]
[5426,"Archbishop's School, The",522643.57,522643.56839024468,0]
[5431,"Hugh Christie School",651964.04,651964.04038194194,0]
[5447,"St George's CE Foundation School",1183439.53,1183439.5312211725,0]
[5456,"Northfleet Technology College",813617.78,813617.78006134194,0]
[5459,"Dover Grammar School for Boys",254625.35,254625.35303668043,0]
[5461,"St John's Catholic Comprehensive School",945427.68,945427.67911249539,0]
[5468,"Royal Harbour Academy, The",1118594,1118594.0039759823,0]

{"sheet":"SRP Year 1","index":14,"n_rows":195,"n_cols":32,"rows_kept":195,"cut":false,"hidden":false,"merged":[[50,1,51,7],[22,6,24,6],[23,7,24,7],[23,4,24,5],[72,3,73,3],[53,3,54,3],[53,5,54,5],[53,6,54,6],[39,1,40,1],[25,1,25,4],[73,4,73,5],[11,1,12,7],[5,2,5,8],[7,2,7,8],[35,1,36,1],[15,4,15,5],[16,1,16,4],[74,4,74,5],[75,4,75,5],[76,4,76,5],[77,4,77,5],[78,4,78,5],[84,4,84,5],[85,4,85,5],[79,4,79,5],[80,4,80,5],[81,4,81,5],[82,4,82,5],[83,4,83,5]]}
[]
[null,null,null,null,null,null,null,{"$f":"Year1DfE","v":0}]
[]
[]
[]
[null,null,{"$f":"schoolname","v":""}]
[]
[null,null,"High Needs funding in a Specialist Resourced Provision (SRP) - Place Plus "]
[]
[null,"2020/21 Place Funding",null,null,null,null,null,null,null,null,"2020/21 Element 3 Input (top-up funding)"]
[]
[null,null,null,null,null,null,null,null,null,null,"Pupils should only be recorded on this sheet where the School is named on the pupils Education Health Care Plan (EHCP)"]
[null,null,null,null,null,null,null,null,null,null,"SRP funding agreed with other local authorities for pupils they have placed should be entered on Budget Preparation"]
[null,"Element 1",null,null,null,null,null,null,null,null,"A designation must always be selected.  Apart from one school with two SRPs the designation will always be 1."]
[null,"*Element 1 only paid if place numbers greater than actual pupils on roll as at Oct'19 census. "]
[null,null,null,null,"Commissioned \nPlaces",null,"Places included in formula budget","Places to be Funded",null,null,"Designation","Pupil Surname","Pupil Forename","D.O.B","Pre/Post 16\nSUMMER","Pre/Post 16 WINTER","Placement START Date","Placement END Date","Monthly Rate","April\n(March Pupils)","May\n(April Pupils)","June\n(May Pupils)","July\n(June Pupils)","August\n(July Pupils)","September\n(July Pupils)","October\n(September Pupils)","November\n(October Pupils)","December\n(November Pupils)","January\n(December Pupils)","February\n(January Pupils)","March\n(February Pupils)","Total For Pupil"]
[null,"Academic Year 2019/20",null,null,null,{"$f":"IFERROR(IF(VLOOKUP(H2,'SRP Rates'!B:AM,35,0)=\"Academy\",\"ESFA\",SUMIF('SRP Rates'!B:B,H2,'SRP Rates'!AJ:AJ)),0)","v":0},{"$f":"IFERROR(IF(VLOOKUP(H2,'SRP Rates'!B:AM,35,0)=\"Academy\",\"ESFA\",SUMIF('SRP Rates'!B:B,H2,'SRP Rates'!AL:AL)),0)","v":0},{"$f":"IFERROR(IF(G17>F17,0,F17-G17),0)","v":0},null,null,null,null,null,null,{"$f":"IF(N17=0,\"\",IF(N17<DATE(2003,9,1),\"Post-16\",\"Pre-16\"))","v":""},{"$f":"IF(N17=0,\"\",IF(N17<DATE(2004,9,1),\"Post-16\",\"Pre-16\"))","v":""},null,null,{"$f":"IFERROR(IF(K17=\"Designation 2\",VLOOKUP($H$2&\"B\",'SRP Rates'!A:AH,34,0),IF(K17=\"designation 1\",VLOOKUP($H$2&\"A\",'SRP Rates'!A:AH,34,0),0)),0)","v":0},{"$f":"IF(OR(Q17>DATE(2020,3,31),R17<DATE(2020,3,1)),0,S17)","v":0},{"$f":"IF(OR(Q17>DATE(2020,4,30),R17<DATE(2020,4,1)),0,S17)","v":0},{"$f":"IF(OR(Q17>DATE(2020,5,31),R17<DATE(2020,5,1)),0,S17)","v":0},{"$f":"IF(OR(Q17>DATE(2020,6,30),R17<DATE(2020,6,1)),0,S17)","v":0},{"$f":"IF(OR(Q17>DATE(2020,7,31),R17<DATE(2020,7,1)),0,S17)","v":0},{"$f":"IF(OR(Q17>DATE(2020,7,31),R17<DATE(2020,7,1)),0,S17)","v":0},{"$f":"IF(OR(Q17>DATE(2020,9,30),R17<DATE(2020,9,1)),0,S17)","v":0},{"$f":"IF(OR(Q17>DATE(2020,10,31),R17<DATE(2020,10,1)),0,S17)","v":0},{"$f":"IF(OR(Q17>DATE(2020,11,30),R17<DATE(2020,11,1)),0,S17)","v":0},{"$f":"IF(OR(Q17>DATE(2020,12,31),R17<DATE(2020,12,1)),0,S17)","v":0},{"$f":"IF(OR(Q17>DATE(2021,1,31),R17<DATE(2021,1,1)),0,S17)","v":0},{"$f":"IF(OR(Q17>DATE(2021,2,28),R17<DATE(2021,2,1)),0,S17)","v":0},{"$f":"SUM(T17:AE17)","v":0}]
[null,null,null,null,null,null,null,null,null,null,null,null,null,null,{"$f":"IF(N18=0,\"\",IF(N18<DATE(2003,9,1),\"Post-16\",\"Pre-16\"))","v":""},{"$f":"IF(N18=0,\"\",IF(N18<DATE(2004,9,1),\"Post-16\",\"Pre-16\"))","v":""},null,null,{"$f":"IFERROR(IF(K18=\"Designation 2\",VLOOKUP($H$2&\"B\",'SRP Rates'!A:AH,34,0),IF(K18=\"designation 1\",VLOOKUP($H$2&\"A\",'SRP Rates'!A:AH,34,0),0)),0)","v":0},{"$f":"IF(OR(Q18>DATE(2020,3,31),R18<DATE(2020,3,1)),0,S18)","v":0},{"$f":"IF(OR(Q18>DATE(2020,4,30),R18<DATE(2020,4,1)),0,S18)","v":0},{"$f":"IF(OR(Q18>DATE(2020,5,31),R18<DATE(2020,5,1)),0,S18)","v":0},{"$f":"IF(OR(Q18>DATE(2020,6,30),R18<DATE(2020,6,1)),0,S18)","v":0},{"$f":"IF(OR(Q18>DATE(2020,7,31),R18<DATE(2020,7,1)),0,S18)","v":0},{"$f":"IF(OR(Q18>DATE(2020,7,31),R18<DATE(2020,7,1)),0,S18)","v":0},{"$f":"IF(OR(Q18>DATE(2020,9,30),R18<DATE(2020,9,1)),0,S18)","v":0},{"$f":"IF(OR(Q18>DATE(2020,10,31),R18<DATE(2020,10,1)),0,S18)","v":0},{"$f":"IF(OR(Q18>DATE(2020,11,30),R18<DATE(2020,11,1)),0,S18)","v":0},{"$f":"IF(OR(Q18>DATE(2020,12,31),R18<DATE(2020,12,1)),0,S18)","v":0},{"$f":"IF(OR(Q18>DATE(2021,1,31),R18<DATE(2021,1,1)),0,S18)","v":0},{"$f":"IF(OR(Q18>DATE(2021,2,28),R18<DATE(2021,2,1)),0,S18)","v":0},0]
[null,null,null,null,null,null,null,null,null,null,null,null,null,null,"","",null,null,{"$f":"IFERROR(IF(K19=\"Designation 2\",VLOOKUP($H$2&\"B\",'SRP Rates'!A:AH,34,0),IF(K19=\"designation 1\",VLOOKUP($H$2&\"A\",'SRP Rates'!A:AH,34,0),0)),0)","v":0},0,0,0,0,0,0,0,0,0,0,0,0,0]
[null,null,null,null,null,null,"Rate",1667,null,null,null,null,null,null,"","",null,null,{"$f":"IFERROR(IF(K20=\"Designation 2\",VLOOKUP($H$2&\"B\",'SRP Rates'!A:AH,34,0),IF(K20=\"designation 1\",VLOOKUP($H$2&\"A\",'SRP Rates'!A:AH,34,0),0)),0)","v":0},0,0,0,0,0,0,0,0,0,0,0,0,0]
[null,null,null,null,null,null,null,{"$f":"H17*H20","v":0},null,null,null,null,null,null,"","",null,null,{"$f":"IFERROR(IF(K21=\"Designation 2\",VLOOKUP($H$2&\"B\",'SRP Rates'!A:AH,34,0),IF(K21=\"designation 1\",VLOOKUP($H$2&\"A\",'SRP Rates'!A:AH,34,0),0)),0)","v":0},0,0,0,0,0,0,0,0,0,0,0,0,0]
[null,null,null,null,null,null,null,null,null,null,null,null,null,null,"","",null,null,{"$f":"IFERROR(IF(K22=\"Designation 2\",VLOOKUP($H$2&\"B\",'SRP Rates'!A:AH,34,0),IF(K22=\"designation 1\",VLOOKUP($H$2&\"A\",'SRP Rates'!A:AH,34,0),0)),0)","v":0},0,0,0,0,0,0,0,0,0,0,0,0,0]
[null,null,null,null,null,null,"Places included in formula budget",null,null,null,null,null,null,null,"","",null,null,{"$f":"IFERROR(IF(K23=\"Designation 2\",VLOOKUP($H$2&\"B\",'SRP Rates'!A:AH,34,0),IF(K23=\"designation 1\",VLOOKUP($H$2&\"A\",'SRP Rates'!A:AH,34,0),0)),0)","v":0},0,0,0,0,0,0,0,0,0,0,0,0,{"$f":"SUM(T23:AE23)","v":0}]
[null,null,null,null,"Commissioned \nPlaces",null,null,"Places to be Funded",null,null,null,null,null,null,"","",null,null,{"$f":"IFERROR(IF(K24=\"Designation 2\",VLOOKUP($H$2&\"B\",'SRP Rates'!A:AH,34,0),IF(K24=\"designation 1\",VLOOKUP($H$2&\"A\",'SRP Rates'!A:AH,34,0),0)),0)","v":0},0,0,0,0,0,0,0,0,0,0,0,0,0]
[null,null,null,null,null,null,null,null,null,null,null,null,null,null,"","",null,null,{"$f":"IFERROR(IF(K25=\"Designation 2\",VLOOKUP($H$2&\"B\",'SRP Rates'!A:AH,34,0),IF(K25=\"designation 1\",VLOOKUP($H$2&\"A\",'SRP Rates'!A:AH,34,0),0)),0)","v":0},0,0,0,0,0,0,0,0,0,0,0,0,0]
[null,"Academic Year 2020/21",null,null,null,{"$f":"IFERROR(IF(VLOOKUP(H2,'SRP Rates'!B:AM,35,0)=\"Academy\",\"ESFA\",SUMIF('SRP Rates'!B:B,H2,'SRP Rates'!AK:AK)),0)","v":0},{"$f":"IFERROR(IF(VLOOKUP(H2,'SRP Rates'!B:AM,35,0)=\"Academy\",\"ESFA\",SUMIF('SRP Rates'!B:B,H2,'SRP Rates'!AL:AL)),0)","v":0},{"$f":"IFERROR(IF(G26>F26,0,F26-G26),0)","v":0},null,null,null,null,null,null,"","",null,null,{"$f":"IFERROR(IF(K26=\"Designation 2\",VLOOKUP($H$2&\"B\",'SRP Rates'!A:AH,34,0),IF(K26=\"designation 1\",VLOOKUP($H$2&\"A\",'SRP Rates'!A:AH,34,0),0)),0)","v":0},0,0,0,0,0,0,0,0,0,0,0,0,0]
[null,null,null,null,null,null,null,null,null,null,null,null,null,null,"","",null,null,{"$f":"IFERROR(IF(K27=\"Designation 2\",VLOOKUP($H$2&\"B\",'SRP Rates'!A:AH,34,0),IF(K27=\"designation 1\",VLOOKUP($H$2&\"A\",'SRP Rates'!A:AH,34,0),0)),0)","v":0},0,0,0,0,0,0,0,0,0,0,0,0,0]
[null,null,null,null,null,null,null,null,null,null,null,null,null,null,"","",null,null,{"$f":"IFERROR(IF(K28=\"Designation 2\",VLOOKUP($H$2&\"B\",'SRP Rates'!A:AH,34,0),IF(K28=\"designation 1\",VLOOKUP($H$2&\"A\",'SRP Rates'!A:AH,34,0),0)),0)","v":0},0,0,0,0,0,0,0,0,0,0,0,0,0]
[null,null,null,null,null,null,"Rate",2333,null,null,null,null,null,null,"","",null,null,{"$f":"IFERROR(IF(K29=\"Designation 2\",VLOOKUP($H$2&\"B\",'SRP Rates'!A:AH,34,0),IF(K29=\"designation 1\",VLOOKUP($H$2&\"A\",'SRP Rates'!A:AH,34,0),0)),0)","v":0},0,0,0,0,0,0,0,0,0,0,0,0,0]
[null,null,null,null,null,null,null,{"$f":"H26*H29","v":0},null,null,null,null,null,null,"","",null,null,{"$f":"IFERROR(IF(K30=\"Designation 2\",VLOOKUP($H$2&\"B\",'SRP Rates'!A:AH,34,0),IF(K30=\"designation 1\",VLOOKUP($H$2&\"A\",'SRP Rates'!A:AH,34,0),0)),0)","v":0},0,0,0,0,0,0,0,0,0,0,0,0,0]
[null,null,null,null,null,null,null,null,null,null,null,null,null,null,"","",null,null,{"$f":"IFERROR(IF(K31=\"Designation 2\",VLOOKUP($H$2&\"B\",'SRP Rates'!A:AH,34,0),IF(K31=\"designation 1\",VLOOKUP($H$2&\"A\",'SRP Rates'!A:AH,34,0),0)),0)","v":0},0,0,0,0,0,0,0,0,0,0,0,0,0]
[null,null,null,null,null,null,"Element 1 Total",{"$f":"SUM(H21+H30)","v":0},null,null,null,null,null,null,"","",null,null,{"$f":"IFERROR(IF(K32=\"Designation 2\",VLOOKUP($H$2&\"B\",'SRP Rates'!A:AH,34,0),IF(K32=\"designation 1\",VLOOKUP($H$2&\"A\",'SRP Rates'!A:AH,34,0),0)),0)","v":0},0,0,0,0,0,0,0,0,0,0,0,0,0]
[null,null,null,null,null,null,null,null,null,null,null,null,null,null,"","",null,null,{"$f":"IFERROR(IF(K33=\"Designation 2\",VLOOKUP($H$2&\"B\",'SRP Rates'!A:AH,34,0),IF(K33=\"designation 1\",VLOOKUP($H$2&\"A\",'SRP Rates'!A:AH,34,0),0)),0)","v":0},0,0,0,0,0,0,0,0,0,0,0,0,0]
[null,"Element 2",null,null,null,null,null,null,null,null,null,null,null,null,"","",null,null,{"$f":"IFERROR(IF(K34=\"Designation 2\",VLOOKUP($H$2&\"B\",'SRP Rates'!A:AH,34,0),IF(K34=\"designation 1\",VLOOKUP($H$2&\"A\",'SRP Rates'!A:AH,34,0),0)),0)","v":0},0,0,0,0,0,0,0,0,0,0,0,0,0]
[null,null,null,null,null,"Places","Rate","Total",null,null,null,null,null,null,"","",null,null,{"$f":"IFERROR(IF(K35=\"Designation 2\",VLOOKUP($H$2&\"B\",'SRP Rates'!A:AH,34,0),IF(K35=\"designation 1\",VLOOKUP($H$2&\"A\",'SRP Rates'!A:AH,34,0),0)),0)","v":0},0,0,0,0,0,0,0,0,0,0,0,0,0]
[null,"Pre-16","Apr to Aug",null,null,{"$f":"IFERROR(IF(VLOOKUP(H2,'SRP Rates'!B:AM,35,0)=\"Academy\",\"ESFA\",SUMIF('SRP Rates'!B:B,H2,'SRP Rates'!F:F)),0)","v":0},2500,{"$f":"IF(ISERROR(F36*G36),0,F36*G36)","v":0},null,null,null,null,null,null,"","",null,null,{"$f":"IFERROR(IF(K36=\"Designation 2\",VLOOKUP($H$2&\"B\",'SRP Rates'!A:AH,34,0),IF(K36=\"designation 1\",VLOOKUP($H$2&\"A\",'SRP Rates'!A:AH,34,0),0)),0)","v":0},0,0,0,0,0,0,0,0,0,0,0,0,0]
[null,null,"Sep to Mar",null,null,{"$f":"IFERROR(IF(VLOOKUP(H2,'SRP Rates'!B:AM,35,0)=\"Academy\",\"ESFA\",SUMIF('SRP Rates'!B:B,H2,'SRP Rates'!H:H)),0)","v":0},3500,{"$f":"IF(ISERROR(F37*G37),0,F37*G37)","v":0},null,null,null,null,null,null,"","",null,null,{"$f":"IFERROR(IF(K37=\"Designation 2\",VLOOKUP($H$2&\"B\",'SRP Rates'!A:AH,34,0),IF(K37=\"designation 1\",VLOOKUP($H$2&\"A\",'SRP Rates'!A:AH,34,0),0)),0)","v":0},0,0,0,0,0,0,0,0,0,0,0,0,0]
[null,null,null,null,null,null,{"$f":"SUM(G36:G37)","v":6000},{"$f":"SUM(H36:H37)","v":0},null,null,null,null,null,null,"","",null,null,{"$f":"IFERROR(IF(K38=\"Designation 2\",VLOOKUP($H$2&\"B\",'SRP Rates'!A:AH,34,0),IF(K38=\"designation 1\",VLOOKUP($H$2&\"A\",'SRP Rates'!A:AH,34,0),0)),0)","v":0},0,0,0,0,0,0,0,0,0,0,0,0,0]
[null,null,null,null,null,null,null,null,null,null,null,null,null,null,"","",null,null,{"$f":"IFERROR(IF(K39=\"Designation 2\",VLOOKUP($H$2&\"B\",'SRP Rates'!A:AH,34,0),IF(K39=\"designation 1\",VLOOKUP($H$2&\"A\",'SRP Rates'!A:AH,34,0),0)),0)","v":0},0,0,0,0,0,0,0,0,0,0,0,0,0]
[null,"Post-16","Apr to Jul",null,null,{"$f":"IFERROR(IF(VLOOKUP(H2,'SRP Rates'!B:AM,35,0)=\"Academy\",\"ESFA\",SUMIF('SRP Rates'!B:B,H2,'SRP Rates'!G:G)),0)","v":0},2000,{"$f":"IF(ISERROR(F40*G40),0,F40*G40)","v":0},null,null,null,null,null,null,"","",null,null,{"$f":"IFERROR(IF(K40=\"Designation 2\",VLOOKUP($H$2&\"B\",'SRP Rates'!A:AH,34,0),IF(K40=\"designation 1\",VLOOKUP($H$2&\"A\",'SRP Rates'!A:AH,34,0),0)),0)","v":0},0,0,0,0,0,0,0,0,0,0,0,0,0]
[null,null,"Aug to Mar",null,null,{"$f":"IFERROR(IF(VLOOKUP(H2,'SRP Rates'!B:AM,35,0)=\"Academy\",\"ESFA\",SUMIF('SRP Rates'!B:B,H2,'SRP Rates'!I:I)),0)","v":0},4000,{"$f":"IF(ISERROR(F41*G41),0,F41*G41)","v":0},null,null,null,null,null,null,"","",null,null,{"$f":"IFERROR(IF(K41=\"Designation 2\",VLOOKUP($H$2&\"B\",'SRP Rates'!A:AH,34,0),IF(K41=\"designation 1\",VLOOKUP($H$2&\"A\",'SRP Rates'!A:AH,34,0),0)),0)","v":0},0,0,0,0,0,0,0,0,0,0,0,0,0]
[null,null,null,null,null,null,{"$f":"SUM(G40:G41)","v":6000},{"$f":"SUM(H40:H41)","v":0},null,null,null,null,null,null,"","",null,null,{"$f":"IFERROR(IF(K42=\"Designation 2\",VLOOKUP($H$2&\"B\",'SRP Rates'!A:AH,34,0),IF(K42=\"designation 1\",VLOOKUP($H$2&\"A\",'SRP Rates'!A:AH,34,0),0)),0)","v":0},0,0,0,0,0,0,0,0,0,0,0,0,0]
[null,null,null,null,null,null,null,null,null,null,null,null,null,null,"","",null,null,{"$f":"IFERROR(IF(K43=\"Designation 2\",VLOOKUP($H$2&\"B\",'SRP Rates'!A:AH,34,0),IF(K43=\"designation 1\",VLOOKUP($H$2&\"A\",'SRP Rates'!A:AH,34,0),0)),0)","v":0},0,0,0,0,0,0,0,0,0,0,0,0,0]
[null,null,null,null,null,null,"Element 2 Total",{"$f":"H38+H42","v":0},null,null,null,null,null,null,"","",null,null,{"$f":"IFERROR(IF(K44=\"Designation 2\",VLOOKUP($H$2&\"B\",'SRP Rates'!A:AH,34,0),IF(K44=\"designation 1\",VLOOKUP($H$2&\"A\",'SRP Rates'!A:AH,34,0),0)),0)","v":0},0,0,0,0,0,0,0,0,0,0,0,0,0]
[null,null,null,null,null,null,null,null,null,null,null,null,null,null,"","",null,null,{"$f":"IFERROR(IF(K45=\"Designation 2\",VLOOKUP($H$2&\"B\",'SRP Rates'!A:AH,34,0),IF(K45=\"designation 1\",VLOOKUP($H$2&\"A\",'SRP Rates'!A:AH,34,0),0)),0)","v":0},0,0,0,0,0,0,0,0,0,0,0,0,0]
[null,null,null,null,null,null,null,null,null,null,null,null,null,null,"","",null,null,{"$f":"IFERROR(IF(K46=\"Designation 2\",VLOOKUP($H$2&\"B\",'SRP Rates'!A:AH,34,0),IF(K46=\"designation 1\",VLOOKUP($H$2&\"A\",'SRP Rates'!A:AH,34,0),0)),0)","v":0},0,0,0,0,0,0,0,0,0,0,0,0,0]
[null,null,null,null,null,null,null,null,null,null,null,null,null,null,"","",null,null,{"$f":"IFERROR(IF(K47=\"Designation 2\",VLOOKUP($H$2&\"B\",'SRP Rates'!A:AH,34,0),IF(K47=\"designation 1\",VLOOKUP($H$2&\"A\",'SRP Rates'!A:AH,34,0),0)),0)","v":0},0,0,0,0,0,0,0,0,0,0,0,0,0]
[null,null,null,null,null,null,null,null,null,null,null,null,null,null,"","",null,null,{"$f":"IFERROR(IF(K48=\"Designation 2\",VLOOKUP($H$2&\"B\",'SRP Rates'!A:AH,34,0),IF(K48=\"designation 1\",VLOOKUP($H$2&\"A\",'SRP Rates'!A:AH,34,0),0)),0)","v":0},0,0,0,0,0,0,0,0,0,0,0,0,0]
[null,null,null,null,null,null,null,null,null,null,null,null,null,null,"","",null,null,{"$f":"IFERROR(IF(K49=\"Designation 2\",VLOOKUP($H$2&\"B\",'SRP Rates'!A:AH,34,0),IF(K49=\"designation 1\",VLOOKUP($H$2&\"A\",'SRP Rates'!A:AH,34,0),0)),0)","v":0},0,0,0,0,0,0,0,0,0,0,0,0,0]
[null,"Excess Place Funding (Elements 1 & 2)",null,null,null,null,null,null,null,null,null,null,null,null,"","",null,null,{"$f":"IFERROR(IF(K50=\"Designation 2\",VLOOKUP($H$2&\"B\",'SRP Rates'!A:AH,34,0),IF(K50=\"designation 1\",VLOOKUP($H$2&\"A\",'SRP Rates'!A:AH,34,0),0)),0)","v":0},0,0,0,0,0,0,0,0,0,0,0,0,0]
[null,"Place funding is guaranteed for your commissioned number of places, no place funding will be deducted. Excess Place funding is only relevant where you exceed your commissioned places and will only ever be a positive amount.",null,null,null,null,null,null,null,null,null,null,null,null,"","",null,null,{"$f":"IFERROR(IF(K51=\"Designation 2\",VLOOKUP($H$2&\"B\",'SRP Rates'!A:AH,34,0),IF(K51=\"designation 1\",VLOOKUP($H$2&\"A\",'SRP Rates'!A:AH,34,0),0)),0)","v":0},0,0,0,0,0,0,0,0,0,0,0,0,0]
[null,null,null,null,null,null,null,null,null,null,null,null,null,null,"","",null,null,{"$f":"IFERROR(IF(K52=\"Designation 2\",VLOOKUP($H$2&\"B\",'SRP Rates'!A:AH,34,0),IF(K52=\"designation 1\",VLOOKUP($H$2&\"A\",'SRP Rates'!A:AH,34,0),0)),0)","v":0},0,0,0,0,0,0,0,0,0,0,0,0,0]
[null,null,null,null,null,null,null,null,null,null,null,null,null,null,"","",null,null,{"$f":"IFERROR(IF(K53=\"Designation 2\",VLOOKUP($H$2&\"B\",'SRP Rates'!A:AH,34,0),IF(K53=\"designation 1\",VLOOKUP($H$2&\"A\",'SRP Rates'!A:AH,34,0),0)),0)","v":0},0,0,0,0,0,0,0,0,0,0,0,0,0]
[null,"Excess Element 1",null,null,null,"Pre-16 Excess Pupil Numbers","Pre-16\nRate",null,null,null,null,null,null,null,"","",null,null,{"$f":"IFERROR(IF(K54=\"Designation 2\",VLOOKUP($H$2&\"B\",'SRP Rates'!A:AH,34,0),IF(K54=\"designation 1\",VLOOKUP($H$2&\"A\",'SRP Rates'!A:AH,34,0),0)),0)","v":0},0,0,0,0,0,0,0,0,0,0,0,0,0]
[null,null,null,null,null,null,null,"Total Funding",null,null,null,null,null,null,"","",null,null,{"$f":"IFERROR(IF(K55=\"Designation 2\",VLOOKUP($H$2&\"B\",'SRP Rates'!A:AH,34,0),IF(K55=\"designation 1\",VLOOKUP($H$2&\"A\",'SRP Rates'!A:AH,34,0),0)),0)","v":0},0,0,0,0,0,0,0,0,0,0,0,0,0]
[null,"April",null,null,null,{"$f":"$T$194","v":0},{"$f":"4000/12","v":333.33333333333331},{"$f":"F56*G56","v":0},null,null,null,null,null,null,"","",null,null,{"$f":"IFERROR(IF(K56=\"Designation 2\",VLOOKUP($H$2&\"B\",'SRP Rates'!A:AH,34,0),IF(K56=\"designation 1\",VLOOKUP($H$2&\"A\",'SRP Rates'!A:AH,34,0),0)),0)","v":0},0,0,0,0,0,0,0,0,0,0,0,0,0]
[null,"May",null,null,null,{"$f":"$U$194","v":0},{"$f":"4000/12","v":333.33333333333331},0,null,null,null,null,null,null,"","",null,null,{"$f":"IFERROR(IF(K57=\"Designation 2\",VLOOKUP($H$2&\"B\",'SRP Rates'!A:AH,34,0),IF(K57=\"designation 1\",VLOOKUP($H$2&\"A\",'SRP Rates'!A:AH,34,0),0)),0)","v":0},0,0,0,0,0,0,0,0,0,0,0,0,0]
[null,"June",null,null,null,{"$f":"$V$194","v":0},333.33333333333331,0,null,null,null,null,null,null,"","",null,null,{"$f":"IFERROR(IF(K58=\"Designation 2\",VLOOKUP($H$2&\"B\",'SRP Rates'!A:AH,34,0),IF(K58=\"designation 1\",VLOOKUP($H$2&\"A\",'SRP Rates'!A:AH,34,0),0)),0)","v":0},0,0,0,0,0,0,0,0,0,0,0,0,0]
[null,"July",null,null,null,{"$f":"$W$194","v":0},333.33333333333331,0,null,null,null,null,null,null,"","",null,null,{"$f":"IFERROR(IF(K59=\"Designation 2\",VLOOKUP($H$2&\"B\",'SRP Rates'!A:AH,34,0),IF(K59=\"designation 1\",VLOOKUP($H$2&\"A\",'SRP Rates'!A:AH,34,0),0)),0)","v":0},0,0,0,0,0,0,0,0,0,0,0,0,0]
[null,"August",null,null,null,{"$f":"$X$194","v":0},333.33333333333331,0,null,null,null,null,null,null,"","",null,null,{"$f":"IFERROR(IF(K60=\"Designation 2\",VLOOKUP($H$2&\"B\",'SRP Rates'!A:AH,34,0),IF(K60=\"designation 1\",VLOOKUP($H$2&\"A\",'SRP Rates'!A:AH,34,0),0)),0)","v":0},0,0,0,0,0,0,0,0,0,0,0,0,0]
[null,"September",null,null,null,{"$f":"$Y$194","v":0},333.33333333333331,0,null,null,null,null,null,null,"","",null,null,{"$f":"IFERROR(IF(K61=\"Designation 2\",VLOOKUP($H$2&\"B\",'SRP Rates'!A:AH,34,0),IF(K61=\"designation 1\",VLOOKUP($H$2&\"A\",'SRP Rates'!A:AH,34,0),0)),0)","v":0},0,0,0,0,0,0,0,0,0,0,0,0,0]
[null,"October",null,null,null,{"$f":"$Z$194","v":0},333.33333333333331,0,null,null,null,null,null,null,"","",null,null,{"$f":"IFERROR(IF(K62=\"Designation 2\",VLOOKUP($H$2&\"B\",'SRP Rates'!A:AH,34,0),IF(K62=\"designation 1\",VLOOKUP($H$2&\"A\",'SRP Rates'!A:AH,34,0),0)),0)","v":0},0,0,0,0,0,0,0,0,0,0,0,0,0]
[null,"November",null,null,null,{"$f":"$AA$194","v":0},333.33333333333331,0,null,null,null,null,null,null,"","",null,null,{"$f":"IFERROR(IF(K63=\"Designation 2\",VLOOKUP($H$2&\"B\",'SRP Rates'!A:AH,34,0),IF(K63=\"designation 1\",VLOOKUP($H$2&\"A\",'SRP Rates'!A:AH,34,0),0)),0)","v":0},0,0,0,0,0,0,0,0,0,0,0,0,0]
[null,"December",null,null,null,{"$f":"$AB$194","v":0},333.33333333333331,0,null,null,null,null,null,null,"","",null,null,{"$f":"IFERROR(IF(K64=\"Designation 2\",VLOOKUP($H$2&\"B\",'SRP Rates'!A:AH,34,0),IF(K64=\"designation 1\",VLOOKUP($H$2&\"A\",'SRP Rates'!A:AH,34,0),0)),0)","v":0},0,0,0,0,0,0,0,0,0,0,0,0,0]
[null,"January",null,null,null,{"$f":"$AC$194","v":0},333.33333333333331,0,null,null,null,null,null,null,"","",null,null,{"$f":"IFERROR(IF(K65=\"Designation 2\",VLOOKUP($H$2&\"B\",'SRP Rates'!A:AH,34,0),IF(K65=\"designation 1\",VLOOKUP($H$2&\"A\",'SRP Rates'!A:AH,34,0),0)),0)","v":0},0,0,0,0,0,0,0,0,0,0,0,0,0]
[null,"February",null,null,null,{"$f":"$AD$194","v":0},333.33333333333331,0,null,null,null,null,null,null,"","",null,null,{"$f":"IFERROR(IF(K66=\"Designation 2\",VLOOKUP($H$2&\"B\",'SRP Rates'!A:AH,34,0),IF(K66=\"designation 1\",VLOOKUP($H$2&\"A\",'SRP Rates'!A:AH,34,0),0)),0)","v":0},0,0,0,0,0,0,0,0,0,0,0,0,0]
[null,"March",null,null,null,{"$f":"$AE$194","v":0},333.33333333333331,0,null,null,null,null,null,null,"","",null,null,{"$f":"IFERROR(IF(K67=\"Designation 2\",VLOOKUP($H$2&\"B\",'SRP Rates'!A:AH,34,0),IF(K67=\"designation 1\",VLOOKUP($H$2&\"A\",'SRP Rates'!A:AH,34,0),0)),0)","v":0},0,0,0,0,0,0,0,0,0,0,0,0,0]
[null,null,null,null,null,null,null,{"$f":"SUM(H56:H67)","v":0},null,null,null,null,null,null,"","",null,null,{"$f":"IFERROR(IF(K68=\"Designation 2\",VLOOKUP($H$2&\"B\",'SRP Rates'!A:AH,34,0),IF(K68=\"designation 1\",VLOOKUP($H$2&\"A\",'SRP Rates'!A:AH,34,0),0)),0)","v":0},0,0,0,0,0,0,0,0,0,0,0,0,0]
[null,null,null,null,null,null,null,null,null,null,null,null,null,null,"","",null,null,{"$f":"IFERROR(IF(K69=\"Designation 2\",VLOOKUP($H$2&\"B\",'SRP Rates'!A:AH,34,0),IF(K69=\"designation 1\",VLOOKUP($H$2&\"A\",'SRP Rates'!A:AH,34,0),0)),0)","v":0},0,0,0,0,0,0,0,0,0,0,0,0,0]
[null,null,null,null,null,null,null,null,null,null,null,null,null,null,"","",null,null,{"$f":"IFERROR(IF(K70=\"Designation 2\",VLOOKUP($H$2&\"B\",'SRP Rates'!A:AH,34,0),IF(K70=\"designation 1\",VLOOKUP($H$2&\"A\",'SRP Rates'!A:AH,34,0),0)),0)","v":0},0,0,0,0,0,0,0,0,0,0,0,0,0]
[null,null,null,null,null,null,null,null,null,null,null,null,null,null,"","",null,null,{"$f":"IFERROR(IF(K71=\"Designation 2\",VLOOKUP($H$2&\"B\",'SRP Rates'!A:AH,34,0),IF(K71=\"designation 1\",VLOOKUP($H$2&\"A\",'SRP Rates'!A:AH,34,0),0)),0)","v":0},0,0,0,0,0,0,0,0,0,0,0,0,0]
[null,null,null,null,null,null,null,null,null,null,null,null,null,null,"","",null,null,{"$f":"IFERROR(IF(K72=\"Designation 2\",VLOOKUP($H$2&\"B\",'SRP Rates'!A:AH,34,0),IF(K72=\"designation 1\",VLOOKUP($H$2&\"A\",'SRP Rates'!A:AH,34,0),0)),0)","v":0},0,0,0,0,0,0,0,0,0,0,0,0,0]
[null,"Excess Element 2",null,null,null,null,null,null,null,null,null,null,null,null,"","",null,null,{"$f":"IFERROR(IF(K73=\"Designation 2\",VLOOKUP($H$2&\"B\",'SRP Rates'!A:AH,34,0),IF(K73=\"designation 1\",VLOOKUP($H$2&\"A\",'SRP Rates'!A:AH,34,0),0)),0)","v":0},0,0,0,0,0,0,0,0,0,0,0,0,0]
[null,null,null,null,"Excess Pupils",null,"Rate","Total Funding",null,null,null,null,null,null,"","",null,null,{"$f":"IFERROR(IF(K74=\"Designation 2\",VLOOKUP($H$2&\"B\",'SRP Rates'!A:AH,34,0),IF(K74=\"designation 1\",VLOOKUP($H$2&\"A\",'SRP Rates'!A:AH,34,0),0)),0)","v":0},0,0,0,0,0,0,0,0,0,0,0,0,0]
[null,"April",null,null,{"$f":"$T$195","v":0},null,{"$f":"6000/12","v":500},{"$f":"E75*G75","v":0},null,null,null,null,null,null,"","",null,null,{"$f":"IFERROR(IF(K75=\"Designation 2\",VLOOKUP($H$2&\"B\",'SRP Rates'!A:AH,34,0),IF(K75=\"designation 1\",VLOOKUP($H$2&\"A\",'SRP Rates'!A:AH,34,0),0)),0)","v":0},0,0,0,0,0,0,0,0,0,0,0,0,0]
[null,"May",null,null,{"$f":"$U$195","v":0},null,{"$f":"6000/12","v":500},0,null,null,null,null,null,null,"","",null,null,{"$f":"IFERROR(IF(K76=\"Designation 2\",VLOOKUP($H$2&\"B\",'SRP Rates'!A:AH,34,0),IF(K76=\"designation 1\",VLOOKUP($H$2&\"A\",'SRP Rates'!A:AH,34,0),0)),0)","v":0},0,0,0,0,0,0,0,0,0,0,0,0,0]
[null,"June",null,null,{"$f":"$V$195","v":0},null,500,0,null,null,null,null,null,null,"","",null,null,{"$f":"IFERROR(IF(K77=\"Designation 2\",VLOOKUP($H$2&\"B\",'SRP Rates'!A:AH,34,0),IF(K77=\"designation 1\",VLOOKUP($H$2&\"A\",'SRP Rates'!A:AH,34,0),0)),0)","v":0},0,0,0,0,0,0,0,0,0,0,0,0,0]
[null,"July",null,null,{"$f":"$W$195","v":0},null,500,0,null,null,null,null,null,null,"","",null,null,{"$f":"IFERROR(IF(K78=\"Designation 2\",VLOOKUP($H$2&\"B\",'SRP Rates'!A:AH,34,0),IF(K78=\"designation 1\",VLOOKUP($H$2&\"A\",'SRP Rates'!A:AH,34,0),0)),0)","v":0},0,0,0,0,0,0,0,0,0,0,0,0,0]
[null,"August",null,null,{"$f":"$X$195","v":0},null,500,0,null,null,null,null,null,null,"","",null,null,{"$f":"IFERROR(IF(K79=\"Designation 2\",VLOOKUP($H$2&\"B\",'SRP Rates'!A:AH,34,0),IF(K79=\"designation 1\",VLOOKUP($H$2&\"A\",'SRP Rates'!A:AH,34,0),0)),0)","v":0},0,0,0,0,0,0,0,0,0,0,0,0,0]
[null,"September",null,null,{"$f":"$Y$195","v":0},null,500,0,null,null,null,null,null,null,"","",null,null,{"$f":"IFERROR(IF(K80=\"Designation 2\",VLOOKUP($H$2&\"B\",'SRP Rates'!A:AH,34,0),IF(K80=\"designation 1\",VLOOKUP($H$2&\"A\",'SRP Rates'!A:AH,34,0),0)),0)","v":0},0,0,0,0,0,0,0,0,0,0,0,0,0]
[null,"October",null,null,{"$f":"$Z$195","v":0},null,500,0,null,null,null,null,null,null,"","",null,null,{"$f":"IFERROR(IF(K81=\"Designation 2\",VLOOKUP($H$2&\"B\",'SRP Rates'!A:AH,34,0),IF(K81=\"designation 1\",VLOOKUP($H$2&\"A\",'SRP Rates'!A:AH,34,0),0)),0)","v":0},0,0,0,0,0,0,0,0,0,0,0,0,0]
[null,"November",null,null,{"$f":"$AA$195","v":0},null,500,0,null,null,null,null,null,null,{"$f":"IF(N82=0,\"\",IF(N82<DATE(2003,9,1),\"Post-16\",\"Pre-16\"))","v":""},{"$f":"IF(N82=0,\"\",IF(N82<DATE(2004,9,1),\"Post-16\",\"Pre-16\"))","v":""},null,null,{"$f":"IFERROR(IF(K82=\"Designation 2\",VLOOKUP($H$2&\"B\",'SRP Rates'!A:AH,34,0),IF(K82=\"designation 1\",VLOOKUP($H$2&\"A\",'SRP Rates'!A:AH,34,0),0)),0)","v":0},{"$f":"IF(OR(Q82>DATE(2020,3,31),R82<DATE(2020,3,1)),0,S82)","v":0},{"$f":"IF(OR(Q82>DATE(2020,4,30),R82<DATE(2020,4,1)),0,S82)","v":0},{"$f":"IF(OR(Q82>DATE(2020,5,31),R82<DATE(2020,5,1)),0,S82)","v":0},{"$f":"IF(OR(Q82>DATE(2020,6,30),R82<DATE(2020,6,1)),0,S82)","v":0},{"$f":"IF(OR(Q82>DATE(2020,7,31),R82<DATE(2020,7,1)),0,S82)","v":0},{"$f":"IF(OR(Q82>DATE(2020,7,31),R82<DATE(2020,7,1)),0,S82)","v":0},{"$f":"IF(OR(Q82>DATE(2020,9,30),R82<DATE(2020,9,1)),0,S82)","v":0},{"$f":"IF(OR(Q82>DATE(2020,10,31),R82<DATE(2020,10,1)),0,S82)","v":0},{"$f":"IF(OR(Q82>DATE(2020,11,30),R82<DATE(2020,11,1)),0,S82)","v":0},{"$f":"IF(OR(Q82>DATE(2020,12,31),R82<DATE(2020,12,1)),0,S82)","v":0},{"$f":"IF(OR(Q82>DATE(2021,1,31),R82<DATE(2021,1,1)),0,S82)","v":0},{"$f":"IF(OR(Q82>DATE(2021,2,28),R82<DATE(2021,2,1)),0,S82)","v":0},{"$f":"SUM(T82:AE82)","v":0}]
[null,"December",null,null,{"$f":"$AB$195","v":0},null,500,0,null,null,null,null,null,null,"","",null,null,{"$f":"IFERROR(IF(K83=\"Designation 2\",VLOOKUP($H$2&\"B\",'SRP Rates'!A:AH,34,0),IF(K83=\"designation 1\",VLOOKUP($H$2&\"A\",'SRP Rates'!A:AH,34,0),0)),0)","v":0},0,0,0,0,0,0,0,0,0,0,0,0,0]
[null,"January",null,null,{"$f":"$AC$195","v":0},null,500,0,null,null,null,null,null,null,"","",null,null,{"$f":"IFERROR(IF(K84=\"Designation 2\",VLOOKUP($H$2&\"B\",'SRP Rates'!A:AH,34,0),IF(K84=\"designation 1\",VLOOKUP($H$2&\"A\",'SRP Rates'!A:AH,34,0),0)),0)","v":0},0,0,0,0,0,0,0,0,0,0,0,0,0]
[null,"February",null,null,{"$f":"$AD$195","v":0},null,500,0,null,null,null,null,null,null,"","",null,null,{"$f":"IFERROR(IF(K85=\"Designation 2\",VLOOKUP($H$2&\"B\",'SRP Rates'!A:AH,34,0),IF(K85=\"designation 1\",VLOOKUP($H$2&\"A\",'SRP Rates'!A:AH,34,0),0)),0)","v":0},0,0,0,0,0,0,0,0,0,0,0,0,0]
[null,"March",null,null,{"$f":"$AE$195","v":0},null,500,0,null,null,null,null,null,null,"","",null,null,{"$f":"IFERROR(IF(K86=\"Designation 2\",VLOOKUP($H$2&\"B\",'SRP Rates'!A:AH,34,0),IF(K86=\"designation 1\",VLOOKUP($H$2&\"A\",'SRP Rates'!A:AH,34,0),0)),0)","v":0},0,0,0,0,0,0,0,0,0,0,0,0,0]
[null,null,null,null,null,null,null,{"$f":"SUM(H75:H86)","v":0},null,null,null,null,null,null,"","",null,null,{"$f":"IFERROR(IF(K87=\"Designation 2\",VLOOKUP($H$2&\"B\",'SRP Rates'!A:AH,34,0),IF(K87=\"designation 1\",VLOOKUP($H$2&\"A\",'SRP Rates'!A:AH,34,0),0)),0)","v":0},0,0,0,0,0,0,0,0,0,0,0,0,0]
[null,null,null,null,null,null,null,null,null,null,null,null,null,null,"","",null,null,{"$f":"IFERROR(IF(K88=\"Designation 2\",VLOOKUP($H$2&\"B\",'SRP Rates'!A:AH,34,0),IF(K88=\"designation 1\",VLOOKUP($H$2&\"A\",'SRP Rates'!A:AH,34,0),0)),0)","v":0},0,0,0,0,0,0,0,0,0,0,0,0,0]
[null,null,null,null,null,null,null,null,null,null,null,null,null,null,"","",null,null,{"$f":"IFERROR(IF(K89=\"Designation 2\",VLOOKUP($H$2&\"B\",'SRP Rates'!A:AH,34,0),IF(K89=\"designation 1\",VLOOKUP($H$2&\"A\",'SRP Rates'!A:AH,34,0),0)),0)","v":0},0,0,0,0,0,0,0,0,0,0,0,0,0]
[null,null,null,null,null,null,null,null,null,null,null,null,null,null,"","",null,null,{"$f":"IFERROR(IF(K90=\"Designation 2\",VLOOKUP($H$2&\"B\",'SRP Rates'!A:AH,34,0),IF(K90=\"designation 1\",VLOOKUP($H$2&\"A\",'SRP Rates'!A:AH,34,0),0)),0)","v":0},0,0,0,0,0,0,0,0,0,0,0,0,0]
[null,"Element 3 Top-up Funding",null,null,null,"Summary",null,null,null,null,null,null,null,null,"","",null,null,{"$f":"IFERROR(IF(K91=\"Designation 2\",VLOOKUP($H$2&\"B\",'SRP Rates'!A:AH,34,0),IF(K91=\"designation 1\",VLOOKUP($H$2&\"A\",'SRP Rates'!A:AH,34,0),0)),0)","v":0},0,0,0,0,0,0,0,0,0,0,0,0,0]
[null,null,null,null,null,null,null,null,null,null,null,null,null,null,"","",null,null,{"$f":"IFERROR(IF(K92=\"Designation 2\",VLOOKUP($H$2&\"B\",'SRP Rates'!A:AH,34,0),IF(K92=\"designation 1\",VLOOKUP($H$2&\"A\",'SRP Rates'!A:AH,34,0),0)),0)","v":0},0,0,0,0,0,0,0,0,0,0,0,0,0]
[null,"April",{"$f":"SUM($T$17:$T$188)","v":0},null,null,"Place funding - E1",null,{"$f":"H32","v":0},null,null,null,null,null,null,"","",null,null,{"$f":"IFERROR(IF(K93=\"Designation 2\",VLOOKUP($H$2&\"B\",'SRP Rates'!A:AH,34,0),IF(K93=\"designation 1\",VLOOKUP($H$2&\"A\",'SRP Rates'!A:AH,34,0),0)),0)","v":0},0,0,0,0,0,0,0,0,0,0,0,0,0]
[null,"May",{"$f":"SUM($U$17:$U$188)","v":0},null,null,"Place funding - E2",null,{"$f":"H44","v":0},null,null,null,null,null,null,"","",null,null,{"$f":"IFERROR(IF(K94=\"Designation 2\",VLOOKUP($H$2&\"B\",'SRP Rates'!A:AH,34,0),IF(K94=\"designation 1\",VLOOKUP($H$2&\"A\",'SRP Rates'!A:AH,34,0),0)),0)","v":0},0,0,0,0,0,0,0,0,0,0,0,0,0]
[null,"June",{"$f":"SUM($V$17:$V$188)","v":0},null,null,"Excess place funding - E1",null,{"$f":"H68","v":0},null,null,null,null,null,null,"","",null,null,{"$f":"IFERROR(IF(K95=\"Designation 2\",VLOOKUP($H$2&\"B\",'SRP Rates'!A:AH,34,0),IF(K95=\"designation 1\",VLOOKUP($H$2&\"A\",'SRP Rates'!A:AH,34,0),0)),0)","v":0},0,0,0,0,0,0,0,0,0,0,0,0,0]
[null,"July",{"$f":"SUM($W$17:$W$188)","v":0},null,null,"Excess place funding - E2",null,{"$f":"H87","v":0},null,null,null,null,null,null,"","",null,null,{"$f":"IFERROR(IF(K96=\"Designation 2\",VLOOKUP($H$2&\"B\",'SRP Rates'!A:AH,34,0),IF(K96=\"designation 1\",VLOOKUP($H$2&\"A\",'SRP Rates'!A:AH,34,0),0)),0)","v":0},0,0,0,0,0,0,0,0,0,0,0,0,0]
[null,"August",{"$f":"SUM($X$17:$X$188)","v":0},null,null,"Element 3 top-up funding",null,{"$f":"srpelement3","v":0},null,null,null,null,null,null,"","",null,null,{"$f":"IFERROR(IF(K97=\"Designation 2\",VLOOKUP($H$2&\"B\",'SRP Rates'!A:AH,34,0),IF(K97=\"designation 1\",VLOOKUP($H$2&\"A\",'SRP Rates'!A:AH,34,0),0)),0)","v":0},0,0,0,0,0,0,0,0,0,0,0,0,0]
[null,"September",{"$f":"SUM($Y$17:$Y$188)","v":0},null,null,null,null,null,null,null,null,null,null,null,"","",null,null,{"$f":"IFERROR(IF(K98=\"Designation 2\",VLOOKUP($H$2&\"B\",'SRP Rates'!A:AH,34,0),IF(K98=\"designation 1\",VLOOKUP($H$2&\"A\",'SRP Rates'!A:AH,34,0),0)),0)","v":0},0,0,0,0,0,0,0,0,0,0,0,0,0]
[null,"October",{"$f":"SUM($Z$17:$Z$188)","v":0},null,null,"Total SRP funding 2020/21",null,{"$f":"SUM(H93:H97)","v":0},null,null,null,null,null,null,"","",null,null,{"$f":"IFERROR(IF(K99=\"Designation 2\",VLOOKUP($H$2&\"B\",'SRP Rates'!A:AH,34,0),IF(K99=\"designation 1\",VLOOKUP($H$2&\"A\",'SRP Rates'!A:AH,34,0),0)),0)","v":0},0,0,0,0,0,0,0,0,0,0,0,0,0]
[null,"November",{"$f":"SUM($AA$17:$AA$188)","v":0},null,null,null,null,null,null,null,null,null,null,null,"","",null,null,{"$f":"IFERROR(IF(K100=\"Designation 2\",VLOOKUP($H$2&\"B\",'SRP Rates'!A:AH,34,0),IF(K100=\"designation 1\",VLOOKUP($H$2&\"A\",'SRP Rates'!A:AH,34,0),0)),0)","v":0},0,0,0,0,0,0,0,0,0,0,0,0,0]
[null,"December",{"$f":"SUM($AB$17:$AB$188)","v":0},null,null,null,null,null,null,null,null,null,null,null,"","",null,null,{"$f":"IFERROR(IF(K101=\"Designation 2\",VLOOKUP($H$2&\"B\",'SRP Rates'!A:AH,34,0),IF(K101=\"designation 1\",VLOOKUP($H$2&\"A\",'SRP Rates'!A:AH,34,0),0)),0)","v":0},0,0,0,0,0,0,0,0,0,0,0,0,0]
[null,"January",{"$f":"SUM($AC$17:$AC$188)","v":0},null,null,null,null,null,null,null,null,null,null,null,"","",null,null,{"$f":"IFERROR(IF(K102=\"Designation 2\",VLOOKUP($H$2&\"B\",'SRP Rates'!A:AH,34,0),IF(K102=\"designation 1\",VLOOKUP($H$2&\"A\",'SRP Rates'!A:AH,34,0),0)),0)","v":0},0,0,0,0,0,0,0,0,0,0,0,0,0]
[null,"February",{"$f":"SUM($AD$17:$AD$188)","v":0},null,null,null,null,null,null,null,null,null,null,null,"","",null,null,{"$f":"IFERROR(IF(K103=\"Designation 2\",VLOOKUP($H$2&\"B\",'SRP Rates'!A:AH,34,0),IF(K103=\"designation 1\",VLOOKUP($H$2&\"A\",'SRP Rates'!A:AH,34,0),0)),0)","v":0},0,0,0,0,0,0,0,0,0,0,0,0,0]
[null,"March",{"$f":"SUM($AE$17:$AE$188)","v":0},null,null,null,null,null,null,null,null,null,null,null,"","",null,null,{"$f":"IFERROR(IF(K104=\"Designation 2\",VLOOKUP($H$2&\"B\",'SRP Rates'!A:AH,34,0),IF(K104=\"designation 1\",VLOOKUP($H$2&\"A\",'SRP Rates'!A:AH,34,0),0)),0)","v":0},0,0,0,0,0,0,0,0,0,0,0,0,0]
[null,null,{"$f":"SUM(C93:C104)","v":0},null,null,null,null,null,null,null,null,null,null,null,"","",null,null,{"$f":"IFERROR(IF(K105=\"Designation 2\",VLOOKUP($H$2&\"B\",'SRP Rates'!A:AH,34,0),IF(K105=\"designation 1\",VLOOKUP($H$2&\"A\",'SRP Rates'!A:AH,34,0),0)),0)","v":0},0,0,0,0,0,0,0,0,0,0,0,0,0]
[null,null,null,null,null,null,null,null,null,null,null,null,null,null,"","",null,null,{"$f":"IFERROR(IF(K106=\"Designation 2\",VLOOKUP($H$2&\"B\",'SRP Rates'!A:AH,34,0),IF(K106=\"designation 1\",VLOOKUP($H$2&\"A\",'SRP Rates'!A:AH,34,0),0)),0)","v":0},0,0,0,0,0,0,0,0,0,0,0,0,0]
[null,null,null,null,null,null,null,null,null,null,null,null,null,null,"","",null,null,{"$f":"IFERROR(IF(K107=\"Designation 2\",VLOOKUP($H$2&\"B\",'SRP Rates'!A:AH,34,0),IF(K107=\"designation 1\",VLOOKUP($H$2&\"A\",'SRP Rates'!A:AH,34,0),0)),0)","v":0},0,0,0,0,0,0,0,0,0,0,0,0,0]
[null,null,null,null,null,null,null,null,null,null,null,null,null,null,"","",null,null,{"$f":"IFERROR(IF(K108=\"Designation 2\",VLOOKUP($H$2&\"B\",'SRP Rates'!A:AH,34,0),IF(K108=\"designation 1\",VLOOKUP($H$2&\"A\",'SRP Rates'!A:AH,34,0),0)),0)","v":0},0,0,0,0,0,0,0,0,0,0,0,0,0]
[null,null,null,null,null,null,null,null,null,null,null,null,null,null,"","",null,null,{"$f":"IFERROR(IF(K109=\"Designation 2\",VLOOKUP($H$2&\"B\",'SRP Rates'!A:AH,34,0),IF(K109=\"designation 1\",VLOOKUP($H$2&\"A\",'SRP Rates'!A:AH,34,0),0)),0)","v":0},0,0,0,0,0,0,0,0,0,0,0,0,0]
[null,null,null,null,null,null,null,null,null,null,null,null,null,null,"","",null,null,{"$f":"IFERROR(IF(K110=\"Designation 2\",VLOOKUP($H$2&\"B\",'SRP Rates'!A:AH,34,0),IF(K110=\"designation 1\",VLOOKUP($H$2&\"A\",'SRP Rates'!A:AH,34,0),0)),0)","v":0},0,0,0,0,0,0,0,0,0,0,0,0,0]
[null,null,null,null,null,null,null,null,null,null,null,null,null,null,"","",null,null,{"$f":"IFERROR(IF(K111=\"Designation 2\",VLOOKUP($H$2&\"B\",'SRP Rates'!A:AH,34,0),IF(K111=\"designation 1\",VLOOKUP($H$2&\"A\",'SRP Rates'!A:AH,34,0),0)),0)","v":0},0,0,0,0,0,0,0,0,0,0,0,0,0]
[null,null,null,null,null,null,null,null,null,null,null,null,null,null,"","",null,null,{"$f":"IFERROR(IF(K112=\"Designation 2\",VLOOKUP($H$2&\"B\",'SRP Rates'!A:AH,34,0),IF(K112=\"designation 1\",VLOOKUP($H$2&\"A\",'SRP Rates'!A:AH,34,0),0)),0)","v":0},0,0,0,0,0,0,0,0,0,0,0,0,0]
[null,null,null,null,null,null,null,null,null,null,null,null,null,null,"","",null,null,{"$f":"IFERROR(IF(K113=\"Designation 2\",VLOOKUP($H$2&\"B\",'SRP Rates'!A:AH,34,0),IF(K113=\"designation 1\",VLOOKUP($H$2&\"A\",'SRP Rates'!A:AH,34,0),0)),0)","v":0},0,0,0,0,0,0,0,0,0,0,0,0,0]
[null,null,null,null,null,null,null,null,null,null,null,null,null,null,"","",null,null,{"$f":"IFERROR(IF(K114=\"Designation 2\",VLOOKUP($H$2&\"B\",'SRP Rates'!A:AH,34,0),IF(K114=\"designation 1\",VLOOKUP($H$2&\"A\",'SRP Rates'!A:AH,34,0),0)),0)","v":0},0,0,0,0,0,0,0,0,0,0,0,0,0]
[null,null,null,null,null,null,null,null,null,null,null,null,null,null,"","",null,null,{"$f":"IFERROR(IF(K115=\"Designation 2\",VLOOKUP($H$2&\"B\",'SRP Rates'!A:AH,34,0),IF(K115=\"designation 1\",VLOOKUP($H$2&\"A\",'SRP Rates'!A:AH,34,0),0)),0)","v":0},0,0,0,0,0,0,0,0,0,0,0,0,0]
[null,null,null,null,null,null,null,null,null,null,null,null,null,null,"","",null,null,{"$f":"IFERROR(IF(K116=\"Designation 2\",VLOOKUP($H$2&\"B\",'SRP Rates'!A:AH,34,0),IF(K116=\"designation 1\",VLOOKUP($H$2&\"A\",'SRP Rates'!A:AH,34,0),0)),0)","v":0},0,0,0,0,0,0,0,0,0,0,0,0,0]
[null,null,null,null,null,null,null,null,null,null,null,null,null,null,"","",null,null,{"$f":"IFERROR(IF(K117=\"Designation 2\",VLOOKUP($H$2&\"B\",'SRP Rates'!A:AH,34,0),IF(K117=\"designation 1\",VLOOKUP($H$2&\"A\",'SRP Rates'!A:AH,34,0),0)),0)","v":0},0,0,0,0,0,0,0,0,0,0,0,0,0]
[null,null,null,null,null,null,null,null,null,null,null,null,null,null,"","",null,null,{"$f":"IFERROR(IF(K118=\"Designation 2\",VLOOKUP($H$2&\"B\",'SRP Rates'!A:AH,34,0),IF(K118=\"designation 1\",VLOOKUP($H$2&\"A\",'SRP Rates'!A:AH,34,0),0)),0)","v":0},0,0,0,0,0,0,0,0,0,0,0,0,0]
[null,null,null,null,null,null,null,null,null,null,null,null,null,null,"","",null,null,{"$f":"IFERROR(IF(K119=\"Designation 2\",VLOOKUP($H$2&\"B\",'SRP Rates'!A:AH,34,0),IF(K119=\"designation 1\",VLOOKUP($H$2&\"A\",'SRP Rates'!A:AH,34,0),0)),0)","v":0},0,0,0,0,0,0,0,0,0,0,0,0,0]
[null,null,null,null,null,null,null,null,null,null,null,null,null,null,"","",null,null,{"$f":"IFERROR(IF(K120=\"Designation 2\",VLOOKUP($H$2&\"B\",'SRP Rates'!A:AH,34,0),IF(K120=\"designation 1\",VLOOKUP($H$2&\"A\",'SRP Rates'!A:AH,34,0),0)),0)","v":0},0,0,0,0,0,0,0,0,0,0,0,0,0]
[null,null,null,null,null,null,null,null,null,null,null,null,null,null,"","",null,null,{"$f":"IFERROR(IF(K121=\"Designation 2\",VLOOKUP($H$2&\"B\",'SRP Rates'!A:AH,34,0),IF(K121=\"designation 1\",VLOOKUP($H$2&\"A\",'SRP Rates'!A:AH,34,0),0)),0)","v":0},0,0,0,0,0,0,0,0,0,0,0,0,0]
[null,null,null,null,null,null,null,null,null,null,null,null,null,null,"","",null,null,{"$f":"IFERROR(IF(K122=\"Designation 2\",VLOOKUP($H$2&\"B\",'SRP Rates'!A:AH,34,0),IF(K122=\"designation 1\",VLOOKUP($H$2&\"A\",'SRP Rates'!A:AH,34,0),0)),0)","v":0},0,0,0,0,0,0,0,0,0,0,0,0,0]
[null,null,null,null,null,null,null,null,null,null,null,null,null,null,"","",null,null,{"$f":"IFERROR(IF(K123=\"Designation 2\",VLOOKUP($H$2&\"B\",'SRP Rates'!A:AH,34,0),IF(K123=\"designation 1\",VLOOKUP($H$2&\"A\",'SRP Rates'!A:AH,34,0),0)),0)","v":0},0,0,0,0,0,0,0,0,0,0,0,0,0]
[null,null,null,null,null,null,null,null,null,null,null,null,null,null,"","",null,null,{"$f":"IFERROR(IF(K124=\"Designation 2\",VLOOKUP($H$2&\"B\",'SRP Rates'!A:AH,34,0),IF(K124=\"designation 1\",VLOOKUP($H$2&\"A\",'SRP Rates'!A:AH,34,0),0)),0)","v":0},0,0,0,0,0,0,0,0,0,0,0,0,0]
[null,null,null,null,null,null,null,null,null,null,null,null,null,null,"","",null,null,{"$f":"IFERROR(IF(K125=\"Designation 2\",VLOOKUP($H$2&\"B\",'SRP Rates'!A:AH,34,0),IF(K125=\"designation 1\",VLOOKUP($H$2&\"A\",'SRP Rates'!A:AH,34,0),0)),0)","v":0},0,0,0,0,0,0,0,0,0,0,0,0,0]
[null,null,null,null,null,null,null,null,null,null,null,null,null,null,"","",null,null,{"$f":"IFERROR(IF(K126=\"Designation 2\",VLOOKUP($H$2&\"B\",'SRP Rates'!A:AH,34,0),IF(K126=\"designation 1\",VLOOKUP($H$2&\"A\",'SRP Rates'!A:AH,34,0),0)),0)","v":0},0,0,0,0,0,0,0,0,0,0,0,0,0]
[null,null,null,null,null,null,null,null,null,null,null,null,null,null,"","",null,null,{"$f":"IFERROR(IF(K127=\"Designation 2\",VLOOKUP($H$2&\"B\",'SRP Rates'!A:AH,34,0),IF(K127=\"designation 1\",VLOOKUP($H$2&\"A\",'SRP Rates'!A:AH,34,0),0)),0)","v":0},0,0,0,0,0,0,0,0,0,0,0,0,0]
[null,null,null,null,null,null,null,null,null,null,null,null,null,null,"","",null,null,{"$f":"IFERROR(IF(K128=\"Designation 2\",VLOOKUP($H$2&\"B\",'SRP Rates'!A:AH,34,0),IF(K128=\"designation 1\",VLOOKUP($H$2&\"A\",'SRP Rates'!A:AH,34,0),0)),0)","v":0},0,0,0,0,0,0,0,0,0,0,0,0,0]
[null,null,null,null,null,null,null,null,null,null,null,null,null,null,"","",null,null,{"$f":"IFERROR(IF(K129=\"Designation 2\",VLOOKUP($H$2&\"B\",'SRP Rates'!A:AH,34,0),IF(K129=\"designation 1\",VLOOKUP($H$2&\"A\",'SRP Rates'!A:AH,34,0),0)),0)","v":0},0,0,0,0,0,0,0,0,0,0,0,0,0]
[null,null,null,null,null,null,null,null,null,null,null,null,null,null,"","",null,null,{"$f":"IFERROR(IF(K130=\"Designation 2\",VLOOKUP($H$2&\"B\",'SRP Rates'!A:AH,34,0),IF(K130=\"designation 1\",VLOOKUP($H$2&\"A\",'SRP Rates'!A:AH,34,0),0)),0)","v":0},0,0,0,0,0,0,0,0,0,0,0,0,0]
[null,null,null,null,null,null,null,null,null,null,null,null,null,null,"","",null,null,{"$f":"IFERROR(IF(K131=\"Designation 2\",VLOOKUP($H$2&\"B\",'SRP Rates'!A:AH,34,0),IF(K131=\"designation 1\",VLOOKUP($H$2&\"A\",'SRP Rates'!A:AH,34,0),0)),0)","v":0},0,0,0,0,0,0,0,0,0,0,0,0,0]
[null,null,null,null,null,null,null,null,null,null,null,null,null,null,"","",null,null,{"$f":"IFERROR(IF(K132=\"Designation 2\",VLOOKUP($H$2&\"B\",'SRP Rates'!A:AH,34,0),IF(K132=\"designation 1\",VLOOKUP($H$2&\"A\",'SRP Rates'!A:AH,34,0),0)),0)","v":0},0,0,0,0,0,0,0,0,0,0,0,0,0]
[null,null,null,null,null,null,null,null,null,null,null,null,null,null,"","",null,null,{"$f":"IFERROR(IF(K133=\"Designation 2\",VLOOKUP($H$2&\"B\",'SRP Rates'!A:AH,34,0),IF(K133=\"designation 1\",VLOOKUP($H$2&\"A\",'SRP Rates'!A:AH,34,0),0)),0)","v":0},0,0,0,0,0,0,0,0,0,0,0,0,0]
[null,null,null,null,null,null,null,null,null,null,null,null,null,null,"","",null,null,{"$f":"IFERROR(IF(K134=\"Designation 2\",VLOOKUP($H$2&\"B\",'SRP Rates'!A:AH,34,0),IF(K134=\"designation 1\",VLOOKUP($H$2&\"A\",'SRP Rates'!A:AH,34,0),0)),0)","v":0},0,0,0,0,0,0,0,0,0,0,0,0,0]
[null,null,null,null,null,null,null,null,null,null,null,null,null,null,"","",null,null,{"$f":"IFERROR(IF(K135=\"Designation 2\",VLOOKUP($H$2&\"B\",'SRP Rates'!A:AH,34,0),IF(K135=\"designation 1\",VLOOKUP($H$2&\"A\",'SRP Rates'!A:AH,34,0),0)),0)","v":0},0,0,0,0,0,0,0,0,0,0,0,0,0]
[null,null,null,null,null,null,null,null,null,null,null,null,null,null,"","",null,null,{"$f":"IFERROR(IF(K136=\"Designation 2\",VLOOKUP($H$2&\"B\",'SRP Rates'!A:AH,34,0),IF(K136=\"designation 1\",VLOOKUP($H$2&\"A\",'SRP Rates'!A:AH,34,0),0)),0)","v":0},0,0,0,0,0,0,0,0,0,0,0,0,0]
[null,null,null,null,null,null,null,null,null,null,null,null,null,null,"","",null,null,{"$f":"IFERROR(IF(K137=\"Designation 2\",VLOOKUP($H$2&\"B\",'SRP Rates'!A:AH,34,0),IF(K137=\"designation 1\",VLOOKUP($H$2&\"A\",'SRP Rates'!A:AH,34,0),0)),0)","v":0},0,0,0,0,0,0,0,0,0,0,0,0,0]
[null,null,null,null,null,null,null,null,null,null,null,null,null,null,"","",null,null,{"$f":"IFERROR(IF(K138=\"Designation 2\",VLOOKUP($H$2&\"B\",'SRP Rates'!A:AH,34,0),IF(K138=\"designation 1\",VLOOKUP($H$2&\"A\",'SRP Rates'!A:AH,34,0),0)),0)","v":0},0,0,0,0,0,0,0,0,0,0,0,0,0]
[null,null,null,null,null,null,null,null,null,null,null,null,null,null,"","",null,null,{"$f":"IFERROR(IF(K139=\"Designation 2\",VLOOKUP($H$2&\"B\",'SRP Rates'!A:AH,34,0),IF(K139=\"designation 1\",VLOOKUP($H$2&\"A\",'SRP Rates'!A:AH,34,0),0)),0)","v":0},0,0,0,0,0,0,0,0,0,0,0,0,0]
[null,null,null,null,null,null,null,null,null,null,null,null,null,null,"","",null,null,{"$f":"IFERROR(IF(K140=\"Designation 2\",VLOOKUP($H$2&\"B\",'SRP Rates'!A:AH,34,0),IF(K140=\"designation 1\",VLOOKUP($H$2&\"A\",'SRP Rates'!A:AH,34,0),0)),0)","v":0},0,0,0,0,0,0,0,0,0,0,0,0,0]
[null,null,null,null,null,null,null,null,null,null,null,null,null,null,"","",null,null,{"$f":"IFERROR(IF(K141=\"Designation 2\",VLOOKUP($H$2&\"B\",'SRP Rates'!A:AH,34,0),IF(K141=\"designation 1\",VLOOKUP($H$2&\"A\",'SRP Rates'!A:AH,34,0),0)),0)","v":0},0,0,0,0,0,0,0,0,0,0,0,0,0]
[null,null,null,null,null,null,null,null,null,null,null,null,null,null,"","",null,null,{"$f":"IFERROR(IF(K142=\"Designation 2\",VLOOKUP($H$2&\"B\",'SRP Rates'!A:AH,34,0),IF(K142=\"designation 1\",VLOOKUP($H$2&\"A\",'SRP Rates'!A:AH,34,0),0)),0)","v":0},0,0,0,0,0,0,0,0,0,0,0,0,0]
[null,null,null,null,null,null,null,null,null,null,null,null,null,null,"","",null,null,{"$f":"IFERROR(IF(K143=\"Designation 2\",VLOOKUP($H$2&\"B\",'SRP Rates'!A:AH,34,0),IF(K143=\"designation 1\",VLOOKUP($H$2&\"A\",'SRP Rates'!A:AH,34,0),0)),0)","v":0},0,0,0,0,0,0,0,0,0,0,0,0,0]
[null,null,null,null,null,null,null,null,null,null,null,null,null,null,"","",null,null,{"$f":"IFERROR(IF(K144=\"Designation 2\",VLOOKUP($H$2&\"B\",'SRP Rates'!A:AH,34,0),IF(K144=\"designation 1\",VLOOKUP($H$2&\"A\",'SRP Rates'!A:AH,34,0),0)),0)","v":0},0,0,0,0,0,0,0,0,0,0,0,0,0]
[null,null,null,null,null,null,null,null,null,null,null,null,null,null,"","",null,null,{"$f":"IFERROR(IF(K145=\"Designation 2\",VLOOKUP($H$2&\"B\",'SRP Rates'!A:AH,34,0),IF(K145=\"designation 1\",VLOOKUP($H$2&\"A\",'SRP Rates'!A:AH,34,0),0)),0)","v":0},0,0,0,0,0,0,0,0,0,0,0,0,0]
[null,null,null,null,null,null,null,null,null,null,null,null,null,null,{"$f":"IF(N146=0,\"\",IF(N146<DATE(2003,9,1),\"Post-16\",\"Pre-16\"))","v":""},{"$f":"IF(N146=0,\"\",IF(N146<DATE(2004,9,1),\"Post-16\",\"Pre-16\"))","v":""},null,null,{"$f":"IFERROR(IF(K146=\"Designation 2\",VLOOKUP($H$2&\"B\",'SRP Rates'!A:AH,34,0),IF(K146=\"designation 1\",VLOOKUP($H$2&\"A\",'SRP Rates'!A:AH,34,0),0)),0)","v":0},{"$f":"IF(OR(Q146>DATE(2020,3,31),R146<DATE(2020,3,1)),0,S146)","v":0},{"$f":"IF(OR(Q146>DATE(2020,4,30),R146<DATE(2020,4,1)),0,S146)","v":0},{"$f":"IF(OR(Q146>DATE(2020,5,31),R146<DATE(2020,5,1)),0,S146)","v":0},{"$f":"IF(OR(Q146>DATE(2020,6,30),R146<DATE(2020,6,1)),0,S146)","v":0},{"$f":"IF(OR(Q146>DATE(2020,7,31),R146<DATE(2020,7,1)),0,S146)","v":0},{"$f":"IF(OR(Q146>DATE(2020,7,31),R146<DATE(2020,7,1)),0,S146)","v":0},{"$f":"IF(OR(Q146>DATE(2020,9,30),R146<DATE(2020,9,1)),0,S146)","v":0},{"$f":"IF(OR(Q146>DATE(2020,10,31),R146<DATE(2020,10,1)),0,S146)","v":0},{"$f":"IF(OR(Q146>DATE(2020,11,30),R146<DATE(2020,11,1)),0,S146)","v":0},{"$f":"IF(OR(Q146>DATE(2020,12,31),R146<DATE(2020,12,1)),0,S146)","v":0},{"$f":"IF(OR(Q146>DATE(2021,1,31),R146<DATE(2021,1,1)),0,S146)","v":0},{"$f":"IF(OR(Q146>DATE(2021,2,28),R146<DATE(2021,2,1)),0,S146)","v":0},{"$f":"SUM(T146:AE146)","v":0}]
[null,null,null,null,null,null,null,null,null,null,null,null,null,null,"","",null,null,{"$f":"IFERROR(IF(K147=\"Designation 2\",VLOOKUP($H$2&\"B\",'SRP Rates'!A:AH,34,0),IF(K147=\"designation 1\",VLOOKUP($H$2&\"A\",'SRP Rates'!A:AH,34,0),0)),0)","v":0},0,0,0,0,0,0,0,0,0,0,0,0,0]
[null,null,null,null,null,null,null,null,null,null,null,null,null,null,"","",null,null,{"$f":"IFERROR(IF(K148=\"Designation 2\",VLOOKUP($H$2&\"B\",'SRP Rates'!A:AH,34,0),IF(K148=\"designation 1\",VLOOKUP($H$2&\"A\",'SRP Rates'!A:AH,34,0),0)),0)","v":0},0,0,0,0,0,0,0,0,0,0,0,0,0]
[null,null,null,null,null,null,null,null,null,null,null,null,null,null,"","",null,null,{"$f":"IFERROR(IF(K149=\"Designation 2\",VLOOKUP($H$2&\"B\",'SRP Rates'!A:AH,34,0),IF(K149=\"designation 1\",VLOOKUP($H$2&\"A\",'SRP Rates'!A:AH,34,0),0)),0)","v":0},0,0,0,0,0,0,0,0,0,0,0,0,0]
[null,null,null,null,null,null,null,null,null,null,null,null,null,null,"","",null,null,{"$f":"IFERROR(IF(K150=\"Designation 2\",VLOOKUP($H$2&\"B\",'SRP Rates'!A:AH,34,0),IF(K150=\"designation 1\",VLOOKUP($H$2&\"A\",'SRP Rates'!A:AH,34,0),0)),0)","v":0},0,0,0,0,0,0,0,0,0,0,0,0,0]
[null,null,null,null,null,null,null,null,null,null,null,null,null,null,"","",null,null,{"$f":"IFERROR(IF(K151=\"Designation 2\",VLOOKUP($H$2&\"B\",'SRP Rates'!A:AH,34,0),IF(K151=\"designation 1\",VLOOKUP($H$2&\"A\",'SRP Rates'!A:AH,34,0),0)),0)","v":0},0,0,0,0,0,0,0,0,0,0,0,0,0]
[null,null,null,null,null,null,null,null,null,null,null,null,null,null,"","",null,null,{"$f":"IFERROR(IF(K152=\"Designation 2\",VLOOKUP($H$2&\"B\",'SRP Rates'!A:AH,34,0),IF(K152=\"designation 1\",VLOOKUP($H$2&\"A\",'SRP Rates'!A:AH,34,0),0)),0)","v":0},0,0,0,0,0,0,0,0,0,0,0,0,0]
[null,null,null,null,null,null,null,null,null,null,null,null,null,null,"","",null,null,{"$f":"IFERROR(IF(K153=\"Designation 2\",VLOOKUP($H$2&\"B\",'SRP Rates'!A:AH,34,0),IF(K153=\"designation 1\",VLOOKUP($H$2&\"A\",'SRP Rates'!A:AH,34,0),0)),0)","v":0},0,0,0,0,0,0,0,0,0,0,0,0,0]
[null,null,null,null,null,null,null,null,null,null,null,null,null,null,"","",null,null,{"$f":"IFERROR(IF(K154=\"Designation 2\",VLOOKUP($H$2&\"B\",'SRP Rates'!A:AH,34,0),IF(K154=\"designation 1\",VLOOKUP($H$2&\"A\",'SRP Rates'!A:AH,34,0),0)),0)","v":0},0,0,0,0,0,0,0,0,0,0,0,0,0]
[null,null,null,null,null,null,null,null,null,null,null,null,null,null,"","",null,null,{"$f":"IFERROR(IF(K155=\"Designation 2\",VLOOKUP($H$2&\"B\",'SRP Rates'!A:AH,34,0),IF(K155=\"designation 1\",VLOOKUP($H$2&\"A\",'SRP Rates'!A:AH,34,0),0)),0)","v":0},0,0,0,0,0,0,0,0,0,0,0,0,0]
[null,null,null,null,null,null,null,null,null,null,null,null,null,null,"","",null,null,{"$f":"IFERROR(IF(K156=\"Designation 2\",VLOOKUP($H$2&\"B\",'SRP Rates'!A:AH,34,0),IF(K156=\"designation 1\",VLOOKUP($H$2&\"A\",'SRP Rates'!A:AH,34,0),0)),0)","v":0},0,0,0,0,0,0,0,0,0,0,0,0,0]
[null,null,null,null,null,null,null,null,null,null,null,null,null,null,"","",null,null,{"$f":"IFERROR(IF(K157=\"Designation 2\",VLOOKUP($H$2&\"B\",'SRP Rates'!A:AH,34,0),IF(K157=\"designation 1\",VLOOKUP($H$2&\"A\",'SRP Rates'!A:AH,34,0),0)),0)","v":0},0,0,0,0,0,0,0,0,0,0,0,0,0]
[null,null,null,null,null,null,null,null,null,null,null,null,null,null,"","",null,null,{"$f":"IFERROR(IF(K158=\"Designation 2\",VLOOKUP($H$2&\"B\",'SRP Rates'!A:AH,34,0),IF(K158=\"designation 1\",VLOOKUP($H$2&\"A\",'SRP Rates'!A:AH,34,0),0)),0)","v":0},0,0,0,0,0,0,0,0,0,0,0,0,0]
[null,null,null,null,null,null,null,null,null,null,null,null,null,null,"","",null,null,{"$f":"IFERROR(IF(K159=\"Designation 2\",VLOOKUP($H$2&\"B\",'SRP Rates'!A:AH,34,0),IF(K159=\"designation 1\",VLOOKUP($H$2&\"A\",'SRP Rates'!A:AH,34,0),0)),0)","v":0},0,0,0,0,0,0,0,0,0,0,0,0,0]
[null,null,null,null,null,null,null,null,null,null,null,null,null,null,"","",null,null,{"$f":"IFERROR(IF(K160=\"Designation 2\",VLOOKUP($H$2&\"B\",'SRP Rates'!A:AH,34,0),IF(K160=\"designation 1\",VLOOKUP($H$2&\"A\",'SRP Rates'!A:AH,34,0),0)),0)","v":0},0,0,0,0,0,0,0,0,0,0,0,0,0]
[null,null,null,null,null,null,null,null,null,null,null,null,null,null,"","",null,null,{"$f":"IFERROR(IF(K161=\"Designation 2\",VLOOKUP($H$2&\"B\",'SRP Rates'!A:AH,34,0),IF(K161=\"designation 1\",VLOOKUP($H$2&\"A\",'SRP Rates'!A:AH,34,0),0)),0)","v":0},0,0,0,0,0,0,0,0,0,0,0,0,0]
[null,null,null,null,null,null,null,null,null,null,null,null,null,null,"","",null,null,{"$f":"IFERROR(IF(K162=\"Designation 2\",VLOOKUP($H$2&\"B\",'SRP Rates'!A:AH,34,0),IF(K162=\"designation 1\",VLOOKUP($H$2&\"A\",'SRP Rates'!A:AH,34,0),0)),0)","v":0},0,0,0,0,0,0,0,0,0,0,0,0,0]
[null,null,null,null,null,null,null,null,null,null,null,null,null,null,"","",null,null,{"$f":"IFERROR(IF(K163=\"Designation 2\",VLOOKUP($H$2&\"B\",'SRP Rates'!A:AH,34,0),IF(K163=\"designation 1\",VLOOKUP($H$2&\"A\",'SRP Rates'!A:AH,34,0),0)),0)","v":0},0,0,0,0,0,0,0,0,0,0,0,0,0]
[null,null,null,null,null,null,null,null,null,null,null,null,null,null,"","",null,null,{"$f":"IFERROR(IF(K164=\"Designation 2\",VLOOKUP($H$2&\"B\",'SRP Rates'!A:AH,34,0),IF(K164=\"designation 1\",VLOOKUP($H$2&\"A\",'SRP Rates'!A:AH,34,0),0)),0)","v":0},0,0,0,0,0,0,0,0,0,0,0,0,0]
[null,null,null,null,null,null,null,null,null,null,null,null,null,null,"","",null,null,{"$f":"IFERROR(IF(K165=\"Designation 2\",VLOOKUP($H$2&\"B\",'SRP Rates'!A:AH,34,0),IF(K165=\"designation 1\",VLOOKUP($H$2&\"A\",'SRP Rates'!A:AH,34,0),0)),0)","v":0},0,0,0,0,0,0,0,0,0,0,0,0,0]
[null,null,null,null,null,null,null,null,null,null,null,null,null,null,"","",null,null,{"$f":"IFERROR(IF(K166=\"Designation 2\",VLOOKUP($H$2&\"B\",'SRP Rates'!A:AH,34,0),IF(K166=\"designation 1\",VLOOKUP($H$2&\"A\",'SRP Rates'!A:AH,34,0),0)),0)","v":0},0,0,0,0,0,0,0,0,0,0,0,0,0]
[null,null,null,null,null,null,null,null,null,null,null,null,null,null,"","",null,null,{"$f":"IFERROR(IF(K167=\"Designation 2\",VLOOKUP($H$2&\"B\",'SRP Rates'!A:AH,34,0),IF(K167=\"designation 1\",VLOOKUP($H$2&\"A\",'SRP Rates'!A:AH,34,0),0)),0)","v":0},0,0,0,0,0,0,0,0,0,0,0,0,0]
[null,null,null,null,null,null,null,null,null,null,null,null,null,null,"","",null,null,{"$f":"IFERROR(IF(K168=\"Designation 2\",VLOOKUP($H$2&\"B\",'SRP Rates'!A:AH,34,0),IF(K168=\"designation 1\",VLOOKUP($H$2&\"A\",'SRP Rates'!A:AH,34,0),0)),0)","v":0},0,0,0,0,0,0,0,0,0,0,0,0,0]
[null,null,null,null,null,null,null,null,null,null,null,null,null,null,"","",null,null,{"$f":"IFERROR(IF(K169=\"Designation 2\",VLOOKUP($H$2&\"B\",'SRP Rates'!A:AH,34,0),IF(K169=\"designation 1\",VLOOKUP($H$2&\"A\",'SRP Rates'!A:AH,34,0),0)),0)","v":0},0,0,0,0,0,0,0,0,0,0,0,0,0]
[null,null,null,null,null,null,null,null,null,null,null,null,null,null,"","",null,null,{"$f":"IFERROR(IF(K170=\"Designation 2\",VLOOKUP($H$2&\"B\",'SRP Rates'!A:AH,34,0),IF(K170=\"designation 1\",VLOOKUP($H$2&\"A\",'SRP Rates'!A:AH,34,0),0)),0)","v":0},0,0,0,0,0,0,0,0,0,0,0,0,0]
[null,null,null,null,null,null,null,null,null,null,null,null,null,null,"","",null,null,{"$f":"IFERROR(IF(K171=\"Designation 2\",VLOOKUP($H$2&\"B\",'SRP Rates'!A:AH,34,0),IF(K171=\"designation 1\",VLOOKUP($H$2&\"A\",'SRP Rates'!A:AH,34,0),0)),0)","v":0},0,0,0,0,0,0,0,0,0,0,0,0,0]
[null,null,null,null,null,null,null,null,null,null,null,null,null,null,"","",null,null,{"$f":"IFERROR(IF(K172=\"Designation 2\",VLOOKUP($H$2&\"B\",'SRP Rates'!A:AH,34,0),IF(K172=\"designation 1\",VLOOKUP($H$2&\"A\",'SRP Rates'!A:AH,34,0),0)),0)","v":0},0,0,0,0,0,0,0,0,0,0,0,0,0]
[null,null,null,null,null,null,null,null,null,null,null,null,null,null,"","",null,null,{"$f":"IFERROR(IF(K173=\"Designation 2\",VLOOKUP($H$2&\"B\",'SRP Rates'!A:AH,34,0),IF(K173=\"designation 1\",VLOOKUP($H$2&\"A\",'SRP Rates'!A:AH,34,0),0)),0)","v":0},0,0,0,0,0,0,0,0,0,0,0,0,0]
[null,null,null,null,null,null,null,null,null,null,null,null,null,null,"","",null,null,{"$f":"IFERROR(IF(K174=\"Designation 2\",VLOOKUP($H$2&\"B\",'SRP Rates'!A:AH,34,0),IF(K174=\"designation 1\",VLOOKUP($H$2&\"A\",'SRP Rates'!A:AH,34,0),0)),0)","v":0},0,0,0,0,0,0,0,0,0,0,0,0,0]
[null,null,null,null,null,null,null,null,null,null,null,null,null,null,"","",null,null,{"$f":"IFERROR(IF(K175=\"Designation 2\",VLOOKUP($H$2&\"B\",'SRP Rates'!A:AH,34,0),IF(K175=\"designation 1\",VLOOKUP($H$2&\"A\",'SRP Rates'!A:AH,34,0),0)),0)","v":0},0,0,0,0,0,0,0,0,0,0,0,0,0]
[null,null,null,null,null,null,null,null,null,null,null,null,null,null,"","",null,null,{"$f":"IFERROR(IF(K176=\"Designation 2\",VLOOKUP($H$2&\"B\",'SRP Rates'!A:AH,34,0),IF(K176=\"designation 1\",VLOOKUP($H$2&\"A\",'SRP Rates'!A:AH,34,0),0)),0)","v":0},0,0,0,0,0,0,0,0,0,0,0,0,0]
[null,null,null,null,null,null,null,null,null,null,null,null,null,null,"","",null,null,{"$f":"IFERROR(IF(K177=\"Designation 2\",VLOOKUP($H$2&\"B\",'SRP Rates'!A:AH,34,0),IF(K177=\"designation 1\",VLOOKUP($H$2&\"A\",'SRP Rates'!A:AH,34,0),0)),0)","v":0},0,0,0,0,0,0,0,0,0,0,0,0,0]
[null,null,null,null,null,null,null,null,null,null,null,null,null,null,"","",null,null,{"$f":"IFERROR(IF(K178=\"Designation 2\",VLOOKUP($H$2&\"B\",'SRP Rates'!A:AH,34,0),IF(K178=\"designation 1\",VLOOKUP($H$2&\"A\",'SRP Rates'!A:AH,34,0),0)),0)","v":0},0,0,0,0,0,0,0,0,0,0,0,0,0]
[null,null,null,null,null,null,null,null,null,null,null,null,null,null,"","",null,null,{"$f":"IFERROR(IF(K179=\"Designation 2\",VLOOKUP($H$2&\"B\",'SRP Rates'!A:AH,34,0),IF(K179=\"designation 1\",VLOOKUP($H$2&\"A\",'SRP Rates'!A:AH,34,0),0)),0)","v":0},0,0,0,0,0,0,0,0,0,0,0,0,0]
[null,null,null,null,null,null,null,null,null,null,null,null,null,null,"","",null,null,{"$f":"IFERROR(IF(K180=\"Designation 2\",VLOOKUP($H$2&\"B\",'SRP Rates'!A:AH,34,0),IF(K180=\"designation 1\",VLOOKUP($H$2&\"A\",'SRP Rates'!A:AH,34,0),0)),0)","v":0},0,0,0,0,0,0,0,0,0,0,0,0,0]
[null,null,null,null,null,null,null,null,null,null,null,null,null,null,"","",null,null,{"$f":"IFERROR(IF(K181=\"Designation 2\",VLOOKUP($H$2&\"B\",'SRP Rates'!A:AH,34,0),IF(K181=\"designation 1\",VLOOKUP($H$2&\"A\",'SRP Rates'!A:AH,34,0),0)),0)","v":0},0,0,0,0,0,0,0,0,0,0,0,0,0]
[null,null,null,null,null,null,null,null,null,null,null,null,null,null,"","",null,null,{"$f":"IFERROR(IF(K182=\"Designation 2\",VLOOKUP($H$2&\"B\",'SRP Rates'!A:AH,34,0),IF(K182=\"designation 1\",VLOOKUP($H$2&\"A\",'SRP Rates'!A:AH,34,0),0)),0)","v":0},0,0,0,0,0,0,0,0,0,0,0,0,0]
[null,null,null,null,null,null,null,null,null,null,null,null,null,null,"","",null,null,{"$f":"IFERROR(IF(K183=\"Designation 2\",VLOOKUP($H$2&\"B\",'SRP Rates'!A:AH,34,0),IF(K183=\"designation 1\",VLOOKUP($H$2&\"A\",'SRP Rates'!A:AH,34,0),0)),0)","v":0},0,0,0,0,0,0,0,0,0,0,0,0,0]
[null,null,null,null,null,null,null,null,null,null,null,null,null,null,"","",null,null,{"$f":"IFERROR(IF(K184=\"Designation 2\",VLOOKUP($H$2&\"B\",'SRP Rates'!A:AH,34,0),IF(K184=\"designation 1\",VLOOKUP($H$2&\"A\",'SRP Rates'!A:AH,34,0),0)),0)","v":0},0,0,0,0,0,0,0,0,0,0,0,0,0]
[null,null,null,null,null,null,null,null,null,null,null,null,null,null,"","",null,null,{"$f":"IFERROR(IF(K185=\"Designation 2\",VLOOKUP($H$2&\"B\",'SRP Rates'!A:AH,34,0),IF(K185=\"designation 1\",VLOOKUP($H$2&\"A\",'SRP Rates'!A:AH,34,0),0)),0)","v":0},0,0,0,0,0,0,0,0,0,0,0,0,0]
[null,null,null,null,null,null,null,null,null,null,null,null,null,null,"","",null,null,{"$f":"IFERROR(IF(K186=\"Designation 2\",VLOOKUP($H$2&\"B\",'SRP Rates'!A:AH,34,0),IF(K186=\"designation 1\",VLOOKUP($H$2&\"A\",'SRP Rates'!A:AH,34,0),0)),0)","v":0},0,0,0,0,0,0,0,0,0,0,0,0,0]
[null,null,null,null,null,null,null,null,null,null,null,null,null,null,"","",null,null,{"$f":"IFERROR(IF(K187=\"Designation 2\",VLOOKUP($H$2&\"B\",'SRP Rates'!A:AH,34,0),IF(K187=\"designation 1\",VLOOKUP($H$2&\"A\",'SRP Rates'!A:AH,34,0),0)),0)","v":0},0,0,0,0,0,0,0,0,0,0,0,0,0]
[null,null,null,null,null,null,null,null,null,null,null,null,null,null,"","",null,null,{"$f":"IFERROR(IF(K188=\"Designation 2\",VLOOKUP($H$2&\"B\",'SRP Rates'!A:AH,34,0),IF(K188=\"designation 1\",VLOOKUP($H$2&\"A\",'SRP Rates'!A:AH,34,0),0)),0)","v":0},0,0,0,0,0,0,0,0,0,0,0,0,0]
[null,null,null,null,null,null,null,null,null,null,null,null,null,null,null,null,null,null,"pre 16 count",{"$f":"COUNTIFS($O$17:$O$188,\"Pre-16\",T$17:T$188,\">0\")","v":0},{"$f":"COUNTIFS($O$17:$O$188,\"Pre-16\",U$17:U$188,\">0\")","v":0},0,0,{"$f":"COUNTIFS($O$17:$O$188,\"Pre-16\",X$17:X$188,\">0\")","v":0},{"$f":"COUNTIFS($O$17:$O$188,\"Pre-16\",Y$17:Y$188,\">0\")","v":0},{"$f":"COUNTIFS($P$17:$P$188,\"Pre-16\",Z$17:Z$188,\">0\")","v":0},{"$f":"COUNTIFS($P$17:$P$188,\"Pre-16\",AA$17:AA$188,\">0\")","v":0},0,0,0,0]
[null,null,null,null,null,null,null,null,null,null,null,null,null,null,null,null,null,null,"post 16 count",{"$f":"COUNTIFS($O$17:$O$188,\"Post-16\",T$17:T$188,\">0\")","v":0},{"$f":"COUNTIFS($O$17:$O$188,\"Post-16\",U$17:U$188,\">0\")","v":0},0,0,0,{"$f":"COUNTIFS($O$17:$O$188,\"Post-16\",Y$17:Y$188,\">0\")","v":0},{"$f":"COUNTIFS($P$17:$P$188,\"Post-16\",Z$17:Z$188,\">0\")","v":0},0,0,0,0,0]
[null,null,null,null,null,null,null,null,null,null,null,null,null,null,null,null,null,null,"census",{"$f":"IFERROR(SUMIF('SRP Rates'!B:B,H2,'SRP Rates'!AM:AM),0)","v":0},{"$f":"$T$191","v":0},{"$f":"$T$191","v":0},0,0,0,0,0,0,0,0,0]
[null,null,null,null,null,null,null,null,null,null,null,null,null,null,null,null,null,null,"pre 16 places",{"$f":"IFERROR(IF(VLOOKUP(H2,'SRP Rates'!B:AM,34,0)=\"Academy\",\"ESFA\",SUMIF('SRP Rates'!B:B,H2,'SRP Rates'!F:F)),0)","v":0},{"$f":"$T$192","v":0},{"$f":"$T$192","v":0},0,0,0,{"$f":"IFERROR(IF(VLOOKUP(H2,'SRP Rates'!B:AM,34,0)=\"Academy\",\"ESFA\",SUMIF('SRP Rates'!B:B,H2,'SRP Rates'!H:H)),0)","v":0},{"$f":"$Z$192","v":0},{"$f":"$Z$192","v":0},0,0,0]
[null,null,null,null,null,null,null,null,null,null,null,null,null,null,null,null,null,null,"post 16 places",{"$f":"IFERROR(IF(VLOOKUP(H2,'SRP Rates'!B:AM,34,0)=\"Academy\",\"ESFA\",SUMIF('SRP Rates'!B:B,H2,'SRP Rates'!G:G)),0)","v":0},{"$f":"$T$193","v":0},{"$f":"$T$193","v":0},0,0,{"$f":"IFERROR(IF(VLOOKUP(H2,'SRP Rates'!B:AM,34,0)=\"Academy\",\"ESFA\",SUMIF('SRP Rates'!B:B,H2,'SRP Rates'!I:I)),0)","v":0},{"$f":"$Y$193","v":0},{"$f":"$Y$193","v":0},0,0,0,0]
[null,null,null,null,null,null,null,null,null,null,null,null,null,null,null,null,null,null,"excess pre 16 pupils",{"$f":"IF((T189-MAX(T191,T192))<0,0,(T189-MAX(T191,T192)))","v":0},{"$f":"IF((U189-MAX(U191,U192))<0,0,(U189-MAX(U191,U192)))","v":0},0,0,0,0,0,0,0,0,0,0]
[null,null,null,null,null,null,null,null,null,null,null,null,null,null,null,null,null,null,"excess of actual pupils over places",{"$f":"IF(T189+T190-T192-T193<0,0,T189+T190-T192-T193)","v":0},{"$f":"IF(U189+U190-U192-U193<0,0,U189+U190-U192-U193)","v":0},0,0,0,0,0,0,0,0,0,0]

{"sheet":"SRP Funding Summary","index":15,"n_rows":35,"n_cols":7,"rows_kept":35,"cut":false,"hidden":false,"merged":[]}
[]
[]
[]
[]
[]
[]
[]
[null,"SRP Funding Summary",null,null,null,null,{"$f":"Year1DfE","v":0}]
[]
[]
[]
[]
[null,"Total pupil numbers",{"$f":"IFERROR(SUM('Year 1'!$F$10:'Year 1'!$F$12)*(IF('SRP Year 1'!$H$99>0,1,0)),0)","v":0},null,null,"white"]
[]
[null,"SRP funding included Formula Budget"]
[]
[null,"Basic Entitlement",{"$f":"IF(year1phase=1,'Year 1'!$G$10,('Year 1'!$G$11*0.6)+(('Year 1'!$G$12*0.4)))","v":4208.0632130118884},null,null,null,{"$f":"3/5","v":0.6}]
[null,"FSM",{"$f":"IFERROR(SUM('Year 1'!H14:'Year 1'!H15)/$C$13,0)","v":0}]
[null,"E6FSM",{"$f":"IFERROR(SUM('Year 1'!H16:'Year 1'!H17)/$C$13,0)","v":0}]
[null,"IDACI",{"$f":"IFERROR(SUM('Year 1'!$H$18:$H$29)/$C$13,0)","v":0}]
[null,"EAL",{"$f":"IFERROR(SUM('Year 1'!H31:'Year 1'!H32)/$C$13,0)","v":0}]
[null,"Low Prior Attainment",{"$f":"IFERROR(SUM('Year 1'!H33:'Year 1'!H34)/$C$13,0)","v":0}]
[]
[null,"Total amount per pupil (A)",{"$f":"IFERROR(SUM(C17:C22),0)","v":4208.0632130118884}]
[]
[null,"Number of SRP pupils (B)",{"$f":"'SRP Year 1'!$G$17","v":0}]
[]
[null,"SRP Year 1 budget (A X B)",{"$f":"C26*C24","v":0}]
[null,"Element 1  (SRP template)",{"$f":"'SRP Year 1'!H32","v":0}]
[null,"Element 2",{"$f":"'SRP Year 1'!H44","v":0}]
[null,"Excess Place funding E1",{"$f":"'SRP Year 1'!H95","v":0}]
[null,"Excess Place funding E2",{"$f":"'SRP Year 1'!H96","v":0}]
[null,"Element 3",{"$f":"'SRP Year 1'!H97","v":0}]
[]
[null,null,{"$f":"SUM(C28:C34)","v":0}]

{"sheet":"SRP Year 2 & 3","index":16,"n_rows":38,"n_cols":21,"rows_kept":38,"cut":false,"hidden":false,"merged":[[27,3,27,5],[27,7,27,9],[27,12,27,20],[28,3,28,5],[28,7,28,9],[28,12,28,14],[28,15,28,17],[28,18,28,20],[14,3,14,5],[14,7,14,9],[14,12,14,14],[14,15,14,17],[14,18,14,20],[5,2,5,11],[7,1,7,12],[13,3,13,5],[13,7,13,9],[13,12,13,20]]}
[]
[null,null,null,null,null,null,null,null,null,null,null,null,{"$f":"Year1DfE","v":0}]
[]
[]
[null,null,null,null,null,null,null,null,null,null,null,null,null,null,"Rates"]
[null,null,{"$f":"schoolname","v":""},null,null,null,null,null,null,null,null,null,null,null,null,"E1","E2","Designation 1 E3","Designation 2  E3"]
[null,null,null,null,null,null,null,null,null,null,null,null,null,null,"Pre 16",4000,6000,{"$f":"IFERROR(VLOOKUP('SRP Year 1'!H2&\"A\",'SRP Rates'!A:AH,34,0),0)*12","v":0},{"$f":"IFERROR(VLOOKUP('SRP Year 1'!H2&\"B\",'SRP Rates'!A:AH,34,0),0)*12","v":0}]
[null,"Place Plus Funding for High Needs Pupils in Resourced Provision",null,null,null,null,null,null,null,null,null,null,null,null,"Post 16",null,6000,{"$f":"R7","v":0},{"$f":"S7","v":0}]
[]
[]
[]
["2021/22"]
[]
[null,null,null,"20/21 Academic Year",null,null,null,"21/22 Academic Year",null,null,null,null,"Funding "]
[null,null,null,"Pre-16:  Apr to Aug\nPost-16: Apr to Jul",null,null,null,"Pre-16:  Sep to Mar\nPost-16:  Aug to Mar",null,null,null,null,"April - August",null,null,"September - March",null,null,"2021/22 Financial Year Total"]
[null,"Designation","Age Group","Places ","Estimated Pupils","E1 to be funded",null,"Places","Estimated Pupils","E1 to be funded",null,null,"E1 & E2","E3","Total","E1 & E2","E3","Total","E1 & E2","E3","Total"]
[]
[null,1,"Pre-16",null,null,{"$f":"IF(E18>D18,0,D18-E18)","v":0},null,null,null,{"$f":"IF(I18>H18,0,H18-I18)","v":0},null,null,{"$f":"(F18*P7*(5/12))+(MAX(D18,E18)*Q7*(5/12))","v":0},{"$f":"(E18*$R$7)*5/12","v":0},{"$f":"SUM(M18:N18)","v":0},{"$f":"(J18*P7*(7/12))+(MAX(H18,I18)*Q7*(7/12))","v":0},{"$f":"(I18*$R$7)*(7/12)","v":0},{"$f":"SUM(P18:Q18)","v":0},{"$f":"M18+P18","v":0},{"$f":"N18+Q18","v":0},{"$f":"S18+T18","v":0}]
[null,1,"Post-16",null,null,null,null,null,null,null,null,null,{"$f":"((D19*$Q$8)*4/12)+((H19*$Q$8)*1/12)","v":0},{"$f":"(E19*$R$8)*5/12","v":0},{"$f":"SUM(M19:N19)","v":0},{"$f":"(H19*$Q$8)*7/12","v":0},{"$f":"(I19*$R$8)*(7/12)","v":0},{"$f":"SUM(P19:Q19)","v":0},{"$f":"M19+P19","v":0},{"$f":"N19+Q19","v":0},{"$f":"S19+T19","v":0}]
[]
[null,2,"Pre-16",null,null,{"$f":"IF(E21>D21,0,D21-E21)","v":0},null,null,null,{"$f":"IF(I21>H21,0,H21-I21)","v":0},null,null,{"$f":"(F21*P7*(5/12))+(MAX(D21,E21)*Q7*(5/12))","v":0},{"$f":"(E21*$S$7)*5/12","v":0},{"$f":"SUM(M21:N21)","v":0},{"$f":"(J21*P7*(7/12))+(MAX(H21,I21)*Q7*(7/12))","v":0},{"$f":"(I21*$S$7)*(7/12)","v":0},{"$f":"SUM(P21:Q21)","v":0},{"$f":"M21+P21","v":0},{"$f":"N21+Q21","v":0},{"$f":"S21+T21","v":0}]
[null,2,"Post-16",null,null,null,null,null,null,null,null,null,{"$f":"((D22*$Q$8)*4/12)+(H22*$Q$8)*1/12","v":0},{"$f":"(E22*$S$8)*5/12","v":0},{"$f":"SUM(M22:N22)","v":0},{"$f":"(H22*$Q$8)*7/12","v":0},{"$f":"(I22*$S$8)*(7/12)","v":0},{"$f":"SUM(P22:Q22)","v":0},{"$f":"M22+P22","v":0},{"$f":"N22+Q22","v":0},{"$f":"S22+T22","v":0}]
[]
[null,null,null,null,null,null,null,null,null,null,null,null,{"$f":"SUM(M18:M22)","v":0},0,0,0,0,0,0,0,0]
[]
["2022/23"]
[]
[null,null,null,"21/22 Academic Year",null,null,null,"22/23 Academic Year",null,null,null,null,"Funding "]
[null,null,null,"Pre-16:  Apr to Aug\nPost-16: Apr to Jul",null,null,null,"Pre-16:  Sep to Mar\nPost-16:  Aug to Mar",null,null,null,null,"April - August",null,null,"September - March",null,null,"2022/23 Financial Year Total"]
[null,"Designation","Age Group","Places ","Estimated Pupils","E1 to be funded",null,"Places","Estimated Pupils","E1 to be funded",null,null,"E1 & E2","E3","Total","E1 & E2","E3","Total","E1 & E2","E3","Total"]
[]
[null,1,"Pre-16",null,null,{"$f":"IF(E32>D32,0,D32-E32)","v":0},null,null,null,{"$f":"IF(I32>H32,0,H32-I32)","v":0},null,null,{"$f":"(F32*P7*(5/12))+(MAX(D32,E32)*Q7*(5/12))","v":0},{"$f":"(E32*$R$7)*5/12","v":0},{"$f":"SUM(M32:N32)","v":0},{"$f":"(J32*P7*(7/12))+(MAX(H32,I32)*Q7*(7/12))","v":0},{"$f":"(I32*$R$7)*(7/12)","v":0},{"$f":"SUM(P32:Q32)","v":0},{"$f":"M32+P32","v":0},{"$f":"N32+Q32","v":0},{"$f":"S32+T32","v":0}]
[null,1,"Post-16",null,null,null,null,null,null,null,null,null,{"$f":"((D33*$Q$8)*4/12)+(H33*$Q$8)*1/12","v":0},{"$f":"(E33*$R$8)*5/12","v":0},{"$f":"SUM(M33:N33)","v":0},{"$f":"(H33*$Q$8)*7/12","v":0},{"$f":"(I33*$R$8)*(7/12)","v":0},{"$f":"SUM(P33:Q33)","v":0},{"$f":"M33+P33","v":0},{"$f":"N33+Q33","v":0},{"$f":"S33+T33","v":0}]
[]
[null,2,"Pre-16",null,null,{"$f":"IF(E35>D35,0,D35-E35)","v":0},null,null,null,{"$f":"IF(I35>H35,0,H35-I35)","v":0},null,null,{"$f":"(F35*P7*(5/12))+(MAX(D35,E35)*Q7*(5/12))","v":0},{"$f":"(E35*$S$7)*5/12","v":0},{"$f":"SUM(M35:N35)","v":0},{"$f":"(J35*P7*(7/12))+(MAX(H35,I35)*Q7*(7/12))","v":0},{"$f":"(I35*$S$7)*(7/12)","v":0},{"$f":"SUM(P35:Q35)","v":0},{"$f":"M35+P35","v":0},{"$f":"N35+Q35","v":0},{"$f":"S35+T35","v":0}]
[null,2,"Post-16",null,null,null,null,null,null,null,null,null,{"$f":"((D36*$Q$8)*4/12)+(H36*$Q$8)*1/12","v":0},{"$f":"(E36*$S$8)*5/12","v":0},{"$f":"SUM(M36:N36)","v":0},{"$f":"(H36*$Q$8)*7/12","v":0},{"$f":"(I36*$S$8)*(7/12)","v":0},{"$f":"SUM(P36:Q36)","v":0},{"$f":"M36+P36","v":0},{"$f":"N36+Q36","v":0},{"$f":"S36+T36","v":0}]
[]
[null,null,null,null,null,null,null,null,null,null,null,null,{"$f":"SUM(M32:M36)","v":0},{"$f":"SUM(N32:N36)","v":0},0,0,0,0,0,0,{"$f":"SUM(U32:U36)","v":0}]

{"sheet":"SRP Rates","index":17,"n_rows":33,"n_cols":53,"rows_kept":33,"cut":false,"hidden":false,"merged":[[5,1,5,2],[4,5,4,6],[4,7,4,8],[1,28,1,33],[1,22,1,26],[3,17,4,20],[4,9,4,10],[1,5,1,10],[1,12,1,20]]}
["How your SRP rate was calculated…",null,null,null,null,"Step 1",null,null,null,null,null,null,"Step 2",null,null,null,null,null,null,null,null,null,"Step 3",null,null,null,null,null,"Step 4"]
[null,null,null,null,null,"First of all we need to establish the commissioned place numbers pre and post 16 in both relevant academic years and the weighted average number of places in the financial year.",null,null,null,null,null,null,"The first part of your SRP rate is based on the rates previously known as Individually assigned resources (IAR). There are four rates based on the need type of the pupil, so we need to establish the mix of needs types at your school and allocate your places using this mix.",null,null,null,null,null,null,null,null,null,"Now that we have established the mix to be used, we can work out the total amount of cash that your number of places should attract if you are exactly at capacity. Then work out the average per place and feed it into your SRP rate.",null,null,null,null,null,"Finally we can now bring everything together to find your SRP rate. The rate is only the IAR element as these pupils also attract funding through either the schools formula budget or the 16-19 allocations. From the total rate we deduct £6,000 element 2 to reach the element 3 rate."]
[null,null,null,null,null,null,null,null,null,null,null,null,null,null,null,null,null,null,null,null,null,null,15133.277419990043,19790.036293320056,11079.219608167476,13106.768514078762,"1-3"]
[null,null,null,null,null,"Place Numbers",null,null,null,null,null,null,"Actual pupils in October 2019 census",null,null,null,null,"Spread of commissioned places with October mix",null,null,null,null,14613.277419990043,16670.036293320056,8999.2196081674774,11026.768514078762,"4-20"]
[null,null,null,null,null,"2019/20 Academic",null,"2020/21 Academic",null,"2020/21 Financial",null,null,null,null,null,null,null,null,null,null,null,null,13053.277419990043,15630.036293320056,6919.2196081674774,8946.7685140787617,"21+"]
[null,"DFE",null,"School",null,"Pre 16","Post 16","Pre 16","Post 16","Pre 16","Post 16",null,"ASD","PD, HI & VI","SLCN & SPLD","SLD",null,"ASD","PD, HI & VI","SLCN & SPLD","SLD",null,"ASD","PD, HI & VI","SLCN & SPLD","SLD","Average £",null,"Total £","Element 1 pre-16","Element 1 post-16","Element 2","Element 3","Element 3 \n(Monthly)","Class","Summer Places","Winter Places","Census Pupils","Census Pupils","Des 1 2&3","Check","Des 2 2&3","check","Per pupil summary","check","E1 year 1","check","E2 year 1","check","Des 1 y1","Check","Des 2 y1","check"]
["3179A",3179,3179,"Holy Trinity and St John's Church of England Primary School",null,0,0,8,0,4.666666666666667,0,null,0,0,0,0,null,4.666666666666667,0,0,0,null,69755.294626620205,0,0,0,14947.563134275757,null,14947.563134275757,"Included in the Schools Formula Budget","Included in 16-19 allocation",6000,8947.563134275757,{"$f":"AG7/12","v":745.63026118964638},"School",{"$f":"F7+G7","v":0},{"$f":"H7+I7","v":8},{"$f":"SUM(M7:P7)","v":0},{"$f":"SUM(M7:P7)","v":0}]
["2155A",2155,2155,"Slade Primary School",null,5,0,8,0,6.75,0,null,0,10,0,0,null,0,6.75,0,0,null,0,121882.74497991038,0,0,18056.702959986724,null,18056.702959986724,"Included in the Schools Formula Budget","Included in 16-19 allocation",6000,12056.702959986724,1004.7252466655603,"School",5,8,10,10]
["2312A",2312,2312,"River Primary School",null,12,0,10,0,10.833333333333334,0,null,0,0,8,0,null,0,0,10.833333333333334,0,null,0,0,103731.54575514767,0,9575.2196081674774,null,9575.2196081674774,"Included in the Schools Formula Budget","Included in 16-19 allocation",6000,3575.2196081674774,297.93496734728978,"School",12,10,8,8]
["2434A",2434,2434,"West Minster Primary",null,15,0,15,0,15,0,null,0,0,16,0,null,0,0,15,0,null,0,0,141228.29412251216,0,9415.2196081674774,null,9415.2196081674774,"Included in the Schools Formula Budget","Included in 16-19 allocation",6000,3415.2196081674774,284.60163401395647,"School",15,15,16,16]
["2490A",2490,2490,"Bishops Down Primary School",null,7,0,7,0,7.0000000000000009,0,null,0,5,1,0,null,0,5.8333333333333339,1.1666666666666667,0,null,0,106601.87837770034,12925.756209528723,0,17075.37636960415,null,17075.37636960415,"Included in the Schools Formula Budget","Included in 16-19 allocation",6000,11075.37636960415,922.9480308003458,"School",7,7,6,6]
["2603A",2603,2603,"Bromstone Primary School, Broadstairs",null,16,0,20,0,18.333333333333336,0,null,4,1,16,2,null,3.1884057971014497,0.79710144927536242,12.753623188405799,1.5942028985507248,null,48153.058440547968,15774.666610617438,121012.65587228088,20894.84835577774,11227.376142503128,null,11227.376142503128,"Included in the Schools Formula Budget","Included in 16-19 allocation",6000,5227.376142503128,435.61467854192733,"School",16,20,23,23]
["2674A",2674,2674,"Kings Farm Primary School",null,6,0,12,0,9.5,0,null,3,0,0,0,null,8.3333333333333339,0,0,0,null,123337.31183325037,0,0,0,14800.477419990042,null,14800.477419990042,"Included in the Schools Formula Budget","Included in 16-19 allocation",6000,8800.4774199900421,733.37311833250351,"School",6,12,3,3]
["3296A",3296,3296,"Langafel CEP School",null,20,0,25,0,22.916666666666668,0,null,24,0,1,0,null,22,0,0.91666666666666674,0,null,319932.10323978093,0,10155.951307486854,0,14403.842380244412,null,14403.842380244412,"Included in the Schools Formula Budget","Included in 16-19 allocation",6000,8403.8423802444122,700.32019835370102,"School",20,25,25,25]
["3299A",3299,3299,"The John Wesley CofE Methodist Voluntary Aided Primary School",null,6,0,10,0,8.3330000000000002,0,null,0,0,2,0,null,0,0,7.166666666666667,0,null,0,0,70734.407191866921,0,9869.9172825860824,null,9869.9172825860824,"Included in the Schools Formula Budget","Included in 16-19 allocation",6000,3869.9172825860824,322.49310688217355,"School",6,10,2,2]
["3902A",3902,3902,"Hythe Bay C of E Primary School",null,22,0,24,0,23.166666666666668,0,null,0,0,20,0,null,0,0,23.166666666666668,0,null,0,0,208135.2542558799,0,8984.2555793904994,null,8984.2555793904994,"Included in the Schools Formula Budget","Included in 16-19 allocation",6000,2984.2555793904994,248.68796494920829,"School",22,24,20,20]
["3904A",3904,3904,"Castle Hill Community Primary School",null,5,0,7,0,6.1666666666666679,0,null,0,10,0,0,null,0,6.1666666666666679,0,0,null,0,112158.55714214037,0,0,18187.874131157896,null,18187.874131157896,"Included in the Schools Formula Budget","Included in 16-19 allocation",6000,12187.874131157896,1015.6561775964914,"School",5,7,10,10]
["3909A",3909,3909,"Ashford Oaks Community Primary School",null,8,0,8,0,8,0,null,7,0,0,0,null,8,0,0,0,null,118466.21935992033,0,0,0,14808.277419990041,null,14808.277419990041,"Included in the Schools Formula Budget","Included in 16-19 allocation",6000,8808.2774199900414,734.02311833250349,"School",8,8,7,7]
["3910A",3910,3910,"Joy Lane Primary School",null,30,0,30,0,30,0,null,30,0,0,0,null,30,0,0,0,null,424358.32259970129,0,0,0,14145.277419990043,null,14145.277419990043,"Included in the Schools Formula Budget","Included in 16-19 allocation",6000,8145.2774199900432,678.7731183325036,"School",30,30,30,30]
["3917A",3917,"3917A","Garlinge Primary School PD",null,4,0,4,0,4,0,null,0,4,0,0,null,0,4,0,0,null,0,76040.145173280223,0,0,19010.036293320056,null,19010.036293320056,"Included in the Schools Formula Budget","Included in 16-19 allocation",6000,13010.036293320056,1084.1696911100046,"School",4,4,4,4]
["3917B",3917,"3917B","Garlinge Primary School ASD",null,0,0,8,0,4.666666666666667,0,null,0,0,0,0,null,8,0,0,0,null,118466.21935992033,0,0,0,14808.277419990041,null,14808.277419990041,"Included in the Schools Formula Budget","Included in 16-19 allocation",6000,8808.2774199900414,734.02311833250349,"School",0,8,0,0]
["4065A",4065,4065,"Holmesdale Technology College",null,6,0,8,0,7.166666666666667,0,null,4,0,0,1,null,5.7333333333333343,0,0,1.4333333333333336,null,85342.790541276263,0,0,18786.368203512895,14529.650057412438,null,14529.650057412438,"Included in the Schools Formula Budget","Included in 16-19 allocation",6000,8529.6500574124384,710.8041714510365,"School",6,8,5,5]
["4246A",4246,4246,"The North School",null,25,0,27,0,26.2,0,null,27,0,2,0,null,23.275862068965516,0,1.7241379310344827,0,null,336586.28477563028,0,19102.102772702543,0,14227.535501933313,null,14227.535501933313,"Included in the Schools Formula Budget","Included in 16-19 allocation",6000,8227.5355019333128,685.62795849444274,"School",25,27,29,29]
["4622A",4622,4622,"The Judd School",null,5,0,10,0,7.9166666666666679,0,null,3,0,0,0,null,7.9166666666666679,0,0,0,null,117248.44624158787,0,0,0,14810.330051568992,null,14810.330051568992,"Included in the Schools Formula Budget","Included in 16-19 allocation",6000,8810.3300515689916,734.19417096408267,"School",5,10,3,3]
["5221A",5221,5221,"Wincheap Foundation Primary School",null,20,0,20,0,20,0,null,0,0,20,0,null,0,0,20,0,null,0,0,186224.39216334955,0,9311.2196081674774,null,9311.2196081674774,"Included in the Schools Formula Budget","Included in 16-19 allocation",6000,3311.2196081674774,275.93496734728978,"School",20,20,20,20]
["5229A",5229,5229,"Fleetdown Primary School",null,13,0,10,0,11.25,0,null,0,11,0,0,null,0,11.25,0,0,null,0,196897.90829985062,0,0,17502.036293320056,null,17502.036293320056,"Included in the Schools Formula Budget","Included in 16-19 allocation",6000,11502.036293320056,958.50302444333795,"School",13,10,11,11]
["5407A",5407,5407,"Thamesview School",null,6,0,9,0,7.75,0,null,0,7,1,0,null,0,6.78125,0.96875,0,null,0,122403.68361407664,10732.993995412242,0,17178.926143159857,null,17178.926143159857,"Included in the Schools Formula Budget","Included in 16-19 allocation",6000,11178.926143159857,931.57717859665479,"School",6,9,8,8]
["5412A",5412,5412,"Simon Langton Grammar School for Boys",null,23,0,23,0,23,0,null,25,0,0,0,null,23,0,0,0,null,332985.38065977098,0,0,0,14477.625246076999,null,14477.625246076999,"Included in the Schools Formula Budget","Included in 16-19 allocation",6000,8477.6252460769992,706.4687705064166,"School",23,23,25,25]
["5425A",5425,5425,"The Malling School",null,80,28,100,20,91.666666666666671,22.666666666666664,null,55,2,59,2,null,53.290960451977405,1.937853107344633,57.166666666666671,1.937853107344633,null,728381.69075737905,38350.183325473336,443388.72093357414,25398.992092254328,10806.293764798957,null,10806.293764798957,"Included in the Schools Formula Budget","Included in 16-19 allocation",6000,4806.2937647989565,400.52448039991305,"School",108,120,118,118]
["5426A",5426,"5426A","The Archbishops School VI",null,4,0,4,0,4,0,null,0,2,0,0,null,0,4,0,0,null,0,76040.145173280223,0,0,19010.036293320056,null,19010.036293320056,"Included in the Schools Formula Budget","Included in 16-19 allocation",6000,13010.036293320056,1084.1696911100046,"School",{"$f":"F30+G30","v":4},{"$f":"H30+I30","v":4},{"$f":"SUM(M30:P30)","v":2},{"$f":"SUM(M30:P30)","v":2}]
["5426B",5426,"5426B","The Archbishops School SPLD",null,6,0,3,0,4.25,0,null,0,1,2,0,null,0,1.4166666666666665,2.833333333333333,0,null,0,28035.884748870078,31391.122223141178,0,13982.825169885,null,13982.825169885,"Included in the Schools Formula Budget","Included in 16-19 allocation",6000,7982.8251698849999,665.23543082374999,"School",6,3,3,3]
["5431A",5431,5431,"Hugh Christie Technology College",null,22,0,22,0,22,0,null,15,0,4,0,null,17.368421052631579,0,4.6315789473684212,0,null,255369.55518930077,0,47920.596079933573,0,13785.915966783381,null,13785.915966783381,"Included in the Schools Formula Budget","Included in 16-19 allocation",6000,7785.915966783381,648.82633056528175,"School",22,22,19,19]
["2471A",2471,2471,"Aspen",null,112,0,112,0,112,0,null,null,null,null,null,null,null,null,null,null,null,null,null,null,null,null,null,null,null,null,null,9685.5906710675736,807.1325559222978,"School",{"$f":"F33+G33","v":112},{"$f":"H33+I33","v":112},119,119]

{"sheet":"Growth Funding","index":18,"n_rows":59,"n_cols":8,"rows_kept":59,"cut":false,"hidden":false,"merged":[[58,4,58,5],[6,1,6,7],[8,1,8,7],[52,4,52,5],[53,4,53,5],[54,4,54,5],[55,4,55,5],[56,4,56,5],[57,4,57,5],[10,1,10,7],[11,1,11,7]]}
[]
[null,null,null,null,null,null,null,{"$f":"Year1DfE","v":0}]
[]
[]
[]
[]
[null,{"$f":"schoolname","v":""}]
[]
[null,"Growth Funding Estimator"]
[]
[null,"Only complete this tab if Growth Funding has been agreed by Kent County Council. Growth funding entitlement only applies to Basic Need pupil increases."]
[null,"Definition - The DfE define Basic Need as new pupil places which are requested by the LA because there are insufficient places available for pupils in the area. Area Education Officers (AEOs) determine if schools meet eligibility for the DfE Basic Need criteria.\nIf a school meets the Basic Need criteria, growth funding will be allocated under either of the headings Reorganisation or Rising Roll (RR)."]
[null,"This projection is reliant on the pupil numbers entered on the Pupils tab"]
[null,null,null,"Rising Roll Funding",null,null,null,"Reorganisation Funding"]
[null,null,null,"Rising Roll Funding will be paid in December for the full period September 2020 to March 2021",null,null,null,"Will be notified by email, only populate pink cells with information provided in this email."]
[null,"April 2020 to August 2020"]
[]
[]
[null,"September 2020 to March 2021",null,"Qualifying year",{"$f":"IFERROR(VLOOKUP(8860000+H2,'Growth Data'!A:K,3,0),\"NO\")","v":"NO"}]
[null,null,null,"Lower Threshold (Old PAN or number of pupils leaving in Year 6 or Year 11",{"$f":"IF(E19=\"YES\",VLOOKUP(8860000+H2,'Growth Data'!A:K,6,0),0)","v":0}]
[null,null,null,"Upper Threshold (New PAN)",{"$f":"IF(E19=\"YES\",VLOOKUP(8860000+H2,'Growth Data'!A:K,7,0),0)","v":0}]
[null,null,null,{"$f":"\"Pupils in year \"&IF(OR(year1phase=1,year1phase=4),\"R\",\"7\")&\" Oct 20\"","v":"Pupils in year 7 Oct 20"},{"$f":"IF(E19=\"NO\",0,IF(H2=2265,Pupils!B21,IF(OR(year1phase=1,year1phase=4),Pupils!B9,Pupils!B16)))","v":0}]
[null,null,null,"Qualifying pupils",{"$f":"IFERROR(IF(E19=\"NO\",0,IF(E22<E20,0,IF(E22>E21,E21-E20,E22-E20))),0)","v":0}]
[null,null,null,"Rate",{"$f":"IF(qual1=\"YES\",IF(year1phase=1,'Year 1'!$G$10*(7/12),IF(year1phase=2,'Year 1'!$G$11*(7/12),IF(year1phase=4,'Year 1'!$G$10*(7/12),0))),0)","v":0}]
[]
[null,null,null,"Rising Roll",{"$f":"E23*E24","v":0}]
[null,"April 2021 to August 2021"]
[null,null,null,null,null,null,"Protected pupils"]
[null,null,null,null,null,null,null,{"$f":"(IF(year1phase=1,'Year 1'!$G$10*(5/12),IF(year1phase=2,'Year 1'!$G$11*(5/12),IF(year1phase=4,'Year 1'!$G$10*(5/12),0))))*H28","v":0}]
[]
[null,"September 2021 to March 2022",null,"Qualifying year",{"$f":"IFERROR(VLOOKUP(8860000+H2,'Growth Data'!A:F,4,0),\"NO\")","v":"NO"}]
[null,null,null,"Lower Threshold (Old PAN or number of pupils leaving in Year 6 or Year 11",{"$f":"IF(E31=\"YES\",VLOOKUP(8860000+H2,'Growth Data'!A:K,8,0),0)","v":0}]
[null,null,null,"Upper Threshold (New PAN)",{"$f":"IF(E31=\"YES\",VLOOKUP(8860000+H2,'Growth Data'!A:K,9,0),0)","v":0}]
[null,null,null,{"$f":"\"Pupils in year \"&IF(OR(year1phase=1,year1phase=4),\"R\",\"7\")&\" Oct 21\"","v":"Pupils in year 7 Oct 21"},{"$f":"IF(E31=\"NO\",0,IF(H2=2265,Pupils!C21,IF(OR(year1phase=1,year1phase=4),Pupils!C9,Pupils!C16)))","v":0}]
[null,null,null,"Qualifying pupils",{"$f":"IFERROR(IF(E31=\"NO\",0,IF(E34<E32,0,IF(E34>E33,E33-E32,E34-E32))),0)","v":0}]
[null,null,null,"Rate",{"$f":"IF(qual2=\"YES\",IF(year1phase=1,'Year 1'!$G$10*(7/12),IF(year1phase=2,'Year 1'!$G$11*(7/12),IF(year1phase=4,'Year 1'!$G$10*(7/12),0))),0)","v":0}]
[]
[null,null,null,"Rising Roll",{"$f":"E35*E36","v":0}]
[null,"April 2022 to August 2022"]
[null,null,null,null,null,null,"Protected pupils"]
[null,null,null,null,null,null,null,{"$f":"(IF(year1phase=1,'Year 1'!G10*(5/12),IF(year1phase=2,'Year 1'!G11*(5/12),IF(year1phase=4,'Year 1'!G10*(5/12),0))))*H40","v":0}]
[]
[null,"September 2022 to March 2023",null,"Qualifying year",{"$f":"IFERROR(VLOOKUP(8860000+H2,'Growth Data'!A:F,5,0),\"NO\")","v":"NO"}]
[null,null,null,"Lower Threshold (Old PAN or number of pupils leaving in Year 6 or Year 11",{"$f":"IF(E43=\"YES\",VLOOKUP(8860000+H2,'Growth Data'!A:K,10,0),0)","v":0}]
[null,null,null,"Upper Threshold (New PAN)",{"$f":"IF(E43=\"YES\",VLOOKUP(8860000+H2,'Growth Data'!A:K,11,0),0)","v":0}]
[null,null,null,{"$f":"\"Pupils in year \"&IF(OR(year1phase=1,year1phase=4),\"R\",\"7\")&\" Oct 22\"","v":"Pupils in year 7 Oct 22"},{"$f":"IF(E43=\"NO\",0,IF(H2=2265,Pupils!D21,IF(OR(year1phase=1,year1phase=4),Pupils!D9,Pupils!D16)))","v":0}]
[null,null,null,"Qualifying pupils",{"$f":"IFERROR(IF(E43=\"NO\",0,IF(E46<E44,0,IF(E46>E45,E45-E44,E46-E44))),0)","v":0}]
[null,null,null,"Rate",{"$f":"IF(qual3=\"YES\",IF(year1phase=1,'Year 1'!$G$10*(7/12),IF(year1phase=2,'Year 1'!$G$11*(7/12),IF(year1phase=4,'Year 1'!$G$10*(7/12),0))),0)","v":0}]
[]
[null,null,null,"Rising Roll",{"$f":"E47*E48","v":0}]
[]
[null,"SUMMARY"]
[null,null,null,"Rising Roll Funding","Reorganisation Funding",null,null,"Actual Funding"]
[null,"2020/21 Financial year","Apr - Aug",null,{"$f":"H17","v":0}]
[null,null,"Sep-Mar",{"$f":"E26","v":0},{"$f":"H20","v":0},null,null,{"$f":"SUM(D54:F55)","v":0}]
[null,"2021/22 Financial year","Apr - Aug",null,{"$f":"H29","v":0}]
[null,null,"Sep-Mar",{"$f":"E38","v":0},{"$f":"H32","v":0},null,null,{"$f":"SUM(D56:F57)","v":0}]
[null,"2022/23 Financial year","Apr - Aug",null,{"$f":"H41","v":0}]
[null,null,"Sep-Mar",{"$f":"E50","v":0},{"$f":"H44","v":0},null,null,{"$f":"SUM(D58:F59)","v":0}]

{"sheet":"BPS Summary","index":19,"n_rows":66,"n_cols":7,"rows_kept":66,"cut":false,"hidden":false,"merged":[]}
[9,{"$f":"Year1DfE&\" - \"&schoolname","v":" - "},{"$f":"TODAY()","v":"2020-05-15"},"Year 1","Year 2","Year 3"]
[9,"Source of Funding -table","CFR Code","2020-21","2021-22","2022-23","Notes"]
[9]
[9,"School Budget Share (SBS)","I01",{"$f":"TotalSBS","v":0},{"$f":"'Year 2'!E38","v":0},{"$f":"'Year 3'!E38","v":0}]
[9,"Estimated Growth Funding","I01",{"$f":"'Year 1'!H52","v":0},{"$f":"'Year 2'!E41","v":0},{"$f":"'Year 3'!E41","v":0}]
[9,"High Needs Mainstream Funding Element 3 Top Up","I03",{"$f":"'High Needs Mainstream'!H9","v":0},{"$f":"'High Needs Mainstream'!I9","v":0},{"$f":"'High Needs Mainstream'!J9","v":0}]
[9,"High Needs Mainstream Funding - Notional SEN Top Up 10%","I01",{"$f":"'High Needs Mainstream'!H10","v":0},{"$f":"'High Needs Mainstream'!I10","v":0},{"$f":"'High Needs Mainstream'!J10","v":0}]
[9,"High Needs Mainstream Funding - Notional SEN Top Up 28%","I01",{"$f":"'High Needs Mainstream'!H11","v":0},{"$f":"'High Needs Mainstream'!I11","v":0},{"$f":"'High Needs Mainstream'!J11","v":0}]
[9,"High Needs Mainstream Funding - Element 2 Post 16","I02",{"$f":"'High Needs Mainstream'!H12","v":0},{"$f":"'High Needs Mainstream'!I12","v":0},{"$f":"'High Needs Mainstream'!J12","v":0}]
[9,"High Needs Specialist Resource Provision (SRP) Funding - Place Funding Pre-16","I01",{"$f":"'SRP Year 1'!H93+'SRP Year 1'!H94-D11","v":0},{"$f":"'SRP Year 2 & 3'!S18+'SRP Year 2 & 3'!S21","v":0},{"$f":"'SRP Year 2 & 3'!S32+'SRP Year 2 & 3'!S35","v":0}]
[9,"High Needs Specialist Resource Provision (SRP) Funding - Place Funding Post-16","I02",{"$f":"IF(Year1DfE=5425,'SRP Rates'!G29*6000,0)","v":0},{"$f":"'SRP Year 2 & 3'!S19+'SRP Year 2 & 3'!S22","v":0},{"$f":"'SRP Year 2 & 3'!S33+'SRP Year 2 & 3'!S36","v":0}]
[9,"High Needs Specialist Resource Provision (SRP) Funding  - Excess Place Funding","I01",{"$f":"'SRP Year 1'!H95+'SRP Year 1'!H96","v":0},0,0]
[9,"High Needs Specialist Resource Provision (SRP) Funding - Element 3 Top Up","I03",{"$f":"'SRP Year 1'!H97","v":0},{"$f":"'SRP Year 2 & 3'!T24","v":0},{"$f":"'SRP Year 2 & 3'!T38","v":0}]
[9,"Early Years","I01",{"$f":"earlyyears+'Early Years'!C121+'Early Years'!D121+'Early Years'!E121","v":0},{"$f":"'Early Years'!J64+'Early Years'!F121+'Early Years'!G121+'Early Years'!H121","v":0},{"$f":"'Early Years'!J65+'Early Years'!I121+'Early Years'!J121+'Early Years'!K121","v":0}]
[9,"Early Years (SENIF & DAF)","I03",{"$f":"'Early Years'!C126+'Early Years'!C127","v":0},{"$f":"'Early Years'!F126+'Early Years'!F127","v":0},{"$f":"'Early Years'!I126+'Early Years'!I127","v":0}]
[9,"Post 16 allocation","I02",{"$f":"'Other Grants'!K33","v":0},{"$f":"'Other Grants'!L33","v":0},{"$f":"'Other Grants'!M33","v":0}]
[9,"Pupil Premium (5 to 16 year olds)","I05",{"$f":"'Other Grants'!K13","v":0},{"$f":"'Other Grants'!L13","v":0},{"$f":"'Other Grants'!M13","v":0}]
[9,"Pupil Premium (3 & 4 year olds)","I01",{"$f":"SUM('Early Years'!C92:E92)","v":0},{"$f":"SUM('Early Years'!F92:H92)","v":0},{"$f":"SUM('Early Years'!I92:K92)","v":0}]
[9,"Universal Infant Free School Meals","I18",{"$f":"'Other Grants'!K28","v":0},{"$f":"'Other Grants'!L28","v":0},{"$f":"'Other Grants'!M28","v":0}]
[{"$f":"IF(SUM(D20:F20)>0,9,0)","v":0},"Teachers Pay Increase 2018 (TPG)","I01",{"$f":"'Other Grants'!K36","v":0},{"$f":"'Other Grants'!L36","v":0},{"$f":"'Other Grants'!M36","v":0}]
[{"$f":"IF(SUM(D21:F21)>0,9,0)","v":0},"Teachers Pension Grant","I01",{"$f":"'Other Grants'!K37","v":0},{"$f":"'Other Grants'!L37","v":0},{"$f":"'Other Grants'!M37","v":0}]
[{"$f":"IF(SUM(D22:F22)>0,9,0)","v":0},"Teachers Pension Supplementary Grant","I01",{"$f":"'Other Grants'!K38","v":0},{"$f":"'Other Grants'!L38","v":0},{"$f":"'Other Grants'!M38","v":0}]
[{"$f":"IF(SUM(D23:F23)>0,9,0)","v":0},"Year 7 Catch Up","I06",{"$f":"'Other Grants'!K40","v":0},{"$f":"'Other Grants'!L40","v":0},{"$f":"'Other Grants'!M40","v":0}]
[0,"PE & Sport Premium Grant","I18",{"$f":"'Other Grants'!K39","v":0},{"$f":"'Other Grants'!L39","v":0},{"$f":"'Other Grants'!M39","v":0}]
[0,{"$f":"'Other Grants'!$B41","v":0},{"$f":"'Other Grants'!$C41","v":0},{"$f":"'Other Grants'!K41","v":0},{"$f":"'Other Grants'!L41","v":0},{"$f":"'Other Grants'!M41","v":0}]
[0,{"$f":"'Other Grants'!$B42","v":0},{"$f":"'Other Grants'!$C42","v":0},{"$f":"'Other Grants'!K42","v":0},{"$f":"'Other Grants'!L42","v":0},{"$f":"'Other Grants'!M42","v":0}]
[{"$f":"IF(SUM(D27:F27)>0,9,0)","v":0},{"$f":"'Other Grants'!$B43","v":0},{"$f":"'Other Grants'!$C43","v":0},{"$f":"'Other Grants'!K43","v":0},{"$f":"'Other Grants'!L43","v":0},{"$f":"'Other Grants'!M43","v":0}]
[0,{"$f":"'Other Grants'!$B44","v":0},{"$f":"'Other Grants'!$C44","v":0},{"$f":"'Other Grants'!K44","v":0},{"$f":"'Other Grants'!L44","v":0},{"$f":"'Other Grants'!M44","v":0}]
[0,{"$f":"'Other Grants'!$B45","v":0},{"$f":"'Other Grants'!$C45","v":0},{"$f":"'Other Grants'!K45","v":0},{"$f":"'Other Grants'!L45","v":0},{"$f":"'Other Grants'!M45","v":0}]
[0,{"$f":"'Other Grants'!$B46","v":0},{"$f":"'Other Grants'!$C46","v":0},{"$f":"'Other Grants'!K46","v":0},{"$f":"'Other Grants'!L46","v":0},{"$f":"'Other Grants'!M46","v":0}]
[0,{"$f":"'Other Grants'!$B47","v":0},{"$f":"'Other Grants'!$C47","v":0},{"$f":"'Other Grants'!K47","v":0},{"$f":"'Other Grants'!L47","v":0},{"$f":"'Other Grants'!M47","v":0}]
[0,{"$f":"'Other Grants'!$B48","v":0},{"$f":"'Other Grants'!$C48","v":0},{"$f":"'Other Grants'!K48","v":0},{"$f":"'Other Grants'!L48","v":0},{"$f":"'Other Grants'!M48","v":0}]
[9,"Total",null,{"$f":"SUM(D4:D32)","v":0},{"$f":"SUM(E4:E32)","v":0},{"$f":"SUM(F4:F32)","v":0}]
[0,null,null,{"$f":"revbudget","v":0},{"$f":"'Year 2'!E49","v":0},{"$f":"'Year 3'!E49","v":0}]
[0,"Control Check",null,{"$f":"IF(D33-D34=0,\"\",D33-D34)","v":""},{"$f":"IF(E33-E34=0,\"\",E33-E34)","v":""},""]
[9]
[9,"Summary for input in BPS"]
[{"$f":"IF(SUM(D38:F38)>0,9,0)","v":0},"Funds Delegated by the LA","I01",{"$f":"SUM(D4+D5+D7+D8+D10+D12+D14)","v":0},{"$f":"SUM(E4+E5+E7+E8+E10+E12+E14)","v":0},{"$f":"SUM(F4+F5+F7+F8+F10+F12+F14)","v":0}]
[{"$f":"IF(SUM(D39:F39)>0,9,0)","v":0},"Early Years Pupil Premium","I01",{"$f":"D18","v":0},{"$f":"E18","v":0},{"$f":"F18","v":0}]
[0,"Teachers Pay Increase 2018 (TPG)","I01",{"$f":"D20","v":0},0,0]
[{"$f":"IF(SUM(D41:F41)>0,9,0)","v":0},"Teachers Pension Grant","I01",0,0,0]
[{"$f":"IF(SUM(D42:F42)>0,9,0)","v":0},"Teachers Pension Supplementary Grant","I01",0,0,0]
[0,"Funding for Sixth-form Students","I02",{"$f":"SUM(D9+D11+D16)","v":0},{"$f":"SUM(E9+E11+E16)","v":0},{"$f":"SUM(F9+F11+F16)","v":0}]
[0,"High Needs top-up Funding","I03",{"$f":"SUM(D6+D13)","v":0},{"$f":"SUM(E6+E13)","v":0},{"$f":"SUM(F6+F13)","v":0}]
[0,"Early Years (SENIF & DAF)","I03",{"$f":"D15","v":0},{"$f":"E15","v":0},{"$f":"F15","v":0}]
[0,"Pupil Premium","I05",{"$f":"D17","v":0},{"$f":"E17","v":0},{"$f":"F17","v":0}]
[0,"Year 7 Catch Up","I06",{"$f":"D23","v":0},{"$f":"E23","v":0},{"$f":"F23","v":0}]
[0,"Universal Infant Free School Meals","I18",{"$f":"D19","v":0},{"$f":"E19","v":0},{"$f":"F19","v":0}]
[0,"PE & Sport Premium Grant","I18",{"$f":"D24","v":0},0,0]
[0,{"$f":"B25","v":0},{"$f":"C25","v":0},0,0,0]
[0,{"$f":"B26","v":0},{"$f":"C26","v":0},0,0,0]
[{"$f":"IF(SUM(D52:F52)>0,9,0)","v":0},{"$f":"B27","v":0},0,{"$f":"D27","v":0},0,0]
[0,{"$f":"B28","v":0},0,0,0,0]
[0,{"$f":"B29","v":0},0,0,0,0]
[0,{"$f":"B30","v":0},0,0,0,0]
[0,{"$f":"B31","v":0},0,0,0,0]
[0,{"$f":"B32","v":0},0,0,0,0]
[9,null,"Total",{"$f":"SUM(D38:D57)","v":0},{"$f":"SUM(E38:E57)","v":0},{"$f":"SUM(F38:F57)","v":0}]
[9]
[9,null,"De-delegation ",{"$f":"Year1DeDel","v":0},{"$f":"'Year 2'!E59","v":0},{"$f":"'Year 3'!E59","v":0}]
[9]
[9,null,"Please see the BPS Guidance notes for instructions on how"]
[9,null,"to enter the above figures onto the BPS for your school."]
[9]
[9]
[9]