{"text_format":"1","workbook":"xlsx","n_sheets":20,"sheets":["Data","TestArea","Growth Data","TestAreaY2","Contents","Rates Table","Year 1","MFG Y1","Pupils","Year 2","MFG Y2","Year 3","Early Years","High Needs Mainstream","SRP Year 1","SRP Year 1 Rec","SRP Year 2 & 3","SRP Rates","Growth Funding","BPS Summary"],"not_rendered":{"charts":0,"images":2,"macros":1,"external_links":0,"defined_names":66,"comments":3,"pivot_tables":0},"unopened":[],"bounds":{"document_bytes":16777216,"sheet_cells":100000,"rows_first":2000,"rows_last":500,"rows_between":2000,"halvings":0,"cell_chars":16384,"cell_head_chars":4096},"cells_cut":0,"cells_raw":0,"read":"whole","date_system":"1900"}

{"sheet":"Data","index":0,"n_rows":325,"n_cols":76,"rows_kept":325,"cut":false,"hidden":true,"merged":[]}
[1,2,3,4,5,6,7,8,9,10,11,12,13,14,15,16,17,18,19,20,21,22,23,24,25,26,27,28,29,30,31,32,33,34,35,36,37,38,39,40,41,42,43,44,45,46,47,48,49,50,51,52,53,54,55,56,57,58,59,60,61,62,63,64,65,66,67,68,69,70,71,72,73,74,75,76]
["final list","School Name","Phase","Primary","KS3","KS4","FSM Primary","FSM Secondary","IDACI F - Primary","IDACI E - Primary","IDACI D - Primary","IDACI C - Primary","IDACI B - Primary","IDACI A - Primary","IDACI F - Secondary","IDACI E - Secondary","IDACI D - Secondary","IDACI C - Secondary","IDACI B - Secondary","IDACI A - Secondary","Primary Sparsity","Secondary Sparsity","EAL PRI","EAL SEC","LOW COST SEN - Primary","LOW COST SEN - Secondary","Area Cost Adjustment Total","Rates Total","PFI Total","Exceptional al factors","Base Rate","QTS","Disadvantage","Ever 6 FSM - Primary","Ever 6 FSM - Secondary","2017/18","2017-18 rates","2019/20 PFI Funding","oct 16 pupils","17/18 lump","18/19 lump",null,null,"SRP Des1 Pre","SRP Des2 Pre","SRP Des1 Post","SRP Des2 Post","SRP Places SUMMER PRE","SRP Places SUMMER POST","SRP Places WINTER PRE","SRP Places WINTER POST","SRP actuals (OCT)"]
[1001,"Northfleet Nursery",6,0,0,0,0,0,0,0,0,0,0,0,0,0,0,0,0,0,0,0,0,0,0,0,1,0,0,0,4,0.9,0.10999999999999976,0,0,0,0,0,0,0,0,0,0,0,0,0,0,0,0,0,0,0]
[2000,"St Johns C of E Primary School",1,272,0,0,108.00000000000007,0,7.0000000000000107,0.99999999999999889,17,91.000000000000071,63.000000000000128,0,0,0,0,0,0,0,0,0,42.464135021097157,0,106.32808300380692,0,1,23640,0,0,4,0.9,9.9999999999999978E-2,142.03412969283278,0,1265704.8379486168,23761,0,295,120000,120082.8,null,null,0,null,0,null,0,0,0,0,0]
[2002,"Repton Manor Primary School",1,449,0,0,23.000000000000004,0,29.064732142857164,14.03125,7.015625,18.040178571428559,14.03125,0,0,0,0,0,0,0,0,0,48.372928176795469,0,87.074451055390483,0,1,14506,0,0,null,null,null,69.530183727034128,0,1352279.0803671472,13406,0,379,120000,120082.8,null,null,0,null,0,null,0,0,0,0,0]
[2044,"Loose Primary School",1,652,0,0,31.000000000000032,0,136.99999999999994,2.9999999999999996,15.00000000000003,18.999999999999982,25.000000000000004,0,0,0,0,0,0,0,0,0,23.202846975088939,0,119.31061369986512,0,1,57681,0,0,null,null,null,64.801223241590208,0,2145714.4135029819,56359,0,655,120000,120082.8,null,null,0,null,0,null,0,0,0,0,0]
[2062,"Darenth Community Primary School",1,185,0,0,29.999999999999972,0,14.076086956521733,101.54891304347828,3.0163043478260954,8.0434782608695627,2.0108695652173907,0,0,0,0,0,0,0,0,0,5.7453416149068302,0,82.471767363071706,0,1.0364,10923,0,0,null,null,null,58.259668508287291,0,728506.49963029311,10349,0,175,120000,120082.8,null,null,0,null,0,null,0,0,0,0,0]
[2065,"Discovery School, The",1,630,0,0,16.000000000000004,0,2.9999999999999987,6.9999999999999929,1.0000000000000016,0,2.9999999999999987,0,0,0,0,0,0,0,0,0,26.833333333333336,0,126.51685393258406,0,1,73457,0,0,null,null,null,28.954041204437399,0,2059346.960822467,114924,0,629,120000,120082.8,null,null,0,null,0,null,0,0,0,0,0]
[2066,"Maypole Primary School",1,410,0,0,49.99999999999995,0,36,14.999999999999984,1.9999999999999978,14.999999999999984,6.9999999999999938,0,0,0,0,0,0,0,0,0,11.452513966480426,0,117.28222636043861,0,1.0364,48815,0,0,null,null,null,56.831683168316836,0,1482461.6567238751,86430,0,414,120000,120082.8,null,null,0,null,0,null,0,0,0,0,0]
[2074,"Sunny Bank Primary School",1,273,0,0,83,0,63.000000000000064,51.999999999999865,69.999999999999886,9.0000000000000089,54.999999999999872,2.0000000000000013,0,0,0,0,0,0,0,0,38.528225806451744,0,124.11155913978494,0,1,19661,0,17750,4,0.9,0.2100000000000003,125.58000000000001,0,1309433.7777189263,19542,0,294,204000,120082.8,null,null,0,null,0,null,0,0,0,0,0]
[2079,"Woodlands Primary School",1,653,0,0,40.000000000000036,0,78.999999999999943,8.999999999999984,0,26.000000000000025,0,0,0,0,0,0,0,0,0,0,17.397868561278869,0,140.40778230121785,0,1,55709,0,0,null,null,null,76.048136645962728,0,2137586.4205199294,32021,0,644,204000,120082.8,null,null,0,null,0,null,0,0,0,0,0]
[2088,"Crockenhill Primary School",1,207,0,0,14.999999999999995,0,1.0000000000000011,8.0000000000000036,11.999999999999996,8.9999999999999964,20,0,0,0,0,0,0,0,0,0,3.488764044943828,0,40.285199535063946,0,1.0364,23918,0,0,null,null,null,35.826923076923073,0,805102.63236556866,44840,0,208,120000,120082.8,null,null,0,null,0,null,0,0,0,0,0]
[2089,"Anthony Roper Primary School, The",1,314,0,0,15.000000000000007,0,0,1.0000000000000004,0,0,2.0000000000000009,0,0,0,0,0,0,0,0,0,3.4888888888888854,0,70.184116991278074,0,1.0364,6409,0,0,null,null,null,23,0,1058351.5708071275,5568,0,313,120000,120082.8,null,null,0,null,0,null,0,0,0,0,0]
[2094,"Cobham Primary School",1,218,0,0,7.9999999999999956,0,11.999999999999995,5.0000000000000089,3.9999999999999978,0,0.99999999999999944,0,0,0,0,0,0,0,0,0,2.3191489361702069,0,35.010229132569506,0,1,16560,0,0,null,null,null,10,0,758826.36426217295,13722,0,218,120000,120082.8,null,null,0,null,0,null,0,0,0,0,0]
[2095,"Cecil Road Primary and Nursery School",1,382,0,0,40.000000000000092,0,179.99999999999986,26.000000000000007,5.0000000000000018,5.0000000000000018,2.0000000000000009,0,0,0,0,0,0,0,0,0,97.257668711656436,0,99.080463866283466,0,1,32785,0,0,4,0.9,0,47.497354497354493,0,1422904.8517180814,29180,0,379,120000,120082.8,null,null,0,null,0,null,0,0,0,0,0]
[2109,"Higham Primary School",1,216,0,0,12.000000000000011,0,1.0000000000000002,2.0000000000000004,2.0000000000000004,0,0,0,0,0,0,0,0,0,0,0,4.6451612903225756,0,46.025806451612844,0,1,18148,0,0,null,null,null,21.39622641509434,0,748602.29813198163,14118,0,212.00000000000003,120000,120082.8,null,null,0,null,0,null,0,0,0,0,0]
[2116,"Lawn Primary School",1,200,0,0,79,0,9,3,7.0000000000000009,40,128,0,0,0,0,0,0,0,0,0,37.869822485207003,0,95.440709461801887,0,1,17812,0,0,4,0.9,0.61999999999999955,122.11538461538463,0,936289.72674243629,13962,0,208.99999999999997,120000,120082.8,null,null,0,null,0,null,0,0,0,0,0]
[2119,"Shears Green Infant School",1,359,0,0,30.999999999999996,0,88.999999999999886,75.000000000000128,4.9999999999999964,1.9999999999999987,14.000000000000012,0,0,0,0,0,0,0,0,0,44.875,0,76.151515151515099,0,1,20953,0,0,null,null,null,45,0,1318598.189492644,21824,0,360,120000,120082.8,null,null,0,null,0,null,0,0,0,0,0]
[2120,"Bean Primary School",1,204,0,0,23.000000000000064,0,118.00000000000009,16,0,0,4.9999999999999947,0,0,0,0,0,0,0,0,0,10.551724137931039,0,62.735111262102976,0,1.0364,11427,0,0,null,null,null,37.366336633663366,0,814609.63665008789,11747,0,204,120000,120082.8,null,null,0,null,0,null,0,0,0,0,0]
[2127,"Paddock Wood Primary School",1,605,0,0,49.000000000000007,0,104.99999999999972,2.9999999999999982,3.9999999999999973,0.99999999999999933,0.99999999999999933,0,0,0,0,0,0,0,0,0,5.7400379506641386,0,123.74409844582971,0,1,58174,0,0,null,null,null,101.9773095623987,0,1964630.877795249,56918,0,606,120000,120082.8,null,null,0,null,0,null,0,0,0,0,0]
[2128,"Capel Primary School",1,212,0,0,11.000000000000002,0,5.0000000000000089,2.9999999999999969,1.9999999999999991,2.9999999999999969,0,0,0,0,0,0,0,0,0,0,0,0,33.820386510041594,0,1,16636,0,0,null,null,null,22.104265402843602,0,733853.40140833764,13859,0,210,120000,120082.8,null,null,0,null,0,null,0,0,0,0,0]
[2130,"Dunton Green Primary School",1,162,0,0,15.000000000000002,0,0,0,0,0,0,0,0,0,0,0,0,0,0,0,17.632653061224492,0,43.261932872322546,0,1.0364,23640,0,0,null,null,null,36.40449438202247,0,685327.24184301519,20172,0,180,120000,120082.8,null,null,0,null,0,null,0,0,0,0,0]
[2132,"Hadlow School",1,205,0,0,38.999999999999922,0,1.0049019607843146,86.421568627450895,0,5.0245098039215632,0,0,0,0,0,0,0,0,0,0,5.857142857142863,0,44.881272866502201,0,1,17812,0,0,null,null,null,54.170984455958546,0,746688.16485511011,14824,0,194,120000,120082.8,null,null,0,null,0,null,0,0,0,0,0]
[2133,"Halstead Community Primary School",1,91,0,0,21.000000000000021,0,1.0000000000000011,4.9999999999999964,3.0000000000000031,0,0,0,0,0,0,0,0,0,0,0,7.8641975308641934,0,27.866711469534057,0,1.0364,8466,0,0,null,null,null,26.886363636363637,0,394998.61342660186,6745,0,84,120000,120082.8,null,null,0,null,0,null,0,0,0,0,0]
[2134,"Four Elms Primary School",1,110,0,0,7.9999999999999964,0,19.000000000000032,13.999999999999972,0,0,0,0,0,0,0,0,0,0,0,0,3.4736842105263213,0,30.336842105263145,0,1.0364,12840,0,0,null,null,null,14.601769911504427,0,486291.61130466993,12307,0,113.00000000000001,120000,120082.8,null,null,0,null,0,null,0,0,0,0,0]
[2135,"Horsmonden Primary School",1,192,0,0,21,0,3.0476190476190528,0,2.0317460317460352,0,0,0,0,0,0,0,0,0,0,0,0,0,39.213872832369901,0,1,16804,0,0,null,null,null,21,0,699856.31425255211,13985,0,198.00000000000003,120000,120082.8,null,null,0,null,0,null,0,0,0,0,0]
[2136,"Kemsing Primary School",1,200,0,0,16,0,0,0,1,0,0,0,0,0,0,0,0,0,0,0,1.15606936416185,0,62.199100834938967,0,1.0364,18148,0,0,null,null,null,17.391304347826086,0,753877.54945576005,15104,0,208.99999999999997,120000,120082.8,null,null,0,null,0,null,0,0,0,0,0]
[2137,"Leigh Primary School",1,161,0,0,3.9999999999999987,0,0,2.0125000000000002,0,0,0,0,0,0,0,0,0,0,0,0,0,0,36.615161557580798,0,1.0364,11736,0,0,null,null,null,13.104651162790699,0,636509.32767264277,11339,0,172,120000,120082.8,null,null,0,null,0,null,0,0,0,0,0]
[2138,"Otford Primary School",1,395,0,0,24.000000000000011,0,2.0000000000000013,0,0.99999999999999878,0,0,0,0,0,0,0,0,0,0,0,6.9705882352941133,0,78.68362198990998,0,1.0364,28348,0,0,null,null,null,35,0,1306588.528761579,27741,0,395,120000,120082.8,null,null,0,null,0,null,0,0,0,0,0]
[2139,"Pembury School",1,475,0,0,21.999999999999993,0,16.000000000000007,3,4.0000000000000018,3,0,0,0,0,0,0,0,0,0,0,23.863636363636381,0,85.354496047430871,0,1,40919,0,0,null,null,null,32.825203252032523,0,1553495.8896662006,19913,0,486,120000,120082.8,null,null,0,null,0,null,0,0,0,0,0]
[2142,"Sandhurst Primary School",1,138,0,0,14.999999999999995,0,26.999999999999932,0,0,0,0.99999999999999967,0,0,0,0,0,0,0,0,0,3.4214876033057902,0,31.135537190082648,0,1,20760,0,0,null,null,null,20.7,0,564297.71175422566,18330,0,144,120000,120082.8,null,null,0,null,0,null,0,0,0,0,0]
[2147,"Weald Community Primary School",1,158,0,0,3,0,0.99999999999999956,2.0000000000000053,2.0000000000000053,0,0,0,0,0,0,0,0,0,0,0,7.843971631205676,0,34.202542968500381,0,1.0364,13920,0,0,null,null,null,6.5443786982248522,0,635696.57064991153,15958,0,169,120000,120082.8,null,null,0,null,0,null,0,0,0,0,0]
[2148,"Shoreham Village School",1,89,0,0,9.0000000000000018,0,1.0000000000000022,0,0,1.0000000000000022,0,0,0,0,0,0,0,0,0,0,4.810810810810815,0,28.660834942084943,0,1.0364,14280,0,0,null,null,null,21.238636363636363,0,397102.04263560032,15573,0,86,120000,120082.8,null,null,0,null,0,null,0,0,0,0,0]
[2155,"Slade Primary School",1,379,0,0,20.000000000000014,0,6.9999999999999885,12,0,3,0,0,0,0,0,0,0,0,0,0,36.830721003134784,0,104.14548517032976,0,1,24454,0,0,null,null,null,36.342465753424655,0,1217725.0820053648,20479,0,358,120000,120082.8,null,null,985.74008760577362,null,null,null,5,0,5,0,6]
[2156,"Sussex Road Community Primary School",1,442,0,0,32.000000000000014,0,1.0000000000000013,13.000000000000021,1.9999999999999982,2.9999999999999991,0,0,0,0,0,0,0,0,0,0,45.125654450261628,0,68.881605409684752,0,1,42891,0,0,null,null,null,56.743243243243242,0,1461189.628073141,40755,0,442.99999999999994,120000,120082.8,null,null,0,null,0,null,0,0,0,0,0]
[2161,"Boughton Monchelsea Primary School",1,211,0,0,11.999999999999991,0,4.0382775119617138,0,3.0287081339712851,3.0287081339712851,6.0574162679425916,0,0,0,0,0,0,0,0,0,4.6629834254143736,0,64.618903440859881,0,1,21720,0,0,null,null,null,15.071428571428571,0,750363.49897965661,20278,0,208.99999999999997,120000,120082.8,null,null,0,null,0,null,0,0,0,0,0]
[2163,"East Farleigh Primary School",1,203,0,0,5.0000000000000036,0,26.999999999999922,0,1.9999999999999993,7.0000000000000098,1.9999999999999993,0,0,0,0,0,0,0,0,0,8.1666666666666732,0,36.383908045976995,0,1,16080,0,0,null,null,null,15.766990291262134,0,736132.71880303521,15104,0,205.00000000000003,120000,120082.8,null,null,0,null,0,null,0,0,0,0,0]
[2164,"East Peckham Primary School",1,165,0,0,8.9999999999999929,0,4.0490797546012276,4.0490797546012276,0,0,0,0,0,0,0,0,0,0,0,0,1.1785714285714282,0,40.674984737484728,0,1,16804,0,0,null,null,null,17.57396449704142,0,605595.50865048717,13369,0,163,120000,120082.8,null,null,0,null,0,null,0,0,0,0,0]
[2165,"Headcorn Primary School",1,225,0,0,13.999999999999995,0,0.999999999999999,0,0.999999999999999,0,0,0,0,0,0,0,0,0,0,0,4.9723756906077448,0,16.360450888056647,0,1,17140,0,0,null,null,null,30,0,726684.88612368261,16782,0,208.99999999999997,120000,120082.8,null,null,0,null,0,null,0,0,0,0,0]
[2166,"Hollingbourne Primary School",1,100,0,0,5,0,0,0,0,0,0,0,0,0,0,0,0,0,0,0,1.13636363636364,0,21.886674968866775,0,1,13440,0,0,null,null,null,7.4766355140186906,0,442736.59600437037,12446,0,107,120000,120082.8,null,null,0,null,0,null,0,0,0,0,0]
[2167,"Ightham Primary School",1,205,0,0,0.99999999999999889,0,5.9999999999999938,0,0,0,0,0,0,0,0,0,0,0,0,0,4.6857142857142939,0,32.197551020408213,0,1,20640,0,0,null,null,null,4.9043062200956937,0,738493.02300443815,26348,0,208,120000,120082.8,null,null,0,null,0,null,0,0,0,0,0]
[2168,"Lenham Primary School",1,208,0,0,14.999999999999996,0,0,0,0,0,1.0000000000000004,0,0,0,0,0,0,0,0,0,2.3370786516853981,0,37.651142967841956,0,1,17980,0,0,null,null,null,37,0,730920.1723838438,14964,0,206,120000,120082.8,null,null,0,null,0,null,0,0,0,0,0]
[2169,"Platts Heath Primary School",1,77,0,0,8.0000000000000089,0,3.0000000000000031,0,2.0000000000000022,0,1.0000000000000011,0,0,0,0,0,0,0,0,0,0,0,25.861321776814734,0,1,2181,0,0,null,null,null,20.468354430379744,0,354730.34051585977,1985,0,78,120000,120082.8,null,null,0,null,0,null,0,0,0,0,0]
[2171,"Brunswick House Primary School",1,420,0,0,33.000000000000014,0,36.08591885441529,2.0047732696897373,6.0143198090692085,1.0023866348448709,1.0023866348448709,0,0,0,0,0,0,0,0,0,40.833333333333321,0,94.774444969296255,0,1,63597,0,0,null,null,null,64.845605700712582,0,1437654.3673598047,62199,0,419,120000,120082.8,null,null,0,null,0,null,0,0,0,0,0]
[2175,"North Borough Junior School",1,329,0,0,38.000000000000036,0,82.25,2.0060975609756109,1.0030487804878054,5.0152439024390274,0,0,0,0,0,0,0,0,0,0,61.000000000000142,0,120.07943925233644,0,1,18148,0,0,null,null,null,92.369085173501574,0,1169562.9087615253,18716,0,316,120000,120082.8,null,null,0,null,0,null,0,0,0,0,0]
[2176,"Park Way Primary School",1,312,0,0,44.999999999999929,0,100.00000000000014,48.000000000000043,7.9999999999999867,26.999999999999986,7.9999999999999867,0,0,0,0,0,0,0,0,0,49.688888888888805,0,107.79154250786097,0,1,27362,0,0,null,null,null,99,0,1178058.4202191855,26773,0,308,120000,120082.8,null,null,0,null,0,null,0,0,0,0,0]
[2183,"Marden Primary School",1,257,0,0,40.000000000000128,0,4.015625,0,97.37890625,0,2.0078125,0,0,0,0,0,0,0,0,0,9.3454545454545546,0,72.195511454837344,0,1,25636,0,0,null,null,null,55.912213740458014,0,971093.71257413377,24450,0,263,120000,120082.8,null,null,0,null,0,null,0,0,0,0,0]
[2185,"Mereworth Community Primary School",1,213,0,0,17.999999999999993,0,4.0188679245283048,4.0188679245283048,0,1.0047169811320751,2.0094339622641502,0,0,0,0,0,0,0,0,0,3.4918032786885203,0,46.297912859973664,0,1,25390,0,0,null,null,null,30.428571428571427,0,754330.52254444826,22066,0,210,120000,120082.8,null,null,0,null,0,null,0,0,0,0,0]
[2187,"Offham Primary School",1,208,0,0,1.0000000000000004,0,28.000000000000078,2.9999999999999951,2.0000000000000009,0,0,0,0,0,0,0,0,0,0,0,2.3370786516853981,0,33.19159505978886,0,1,22920,0,0,null,null,null,3.961904761904762,0,746021.97826725862,22425,0,210,120000,120082.8,null,null,0,null,0,null,0,0,0,0,0]
[2188,"Plaxtol Primary School",1,93,0,0,2.9999999999999969,0,1.999999999999998,1.999999999999998,0,3.999999999999996,0,0,0,0,0,0,0,0,0,0,0,0,16.152536618488714,0,1,13320,0,0,null,null,null,4.179775280898876,0,389514.74436465139,11467,0,90,120000,120082.8,null,null,0,null,0,null,0,0,0,0,0]
[2189,"Ryarsh Primary School",1,210,0,0,3.0000000000000027,0,3.0000000000000027,6.0000000000000053,0,0,0.99999999999999956,0,0,0,0,0,0,0,0,0,3.5999999999999908,0,36.401565995525786,0,1,16804,0,0,null,null,null,11.268292682926829,0,720641.72824117751,13985,0,205.00000000000003,120000,120082.8,null,null,0,null,0,null,0,0,0,0,0]
[2190,"Shipbourne School",1,51,0,0,4.9999999999999991,0,3.06,4.08,1.02,0,0,0,0,0,0,0,0,0,0,0,4.6363636363636358,0,9.7499999999999787,0,1,5883,0,0,null,null,null,9.6724137931034484,0,302862.35848792194,5354,0,58,120000,120082.8,null,null,0,null,0,null,0,0,0,0,0]
[2191,"St Katherine's School",1,580,0,0,54.999999999999972,0,18.000000000000007,306.00000000000017,3.9999999999999996,0,3.9999999999999996,0,0,0,0,0,0,0,0,0,4.6399999999999997,0,131.51820925553307,0,1,68034,0,0,4,0.9,0,111.80722891566266,0,1989437.9373481576,54326,0,573,120000,120082.8,null,null,0,null,0,null,0,0,0,0,0]
[2192,"Staplehurst School",1,426,0,0,35.999999999999986,0,1.0000000000000013,0,1.0000000000000013,0,1.0000000000000013,0,0,0,0,0,0,0,0,0,9.2608695652173889,0,98.232082537270671,0,1,36236,0,0,null,null,null,81.142857142857139,0,1381098.1840314516,30883,0,420.99999999999994,120000,120082.8,null,null,0,null,0,null,0,0,0,0,0]
[2193,"Sutton Valence Primary School",1,174,0,0,18.000000000000007,0,1.9999999999999967,1.0000000000000002,2.9999999999999951,7.0000000000000062,2.9999999999999951,0,0,0,0,0,0,0,0,0,8.8662420382165674,0,40.653266182787711,0,1,17476,0,0,null,null,null,26.557894736842105,0,710755.08270084194,14544,0,192,120000,120082.8,null,null,0,null,0,null,0,0,0,0,0]
[2226,"Eastling Primary School",1,105,0,0,5.9999999999999956,0,5.9999999999999956,3.0000000000000027,3.0000000000000027,3.0000000000000027,0.99999999999999956,0,0,0,0,0,0,0,14963.58878504673,0,1.1170212765957419,0,29.357610474631755,0,1,9183,0,0,null,null,null,16.434782608695652,0,460717.06067425897,4806,0,112,120000,120082.8,null,null,0,null,0,null,0,0,0,0,0]
[2227,"Ethelbert Road Primary School",1,210,0,0,9.9999999999999964,0,8,3.9999999999999902,3.9999999999999902,3.9999999999999902,3.0000000000000027,0,0,0,0,0,0,0,0,0,1.1666666666666676,0,56.000000000000071,0,1,11040,0,0,null,null,null,24.896907216494846,0,709291.85021897708,10875,0,194.99999999999997,120000,120082.8,null,null,0,null,0,null,0,0,0,0,0]
[2228,"Davington Primary School",1,417,0,0,47.000000000000185,0,28,23.000000000000004,28,43.000000000000071,108.00000000000014,0,0,0,0,0,0,0,0,0,9.3445378151260616,0,124.73979366182579,0,1,35256,0,0,null,null,null,83.601449275362313,0,1483882.4128395175,24765,0,415,120000,120082.8,null,null,0,null,0,null,0,0,0,0,0]
[2231,"Lower Halstow School",1,156,0,0,10.999999999999998,0,26.00000000000005,2.9999999999999951,4.999999999999992,1.9999999999999967,0,0,0,0,0,0,0,0,0,0,1.1908396946564883,0,40.043375900692084,0,1,20040,0,0,null,null,null,23.847133757961782,0,590872.46228418266,20540,0,151,120000,120082.8,null,null,0,null,0,null,0,0,0,0,0]
[2237,"Queenborough School and Nursery",1,418,0,0,105.00000000000006,0,62.999999999999879,9,0,21.000000000000014,145,135.00000000000023,0,0,0,0,0,0,0,0,5.8379888268156526,0,110.21702375484102,0,1,29827,0,0,4,0.9,0.22999999999999987,163.29729729729729,0,1595350.9300864032,37721,0,414,120000,120082.8,null,null,0,null,0,null,0,0,0,0,0]
[2239,"Rodmersham School",1,99,0,0,0,0,1.9999999999999998,2.9999999999999996,4.9999999999999991,3.9999999999999996,0,0,0,0,0,0,0,0,0,0,0,0,6.3109756097561007,0,1,4936,0,0,null,null,null,6.123711340206186,0,395254.75945186341,2607,0,96,120000,120082.8,null,null,0,null,0,null,0,0,0,0,0]
[2245,"Rose Street School",1,322,0,0,108.00000000000016,0,4.9999999999999982,5.9999999999999982,2.9999999999999991,83.999999999999915,138.00000000000014,78.999999999999915,0,0,0,0,0,0,0,0,18.365019011406847,0,92.756563593663159,0,1,30813,0,0,4,0.9,0.51000000000000012,163.25174825174824,0,1277975.4075454525,31597,0,291,120000,120082.8,null,null,0,null,0,null,0,0,0,0,0]
[2254,"Canterbury Road Primary School",1,209,0,0,23.999999999999901,0,35.168269230769283,83.399038461538566,13.0625,25.120192307692371,20.096153846153857,6.0288461538461444,0,0,0,0,0,0,0,0,7.005586592178771,0,83.315298079130628,0,1,28841,0,0,null,null,null,52.747619047619047,0,866843.40278593614,28226,0,210,120000,120082.8,null,null,0,null,0,null,0,0,0,0,0]
[2258,"Blean Primary School",1,435,0,0,13.999999999999993,0,6.0000000000000169,0.99999999999999845,39.999999999999979,22.000000000000018,9.0000000000000036,0,0,0,0,0,0,0,0,0,76.56,0,71.633993644067814,0,1,34900,0,0,null,null,null,42.389791183294662,0,1462693.5912305252,29205,0,430,120000,120082.8,null,null,0,null,0,null,0,0,0,0,0]
[2259,"Chartham Primary School",1,350,0,0,49.000000000000007,0,0,0,0,2.9999999999999996,3.9999999999999902,0,0,0,0,0,0,0,0,0,7.0945945945946045,0,83.323396926338106,0,1,22503,0,0,null,null,null,64.417177914110425,0,1116732.201466585,16770,0,322,120000,120082.8,null,null,0,null,0,null,0,0,0,0,0]
[2263,"Herne Bay Infant School",1,345,0,0,39.000000000000149,0,57.999999999999822,39.000000000000149,99.999999999999972,0.99999999999999956,1.9999999999999991,0,0,0,0,0,0,0,0,0,16.357758620689665,0,112.49999999999996,0,1,15360,0,0,4,0.9,0,75.254957507082153,0,1286791.0343223924,16502,0,351,120000,120082.8,null,null,0,null,0,null,0,0,0,0,0]
[2265,"Hoath Primary School",1,86,0,0,3.0000000000000036,0,10.999999999999996,20.000000000000025,4.9999999999999973,0,0,0,0,0,0,0,0,0,0,0,3.6338028169014112,0,16.498300145701801,0,1,13800,0,0,null,null,null,13.802469135802468,0,368732.30771710229,5234,0,78,120000,120082.8,null,null,0,null,0,null,0,0,0,0,0]
[2268,"Westmeads Community Infant School",1,179,0,0,14,0,0,1,1,0,6,0,0,0,0,0,0,0,0,0,9.0252100840336151,0,42.11764705882355,0,1,18960,0,0,null,null,null,18,0,671311.27251331066,19850,0,180,120000,120082.8,null,null,0,null,0,null,0,0,0,0,0]
[2269,"Whitstable Junior School",1,268,0,0,33.999999999999986,0,8.0299625468164795,0,18.067415730337093,4.0149812734082397,36.134831460674071,0,0,0,0,0,0,0,0,0,3.000000000000008,0,74.850574712643606,0,1,18120,0,0,null,null,null,80,0,952376.60955169739,18180,0,266,120000,120082.8,null,null,0,null,0,null,0,0,0,0,0]
[2270,"Aldington Primary School",1,206,0,0,2.9999999999999991,0,6.9999999999999911,3.999999999999992,6.9999999999999911,0,2,0,0,0,0,0,0,0,0,0,1.1704545454545452,0,43.361005892255932,0,1,28841,0,0,null,null,null,23.339901477832512,0,737665.65858724038,28219,0,201.99999999999997,120000,120082.8,null,null,0,null,0,null,0,0,0,0,0]
[2272,"East Stour Primary School",1,408,0,0,63.999999999999908,0,17.000000000000014,83.000000000000156,0.99999999999999889,98.999999999999829,17.000000000000014,0,0,0,0,0,0,0,0,0,43.008547008546842,0,128.67856903651131,0,1,51765,0,0,4,0.9,0,149.8125,0,1462323.3027740801,50583,0,389.99999999999994,120000,120082.8,null,null,0,null,0,null,0,0,0,0,0]
[2275,"Victoria Road Primary School",1,210,0,0,23.99999999999994,0,105,16,0,14.000000000000005,9.9999999999999964,0,0,0,0,0,0,0,0,0,22.16666666666676,0,60.239726027397325,0,1,14520,0,0,null,null,null,57.826086956521742,0,838228.67783766962,12461,0,210,120000,120082.8,null,null,0,null,0,null,0,0,0,0,0]
[2276,"Willesborough Infant School",1,379,0,0,35.000000000000014,0,2.0000000000000013,50.000000000000128,0,66.000000000000085,3,0,0,0,0,0,0,0,0,0,78.159533073929907,0,76.39920948616593,0,1,20669,0,0,null,null,null,53.852546916890084,0,1339464.4619021744,16462,0,368,120000,120082.8,null,null,0,null,0,null,0,0,0,0,0]
[2278,"Bethersden Primary School",1,125,0,0,18,0,2,2,2,4,5,0,0,0,0,0,0,0,8283.4152202937221,0,4.5871559633027497,0,33.264161933886719,0,1,10250,0,0,null,null,null,29.89130434782609,0,536247.03448112647,8531,0,134,120000,120082.8,null,null,0,null,0,null,0,0,0,0,0]
[2279,"Brook Community Primary School",1,88,0,0,11.999999999999968,0,1.9999999999999976,4.0000000000000036,0,6.0000000000000018,4.0000000000000036,0,0,0,0,0,0,0,0,0,2.2564102564102528,0,21.7915877226222,0,1,7605,0,0,null,null,null,18.773333333333333,0,353501.17875441571,6681,0,75,120000,120082.8,null,null,0,null,0,null,0,0,0,0,0]
[2280,"Challock Primary School",1,211,0,0,6.0000000000000062,0,0,14.999999999999995,0,1.0000000000000009,0,0,0,0,0,0,0,0,0,0,2.3444444444444419,0,45.170977011494251,0,1,18960,0,0,null,null,null,6.0000000000000062,0,760116.64392784471,25815,0,213,120000,120082.8,null,null,0,null,0,null,0,0,0,0,0]
[2282,"Great Chart Primary School",1,483,0,0,40.999999999999986,0,33.999999999999986,24.999999999999993,0.99999999999999967,11.999999999999996,16.999999999999993,0,0,0,0,0,0,0,0,0,29.687943262411338,0,85.554662809506027,0,1,37222,0,0,null,null,null,71.147302904564313,0,1601533.4299309843,36449,0,482,120000,120082.8,null,null,0,null,0,null,0,0,0,0,0]
[2285,"Mersham Primary School",1,199,0,0,10.999999999999993,0,1.005050505050505,14.070707070707071,0,7.0353535353535444,6.0303030303030294,0,0,0,0,0,0,0,0,0,2.3274853801169515,0,34.482201881515401,0,1,6314,0,0,null,null,null,12.56842105263158,0,696402.20791493088,5746,0,194.99999999999997,120000,120082.8,null,null,0,null,0,null,0,0,0,0,0]
[2287,"Rolvenden Primary School",1,106,0,0,10.999999999999959,0,47.999999999999972,0.99999999999999956,0,0,0,0,0,0,0,0,0,0,14629.580106809079,0,4.6086956521739113,0,31.433667781493909,0,1,9410,0,0,null,null,null,26.5,0,443236.27501354192,7831,0,99.000000000000014,120000,120082.8,null,null,0,null,0,null,0,0,0,0,0]
[2289,"Smeeth Community Primary School",1,138,0,0,3.9999999999999987,0,2.9999999999999991,4.9999999999999982,0.99999999999999967,3.9999999999999987,0,0,0,0,0,0,0,0,0,0,0,0,31.513824884792669,0,1,13611,0,0,null,null,null,14.748091603053435,0,510798.30058691296,10588,0,130,120000,120082.8,null,null,0,null,0,null,0,0,0,0,0]
[2296,"Mundella Primary School",1,194,0,0,68.000000000000043,0,6.0000000000000018,9.0000000000000036,39.999999999999943,19,66.999999999999986,42.00000000000005,0,0,0,0,0,0,0,0,17.218934911242595,0,75.427269854764816,0,1,13228,0,0,null,null,null,93.587939698492463,0,855020.92888989521,14148,0,199,120000,120082.8,null,null,0,null,0,null,0,0,0,0,0]
[2298,"Hawkinge Primary School",1,371,0,0,53.00000000000005,0,137.00000000000017,5.0000000000000142,5.0000000000000142,3.0000000000000009,12.00000000000002,4.0000000000000187,0,0,0,0,0,0,0,0,14.88580246913582,0,107.024202183458,0,1,7740,0,0,null,null,null,83.326203208556151,0,1308350.6651067659,7575,0,376,120000,120082.8,null,null,0,null,0,null,0,0,0,0,0]
[2300,"Sellindge Primary School",1,111,0,0,7.0000000000000036,0,1.0000000000000002,1.0000000000000002,0,0,1.0000000000000002,0,0,0,0,0,0,0,0,0,1.1212121212121211,0,22.424242424242465,0,1,16560,0,0,null,null,null,9.6521739130434785,0,472080.1527529853,19019,0,116,120000,120082.8,null,null,0,null,0,null,0,0,0,0,0]
[2312,"River Primary School",1,428,0,0,26.999999999999996,0,26.060889929742405,47.110070257611149,56.131147540983797,13.030444964871203,38.088992974238884,0,0,0,0,0,0,0,0,0,5.8469945355191051,0,95.11180428078822,0,1,39440,0,0,null,null,null,51.119437939110071,0,1437677.8875989125,36002,0,415,120000,120082.8,null,null,262.75798142367603,null,null,null,12,0,12,0,10]
[2318,"Langdon Primary School",1,82,0,0,6.0000000000000018,0,9.000000000000032,2.9999999999999969,5.0000000000000036,4.0000000000000044,0.999999999999999,0,0,0,0,0,0,0,0,0,6.1194029850746272,0,17.101545842217504,0,1,4419,0,0,null,null,null,7.6533333333333333,0,350649.06465014245,4022,0,75,120000,120082.8,null,null,0,null,0,null,0,0,0,0,0]
[2320,"Eythorne Elvington Community Primary School",1,103,0,0,41.999999999999986,0,1.999999999999996,58.000000000000021,1,0,0,0,0,0,0,0,0,0,0,0,3.3225806451612865,0,30.9,0,1,15124,0,0,null,null,null,61.999999999999993,0,479270.73756153736,11970,0,98,120000,120082.8,null,null,0,null,0,null,0,0,0,0,0]
[2321,"Lydden Primary School",1,90,0,0,9.9999999999999893,0,7.0000000000000027,11.99999999999997,7.0000000000000027,3.9999999999999956,1.9999999999999978,0,0,0,0,0,0,0,0,0,0,0,4.7483766233766227,0,1,4592,0,0,null,null,null,17.191011235955056,0,374105.93865747482,878,0,86,120000,120082.8,null,null,0,null,0,null,0,0,0,0,0]
[2322,"Preston Primary School",1,121,0,0,5.9999999999999956,0,9.0749999999999993,9.0749999999999993,1.0083333333333329,0,1.0083333333333329,0,0,0,0,0,0,0,9619.4499332443265,0,2.3269230769230731,0,28.525339366515858,0,1,8402,0,0,null,null,null,20.336134453781515,0,480803.87633677298,6752,0,119,120000,120082.8,null,null,0,null,0,null,0,0,0,0,0]
[2326,"Wingham Primary School",1,198,0,0,17.000000000000007,0,5.0000000000000098,0.99999999999999989,0,0,0,0,0,0,0,0,0,0,0,0,5.7558139534883788,0,47.387650820233603,0,1,30073,0,0,null,null,null,26.334975369458128,0,751665.33704179362,28202,0,208,120000,120082.8,null,null,0,null,0,null,0,0,0,0,0]
[2327,"Worth Primary School",1,66,0,0,12.000000000000011,0,16.5,5.15625,0,0,1.03125,0,0,0,0,0,0,0,0,0,3.4736842105263142,0,14.899143206854339,0,1,2755,0,0,null,null,null,12.000000000000011,0,328534.65749155625,2315,0,66,120000,120082.8,null,null,0,null,0,null,0,0,0,0,0]
[2328,"St Mildred's Primary Infant School",1,270,0,0,20.000000000000007,0,41.000000000000036,3.999999999999996,2.0000000000000009,3.999999999999996,4.9999999999999947,0,0,0,0,0,0,0,0,0,25.499999999999989,0,83.426966292134892,0,1,22181,0,0,null,null,null,27,0,986012.52741611842,18460,0,270,120000,120082.8,null,null,0,null,0,null,0,0,0,0,0]
[2329,"Callis Grange Nursery & Infant School",1,267,0,0,24,0,35.999999999999915,101.99999999999991,8.9999999999999929,6.0000000000000124,11.000000000000007,7.0000000000000071,0,0,0,0,0,0,0,0,24.135593220338983,0,47.028409090909193,0,1,41905,0,0,4,0.9,0,43.161654135338345,0,1018774.6118182044,40800,0,267,120000,120082.8,null,null,0,null,0,null,0,0,0,0,0]
[2337,"St Crispin's Community Primary Infant School",1,268,0,0,20.000000000000004,0,4.9999999999999876,59.999999999999901,12.000000000000007,1,4.9999999999999876,1,0,0,0,0,0,0,0,0,8.9333333333333247,0,51.480225988700568,0,1,19320,0,0,null,null,null,33.748148148148147,0,990104.53449433215,19579,0,270,120000,120082.8,null,null,0,null,0,null,0,0,0,0,0]
[2340,"Ellington Infant School",1,203,0,0,41.000000000000064,0,77.999999999999901,0,7.0000000000000098,43.999999999999915,34.999999999999943,2.9999999999999982,0,0,0,0,0,0,0,0,18.075342465753433,0,62.027777777777871,0,1,25883,0,0,null,null,null,66.543568464730285,0,985153.0701565661,25344,0,245,120000,120082.8,null,null,0,null,0,null,0,0,0,0,0]
[2345,"Priory Infant School",1,179,0,0,30.999999999999922,0,123.00000000000004,0,2,29.000000000000085,14.999999999999991,0,0,0,0,0,0,0,0,0,11.933333333333339,0,51.142857142857189,0,1,29827,0,0,null,null,null,44.75,0,763783.34655757842,24930,0,180,120000,120082.8,null,null,0,null,0,null,0,0,0,0,0]
[2431,"Shears Green Junior School",1,479,0,0,63.999999999999751,0,91.19037656903771,94.196652719665295,8.016736401673656,10.020920502092046,13.027196652719679,1.0020920502092046,0,0,0,0,0,0,0,0,24.999999999999993,0,125.24693924693935,0,1,20953,0,0,null,null,null,104,0,1643448.154072355,21824,0,481,120000,120082.8,null,null,0,null,0,null,0,0,0,0,0]
[2434,"West Minster Primary School",1,441,0,0,152.00000000000003,0,5.9999999999999787,5.9999999999999787,0.99999999999999789,161.99999999999991,98.999999999999858,146.99999999999986,0,0,0,0,0,0,0,0,9.5094339622641506,0,102.45098641755276,0,1,51765,0,0,4,0.9,0.60999999999999976,228.82075471698113,0,1651920.3349106486,51603,0,415,120000,120082.8,null,null,262.75798142367603,null,null,null,12,0,12,0,12]
[2454,"Aycliffe Community Primary School",1,127,0,0,44.000000000000021,0,7.1120000000000001,4.0640000000000001,11.176,90.423999999999992,7.1120000000000001,0,0,0,0,0,0,0,0,0,8.9911504424778688,0,47.794453060852085,0,1,21960,0,0,null,null,null,55.436507936507937,0,585050.42348605674,20988,0,125,120000,120082.8,null,null,0,null,0,null,0,0,0,0,0]
[2459,"Riverhead Infant School",1,265,0,0,5.0000000000000036,0,1.0037878787878793,0,0,0,0,0,0,0,0,0,0,0,0,0,26.5,0,32.752808988764166,0,1.0364,37468,0,0,null,null,null,5.8888888888888893,0,949715.83672149363,36702,0,269,120000,120082.8,null,null,0,null,0,null,0,0,0,0,0]
[2465,"Claremont Primary School",1,499,0,0,9.9999999999999787,0,2.9999999999999987,0,0,0,0,0,0,0,0,0,0,0,0,0,54.560364464692626,0,81.887418235410721,0,1,35934,0,0,null,null,null,17.892430278884465,0,1617150.6104461851,30070,0,498.99999999999994,120000,120082.8,null,null,0,null,0,null,0,0,0,0,0]
[2471,"Whitfield Aspen School",1,474,0,0,81.999999999999858,0,148.99999999999977,47.999999999999943,25.000000000000014,10.999999999999991,43.000000000000014,0,0,0,0,0,0,0,0,0,8.2537313432835884,0,196.03274421221965,0,1,62611,0,0,null,null,null,116.16630196936542,0,1382179.6944073013,58500,0,367,120000,120082.8,null,null,911.65578214142499,null,0,null,90,0,103,0,99]
[2474,"St Paul's Infant School",1,270,0,0,42.999999999999929,0,83.999999999999972,0,0.999999999999999,0.999999999999999,0,0,0,0,0,0,0,0,0,0,96.96132596685095,0,83.684210526315724,0,1,10800,0,0,null,null,null,42.999999999999929,0,1083157.7987228448,13390,0,272,120000,120082.8,null,null,0,null,0,null,0,0,0,0,0]
[2482,"Langton Green Primary School",1,391,0,0,8.9999999999999858,0,18.000000000000014,1.0000000000000007,0,6.0000000000000044,0,0,0,0,0,0,0,0,0,0,4.7537993920972648,0,57.437938805009097,0,1,37715,0,0,null,null,null,16.15702479338843,0,1206866.8702669272,51354,0,363,120000,120082.8,null,null,0,null,0,null,0,0,0,0,0]
[2490,"Bishops Down Primary School",1,298,0,0,6.9999999999999876,0,45.000000000000007,2.9999999999999907,1.9999999999999987,2.9999999999999907,0,0,0,0,0,0,0,0,0,0,15.567164179104491,0,66.543953700883307,0,1,29696,0,0,4,0.9,0,24.605504587155966,0,1118714.1414896757,30516,0,324,120000,120082.8,null,null,957.36170922739495,null,null,null,5,0,7,0,9]
[2509,"Singlewell Primary School",1,257,0,0,27.000000000000036,0,69.000000000000114,18.000000000000007,6.9999999999999964,1.0000000000000007,21.999999999999993,0,0,0,0,0,0,0,0,0,30.74162679425843,0,59.126395534290268,0,1,49793,0,0,null,null,null,37.479166666666671,0,893884.56046987779,18180,0,236.99999999999997,120000,120082.8,null,null,0,null,0,null,0,0,0,0,0]
[2510,"Cheriton Primary School",1,453,0,0,66.000000000000185,0,68.605790645879651,33.293986636971056,18.160356347438753,16.142538975501115,6.0534521158129184,8.0712694877505573,0,0,0,0,0,0,0,0,86.670918367346985,0,144.27844116369951,0,1,4864,0,0,null,null,null,91.771551724137922,0,1614777.3801356712,4085,0,453,120000,120082.8,null,null,0,null,0,null,0,0,0,0,0]
[2514,"Brookfield Infant School",1,178,0,0,30.000000000000068,0,2.0000000000000044,18.000000000000004,1.0000000000000004,0,20.000000000000043,0,0,0,0,0,0,0,0,0,9.0508474576271105,0,36.51282051282049,0,1,16132,0,0,null,null,null,40.770949720670394,0,679272.25906216458,13425,0,179,120000,120082.8,null,null,0,null,0,null,0,0,0,0,0]
[2519,"Vigo Village School",1,195,0,0,16.000000000000011,0,7.9999999999999947,7.0000000000000009,0,0,2.0000000000000084,0,0,0,0,0,0,0,0,0,3.2865168539325915,0,52.177450600542443,0,1,18148,0,0,null,null,null,26.634146341463417,0,758515.77826721,14488,0,204,120000,120082.8,null,null,0,null,0,null,0,0,0,0,0]
[2520,"Madginford Primary School",1,638,0,0,21.000000000000004,0,81.127158555729793,10.015698587127186,18.028257456828886,26.040816326530585,10.015698587127186,0,0,0,0,0,0,0,0,0,33.578947368421041,0,117.43257510317703,0,1,56695,0,0,null,null,null,38.817472698907956,0,2076829.950855104,55407,0,637,120000,120082.8,null,null,0,null,0,null,0,0,0,0,0]
[2524,"Palmarsh Primary School",1,133,0,0,24.999999999999993,0,4.0303030303030303,32.242424242424185,7.0530303030302983,0,1.0075757575757582,3.0227272727272689,0,0,0,0,0,0,0,0,4.5862068965517304,0,48.793240194179155,0,1,8466,0,0,null,null,null,44.664179104477618,0,561447.33105021843,8251,0,132,120000,120082.8,null,null,0,null,0,null,0,0,0,0,0]
[2525,"Painters Ash Primary School",1,415,0,0,57.999999999999865,0,29.999999999999986,92.000000000000071,10.000000000000011,19.000000000000007,11.999999999999996,0,0,0,0,0,0,0,0,0,42.084507042253371,0,117.21011938395179,0,1,32315,0,0,null,null,null,121.70673076923077,0,1480552.3872478418,25716,0,414,120000,120082.8,null,null,0,null,0,null,0,0,0,0,0]
[2530,"Tunbury Primary School",1,608,0,0,9.9999999999999805,0,19.031301482701817,46.075782537067539,19.031301482701817,0,7.0115321252059255,0,0,0,0,0,0,0,0,0,8.0912547528516967,0,92.192239249273598,0,1,41170,0,0,null,null,null,21.644012944983817,0,1957759.9803170753,34460,0,621,120000,120082.8,null,null,0,null,0,null,0,0,0,0,0]
[2532,"St Margaret's-at-Cliffe Primary School",1,190,0,0,7.0000000000000009,0,11.000000000000007,6.0000000000000098,6.0000000000000098,4.0000000000000062,4.9999999999999973,0,0,0,0,0,0,0,0,0,4.7204968944099361,0,31.002846790890267,0,1,13443,0,0,null,null,null,11.75257731958763,0,708544.51648810657,9832,0,197,120000,120082.8,null,null,0,null,0,null,0,0,0,0,0]
[2534,"Bysing Wood Primary School",1,155,0,0,64.000000000000057,0,13.000000000000004,2.9999999999999969,54.000000000000071,47.000000000000014,9.0000000000000071,0,0,0,0,0,0,0,0,0,6.6906474820143913,0,69.709046921754634,0,1,14451,0,0,null,null,null,94.777070063694268,0,707202.9212045914,14684,0,148,120000,120082.8,null,null,0,null,0,null,0,0,0,0,0]
[2539,"Stocks Green Primary School",1,218,0,0,3.0000000000000093,0,0,0.99999999999999944,0,0,0,0,0,0,0,0,0,0,0,0,5.8288770053475929,0,20.755528255528279,0,1,17980,0,0,null,null,null,9.0833333333333321,0,740192.67865173286,14471,0,215.99999999999997,120000,120082.8,null,null,0,null,0,null,0,0,0,0,0]
[2545,"Sandgate Primary School",1,422,0,0,28.999999999999989,0,36.999999999999993,14.000000000000012,14.000000000000012,11.000000000000011,12.000000000000012,2.0000000000000018,0,0,0,0,0,0,0,0,11.657458563535915,0,52.328665377616495,0,1,43656,0,0,null,null,null,46.109263657957243,0,1403541.4594070336,42597,0,420.99999999999994,120000,120082.8,null,null,0,null,0,null,0,0,0,0,0]
[2552,"Sandling Primary School",1,421,0,0,14.999999999999995,0,22.999999999999989,2.9999999999999987,0.99999999999999822,0.99999999999999822,2.0000000000000004,0,0,0,0,0,0,0,0,0,14.033333333333319,0,77.222975517890731,0,1,24402,0,0,null,null,null,31.84869976359338,0,1376692.9229929436,23842,0,423,120000,120082.8,null,null,0,null,0,null,0,0,0,0,0]
[2559,"Capel-le-Ferne Primary School",1,206,0,0,14.000000000000002,0,8.9999999999999982,3.999999999999992,22.999999999999957,9.9999999999999893,29.999999999999993,0.999999999999999,0,0,0,0,0,0,0,0,0,0,49.671667430142001,0,1,16636,0,0,null,null,null,25.874396135265702,0,761993.11971369793,13599,0,205.00000000000003,120000,120082.8,null,null,0,null,0,null,0,0,0,0,0]
[2562,"Lunsford Primary School",1,210,0,0,17.999999999999996,0,3.0000000000000027,6.9999999999999929,1.9999999999999991,0,6.0000000000000053,0,0,0,0,0,0,0,0,0,3.5000000000000071,0,44.615212527964289,0,1,15964,0,0,null,null,null,19.275362318840582,0,747702.11349251587,13286,0,210,120000,120082.8,null,null,0,null,0,null,0,0,0,0,0]
[2569,"Briary Primary School",1,384,0,0,63,0,118.00000000000014,13.999999999999988,15,0,1.9999999999999987,0,0,0,0,0,0,0,0,0,9.0087976539589629,0,117.75750659030038,0,1,41067,0,0,null,null,null,103.27628361858191,0,1455688.4384019978,53975,0,406.99999999999994,120000,120082.8,null,null,0,null,0,null,0,0,0,0,0]
[2574,"Downs View Infant School",1,262,0,0,31.000000000000025,0,4.0000000000000044,37.000000000000128,17,28.999999999999908,4.0000000000000044,0,0,0,0,0,0,0,0,0,16.011111111111109,0,67.32960893854758,0,1,26622,0,0,null,null,null,47.456603773584902,0,985956.44308312447,22378,0,268,120000,120082.8,null,null,0,null,0,null,0,0,0,0,0]
[2578,"Kingswood Primary School",1,119,0,0,6.9999999999999991,0,0,1.9999999999999962,0.99999999999999933,0,10.000000000000005,0,0,0,0,0,0,0,0,0,3.4326923076923022,0,13.143144694161222,0,1,7562,0,0,null,null,null,13.768595041322314,0,494242.08474471106,7831,0,126,120000,120082.8,null,null,0,null,0,null,0,0,0,0,0]
[2586,"Senacre Wood Primary School",1,207,0,0,24.999999999999922,0,16.000000000000007,2,81,19.000000000000007,19.000000000000007,0,0,0,0,0,0,0,0,0,17.346368715083788,0,64.257468561937756,0,1,16972,0,0,null,null,null,54.473684210526315,0,832809.17081994971,14125,0,210,120000,120082.8,null,null,0,null,0,null,0,0,0,0,0]
[2603,"Bromstone Primary School, Broadstairs",1,492,0,0,99.000000000000014,0,86.000000000000156,15.000000000000011,71.000000000000057,63.000000000000057,60.999999999999815,15.999999999999984,0,0,0,0,0,0,0,0,31.888888888888879,0,158.08662394830421,0,1,29580,0,0,null,null,null,160.65306122448979,0,1862670.527188841,28782,0,518,120000,120082.8,null,null,626.67041262280975,null,null,null,20,0,16,0,15]
[2607,"Parkside Community Primary School",1,110,0,0,58.999999999999964,0,3.0000000000000031,0,7.9999999999999964,6.9999999999999964,74.000000000000028,0,0,0,0,0,0,0,0,0,16.666666666666718,0,59.984459984459953,0,1,14788,0,0,4,0.9,0,60.909090909090914,0,664466.42356831429,8486,0,119,120000,120082.8,null,null,0,null,0,null,0,0,0,0,0]
[2611,"St Stephen's Infant School",1,270,0,0,31.00000000000005,0,22.081784386617109,4.014869888475828,34.126394052044695,60.22304832713742,67.249070631970199,0,0,0,0,0,0,0,0,0,69.77528089887646,0,63.62068965517242,0,1,24000,0,0,null,null,null,42.156133828996282,0,1075348.3585480859,19526,0,270,120000,120082.8,null,null,0,null,0,null,0,0,0,0,0]
[2615,"High Firs Primary School",1,204,0,0,12.999999999999993,0,0,19.000000000000004,11.000000000000004,15.000000000000004,16.999999999999993,0,0,0,0,0,0,0,0,0,10.372881355932194,0,59.44055944055949,0,1.0364,24000,0,0,null,null,null,36.28846153846154,0,793375.6393113425,24331,0,207,120000,120082.8,null,null,0,null,0,null,0,0,0,0,0]
[2626,"Sandwich Infant School",1,140,0,0,14,0,9.9999999999999964,46.000000000000064,0.99999999999999956,0,0,0,0,0,0,0,0,0,0,0,6.6666666666666643,0,39.268292682926855,0,1,12099,0,0,null,null,null,18.360655737704921,0,505451.89616334217,9329,0,121.99999999999999,120000,120082.8,null,null,0,null,0,null,0,0,0,0,0]
[2627,"Sandwich Junior School",1,225,0,0,22.99999999999995,0,11.000000000000002,63.999999999999901,2.0000000000000004,6.0000000000000071,0,0,0,0,0,0,0,0,0,0,2.9999999999999925,0,41.149894067796602,0,1,18191,0,0,null,null,null,55.531914893617021,0,844947.96896842169,15259,0,232,120000,120082.8,null,null,0,null,0,null,0,0,0,0,0]
[2629,"Holywell Primary School Upchurch",1,201,0,0,11.000000000000004,0,15.000000000000002,3.9999999999999978,3.0000000000000084,0.99999999999999944,0.99999999999999944,0,0,0,0,0,0,0,0,0,5.911764705882363,0,29.130434782608617,0,1,21845,0,0,null,null,null,21.105,0,728095.35014692286,20401,0,199,120000,120082.8,null,null,0,null,0,null,0,0,0,0,0]
[2632,"Sevenoaks Primary School",1,598,0,0,32.999999999999993,0,0,0,0,2.0033500837520921,1.0016750418760461,0,0,0,0,0,0,0,0,0,83.578740157480283,0,96.471945215374092,0,1.0364,73950,0,0,null,null,null,36.242424242424242,0,1843235.7281591953,47997,0,557,120000,120082.8,null,null,0,null,0,null,0,0,0,0,0]
[2636,"Edenbridge Primary School",1,398,0,0,88.000000000000014,0,71.000000000000014,93.000000000000114,0,0,0,0,0,0,0,0,0,0,0,0,13.068656716417916,0,135.89463483356897,0,1.0364,32076,0,0,4,0.9,0,137.20526315789473,0,1450383.867537206,23684,0,398,120000,120082.8,null,null,0,null,0,null,0,0,0,0,0]
[2643,"Swalecliffe Community Primary School",1,634,0,0,47.999999999999986,0,85.000000000000099,8.0000000000000302,8.0000000000000302,1.000000000000002,10.000000000000021,0,0,0,0,0,0,0,0,0,5.7427536231884035,0,144.14147293165638,0,1,57681,0,0,null,null,null,83.082683307332303,0,2090595.004529811,61720,0,642,120000,120082.8,null,null,0,null,0,null,0,0,0,0,0]
[2648,"Aylesham Primary School",1,230,0,0,47.000000000000114,0,116.00000000000013,0,0,109.00000000000003,0,0,0,0,0,0,0,0,0,0,5.9585492227979193,0,57.363945492429728,0,1,18501,0,0,null,null,null,88,0,924564.89006265788,15020,0,226.00000000000003,120000,120082.8,null,null,0,null,0,null,0,0,0,0,0]
[2651,"Broadwater Primary School",1,188,0,0,34.999999999999915,0,0.99999999999999944,5.0000000000000062,4.0000000000000089,70.999999999999986,0,0,0,0,0,0,0,0,0,0,19.037974683544281,0,63.405660377358494,0,1,15292,0,0,null,null,null,58.815642458100562,0,757152.77901395934,14821,0,183,120000,120082.8,null,null,0,null,0,null,0,0,0,0,0]
[2653,"West Borough Primary School",1,448,0,0,53.999999999999872,0,95.999999999999872,1.999999999999998,2.9999999999999996,2.9999999999999996,5.9999999999999813,0,0,0,0,0,0,0,0,0,86.346368715083912,0,113.7201696107802,0,1,55709,0,0,4,0.9,0,112.80575539568345,0,1504385.7251806702,54471,0,417.99999999999994,120000,120082.8,null,null,0,null,0,null,0,0,0,0,0]
[2659,"Sandown School",1,379,0,0,50.999999999999886,0,193.01856763925721,0,10.053050397877968,0,14.074270557029193,0,0,0,0,0,0,0,0,0,12.907120743034069,0,92.922413692388588,0,1,37222,0,0,null,null,null,81.88919667590028,0,1296788.6565552263,34464,0,360,120000,120082.8,null,null,0,null,0,null,0,0,0,0,0]
[2661,"Cage Green Primary School",1,415,0,0,79.000000000000199,0,80.387409200968307,18.087167070217902,3.0145278450363211,76.368038740919914,0,0,0,0,0,0,0,0,0,0,15.917808219178063,0,112.60238450459538,0,1,34590,0,0,null,null,null,128.72685185185185,0,1422472.7539455406,28951,0,405,120000,120082.8,null,null,626.49416306527473,null,null,null,30,0,31,0,30]
[2662,"Long Mead Community Primary School",1,148,0,0,40.999999999999993,0,12.000000000000004,10.999999999999996,0,50.000000000000021,0,0,0,0,0,0,0,0,0,0,18.637037037037047,0,48.289241622574906,0,1,11427,0,0,4,0.9,0.14000000000000001,52.857142857142861,0,727236.35280234599,7440,0,169,120000,120082.8,null,null,0,null,0,null,0,0,0,0,0]
[2666,"Wrotham Road Primary School",1,411,0,0,36.999999999999993,0,81.000000000000043,142.00000000000009,7.9999999999999991,18.999999999999996,5,0,0,0,0,0,0,0,0,0,133.48717948717959,0,148.97596912509184,0,1,26622,0,0,4,0.9,0.22000000000000008,79.805825242718441,0,1599738.522794252,23194,0,412,120000,120082.8,null,null,0,null,0,null,0,0,0,0,0]
[2672,"Palm Bay Primary School",1,422,0,0,33.999999999999993,0,21.000000000000021,2.0000000000000018,32.999999999999986,31.999999999999989,19.000000000000018,30.999999999999986,0,0,0,0,0,0,0,0,16.320441988950286,0,93.149766542031813,0,1,52258,0,0,null,null,null,70.501193317422434,0,1466627.8921078662,51509,0,417,120000,120082.8,null,null,0,null,0,null,0,0,0,0,0]
[2674,"King's Farm Primary School",1,344,0,0,107,0,69.999999999999915,35.000000000000128,19.000000000000004,6.0000000000000071,152.99999999999997,0,0,0,0,0,0,0,0,0,65.631578947368581,0,141.66781087042253,0,1,30337,0,0,4,0.9,0.26999999999999991,145.64902506963787,0,1804102.8884036252,24446,0,352,120000,120082.8,null,null,0,null,0,null,0,0,0,0,0]
[2677,"Coxheath Primary School",1,354,0,0,49.999999999999872,0,108.00000000000004,1.0000000000000011,1.9999999999999987,12.999999999999996,6.9999999999999893,0,0,0,0,0,0,0,0,0,21.284810126582276,0,102.60290140390198,0,1,15964,0,0,null,null,null,79.305194805194802,0,1077834.1007685519,17910,0,303,120000,120082.8,null,null,0,null,0,null,0,0,0,0,0]
[2680,"Kings Hill School",1,475,0,0,18.000000000000018,0,5.0211416490486274,8.0338266384777857,1.0042283298097254,0,1.0042283298097254,0,0,0,0,0,0,0,0,0,22.891566265060266,0,92.860526463633278,0,1,50286,0,0,null,null,null,37.920168067226889,0,1564701.7512664269,49232,0,475,120000,120082.8,null,null,0,null,0,null,0,0,0,0,0]
[2682,"New Ash Green Primary School",1,377,0,0,20.000000000000007,0,91.000000000000156,8.9999999999999858,0.99999999999999845,0.99999999999999845,0.99999999999999845,0,0,0,0,0,0,0,0,0,8.3249211356466901,0,91.212613005839458,0,1.0364,27744,0,0,null,null,null,55.412073490813647,0,1316879.0954486162,23234,0,382,120000,120082.8,null,null,0,null,0,null,0,0,0,0,0]
[2689,"Craylands School, The",1,266,0,0,36.000000000000092,0,88.000000000000028,11.999999999999996,0,2.9999999999999991,31.999999999999936,0,0,0,0,0,0,0,0,0,14.203883495145636,0,103.27309600863001,0,1.0364,31799,74614.176000000007,0,null,null,null,49.875,0,1015671.0271893466,28808,77598.743040000001,236.99999999999997,120000,120082.8,null,null,0,null,0,null,0,0,0,0,0]
[2692,"Churchill School, The",1,416,0,0,35.000000000000007,0,92.221686746988027,5.0120481927710685,8.0192771084337178,3.0072289156626497,7.0168674698795295,0,0,0,0,0,0,0,0,0,24.33426183844011,0,101.54217856619259,0,1,12128,0,0,null,null,null,63.693779904306218,0,1389752.5893800145,11852,0,414,120000,120082.8,null,null,0,null,0,null,0,0,0,0,0]
[3010,"St Paul's CEP School",1,108,0,0,5.0000000000000009,0,0,8.0000000000000018,1.999999999999998,1.0000000000000002,11.000000000000016,0,0,0,0,0,0,0,0,0,2.297872340425537,0,25.80687397708671,0,1.0364,10082,0,0,null,null,null,6.1132075471698117,0,447843.51639028545,8391,0,105,120000,120082.8,null,null,0,null,0,null,0,0,0,0,0]
[3015,"Fawkham CEP School",1,102,0,0,5.0000000000000053,0,5.9999999999999991,5.9999999999999991,0,2,0,0,0,0,0,0,0,0,0,0,1.1590909090909129,0,10.872599231754187,0,1.0364,20280,0,0,null,null,null,6.9320388349514559,0,443058.30516591703,19833,0,104,120000,120082.8,null,null,0,null,0,null,0,0,0,0,0]
[3020,"Sedley's CEP School",1,101,0,0,3.9999999999999996,0,5.0500000000000007,10.100000000000001,3.03,0,1.01,0,0,0,0,0,0,0,0,0,1.1744186046511642,0,22.607558139534884,0,1.0364,4419,0,0,null,null,null,5.1530612244897958,0,440790.35176640417,4023,0,103,120000,120082.8,null,null,0,null,0,null,0,0,0,0,0]
[3022,"Benenden CEP School",1,162,0,0,4.0000000000000062,0,7.132075471698113,0,0,0,0,0,0,0,0,0,0,0,0,0,2.3649635036496348,0,29.105647330003801,0,1,5353,0,15101,null,null,null,16.72258064516129,0,603964.36407790729,4728,0,160,120000,120082.8,null,null,0,null,0,null,0,0,0,0,0]
[3023,"Bidborough CEP School",1,206,0,0,0.999999999999999,0,0,2.9999999999999991,0,0,0,0,0,0,0,0,0,0,0,0,6.9050279329608939,0,41.943491017242138,0,1,14283,0,0,null,null,null,5.8301886792452828,0,738589.16075323918,11147,0,212.00000000000003,120000,120082.8,null,null,0,null,0,null,0,0,0,0,0]
[3027,"Cranbrook CEP School",1,150,0,0,31.00000000000005,0,1.9999999999999949,0,0,0,0,0,0,0,0,0,0,0,0,0,7.8358208955223949,0,49.770688337289272,0,1,25143,0,0,null,null,null,61.764705882352935,0,632208.17445566051,24872,0,155,120000,120082.8,null,null,0,null,0,null,0,0,0,0,0]
[3029,"Goudhurst & Kilndown CEP School",1,211,0,0,14.999999999999995,0,1.0000000000000009,0,4.0000000000000036,0,0,0,0,0,0,0,0,0,0,0,3.4972375690607702,0,22.907704533414083,0,1,26376,0,0,null,null,null,19.090476190476188,0,736756.33350643725,25831,0,210,120000,120082.8,null,null,0,null,0,null,0,0,0,0,0]
[3032,"Hawkhurst CEP School",1,196,0,0,35.000000000000085,0,60.000000000000036,0,0,0.99999999999999989,0,0,0,0,0,0,0,0,0,0,9.5030303030303056,0,52.981180223285449,0,1,33278,0,0,null,null,null,69.353846153846163,0,741190.05468780478,32579,0,189,120000,120082.8,null,null,0,null,0,null,0,0,0,0,0]
[3033,"Hildenborough CEP School",1,198,0,0,11.999999999999998,0,4.0203045685279228,8.0406091370558457,0,0,0,0,0,0,0,0,0,0,0,0,8.1529411764705895,0,39.45000920076059,0,1,21720,0,0,null,null,null,15.085714285714287,0,732775.84040804696,22935,0,201.99999999999997,120000,120082.8,null,null,0,null,0,null,0,0,0,0,0]
[3034,"Lamberhurst St Mary's CEP School",1,198,0,0,5.0000000000000098,0,4.0203045685279228,1.0050761421319807,0,0,0,0,0,0,0,0,0,0,0,0,0,0,33.203575475261296,0,1,26869,0,0,null,null,null,11.055837563451776,0,709993.53933780885,29013,0,198.00000000000003,120000,120082.8,null,null,0,null,0,null,0,0,0,0,0]
[3035,"Seal CEP School",1,263,0,0,47.999999999999986,0,0,0,0,0,0,0,0,0,0,0,0,0,0,0,17.770270270270277,0,66.371550544627397,0,1.0364,12771,0,0,null,null,null,76.247899159663874,0,833622.02468811488,10381,0,229.99999999999997,120000,120082.8,null,null,0,null,0,null,0,0,0,0,0]
[3037,"St John's CEP School, Sevenoaks",1,242,0,0,12.999999999999996,0,0,2.999999999999992,1.0000000000000007,0,0,0,0,0,0,0,0,0,0,0,13.698113207547181,0,52.9201264772963,0,1.0364,22440,0,0,null,null,null,23.288702928870293,0,1007051.0904950695,18740,0,236.99999999999997,120000,120082.8,null,null,0,null,0,null,0,0,0,0,0]
[3042,"Speldhurst CEP School",1,145,0,0,0.99999999999999989,0,0,0,0,0,0,0,0,0,0,0,0,0,0,0,5.8,0,20.726122448979588,0,1,2904,0,0,null,null,null,4.0559440559440558,0,527423.63956450694,2405,0,141,120000,120082.8,null,null,0,null,0,null,0,0,0,0,0]
[3043,"Sundridge & Brasted CEP School",1,96,0,0,7.0000000000000036,0,0,6,0,0,0,0,0,0,0,0,0,0,0,0,2.3703703703703742,0,18.158730158730148,0,1.0364,5682,0,0,null,null,null,25.043478260869563,0,407764.77810050896,5004,0,94,120000,120082.8,null,null,0,null,0,null,0,0,0,0,0]
[3049,"St James' CEJ School",1,361,0,0,8,0,14.999999999999993,0,4,0,0,0,0,0,0,0,0,0,0,0,26.999999999999993,0,74.869922308545981,0,1,34017,0,0,null,null,null,25.856749311294767,0,1215503.171075752,28867,0,363,120000,120082.8,null,null,0,null,0,null,0,0,0,0,0]
[3050,"St John's CEP School",1,632,0,0,25.000000000000028,0,10.015847860538853,17.026941362915981,14.022187004754382,0,0,0,0,0,0,0,0,0,0,0,72.295202952029442,0,157.45645508881393,0,1,70499,0,0,null,null,null,48.152380952380959,0,2063017.4909611701,68989,0,629,120000,120082.8,null,null,0,null,0,null,0,0,0,0,0]
[3052,"St Mark's CEP School",1,310,0,0,39.999999999999957,0,11.107491856677511,0,0,71.693811074918585,0,0,0,0,0,0,0,0,0,0,35.254901960784181,0,95.62902783491009,0,1,43877,0,0,null,null,null,63.728222996515683,0,1066906.5585274412,13072,0,289,120000,120082.8,null,null,0,null,0,null,0,0,0,0,0]
[3053,"St Peter's CEP School",1,139,0,0,12.000000000000005,0,2.0000000000000009,0,0,2.0000000000000009,0,0,0,0,0,0,0,0,0,0,5.8403361344537847,0,30.58817285428098,0,1,8753,0,7250,null,null,null,21,0,544088.02798507479,7654,0,140,120000,120082.8,null,null,0,null,0,null,0,0,0,0,0]
[3054,"Crockham Hill CEP School",1,137,0,0,5,0,5.9999999999999991,2.9999999999999996,0,0,0,0,0,0,0,0,0,0,0,0,2.3418803418803424,0,17.970679012345641,0,1.0364,17280,0,22450,null,null,null,5.0740740740740735,0,549734.66799438954,14957,0,135,120000,120082.8,null,null,0,null,0,null,0,0,0,0,0]
[3055,"Churchill CEP School",1,294,0,0,20.999999999999989,0,5.9999999999999938,3.9999999999999858,0,0,0,0,0,0,0,0,0,0,0,0,7.1707317073170662,0,45.535272929319952,0,1.0364,22748,0,0,null,null,null,44.633663366336634,0,1047056.5973651336,19055,0,309,120000,120082.8,null,null,0,null,0,null,0,0,0,0,0]
[3057,"St Peter's CEP School",1,165,0,0,11.000000000000004,0,6.9999999999999956,0.99999999999999989,14.000000000000007,0,3.9999999999999933,0,0,0,0,0,0,0,0,0,1.1702127659574462,0,31.59574468085103,0,1,15720,0,9630,null,null,null,24.171974522292992,0,613119.21331766562,14964,0,159,120000,120082.8,null,null,0,null,0,null,0,0,0,0,0]
[3061,"Bredhurst CEP School",1,120,0,0,0.99999999999999956,0,2.000000000000004,5.0000000000000036,0.99999999999999956,2.000000000000004,0,0,0,0,0,0,0,0,0,0,4.5714285714285721,0,27.747508305647798,0,1,14640,0,0,null,null,null,10,0,481502.03849108529,13006,0,119,120000,120082.8,null,null,0,null,0,null,0,0,0,0,0]
[3062,"Burham CEP School",1,150,0,0,10.000000000000004,0,45,7.0000000000000044,0,1.0000000000000004,1.0000000000000004,1.0000000000000004,0,0,0,0,0,0,0,0,4.6511627906976747,0,37.646682312780008,0,1,21240,0,0,null,null,null,27.272727272727273,0,565916.82240126561,20793,0,138,120000,120082.8,null,null,0,null,0,null,0,0,0,0,0]
[3067,"Harrietsham CEP School",1,194,0,0,16.999999999999989,0,0,0,0,0,2.0103626943005115,0,0,0,0,0,0,0,0,0,0,0,45.411737046474904,0,1,29827,0,0,null,null,null,27,0,708571.20676500432,31059,0,192,120000,120082.8,null,null,0,null,0,null,0,0,0,0,0]
[3069,"Leeds & Broomfield CEP School",1,79,0,0,6,0,1.0000000000000027,0,1.0000000000000027,1.9999999999999976,3,0,0,0,0,0,0,0,0,0,1.0675675675675664,0,23.854009747452359,0,1,4419,0,0,null,null,null,18.372093023255815,0,388079.57758937345,4022,0,88,120000,120082.8,null,null,0,null,0,null,0,0,0,0,0]
[3072,"St Michael's CEJ School, Maidstone",1,163,0,0,13.999999999999995,0,25.154320987654323,1.0061728395061729,0,11.067901234567897,1.0061728395061729,0,0,0,0,0,0,0,0,0,9.9999999999999929,0,43.275121275121258,0,1,9410,0,0,null,null,null,41.743902439024389,0,647975.85879081255,7831,0,168,120000,120082.8,null,null,0,null,0,null,0,0,0,0,0]
[3073,"St Michael's CEI School, Maidstone",1,121,0,0,5.9999999999999956,0,22.000000000000021,0,1.9999999999999989,1.9999999999999989,1.0000000000000007,0,0,0,0,0,0,0,0,0,39.325000000000003,0,31.762500000000003,0,1,9720,0,0,null,null,null,13.108333333333334,0,517710.50847655558,11048,0,120.00000000000001,120000,120082.8,null,null,0,null,0,null,0,0,0,0,0]
[3081,"Thurnham CEI School",1,273,0,0,4.0000000000000133,0,0,0,0,3.0000000000000031,0.99999999999999922,0,0,0,0,0,0,0,0,0,16.40983606557376,0,48.533333333333395,0,1,25390,0,0,null,null,null,6.0442804428044274,0,943165.59132051026,29901,0,269,120000,120082.8,null,null,0,null,0,null,0,0,0,0,0]
[3082,"Trottiscliffe CEP School",1,66,0,0,3.0000000000000027,0,0,1.0153846153846164,0,1.0153846153846164,0,0,0,0,0,0,0,0,0,0,0,0,16.217639315489247,0,1,5108,0,0,null,null,null,6.4918032786885247,0,300241.85802952258,4649,0,60.000000000000007,120000,120082.8,null,null,0,null,0,null,0,0,0,0,0]
[3083,"Ulcombe CEP School",1,71,0,0,15.000000000000014,0,0,0,0,2.0285714285714307,0,0,0,0,0,0,0,0,0,0,1.109375,0,29.319196428571406,0,1,4247,0,0,null,null,null,18.22972972972973,0,375369.32846575801,5067,0,82,120000,120082.8,null,null,0,null,0,null,0,0,0,0,0]
[3084,"Wateringbury CEP School",1,199,0,0,13.000000000000012,0,9.0454545454545539,3.0151515151515249,0,0,1.005050505050505,0,0,0,0,0,0,0,0,0,3.4310344827586152,0,45.002006400345152,0,1,4584,0,0,null,null,null,16,0,695422.20478816435,3888,0,198.00000000000003,120000,120082.8,null,null,0,null,0,null,0,0,0,0,0]
[3088,"Wouldham, All Saint's CEP School",1,215,0,0,0,0,5.9999999999999902,23.999999999999961,5.9999999999999902,0,9.9999999999999911,0,0,0,0,0,0,0,0,0,4.9142857142857235,0,61.906190106190174,0,1,18240,0,0,null,null,null,19.349999999999998,0,742618.58551786141,17840,0,201,120000,120082.8,null,null,0,null,0,null,0,0,0,0,0]
[3089,"St George's CEP School",1,210,0,0,12.999999999999998,0,11.999999999999991,6.0000000000000053,0,1.9999999999999991,0.99999999999999956,0,0,0,0,0,0,0,0,0,0,0,72.781456953642447,0,1,11763,0,0,null,null,null,96.923076923076934,0,752586.70174804772,7958.75,0,207,120000,120082.8,null,null,0,null,0,null,0,0,0,0,0]
[3090,"St Margaret's CEP School, Collier Street",1,120,0,0,3.9999999999999956,0,2.000000000000004,0,12,0.99999999999999956,0.99999999999999956,0,0,0,0,0,0,0,0,0,2.3300970873786362,0,43.626155105860278,0,1,15960,0,0,null,null,null,7,0,504427.96369611763,16592,0,121.99999999999999,120000,120082.8,null,null,0,null,0,null,0,0,0,0,0]
[3091,"Laddingford St Mary's CEP School",1,78,0,0,15.999999999999991,0,4.0000000000000018,0,3.0000000000000027,0,0,0,0,0,0,0,0,0,0,0,2.2285714285714309,0,23.825187969924848,0,1,5166,0,0,null,null,null,15.999999999999991,0,366467.99758965016,4701,0,82,120000,120082.8,null,null,0,null,0,null,0,0,0,0,0]
[3092,"Yalding St Peter & St Paul CEP School",1,156,0,0,4.999999999999992,0,2.9999999999999951,0,2.9999999999999951,0,0,0,0,0,0,0,0,0,0,0,1.1818181818181825,0,34.636862041467268,0,1,13680,0,0,null,null,null,9.936305732484076,0,585447.19397255243,14329,0,157,120000,120082.8,null,null,0,null,0,null,0,0,0,0,0]
[3106,"Eastchurch CEP School",1,467,0,0,121.99999999999986,0,20.000000000000014,124.00000000000003,0,139,129.00000000000017,15.999999999999995,0,0,0,0,0,0,0,0,9.1793611793611998,0,151.39064650668587,0,1,74936,0,0,4,0.9,0,163.04741379310346,0,1800361.9862408475,75785,0,467,120000,120082.8,null,null,0,null,0,null,0,0,0,0,0]
[3108,"Ospringe CEP School",1,246,0,0,31.999999999999968,0,31.999999999999968,22.000000000000004,65.000000000000057,3.999999999999996,16.000000000000007,0,0,0,0,0,0,0,0,0,2.2777777777777781,0,58.305593358737113,0,1,23526,0,0,null,null,null,67.549180327868854,0,904196.38107563974,14684,0,243.99999999999997,120000,120082.8,null,null,0,null,0,null,0,0,0,0,0]
[3109,"Hernhill CEP School",1,205,0,0,6.9999999999999938,0,21.000000000000018,2.9999999999999969,6.9999999999999938,0.99999999999999889,0,0,0,0,0,0,0,0,0,0,0,0,44.367686943045271,0,1,30566,0,0,null,null,null,13.798076923076922,0,751355.79096625291,29926,0,207,120000,120082.8,null,null,0,null,0,null,0,0,0,0,0]
[3111,"Newington CEP School",1,171,0,0,33.000000000000021,0,48.282352941176534,8.0470588235294169,3.0176470588235276,2.0117647058823458,0,1.0058823529411762,0,0,0,0,0,0,0,0,4.4415584415584464,0,42.51500118063754,0,1,32785,0,0,null,null,null,51.3,0,684745.9237190584,18040,0,178,120000,120082.8,null,null,0,null,0,null,0,0,0,0,0]
[3117,"Teynham Parochial CEP School",1,202,0,0,32.999999999999929,0,79.999999999999986,15.000000000000007,15.999999999999998,15.000000000000007,1.9999999999999998,0,0,0,0,0,0,0,0,0,5.8720930232558208,0,56.89249220778423,0,1,12939,0,0,null,null,null,65.597938144329902,0,780833.09853454039,13286,0,192,120000,120082.8,null,null,0,null,0,null,0,0,0,0,0]
[3120,"Barham CEP School",1,202,0,0,5.0000000000000098,0,15.000000000000007,1.9999999999999998,0,12,1.9999999999999998,0,0,0,0,0,0,0,0,0,2.3488372093023284,0,29.980756632820174,0,1,27608,0,0,null,null,null,9.0447761194029841,0,721525.00734192564,26740,0,199,120000,120082.8,null,null,0,null,0,null,0,0,0,0,0]
[3122,"Bridge & Patrixbourne CEP School",1,413,0,0,13.000000000000004,0,4.9999999999999822,0,4.0000000000000027,10.000000000000005,5.9999999999999947,0,0,0,0,0,0,0,0,0,37.123595505617978,0,56.806688329766672,0,1,33771,0,0,null,null,null,26.805288461538463,0,1374367.991489603,30258,0,417,120000,120082.8,null,null,0,null,0,null,0,0,0,0,0]
[3123,"Chislet CEP School",1,95,0,0,0,0,3.9999999999999964,19,3.0000000000000049,0,0,0,0,0,0,0,0,0,0,0,0,0,21.29154795821465,0,1,5682,0,0,null,null,null,10.885416666666666,0,420628.81173289492,5485,0,98,120000,120082.8,null,null,0,null,0,null,0,0,0,0,0]
[3126,"Littlebourne CEP School",1,88,0,0,18.000000000000039,0,1.0000000000000033,1.0000000000000033,1.0000000000000033,7.9999999999999991,0,0,0,0,0,0,0,0,0,0,5.8666666666666689,0,28.914285714285732,0,1,10800,0,0,null,null,null,20.641975308641975,0,365764.85274373321,9789,0,78,120000,120082.8,null,null,0,null,0,null,0,0,0,0,0]
[3129,"St Alphege CEI School",1,164,0,0,12.000000000000004,0,1.0000000000000007,0,8.0000000000000089,0,21.000000000000018,0,0,0,0,0,0,0,0,0,6.8333333333333384,0,51.933333333333387,0,1,30320,0,0,4,0.9,0,20.269662921348313,0,692988.72461425234,32816,0,176,120000,120082.8,null,null,0,null,0,null,0,0,0,0,0]
[3130,"Wickhambreaux CEP School",1,125,0,0,3,0,0,2,2,0,0,0,0,0,0,0,0,0,0,0,6.94444444444445,0,14.256535947712369,0,1,8400,0,0,null,null,null,13.513513513513514,0,461681.6236732222,8234,0,109,120000,120082.8,null,null,0,null,0,null,0,0,0,0,0]
[3134,"John Mayne CEP School",1,116,0,0,8.9999999999999964,0,0,0,0,0,0,0,0,0,0,0,0,0,11289.493324432573,0,1.1153846153846159,0,29.716049382716086,0,1,11091,0,0,null,null,null,17.058823529411764,0,531484.9625087562,9510,0,138,120000,120082.8,null,null,0,null,0,null,0,0,0,0,0]
[3136,"Brabourne CEP School",1,96,0,0,7.9999999999999964,0,3,1.0000000000000033,1.9999999999999969,0,0,0,0,0,0,0,0,0,0,0,0,0,21.344312918167745,0,1,5085,0,0,null,null,null,7.9999999999999964,0,420344.80383754073,4681,0,102,120000,120082.8,null,null,0,null,0,null,0,0,0,0,0]
[3137,"Brookland CEP School",1,102,0,0,11.000000000000004,0,0,9.9999999999999982,41.00000000000005,0,0,0,0,0,0,0,0,0,0,0,0,0,13.316994807038498,0,1,11520,0,0,null,null,null,21.371428571428574,0,456604.60974800226,10798,0,105,120000,120082.8,null,null,0,null,0,null,0,0,0,0,0]
[3138,"Chilham St Mary's CEP School",1,91,0,0,17.000000000000018,0,0,0,0,0,2.0000000000000022,0,0,0,0,0,0,0,0,0,3.545454545454549,0,27.181818181818144,0,1,7174,0,8400,null,null,null,23,0,408598.85310212977,5810,0,91,120000,120082.8,null,null,0,null,0,null,0,0,0,0,0]
[3139,"High Halden CEP School",1,92,0,0,5.9999999999999973,0,0.99999999999999967,0,0,0,0,0,0,0,0,0,0,0,0,0,1.1084337349397555,0,23.577441799344353,0,1,15360,0,0,null,null,null,14.86868686868687,0,450368.4710757875,15024,0,103,120000,120082.8,null,null,0,null,0,null,0,0,0,0,0]
[3145,"Woodchurch CEP School",1,163,0,0,16.99999999999994,0,0.99999999999999933,2.9999999999999964,5.0000000000000044,0,0.99999999999999933,0,0,0,0,0,0,0,0,0,0,0,43.985280999107886,0,1,11280,0,0,null,null,null,22.553459119496853,0,585079.40020335012,10908,0,156,120000,120082.8,null,null,0,null,0,null,0,0,0,0,0]
[3146,"Bodsham CEP School",1,93,0,0,2.9999999999999969,0,0,1.0108695652173909,0,0,0,0,0,0,0,0,0,0,18971.692923898532,0,2.1627906976744211,0,10.161935704514395,0,1,5800,0,0,null,null,null,2.9999999999999969,0,389812.13343047723,7162,0,93,120000,120082.8,null,null,0,null,0,null,0,0,0,0,0]
[3149,"St Martin's CEP School, Folkestone",1,207,0,0,11.999999999999996,0,21.000000000000032,21.000000000000032,6.9999999999999911,2.9999999999999991,1.0000000000000011,2,0,0,0,0,0,0,0,0,4.6779661016949206,0,41.736747205192991,0,1,18768,0,0,null,null,null,28.722488038277511,0,770491.63571178308,19249,0,208,120000,120082.8,null,null,0,null,0,null,0,0,0,0,0]
[3150,"St Peter's CEP School, Folkestone",1,104,0,0,32.000000000000028,0,1.0000000000000004,1.9999999999999969,14.999999999999975,27.000000000000043,16.99999999999995,35.999999999999979,0,0,0,0,0,0,0,0,3.6279069767441903,0,40.225287356321871,0,1,1879,0,27480,null,null,null,45,0,510596.40127087245,3865,0,100.99999999999999,120000,120082.8,null,null,0,null,0,null,0,0,0,0,0]
[3153,"Seabrook CEP School",1,107,0,0,13.999999999999989,0,16.000000000000018,29.000000000000046,4.0000000000000044,4.9999999999999973,0,4.0000000000000044,0,0,0,0,0,0,0,0,1.1630434782608692,0,12.054788484136346,0,1,445,0,0,null,null,null,20.805555555555557,0,456508.48483221675,5485,0,107.99999999999999,120000,120082.8,null,null,0,null,0,null,0,0,0,0,0]
[3154,"Lyminge CEP School",1,199,0,0,1.9999999999999987,0,5.9999999999999956,0.99999999999999933,1.9999999999999987,2.9999999999999978,0,0.99999999999999933,0,0,0,0,0,0,0,0,9.4201183431952717,0,19.138272262854198,0,1,27115,0,0,null,null,null,12.309278350515465,0,705543.41617905791,26535,0,194,120000,120082.8,null,null,0,null,0,null,0,0,0,0,0]
[3155,"Lympne CEP School",1,216,0,0,14.999999999999991,0,2.0000000000000004,25.999999999999922,10.000000000000002,0,0,0,0,0,0,0,0,0,0,0,0,0,54.294781529678673,0,1,44124,0,0,null,null,null,22.736842105263158,0,791625.7510547454,42838,0,212.00000000000003,120000,120082.8,null,null,0,null,0,null,0,0,0,0,0]
[3158,"Stelling Minnis CEP School",1,98,0,0,4.9999999999999991,0,1.010309278350519,1.010309278350519,0,0,0,0,0,0,0,0,0,0,17301.649532710282,0,2.2528735632183872,0,18.180039787798382,0,1,13560,0,0,null,null,null,9.8000000000000007,0,424429.50624580984,12307,0,102,120000,120082.8,null,null,0,null,0,null,0,0,0,0,0]
[3159,"Stowting CEP School",1,95,0,0,1.0000000000000016,0,0,3.0000000000000049,2.0000000000000031,3.0000000000000049,0,0,0,0,0,0,0,0,0,0,3.518518518518515,0,20.561342592592592,0,1,13440,0,0,null,null,null,3.0978260869565215,0,408621.58290716901,14544,0,94,120000,120082.8,null,null,0,null,0,null,0,0,0,0,0]
[3160,"Selsted CEP School",1,96,0,0,4.9999999999999964,0,19.000000000000032,1.0000000000000033,3,4.9999999999999964,1.0000000000000033,1.0000000000000033,0,0,0,0,0,0,17969.666889185581,0,1.1566265060240928,0,18.774227344159204,0,1,10418,0,0,null,null,null,12.126315789473685,0,415646.47876606369,10341,0,94,120000,120082.8,null,null,0,null,0,null,0,0,0,0,0]
[3163,"Downs CEP School, The",1,397,0,0,67.000000000000057,0,95.000000000000028,0,50.000000000000185,0.99999999999999967,50.000000000000185,0,0,0,0,0,0,0,0,0,7.0265486725663768,0,111.44106194690278,0,1,31656,0,0,null,null,null,92.253263707571804,0,1351652.2634134428,25786,0,385.00000000000006,120000,120082.8,null,null,0,null,0,null,0,0,0,0,0]
[3167,"Eastry CEP School",1,214,0,0,22,0,12.056338028169018,15.070422535211266,1.0046948356807504,1.0046948356807504,2.0093896713615029,0,0,0,0,0,0,0,0,0,2.351648351648354,0,53.267391304347875,0,1,10923,0,0,null,null,null,34.647619047619052,0,760866.22479478072,9090,0,210,120000,120082.8,null,null,0,null,0,null,0,0,0,0,0]
[3168,"Goodnestone CEP School",1,58,0,0,3.9999999999999991,0,29,3.0000000000000013,0.99999999999999833,0.99999999999999833,0,0,0,0,0,0,0,0,0,0,0,0,18.8,0,1,2726,0,0,null,null,null,9.0389610389610393,0,357774.79346659256,2481,0,75,120000,120082.8,null,null,0,null,0,null,0,0,0,0,0]
[3169,"Guston CEP School",1,148,0,0,7,0,1.999999999999998,5.9999999999999938,1.0000000000000004,3.0000000000000044,10.999999999999996,0,0,0,0,0,0,0,0,0,56.923076923076984,0,38.499437148217666,0,1,17980,0,0,null,null,null,10.16793893129771,0,609843.28292097349,14964,0,138,120000,120082.8,null,null,0,null,0,null,0,0,0,0,0]
[3171,"Nonington CEP School",1,67,0,0,7.0000000000000329,0,42.999999999999979,8.9999999999999858,0,8.0000000000000089,0,0,0,0,0,0,0,0,0,0,1.1355932203389842,0,24.310965063991674,0,1,8609,0,0,null,null,null,22.333333333333332,0,326818.02096829878,7835,0,58,120000,120082.8,null,null,0,null,0,null,0,0,0,0,0]
[3172,"Northbourne CEP School",1,122,0,0,7.0000000000000036,0,14.000000000000032,1,2.9999999999999964,1,0,0,0,0,0,0,0,0,0,0,0,0,12.94811320754717,0,1,16972,0,0,null,null,null,20.156521739130433,0,469998.26793467766,14001,0,114.99999999999999,120000,120082.8,null,null,0,null,0,null,0,0,0,0,0]
[3173,"Kingsdown & Ringwould CEP School",1,219,0,0,18,0,17,0,7,2,2,0,0,0,0,0,0,0,0,0,8.1111111111111036,0,28.629881154499124,0,1,19800,0,0,null,null,null,25.465116279069768,0,760948.32422194246,19365,0,213,120000,120082.8,null,null,0,null,0,null,0,0,0,0,0]
[3175,"Sibertswold CEP School",1,208,0,0,8.0000000000000071,0,8.0000000000000071,52.999999999999936,1.0000000000000004,1.0000000000000004,2.9999999999999951,0,0,0,0,0,0,0,0,0,5.8426966292134752,0,21.346127921109552,0,1,26129,0,0,null,null,null,26.772277227722775,0,749834.65739601816,23219,0,201,120000,120082.8,null,null,0,null,0,null,0,0,0,0,0]
[3178,"Birchington CEP School",1,456,0,0,54.000000000000021,0,65.999999999999929,96.000000000000142,15.000000000000018,0,7.0000000000000204,5.9999999999999973,0,0,0,0,0,0,0,0,15.357512953367857,0,131.12586489878677,0,1,42891,0,0,null,null,null,96.323595505617988,0,1570496.1498671463,38909,0,447,120000,120082.8,null,null,0,null,0,null,0,0,0,0,0]
[3179,"Holy Trinity & St John's CEP School, Margate",1,406,0,0,101.99999999999997,0,29.071604938271587,10.024691358024707,103.25432098765432,19.046913580246919,62.153086419752924,162.4,0,0,0,0,0,0,0,0,62.371014492753581,0,156.51448524093837,0,1,30320,0,0,4,0.9,0,167,0,1653332.53048663,29426,0,408,120000,120082.8,null,null,0,null,0,null,0,0,0,0,0]
[3181,"St Saviour's CEJ School",1,384,0,0,31.000000000000014,0,13.999999999999988,82.999999999999872,18,4.9999999999999867,3,6,0,0,0,0,0,0,0,0,1.00261096605744,0,105.86632584016226,0,1,48288,0,0,null,null,null,82,0,1338338.5181845916,47288,0,382,120000,120082.8,null,null,0,null,0,null,0,0,0,0,0]
[3182,"Minster CEP School",1,407,0,0,35.999999999999979,0,25.061576354679822,11.027093596059112,9.0221674876847437,5.0123152709359644,10.024630541871929,1.0024630541871928,0,0,0,0,0,0,0,0,11.432584269662906,0,98.903504628723454,0,1,33771,0,0,null,null,null,73.554216867469876,0,1395483.3116751683,35428,0,415,120000,120082.8,null,null,0,null,0,null,0,0,0,0,0]
[3183,"Monkton CEP School",1,106,0,0,9.9999999999999964,0,2.9999999999999969,0.99999999999999956,0,0,2.9999999999999969,0,0,0,0,0,0,0,0,0,4.6086956521739113,0,24.676113360323875,0,1,18360,0,0,null,null,null,17.831775700934578,0,454049.6437741901,18210,0,107,120000,120082.8,null,null,0,null,0,null,0,0,0,0,0]
[3186,"St Nicholas at Wade CEP School",1,209,0,0,9,0,7.0000000000000044,11.999999999999993,1.9999999999999996,0,0,0,0,0,0,0,0,0,0,0,3.4640883977900523,0,44.467425562683104,0,1,12960,0,0,null,null,null,10,0,745520.96834556409,12674,0,210,120000,120082.8,null,null,0,null,0,null,0,0,0,0,0]
[3198,"Frittenden CEP School",1,95,0,0,2.0000000000000031,0,0,0,0,0,0,0,0,0,0,0,0,0,0,0,2.375,0,15.844642857142823,0,1,12480,0,0,null,null,null,5.2777777777777777,0,390964.88169897965,15294,0,90,120000,120082.8,null,null,0,null,0,null,0,0,0,0,0]
[3199,"Egerton CEP School",1,206,0,0,16.000000000000007,0,0.999999999999999,0,0,0,0,0,0,0,0,0,0,0,0,0,4.6553672316384231,0,48.468125342429445,0,1,9578,0,0,null,null,null,25.616580310880828,0,682720.52931126032,7971,0,192,120000,120082.8,null,null,0,null,0,null,0,0,0,0,0]
[3201,"St Lawrence CEP School",1,86,0,0,6.9999999999999991,0,0,1.0000000000000011,0,0,0,0,0,0,0,0,0,0,0,0,0,0,18.843390804597668,0,1.0364,7174,0,0,null,null,null,10.75,0,385191.87754540506,8018,0,88,120000,120082.8,null,null,0,null,0,null,0,0,0,0,0]
[3282,"Boughton-under-Blean & Dunkirk Primary School",1,226,0,0,27.000000000000099,0,121.00000000000009,19,6.0000000000000036,2.9999999999999911,1.9999999999999991,0,0,0,0,0,0,0,0,0,4.6122448979591786,0,51.969774771222298,0,1,17640,0,0,null,null,null,39.702702702702702,0,821525.9099879025,9929,0,218,120000,120082.8,null,null,0,null,0,null,0,0,0,0,0]
[3284,"Lady Joanna Thornhill (Endowed) Primary School",1,418,0,0,10.999999999999995,0,0,5.0000000000000098,3.9999999999999991,10.00000000000002,0,0,0,0,0,0,0,0,0,0,13.742465753424648,0,69.21951053951426,0,1,40919,0,7500,null,null,null,25.511737089201876,0,1385346.1332475105,38121,0,424.00000000000006,120000,120082.8,null,null,0,null,0,null,0,0,0,0,0]
[3289,"St Peter's Methodist Primary School, Canterbury",1,200,0,0,9,0,0,1,6,62,8,0,0,0,0,0,0,0,0,0,59.302325581395401,0,43.550983899821084,0,1,18120,0,0,null,null,null,25,0,821314.4380959199,14395,0,208.99999999999997,120000,120082.8,null,null,0,null,0,null,0,0,0,0,0]
[3294,"St Matthew's High Brooms CEP School",1,442,0,0,87.999999999999815,0,34.154545454545463,84.381818181818218,61.277272727272887,1.0045454545454533,0,0,0,0,0,0,0,0,0,0,25.802030456852794,0,136.31267343485612,0,1,35496,0,0,null,null,null,155.42857142857144,0,1610856.0109770517,32300,0,450,120000,120082.8,null,null,0,null,0,null,0,0,0,0,0]
[3295,"Herne CEI School",1,268,0,0,13.000000000000009,0,4.9999999999999876,8.9999999999999982,4.0000000000000107,0,0,0,0,0,0,0,0,0,0,0,4.4916201117318302,0,62.882681564245843,0,1,45603,0,0,4,0.9,0,13.896296296296295,0,947335.56174668623,44640,0,270,120000,120082.8,null,null,0,null,0,null,0,0,0,0,0]
[3296,"Langafel CEP School",1,327,0,0,61.999999999999858,0,26.000000000000011,60.999999999999922,4.0000000000000089,2.0000000000000013,4.9999999999999867,0,0,0,0,0,0,0,0,0,5.8185053380782845,0,96.951775263718389,0,1.0364,33394,0,0,null,null,null,87.757188498402556,0,1088516.1973427841,27953,0,299,120000,120082.8,null,null,677.18569070433023,null,null,null,20,0,20,0,24]
[3297,"Southborough CEP School",1,544,0,0,29.000000000000018,0,14.000000000000021,12.999999999999993,1.0000000000000016,1.0000000000000016,0,0,0,0,0,0,0,0,0,0,53.566739606126909,0,103.60415848439165,0,1,51765,0,0,null,null,null,84.007532956685495,0,1728336.9937570598,21714,0,530,120000,120082.8,null,null,0,null,0,null,0,0,0,0,0]
[3298,"West Kingsdown C.E. (V.C.) Primary School",1,154,0,0,12.999999999999998,0,0,0.99999999999999944,0.99999999999999944,0,0.99999999999999944,0,0,0,0,0,0,0,0,0,5.5797101449275344,0,35.152173913043477,0,1.0364,25538,0,0,null,null,null,17.733333333333334,0,643741.65386514226,23833,0,169,120000,120082.8,null,null,0,null,0,null,0,0,0,0,0]
[3299,"John Wesley Primary School",1,434,0,0,36.000000000000014,0,95.883720930232769,28.26046511627905,0,6.0558139534883626,49.455813953488359,0,0,0,0,0,0,0,0,0,11.988950276243097,0,139.68164129426228,0,1,11552,0,0,null,null,null,73.272727272727266,0,1344003.3822634486,18552,0,384,120000,120082.8,null,null,0,null,0,null,0,0,0,0,0]
[3303,"St Katharine's Knockholt CEP School",1,198,0,0,5.9999999999999991,0,0,0,0,0,1.010204081632653,0,0,0,0,0,0,0,0,0,2.3157894736842026,0,60.733723196881094,0,1.0364,3895,0,0,null,null,null,8.2072538860103634,0,704014.1347718602,3860,0,196,120000,120082.8,null,null,0,null,0,null,0,0,0,0,0]
[3307,"Chevening (St Botolph's) CEP School",1,207,0,0,5.9999999999999982,0,0,2,0,0,0,0,0,0,0,0,0,0,0,0,4.7861271676300587,0,36.404835794427534,0,1.0364,4979,0,0,null,null,null,10.147058823529411,0,702513.54173758079,4643,0,200,120000,120082.8,null,null,0,null,0,null,0,0,0,0,0]
[3308,"Colliers Green CEP School",1,113,0,0,0.99999999999999956,0,0,0,0.99999999999999956,0,0,0,0,0,0,0,0,0,0,0,4.6597938144329953,0,22.695358649789068,0,1,1824,0,0,null,null,null,8,0,446621.64157333132,1646,0,113.00000000000001,120000,120082.8,null,null,0,null,0,null,0,0,0,0,0]
[3309,"Sissinghurst CEP School",1,162,0,0,10.999999999999995,0,4.0248447204968931,0,3.0186335403726696,0,0,0,0,0,0,0,0,0,0,0,1.1654676258992811,0,42.36436732966574,0,1,7691,0,0,null,null,null,22.415094339622641,0,597211.61598200875,7537,0,161,120000,120082.8,null,null,0,null,0,null,0,0,0,0,0]
[3312,"Hever CEP School",1,131,0,0,4.0000000000000044,0,13.100000000000001,28.215384615384565,0,0,0,0,0,0,0,0,0,0,6279.3631508678191,0,3.7428571428571464,0,30.283116883116911,0,1.0364,2021,0,0,null,null,null,12.752212389380531,0,469750.37772004702,1925,0,113.00000000000001,120000,120082.8,null,null,0,null,0,null,0,0,0,0,0]
[3313,"Fordcombe CEP School",1,98,0,0,8,0,1.9999999999999978,1.9999999999999978,0,0,0,0,0,0,0,0,0,0,0,0,1.1666666666666663,0,24.000000000000021,0,1.0364,2712,0,0,null,null,null,8,0,418773.23700138234,2583,0,100,120000,120082.8,null,null,0,null,0,null,0,0,0,0,0]
[3314,"Penshurst CEP School",1,100,0,0,6,0,0,0,0,0,0,0,0,0,0,0,0,0,0,0,3.2967032967033001,0,21.494304781975977,0,1.0364,1774,0,0,null,null,null,6.7307692307692308,0,420757.48045858694,1567,0,102,120000,120082.8,null,null,0,null,0,null,0,0,0,0,0]
[3317,"Lady Boswell's CEP School, Sevenoaks",1,372,0,0,2.0000000000000018,0,0.999999999999999,0.999999999999999,0.999999999999999,0,0,0,0,0,0,0,0,0,0,0,22.653846153846157,0,45.871990604815117,0,1.0364,8430,0,0,null,null,null,10.941176470588236,0,1124294.8703285835,12960,0,340,120000,120082.8,null,null,0,null,0,null,0,0,0,0,0]
[3318,"Ide Hill CEP School",1,137,0,0,3.9999999999999996,0,7.1037037037037098,2.0296296296296275,0,0,0,0,0,0,0,0,0,0,0,0,2.3826086956521757,0,24.808606006275181,0,1.0364,1849,0,0,null,null,null,6.3230769230769237,0,513936.78010066645,1765,0,133,120000,120082.8,null,null,0,null,0,null,0,0,0,0,0]
[3320,"St Barnabas CEP School",1,199,0,0,25.99999999999994,0,6.9999999999999956,0,7.9999999999999947,2.9999999999999978,0,0,0,0,0,0,0,0,0,0,31.84,0,48.383125190374699,0,1,2495,0,0,null,null,null,47.334951456310684,0,850104.88609304861,2013,0,201.99999999999997,120000,120082.8,null,null,0,null,0,null,0,0,0,0,0]
[3322,"St James' CEI School",1,270,0,0,5.9999999999999938,0,9.9999999999999893,0,3.999999999999996,2.0000000000000009,0,0,0,0,0,0,0,0,0,0,72.402234636871626,0,65.999999999999886,0,1,4240,0,0,null,null,null,11,0,963063.2904742033,3748,0,269,120000,120082.8,null,null,0,null,0,null,0,0,0,0,0]
[3323,"Hunton CEP School",1,95,0,0,2.0000000000000031,0,14.148936170212771,0,2.0212765957446854,3.0319148936170235,0,0,0,0,0,0,0,0,0,0,1.1445783132530085,0,18.303033562822716,0,1,2416,0,0,null,null,null,8.172043010752688,0,397929.38275560871,2070,0,93,120000,120082.8,null,null,0,null,0,null,0,0,0,0,0]
[3325,"Platt CEP School",1,146,0,0,4,0,15.99999999999994,4,4,0,0,0,0,0,0,0,0,0,0,0,4.8264462809917328,0,32.343893480257051,0,1,2487,0,0,null,null,null,17.696969696969699,0,494812.31225738343,2070,0,126,120000,120082.8,null,null,0,null,0,null,0,0,0,0,0]
[3328,"Bapchild & Tonge CEP School",1,202,0,0,13.000000000000009,0,32.999999999999929,9.9999999999999982,50.000000000000092,3.0000000000000098,6,0,0,0,0,0,0,0,0,0,2.3218390804597662,0,46.770640823379196,0,1,3147,0,0,null,null,null,17.397129186602871,0,766315.11712410545,2545,0,208,120000,120082.8,null,null,0,null,0,null,0,0,0,0,0]
[3332,"Hartlip Endowed CEP School",1,104,0,0,4.0000000000000036,0,17.999999999999989,2.9999999999999951,1.9999999999999969,1.0000000000000004,0,0,0,0,0,0,0,0,0,0,0,0,27.925925925925959,0,1,1198,0,0,null,null,null,8.0776699029126213,0,438631.7534698004,1045,0,106.00000000000001,120000,120082.8,null,null,0,null,0,null,0,0,0,0,0]
[3337,"Tunstall CEP School",1,296,0,0,2.9999999999999893,0,12.999999999999995,19.000000000000004,7.999999999999992,5.0000000000000027,0,0,0,0,0,0,0,0,0,0,5.0169491525423782,0,51.466978375219071,0,1,11433,0,0,null,null,null,10.052830188679245,0,907088.20768106799,22484,0,262,120000,120082.8,null,null,0,null,0,null,0,0,0,0,0]
[3338,"Herne CEJ School",1,363,0,0,22.999999999999989,0,7.9999999999999822,5.0000000000000027,5.9999999999999964,0,1.0000000000000004,2.0000000000000009,0,0,0,0,0,0,0,0,2.0000000000000009,0,70.242647058823422,0,1,7543,0,0,null,null,null,53.44166666666667,0,1173364.7279521767,6409,0,362,120000,120082.8,null,null,0,null,0,null,0,0,0,0,0]
[3339,"Whitstable & Seasalter Endowed CEJ School",1,194,0,0,6.0000000000000018,0,2.0000000000000071,0,3.0000000000000009,0.99999999999999967,12.000000000000004,0,0,0,0,0,0,0,0,0,2.0103626943005115,0,40.285714285714263,0,1,3360,0,0,null,null,null,32,0,678027.63983669621,3021,0,193,120000,120082.8,null,null,0,null,0,null,0,0,0,0,0]
[3340,"St Mary's CEP School, Ashford",1,420,0,0,58.999999999999801,0,93.669064748201464,63.453237410071736,1.0071942446043156,26.187050359712213,14.100719424460452,0,0,0,0,0,0,0,0,0,30.333333333333325,0,138.89931740614347,0,1,8628,0,0,null,null,null,96.690647482014398,0,1471463.7449994609,8115,0,417.99999999999994,120000,120082.8,null,null,0,null,0,null,0,0,0,0,0]
[3346,"Wittersham CEP School",1,125,0,0,14,0,4,0,0,0,1,0,0,0,0,0,0,0,8283.4152202937221,0,0,0,39.524555903866208,0,1,3377,0,0,null,null,null,34.83606557377049,0,494849.08658014465,2908,0,123,120000,120082.8,null,null,0,null,0,null,0,0,0,0,0]
[3347,"Elham CEP School",1,133,0,0,2.9999999999999991,0,9.9999999999999964,1.9999999999999991,3.9999999999999982,1.9999999999999991,0,0.99999999999999956,0,0,0,0,0,0,0,0,1.1875000000000002,0,29.160283687943288,0,1,3201,0,0,null,null,null,16.244274809160306,0,503933.83853078488,2728,0,130,120000,120082.8,null,null,0,null,0,null,0,0,0,0,0]
[3350,"Saltwood CEP School",1,220,0,0,8.9999999999999982,0,4.9999999999999938,11,2.999999999999992,0,2,2.999999999999992,0,0,0,0,0,0,0,0,2.3157894736842137,0,37.530730050933819,0,1,4905,0,0,null,null,null,10.900900900900901,0,760978.44945727021,4105,0,221,120000,120082.8,null,null,0,null,0,null,0,0,0,0,0]
[3351,"Ash Cartwright and Kelsey CEP School",1,164,0,0,12.999999999999996,0,4.0245398773006142,1.0061349693251527,0,2.0122699386502987,2.0122699386502987,0,0,0,0,0,0,0,0,0,2.3262411347517782,0,36.408117289468919,0,1,6656,0,0,4,0.9,0,36.875739644970416,0,627028.01751224243,6218,0,173,120000,120082.8,null,null,0,null,0,null,0,0,0,0,0]
[3353,"Deal Parochial CEP School",1,205,0,0,37.000000000000043,0,28.000000000000092,0,13.000000000000009,2.9999999999999969,32.00000000000005,0,0,0,0,0,0,0,0,0,8.1999999999999993,0,36.818650793650832,0,1,7888,0,0,null,null,null,54.468599033816425,0,766513.09503127297,7200,0,206,120000,120082.8,null,null,0,null,0,null,0,0,0,0,0]
[3356,"St Mary's CEP School, Dover",1,215,0,0,50.000000000000057,0,17.240566037735846,30.424528301886763,39.551886792452741,45.636792452830143,59.834905660377395,0,0,0,0,0,0,0,0,0,43.227513227513214,0,59.153690771695601,0,1,3818,0,0,null,null,null,70.414847161572055,0,906865.2270372262,3091,0,224,120000,120082.8,null,null,0,null,0,null,0,0,0,0,0]
[3358,"Sholden CEP School",1,106,0,0,9.9999999999999964,0,44.999999999999957,0,11.999999999999966,0,2.0000000000000013,0,0,0,0,0,0,0,0,0,0,0,15.162608695652175,0,1,792,0,0,null,null,null,15.588235294117647,0,443879.46949286934,772,0,104,120000,120082.8,null,null,0,null,0,null,0,0,0,0,0]
[3360,"St Peter-in-Thanet CEJ School",1,373,0,0,38.999999999999915,0,47.126344086021362,115.30913978494641,10.026881720430097,17.045698924731184,7.0188172043010875,13.034946236559147,0,0,0,0,0,0,0,0,3.9999999999999876,0,104.18254296100454,0,1,9614,0,0,null,null,null,84.772727272727266,0,1318446.7335568757,9415,0,373,120000,120082.8,null,null,0,null,0,null,0,0,0,0,0]
[3364,"Ramsgate, Holy Trinity CEP School",1,210,0,0,14.000000000000005,0,45.999999999999986,3.0000000000000027,9.0000000000000089,14.999999999999993,19.000000000000007,3.0000000000000027,0,0,0,0,0,0,0,0,1.1666666666666676,0,40.428571428571431,0,1,5719,0,0,null,null,null,22,0,769568.4752370239,5599,0,210,120000,120082.8,null,null,0,null,0,null,0,0,0,0,0]
[3373,"St Mary's CEP School",1,199,0,0,66.999999999999972,0,0,19.000000000000007,18.000000000000007,62.999999999999943,52.000000000000078,0,0,0,0,0,0,0,0,0,12.726744186046506,0,55.642317275747516,0,1.0364,3917,0,0,4,0.9,1.000000000000012E-2,95.438775510204081,0,820070.08441741252,3161,0,197,120000,120082.8,null,null,0,null,0,null,0,0,0,0,0]
[3718,"St Augustine's Catholic Primary School, Hythe",1,205,0,0,10.000000000000011,0,10.000000000000011,28.999999999999929,17.000000000000004,5.9999999999999938,2,0,0,0,0,0,0,0,0,0,5.857142857142863,0,63.420810536980781,0,1,6754,0,0,null,null,null,20.898058252427184,0,748670.72277832415,6608,0,204,120000,120082.8,null,null,0,null,0,null,0,0,0,0,0]
[3722,"St Ethelbert's Catholic Primary School, Ramsgate",1,211,0,0,21,0,68.000000000000071,0,16.999999999999996,30.000000000000028,42.000000000000043,0,0,0,0,0,0,0,0,0,25.646408839779038,0,44.591709048333428,0,1,4918,0,0,null,null,null,50.759433962264154,0,816592.2988883924,4028,0,208.99999999999997,120000,120082.8,null,null,0,null,0,null,0,0,0,0,0]
[3728,"St Anselm's Catholic Primary School, Dartford",1,211,0,0,14.999999999999995,0,66.000000000000057,4.0000000000000036,0,23.000000000000025,26.000000000000025,0,0,0,0,0,0,0,0,0,55.955801104972409,0,48.85397798464475,0,1.0364,4289,0,0,null,null,null,27.867924528301888,0,830273.00975863938,4084,0,211,120000,120082.8,null,null,0,null,0,null,0,0,0,0,0]
[3733,"Our Lady's Catholic Primary School, Dartford",1,216,0,0,3.999999999999996,0,50.999999999999972,6.9999999999999982,0,6.0000000000000053,6.0000000000000053,0,0,0,0,0,0,0,0,0,19.848648648648648,0,54.010182346409323,0,1.0364,3935,0,0,null,null,null,15,0,814925.57021234557,3189,0,215.99999999999997,120000,120082.8,null,null,0,null,0,null,0,0,0,0,0]
[3749,"St Thomas' Catholic Primary School, Canterbury",1,207,0,0,17.999999999999993,0,3.9999999999999911,8.9999999999999964,27.000000000000075,51.999999999999993,26.000000000000099,0,0,0,0,0,0,0,0,0,49.118644067796545,0,39.276540264639877,0,1,3428,0,0,null,null,null,37.817307692307693,0,811318.67626930634,2853,0,207,120000,120082.8,null,null,0,null,0,null,0,0,0,0,0]
[3893,"Phoenix Community Primary School",1,205,0,0,60.999999999999972,0,0.99999999999999889,14.000000000000007,4.9999999999999956,75.999999999999972,2,0,0,0,0,0,0,0,0,0,23.563218390804561,0,67.601469387755017,0,1,52258,0,0,null,null,null,98.480392156862749,0,877767.28307074239,52866,0,206,120000,120082.8,null,null,0,null,0,null,0,0,0,0,0]
[3896,"Downsview Primary",1,206,0,0,33.000000000000092,0,2.9999999999999991,8.9999999999999982,26.000000000000064,11.000000000000004,23.999999999999993,0,0,0,0,0,0,0,0,0,4.6818181818181763,0,70.419747474747453,0,1.0364,16300,0,0,null,null,null,73.356097560975613,0,804246.26587005763,13565,0,207,120000,120082.8,null,null,0,null,0,null,0,0,0,0,0]
[3898,"Greenfields Community Primary School",1,319,0,0,83.999999999999943,0,132.00000000000006,7.9999999999999964,50.999999999999929,46.999999999999943,21.000000000000004,0,0,0,0,0,0,0,0,0,15.135036496350379,0,68.969400439868693,0,1,35003,0,0,4,0.9,0.15999999999999959,147,0,1445164.3697672626,33647,0,318,120000,120082.8,null,null,0,null,0,null,0,0,0,0,0]
[3902,"Hythe Bay C of E Primary School",1,399,0,0,72.000000000000057,0,13.999999999999993,117.00000000000004,67.999999999999901,0.99999999999999956,2.9999999999999987,3.9999999999999982,0,0,0,0,0,0,0,0,21.598290598290586,0,134.12151825660274,0,1,57188,0,0,null,null,null,124.62468513853905,0,1426338.980023958,55946,0,387,120000,120082.8,null,null,304.83483335708678,null,null,null,18,0,16,0,16]
[3904,"Castle Hill Community Primary School",1,384,0,0,129,0,21,16.000000000000014,88.999999999999872,75,112.00000000000014,43.999999999999872,0,0,0,0,0,0,0,0,44.0845921450153,0,161.50171198388719,0,1,55821,0,0,4,0.9,0.29000000000000037,216.12565445026178,0,1582489.503618374,59639,0,376,120000,120082.8,null,null,980.90137792835412,null,null,null,4,0,6,0,5]
[3906,"Palace Wood Primary School",1,417,0,0,40.000000000000007,0,33.159036144578302,7.0337349397590474,24.115662650602403,8.0385542168674533,3.0144578313253003,0,0,0,0,0,0,0,0,0,26.790502793296078,0,88.877610047941786,0,1,27441,0,0,null,null,null,49.474576271186443,0,1384302.71120515,22986,0,414,120000,120082.8,null,null,0,null,0,null,0,0,0,0,0]
[3907,"Hextable Primary School",1,445,0,0,21.000000000000021,0,6.0135135135135078,21.047297297297298,12.027027027027016,12.027027027027016,26.058558558558577,0,0,0,0,0,0,0,0,0,5.7345360824742135,0,133.17968775090731,0,1.0364,23760,0,0,null,null,null,66.494252873563227,0,1495848.6343018014,19858,0,440,120000,120082.8,null,null,0,null,0,null,0,0,0,0,0]
[3909,"Ashford Oaks Community Primary School",1,418,0,0,149.00000000000011,0,56.134292565947163,88.211031175059944,0,67.16067146282964,142.34052757793771,0,0,0,0,0,0,0,0,0,40.865921787709489,0,162.02833890703843,0,1,67048,0,0,4,0.9,0.40999999999999959,212.66666666666669,0,1669692.3321514246,65612,0,396.00000000000006,120000,120082.8,null,null,689.45420922284893,null,null,null,5,0,8,0,5]
[3910,"Joy Lane Primary School",1,551,0,0,53.999999999999986,0,9.0000000000000071,1.9999999999999982,51,1.0000000000000018,37.999999999999993,1.0000000000000018,0,0,0,0,0,0,0,0,14.128205128205105,0,168.265220666354,0,1,55320,0,0,null,null,null,95.688931297709928,0,1670955.4787929654,45585,0,496,120000,120082.8,null,null,617.96490290599161,null,null,null,29,0,30,0,29]
[3911,"Hornbeam Primary School",1,255,0,0,31.999999999999908,0,135.99999999999991,1,30.999999999999901,0,14.999999999999998,0,0,0,0,0,0,0,0,0,4.9514563106796015,0,55.523361650485391,0,1,21341,0,0,null,null,null,71.137339055793987,0,900487.03918100102,17761,0,236.99999999999997,120000,120082.8,null,null,0,null,0,null,0,0,0,0,0]
[3913,"Rusthall, St Paul's CE VA School",1,219,0,0,23.999999999999911,0,43.999999999999908,1,1,2,0,0,0,0,0,0,0,0,0,0,12.746031746031745,0,51.592654735272127,0,1,5226,0,0,null,null,null,64.35526315789474,0,849309.68135166215,4556,0,229,120000,120082.8,null,null,0,null,0,null,0,0,0,0,0]
[3916,"Green Park Community Primary School",1,353,0,0,84.000000000000085,0,18,98.000000000000142,91.000000000000114,12.000000000000002,118.9999999999999,0,0,0,0,0,0,0,0,0,14.310810810810796,0,98.202431347009593,0,1,33524,0,0,null,null,null,173.45689655172413,0,1431794.9361870547,24600,0,349,120000,120082.8,null,null,0,null,0,null,0,0,0,0,0]
[3917,"Garlinge Primary School",1,730,0,0,146,0,53.000000000000007,29.000000000000018,168.99999999999963,62.000000000000021,46.000000000000014,101.9999999999998,0,0,0,0,0,0,0,0,63.428120063191166,0,205.13687176656248,0,1,59653,0,0,4,0.9,0.22999999999999987,269.98577524893312,0,2653186.2386291544,65822,0,701,120000,120082.8,null,null,992.4556550470794,null,null,null,4,0,4,0,4]
[3918,"Newington Community Primary School and Nursery",1,644,0,0,156.00000000000034,0,72.336973478939029,5.0234009360374419,40.187207488299535,104.48673946957854,319.48829953198145,8.0374414976599073,0,0,0,0,0,0,0,0,20.962025316455698,0,117.16467353623271,0,1,8775,0,0,4,0.9,0.30999999999999994,263.31537242472263,0,2524351.7055222876,9063,0,630,120000,120082.8,null,null,0,null,0,null,0,0,0,0,0]
[3919,"Dartford Bridge Community Primary School, The",1,362,0,0,20.000000000000004,0,281.55555555555566,1.0055555555555564,0,27.15,18.100000000000001,0,0,0,0,0,0,0,0,0,62.331125827814517,0,89.454612373519879,0,1.0364,33010,0,0,4,0.9,0,49.559523809523817,0,1373118.2089107691,33072,0,332,120000,120082.8,null,null,0,null,0,null,0,0,0,0,0]
[3920,"Goat Lees Primary School",1,207,0,0,50.00000000000005,0,6.9999999999999911,76.999999999999915,35.000000000000057,11.000000000000004,1.0000000000000011,0,0,0,0,0,0,0,0,0,8.186440677966111,0,56.536561743341451,0,1,8480,0,0,null,null,null,65.479591836734699,0,766255.35291207733,8149,0,193,120000,120082.8,null,null,0,null,0,null,0,0,0,0,0]
[4026,"Dartford Science and Technology College",2,0,427,213,0,60,0,0,0,0,0,0,113,48,3,40,33,0,0,0,0,23,0,145.43499943106576,1.0364,126455,0,0,null,null,null,0,188.92205638474294,2954384.2543884539,123449,0,594,120000,120082.8,null,null,0,null,0,null,0,0,0,0,0]
[4040,"Northfleet School for Girls",2,0,443,287,0,112.99999999999986,0,0,0,0,0,0,163.22359396433464,109.14951989026063,46.063100137174175,42.057613168724252,61.083676268861424,1.0013717421124806,0,0,0,29.079670329670304,0,200.74107657376891,1,26129,0,0,null,null,null,0,219.68042609853526,3662925.8910044851,26471,0,754,120000,120082.8,null,null,0,null,0,null,0,0,0,0,0]
[4043,"Tunbridge Wells Girls' Grammar School",2,0,438,292,0,10,0,0,0,0,0,0,23.031550068587087,7.0096021947873783,6.0082304526748977,5.0068587105624172,0,0,0,0,0,0,0,3.1132629116577997,1,50857,0,0,null,null,null,0,28,3084990.1086462364,71638,0,726,120000,120082.8,null,null,0,null,0,null,0,0,0,0,0]
[4045,"Tunbridge Wells Grammar School for Boys",2,0,588,363,0,16.000000000000025,0,0,0,0,0,0,35.000000000000043,14.000000000000036,4.0000000000000018,2.9999999999999964,0.99999999999999567,0,0,0,0,2.0000000000000009,0,13.405786464931243,1,160225,0,0,null,null,null,0,60.961538461538453,4025499.6621856564,150603,0,937,120000,120082.8,null,null,0,null,0,null,0,0,0,0,0]
[4065,"Holmesdale School, The",2,0,312,226,0,57.999999999999936,0,0,0,0,0,0,22.000000000000007,216.0000000000002,11.999999999999975,0.99999999999999789,9.0000000000000089,0,0,0,0,2.0037243947858472,0,160.1659997930492,1,39548,1042572.4929657052,0,null,null,null,0,149.1570512820513,3854922.8440842014,40563,1094682.1128673521,630,120000,120082.8,null,null,696.79775966984755,null,null,null,6,0,4,0,3]
[4091,"Community College Whitstable, The",2,0,390,292,0,103.00000000000011,0,0,0,0,0,0,42.123529411764679,19.055882352941151,52.15294117647057,7.0205882352941025,69.202941176470503,1.0029411764705898,0,0,0,5.0000000000000036,0,162.41110666030582,1,277751,0,0,null,null,null,0,206.28395061728395,3235310.2304457258,284879,0,640,120000,120082.8,null,null,0,null,0,null,0,0,0,0,0]
[4109,"Dover Grammar School for Girls",2,0,415,249,0,32.000000000000036,0,0,0,0,0,0,88.265861027190226,62.187311178247754,64.193353474320219,31.093655589123845,46.138972809667706,0,0,0,0,1.9999999999999973,0,8.750333013621006,1,67048,0,0,null,null,null,0,87.181679389312976,2907064.9006943428,65580,0,655,120000,120082.8,null,null,0,null,0,null,0,0,0,0,0]
[4246,"North School, The",2,0,464,415,0,122.0000000000003,0,0,0,0,0,0,76.173318129988559,137.31242873432123,6.0136830102622598,116.2645381984033,41.093500570125435,0,0,0,0,23.000000000000011,0,268.92230871008479,1,263944,1096148.7315712892,0,null,null,null,0,281.16484716157203,5397385.5267179823,278126,1150936.1867777554,884,120000,120082.8,null,null,641.03879548880752,null,641.03879548880752,null,25,3,25,0,23]
[4522,"Maidstone Grammar School",2,0,588,342,0,15.999999999999984,0,0,0,0,0,0,84.000000000000014,6.0000000000000036,16.999999999999986,12.999999999999988,6.0000000000000036,0,0,0,0,5.0000000000000044,0,4.7807613243763889,1,31059,0,0,null,null,null,0,51.608154020385051,3714472.0572949988,30389,0,883,120000,120082.8,null,null,0,null,0,null,0,0,0,0,0]
[4523,"Maidstone Grammar School for Girls",2,0,547,332,0,23.999999999999996,0,0,0,0,0,0,75.085421412300704,32.036446469248311,16.018223234624156,12.013667425968075,12.013667425968075,0,0,0,0,2.9999999999999996,0,3.7627268938237561,1,31059,0,0,null,null,null,0,68.232876712328761,3676431.3010744411,30423,0,871,120000,120082.8,null,null,0,null,0,null,0,0,0,0,0]
[4534,"Simon Langton Girls' Grammar School",2,0,491,339,0,21.999999999999964,0,0,0,0,0,0,49.000000000000036,15.999999999999966,23.000000000000018,24.999999999999964,17.999999999999993,0.99999999999999689,0,0,0,7.0169082125603888,0,8.7060782360808311,1,158993,0,0,null,null,null,0,46.111111111111107,3634208.5681510158,155598,0,828,120000,120082.8,null,null,0,null,0,null,0,0,0,0,0]
[4622,"Judd School, The",2,0,500,314,0,9.0000000000000355,0,0,0,0,0,0,14.999999999999977,10.999999999999989,9.0000000000000355,7,3.9999999999999969,0,0,0,0,10.000000000000012,0,4.1857080027807125,1,35989,0,0,null,null,null,0,16.301735647530041,3178849.3908727691,36518,0,748,120000,120082.8,null,null,0,null,0,null,0,0,0,0,0]
[5200,"Snodland CEP School",1,378,0,0,52.999999999999922,0,0,252.99999999999986,1.9999999999999996,0,4.9999999999999902,0,0,0,0,0,0,0,0,0,5.9433962264151052,0,68.514918824045509,0,1,8149,0,0,null,null,null,118.56836461126005,0,1339952.236938314,6819,0,378,120000,120082.8,null,null,0,null,0,null,0,0,0,0,0]
[5201,"Borough Green Primary School",1,291,0,0,20.999999999999986,0,106.99999999999994,0,1.0000000000000007,0,1.0000000000000007,0,0,0,0,0,0,0,0,0,3.5487804878048745,0,49.132649309263982,0,1,5911,0,0,null,null,null,41.856164383561641,0,990740.76739925519,4946,0,288,120000,120082.8,null,null,0,null,0,null,0,0,0,0,0]
[5202,"Holy Trinity CEP School",1,428,0,0,26.000000000000011,0,181.99999999999997,31.999999999999993,22.999999999999982,36.999999999999993,16.000000000000018,0,0,0,0,0,0,0,0,0,99.481081081080902,0,151.15918918918919,0,1,9466,0,0,4,0.9,0.23999999999999966,71.004608294930875,0,1616609.1765707545,9032,0,433,120000,120082.8,null,null,0,null,0,null,0,0,0,0,0]
[5203,"Roseacre Junior School",1,421,0,0,15.999999999999989,0,13.093301435406689,2.0143540669856455,0,1.0071770334928249,6.0430622009569239,0,0,0,0,0,0,0,0,0,11.000000000000018,0,72.671329117966437,0,1,5663,0,0,null,null,null,21.303614457831326,0,1301093.8833270089,4737,0,415,120000,120082.8,null,null,0,null,0,null,0,0,0,0,0]
[5206,"Herne Bay Junior School",1,484,0,0,68.999999999999815,0,67.999999999999972,43.999999999999993,115.99999999999986,3.0000000000000018,2.0000000000000013,0,0,0,0,0,0,0,0,0,12.000000000000018,0,155.9558197939626,0,1,9515,0,0,null,null,null,143.59336099585062,0,1638848.871110833,9315,0,478,120000,120082.8,null,null,0,null,0,null,0,0,0,0,0]
[5207,"St Francis' Catholic Primary School, Maidstone",1,409,0,0,25.999999999999982,0,71.000000000000057,2.0000000000000004,7.0000000000000107,9.9999999999999805,5.9999999999999805,0,0,0,0,0,0,0,0,0,87.807909604519708,0,95.515767291649269,0,1,10945,0,0,null,null,null,36.553140096618357,0,1435590.0967669957,10712,0,414,120000,120082.8,null,null,0,null,0,null,0,0,0,0,0]
[5208,"Ditton CEJ School",1,248,0,0,24,0,70.999999999999972,30.000000000000032,17.000000000000004,0,6.0000000000000071,0,0,0,0,0,0,0,0,0,3.9999999999999956,0,54.592278719397406,0,1,3226,0,0,null,null,null,45.186440677966097,0,840271.54617040511,2686,0,234,120000,120082.8,null,null,0,null,0,null,0,0,0,0,0]
[5212,"Ditton Infant School",1,175,0,0,15.999999999999995,0,50.999999999999922,21,4.0000000000000071,0,5.0000000000000044,0,0,0,0,0,0,0,0,0,7.4786324786324725,0,36.206896551724149,0,1,2991,0,0,null,null,null,17,0,659082.64186483342,2489,0,171,120000,120082.8,null,null,0,null,0,null,0,0,0,0,0]
[5213,"Holy Trinity CEP School, Dartford",1,422,0,0,22.999999999999979,0,52.999999999999844,18.000000000000018,5.0000000000000044,34.999999999999993,23.999999999999982,0,0,0,0,0,0,0,0,0,100.19553072625683,0,70.361016503359281,0,1.0364,7987,0,0,null,null,null,78.935251798561154,0,1569066.9925190818,8032,0,417,120000,120082.8,null,null,0,null,0,null,0,0,0,0,0]
[5214,"St Bartholomew's Catholic Primary School",1,350,0,0,29.999999999999996,0,0,29.999999999999996,45.999999999999851,51.000000000000099,87.999999999999844,0,0,0,0,0,0,0,0,0,43.166666666666551,0,86.990386822773146,0,1.0364,5965,0,0,null,null,null,78.873239436619727,0,1305912.7088806829,5685,0,352,120000,120082.8,null,null,0,null,0,null,0,0,0,0,0]
[5218,"Greatstone Primary School",1,358,0,0,24,0,1.000000000000002,92.999999999999957,26.000000000000018,0,1.000000000000002,0,0,0,0,0,0,0,0,0,3.4757281553398061,0,91.278162178369499,0,1,7135,0,0,4,0.9,0,74.583333333333343,0,1276861.1487466441,5973,0,354,120000,120082.8,null,null,0,null,0,null,0,0,0,0,0]
[5221,"Wincheap Foundation Primary School",1,443,0,0,88.000000000000028,0,11.000000000000014,4.0000000000000009,13.999999999999982,16.999999999999996,115.99999999999983,0,0,0,0,0,0,0,0,0,28.916449086161865,0,134.88384628794284,0,1,8371,0,0,null,null,null,142.35730337078652,0,1514245.5852167415,7173,0,417.99999999999994,120000,120082.8,null,null,207.75798142367603,null,null,null,25,0,25,0,21]
[5223,"Brookfield Junior School, Larkfield",1,235,0,0,41.000000000000007,0,5.0000000000000115,18.999999999999993,5.0000000000000115,0,39.000000000000085,0,0,0,0,0,0,0,0,0,5.0000000000000115,0,59.275839793281612,0,1,22853,0,0,null,null,null,96.228448275862078,0,848668.26400896918,19019,0,231,120000,120082.8,null,null,0,null,0,null,0,0,0,0,0]
[5224,"All Souls' CEP School",1,288,0,0,43.000000000000128,0,54,9.9999999999999947,9.9999999999999947,13.999999999999996,9,8.0000000000000071,0,0,0,0,0,0,0,0,24.944881889763792,0,60.633896491094056,0,1,4560,0,0,null,null,null,60.371134020618555,0,1018663.3979392599,4111,0,286,120000,120082.8,null,null,0,null,0,null,0,0,0,0,0]
[5225,"Harcourt Primary School",1,167,0,0,19.999999999999972,0,32.192771084337281,5.0301204819277041,8.0481927710843451,5.0301204819277041,6.0361445783132508,4.0240963855421725,0,0,0,0,0,0,0,0,8.1748251748251839,0,43.389222756410255,0,1,2677,0,0,null,null,null,44.533333333333331,0,712322.32594657654,2153,0,170,120000,120082.8,null,null,0,null,0,null,0,0,0,0,0]
[5226,"Willesborough Junior School",1,475,0,0,37.000000000000014,0,4.0000000000000018,69.000000000000085,1.0000000000000013,70.000000000000199,8.9999999999999858,0,0,0,0,0,0,0,0,0,38,0,134.64601769911502,0,1,9811,0,0,null,null,null,127.19665271966527,0,1626585.6994662341,9581,0,473.99999999999994,120000,120082.8,null,null,0,null,0,null,0,0,0,0,0]
[5229,"Fleetdown Primary School",1,603,0,0,39.999999999999979,0,51.999999999999972,29.999999999999986,0.99999999999999956,7.0000000000000266,9.9999999999999947,0,0,0,0,0,0,0,0,0,31.736842105263143,0,131.9079088684262,0,1.0364,36569,0,0,null,null,null,65.744463373083477,0,1876872.9788482636,30648,0,567,120000,120082.8,null,null,895.34273661239604,null,null,null,12,0,13,0,13]
[5407,"Thamesview School",2,0,497,282,0,147.99999999999997,0,0,0,0,0,0,132.16966580976899,107.13753213367644,145.18637532133681,16.020565552699235,61.078406169665833,0,0,0,0,31.119845360824723,0,250.94299097877234,1,36305,934324.83044600557,0,null,null,null,0,300.42625169147499,4450093.7969502928,37234,981024.04043639766,740,120000,120082.8,null,null,924.99903411712421,null,null,null,6,0,8,0,8]
[5410,"Aylesford School - Sports College",2,0,413,270,0,88.000000000000142,0,0,0,0,0,0,86.126099706744853,69.101173020527696,47.068914956011724,0,23.033724340175965,0,0,0,0,5.0818452380952381,0,182.04804098020571,1,45390,902767.05869667907,0,null,null,null,0,182.87978142076503,4151388.2413423774,46557,947888.95535692328,730,120000,120082.8,null,null,0,null,0,null,0,0,0,0,0]
[5412,"Simon Langton Grammar School for Boys",2,0,383,270,0,16.999999999999979,0,0,0,0,0,0,34.104454685099853,14.043010752688158,10.030721966205846,20.061443932411692,13.039938556067613,0,0,0,0,14.000000000000004,0,6.390779833175289,1,28101,0,0,null,null,null,0,38.940366972477065,2732488.6115874862,27519,0,632,120000,120082.8,null,null,664.21151762972522,null,664.21151762972522,null,15,2,23,0,18]
[5425,"Malling School, The",2,0,486,235,0,94,0,0,0,0,0,0,41.056944444444412,116.16111111111104,16.022222222222204,2.0027777777777795,68.094444444444406,1.0013888888888898,0,0,0,3.9999999999999982,0,234.32318683434437,1,32538,822766.46400000015,0,null,null,null,0,215.19076923076921,3647749.8243770869,31858,855677.12256000016,556,120000,120082.8,null,null,278.32468664224899,null,278.32468664224899,null,94,18,80,28,94]
[5426,"Archbishop's School, The",2,0,411,295,0,81.000000000000114,0,0,0,0,0,0,47.066666666666684,25.03546099290779,63.089361702127682,31.043971631205704,49.069503546099305,0,0,0,0,21.029787234042558,0,162.85300454420337,1,16466,0,0,null,null,null,0,174.79114799446751,3294749.1404021597,16107,0,711,120000,120082.8,null,null,1085.7400876057736,338.20333333333332,null,null,11,0,11,0,8]
[5431,"Hugh Christie Technology College",2,0,442,260,0,115.00000000000013,0,0,0,0,0,0,98.999999999999986,58.999999999999972,6.0000000000000018,47.000000000000028,0.99999999999999689,0,0,0,0,9.999999999999968,0,212.84079176772926,1,49513,874360.24700708594,0,null,null,null,0,260.50372578241428,3840624.6743208659,50785,918062.32090224698,651,120000,120082.8,null,null,664.80361523263207,null,null,null,25,0,20,0,13]
[5447,"St George's CE Foundation School",4,179,654,412,6.9999999999999911,142.00000000000034,47.000000000000071,8,14.999999999999991,23.000000000000032,14,9.0000000000000089,234.9999999999998,65.999999999999972,114.0000000000003,112.00000000000021,110.00000000000014,73.999999999999972,0,0,6.0168067226890827,7.0000000000000036,46.841121495327066,279.78431580803135,1,69861,0,0,null,null,null,18.842105263157894,346.62582469368522,5552423.0391735854,56813,0,1172,120000,120082.8,null,null,0,null,0,null,0,0,0,0,0]
[5456,"Northfleet Technology College",2,0,519,315,0,122.99999999999984,0,0,0,0,0,0,185.00000000000011,120.99999999999999,61.000000000000036,41.999999999999979,67,0,0,0,0,37.044417767106808,0,258.32375949941235,1,35070,850222.24946316611,0,null,null,null,0,273.57649938800489,4937406.7908692677,35969,892717.86348557274,827,120000,120082.8,null,null,0,null,0,null,0,0,0,0,0]
[5459,"Dover Grammar School for Boys",2,0,397,232,0,36.999999999999993,0,0,0,0,0,0,70.000000000000071,53.999999999999986,54.999999999999986,42.999999999999993,44.000000000000007,2.0000000000000013,0,0,0,1.0047923322683712,0,16.653083280736283,1,17156,0,0,null,null,null,0,93.570247933884303,2674281.7605526666,17268,0,606,120000,120082.8,null,null,0,null,0,null,0,0,0,0,0]
[5461,"St John's Catholic Comprehensive School",2,0,573,354,0,88.999999999999986,0,0,0,0,0,0,219.00000000000034,136.9999999999996,186.00000000000045,28.000000000000004,64.000000000000014,0,0,0,0,35.000000000000007,0,305.19684215484222,1,58049,1127316.8837089131,0,null,null,null,0,279.44048943270303,5450726.8569018189,59541,1183662.1783672031,902,120000,120082.8,null,null,0,null,0,null,0,0,0,0,0]
[5468,"Royal Harbour Academy, The",2,0,506,290,0,263.99999999999966,0,0,0,0,0,0,164.00000000000011,9.0000000000000142,76.000000000000028,145.0000000000004,268.99999999999977,34.000000000000014,0,0,0,15.999999999999989,0,262.60378710480666,1,31799,654083.48653628922,0,null,null,null,0,461.2147395171537,4996596.3538538693,31114,686775.73776804237,803,120000,120082.8,null,null,0,null,0,null,0,0,0,0,0]

{"sheet":"TestArea","index":1,"n_rows":325,"n_cols":98,"rows_kept":325,"cut":false,"hidden":true,"merged":[]}
["MI DfE no","School Name",null,"Macro School Name","Data Calc",{"$f":"SUM(F2:F324)","v":0},null,"Macro Formula Factors","Data Calc SBS",{"$f":"SUM(J2:J324)","v":0},null,"Macro MFG","Data Calc",{"$f":"SUM(N2:N324)","v":0},null,"Macro SBS","Data Calc",{"$f":"SUM(R2:R324)","v":0},null,"Y1 DeDel Total","Data Calc",{"$f":"SUM(V2:V324)","v":0},null,"July UIFSM","APSA",{"$f":"SUM(Z2:Z324)","v":0},null,"Early years rate",null,{"$f":"SUM(AD2:AD324)","v":0},null,"Macro Notional SEN","Data Calc",{"$f":"SUM(AH2:AH324)","v":0},null,"Macro SEN top up","Data Calc",{"$f":"SUM(AL2:AL324)","v":0},null,"SRP Element 1","Data Calc",{"$f":"SUM(AP2:AP324)","v":136665},null,"SRP Element 2","Data Calc",{"$f":"SUM(AT2:AT324)","v":3017000},null,"SRP 1 Pre","Data Calc",{"$f":"SUM(AX2:AX324)","v":0},null,"SRP 1 Post","Data Calc",{"$f":"SUM(BB2:BB324)","v":0},null,"SRP 2 Pre","Data Calc",{"$f":"SUM(BF2:BF324)","v":0},null,"SRP 2 Post","Data Calc",{"$f":"SUM(BJ2:BJ324)","v":0},null,"Qual Year1","Data Calc",{"$f":"SUM(BN2:BN324)","v":0},null,"Orig PAN 1","Data Calc",{"$f":"SUM(BR2:BR324)","v":0},null,"New PAN","Data Calc",{"$f":"SUM(BV2:BV324)","v":1},null,"Qual Year2","Data Calc",{"$f":"SUM(BZ2:BZ324)","v":0},null,"Orig PAN2","Data Calc",{"$f":"SUM(CD2:CD324)","v":2},null,"New PAN2","Data Calc",{"$f":"SUM(CH2:CH324)","v":2},null,"Qual Year3","Data Calc",{"$f":"SUM(CL2:CL324)","v":0},null,"Orig PAN3","Data Calc",{"$f":"SUM(CP2:CP324)","v":0},null,"New PAN3","Data Calc",{"$f":"SUM(CT2:CT324)","v":0}]
[1001,"Northfleet Nursery",null,"Northfleet Nursery","Northfleet Nursery",{"$f":"IF(E2=D2,0,1)","v":0},null,0,0,{"$f":"ROUND(H2-I2,0)","v":0},null,0,0,{"$f":"ROUND(L2-M2,0)","v":0},null,0,0,{"$f":"ROUND(P2-Q2,0)","v":0},null,0,0,{"$f":"ROUND(T2-U2,0)","v":0},null,null,null,{"$f":"ROUND(X2-Y2,0)","v":0},null,5.01,5.01,{"$f":"ROUND(AB2-AC2,0)","v":0},null,0,0,{"$f":"ROUND(AF2-AG2,0)","v":0},null,0,0,{"$f":"ROUND(AJ2-AK2,0)","v":0},null,0,null,{"$f":"ROUND(AN2-AO2,0)","v":0},null,0,null,{"$f":"ROUND(AR2-AS2,0)","v":0},null,0,null,{"$f":"ROUND(AV2-AW2,0)","v":0},null,0,null,{"$f":"ROUND(AZ2-BA2,0)","v":0},null,0,null,{"$f":"ROUND(BD2-BE2,0)","v":0},null,0,null,{"$f":"ROUND(BH2-BI2,0)","v":0},null,"NO",{"$f":"IF(ISERROR(VLOOKUP($A2+8860000,'Growth Data'!$A:$F,3,0)),\"NO\",VLOOKUP($A2+8860000,'Growth Data'!$A:$F,3,0))","v":"NO"},{"$f":"IF(BL2=BM2,0,1)","v":0},null,0,{"$f":"IF(BM2=\"YES\",IF(ISERROR(VLOOKUP($A2+8860000,'Growth Data'!$A:$F,6,0)),0,VLOOKUP($A2+8860000,'Growth Data'!$A:$F,6,0)),0)","v":0},{"$f":"ROUND(BP2-BQ2,0)","v":0},null,0,{"$f":"IF(ISERROR(VLOOKUP($A2+8860000,'Growth Data'!$A:$Z,7,0)),0,VLOOKUP($A2+8860000,'Growth Data'!$A:$Z,7,0))","v":0},{"$f":"IF(BT2=BU2,0,1)","v":0},null,"NO",{"$f":"IF(ISERROR(VLOOKUP($A2+8860000,'Growth Data'!$A:$F,4,0)),\"NO\",VLOOKUP($A2+8860000,'Growth Data'!$A:$F,4,0))","v":"NO"},{"$f":"IF(BX2=BY2,0,1)","v":0},null,0,{"$f":"IF(ISERROR(VLOOKUP($A2+8860000,'Growth Data'!$A:$Z,8,0)),0,VLOOKUP($A2+8860000,'Growth Data'!$A:$Z,8,0))","v":0},{"$f":"IF(CB2=CC2,0,1)","v":0},null,0,{"$f":"IF(ISERROR(VLOOKUP($A2+8860000,'Growth Data'!$A:$Z,9,0)),0,VLOOKUP($A2+8860000,'Growth Data'!$A:$Z,9,0))","v":0},{"$f":"IF(CF2=CG2,0,1)","v":0},null,"NO",{"$f":"IF(ISERROR(VLOOKUP($A2+8860000,'Growth Data'!$A:$Z,5,0)),\"NO\",VLOOKUP($A2+8860000,'Growth Data'!$A:$Z,5,0))","v":"NO"},{"$f":"IF(CJ2=CK2,0,1)","v":0},null,0,{"$f":"IF(ISERROR(VLOOKUP($A2+8860000,'Growth Data'!$A:$Z,10,0)),0,VLOOKUP($A2+8860000,'Growth Data'!$A:$Z,10,0))","v":0},{"$f":"IF(CN2=CO2,0,1)","v":0},null,0,{"$f":"IF(ISERROR(VLOOKUP($A2+8860000,'Growth Data'!$A:$Z,11,0)),0,VLOOKUP($A2+8860000,'Growth Data'!$A:$Z,11,0))","v":0},{"$f":"IF(CR2=CS2,0,1)","v":0}]
[2000,"St Johns C of E Primary School",null,"St Johns C of E Primary School","St Johns C of E Primary School",{"$f":"IF(E3=D3,0,1)","v":0},null,1131819.98,1131819.9821616404,{"$f":"ROUND(H3-I3,0)","v":0},null,30856.01,30856.014662744012,{"$f":"ROUND(L3-M3,0)","v":0},null,1162676,1162675.9968243844,{"$f":"ROUND(P3-Q3,0)","v":0},null,6984.34,6984.3358687999998,{"$f":"ROUND(T3-U3,0)","v":0},null,null,null,{"$f":"ROUND(X3-Y3,0)","v":0},null,5,5,{"$f":"ROUND(AB3-AC3,0)","v":0},null,199082.56,199082.5582784405,{"$f":"ROUND(AF3-AG3,0)","v":0},null,0,0,{"$f":"ROUND(AJ3-AK3,0)","v":0},null,0,null,{"$f":"ROUND(AN3-AO3,0)","v":0},null,0,null,{"$f":"ROUND(AR3-AS3,0)","v":0},null,0,null,{"$f":"ROUND(AV3-AW3,0)","v":0},null,0,null,{"$f":"ROUND(AZ3-BA3,0)","v":0},null,0,null,{"$f":"ROUND(BD3-BE3,0)","v":0},null,0,null,{"$f":"ROUND(BH3-BI3,0)","v":0},null,"NO",{"$f":"IF(ISERROR(VLOOKUP($A3+8860000,'Growth Data'!$A:$F,3,0)),\"NO\",VLOOKUP($A3+8860000,'Growth Data'!$A:$F,3,0))","v":"NO"},{"$f":"IF(BL3=BM3,0,1)","v":0},null,0,{"$f":"IF(BM3=\"YES\",IF(ISERROR(VLOOKUP($A3+8860000,'Growth Data'!$A:$F,6,0)),0,VLOOKUP($A3+8860000,'Growth Data'!$A:$F,6,0)),0)","v":0},{"$f":"ROUND(BP3-BQ3,0)","v":0},null,0,{"$f":"IF(ISERROR(VLOOKUP($A3+8860000,'Growth Data'!$A:$Z,7,0)),0,VLOOKUP($A3+8860000,'Growth Data'!$A:$Z,7,0))","v":0},{"$f":"IF(BT3=BU3,0,1)","v":0},null,"NO",{"$f":"IF(ISERROR(VLOOKUP($A3+8860000,'Growth Data'!$A:$F,4,0)),\"NO\",VLOOKUP($A3+8860000,'Growth Data'!$A:$F,4,0))","v":"NO"},{"$f":"IF(BX3=BY3,0,1)","v":0},null,0,{"$f":"IF(ISERROR(VLOOKUP($A3+8860000,'Growth Data'!$A:$Z,8,0)),0,VLOOKUP($A3+8860000,'Growth Data'!$A:$Z,8,0))","v":0},{"$f":"IF(CB3=CC3,0,1)","v":0},null,0,{"$f":"IF(ISERROR(VLOOKUP($A3+8860000,'Growth Data'!$A:$Z,9,0)),0,VLOOKUP($A3+8860000,'Growth Data'!$A:$Z,9,0))","v":0},{"$f":"IF(CF3=CG3,0,1)","v":0},null,"NO",{"$f":"IF(ISERROR(VLOOKUP($A3+8860000,'Growth Data'!$A:$Z,5,0)),\"NO\",VLOOKUP($A3+8860000,'Growth Data'!$A:$Z,5,0))","v":"NO"},{"$f":"IF(CJ3=CK3,0,1)","v":0},null,0,{"$f":"IF(ISERROR(VLOOKUP($A3+8860000,'Growth Data'!$A:$Z,10,0)),0,VLOOKUP($A3+8860000,'Growth Data'!$A:$Z,10,0))","v":0},{"$f":"IF(CN3=CO3,0,1)","v":0},null,0,{"$f":"IF(ISERROR(VLOOKUP($A3+8860000,'Growth Data'!$A:$Z,11,0)),0,VLOOKUP($A3+8860000,'Growth Data'!$A:$Z,11,0))","v":0},{"$f":"IF(CR3=CS3,0,1)","v":0}]
[2002,"Repton Manor Primary School",null,"Repton Manor Primary School","Repton Manor Primary School",0,null,1500554.86,1500554.85595258,0,null,56368.78,56368.780165035743,0,null,1556923.64,1556923.6361176157,0,null,11529.29,11529.289724599999,0,null,null,null,0,null,0,0,{"$f":"ROUND(AB4-AC4,0)","v":0},null,127824.52,127824.51818067997,0,null,0,0,0,null,0,null,0,null,0,null,0,null,0,null,0,null,0,null,0,null,0,null,0,null,0,null,0,null,"YES",{"$f":"IF(ISERROR(VLOOKUP($A4+8860000,'Growth Data'!$A:$F,3,0)),\"NO\",VLOOKUP($A4+8860000,'Growth Data'!$A:$F,3,0))","v":"YES"},0,null,33,{"$f":"IF(BM4=\"YES\",IF(ISERROR(VLOOKUP($A4+8860000,'Growth Data'!$A:$F,6,0)),0,VLOOKUP($A4+8860000,'Growth Data'!$A:$F,6,0)),0)","v":33},0,null,60,{"$f":"IF(ISERROR(VLOOKUP($A4+8860000,'Growth Data'!$A:$Z,7,0)),0,VLOOKUP($A4+8860000,'Growth Data'!$A:$Z,7,0))","v":60},0,null,"NO",{"$f":"IF(ISERROR(VLOOKUP($A4+8860000,'Growth Data'!$A:$F,4,0)),\"NO\",VLOOKUP($A4+8860000,'Growth Data'!$A:$F,4,0))","v":"NO"},0,null,0,{"$f":"IF(ISERROR(VLOOKUP($A4+8860000,'Growth Data'!$A:$Z,8,0)),0,VLOOKUP($A4+8860000,'Growth Data'!$A:$Z,8,0))","v":0},0,null,0,{"$f":"IF(ISERROR(VLOOKUP($A4+8860000,'Growth Data'!$A:$Z,9,0)),0,VLOOKUP($A4+8860000,'Growth Data'!$A:$Z,9,0))","v":0},0,null,"NO",{"$f":"IF(ISERROR(VLOOKUP($A4+8860000,'Growth Data'!$A:$Z,5,0)),\"NO\",VLOOKUP($A4+8860000,'Growth Data'!$A:$Z,5,0))","v":"NO"},0,null,0,{"$f":"IF(ISERROR(VLOOKUP($A4+8860000,'Growth Data'!$A:$Z,10,0)),0,VLOOKUP($A4+8860000,'Growth Data'!$A:$Z,10,0))","v":0},0,null,0,{"$f":"IF(ISERROR(VLOOKUP($A4+8860000,'Growth Data'!$A:$Z,11,0)),0,VLOOKUP($A4+8860000,'Growth Data'!$A:$Z,11,0))","v":0},0]
[2044,"Loose Primary School",null,"Loose Primary School","Loose Primary School",0,null,2144081,2144081,0,null,0,0,0,null,2144081,2144081,0,null,16741.86,16741.863920800002,0,null,null,null,0,null,0,0,0,null,161245.1,161245.09568615037,0,null,0,0,0,null,0,null,0,null,0,null,0,null,0,null,0,null,0,null,0,null,0,null,0,null,0,null,0,null,"NO",{"$f":"IF(ISERROR(VLOOKUP($A5+8860000,'Growth Data'!$A:$F,3,0)),\"NO\",VLOOKUP($A5+8860000,'Growth Data'!$A:$F,3,0))","v":"NO"},0,null,0,{"$f":"IF(BM5=\"YES\",IF(ISERROR(VLOOKUP($A5+8860000,'Growth Data'!$A:$F,6,0)),0,VLOOKUP($A5+8860000,'Growth Data'!$A:$F,6,0)),0)","v":0},0,null,0,{"$f":"IF(ISERROR(VLOOKUP($A5+8860000,'Growth Data'!$A:$Z,7,0)),0,VLOOKUP($A5+8860000,'Growth Data'!$A:$Z,7,0))","v":0},0,null,"NO",{"$f":"IF(ISERROR(VLOOKUP($A5+8860000,'Growth Data'!$A:$F,4,0)),\"NO\",VLOOKUP($A5+8860000,'Growth Data'!$A:$F,4,0))","v":"NO"},0,null,0,{"$f":"IF(ISERROR(VLOOKUP($A5+8860000,'Growth Data'!$A:$Z,8,0)),0,VLOOKUP($A5+8860000,'Growth Data'!$A:$Z,8,0))","v":0},0,null,0,{"$f":"IF(ISERROR(VLOOKUP($A5+8860000,'Growth Data'!$A:$Z,9,0)),0,VLOOKUP($A5+8860000,'Growth Data'!$A:$Z,9,0))","v":0},0,null,"NO",{"$f":"IF(ISERROR(VLOOKUP($A5+8860000,'Growth Data'!$A:$Z,5,0)),\"NO\",VLOOKUP($A5+8860000,'Growth Data'!$A:$Z,5,0))","v":"NO"},0,null,0,{"$f":"IF(ISERROR(VLOOKUP($A5+8860000,'Growth Data'!$A:$Z,10,0)),0,VLOOKUP($A5+8860000,'Growth Data'!$A:$Z,10,0))","v":0},0,null,0,{"$f":"IF(ISERROR(VLOOKUP($A5+8860000,'Growth Data'!$A:$Z,11,0)),0,VLOOKUP($A5+8860000,'Growth Data'!$A:$Z,11,0))","v":0},0]
[2062,"Darenth Community Primary School",null,"Darenth Community Primary School","Darenth Community Primary School",0,null,781497.27,781497.26653669518,0,null,0,0,0,null,781497.27,781497.26653669518,0,null,4923.29,4923.2891671635998,0,null,null,null,0,null,0,0,0,null,111837.69,111837.68937283965,0,null,0,0,0,null,0,null,0,null,0,null,0,null,0,null,0,null,0,null,0,null,0,null,0,null,0,null,0,null,"NO",{"$f":"IF(ISERROR(VLOOKUP($A6+8860000,'Growth Data'!$A:$F,3,0)),\"NO\",VLOOKUP($A6+8860000,'Growth Data'!$A:$F,3,0))","v":"NO"},0,null,0,{"$f":"IF(BM6=\"YES\",IF(ISERROR(VLOOKUP($A6+8860000,'Growth Data'!$A:$F,6,0)),0,VLOOKUP($A6+8860000,'Growth Data'!$A:$F,6,0)),0)","v":0},0,null,0,{"$f":"IF(ISERROR(VLOOKUP($A6+8860000,'Growth Data'!$A:$Z,7,0)),0,VLOOKUP($A6+8860000,'Growth Data'!$A:$Z,7,0))","v":0},0,null,"NO",{"$f":"IF(ISERROR(VLOOKUP($A6+8860000,'Growth Data'!$A:$F,4,0)),\"NO\",VLOOKUP($A6+8860000,'Growth Data'!$A:$F,4,0))","v":"NO"},0,null,0,{"$f":"IF(ISERROR(VLOOKUP($A6+8860000,'Growth Data'!$A:$Z,8,0)),0,VLOOKUP($A6+8860000,'Growth Data'!$A:$Z,8,0))","v":0},0,null,0,{"$f":"IF(ISERROR(VLOOKUP($A6+8860000,'Growth Data'!$A:$Z,9,0)),0,VLOOKUP($A6+8860000,'Growth Data'!$A:$Z,9,0))","v":0},0,null,"NO",{"$f":"IF(ISERROR(VLOOKUP($A6+8860000,'Growth Data'!$A:$Z,5,0)),\"NO\",VLOOKUP($A6+8860000,'Growth Data'!$A:$Z,5,0))","v":"NO"},0,null,0,{"$f":"IF(ISERROR(VLOOKUP($A6+8860000,'Growth Data'!$A:$Z,10,0)),0,VLOOKUP($A6+8860000,'Growth Data'!$A:$Z,10,0))","v":0},0,null,0,{"$f":"IF(ISERROR(VLOOKUP($A6+8860000,'Growth Data'!$A:$Z,11,0)),0,VLOOKUP($A6+8860000,'Growth Data'!$A:$Z,11,0))","v":0},0]
[2065,"Discovery School, The",null,"Discovery School, The","Discovery School, The",0,null,2089457,2089457,0,null,0,0,0,null,2089457,2089457,0,null,16176.95,16176.954402000001,0,null,null,null,0,null,0,0,0,null,111846.15,111846.1461605466,0,null,0,0,0,null,0,null,0,null,0,null,0,null,0,null,0,null,0,null,0,null,0,null,0,null,0,null,0,null,"NO",{"$f":"IF(ISERROR(VLOOKUP($A7+8860000,'Growth Data'!$A:$F,3,0)),\"NO\",VLOOKUP($A7+8860000,'Growth Data'!$A:$F,3,0))","v":"NO"},0,null,0,{"$f":"IF(BM7=\"YES\",IF(ISERROR(VLOOKUP($A7+8860000,'Growth Data'!$A:$F,6,0)),0,VLOOKUP($A7+8860000,'Growth Data'!$A:$F,6,0)),0)","v":0},0,null,0,{"$f":"IF(ISERROR(VLOOKUP($A7+8860000,'Growth Data'!$A:$Z,7,0)),0,VLOOKUP($A7+8860000,'Growth Data'!$A:$Z,7,0))","v":0},0,null,"NO",{"$f":"IF(ISERROR(VLOOKUP($A7+8860000,'Growth Data'!$A:$F,4,0)),\"NO\",VLOOKUP($A7+8860000,'Growth Data'!$A:$F,4,0))","v":"NO"},0,null,0,{"$f":"IF(ISERROR(VLOOKUP($A7+8860000,'Growth Data'!$A:$Z,8,0)),0,VLOOKUP($A7+8860000,'Growth Data'!$A:$Z,8,0))","v":0},0,null,0,{"$f":"IF(ISERROR(VLOOKUP($A7+8860000,'Growth Data'!$A:$Z,9,0)),0,VLOOKUP($A7+8860000,'Growth Data'!$A:$Z,9,0))","v":0},0,null,"NO",{"$f":"IF(ISERROR(VLOOKUP($A7+8860000,'Growth Data'!$A:$Z,5,0)),\"NO\",VLOOKUP($A7+8860000,'Growth Data'!$A:$Z,5,0))","v":"NO"},0,null,0,{"$f":"IF(ISERROR(VLOOKUP($A7+8860000,'Growth Data'!$A:$Z,10,0)),0,VLOOKUP($A7+8860000,'Growth Data'!$A:$Z,10,0))","v":0},0,null,0,{"$f":"IF(ISERROR(VLOOKUP($A7+8860000,'Growth Data'!$A:$Z,11,0)),0,VLOOKUP($A7+8860000,'Growth Data'!$A:$Z,11,0))","v":0},0]
[2066,"Maypole Primary School",null,"Maypole Primary School","Maypole Primary School",0,null,1482986.51,1482986.5142671948,0,null,0,0,0,null,1482986.51,1482986.5142671948,0,null,10911.07,10911.073289389598,0,null,null,null,0,null,0,0,0,null,125295.73,125295.73226985046,0,null,0,0,0,null,0,null,0,null,0,null,0,null,0,null,0,null,0,null,0,null,0,null,0,null,0,null,0,null,"NO",{"$f":"IF(ISERROR(VLOOKUP($A8+8860000,'Growth Data'!$A:$F,3,0)),\"NO\",VLOOKUP($A8+8860000,'Growth Data'!$A:$F,3,0))","v":"NO"},0,null,0,{"$f":"IF(BM8=\"YES\",IF(ISERROR(VLOOKUP($A8+8860000,'Growth Data'!$A:$F,6,0)),0,VLOOKUP($A8+8860000,'Growth Data'!$A:$F,6,0)),0)","v":0},0,null,0,{"$f":"IF(ISERROR(VLOOKUP($A8+8860000,'Growth Data'!$A:$Z,7,0)),0,VLOOKUP($A8+8860000,'Growth Data'!$A:$Z,7,0))","v":0},0,null,"NO",{"$f":"IF(ISERROR(VLOOKUP($A8+8860000,'Growth Data'!$A:$F,4,0)),\"NO\",VLOOKUP($A8+8860000,'Growth Data'!$A:$F,4,0))","v":"NO"},0,null,0,{"$f":"IF(ISERROR(VLOOKUP($A8+8860000,'Growth Data'!$A:$Z,8,0)),0,VLOOKUP($A8+8860000,'Growth Data'!$A:$Z,8,0))","v":0},0,null,0,{"$f":"IF(ISERROR(VLOOKUP($A8+8860000,'Growth Data'!$A:$Z,9,0)),0,VLOOKUP($A8+8860000,'Growth Data'!$A:$Z,9,0))","v":0},0,null,"NO",{"$f":"IF(ISERROR(VLOOKUP($A8+8860000,'Growth Data'!$A:$Z,5,0)),\"NO\",VLOOKUP($A8+8860000,'Growth Data'!$A:$Z,5,0))","v":"NO"},0,null,0,{"$f":"IF(ISERROR(VLOOKUP($A8+8860000,'Growth Data'!$A:$Z,10,0)),0,VLOOKUP($A8+8860000,'Growth Data'!$A:$Z,10,0))","v":0},0,null,0,{"$f":"IF(ISERROR(VLOOKUP($A8+8860000,'Growth Data'!$A:$Z,11,0)),0,VLOOKUP($A8+8860000,'Growth Data'!$A:$Z,11,0))","v":0},0]
[2074,"Sunny Bank Primary School",null,"Sunny Bank Primary School","Sunny Bank Primary School",0,null,1151223.24,1151223.2427523579,0,null,0,0,0,null,1151223.24,1151223.2427523579,0,null,7010.01,7010.0135742000002,0,null,null,null,0,null,5.1100000000000003,5.1100000000000003,0,null,212973.52,212973.52344605786,0,null,0,0,0,null,0,null,0,null,0,null,0,null,0,null,0,null,0,null,0,null,0,null,0,null,0,null,0,null,"NO",{"$f":"IF(ISERROR(VLOOKUP($A9+8860000,'Growth Data'!$A:$F,3,0)),\"NO\",VLOOKUP($A9+8860000,'Growth Data'!$A:$F,3,0))","v":"NO"},0,null,0,{"$f":"IF(BM9=\"YES\",IF(ISERROR(VLOOKUP($A9+8860000,'Growth Data'!$A:$F,6,0)),0,VLOOKUP($A9+8860000,'Growth Data'!$A:$F,6,0)),0)","v":0},0,null,0,{"$f":"IF(ISERROR(VLOOKUP($A9+8860000,'Growth Data'!$A:$Z,7,0)),0,VLOOKUP($A9+8860000,'Growth Data'!$A:$Z,7,0))","v":0},0,null,"NO",{"$f":"IF(ISERROR(VLOOKUP($A9+8860000,'Growth Data'!$A:$F,4,0)),\"NO\",VLOOKUP($A9+8860000,'Growth Data'!$A:$F,4,0))","v":"NO"},0,null,0,{"$f":"IF(ISERROR(VLOOKUP($A9+8860000,'Growth Data'!$A:$Z,8,0)),0,VLOOKUP($A9+8860000,'Growth Data'!$A:$Z,8,0))","v":0},0,null,0,{"$f":"IF(ISERROR(VLOOKUP($A9+8860000,'Growth Data'!$A:$Z,9,0)),0,VLOOKUP($A9+8860000,'Growth Data'!$A:$Z,9,0))","v":0},0,null,"NO",{"$f":"IF(ISERROR(VLOOKUP($A9+8860000,'Growth Data'!$A:$Z,5,0)),\"NO\",VLOOKUP($A9+8860000,'Growth Data'!$A:$Z,5,0))","v":"NO"},0,null,0,{"$f":"IF(ISERROR(VLOOKUP($A9+8860000,'Growth Data'!$A:$Z,10,0)),0,VLOOKUP($A9+8860000,'Growth Data'!$A:$Z,10,0))","v":0},0,null,0,{"$f":"IF(ISERROR(VLOOKUP($A9+8860000,'Growth Data'!$A:$Z,11,0)),0,VLOOKUP($A9+8860000,'Growth Data'!$A:$Z,11,0))","v":0},0]
[2079,"Woodlands Primary School",null,"Woodlands Primary School","Woodlands Primary School",0,null,2145309,2145309,0,null,0,0,0,null,2145309,2145309,0,null,16767.54,16767.5416262,0,null,null,null,0,null,0,0,0,null,151053.10999999999,151053.1101555991,0,null,0,0,0,null,0,null,0,null,0,null,0,null,0,null,0,null,0,null,0,null,0,null,0,null,0,null,0,null,"NO",{"$f":"IF(ISERROR(VLOOKUP($A10+8860000,'Growth Data'!$A:$F,3,0)),\"NO\",VLOOKUP($A10+8860000,'Growth Data'!$A:$F,3,0))","v":"NO"},0,null,0,{"$f":"IF(BM10=\"YES\",IF(ISERROR(VLOOKUP($A10+8860000,'Growth Data'!$A:$F,6,0)),0,VLOOKUP($A10+8860000,'Growth Data'!$A:$F,6,0)),0)","v":0},0,null,0,{"$f":"IF(ISERROR(VLOOKUP($A10+8860000,'Growth Data'!$A:$Z,7,0)),0,VLOOKUP($A10+8860000,'Growth Data'!$A:$Z,7,0))","v":0},0,null,"NO",{"$f":"IF(ISERROR(VLOOKUP($A10+8860000,'Growth Data'!$A:$F,4,0)),\"NO\",VLOOKUP($A10+8860000,'Growth Data'!$A:$F,4,0))","v":"NO"},0,null,0,{"$f":"IF(ISERROR(VLOOKUP($A10+8860000,'Growth Data'!$A:$Z,8,0)),0,VLOOKUP($A10+8860000,'Growth Data'!$A:$Z,8,0))","v":0},0,null,0,{"$f":"IF(ISERROR(VLOOKUP($A10+8860000,'Growth Data'!$A:$Z,9,0)),0,VLOOKUP($A10+8860000,'Growth Data'!$A:$Z,9,0))","v":0},0,null,"NO",{"$f":"IF(ISERROR(VLOOKUP($A10+8860000,'Growth Data'!$A:$Z,5,0)),\"NO\",VLOOKUP($A10+8860000,'Growth Data'!$A:$Z,5,0))","v":"NO"},0,null,0,{"$f":"IF(ISERROR(VLOOKUP($A10+8860000,'Growth Data'!$A:$Z,10,0)),0,VLOOKUP($A10+8860000,'Growth Data'!$A:$Z,10,0))","v":0},0,null,0,{"$f":"IF(ISERROR(VLOOKUP($A10+8860000,'Growth Data'!$A:$Z,11,0)),0,VLOOKUP($A10+8860000,'Growth Data'!$A:$Z,11,0))","v":0},0]
[2088,"Crockenhill Primary School",null,"Crockenhill Primary School","Crockenhill Primary School",0,null,801251.4,801251.40084182878,0,null,0,0,0,null,801251.4,801251.40084182878,0,null,5508.76,5508.7613924479201,0,null,null,null,0,null,0,0,0,null,62765,62764.996688554893,0,null,0,0,0,null,0,null,0,null,0,null,0,null,0,null,0,null,0,null,0,null,0,null,0,null,0,null,0,null,"NO",{"$f":"IF(ISERROR(VLOOKUP($A11+8860000,'Growth Data'!$A:$F,3,0)),\"NO\",VLOOKUP($A11+8860000,'Growth Data'!$A:$F,3,0))","v":"NO"},0,null,0,{"$f":"IF(BM11=\"YES\",IF(ISERROR(VLOOKUP($A11+8860000,'Growth Data'!$A:$F,6,0)),0,VLOOKUP($A11+8860000,'Growth Data'!$A:$F,6,0)),0)","v":0},0,null,0,{"$f":"IF(ISERROR(VLOOKUP($A11+8860000,'Growth Data'!$A:$Z,7,0)),0,VLOOKUP($A11+8860000,'Growth Data'!$A:$Z,7,0))","v":0},0,null,"NO",{"$f":"IF(ISERROR(VLOOKUP($A11+8860000,'Growth Data'!$A:$F,4,0)),\"NO\",VLOOKUP($A11+8860000,'Growth Data'!$A:$F,4,0))","v":"NO"},0,null,0,{"$f":"IF(ISERROR(VLOOKUP($A11+8860000,'Growth Data'!$A:$Z,8,0)),0,VLOOKUP($A11+8860000,'Growth Data'!$A:$Z,8,0))","v":0},0,null,0,{"$f":"IF(ISERROR(VLOOKUP($A11+8860000,'Growth Data'!$A:$Z,9,0)),0,VLOOKUP($A11+8860000,'Growth Data'!$A:$Z,9,0))","v":0},0,null,"NO",{"$f":"IF(ISERROR(VLOOKUP($A11+8860000,'Growth Data'!$A:$Z,5,0)),\"NO\",VLOOKUP($A11+8860000,'Growth Data'!$A:$Z,5,0))","v":"NO"},0,null,0,{"$f":"IF(ISERROR(VLOOKUP($A11+8860000,'Growth Data'!$A:$Z,10,0)),0,VLOOKUP($A11+8860000,'Growth Data'!$A:$Z,10,0))","v":0},0,null,0,{"$f":"IF(ISERROR(VLOOKUP($A11+8860000,'Growth Data'!$A:$Z,11,0)),0,VLOOKUP($A11+8860000,'Growth Data'!$A:$Z,11,0))","v":0},0]
[2089,"Anthony Roper Primary School, The",null,"Anthony Roper Primary School, The","Anthony Roper Primary School, The",0,null,1087455.8500000001,1087455.8458210099,0,null,0,0,0,null,1087455.8500000001,1087455.8458210099,0,null,8356.2900000000009,8356.2853972398389,0,null,null,null,0,null,0,0,0,null,61641.34,61641.342450146105,0,null,0,0,0,null,0,null,0,null,0,null,0,null,0,null,0,null,0,null,0,null,0,null,0,null,0,null,0,null,"NO",{"$f":"IF(ISERROR(VLOOKUP($A12+8860000,'Growth Data'!$A:$F,3,0)),\"NO\",VLOOKUP($A12+8860000,'Growth Data'!$A:$F,3,0))","v":"NO"},0,null,0,{"$f":"IF(BM12=\"YES\",IF(ISERROR(VLOOKUP($A12+8860000,'Growth Data'!$A:$F,6,0)),0,VLOOKUP($A12+8860000,'Growth Data'!$A:$F,6,0)),0)","v":0},0,null,0,{"$f":"IF(ISERROR(VLOOKUP($A12+8860000,'Growth Data'!$A:$Z,7,0)),0,VLOOKUP($A12+8860000,'Growth Data'!$A:$Z,7,0))","v":0},0,null,"NO",{"$f":"IF(ISERROR(VLOOKUP($A12+8860000,'Growth Data'!$A:$F,4,0)),\"NO\",VLOOKUP($A12+8860000,'Growth Data'!$A:$F,4,0))","v":"NO"},0,null,0,{"$f":"IF(ISERROR(VLOOKUP($A12+8860000,'Growth Data'!$A:$Z,8,0)),0,VLOOKUP($A12+8860000,'Growth Data'!$A:$Z,8,0))","v":0},0,null,0,{"$f":"IF(ISERROR(VLOOKUP($A12+8860000,'Growth Data'!$A:$Z,9,0)),0,VLOOKUP($A12+8860000,'Growth Data'!$A:$Z,9,0))","v":0},0,null,"NO",{"$f":"IF(ISERROR(VLOOKUP($A12+8860000,'Growth Data'!$A:$Z,5,0)),\"NO\",VLOOKUP($A12+8860000,'Growth Data'!$A:$Z,5,0))","v":"NO"},0,null,0,{"$f":"IF(ISERROR(VLOOKUP($A12+8860000,'Growth Data'!$A:$Z,10,0)),0,VLOOKUP($A12+8860000,'Growth Data'!$A:$Z,10,0))","v":0},0,null,0,{"$f":"IF(ISERROR(VLOOKUP($A12+8860000,'Growth Data'!$A:$Z,11,0)),0,VLOOKUP($A12+8860000,'Growth Data'!$A:$Z,11,0))","v":0},0]
[2094,"Cobham Primary School",null,"Cobham Primary School","Cobham Primary School",0,null,770861.5,770861.49527252116,0,null,0,0,0,null,770861.5,770861.49527252116,0,null,5597.74,5597.7397772000004,0,null,null,null,0,null,0,0,0,null,37674.239999999998,37674.244236720988,0,null,2232.58,2232.5755763279012,0,null,0,null,0,null,0,null,0,null,0,null,0,null,0,null,0,null,0,null,0,null,0,null,0,null,"NO",{"$f":"IF(ISERROR(VLOOKUP($A13+8860000,'Growth Data'!$A:$F,3,0)),\"NO\",VLOOKUP($A13+8860000,'Growth Data'!$A:$F,3,0))","v":"NO"},0,null,0,{"$f":"IF(BM13=\"YES\",IF(ISERROR(VLOOKUP($A13+8860000,'Growth Data'!$A:$F,6,0)),0,VLOOKUP($A13+8860000,'Growth Data'!$A:$F,6,0)),0)","v":0},0,null,0,{"$f":"IF(ISERROR(VLOOKUP($A13+8860000,'Growth Data'!$A:$Z,7,0)),0,VLOOKUP($A13+8860000,'Growth Data'!$A:$Z,7,0))","v":0},0,null,"NO",{"$f":"IF(ISERROR(VLOOKUP($A13+8860000,'Growth Data'!$A:$F,4,0)),\"NO\",VLOOKUP($A13+8860000,'Growth Data'!$A:$F,4,0))","v":"NO"},0,null,0,{"$f":"IF(ISERROR(VLOOKUP($A13+8860000,'Growth Data'!$A:$Z,8,0)),0,VLOOKUP($A13+8860000,'Growth Data'!$A:$Z,8,0))","v":0},0,null,0,{"$f":"IF(ISERROR(VLOOKUP($A13+8860000,'Growth Data'!$A:$Z,9,0)),0,VLOOKUP($A13+8860000,'Growth Data'!$A:$Z,9,0))","v":0},0,null,"NO",{"$f":"IF(ISERROR(VLOOKUP($A13+8860000,'Growth Data'!$A:$Z,5,0)),\"NO\",VLOOKUP($A13+8860000,'Growth Data'!$A:$Z,5,0))","v":"NO"},0,null,0,{"$f":"IF(ISERROR(VLOOKUP($A13+8860000,'Growth Data'!$A:$Z,10,0)),0,VLOOKUP($A13+8860000,'Growth Data'!$A:$Z,10,0))","v":0},0,null,0,{"$f":"IF(ISERROR(VLOOKUP($A13+8860000,'Growth Data'!$A:$Z,11,0)),0,VLOOKUP($A13+8860000,'Growth Data'!$A:$Z,11,0))","v":0},0]
[2095,"Cecil Road Primary and Nursery School",null,"Cecil Road Primary and Nursery School","Cecil Road Primary and Nursery School",0,null,1392128.65,1392128.6453400331,0,null,25289.15,25289.154543773038,0,null,1417417.8,1417417.7998838061,0,null,9808.8799999999992,9808.8834628000004,0,null,null,null,0,null,4.9000000000000004,4.9000000000000004,0,null,177809.47,177809.46971583314,0,null,0,0,0,null,0,null,0,null,0,null,0,null,0,null,0,null,0,null,0,null,0,null,0,null,0,null,0,null,"NO",{"$f":"IF(ISERROR(VLOOKUP($A14+8860000,'Growth Data'!$A:$F,3,0)),\"NO\",VLOOKUP($A14+8860000,'Growth Data'!$A:$F,3,0))","v":"NO"},0,null,0,{"$f":"IF(BM14=\"YES\",IF(ISERROR(VLOOKUP($A14+8860000,'Growth Data'!$A:$F,6,0)),0,VLOOKUP($A14+8860000,'Growth Data'!$A:$F,6,0)),0)","v":0},0,null,0,{"$f":"IF(ISERROR(VLOOKUP($A14+8860000,'Growth Data'!$A:$Z,7,0)),0,VLOOKUP($A14+8860000,'Growth Data'!$A:$Z,7,0))","v":0},0,null,"NO",{"$f":"IF(ISERROR(VLOOKUP($A14+8860000,'Growth Data'!$A:$F,4,0)),\"NO\",VLOOKUP($A14+8860000,'Growth Data'!$A:$F,4,0))","v":"NO"},0,null,0,{"$f":"IF(ISERROR(VLOOKUP($A14+8860000,'Growth Data'!$A:$Z,8,0)),0,VLOOKUP($A14+8860000,'Growth Data'!$A:$Z,8,0))","v":0},0,null,0,{"$f":"IF(ISERROR(VLOOKUP($A14+8860000,'Growth Data'!$A:$Z,9,0)),0,VLOOKUP($A14+8860000,'Growth Data'!$A:$Z,9,0))","v":0},0,null,"NO",{"$f":"IF(ISERROR(VLOOKUP($A14+8860000,'Growth Data'!$A:$Z,5,0)),\"NO\",VLOOKUP($A14+8860000,'Growth Data'!$A:$Z,5,0))","v":"NO"},0,null,0,{"$f":"IF(ISERROR(VLOOKUP($A14+8860000,'Growth Data'!$A:$Z,10,0)),0,VLOOKUP($A14+8860000,'Growth Data'!$A:$Z,10,0))","v":0},0,null,0,{"$f":"IF(ISERROR(VLOOKUP($A14+8860000,'Growth Data'!$A:$Z,11,0)),0,VLOOKUP($A14+8860000,'Growth Data'!$A:$Z,11,0))","v":0},0]
[2109,"Higham Primary School",null,"Higham Primary School","Higham Primary School",0,null,775562.64,775562.63615846704,0,null,0,0,0,null,775562.64,775562.63615846704,0,null,5546.38,5546.3843664000005,0,null,null,null,0,null,0,0,0,null,44523.94,44523.941568866983,0,null,1547.61,1547.6058431133015,0,null,0,null,0,null,0,null,0,null,0,null,0,null,0,null,0,null,0,null,0,null,0,null,0,null,"NO",{"$f":"IF(ISERROR(VLOOKUP($A15+8860000,'Growth Data'!$A:$F,3,0)),\"NO\",VLOOKUP($A15+8860000,'Growth Data'!$A:$F,3,0))","v":"NO"},0,null,0,{"$f":"IF(BM15=\"YES\",IF(ISERROR(VLOOKUP($A15+8860000,'Growth Data'!$A:$F,6,0)),0,VLOOKUP($A15+8860000,'Growth Data'!$A:$F,6,0)),0)","v":0},0,null,0,{"$f":"IF(ISERROR(VLOOKUP($A15+8860000,'Growth Data'!$A:$Z,7,0)),0,VLOOKUP($A15+8860000,'Growth Data'!$A:$Z,7,0))","v":0},0,null,"NO",{"$f":"IF(ISERROR(VLOOKUP($A15+8860000,'Growth Data'!$A:$F,4,0)),\"NO\",VLOOKUP($A15+8860000,'Growth Data'!$A:$F,4,0))","v":"NO"},0,null,0,{"$f":"IF(ISERROR(VLOOKUP($A15+8860000,'Growth Data'!$A:$Z,8,0)),0,VLOOKUP($A15+8860000,'Growth Data'!$A:$Z,8,0))","v":0},0,null,0,{"$f":"IF(ISERROR(VLOOKUP($A15+8860000,'Growth Data'!$A:$Z,9,0)),0,VLOOKUP($A15+8860000,'Growth Data'!$A:$Z,9,0))","v":0},0,null,"NO",{"$f":"IF(ISERROR(VLOOKUP($A15+8860000,'Growth Data'!$A:$Z,5,0)),\"NO\",VLOOKUP($A15+8860000,'Growth Data'!$A:$Z,5,0))","v":"NO"},0,null,0,{"$f":"IF(ISERROR(VLOOKUP($A15+8860000,'Growth Data'!$A:$Z,10,0)),0,VLOOKUP($A15+8860000,'Growth Data'!$A:$Z,10,0))","v":0},0,null,0,{"$f":"IF(ISERROR(VLOOKUP($A15+8860000,'Growth Data'!$A:$Z,11,0)),0,VLOOKUP($A15+8860000,'Growth Data'!$A:$Z,11,0))","v":0},0]
[2116,"Lawn Primary School",null,"Lawn Primary School","Lawn Primary School",0,null,906017.12,906017.12377070438,0,null,0,0,0,null,906017.12,906017.12377070438,0,null,5135.54,5135.5410799999991,0,null,null,null,0,null,5.52,5.52,0,null,189796.25,189796.25475070433,0,null,0,0,0,null,0,null,0,null,0,null,0,null,0,null,0,null,0,null,0,null,0,null,0,null,0,null,0,null,"NO",{"$f":"IF(ISERROR(VLOOKUP($A16+8860000,'Growth Data'!$A:$F,3,0)),\"NO\",VLOOKUP($A16+8860000,'Growth Data'!$A:$F,3,0))","v":"NO"},0,null,0,{"$f":"IF(BM16=\"YES\",IF(ISERROR(VLOOKUP($A16+8860000,'Growth Data'!$A:$F,6,0)),0,VLOOKUP($A16+8860000,'Growth Data'!$A:$F,6,0)),0)","v":0},0,null,0,{"$f":"IF(ISERROR(VLOOKUP($A16+8860000,'Growth Data'!$A:$Z,7,0)),0,VLOOKUP($A16+8860000,'Growth Data'!$A:$Z,7,0))","v":0},0,null,"NO",{"$f":"IF(ISERROR(VLOOKUP($A16+8860000,'Growth Data'!$A:$F,4,0)),\"NO\",VLOOKUP($A16+8860000,'Growth Data'!$A:$F,4,0))","v":"NO"},0,null,0,{"$f":"IF(ISERROR(VLOOKUP($A16+8860000,'Growth Data'!$A:$Z,8,0)),0,VLOOKUP($A16+8860000,'Growth Data'!$A:$Z,8,0))","v":0},0,null,0,{"$f":"IF(ISERROR(VLOOKUP($A16+8860000,'Growth Data'!$A:$Z,9,0)),0,VLOOKUP($A16+8860000,'Growth Data'!$A:$Z,9,0))","v":0},0,null,"NO",{"$f":"IF(ISERROR(VLOOKUP($A16+8860000,'Growth Data'!$A:$Z,5,0)),\"NO\",VLOOKUP($A16+8860000,'Growth Data'!$A:$Z,5,0))","v":"NO"},0,null,0,{"$f":"IF(ISERROR(VLOOKUP($A16+8860000,'Growth Data'!$A:$Z,10,0)),0,VLOOKUP($A16+8860000,'Growth Data'!$A:$Z,10,0))","v":0},0,null,0,{"$f":"IF(ISERROR(VLOOKUP($A16+8860000,'Growth Data'!$A:$Z,11,0)),0,VLOOKUP($A16+8860000,'Growth Data'!$A:$Z,11,0))","v":0},0]
[2119,"Shears Green Infant School",null,"Shears Green Infant School","Shears Green Infant School",0,null,1268254.43,1268254.43412746,0,null,28684.16,28684.157587654889,0,null,1296938.5900000001,1296938.5917151149,0,null,9218.2999999999993,9218.2962385999999,0,null,null,null,0,null,0,0,0,null,132954.35999999999,132954.35563456002,0,null,0,0,0,null,0,null,0,null,0,null,0,null,0,null,0,null,0,null,0,null,0,null,0,null,0,null,0,null,"NO",{"$f":"IF(ISERROR(VLOOKUP($A17+8860000,'Growth Data'!$A:$F,3,0)),\"NO\",VLOOKUP($A17+8860000,'Growth Data'!$A:$F,3,0))","v":"NO"},0,null,0,{"$f":"IF(BM17=\"YES\",IF(ISERROR(VLOOKUP($A17+8860000,'Growth Data'!$A:$F,6,0)),0,VLOOKUP($A17+8860000,'Growth Data'!$A:$F,6,0)),0)","v":0},0,null,0,{"$f":"IF(ISERROR(VLOOKUP($A17+8860000,'Growth Data'!$A:$Z,7,0)),0,VLOOKUP($A17+8860000,'Growth Data'!$A:$Z,7,0))","v":0},0,null,"NO",{"$f":"IF(ISERROR(VLOOKUP($A17+8860000,'Growth Data'!$A:$F,4,0)),\"NO\",VLOOKUP($A17+8860000,'Growth Data'!$A:$F,4,0))","v":"NO"},0,null,0,{"$f":"IF(ISERROR(VLOOKUP($A17+8860000,'Growth Data'!$A:$Z,8,0)),0,VLOOKUP($A17+8860000,'Growth Data'!$A:$Z,8,0))","v":0},0,null,0,{"$f":"IF(ISERROR(VLOOKUP($A17+8860000,'Growth Data'!$A:$Z,9,0)),0,VLOOKUP($A17+8860000,'Growth Data'!$A:$Z,9,0))","v":0},0,null,"NO",{"$f":"IF(ISERROR(VLOOKUP($A17+8860000,'Growth Data'!$A:$Z,5,0)),\"NO\",VLOOKUP($A17+8860000,'Growth Data'!$A:$Z,5,0))","v":"NO"},0,null,0,{"$f":"IF(ISERROR(VLOOKUP($A17+8860000,'Growth Data'!$A:$Z,10,0)),0,VLOOKUP($A17+8860000,'Growth Data'!$A:$Z,10,0))","v":0},0,null,0,{"$f":"IF(ISERROR(VLOOKUP($A17+8860000,'Growth Data'!$A:$Z,11,0)),0,VLOOKUP($A17+8860000,'Growth Data'!$A:$Z,11,0))","v":0},0]
[2120,"Bean Primary School",null,"Bean Primary School","Bean Primary School",0,null,814536.94,814536.9363514242,0,null,0,0,0,null,814536.94,814536.9363514242,0,null,5428.92,5428.9242708182401,0,null,null,null,0,null,0,0,0,null,93437.72,93437.721547332723,0,null,0,0,0,null,0,null,0,null,0,null,0,null,0,null,0,null,0,null,0,null,0,null,0,null,0,null,0,null,"NO",{"$f":"IF(ISERROR(VLOOKUP($A18+8860000,'Growth Data'!$A:$F,3,0)),\"NO\",VLOOKUP($A18+8860000,'Growth Data'!$A:$F,3,0))","v":"NO"},0,null,0,{"$f":"IF(BM18=\"YES\",IF(ISERROR(VLOOKUP($A18+8860000,'Growth Data'!$A:$F,6,0)),0,VLOOKUP($A18+8860000,'Growth Data'!$A:$F,6,0)),0)","v":0},0,null,0,{"$f":"IF(ISERROR(VLOOKUP($A18+8860000,'Growth Data'!$A:$Z,7,0)),0,VLOOKUP($A18+8860000,'Growth Data'!$A:$Z,7,0))","v":0},0,null,"NO",{"$f":"IF(ISERROR(VLOOKUP($A18+8860000,'Growth Data'!$A:$F,4,0)),\"NO\",VLOOKUP($A18+8860000,'Growth Data'!$A:$F,4,0))","v":"NO"},0,null,0,{"$f":"IF(ISERROR(VLOOKUP($A18+8860000,'Growth Data'!$A:$Z,8,0)),0,VLOOKUP($A18+8860000,'Growth Data'!$A:$Z,8,0))","v":0},0,null,0,{"$f":"IF(ISERROR(VLOOKUP($A18+8860000,'Growth Data'!$A:$Z,9,0)),0,VLOOKUP($A18+8860000,'Growth Data'!$A:$Z,9,0))","v":0},0,null,"NO",{"$f":"IF(ISERROR(VLOOKUP($A18+8860000,'Growth Data'!$A:$Z,5,0)),\"NO\",VLOOKUP($A18+8860000,'Growth Data'!$A:$Z,5,0))","v":"NO"},0,null,0,{"$f":"IF(ISERROR(VLOOKUP($A18+8860000,'Growth Data'!$A:$Z,10,0)),0,VLOOKUP($A18+8860000,'Growth Data'!$A:$Z,10,0))","v":0},0,null,0,{"$f":"IF(ISERROR(VLOOKUP($A18+8860000,'Growth Data'!$A:$Z,11,0)),0,VLOOKUP($A18+8860000,'Growth Data'!$A:$Z,11,0))","v":0},0]
[2127,"Paddock Wood Primary School",null,"Paddock Wood Primary School","Paddock Wood Primary School",0,null,1994174,1994174,0,null,0,0,0,null,1994174,1994174,0,null,15535.01,15535.011767,0,null,null,null,0,null,0,0,0,null,136248.62,136248.61969519517,0,null,0,0,0,null,0,null,0,null,0,null,0,null,0,null,0,null,0,null,0,null,0,null,0,null,0,null,0,null,"NO",{"$f":"IF(ISERROR(VLOOKUP($A19+8860000,'Growth Data'!$A:$F,3,0)),\"NO\",VLOOKUP($A19+8860000,'Growth Data'!$A:$F,3,0))","v":"NO"},0,null,0,{"$f":"IF(BM19=\"YES\",IF(ISERROR(VLOOKUP($A19+8860000,'Growth Data'!$A:$F,6,0)),0,VLOOKUP($A19+8860000,'Growth Data'!$A:$F,6,0)),0)","v":0},0,null,0,{"$f":"IF(ISERROR(VLOOKUP($A19+8860000,'Growth Data'!$A:$Z,7,0)),0,VLOOKUP($A19+8860000,'Growth Data'!$A:$Z,7,0))","v":0},0,null,"NO",{"$f":"IF(ISERROR(VLOOKUP($A19+8860000,'Growth Data'!$A:$F,4,0)),\"NO\",VLOOKUP($A19+8860000,'Growth Data'!$A:$F,4,0))","v":"NO"},0,null,0,{"$f":"IF(ISERROR(VLOOKUP($A19+8860000,'Growth Data'!$A:$Z,8,0)),0,VLOOKUP($A19+8860000,'Growth Data'!$A:$Z,8,0))","v":0},0,null,0,{"$f":"IF(ISERROR(VLOOKUP($A19+8860000,'Growth Data'!$A:$Z,9,0)),0,VLOOKUP($A19+8860000,'Growth Data'!$A:$Z,9,0))","v":0},0,null,"NO",{"$f":"IF(ISERROR(VLOOKUP($A19+8860000,'Growth Data'!$A:$Z,5,0)),\"NO\",VLOOKUP($A19+8860000,'Growth Data'!$A:$Z,5,0))","v":"NO"},0,null,0,{"$f":"IF(ISERROR(VLOOKUP($A19+8860000,'Growth Data'!$A:$Z,10,0)),0,VLOOKUP($A19+8860000,'Growth Data'!$A:$Z,10,0))","v":0},0,null,0,{"$f":"IF(ISERROR(VLOOKUP($A19+8860000,'Growth Data'!$A:$Z,11,0)),0,VLOOKUP($A19+8860000,'Growth Data'!$A:$Z,11,0))","v":0},0]
[2128,"Capel Primary School",null,"Capel Primary School","Capel Primary School",0,null,754767.98,754767.9775802393,0,null,0,0,0,null,754767.98,754767.9775802393,0,null,5443.67,5443.6735447999999,0,null,null,null,0,null,0,0,0,null,36677.129999999997,36677.128283039186,0,null,2332.29,2332.2871716960813,0,null,0,null,0,null,0,null,0,null,0,null,0,null,0,null,0,null,0,null,0,null,0,null,0,null,"NO",{"$f":"IF(ISERROR(VLOOKUP($A20+8860000,'Growth Data'!$A:$F,3,0)),\"NO\",VLOOKUP($A20+8860000,'Growth Data'!$A:$F,3,0))","v":"NO"},0,null,0,{"$f":"IF(BM20=\"YES\",IF(ISERROR(VLOOKUP($A20+8860000,'Growth Data'!$A:$F,6,0)),0,VLOOKUP($A20+8860000,'Growth Data'!$A:$F,6,0)),0)","v":0},0,null,0,{"$f":"IF(ISERROR(VLOOKUP($A20+8860000,'Growth Data'!$A:$Z,7,0)),0,VLOOKUP($A20+8860000,'Growth Data'!$A:$Z,7,0))","v":0},0,null,"NO",{"$f":"IF(ISERROR(VLOOKUP($A20+8860000,'Growth Data'!$A:$F,4,0)),\"NO\",VLOOKUP($A20+8860000,'Growth Data'!$A:$F,4,0))","v":"NO"},0,null,0,{"$f":"IF(ISERROR(VLOOKUP($A20+8860000,'Growth Data'!$A:$Z,8,0)),0,VLOOKUP($A20+8860000,'Growth Data'!$A:$Z,8,0))","v":0},0,null,0,{"$f":"IF(ISERROR(VLOOKUP($A20+8860000,'Growth Data'!$A:$Z,9,0)),0,VLOOKUP($A20+8860000,'Growth Data'!$A:$Z,9,0))","v":0},0,null,"NO",{"$f":"IF(ISERROR(VLOOKUP($A20+8860000,'Growth Data'!$A:$Z,5,0)),\"NO\",VLOOKUP($A20+8860000,'Growth Data'!$A:$Z,5,0))","v":"NO"},0,null,0,{"$f":"IF(ISERROR(VLOOKUP($A20+8860000,'Growth Data'!$A:$Z,10,0)),0,VLOOKUP($A20+8860000,'Growth Data'!$A:$Z,10,0))","v":0},0,null,0,{"$f":"IF(ISERROR(VLOOKUP($A20+8860000,'Growth Data'!$A:$Z,11,0)),0,VLOOKUP($A20+8860000,'Growth Data'!$A:$Z,11,0))","v":0},0]
[2130,"Dunton Green Primary School",null,"Dunton Green Primary School","Dunton Green Primary School",0,null,663412.24,663412.23673258501,0,null,0,0,0,null,663412.24,663412.23673258501,0,null,4311.2,4311.2045680027195,0,null,null,null,0,null,0,0,0,null,53406.35,53406.350941848956,0,null,659.36,659.36490581510407,0,null,0,null,0,null,0,null,0,null,0,null,0,null,0,null,0,null,0,null,0,null,0,null,0,null,"NO",{"$f":"IF(ISERROR(VLOOKUP($A21+8860000,'Growth Data'!$A:$F,3,0)),\"NO\",VLOOKUP($A21+8860000,'Growth Data'!$A:$F,3,0))","v":"NO"},0,null,0,{"$f":"IF(BM21=\"YES\",IF(ISERROR(VLOOKUP($A21+8860000,'Growth Data'!$A:$F,6,0)),0,VLOOKUP($A21+8860000,'Growth Data'!$A:$F,6,0)),0)","v":0},0,null,0,{"$f":"IF(ISERROR(VLOOKUP($A21+8860000,'Growth Data'!$A:$Z,7,0)),0,VLOOKUP($A21+8860000,'Growth Data'!$A:$Z,7,0))","v":0},0,null,"NO",{"$f":"IF(ISERROR(VLOOKUP($A21+8860000,'Growth Data'!$A:$F,4,0)),\"NO\",VLOOKUP($A21+8860000,'Growth Data'!$A:$F,4,0))","v":"NO"},0,null,0,{"$f":"IF(ISERROR(VLOOKUP($A21+8860000,'Growth Data'!$A:$Z,8,0)),0,VLOOKUP($A21+8860000,'Growth Data'!$A:$Z,8,0))","v":0},0,null,0,{"$f":"IF(ISERROR(VLOOKUP($A21+8860000,'Growth Data'!$A:$Z,9,0)),0,VLOOKUP($A21+8860000,'Growth Data'!$A:$Z,9,0))","v":0},0,null,"NO",{"$f":"IF(ISERROR(VLOOKUP($A21+8860000,'Growth Data'!$A:$Z,5,0)),\"NO\",VLOOKUP($A21+8860000,'Growth Data'!$A:$Z,5,0))","v":"NO"},0,null,0,{"$f":"IF(ISERROR(VLOOKUP($A21+8860000,'Growth Data'!$A:$Z,10,0)),0,VLOOKUP($A21+8860000,'Growth Data'!$A:$Z,10,0))","v":0},0,null,0,{"$f":"IF(ISERROR(VLOOKUP($A21+8860000,'Growth Data'!$A:$Z,11,0)),0,VLOOKUP($A21+8860000,'Growth Data'!$A:$Z,11,0))","v":0},0]
[2132,"Hadlow School",null,"Hadlow School","Hadlow School",0,null,785899.66,785899.65596884768,0,null,0,0,0,null,785899.66,785899.65596884768,0,null,5263.93,5263.9296069999991,0,null,null,null,0,null,0,0,0,null,73546.5,73546.503833347655,0,null,0,0,0,null,0,null,0,null,0,null,0,null,0,null,0,null,0,null,0,null,0,null,0,null,0,null,0,null,"NO",{"$f":"IF(ISERROR(VLOOKUP($A22+8860000,'Growth Data'!$A:$F,3,0)),\"NO\",VLOOKUP($A22+8860000,'Growth Data'!$A:$F,3,0))","v":"NO"},0,null,0,{"$f":"IF(BM22=\"YES\",IF(ISERROR(VLOOKUP($A22+8860000,'Growth Data'!$A:$F,6,0)),0,VLOOKUP($A22+8860000,'Growth Data'!$A:$F,6,0)),0)","v":0},0,null,0,{"$f":"IF(ISERROR(VLOOKUP($A22+8860000,'Growth Data'!$A:$Z,7,0)),0,VLOOKUP($A22+8860000,'Growth Data'!$A:$Z,7,0))","v":0},0,null,"NO",{"$f":"IF(ISERROR(VLOOKUP($A22+8860000,'Growth Data'!$A:$F,4,0)),\"NO\",VLOOKUP($A22+8860000,'Growth Data'!$A:$F,4,0))","v":"NO"},0,null,0,{"$f":"IF(ISERROR(VLOOKUP($A22+8860000,'Growth Data'!$A:$Z,8,0)),0,VLOOKUP($A22+8860000,'Growth Data'!$A:$Z,8,0))","v":0},0,null,0,{"$f":"IF(ISERROR(VLOOKUP($A22+8860000,'Growth Data'!$A:$Z,9,0)),0,VLOOKUP($A22+8860000,'Growth Data'!$A:$Z,9,0))","v":0},0,null,"NO",{"$f":"IF(ISERROR(VLOOKUP($A22+8860000,'Growth Data'!$A:$Z,5,0)),\"NO\",VLOOKUP($A22+8860000,'Growth Data'!$A:$Z,5,0))","v":"NO"},0,null,0,{"$f":"IF(ISERROR(VLOOKUP($A22+8860000,'Growth Data'!$A:$Z,10,0)),0,VLOOKUP($A22+8860000,'Growth Data'!$A:$Z,10,0))","v":0},0,null,0,{"$f":"IF(ISERROR(VLOOKUP($A22+8860000,'Growth Data'!$A:$Z,11,0)),0,VLOOKUP($A22+8860000,'Growth Data'!$A:$Z,11,0))","v":0},0]
[2133,"Halstead Community Primary School",null,"Halstead Community Primary School","Halstead Community Primary School",0,null,433529.13,433529.13086643082,0,null,0,0,0,null,433529.13,433529.13086643082,0,null,2421.73,2421.7260227669599,0,null,null,null,0,null,0,0,0,null,38234.35,38234.345697014316,0,null,2176.5700000000002,2176.5654302985681,0,null,0,null,0,null,0,null,0,null,0,null,0,null,0,null,0,null,0,null,0,null,0,null,0,null,"NO",{"$f":"IF(ISERROR(VLOOKUP($A23+8860000,'Growth Data'!$A:$F,3,0)),\"NO\",VLOOKUP($A23+8860000,'Growth Data'!$A:$F,3,0))","v":"NO"},0,null,0,{"$f":"IF(BM23=\"YES\",IF(ISERROR(VLOOKUP($A23+8860000,'Growth Data'!$A:$F,6,0)),0,VLOOKUP($A23+8860000,'Growth Data'!$A:$F,6,0)),0)","v":0},0,null,0,{"$f":"IF(ISERROR(VLOOKUP($A23+8860000,'Growth Data'!$A:$Z,7,0)),0,VLOOKUP($A23+8860000,'Growth Data'!$A:$Z,7,0))","v":0},0,null,"NO",{"$f":"IF(ISERROR(VLOOKUP($A23+8860000,'Growth Data'!$A:$F,4,0)),\"NO\",VLOOKUP($A23+8860000,'Growth Data'!$A:$F,4,0))","v":"NO"},0,null,0,{"$f":"IF(ISERROR(VLOOKUP($A23+8860000,'Growth Data'!$A:$Z,8,0)),0,VLOOKUP($A23+8860000,'Growth Data'!$A:$Z,8,0))","v":0},0,null,0,{"$f":"IF(ISERROR(VLOOKUP($A23+8860000,'Growth Data'!$A:$Z,9,0)),0,VLOOKUP($A23+8860000,'Growth Data'!$A:$Z,9,0))","v":0},0,null,"NO",{"$f":"IF(ISERROR(VLOOKUP($A23+8860000,'Growth Data'!$A:$Z,5,0)),\"NO\",VLOOKUP($A23+8860000,'Growth Data'!$A:$Z,5,0))","v":"NO"},0,null,0,{"$f":"IF(ISERROR(VLOOKUP($A23+8860000,'Growth Data'!$A:$Z,10,0)),0,VLOOKUP($A23+8860000,'Growth Data'!$A:$Z,10,0))","v":0},0,null,0,{"$f":"IF(ISERROR(VLOOKUP($A23+8860000,'Growth Data'!$A:$Z,11,0)),0,VLOOKUP($A23+8860000,'Growth Data'!$A:$Z,11,0))","v":0},0]
[2134,"Four Elms Primary School",null,"Four Elms Primary School","Four Elms Primary School",0,null,487293.19,487293.18887825799,0,null,0,0,0,null,487293.19,487293.18887825799,0,null,2927.36,2927.3611264216001,0,null,null,null,0,null,0,0,0,null,39426.75,39426.749974845567,0,null,2057.33,2057.325002515443,0,null,0,null,0,null,0,null,0,null,0,null,0,null,0,null,0,null,0,null,0,null,0,null,0,null,"NO",{"$f":"IF(ISERROR(VLOOKUP($A24+8860000,'Growth Data'!$A:$F,3,0)),\"NO\",VLOOKUP($A24+8860000,'Growth Data'!$A:$F,3,0))","v":"NO"},0,null,0,{"$f":"IF(BM24=\"YES\",IF(ISERROR(VLOOKUP($A24+8860000,'Growth Data'!$A:$F,6,0)),0,VLOOKUP($A24+8860000,'Growth Data'!$A:$F,6,0)),0)","v":0},0,null,0,{"$f":"IF(ISERROR(VLOOKUP($A24+8860000,'Growth Data'!$A:$Z,7,0)),0,VLOOKUP($A24+8860000,'Growth Data'!$A:$Z,7,0))","v":0},0,null,"NO",{"$f":"IF(ISERROR(VLOOKUP($A24+8860000,'Growth Data'!$A:$F,4,0)),\"NO\",VLOOKUP($A24+8860000,'Growth Data'!$A:$F,4,0))","v":"NO"},0,null,0,{"$f":"IF(ISERROR(VLOOKUP($A24+8860000,'Growth Data'!$A:$Z,8,0)),0,VLOOKUP($A24+8860000,'Growth Data'!$A:$Z,8,0))","v":0},0,null,0,{"$f":"IF(ISERROR(VLOOKUP($A24+8860000,'Growth Data'!$A:$Z,9,0)),0,VLOOKUP($A24+8860000,'Growth Data'!$A:$Z,9,0))","v":0},0,null,"NO",{"$f":"IF(ISERROR(VLOOKUP($A24+8860000,'Growth Data'!$A:$Z,5,0)),\"NO\",VLOOKUP($A24+8860000,'Growth Data'!$A:$Z,5,0))","v":"NO"},0,null,0,{"$f":"IF(ISERROR(VLOOKUP($A24+8860000,'Growth Data'!$A:$Z,10,0)),0,VLOOKUP($A24+8860000,'Growth Data'!$A:$Z,10,0))","v":0},0,null,0,{"$f":"IF(ISERROR(VLOOKUP($A24+8860000,'Growth Data'!$A:$Z,11,0)),0,VLOOKUP($A24+8860000,'Growth Data'!$A:$Z,11,0))","v":0},0]
[2135,"Horsmonden Primary School",null,"Horsmonden Primary School","Horsmonden Primary School",0,null,705293.66,705293.66038873245,0,null,0,0,0,null,705293.66,705293.66038873245,0,null,4930.12,4930.1194368000006,0,null,null,null,0,null,0,0,0,null,37609.480000000003,37609.48355353246,0,null,2239.0500000000002,2239.0516446467536,0,null,0,null,0,null,0,null,0,null,0,null,0,null,0,null,0,null,0,null,0,null,0,null,0,null,"NO",{"$f":"IF(ISERROR(VLOOKUP($A25+8860000,'Growth Data'!$A:$F,3,0)),\"NO\",VLOOKUP($A25+8860000,'Growth Data'!$A:$F,3,0))","v":"NO"},0,null,0,{"$f":"IF(BM25=\"YES\",IF(ISERROR(VLOOKUP($A25+8860000,'Growth Data'!$A:$F,6,0)),0,VLOOKUP($A25+8860000,'Growth Data'!$A:$F,6,0)),0)","v":0},0,null,0,{"$f":"IF(ISERROR(VLOOKUP($A25+8860000,'Growth Data'!$A:$Z,7,0)),0,VLOOKUP($A25+8860000,'Growth Data'!$A:$Z,7,0))","v":0},0,null,"NO",{"$f":"IF(ISERROR(VLOOKUP($A25+8860000,'Growth Data'!$A:$F,4,0)),\"NO\",VLOOKUP($A25+8860000,'Growth Data'!$A:$F,4,0))","v":"NO"},0,null,0,{"$f":"IF(ISERROR(VLOOKUP($A25+8860000,'Growth Data'!$A:$Z,8,0)),0,VLOOKUP($A25+8860000,'Growth Data'!$A:$Z,8,0))","v":0},0,null,0,{"$f":"IF(ISERROR(VLOOKUP($A25+8860000,'Growth Data'!$A:$Z,9,0)),0,VLOOKUP($A25+8860000,'Growth Data'!$A:$Z,9,0))","v":0},0,null,"NO",{"$f":"IF(ISERROR(VLOOKUP($A25+8860000,'Growth Data'!$A:$Z,5,0)),\"NO\",VLOOKUP($A25+8860000,'Growth Data'!$A:$Z,5,0))","v":"NO"},0,null,0,{"$f":"IF(ISERROR(VLOOKUP($A25+8860000,'Growth Data'!$A:$Z,10,0)),0,VLOOKUP($A25+8860000,'Growth Data'!$A:$Z,10,0))","v":0},0,null,0,{"$f":"IF(ISERROR(VLOOKUP($A25+8860000,'Growth Data'!$A:$Z,11,0)),0,VLOOKUP($A25+8860000,'Growth Data'!$A:$Z,11,0))","v":0},0]
[2136,"Kemsing Primary School",null,"Kemsing Primary School","Kemsing Primary School",0,null,766219.79,766219.79075113882,0,null,0,0,0,null,766219.79,766219.79075113882,0,null,5322.47,5322.4747753119991,0,null,null,null,0,null,0,0,0,null,52989.67,52989.669914330749,0,null,701.03,701.03300856692476,0,null,0,null,0,null,0,null,0,null,0,null,0,null,0,null,0,null,0,null,0,null,0,null,0,null,"NO",{"$f":"IF(ISERROR(VLOOKUP($A26+8860000,'Growth Data'!$A:$F,3,0)),\"NO\",VLOOKUP($A26+8860000,'Growth Data'!$A:$F,3,0))","v":"NO"},0,null,0,{"$f":"IF(BM26=\"YES\",IF(ISERROR(VLOOKUP($A26+8860000,'Growth Data'!$A:$F,6,0)),0,VLOOKUP($A26+8860000,'Growth Data'!$A:$F,6,0)),0)","v":0},0,null,0,{"$f":"IF(ISERROR(VLOOKUP($A26+8860000,'Growth Data'!$A:$Z,7,0)),0,VLOOKUP($A26+8860000,'Growth Data'!$A:$Z,7,0))","v":0},0,null,"NO",{"$f":"IF(ISERROR(VLOOKUP($A26+8860000,'Growth Data'!$A:$F,4,0)),\"NO\",VLOOKUP($A26+8860000,'Growth Data'!$A:$F,4,0))","v":"NO"},0,null,0,{"$f":"IF(ISERROR(VLOOKUP($A26+8860000,'Growth Data'!$A:$Z,8,0)),0,VLOOKUP($A26+8860000,'Growth Data'!$A:$Z,8,0))","v":0},0,null,0,{"$f":"IF(ISERROR(VLOOKUP($A26+8860000,'Growth Data'!$A:$Z,9,0)),0,VLOOKUP($A26+8860000,'Growth Data'!$A:$Z,9,0))","v":0},0,null,"NO",{"$f":"IF(ISERROR(VLOOKUP($A26+8860000,'Growth Data'!$A:$Z,5,0)),\"NO\",VLOOKUP($A26+8860000,'Growth Data'!$A:$Z,5,0))","v":"NO"},0,null,0,{"$f":"IF(ISERROR(VLOOKUP($A26+8860000,'Growth Data'!$A:$Z,10,0)),0,VLOOKUP($A26+8860000,'Growth Data'!$A:$Z,10,0))","v":0},0,null,0,{"$f":"IF(ISERROR(VLOOKUP($A26+8860000,'Growth Data'!$A:$Z,11,0)),0,VLOOKUP($A26+8860000,'Growth Data'!$A:$Z,11,0))","v":0},0]
[2137,"Leigh Primary School",null,"Leigh Primary School","Leigh Primary School",0,null,624693.06000000006,624693.0618198734,0,null,0,0,0,null,624693.06000000006,624693.0618198734,0,null,4284.59,4284.5921941261595,0,null,null,null,0,null,0,0,0,null,34459.760000000002,34459.758043078182,0,null,2554.02,2554.0241956921818,0,null,0,null,0,null,0,null,0,null,0,null,0,null,0,null,0,null,0,null,0,null,0,null,0,null,"NO",{"$f":"IF(ISERROR(VLOOKUP($A27+8860000,'Growth Data'!$A:$F,3,0)),\"NO\",VLOOKUP($A27+8860000,'Growth Data'!$A:$F,3,0))","v":"NO"},0,null,0,{"$f":"IF(BM27=\"YES\",IF(ISERROR(VLOOKUP($A27+8860000,'Growth Data'!$A:$F,6,0)),0,VLOOKUP($A27+8860000,'Growth Data'!$A:$F,6,0)),0)","v":0},0,null,0,{"$f":"IF(ISERROR(VLOOKUP($A27+8860000,'Growth Data'!$A:$Z,7,0)),0,VLOOKUP($A27+8860000,'Growth Data'!$A:$Z,7,0))","v":0},0,null,"NO",{"$f":"IF(ISERROR(VLOOKUP($A27+8860000,'Growth Data'!$A:$F,4,0)),\"NO\",VLOOKUP($A27+8860000,'Growth Data'!$A:$F,4,0))","v":"NO"},0,null,0,{"$f":"IF(ISERROR(VLOOKUP($A27+8860000,'Growth Data'!$A:$Z,8,0)),0,VLOOKUP($A27+8860000,'Growth Data'!$A:$Z,8,0))","v":0},0,null,0,{"$f":"IF(ISERROR(VLOOKUP($A27+8860000,'Growth Data'!$A:$Z,9,0)),0,VLOOKUP($A27+8860000,'Growth Data'!$A:$Z,9,0))","v":0},0,null,"NO",{"$f":"IF(ISERROR(VLOOKUP($A27+8860000,'Growth Data'!$A:$Z,5,0)),\"NO\",VLOOKUP($A27+8860000,'Growth Data'!$A:$Z,5,0))","v":"NO"},0,null,0,{"$f":"IF(ISERROR(VLOOKUP($A27+8860000,'Growth Data'!$A:$Z,10,0)),0,VLOOKUP($A27+8860000,'Growth Data'!$A:$Z,10,0))","v":0},0,null,0,{"$f":"IF(ISERROR(VLOOKUP($A27+8860000,'Growth Data'!$A:$Z,11,0)),0,VLOOKUP($A27+8860000,'Growth Data'!$A:$Z,11,0))","v":0},0]
[2138,"Otford Primary School",null,"Otford Primary School","Otford Primary School",0,null,1354334.22,1354334.224705019,0,null,0,0,0,null,1354334.22,1354334.224705019,0,null,10511.89,10511.887681241198,0,null,null,null,0,null,0,0,0,null,71709.210000000006,71709.21242222721,0,null,0,0,0,null,0,null,0,null,0,null,0,null,0,null,0,null,0,null,0,null,0,null,0,null,0,null,0,null,"NO",{"$f":"IF(ISERROR(VLOOKUP($A28+8860000,'Growth Data'!$A:$F,3,0)),\"NO\",VLOOKUP($A28+8860000,'Growth Data'!$A:$F,3,0))","v":"NO"},0,null,0,{"$f":"IF(BM28=\"YES\",IF(ISERROR(VLOOKUP($A28+8860000,'Growth Data'!$A:$F,6,0)),0,VLOOKUP($A28+8860000,'Growth Data'!$A:$F,6,0)),0)","v":0},0,null,0,{"$f":"IF(ISERROR(VLOOKUP($A28+8860000,'Growth Data'!$A:$Z,7,0)),0,VLOOKUP($A28+8860000,'Growth Data'!$A:$Z,7,0))","v":60},1,null,"NO",{"$f":"IF(ISERROR(VLOOKUP($A28+8860000,'Growth Data'!$A:$F,4,0)),\"NO\",VLOOKUP($A28+8860000,'Growth Data'!$A:$F,4,0))","v":"NO"},0,null,0,{"$f":"IF(ISERROR(VLOOKUP($A28+8860000,'Growth Data'!$A:$Z,8,0)),0,VLOOKUP($A28+8860000,'Growth Data'!$A:$Z,8,0))","v":60},1,null,0,{"$f":"IF(ISERROR(VLOOKUP($A28+8860000,'Growth Data'!$A:$Z,9,0)),0,VLOOKUP($A28+8860000,'Growth Data'!$A:$Z,9,0))","v":60},1,null,"NO",{"$f":"IF(ISERROR(VLOOKUP($A28+8860000,'Growth Data'!$A:$Z,5,0)),\"NO\",VLOOKUP($A28+8860000,'Growth Data'!$A:$Z,5,0))","v":"NO"},0,null,0,{"$f":"IF(ISERROR(VLOOKUP($A28+8860000,'Growth Data'!$A:$Z,10,0)),0,VLOOKUP($A28+8860000,'Growth Data'!$A:$Z,10,0))","v":0},0,null,0,{"$f":"IF(ISERROR(VLOOKUP($A28+8860000,'Growth Data'!$A:$Z,11,0)),0,VLOOKUP($A28+8860000,'Growth Data'!$A:$Z,11,0))","v":0},0]
[2139,"Pembury School",null,"Pembury School","Pembury School",0,null,1560919,1560919,0,null,0,0,0,null,1560919,1560919,0,null,12196.91,12196.910064999996,0,null,null,null,0,null,0,0,0,null,87444.15,87444.15327450521,0,null,0,0,0,null,0,null,0,null,0,null,0,null,0,null,0,null,0,null,0,null,0,null,0,null,0,null,0,null,"NO",{"$f":"IF(ISERROR(VLOOKUP($A29+8860000,'Growth Data'!$A:$F,3,0)),\"NO\",VLOOKUP($A29+8860000,'Growth Data'!$A:$F,3,0))","v":"NO"},0,null,0,{"$f":"IF(BM29=\"YES\",IF(ISERROR(VLOOKUP($A29+8860000,'Growth Data'!$A:$F,6,0)),0,VLOOKUP($A29+8860000,'Growth Data'!$A:$F,6,0)),0)","v":0},0,null,0,{"$f":"IF(ISERROR(VLOOKUP($A29+8860000,'Growth Data'!$A:$Z,7,0)),0,VLOOKUP($A29+8860000,'Growth Data'!$A:$Z,7,0))","v":0},0,null,"NO",{"$f":"IF(ISERROR(VLOOKUP($A29+8860000,'Growth Data'!$A:$F,4,0)),\"NO\",VLOOKUP($A29+8860000,'Growth Data'!$A:$F,4,0))","v":"NO"},0,null,0,{"$f":"IF(ISERROR(VLOOKUP($A29+8860000,'Growth Data'!$A:$Z,8,0)),0,VLOOKUP($A29+8860000,'Growth Data'!$A:$Z,8,0))","v":0},0,null,0,{"$f":"IF(ISERROR(VLOOKUP($A29+8860000,'Growth Data'!$A:$Z,9,0)),0,VLOOKUP($A29+8860000,'Growth Data'!$A:$Z,9,0))","v":0},0,null,"NO",{"$f":"IF(ISERROR(VLOOKUP($A29+8860000,'Growth Data'!$A:$Z,5,0)),\"NO\",VLOOKUP($A29+8860000,'Growth Data'!$A:$Z,5,0))","v":"NO"},0,null,0,{"$f":"IF(ISERROR(VLOOKUP($A29+8860000,'Growth Data'!$A:$Z,10,0)),0,VLOOKUP($A29+8860000,'Growth Data'!$A:$Z,10,0))","v":0},0,null,0,{"$f":"IF(ISERROR(VLOOKUP($A29+8860000,'Growth Data'!$A:$Z,11,0)),0,VLOOKUP($A29+8860000,'Growth Data'!$A:$Z,11,0))","v":0},0]
[2142,"Sandhurst Primary School",null,"Sandhurst Primary School","Sandhurst Primary School",0,null,559162.03,559162.0332488782,0,null,0,0,0,null,559162.03,559162.0332488782,0,null,3543.52,3543.5233452000002,0,null,null,null,0,null,0,0,0,null,38603.49,38603.490861078135,0,null,2139.65,2139.6509138921865,0,null,0,null,0,null,0,null,0,null,0,null,0,null,0,null,0,null,0,null,0,null,0,null,0,null,"NO",{"$f":"IF(ISERROR(VLOOKUP($A30+8860000,'Growth Data'!$A:$F,3,0)),\"NO\",VLOOKUP($A30+8860000,'Growth Data'!$A:$F,3,0))","v":"NO"},0,null,0,{"$f":"IF(BM30=\"YES\",IF(ISERROR(VLOOKUP($A30+8860000,'Growth Data'!$A:$F,6,0)),0,VLOOKUP($A30+8860000,'Growth Data'!$A:$F,6,0)),0)","v":0},0,null,0,{"$f":"IF(ISERROR(VLOOKUP($A30+8860000,'Growth Data'!$A:$Z,7,0)),0,VLOOKUP($A30+8860000,'Growth Data'!$A:$Z,7,0))","v":0},0,null,"NO",{"$f":"IF(ISERROR(VLOOKUP($A30+8860000,'Growth Data'!$A:$F,4,0)),\"NO\",VLOOKUP($A30+8860000,'Growth Data'!$A:$F,4,0))","v":"NO"},0,null,0,{"$f":"IF(ISERROR(VLOOKUP($A30+8860000,'Growth Data'!$A:$Z,8,0)),0,VLOOKUP($A30+8860000,'Growth Data'!$A:$Z,8,0))","v":0},0,null,0,{"$f":"IF(ISERROR(VLOOKUP($A30+8860000,'Growth Data'!$A:$Z,9,0)),0,VLOOKUP($A30+8860000,'Growth Data'!$A:$Z,9,0))","v":0},0,null,"NO",{"$f":"IF(ISERROR(VLOOKUP($A30+8860000,'Growth Data'!$A:$Z,5,0)),\"NO\",VLOOKUP($A30+8860000,'Growth Data'!$A:$Z,5,0))","v":"NO"},0,null,0,{"$f":"IF(ISERROR(VLOOKUP($A30+8860000,'Growth Data'!$A:$Z,10,0)),0,VLOOKUP($A30+8860000,'Growth Data'!$A:$Z,10,0))","v":0},0,null,0,{"$f":"IF(ISERROR(VLOOKUP($A30+8860000,'Growth Data'!$A:$Z,11,0)),0,VLOOKUP($A30+8860000,'Growth Data'!$A:$Z,11,0))","v":0},0]
[2147,"Weald Community Primary School",null,"Weald Community Primary School","Weald Community Primary School",0,null,619830.81000000006,619830.81449712988,0,null,0,0,0,null,619830.81000000006,619830.81449712988,0,null,4204.76,4204.7550724964804,0,null,null,null,0,null,0,0,0,null,36416.68,36416.675928877172,0,null,2358.33,2358.3324071122825,0,null,0,null,0,null,0,null,0,null,0,null,0,null,0,null,0,null,0,null,0,null,0,null,0,null,"NO",{"$f":"IF(ISERROR(VLOOKUP($A31+8860000,'Growth Data'!$A:$F,3,0)),\"NO\",VLOOKUP($A31+8860000,'Growth Data'!$A:$F,3,0))","v":"NO"},0,null,0,{"$f":"IF(BM31=\"YES\",IF(ISERROR(VLOOKUP($A31+8860000,'Growth Data'!$A:$F,6,0)),0,VLOOKUP($A31+8860000,'Growth Data'!$A:$F,6,0)),0)","v":0},0,null,0,{"$f":"IF(ISERROR(VLOOKUP($A31+8860000,'Growth Data'!$A:$Z,7,0)),0,VLOOKUP($A31+8860000,'Growth Data'!$A:$Z,7,0))","v":0},0,null,"NO",{"$f":"IF(ISERROR(VLOOKUP($A31+8860000,'Growth Data'!$A:$F,4,0)),\"NO\",VLOOKUP($A31+8860000,'Growth Data'!$A:$F,4,0))","v":"NO"},0,null,0,{"$f":"IF(ISERROR(VLOOKUP($A31+8860000,'Growth Data'!$A:$Z,8,0)),0,VLOOKUP($A31+8860000,'Growth Data'!$A:$Z,8,0))","v":0},0,null,0,{"$f":"IF(ISERROR(VLOOKUP($A31+8860000,'Growth Data'!$A:$Z,9,0)),0,VLOOKUP($A31+8860000,'Growth Data'!$A:$Z,9,0))","v":0},0,null,"NO",{"$f":"IF(ISERROR(VLOOKUP($A31+8860000,'Growth Data'!$A:$Z,5,0)),\"NO\",VLOOKUP($A31+8860000,'Growth Data'!$A:$Z,5,0))","v":"NO"},0,null,0,{"$f":"IF(ISERROR(VLOOKUP($A31+8860000,'Growth Data'!$A:$Z,10,0)),0,VLOOKUP($A31+8860000,'Growth Data'!$A:$Z,10,0))","v":0},0,null,0,{"$f":"IF(ISERROR(VLOOKUP($A31+8860000,'Growth Data'!$A:$Z,11,0)),0,VLOOKUP($A31+8860000,'Growth Data'!$A:$Z,11,0))","v":0},0]
[2148,"Shoreham Village School",null,"Shoreham Village School","Shoreham Village School",0,null,423746.11,423746.11087421566,0,null,0,0,0,null,423746.11,423746.11087421566,0,null,2368.5,2368.5012750138399,0,null,null,null,0,null,0,0,0,null,33811.18,33811.183222280881,0,null,2618.88,2618.8816777719117,0,null,0,null,0,null,0,null,0,null,0,null,0,null,0,null,0,null,0,null,0,null,0,null,0,null,"NO",{"$f":"IF(ISERROR(VLOOKUP($A32+8860000,'Growth Data'!$A:$F,3,0)),\"NO\",VLOOKUP($A32+8860000,'Growth Data'!$A:$F,3,0))","v":"NO"},0,null,0,{"$f":"IF(BM32=\"YES\",IF(ISERROR(VLOOKUP($A32+8860000,'Growth Data'!$A:$F,6,0)),0,VLOOKUP($A32+8860000,'Growth Data'!$A:$F,6,0)),0)","v":0},0,null,0,{"$f":"IF(ISERROR(VLOOKUP($A32+8860000,'Growth Data'!$A:$Z,7,0)),0,VLOOKUP($A32+8860000,'Growth Data'!$A:$Z,7,0))","v":0},0,null,"NO",{"$f":"IF(ISERROR(VLOOKUP($A32+8860000,'Growth Data'!$A:$F,4,0)),\"NO\",VLOOKUP($A32+8860000,'Growth Data'!$A:$F,4,0))","v":"NO"},0,null,0,{"$f":"IF(ISERROR(VLOOKUP($A32+8860000,'Growth Data'!$A:$Z,8,0)),0,VLOOKUP($A32+8860000,'Growth Data'!$A:$Z,8,0))","v":0},0,null,0,{"$f":"IF(ISERROR(VLOOKUP($A32+8860000,'Growth Data'!$A:$Z,9,0)),0,VLOOKUP($A32+8860000,'Growth Data'!$A:$Z,9,0))","v":0},0,null,"NO",{"$f":"IF(ISERROR(VLOOKUP($A32+8860000,'Growth Data'!$A:$Z,5,0)),\"NO\",VLOOKUP($A32+8860000,'Growth Data'!$A:$Z,5,0))","v":"NO"},0,null,0,{"$f":"IF(ISERROR(VLOOKUP($A32+8860000,'Growth Data'!$A:$Z,10,0)),0,VLOOKUP($A32+8860000,'Growth Data'!$A:$Z,10,0))","v":0},0,null,0,{"$f":"IF(ISERROR(VLOOKUP($A32+8860000,'Growth Data'!$A:$Z,11,0)),0,VLOOKUP($A32+8860000,'Growth Data'!$A:$Z,11,0))","v":0},0]
[2155,"Slade Primary School",null,"Slade Primary School","Slade Primary School",0,null,1294851.93,1294851.9295423438,0,null,0,0,0,null,1294851.93,1294851.9295423438,0,null,9731.85,9731.8503466000002,0,null,null,null,0,null,0,0,0,null,105916.48,105916.48218744379,0,null,0,0,0,null,0,null,0,null,30000,null,30000,null,0,null,0,null,0,null,0,null,0,null,0,null,0,null,0,null,"YES",{"$f":"IF(ISERROR(VLOOKUP($A33+8860000,'Growth Data'!$A:$F,3,0)),\"NO\",VLOOKUP($A33+8860000,'Growth Data'!$A:$F,3,0))","v":"YES"},0,null,46,{"$f":"IF(BM33=\"YES\",IF(ISERROR(VLOOKUP($A33+8860000,'Growth Data'!$A:$F,6,0)),0,VLOOKUP($A33+8860000,'Growth Data'!$A:$F,6,0)),0)","v":46},0,null,60,{"$f":"IF(ISERROR(VLOOKUP($A33+8860000,'Growth Data'!$A:$Z,7,0)),0,VLOOKUP($A33+8860000,'Growth Data'!$A:$Z,7,0))","v":60},0,null,"YES",{"$f":"IF(ISERROR(VLOOKUP($A33+8860000,'Growth Data'!$A:$F,4,0)),\"NO\",VLOOKUP($A33+8860000,'Growth Data'!$A:$F,4,0))","v":"YES"},0,null,46,{"$f":"IF(ISERROR(VLOOKUP($A33+8860000,'Growth Data'!$A:$Z,8,0)),0,VLOOKUP($A33+8860000,'Growth Data'!$A:$Z,8,0))","v":46},0,null,60,{"$f":"IF(ISERROR(VLOOKUP($A33+8860000,'Growth Data'!$A:$Z,9,0)),0,VLOOKUP($A33+8860000,'Growth Data'!$A:$Z,9,0))","v":60},0,null,"YES",{"$f":"IF(ISERROR(VLOOKUP($A33+8860000,'Growth Data'!$A:$Z,5,0)),\"NO\",VLOOKUP($A33+8860000,'Growth Data'!$A:$Z,5,0))","v":"YES"},0,null,47,{"$f":"IF(ISERROR(VLOOKUP($A33+8860000,'Growth Data'!$A:$Z,10,0)),0,VLOOKUP($A33+8860000,'Growth Data'!$A:$Z,10,0))","v":47},0,null,60,{"$f":"IF(ISERROR(VLOOKUP($A33+8860000,'Growth Data'!$A:$Z,11,0)),0,VLOOKUP($A33+8860000,'Growth Data'!$A:$Z,11,0))","v":60},0]
[2156,"Sussex Road Community Primary School",null,"Sussex Road Community Primary School","Sussex Road Community Primary School",0,null,1477907.97,1477907.9677030167,0,null,0,0,0,null,1477907.97,1477907.9677030167,0,null,11349.55,11349.545786799998,0,null,null,null,0,null,0,0,0,null,92072.1,92072.095492816719,0,null,0,0,0,null,0,null,0,null,0,null,0,null,0,null,0,null,0,null,0,null,0,null,0,null,0,null,0,null,"NO",{"$f":"IF(ISERROR(VLOOKUP($A34+8860000,'Growth Data'!$A:$F,3,0)),\"NO\",VLOOKUP($A34+8860000,'Growth Data'!$A:$F,3,0))","v":"NO"},0,null,0,{"$f":"IF(BM34=\"YES\",IF(ISERROR(VLOOKUP($A34+8860000,'Growth Data'!$A:$F,6,0)),0,VLOOKUP($A34+8860000,'Growth Data'!$A:$F,6,0)),0)","v":0},0,null,0,{"$f":"IF(ISERROR(VLOOKUP($A34+8860000,'Growth Data'!$A:$Z,7,0)),0,VLOOKUP($A34+8860000,'Growth Data'!$A:$Z,7,0))","v":0},0,null,"NO",{"$f":"IF(ISERROR(VLOOKUP($A34+8860000,'Growth Data'!$A:$F,4,0)),\"NO\",VLOOKUP($A34+8860000,'Growth Data'!$A:$F,4,0))","v":"NO"},0,null,0,{"$f":"IF(ISERROR(VLOOKUP($A34+8860000,'Growth Data'!$A:$Z,8,0)),0,VLOOKUP($A34+8860000,'Growth Data'!$A:$Z,8,0))","v":0},0,null,0,{"$f":"IF(ISERROR(VLOOKUP($A34+8860000,'Growth Data'!$A:$Z,9,0)),0,VLOOKUP($A34+8860000,'Growth Data'!$A:$Z,9,0))","v":0},0,null,"NO",{"$f":"IF(ISERROR(VLOOKUP($A34+8860000,'Growth Data'!$A:$Z,5,0)),\"NO\",VLOOKUP($A34+8860000,'Growth Data'!$A:$Z,5,0))","v":"NO"},0,null,0,{"$f":"IF(ISERROR(VLOOKUP($A34+8860000,'Growth Data'!$A:$Z,10,0)),0,VLOOKUP($A34+8860000,'Growth Data'!$A:$Z,10,0))","v":0},0,null,0,{"$f":"IF(ISERROR(VLOOKUP($A34+8860000,'Growth Data'!$A:$Z,11,0)),0,VLOOKUP($A34+8860000,'Growth Data'!$A:$Z,11,0))","v":0},0]
[2161,"Boughton Monchelsea Primary School",null,"Boughton Monchelsea Primary School","Boughton Monchelsea Primary School",0,null,780082.19,780082.18928199576,0,null,0,0,0,null,780082.19,780082.18928199576,0,null,5418,5417.9958393999996,0,null,null,null,0,null,0,0,0,null,59215.92,59215.921807895647,0,null,78.41,78.407819210435264,0,null,0,null,0,null,0,null,0,null,0,null,0,null,0,null,0,null,0,null,0,null,0,null,0,null,"NO",{"$f":"IF(ISERROR(VLOOKUP($A35+8860000,'Growth Data'!$A:$F,3,0)),\"NO\",VLOOKUP($A35+8860000,'Growth Data'!$A:$F,3,0))","v":"NO"},0,null,0,{"$f":"IF(BM35=\"YES\",IF(ISERROR(VLOOKUP($A35+8860000,'Growth Data'!$A:$F,6,0)),0,VLOOKUP($A35+8860000,'Growth Data'!$A:$F,6,0)),0)","v":0},0,null,0,{"$f":"IF(ISERROR(VLOOKUP($A35+8860000,'Growth Data'!$A:$Z,7,0)),0,VLOOKUP($A35+8860000,'Growth Data'!$A:$Z,7,0))","v":0},0,null,"NO",{"$f":"IF(ISERROR(VLOOKUP($A35+8860000,'Growth Data'!$A:$F,4,0)),\"NO\",VLOOKUP($A35+8860000,'Growth Data'!$A:$F,4,0))","v":"NO"},0,null,0,{"$f":"IF(ISERROR(VLOOKUP($A35+8860000,'Growth Data'!$A:$Z,8,0)),0,VLOOKUP($A35+8860000,'Growth Data'!$A:$Z,8,0))","v":0},0,null,0,{"$f":"IF(ISERROR(VLOOKUP($A35+8860000,'Growth Data'!$A:$Z,9,0)),0,VLOOKUP($A35+8860000,'Growth Data'!$A:$Z,9,0))","v":0},0,null,"NO",{"$f":"IF(ISERROR(VLOOKUP($A35+8860000,'Growth Data'!$A:$Z,5,0)),\"NO\",VLOOKUP($A35+8860000,'Growth Data'!$A:$Z,5,0))","v":"NO"},0,null,0,{"$f":"IF(ISERROR(VLOOKUP($A35+8860000,'Growth Data'!$A:$Z,10,0)),0,VLOOKUP($A35+8860000,'Growth Data'!$A:$Z,10,0))","v":0},0,null,0,{"$f":"IF(ISERROR(VLOOKUP($A35+8860000,'Growth Data'!$A:$Z,11,0)),0,VLOOKUP($A35+8860000,'Growth Data'!$A:$Z,11,0))","v":0},0]
[2163,"East Farleigh Primary School",null,"East Farleigh Primary School","East Farleigh Primary School",0,null,737294.91,737294.91240303486,0,null,0,0,0,null,737294.91,737294.91240303486,0,null,5212.57,5212.5741962000011,0,null,null,null,0,null,0,0,0,null,47141.85,47141.853513734815,0,null,1285.81,1285.8146486265186,0,null,0,null,0,null,0,null,0,null,0,null,0,null,0,null,0,null,0,null,0,null,0,null,0,null,"NO",{"$f":"IF(ISERROR(VLOOKUP($A36+8860000,'Growth Data'!$A:$F,3,0)),\"NO\",VLOOKUP($A36+8860000,'Growth Data'!$A:$F,3,0))","v":"NO"},0,null,0,{"$f":"IF(BM36=\"YES\",IF(ISERROR(VLOOKUP($A36+8860000,'Growth Data'!$A:$F,6,0)),0,VLOOKUP($A36+8860000,'Growth Data'!$A:$F,6,0)),0)","v":0},0,null,0,{"$f":"IF(ISERROR(VLOOKUP($A36+8860000,'Growth Data'!$A:$Z,7,0)),0,VLOOKUP($A36+8860000,'Growth Data'!$A:$Z,7,0))","v":0},0,null,"NO",{"$f":"IF(ISERROR(VLOOKUP($A36+8860000,'Growth Data'!$A:$F,4,0)),\"NO\",VLOOKUP($A36+8860000,'Growth Data'!$A:$F,4,0))","v":"NO"},0,null,0,{"$f":"IF(ISERROR(VLOOKUP($A36+8860000,'Growth Data'!$A:$Z,8,0)),0,VLOOKUP($A36+8860000,'Growth Data'!$A:$Z,8,0))","v":0},0,null,0,{"$f":"IF(ISERROR(VLOOKUP($A36+8860000,'Growth Data'!$A:$Z,9,0)),0,VLOOKUP($A36+8860000,'Growth Data'!$A:$Z,9,0))","v":0},0,null,"NO",{"$f":"IF(ISERROR(VLOOKUP($A36+8860000,'Growth Data'!$A:$Z,5,0)),\"NO\",VLOOKUP($A36+8860000,'Growth Data'!$A:$Z,5,0))","v":"NO"},0,null,0,{"$f":"IF(ISERROR(VLOOKUP($A36+8860000,'Growth Data'!$A:$Z,10,0)),0,VLOOKUP($A36+8860000,'Growth Data'!$A:$Z,10,0))","v":0},0,null,0,{"$f":"IF(ISERROR(VLOOKUP($A36+8860000,'Growth Data'!$A:$Z,11,0)),0,VLOOKUP($A36+8860000,'Growth Data'!$A:$Z,11,0))","v":0},0]
[2164,"East Peckham Primary School",null,"East Peckham Primary School","East Peckham Primary School",0,null,626979.56999999995,626979.57050100155,0,null,0,0,0,null,626979.56999999995,626979.57050100155,0,null,4236.82,4236.8213909999995,0,null,null,null,0,null,0,0,0,null,38798.94,38798.943289501549,0,null,2120.11,2120.1056710498451,0,null,0,null,0,null,0,null,0,null,0,null,0,null,0,null,0,null,0,null,0,null,0,null,0,null,"NO",{"$f":"IF(ISERROR(VLOOKUP($A37+8860000,'Growth Data'!$A:$F,3,0)),\"NO\",VLOOKUP($A37+8860000,'Growth Data'!$A:$F,3,0))","v":"NO"},0,null,0,{"$f":"IF(BM37=\"YES\",IF(ISERROR(VLOOKUP($A37+8860000,'Growth Data'!$A:$F,6,0)),0,VLOOKUP($A37+8860000,'Growth Data'!$A:$F,6,0)),0)","v":0},0,null,0,{"$f":"IF(ISERROR(VLOOKUP($A37+8860000,'Growth Data'!$A:$Z,7,0)),0,VLOOKUP($A37+8860000,'Growth Data'!$A:$Z,7,0))","v":0},0,null,"NO",{"$f":"IF(ISERROR(VLOOKUP($A37+8860000,'Growth Data'!$A:$F,4,0)),\"NO\",VLOOKUP($A37+8860000,'Growth Data'!$A:$F,4,0))","v":"NO"},0,null,0,{"$f":"IF(ISERROR(VLOOKUP($A37+8860000,'Growth Data'!$A:$Z,8,0)),0,VLOOKUP($A37+8860000,'Growth Data'!$A:$Z,8,0))","v":0},0,null,0,{"$f":"IF(ISERROR(VLOOKUP($A37+8860000,'Growth Data'!$A:$Z,9,0)),0,VLOOKUP($A37+8860000,'Growth Data'!$A:$Z,9,0))","v":0},0,null,"NO",{"$f":"IF(ISERROR(VLOOKUP($A37+8860000,'Growth Data'!$A:$Z,5,0)),\"NO\",VLOOKUP($A37+8860000,'Growth Data'!$A:$Z,5,0))","v":"NO"},0,null,0,{"$f":"IF(ISERROR(VLOOKUP($A37+8860000,'Growth Data'!$A:$Z,10,0)),0,VLOOKUP($A37+8860000,'Growth Data'!$A:$Z,10,0))","v":0},0,null,0,{"$f":"IF(ISERROR(VLOOKUP($A37+8860000,'Growth Data'!$A:$Z,11,0)),0,VLOOKUP($A37+8860000,'Growth Data'!$A:$Z,11,0))","v":0},0]
[2165,"Headcorn Primary School",null,"Headcorn Primary School","Headcorn Primary School",0,null,782474.12,782474.12421500543,0,null,0,0,0,null,782474.12,782474.12421500543,0,null,5777.48,5777.4837149999994,0,null,null,null,0,null,0,0,0,null,26822.85,26822.853617505465,0,null,3317.71,3317.7146382494534,0,null,0,null,0,null,0,null,0,null,0,null,0,null,0,null,0,null,0,null,0,null,0,null,0,null,"NO",{"$f":"IF(ISERROR(VLOOKUP($A38+8860000,'Growth Data'!$A:$F,3,0)),\"NO\",VLOOKUP($A38+8860000,'Growth Data'!$A:$F,3,0))","v":"NO"},0,null,0,{"$f":"IF(BM38=\"YES\",IF(ISERROR(VLOOKUP($A38+8860000,'Growth Data'!$A:$F,6,0)),0,VLOOKUP($A38+8860000,'Growth Data'!$A:$F,6,0)),0)","v":0},0,null,0,{"$f":"IF(ISERROR(VLOOKUP($A38+8860000,'Growth Data'!$A:$Z,7,0)),0,VLOOKUP($A38+8860000,'Growth Data'!$A:$Z,7,0))","v":0},0,null,"NO",{"$f":"IF(ISERROR(VLOOKUP($A38+8860000,'Growth Data'!$A:$F,4,0)),\"NO\",VLOOKUP($A38+8860000,'Growth Data'!$A:$F,4,0))","v":"NO"},0,null,0,{"$f":"IF(ISERROR(VLOOKUP($A38+8860000,'Growth Data'!$A:$Z,8,0)),0,VLOOKUP($A38+8860000,'Growth Data'!$A:$Z,8,0))","v":0},0,null,0,{"$f":"IF(ISERROR(VLOOKUP($A38+8860000,'Growth Data'!$A:$Z,9,0)),0,VLOOKUP($A38+8860000,'Growth Data'!$A:$Z,9,0))","v":0},0,null,"YES",{"$f":"IF(ISERROR(VLOOKUP($A38+8860000,'Growth Data'!$A:$Z,5,0)),\"NO\",VLOOKUP($A38+8860000,'Growth Data'!$A:$Z,5,0))","v":"YES"},0,null,31,{"$f":"IF(ISERROR(VLOOKUP($A38+8860000,'Growth Data'!$A:$Z,10,0)),0,VLOOKUP($A38+8860000,'Growth Data'!$A:$Z,10,0))","v":31},0,null,60,{"$f":"IF(ISERROR(VLOOKUP($A38+8860000,'Growth Data'!$A:$Z,11,0)),0,VLOOKUP($A38+8860000,'Growth Data'!$A:$Z,11,0))","v":60},0]
[2166,"Hollingbourne Primary School",null,"Hollingbourne Primary School","Hollingbourne Primary School",0,null,426974.58,426974.58246729418,0,null,0,0,0,null,426974.58,426974.58246729418,0,null,2567.77,2567.7705399999995,0,null,null,null,0,null,0,0,0,null,22596.720000000001,22596.722157294203,0,null,3740.33,3740.3277842705797,0,null,0,null,0,null,0,null,0,null,0,null,0,null,0,null,0,null,0,null,0,null,0,null,0,null,"NO",{"$f":"IF(ISERROR(VLOOKUP($A39+8860000,'Growth Data'!$A:$F,3,0)),\"NO\",VLOOKUP($A39+8860000,'Growth Data'!$A:$F,3,0))","v":"NO"},0,null,0,{"$f":"IF(BM39=\"YES\",IF(ISERROR(VLOOKUP($A39+8860000,'Growth Data'!$A:$F,6,0)),0,VLOOKUP($A39+8860000,'Growth Data'!$A:$F,6,0)),0)","v":0},0,null,0,{"$f":"IF(ISERROR(VLOOKUP($A39+8860000,'Growth Data'!$A:$Z,7,0)),0,VLOOKUP($A39+8860000,'Growth Data'!$A:$Z,7,0))","v":0},0,null,"NO",{"$f":"IF(ISERROR(VLOOKUP($A39+8860000,'Growth Data'!$A:$F,4,0)),\"NO\",VLOOKUP($A39+8860000,'Growth Data'!$A:$F,4,0))","v":"NO"},0,null,0,{"$f":"IF(ISERROR(VLOOKUP($A39+8860000,'Growth Data'!$A:$Z,8,0)),0,VLOOKUP($A39+8860000,'Growth Data'!$A:$Z,8,0))","v":0},0,null,0,{"$f":"IF(ISERROR(VLOOKUP($A39+8860000,'Growth Data'!$A:$Z,9,0)),0,VLOOKUP($A39+8860000,'Growth Data'!$A:$Z,9,0))","v":0},0,null,"NO",{"$f":"IF(ISERROR(VLOOKUP($A39+8860000,'Growth Data'!$A:$Z,5,0)),\"NO\",VLOOKUP($A39+8860000,'Growth Data'!$A:$Z,5,0))","v":"NO"},0,null,0,{"$f":"IF(ISERROR(VLOOKUP($A39+8860000,'Growth Data'!$A:$Z,10,0)),0,VLOOKUP($A39+8860000,'Growth Data'!$A:$Z,10,0))","v":0},0,null,0,{"$f":"IF(ISERROR(VLOOKUP($A39+8860000,'Growth Data'!$A:$Z,11,0)),0,VLOOKUP($A39+8860000,'Growth Data'!$A:$Z,11,0))","v":0},0]
[2167,"Ightham Primary School",null,"Ightham Primary School","Ightham Primary School",0,null,730092.36,730092.36341511074,0,null,0,0,0,null,730092.36,730092.36341511074,0,null,5263.93,5263.9296069999991,0,null,null,null,0,null,0,0,0,null,31642.75,31642.748079610705,0,null,2835.73,2835.7251920389294,0,null,0,null,0,null,0,null,0,null,0,null,0,null,0,null,0,null,0,null,0,null,0,null,0,null,"NO",{"$f":"IF(ISERROR(VLOOKUP($A40+8860000,'Growth Data'!$A:$F,3,0)),\"NO\",VLOOKUP($A40+8860000,'Growth Data'!$A:$F,3,0))","v":"NO"},0,null,0,{"$f":"IF(BM40=\"YES\",IF(ISERROR(VLOOKUP($A40+8860000,'Growth Data'!$A:$F,6,0)),0,VLOOKUP($A40+8860000,'Growth Data'!$A:$F,6,0)),0)","v":0},0,null,0,{"$f":"IF(ISERROR(VLOOKUP($A40+8860000,'Growth Data'!$A:$Z,7,0)),0,VLOOKUP($A40+8860000,'Growth Data'!$A:$Z,7,0))","v":0},0,null,"NO",{"$f":"IF(ISERROR(VLOOKUP($A40+8860000,'Growth Data'!$A:$F,4,0)),\"NO\",VLOOKUP($A40+8860000,'Growth Data'!$A:$F,4,0))","v":"NO"},0,null,0,{"$f":"IF(ISERROR(VLOOKUP($A40+8860000,'Growth Data'!$A:$Z,8,0)),0,VLOOKUP($A40+8860000,'Growth Data'!$A:$Z,8,0))","v":0},0,null,0,{"$f":"IF(ISERROR(VLOOKUP($A40+8860000,'Growth Data'!$A:$Z,9,0)),0,VLOOKUP($A40+8860000,'Growth Data'!$A:$Z,9,0))","v":0},0,null,"NO",{"$f":"IF(ISERROR(VLOOKUP($A40+8860000,'Growth Data'!$A:$Z,5,0)),\"NO\",VLOOKUP($A40+8860000,'Growth Data'!$A:$Z,5,0))","v":"NO"},0,null,0,{"$f":"IF(ISERROR(VLOOKUP($A40+8860000,'Growth Data'!$A:$Z,10,0)),0,VLOOKUP($A40+8860000,'Growth Data'!$A:$Z,10,0))","v":0},0,null,0,{"$f":"IF(ISERROR(VLOOKUP($A40+8860000,'Growth Data'!$A:$Z,11,0)),0,VLOOKUP($A40+8860000,'Growth Data'!$A:$Z,11,0))","v":0},0]
[2168,"Lenham Primary School",null,"Lenham Primary School","Lenham Primary School",0,null,750808.22,750808.22191519383,0,null,0,0,0,null,750808.22,750808.22191519383,0,null,5340.96,5340.9627231999993,0,null,null,null,0,null,0,0,0,null,40607.699999999997,40607.699910393727,0,null,1939.23,1939.2300089606269,0,null,0,null,0,null,0,null,0,null,0,null,0,null,0,null,0,null,0,null,0,null,0,null,0,null,"NO",{"$f":"IF(ISERROR(VLOOKUP($A41+8860000,'Growth Data'!$A:$F,3,0)),\"NO\",VLOOKUP($A41+8860000,'Growth Data'!$A:$F,3,0))","v":"NO"},0,null,0,{"$f":"IF(BM41=\"YES\",IF(ISERROR(VLOOKUP($A41+8860000,'Growth Data'!$A:$F,6,0)),0,VLOOKUP($A41+8860000,'Growth Data'!$A:$F,6,0)),0)","v":0},0,null,0,{"$f":"IF(ISERROR(VLOOKUP($A41+8860000,'Growth Data'!$A:$Z,7,0)),0,VLOOKUP($A41+8860000,'Growth Data'!$A:$Z,7,0))","v":0},0,null,"NO",{"$f":"IF(ISERROR(VLOOKUP($A41+8860000,'Growth Data'!$A:$F,4,0)),\"NO\",VLOOKUP($A41+8860000,'Growth Data'!$A:$F,4,0))","v":"NO"},0,null,0,{"$f":"IF(ISERROR(VLOOKUP($A41+8860000,'Growth Data'!$A:$Z,8,0)),0,VLOOKUP($A41+8860000,'Growth Data'!$A:$Z,8,0))","v":0},0,null,0,{"$f":"IF(ISERROR(VLOOKUP($A41+8860000,'Growth Data'!$A:$Z,9,0)),0,VLOOKUP($A41+8860000,'Growth Data'!$A:$Z,9,0))","v":0},0,null,"NO",{"$f":"IF(ISERROR(VLOOKUP($A41+8860000,'Growth Data'!$A:$Z,5,0)),\"NO\",VLOOKUP($A41+8860000,'Growth Data'!$A:$Z,5,0))","v":"NO"},0,null,0,{"$f":"IF(ISERROR(VLOOKUP($A41+8860000,'Growth Data'!$A:$Z,10,0)),0,VLOOKUP($A41+8860000,'Growth Data'!$A:$Z,10,0))","v":0},0,null,0,{"$f":"IF(ISERROR(VLOOKUP($A41+8860000,'Growth Data'!$A:$Z,11,0)),0,VLOOKUP($A41+8860000,'Growth Data'!$A:$Z,11,0))","v":0},0]
[2169,"Platts Heath Primary School",null,"Platts Heath Primary School","Platts Heath Primary School",0,null,360535.92,360535.92320473591,0,null,0,0,0,null,360535.92,360535.92320473591,0,null,1977.18,1977.1833157999999,0,null,null,null,0,null,0,0,0,null,29320.52,29320.516826035866,0,null,3067.95,3067.9483173964131,0,null,0,null,0,null,0,null,0,null,0,null,0,null,0,null,0,null,0,null,0,null,0,null,0,null,"NO",{"$f":"IF(ISERROR(VLOOKUP($A42+8860000,'Growth Data'!$A:$F,3,0)),\"NO\",VLOOKUP($A42+8860000,'Growth Data'!$A:$F,3,0))","v":"NO"},0,null,0,{"$f":"IF(BM42=\"YES\",IF(ISERROR(VLOOKUP($A42+8860000,'Growth Data'!$A:$F,6,0)),0,VLOOKUP($A42+8860000,'Growth Data'!$A:$F,6,0)),0)","v":0},0,null,0,{"$f":"IF(ISERROR(VLOOKUP($A42+8860000,'Growth Data'!$A:$Z,7,0)),0,VLOOKUP($A42+8860000,'Growth Data'!$A:$Z,7,0))","v":0},0,null,"NO",{"$f":"IF(ISERROR(VLOOKUP($A42+8860000,'Growth Data'!$A:$F,4,0)),\"NO\",VLOOKUP($A42+8860000,'Growth Data'!$A:$F,4,0))","v":"NO"},0,null,0,{"$f":"IF(ISERROR(VLOOKUP($A42+8860000,'Growth Data'!$A:$Z,8,0)),0,VLOOKUP($A42+8860000,'Growth Data'!$A:$Z,8,0))","v":0},0,null,0,{"$f":"IF(ISERROR(VLOOKUP($A42+8860000,'Growth Data'!$A:$Z,9,0)),0,VLOOKUP($A42+8860000,'Growth Data'!$A:$Z,9,0))","v":0},0,null,"NO",{"$f":"IF(ISERROR(VLOOKUP($A42+8860000,'Growth Data'!$A:$Z,5,0)),\"NO\",VLOOKUP($A42+8860000,'Growth Data'!$A:$Z,5,0))","v":"NO"},0,null,0,{"$f":"IF(ISERROR(VLOOKUP($A42+8860000,'Growth Data'!$A:$Z,10,0)),0,VLOOKUP($A42+8860000,'Growth Data'!$A:$Z,10,0))","v":0},0,null,0,{"$f":"IF(ISERROR(VLOOKUP($A42+8860000,'Growth Data'!$A:$Z,11,0)),0,VLOOKUP($A42+8860000,'Growth Data'!$A:$Z,11,0))","v":0},0]
[2171,"Brunswick House Primary School",null,"Brunswick House Primary School","Brunswick House Primary School",0,null,1460327.08,1460327.0782992519,0,null,0,0,0,null,1460327.08,1460327.0782992519,0,null,10784.64,10784.636268,0,null,null,null,0,null,0,0,0,null,113820.38,113820.3817972515,0,null,0,0,0,null,0,null,0,null,0,null,0,null,0,null,0,null,0,null,0,null,0,null,0,null,0,null,0,null,"NO",{"$f":"IF(ISERROR(VLOOKUP($A43+8860000,'Growth Data'!$A:$F,3,0)),\"NO\",VLOOKUP($A43+8860000,'Growth Data'!$A:$F,3,0))","v":"NO"},0,null,0,{"$f":"IF(BM43=\"YES\",IF(ISERROR(VLOOKUP($A43+8860000,'Growth Data'!$A:$F,6,0)),0,VLOOKUP($A43+8860000,'Growth Data'!$A:$F,6,0)),0)","v":0},0,null,0,{"$f":"IF(ISERROR(VLOOKUP($A43+8860000,'Growth Data'!$A:$Z,7,0)),0,VLOOKUP($A43+8860000,'Growth Data'!$A:$Z,7,0))","v":0},0,null,"NO",{"$f":"IF(ISERROR(VLOOKUP($A43+8860000,'Growth Data'!$A:$F,4,0)),\"NO\",VLOOKUP($A43+8860000,'Growth Data'!$A:$F,4,0))","v":"NO"},0,null,0,{"$f":"IF(ISERROR(VLOOKUP($A43+8860000,'Growth Data'!$A:$Z,8,0)),0,VLOOKUP($A43+8860000,'Growth Data'!$A:$Z,8,0))","v":0},0,null,0,{"$f":"IF(ISERROR(VLOOKUP($A43+8860000,'Growth Data'!$A:$Z,9,0)),0,VLOOKUP($A43+8860000,'Growth Data'!$A:$Z,9,0))","v":0},0,null,"NO",{"$f":"IF(ISERROR(VLOOKUP($A43+8860000,'Growth Data'!$A:$Z,5,0)),\"NO\",VLOOKUP($A43+8860000,'Growth Data'!$A:$Z,5,0))","v":"NO"},0,null,0,{"$f":"IF(ISERROR(VLOOKUP($A43+8860000,'Growth Data'!$A:$Z,10,0)),0,VLOOKUP($A43+8860000,'Growth Data'!$A:$Z,10,0))","v":0},0,null,0,{"$f":"IF(ISERROR(VLOOKUP($A43+8860000,'Growth Data'!$A:$Z,11,0)),0,VLOOKUP($A43+8860000,'Growth Data'!$A:$Z,11,0))","v":0},0]
[2175,"North Borough Junior School",null,"North Borough Junior School","North Borough Junior School",0,null,1208529.83,1208529.8264648844,0,null,0,0,0,null,1208529.83,1208529.8264648844,0,null,8447.9699999999993,8447.9650765999995,0,null,null,null,0,null,0,0,0,null,155419.19,155419.18546498433,0,null,0,0,0,null,0,null,0,null,0,null,0,null,0,null,0,null,0,null,0,null,0,null,0,null,0,null,0,null,"YES",{"$f":"IF(ISERROR(VLOOKUP($A44+8860000,'Growth Data'!$A:$F,3,0)),\"NO\",VLOOKUP($A44+8860000,'Growth Data'!$A:$F,3,0))","v":"YES"},0,null,75,{"$f":"IF(BM44=\"YES\",IF(ISERROR(VLOOKUP($A44+8860000,'Growth Data'!$A:$F,6,0)),0,VLOOKUP($A44+8860000,'Growth Data'!$A:$F,6,0)),0)","v":75},0,null,90,{"$f":"IF(ISERROR(VLOOKUP($A44+8860000,'Growth Data'!$A:$Z,7,0)),0,VLOOKUP($A44+8860000,'Growth Data'!$A:$Z,7,0))","v":90},0,null,"NO",{"$f":"IF(ISERROR(VLOOKUP($A44+8860000,'Growth Data'!$A:$F,4,0)),\"NO\",VLOOKUP($A44+8860000,'Growth Data'!$A:$F,4,0))","v":"NO"},0,null,0,{"$f":"IF(ISERROR(VLOOKUP($A44+8860000,'Growth Data'!$A:$Z,8,0)),0,VLOOKUP($A44+8860000,'Growth Data'!$A:$Z,8,0))","v":0},0,null,0,{"$f":"IF(ISERROR(VLOOKUP($A44+8860000,'Growth Data'!$A:$Z,9,0)),0,VLOOKUP($A44+8860000,'Growth Data'!$A:$Z,9,0))","v":0},0,null,"NO",{"$f":"IF(ISERROR(VLOOKUP($A44+8860000,'Growth Data'!$A:$Z,5,0)),\"NO\",VLOOKUP($A44+8860000,'Growth Data'!$A:$Z,5,0))","v":"NO"},0,null,0,{"$f":"IF(ISERROR(VLOOKUP($A44+8860000,'Growth Data'!$A:$Z,10,0)),0,VLOOKUP($A44+8860000,'Growth Data'!$A:$Z,10,0))","v":0},0,null,0,{"$f":"IF(ISERROR(VLOOKUP($A44+8860000,'Growth Data'!$A:$Z,11,0)),0,VLOOKUP($A44+8860000,'Growth Data'!$A:$Z,11,0))","v":0},0]
[2176,"Park Way Primary School",null,"Park Way Primary School","Park Way Primary School",0,null,1190986.1000000001,1190986.0983592605,0,null,0,0,0,null,1190986.1000000001,1190986.0983592605,0,null,8011.44,8011.4440848000004,0,null,null,null,0,null,0,0,0,null,172310.38,172310.38435206038,0,null,0,0,0,null,0,null,0,null,0,null,0,null,0,null,0,null,0,null,0,null,0,null,0,null,0,null,0,null,"NO",{"$f":"IF(ISERROR(VLOOKUP($A45+8860000,'Growth Data'!$A:$F,3,0)),\"NO\",VLOOKUP($A45+8860000,'Growth Data'!$A:$F,3,0))","v":"NO"},0,null,0,{"$f":"IF(BM45=\"YES\",IF(ISERROR(VLOOKUP($A45+8860000,'Growth Data'!$A:$F,6,0)),0,VLOOKUP($A45+8860000,'Growth Data'!$A:$F,6,0)),0)","v":0},0,null,0,{"$f":"IF(ISERROR(VLOOKUP($A45+8860000,'Growth Data'!$A:$Z,7,0)),0,VLOOKUP($A45+8860000,'Growth Data'!$A:$Z,7,0))","v":0},0,null,"NO",{"$f":"IF(ISERROR(VLOOKUP($A45+8860000,'Growth Data'!$A:$F,4,0)),\"NO\",VLOOKUP($A45+8860000,'Growth Data'!$A:$F,4,0))","v":"NO"},0,null,0,{"$f":"IF(ISERROR(VLOOKUP($A45+8860000,'Growth Data'!$A:$Z,8,0)),0,VLOOKUP($A45+8860000,'Growth Data'!$A:$Z,8,0))","v":0},0,null,0,{"$f":"IF(ISERROR(VLOOKUP($A45+8860000,'Growth Data'!$A:$Z,9,0)),0,VLOOKUP($A45+8860000,'Growth Data'!$A:$Z,9,0))","v":0},0,null,"NO",{"$f":"IF(ISERROR(VLOOKUP($A45+8860000,'Growth Data'!$A:$Z,5,0)),\"NO\",VLOOKUP($A45+8860000,'Growth Data'!$A:$Z,5,0))","v":"NO"},0,null,0,{"$f":"IF(ISERROR(VLOOKUP($A45+8860000,'Growth Data'!$A:$Z,10,0)),0,VLOOKUP($A45+8860000,'Growth Data'!$A:$Z,10,0))","v":0},0,null,0,{"$f":"IF(ISERROR(VLOOKUP($A45+8860000,'Growth Data'!$A:$Z,11,0)),0,VLOOKUP($A45+8860000,'Growth Data'!$A:$Z,11,0))","v":0},0]
[2183,"Marden Primary School",null,"Marden Primary School","Marden Primary School",0,null,970639.17,970639.16622589529,0,null,0,0,0,null,970639.17,970639.16622589529,0,null,6599.17,6599.1702877999987,0,null,null,null,0,null,0,0,0,null,107079.67,107079.66848919529,0,null,0,0,0,null,0,null,0,null,0,null,0,null,0,null,0,null,0,null,0,null,0,null,0,null,0,null,0,null,"NO",{"$f":"IF(ISERROR(VLOOKUP($A46+8860000,'Growth Data'!$A:$F,3,0)),\"NO\",VLOOKUP($A46+8860000,'Growth Data'!$A:$F,3,0))","v":"NO"},0,null,0,{"$f":"IF(BM46=\"YES\",IF(ISERROR(VLOOKUP($A46+8860000,'Growth Data'!$A:$F,6,0)),0,VLOOKUP($A46+8860000,'Growth Data'!$A:$F,6,0)),0)","v":0},0,null,0,{"$f":"IF(ISERROR(VLOOKUP($A46+8860000,'Growth Data'!$A:$Z,7,0)),0,VLOOKUP($A46+8860000,'Growth Data'!$A:$Z,7,0))","v":0},0,null,"NO",{"$f":"IF(ISERROR(VLOOKUP($A46+8860000,'Growth Data'!$A:$F,4,0)),\"NO\",VLOOKUP($A46+8860000,'Growth Data'!$A:$F,4,0))","v":"NO"},0,null,0,{"$f":"IF(ISERROR(VLOOKUP($A46+8860000,'Growth Data'!$A:$Z,8,0)),0,VLOOKUP($A46+8860000,'Growth Data'!$A:$Z,8,0))","v":0},0,null,0,{"$f":"IF(ISERROR(VLOOKUP($A46+8860000,'Growth Data'!$A:$Z,9,0)),0,VLOOKUP($A46+8860000,'Growth Data'!$A:$Z,9,0))","v":0},0,null,"NO",{"$f":"IF(ISERROR(VLOOKUP($A46+8860000,'Growth Data'!$A:$Z,5,0)),\"NO\",VLOOKUP($A46+8860000,'Growth Data'!$A:$Z,5,0))","v":"NO"},0,null,0,{"$f":"IF(ISERROR(VLOOKUP($A46+8860000,'Growth Data'!$A:$Z,10,0)),0,VLOOKUP($A46+8860000,'Growth Data'!$A:$Z,10,0))","v":0},0,null,0,{"$f":"IF(ISERROR(VLOOKUP($A46+8860000,'Growth Data'!$A:$Z,11,0)),0,VLOOKUP($A46+8860000,'Growth Data'!$A:$Z,11,0))","v":0},0]
[2185,"Mereworth Community Primary School",null,"Mereworth Community Primary School","Mereworth Community Primary School",0,null,780483.92,780483.91834540106,0,null,0,0,0,null,780483.92,780483.91834540106,0,null,5469.35,5469.3512501999994,0,null,null,null,0,null,0,0,0,null,47808.06,47808.058425101211,0,null,1219.19,1219.1941574898783,0,null,0,null,0,null,0,null,0,null,0,null,0,null,0,null,0,null,0,null,0,null,0,null,0,null,"NO",{"$f":"IF(ISERROR(VLOOKUP($A47+8860000,'Growth Data'!$A:$F,3,0)),\"NO\",VLOOKUP($A47+8860000,'Growth Data'!$A:$F,3,0))","v":"NO"},0,null,0,{"$f":"IF(BM47=\"YES\",IF(ISERROR(VLOOKUP($A47+8860000,'Growth Data'!$A:$F,6,0)),0,VLOOKUP($A47+8860000,'Growth Data'!$A:$F,6,0)),0)","v":0},0,null,0,{"$f":"IF(ISERROR(VLOOKUP($A47+8860000,'Growth Data'!$A:$Z,7,0)),0,VLOOKUP($A47+8860000,'Growth Data'!$A:$Z,7,0))","v":0},0,null,"NO",{"$f":"IF(ISERROR(VLOOKUP($A47+8860000,'Growth Data'!$A:$F,4,0)),\"NO\",VLOOKUP($A47+8860000,'Growth Data'!$A:$F,4,0))","v":"NO"},0,null,0,{"$f":"IF(ISERROR(VLOOKUP($A47+8860000,'Growth Data'!$A:$Z,8,0)),0,VLOOKUP($A47+8860000,'Growth Data'!$A:$Z,8,0))","v":0},0,null,0,{"$f":"IF(ISERROR(VLOOKUP($A47+8860000,'Growth Data'!$A:$Z,9,0)),0,VLOOKUP($A47+8860000,'Growth Data'!$A:$Z,9,0))","v":0},0,null,"NO",{"$f":"IF(ISERROR(VLOOKUP($A47+8860000,'Growth Data'!$A:$Z,5,0)),\"NO\",VLOOKUP($A47+8860000,'Growth Data'!$A:$Z,5,0))","v":"NO"},0,null,0,{"$f":"IF(ISERROR(VLOOKUP($A47+8860000,'Growth Data'!$A:$Z,10,0)),0,VLOOKUP($A47+8860000,'Growth Data'!$A:$Z,10,0))","v":0},0,null,0,{"$f":"IF(ISERROR(VLOOKUP($A47+8860000,'Growth Data'!$A:$Z,11,0)),0,VLOOKUP($A47+8860000,'Growth Data'!$A:$Z,11,0))","v":0},0]
[2187,"Offham Primary School",null,"Offham Primary School","Offham Primary School",0,null,745671.3,745671.30260763783,0,null,0,0,0,null,745671.3,745671.30260763783,0,null,5340.96,5340.9627231999993,0,null,null,null,0,null,0,0,0,null,36695.03,36695.031002837779,0,null,2330.5,2330.4968997162218,0,null,0,null,0,null,0,null,0,null,0,null,0,null,0,null,0,null,0,null,0,null,0,null,0,null,"NO",{"$f":"IF(ISERROR(VLOOKUP($A48+8860000,'Growth Data'!$A:$F,3,0)),\"NO\",VLOOKUP($A48+8860000,'Growth Data'!$A:$F,3,0))","v":"NO"},0,null,0,{"$f":"IF(BM48=\"YES\",IF(ISERROR(VLOOKUP($A48+8860000,'Growth Data'!$A:$F,6,0)),0,VLOOKUP($A48+8860000,'Growth Data'!$A:$F,6,0)),0)","v":0},0,null,0,{"$f":"IF(ISERROR(VLOOKUP($A48+8860000,'Growth Data'!$A:$Z,7,0)),0,VLOOKUP($A48+8860000,'Growth Data'!$A:$Z,7,0))","v":0},0,null,"NO",{"$f":"IF(ISERROR(VLOOKUP($A48+8860000,'Growth Data'!$A:$F,4,0)),\"NO\",VLOOKUP($A48+8860000,'Growth Data'!$A:$F,4,0))","v":"NO"},0,null,0,{"$f":"IF(ISERROR(VLOOKUP($A48+8860000,'Growth Data'!$A:$Z,8,0)),0,VLOOKUP($A48+8860000,'Growth Data'!$A:$Z,8,0))","v":0},0,null,0,{"$f":"IF(ISERROR(VLOOKUP($A48+8860000,'Growth Data'!$A:$Z,9,0)),0,VLOOKUP($A48+8860000,'Growth Data'!$A:$Z,9,0))","v":0},0,null,"NO",{"$f":"IF(ISERROR(VLOOKUP($A48+8860000,'Growth Data'!$A:$Z,5,0)),\"NO\",VLOOKUP($A48+8860000,'Growth Data'!$A:$Z,5,0))","v":"NO"},0,null,0,{"$f":"IF(ISERROR(VLOOKUP($A48+8860000,'Growth Data'!$A:$Z,10,0)),0,VLOOKUP($A48+8860000,'Growth Data'!$A:$Z,10,0))","v":0},0,null,0,{"$f":"IF(ISERROR(VLOOKUP($A48+8860000,'Growth Data'!$A:$Z,11,0)),0,VLOOKUP($A48+8860000,'Growth Data'!$A:$Z,11,0))","v":0},0]
[2188,"Plaxtol Primary School",null,"Plaxtol Primary School","Plaxtol Primary School",0,null,404143.71,404143.70959629479,0,null,0,0,0,null,404143.71,404143.70959629479,0,null,2388.0300000000002,2388.0266022000001,0,null,null,null,0,null,0,0,0,null,20008.650000000001,20008.654447994806,0,null,3999.13,3999.1345552005196,0,null,0,null,0,null,0,null,0,null,0,null,0,null,0,null,0,null,0,null,0,null,0,null,0,null,"NO",{"$f":"IF(ISERROR(VLOOKUP($A49+8860000,'Growth Data'!$A:$F,3,0)),\"NO\",VLOOKUP($A49+8860000,'Growth Data'!$A:$F,3,0))","v":"NO"},0,null,0,{"$f":"IF(BM49=\"YES\",IF(ISERROR(VLOOKUP($A49+8860000,'Growth Data'!$A:$F,6,0)),0,VLOOKUP($A49+8860000,'Growth Data'!$A:$F,6,0)),0)","v":0},0,null,0,{"$f":"IF(ISERROR(VLOOKUP($A49+8860000,'Growth Data'!$A:$Z,7,0)),0,VLOOKUP($A49+8860000,'Growth Data'!$A:$Z,7,0))","v":0},0,null,"NO",{"$f":"IF(ISERROR(VLOOKUP($A49+8860000,'Growth Data'!$A:$F,4,0)),\"NO\",VLOOKUP($A49+8860000,'Growth Data'!$A:$F,4,0))","v":"NO"},0,null,0,{"$f":"IF(ISERROR(VLOOKUP($A49+8860000,'Growth Data'!$A:$Z,8,0)),0,VLOOKUP($A49+8860000,'Growth Data'!$A:$Z,8,0))","v":0},0,null,0,{"$f":"IF(ISERROR(VLOOKUP($A49+8860000,'Growth Data'!$A:$Z,9,0)),0,VLOOKUP($A49+8860000,'Growth Data'!$A:$Z,9,0))","v":0},0,null,"NO",{"$f":"IF(ISERROR(VLOOKUP($A49+8860000,'Growth Data'!$A:$Z,5,0)),\"NO\",VLOOKUP($A49+8860000,'Growth Data'!$A:$Z,5,0))","v":"NO"},0,null,0,{"$f":"IF(ISERROR(VLOOKUP($A49+8860000,'Growth Data'!$A:$Z,10,0)),0,VLOOKUP($A49+8860000,'Growth Data'!$A:$Z,10,0))","v":0},0,null,0,{"$f":"IF(ISERROR(VLOOKUP($A49+8860000,'Growth Data'!$A:$Z,11,0)),0,VLOOKUP($A49+8860000,'Growth Data'!$A:$Z,11,0))","v":0},0]
[2189,"Ryarsh Primary School",null,"Ryarsh Primary School","Ryarsh Primary School",0,null,745758.07,745758.06638711668,0,null,0,0,0,null,745758.07,745758.06638711668,0,null,5392.32,5392.3181340000001,0,null,null,null,0,null,0,0,0,null,36519.42,36519.416736116596,0,null,2348.06,2348.05832638834,0,null,0,null,0,null,0,null,0,null,0,null,0,null,0,null,0,null,0,null,0,null,0,null,0,null,"NO",{"$f":"IF(ISERROR(VLOOKUP($A50+8860000,'Growth Data'!$A:$F,3,0)),\"NO\",VLOOKUP($A50+8860000,'Growth Data'!$A:$F,3,0))","v":"NO"},0,null,0,{"$f":"IF(BM50=\"YES\",IF(ISERROR(VLOOKUP($A50+8860000,'Growth Data'!$A:$F,6,0)),0,VLOOKUP($A50+8860000,'Growth Data'!$A:$F,6,0)),0)","v":0},0,null,0,{"$f":"IF(ISERROR(VLOOKUP($A50+8860000,'Growth Data'!$A:$Z,7,0)),0,VLOOKUP($A50+8860000,'Growth Data'!$A:$Z,7,0))","v":0},0,null,"NO",{"$f":"IF(ISERROR(VLOOKUP($A50+8860000,'Growth Data'!$A:$F,4,0)),\"NO\",VLOOKUP($A50+8860000,'Growth Data'!$A:$F,4,0))","v":"NO"},0,null,0,{"$f":"IF(ISERROR(VLOOKUP($A50+8860000,'Growth Data'!$A:$Z,8,0)),0,VLOOKUP($A50+8860000,'Growth Data'!$A:$Z,8,0))","v":0},0,null,0,{"$f":"IF(ISERROR(VLOOKUP($A50+8860000,'Growth Data'!$A:$Z,9,0)),0,VLOOKUP($A50+8860000,'Growth Data'!$A:$Z,9,0))","v":0},0,null,"NO",{"$f":"IF(ISERROR(VLOOKUP($A50+8860000,'Growth Data'!$A:$Z,5,0)),\"NO\",VLOOKUP($A50+8860000,'Growth Data'!$A:$Z,5,0))","v":"NO"},0,null,0,{"$f":"IF(ISERROR(VLOOKUP($A50+8860000,'Growth Data'!$A:$Z,10,0)),0,VLOOKUP($A50+8860000,'Growth Data'!$A:$Z,10,0))","v":0},0,null,0,{"$f":"IF(ISERROR(VLOOKUP($A50+8860000,'Growth Data'!$A:$Z,11,0)),0,VLOOKUP($A50+8860000,'Growth Data'!$A:$Z,11,0))","v":0},0]
[2190,"Shipbourne School",null,"Shipbourne School","Shipbourne School",0,null,281211.05,281211.04895936965,0,null,0,0,0,null,281211.05,281211.04895936965,0,null,1309.56,1309.5629753999999,0,null,null,null,0,null,0,0,0,null,19085.57,19085.574381269667,0,null,4091.44,4091.4425618730329,0,null,0,null,0,null,0,null,0,null,0,null,0,null,0,null,0,null,0,null,0,null,0,null,0,null,"NO",{"$f":"IF(ISERROR(VLOOKUP($A51+8860000,'Growth Data'!$A:$F,3,0)),\"NO\",VLOOKUP($A51+8860000,'Growth Data'!$A:$F,3,0))","v":"NO"},0,null,0,{"$f":"IF(BM51=\"YES\",IF(ISERROR(VLOOKUP($A51+8860000,'Growth Data'!$A:$F,6,0)),0,VLOOKUP($A51+8860000,'Growth Data'!$A:$F,6,0)),0)","v":0},0,null,0,{"$f":"IF(ISERROR(VLOOKUP($A51+8860000,'Growth Data'!$A:$Z,7,0)),0,VLOOKUP($A51+8860000,'Growth Data'!$A:$Z,7,0))","v":0},0,null,"NO",{"$f":"IF(ISERROR(VLOOKUP($A51+8860000,'Growth Data'!$A:$F,4,0)),\"NO\",VLOOKUP($A51+8860000,'Growth Data'!$A:$F,4,0))","v":"NO"},0,null,0,{"$f":"IF(ISERROR(VLOOKUP($A51+8860000,'Growth Data'!$A:$Z,8,0)),0,VLOOKUP($A51+8860000,'Growth Data'!$A:$Z,8,0))","v":0},0,null,0,{"$f":"IF(ISERROR(VLOOKUP($A51+8860000,'Growth Data'!$A:$Z,9,0)),0,VLOOKUP($A51+8860000,'Growth Data'!$A:$Z,9,0))","v":0},0,null,"NO",{"$f":"IF(ISERROR(VLOOKUP($A51+8860000,'Growth Data'!$A:$Z,5,0)),\"NO\",VLOOKUP($A51+8860000,'Growth Data'!$A:$Z,5,0))","v":"NO"},0,null,0,{"$f":"IF(ISERROR(VLOOKUP($A51+8860000,'Growth Data'!$A:$Z,10,0)),0,VLOOKUP($A51+8860000,'Growth Data'!$A:$Z,10,0))","v":0},0,null,0,{"$f":"IF(ISERROR(VLOOKUP($A51+8860000,'Growth Data'!$A:$Z,11,0)),0,VLOOKUP($A51+8860000,'Growth Data'!$A:$Z,11,0))","v":0},0]
[2191,"St Katherine's School",null,"St Katherine's School","St Katherine's School",0,null,1999633.17,1999633.1710758072,0,null,0,0,0,null,1999633.17,1999633.1710758072,0,null,14893.07,14893.069131999997,0,null,null,null,0,null,4.9000000000000004,4.9000000000000004,0,null,199181.13,199181.12767780738,0,null,0,0,0,null,0,null,0,null,0,null,0,null,0,null,0,null,0,null,0,null,0,null,0,null,0,null,0,null,"NO",{"$f":"IF(ISERROR(VLOOKUP($A52+8860000,'Growth Data'!$A:$F,3,0)),\"NO\",VLOOKUP($A52+8860000,'Growth Data'!$A:$F,3,0))","v":"NO"},0,null,0,{"$f":"IF(BM52=\"YES\",IF(ISERROR(VLOOKUP($A52+8860000,'Growth Data'!$A:$F,6,0)),0,VLOOKUP($A52+8860000,'Growth Data'!$A:$F,6,0)),0)","v":0},0,null,0,{"$f":"IF(ISERROR(VLOOKUP($A52+8860000,'Growth Data'!$A:$Z,7,0)),0,VLOOKUP($A52+8860000,'Growth Data'!$A:$Z,7,0))","v":0},0,null,"NO",{"$f":"IF(ISERROR(VLOOKUP($A52+8860000,'Growth Data'!$A:$F,4,0)),\"NO\",VLOOKUP($A52+8860000,'Growth Data'!$A:$F,4,0))","v":"NO"},0,null,0,{"$f":"IF(ISERROR(VLOOKUP($A52+8860000,'Growth Data'!$A:$Z,8,0)),0,VLOOKUP($A52+8860000,'Growth Data'!$A:$Z,8,0))","v":0},0,null,0,{"$f":"IF(ISERROR(VLOOKUP($A52+8860000,'Growth Data'!$A:$Z,9,0)),0,VLOOKUP($A52+8860000,'Growth Data'!$A:$Z,9,0))","v":0},0,null,"NO",{"$f":"IF(ISERROR(VLOOKUP($A52+8860000,'Growth Data'!$A:$Z,5,0)),\"NO\",VLOOKUP($A52+8860000,'Growth Data'!$A:$Z,5,0))","v":"NO"},0,null,0,{"$f":"IF(ISERROR(VLOOKUP($A52+8860000,'Growth Data'!$A:$Z,10,0)),0,VLOOKUP($A52+8860000,'Growth Data'!$A:$Z,10,0))","v":0},0,null,0,{"$f":"IF(ISERROR(VLOOKUP($A52+8860000,'Growth Data'!$A:$Z,11,0)),0,VLOOKUP($A52+8860000,'Growth Data'!$A:$Z,11,0))","v":0},0]
[2192,"Staplehurst School",null,"Staplehurst School","Staplehurst School",0,null,1430811.83,1430811.8290472331,0,null,0,0,0,null,1430811.83,1430811.8290472331,0,null,10938.7,10938.702500399999,0,null,null,null,0,null,0,0,0,null,93851.91,93851.909206633281,0,null,0,0,0,null,0,null,0,null,0,null,0,null,0,null,0,null,0,null,0,null,0,null,0,null,0,null,0,null,"NO",{"$f":"IF(ISERROR(VLOOKUP($A53+8860000,'Growth Data'!$A:$F,3,0)),\"NO\",VLOOKUP($A53+8860000,'Growth Data'!$A:$F,3,0))","v":"NO"},0,null,0,{"$f":"IF(BM53=\"YES\",IF(ISERROR(VLOOKUP($A53+8860000,'Growth Data'!$A:$F,6,0)),0,VLOOKUP($A53+8860000,'Growth Data'!$A:$F,6,0)),0)","v":0},0,null,0,{"$f":"IF(ISERROR(VLOOKUP($A53+8860000,'Growth Data'!$A:$Z,7,0)),0,VLOOKUP($A53+8860000,'Growth Data'!$A:$Z,7,0))","v":0},0,null,"NO",{"$f":"IF(ISERROR(VLOOKUP($A53+8860000,'Growth Data'!$A:$F,4,0)),\"NO\",VLOOKUP($A53+8860000,'Growth Data'!$A:$F,4,0))","v":"NO"},0,null,0,{"$f":"IF(ISERROR(VLOOKUP($A53+8860000,'Growth Data'!$A:$Z,8,0)),0,VLOOKUP($A53+8860000,'Growth Data'!$A:$Z,8,0))","v":0},0,null,0,{"$f":"IF(ISERROR(VLOOKUP($A53+8860000,'Growth Data'!$A:$Z,9,0)),0,VLOOKUP($A53+8860000,'Growth Data'!$A:$Z,9,0))","v":0},0,null,"NO",{"$f":"IF(ISERROR(VLOOKUP($A53+8860000,'Growth Data'!$A:$Z,5,0)),\"NO\",VLOOKUP($A53+8860000,'Growth Data'!$A:$Z,5,0))","v":"NO"},0,null,0,{"$f":"IF(ISERROR(VLOOKUP($A53+8860000,'Growth Data'!$A:$Z,10,0)),0,VLOOKUP($A53+8860000,'Growth Data'!$A:$Z,10,0))","v":0},0,null,0,{"$f":"IF(ISERROR(VLOOKUP($A53+8860000,'Growth Data'!$A:$Z,11,0)),0,VLOOKUP($A53+8860000,'Growth Data'!$A:$Z,11,0))","v":0},0]
[2193,"Sutton Valence Primary School",null,"Sutton Valence Primary School","Sutton Valence Primary School",0,null,666320.85,666320.84640233754,0,null,0,0,0,null,666320.85,666320.84640233754,0,null,4467.92,4467.9207396000002,0,null,null,null,0,null,0,0,0,null,48765.52,48765.517982937454,0,null,1123.45,1123.4482017062546,0,null,0,null,0,null,0,null,0,null,0,null,0,null,0,null,0,null,0,null,0,null,0,null,0,null,"NO",{"$f":"IF(ISERROR(VLOOKUP($A54+8860000,'Growth Data'!$A:$F,3,0)),\"NO\",VLOOKUP($A54+8860000,'Growth Data'!$A:$F,3,0))","v":"NO"},0,null,0,{"$f":"IF(BM54=\"YES\",IF(ISERROR(VLOOKUP($A54+8860000,'Growth Data'!$A:$F,6,0)),0,VLOOKUP($A54+8860000,'Growth Data'!$A:$F,6,0)),0)","v":0},0,null,0,{"$f":"IF(ISERROR(VLOOKUP($A54+8860000,'Growth Data'!$A:$Z,7,0)),0,VLOOKUP($A54+8860000,'Growth Data'!$A:$Z,7,0))","v":0},0,null,"NO",{"$f":"IF(ISERROR(VLOOKUP($A54+8860000,'Growth Data'!$A:$F,4,0)),\"NO\",VLOOKUP($A54+8860000,'Growth Data'!$A:$F,4,0))","v":"NO"},0,null,0,{"$f":"IF(ISERROR(VLOOKUP($A54+8860000,'Growth Data'!$A:$Z,8,0)),0,VLOOKUP($A54+8860000,'Growth Data'!$A:$Z,8,0))","v":0},0,null,0,{"$f":"IF(ISERROR(VLOOKUP($A54+8860000,'Growth Data'!$A:$Z,9,0)),0,VLOOKUP($A54+8860000,'Growth Data'!$A:$Z,9,0))","v":0},0,null,"NO",{"$f":"IF(ISERROR(VLOOKUP($A54+8860000,'Growth Data'!$A:$Z,5,0)),\"NO\",VLOOKUP($A54+8860000,'Growth Data'!$A:$Z,5,0))","v":"NO"},0,null,0,{"$f":"IF(ISERROR(VLOOKUP($A54+8860000,'Growth Data'!$A:$Z,10,0)),0,VLOOKUP($A54+8860000,'Growth Data'!$A:$Z,10,0))","v":0},0,null,0,{"$f":"IF(ISERROR(VLOOKUP($A54+8860000,'Growth Data'!$A:$Z,11,0)),0,VLOOKUP($A54+8860000,'Growth Data'!$A:$Z,11,0))","v":0},0]
[2226,"Eastling Primary School",null,"Eastling Primary School","Eastling Primary School",0,null,463322.72,463322.71660593746,0,null,0,0,0,null,463322.72,463322.71660593746,0,null,2696.16,2696.1590670000001,0,null,null,null,0,null,0,0,0,null,34053.54,34053.536795390741,0,null,2594.65,2594.6463204609258,0,null,0,null,0,null,0,null,0,null,0,null,0,null,0,null,0,null,0,null,0,null,0,null,0,null,"NO",{"$f":"IF(ISERROR(VLOOKUP($A55+8860000,'Growth Data'!$A:$F,3,0)),\"NO\",VLOOKUP($A55+8860000,'Growth Data'!$A:$F,3,0))","v":"NO"},0,null,0,{"$f":"IF(BM55=\"YES\",IF(ISERROR(VLOOKUP($A55+8860000,'Growth Data'!$A:$F,6,0)),0,VLOOKUP($A55+8860000,'Growth Data'!$A:$F,6,0)),0)","v":0},0,null,0,{"$f":"IF(ISERROR(VLOOKUP($A55+8860000,'Growth Data'!$A:$Z,7,0)),0,VLOOKUP($A55+8860000,'Growth Data'!$A:$Z,7,0))","v":0},0,null,"NO",{"$f":"IF(ISERROR(VLOOKUP($A55+8860000,'Growth Data'!$A:$F,4,0)),\"NO\",VLOOKUP($A55+8860000,'Growth Data'!$A:$F,4,0))","v":"NO"},0,null,0,{"$f":"IF(ISERROR(VLOOKUP($A55+8860000,'Growth Data'!$A:$Z,8,0)),0,VLOOKUP($A55+8860000,'Growth Data'!$A:$Z,8,0))","v":0},0,null,0,{"$f":"IF(ISERROR(VLOOKUP($A55+8860000,'Growth Data'!$A:$Z,9,0)),0,VLOOKUP($A55+8860000,'Growth Data'!$A:$Z,9,0))","v":0},0,null,"NO",{"$f":"IF(ISERROR(VLOOKUP($A55+8860000,'Growth Data'!$A:$Z,5,0)),\"NO\",VLOOKUP($A55+8860000,'Growth Data'!$A:$Z,5,0))","v":"NO"},0,null,0,{"$f":"IF(ISERROR(VLOOKUP($A55+8860000,'Growth Data'!$A:$Z,10,0)),0,VLOOKUP($A55+8860000,'Growth Data'!$A:$Z,10,0))","v":0},0,null,0,{"$f":"IF(ISERROR(VLOOKUP($A55+8860000,'Growth Data'!$A:$Z,11,0)),0,VLOOKUP($A55+8860000,'Growth Data'!$A:$Z,11,0))","v":0},0]
[2227,"Ethelbert Road Primary School",null,"Ethelbert Road Primary School","Ethelbert Road Primary School",0,null,761922.98,761922.98342744401,0,null,0,0,0,null,761922.98,761922.98342744401,0,null,5392.32,5392.3181340000001,0,null,null,null,0,null,0,0,0,null,55366.21,55366.208576443911,0,null,463.38,463.37914235560856,0,null,0,null,0,null,0,null,0,null,0,null,0,null,0,null,0,null,0,null,0,null,0,null,0,null,"NO",{"$f":"IF(ISERROR(VLOOKUP($A56+8860000,'Growth Data'!$A:$F,3,0)),\"NO\",VLOOKUP($A56+8860000,'Growth Data'!$A:$F,3,0))","v":"NO"},0,null,0,{"$f":"IF(BM56=\"YES\",IF(ISERROR(VLOOKUP($A56+8860000,'Growth Data'!$A:$F,6,0)),0,VLOOKUP($A56+8860000,'Growth Data'!$A:$F,6,0)),0)","v":0},0,null,0,{"$f":"IF(ISERROR(VLOOKUP($A56+8860000,'Growth Data'!$A:$Z,7,0)),0,VLOOKUP($A56+8860000,'Growth Data'!$A:$Z,7,0))","v":0},0,null,"NO",{"$f":"IF(ISERROR(VLOOKUP($A56+8860000,'Growth Data'!$A:$F,4,0)),\"NO\",VLOOKUP($A56+8860000,'Growth Data'!$A:$F,4,0))","v":"NO"},0,null,0,{"$f":"IF(ISERROR(VLOOKUP($A56+8860000,'Growth Data'!$A:$Z,8,0)),0,VLOOKUP($A56+8860000,'Growth Data'!$A:$Z,8,0))","v":0},0,null,0,{"$f":"IF(ISERROR(VLOOKUP($A56+8860000,'Growth Data'!$A:$Z,9,0)),0,VLOOKUP($A56+8860000,'Growth Data'!$A:$Z,9,0))","v":0},0,null,"NO",{"$f":"IF(ISERROR(VLOOKUP($A56+8860000,'Growth Data'!$A:$Z,5,0)),\"NO\",VLOOKUP($A56+8860000,'Growth Data'!$A:$Z,5,0))","v":"NO"},0,null,0,{"$f":"IF(ISERROR(VLOOKUP($A56+8860000,'Growth Data'!$A:$Z,10,0)),0,VLOOKUP($A56+8860000,'Growth Data'!$A:$Z,10,0))","v":0},0,null,0,{"$f":"IF(ISERROR(VLOOKUP($A56+8860000,'Growth Data'!$A:$Z,11,0)),0,VLOOKUP($A56+8860000,'Growth Data'!$A:$Z,11,0))","v":0},0]
[2228,"Davington Primary School",null,"Davington Primary School","Davington Primary School",0,null,1509959.32,1509959.3191034552,0,null,0,0,0,null,1509959.32,1509959.3191034552,0,null,10707.6,10707.6031518,0,null,null,null,0,null,0,0,0,null,193876.03,193876.02847075494,0,null,0,0,0,null,0,null,0,null,0,null,0,null,0,null,0,null,0,null,0,null,0,null,0,null,0,null,0,null,"NO",{"$f":"IF(ISERROR(VLOOKUP($A57+8860000,'Growth Data'!$A:$F,3,0)),\"NO\",VLOOKUP($A57+8860000,'Growth Data'!$A:$F,3,0))","v":"NO"},0,null,0,{"$f":"IF(BM57=\"YES\",IF(ISERROR(VLOOKUP($A57+8860000,'Growth Data'!$A:$F,6,0)),0,VLOOKUP($A57+8860000,'Growth Data'!$A:$F,6,0)),0)","v":0},0,null,0,{"$f":"IF(ISERROR(VLOOKUP($A57+8860000,'Growth Data'!$A:$Z,7,0)),0,VLOOKUP($A57+8860000,'Growth Data'!$A:$Z,7,0))","v":0},0,null,"NO",{"$f":"IF(ISERROR(VLOOKUP($A57+8860000,'Growth Data'!$A:$F,4,0)),\"NO\",VLOOKUP($A57+8860000,'Growth Data'!$A:$F,4,0))","v":"NO"},0,null,0,{"$f":"IF(ISERROR(VLOOKUP($A57+8860000,'Growth Data'!$A:$Z,8,0)),0,VLOOKUP($A57+8860000,'Growth Data'!$A:$Z,8,0))","v":0},0,null,0,{"$f":"IF(ISERROR(VLOOKUP($A57+8860000,'Growth Data'!$A:$Z,9,0)),0,VLOOKUP($A57+8860000,'Growth Data'!$A:$Z,9,0))","v":0},0,null,"NO",{"$f":"IF(ISERROR(VLOOKUP($A57+8860000,'Growth Data'!$A:$Z,5,0)),\"NO\",VLOOKUP($A57+8860000,'Growth Data'!$A:$Z,5,0))","v":"NO"},0,null,0,{"$f":"IF(ISERROR(VLOOKUP($A57+8860000,'Growth Data'!$A:$Z,10,0)),0,VLOOKUP($A57+8860000,'Growth Data'!$A:$Z,10,0))","v":0},0,null,0,{"$f":"IF(ISERROR(VLOOKUP($A57+8860000,'Growth Data'!$A:$Z,11,0)),0,VLOOKUP($A57+8860000,'Growth Data'!$A:$Z,11,0))","v":0},0]
[2231,"Lower Halstow School",null,"Lower Halstow School","Lower Halstow School",0,null,614138.06999999995,614138.0727383981,0,null,0,0,0,null,614138.06999999995,614138.0727383981,0,null,4005.72,4005.7220424000002,0,null,null,null,0,null,0,0,0,null,46580.81,46580.807134798109,0,null,1341.92,1341.9192865201885,0,null,0,null,0,null,0,null,0,null,0,null,0,null,0,null,0,null,0,null,0,null,0,null,0,null,"NO",{"$f":"IF(ISERROR(VLOOKUP($A58+8860000,'Growth Data'!$A:$F,3,0)),\"NO\",VLOOKUP($A58+8860000,'Growth Data'!$A:$F,3,0))","v":"NO"},0,null,0,{"$f":"IF(BM58=\"YES\",IF(ISERROR(VLOOKUP($A58+8860000,'Growth Data'!$A:$F,6,0)),0,VLOOKUP($A58+8860000,'Growth Data'!$A:$F,6,0)),0)","v":0},0,null,0,{"$f":"IF(ISERROR(VLOOKUP($A58+8860000,'Growth Data'!$A:$Z,7,0)),0,VLOOKUP($A58+8860000,'Growth Data'!$A:$Z,7,0))","v":0},0,null,"NO",{"$f":"IF(ISERROR(VLOOKUP($A58+8860000,'Growth Data'!$A:$F,4,0)),\"NO\",VLOOKUP($A58+8860000,'Growth Data'!$A:$F,4,0))","v":"NO"},0,null,0,{"$f":"IF(ISERROR(VLOOKUP($A58+8860000,'Growth Data'!$A:$Z,8,0)),0,VLOOKUP($A58+8860000,'Growth Data'!$A:$Z,8,0))","v":0},0,null,0,{"$f":"IF(ISERROR(VLOOKUP($A58+8860000,'Growth Data'!$A:$Z,9,0)),0,VLOOKUP($A58+8860000,'Growth Data'!$A:$Z,9,0))","v":0},0,null,"NO",{"$f":"IF(ISERROR(VLOOKUP($A58+8860000,'Growth Data'!$A:$Z,5,0)),\"NO\",VLOOKUP($A58+8860000,'Growth Data'!$A:$Z,5,0))","v":"NO"},0,null,0,{"$f":"IF(ISERROR(VLOOKUP($A58+8860000,'Growth Data'!$A:$Z,10,0)),0,VLOOKUP($A58+8860000,'Growth Data'!$A:$Z,10,0))","v":0},0,null,0,{"$f":"IF(ISERROR(VLOOKUP($A58+8860000,'Growth Data'!$A:$Z,11,0)),0,VLOOKUP($A58+8860000,'Growth Data'!$A:$Z,11,0))","v":0},0]
[2237,"Queenborough School and Nursery",null,"Queenborough School and Nursery","Queenborough School and Nursery",0,null,1618411.39,1618411.3867357799,0,null,0,0,0,null,1618411.39,1618411.3867357799,0,null,10733.28,10733.280857199998,0,null,null,null,0,null,5.13,5.13,0,null,279470.59999999998,279470.60187998001,0,null,0,0,0,null,0,null,0,null,0,null,0,null,0,null,0,null,0,null,0,null,0,null,0,null,0,null,0,null,"NO",{"$f":"IF(ISERROR(VLOOKUP($A59+8860000,'Growth Data'!$A:$F,3,0)),\"NO\",VLOOKUP($A59+8860000,'Growth Data'!$A:$F,3,0))","v":"NO"},0,null,0,{"$f":"IF(BM59=\"YES\",IF(ISERROR(VLOOKUP($A59+8860000,'Growth Data'!$A:$F,6,0)),0,VLOOKUP($A59+8860000,'Growth Data'!$A:$F,6,0)),0)","v":0},0,null,0,{"$f":"IF(ISERROR(VLOOKUP($A59+8860000,'Growth Data'!$A:$Z,7,0)),0,VLOOKUP($A59+8860000,'Growth Data'!$A:$Z,7,0))","v":0},0,null,"NO",{"$f":"IF(ISERROR(VLOOKUP($A59+8860000,'Growth Data'!$A:$F,4,0)),\"NO\",VLOOKUP($A59+8860000,'Growth Data'!$A:$F,4,0))","v":"NO"},0,null,0,{"$f":"IF(ISERROR(VLOOKUP($A59+8860000,'Growth Data'!$A:$Z,8,0)),0,VLOOKUP($A59+8860000,'Growth Data'!$A:$Z,8,0))","v":0},0,null,0,{"$f":"IF(ISERROR(VLOOKUP($A59+8860000,'Growth Data'!$A:$Z,9,0)),0,VLOOKUP($A59+8860000,'Growth Data'!$A:$Z,9,0))","v":0},0,null,"NO",{"$f":"IF(ISERROR(VLOOKUP($A59+8860000,'Growth Data'!$A:$Z,5,0)),\"NO\",VLOOKUP($A59+8860000,'Growth Data'!$A:$Z,5,0))","v":"NO"},0,null,0,{"$f":"IF(ISERROR(VLOOKUP($A59+8860000,'Growth Data'!$A:$Z,10,0)),0,VLOOKUP($A59+8860000,'Growth Data'!$A:$Z,10,0))","v":0},0,null,0,{"$f":"IF(ISERROR(VLOOKUP($A59+8860000,'Growth Data'!$A:$Z,11,0)),0,VLOOKUP($A59+8860000,'Growth Data'!$A:$Z,11,0))","v":0},0]
[2239,"Rodmersham School",null,"Rodmersham School","Rodmersham School",0,null,407112.52,407112.51805753703,0,null,0,0,0,null,407112.52,407112.51805753703,0,null,2542.09,2542.0928346000001,0,null,null,null,0,null,0,0,0,null,16189.06,16189.061170637007,0,null,4381.09,4381.0938829362995,0,null,0,null,0,null,0,null,0,null,0,null,0,null,0,null,0,null,0,null,0,null,0,null,0,null,"NO",{"$f":"IF(ISERROR(VLOOKUP($A60+8860000,'Growth Data'!$A:$F,3,0)),\"NO\",VLOOKUP($A60+8860000,'Growth Data'!$A:$F,3,0))","v":"NO"},0,null,0,{"$f":"IF(BM60=\"YES\",IF(ISERROR(VLOOKUP($A60+8860000,'Growth Data'!$A:$F,6,0)),0,VLOOKUP($A60+8860000,'Growth Data'!$A:$F,6,0)),0)","v":0},0,null,0,{"$f":"IF(ISERROR(VLOOKUP($A60+8860000,'Growth Data'!$A:$Z,7,0)),0,VLOOKUP($A60+8860000,'Growth Data'!$A:$Z,7,0))","v":0},0,null,"NO",{"$f":"IF(ISERROR(VLOOKUP($A60+8860000,'Growth Data'!$A:$F,4,0)),\"NO\",VLOOKUP($A60+8860000,'Growth Data'!$A:$F,4,0))","v":"NO"},0,null,0,{"$f":"IF(ISERROR(VLOOKUP($A60+8860000,'Growth Data'!$A:$Z,8,0)),0,VLOOKUP($A60+8860000,'Growth Data'!$A:$Z,8,0))","v":0},0,null,0,{"$f":"IF(ISERROR(VLOOKUP($A60+8860000,'Growth Data'!$A:$Z,9,0)),0,VLOOKUP($A60+8860000,'Growth Data'!$A:$Z,9,0))","v":0},0,null,"NO",{"$f":"IF(ISERROR(VLOOKUP($A60+8860000,'Growth Data'!$A:$Z,5,0)),\"NO\",VLOOKUP($A60+8860000,'Growth Data'!$A:$Z,5,0))","v":"NO"},0,null,0,{"$f":"IF(ISERROR(VLOOKUP($A60+8860000,'Growth Data'!$A:$Z,10,0)),0,VLOOKUP($A60+8860000,'Growth Data'!$A:$Z,10,0))","v":0},0,null,0,{"$f":"IF(ISERROR(VLOOKUP($A60+8860000,'Growth Data'!$A:$Z,11,0)),0,VLOOKUP($A60+8860000,'Growth Data'!$A:$Z,11,0))","v":0},0]
[2245,"Rose Street School",null,"Rose Street School","Rose Street School",0,null,1330245.83,1330245.8346087665,0,null,48325.02,48325.015292234253,0,null,1378570.85,1378570.8499010007,0,null,8268.2199999999993,8268.2211387999996,0,null,null,null,0,null,5.41,5.41,0,null,252891.14,252891.13957056648,0,null,0,0,0,null,0,null,0,null,0,null,0,null,0,null,0,null,0,null,0,null,0,null,0,null,0,null,0,null,"YES",{"$f":"IF(ISERROR(VLOOKUP($A61+8860000,'Growth Data'!$A:$F,3,0)),\"NO\",VLOOKUP($A61+8860000,'Growth Data'!$A:$F,3,0))","v":"YES"},0,null,30,{"$f":"IF(BM61=\"YES\",IF(ISERROR(VLOOKUP($A61+8860000,'Growth Data'!$A:$F,6,0)),0,VLOOKUP($A61+8860000,'Growth Data'!$A:$F,6,0)),0)","v":30},0,null,60,{"$f":"IF(ISERROR(VLOOKUP($A61+8860000,'Growth Data'!$A:$Z,7,0)),0,VLOOKUP($A61+8860000,'Growth Data'!$A:$Z,7,0))","v":60},0,null,"YES",{"$f":"IF(ISERROR(VLOOKUP($A61+8860000,'Growth Data'!$A:$F,4,0)),\"NO\",VLOOKUP($A61+8860000,'Growth Data'!$A:$F,4,0))","v":"YES"},0,null,30,{"$f":"IF(ISERROR(VLOOKUP($A61+8860000,'Growth Data'!$A:$Z,8,0)),0,VLOOKUP($A61+8860000,'Growth Data'!$A:$Z,8,0))","v":30},0,null,60,{"$f":"IF(ISERROR(VLOOKUP($A61+8860000,'Growth Data'!$A:$Z,9,0)),0,VLOOKUP($A61+8860000,'Growth Data'!$A:$Z,9,0))","v":60},0,null,"YES",{"$f":"IF(ISERROR(VLOOKUP($A61+8860000,'Growth Data'!$A:$Z,5,0)),\"NO\",VLOOKUP($A61+8860000,'Growth Data'!$A:$Z,5,0))","v":"YES"},0,null,30,{"$f":"IF(ISERROR(VLOOKUP($A61+8860000,'Growth Data'!$A:$Z,10,0)),0,VLOOKUP($A61+8860000,'Growth Data'!$A:$Z,10,0))","v":30},0,null,60,{"$f":"IF(ISERROR(VLOOKUP($A61+8860000,'Growth Data'!$A:$Z,11,0)),0,VLOOKUP($A61+8860000,'Growth Data'!$A:$Z,11,0))","v":60},0]
[2254,"Canterbury Road Primary School",null,"Canterbury Road Primary School","Canterbury Road Primary School",0,null,856808.72,856808.72457992774,0,null,0,0,0,null,856808.72,856808.72457992774,0,null,5366.64,5366.6404285999988,0,null,null,null,0,null,0,0,0,null,129035.58,129035.58475202776,0,null,0,0,0,null,0,null,0,null,0,null,0,null,0,null,0,null,0,null,0,null,0,null,0,null,0,null,0,null,"NO",{"$f":"IF(ISERROR(VLOOKUP($A62+8860000,'Growth Data'!$A:$F,3,0)),\"NO\",VLOOKUP($A62+8860000,'Growth Data'!$A:$F,3,0))","v":"NO"},0,null,0,{"$f":"IF(BM62=\"YES\",IF(ISERROR(VLOOKUP($A62+8860000,'Growth Data'!$A:$F,6,0)),0,VLOOKUP($A62+8860000,'Growth Data'!$A:$F,6,0)),0)","v":0},0,null,0,{"$f":"IF(ISERROR(VLOOKUP($A62+8860000,'Growth Data'!$A:$Z,7,0)),0,VLOOKUP($A62+8860000,'Growth Data'!$A:$Z,7,0))","v":0},0,null,"NO",{"$f":"IF(ISERROR(VLOOKUP($A62+8860000,'Growth Data'!$A:$F,4,0)),\"NO\",VLOOKUP($A62+8860000,'Growth Data'!$A:$F,4,0))","v":"NO"},0,null,0,{"$f":"IF(ISERROR(VLOOKUP($A62+8860000,'Growth Data'!$A:$Z,8,0)),0,VLOOKUP($A62+8860000,'Growth Data'!$A:$Z,8,0))","v":0},0,null,0,{"$f":"IF(ISERROR(VLOOKUP($A62+8860000,'Growth Data'!$A:$Z,9,0)),0,VLOOKUP($A62+8860000,'Growth Data'!$A:$Z,9,0))","v":0},0,null,"NO",{"$f":"IF(ISERROR(VLOOKUP($A62+8860000,'Growth Data'!$A:$Z,5,0)),\"NO\",VLOOKUP($A62+8860000,'Growth Data'!$A:$Z,5,0))","v":"NO"},0,null,0,{"$f":"IF(ISERROR(VLOOKUP($A62+8860000,'Growth Data'!$A:$Z,10,0)),0,VLOOKUP($A62+8860000,'Growth Data'!$A:$Z,10,0))","v":0},0,null,0,{"$f":"IF(ISERROR(VLOOKUP($A62+8860000,'Growth Data'!$A:$Z,11,0)),0,VLOOKUP($A62+8860000,'Growth Data'!$A:$Z,11,0))","v":0},0]
[2258,"Blean Primary School",null,"Blean Primary School","Blean Primary School",0,null,1480385.33,1480385.3254280954,0,null,0,0,0,null,1480385.33,1480385.3254280954,0,null,11169.8,11169.801848999999,0,null,null,null,0,null,0,0,0,null,129708.12,129708.11597959534,0,null,0,0,0,null,0,null,0,null,0,null,0,null,0,null,0,null,0,null,0,null,0,null,0,null,0,null,0,null,"NO",{"$f":"IF(ISERROR(VLOOKUP($A63+8860000,'Growth Data'!$A:$F,3,0)),\"NO\",VLOOKUP($A63+8860000,'Growth Data'!$A:$F,3,0))","v":"NO"},0,null,0,{"$f":"IF(BM63=\"YES\",IF(ISERROR(VLOOKUP($A63+8860000,'Growth Data'!$A:$F,6,0)),0,VLOOKUP($A63+8860000,'Growth Data'!$A:$F,6,0)),0)","v":0},0,null,0,{"$f":"IF(ISERROR(VLOOKUP($A63+8860000,'Growth Data'!$A:$Z,7,0)),0,VLOOKUP($A63+8860000,'Growth Data'!$A:$Z,7,0))","v":0},0,null,"NO",{"$f":"IF(ISERROR(VLOOKUP($A63+8860000,'Growth Data'!$A:$F,4,0)),\"NO\",VLOOKUP($A63+8860000,'Growth Data'!$A:$F,4,0))","v":"NO"},0,null,0,{"$f":"IF(ISERROR(VLOOKUP($A63+8860000,'Growth Data'!$A:$Z,8,0)),0,VLOOKUP($A63+8860000,'Growth Data'!$A:$Z,8,0))","v":0},0,null,0,{"$f":"IF(ISERROR(VLOOKUP($A63+8860000,'Growth Data'!$A:$Z,9,0)),0,VLOOKUP($A63+8860000,'Growth Data'!$A:$Z,9,0))","v":0},0,null,"NO",{"$f":"IF(ISERROR(VLOOKUP($A63+8860000,'Growth Data'!$A:$Z,5,0)),\"NO\",VLOOKUP($A63+8860000,'Growth Data'!$A:$Z,5,0))","v":"NO"},0,null,0,{"$f":"IF(ISERROR(VLOOKUP($A63+8860000,'Growth Data'!$A:$Z,10,0)),0,VLOOKUP($A63+8860000,'Growth Data'!$A:$Z,10,0))","v":0},0,null,0,{"$f":"IF(ISERROR(VLOOKUP($A63+8860000,'Growth Data'!$A:$Z,11,0)),0,VLOOKUP($A63+8860000,'Growth Data'!$A:$Z,11,0))","v":0},0]
[2259,"Chartham Primary School",null,"Chartham Primary School","Chartham Primary School",0,null,1201193.08,1201193.0788794179,0,null,0,0,0,null,1201193.08,1201193.0788794179,0,null,8987.2000000000007,8987.1968899999993,0,null,null,null,0,null,0,0,0,null,81157.5,81157.504394417789,0,null,0,0,0,null,0,null,0,null,0,null,0,null,0,null,0,null,0,null,0,null,0,null,0,null,0,null,0,null,"NO",{"$f":"IF(ISERROR(VLOOKUP($A64+8860000,'Growth Data'!$A:$F,3,0)),\"NO\",VLOOKUP($A64+8860000,'Growth Data'!$A:$F,3,0))","v":"NO"},0,null,0,{"$f":"IF(BM64=\"YES\",IF(ISERROR(VLOOKUP($A64+8860000,'Growth Data'!$A:$F,6,0)),0,VLOOKUP($A64+8860000,'Growth Data'!$A:$F,6,0)),0)","v":0},0,null,0,{"$f":"IF(ISERROR(VLOOKUP($A64+8860000,'Growth Data'!$A:$Z,7,0)),0,VLOOKUP($A64+8860000,'Growth Data'!$A:$Z,7,0))","v":0},0,null,"YES",{"$f":"IF(ISERROR(VLOOKUP($A64+8860000,'Growth Data'!$A:$F,4,0)),\"NO\",VLOOKUP($A64+8860000,'Growth Data'!$A:$F,4,0))","v":"YES"},0,null,47,{"$f":"IF(ISERROR(VLOOKUP($A64+8860000,'Growth Data'!$A:$Z,8,0)),0,VLOOKUP($A64+8860000,'Growth Data'!$A:$Z,8,0))","v":47},0,null,60,{"$f":"IF(ISERROR(VLOOKUP($A64+8860000,'Growth Data'!$A:$Z,9,0)),0,VLOOKUP($A64+8860000,'Growth Data'!$A:$Z,9,0))","v":60},0,null,"YES",{"$f":"IF(ISERROR(VLOOKUP($A64+8860000,'Growth Data'!$A:$Z,5,0)),\"NO\",VLOOKUP($A64+8860000,'Growth Data'!$A:$Z,5,0))","v":"YES"},0,null,49,{"$f":"IF(ISERROR(VLOOKUP($A64+8860000,'Growth Data'!$A:$Z,10,0)),0,VLOOKUP($A64+8860000,'Growth Data'!$A:$Z,10,0))","v":49},0,null,60,{"$f":"IF(ISERROR(VLOOKUP($A64+8860000,'Growth Data'!$A:$Z,11,0)),0,VLOOKUP($A64+8860000,'Growth Data'!$A:$Z,11,0))","v":60},0]
[2263,"Herne Bay Infant School",null,"Herne Bay Infant School","Herne Bay Infant School",0,null,1257287.7,1257287.7034879827,0,null,0,0,0,null,1257287.7,1257287.7034879827,0,null,8858.81,8858.8083630000001,0,null,null,null,0,null,4.9000000000000004,4.9000000000000004,0,null,162542.59,162542.5921184824,0,null,0,0,0,null,0,null,0,null,0,null,0,null,0,null,0,null,0,null,0,null,0,null,0,null,0,null,0,null,"NO",{"$f":"IF(ISERROR(VLOOKUP($A65+8860000,'Growth Data'!$A:$F,3,0)),\"NO\",VLOOKUP($A65+8860000,'Growth Data'!$A:$F,3,0))","v":"NO"},0,null,0,{"$f":"IF(BM65=\"YES\",IF(ISERROR(VLOOKUP($A65+8860000,'Growth Data'!$A:$F,6,0)),0,VLOOKUP($A65+8860000,'Growth Data'!$A:$F,6,0)),0)","v":0},0,null,0,{"$f":"IF(ISERROR(VLOOKUP($A65+8860000,'Growth Data'!$A:$Z,7,0)),0,VLOOKUP($A65+8860000,'Growth Data'!$A:$Z,7,0))","v":0},0,null,"NO",{"$f":"IF(ISERROR(VLOOKUP($A65+8860000,'Growth Data'!$A:$F,4,0)),\"NO\",VLOOKUP($A65+8860000,'Growth Data'!$A:$F,4,0))","v":"NO"},0,null,0,{"$f":"IF(ISERROR(VLOOKUP($A65+8860000,'Growth Data'!$A:$Z,8,0)),0,VLOOKUP($A65+8860000,'Growth Data'!$A:$Z,8,0))","v":0},0,null,0,{"$f":"IF(ISERROR(VLOOKUP($A65+8860000,'Growth Data'!$A:$Z,9,0)),0,VLOOKUP($A65+8860000,'Growth Data'!$A:$Z,9,0))","v":0},0,null,"NO",{"$f":"IF(ISERROR(VLOOKUP($A65+8860000,'Growth Data'!$A:$Z,5,0)),\"NO\",VLOOKUP($A65+8860000,'Growth Data'!$A:$Z,5,0))","v":"NO"},0,null,0,{"$f":"IF(ISERROR(VLOOKUP($A65+8860000,'Growth Data'!$A:$Z,10,0)),0,VLOOKUP($A65+8860000,'Growth Data'!$A:$Z,10,0))","v":0},0,null,0,{"$f":"IF(ISERROR(VLOOKUP($A65+8860000,'Growth Data'!$A:$Z,11,0)),0,VLOOKUP($A65+8860000,'Growth Data'!$A:$Z,11,0))","v":0},0]
[2265,"Hoath Primary School",null,"Hoath Primary School","Hoath Primary School",{"$f":"IF(E66=D66,0,1)","v":0},null,396076.31,396076.3148643747,{"$f":"ROUND(H66-I66,0)","v":0},null,2251.89,2251.8908627501223,{"$f":"ROUND(L66-M66,0)","v":0},null,398328.21,398328.20572712482,{"$f":"ROUND(P66-Q66,0)","v":0},null,2208.2800000000002,2208.2826643999997,{"$f":"ROUND(T66-U66,0)","v":0},null,null,null,{"$f":"ROUND(X66-Y66,0)","v":0},null,0,0,{"$f":"ROUND(AB66-AC66,0)","v":0},null,30703.46,30703.457677774677,{"$f":"ROUND(AF66-AG66,0)","v":0},null,2929.65,2929.6542322225323,{"$f":"ROUND(AJ66-AK66,0)","v":0},null,0,null,{"$f":"ROUND(AN66-AO66,0)","v":0},null,0,null,{"$f":"ROUND(AR66-AS66,0)","v":0},null,0,null,{"$f":"ROUND(AV66-AW66,0)","v":0},null,0,null,{"$f":"ROUND(AZ66-BA66,0)","v":0},null,0,null,{"$f":"ROUND(BD66-BE66,0)","v":0},null,0,null,{"$f":"ROUND(BH66-BI66,0)","v":0},null,"NO",{"$f":"IF(ISERROR(VLOOKUP($A66+8860000,'Growth Data'!$A:$F,3,0)),\"NO\",VLOOKUP($A66+8860000,'Growth Data'!$A:$F,3,0))","v":"NO"},{"$f":"IF(BL66=BM66,0,1)","v":0},null,0,{"$f":"IF(BM66=\"YES\",IF(ISERROR(VLOOKUP($A66+8860000,'Growth Data'!$A:$F,6,0)),0,VLOOKUP($A66+8860000,'Growth Data'!$A:$F,6,0)),0)","v":0},{"$f":"ROUND(BP66-BQ66,0)","v":0},null,0,{"$f":"IF(ISERROR(VLOOKUP($A66+8860000,'Growth Data'!$A:$Z,7,0)),0,VLOOKUP($A66+8860000,'Growth Data'!$A:$Z,7,0))","v":0},{"$f":"IF(BT66=BU66,0,1)","v":0},null,"NO",{"$f":"IF(ISERROR(VLOOKUP($A66+8860000,'Growth Data'!$A:$F,4,0)),\"NO\",VLOOKUP($A66+8860000,'Growth Data'!$A:$F,4,0))","v":"NO"},0,null,0,{"$f":"IF(ISERROR(VLOOKUP($A66+8860000,'Growth Data'!$A:$Z,8,0)),0,VLOOKUP($A66+8860000,'Growth Data'!$A:$Z,8,0))","v":0},{"$f":"IF(CB66=CC66,0,1)","v":0},null,0,{"$f":"IF(ISERROR(VLOOKUP($A66+8860000,'Growth Data'!$A:$Z,9,0)),0,VLOOKUP($A66+8860000,'Growth Data'!$A:$Z,9,0))","v":0},0,null,"NO",{"$f":"IF(ISERROR(VLOOKUP($A66+8860000,'Growth Data'!$A:$Z,5,0)),\"NO\",VLOOKUP($A66+8860000,'Growth Data'!$A:$Z,5,0))","v":"NO"},0,null,0,{"$f":"IF(ISERROR(VLOOKUP($A66+8860000,'Growth Data'!$A:$Z,10,0)),0,VLOOKUP($A66+8860000,'Growth Data'!$A:$Z,10,0))","v":0},0,null,0,{"$f":"IF(ISERROR(VLOOKUP($A66+8860000,'Growth Data'!$A:$Z,11,0)),0,VLOOKUP($A66+8860000,'Growth Data'!$A:$Z,11,0))","v":0},0]
[2268,"Westmeads Community Infant School",null,"Westmeads Community Infant School","Westmeads Community Infant School",0,null,676228.98,676228.98383401369,0,null,0,0,0,null,676228.98,676228.98383401369,0,null,4596.3100000000004,4596.3092666000011,0,null,null,null,0,null,0,0,0,null,45206.44,45206.44269911365,0,null,1479.36,1479.355730088635,0,null,0,null,0,null,0,null,0,null,0,null,0,null,0,null,0,null,0,null,0,null,0,null,0,null,"NO",{"$f":"IF(ISERROR(VLOOKUP($A67+8860000,'Growth Data'!$A:$F,3,0)),\"NO\",VLOOKUP($A67+8860000,'Growth Data'!$A:$F,3,0))","v":"NO"},0,null,0,{"$f":"IF(BM67=\"YES\",IF(ISERROR(VLOOKUP($A67+8860000,'Growth Data'!$A:$F,6,0)),0,VLOOKUP($A67+8860000,'Growth Data'!$A:$F,6,0)),0)","v":0},0,null,0,{"$f":"IF(ISERROR(VLOOKUP($A67+8860000,'Growth Data'!$A:$Z,7,0)),0,VLOOKUP($A67+8860000,'Growth Data'!$A:$Z,7,0))","v":0},0,null,"NO",{"$f":"IF(ISERROR(VLOOKUP($A67+8860000,'Growth Data'!$A:$F,4,0)),\"NO\",VLOOKUP($A67+8860000,'Growth Data'!$A:$F,4,0))","v":"NO"},{"$f":"IF(BX67=BY67,0,1)","v":0},null,0,{"$f":"IF(ISERROR(VLOOKUP($A67+8860000,'Growth Data'!$A:$Z,8,0)),0,VLOOKUP($A67+8860000,'Growth Data'!$A:$Z,8,0))","v":0},0,null,0,{"$f":"IF(ISERROR(VLOOKUP($A67+8860000,'Growth Data'!$A:$Z,9,0)),0,VLOOKUP($A67+8860000,'Growth Data'!$A:$Z,9,0))","v":0},{"$f":"IF(CF67=CG67,0,1)","v":0},null,"NO",{"$f":"IF(ISERROR(VLOOKUP($A67+8860000,'Growth Data'!$A:$Z,5,0)),\"NO\",VLOOKUP($A67+8860000,'Growth Data'!$A:$Z,5,0))","v":"NO"},{"$f":"IF(CJ67=CK67,0,1)","v":0},null,0,{"$f":"IF(ISERROR(VLOOKUP($A67+8860000,'Growth Data'!$A:$Z,10,0)),0,VLOOKUP($A67+8860000,'Growth Data'!$A:$Z,10,0))","v":0},{"$f":"IF(CN67=CO67,0,1)","v":0},null,0,{"$f":"IF(ISERROR(VLOOKUP($A67+8860000,'Growth Data'!$A:$Z,11,0)),0,VLOOKUP($A67+8860000,'Growth Data'!$A:$Z,11,0))","v":0},{"$f":"IF(CR67=CS67,0,1)","v":0}]
[2269,"Whitstable Junior School",null,"Whitstable Junior School","Whitstable Junior School",0,null,982890.75,982890.75173481181,0,null,0,0,0,null,982890.75,982890.75173481181,0,null,6881.63,6881.6250472000002,0,null,null,null,0,null,0,0,0,null,99251.34,99251.335944011749,0,null,0,0,0,null,0,null,0,null,0,null,0,null,0,null,0,null,0,null,0,null,0,null,0,null,0,null,0,null,"NO",{"$f":"IF(ISERROR(VLOOKUP($A68+8860000,'Growth Data'!$A:$F,3,0)),\"NO\",VLOOKUP($A68+8860000,'Growth Data'!$A:$F,3,0))","v":"NO"},0,null,0,{"$f":"IF(BM68=\"YES\",IF(ISERROR(VLOOKUP($A68+8860000,'Growth Data'!$A:$F,6,0)),0,VLOOKUP($A68+8860000,'Growth Data'!$A:$F,6,0)),0)","v":0},0,null,0,{"$f":"IF(ISERROR(VLOOKUP($A68+8860000,'Growth Data'!$A:$Z,7,0)),0,VLOOKUP($A68+8860000,'Growth Data'!$A:$Z,7,0))","v":0},0,null,"NO",{"$f":"IF(ISERROR(VLOOKUP($A68+8860000,'Growth Data'!$A:$F,4,0)),\"NO\",VLOOKUP($A68+8860000,'Growth Data'!$A:$F,4,0))","v":"NO"},0,null,0,{"$f":"IF(ISERROR(VLOOKUP($A68+8860000,'Growth Data'!$A:$Z,8,0)),0,VLOOKUP($A68+8860000,'Growth Data'!$A:$Z,8,0))","v":0},0,null,0,{"$f":"IF(ISERROR(VLOOKUP($A68+8860000,'Growth Data'!$A:$Z,9,0)),0,VLOOKUP($A68+8860000,'Growth Data'!$A:$Z,9,0))","v":0},0,null,"NO",{"$f":"IF(ISERROR(VLOOKUP($A68+8860000,'Growth Data'!$A:$Z,5,0)),\"NO\",VLOOKUP($A68+8860000,'Growth Data'!$A:$Z,5,0))","v":"NO"},0,null,0,{"$f":"IF(ISERROR(VLOOKUP($A68+8860000,'Growth Data'!$A:$Z,10,0)),0,VLOOKUP($A68+8860000,'Growth Data'!$A:$Z,10,0))","v":0},0,null,0,{"$f":"IF(ISERROR(VLOOKUP($A68+8860000,'Growth Data'!$A:$Z,11,0)),0,VLOOKUP($A68+8860000,'Growth Data'!$A:$Z,11,0))","v":0},0]
[2270,"Aldington Primary School",null,"Aldington Primary School","Aldington Primary School",0,null,756078.67,756078.6654509037,0,null,0,0,0,null,756078.67,756078.6654509037,0,null,5289.61,5289.6073123999995,0,null,null,null,0,null,0,0,0,null,45798.559999999998,45798.557492303604,0,null,1420.14,1420.1442507696393,0,null,0,null,0,null,0,null,0,null,0,null,0,null,0,null,0,null,0,null,0,null,0,null,0,null,"NO",{"$f":"IF(ISERROR(VLOOKUP($A69+8860000,'Growth Data'!$A:$F,3,0)),\"NO\",VLOOKUP($A69+8860000,'Growth Data'!$A:$F,3,0))","v":"NO"},0,null,0,{"$f":"IF(BM69=\"YES\",IF(ISERROR(VLOOKUP($A69+8860000,'Growth Data'!$A:$F,6,0)),0,VLOOKUP($A69+8860000,'Growth Data'!$A:$F,6,0)),0)","v":0},0,null,0,{"$f":"IF(ISERROR(VLOOKUP($A69+8860000,'Growth Data'!$A:$Z,7,0)),0,VLOOKUP($A69+8860000,'Growth Data'!$A:$Z,7,0))","v":0},0,null,"NO",{"$f":"IF(ISERROR(VLOOKUP($A69+8860000,'Growth Data'!$A:$F,4,0)),\"NO\",VLOOKUP($A69+8860000,'Growth Data'!$A:$F,4,0))","v":"NO"},0,null,0,{"$f":"IF(ISERROR(VLOOKUP($A69+8860000,'Growth Data'!$A:$Z,8,0)),0,VLOOKUP($A69+8860000,'Growth Data'!$A:$Z,8,0))","v":0},0,null,0,{"$f":"IF(ISERROR(VLOOKUP($A69+8860000,'Growth Data'!$A:$Z,9,0)),0,VLOOKUP($A69+8860000,'Growth Data'!$A:$Z,9,0))","v":0},0,null,"NO",{"$f":"IF(ISERROR(VLOOKUP($A69+8860000,'Growth Data'!$A:$Z,5,0)),\"NO\",VLOOKUP($A69+8860000,'Growth Data'!$A:$Z,5,0))","v":"NO"},0,null,0,{"$f":"IF(ISERROR(VLOOKUP($A69+8860000,'Growth Data'!$A:$Z,10,0)),0,VLOOKUP($A69+8860000,'Growth Data'!$A:$Z,10,0))","v":0},0,null,0,{"$f":"IF(ISERROR(VLOOKUP($A69+8860000,'Growth Data'!$A:$Z,11,0)),0,VLOOKUP($A69+8860000,'Growth Data'!$A:$Z,11,0))","v":0},0]
[2272,"East Stour Primary School",null,"East Stour Primary School","East Stour Primary School",0,null,1530564.12,1530564.1193319878,0,null,0,0,0,null,1530564.12,1530564.1193319878,0,null,10476.5,10476.503803199999,0,null,null,null,0,null,4.9000000000000004,4.9000000000000004,0,null,215226.64,215226.63630718781,0,null,0,0,0,null,0,null,0,null,0,null,0,null,0,null,0,null,0,null,0,null,0,null,0,null,0,null,0,null,"NO",{"$f":"IF(ISERROR(VLOOKUP($A70+8860000,'Growth Data'!$A:$F,3,0)),\"NO\",VLOOKUP($A70+8860000,'Growth Data'!$A:$F,3,0))","v":"NO"},0,null,0,{"$f":"IF(BM70=\"YES\",IF(ISERROR(VLOOKUP($A70+8860000,'Growth Data'!$A:$F,6,0)),0,VLOOKUP($A70+8860000,'Growth Data'!$A:$F,6,0)),0)","v":0},0,null,0,{"$f":"IF(ISERROR(VLOOKUP($A70+8860000,'Growth Data'!$A:$Z,7,0)),0,VLOOKUP($A70+8860000,'Growth Data'!$A:$Z,7,0))","v":0},0,null,"NO",{"$f":"IF(ISERROR(VLOOKUP($A70+8860000,'Growth Data'!$A:$F,4,0)),\"NO\",VLOOKUP($A70+8860000,'Growth Data'!$A:$F,4,0))","v":"NO"},0,null,0,{"$f":"IF(ISERROR(VLOOKUP($A70+8860000,'Growth Data'!$A:$Z,8,0)),0,VLOOKUP($A70+8860000,'Growth Data'!$A:$Z,8,0))","v":0},0,null,0,{"$f":"IF(ISERROR(VLOOKUP($A70+8860000,'Growth Data'!$A:$Z,9,0)),0,VLOOKUP($A70+8860000,'Growth Data'!$A:$Z,9,0))","v":0},0,null,"NO",{"$f":"IF(ISERROR(VLOOKUP($A70+8860000,'Growth Data'!$A:$Z,5,0)),\"NO\",VLOOKUP($A70+8860000,'Growth Data'!$A:$Z,5,0))","v":"NO"},0,null,0,{"$f":"IF(ISERROR(VLOOKUP($A70+8860000,'Growth Data'!$A:$Z,10,0)),0,VLOOKUP($A70+8860000,'Growth Data'!$A:$Z,10,0))","v":0},0,null,0,{"$f":"IF(ISERROR(VLOOKUP($A70+8860000,'Growth Data'!$A:$Z,11,0)),0,VLOOKUP($A70+8860000,'Growth Data'!$A:$Z,11,0))","v":0},0]
[2275,"Victoria Road Primary School",null,"Victoria Road Primary School","Victoria Road Primary School",0,null,820459.72,820459.72362015466,0,null,9324.24,9324.2390499499161,0,null,829783.96,829783.96267010458,0,null,5392.32,5392.3181340000001,0,null,null,null,0,null,0,0,0,null,104258.7,104258.69836915459,0,null,0,0,0,null,0,null,0,null,0,null,0,null,0,null,0,null,0,null,0,null,0,null,0,null,0,null,0,null,"NO",{"$f":"IF(ISERROR(VLOOKUP($A71+8860000,'Growth Data'!$A:$F,3,0)),\"NO\",VLOOKUP($A71+8860000,'Growth Data'!$A:$F,3,0))","v":"NO"},0,null,0,{"$f":"IF(BM71=\"YES\",IF(ISERROR(VLOOKUP($A71+8860000,'Growth Data'!$A:$F,6,0)),0,VLOOKUP($A71+8860000,'Growth Data'!$A:$F,6,0)),0)","v":0},0,null,0,{"$f":"IF(ISERROR(VLOOKUP($A71+8860000,'Growth Data'!$A:$Z,7,0)),0,VLOOKUP($A71+8860000,'Growth Data'!$A:$Z,7,0))","v":0},0,null,"NO",{"$f":"IF(ISERROR(VLOOKUP($A71+8860000,'Growth Data'!$A:$F,4,0)),\"NO\",VLOOKUP($A71+8860000,'Growth Data'!$A:$F,4,0))","v":"NO"},0,null,0,{"$f":"IF(ISERROR(VLOOKUP($A71+8860000,'Growth Data'!$A:$Z,8,0)),0,VLOOKUP($A71+8860000,'Growth Data'!$A:$Z,8,0))","v":0},0,null,0,{"$f":"IF(ISERROR(VLOOKUP($A71+8860000,'Growth Data'!$A:$Z,9,0)),0,VLOOKUP($A71+8860000,'Growth Data'!$A:$Z,9,0))","v":0},0,null,"NO",{"$f":"IF(ISERROR(VLOOKUP($A71+8860000,'Growth Data'!$A:$Z,5,0)),\"NO\",VLOOKUP($A71+8860000,'Growth Data'!$A:$Z,5,0))","v":"NO"},0,null,0,{"$f":"IF(ISERROR(VLOOKUP($A71+8860000,'Growth Data'!$A:$Z,10,0)),0,VLOOKUP($A71+8860000,'Growth Data'!$A:$Z,10,0))","v":0},0,null,0,{"$f":"IF(ISERROR(VLOOKUP($A71+8860000,'Growth Data'!$A:$Z,11,0)),0,VLOOKUP($A71+8860000,'Growth Data'!$A:$Z,11,0))","v":0},0]
[2276,"Willesborough Infant School",null,"Willesborough Infant School","Willesborough Infant School",0,null,1339215.22,1339215.2246387196,0,null,21913.919999999998,21913.923364025541,0,null,1361129.15,1361129.1480027451,0,null,9731.85,9731.8503466000002,0,null,null,null,0,null,0,0,0,null,147460.22,147460.22328381951,0,null,0,0,0,null,0,null,0,null,0,null,0,null,0,null,0,null,0,null,0,null,0,null,0,null,0,null,0,null,"NO",{"$f":"IF(ISERROR(VLOOKUP($A72+8860000,'Growth Data'!$A:$F,3,0)),\"NO\",VLOOKUP($A72+8860000,'Growth Data'!$A:$F,3,0))","v":"NO"},0,null,0,{"$f":"IF(BM72=\"YES\",IF(ISERROR(VLOOKUP($A72+8860000,'Growth Data'!$A:$F,6,0)),0,VLOOKUP($A72+8860000,'Growth Data'!$A:$F,6,0)),0)","v":0},0,null,0,{"$f":"IF(ISERROR(VLOOKUP($A72+8860000,'Growth Data'!$A:$Z,7,0)),0,VLOOKUP($A72+8860000,'Growth Data'!$A:$Z,7,0))","v":0},0,null,"NO",{"$f":"IF(ISERROR(VLOOKUP($A72+8860000,'Growth Data'!$A:$F,4,0)),\"NO\",VLOOKUP($A72+8860000,'Growth Data'!$A:$F,4,0))","v":"NO"},0,null,0,{"$f":"IF(ISERROR(VLOOKUP($A72+8860000,'Growth Data'!$A:$Z,8,0)),0,VLOOKUP($A72+8860000,'Growth Data'!$A:$Z,8,0))","v":0},0,null,0,{"$f":"IF(ISERROR(VLOOKUP($A72+8860000,'Growth Data'!$A:$Z,9,0)),0,VLOOKUP($A72+8860000,'Growth Data'!$A:$Z,9,0))","v":0},0,null,"NO",{"$f":"IF(ISERROR(VLOOKUP($A72+8860000,'Growth Data'!$A:$Z,5,0)),\"NO\",VLOOKUP($A72+8860000,'Growth Data'!$A:$Z,5,0))","v":"NO"},0,null,0,{"$f":"IF(ISERROR(VLOOKUP($A72+8860000,'Growth Data'!$A:$Z,10,0)),0,VLOOKUP($A72+8860000,'Growth Data'!$A:$Z,10,0))","v":0},0,null,0,{"$f":"IF(ISERROR(VLOOKUP($A72+8860000,'Growth Data'!$A:$Z,11,0)),0,VLOOKUP($A72+8860000,'Growth Data'!$A:$Z,11,0))","v":0},0]
[2278,"Bethersden Primary School",null,"Bethersden Primary School","Bethersden Primary School",0,null,526062.26,526062.25776232069,0,null,0,0,0,null,526062.26,526062.25776232069,0,null,3209.71,3209.7131750000003,0,null,null,null,0,null,0,0,0,null,42144.9,42144.899854526906,0,null,1785.51,1785.5100145473089,0,null,0,null,0,null,0,null,0,null,0,null,0,null,0,null,0,null,0,null,0,null,0,null,0,null,"NO",{"$f":"IF(ISERROR(VLOOKUP($A73+8860000,'Growth Data'!$A:$F,3,0)),\"NO\",VLOOKUP($A73+8860000,'Growth Data'!$A:$F,3,0))","v":"NO"},0,null,0,{"$f":"IF(BM73=\"YES\",IF(ISERROR(VLOOKUP($A73+8860000,'Growth Data'!$A:$F,6,0)),0,VLOOKUP($A73+8860000,'Growth Data'!$A:$F,6,0)),0)","v":0},0,null,0,{"$f":"IF(ISERROR(VLOOKUP($A73+8860000,'Growth Data'!$A:$Z,7,0)),0,VLOOKUP($A73+8860000,'Growth Data'!$A:$Z,7,0))","v":0},0,null,"NO",{"$f":"IF(ISERROR(VLOOKUP($A73+8860000,'Growth Data'!$A:$F,4,0)),\"NO\",VLOOKUP($A73+8860000,'Growth Data'!$A:$F,4,0))","v":"NO"},0,null,0,{"$f":"IF(ISERROR(VLOOKUP($A73+8860000,'Growth Data'!$A:$Z,8,0)),0,VLOOKUP($A73+8860000,'Growth Data'!$A:$Z,8,0))","v":0},0,null,0,{"$f":"IF(ISERROR(VLOOKUP($A73+8860000,'Growth Data'!$A:$Z,9,0)),0,VLOOKUP($A73+8860000,'Growth Data'!$A:$Z,9,0))","v":0},0,null,"NO",{"$f":"IF(ISERROR(VLOOKUP($A73+8860000,'Growth Data'!$A:$Z,5,0)),\"NO\",VLOOKUP($A73+8860000,'Growth Data'!$A:$Z,5,0))","v":"NO"},0,null,0,{"$f":"IF(ISERROR(VLOOKUP($A73+8860000,'Growth Data'!$A:$Z,10,0)),0,VLOOKUP($A73+8860000,'Growth Data'!$A:$Z,10,0))","v":0},0,null,0,{"$f":"IF(ISERROR(VLOOKUP($A73+8860000,'Growth Data'!$A:$Z,11,0)),0,VLOOKUP($A73+8860000,'Growth Data'!$A:$Z,11,0))","v":0},0]
[2279,"Brook Community Primary School",null,"Brook Community Primary School","Brook Community Primary School",0,null,399759.93,399759.9279529163,0,null,0,0,0,null,399759.93,399759.9279529163,0,null,2259.64,2259.6380752000005,0,null,null,null,0,null,0,0,0,null,31121.57,31121.567520116303,0,null,2887.84,2887.8432479883695,0,null,0,null,0,null,0,null,0,null,0,null,0,null,0,null,0,null,0,null,0,null,0,null,0,null,"NO",{"$f":"IF(ISERROR(VLOOKUP($A74+8860000,'Growth Data'!$A:$F,3,0)),\"NO\",VLOOKUP($A74+8860000,'Growth Data'!$A:$F,3,0))","v":"NO"},0,null,0,{"$f":"IF(BM74=\"YES\",IF(ISERROR(VLOOKUP($A74+8860000,'Growth Data'!$A:$F,6,0)),0,VLOOKUP($A74+8860000,'Growth Data'!$A:$F,6,0)),0)","v":0},0,null,0,{"$f":"IF(ISERROR(VLOOKUP($A74+8860000,'Growth Data'!$A:$Z,7,0)),0,VLOOKUP($A74+8860000,'Growth Data'!$A:$Z,7,0))","v":0},0,null,"NO",{"$f":"IF(ISERROR(VLOOKUP($A74+8860000,'Growth Data'!$A:$F,4,0)),\"NO\",VLOOKUP($A74+8860000,'Growth Data'!$A:$F,4,0))","v":"NO"},0,null,0,{"$f":"IF(ISERROR(VLOOKUP($A74+8860000,'Growth Data'!$A:$Z,8,0)),0,VLOOKUP($A74+8860000,'Growth Data'!$A:$Z,8,0))","v":0},0,null,0,{"$f":"IF(ISERROR(VLOOKUP($A74+8860000,'Growth Data'!$A:$Z,9,0)),0,VLOOKUP($A74+8860000,'Growth Data'!$A:$Z,9,0))","v":0},0,null,"NO",{"$f":"IF(ISERROR(VLOOKUP($A74+8860000,'Growth Data'!$A:$Z,5,0)),\"NO\",VLOOKUP($A74+8860000,'Growth Data'!$A:$Z,5,0))","v":"NO"},0,null,0,{"$f":"IF(ISERROR(VLOOKUP($A74+8860000,'Growth Data'!$A:$Z,10,0)),0,VLOOKUP($A74+8860000,'Growth Data'!$A:$Z,10,0))","v":0},0,null,0,{"$f":"IF(ISERROR(VLOOKUP($A74+8860000,'Growth Data'!$A:$Z,11,0)),0,VLOOKUP($A74+8860000,'Growth Data'!$A:$Z,11,0))","v":0},0]
[2280,"Challock Primary School",null,"Challock Primary School","Challock Primary School",0,null,757268.7,757268.70213959052,0,null,0,0,0,null,757268.7,757268.70213959052,0,null,5418,5417.9958393999996,0,null,null,null,0,null,0,0,0,null,41804.26,41804.256265490476,0,null,1819.57,1819.5743734509524,0,null,0,null,0,null,0,null,0,null,0,null,0,null,0,null,0,null,0,null,0,null,0,null,0,null,"NO",{"$f":"IF(ISERROR(VLOOKUP($A75+8860000,'Growth Data'!$A:$F,3,0)),\"NO\",VLOOKUP($A75+8860000,'Growth Data'!$A:$F,3,0))","v":"NO"},0,null,0,{"$f":"IF(BM75=\"YES\",IF(ISERROR(VLOOKUP($A75+8860000,'Growth Data'!$A:$F,6,0)),0,VLOOKUP($A75+8860000,'Growth Data'!$A:$F,6,0)),0)","v":0},0,null,0,{"$f":"IF(ISERROR(VLOOKUP($A75+8860000,'Growth Data'!$A:$Z,7,0)),0,VLOOKUP($A75+8860000,'Growth Data'!$A:$Z,7,0))","v":0},0,null,"NO",{"$f":"IF(ISERROR(VLOOKUP($A75+8860000,'Growth Data'!$A:$F,4,0)),\"NO\",VLOOKUP($A75+8860000,'Growth Data'!$A:$F,4,0))","v":"NO"},0,null,0,{"$f":"IF(ISERROR(VLOOKUP($A75+8860000,'Growth Data'!$A:$Z,8,0)),0,VLOOKUP($A75+8860000,'Growth Data'!$A:$Z,8,0))","v":0},0,null,0,{"$f":"IF(ISERROR(VLOOKUP($A75+8860000,'Growth Data'!$A:$Z,9,0)),0,VLOOKUP($A75+8860000,'Growth Data'!$A:$Z,9,0))","v":0},0,null,"NO",{"$f":"IF(ISERROR(VLOOKUP($A75+8860000,'Growth Data'!$A:$Z,5,0)),\"NO\",VLOOKUP($A75+8860000,'Growth Data'!$A:$Z,5,0))","v":"NO"},0,null,0,{"$f":"IF(ISERROR(VLOOKUP($A75+8860000,'Growth Data'!$A:$Z,10,0)),0,VLOOKUP($A75+8860000,'Growth Data'!$A:$Z,10,0))","v":0},0,null,0,{"$f":"IF(ISERROR(VLOOKUP($A75+8860000,'Growth Data'!$A:$Z,11,0)),0,VLOOKUP($A75+8860000,'Growth Data'!$A:$Z,11,0))","v":0},0]
[2282,"Great Chart Primary School",null,"Great Chart Primary School","Great Chart Primary School",0,null,1614775.3,1614775.3032913203,0,null,0,0,0,null,1614775.3,1614775.3032913203,0,null,12402.33,12402.331708199999,0,null,null,null,0,null,0,0,0,null,117941.4,117941.39633402016,0,null,0,0,0,null,0,null,0,null,0,null,0,null,0,null,0,null,0,null,0,null,0,null,0,null,0,null,0,null,"NO",{"$f":"IF(ISERROR(VLOOKUP($A76+8860000,'Growth Data'!$A:$F,3,0)),\"NO\",VLOOKUP($A76+8860000,'Growth Data'!$A:$F,3,0))","v":"NO"},0,null,0,{"$f":"IF(BM76=\"YES\",IF(ISERROR(VLOOKUP($A76+8860000,'Growth Data'!$A:$F,6,0)),0,VLOOKUP($A76+8860000,'Growth Data'!$A:$F,6,0)),0)","v":0},0,null,0,{"$f":"IF(ISERROR(VLOOKUP($A76+8860000,'Growth Data'!$A:$Z,7,0)),0,VLOOKUP($A76+8860000,'Growth Data'!$A:$Z,7,0))","v":0},0,null,"NO",{"$f":"IF(ISERROR(VLOOKUP($A76+8860000,'Growth Data'!$A:$F,4,0)),\"NO\",VLOOKUP($A76+8860000,'Growth Data'!$A:$F,4,0))","v":"NO"},0,null,0,{"$f":"IF(ISERROR(VLOOKUP($A76+8860000,'Growth Data'!$A:$Z,8,0)),0,VLOOKUP($A76+8860000,'Growth Data'!$A:$Z,8,0))","v":0},0,null,0,{"$f":"IF(ISERROR(VLOOKUP($A76+8860000,'Growth Data'!$A:$Z,9,0)),0,VLOOKUP($A76+8860000,'Growth Data'!$A:$Z,9,0))","v":0},0,null,"NO",{"$f":"IF(ISERROR(VLOOKUP($A76+8860000,'Growth Data'!$A:$Z,5,0)),\"NO\",VLOOKUP($A76+8860000,'Growth Data'!$A:$Z,5,0))","v":"NO"},0,null,0,{"$f":"IF(ISERROR(VLOOKUP($A76+8860000,'Growth Data'!$A:$Z,10,0)),0,VLOOKUP($A76+8860000,'Growth Data'!$A:$Z,10,0))","v":0},0,null,0,{"$f":"IF(ISERROR(VLOOKUP($A76+8860000,'Growth Data'!$A:$Z,11,0)),0,VLOOKUP($A76+8860000,'Growth Data'!$A:$Z,11,0))","v":0},0]
[2285,"Mersham Primary School",null,"Mersham Primary School","Mersham Primary School",0,null,713366.82,713366.82160172542,0,null,0,0,0,null,713366.82,713366.82160172542,0,null,5109.8599999999997,5109.8633746000005,0,null,null,null,0,null,0,0,0,null,41333.480000000003,41333.482804825398,0,null,1866.65,1866.6517195174602,0,null,0,null,0,null,0,null,0,null,0,null,0,null,0,null,0,null,0,null,0,null,0,null,0,null,"NO",{"$f":"IF(ISERROR(VLOOKUP($A77+8860000,'Growth Data'!$A:$F,3,0)),\"NO\",VLOOKUP($A77+8860000,'Growth Data'!$A:$F,3,0))","v":"NO"},0,null,0,{"$f":"IF(BM77=\"YES\",IF(ISERROR(VLOOKUP($A77+8860000,'Growth Data'!$A:$F,6,0)),0,VLOOKUP($A77+8860000,'Growth Data'!$A:$F,6,0)),0)","v":0},0,null,0,{"$f":"IF(ISERROR(VLOOKUP($A77+8860000,'Growth Data'!$A:$Z,7,0)),0,VLOOKUP($A77+8860000,'Growth Data'!$A:$Z,7,0))","v":0},0,null,"NO",{"$f":"IF(ISERROR(VLOOKUP($A77+8860000,'Growth Data'!$A:$F,4,0)),\"NO\",VLOOKUP($A77+8860000,'Growth Data'!$A:$F,4,0))","v":"NO"},0,null,0,{"$f":"IF(ISERROR(VLOOKUP($A77+8860000,'Growth Data'!$A:$Z,8,0)),0,VLOOKUP($A77+8860000,'Growth Data'!$A:$Z,8,0))","v":0},0,null,0,{"$f":"IF(ISERROR(VLOOKUP($A77+8860000,'Growth Data'!$A:$Z,9,0)),0,VLOOKUP($A77+8860000,'Growth Data'!$A:$Z,9,0))","v":0},0,null,"NO",{"$f":"IF(ISERROR(VLOOKUP($A77+8860000,'Growth Data'!$A:$Z,5,0)),\"NO\",VLOOKUP($A77+8860000,'Growth Data'!$A:$Z,5,0))","v":"NO"},0,null,0,{"$f":"IF(ISERROR(VLOOKUP($A77+8860000,'Growth Data'!$A:$Z,10,0)),0,VLOOKUP($A77+8860000,'Growth Data'!$A:$Z,10,0))","v":0},0,null,0,{"$f":"IF(ISERROR(VLOOKUP($A77+8860000,'Growth Data'!$A:$Z,11,0)),0,VLOOKUP($A77+8860000,'Growth Data'!$A:$Z,11,0))","v":0},0]
[2287,"Rolvenden Primary School",null,"Rolvenden Primary School","Rolvenden Primary School",0,null,478889.59,478889.59306625434,0,null,0,0,0,null,478889.59,478889.59306625434,0,null,2721.84,2721.8367724,0,null,null,null,0,null,0,0,0,null,44777.02,44777.018510845257,0,null,1522.3,1522.2981489154745,0,null,0,null,0,null,0,null,0,null,0,null,0,null,0,null,0,null,0,null,0,null,0,null,0,null,"NO",{"$f":"IF(ISERROR(VLOOKUP($A78+8860000,'Growth Data'!$A:$F,3,0)),\"NO\",VLOOKUP($A78+8860000,'Growth Data'!$A:$F,3,0))","v":"NO"},0,null,0,{"$f":"IF(BM78=\"YES\",IF(ISERROR(VLOOKUP($A78+8860000,'Growth Data'!$A:$F,6,0)),0,VLOOKUP($A78+8860000,'Growth Data'!$A:$F,6,0)),0)","v":0},0,null,0,{"$f":"IF(ISERROR(VLOOKUP($A78+8860000,'Growth Data'!$A:$Z,7,0)),0,VLOOKUP($A78+8860000,'Growth Data'!$A:$Z,7,0))","v":0},0,null,"NO",{"$f":"IF(ISERROR(VLOOKUP($A78+8860000,'Growth Data'!$A:$F,4,0)),\"NO\",VLOOKUP($A78+8860000,'Growth Data'!$A:$F,4,0))","v":"NO"},0,null,0,{"$f":"IF(ISERROR(VLOOKUP($A78+8860000,'Growth Data'!$A:$Z,8,0)),0,VLOOKUP($A78+8860000,'Growth Data'!$A:$Z,8,0))","v":0},0,null,0,{"$f":"IF(ISERROR(VLOOKUP($A78+8860000,'Growth Data'!$A:$Z,9,0)),0,VLOOKUP($A78+8860000,'Growth Data'!$A:$Z,9,0))","v":0},0,null,"NO",{"$f":"IF(ISERROR(VLOOKUP($A78+8860000,'Growth Data'!$A:$Z,5,0)),\"NO\",VLOOKUP($A78+8860000,'Growth Data'!$A:$Z,5,0))","v":"NO"},0,null,0,{"$f":"IF(ISERROR(VLOOKUP($A78+8860000,'Growth Data'!$A:$Z,10,0)),0,VLOOKUP($A78+8860000,'Growth Data'!$A:$Z,10,0))","v":0},0,null,0,{"$f":"IF(ISERROR(VLOOKUP($A78+8860000,'Growth Data'!$A:$Z,11,0)),0,VLOOKUP($A78+8860000,'Growth Data'!$A:$Z,11,0))","v":0},0]
[2289,"Smeeth Community Primary School",null,"Smeeth Community Primary School","Smeeth Community Primary School",0,null,542164.62,542164.62188911904,0,null,0,0,0,null,542164.62,542164.62188911904,0,null,3543.52,3543.5233452000002,0,null,null,null,0,null,0,0,0,null,33598.42,33598.419101318977,0,null,2640.16,2640.1580898681023,0,null,0,null,0,null,0,null,0,null,0,null,0,null,0,null,0,null,0,null,0,null,0,null,0,null,"NO",{"$f":"IF(ISERROR(VLOOKUP($A79+8860000,'Growth Data'!$A:$F,3,0)),\"NO\",VLOOKUP($A79+8860000,'Growth Data'!$A:$F,3,0))","v":"NO"},0,null,0,{"$f":"IF(BM79=\"YES\",IF(ISERROR(VLOOKUP($A79+8860000,'Growth Data'!$A:$F,6,0)),0,VLOOKUP($A79+8860000,'Growth Data'!$A:$F,6,0)),0)","v":0},0,null,0,{"$f":"IF(ISERROR(VLOOKUP($A79+8860000,'Growth Data'!$A:$Z,7,0)),0,VLOOKUP($A79+8860000,'Growth Data'!$A:$Z,7,0))","v":0},0,null,"NO",{"$f":"IF(ISERROR(VLOOKUP($A79+8860000,'Growth Data'!$A:$F,4,0)),\"NO\",VLOOKUP($A79+8860000,'Growth Data'!$A:$F,4,0))","v":"NO"},0,null,0,{"$f":"IF(ISERROR(VLOOKUP($A79+8860000,'Growth Data'!$A:$Z,8,0)),0,VLOOKUP($A79+8860000,'Growth Data'!$A:$Z,8,0))","v":0},0,null,0,{"$f":"IF(ISERROR(VLOOKUP($A79+8860000,'Growth Data'!$A:$Z,9,0)),0,VLOOKUP($A79+8860000,'Growth Data'!$A:$Z,9,0))","v":0},0,null,"NO",{"$f":"IF(ISERROR(VLOOKUP($A79+8860000,'Growth Data'!$A:$Z,5,0)),\"NO\",VLOOKUP($A79+8860000,'Growth Data'!$A:$Z,5,0))","v":"NO"},0,null,0,{"$f":"IF(ISERROR(VLOOKUP($A79+8860000,'Growth Data'!$A:$Z,10,0)),0,VLOOKUP($A79+8860000,'Growth Data'!$A:$Z,10,0))","v":0},0,null,0,{"$f":"IF(ISERROR(VLOOKUP($A79+8860000,'Growth Data'!$A:$Z,11,0)),0,VLOOKUP($A79+8860000,'Growth Data'!$A:$Z,11,0))","v":0},0]
[2296,"Mundella Primary School",null,"Mundella Primary School","Mundella Primary School",0,null,853050.13,853050.12940762122,0,null,0,0,0,null,853050.13,853050.12940762122,0,null,4981.47,4981.4748475999986,0,null,null,null,0,null,0,0,0,null,162749.91,162749.91252622113,0,null,0,0,0,null,0,null,0,null,0,null,0,null,0,null,0,null,0,null,0,null,0,null,0,null,0,null,0,null,"NO",{"$f":"IF(ISERROR(VLOOKUP($A80+8860000,'Growth Data'!$A:$F,3,0)),\"NO\",VLOOKUP($A80+8860000,'Growth Data'!$A:$F,3,0))","v":"NO"},0,null,0,{"$f":"IF(BM80=\"YES\",IF(ISERROR(VLOOKUP($A80+8860000,'Growth Data'!$A:$F,6,0)),0,VLOOKUP($A80+8860000,'Growth Data'!$A:$F,6,0)),0)","v":0},0,null,0,{"$f":"IF(ISERROR(VLOOKUP($A80+8860000,'Growth Data'!$A:$Z,7,0)),0,VLOOKUP($A80+8860000,'Growth Data'!$A:$Z,7,0))","v":0},0,null,"NO",{"$f":"IF(ISERROR(VLOOKUP($A80+8860000,'Growth Data'!$A:$F,4,0)),\"NO\",VLOOKUP($A80+8860000,'Growth Data'!$A:$F,4,0))","v":"NO"},0,null,0,{"$f":"IF(ISERROR(VLOOKUP($A80+8860000,'Growth Data'!$A:$Z,8,0)),0,VLOOKUP($A80+8860000,'Growth Data'!$A:$Z,8,0))","v":0},0,null,0,{"$f":"IF(ISERROR(VLOOKUP($A80+8860000,'Growth Data'!$A:$Z,9,0)),0,VLOOKUP($A80+8860000,'Growth Data'!$A:$Z,9,0))","v":0},0,null,"NO",{"$f":"IF(ISERROR(VLOOKUP($A80+8860000,'Growth Data'!$A:$Z,5,0)),\"NO\",VLOOKUP($A80+8860000,'Growth Data'!$A:$Z,5,0))","v":"NO"},0,null,0,{"$f":"IF(ISERROR(VLOOKUP($A80+8860000,'Growth Data'!$A:$Z,10,0)),0,VLOOKUP($A80+8860000,'Growth Data'!$A:$Z,10,0))","v":0},0,null,0,{"$f":"IF(ISERROR(VLOOKUP($A80+8860000,'Growth Data'!$A:$Z,11,0)),0,VLOOKUP($A80+8860000,'Growth Data'!$A:$Z,11,0))","v":0},0]
[2298,"Hawkinge Primary School",null,"Hawkinge Primary School","Hawkinge Primary School",0,null,1305614.17,1305614.1744953953,0,null,0,0,0,null,1305614.17,1305614.1744953953,0,null,9526.43,9526.4287034000008,0,null,null,null,0,null,0,0,0,null,140853.79,140853.79172529536,0,null,0,0,0,null,0,null,0,null,0,null,0,null,0,null,0,null,0,null,0,null,0,null,0,null,0,null,0,null,"YES",{"$f":"IF(ISERROR(VLOOKUP($A81+8860000,'Growth Data'!$A:$F,3,0)),\"NO\",VLOOKUP($A81+8860000,'Growth Data'!$A:$F,3,0))","v":"YES"},0,null,45,{"$f":"IF(BM81=\"YES\",IF(ISERROR(VLOOKUP($A81+8860000,'Growth Data'!$A:$F,6,0)),0,VLOOKUP($A81+8860000,'Growth Data'!$A:$F,6,0)),0)","v":45},0,null,60,{"$f":"IF(ISERROR(VLOOKUP($A81+8860000,'Growth Data'!$A:$Z,7,0)),0,VLOOKUP($A81+8860000,'Growth Data'!$A:$Z,7,0))","v":60},0,null,"NO",{"$f":"IF(ISERROR(VLOOKUP($A81+8860000,'Growth Data'!$A:$F,4,0)),\"NO\",VLOOKUP($A81+8860000,'Growth Data'!$A:$F,4,0))","v":"NO"},0,null,0,{"$f":"IF(ISERROR(VLOOKUP($A81+8860000,'Growth Data'!$A:$Z,8,0)),0,VLOOKUP($A81+8860000,'Growth Data'!$A:$Z,8,0))","v":0},0,null,0,{"$f":"IF(ISERROR(VLOOKUP($A81+8860000,'Growth Data'!$A:$Z,9,0)),0,VLOOKUP($A81+8860000,'Growth Data'!$A:$Z,9,0))","v":0},0,null,"NO",{"$f":"IF(ISERROR(VLOOKUP($A81+8860000,'Growth Data'!$A:$Z,5,0)),\"NO\",VLOOKUP($A81+8860000,'Growth Data'!$A:$Z,5,0))","v":"NO"},0,null,0,{"$f":"IF(ISERROR(VLOOKUP($A81+8860000,'Growth Data'!$A:$Z,10,0)),0,VLOOKUP($A81+8860000,'Growth Data'!$A:$Z,10,0))","v":0},0,null,0,{"$f":"IF(ISERROR(VLOOKUP($A81+8860000,'Growth Data'!$A:$Z,11,0)),0,VLOOKUP($A81+8860000,'Growth Data'!$A:$Z,11,0))","v":0},0]
[2300,"Sellindge Primary School",null,"Sellindge Primary School","Sellindge Primary School",0,null,462916.04,462916.03596766025,0,null,0,0,0,null,462916.04,462916.03596766025,0,null,2850.23,2850.2252994,0,null,null,null,0,null,0,0,0,null,24299.83,24299.828803560249,0,null,3570.02,3570.0171196439751,0,null,0,null,0,null,0,null,0,null,0,null,0,null,0,null,0,null,0,null,0,null,0,null,0,null,"NO",{"$f":"IF(ISERROR(VLOOKUP($A82+8860000,'Growth Data'!$A:$F,3,0)),\"NO\",VLOOKUP($A82+8860000,'Growth Data'!$A:$F,3,0))","v":"NO"},0,null,0,{"$f":"IF(BM82=\"YES\",IF(ISERROR(VLOOKUP($A82+8860000,'Growth Data'!$A:$F,6,0)),0,VLOOKUP($A82+8860000,'Growth Data'!$A:$F,6,0)),0)","v":0},0,null,0,{"$f":"IF(ISERROR(VLOOKUP($A82+8860000,'Growth Data'!$A:$Z,7,0)),0,VLOOKUP($A82+8860000,'Growth Data'!$A:$Z,7,0))","v":0},0,null,"NO",{"$f":"IF(ISERROR(VLOOKUP($A82+8860000,'Growth Data'!$A:$F,4,0)),\"NO\",VLOOKUP($A82+8860000,'Growth Data'!$A:$F,4,0))","v":"NO"},0,null,0,{"$f":"IF(ISERROR(VLOOKUP($A82+8860000,'Growth Data'!$A:$Z,8,0)),0,VLOOKUP($A82+8860000,'Growth Data'!$A:$Z,8,0))","v":0},0,null,0,{"$f":"IF(ISERROR(VLOOKUP($A82+8860000,'Growth Data'!$A:$Z,9,0)),0,VLOOKUP($A82+8860000,'Growth Data'!$A:$Z,9,0))","v":0},0,null,"NO",{"$f":"IF(ISERROR(VLOOKUP($A82+8860000,'Growth Data'!$A:$Z,5,0)),\"NO\",VLOOKUP($A82+8860000,'Growth Data'!$A:$Z,5,0))","v":"NO"},0,null,0,{"$f":"IF(ISERROR(VLOOKUP($A82+8860000,'Growth Data'!$A:$Z,10,0)),0,VLOOKUP($A82+8860000,'Growth Data'!$A:$Z,10,0))","v":0},0,null,0,{"$f":"IF(ISERROR(VLOOKUP($A82+8860000,'Growth Data'!$A:$Z,11,0)),0,VLOOKUP($A82+8860000,'Growth Data'!$A:$Z,11,0))","v":0},0]
[2312,"River Primary School",null,"River Primary School","River Primary School",0,null,1481678.08,1481678.0813440792,0,null,0,0,0,null,1481678.08,1481678.0813440792,0,null,10990.06,10990.057911200001,0,null,null,null,0,null,0,0,0,null,139979.12,139979.12305727907,0,null,0,0,0,null,8000,null,8000,null,72000,null,72000,null,0,null,0,null,0,null,0,null,0,null,0,null,0,null,0,null,"NO",{"$f":"IF(ISERROR(VLOOKUP($A83+8860000,'Growth Data'!$A:$F,3,0)),\"NO\",VLOOKUP($A83+8860000,'Growth Data'!$A:$F,3,0))","v":"NO"},0,null,0,{"$f":"IF(BM83=\"YES\",IF(ISERROR(VLOOKUP($A83+8860000,'Growth Data'!$A:$F,6,0)),0,VLOOKUP($A83+8860000,'Growth Data'!$A:$F,6,0)),0)","v":0},0,null,0,{"$f":"IF(ISERROR(VLOOKUP($A83+8860000,'Growth Data'!$A:$Z,7,0)),0,VLOOKUP($A83+8860000,'Growth Data'!$A:$Z,7,0))","v":0},0,null,"NO",{"$f":"IF(ISERROR(VLOOKUP($A83+8860000,'Growth Data'!$A:$F,4,0)),\"NO\",VLOOKUP($A83+8860000,'Growth Data'!$A:$F,4,0))","v":"NO"},0,null,0,{"$f":"IF(ISERROR(VLOOKUP($A83+8860000,'Growth Data'!$A:$Z,8,0)),0,VLOOKUP($A83+8860000,'Growth Data'!$A:$Z,8,0))","v":0},0,null,0,{"$f":"IF(ISERROR(VLOOKUP($A83+8860000,'Growth Data'!$A:$Z,9,0)),0,VLOOKUP($A83+8860000,'Growth Data'!$A:$Z,9,0))","v":0},0,null,"NO",{"$f":"IF(ISERROR(VLOOKUP($A83+8860000,'Growth Data'!$A:$Z,5,0)),\"NO\",VLOOKUP($A83+8860000,'Growth Data'!$A:$Z,5,0))","v":"NO"},0,null,0,{"$f":"IF(ISERROR(VLOOKUP($A83+8860000,'Growth Data'!$A:$Z,10,0)),0,VLOOKUP($A83+8860000,'Growth Data'!$A:$Z,10,0))","v":0},0,null,0,{"$f":"IF(ISERROR(VLOOKUP($A83+8860000,'Growth Data'!$A:$Z,11,0)),0,VLOOKUP($A83+8860000,'Growth Data'!$A:$Z,11,0))","v":0},0]
[2318,"Langdon Primary School",null,"Langdon Primary School","Langdon Primary School",0,null,374758.05,374758.0530047639,0,null,0,0,0,null,374758.05,374758.0530047639,0,null,2105.5700000000002,2105.5718428000005,0,null,null,null,0,null,0,0,0,null,28440.83,28440.82671056391,0,null,3155.92,3155.9173289436089,0,null,0,null,0,null,0,null,0,null,0,null,0,null,0,null,0,null,0,null,0,null,0,null,0,null,"NO",{"$f":"IF(ISERROR(VLOOKUP($A84+8860000,'Growth Data'!$A:$F,3,0)),\"NO\",VLOOKUP($A84+8860000,'Growth Data'!$A:$F,3,0))","v":"NO"},0,null,0,{"$f":"IF(BM84=\"YES\",IF(ISERROR(VLOOKUP($A84+8860000,'Growth Data'!$A:$F,6,0)),0,VLOOKUP($A84+8860000,'Growth Data'!$A:$F,6,0)),0)","v":0},0,null,0,{"$f":"IF(ISERROR(VLOOKUP($A84+8860000,'Growth Data'!$A:$Z,7,0)),0,VLOOKUP($A84+8860000,'Growth Data'!$A:$Z,7,0))","v":0},0,null,"NO",{"$f":"IF(ISERROR(VLOOKUP($A84+8860000,'Growth Data'!$A:$F,4,0)),\"NO\",VLOOKUP($A84+8860000,'Growth Data'!$A:$F,4,0))","v":"NO"},0,null,0,{"$f":"IF(ISERROR(VLOOKUP($A84+8860000,'Growth Data'!$A:$Z,8,0)),0,VLOOKUP($A84+8860000,'Growth Data'!$A:$Z,8,0))","v":0},0,null,0,{"$f":"IF(ISERROR(VLOOKUP($A84+8860000,'Growth Data'!$A:$Z,9,0)),0,VLOOKUP($A84+8860000,'Growth Data'!$A:$Z,9,0))","v":0},0,null,"NO",{"$f":"IF(ISERROR(VLOOKUP($A84+8860000,'Growth Data'!$A:$Z,5,0)),\"NO\",VLOOKUP($A84+8860000,'Growth Data'!$A:$Z,5,0))","v":"NO"},0,null,0,{"$f":"IF(ISERROR(VLOOKUP($A84+8860000,'Growth Data'!$A:$Z,10,0)),0,VLOOKUP($A84+8860000,'Growth Data'!$A:$Z,10,0))","v":0},0,null,0,{"$f":"IF(ISERROR(VLOOKUP($A84+8860000,'Growth Data'!$A:$Z,11,0)),0,VLOOKUP($A84+8860000,'Growth Data'!$A:$Z,11,0))","v":0},0]
[2320,"Eythorne Elvington Community Primary School",null,"Eythorne Elvington Community Primary School","Eythorne Elvington Community Primary School",0,null,487463.78,487463.77767202939,0,null,7287.88,7287.882831090712,0,null,494751.66,494751.6605031201,0,null,2644.8,2644.8036561999998,0,null,null,null,0,null,0,0,0,null,56864.03,56864.02789272934,0,null,313.60000000000002,313.59721072706543,0,null,0,null,0,null,0,null,0,null,0,null,0,null,0,null,0,null,0,null,0,null,0,null,0,null,"NO",{"$f":"IF(ISERROR(VLOOKUP($A85+8860000,'Growth Data'!$A:$F,3,0)),\"NO\",VLOOKUP($A85+8860000,'Growth Data'!$A:$F,3,0))","v":"NO"},0,null,0,{"$f":"IF(BM85=\"YES\",IF(ISERROR(VLOOKUP($A85+8860000,'Growth Data'!$A:$F,6,0)),0,VLOOKUP($A85+8860000,'Growth Data'!$A:$F,6,0)),0)","v":0},0,null,0,{"$f":"IF(ISERROR(VLOOKUP($A85+8860000,'Growth Data'!$A:$Z,7,0)),0,VLOOKUP($A85+8860000,'Growth Data'!$A:$Z,7,0))","v":0},0,null,"NO",{"$f":"IF(ISERROR(VLOOKUP($A85+8860000,'Growth Data'!$A:$F,4,0)),\"NO\",VLOOKUP($A85+8860000,'Growth Data'!$A:$F,4,0))","v":"NO"},0,null,0,{"$f":"IF(ISERROR(VLOOKUP($A85+8860000,'Growth Data'!$A:$Z,8,0)),0,VLOOKUP($A85+8860000,'Growth Data'!$A:$Z,8,0))","v":0},0,null,0,{"$f":"IF(ISERROR(VLOOKUP($A85+8860000,'Growth Data'!$A:$Z,9,0)),0,VLOOKUP($A85+8860000,'Growth Data'!$A:$Z,9,0))","v":0},0,null,"NO",{"$f":"IF(ISERROR(VLOOKUP($A85+8860000,'Growth Data'!$A:$Z,5,0)),\"NO\",VLOOKUP($A85+8860000,'Growth Data'!$A:$Z,5,0))","v":"NO"},0,null,0,{"$f":"IF(ISERROR(VLOOKUP($A85+8860000,'Growth Data'!$A:$Z,10,0)),0,VLOOKUP($A85+8860000,'Growth Data'!$A:$Z,10,0))","v":0},0,null,0,{"$f":"IF(ISERROR(VLOOKUP($A85+8860000,'Growth Data'!$A:$Z,11,0)),0,VLOOKUP($A85+8860000,'Growth Data'!$A:$Z,11,0))","v":0},0]
[2321,"Lydden Primary School",null,"Lydden Primary School","Lydden Primary School",0,null,392724.14,392724.14093598496,0,null,0,0,0,null,392724.14,392724.14093598496,0,null,2310.9899999999998,2310.9934859999998,0,null,null,null,0,null,0,0,0,null,22481.62,22481.616856984998,0,null,3751.84,3751.8383143015003,0,null,0,null,0,null,0,null,0,null,0,null,0,null,0,null,0,null,0,null,0,null,0,null,0,null,"NO",{"$f":"IF(ISERROR(VLOOKUP($A86+8860000,'Growth Data'!$A:$F,3,0)),\"NO\",VLOOKUP($A86+8860000,'Growth Data'!$A:$F,3,0))","v":"NO"},0,null,0,{"$f":"IF(BM86=\"YES\",IF(ISERROR(VLOOKUP($A86+8860000,'Growth Data'!$A:$F,6,0)),0,VLOOKUP($A86+8860000,'Growth Data'!$A:$F,6,0)),0)","v":0},0,null,0,{"$f":"IF(ISERROR(VLOOKUP($A86+8860000,'Growth Data'!$A:$Z,7,0)),0,VLOOKUP($A86+8860000,'Growth Data'!$A:$Z,7,0))","v":0},0,null,"NO",{"$f":"IF(ISERROR(VLOOKUP($A86+8860000,'Growth Data'!$A:$F,4,0)),\"NO\",VLOOKUP($A86+8860000,'Growth Data'!$A:$F,4,0))","v":"NO"},0,null,0,{"$f":"IF(ISERROR(VLOOKUP($A86+8860000,'Growth Data'!$A:$Z,8,0)),0,VLOOKUP($A86+8860000,'Growth Data'!$A:$Z,8,0))","v":0},0,null,0,{"$f":"IF(ISERROR(VLOOKUP($A86+8860000,'Growth Data'!$A:$Z,9,0)),0,VLOOKUP($A86+8860000,'Growth Data'!$A:$Z,9,0))","v":0},0,null,"NO",{"$f":"IF(ISERROR(VLOOKUP($A86+8860000,'Growth Data'!$A:$Z,5,0)),\"NO\",VLOOKUP($A86+8860000,'Growth Data'!$A:$Z,5,0))","v":"NO"},0,null,0,{"$f":"IF(ISERROR(VLOOKUP($A86+8860000,'Growth Data'!$A:$Z,10,0)),0,VLOOKUP($A86+8860000,'Growth Data'!$A:$Z,10,0))","v":0},0,null,0,{"$f":"IF(ISERROR(VLOOKUP($A86+8860000,'Growth Data'!$A:$Z,11,0)),0,VLOOKUP($A86+8860000,'Growth Data'!$A:$Z,11,0))","v":0},0]
[2322,"Preston Primary School",null,"Preston Primary School","Preston Primary School",0,null,502365.58,502365.57810877706,0,null,0,0,0,null,502365.58,502365.57810877706,0,null,3107,3107.0023534000002,0,null,null,null,0,null,0,0,0,null,35239.370000000003,35239.370380432723,0,null,2476.06,2476.0629619567276,0,null,0,null,0,null,0,null,0,null,0,null,0,null,0,null,0,null,0,null,0,null,0,null,0,null,"NO",{"$f":"IF(ISERROR(VLOOKUP($A87+8860000,'Growth Data'!$A:$F,3,0)),\"NO\",VLOOKUP($A87+8860000,'Growth Data'!$A:$F,3,0))","v":"NO"},0,null,0,{"$f":"IF(BM87=\"YES\",IF(ISERROR(VLOOKUP($A87+8860000,'Growth Data'!$A:$F,6,0)),0,VLOOKUP($A87+8860000,'Growth Data'!$A:$F,6,0)),0)","v":0},0,null,0,{"$f":"IF(ISERROR(VLOOKUP($A87+8860000,'Growth Data'!$A:$Z,7,0)),0,VLOOKUP($A87+8860000,'Growth Data'!$A:$Z,7,0))","v":0},0,null,"NO",{"$f":"IF(ISERROR(VLOOKUP($A87+8860000,'Growth Data'!$A:$F,4,0)),\"NO\",VLOOKUP($A87+8860000,'Growth Data'!$A:$F,4,0))","v":"NO"},0,null,0,{"$f":"IF(ISERROR(VLOOKUP($A87+8860000,'Growth Data'!$A:$Z,8,0)),0,VLOOKUP($A87+8860000,'Growth Data'!$A:$Z,8,0))","v":0},0,null,0,{"$f":"IF(ISERROR(VLOOKUP($A87+8860000,'Growth Data'!$A:$Z,9,0)),0,VLOOKUP($A87+8860000,'Growth Data'!$A:$Z,9,0))","v":0},0,null,"NO",{"$f":"IF(ISERROR(VLOOKUP($A87+8860000,'Growth Data'!$A:$Z,5,0)),\"NO\",VLOOKUP($A87+8860000,'Growth Data'!$A:$Z,5,0))","v":"NO"},0,null,0,{"$f":"IF(ISERROR(VLOOKUP($A87+8860000,'Growth Data'!$A:$Z,10,0)),0,VLOOKUP($A87+8860000,'Growth Data'!$A:$Z,10,0))","v":0},0,null,0,{"$f":"IF(ISERROR(VLOOKUP($A87+8860000,'Growth Data'!$A:$Z,11,0)),0,VLOOKUP($A87+8860000,'Growth Data'!$A:$Z,11,0))","v":0},0]
[2326,"Wingham Primary School",null,"Wingham Primary School","Wingham Primary School",0,null,742642.59,742642.58656912111,0,null,0,0,0,null,742642.59,742642.58656912111,0,null,5084.1899999999996,5084.1856692000001,0,null,null,null,0,null,0,0,0,null,46957.31,46957.311595321073,0,null,1304.27,1304.2688404678929,0,null,0,null,0,null,0,null,0,null,0,null,0,null,0,null,0,null,0,null,0,null,0,null,0,null,"NO",{"$f":"IF(ISERROR(VLOOKUP($A88+8860000,'Growth Data'!$A:$F,3,0)),\"NO\",VLOOKUP($A88+8860000,'Growth Data'!$A:$F,3,0))","v":"NO"},0,null,0,{"$f":"IF(BM88=\"YES\",IF(ISERROR(VLOOKUP($A88+8860000,'Growth Data'!$A:$F,6,0)),0,VLOOKUP($A88+8860000,'Growth Data'!$A:$F,6,0)),0)","v":0},0,null,0,{"$f":"IF(ISERROR(VLOOKUP($A88+8860000,'Growth Data'!$A:$Z,7,0)),0,VLOOKUP($A88+8860000,'Growth Data'!$A:$Z,7,0))","v":0},0,null,"NO",{"$f":"IF(ISERROR(VLOOKUP($A88+8860000,'Growth Data'!$A:$F,4,0)),\"NO\",VLOOKUP($A88+8860000,'Growth Data'!$A:$F,4,0))","v":"NO"},0,null,0,{"$f":"IF(ISERROR(VLOOKUP($A88+8860000,'Growth Data'!$A:$Z,8,0)),0,VLOOKUP($A88+8860000,'Growth Data'!$A:$Z,8,0))","v":0},0,null,0,{"$f":"IF(ISERROR(VLOOKUP($A88+8860000,'Growth Data'!$A:$Z,9,0)),0,VLOOKUP($A88+8860000,'Growth Data'!$A:$Z,9,0))","v":0},0,null,"NO",{"$f":"IF(ISERROR(VLOOKUP($A88+8860000,'Growth Data'!$A:$Z,5,0)),\"NO\",VLOOKUP($A88+8860000,'Growth Data'!$A:$Z,5,0))","v":"NO"},0,null,0,{"$f":"IF(ISERROR(VLOOKUP($A88+8860000,'Growth Data'!$A:$Z,10,0)),0,VLOOKUP($A88+8860000,'Growth Data'!$A:$Z,10,0))","v":0},0,null,0,{"$f":"IF(ISERROR(VLOOKUP($A88+8860000,'Growth Data'!$A:$Z,11,0)),0,VLOOKUP($A88+8860000,'Growth Data'!$A:$Z,11,0))","v":0},0]
[2327,"Worth Primary School",null,"Worth Primary School","Worth Primary School",0,null,328657.23,328657.23065330845,0,null,0,0,0,null,328657.23,328657.23065330845,0,null,1694.73,1694.7285563999997,0,null,null,null,0,null,0,0,0,null,25344.35,25344.349528708444,0,null,3465.57,3465.5650471291556,0,null,0,null,0,null,0,null,0,null,0,null,0,null,0,null,0,null,0,null,0,null,0,null,0,null,"NO",{"$f":"IF(ISERROR(VLOOKUP($A89+8860000,'Growth Data'!$A:$F,3,0)),\"NO\",VLOOKUP($A89+8860000,'Growth Data'!$A:$F,3,0))","v":"NO"},0,null,0,{"$f":"IF(BM89=\"YES\",IF(ISERROR(VLOOKUP($A89+8860000,'Growth Data'!$A:$F,6,0)),0,VLOOKUP($A89+8860000,'Growth Data'!$A:$F,6,0)),0)","v":0},0,null,0,{"$f":"IF(ISERROR(VLOOKUP($A89+8860000,'Growth Data'!$A:$Z,7,0)),0,VLOOKUP($A89+8860000,'Growth Data'!$A:$Z,7,0))","v":0},0,null,"NO",{"$f":"IF(ISERROR(VLOOKUP($A89+8860000,'Growth Data'!$A:$F,4,0)),\"NO\",VLOOKUP($A89+8860000,'Growth Data'!$A:$F,4,0))","v":"NO"},0,null,0,{"$f":"IF(ISERROR(VLOOKUP($A89+8860000,'Growth Data'!$A:$Z,8,0)),0,VLOOKUP($A89+8860000,'Growth Data'!$A:$Z,8,0))","v":0},0,null,0,{"$f":"IF(ISERROR(VLOOKUP($A89+8860000,'Growth Data'!$A:$Z,9,0)),0,VLOOKUP($A89+8860000,'Growth Data'!$A:$Z,9,0))","v":0},0,null,"NO",{"$f":"IF(ISERROR(VLOOKUP($A89+8860000,'Growth Data'!$A:$Z,5,0)),\"NO\",VLOOKUP($A89+8860000,'Growth Data'!$A:$Z,5,0))","v":"NO"},0,null,0,{"$f":"IF(ISERROR(VLOOKUP($A89+8860000,'Growth Data'!$A:$Z,10,0)),0,VLOOKUP($A89+8860000,'Growth Data'!$A:$Z,10,0))","v":0},0,null,0,{"$f":"IF(ISERROR(VLOOKUP($A89+8860000,'Growth Data'!$A:$Z,11,0)),0,VLOOKUP($A89+8860000,'Growth Data'!$A:$Z,11,0))","v":0},0]
[2328,"St Mildred's Primary Infant School",null,"St Mildred's Primary Infant School","St Mildred's Primary Infant School",0,null,979746.31,979746.30998672755,0,null,0,0,0,null,979746.31,979746.30998672755,0,null,6932.98,6932.980458,0,null,null,null,0,null,0,0,0,null,92712.37,92712.373749727602,0,null,0,0,0,null,0,null,0,null,0,null,0,null,0,null,0,null,0,null,0,null,0,null,0,null,0,null,0,null,"NO",{"$f":"IF(ISERROR(VLOOKUP($A90+8860000,'Growth Data'!$A:$F,3,0)),\"NO\",VLOOKUP($A90+8860000,'Growth Data'!$A:$F,3,0))","v":"NO"},0,null,0,{"$f":"IF(BM90=\"YES\",IF(ISERROR(VLOOKUP($A90+8860000,'Growth Data'!$A:$F,6,0)),0,VLOOKUP($A90+8860000,'Growth Data'!$A:$F,6,0)),0)","v":0},0,null,0,{"$f":"IF(ISERROR(VLOOKUP($A90+8860000,'Growth Data'!$A:$Z,7,0)),0,VLOOKUP($A90+8860000,'Growth Data'!$A:$Z,7,0))","v":0},0,null,"NO",{"$f":"IF(ISERROR(VLOOKUP($A90+8860000,'Growth Data'!$A:$F,4,0)),\"NO\",VLOOKUP($A90+8860000,'Growth Data'!$A:$F,4,0))","v":"NO"},0,null,0,{"$f":"IF(ISERROR(VLOOKUP($A90+8860000,'Growth Data'!$A:$Z,8,0)),0,VLOOKUP($A90+8860000,'Growth Data'!$A:$Z,8,0))","v":0},0,null,0,{"$f":"IF(ISERROR(VLOOKUP($A90+8860000,'Growth Data'!$A:$Z,9,0)),0,VLOOKUP($A90+8860000,'Growth Data'!$A:$Z,9,0))","v":0},0,null,"NO",{"$f":"IF(ISERROR(VLOOKUP($A90+8860000,'Growth Data'!$A:$Z,5,0)),\"NO\",VLOOKUP($A90+8860000,'Growth Data'!$A:$Z,5,0))","v":"NO"},0,null,0,{"$f":"IF(ISERROR(VLOOKUP($A90+8860000,'Growth Data'!$A:$Z,10,0)),0,VLOOKUP($A90+8860000,'Growth Data'!$A:$Z,10,0))","v":0},0,null,0,{"$f":"IF(ISERROR(VLOOKUP($A90+8860000,'Growth Data'!$A:$Z,11,0)),0,VLOOKUP($A90+8860000,'Growth Data'!$A:$Z,11,0))","v":0},0]
[2329,"Callis Grange Nursery & Infant School",null,"Callis Grange Nursery & Infant School","Callis Grange Nursery & Infant School",0,null,1005077.16,1005077.1639178515,0,null,2015.63,2015.6287230799207,0,null,1007092.79,1007092.7926409314,0,null,6855.95,6855.9473417999998,0,null,null,null,0,null,4.9000000000000004,4.9000000000000004,0,null,104804.67,104804.66955015145,0,null,0,0,0,null,0,null,0,null,0,null,0,null,0,null,0,null,0,null,0,null,0,null,0,null,0,null,0,null,"NO",{"$f":"IF(ISERROR(VLOOKUP($A91+8860000,'Growth Data'!$A:$F,3,0)),\"NO\",VLOOKUP($A91+8860000,'Growth Data'!$A:$F,3,0))","v":"NO"},0,null,0,{"$f":"IF(BM91=\"YES\",IF(ISERROR(VLOOKUP($A91+8860000,'Growth Data'!$A:$F,6,0)),0,VLOOKUP($A91+8860000,'Growth Data'!$A:$F,6,0)),0)","v":0},0,null,0,{"$f":"IF(ISERROR(VLOOKUP($A91+8860000,'Growth Data'!$A:$Z,7,0)),0,VLOOKUP($A91+8860000,'Growth Data'!$A:$Z,7,0))","v":0},0,null,"NO",{"$f":"IF(ISERROR(VLOOKUP($A91+8860000,'Growth Data'!$A:$F,4,0)),\"NO\",VLOOKUP($A91+8860000,'Growth Data'!$A:$F,4,0))","v":"NO"},0,null,0,{"$f":"IF(ISERROR(VLOOKUP($A91+8860000,'Growth Data'!$A:$Z,8,0)),0,VLOOKUP($A91+8860000,'Growth Data'!$A:$Z,8,0))","v":0},0,null,0,{"$f":"IF(ISERROR(VLOOKUP($A91+8860000,'Growth Data'!$A:$Z,9,0)),0,VLOOKUP($A91+8860000,'Growth Data'!$A:$Z,9,0))","v":0},0,null,"NO",{"$f":"IF(ISERROR(VLOOKUP($A91+8860000,'Growth Data'!$A:$Z,5,0)),\"NO\",VLOOKUP($A91+8860000,'Growth Data'!$A:$Z,5,0))","v":"NO"},0,null,0,{"$f":"IF(ISERROR(VLOOKUP($A91+8860000,'Growth Data'!$A:$Z,10,0)),0,VLOOKUP($A91+8860000,'Growth Data'!$A:$Z,10,0))","v":0},0,null,0,{"$f":"IF(ISERROR(VLOOKUP($A91+8860000,'Growth Data'!$A:$Z,11,0)),0,VLOOKUP($A91+8860000,'Growth Data'!$A:$Z,11,0))","v":0},0]
[2337,"St Crispin's Community Primary Infant School",null,"St Crispin's Community Primary Infant School","St Crispin's Community Primary Infant School",0,null,953177.53,953177.53064945037,0,null,17787.23,17787.234520230442,0,null,970964.77,970964.76516968082,0,null,6881.63,6881.6250472000002,0,null,null,null,0,null,0,0,0,null,74502.37,74502.365258650389,0,null,0,0,0,null,0,null,0,null,0,null,0,null,0,null,0,null,0,null,0,null,0,null,0,null,0,null,0,null,"NO",{"$f":"IF(ISERROR(VLOOKUP($A92+8860000,'Growth Data'!$A:$F,3,0)),\"NO\",VLOOKUP($A92+8860000,'Growth Data'!$A:$F,3,0))","v":"NO"},0,null,0,{"$f":"IF(BM92=\"YES\",IF(ISERROR(VLOOKUP($A92+8860000,'Growth Data'!$A:$F,6,0)),0,VLOOKUP($A92+8860000,'Growth Data'!$A:$F,6,0)),0)","v":0},0,null,0,{"$f":"IF(ISERROR(VLOOKUP($A92+8860000,'Growth Data'!$A:$Z,7,0)),0,VLOOKUP($A92+8860000,'Growth Data'!$A:$Z,7,0))","v":0},0,null,"NO",{"$f":"IF(ISERROR(VLOOKUP($A92+8860000,'Growth Data'!$A:$F,4,0)),\"NO\",VLOOKUP($A92+8860000,'Growth Data'!$A:$F,4,0))","v":"NO"},0,null,0,{"$f":"IF(ISERROR(VLOOKUP($A92+8860000,'Growth Data'!$A:$Z,8,0)),0,VLOOKUP($A92+8860000,'Growth Data'!$A:$Z,8,0))","v":0},0,null,0,{"$f":"IF(ISERROR(VLOOKUP($A92+8860000,'Growth Data'!$A:$Z,9,0)),0,VLOOKUP($A92+8860000,'Growth Data'!$A:$Z,9,0))","v":0},0,null,"NO",{"$f":"IF(ISERROR(VLOOKUP($A92+8860000,'Growth Data'!$A:$Z,5,0)),\"NO\",VLOOKUP($A92+8860000,'Growth Data'!$A:$Z,5,0))","v":"NO"},0,null,0,{"$f":"IF(ISERROR(VLOOKUP($A92+8860000,'Growth Data'!$A:$Z,10,0)),0,VLOOKUP($A92+8860000,'Growth Data'!$A:$Z,10,0))","v":0},0,null,0,{"$f":"IF(ISERROR(VLOOKUP($A92+8860000,'Growth Data'!$A:$Z,11,0)),0,VLOOKUP($A92+8860000,'Growth Data'!$A:$Z,11,0))","v":0},0]
[2340,"Ellington Infant School",null,"Ellington Infant School","Ellington Infant School",0,null,838346.58,838346.58239263843,0,null,0,0,0,null,838346.58,838346.58239263843,0,null,5212.57,5212.5741962000011,0,null,null,null,0,null,0,0,0,null,122539.59,122539.59390333839,0,null,0,0,0,null,0,null,0,null,0,null,0,null,0,null,0,null,0,null,0,null,0,null,0,null,0,null,0,null,"NO",{"$f":"IF(ISERROR(VLOOKUP($A93+8860000,'Growth Data'!$A:$F,3,0)),\"NO\",VLOOKUP($A93+8860000,'Growth Data'!$A:$F,3,0))","v":"NO"},0,null,0,{"$f":"IF(BM93=\"YES\",IF(ISERROR(VLOOKUP($A93+8860000,'Growth Data'!$A:$F,6,0)),0,VLOOKUP($A93+8860000,'Growth Data'!$A:$F,6,0)),0)","v":0},0,null,0,{"$f":"IF(ISERROR(VLOOKUP($A93+8860000,'Growth Data'!$A:$Z,7,0)),0,VLOOKUP($A93+8860000,'Growth Data'!$A:$Z,7,0))","v":0},0,null,"NO",{"$f":"IF(ISERROR(VLOOKUP($A93+8860000,'Growth Data'!$A:$F,4,0)),\"NO\",VLOOKUP($A93+8860000,'Growth Data'!$A:$F,4,0))","v":"NO"},0,null,0,{"$f":"IF(ISERROR(VLOOKUP($A93+8860000,'Growth Data'!$A:$Z,8,0)),0,VLOOKUP($A93+8860000,'Growth Data'!$A:$Z,8,0))","v":0},0,null,0,{"$f":"IF(ISERROR(VLOOKUP($A93+8860000,'Growth Data'!$A:$Z,9,0)),0,VLOOKUP($A93+8860000,'Growth Data'!$A:$Z,9,0))","v":0},0,null,"NO",{"$f":"IF(ISERROR(VLOOKUP($A93+8860000,'Growth Data'!$A:$Z,5,0)),\"NO\",VLOOKUP($A93+8860000,'Growth Data'!$A:$Z,5,0))","v":"NO"},0,null,0,{"$f":"IF(ISERROR(VLOOKUP($A93+8860000,'Growth Data'!$A:$Z,10,0)),0,VLOOKUP($A93+8860000,'Growth Data'!$A:$Z,10,0))","v":0},0,null,0,{"$f":"IF(ISERROR(VLOOKUP($A93+8860000,'Growth Data'!$A:$Z,11,0)),0,VLOOKUP($A93+8860000,'Growth Data'!$A:$Z,11,0))","v":0},0]
[2345,"Priory Infant School",null,"Priory Infant School","Priory Infant School",0,null,747922.03,747922.02714194963,0,null,8171.82,8171.8161819360685,0,null,756093.84,756093.8433238857,0,null,4596.3100000000004,4596.3092666000011,0,null,null,null,0,null,0,0,0,null,98547.32,98547.324807049619,0,null,0,0,0,null,0,null,0,null,0,null,0,null,0,null,0,null,0,null,0,null,0,null,0,null,0,null,0,null,"NO",{"$f":"IF(ISERROR(VLOOKUP($A94+8860000,'Growth Data'!$A:$F,3,0)),\"NO\",VLOOKUP($A94+8860000,'Growth Data'!$A:$F,3,0))","v":"NO"},0,null,0,{"$f":"IF(BM94=\"YES\",IF(ISERROR(VLOOKUP($A94+8860000,'Growth Data'!$A:$F,6,0)),0,VLOOKUP($A94+8860000,'Growth Data'!$A:$F,6,0)),0)","v":0},0,null,0,{"$f":"IF(ISERROR(VLOOKUP($A94+8860000,'Growth Data'!$A:$Z,7,0)),0,VLOOKUP($A94+8860000,'Growth Data'!$A:$Z,7,0))","v":0},0,null,"NO",{"$f":"IF(ISERROR(VLOOKUP($A94+8860000,'Growth Data'!$A:$F,4,0)),\"NO\",VLOOKUP($A94+8860000,'Growth Data'!$A:$F,4,0))","v":"NO"},0,null,0,{"$f":"IF(ISERROR(VLOOKUP($A94+8860000,'Growth Data'!$A:$Z,8,0)),0,VLOOKUP($A94+8860000,'Growth Data'!$A:$Z,8,0))","v":0},0,null,0,{"$f":"IF(ISERROR(VLOOKUP($A94+8860000,'Growth Data'!$A:$Z,9,0)),0,VLOOKUP($A94+8860000,'Growth Data'!$A:$Z,9,0))","v":0},0,null,"NO",{"$f":"IF(ISERROR(VLOOKUP($A94+8860000,'Growth Data'!$A:$Z,5,0)),\"NO\",VLOOKUP($A94+8860000,'Growth Data'!$A:$Z,5,0))","v":"NO"},0,null,0,{"$f":"IF(ISERROR(VLOOKUP($A94+8860000,'Growth Data'!$A:$Z,10,0)),0,VLOOKUP($A94+8860000,'Growth Data'!$A:$Z,10,0))","v":0},0,null,0,{"$f":"IF(ISERROR(VLOOKUP($A94+8860000,'Growth Data'!$A:$Z,11,0)),0,VLOOKUP($A94+8860000,'Growth Data'!$A:$Z,11,0))","v":0},0]
[2431,"Shears Green Junior School",null,"Shears Green Junior School","Shears Green Junior School",0,null,1657042.24,1657042.2419152153,0,null,0,0,0,null,1657042.24,1657042.2419152153,0,null,12299.62,12299.620886599996,0,null,null,null,0,null,0,0,0,null,177345.89,177345.89385031536,0,null,0,0,0,null,0,null,0,null,0,null,0,null,0,null,0,null,0,null,0,null,0,null,0,null,0,null,0,null,"NO",{"$f":"IF(ISERROR(VLOOKUP($A95+8860000,'Growth Data'!$A:$F,3,0)),\"NO\",VLOOKUP($A95+8860000,'Growth Data'!$A:$F,3,0))","v":"NO"},0,null,0,{"$f":"IF(BM95=\"YES\",IF(ISERROR(VLOOKUP($A95+8860000,'Growth Data'!$A:$F,6,0)),0,VLOOKUP($A95+8860000,'Growth Data'!$A:$F,6,0)),0)","v":0},0,null,0,{"$f":"IF(ISERROR(VLOOKUP($A95+8860000,'Growth Data'!$A:$Z,7,0)),0,VLOOKUP($A95+8860000,'Growth Data'!$A:$Z,7,0))","v":0},0,null,"NO",{"$f":"IF(ISERROR(VLOOKUP($A95+8860000,'Growth Data'!$A:$F,4,0)),\"NO\",VLOOKUP($A95+8860000,'Growth Data'!$A:$F,4,0))","v":"NO"},0,null,0,{"$f":"IF(ISERROR(VLOOKUP($A95+8860000,'Growth Data'!$A:$Z,8,0)),0,VLOOKUP($A95+8860000,'Growth Data'!$A:$Z,8,0))","v":0},0,null,0,{"$f":"IF(ISERROR(VLOOKUP($A95+8860000,'Growth Data'!$A:$Z,9,0)),0,VLOOKUP($A95+8860000,'Growth Data'!$A:$Z,9,0))","v":0},0,null,"NO",{"$f":"IF(ISERROR(VLOOKUP($A95+8860000,'Growth Data'!$A:$Z,5,0)),\"NO\",VLOOKUP($A95+8860000,'Growth Data'!$A:$Z,5,0))","v":"NO"},0,null,0,{"$f":"IF(ISERROR(VLOOKUP($A95+8860000,'Growth Data'!$A:$Z,10,0)),0,VLOOKUP($A95+8860000,'Growth Data'!$A:$Z,10,0))","v":0},0,null,0,{"$f":"IF(ISERROR(VLOOKUP($A95+8860000,'Growth Data'!$A:$Z,11,0)),0,VLOOKUP($A95+8860000,'Growth Data'!$A:$Z,11,0))","v":0},0]
[2434,"West Minster Primary School",null,"West Minster Primary School","West Minster Primary School",0,null,1767235.04,1767235.0367734728,0,null,0,0,0,null,1767235.04,1767235.0367734728,0,null,11323.87,11323.8680814,0,null,null,null,0,null,5.51,5.51,0,null,322437.62,322437.61798637261,0,null,0,0,0,null,0,null,0,null,72000,null,72000,null,0,null,0,null,0,null,0,null,0,null,0,null,0,null,0,null,"NO",{"$f":"IF(ISERROR(VLOOKUP($A96+8860000,'Growth Data'!$A:$F,3,0)),\"NO\",VLOOKUP($A96+8860000,'Growth Data'!$A:$F,3,0))","v":"NO"},0,null,0,{"$f":"IF(BM96=\"YES\",IF(ISERROR(VLOOKUP($A96+8860000,'Growth Data'!$A:$F,6,0)),0,VLOOKUP($A96+8860000,'Growth Data'!$A:$F,6,0)),0)","v":0},0,null,0,{"$f":"IF(ISERROR(VLOOKUP($A96+8860000,'Growth Data'!$A:$Z,7,0)),0,VLOOKUP($A96+8860000,'Growth Data'!$A:$Z,7,0))","v":0},0,null,"YES",{"$f":"IF(ISERROR(VLOOKUP($A96+8860000,'Growth Data'!$A:$F,4,0)),\"NO\",VLOOKUP($A96+8860000,'Growth Data'!$A:$F,4,0))","v":"YES"},0,null,61,{"$f":"IF(ISERROR(VLOOKUP($A96+8860000,'Growth Data'!$A:$Z,8,0)),0,VLOOKUP($A96+8860000,'Growth Data'!$A:$Z,8,0))","v":61},0,null,90,{"$f":"IF(ISERROR(VLOOKUP($A96+8860000,'Growth Data'!$A:$Z,9,0)),0,VLOOKUP($A96+8860000,'Growth Data'!$A:$Z,9,0))","v":90},0,null,"YES",{"$f":"IF(ISERROR(VLOOKUP($A96+8860000,'Growth Data'!$A:$Z,5,0)),\"NO\",VLOOKUP($A96+8860000,'Growth Data'!$A:$Z,5,0))","v":"YES"},0,null,60,{"$f":"IF(ISERROR(VLOOKUP($A96+8860000,'Growth Data'!$A:$Z,10,0)),0,VLOOKUP($A96+8860000,'Growth Data'!$A:$Z,10,0))","v":60},0,null,90,{"$f":"IF(ISERROR(VLOOKUP($A96+8860000,'Growth Data'!$A:$Z,11,0)),0,VLOOKUP($A96+8860000,'Growth Data'!$A:$Z,11,0))","v":90},0]
[2454,"Aycliffe Community Primary School",null,"Aycliffe Community Primary School","Aycliffe Community Primary School",0,null,603400.73,603400.73034044157,0,null,0,0,0,null,603400.73,603400.73034044157,0,null,3261.07,3261.0685858000006,0,null,null,null,0,null,0,0,0,null,99111.12,99111.123206741511,0,null,0,0,0,null,0,null,0,null,0,null,0,null,0,null,0,null,0,null,0,null,0,null,0,null,0,null,0,null,"NO",{"$f":"IF(ISERROR(VLOOKUP($A97+8860000,'Growth Data'!$A:$F,3,0)),\"NO\",VLOOKUP($A97+8860000,'Growth Data'!$A:$F,3,0))","v":"NO"},0,null,0,{"$f":"IF(BM97=\"YES\",IF(ISERROR(VLOOKUP($A97+8860000,'Growth Data'!$A:$F,6,0)),0,VLOOKUP($A97+8860000,'Growth Data'!$A:$F,6,0)),0)","v":0},0,null,0,{"$f":"IF(ISERROR(VLOOKUP($A97+8860000,'Growth Data'!$A:$Z,7,0)),0,VLOOKUP($A97+8860000,'Growth Data'!$A:$Z,7,0))","v":0},0,null,"NO",{"$f":"IF(ISERROR(VLOOKUP($A97+8860000,'Growth Data'!$A:$F,4,0)),\"NO\",VLOOKUP($A97+8860000,'Growth Data'!$A:$F,4,0))","v":"NO"},0,null,0,{"$f":"IF(ISERROR(VLOOKUP($A97+8860000,'Growth Data'!$A:$Z,8,0)),0,VLOOKUP($A97+8860000,'Growth Data'!$A:$Z,8,0))","v":0},0,null,0,{"$f":"IF(ISERROR(VLOOKUP($A97+8860000,'Growth Data'!$A:$Z,9,0)),0,VLOOKUP($A97+8860000,'Growth Data'!$A:$Z,9,0))","v":0},0,null,"NO",{"$f":"IF(ISERROR(VLOOKUP($A97+8860000,'Growth Data'!$A:$Z,5,0)),\"NO\",VLOOKUP($A97+8860000,'Growth Data'!$A:$Z,5,0))","v":"NO"},0,null,0,{"$f":"IF(ISERROR(VLOOKUP($A97+8860000,'Growth Data'!$A:$Z,10,0)),0,VLOOKUP($A97+8860000,'Growth Data'!$A:$Z,10,0))","v":0},0,null,0,{"$f":"IF(ISERROR(VLOOKUP($A97+8860000,'Growth Data'!$A:$Z,11,0)),0,VLOOKUP($A97+8860000,'Growth Data'!$A:$Z,11,0))","v":0},0]
[2459,"Riverhead Infant School",null,"Riverhead Infant School","Riverhead Infant School",0,null,956727.67,956727.66532900033,0,null,0,0,0,null,956727.67,956727.66532900033,0,null,7052.28,7052.2790772884,0,null,null,null,0,null,0,0,0,null,44015.77,44015.76624107769,0,null,1598.42,1598.423375892231,0,null,0,null,0,null,0,null,0,null,0,null,0,null,0,null,0,null,0,null,0,null,0,null,0,null,"NO",{"$f":"IF(ISERROR(VLOOKUP($A98+8860000,'Growth Data'!$A:$F,3,0)),\"NO\",VLOOKUP($A98+8860000,'Growth Data'!$A:$F,3,0))","v":"NO"},0,null,0,{"$f":"IF(BM98=\"YES\",IF(ISERROR(VLOOKUP($A98+8860000,'Growth Data'!$A:$F,6,0)),0,VLOOKUP($A98+8860000,'Growth Data'!$A:$F,6,0)),0)","v":0},0,null,0,{"$f":"IF(ISERROR(VLOOKUP($A98+8860000,'Growth Data'!$A:$Z,7,0)),0,VLOOKUP($A98+8860000,'Growth Data'!$A:$Z,7,0))","v":0},0,null,"NO",{"$f":"IF(ISERROR(VLOOKUP($A98+8860000,'Growth Data'!$A:$F,4,0)),\"NO\",VLOOKUP($A98+8860000,'Growth Data'!$A:$F,4,0))","v":"NO"},0,null,0,{"$f":"IF(ISERROR(VLOOKUP($A98+8860000,'Growth Data'!$A:$Z,8,0)),0,VLOOKUP($A98+8860000,'Growth Data'!$A:$Z,8,0))","v":0},0,null,0,{"$f":"IF(ISERROR(VLOOKUP($A98+8860000,'Growth Data'!$A:$Z,9,0)),0,VLOOKUP($A98+8860000,'Growth Data'!$A:$Z,9,0))","v":0},0,null,"NO",{"$f":"IF(ISERROR(VLOOKUP($A98+8860000,'Growth Data'!$A:$Z,5,0)),\"NO\",VLOOKUP($A98+8860000,'Growth Data'!$A:$Z,5,0))","v":"NO"},0,null,0,{"$f":"IF(ISERROR(VLOOKUP($A98+8860000,'Growth Data'!$A:$Z,10,0)),0,VLOOKUP($A98+8860000,'Growth Data'!$A:$Z,10,0))","v":0},0,null,0,{"$f":"IF(ISERROR(VLOOKUP($A98+8860000,'Growth Data'!$A:$Z,11,0)),0,VLOOKUP($A98+8860000,'Growth Data'!$A:$Z,11,0))","v":0},0]
[2465,"Claremont Primary School",null,"Claremont Primary School","Claremont Primary School",0,null,1632734,1632734,0,null,0,0,0,null,1632734,1632734,0,null,12813.18,12813.174994599998,0,null,null,null,0,null,0,0,0,null,91636.11,91636.10684249163,0,null,0,0,0,null,0,null,0,null,0,null,0,null,0,null,0,null,0,null,0,null,0,null,0,null,0,null,0,null,"NO",{"$f":"IF(ISERROR(VLOOKUP($A99+8860000,'Growth Data'!$A:$F,3,0)),\"NO\",VLOOKUP($A99+8860000,'Growth Data'!$A:$F,3,0))","v":"NO"},0,null,0,{"$f":"IF(BM99=\"YES\",IF(ISERROR(VLOOKUP($A99+8860000,'Growth Data'!$A:$F,6,0)),0,VLOOKUP($A99+8860000,'Growth Data'!$A:$F,6,0)),0)","v":0},0,null,0,{"$f":"IF(ISERROR(VLOOKUP($A99+8860000,'Growth Data'!$A:$Z,7,0)),0,VLOOKUP($A99+8860000,'Growth Data'!$A:$Z,7,0))","v":0},0,null,"NO",{"$f":"IF(ISERROR(VLOOKUP($A99+8860000,'Growth Data'!$A:$F,4,0)),\"NO\",VLOOKUP($A99+8860000,'Growth Data'!$A:$F,4,0))","v":"NO"},0,null,0,{"$f":"IF(ISERROR(VLOOKUP($A99+8860000,'Growth Data'!$A:$Z,8,0)),0,VLOOKUP($A99+8860000,'Growth Data'!$A:$Z,8,0))","v":0},0,null,0,{"$f":"IF(ISERROR(VLOOKUP($A99+8860000,'Growth Data'!$A:$Z,9,0)),0,VLOOKUP($A99+8860000,'Growth Data'!$A:$Z,9,0))","v":0},0,null,"NO",{"$f":"IF(ISERROR(VLOOKUP($A99+8860000,'Growth Data'!$A:$Z,5,0)),\"NO\",VLOOKUP($A99+8860000,'Growth Data'!$A:$Z,5,0))","v":"NO"},0,null,0,{"$f":"IF(ISERROR(VLOOKUP($A99+8860000,'Growth Data'!$A:$Z,10,0)),0,VLOOKUP($A99+8860000,'Growth Data'!$A:$Z,10,0))","v":0},0,null,0,{"$f":"IF(ISERROR(VLOOKUP($A99+8860000,'Growth Data'!$A:$Z,11,0)),0,VLOOKUP($A99+8860000,'Growth Data'!$A:$Z,11,0))","v":0},0]
[2471,"Whitfield Aspen School",null,"Whitfield Aspen School","Whitfield Aspen School",0,null,1751478.28,1751478.2773762352,0,null,0,0,0,null,1751478.28,1751478.2773762352,0,null,12171.23,12171.232359599999,0,null,null,null,0,null,0,0,0,null,235942.89,235942.89162683522,0,null,0,0,0,null,9333.33,null,9333,null,585500,null,585500,null,0,null,0,null,0,null,0,null,0,null,0,null,0,null,0,null,"NO",{"$f":"IF(ISERROR(VLOOKUP($A100+8860000,'Growth Data'!$A:$F,3,0)),\"NO\",VLOOKUP($A100+8860000,'Growth Data'!$A:$F,3,0))","v":"NO"},0,null,0,{"$f":"IF(BM100=\"YES\",IF(ISERROR(VLOOKUP($A100+8860000,'Growth Data'!$A:$F,6,0)),0,VLOOKUP($A100+8860000,'Growth Data'!$A:$F,6,0)),0)","v":0},0,null,0,{"$f":"IF(ISERROR(VLOOKUP($A100+8860000,'Growth Data'!$A:$Z,7,0)),0,VLOOKUP($A100+8860000,'Growth Data'!$A:$Z,7,0))","v":0},0,null,"YES",{"$f":"IF(ISERROR(VLOOKUP($A100+8860000,'Growth Data'!$A:$F,4,0)),\"NO\",VLOOKUP($A100+8860000,'Growth Data'!$A:$F,4,0))","v":"YES"},0,null,64,{"$f":"IF(ISERROR(VLOOKUP($A100+8860000,'Growth Data'!$A:$Z,8,0)),0,VLOOKUP($A100+8860000,'Growth Data'!$A:$Z,8,0))","v":64},0,null,82,{"$f":"IF(ISERROR(VLOOKUP($A100+8860000,'Growth Data'!$A:$Z,9,0)),0,VLOOKUP($A100+8860000,'Growth Data'!$A:$Z,9,0))","v":82},0,null,"YES",{"$f":"IF(ISERROR(VLOOKUP($A100+8860000,'Growth Data'!$A:$Z,5,0)),\"NO\",VLOOKUP($A100+8860000,'Growth Data'!$A:$Z,5,0))","v":"YES"},0,null,67,{"$f":"IF(ISERROR(VLOOKUP($A100+8860000,'Growth Data'!$A:$Z,10,0)),0,VLOOKUP($A100+8860000,'Growth Data'!$A:$Z,10,0))","v":67},0,null,82,{"$f":"IF(ISERROR(VLOOKUP($A100+8860000,'Growth Data'!$A:$Z,11,0)),0,VLOOKUP($A100+8860000,'Growth Data'!$A:$Z,11,0))","v":82},0]
[2474,"St Paul's Infant School",null,"St Paul's Infant School","St Paul's Infant School",0,null,1023215.8,1023215.8045689473,0,null,36309.440000000002,36309.444219069555,0,null,1059525.25,1059525.2487880168,0,null,6932.98,6932.980458,0,null,null,null,0,null,0,0,0,null,137435.89000000001,137435.8855319474,0,null,0,0,0,null,0,null,0,null,0,null,0,null,0,null,0,null,0,null,0,null,0,null,0,null,0,null,0,null,"NO",{"$f":"IF(ISERROR(VLOOKUP($A101+8860000,'Growth Data'!$A:$F,3,0)),\"NO\",VLOOKUP($A101+8860000,'Growth Data'!$A:$F,3,0))","v":"NO"},0,null,0,{"$f":"IF(BM101=\"YES\",IF(ISERROR(VLOOKUP($A101+8860000,'Growth Data'!$A:$F,6,0)),0,VLOOKUP($A101+8860000,'Growth Data'!$A:$F,6,0)),0)","v":0},0,null,0,{"$f":"IF(ISERROR(VLOOKUP($A101+8860000,'Growth Data'!$A:$Z,7,0)),0,VLOOKUP($A101+8860000,'Growth Data'!$A:$Z,7,0))","v":0},0,null,"NO",{"$f":"IF(ISERROR(VLOOKUP($A101+8860000,'Growth Data'!$A:$F,4,0)),\"NO\",VLOOKUP($A101+8860000,'Growth Data'!$A:$F,4,0))","v":"NO"},0,null,0,{"$f":"IF(ISERROR(VLOOKUP($A101+8860000,'Growth Data'!$A:$Z,8,0)),0,VLOOKUP($A101+8860000,'Growth Data'!$A:$Z,8,0))","v":0},0,null,0,{"$f":"IF(ISERROR(VLOOKUP($A101+8860000,'Growth Data'!$A:$Z,9,0)),0,VLOOKUP($A101+8860000,'Growth Data'!$A:$Z,9,0))","v":0},0,null,"NO",{"$f":"IF(ISERROR(VLOOKUP($A101+8860000,'Growth Data'!$A:$Z,5,0)),\"NO\",VLOOKUP($A101+8860000,'Growth Data'!$A:$Z,5,0))","v":"NO"},0,null,0,{"$f":"IF(ISERROR(VLOOKUP($A101+8860000,'Growth Data'!$A:$Z,10,0)),0,VLOOKUP($A101+8860000,'Growth Data'!$A:$Z,10,0))","v":0},0,null,0,{"$f":"IF(ISERROR(VLOOKUP($A101+8860000,'Growth Data'!$A:$Z,11,0)),0,VLOOKUP($A101+8860000,'Growth Data'!$A:$Z,11,0))","v":0},0]
[2482,"Langton Green Primary School",null,"Langton Green Primary School","Langton Green Primary School",0,null,1288915,1288915.0000000002,0,null,0,0,0,null,1288915,1288915.0000000002,0,null,10039.98,10039.982811400001,0,null,null,null,0,null,0,0,0,null,55465.95,55465.954306279615,0,null,453.4,453.40456937203817,0,null,0,null,0,null,0,null,0,null,0,null,0,null,0,null,0,null,0,null,0,null,0,null,0,null,"NO",{"$f":"IF(ISERROR(VLOOKUP($A102+8860000,'Growth Data'!$A:$F,3,0)),\"NO\",VLOOKUP($A102+8860000,'Growth Data'!$A:$F,3,0))","v":"NO"},0,null,0,{"$f":"IF(BM102=\"YES\",IF(ISERROR(VLOOKUP($A102+8860000,'Growth Data'!$A:$F,6,0)),0,VLOOKUP($A102+8860000,'Growth Data'!$A:$F,6,0)),0)","v":0},0,null,0,{"$f":"IF(ISERROR(VLOOKUP($A102+8860000,'Growth Data'!$A:$Z,7,0)),0,VLOOKUP($A102+8860000,'Growth Data'!$A:$Z,7,0))","v":0},0,null,"YES",{"$f":"IF(ISERROR(VLOOKUP($A102+8860000,'Growth Data'!$A:$F,4,0)),\"NO\",VLOOKUP($A102+8860000,'Growth Data'!$A:$F,4,0))","v":"YES"},0,null,31,{"$f":"IF(ISERROR(VLOOKUP($A102+8860000,'Growth Data'!$A:$Z,8,0)),0,VLOOKUP($A102+8860000,'Growth Data'!$A:$Z,8,0))","v":31},0,null,60,{"$f":"IF(ISERROR(VLOOKUP($A102+8860000,'Growth Data'!$A:$Z,9,0)),0,VLOOKUP($A102+8860000,'Growth Data'!$A:$Z,9,0))","v":60},0,null,"NO",{"$f":"IF(ISERROR(VLOOKUP($A102+8860000,'Growth Data'!$A:$Z,5,0)),\"NO\",VLOOKUP($A102+8860000,'Growth Data'!$A:$Z,5,0))","v":"NO"},0,null,0,{"$f":"IF(ISERROR(VLOOKUP($A102+8860000,'Growth Data'!$A:$Z,10,0)),0,VLOOKUP($A102+8860000,'Growth Data'!$A:$Z,10,0))","v":0},0,null,0,{"$f":"IF(ISERROR(VLOOKUP($A102+8860000,'Growth Data'!$A:$Z,11,0)),0,VLOOKUP($A102+8860000,'Growth Data'!$A:$Z,11,0))","v":0},0]
[2490,"Bishops Down Primary School",null,"Bishops Down Primary School","Bishops Down Primary School",0,null,1040070.19,1040070.1896021627,0,null,0,0,0,null,1040070.19,1040070.1896021627,0,null,7651.96,7651.9562091999996,0,null,null,null,0,null,4.9000000000000004,4.9000000000000004,0,null,74276.41,74276.408318362679,0,null,0,0,0,null,0,null,0,null,37000,null,37000,null,0,null,0,null,0,null,0,null,0,null,0,null,0,null,0,null,"NO",{"$f":"IF(ISERROR(VLOOKUP($A103+8860000,'Growth Data'!$A:$F,3,0)),\"NO\",VLOOKUP($A103+8860000,'Growth Data'!$A:$F,3,0))","v":"NO"},0,null,0,{"$f":"IF(BM103=\"YES\",IF(ISERROR(VLOOKUP($A103+8860000,'Growth Data'!$A:$F,6,0)),0,VLOOKUP($A103+8860000,'Growth Data'!$A:$F,6,0)),0)","v":0},0,null,0,{"$f":"IF(ISERROR(VLOOKUP($A103+8860000,'Growth Data'!$A:$Z,7,0)),0,VLOOKUP($A103+8860000,'Growth Data'!$A:$Z,7,0))","v":0},0,null,"NO",{"$f":"IF(ISERROR(VLOOKUP($A103+8860000,'Growth Data'!$A:$F,4,0)),\"NO\",VLOOKUP($A103+8860000,'Growth Data'!$A:$F,4,0))","v":"NO"},0,null,0,{"$f":"IF(ISERROR(VLOOKUP($A103+8860000,'Growth Data'!$A:$Z,8,0)),0,VLOOKUP($A103+8860000,'Growth Data'!$A:$Z,8,0))","v":0},0,null,0,{"$f":"IF(ISERROR(VLOOKUP($A103+8860000,'Growth Data'!$A:$Z,9,0)),0,VLOOKUP($A103+8860000,'Growth Data'!$A:$Z,9,0))","v":0},0,null,"NO",{"$f":"IF(ISERROR(VLOOKUP($A103+8860000,'Growth Data'!$A:$Z,5,0)),\"NO\",VLOOKUP($A103+8860000,'Growth Data'!$A:$Z,5,0))","v":"NO"},0,null,0,{"$f":"IF(ISERROR(VLOOKUP($A103+8860000,'Growth Data'!$A:$Z,10,0)),0,VLOOKUP($A103+8860000,'Growth Data'!$A:$Z,10,0))","v":0},0,null,0,{"$f":"IF(ISERROR(VLOOKUP($A103+8860000,'Growth Data'!$A:$Z,11,0)),0,VLOOKUP($A103+8860000,'Growth Data'!$A:$Z,11,0))","v":0},0]
[2509,"Singlewell Primary School",null,"Singlewell Primary School","Singlewell Primary School",0,null,980995.54,980995.54130445514,0,null,0,0,0,null,980995.54,980995.54130445514,0,null,6599.17,6599.1702877999987,0,null,null,null,0,null,0,0,0,null,99002.99,99002.990367755134,0,null,0,0,0,null,0,null,0,null,0,null,0,null,0,null,0,null,0,null,0,null,0,null,0,null,0,null,0,null,"NO",{"$f":"IF(ISERROR(VLOOKUP($A104+8860000,'Growth Data'!$A:$F,3,0)),\"NO\",VLOOKUP($A104+8860000,'Growth Data'!$A:$F,3,0))","v":"NO"},0,null,0,{"$f":"IF(BM104=\"YES\",IF(ISERROR(VLOOKUP($A104+8860000,'Growth Data'!$A:$F,6,0)),0,VLOOKUP($A104+8860000,'Growth Data'!$A:$F,6,0)),0)","v":0},0,null,0,{"$f":"IF(ISERROR(VLOOKUP($A104+8860000,'Growth Data'!$A:$Z,7,0)),0,VLOOKUP($A104+8860000,'Growth Data'!$A:$Z,7,0))","v":0},0,null,"YES",{"$f":"IF(ISERROR(VLOOKUP($A104+8860000,'Growth Data'!$A:$F,4,0)),\"NO\",VLOOKUP($A104+8860000,'Growth Data'!$A:$F,4,0))","v":"YES"},0,null,30,{"$f":"IF(ISERROR(VLOOKUP($A104+8860000,'Growth Data'!$A:$Z,8,0)),0,VLOOKUP($A104+8860000,'Growth Data'!$A:$Z,8,0))","v":30},0,null,60,{"$f":"IF(ISERROR(VLOOKUP($A104+8860000,'Growth Data'!$A:$Z,9,0)),0,VLOOKUP($A104+8860000,'Growth Data'!$A:$Z,9,0))","v":60},0,null,"YES",{"$f":"IF(ISERROR(VLOOKUP($A104+8860000,'Growth Data'!$A:$Z,5,0)),\"NO\",VLOOKUP($A104+8860000,'Growth Data'!$A:$Z,5,0))","v":"YES"},0,null,30,{"$f":"IF(ISERROR(VLOOKUP($A104+8860000,'Growth Data'!$A:$Z,10,0)),0,VLOOKUP($A104+8860000,'Growth Data'!$A:$Z,10,0))","v":30},0,null,60,{"$f":"IF(ISERROR(VLOOKUP($A104+8860000,'Growth Data'!$A:$Z,11,0)),0,VLOOKUP($A104+8860000,'Growth Data'!$A:$Z,11,0))","v":60},0]
[2510,"Cheriton Primary School",null,"Cheriton Primary School","Cheriton Primary School",0,null,1599544.41,1599544.4095852752,0,null,0,0,0,null,1599544.41,1599544.4095852752,0,null,11632,11632.000546199999,0,null,null,null,0,null,0,0,0,null,206527.48,206527.47532097524,0,null,0,0,0,null,0,null,0,null,0,null,0,null,0,null,0,null,0,null,0,null,0,null,0,null,0,null,0,null,"NO",{"$f":"IF(ISERROR(VLOOKUP($A105+8860000,'Growth Data'!$A:$F,3,0)),\"NO\",VLOOKUP($A105+8860000,'Growth Data'!$A:$F,3,0))","v":"NO"},0,null,0,{"$f":"IF(BM105=\"YES\",IF(ISERROR(VLOOKUP($A105+8860000,'Growth Data'!$A:$F,6,0)),0,VLOOKUP($A105+8860000,'Growth Data'!$A:$F,6,0)),0)","v":0},0,null,0,{"$f":"IF(ISERROR(VLOOKUP($A105+8860000,'Growth Data'!$A:$Z,7,0)),0,VLOOKUP($A105+8860000,'Growth Data'!$A:$Z,7,0))","v":0},0,null,"NO",{"$f":"IF(ISERROR(VLOOKUP($A105+8860000,'Growth Data'!$A:$F,4,0)),\"NO\",VLOOKUP($A105+8860000,'Growth Data'!$A:$F,4,0))","v":"NO"},0,null,0,{"$f":"IF(ISERROR(VLOOKUP($A105+8860000,'Growth Data'!$A:$Z,8,0)),0,VLOOKUP($A105+8860000,'Growth Data'!$A:$Z,8,0))","v":0},0,null,0,{"$f":"IF(ISERROR(VLOOKUP($A105+8860000,'Growth Data'!$A:$Z,9,0)),0,VLOOKUP($A105+8860000,'Growth Data'!$A:$Z,9,0))","v":0},0,null,"NO",{"$f":"IF(ISERROR(VLOOKUP($A105+8860000,'Growth Data'!$A:$Z,5,0)),\"NO\",VLOOKUP($A105+8860000,'Growth Data'!$A:$Z,5,0))","v":"NO"},0,null,0,{"$f":"IF(ISERROR(VLOOKUP($A105+8860000,'Growth Data'!$A:$Z,10,0)),0,VLOOKUP($A105+8860000,'Growth Data'!$A:$Z,10,0))","v":0},0,null,0,{"$f":"IF(ISERROR(VLOOKUP($A105+8860000,'Growth Data'!$A:$Z,11,0)),0,VLOOKUP($A105+8860000,'Growth Data'!$A:$Z,11,0))","v":0},0]
[2514,"Brookfield Infant School",null,"Brookfield Infant School","Brookfield Infant School",0,null,689773.26,689773.26329964411,0,null,0,0,0,null,689773.26,689773.26329964411,0,null,4570.63,4570.6315611999999,0,null,null,null,0,null,0,0,0,null,57282.75,57282.749987844065,0,null,271.73,271.72500121559278,0,null,0,null,0,null,0,null,0,null,0,null,0,null,0,null,0,null,0,null,0,null,0,null,0,null,"NO",{"$f":"IF(ISERROR(VLOOKUP($A106+8860000,'Growth Data'!$A:$F,3,0)),\"NO\",VLOOKUP($A106+8860000,'Growth Data'!$A:$F,3,0))","v":"NO"},0,null,0,{"$f":"IF(BM106=\"YES\",IF(ISERROR(VLOOKUP($A106+8860000,'Growth Data'!$A:$F,6,0)),0,VLOOKUP($A106+8860000,'Growth Data'!$A:$F,6,0)),0)","v":0},0,null,0,{"$f":"IF(ISERROR(VLOOKUP($A106+8860000,'Growth Data'!$A:$Z,7,0)),0,VLOOKUP($A106+8860000,'Growth Data'!$A:$Z,7,0))","v":0},0,null,"NO",{"$f":"IF(ISERROR(VLOOKUP($A106+8860000,'Growth Data'!$A:$F,4,0)),\"NO\",VLOOKUP($A106+8860000,'Growth Data'!$A:$F,4,0))","v":"NO"},0,null,0,{"$f":"IF(ISERROR(VLOOKUP($A106+8860000,'Growth Data'!$A:$Z,8,0)),0,VLOOKUP($A106+8860000,'Growth Data'!$A:$Z,8,0))","v":0},0,null,0,{"$f":"IF(ISERROR(VLOOKUP($A106+8860000,'Growth Data'!$A:$Z,9,0)),0,VLOOKUP($A106+8860000,'Growth Data'!$A:$Z,9,0))","v":0},0,null,"NO",{"$f":"IF(ISERROR(VLOOKUP($A106+8860000,'Growth Data'!$A:$Z,5,0)),\"NO\",VLOOKUP($A106+8860000,'Growth Data'!$A:$Z,5,0))","v":"NO"},0,null,0,{"$f":"IF(ISERROR(VLOOKUP($A106+8860000,'Growth Data'!$A:$Z,10,0)),0,VLOOKUP($A106+8860000,'Growth Data'!$A:$Z,10,0))","v":0},0,null,0,{"$f":"IF(ISERROR(VLOOKUP($A106+8860000,'Growth Data'!$A:$Z,11,0)),0,VLOOKUP($A106+8860000,'Growth Data'!$A:$Z,11,0))","v":0},0]
[2519,"Vigo Village School",null,"Vigo Village School","Vigo Village School",0,null,726781.9,726781.89574699081,0,null,0,0,0,null,726781.9,726781.89574699081,0,null,5007.1499999999996,5007.1525529999999,0,null,null,null,0,null,0,0,0,null,51708.58,51708.580642490713,0,null,829.14,829.1419357509285,0,null,0,null,0,null,0,null,0,null,0,null,0,null,0,null,0,null,0,null,0,null,0,null,0,null,"NO",{"$f":"IF(ISERROR(VLOOKUP($A107+8860000,'Growth Data'!$A:$F,3,0)),\"NO\",VLOOKUP($A107+8860000,'Growth Data'!$A:$F,3,0))","v":"NO"},0,null,0,{"$f":"IF(BM107=\"YES\",IF(ISERROR(VLOOKUP($A107+8860000,'Growth Data'!$A:$F,6,0)),0,VLOOKUP($A107+8860000,'Growth Data'!$A:$F,6,0)),0)","v":0},0,null,0,{"$f":"IF(ISERROR(VLOOKUP($A107+8860000,'Growth Data'!$A:$Z,7,0)),0,VLOOKUP($A107+8860000,'Growth Data'!$A:$Z,7,0))","v":0},0,null,"NO",{"$f":"IF(ISERROR(VLOOKUP($A107+8860000,'Growth Data'!$A:$F,4,0)),\"NO\",VLOOKUP($A107+8860000,'Growth Data'!$A:$F,4,0))","v":"NO"},0,null,0,{"$f":"IF(ISERROR(VLOOKUP($A107+8860000,'Growth Data'!$A:$Z,8,0)),0,VLOOKUP($A107+8860000,'Growth Data'!$A:$Z,8,0))","v":0},0,null,0,{"$f":"IF(ISERROR(VLOOKUP($A107+8860000,'Growth Data'!$A:$Z,9,0)),0,VLOOKUP($A107+8860000,'Growth Data'!$A:$Z,9,0))","v":0},0,null,"NO",{"$f":"IF(ISERROR(VLOOKUP($A107+8860000,'Growth Data'!$A:$Z,5,0)),\"NO\",VLOOKUP($A107+8860000,'Growth Data'!$A:$Z,5,0))","v":"NO"},0,null,0,{"$f":"IF(ISERROR(VLOOKUP($A107+8860000,'Growth Data'!$A:$Z,10,0)),0,VLOOKUP($A107+8860000,'Growth Data'!$A:$Z,10,0))","v":0},0,null,0,{"$f":"IF(ISERROR(VLOOKUP($A107+8860000,'Growth Data'!$A:$Z,11,0)),0,VLOOKUP($A107+8860000,'Growth Data'!$A:$Z,11,0))","v":0},0]
[2520,"Madginford Primary School",null,"Madginford Primary School","Madginford Primary School",0,null,2098295,2098295,0,null,0,0,0,null,2098295,2098295,0,null,16382.38,16382.376045200001,0,null,null,null,0,null,0,0,0,null,147393.89000000001,147393.88976747164,0,null,0,0,0,null,0,null,0,null,0,null,0,null,0,null,0,null,0,null,0,null,0,null,0,null,0,null,0,null,"NO",{"$f":"IF(ISERROR(VLOOKUP($A108+8860000,'Growth Data'!$A:$F,3,0)),\"NO\",VLOOKUP($A108+8860000,'Growth Data'!$A:$F,3,0))","v":"NO"},0,null,0,{"$f":"IF(BM108=\"YES\",IF(ISERROR(VLOOKUP($A108+8860000,'Growth Data'!$A:$F,6,0)),0,VLOOKUP($A108+8860000,'Growth Data'!$A:$F,6,0)),0)","v":0},0,null,0,{"$f":"IF(ISERROR(VLOOKUP($A108+8860000,'Growth Data'!$A:$Z,7,0)),0,VLOOKUP($A108+8860000,'Growth Data'!$A:$Z,7,0))","v":0},0,null,"NO",{"$f":"IF(ISERROR(VLOOKUP($A108+8860000,'Growth Data'!$A:$F,4,0)),\"NO\",VLOOKUP($A108+8860000,'Growth Data'!$A:$F,4,0))","v":"NO"},0,null,0,{"$f":"IF(ISERROR(VLOOKUP($A108+8860000,'Growth Data'!$A:$Z,8,0)),0,VLOOKUP($A108+8860000,'Growth Data'!$A:$Z,8,0))","v":0},0,null,0,{"$f":"IF(ISERROR(VLOOKUP($A108+8860000,'Growth Data'!$A:$Z,9,0)),0,VLOOKUP($A108+8860000,'Growth Data'!$A:$Z,9,0))","v":0},0,null,"NO",{"$f":"IF(ISERROR(VLOOKUP($A108+8860000,'Growth Data'!$A:$Z,5,0)),\"NO\",VLOOKUP($A108+8860000,'Growth Data'!$A:$Z,5,0))","v":"NO"},0,null,0,{"$f":"IF(ISERROR(VLOOKUP($A108+8860000,'Growth Data'!$A:$Z,10,0)),0,VLOOKUP($A108+8860000,'Growth Data'!$A:$Z,10,0))","v":0},0,null,0,{"$f":"IF(ISERROR(VLOOKUP($A108+8860000,'Growth Data'!$A:$Z,11,0)),0,VLOOKUP($A108+8860000,'Growth Data'!$A:$Z,11,0))","v":0},0]
[2524,"Palmarsh Primary School",null,"Palmarsh Primary School","Palmarsh Primary School",0,null,562451.13,562451.13419140817,0,null,0,0,0,null,562451.13,562451.13419140817,0,null,3415.13,3415.1348181999992,0,null,null,null,0,null,0,0,0,null,63527.98,63527.982919108203,0,null,0,0,0,null,0,null,0,null,0,null,0,null,0,null,0,null,0,null,0,null,0,null,0,null,0,null,0,null,"NO",{"$f":"IF(ISERROR(VLOOKUP($A109+8860000,'Growth Data'!$A:$F,3,0)),\"NO\",VLOOKUP($A109+8860000,'Growth Data'!$A:$F,3,0))","v":"NO"},0,null,0,{"$f":"IF(BM109=\"YES\",IF(ISERROR(VLOOKUP($A109+8860000,'Growth Data'!$A:$F,6,0)),0,VLOOKUP($A109+8860000,'Growth Data'!$A:$F,6,0)),0)","v":0},0,null,0,{"$f":"IF(ISERROR(VLOOKUP($A109+8860000,'Growth Data'!$A:$Z,7,0)),0,VLOOKUP($A109+8860000,'Growth Data'!$A:$Z,7,0))","v":0},0,null,"NO",{"$f":"IF(ISERROR(VLOOKUP($A109+8860000,'Growth Data'!$A:$F,4,0)),\"NO\",VLOOKUP($A109+8860000,'Growth Data'!$A:$F,4,0))","v":"NO"},0,null,0,{"$f":"IF(ISERROR(VLOOKUP($A109+8860000,'Growth Data'!$A:$Z,8,0)),0,VLOOKUP($A109+8860000,'Growth Data'!$A:$Z,8,0))","v":0},0,null,0,{"$f":"IF(ISERROR(VLOOKUP($A109+8860000,'Growth Data'!$A:$Z,9,0)),0,VLOOKUP($A109+8860000,'Growth Data'!$A:$Z,9,0))","v":0},0,null,"NO",{"$f":"IF(ISERROR(VLOOKUP($A109+8860000,'Growth Data'!$A:$Z,5,0)),\"NO\",VLOOKUP($A109+8860000,'Growth Data'!$A:$Z,5,0))","v":"NO"},0,null,0,{"$f":"IF(ISERROR(VLOOKUP($A109+8860000,'Growth Data'!$A:$Z,10,0)),0,VLOOKUP($A109+8860000,'Growth Data'!$A:$Z,10,0))","v":0},0,null,0,{"$f":"IF(ISERROR(VLOOKUP($A109+8860000,'Growth Data'!$A:$Z,11,0)),0,VLOOKUP($A109+8860000,'Growth Data'!$A:$Z,11,0))","v":0},0]
[2525,"Painters Ash Primary School",null,"Painters Ash Primary School","Painters Ash Primary School",0,null,1488033.93,1488033.9340165257,0,null,0,0,0,null,1488033.93,1488033.9340165257,0,null,10656.25,10656.247741000003,0,null,null,null,0,null,0,0,0,null,175546.07,175546.07463002563,0,null,0,0,0,null,0,null,0,null,0,null,0,null,0,null,0,null,0,null,0,null,0,null,0,null,0,null,0,null,"NO",{"$f":"IF(ISERROR(VLOOKUP($A110+8860000,'Growth Data'!$A:$F,3,0)),\"NO\",VLOOKUP($A110+8860000,'Growth Data'!$A:$F,3,0))","v":"NO"},0,null,0,{"$f":"IF(BM110=\"YES\",IF(ISERROR(VLOOKUP($A110+8860000,'Growth Data'!$A:$F,6,0)),0,VLOOKUP($A110+8860000,'Growth Data'!$A:$F,6,0)),0)","v":0},0,null,0,{"$f":"IF(ISERROR(VLOOKUP($A110+8860000,'Growth Data'!$A:$Z,7,0)),0,VLOOKUP($A110+8860000,'Growth Data'!$A:$Z,7,0))","v":0},0,null,"NO",{"$f":"IF(ISERROR(VLOOKUP($A110+8860000,'Growth Data'!$A:$F,4,0)),\"NO\",VLOOKUP($A110+8860000,'Growth Data'!$A:$F,4,0))","v":"NO"},0,null,0,{"$f":"IF(ISERROR(VLOOKUP($A110+8860000,'Growth Data'!$A:$Z,8,0)),0,VLOOKUP($A110+8860000,'Growth Data'!$A:$Z,8,0))","v":0},0,null,0,{"$f":"IF(ISERROR(VLOOKUP($A110+8860000,'Growth Data'!$A:$Z,9,0)),0,VLOOKUP($A110+8860000,'Growth Data'!$A:$Z,9,0))","v":0},0,null,"NO",{"$f":"IF(ISERROR(VLOOKUP($A110+8860000,'Growth Data'!$A:$Z,5,0)),\"NO\",VLOOKUP($A110+8860000,'Growth Data'!$A:$Z,5,0))","v":"NO"},0,null,0,{"$f":"IF(ISERROR(VLOOKUP($A110+8860000,'Growth Data'!$A:$Z,10,0)),0,VLOOKUP($A110+8860000,'Growth Data'!$A:$Z,10,0))","v":0},0,null,0,{"$f":"IF(ISERROR(VLOOKUP($A110+8860000,'Growth Data'!$A:$Z,11,0)),0,VLOOKUP($A110+8860000,'Growth Data'!$A:$Z,11,0))","v":0},0]
[2530,"Tunbury Primary School",null,"Tunbury Primary School","Tunbury Primary School",0,null,1986770,1986770,0,null,0,0,0,null,1986770,1986770,0,null,15612.04,15612.044883199998,0,null,null,null,0,null,0,0,0,null,99246.73,99246.727202601003,0,null,0,0,0,null,0,null,0,null,0,null,0,null,0,null,0,null,0,null,0,null,0,null,0,null,0,null,0,null,"NO",{"$f":"IF(ISERROR(VLOOKUP($A111+8860000,'Growth Data'!$A:$F,3,0)),\"NO\",VLOOKUP($A111+8860000,'Growth Data'!$A:$F,3,0))","v":"NO"},0,null,0,{"$f":"IF(BM111=\"YES\",IF(ISERROR(VLOOKUP($A111+8860000,'Growth Data'!$A:$F,6,0)),0,VLOOKUP($A111+8860000,'Growth Data'!$A:$F,6,0)),0)","v":0},0,null,0,{"$f":"IF(ISERROR(VLOOKUP($A111+8860000,'Growth Data'!$A:$Z,7,0)),0,VLOOKUP($A111+8860000,'Growth Data'!$A:$Z,7,0))","v":0},0,null,"NO",{"$f":"IF(ISERROR(VLOOKUP($A111+8860000,'Growth Data'!$A:$F,4,0)),\"NO\",VLOOKUP($A111+8860000,'Growth Data'!$A:$F,4,0))","v":"NO"},0,null,0,{"$f":"IF(ISERROR(VLOOKUP($A111+8860000,'Growth Data'!$A:$Z,8,0)),0,VLOOKUP($A111+8860000,'Growth Data'!$A:$Z,8,0))","v":0},0,null,0,{"$f":"IF(ISERROR(VLOOKUP($A111+8860000,'Growth Data'!$A:$Z,9,0)),0,VLOOKUP($A111+8860000,'Growth Data'!$A:$Z,9,0))","v":0},0,null,"NO",{"$f":"IF(ISERROR(VLOOKUP($A111+8860000,'Growth Data'!$A:$Z,5,0)),\"NO\",VLOOKUP($A111+8860000,'Growth Data'!$A:$Z,5,0))","v":"NO"},0,null,0,{"$f":"IF(ISERROR(VLOOKUP($A111+8860000,'Growth Data'!$A:$Z,10,0)),0,VLOOKUP($A111+8860000,'Growth Data'!$A:$Z,10,0))","v":0},0,null,0,{"$f":"IF(ISERROR(VLOOKUP($A111+8860000,'Growth Data'!$A:$Z,11,0)),0,VLOOKUP($A111+8860000,'Growth Data'!$A:$Z,11,0))","v":0},0]
[2532,"St Margaret's-at-Cliffe Primary School",null,"St Margaret's-at-Cliffe Primary School","St Margaret's-at-Cliffe Primary School",0,null,693412.47,693412.4724566323,0,null,0,0,0,null,693412.47,693412.4724566323,0,null,4878.76,4878.7640259999998,0,null,null,null,0,null,0,0,0,null,40751.32,40751.316867632217,0,null,1924.87,1924.8683132367782,0,null,0,null,0,null,0,null,0,null,0,null,0,null,0,null,0,null,0,null,0,null,0,null,0,null,"NO",{"$f":"IF(ISERROR(VLOOKUP($A112+8860000,'Growth Data'!$A:$F,3,0)),\"NO\",VLOOKUP($A112+8860000,'Growth Data'!$A:$F,3,0))","v":"NO"},0,null,0,{"$f":"IF(BM112=\"YES\",IF(ISERROR(VLOOKUP($A112+8860000,'Growth Data'!$A:$F,6,0)),0,VLOOKUP($A112+8860000,'Growth Data'!$A:$F,6,0)),0)","v":0},0,null,0,{"$f":"IF(ISERROR(VLOOKUP($A112+8860000,'Growth Data'!$A:$Z,7,0)),0,VLOOKUP($A112+8860000,'Growth Data'!$A:$Z,7,0))","v":0},0,null,"NO",{"$f":"IF(ISERROR(VLOOKUP($A112+8860000,'Growth Data'!$A:$F,4,0)),\"NO\",VLOOKUP($A112+8860000,'Growth Data'!$A:$F,4,0))","v":"NO"},0,null,0,{"$f":"IF(ISERROR(VLOOKUP($A112+8860000,'Growth Data'!$A:$Z,8,0)),0,VLOOKUP($A112+8860000,'Growth Data'!$A:$Z,8,0))","v":0},0,null,0,{"$f":"IF(ISERROR(VLOOKUP($A112+8860000,'Growth Data'!$A:$Z,9,0)),0,VLOOKUP($A112+8860000,'Growth Data'!$A:$Z,9,0))","v":0},0,null,"NO",{"$f":"IF(ISERROR(VLOOKUP($A112+8860000,'Growth Data'!$A:$Z,5,0)),\"NO\",VLOOKUP($A112+8860000,'Growth Data'!$A:$Z,5,0))","v":"NO"},0,null,0,{"$f":"IF(ISERROR(VLOOKUP($A112+8860000,'Growth Data'!$A:$Z,10,0)),0,VLOOKUP($A112+8860000,'Growth Data'!$A:$Z,10,0))","v":0},0,null,0,{"$f":"IF(ISERROR(VLOOKUP($A112+8860000,'Growth Data'!$A:$Z,11,0)),0,VLOOKUP($A112+8860000,'Growth Data'!$A:$Z,11,0))","v":0},0]
[2534,"Bysing Wood Primary School",null,"Bysing Wood Primary School","Bysing Wood Primary School",0,null,703875.54,703875.54133877496,0,null,21261.81,21261.814707921003,0,null,725137.36,725137.35604669596,0,null,3980.04,3980.0443369999998,0,null,null,null,0,null,0,0,0,null,121320.07,121320.07035827491,0,null,0,0,0,null,0,null,0,null,0,null,0,null,0,null,0,null,0,null,0,null,0,null,0,null,0,null,0,null,"NO",{"$f":"IF(ISERROR(VLOOKUP($A113+8860000,'Growth Data'!$A:$F,3,0)),\"NO\",VLOOKUP($A113+8860000,'Growth Data'!$A:$F,3,0))","v":"NO"},0,null,0,{"$f":"IF(BM113=\"YES\",IF(ISERROR(VLOOKUP($A113+8860000,'Growth Data'!$A:$F,6,0)),0,VLOOKUP($A113+8860000,'Growth Data'!$A:$F,6,0)),0)","v":0},0,null,0,{"$f":"IF(ISERROR(VLOOKUP($A113+8860000,'Growth Data'!$A:$Z,7,0)),0,VLOOKUP($A113+8860000,'Growth Data'!$A:$Z,7,0))","v":0},0,null,"NO",{"$f":"IF(ISERROR(VLOOKUP($A113+8860000,'Growth Data'!$A:$F,4,0)),\"NO\",VLOOKUP($A113+8860000,'Growth Data'!$A:$F,4,0))","v":"NO"},0,null,0,{"$f":"IF(ISERROR(VLOOKUP($A113+8860000,'Growth Data'!$A:$Z,8,0)),0,VLOOKUP($A113+8860000,'Growth Data'!$A:$Z,8,0))","v":0},0,null,0,{"$f":"IF(ISERROR(VLOOKUP($A113+8860000,'Growth Data'!$A:$Z,9,0)),0,VLOOKUP($A113+8860000,'Growth Data'!$A:$Z,9,0))","v":0},0,null,"YES",{"$f":"IF(ISERROR(VLOOKUP($A113+8860000,'Growth Data'!$A:$Z,5,0)),\"NO\",VLOOKUP($A113+8860000,'Growth Data'!$A:$Z,5,0))","v":"YES"},0,null,30,{"$f":"IF(ISERROR(VLOOKUP($A113+8860000,'Growth Data'!$A:$Z,10,0)),0,VLOOKUP($A113+8860000,'Growth Data'!$A:$Z,10,0))","v":30},0,null,60,{"$f":"IF(ISERROR(VLOOKUP($A113+8860000,'Growth Data'!$A:$Z,11,0)),0,VLOOKUP($A113+8860000,'Growth Data'!$A:$Z,11,0))","v":60},0]
[2539,"Stocks Green Primary School",null,"Stocks Green Primary School","Stocks Green Primary School",0,null,757308.71,757308.71137567307,0,null,0,0,0,null,757308.71,757308.71137567307,0,null,5597.74,5597.7397772000004,0,null,null,null,0,null,0,0,0,null,24902.98,24902.978339872887,0,null,3509.7,3509.7021660127111,0,null,0,null,0,null,0,null,0,null,0,null,0,null,0,null,0,null,0,null,0,null,0,null,0,null,"NO",{"$f":"IF(ISERROR(VLOOKUP($A114+8860000,'Growth Data'!$A:$F,3,0)),\"NO\",VLOOKUP($A114+8860000,'Growth Data'!$A:$F,3,0))","v":"NO"},0,null,0,{"$f":"IF(BM114=\"YES\",IF(ISERROR(VLOOKUP($A114+8860000,'Growth Data'!$A:$F,6,0)),0,VLOOKUP($A114+8860000,'Growth Data'!$A:$F,6,0)),0)","v":0},0,null,0,{"$f":"IF(ISERROR(VLOOKUP($A114+8860000,'Growth Data'!$A:$Z,7,0)),0,VLOOKUP($A114+8860000,'Growth Data'!$A:$Z,7,0))","v":0},0,null,"NO",{"$f":"IF(ISERROR(VLOOKUP($A114+8860000,'Growth Data'!$A:$F,4,0)),\"NO\",VLOOKUP($A114+8860000,'Growth Data'!$A:$F,4,0))","v":"NO"},0,null,0,{"$f":"IF(ISERROR(VLOOKUP($A114+8860000,'Growth Data'!$A:$Z,8,0)),0,VLOOKUP($A114+8860000,'Growth Data'!$A:$Z,8,0))","v":0},0,null,0,{"$f":"IF(ISERROR(VLOOKUP($A114+8860000,'Growth Data'!$A:$Z,9,0)),0,VLOOKUP($A114+8860000,'Growth Data'!$A:$Z,9,0))","v":0},0,null,"NO",{"$f":"IF(ISERROR(VLOOKUP($A114+8860000,'Growth Data'!$A:$Z,5,0)),\"NO\",VLOOKUP($A114+8860000,'Growth Data'!$A:$Z,5,0))","v":"NO"},0,null,0,{"$f":"IF(ISERROR(VLOOKUP($A114+8860000,'Growth Data'!$A:$Z,10,0)),0,VLOOKUP($A114+8860000,'Growth Data'!$A:$Z,10,0))","v":0},0,null,0,{"$f":"IF(ISERROR(VLOOKUP($A114+8860000,'Growth Data'!$A:$Z,11,0)),0,VLOOKUP($A114+8860000,'Growth Data'!$A:$Z,11,0))","v":0},0]
[2545,"Sandgate Primary School",null,"Sandgate Primary School","Sandgate Primary School",0,null,1413122.37,1413122.3701200159,0,null,0,0,0,null,1413122.37,1413122.3701200159,0,null,10835.99,10835.991678799999,0,null,null,null,0,null,0,0,0,null,82820.12,82820.117171815727,0,null,0,0,0,null,0,null,0,null,0,null,0,null,0,null,0,null,0,null,0,null,0,null,0,null,0,null,0,null,"NO",{"$f":"IF(ISERROR(VLOOKUP($A115+8860000,'Growth Data'!$A:$F,3,0)),\"NO\",VLOOKUP($A115+8860000,'Growth Data'!$A:$F,3,0))","v":"NO"},0,null,0,{"$f":"IF(BM115=\"YES\",IF(ISERROR(VLOOKUP($A115+8860000,'Growth Data'!$A:$F,6,0)),0,VLOOKUP($A115+8860000,'Growth Data'!$A:$F,6,0)),0)","v":0},0,null,0,{"$f":"IF(ISERROR(VLOOKUP($A115+8860000,'Growth Data'!$A:$Z,7,0)),0,VLOOKUP($A115+8860000,'Growth Data'!$A:$Z,7,0))","v":0},0,null,"NO",{"$f":"IF(ISERROR(VLOOKUP($A115+8860000,'Growth Data'!$A:$F,4,0)),\"NO\",VLOOKUP($A115+8860000,'Growth Data'!$A:$F,4,0))","v":"NO"},0,null,0,{"$f":"IF(ISERROR(VLOOKUP($A115+8860000,'Growth Data'!$A:$Z,8,0)),0,VLOOKUP($A115+8860000,'Growth Data'!$A:$Z,8,0))","v":0},0,null,0,{"$f":"IF(ISERROR(VLOOKUP($A115+8860000,'Growth Data'!$A:$Z,9,0)),0,VLOOKUP($A115+8860000,'Growth Data'!$A:$Z,9,0))","v":0},0,null,"NO",{"$f":"IF(ISERROR(VLOOKUP($A115+8860000,'Growth Data'!$A:$Z,5,0)),\"NO\",VLOOKUP($A115+8860000,'Growth Data'!$A:$Z,5,0))","v":"NO"},0,null,0,{"$f":"IF(ISERROR(VLOOKUP($A115+8860000,'Growth Data'!$A:$Z,10,0)),0,VLOOKUP($A115+8860000,'Growth Data'!$A:$Z,10,0))","v":0},0,null,0,{"$f":"IF(ISERROR(VLOOKUP($A115+8860000,'Growth Data'!$A:$Z,11,0)),0,VLOOKUP($A115+8860000,'Growth Data'!$A:$Z,11,0))","v":0},0]
[2552,"Sandling Primary School",null,"Sandling Primary School","Sandling Primary School",0,null,1379450.71,1379450.7135470116,0,null,0,0,0,null,1379450.71,1379450.7135470116,0,null,10810.31,10810.3139734,0,null,null,null,0,null,0,0,0,null,77315.600000000006,77315.596421911527,0,null,0,0,0,null,0,null,0,null,0,null,0,null,0,null,0,null,0,null,0,null,0,null,0,null,0,null,0,null,"NO",{"$f":"IF(ISERROR(VLOOKUP($A116+8860000,'Growth Data'!$A:$F,3,0)),\"NO\",VLOOKUP($A116+8860000,'Growth Data'!$A:$F,3,0))","v":"NO"},0,null,0,{"$f":"IF(BM116=\"YES\",IF(ISERROR(VLOOKUP($A116+8860000,'Growth Data'!$A:$F,6,0)),0,VLOOKUP($A116+8860000,'Growth Data'!$A:$F,6,0)),0)","v":0},0,null,0,{"$f":"IF(ISERROR(VLOOKUP($A116+8860000,'Growth Data'!$A:$Z,7,0)),0,VLOOKUP($A116+8860000,'Growth Data'!$A:$Z,7,0))","v":0},0,null,"NO",{"$f":"IF(ISERROR(VLOOKUP($A116+8860000,'Growth Data'!$A:$F,4,0)),\"NO\",VLOOKUP($A116+8860000,'Growth Data'!$A:$F,4,0))","v":"NO"},0,null,0,{"$f":"IF(ISERROR(VLOOKUP($A116+8860000,'Growth Data'!$A:$Z,8,0)),0,VLOOKUP($A116+8860000,'Growth Data'!$A:$Z,8,0))","v":0},0,null,0,{"$f":"IF(ISERROR(VLOOKUP($A116+8860000,'Growth Data'!$A:$Z,9,0)),0,VLOOKUP($A116+8860000,'Growth Data'!$A:$Z,9,0))","v":0},0,null,"NO",{"$f":"IF(ISERROR(VLOOKUP($A116+8860000,'Growth Data'!$A:$Z,5,0)),\"NO\",VLOOKUP($A116+8860000,'Growth Data'!$A:$Z,5,0))","v":"NO"},0,null,0,{"$f":"IF(ISERROR(VLOOKUP($A116+8860000,'Growth Data'!$A:$Z,10,0)),0,VLOOKUP($A116+8860000,'Growth Data'!$A:$Z,10,0))","v":0},0,null,0,{"$f":"IF(ISERROR(VLOOKUP($A116+8860000,'Growth Data'!$A:$Z,11,0)),0,VLOOKUP($A116+8860000,'Growth Data'!$A:$Z,11,0))","v":0},0]
[2559,"Capel-le-Ferne Primary School",null,"Capel-le-Ferne Primary School","Capel-le-Ferne Primary School",0,null,775161.03,775161.03493293503,0,null,0,0,0,null,775161.03,775161.03493293503,0,null,5289.61,5289.6073123999995,0,null,null,null,0,null,0,0,0,null,72242.59,72242.587374334922,0,null,0,0,0,null,0,null,0,null,0,null,0,null,0,null,0,null,0,null,0,null,0,null,0,null,0,null,0,null,"NO",{"$f":"IF(ISERROR(VLOOKUP($A117+8860000,'Growth Data'!$A:$F,3,0)),\"NO\",VLOOKUP($A117+8860000,'Growth Data'!$A:$F,3,0))","v":"NO"},0,null,0,{"$f":"IF(BM117=\"YES\",IF(ISERROR(VLOOKUP($A117+8860000,'Growth Data'!$A:$F,6,0)),0,VLOOKUP($A117+8860000,'Growth Data'!$A:$F,6,0)),0)","v":0},0,null,0,{"$f":"IF(ISERROR(VLOOKUP($A117+8860000,'Growth Data'!$A:$Z,7,0)),0,VLOOKUP($A117+8860000,'Growth Data'!$A:$Z,7,0))","v":0},0,null,"NO",{"$f":"IF(ISERROR(VLOOKUP($A117+8860000,'Growth Data'!$A:$F,4,0)),\"NO\",VLOOKUP($A117+8860000,'Growth Data'!$A:$F,4,0))","v":"NO"},0,null,0,{"$f":"IF(ISERROR(VLOOKUP($A117+8860000,'Growth Data'!$A:$Z,8,0)),0,VLOOKUP($A117+8860000,'Growth Data'!$A:$Z,8,0))","v":0},0,null,0,{"$f":"IF(ISERROR(VLOOKUP($A117+8860000,'Growth Data'!$A:$Z,9,0)),0,VLOOKUP($A117+8860000,'Growth Data'!$A:$Z,9,0))","v":0},0,null,"NO",{"$f":"IF(ISERROR(VLOOKUP($A117+8860000,'Growth Data'!$A:$Z,5,0)),\"NO\",VLOOKUP($A117+8860000,'Growth Data'!$A:$Z,5,0))","v":"NO"},0,null,0,{"$f":"IF(ISERROR(VLOOKUP($A117+8860000,'Growth Data'!$A:$Z,10,0)),0,VLOOKUP($A117+8860000,'Growth Data'!$A:$Z,10,0))","v":0},0,null,0,{"$f":"IF(ISERROR(VLOOKUP($A117+8860000,'Growth Data'!$A:$Z,11,0)),0,VLOOKUP($A117+8860000,'Growth Data'!$A:$Z,11,0))","v":0},0]
[2562,"Lunsford Primary School",null,"Lunsford Primary School","Lunsford Primary School",0,null,761662.22,761662.2181926195,0,null,0,0,0,null,761662.22,761662.2181926195,0,null,5392.32,5392.3181340000001,0,null,null,null,0,null,0,0,0,null,46659.01,46659.014541619494,0,null,1334.1,1334.0985458380501,0,null,0,null,0,null,0,null,0,null,0,null,0,null,0,null,0,null,0,null,0,null,0,null,0,null,"NO",{"$f":"IF(ISERROR(VLOOKUP($A118+8860000,'Growth Data'!$A:$F,3,0)),\"NO\",VLOOKUP($A118+8860000,'Growth Data'!$A:$F,3,0))","v":"NO"},0,null,0,{"$f":"IF(BM118=\"YES\",IF(ISERROR(VLOOKUP($A118+8860000,'Growth Data'!$A:$F,6,0)),0,VLOOKUP($A118+8860000,'Growth Data'!$A:$F,6,0)),0)","v":0},0,null,0,{"$f":"IF(ISERROR(VLOOKUP($A118+8860000,'Growth Data'!$A:$Z,7,0)),0,VLOOKUP($A118+8860000,'Growth Data'!$A:$Z,7,0))","v":0},0,null,"NO",{"$f":"IF(ISERROR(VLOOKUP($A118+8860000,'Growth Data'!$A:$F,4,0)),\"NO\",VLOOKUP($A118+8860000,'Growth Data'!$A:$F,4,0))","v":"NO"},0,null,0,{"$f":"IF(ISERROR(VLOOKUP($A118+8860000,'Growth Data'!$A:$Z,8,0)),0,VLOOKUP($A118+8860000,'Growth Data'!$A:$Z,8,0))","v":0},0,null,0,{"$f":"IF(ISERROR(VLOOKUP($A118+8860000,'Growth Data'!$A:$Z,9,0)),0,VLOOKUP($A118+8860000,'Growth Data'!$A:$Z,9,0))","v":0},0,null,"NO",{"$f":"IF(ISERROR(VLOOKUP($A118+8860000,'Growth Data'!$A:$Z,5,0)),\"NO\",VLOOKUP($A118+8860000,'Growth Data'!$A:$Z,5,0))","v":"NO"},0,null,0,{"$f":"IF(ISERROR(VLOOKUP($A118+8860000,'Growth Data'!$A:$Z,10,0)),0,VLOOKUP($A118+8860000,'Growth Data'!$A:$Z,10,0))","v":0},0,null,0,{"$f":"IF(ISERROR(VLOOKUP($A118+8860000,'Growth Data'!$A:$Z,11,0)),0,VLOOKUP($A118+8860000,'Growth Data'!$A:$Z,11,0))","v":0},0]
[2569,"Briary Primary School",null,"Briary Primary School","Briary Primary School",0,null,1381857.33,1381857.3274829802,0,null,0,0,0,null,1381857.33,1381857.3274829802,0,null,9860.24,9860.2388736000012,0,null,null,null,0,null,0,0,0,null,143631.4,143631.3982125801,0,null,0,0,0,null,0,null,0,null,0,null,0,null,0,null,0,null,0,null,0,null,0,null,0,null,0,null,0,null,"NO",{"$f":"IF(ISERROR(VLOOKUP($A119+8860000,'Growth Data'!$A:$F,3,0)),\"NO\",VLOOKUP($A119+8860000,'Growth Data'!$A:$F,3,0))","v":"NO"},0,null,0,{"$f":"IF(BM119=\"YES\",IF(ISERROR(VLOOKUP($A119+8860000,'Growth Data'!$A:$F,6,0)),0,VLOOKUP($A119+8860000,'Growth Data'!$A:$F,6,0)),0)","v":0},0,null,0,{"$f":"IF(ISERROR(VLOOKUP($A119+8860000,'Growth Data'!$A:$Z,7,0)),0,VLOOKUP($A119+8860000,'Growth Data'!$A:$Z,7,0))","v":0},0,null,"NO",{"$f":"IF(ISERROR(VLOOKUP($A119+8860000,'Growth Data'!$A:$F,4,0)),\"NO\",VLOOKUP($A119+8860000,'Growth Data'!$A:$F,4,0))","v":"NO"},0,null,0,{"$f":"IF(ISERROR(VLOOKUP($A119+8860000,'Growth Data'!$A:$Z,8,0)),0,VLOOKUP($A119+8860000,'Growth Data'!$A:$Z,8,0))","v":0},0,null,0,{"$f":"IF(ISERROR(VLOOKUP($A119+8860000,'Growth Data'!$A:$Z,9,0)),0,VLOOKUP($A119+8860000,'Growth Data'!$A:$Z,9,0))","v":0},0,null,"NO",{"$f":"IF(ISERROR(VLOOKUP($A119+8860000,'Growth Data'!$A:$Z,5,0)),\"NO\",VLOOKUP($A119+8860000,'Growth Data'!$A:$Z,5,0))","v":"NO"},0,null,0,{"$f":"IF(ISERROR(VLOOKUP($A119+8860000,'Growth Data'!$A:$Z,10,0)),0,VLOOKUP($A119+8860000,'Growth Data'!$A:$Z,10,0))","v":0},0,null,0,{"$f":"IF(ISERROR(VLOOKUP($A119+8860000,'Growth Data'!$A:$Z,11,0)),0,VLOOKUP($A119+8860000,'Growth Data'!$A:$Z,11,0))","v":0},0]
[2574,"Downs View Infant School",null,"Downs View Infant School","Downs View Infant School",0,null,971837.88,971837.87636546581,0,null,0,0,0,null,971837.88,971837.87636546581,0,null,6727.56,6727.5588147999997,0,null,null,null,0,null,0,0,0,null,97510.68,97510.683913265791,0,null,0,0,0,null,0,null,0,null,0,null,0,null,0,null,0,null,0,null,0,null,0,null,0,null,0,null,0,null,"NO",{"$f":"IF(ISERROR(VLOOKUP($A120+8860000,'Growth Data'!$A:$F,3,0)),\"NO\",VLOOKUP($A120+8860000,'Growth Data'!$A:$F,3,0))","v":"NO"},0,null,0,{"$f":"IF(BM120=\"YES\",IF(ISERROR(VLOOKUP($A120+8860000,'Growth Data'!$A:$F,6,0)),0,VLOOKUP($A120+8860000,'Growth Data'!$A:$F,6,0)),0)","v":0},0,null,0,{"$f":"IF(ISERROR(VLOOKUP($A120+8860000,'Growth Data'!$A:$Z,7,0)),0,VLOOKUP($A120+8860000,'Growth Data'!$A:$Z,7,0))","v":0},0,null,"NO",{"$f":"IF(ISERROR(VLOOKUP($A120+8860000,'Growth Data'!$A:$F,4,0)),\"NO\",VLOOKUP($A120+8860000,'Growth Data'!$A:$F,4,0))","v":"NO"},0,null,0,{"$f":"IF(ISERROR(VLOOKUP($A120+8860000,'Growth Data'!$A:$Z,8,0)),0,VLOOKUP($A120+8860000,'Growth Data'!$A:$Z,8,0))","v":0},0,null,0,{"$f":"IF(ISERROR(VLOOKUP($A120+8860000,'Growth Data'!$A:$Z,9,0)),0,VLOOKUP($A120+8860000,'Growth Data'!$A:$Z,9,0))","v":0},0,null,"NO",{"$f":"IF(ISERROR(VLOOKUP($A120+8860000,'Growth Data'!$A:$Z,5,0)),\"NO\",VLOOKUP($A120+8860000,'Growth Data'!$A:$Z,5,0))","v":"NO"},0,null,0,{"$f":"IF(ISERROR(VLOOKUP($A120+8860000,'Growth Data'!$A:$Z,10,0)),0,VLOOKUP($A120+8860000,'Growth Data'!$A:$Z,10,0))","v":0},0,null,0,{"$f":"IF(ISERROR(VLOOKUP($A120+8860000,'Growth Data'!$A:$Z,11,0)),0,VLOOKUP($A120+8860000,'Growth Data'!$A:$Z,11,0))","v":0},0]
[2578,"Kingswood Primary School",null,"Kingswood Primary School","Kingswood Primary School",0,null,476286.53,476286.53466250142,0,null,0,0,0,null,476286.53,476286.53466250142,0,null,3055.65,3055.6469426000003,0,null,null,null,0,null,0,0,0,null,24677.24,24677.244113601417,0,null,3532.28,3532.2755886398581,0,null,0,null,0,null,0,null,0,null,0,null,0,null,0,null,0,null,0,null,0,null,0,null,0,null,"NO",{"$f":"IF(ISERROR(VLOOKUP($A121+8860000,'Growth Data'!$A:$F,3,0)),\"NO\",VLOOKUP($A121+8860000,'Growth Data'!$A:$F,3,0))","v":"NO"},0,null,0,{"$f":"IF(BM121=\"YES\",IF(ISERROR(VLOOKUP($A121+8860000,'Growth Data'!$A:$F,6,0)),0,VLOOKUP($A121+8860000,'Growth Data'!$A:$F,6,0)),0)","v":0},0,null,0,{"$f":"IF(ISERROR(VLOOKUP($A121+8860000,'Growth Data'!$A:$Z,7,0)),0,VLOOKUP($A121+8860000,'Growth Data'!$A:$Z,7,0))","v":0},0,null,"NO",{"$f":"IF(ISERROR(VLOOKUP($A121+8860000,'Growth Data'!$A:$F,4,0)),\"NO\",VLOOKUP($A121+8860000,'Growth Data'!$A:$F,4,0))","v":"NO"},0,null,0,{"$f":"IF(ISERROR(VLOOKUP($A121+8860000,'Growth Data'!$A:$Z,8,0)),0,VLOOKUP($A121+8860000,'Growth Data'!$A:$Z,8,0))","v":0},0,null,0,{"$f":"IF(ISERROR(VLOOKUP($A121+8860000,'Growth Data'!$A:$Z,9,0)),0,VLOOKUP($A121+8860000,'Growth Data'!$A:$Z,9,0))","v":0},0,null,"NO",{"$f":"IF(ISERROR(VLOOKUP($A121+8860000,'Growth Data'!$A:$Z,5,0)),\"NO\",VLOOKUP($A121+8860000,'Growth Data'!$A:$Z,5,0))","v":"NO"},0,null,0,{"$f":"IF(ISERROR(VLOOKUP($A121+8860000,'Growth Data'!$A:$Z,10,0)),0,VLOOKUP($A121+8860000,'Growth Data'!$A:$Z,10,0))","v":0},0,null,0,{"$f":"IF(ISERROR(VLOOKUP($A121+8860000,'Growth Data'!$A:$Z,11,0)),0,VLOOKUP($A121+8860000,'Growth Data'!$A:$Z,11,0))","v":0},0]
[2586,"Senacre Wood Primary School",null,"Senacre Wood Primary School","Senacre Wood Primary School",0,null,828158.82,828158.82277611154,0,null,0,0,0,null,828158.82,828158.82277611154,0,null,5315.29,5315.2850177999999,0,null,null,null,0,null,0,0,0,null,117312.15,117312.15019441157,0,null,0,0,0,null,0,null,0,null,0,null,0,null,0,null,0,null,0,null,0,null,0,null,0,null,0,null,0,null,"NO",{"$f":"IF(ISERROR(VLOOKUP($A122+8860000,'Growth Data'!$A:$F,3,0)),\"NO\",VLOOKUP($A122+8860000,'Growth Data'!$A:$F,3,0))","v":"NO"},0,null,0,{"$f":"IF(BM122=\"YES\",IF(ISERROR(VLOOKUP($A122+8860000,'Growth Data'!$A:$F,6,0)),0,VLOOKUP($A122+8860000,'Growth Data'!$A:$F,6,0)),0)","v":0},0,null,0,{"$f":"IF(ISERROR(VLOOKUP($A122+8860000,'Growth Data'!$A:$Z,7,0)),0,VLOOKUP($A122+8860000,'Growth Data'!$A:$Z,7,0))","v":0},0,null,"NO",{"$f":"IF(ISERROR(VLOOKUP($A122+8860000,'Growth Data'!$A:$F,4,0)),\"NO\",VLOOKUP($A122+8860000,'Growth Data'!$A:$F,4,0))","v":"NO"},0,null,0,{"$f":"IF(ISERROR(VLOOKUP($A122+8860000,'Growth Data'!$A:$Z,8,0)),0,VLOOKUP($A122+8860000,'Growth Data'!$A:$Z,8,0))","v":0},0,null,0,{"$f":"IF(ISERROR(VLOOKUP($A122+8860000,'Growth Data'!$A:$Z,9,0)),0,VLOOKUP($A122+8860000,'Growth Data'!$A:$Z,9,0))","v":0},0,null,"NO",{"$f":"IF(ISERROR(VLOOKUP($A122+8860000,'Growth Data'!$A:$Z,5,0)),\"NO\",VLOOKUP($A122+8860000,'Growth Data'!$A:$Z,5,0))","v":"NO"},0,null,0,{"$f":"IF(ISERROR(VLOOKUP($A122+8860000,'Growth Data'!$A:$Z,10,0)),0,VLOOKUP($A122+8860000,'Growth Data'!$A:$Z,10,0))","v":0},0,null,0,{"$f":"IF(ISERROR(VLOOKUP($A122+8860000,'Growth Data'!$A:$Z,11,0)),0,VLOOKUP($A122+8860000,'Growth Data'!$A:$Z,11,0))","v":0},0]
[2603,"Bromstone Primary School, Broadstairs",null,"Bromstone Primary School, Broadstairs","Bromstone Primary School, Broadstairs",0,null,1806692.8,1806692.795361409,0,null,0,0,0,null,1806692.8,1806692.795361409,0,null,12633.43,12633.431056800002,0,null,null,null,0,null,0,0,0,null,267223.31,267223.31079620862,0,null,0,0,0,null,10666.67,null,10667,null,106000,null,106000,null,0,null,0,null,0,null,0,null,0,null,0,null,0,null,0,null,"NO",{"$f":"IF(ISERROR(VLOOKUP($A123+8860000,'Growth Data'!$A:$F,3,0)),\"NO\",VLOOKUP($A123+8860000,'Growth Data'!$A:$F,3,0))","v":"NO"},0,null,0,{"$f":"IF(BM123=\"YES\",IF(ISERROR(VLOOKUP($A123+8860000,'Growth Data'!$A:$F,6,0)),0,VLOOKUP($A123+8860000,'Growth Data'!$A:$F,6,0)),0)","v":0},0,null,0,{"$f":"IF(ISERROR(VLOOKUP($A123+8860000,'Growth Data'!$A:$Z,7,0)),0,VLOOKUP($A123+8860000,'Growth Data'!$A:$Z,7,0))","v":0},0,null,"NO",{"$f":"IF(ISERROR(VLOOKUP($A123+8860000,'Growth Data'!$A:$F,4,0)),\"NO\",VLOOKUP($A123+8860000,'Growth Data'!$A:$F,4,0))","v":"NO"},0,null,0,{"$f":"IF(ISERROR(VLOOKUP($A123+8860000,'Growth Data'!$A:$Z,8,0)),0,VLOOKUP($A123+8860000,'Growth Data'!$A:$Z,8,0))","v":0},0,null,0,{"$f":"IF(ISERROR(VLOOKUP($A123+8860000,'Growth Data'!$A:$Z,9,0)),0,VLOOKUP($A123+8860000,'Growth Data'!$A:$Z,9,0))","v":0},0,null,"NO",{"$f":"IF(ISERROR(VLOOKUP($A123+8860000,'Growth Data'!$A:$Z,5,0)),\"NO\",VLOOKUP($A123+8860000,'Growth Data'!$A:$Z,5,0))","v":"NO"},0,null,0,{"$f":"IF(ISERROR(VLOOKUP($A123+8860000,'Growth Data'!$A:$Z,10,0)),0,VLOOKUP($A123+8860000,'Growth Data'!$A:$Z,10,0))","v":0},0,null,0,{"$f":"IF(ISERROR(VLOOKUP($A123+8860000,'Growth Data'!$A:$Z,11,0)),0,VLOOKUP($A123+8860000,'Growth Data'!$A:$Z,11,0))","v":0},0]
[2607,"Parkside Community Primary School",null,"Parkside Community Primary School","Parkside Community Primary School",0,null,561759.91,561759.90959215153,0,null,61123.32,61123.318085385021,0,null,622883.23,622883.22767753655,0,null,2824.55,2824.5475939999992,0,null,null,null,0,null,4.9000000000000004,4.9000000000000004,0,null,104768.8,104768.80065115157,0,null,0,0,0,null,0,null,0,null,0,null,0,null,0,null,0,null,0,null,0,null,0,null,0,null,0,null,0,null,"NO",{"$f":"IF(ISERROR(VLOOKUP($A124+8860000,'Growth Data'!$A:$F,3,0)),\"NO\",VLOOKUP($A124+8860000,'Growth Data'!$A:$F,3,0))","v":"NO"},0,null,0,{"$f":"IF(BM124=\"YES\",IF(ISERROR(VLOOKUP($A124+8860000,'Growth Data'!$A:$F,6,0)),0,VLOOKUP($A124+8860000,'Growth Data'!$A:$F,6,0)),0)","v":0},0,null,0,{"$f":"IF(ISERROR(VLOOKUP($A124+8860000,'Growth Data'!$A:$Z,7,0)),0,VLOOKUP($A124+8860000,'Growth Data'!$A:$Z,7,0))","v":0},0,null,"NO",{"$f":"IF(ISERROR(VLOOKUP($A124+8860000,'Growth Data'!$A:$F,4,0)),\"NO\",VLOOKUP($A124+8860000,'Growth Data'!$A:$F,4,0))","v":"NO"},0,null,0,{"$f":"IF(ISERROR(VLOOKUP($A124+8860000,'Growth Data'!$A:$Z,8,0)),0,VLOOKUP($A124+8860000,'Growth Data'!$A:$Z,8,0))","v":0},0,null,0,{"$f":"IF(ISERROR(VLOOKUP($A124+8860000,'Growth Data'!$A:$Z,9,0)),0,VLOOKUP($A124+8860000,'Growth Data'!$A:$Z,9,0))","v":0},0,null,"NO",{"$f":"IF(ISERROR(VLOOKUP($A124+8860000,'Growth Data'!$A:$Z,5,0)),\"NO\",VLOOKUP($A124+8860000,'Growth Data'!$A:$Z,5,0))","v":"NO"},0,null,0,{"$f":"IF(ISERROR(VLOOKUP($A124+8860000,'Growth Data'!$A:$Z,10,0)),0,VLOOKUP($A124+8860000,'Growth Data'!$A:$Z,10,0))","v":0},0,null,0,{"$f":"IF(ISERROR(VLOOKUP($A124+8860000,'Growth Data'!$A:$Z,11,0)),0,VLOOKUP($A124+8860000,'Growth Data'!$A:$Z,11,0))","v":0},0]
[2611,"St Stephen's Infant School",null,"St Stephen's Infant School","St Stephen's Infant School",0,null,1055939.02,1055939.0184933073,0,null,9928.7999999999993,9928.8046765574254,0,null,1065867.82,1065867.8231698647,0,null,6932.98,6932.980458,0,null,null,null,0,null,0,0,0,null,162242.74,162242.74265630729,0,null,0,0,0,null,0,null,0,null,0,null,0,null,0,null,0,null,0,null,0,null,0,null,0,null,0,null,0,null,"NO",{"$f":"IF(ISERROR(VLOOKUP($A125+8860000,'Growth Data'!$A:$F,3,0)),\"NO\",VLOOKUP($A125+8860000,'Growth Data'!$A:$F,3,0))","v":"NO"},0,null,0,{"$f":"IF(BM125=\"YES\",IF(ISERROR(VLOOKUP($A125+8860000,'Growth Data'!$A:$F,6,0)),0,VLOOKUP($A125+8860000,'Growth Data'!$A:$F,6,0)),0)","v":0},0,null,0,{"$f":"IF(ISERROR(VLOOKUP($A125+8860000,'Growth Data'!$A:$Z,7,0)),0,VLOOKUP($A125+8860000,'Growth Data'!$A:$Z,7,0))","v":0},0,null,"NO",{"$f":"IF(ISERROR(VLOOKUP($A125+8860000,'Growth Data'!$A:$F,4,0)),\"NO\",VLOOKUP($A125+8860000,'Growth Data'!$A:$F,4,0))","v":"NO"},0,null,0,{"$f":"IF(ISERROR(VLOOKUP($A125+8860000,'Growth Data'!$A:$Z,8,0)),0,VLOOKUP($A125+8860000,'Growth Data'!$A:$Z,8,0))","v":0},0,null,0,{"$f":"IF(ISERROR(VLOOKUP($A125+8860000,'Growth Data'!$A:$Z,9,0)),0,VLOOKUP($A125+8860000,'Growth Data'!$A:$Z,9,0))","v":0},0,null,"NO",{"$f":"IF(ISERROR(VLOOKUP($A125+8860000,'Growth Data'!$A:$Z,5,0)),\"NO\",VLOOKUP($A125+8860000,'Growth Data'!$A:$Z,5,0))","v":"NO"},0,null,0,{"$f":"IF(ISERROR(VLOOKUP($A125+8860000,'Growth Data'!$A:$Z,10,0)),0,VLOOKUP($A125+8860000,'Growth Data'!$A:$Z,10,0))","v":0},0,null,0,{"$f":"IF(ISERROR(VLOOKUP($A125+8860000,'Growth Data'!$A:$Z,11,0)),0,VLOOKUP($A125+8860000,'Growth Data'!$A:$Z,11,0))","v":0},0]
[2615,"High Firs Primary School",null,"High Firs Primary School","High Firs Primary School",0,null,811673.35,811673.34780260373,0,null,0,0,0,null,811673.35,811673.34780260373,0,null,5428.92,5428.9242708182401,0,null,null,null,0,null,0,0,0,null,82564.44,82564.439508912415,0,null,0,0,0,null,0,null,0,null,0,null,0,null,0,null,0,null,0,null,0,null,0,null,0,null,0,null,0,null,"NO",{"$f":"IF(ISERROR(VLOOKUP($A126+8860000,'Growth Data'!$A:$F,3,0)),\"NO\",VLOOKUP($A126+8860000,'Growth Data'!$A:$F,3,0))","v":"NO"},0,null,0,{"$f":"IF(BM126=\"YES\",IF(ISERROR(VLOOKUP($A126+8860000,'Growth Data'!$A:$F,6,0)),0,VLOOKUP($A126+8860000,'Growth Data'!$A:$F,6,0)),0)","v":0},0,null,0,{"$f":"IF(ISERROR(VLOOKUP($A126+8860000,'Growth Data'!$A:$Z,7,0)),0,VLOOKUP($A126+8860000,'Growth Data'!$A:$Z,7,0))","v":0},0,null,"NO",{"$f":"IF(ISERROR(VLOOKUP($A126+8860000,'Growth Data'!$A:$F,4,0)),\"NO\",VLOOKUP($A126+8860000,'Growth Data'!$A:$F,4,0))","v":"NO"},0,null,0,{"$f":"IF(ISERROR(VLOOKUP($A126+8860000,'Growth Data'!$A:$Z,8,0)),0,VLOOKUP($A126+8860000,'Growth Data'!$A:$Z,8,0))","v":0},0,null,0,{"$f":"IF(ISERROR(VLOOKUP($A126+8860000,'Growth Data'!$A:$Z,9,0)),0,VLOOKUP($A126+8860000,'Growth Data'!$A:$Z,9,0))","v":0},0,null,"NO",{"$f":"IF(ISERROR(VLOOKUP($A126+8860000,'Growth Data'!$A:$Z,5,0)),\"NO\",VLOOKUP($A126+8860000,'Growth Data'!$A:$Z,5,0))","v":"NO"},0,null,0,{"$f":"IF(ISERROR(VLOOKUP($A126+8860000,'Growth Data'!$A:$Z,10,0)),0,VLOOKUP($A126+8860000,'Growth Data'!$A:$Z,10,0))","v":0},0,null,0,{"$f":"IF(ISERROR(VLOOKUP($A126+8860000,'Growth Data'!$A:$Z,11,0)),0,VLOOKUP($A126+8860000,'Growth Data'!$A:$Z,11,0))","v":0},0]
[2626,"Sandwich Infant School",null,"Sandwich Infant School","Sandwich Infant School",0,null,569489.18999999994,569489.19191992795,0,null,0,0,0,null,569489.18999999994,569489.19191992795,0,null,3594.88,3594.8787560000001,0,null,null,null,0,null,0,0,0,null,52534.18,52534.182285927986,0,null,746.58,746.5817714072009,0,null,0,null,0,null,0,null,0,null,0,null,0,null,0,null,0,null,0,null,0,null,0,null,0,null,"NO",{"$f":"IF(ISERROR(VLOOKUP($A127+8860000,'Growth Data'!$A:$F,3,0)),\"NO\",VLOOKUP($A127+8860000,'Growth Data'!$A:$F,3,0))","v":"NO"},0,null,0,{"$f":"IF(BM127=\"YES\",IF(ISERROR(VLOOKUP($A127+8860000,'Growth Data'!$A:$F,6,0)),0,VLOOKUP($A127+8860000,'Growth Data'!$A:$F,6,0)),0)","v":0},0,null,0,{"$f":"IF(ISERROR(VLOOKUP($A127+8860000,'Growth Data'!$A:$Z,7,0)),0,VLOOKUP($A127+8860000,'Growth Data'!$A:$Z,7,0))","v":0},0,null,"NO",{"$f":"IF(ISERROR(VLOOKUP($A127+8860000,'Growth Data'!$A:$F,4,0)),\"NO\",VLOOKUP($A127+8860000,'Growth Data'!$A:$F,4,0))","v":"NO"},0,null,0,{"$f":"IF(ISERROR(VLOOKUP($A127+8860000,'Growth Data'!$A:$Z,8,0)),0,VLOOKUP($A127+8860000,'Growth Data'!$A:$Z,8,0))","v":0},0,null,0,{"$f":"IF(ISERROR(VLOOKUP($A127+8860000,'Growth Data'!$A:$Z,9,0)),0,VLOOKUP($A127+8860000,'Growth Data'!$A:$Z,9,0))","v":0},0,null,"NO",{"$f":"IF(ISERROR(VLOOKUP($A127+8860000,'Growth Data'!$A:$Z,5,0)),\"NO\",VLOOKUP($A127+8860000,'Growth Data'!$A:$Z,5,0))","v":"NO"},0,null,0,{"$f":"IF(ISERROR(VLOOKUP($A127+8860000,'Growth Data'!$A:$Z,10,0)),0,VLOOKUP($A127+8860000,'Growth Data'!$A:$Z,10,0))","v":0},0,null,0,{"$f":"IF(ISERROR(VLOOKUP($A127+8860000,'Growth Data'!$A:$Z,11,0)),0,VLOOKUP($A127+8860000,'Growth Data'!$A:$Z,11,0))","v":0},0]
[2627,"Sandwich Junior School",null,"Sandwich Junior School","Sandwich Junior School",0,null,828378.57,828378.57242627686,0,null,0,0,0,null,828378.57,828378.57242627686,0,null,5777.48,5777.4837149999994,0,null,null,null,0,null,0,0,0,null,67713.570000000007,67713.569428776857,0,null,0,0,0,null,0,null,0,null,0,null,0,null,0,null,0,null,0,null,0,null,0,null,0,null,0,null,0,null,"NO",{"$f":"IF(ISERROR(VLOOKUP($A128+8860000,'Growth Data'!$A:$F,3,0)),\"NO\",VLOOKUP($A128+8860000,'Growth Data'!$A:$F,3,0))","v":"NO"},0,null,0,{"$f":"IF(BM128=\"YES\",IF(ISERROR(VLOOKUP($A128+8860000,'Growth Data'!$A:$F,6,0)),0,VLOOKUP($A128+8860000,'Growth Data'!$A:$F,6,0)),0)","v":0},0,null,0,{"$f":"IF(ISERROR(VLOOKUP($A128+8860000,'Growth Data'!$A:$Z,7,0)),0,VLOOKUP($A128+8860000,'Growth Data'!$A:$Z,7,0))","v":0},0,null,"NO",{"$f":"IF(ISERROR(VLOOKUP($A128+8860000,'Growth Data'!$A:$F,4,0)),\"NO\",VLOOKUP($A128+8860000,'Growth Data'!$A:$F,4,0))","v":"NO"},0,null,0,{"$f":"IF(ISERROR(VLOOKUP($A128+8860000,'Growth Data'!$A:$Z,8,0)),0,VLOOKUP($A128+8860000,'Growth Data'!$A:$Z,8,0))","v":0},0,null,0,{"$f":"IF(ISERROR(VLOOKUP($A128+8860000,'Growth Data'!$A:$Z,9,0)),0,VLOOKUP($A128+8860000,'Growth Data'!$A:$Z,9,0))","v":0},0,null,"NO",{"$f":"IF(ISERROR(VLOOKUP($A128+8860000,'Growth Data'!$A:$Z,5,0)),\"NO\",VLOOKUP($A128+8860000,'Growth Data'!$A:$Z,5,0))","v":"NO"},0,null,0,{"$f":"IF(ISERROR(VLOOKUP($A128+8860000,'Growth Data'!$A:$Z,10,0)),0,VLOOKUP($A128+8860000,'Growth Data'!$A:$Z,10,0))","v":0},0,null,0,{"$f":"IF(ISERROR(VLOOKUP($A128+8860000,'Growth Data'!$A:$Z,11,0)),0,VLOOKUP($A128+8860000,'Growth Data'!$A:$Z,11,0))","v":0},0]
[2629,"Holywell Primary School Upchurch",null,"Holywell Primary School Upchurch","Holywell Primary School Upchurch",0,null,731786.97,731786.96744031191,0,null,0,0,0,null,731786.97,731786.96744031191,0,null,5161.22,5161.2187854000003,0,null,null,null,0,null,0,0,0,null,38724.86,38724.857797211967,0,null,2127.5100000000002,2127.5142202788029,0,null,0,null,0,null,0,null,0,null,0,null,0,null,0,null,0,null,0,null,0,null,0,null,0,null,"NO",{"$f":"IF(ISERROR(VLOOKUP($A129+8860000,'Growth Data'!$A:$F,3,0)),\"NO\",VLOOKUP($A129+8860000,'Growth Data'!$A:$F,3,0))","v":"NO"},0,null,0,{"$f":"IF(BM129=\"YES\",IF(ISERROR(VLOOKUP($A129+8860000,'Growth Data'!$A:$F,6,0)),0,VLOOKUP($A129+8860000,'Growth Data'!$A:$F,6,0)),0)","v":0},0,null,0,{"$f":"IF(ISERROR(VLOOKUP($A129+8860000,'Growth Data'!$A:$Z,7,0)),0,VLOOKUP($A129+8860000,'Growth Data'!$A:$Z,7,0))","v":0},0,null,"NO",{"$f":"IF(ISERROR(VLOOKUP($A129+8860000,'Growth Data'!$A:$F,4,0)),\"NO\",VLOOKUP($A129+8860000,'Growth Data'!$A:$F,4,0))","v":"NO"},0,null,0,{"$f":"IF(ISERROR(VLOOKUP($A129+8860000,'Growth Data'!$A:$Z,8,0)),0,VLOOKUP($A129+8860000,'Growth Data'!$A:$Z,8,0))","v":0},0,null,0,{"$f":"IF(ISERROR(VLOOKUP($A129+8860000,'Growth Data'!$A:$Z,9,0)),0,VLOOKUP($A129+8860000,'Growth Data'!$A:$Z,9,0))","v":0},0,null,"NO",{"$f":"IF(ISERROR(VLOOKUP($A129+8860000,'Growth Data'!$A:$Z,5,0)),\"NO\",VLOOKUP($A129+8860000,'Growth Data'!$A:$Z,5,0))","v":"NO"},0,null,0,{"$f":"IF(ISERROR(VLOOKUP($A129+8860000,'Growth Data'!$A:$Z,10,0)),0,VLOOKUP($A129+8860000,'Growth Data'!$A:$Z,10,0))","v":0},0,null,0,{"$f":"IF(ISERROR(VLOOKUP($A129+8860000,'Growth Data'!$A:$Z,11,0)),0,VLOOKUP($A129+8860000,'Growth Data'!$A:$Z,11,0))","v":0},0]
[2632,"Sevenoaks Primary School",null,"Sevenoaks Primary School","Sevenoaks Primary School",{"$f":"IF(E130=D130,0,1)","v":0},null,2035879.46,2035879.4551890048,{"$f":"ROUND(H130-I130,0)","v":0},null,0,0,{"$f":"ROUND(L130-M130,0)","v":0},null,2035879.46,2035879.4551890048,{"$f":"ROUND(P130-Q130,0)","v":0},null,15914.2,15914.199578182881,{"$f":"ROUND(T130-U130,0)","v":0},null,null,null,{"$f":"ROUND(X130-Y130,0)","v":0},null,0,0,{"$f":"ROUND(AB130-AC130,0)","v":0},null,125209.66,125209.66198918231,{"$f":"ROUND(AF130-AG130,0)","v":0},null,0,0,{"$f":"ROUND(AJ130-AK130,0)","v":0},null,0,null,{"$f":"ROUND(AN130-AO130,0)","v":0},null,0,null,{"$f":"ROUND(AR130-AS130,0)","v":0},null,0,null,{"$f":"ROUND(AV130-AW130,0)","v":0},null,0,null,{"$f":"ROUND(AZ130-BA130,0)","v":0},null,0,null,{"$f":"ROUND(BD130-BE130,0)","v":0},null,0,null,{"$f":"ROUND(BH130-BI130,0)","v":0},null,"NO",{"$f":"IF(ISERROR(VLOOKUP($A130+8860000,'Growth Data'!$A:$F,3,0)),\"NO\",VLOOKUP($A130+8860000,'Growth Data'!$A:$F,3,0))","v":"NO"},{"$f":"IF(BL130=BM130,0,1)","v":0},null,0,{"$f":"IF(BM130=\"YES\",IF(ISERROR(VLOOKUP($A130+8860000,'Growth Data'!$A:$F,6,0)),0,VLOOKUP($A130+8860000,'Growth Data'!$A:$F,6,0)),0)","v":0},{"$f":"ROUND(BP130-BQ130,0)","v":0},null,0,{"$f":"IF(ISERROR(VLOOKUP($A130+8860000,'Growth Data'!$A:$Z,7,0)),0,VLOOKUP($A130+8860000,'Growth Data'!$A:$Z,7,0))","v":0},{"$f":"IF(BT130=BU130,0,1)","v":0},null,"YES",{"$f":"IF(ISERROR(VLOOKUP($A130+8860000,'Growth Data'!$A:$F,4,0)),\"NO\",VLOOKUP($A130+8860000,'Growth Data'!$A:$F,4,0))","v":"YES"},0,null,62,{"$f":"IF(ISERROR(VLOOKUP($A130+8860000,'Growth Data'!$A:$Z,8,0)),0,VLOOKUP($A130+8860000,'Growth Data'!$A:$Z,8,0))","v":62},{"$f":"IF(CB130=CC130,0,1)","v":0},null,90,{"$f":"IF(ISERROR(VLOOKUP($A130+8860000,'Growth Data'!$A:$Z,9,0)),0,VLOOKUP($A130+8860000,'Growth Data'!$A:$Z,9,0))","v":90},0,null,"NO",{"$f":"IF(ISERROR(VLOOKUP($A130+8860000,'Growth Data'!$A:$Z,5,0)),\"NO\",VLOOKUP($A130+8860000,'Growth Data'!$A:$Z,5,0))","v":"NO"},0,null,0,{"$f":"IF(ISERROR(VLOOKUP($A130+8860000,'Growth Data'!$A:$Z,10,0)),0,VLOOKUP($A130+8860000,'Growth Data'!$A:$Z,10,0))","v":0},0,null,0,{"$f":"IF(ISERROR(VLOOKUP($A130+8860000,'Growth Data'!$A:$Z,11,0)),0,VLOOKUP($A130+8860000,'Growth Data'!$A:$Z,11,0))","v":0},0]
[2636,"Edenbridge Primary School",null,"Edenbridge Primary School","Edenbridge Primary School",0,null,1498804.16,1498804.1603538934,0,null,0,0,0,null,1498804.16,1498804.1603538934,0,null,10591.72,10591.72480287088,0,null,null,null,0,null,4.9000000000000004,4.9000000000000004,0,null,174699.15,174699.151847039,0,null,0,0,0,null,0,null,0,null,0,null,0,null,0,null,0,null,0,null,0,null,0,null,0,null,0,null,0,null,"NO",{"$f":"IF(ISERROR(VLOOKUP($A131+8860000,'Growth Data'!$A:$F,3,0)),\"NO\",VLOOKUP($A131+8860000,'Growth Data'!$A:$F,3,0))","v":"NO"},0,null,0,{"$f":"IF(BM131=\"YES\",IF(ISERROR(VLOOKUP($A131+8860000,'Growth Data'!$A:$F,6,0)),0,VLOOKUP($A131+8860000,'Growth Data'!$A:$F,6,0)),0)","v":0},0,null,0,{"$f":"IF(ISERROR(VLOOKUP($A131+8860000,'Growth Data'!$A:$Z,7,0)),0,VLOOKUP($A131+8860000,'Growth Data'!$A:$Z,7,0))","v":0},0,null,"YES",{"$f":"IF(ISERROR(VLOOKUP($A131+8860000,'Growth Data'!$A:$F,4,0)),\"NO\",VLOOKUP($A131+8860000,'Growth Data'!$A:$F,4,0))","v":"YES"},{"$f":"IF(BX131=BY131,0,1)","v":0},null,60,{"$f":"IF(ISERROR(VLOOKUP($A131+8860000,'Growth Data'!$A:$Z,8,0)),0,VLOOKUP($A131+8860000,'Growth Data'!$A:$Z,8,0))","v":60},0,null,90,{"$f":"IF(ISERROR(VLOOKUP($A131+8860000,'Growth Data'!$A:$Z,9,0)),0,VLOOKUP($A131+8860000,'Growth Data'!$A:$Z,9,0))","v":90},{"$f":"IF(CF131=CG131,0,1)","v":0},null,"YES",{"$f":"IF(ISERROR(VLOOKUP($A131+8860000,'Growth Data'!$A:$Z,5,0)),\"NO\",VLOOKUP($A131+8860000,'Growth Data'!$A:$Z,5,0))","v":"YES"},{"$f":"IF(CJ131=CK131,0,1)","v":0},null,60,{"$f":"IF(ISERROR(VLOOKUP($A131+8860000,'Growth Data'!$A:$Z,10,0)),0,VLOOKUP($A131+8860000,'Growth Data'!$A:$Z,10,0))","v":60},{"$f":"IF(CN131=CO131,0,1)","v":0},null,90,{"$f":"IF(ISERROR(VLOOKUP($A131+8860000,'Growth Data'!$A:$Z,11,0)),0,VLOOKUP($A131+8860000,'Growth Data'!$A:$Z,11,0))","v":90},{"$f":"IF(CR131=CS131,0,1)","v":0}]
[2643,"Swalecliffe Community Primary School",null,"Swalecliffe Community Primary School","Swalecliffe Community Primary School",0,null,2086481,2086481,0,null,0,0,0,null,2086481,2086481,0,null,16279.67,16279.665223599999,0,null,null,null,0,null,0,0,0,null,147364.85999999999,147364.86266701418,0,null,0,0,0,null,0,null,0,null,0,null,0,null,0,null,0,null,0,null,0,null,0,null,0,null,0,null,0,null,"NO",{"$f":"IF(ISERROR(VLOOKUP($A132+8860000,'Growth Data'!$A:$F,3,0)),\"NO\",VLOOKUP($A132+8860000,'Growth Data'!$A:$F,3,0))","v":"NO"},0,null,0,{"$f":"IF(BM132=\"YES\",IF(ISERROR(VLOOKUP($A132+8860000,'Growth Data'!$A:$F,6,0)),0,VLOOKUP($A132+8860000,'Growth Data'!$A:$F,6,0)),0)","v":0},0,null,0,{"$f":"IF(ISERROR(VLOOKUP($A132+8860000,'Growth Data'!$A:$Z,7,0)),0,VLOOKUP($A132+8860000,'Growth Data'!$A:$Z,7,0))","v":0},0,null,"NO",{"$f":"IF(ISERROR(VLOOKUP($A132+8860000,'Growth Data'!$A:$F,4,0)),\"NO\",VLOOKUP($A132+8860000,'Growth Data'!$A:$F,4,0))","v":"NO"},0,null,0,{"$f":"IF(ISERROR(VLOOKUP($A132+8860000,'Growth Data'!$A:$Z,8,0)),0,VLOOKUP($A132+8860000,'Growth Data'!$A:$Z,8,0))","v":0},0,null,0,{"$f":"IF(ISERROR(VLOOKUP($A132+8860000,'Growth Data'!$A:$Z,9,0)),0,VLOOKUP($A132+8860000,'Growth Data'!$A:$Z,9,0))","v":0},0,null,"NO",{"$f":"IF(ISERROR(VLOOKUP($A132+8860000,'Growth Data'!$A:$Z,5,0)),\"NO\",VLOOKUP($A132+8860000,'Growth Data'!$A:$Z,5,0))","v":"NO"},0,null,0,{"$f":"IF(ISERROR(VLOOKUP($A132+8860000,'Growth Data'!$A:$Z,10,0)),0,VLOOKUP($A132+8860000,'Growth Data'!$A:$Z,10,0))","v":0},0,null,0,{"$f":"IF(ISERROR(VLOOKUP($A132+8860000,'Growth Data'!$A:$Z,11,0)),0,VLOOKUP($A132+8860000,'Growth Data'!$A:$Z,11,0))","v":0},0]
[2648,"Aylesham Primary School",null,"Aylesham Primary School","Aylesham Primary School",0,null,917590.61,917590.60847628443,0,null,12459.54,12459.540389623377,0,null,930050.15,930050.1488659078,0,null,5905.87,5905.8722420000013,0,null,null,null,0,null,0,0,0,null,132303.89000000001,132303.89196328417,0,null,0,0,0,null,0,null,0,null,0,null,0,null,0,null,0,null,0,null,0,null,0,null,0,null,0,null,0,null,"NO",{"$f":"IF(ISERROR(VLOOKUP($A133+8860000,'Growth Data'!$A:$F,3,0)),\"NO\",VLOOKUP($A133+8860000,'Growth Data'!$A:$F,3,0))","v":"NO"},0,null,0,{"$f":"IF(BM133=\"YES\",IF(ISERROR(VLOOKUP($A133+8860000,'Growth Data'!$A:$F,6,0)),0,VLOOKUP($A133+8860000,'Growth Data'!$A:$F,6,0)),0)","v":0},0,null,0,{"$f":"IF(ISERROR(VLOOKUP($A133+8860000,'Growth Data'!$A:$Z,7,0)),0,VLOOKUP($A133+8860000,'Growth Data'!$A:$Z,7,0))","v":0},0,null,"NO",{"$f":"IF(ISERROR(VLOOKUP($A133+8860000,'Growth Data'!$A:$F,4,0)),\"NO\",VLOOKUP($A133+8860000,'Growth Data'!$A:$F,4,0))","v":"NO"},0,null,0,{"$f":"IF(ISERROR(VLOOKUP($A133+8860000,'Growth Data'!$A:$Z,8,0)),0,VLOOKUP($A133+8860000,'Growth Data'!$A:$Z,8,0))","v":0},0,null,0,{"$f":"IF(ISERROR(VLOOKUP($A133+8860000,'Growth Data'!$A:$Z,9,0)),0,VLOOKUP($A133+8860000,'Growth Data'!$A:$Z,9,0))","v":0},0,null,"NO",{"$f":"IF(ISERROR(VLOOKUP($A133+8860000,'Growth Data'!$A:$Z,5,0)),\"NO\",VLOOKUP($A133+8860000,'Growth Data'!$A:$Z,5,0))","v":"NO"},0,null,0,{"$f":"IF(ISERROR(VLOOKUP($A133+8860000,'Growth Data'!$A:$Z,10,0)),0,VLOOKUP($A133+8860000,'Growth Data'!$A:$Z,10,0))","v":0},0,null,0,{"$f":"IF(ISERROR(VLOOKUP($A133+8860000,'Growth Data'!$A:$Z,11,0)),0,VLOOKUP($A133+8860000,'Growth Data'!$A:$Z,11,0))","v":0},0]
[2651,"Broadwater Primary School",null,"Broadwater Primary School","Broadwater Primary School",0,null,762275.12,762275.12207690836,0,null,2845.03,2845.0267635560594,0,null,765120.15,765120.14884046442,0,null,4827.41,4827.4086152,0,null,null,null,0,null,0,0,0,null,100934.24,100934.23653410825,0,null,0,0,0,null,0,null,0,null,0,null,0,null,0,null,0,null,0,null,0,null,0,null,0,null,0,null,0,null,"NO",{"$f":"IF(ISERROR(VLOOKUP($A134+8860000,'Growth Data'!$A:$F,3,0)),\"NO\",VLOOKUP($A134+8860000,'Growth Data'!$A:$F,3,0))","v":"NO"},0,null,0,{"$f":"IF(BM134=\"YES\",IF(ISERROR(VLOOKUP($A134+8860000,'Growth Data'!$A:$F,6,0)),0,VLOOKUP($A134+8860000,'Growth Data'!$A:$F,6,0)),0)","v":0},0,null,0,{"$f":"IF(ISERROR(VLOOKUP($A134+8860000,'Growth Data'!$A:$Z,7,0)),0,VLOOKUP($A134+8860000,'Growth Data'!$A:$Z,7,0))","v":0},0,null,"NO",{"$f":"IF(ISERROR(VLOOKUP($A134+8860000,'Growth Data'!$A:$F,4,0)),\"NO\",VLOOKUP($A134+8860000,'Growth Data'!$A:$F,4,0))","v":"NO"},0,null,0,{"$f":"IF(ISERROR(VLOOKUP($A134+8860000,'Growth Data'!$A:$Z,8,0)),0,VLOOKUP($A134+8860000,'Growth Data'!$A:$Z,8,0))","v":0},0,null,0,{"$f":"IF(ISERROR(VLOOKUP($A134+8860000,'Growth Data'!$A:$Z,9,0)),0,VLOOKUP($A134+8860000,'Growth Data'!$A:$Z,9,0))","v":0},0,null,"NO",{"$f":"IF(ISERROR(VLOOKUP($A134+8860000,'Growth Data'!$A:$Z,5,0)),\"NO\",VLOOKUP($A134+8860000,'Growth Data'!$A:$Z,5,0))","v":"NO"},0,null,0,{"$f":"IF(ISERROR(VLOOKUP($A134+8860000,'Growth Data'!$A:$Z,10,0)),0,VLOOKUP($A134+8860000,'Growth Data'!$A:$Z,10,0))","v":0},0,null,0,{"$f":"IF(ISERROR(VLOOKUP($A134+8860000,'Growth Data'!$A:$Z,11,0)),0,VLOOKUP($A134+8860000,'Growth Data'!$A:$Z,11,0))","v":0},0]
[2653,"West Borough Primary School",null,"West Borough Primary School","West Borough Primary School",0,null,1599190.15,1599190.1477989464,0,null,0,0,0,null,1599190.15,1599190.1477989464,0,null,11503.61,11503.612019199998,0,null,null,null,0,null,4.9000000000000004,4.9000000000000004,0,null,174356.28,174356.28385014657,0,null,0,0,0,null,0,null,0,null,0,null,0,null,0,null,0,null,0,null,0,null,0,null,0,null,0,null,0,null,"NO",{"$f":"IF(ISERROR(VLOOKUP($A135+8860000,'Growth Data'!$A:$F,3,0)),\"NO\",VLOOKUP($A135+8860000,'Growth Data'!$A:$F,3,0))","v":"NO"},0,null,0,{"$f":"IF(BM135=\"YES\",IF(ISERROR(VLOOKUP($A135+8860000,'Growth Data'!$A:$F,6,0)),0,VLOOKUP($A135+8860000,'Growth Data'!$A:$F,6,0)),0)","v":0},0,null,0,{"$f":"IF(ISERROR(VLOOKUP($A135+8860000,'Growth Data'!$A:$Z,7,0)),0,VLOOKUP($A135+8860000,'Growth Data'!$A:$Z,7,0))","v":0},0,null,"NO",{"$f":"IF(ISERROR(VLOOKUP($A135+8860000,'Growth Data'!$A:$F,4,0)),\"NO\",VLOOKUP($A135+8860000,'Growth Data'!$A:$F,4,0))","v":"NO"},0,null,0,{"$f":"IF(ISERROR(VLOOKUP($A135+8860000,'Growth Data'!$A:$Z,8,0)),0,VLOOKUP($A135+8860000,'Growth Data'!$A:$Z,8,0))","v":0},0,null,0,{"$f":"IF(ISERROR(VLOOKUP($A135+8860000,'Growth Data'!$A:$Z,9,0)),0,VLOOKUP($A135+8860000,'Growth Data'!$A:$Z,9,0))","v":0},0,null,"NO",{"$f":"IF(ISERROR(VLOOKUP($A135+8860000,'Growth Data'!$A:$Z,5,0)),\"NO\",VLOOKUP($A135+8860000,'Growth Data'!$A:$Z,5,0))","v":"NO"},0,null,0,{"$f":"IF(ISERROR(VLOOKUP($A135+8860000,'Growth Data'!$A:$Z,10,0)),0,VLOOKUP($A135+8860000,'Growth Data'!$A:$Z,10,0))","v":0},0,null,0,{"$f":"IF(ISERROR(VLOOKUP($A135+8860000,'Growth Data'!$A:$Z,11,0)),0,VLOOKUP($A135+8860000,'Growth Data'!$A:$Z,11,0))","v":0},0]
[2659,"Sandown School",null,"Sandown School","Sandown School",0,null,1355038.05,1355038.051746906,0,null,0,0,0,null,1355038.05,1355038.051746906,0,null,9731.85,9731.8503466000002,0,null,null,null,0,null,0,0,0,null,139685.19,139685.19279200601,0,null,0,0,0,null,0,null,0,null,0,null,0,null,0,null,0,null,0,null,0,null,0,null,0,null,0,null,0,null,"NO",{"$f":"IF(ISERROR(VLOOKUP($A136+8860000,'Growth Data'!$A:$F,3,0)),\"NO\",VLOOKUP($A136+8860000,'Growth Data'!$A:$F,3,0))","v":"NO"},0,null,0,{"$f":"IF(BM136=\"YES\",IF(ISERROR(VLOOKUP($A136+8860000,'Growth Data'!$A:$F,6,0)),0,VLOOKUP($A136+8860000,'Growth Data'!$A:$F,6,0)),0)","v":0},0,null,0,{"$f":"IF(ISERROR(VLOOKUP($A136+8860000,'Growth Data'!$A:$Z,7,0)),0,VLOOKUP($A136+8860000,'Growth Data'!$A:$Z,7,0))","v":0},0,null,"NO",{"$f":"IF(ISERROR(VLOOKUP($A136+8860000,'Growth Data'!$A:$F,4,0)),\"NO\",VLOOKUP($A136+8860000,'Growth Data'!$A:$F,4,0))","v":"NO"},0,null,0,{"$f":"IF(ISERROR(VLOOKUP($A136+8860000,'Growth Data'!$A:$Z,8,0)),0,VLOOKUP($A136+8860000,'Growth Data'!$A:$Z,8,0))","v":0},0,null,0,{"$f":"IF(ISERROR(VLOOKUP($A136+8860000,'Growth Data'!$A:$Z,9,0)),0,VLOOKUP($A136+8860000,'Growth Data'!$A:$Z,9,0))","v":0},0,null,"NO",{"$f":"IF(ISERROR(VLOOKUP($A136+8860000,'Growth Data'!$A:$Z,5,0)),\"NO\",VLOOKUP($A136+8860000,'Growth Data'!$A:$Z,5,0))","v":"NO"},0,null,0,{"$f":"IF(ISERROR(VLOOKUP($A136+8860000,'Growth Data'!$A:$Z,10,0)),0,VLOOKUP($A136+8860000,'Growth Data'!$A:$Z,10,0))","v":0},0,null,0,{"$f":"IF(ISERROR(VLOOKUP($A136+8860000,'Growth Data'!$A:$Z,11,0)),0,VLOOKUP($A136+8860000,'Growth Data'!$A:$Z,11,0))","v":0},0]
[2661,"Cage Green Primary School",null,"Cage Green Primary School","Cage Green Primary School",0,null,1491907.91,1491907.9141737858,0,null,0,0,0,null,1491907.91,1491907.9141737858,0,null,10656.25,10656.247741000003,0,null,null,null,0,null,0,0,0,null,167898.68,167898.67918728568,0,null,0,0,0,null,2333.33,null,2333,null,183500,null,183500,null,0,null,0,null,0,null,0,null,0,null,0,null,0,null,0,null,"NO",{"$f":"IF(ISERROR(VLOOKUP($A137+8860000,'Growth Data'!$A:$F,3,0)),\"NO\",VLOOKUP($A137+8860000,'Growth Data'!$A:$F,3,0))","v":"NO"},0,null,0,{"$f":"IF(BM137=\"YES\",IF(ISERROR(VLOOKUP($A137+8860000,'Growth Data'!$A:$F,6,0)),0,VLOOKUP($A137+8860000,'Growth Data'!$A:$F,6,0)),0)","v":0},0,null,0,{"$f":"IF(ISERROR(VLOOKUP($A137+8860000,'Growth Data'!$A:$Z,7,0)),0,VLOOKUP($A137+8860000,'Growth Data'!$A:$Z,7,0))","v":0},0,null,"NO",{"$f":"IF(ISERROR(VLOOKUP($A137+8860000,'Growth Data'!$A:$F,4,0)),\"NO\",VLOOKUP($A137+8860000,'Growth Data'!$A:$F,4,0))","v":"NO"},0,null,0,{"$f":"IF(ISERROR(VLOOKUP($A137+8860000,'Growth Data'!$A:$Z,8,0)),0,VLOOKUP($A137+8860000,'Growth Data'!$A:$Z,8,0))","v":0},0,null,0,{"$f":"IF(ISERROR(VLOOKUP($A137+8860000,'Growth Data'!$A:$Z,9,0)),0,VLOOKUP($A137+8860000,'Growth Data'!$A:$Z,9,0))","v":0},0,null,"NO",{"$f":"IF(ISERROR(VLOOKUP($A137+8860000,'Growth Data'!$A:$Z,5,0)),\"NO\",VLOOKUP($A137+8860000,'Growth Data'!$A:$Z,5,0))","v":"NO"},0,null,0,{"$f":"IF(ISERROR(VLOOKUP($A137+8860000,'Growth Data'!$A:$Z,10,0)),0,VLOOKUP($A137+8860000,'Growth Data'!$A:$Z,10,0))","v":0},0,null,0,{"$f":"IF(ISERROR(VLOOKUP($A137+8860000,'Growth Data'!$A:$Z,11,0)),0,VLOOKUP($A137+8860000,'Growth Data'!$A:$Z,11,0))","v":0},0]
[2662,"Long Mead Community Primary School",null,"Long Mead Community Primary School","Long Mead Community Primary School",0,null,633815.09,633815.0920500519,0,null,15081.17,15081.171331758727,0,null,648896.26,648896.26338181063,0,null,3800.3,3800.3003991999994,0,null,null,null,0,null,5.04,5.04,0,null,83652.800000000003,83652.801831251854,0,null,0,0,0,null,0,null,0,null,0,null,0,null,0,null,0,null,0,null,0,null,0,null,0,null,0,null,0,null,"NO",{"$f":"IF(ISERROR(VLOOKUP($A138+8860000,'Growth Data'!$A:$F,3,0)),\"NO\",VLOOKUP($A138+8860000,'Growth Data'!$A:$F,3,0))","v":"NO"},0,null,0,{"$f":"IF(BM138=\"YES\",IF(ISERROR(VLOOKUP($A138+8860000,'Growth Data'!$A:$F,6,0)),0,VLOOKUP($A138+8860000,'Growth Data'!$A:$F,6,0)),0)","v":0},0,null,0,{"$f":"IF(ISERROR(VLOOKUP($A138+8860000,'Growth Data'!$A:$Z,7,0)),0,VLOOKUP($A138+8860000,'Growth Data'!$A:$Z,7,0))","v":0},0,null,"NO",{"$f":"IF(ISERROR(VLOOKUP($A138+8860000,'Growth Data'!$A:$F,4,0)),\"NO\",VLOOKUP($A138+8860000,'Growth Data'!$A:$F,4,0))","v":"NO"},0,null,0,{"$f":"IF(ISERROR(VLOOKUP($A138+8860000,'Growth Data'!$A:$Z,8,0)),0,VLOOKUP($A138+8860000,'Growth Data'!$A:$Z,8,0))","v":0},0,null,0,{"$f":"IF(ISERROR(VLOOKUP($A138+8860000,'Growth Data'!$A:$Z,9,0)),0,VLOOKUP($A138+8860000,'Growth Data'!$A:$Z,9,0))","v":0},0,null,"NO",{"$f":"IF(ISERROR(VLOOKUP($A138+8860000,'Growth Data'!$A:$Z,5,0)),\"NO\",VLOOKUP($A138+8860000,'Growth Data'!$A:$Z,5,0))","v":"NO"},0,null,0,{"$f":"IF(ISERROR(VLOOKUP($A138+8860000,'Growth Data'!$A:$Z,10,0)),0,VLOOKUP($A138+8860000,'Growth Data'!$A:$Z,10,0))","v":0},0,null,0,{"$f":"IF(ISERROR(VLOOKUP($A138+8860000,'Growth Data'!$A:$Z,11,0)),0,VLOOKUP($A138+8860000,'Growth Data'!$A:$Z,11,0))","v":0},0]
[2666,"Wrotham Road Primary School",null,"Wrotham Road Primary School","Wrotham Road Primary School",0,null,1538396.2,1538396.2014137488,0,null,39522.68,39522.680832394399,0,null,1577918.88,1577918.8822461432,0,null,10553.54,10553.536919400001,0,null,null,null,0,null,5.12,5.12,0,null,251843.26,251843.25931964852,0,null,0,0,0,null,0,null,0,null,0,null,0,null,0,null,0,null,0,null,0,null,0,null,0,null,0,null,0,null,"NO",{"$f":"IF(ISERROR(VLOOKUP($A139+8860000,'Growth Data'!$A:$F,3,0)),\"NO\",VLOOKUP($A139+8860000,'Growth Data'!$A:$F,3,0))","v":"NO"},0,null,0,{"$f":"IF(BM139=\"YES\",IF(ISERROR(VLOOKUP($A139+8860000,'Growth Data'!$A:$F,6,0)),0,VLOOKUP($A139+8860000,'Growth Data'!$A:$F,6,0)),0)","v":0},0,null,0,{"$f":"IF(ISERROR(VLOOKUP($A139+8860000,'Growth Data'!$A:$Z,7,0)),0,VLOOKUP($A139+8860000,'Growth Data'!$A:$Z,7,0))","v":0},0,null,"NO",{"$f":"IF(ISERROR(VLOOKUP($A139+8860000,'Growth Data'!$A:$F,4,0)),\"NO\",VLOOKUP($A139+8860000,'Growth Data'!$A:$F,4,0))","v":"NO"},0,null,0,{"$f":"IF(ISERROR(VLOOKUP($A139+8860000,'Growth Data'!$A:$Z,8,0)),0,VLOOKUP($A139+8860000,'Growth Data'!$A:$Z,8,0))","v":0},0,null,0,{"$f":"IF(ISERROR(VLOOKUP($A139+8860000,'Growth Data'!$A:$Z,9,0)),0,VLOOKUP($A139+8860000,'Growth Data'!$A:$Z,9,0))","v":0},0,null,"NO",{"$f":"IF(ISERROR(VLOOKUP($A139+8860000,'Growth Data'!$A:$Z,5,0)),\"NO\",VLOOKUP($A139+8860000,'Growth Data'!$A:$Z,5,0))","v":"NO"},0,null,0,{"$f":"IF(ISERROR(VLOOKUP($A139+8860000,'Growth Data'!$A:$Z,10,0)),0,VLOOKUP($A139+8860000,'Growth Data'!$A:$Z,10,0))","v":0},0,null,0,{"$f":"IF(ISERROR(VLOOKUP($A139+8860000,'Growth Data'!$A:$Z,11,0)),0,VLOOKUP($A139+8860000,'Growth Data'!$A:$Z,11,0))","v":0},0]
[2672,"Palm Bay Primary School",null,"Palm Bay Primary School","Palm Bay Primary School",0,null,1486765.37,1486765.3748859914,0,null,0,0,0,null,1486765.37,1486765.3748859914,0,null,10835.99,10835.991678799999,0,null,null,null,0,null,0,0,0,null,145659.6,145659.60393779131,0,null,0,0,0,null,0,null,0,null,0,null,0,null,0,null,0,null,0,null,0,null,0,null,0,null,0,null,0,null,"NO",{"$f":"IF(ISERROR(VLOOKUP($A140+8860000,'Growth Data'!$A:$F,3,0)),\"NO\",VLOOKUP($A140+8860000,'Growth Data'!$A:$F,3,0))","v":"NO"},0,null,0,{"$f":"IF(BM140=\"YES\",IF(ISERROR(VLOOKUP($A140+8860000,'Growth Data'!$A:$F,6,0)),0,VLOOKUP($A140+8860000,'Growth Data'!$A:$F,6,0)),0)","v":0},0,null,0,{"$f":"IF(ISERROR(VLOOKUP($A140+8860000,'Growth Data'!$A:$Z,7,0)),0,VLOOKUP($A140+8860000,'Growth Data'!$A:$Z,7,0))","v":0},0,null,"NO",{"$f":"IF(ISERROR(VLOOKUP($A140+8860000,'Growth Data'!$A:$F,4,0)),\"NO\",VLOOKUP($A140+8860000,'Growth Data'!$A:$F,4,0))","v":"NO"},0,null,0,{"$f":"IF(ISERROR(VLOOKUP($A140+8860000,'Growth Data'!$A:$Z,8,0)),0,VLOOKUP($A140+8860000,'Growth Data'!$A:$Z,8,0))","v":0},0,null,0,{"$f":"IF(ISERROR(VLOOKUP($A140+8860000,'Growth Data'!$A:$Z,9,0)),0,VLOOKUP($A140+8860000,'Growth Data'!$A:$Z,9,0))","v":0},0,null,"NO",{"$f":"IF(ISERROR(VLOOKUP($A140+8860000,'Growth Data'!$A:$Z,5,0)),\"NO\",VLOOKUP($A140+8860000,'Growth Data'!$A:$Z,5,0))","v":"NO"},0,null,0,{"$f":"IF(ISERROR(VLOOKUP($A140+8860000,'Growth Data'!$A:$Z,10,0)),0,VLOOKUP($A140+8860000,'Growth Data'!$A:$Z,10,0))","v":0},0,null,0,{"$f":"IF(ISERROR(VLOOKUP($A140+8860000,'Growth Data'!$A:$Z,11,0)),0,VLOOKUP($A140+8860000,'Growth Data'!$A:$Z,11,0))","v":0},0]
[2674,"King's Farm Primary School",null,"King's Farm Primary School","King's Farm Primary School",0,null,1397591.92,1397591.9227239429,0,null,350436.23,350436.22973822872,0,null,1748028.15,1748028.1524621716,0,null,8833.1299999999992,8833.1306575999988,0,null,null,null,0,null,5.17,5.17,0,null,260678.05,260678.05197754269,0,null,0,0,0,null,0,null,0,null,0,null,0,null,0,null,0,null,0,null,0,null,0,null,0,null,0,null,0,null,"NO",{"$f":"IF(ISERROR(VLOOKUP($A141+8860000,'Growth Data'!$A:$F,3,0)),\"NO\",VLOOKUP($A141+8860000,'Growth Data'!$A:$F,3,0))","v":"NO"},0,null,0,{"$f":"IF(BM141=\"YES\",IF(ISERROR(VLOOKUP($A141+8860000,'Growth Data'!$A:$F,6,0)),0,VLOOKUP($A141+8860000,'Growth Data'!$A:$F,6,0)),0)","v":0},0,null,0,{"$f":"IF(ISERROR(VLOOKUP($A141+8860000,'Growth Data'!$A:$Z,7,0)),0,VLOOKUP($A141+8860000,'Growth Data'!$A:$Z,7,0))","v":0},0,null,"NO",{"$f":"IF(ISERROR(VLOOKUP($A141+8860000,'Growth Data'!$A:$F,4,0)),\"NO\",VLOOKUP($A141+8860000,'Growth Data'!$A:$F,4,0))","v":"NO"},0,null,0,{"$f":"IF(ISERROR(VLOOKUP($A141+8860000,'Growth Data'!$A:$Z,8,0)),0,VLOOKUP($A141+8860000,'Growth Data'!$A:$Z,8,0))","v":0},0,null,0,{"$f":"IF(ISERROR(VLOOKUP($A141+8860000,'Growth Data'!$A:$Z,9,0)),0,VLOOKUP($A141+8860000,'Growth Data'!$A:$Z,9,0))","v":0},0,null,"NO",{"$f":"IF(ISERROR(VLOOKUP($A141+8860000,'Growth Data'!$A:$Z,5,0)),\"NO\",VLOOKUP($A141+8860000,'Growth Data'!$A:$Z,5,0))","v":"NO"},0,null,0,{"$f":"IF(ISERROR(VLOOKUP($A141+8860000,'Growth Data'!$A:$Z,10,0)),0,VLOOKUP($A141+8860000,'Growth Data'!$A:$Z,10,0))","v":0},0,null,0,{"$f":"IF(ISERROR(VLOOKUP($A141+8860000,'Growth Data'!$A:$Z,11,0)),0,VLOOKUP($A141+8860000,'Growth Data'!$A:$Z,11,0))","v":0},0]
[2677,"Coxheath Primary School",null,"Coxheath Primary School","Coxheath Primary School",0,null,1256967.93,1256967.9325891153,0,null,0,0,0,null,1256967.93,1256967.9325891153,0,null,9089.91,9089.9077116000008,0,null,null,null,0,null,0,0,0,null,132035.51,132035.51281171545,0,null,0,0,0,null,0,null,0,null,0,null,0,null,0,null,0,null,0,null,0,null,0,null,0,null,0,null,0,null,"NO",{"$f":"IF(ISERROR(VLOOKUP($A142+8860000,'Growth Data'!$A:$F,3,0)),\"NO\",VLOOKUP($A142+8860000,'Growth Data'!$A:$F,3,0))","v":"NO"},0,null,0,{"$f":"IF(BM142=\"YES\",IF(ISERROR(VLOOKUP($A142+8860000,'Growth Data'!$A:$F,6,0)),0,VLOOKUP($A142+8860000,'Growth Data'!$A:$F,6,0)),0)","v":0},0,null,0,{"$f":"IF(ISERROR(VLOOKUP($A142+8860000,'Growth Data'!$A:$Z,7,0)),0,VLOOKUP($A142+8860000,'Growth Data'!$A:$Z,7,0))","v":0},0,null,"NO",{"$f":"IF(ISERROR(VLOOKUP($A142+8860000,'Growth Data'!$A:$F,4,0)),\"NO\",VLOOKUP($A142+8860000,'Growth Data'!$A:$F,4,0))","v":"NO"},0,null,0,{"$f":"IF(ISERROR(VLOOKUP($A142+8860000,'Growth Data'!$A:$Z,8,0)),0,VLOOKUP($A142+8860000,'Growth Data'!$A:$Z,8,0))","v":0},0,null,0,{"$f":"IF(ISERROR(VLOOKUP($A142+8860000,'Growth Data'!$A:$Z,9,0)),0,VLOOKUP($A142+8860000,'Growth Data'!$A:$Z,9,0))","v":0},0,null,"NO",{"$f":"IF(ISERROR(VLOOKUP($A142+8860000,'Growth Data'!$A:$Z,5,0)),\"NO\",VLOOKUP($A142+8860000,'Growth Data'!$A:$Z,5,0))","v":"NO"},0,null,0,{"$f":"IF(ISERROR(VLOOKUP($A142+8860000,'Growth Data'!$A:$Z,10,0)),0,VLOOKUP($A142+8860000,'Growth Data'!$A:$Z,10,0))","v":0},0,null,0,{"$f":"IF(ISERROR(VLOOKUP($A142+8860000,'Growth Data'!$A:$Z,11,0)),0,VLOOKUP($A142+8860000,'Growth Data'!$A:$Z,11,0))","v":0},0]
[2680,"Kings Hill School",null,"Kings Hill School","Kings Hill School",0,null,1570286,1570286,0,null,0,0,0,null,1570286,1570286,0,null,12196.91,12196.910064999996,0,null,null,null,0,null,0,0,0,null,90125.37,90125.371520063229,0,null,0,0,0,null,0,null,0,null,0,null,0,null,0,null,0,null,0,null,0,null,0,null,0,null,0,null,0,null,"NO",{"$f":"IF(ISERROR(VLOOKUP($A143+8860000,'Growth Data'!$A:$F,3,0)),\"NO\",VLOOKUP($A143+8860000,'Growth Data'!$A:$F,3,0))","v":"NO"},0,null,0,{"$f":"IF(BM143=\"YES\",IF(ISERROR(VLOOKUP($A143+8860000,'Growth Data'!$A:$F,6,0)),0,VLOOKUP($A143+8860000,'Growth Data'!$A:$F,6,0)),0)","v":0},0,null,0,{"$f":"IF(ISERROR(VLOOKUP($A143+8860000,'Growth Data'!$A:$Z,7,0)),0,VLOOKUP($A143+8860000,'Growth Data'!$A:$Z,7,0))","v":0},0,null,"NO",{"$f":"IF(ISERROR(VLOOKUP($A143+8860000,'Growth Data'!$A:$F,4,0)),\"NO\",VLOOKUP($A143+8860000,'Growth Data'!$A:$F,4,0))","v":"NO"},0,null,0,{"$f":"IF(ISERROR(VLOOKUP($A143+8860000,'Growth Data'!$A:$Z,8,0)),0,VLOOKUP($A143+8860000,'Growth Data'!$A:$Z,8,0))","v":0},0,null,0,{"$f":"IF(ISERROR(VLOOKUP($A143+8860000,'Growth Data'!$A:$Z,9,0)),0,VLOOKUP($A143+8860000,'Growth Data'!$A:$Z,9,0))","v":0},0,null,"NO",{"$f":"IF(ISERROR(VLOOKUP($A143+8860000,'Growth Data'!$A:$Z,5,0)),\"NO\",VLOOKUP($A143+8860000,'Growth Data'!$A:$Z,5,0))","v":"NO"},0,null,0,{"$f":"IF(ISERROR(VLOOKUP($A143+8860000,'Growth Data'!$A:$Z,10,0)),0,VLOOKUP($A143+8860000,'Growth Data'!$A:$Z,10,0))","v":0},0,null,0,{"$f":"IF(ISERROR(VLOOKUP($A143+8860000,'Growth Data'!$A:$Z,11,0)),0,VLOOKUP($A143+8860000,'Growth Data'!$A:$Z,11,0))","v":0},0]
[2682,"New Ash Green Primary School",null,"New Ash Green Primary School","New Ash Green Primary School",0,null,1336132.77,1336132.7686418851,0,null,0,0,0,null,1336132.77,1336132.7686418851,0,null,10032.870000000001,10032.86495146312,0,null,null,null,0,null,0,0,0,null,107218.09,107218.08630826852,0,null,0,0,0,null,0,null,0,null,0,null,0,null,0,null,0,null,0,null,0,null,0,null,0,null,0,null,0,null,"NO",{"$f":"IF(ISERROR(VLOOKUP($A144+8860000,'Growth Data'!$A:$F,3,0)),\"NO\",VLOOKUP($A144+8860000,'Growth Data'!$A:$F,3,0))","v":"NO"},0,null,0,{"$f":"IF(BM144=\"YES\",IF(ISERROR(VLOOKUP($A144+8860000,'Growth Data'!$A:$F,6,0)),0,VLOOKUP($A144+8860000,'Growth Data'!$A:$F,6,0)),0)","v":0},0,null,0,{"$f":"IF(ISERROR(VLOOKUP($A144+8860000,'Growth Data'!$A:$Z,7,0)),0,VLOOKUP($A144+8860000,'Growth Data'!$A:$Z,7,0))","v":0},0,null,"NO",{"$f":"IF(ISERROR(VLOOKUP($A144+8860000,'Growth Data'!$A:$F,4,0)),\"NO\",VLOOKUP($A144+8860000,'Growth Data'!$A:$F,4,0))","v":"NO"},0,null,0,{"$f":"IF(ISERROR(VLOOKUP($A144+8860000,'Growth Data'!$A:$Z,8,0)),0,VLOOKUP($A144+8860000,'Growth Data'!$A:$Z,8,0))","v":0},0,null,0,{"$f":"IF(ISERROR(VLOOKUP($A144+8860000,'Growth Data'!$A:$Z,9,0)),0,VLOOKUP($A144+8860000,'Growth Data'!$A:$Z,9,0))","v":0},0,null,"NO",{"$f":"IF(ISERROR(VLOOKUP($A144+8860000,'Growth Data'!$A:$Z,5,0)),\"NO\",VLOOKUP($A144+8860000,'Growth Data'!$A:$Z,5,0))","v":"NO"},0,null,0,{"$f":"IF(ISERROR(VLOOKUP($A144+8860000,'Growth Data'!$A:$Z,10,0)),0,VLOOKUP($A144+8860000,'Growth Data'!$A:$Z,10,0))","v":0},0,null,0,{"$f":"IF(ISERROR(VLOOKUP($A144+8860000,'Growth Data'!$A:$Z,11,0)),0,VLOOKUP($A144+8860000,'Growth Data'!$A:$Z,11,0))","v":0},0]
[2689,"Craylands School, The",null,"Craylands School, The","Craylands School, The",0,null,1129757.82,1129757.8195881848,0,null,0,0,0,null,1129757.82,1129757.8195881848,0,null,7078.89,7078.89145116496,0,null,null,null,0,null,0,0,0,null,131105.54999999999,131105.54946552136,0,null,0,0,0,null,0,null,0,null,0,null,0,null,0,null,0,null,0,null,0,null,0,null,0,null,0,null,0,null,"NO",{"$f":"IF(ISERROR(VLOOKUP($A145+8860000,'Growth Data'!$A:$F,3,0)),\"NO\",VLOOKUP($A145+8860000,'Growth Data'!$A:$F,3,0))","v":"NO"},0,null,0,{"$f":"IF(BM145=\"YES\",IF(ISERROR(VLOOKUP($A145+8860000,'Growth Data'!$A:$F,6,0)),0,VLOOKUP($A145+8860000,'Growth Data'!$A:$F,6,0)),0)","v":0},0,null,0,{"$f":"IF(ISERROR(VLOOKUP($A145+8860000,'Growth Data'!$A:$Z,7,0)),0,VLOOKUP($A145+8860000,'Growth Data'!$A:$Z,7,0))","v":0},0,null,"YES",{"$f":"IF(ISERROR(VLOOKUP($A145+8860000,'Growth Data'!$A:$F,4,0)),\"NO\",VLOOKUP($A145+8860000,'Growth Data'!$A:$F,4,0))","v":"YES"},0,null,30,{"$f":"IF(ISERROR(VLOOKUP($A145+8860000,'Growth Data'!$A:$Z,8,0)),0,VLOOKUP($A145+8860000,'Growth Data'!$A:$Z,8,0))","v":30},0,null,60,{"$f":"IF(ISERROR(VLOOKUP($A145+8860000,'Growth Data'!$A:$Z,9,0)),0,VLOOKUP($A145+8860000,'Growth Data'!$A:$Z,9,0))","v":60},0,null,"YES",{"$f":"IF(ISERROR(VLOOKUP($A145+8860000,'Growth Data'!$A:$Z,5,0)),\"NO\",VLOOKUP($A145+8860000,'Growth Data'!$A:$Z,5,0))","v":"YES"},0,null,30,{"$f":"IF(ISERROR(VLOOKUP($A145+8860000,'Growth Data'!$A:$Z,10,0)),0,VLOOKUP($A145+8860000,'Growth Data'!$A:$Z,10,0))","v":30},0,null,60,{"$f":"IF(ISERROR(VLOOKUP($A145+8860000,'Growth Data'!$A:$Z,11,0)),0,VLOOKUP($A145+8860000,'Growth Data'!$A:$Z,11,0))","v":60},0]
[2692,"Churchill School, The",null,"Churchill School, The","Churchill School, The",0,null,1410303.34,1410303.342804919,0,null,0,0,0,null,1410303.34,1410303.342804919,0,null,10681.93,10681.925446399999,0,null,null,null,0,null,0,0,0,null,125380.58,125380.58079531914,0,null,0,0,0,null,0,null,0,null,0,null,0,null,0,null,0,null,0,null,0,null,0,null,0,null,0,null,0,null,"NO",{"$f":"IF(ISERROR(VLOOKUP($A146+8860000,'Growth Data'!$A:$F,3,0)),\"NO\",VLOOKUP($A146+8860000,'Growth Data'!$A:$F,3,0))","v":"NO"},0,null,0,{"$f":"IF(BM146=\"YES\",IF(ISERROR(VLOOKUP($A146+8860000,'Growth Data'!$A:$F,6,0)),0,VLOOKUP($A146+8860000,'Growth Data'!$A:$F,6,0)),0)","v":0},0,null,0,{"$f":"IF(ISERROR(VLOOKUP($A146+8860000,'Growth Data'!$A:$Z,7,0)),0,VLOOKUP($A146+8860000,'Growth Data'!$A:$Z,7,0))","v":0},0,null,"NO",{"$f":"IF(ISERROR(VLOOKUP($A146+8860000,'Growth Data'!$A:$F,4,0)),\"NO\",VLOOKUP($A146+8860000,'Growth Data'!$A:$F,4,0))","v":"NO"},0,null,0,{"$f":"IF(ISERROR(VLOOKUP($A146+8860000,'Growth Data'!$A:$Z,8,0)),0,VLOOKUP($A146+8860000,'Growth Data'!$A:$Z,8,0))","v":0},0,null,0,{"$f":"IF(ISERROR(VLOOKUP($A146+8860000,'Growth Data'!$A:$Z,9,0)),0,VLOOKUP($A146+8860000,'Growth Data'!$A:$Z,9,0))","v":0},0,null,"NO",{"$f":"IF(ISERROR(VLOOKUP($A146+8860000,'Growth Data'!$A:$Z,5,0)),\"NO\",VLOOKUP($A146+8860000,'Growth Data'!$A:$Z,5,0))","v":"NO"},0,null,0,{"$f":"IF(ISERROR(VLOOKUP($A146+8860000,'Growth Data'!$A:$Z,10,0)),0,VLOOKUP($A146+8860000,'Growth Data'!$A:$Z,10,0))","v":0},0,null,0,{"$f":"IF(ISERROR(VLOOKUP($A146+8860000,'Growth Data'!$A:$Z,11,0)),0,VLOOKUP($A146+8860000,'Growth Data'!$A:$Z,11,0))","v":0},0]
[3010,"St Paul's CEP School",null,"St Paul's CEP School","St Paul's CEP School",0,null,472292.84,472292.84220625402,0,null,0,0,0,null,472292.84,472292.84220625402,0,null,2874.14,2874.1363786684797,0,null,null,null,0,null,0,0,0,null,34251.29,34251.284960963334,0,null,2574.87,2574.8715039036665,0,null,0,null,0,null,0,null,0,null,0,null,0,null,0,null,0,null,0,null,0,null,0,null,0,null,"NO",{"$f":"IF(ISERROR(VLOOKUP($A147+8860000,'Growth Data'!$A:$F,3,0)),\"NO\",VLOOKUP($A147+8860000,'Growth Data'!$A:$F,3,0))","v":"NO"},0,null,0,{"$f":"IF(BM147=\"YES\",IF(ISERROR(VLOOKUP($A147+8860000,'Growth Data'!$A:$F,6,0)),0,VLOOKUP($A147+8860000,'Growth Data'!$A:$F,6,0)),0)","v":0},0,null,0,{"$f":"IF(ISERROR(VLOOKUP($A147+8860000,'Growth Data'!$A:$Z,7,0)),0,VLOOKUP($A147+8860000,'Growth Data'!$A:$Z,7,0))","v":0},0,null,"NO",{"$f":"IF(ISERROR(VLOOKUP($A147+8860000,'Growth Data'!$A:$F,4,0)),\"NO\",VLOOKUP($A147+8860000,'Growth Data'!$A:$F,4,0))","v":"NO"},0,null,0,{"$f":"IF(ISERROR(VLOOKUP($A147+8860000,'Growth Data'!$A:$Z,8,0)),0,VLOOKUP($A147+8860000,'Growth Data'!$A:$Z,8,0))","v":0},0,null,0,{"$f":"IF(ISERROR(VLOOKUP($A147+8860000,'Growth Data'!$A:$Z,9,0)),0,VLOOKUP($A147+8860000,'Growth Data'!$A:$Z,9,0))","v":0},0,null,"NO",{"$f":"IF(ISERROR(VLOOKUP($A147+8860000,'Growth Data'!$A:$Z,5,0)),\"NO\",VLOOKUP($A147+8860000,'Growth Data'!$A:$Z,5,0))","v":"NO"},0,null,0,{"$f":"IF(ISERROR(VLOOKUP($A147+8860000,'Growth Data'!$A:$Z,10,0)),0,VLOOKUP($A147+8860000,'Growth Data'!$A:$Z,10,0))","v":0},0,null,0,{"$f":"IF(ISERROR(VLOOKUP($A147+8860000,'Growth Data'!$A:$Z,11,0)),0,VLOOKUP($A147+8860000,'Growth Data'!$A:$Z,11,0))","v":0},0]
[3015,"Fawkham CEP School",null,"Fawkham CEP School","Fawkham CEP School",0,null,450671.11,450671.11377261888,0,null,0,0,0,null,450671.11,450671.11377261888,0,null,2714.46,2714.46213540912,0,null,null,null,0,null,0,0,0,null,19525.23,19525.225642333193,0,null,4047.48,4047.4774357666806,0,null,0,null,0,null,0,null,0,null,0,null,0,null,0,null,0,null,0,null,0,null,0,null,0,null,"NO",{"$f":"IF(ISERROR(VLOOKUP($A148+8860000,'Growth Data'!$A:$F,3,0)),\"NO\",VLOOKUP($A148+8860000,'Growth Data'!$A:$F,3,0))","v":"NO"},0,null,0,{"$f":"IF(BM148=\"YES\",IF(ISERROR(VLOOKUP($A148+8860000,'Growth Data'!$A:$F,6,0)),0,VLOOKUP($A148+8860000,'Growth Data'!$A:$F,6,0)),0)","v":0},0,null,0,{"$f":"IF(ISERROR(VLOOKUP($A148+8860000,'Growth Data'!$A:$Z,7,0)),0,VLOOKUP($A148+8860000,'Growth Data'!$A:$Z,7,0))","v":0},0,null,"NO",{"$f":"IF(ISERROR(VLOOKUP($A148+8860000,'Growth Data'!$A:$F,4,0)),\"NO\",VLOOKUP($A148+8860000,'Growth Data'!$A:$F,4,0))","v":"NO"},0,null,0,{"$f":"IF(ISERROR(VLOOKUP($A148+8860000,'Growth Data'!$A:$Z,8,0)),0,VLOOKUP($A148+8860000,'Growth Data'!$A:$Z,8,0))","v":0},0,null,0,{"$f":"IF(ISERROR(VLOOKUP($A148+8860000,'Growth Data'!$A:$Z,9,0)),0,VLOOKUP($A148+8860000,'Growth Data'!$A:$Z,9,0))","v":0},0,null,"NO",{"$f":"IF(ISERROR(VLOOKUP($A148+8860000,'Growth Data'!$A:$Z,5,0)),\"NO\",VLOOKUP($A148+8860000,'Growth Data'!$A:$Z,5,0))","v":"NO"},0,null,0,{"$f":"IF(ISERROR(VLOOKUP($A148+8860000,'Growth Data'!$A:$Z,10,0)),0,VLOOKUP($A148+8860000,'Growth Data'!$A:$Z,10,0))","v":0},0,null,0,{"$f":"IF(ISERROR(VLOOKUP($A148+8860000,'Growth Data'!$A:$Z,11,0)),0,VLOOKUP($A148+8860000,'Growth Data'!$A:$Z,11,0))","v":0},0]
[3020,"Sedley's CEP School",null,"Sedley's CEP School","Sedley's CEP School",0,null,440471.53,440471.53403197124,0,null,0,0,0,null,440471.53,440471.53403197124,0,null,2687.85,2687.84976153256,0,null,null,null,0,null,0,0,0,null,28491.919999999998,28491.921405226487,0,null,3150.81,3150.807859477351,0,null,0,null,0,null,0,null,0,null,0,null,0,null,0,null,0,null,0,null,0,null,0,null,0,null,"NO",{"$f":"IF(ISERROR(VLOOKUP($A149+8860000,'Growth Data'!$A:$F,3,0)),\"NO\",VLOOKUP($A149+8860000,'Growth Data'!$A:$F,3,0))","v":"NO"},0,null,0,{"$f":"IF(BM149=\"YES\",IF(ISERROR(VLOOKUP($A149+8860000,'Growth Data'!$A:$F,6,0)),0,VLOOKUP($A149+8860000,'Growth Data'!$A:$F,6,0)),0)","v":0},0,null,0,{"$f":"IF(ISERROR(VLOOKUP($A149+8860000,'Growth Data'!$A:$Z,7,0)),0,VLOOKUP($A149+8860000,'Growth Data'!$A:$Z,7,0))","v":0},0,null,"NO",{"$f":"IF(ISERROR(VLOOKUP($A149+8860000,'Growth Data'!$A:$F,4,0)),\"NO\",VLOOKUP($A149+8860000,'Growth Data'!$A:$F,4,0))","v":"NO"},0,null,0,{"$f":"IF(ISERROR(VLOOKUP($A149+8860000,'Growth Data'!$A:$Z,8,0)),0,VLOOKUP($A149+8860000,'Growth Data'!$A:$Z,8,0))","v":0},0,null,0,{"$f":"IF(ISERROR(VLOOKUP($A149+8860000,'Growth Data'!$A:$Z,9,0)),0,VLOOKUP($A149+8860000,'Growth Data'!$A:$Z,9,0))","v":0},0,null,"NO",{"$f":"IF(ISERROR(VLOOKUP($A149+8860000,'Growth Data'!$A:$Z,5,0)),\"NO\",VLOOKUP($A149+8860000,'Growth Data'!$A:$Z,5,0))","v":"NO"},0,null,0,{"$f":"IF(ISERROR(VLOOKUP($A149+8860000,'Growth Data'!$A:$Z,10,0)),0,VLOOKUP($A149+8860000,'Growth Data'!$A:$Z,10,0))","v":0},0,null,0,{"$f":"IF(ISERROR(VLOOKUP($A149+8860000,'Growth Data'!$A:$Z,11,0)),0,VLOOKUP($A149+8860000,'Growth Data'!$A:$Z,11,0))","v":0},0]
[3022,"Benenden CEP School",null,"Benenden CEP School","Benenden CEP School",0,null,612818.61,612818.61119790585,0,null,0,0,0,null,612818.61,612818.61119790585,0,null,4159.79,4159.7882748000002,0,null,null,null,0,null,0,0,0,null,31436.16,31436.158255705755,0,null,2856.38,2856.3841744294241,0,null,0,null,0,null,0,null,0,null,0,null,0,null,0,null,0,null,0,null,0,null,0,null,0,null,"NO",{"$f":"IF(ISERROR(VLOOKUP($A150+8860000,'Growth Data'!$A:$F,3,0)),\"NO\",VLOOKUP($A150+8860000,'Growth Data'!$A:$F,3,0))","v":"NO"},0,null,0,{"$f":"IF(BM150=\"YES\",IF(ISERROR(VLOOKUP($A150+8860000,'Growth Data'!$A:$F,6,0)),0,VLOOKUP($A150+8860000,'Growth Data'!$A:$F,6,0)),0)","v":0},0,null,0,{"$f":"IF(ISERROR(VLOOKUP($A150+8860000,'Growth Data'!$A:$Z,7,0)),0,VLOOKUP($A150+8860000,'Growth Data'!$A:$Z,7,0))","v":0},0,null,"NO",{"$f":"IF(ISERROR(VLOOKUP($A150+8860000,'Growth Data'!$A:$F,4,0)),\"NO\",VLOOKUP($A150+8860000,'Growth Data'!$A:$F,4,0))","v":"NO"},0,null,0,{"$f":"IF(ISERROR(VLOOKUP($A150+8860000,'Growth Data'!$A:$Z,8,0)),0,VLOOKUP($A150+8860000,'Growth Data'!$A:$Z,8,0))","v":0},0,null,0,{"$f":"IF(ISERROR(VLOOKUP($A150+8860000,'Growth Data'!$A:$Z,9,0)),0,VLOOKUP($A150+8860000,'Growth Data'!$A:$Z,9,0))","v":0},0,null,"NO",{"$f":"IF(ISERROR(VLOOKUP($A150+8860000,'Growth Data'!$A:$Z,5,0)),\"NO\",VLOOKUP($A150+8860000,'Growth Data'!$A:$Z,5,0))","v":"NO"},0,null,0,{"$f":"IF(ISERROR(VLOOKUP($A150+8860000,'Growth Data'!$A:$Z,10,0)),0,VLOOKUP($A150+8860000,'Growth Data'!$A:$Z,10,0))","v":0},0,null,0,{"$f":"IF(ISERROR(VLOOKUP($A150+8860000,'Growth Data'!$A:$Z,11,0)),0,VLOOKUP($A150+8860000,'Growth Data'!$A:$Z,11,0))","v":0},0]
[3023,"Bidborough CEP School",null,"Bidborough CEP School","Bidborough CEP School",0,null,733614.15,733614.15093604359,0,null,0,0,0,null,733614.15,733614.15093604359,0,null,5289.61,5289.6073123999995,0,null,null,null,0,null,0,0,0,null,38772.65,38772.650177443531,0,null,2122.7399999999998,2122.7349822556466,0,null,0,null,0,null,0,null,0,null,0,null,0,null,0,null,0,null,0,null,0,null,0,null,0,null,"NO",{"$f":"IF(ISERROR(VLOOKUP($A151+8860000,'Growth Data'!$A:$F,3,0)),\"NO\",VLOOKUP($A151+8860000,'Growth Data'!$A:$F,3,0))","v":"NO"},0,null,0,{"$f":"IF(BM151=\"YES\",IF(ISERROR(VLOOKUP($A151+8860000,'Growth Data'!$A:$F,6,0)),0,VLOOKUP($A151+8860000,'Growth Data'!$A:$F,6,0)),0)","v":0},0,null,0,{"$f":"IF(ISERROR(VLOOKUP($A151+8860000,'Growth Data'!$A:$Z,7,0)),0,VLOOKUP($A151+8860000,'Growth Data'!$A:$Z,7,0))","v":0},0,null,"NO",{"$f":"IF(ISERROR(VLOOKUP($A151+8860000,'Growth Data'!$A:$F,4,0)),\"NO\",VLOOKUP($A151+8860000,'Growth Data'!$A:$F,4,0))","v":"NO"},0,null,0,{"$f":"IF(ISERROR(VLOOKUP($A151+8860000,'Growth Data'!$A:$Z,8,0)),0,VLOOKUP($A151+8860000,'Growth Data'!$A:$Z,8,0))","v":0},0,null,0,{"$f":"IF(ISERROR(VLOOKUP($A151+8860000,'Growth Data'!$A:$Z,9,0)),0,VLOOKUP($A151+8860000,'Growth Data'!$A:$Z,9,0))","v":0},0,null,"NO",{"$f":"IF(ISERROR(VLOOKUP($A151+8860000,'Growth Data'!$A:$Z,5,0)),\"NO\",VLOOKUP($A151+8860000,'Growth Data'!$A:$Z,5,0))","v":"NO"},0,null,0,{"$f":"IF(ISERROR(VLOOKUP($A151+8860000,'Growth Data'!$A:$Z,10,0)),0,VLOOKUP($A151+8860000,'Growth Data'!$A:$Z,10,0))","v":0},0,null,0,{"$f":"IF(ISERROR(VLOOKUP($A151+8860000,'Growth Data'!$A:$Z,11,0)),0,VLOOKUP($A151+8860000,'Growth Data'!$A:$Z,11,0))","v":0},0]
[3027,"Cranbrook CEP School",null,"Cranbrook CEP School","Cranbrook CEP School",0,null,621922.72,621922.71670627804,0,null,0,0,0,null,621922.72,621922.71670627804,0,null,3851.66,3851.6558099999997,0,null,null,null,0,null,0,0,0,null,56949.69,56949.691641278005,0,null,305.02999999999997,305.03083587219953,0,null,0,null,0,null,0,null,0,null,0,null,0,null,0,null,0,null,0,null,0,null,0,null,0,null,"NO",{"$f":"IF(ISERROR(VLOOKUP($A152+8860000,'Growth Data'!$A:$F,3,0)),\"NO\",VLOOKUP($A152+8860000,'Growth Data'!$A:$F,3,0))","v":"NO"},0,null,0,{"$f":"IF(BM152=\"YES\",IF(ISERROR(VLOOKUP($A152+8860000,'Growth Data'!$A:$F,6,0)),0,VLOOKUP($A152+8860000,'Growth Data'!$A:$F,6,0)),0)","v":0},0,null,0,{"$f":"IF(ISERROR(VLOOKUP($A152+8860000,'Growth Data'!$A:$Z,7,0)),0,VLOOKUP($A152+8860000,'Growth Data'!$A:$Z,7,0))","v":0},0,null,"NO",{"$f":"IF(ISERROR(VLOOKUP($A152+8860000,'Growth Data'!$A:$F,4,0)),\"NO\",VLOOKUP($A152+8860000,'Growth Data'!$A:$F,4,0))","v":"NO"},0,null,0,{"$f":"IF(ISERROR(VLOOKUP($A152+8860000,'Growth Data'!$A:$Z,8,0)),0,VLOOKUP($A152+8860000,'Growth Data'!$A:$Z,8,0))","v":0},0,null,0,{"$f":"IF(ISERROR(VLOOKUP($A152+8860000,'Growth Data'!$A:$Z,9,0)),0,VLOOKUP($A152+8860000,'Growth Data'!$A:$Z,9,0))","v":0},0,null,"NO",{"$f":"IF(ISERROR(VLOOKUP($A152+8860000,'Growth Data'!$A:$Z,5,0)),\"NO\",VLOOKUP($A152+8860000,'Growth Data'!$A:$Z,5,0))","v":"NO"},0,null,0,{"$f":"IF(ISERROR(VLOOKUP($A152+8860000,'Growth Data'!$A:$Z,10,0)),0,VLOOKUP($A152+8860000,'Growth Data'!$A:$Z,10,0))","v":0},0,null,0,{"$f":"IF(ISERROR(VLOOKUP($A152+8860000,'Growth Data'!$A:$Z,11,0)),0,VLOOKUP($A152+8860000,'Growth Data'!$A:$Z,11,0))","v":0},0]
[3029,"Goudhurst & Kilndown CEP School",null,"Goudhurst & Kilndown CEP School","Goudhurst & Kilndown CEP School",0,null,755651.24,755651.23685057729,0,null,0,0,0,null,755651.24,755651.23685057729,0,null,5418,5417.9958393999996,0,null,null,null,0,null,0,0,0,null,28808.06,28808.058576477139,0,null,3119.19,3119.1941423522858,0,null,0,null,0,null,0,null,0,null,0,null,0,null,0,null,0,null,0,null,0,null,0,null,0,null,"NO",{"$f":"IF(ISERROR(VLOOKUP($A153+8860000,'Growth Data'!$A:$F,3,0)),\"NO\",VLOOKUP($A153+8860000,'Growth Data'!$A:$F,3,0))","v":"NO"},0,null,0,{"$f":"IF(BM153=\"YES\",IF(ISERROR(VLOOKUP($A153+8860000,'Growth Data'!$A:$F,6,0)),0,VLOOKUP($A153+8860000,'Growth Data'!$A:$F,6,0)),0)","v":0},0,null,0,{"$f":"IF(ISERROR(VLOOKUP($A153+8860000,'Growth Data'!$A:$Z,7,0)),0,VLOOKUP($A153+8860000,'Growth Data'!$A:$Z,7,0))","v":0},0,null,"NO",{"$f":"IF(ISERROR(VLOOKUP($A153+8860000,'Growth Data'!$A:$F,4,0)),\"NO\",VLOOKUP($A153+8860000,'Growth Data'!$A:$F,4,0))","v":"NO"},0,null,0,{"$f":"IF(ISERROR(VLOOKUP($A153+8860000,'Growth Data'!$A:$Z,8,0)),0,VLOOKUP($A153+8860000,'Growth Data'!$A:$Z,8,0))","v":0},0,null,0,{"$f":"IF(ISERROR(VLOOKUP($A153+8860000,'Growth Data'!$A:$Z,9,0)),0,VLOOKUP($A153+8860000,'Growth Data'!$A:$Z,9,0))","v":0},0,null,"NO",{"$f":"IF(ISERROR(VLOOKUP($A153+8860000,'Growth Data'!$A:$Z,5,0)),\"NO\",VLOOKUP($A153+8860000,'Growth Data'!$A:$Z,5,0))","v":"NO"},0,null,0,{"$f":"IF(ISERROR(VLOOKUP($A153+8860000,'Growth Data'!$A:$Z,10,0)),0,VLOOKUP($A153+8860000,'Growth Data'!$A:$Z,10,0))","v":0},0,null,0,{"$f":"IF(ISERROR(VLOOKUP($A153+8860000,'Growth Data'!$A:$Z,11,0)),0,VLOOKUP($A153+8860000,'Growth Data'!$A:$Z,11,0))","v":0},0]
[3032,"Hawkhurst CEP School",null,"Hawkhurst CEP School","Hawkhurst CEP School",0,null,774947.87,774947.86616847781,0,null,0,0,0,null,774947.87,774947.86616847781,0,null,5032.83,5032.8302583999994,0,null,null,null,0,null,0,0,0,null,73629.899999999994,73629.897240877792,0,null,0,0,0,null,0,null,0,null,0,null,0,null,0,null,0,null,0,null,0,null,0,null,0,null,0,null,0,null,"NO",{"$f":"IF(ISERROR(VLOOKUP($A154+8860000,'Growth Data'!$A:$F,3,0)),\"NO\",VLOOKUP($A154+8860000,'Growth Data'!$A:$F,3,0))","v":"NO"},0,null,0,{"$f":"IF(BM154=\"YES\",IF(ISERROR(VLOOKUP($A154+8860000,'Growth Data'!$A:$F,6,0)),0,VLOOKUP($A154+8860000,'Growth Data'!$A:$F,6,0)),0)","v":0},0,null,0,{"$f":"IF(ISERROR(VLOOKUP($A154+8860000,'Growth Data'!$A:$Z,7,0)),0,VLOOKUP($A154+8860000,'Growth Data'!$A:$Z,7,0))","v":0},0,null,"NO",{"$f":"IF(ISERROR(VLOOKUP($A154+8860000,'Growth Data'!$A:$F,4,0)),\"NO\",VLOOKUP($A154+8860000,'Growth Data'!$A:$F,4,0))","v":"NO"},0,null,0,{"$f":"IF(ISERROR(VLOOKUP($A154+8860000,'Growth Data'!$A:$Z,8,0)),0,VLOOKUP($A154+8860000,'Growth Data'!$A:$Z,8,0))","v":0},0,null,0,{"$f":"IF(ISERROR(VLOOKUP($A154+8860000,'Growth Data'!$A:$Z,9,0)),0,VLOOKUP($A154+8860000,'Growth Data'!$A:$Z,9,0))","v":0},0,null,"NO",{"$f":"IF(ISERROR(VLOOKUP($A154+8860000,'Growth Data'!$A:$Z,5,0)),\"NO\",VLOOKUP($A154+8860000,'Growth Data'!$A:$Z,5,0))","v":"NO"},0,null,0,{"$f":"IF(ISERROR(VLOOKUP($A154+8860000,'Growth Data'!$A:$Z,10,0)),0,VLOOKUP($A154+8860000,'Growth Data'!$A:$Z,10,0))","v":0},0,null,0,{"$f":"IF(ISERROR(VLOOKUP($A154+8860000,'Growth Data'!$A:$Z,11,0)),0,VLOOKUP($A154+8860000,'Growth Data'!$A:$Z,11,0))","v":0},0]
[3033,"Hildenborough CEP School",null,"Hildenborough CEP School","Hildenborough CEP School",0,null,727112.94,727112.93893237016,0,null,0,0,0,null,727112.94,727112.93893237016,0,null,5084.1899999999996,5084.1856692000001,0,null,null,null,0,null,0,0,0,null,41982.18,41982.181958570007,0,null,1801.78,1801.7818041429991,0,null,0,null,0,null,0,null,0,null,0,null,0,null,0,null,0,null,0,null,0,null,0,null,0,null,"NO",{"$f":"IF(ISERROR(VLOOKUP($A155+8860000,'Growth Data'!$A:$F,3,0)),\"NO\",VLOOKUP($A155+8860000,'Growth Data'!$A:$F,3,0))","v":"NO"},0,null,0,{"$f":"IF(BM155=\"YES\",IF(ISERROR(VLOOKUP($A155+8860000,'Growth Data'!$A:$F,6,0)),0,VLOOKUP($A155+8860000,'Growth Data'!$A:$F,6,0)),0)","v":0},0,null,0,{"$f":"IF(ISERROR(VLOOKUP($A155+8860000,'Growth Data'!$A:$Z,7,0)),0,VLOOKUP($A155+8860000,'Growth Data'!$A:$Z,7,0))","v":0},0,null,"NO",{"$f":"IF(ISERROR(VLOOKUP($A155+8860000,'Growth Data'!$A:$F,4,0)),\"NO\",VLOOKUP($A155+8860000,'Growth Data'!$A:$F,4,0))","v":"NO"},0,null,0,{"$f":"IF(ISERROR(VLOOKUP($A155+8860000,'Growth Data'!$A:$Z,8,0)),0,VLOOKUP($A155+8860000,'Growth Data'!$A:$Z,8,0))","v":0},0,null,0,{"$f":"IF(ISERROR(VLOOKUP($A155+8860000,'Growth Data'!$A:$Z,9,0)),0,VLOOKUP($A155+8860000,'Growth Data'!$A:$Z,9,0))","v":0},0,null,"NO",{"$f":"IF(ISERROR(VLOOKUP($A155+8860000,'Growth Data'!$A:$Z,5,0)),\"NO\",VLOOKUP($A155+8860000,'Growth Data'!$A:$Z,5,0))","v":"NO"},0,null,0,{"$f":"IF(ISERROR(VLOOKUP($A155+8860000,'Growth Data'!$A:$Z,10,0)),0,VLOOKUP($A155+8860000,'Growth Data'!$A:$Z,10,0))","v":0},0,null,0,{"$f":"IF(ISERROR(VLOOKUP($A155+8860000,'Growth Data'!$A:$Z,11,0)),0,VLOOKUP($A155+8860000,'Growth Data'!$A:$Z,11,0))","v":0},0]
[3034,"Lamberhurst St Mary's CEP School",null,"Lamberhurst St Mary's CEP School","Lamberhurst St Mary's CEP School",0,null,718345.41,718345.41201726429,0,null,0,0,0,null,718345.41,718345.41201726429,0,null,5084.1899999999996,5084.1856692000001,0,null,null,null,0,null,0,0,0,null,31147.78,31147.780243464182,0,null,2885.22,2885.2219756535815,0,null,0,null,0,null,0,null,0,null,0,null,0,null,0,null,0,null,0,null,0,null,0,null,0,null,"YES",{"$f":"IF(ISERROR(VLOOKUP($A156+8860000,'Growth Data'!$A:$F,3,0)),\"NO\",VLOOKUP($A156+8860000,'Growth Data'!$A:$F,3,0))","v":"YES"},0,null,21,{"$f":"IF(BM156=\"YES\",IF(ISERROR(VLOOKUP($A156+8860000,'Growth Data'!$A:$F,6,0)),0,VLOOKUP($A156+8860000,'Growth Data'!$A:$F,6,0)),0)","v":21},0,null,30,{"$f":"IF(ISERROR(VLOOKUP($A156+8860000,'Growth Data'!$A:$Z,7,0)),0,VLOOKUP($A156+8860000,'Growth Data'!$A:$Z,7,0))","v":30},0,null,"NO",{"$f":"IF(ISERROR(VLOOKUP($A156+8860000,'Growth Data'!$A:$F,4,0)),\"NO\",VLOOKUP($A156+8860000,'Growth Data'!$A:$F,4,0))","v":"NO"},0,null,0,{"$f":"IF(ISERROR(VLOOKUP($A156+8860000,'Growth Data'!$A:$Z,8,0)),0,VLOOKUP($A156+8860000,'Growth Data'!$A:$Z,8,0))","v":0},0,null,0,{"$f":"IF(ISERROR(VLOOKUP($A156+8860000,'Growth Data'!$A:$Z,9,0)),0,VLOOKUP($A156+8860000,'Growth Data'!$A:$Z,9,0))","v":0},0,null,"NO",{"$f":"IF(ISERROR(VLOOKUP($A156+8860000,'Growth Data'!$A:$Z,5,0)),\"NO\",VLOOKUP($A156+8860000,'Growth Data'!$A:$Z,5,0))","v":"NO"},0,null,0,{"$f":"IF(ISERROR(VLOOKUP($A156+8860000,'Growth Data'!$A:$Z,10,0)),0,VLOOKUP($A156+8860000,'Growth Data'!$A:$Z,10,0))","v":0},0,null,0,{"$f":"IF(ISERROR(VLOOKUP($A156+8860000,'Growth Data'!$A:$Z,11,0)),0,VLOOKUP($A156+8860000,'Growth Data'!$A:$Z,11,0))","v":0},0]
[3035,"Seal CEP School",null,"Seal CEP School","Seal CEP School",0,null,980376.92,980376.91555217409,0,null,0,0,0,null,980376.92,980376.91555217409,0,null,6999.05,6999.05432953528,0,null,null,null,0,null,0,0,0,null,78437.69,78437.688174533032,0,null,0,0,0,null,0,null,0,null,0,null,0,null,0,null,0,null,0,null,0,null,0,null,0,null,0,null,0,null,"NO",{"$f":"IF(ISERROR(VLOOKUP($A157+8860000,'Growth Data'!$A:$F,3,0)),\"NO\",VLOOKUP($A157+8860000,'Growth Data'!$A:$F,3,0))","v":"NO"},0,null,0,{"$f":"IF(BM157=\"YES\",IF(ISERROR(VLOOKUP($A157+8860000,'Growth Data'!$A:$F,6,0)),0,VLOOKUP($A157+8860000,'Growth Data'!$A:$F,6,0)),0)","v":0},0,null,0,{"$f":"IF(ISERROR(VLOOKUP($A157+8860000,'Growth Data'!$A:$Z,7,0)),0,VLOOKUP($A157+8860000,'Growth Data'!$A:$Z,7,0))","v":0},0,null,"YES",{"$f":"IF(ISERROR(VLOOKUP($A157+8860000,'Growth Data'!$A:$F,4,0)),\"NO\",VLOOKUP($A157+8860000,'Growth Data'!$A:$F,4,0))","v":"YES"},0,null,44,{"$f":"IF(ISERROR(VLOOKUP($A157+8860000,'Growth Data'!$A:$Z,8,0)),0,VLOOKUP($A157+8860000,'Growth Data'!$A:$Z,8,0))","v":44},0,null,60,{"$f":"IF(ISERROR(VLOOKUP($A157+8860000,'Growth Data'!$A:$Z,9,0)),0,VLOOKUP($A157+8860000,'Growth Data'!$A:$Z,9,0))","v":60},0,null,"YES",{"$f":"IF(ISERROR(VLOOKUP($A157+8860000,'Growth Data'!$A:$Z,5,0)),\"NO\",VLOOKUP($A157+8860000,'Growth Data'!$A:$Z,5,0))","v":"YES"},0,null,31,{"$f":"IF(ISERROR(VLOOKUP($A157+8860000,'Growth Data'!$A:$Z,10,0)),0,VLOOKUP($A157+8860000,'Growth Data'!$A:$Z,10,0))","v":31},0,null,60,{"$f":"IF(ISERROR(VLOOKUP($A157+8860000,'Growth Data'!$A:$Z,11,0)),0,VLOOKUP($A157+8860000,'Growth Data'!$A:$Z,11,0))","v":60},0]
[3037,"St John's CEP School, Sevenoaks",null,"St John's CEP School, Sevenoaks","St John's CEP School, Sevenoaks",0,null,891495.81,891495.81095501687,0,null,124357.43,124357.43056949694,0,null,1015853.24,1015853.2415245138,0,null,6440.19,6440.1944781275206,0,null,null,null,0,null,0,0,0,null,55687,55686.998266293478,0,null,431.3,431.30017337065146,0,null,0,null,0,null,0,null,0,null,0,null,0,null,0,null,0,null,0,null,0,null,0,null,0,null,"NO",{"$f":"IF(ISERROR(VLOOKUP($A158+8860000,'Growth Data'!$A:$F,3,0)),\"NO\",VLOOKUP($A158+8860000,'Growth Data'!$A:$F,3,0))","v":"NO"},0,null,0,{"$f":"IF(BM158=\"YES\",IF(ISERROR(VLOOKUP($A158+8860000,'Growth Data'!$A:$F,6,0)),0,VLOOKUP($A158+8860000,'Growth Data'!$A:$F,6,0)),0)","v":0},0,null,0,{"$f":"IF(ISERROR(VLOOKUP($A158+8860000,'Growth Data'!$A:$Z,7,0)),0,VLOOKUP($A158+8860000,'Growth Data'!$A:$Z,7,0))","v":0},0,null,"NO",{"$f":"IF(ISERROR(VLOOKUP($A158+8860000,'Growth Data'!$A:$F,4,0)),\"NO\",VLOOKUP($A158+8860000,'Growth Data'!$A:$F,4,0))","v":"NO"},0,null,0,{"$f":"IF(ISERROR(VLOOKUP($A158+8860000,'Growth Data'!$A:$Z,8,0)),0,VLOOKUP($A158+8860000,'Growth Data'!$A:$Z,8,0))","v":0},0,null,0,{"$f":"IF(ISERROR(VLOOKUP($A158+8860000,'Growth Data'!$A:$Z,9,0)),0,VLOOKUP($A158+8860000,'Growth Data'!$A:$Z,9,0))","v":0},0,null,"NO",{"$f":"IF(ISERROR(VLOOKUP($A158+8860000,'Growth Data'!$A:$Z,5,0)),\"NO\",VLOOKUP($A158+8860000,'Growth Data'!$A:$Z,5,0))","v":"NO"},0,null,0,{"$f":"IF(ISERROR(VLOOKUP($A158+8860000,'Growth Data'!$A:$Z,10,0)),0,VLOOKUP($A158+8860000,'Growth Data'!$A:$Z,10,0))","v":0},0,null,0,{"$f":"IF(ISERROR(VLOOKUP($A158+8860000,'Growth Data'!$A:$Z,11,0)),0,VLOOKUP($A158+8860000,'Growth Data'!$A:$Z,11,0))","v":0},0]
[3042,"Speldhurst CEP School",null,"Speldhurst CEP School","Speldhurst CEP School",0,null,539241.39,539241.39367006067,0,null,0,0,0,null,539241.39,539241.39367006067,0,null,3723.27,3723.2672829999992,0,null,null,null,0,null,0,0,0,null,23460.9,23460.903720560724,0,null,3653.91,3653.9096279439277,0,null,0,null,0,null,0,null,0,null,0,null,0,null,0,null,0,null,0,null,0,null,0,null,0,null,"NO",{"$f":"IF(ISERROR(VLOOKUP($A159+8860000,'Growth Data'!$A:$F,3,0)),\"NO\",VLOOKUP($A159+8860000,'Growth Data'!$A:$F,3,0))","v":"NO"},0,null,0,{"$f":"IF(BM159=\"YES\",IF(ISERROR(VLOOKUP($A159+8860000,'Growth Data'!$A:$F,6,0)),0,VLOOKUP($A159+8860000,'Growth Data'!$A:$F,6,0)),0)","v":0},0,null,0,{"$f":"IF(ISERROR(VLOOKUP($A159+8860000,'Growth Data'!$A:$Z,7,0)),0,VLOOKUP($A159+8860000,'Growth Data'!$A:$Z,7,0))","v":0},0,null,"NO",{"$f":"IF(ISERROR(VLOOKUP($A159+8860000,'Growth Data'!$A:$F,4,0)),\"NO\",VLOOKUP($A159+8860000,'Growth Data'!$A:$F,4,0))","v":"NO"},0,null,0,{"$f":"IF(ISERROR(VLOOKUP($A159+8860000,'Growth Data'!$A:$Z,8,0)),0,VLOOKUP($A159+8860000,'Growth Data'!$A:$Z,8,0))","v":0},0,null,0,{"$f":"IF(ISERROR(VLOOKUP($A159+8860000,'Growth Data'!$A:$Z,9,0)),0,VLOOKUP($A159+8860000,'Growth Data'!$A:$Z,9,0))","v":0},0,null,"NO",{"$f":"IF(ISERROR(VLOOKUP($A159+8860000,'Growth Data'!$A:$Z,5,0)),\"NO\",VLOOKUP($A159+8860000,'Growth Data'!$A:$Z,5,0))","v":"NO"},0,null,0,{"$f":"IF(ISERROR(VLOOKUP($A159+8860000,'Growth Data'!$A:$Z,10,0)),0,VLOOKUP($A159+8860000,'Growth Data'!$A:$Z,10,0))","v":0},0,null,0,{"$f":"IF(ISERROR(VLOOKUP($A159+8860000,'Growth Data'!$A:$Z,11,0)),0,VLOOKUP($A159+8860000,'Growth Data'!$A:$Z,11,0))","v":0},0]
[3043,"Sundridge & Brasted CEP School",null,"Sundridge & Brasted CEP School","Sundridge & Brasted CEP School",0,null,427690.82,427690.81932192465,0,null,0,0,0,null,427690.82,427690.81932192465,0,null,2554.79,2554.78789214976,0,null,null,null,0,null,0,0,0,null,27323.94,27323.939004564061,0,null,3267.61,3267.6060995435937,0,null,0,null,0,null,0,null,0,null,0,null,0,null,0,null,0,null,0,null,0,null,0,null,0,null,"NO",{"$f":"IF(ISERROR(VLOOKUP($A160+8860000,'Growth Data'!$A:$F,3,0)),\"NO\",VLOOKUP($A160+8860000,'Growth Data'!$A:$F,3,0))","v":"NO"},0,null,0,{"$f":"IF(BM160=\"YES\",IF(ISERROR(VLOOKUP($A160+8860000,'Growth Data'!$A:$F,6,0)),0,VLOOKUP($A160+8860000,'Growth Data'!$A:$F,6,0)),0)","v":0},0,null,0,{"$f":"IF(ISERROR(VLOOKUP($A160+8860000,'Growth Data'!$A:$Z,7,0)),0,VLOOKUP($A160+8860000,'Growth Data'!$A:$Z,7,0))","v":0},0,null,"NO",{"$f":"IF(ISERROR(VLOOKUP($A160+8860000,'Growth Data'!$A:$F,4,0)),\"NO\",VLOOKUP($A160+8860000,'Growth Data'!$A:$F,4,0))","v":"NO"},0,null,0,{"$f":"IF(ISERROR(VLOOKUP($A160+8860000,'Growth Data'!$A:$Z,8,0)),0,VLOOKUP($A160+8860000,'Growth Data'!$A:$Z,8,0))","v":0},0,null,0,{"$f":"IF(ISERROR(VLOOKUP($A160+8860000,'Growth Data'!$A:$Z,9,0)),0,VLOOKUP($A160+8860000,'Growth Data'!$A:$Z,9,0))","v":0},0,null,"NO",{"$f":"IF(ISERROR(VLOOKUP($A160+8860000,'Growth Data'!$A:$Z,5,0)),\"NO\",VLOOKUP($A160+8860000,'Growth Data'!$A:$Z,5,0))","v":"NO"},0,null,0,{"$f":"IF(ISERROR(VLOOKUP($A160+8860000,'Growth Data'!$A:$Z,10,0)),0,VLOOKUP($A160+8860000,'Growth Data'!$A:$Z,10,0))","v":0},0,null,0,{"$f":"IF(ISERROR(VLOOKUP($A160+8860000,'Growth Data'!$A:$Z,11,0)),0,VLOOKUP($A160+8860000,'Growth Data'!$A:$Z,11,0))","v":0},0]
[3049,"St James' CEJ School",null,"St James' CEJ School","St James' CEJ School",0,null,1222359.58,1222359.5846522502,0,null,0,0,0,null,1222359.58,1222359.5846522502,0,null,9269.65,9269.6516494000007,0,null,null,null,0,null,0,0,0,null,78624.72,78624.71811315004,0,null,0,0,0,null,0,null,0,null,0,null,0,null,0,null,0,null,0,null,0,null,0,null,0,null,0,null,0,null,"NO",{"$f":"IF(ISERROR(VLOOKUP($A161+8860000,'Growth Data'!$A:$F,3,0)),\"NO\",VLOOKUP($A161+8860000,'Growth Data'!$A:$F,3,0))","v":"NO"},0,null,0,{"$f":"IF(BM161=\"YES\",IF(ISERROR(VLOOKUP($A161+8860000,'Growth Data'!$A:$F,6,0)),0,VLOOKUP($A161+8860000,'Growth Data'!$A:$F,6,0)),0)","v":0},0,null,0,{"$f":"IF(ISERROR(VLOOKUP($A161+8860000,'Growth Data'!$A:$Z,7,0)),0,VLOOKUP($A161+8860000,'Growth Data'!$A:$Z,7,0))","v":0},0,null,"NO",{"$f":"IF(ISERROR(VLOOKUP($A161+8860000,'Growth Data'!$A:$F,4,0)),\"NO\",VLOOKUP($A161+8860000,'Growth Data'!$A:$F,4,0))","v":"NO"},0,null,0,{"$f":"IF(ISERROR(VLOOKUP($A161+8860000,'Growth Data'!$A:$Z,8,0)),0,VLOOKUP($A161+8860000,'Growth Data'!$A:$Z,8,0))","v":0},0,null,0,{"$f":"IF(ISERROR(VLOOKUP($A161+8860000,'Growth Data'!$A:$Z,9,0)),0,VLOOKUP($A161+8860000,'Growth Data'!$A:$Z,9,0))","v":0},0,null,"NO",{"$f":"IF(ISERROR(VLOOKUP($A161+8860000,'Growth Data'!$A:$Z,5,0)),\"NO\",VLOOKUP($A161+8860000,'Growth Data'!$A:$Z,5,0))","v":"NO"},0,null,0,{"$f":"IF(ISERROR(VLOOKUP($A161+8860000,'Growth Data'!$A:$Z,10,0)),0,VLOOKUP($A161+8860000,'Growth Data'!$A:$Z,10,0))","v":0},0,null,0,{"$f":"IF(ISERROR(VLOOKUP($A161+8860000,'Growth Data'!$A:$Z,11,0)),0,VLOOKUP($A161+8860000,'Growth Data'!$A:$Z,11,0))","v":0},0]
[3050,"St John's CEP School",null,"St John's CEP School","St John's CEP School",0,null,2099474.35,2099474.3454013043,0,null,0,0,0,null,2099474.35,2099474.3454013043,0,null,16228.31,16228.3098128,0,null,null,null,0,null,0,0,0,null,166824.37,166824.36800210417,0,null,0,0,0,null,0,null,0,null,0,null,0,null,0,null,0,null,0,null,0,null,0,null,0,null,0,null,0,null,"NO",{"$f":"IF(ISERROR(VLOOKUP($A162+8860000,'Growth Data'!$A:$F,3,0)),\"NO\",VLOOKUP($A162+8860000,'Growth Data'!$A:$F,3,0))","v":"NO"},0,null,0,{"$f":"IF(BM162=\"YES\",IF(ISERROR(VLOOKUP($A162+8860000,'Growth Data'!$A:$F,6,0)),0,VLOOKUP($A162+8860000,'Growth Data'!$A:$F,6,0)),0)","v":0},0,null,0,{"$f":"IF(ISERROR(VLOOKUP($A162+8860000,'Growth Data'!$A:$Z,7,0)),0,VLOOKUP($A162+8860000,'Growth Data'!$A:$Z,7,0))","v":0},0,null,"NO",{"$f":"IF(ISERROR(VLOOKUP($A162+8860000,'Growth Data'!$A:$F,4,0)),\"NO\",VLOOKUP($A162+8860000,'Growth Data'!$A:$F,4,0))","v":"NO"},0,null,0,{"$f":"IF(ISERROR(VLOOKUP($A162+8860000,'Growth Data'!$A:$Z,8,0)),0,VLOOKUP($A162+8860000,'Growth Data'!$A:$Z,8,0))","v":0},0,null,0,{"$f":"IF(ISERROR(VLOOKUP($A162+8860000,'Growth Data'!$A:$Z,9,0)),0,VLOOKUP($A162+8860000,'Growth Data'!$A:$Z,9,0))","v":0},0,null,"NO",{"$f":"IF(ISERROR(VLOOKUP($A162+8860000,'Growth Data'!$A:$Z,5,0)),\"NO\",VLOOKUP($A162+8860000,'Growth Data'!$A:$Z,5,0))","v":"NO"},0,null,0,{"$f":"IF(ISERROR(VLOOKUP($A162+8860000,'Growth Data'!$A:$Z,10,0)),0,VLOOKUP($A162+8860000,'Growth Data'!$A:$Z,10,0))","v":0},0,null,0,{"$f":"IF(ISERROR(VLOOKUP($A162+8860000,'Growth Data'!$A:$Z,11,0)),0,VLOOKUP($A162+8860000,'Growth Data'!$A:$Z,11,0))","v":0},0]
[3052,"St Mark's CEP School",null,"St Mark's CEP School","St Mark's CEP School",0,null,1158245.58,1158245.5808277684,0,null,0,0,0,null,1158245.58,1158245.5808277684,0,null,7960.09,7960.0886739999996,0,null,null,null,0,null,0,0,0,null,130754.16,130754.15566676854,0,null,0,0,0,null,0,null,0,null,0,null,0,null,0,null,0,null,0,null,0,null,0,null,0,null,0,null,0,null,"YES",{"$f":"IF(ISERROR(VLOOKUP($A163+8860000,'Growth Data'!$A:$F,3,0)),\"NO\",VLOOKUP($A163+8860000,'Growth Data'!$A:$F,3,0))","v":"YES"},0,null,30,{"$f":"IF(BM163=\"YES\",IF(ISERROR(VLOOKUP($A163+8860000,'Growth Data'!$A:$F,6,0)),0,VLOOKUP($A163+8860000,'Growth Data'!$A:$F,6,0)),0)","v":30},0,null,60,{"$f":"IF(ISERROR(VLOOKUP($A163+8860000,'Growth Data'!$A:$Z,7,0)),0,VLOOKUP($A163+8860000,'Growth Data'!$A:$Z,7,0))","v":60},0,null,"YES",{"$f":"IF(ISERROR(VLOOKUP($A163+8860000,'Growth Data'!$A:$F,4,0)),\"NO\",VLOOKUP($A163+8860000,'Growth Data'!$A:$F,4,0))","v":"YES"},0,null,30,{"$f":"IF(ISERROR(VLOOKUP($A163+8860000,'Growth Data'!$A:$Z,8,0)),0,VLOOKUP($A163+8860000,'Growth Data'!$A:$Z,8,0))","v":30},0,null,60,{"$f":"IF(ISERROR(VLOOKUP($A163+8860000,'Growth Data'!$A:$Z,9,0)),0,VLOOKUP($A163+8860000,'Growth Data'!$A:$Z,9,0))","v":60},0,null,"NO",{"$f":"IF(ISERROR(VLOOKUP($A163+8860000,'Growth Data'!$A:$Z,5,0)),\"NO\",VLOOKUP($A163+8860000,'Growth Data'!$A:$Z,5,0))","v":"NO"},0,null,0,{"$f":"IF(ISERROR(VLOOKUP($A163+8860000,'Growth Data'!$A:$Z,10,0)),0,VLOOKUP($A163+8860000,'Growth Data'!$A:$Z,10,0))","v":0},0,null,0,{"$f":"IF(ISERROR(VLOOKUP($A163+8860000,'Growth Data'!$A:$Z,11,0)),0,VLOOKUP($A163+8860000,'Growth Data'!$A:$Z,11,0))","v":0},0]
[3053,"St Peter's CEP School",null,"St Peter's CEP School","St Peter's CEP School",0,null,552154.98,552154.9837500311,0,null,0,0,0,null,552154.98,552154.9837500311,0,null,3569.2,3569.2010506000001,0,null,null,null,0,null,0,0,0,null,34925.47,34925.466739131021,0,null,2507.4499999999998,2507.4533260868975,0,null,0,null,0,null,0,null,0,null,0,null,0,null,0,null,0,null,0,null,0,null,0,null,0,null,"NO",{"$f":"IF(ISERROR(VLOOKUP($A164+8860000,'Growth Data'!$A:$F,3,0)),\"NO\",VLOOKUP($A164+8860000,'Growth Data'!$A:$F,3,0))","v":"NO"},0,null,0,{"$f":"IF(BM164=\"YES\",IF(ISERROR(VLOOKUP($A164+8860000,'Growth Data'!$A:$F,6,0)),0,VLOOKUP($A164+8860000,'Growth Data'!$A:$F,6,0)),0)","v":0},0,null,0,{"$f":"IF(ISERROR(VLOOKUP($A164+8860000,'Growth Data'!$A:$Z,7,0)),0,VLOOKUP($A164+8860000,'Growth Data'!$A:$Z,7,0))","v":0},0,null,"NO",{"$f":"IF(ISERROR(VLOOKUP($A164+8860000,'Growth Data'!$A:$F,4,0)),\"NO\",VLOOKUP($A164+8860000,'Growth Data'!$A:$F,4,0))","v":"NO"},0,null,0,{"$f":"IF(ISERROR(VLOOKUP($A164+8860000,'Growth Data'!$A:$Z,8,0)),0,VLOOKUP($A164+8860000,'Growth Data'!$A:$Z,8,0))","v":0},0,null,0,{"$f":"IF(ISERROR(VLOOKUP($A164+8860000,'Growth Data'!$A:$Z,9,0)),0,VLOOKUP($A164+8860000,'Growth Data'!$A:$Z,9,0))","v":0},0,null,"NO",{"$f":"IF(ISERROR(VLOOKUP($A164+8860000,'Growth Data'!$A:$Z,5,0)),\"NO\",VLOOKUP($A164+8860000,'Growth Data'!$A:$Z,5,0))","v":"NO"},0,null,0,{"$f":"IF(ISERROR(VLOOKUP($A164+8860000,'Growth Data'!$A:$Z,10,0)),0,VLOOKUP($A164+8860000,'Growth Data'!$A:$Z,10,0))","v":0},0,null,0,{"$f":"IF(ISERROR(VLOOKUP($A164+8860000,'Growth Data'!$A:$Z,11,0)),0,VLOOKUP($A164+8860000,'Growth Data'!$A:$Z,11,0))","v":0},0]
[3054,"Crockham Hill CEP School",null,"Crockham Hill CEP School","Crockham Hill CEP School",0,null,573181.49,573181.48801808234,0,null,0,0,0,null,573181.49,573181.48801808234,0,null,3645.9,3645.8952210887201,0,null,null,null,0,null,0,0,0,null,22872.53,22872.530050267309,0,null,3712.75,3712.746994973269,0,null,0,null,0,null,0,null,0,null,0,null,0,null,0,null,0,null,0,null,0,null,0,null,0,null,"NO",{"$f":"IF(ISERROR(VLOOKUP($A165+8860000,'Growth Data'!$A:$F,3,0)),\"NO\",VLOOKUP($A165+8860000,'Growth Data'!$A:$F,3,0))","v":"NO"},0,null,0,{"$f":"IF(BM165=\"YES\",IF(ISERROR(VLOOKUP($A165+8860000,'Growth Data'!$A:$F,6,0)),0,VLOOKUP($A165+8860000,'Growth Data'!$A:$F,6,0)),0)","v":0},0,null,0,{"$f":"IF(ISERROR(VLOOKUP($A165+8860000,'Growth Data'!$A:$Z,7,0)),0,VLOOKUP($A165+8860000,'Growth Data'!$A:$Z,7,0))","v":0},0,null,"NO",{"$f":"IF(ISERROR(VLOOKUP($A165+8860000,'Growth Data'!$A:$F,4,0)),\"NO\",VLOOKUP($A165+8860000,'Growth Data'!$A:$F,4,0))","v":"NO"},0,null,0,{"$f":"IF(ISERROR(VLOOKUP($A165+8860000,'Growth Data'!$A:$Z,8,0)),0,VLOOKUP($A165+8860000,'Growth Data'!$A:$Z,8,0))","v":0},0,null,0,{"$f":"IF(ISERROR(VLOOKUP($A165+8860000,'Growth Data'!$A:$Z,9,0)),0,VLOOKUP($A165+8860000,'Growth Data'!$A:$Z,9,0))","v":0},0,null,"NO",{"$f":"IF(ISERROR(VLOOKUP($A165+8860000,'Growth Data'!$A:$Z,5,0)),\"NO\",VLOOKUP($A165+8860000,'Growth Data'!$A:$Z,5,0))","v":"NO"},0,null,0,{"$f":"IF(ISERROR(VLOOKUP($A165+8860000,'Growth Data'!$A:$Z,10,0)),0,VLOOKUP($A165+8860000,'Growth Data'!$A:$Z,10,0))","v":0},0,null,0,{"$f":"IF(ISERROR(VLOOKUP($A165+8860000,'Growth Data'!$A:$Z,11,0)),0,VLOOKUP($A165+8860000,'Growth Data'!$A:$Z,11,0))","v":0},0]
[3055,"Churchill CEP School",null,"Churchill CEP School","Churchill CEP School",0,null,1041464.25,1041464.2530593065,0,null,0,0,0,null,1041464.25,1041464.2530593065,0,null,7824.04,7824.0379197086395,0,null,null,null,0,null,0,0,0,null,53551.66,53551.662832219503,0,null,644.83000000000004,644.83371677804917,0,null,0,null,0,null,0,null,0,null,0,null,0,null,0,null,0,null,0,null,0,null,0,null,0,null,"NO",{"$f":"IF(ISERROR(VLOOKUP($A166+8860000,'Growth Data'!$A:$F,3,0)),\"NO\",VLOOKUP($A166+8860000,'Growth Data'!$A:$F,3,0))","v":"NO"},0,null,0,{"$f":"IF(BM166=\"YES\",IF(ISERROR(VLOOKUP($A166+8860000,'Growth Data'!$A:$F,6,0)),0,VLOOKUP($A166+8860000,'Growth Data'!$A:$F,6,0)),0)","v":0},0,null,0,{"$f":"IF(ISERROR(VLOOKUP($A166+8860000,'Growth Data'!$A:$Z,7,0)),0,VLOOKUP($A166+8860000,'Growth Data'!$A:$Z,7,0))","v":0},0,null,"NO",{"$f":"IF(ISERROR(VLOOKUP($A166+8860000,'Growth Data'!$A:$F,4,0)),\"NO\",VLOOKUP($A166+8860000,'Growth Data'!$A:$F,4,0))","v":"NO"},0,null,0,{"$f":"IF(ISERROR(VLOOKUP($A166+8860000,'Growth Data'!$A:$Z,8,0)),0,VLOOKUP($A166+8860000,'Growth Data'!$A:$Z,8,0))","v":0},0,null,0,{"$f":"IF(ISERROR(VLOOKUP($A166+8860000,'Growth Data'!$A:$Z,9,0)),0,VLOOKUP($A166+8860000,'Growth Data'!$A:$Z,9,0))","v":0},0,null,"NO",{"$f":"IF(ISERROR(VLOOKUP($A166+8860000,'Growth Data'!$A:$Z,5,0)),\"NO\",VLOOKUP($A166+8860000,'Growth Data'!$A:$Z,5,0))","v":"NO"},0,null,0,{"$f":"IF(ISERROR(VLOOKUP($A166+8860000,'Growth Data'!$A:$Z,10,0)),0,VLOOKUP($A166+8860000,'Growth Data'!$A:$Z,10,0))","v":0},0,null,0,{"$f":"IF(ISERROR(VLOOKUP($A166+8860000,'Growth Data'!$A:$Z,11,0)),0,VLOOKUP($A166+8860000,'Growth Data'!$A:$Z,11,0))","v":0},0]
[3057,"St Peter's CEP School",null,"St Peter's CEP School","St Peter's CEP School",0,null,638694.21,638694.21200821071,0,null,0,0,0,null,638694.21,638694.21200821071,0,null,4236.82,4236.8213909999995,0,null,null,null,0,null,0,0,0,null,41086.980000000003,41086.977596710654,0,null,1891.3,1891.3022403289342,0,null,0,null,0,null,0,null,0,null,0,null,0,null,0,null,0,null,0,null,0,null,0,null,0,null,"NO",{"$f":"IF(ISERROR(VLOOKUP($A167+8860000,'Growth Data'!$A:$F,3,0)),\"NO\",VLOOKUP($A167+8860000,'Growth Data'!$A:$F,3,0))","v":"NO"},0,null,0,{"$f":"IF(BM167=\"YES\",IF(ISERROR(VLOOKUP($A167+8860000,'Growth Data'!$A:$F,6,0)),0,VLOOKUP($A167+8860000,'Growth Data'!$A:$F,6,0)),0)","v":0},0,null,0,{"$f":"IF(ISERROR(VLOOKUP($A167+8860000,'Growth Data'!$A:$Z,7,0)),0,VLOOKUP($A167+8860000,'Growth Data'!$A:$Z,7,0))","v":0},0,null,"NO",{"$f":"IF(ISERROR(VLOOKUP($A167+8860000,'Growth Data'!$A:$F,4,0)),\"NO\",VLOOKUP($A167+8860000,'Growth Data'!$A:$F,4,0))","v":"NO"},0,null,0,{"$f":"IF(ISERROR(VLOOKUP($A167+8860000,'Growth Data'!$A:$Z,8,0)),0,VLOOKUP($A167+8860000,'Growth Data'!$A:$Z,8,0))","v":0},0,null,0,{"$f":"IF(ISERROR(VLOOKUP($A167+8860000,'Growth Data'!$A:$Z,9,0)),0,VLOOKUP($A167+8860000,'Growth Data'!$A:$Z,9,0))","v":0},0,null,"NO",{"$f":"IF(ISERROR(VLOOKUP($A167+8860000,'Growth Data'!$A:$Z,5,0)),\"NO\",VLOOKUP($A167+8860000,'Growth Data'!$A:$Z,5,0))","v":"NO"},0,null,0,{"$f":"IF(ISERROR(VLOOKUP($A167+8860000,'Growth Data'!$A:$Z,10,0)),0,VLOOKUP($A167+8860000,'Growth Data'!$A:$Z,10,0))","v":0},0,null,0,{"$f":"IF(ISERROR(VLOOKUP($A167+8860000,'Growth Data'!$A:$Z,11,0)),0,VLOOKUP($A167+8860000,'Growth Data'!$A:$Z,11,0))","v":0},0]
[3061,"Bredhurst CEP School",null,"Bredhurst CEP School","Bredhurst CEP School",0,null,490248.9,490248.90305635188,0,null,0,0,0,null,490248.9,490248.90305635188,0,null,3081.32,3081.3246479999998,0,null,null,null,0,null,0,0,0,null,31454.55,31454.548684351885,0,null,2854.55,2854.5451315648115,0,null,0,null,0,null,0,null,0,null,0,null,0,null,0,null,0,null,0,null,0,null,0,null,0,null,"NO",{"$f":"IF(ISERROR(VLOOKUP($A168+8860000,'Growth Data'!$A:$F,3,0)),\"NO\",VLOOKUP($A168+8860000,'Growth Data'!$A:$F,3,0))","v":"NO"},0,null,0,{"$f":"IF(BM168=\"YES\",IF(ISERROR(VLOOKUP($A168+8860000,'Growth Data'!$A:$F,6,0)),0,VLOOKUP($A168+8860000,'Growth Data'!$A:$F,6,0)),0)","v":0},0,null,0,{"$f":"IF(ISERROR(VLOOKUP($A168+8860000,'Growth Data'!$A:$Z,7,0)),0,VLOOKUP($A168+8860000,'Growth Data'!$A:$Z,7,0))","v":0},0,null,"NO",{"$f":"IF(ISERROR(VLOOKUP($A168+8860000,'Growth Data'!$A:$F,4,0)),\"NO\",VLOOKUP($A168+8860000,'Growth Data'!$A:$F,4,0))","v":"NO"},0,null,0,{"$f":"IF(ISERROR(VLOOKUP($A168+8860000,'Growth Data'!$A:$Z,8,0)),0,VLOOKUP($A168+8860000,'Growth Data'!$A:$Z,8,0))","v":0},0,null,0,{"$f":"IF(ISERROR(VLOOKUP($A168+8860000,'Growth Data'!$A:$Z,9,0)),0,VLOOKUP($A168+8860000,'Growth Data'!$A:$Z,9,0))","v":0},0,null,"NO",{"$f":"IF(ISERROR(VLOOKUP($A168+8860000,'Growth Data'!$A:$Z,5,0)),\"NO\",VLOOKUP($A168+8860000,'Growth Data'!$A:$Z,5,0))","v":"NO"},0,null,0,{"$f":"IF(ISERROR(VLOOKUP($A168+8860000,'Growth Data'!$A:$Z,10,0)),0,VLOOKUP($A168+8860000,'Growth Data'!$A:$Z,10,0))","v":0},0,null,0,{"$f":"IF(ISERROR(VLOOKUP($A168+8860000,'Growth Data'!$A:$Z,11,0)),0,VLOOKUP($A168+8860000,'Growth Data'!$A:$Z,11,0))","v":0},0]
[3062,"Burham CEP School",null,"Burham CEP School","Burham CEP School",0,null,603013.87,603013.86764746939,0,null,0,0,0,null,603013.87,603013.86764746939,0,null,3851.66,3851.6558099999997,0,null,null,null,0,null,0,0,0,null,51190.22,51190.218182469398,0,null,880.98,880.9781817530602,0,null,0,null,0,null,0,null,0,null,0,null,0,null,0,null,0,null,0,null,0,null,0,null,0,null,"NO",{"$f":"IF(ISERROR(VLOOKUP($A169+8860000,'Growth Data'!$A:$F,3,0)),\"NO\",VLOOKUP($A169+8860000,'Growth Data'!$A:$F,3,0))","v":"NO"},0,null,0,{"$f":"IF(BM169=\"YES\",IF(ISERROR(VLOOKUP($A169+8860000,'Growth Data'!$A:$F,6,0)),0,VLOOKUP($A169+8860000,'Growth Data'!$A:$F,6,0)),0)","v":0},0,null,0,{"$f":"IF(ISERROR(VLOOKUP($A169+8860000,'Growth Data'!$A:$Z,7,0)),0,VLOOKUP($A169+8860000,'Growth Data'!$A:$Z,7,0))","v":0},0,null,"NO",{"$f":"IF(ISERROR(VLOOKUP($A169+8860000,'Growth Data'!$A:$F,4,0)),\"NO\",VLOOKUP($A169+8860000,'Growth Data'!$A:$F,4,0))","v":"NO"},0,null,0,{"$f":"IF(ISERROR(VLOOKUP($A169+8860000,'Growth Data'!$A:$Z,8,0)),0,VLOOKUP($A169+8860000,'Growth Data'!$A:$Z,8,0))","v":0},0,null,0,{"$f":"IF(ISERROR(VLOOKUP($A169+8860000,'Growth Data'!$A:$Z,9,0)),0,VLOOKUP($A169+8860000,'Growth Data'!$A:$Z,9,0))","v":0},0,null,"NO",{"$f":"IF(ISERROR(VLOOKUP($A169+8860000,'Growth Data'!$A:$Z,5,0)),\"NO\",VLOOKUP($A169+8860000,'Growth Data'!$A:$Z,5,0))","v":"NO"},0,null,0,{"$f":"IF(ISERROR(VLOOKUP($A169+8860000,'Growth Data'!$A:$Z,10,0)),0,VLOOKUP($A169+8860000,'Growth Data'!$A:$Z,10,0))","v":0},0,null,0,{"$f":"IF(ISERROR(VLOOKUP($A169+8860000,'Growth Data'!$A:$Z,11,0)),0,VLOOKUP($A169+8860000,'Growth Data'!$A:$Z,11,0))","v":0},0]
[3067,"Harrietsham CEP School",null,"Harrietsham CEP School","Harrietsham CEP School",0,null,726925.95,726925.94521507539,0,null,0,0,0,null,726925.95,726925.94521507539,0,null,4981.47,4981.4748475999986,0,null,null,null,0,null,0,0,0,null,42482.21,42482.211933675331,0,null,1751.78,1751.7788066324665,0,null,0,null,0,null,0,null,0,null,0,null,0,null,0,null,0,null,0,null,0,null,0,null,0,null,"YES",{"$f":"IF(ISERROR(VLOOKUP($A170+8860000,'Growth Data'!$A:$F,3,0)),\"NO\",VLOOKUP($A170+8860000,'Growth Data'!$A:$F,3,0))","v":"YES"},0,null,55,{"$f":"IF(BM170=\"YES\",IF(ISERROR(VLOOKUP($A170+8860000,'Growth Data'!$A:$F,6,0)),0,VLOOKUP($A170+8860000,'Growth Data'!$A:$F,6,0)),0)","v":55},0,null,60,{"$f":"IF(ISERROR(VLOOKUP($A170+8860000,'Growth Data'!$A:$Z,7,0)),0,VLOOKUP($A170+8860000,'Growth Data'!$A:$Z,7,0))","v":60},0,null,"YES",{"$f":"IF(ISERROR(VLOOKUP($A170+8860000,'Growth Data'!$A:$F,4,0)),\"NO\",VLOOKUP($A170+8860000,'Growth Data'!$A:$F,4,0))","v":"YES"},0,null,55,{"$f":"IF(ISERROR(VLOOKUP($A170+8860000,'Growth Data'!$A:$Z,8,0)),0,VLOOKUP($A170+8860000,'Growth Data'!$A:$Z,8,0))","v":55},0,null,60,{"$f":"IF(ISERROR(VLOOKUP($A170+8860000,'Growth Data'!$A:$Z,9,0)),0,VLOOKUP($A170+8860000,'Growth Data'!$A:$Z,9,0))","v":60},0,null,"NO",{"$f":"IF(ISERROR(VLOOKUP($A170+8860000,'Growth Data'!$A:$Z,5,0)),\"NO\",VLOOKUP($A170+8860000,'Growth Data'!$A:$Z,5,0))","v":"NO"},0,null,0,{"$f":"IF(ISERROR(VLOOKUP($A170+8860000,'Growth Data'!$A:$Z,10,0)),0,VLOOKUP($A170+8860000,'Growth Data'!$A:$Z,10,0))","v":0},0,null,0,{"$f":"IF(ISERROR(VLOOKUP($A170+8860000,'Growth Data'!$A:$Z,11,0)),0,VLOOKUP($A170+8860000,'Growth Data'!$A:$Z,11,0))","v":0},0]
[3069,"Leeds & Broomfield CEP School",null,"Leeds & Broomfield CEP School","Leeds & Broomfield CEP School",0,null,367027.21,367027.21454820875,0,null,0,0,0,null,367027.21,367027.21454820875,0,null,2028.54,2028.5387266,0,null,null,null,0,null,0,0,0,null,28956.639999999999,28956.644523308751,0,null,3104.34,3104.3355476691249,0,null,0,null,0,null,0,null,0,null,0,null,0,null,0,null,0,null,0,null,0,null,0,null,0,null,"NO",{"$f":"IF(ISERROR(VLOOKUP($A171+8860000,'Growth Data'!$A:$F,3,0)),\"NO\",VLOOKUP($A171+8860000,'Growth Data'!$A:$F,3,0))","v":"NO"},0,null,0,{"$f":"IF(BM171=\"YES\",IF(ISERROR(VLOOKUP($A171+8860000,'Growth Data'!$A:$F,6,0)),0,VLOOKUP($A171+8860000,'Growth Data'!$A:$F,6,0)),0)","v":0},0,null,0,{"$f":"IF(ISERROR(VLOOKUP($A171+8860000,'Growth Data'!$A:$Z,7,0)),0,VLOOKUP($A171+8860000,'Growth Data'!$A:$Z,7,0))","v":0},0,null,"NO",{"$f":"IF(ISERROR(VLOOKUP($A171+8860000,'Growth Data'!$A:$F,4,0)),\"NO\",VLOOKUP($A171+8860000,'Growth Data'!$A:$F,4,0))","v":"NO"},0,null,0,{"$f":"IF(ISERROR(VLOOKUP($A171+8860000,'Growth Data'!$A:$Z,8,0)),0,VLOOKUP($A171+8860000,'Growth Data'!$A:$Z,8,0))","v":0},0,null,0,{"$f":"IF(ISERROR(VLOOKUP($A171+8860000,'Growth Data'!$A:$Z,9,0)),0,VLOOKUP($A171+8860000,'Growth Data'!$A:$Z,9,0))","v":0},0,null,"NO",{"$f":"IF(ISERROR(VLOOKUP($A171+8860000,'Growth Data'!$A:$Z,5,0)),\"NO\",VLOOKUP($A171+8860000,'Growth Data'!$A:$Z,5,0))","v":"NO"},0,null,0,{"$f":"IF(ISERROR(VLOOKUP($A171+8860000,'Growth Data'!$A:$Z,10,0)),0,VLOOKUP($A171+8860000,'Growth Data'!$A:$Z,10,0))","v":0},0,null,0,{"$f":"IF(ISERROR(VLOOKUP($A171+8860000,'Growth Data'!$A:$Z,11,0)),0,VLOOKUP($A171+8860000,'Growth Data'!$A:$Z,11,0))","v":0},0]
[3072,"St Michael's CEJ School, Maidstone",null,"St Michael's CEJ School, Maidstone","St Michael's CEJ School, Maidstone",0,null,636354.93000000005,636354.93469353847,0,null,0,0,0,null,636354.93000000005,636354.93469353847,0,null,4185.47,4185.4659802000006,0,null,null,null,0,null,0,0,0,null,58864.56,58864.560328238498,0,null,113.54,113.54396717614964,0,null,0,null,0,null,0,null,0,null,0,null,0,null,0,null,0,null,0,null,0,null,0,null,0,null,"NO",{"$f":"IF(ISERROR(VLOOKUP($A172+8860000,'Growth Data'!$A:$F,3,0)),\"NO\",VLOOKUP($A172+8860000,'Growth Data'!$A:$F,3,0))","v":"NO"},0,null,0,{"$f":"IF(BM172=\"YES\",IF(ISERROR(VLOOKUP($A172+8860000,'Growth Data'!$A:$F,6,0)),0,VLOOKUP($A172+8860000,'Growth Data'!$A:$F,6,0)),0)","v":0},0,null,0,{"$f":"IF(ISERROR(VLOOKUP($A172+8860000,'Growth Data'!$A:$Z,7,0)),0,VLOOKUP($A172+8860000,'Growth Data'!$A:$Z,7,0))","v":0},0,null,"NO",{"$f":"IF(ISERROR(VLOOKUP($A172+8860000,'Growth Data'!$A:$F,4,0)),\"NO\",VLOOKUP($A172+8860000,'Growth Data'!$A:$F,4,0))","v":"NO"},0,null,0,{"$f":"IF(ISERROR(VLOOKUP($A172+8860000,'Growth Data'!$A:$Z,8,0)),0,VLOOKUP($A172+8860000,'Growth Data'!$A:$Z,8,0))","v":0},0,null,0,{"$f":"IF(ISERROR(VLOOKUP($A172+8860000,'Growth Data'!$A:$Z,9,0)),0,VLOOKUP($A172+8860000,'Growth Data'!$A:$Z,9,0))","v":0},0,null,"NO",{"$f":"IF(ISERROR(VLOOKUP($A172+8860000,'Growth Data'!$A:$Z,5,0)),\"NO\",VLOOKUP($A172+8860000,'Growth Data'!$A:$Z,5,0))","v":"NO"},0,null,0,{"$f":"IF(ISERROR(VLOOKUP($A172+8860000,'Growth Data'!$A:$Z,10,0)),0,VLOOKUP($A172+8860000,'Growth Data'!$A:$Z,10,0))","v":0},0,null,0,{"$f":"IF(ISERROR(VLOOKUP($A172+8860000,'Growth Data'!$A:$Z,11,0)),0,VLOOKUP($A172+8860000,'Growth Data'!$A:$Z,11,0))","v":0},0]
[3073,"St Michael's CEI School, Maidstone",null,"St Michael's CEI School, Maidstone","St Michael's CEI School, Maidstone",0,null,515069.81,515069.81367628893,0,null,0,0,0,null,515069.81,515069.81367628893,0,null,3107,3107.0023534000002,0,null,null,null,0,null,0,0,0,null,56245.06,56245.055881188899,0,null,375.49,375.49441188110995,0,null,0,null,0,null,0,null,0,null,0,null,0,null,0,null,0,null,0,null,0,null,0,null,0,null,"NO",{"$f":"IF(ISERROR(VLOOKUP($A173+8860000,'Growth Data'!$A:$F,3,0)),\"NO\",VLOOKUP($A173+8860000,'Growth Data'!$A:$F,3,0))","v":"NO"},0,null,0,{"$f":"IF(BM173=\"YES\",IF(ISERROR(VLOOKUP($A173+8860000,'Growth Data'!$A:$F,6,0)),0,VLOOKUP($A173+8860000,'Growth Data'!$A:$F,6,0)),0)","v":0},0,null,0,{"$f":"IF(ISERROR(VLOOKUP($A173+8860000,'Growth Data'!$A:$Z,7,0)),0,VLOOKUP($A173+8860000,'Growth Data'!$A:$Z,7,0))","v":0},0,null,"NO",{"$f":"IF(ISERROR(VLOOKUP($A173+8860000,'Growth Data'!$A:$F,4,0)),\"NO\",VLOOKUP($A173+8860000,'Growth Data'!$A:$F,4,0))","v":"NO"},0,null,0,{"$f":"IF(ISERROR(VLOOKUP($A173+8860000,'Growth Data'!$A:$Z,8,0)),0,VLOOKUP($A173+8860000,'Growth Data'!$A:$Z,8,0))","v":0},0,null,0,{"$f":"IF(ISERROR(VLOOKUP($A173+8860000,'Growth Data'!$A:$Z,9,0)),0,VLOOKUP($A173+8860000,'Growth Data'!$A:$Z,9,0))","v":0},0,null,"NO",{"$f":"IF(ISERROR(VLOOKUP($A173+8860000,'Growth Data'!$A:$Z,5,0)),\"NO\",VLOOKUP($A173+8860000,'Growth Data'!$A:$Z,5,0))","v":"NO"},0,null,0,{"$f":"IF(ISERROR(VLOOKUP($A173+8860000,'Growth Data'!$A:$Z,10,0)),0,VLOOKUP($A173+8860000,'Growth Data'!$A:$Z,10,0))","v":0},0,null,0,{"$f":"IF(ISERROR(VLOOKUP($A173+8860000,'Growth Data'!$A:$Z,11,0)),0,VLOOKUP($A173+8860000,'Growth Data'!$A:$Z,11,0))","v":0},0]
[3081,"Thurnham CEI School",null,"Thurnham CEI School","Thurnham CEI School",0,null,940263.02,940263.02267245168,0,null,0,0,0,null,940263.02,940263.02267245168,0,null,7010.01,7010.0135742000002,0,null,null,null,0,null,0,0,0,null,48818.29,48818.287766151625,0,null,1118.17,1118.1712233848375,0,null,0,null,0,null,0,null,0,null,0,null,0,null,0,null,0,null,0,null,0,null,0,null,0,null,"NO",{"$f":"IF(ISERROR(VLOOKUP($A174+8860000,'Growth Data'!$A:$F,3,0)),\"NO\",VLOOKUP($A174+8860000,'Growth Data'!$A:$F,3,0))","v":"NO"},0,null,0,{"$f":"IF(BM174=\"YES\",IF(ISERROR(VLOOKUP($A174+8860000,'Growth Data'!$A:$F,6,0)),0,VLOOKUP($A174+8860000,'Growth Data'!$A:$F,6,0)),0)","v":0},0,null,0,{"$f":"IF(ISERROR(VLOOKUP($A174+8860000,'Growth Data'!$A:$Z,7,0)),0,VLOOKUP($A174+8860000,'Growth Data'!$A:$Z,7,0))","v":0},0,null,"NO",{"$f":"IF(ISERROR(VLOOKUP($A174+8860000,'Growth Data'!$A:$F,4,0)),\"NO\",VLOOKUP($A174+8860000,'Growth Data'!$A:$F,4,0))","v":"NO"},0,null,0,{"$f":"IF(ISERROR(VLOOKUP($A174+8860000,'Growth Data'!$A:$Z,8,0)),0,VLOOKUP($A174+8860000,'Growth Data'!$A:$Z,8,0))","v":0},0,null,0,{"$f":"IF(ISERROR(VLOOKUP($A174+8860000,'Growth Data'!$A:$Z,9,0)),0,VLOOKUP($A174+8860000,'Growth Data'!$A:$Z,9,0))","v":0},0,null,"NO",{"$f":"IF(ISERROR(VLOOKUP($A174+8860000,'Growth Data'!$A:$Z,5,0)),\"NO\",VLOOKUP($A174+8860000,'Growth Data'!$A:$Z,5,0))","v":"NO"},0,null,0,{"$f":"IF(ISERROR(VLOOKUP($A174+8860000,'Growth Data'!$A:$Z,10,0)),0,VLOOKUP($A174+8860000,'Growth Data'!$A:$Z,10,0))","v":0},0,null,0,{"$f":"IF(ISERROR(VLOOKUP($A174+8860000,'Growth Data'!$A:$Z,11,0)),0,VLOOKUP($A174+8860000,'Growth Data'!$A:$Z,11,0))","v":0},0]
[3082,"Trottiscliffe CEP School",null,"Trottiscliffe CEP School","Trottiscliffe CEP School",0,null,320489.24,320489.23556475365,0,null,0,0,0,null,320489.24,320489.23556475365,0,null,1694.73,1694.7285563999997,0,null,null,null,0,null,0,0,0,null,18786.09,18786.086840153679,0,null,4121.3900000000003,4121.3913159846325,0,null,0,null,0,null,0,null,0,null,0,null,0,null,0,null,0,null,0,null,0,null,0,null,0,null,"NO",{"$f":"IF(ISERROR(VLOOKUP($A175+8860000,'Growth Data'!$A:$F,3,0)),\"NO\",VLOOKUP($A175+8860000,'Growth Data'!$A:$F,3,0))","v":"NO"},0,null,0,{"$f":"IF(BM175=\"YES\",IF(ISERROR(VLOOKUP($A175+8860000,'Growth Data'!$A:$F,6,0)),0,VLOOKUP($A175+8860000,'Growth Data'!$A:$F,6,0)),0)","v":0},0,null,0,{"$f":"IF(ISERROR(VLOOKUP($A175+8860000,'Growth Data'!$A:$Z,7,0)),0,VLOOKUP($A175+8860000,'Growth Data'!$A:$Z,7,0))","v":0},0,null,"NO",{"$f":"IF(ISERROR(VLOOKUP($A175+8860000,'Growth Data'!$A:$F,4,0)),\"NO\",VLOOKUP($A175+8860000,'Growth Data'!$A:$F,4,0))","v":"NO"},0,null,0,{"$f":"IF(ISERROR(VLOOKUP($A175+8860000,'Growth Data'!$A:$Z,8,0)),0,VLOOKUP($A175+8860000,'Growth Data'!$A:$Z,8,0))","v":0},0,null,0,{"$f":"IF(ISERROR(VLOOKUP($A175+8860000,'Growth Data'!$A:$Z,9,0)),0,VLOOKUP($A175+8860000,'Growth Data'!$A:$Z,9,0))","v":0},0,null,"NO",{"$f":"IF(ISERROR(VLOOKUP($A175+8860000,'Growth Data'!$A:$Z,5,0)),\"NO\",VLOOKUP($A175+8860000,'Growth Data'!$A:$Z,5,0))","v":"NO"},0,null,0,{"$f":"IF(ISERROR(VLOOKUP($A175+8860000,'Growth Data'!$A:$Z,10,0)),0,VLOOKUP($A175+8860000,'Growth Data'!$A:$Z,10,0))","v":0},0,null,0,{"$f":"IF(ISERROR(VLOOKUP($A175+8860000,'Growth Data'!$A:$Z,11,0)),0,VLOOKUP($A175+8860000,'Growth Data'!$A:$Z,11,0))","v":0},0]
[3083,"Ulcombe CEP School",null,"Ulcombe CEP School","Ulcombe CEP School",0,null,350510.77,350510.77122931695,0,null,0,0,0,null,350510.77,350510.77122931695,0,null,1823.12,1823.1170834,0,null,null,null,0,null,0,0,0,null,30640.55,30640.552189216905,0,null,2935.94,2935.9447810783095,0,null,0,null,0,null,0,null,0,null,0,null,0,null,0,null,0,null,0,null,0,null,0,null,0,null,"NO",{"$f":"IF(ISERROR(VLOOKUP($A176+8860000,'Growth Data'!$A:$F,3,0)),\"NO\",VLOOKUP($A176+8860000,'Growth Data'!$A:$F,3,0))","v":"NO"},0,null,0,{"$f":"IF(BM176=\"YES\",IF(ISERROR(VLOOKUP($A176+8860000,'Growth Data'!$A:$F,6,0)),0,VLOOKUP($A176+8860000,'Growth Data'!$A:$F,6,0)),0)","v":0},0,null,0,{"$f":"IF(ISERROR(VLOOKUP($A176+8860000,'Growth Data'!$A:$Z,7,0)),0,VLOOKUP($A176+8860000,'Growth Data'!$A:$Z,7,0))","v":0},0,null,"NO",{"$f":"IF(ISERROR(VLOOKUP($A176+8860000,'Growth Data'!$A:$F,4,0)),\"NO\",VLOOKUP($A176+8860000,'Growth Data'!$A:$F,4,0))","v":"NO"},0,null,0,{"$f":"IF(ISERROR(VLOOKUP($A176+8860000,'Growth Data'!$A:$Z,8,0)),0,VLOOKUP($A176+8860000,'Growth Data'!$A:$Z,8,0))","v":0},0,null,0,{"$f":"IF(ISERROR(VLOOKUP($A176+8860000,'Growth Data'!$A:$Z,9,0)),0,VLOOKUP($A176+8860000,'Growth Data'!$A:$Z,9,0))","v":0},0,null,"NO",{"$f":"IF(ISERROR(VLOOKUP($A176+8860000,'Growth Data'!$A:$Z,5,0)),\"NO\",VLOOKUP($A176+8860000,'Growth Data'!$A:$Z,5,0))","v":"NO"},0,null,0,{"$f":"IF(ISERROR(VLOOKUP($A176+8860000,'Growth Data'!$A:$Z,10,0)),0,VLOOKUP($A176+8860000,'Growth Data'!$A:$Z,10,0))","v":0},0,null,0,{"$f":"IF(ISERROR(VLOOKUP($A176+8860000,'Growth Data'!$A:$Z,11,0)),0,VLOOKUP($A176+8860000,'Growth Data'!$A:$Z,11,0))","v":0},0]
[3084,"Wateringbury CEP School",null,"Wateringbury CEP School","Wateringbury CEP School",0,null,714727.54,714727.53546869615,0,null,0,0,0,null,714727.54,714727.53546869615,0,null,5109.8599999999997,5109.8633746000005,0,null,null,null,0,null,0,0,0,null,43543.59,43543.589471796186,0,null,1645.64,1645.6410528203814,0,null,0,null,0,null,0,null,0,null,0,null,0,null,0,null,0,null,0,null,0,null,0,null,0,null,"NO",{"$f":"IF(ISERROR(VLOOKUP($A177+8860000,'Growth Data'!$A:$F,3,0)),\"NO\",VLOOKUP($A177+8860000,'Growth Data'!$A:$F,3,0))","v":"NO"},0,null,0,{"$f":"IF(BM177=\"YES\",IF(ISERROR(VLOOKUP($A177+8860000,'Growth Data'!$A:$F,6,0)),0,VLOOKUP($A177+8860000,'Growth Data'!$A:$F,6,0)),0)","v":0},0,null,0,{"$f":"IF(ISERROR(VLOOKUP($A177+8860000,'Growth Data'!$A:$Z,7,0)),0,VLOOKUP($A177+8860000,'Growth Data'!$A:$Z,7,0))","v":0},0,null,"NO",{"$f":"IF(ISERROR(VLOOKUP($A177+8860000,'Growth Data'!$A:$F,4,0)),\"NO\",VLOOKUP($A177+8860000,'Growth Data'!$A:$F,4,0))","v":"NO"},0,null,0,{"$f":"IF(ISERROR(VLOOKUP($A177+8860000,'Growth Data'!$A:$Z,8,0)),0,VLOOKUP($A177+8860000,'Growth Data'!$A:$Z,8,0))","v":0},0,null,0,{"$f":"IF(ISERROR(VLOOKUP($A177+8860000,'Growth Data'!$A:$Z,9,0)),0,VLOOKUP($A177+8860000,'Growth Data'!$A:$Z,9,0))","v":0},0,null,"NO",{"$f":"IF(ISERROR(VLOOKUP($A177+8860000,'Growth Data'!$A:$Z,5,0)),\"NO\",VLOOKUP($A177+8860000,'Growth Data'!$A:$Z,5,0))","v":"NO"},0,null,0,{"$f":"IF(ISERROR(VLOOKUP($A177+8860000,'Growth Data'!$A:$Z,10,0)),0,VLOOKUP($A177+8860000,'Growth Data'!$A:$Z,10,0))","v":0},0,null,0,{"$f":"IF(ISERROR(VLOOKUP($A177+8860000,'Growth Data'!$A:$Z,11,0)),0,VLOOKUP($A177+8860000,'Growth Data'!$A:$Z,11,0))","v":0},0]
[3088,"Wouldham, All Saint's CEP School",null,"Wouldham, All Saint's CEP School","Wouldham, All Saint's CEP School",0,null,789399.76,789399.75510506378,0,null,0,0,0,null,789399.76,789399.75510506378,0,null,5520.71,5520.7066610000002,0,null,null,null,0,null,0,0,0,null,66301.59,66301.589138563781,0,null,0,0,0,null,0,null,0,null,0,null,0,null,0,null,0,null,0,null,0,null,0,null,0,null,0,null,0,null,"NO",{"$f":"IF(ISERROR(VLOOKUP($A178+8860000,'Growth Data'!$A:$F,3,0)),\"NO\",VLOOKUP($A178+8860000,'Growth Data'!$A:$F,3,0))","v":"NO"},0,null,0,{"$f":"IF(BM178=\"YES\",IF(ISERROR(VLOOKUP($A178+8860000,'Growth Data'!$A:$F,6,0)),0,VLOOKUP($A178+8860000,'Growth Data'!$A:$F,6,0)),0)","v":0},0,null,0,{"$f":"IF(ISERROR(VLOOKUP($A178+8860000,'Growth Data'!$A:$Z,7,0)),0,VLOOKUP($A178+8860000,'Growth Data'!$A:$Z,7,0))","v":0},0,null,"NO",{"$f":"IF(ISERROR(VLOOKUP($A178+8860000,'Growth Data'!$A:$F,4,0)),\"NO\",VLOOKUP($A178+8860000,'Growth Data'!$A:$F,4,0))","v":"NO"},0,null,0,{"$f":"IF(ISERROR(VLOOKUP($A178+8860000,'Growth Data'!$A:$Z,8,0)),0,VLOOKUP($A178+8860000,'Growth Data'!$A:$Z,8,0))","v":0},0,null,0,{"$f":"IF(ISERROR(VLOOKUP($A178+8860000,'Growth Data'!$A:$Z,9,0)),0,VLOOKUP($A178+8860000,'Growth Data'!$A:$Z,9,0))","v":0},0,null,"YES",{"$f":"IF(ISERROR(VLOOKUP($A178+8860000,'Growth Data'!$A:$Z,5,0)),\"NO\",VLOOKUP($A178+8860000,'Growth Data'!$A:$Z,5,0))","v":"YES"},0,null,30,{"$f":"IF(ISERROR(VLOOKUP($A178+8860000,'Growth Data'!$A:$Z,10,0)),0,VLOOKUP($A178+8860000,'Growth Data'!$A:$Z,10,0))","v":30},0,null,60,{"$f":"IF(ISERROR(VLOOKUP($A178+8860000,'Growth Data'!$A:$Z,11,0)),0,VLOOKUP($A178+8860000,'Growth Data'!$A:$Z,11,0))","v":60},0]
[3089,"St George's CEP School",null,"St George's CEP School","St George's CEP School",0,null,789084.6,789084.6017304539,0,null,0,0,0,null,789084.6,789084.6017304539,0,null,5392.32,5392.3181340000001,0,null,null,null,0,null,0,0,0,null,80483.92,80483.916079453818,0,null,0,0,0,null,0,null,0,null,0,null,0,null,0,null,0,null,0,null,0,null,0,null,0,null,0,null,0,null,"NO",{"$f":"IF(ISERROR(VLOOKUP($A179+8860000,'Growth Data'!$A:$F,3,0)),\"NO\",VLOOKUP($A179+8860000,'Growth Data'!$A:$F,3,0))","v":"NO"},0,null,0,{"$f":"IF(BM179=\"YES\",IF(ISERROR(VLOOKUP($A179+8860000,'Growth Data'!$A:$F,6,0)),0,VLOOKUP($A179+8860000,'Growth Data'!$A:$F,6,0)),0)","v":0},0,null,0,{"$f":"IF(ISERROR(VLOOKUP($A179+8860000,'Growth Data'!$A:$Z,7,0)),0,VLOOKUP($A179+8860000,'Growth Data'!$A:$Z,7,0))","v":0},0,null,"NO",{"$f":"IF(ISERROR(VLOOKUP($A179+8860000,'Growth Data'!$A:$F,4,0)),\"NO\",VLOOKUP($A179+8860000,'Growth Data'!$A:$F,4,0))","v":"NO"},0,null,0,{"$f":"IF(ISERROR(VLOOKUP($A179+8860000,'Growth Data'!$A:$Z,8,0)),0,VLOOKUP($A179+8860000,'Growth Data'!$A:$Z,8,0))","v":0},0,null,0,{"$f":"IF(ISERROR(VLOOKUP($A179+8860000,'Growth Data'!$A:$Z,9,0)),0,VLOOKUP($A179+8860000,'Growth Data'!$A:$Z,9,0))","v":0},0,null,"NO",{"$f":"IF(ISERROR(VLOOKUP($A179+8860000,'Growth Data'!$A:$Z,5,0)),\"NO\",VLOOKUP($A179+8860000,'Growth Data'!$A:$Z,5,0))","v":"NO"},0,null,0,{"$f":"IF(ISERROR(VLOOKUP($A179+8860000,'Growth Data'!$A:$Z,10,0)),0,VLOOKUP($A179+8860000,'Growth Data'!$A:$Z,10,0))","v":0},0,null,0,{"$f":"IF(ISERROR(VLOOKUP($A179+8860000,'Growth Data'!$A:$Z,11,0)),0,VLOOKUP($A179+8860000,'Growth Data'!$A:$Z,11,0))","v":0},0]
[3090,"St Margaret's CEP School, Collier Street",null,"St Margaret's CEP School, Collier Street","St Margaret's CEP School, Collier Street",0,null,504014.65,504014.65173046006,0,null,0,0,0,null,504014.65,504014.65173046006,0,null,3081.32,3081.3246479999998,0,null,null,null,0,null,0,0,0,null,42579.39,42579.386558460108,0,null,1742.06,1742.061344153989,0,null,0,null,0,null,0,null,0,null,0,null,0,null,0,null,0,null,0,null,0,null,0,null,0,null,"NO",{"$f":"IF(ISERROR(VLOOKUP($A180+8860000,'Growth Data'!$A:$F,3,0)),\"NO\",VLOOKUP($A180+8860000,'Growth Data'!$A:$F,3,0))","v":"NO"},0,null,0,{"$f":"IF(BM180=\"YES\",IF(ISERROR(VLOOKUP($A180+8860000,'Growth Data'!$A:$F,6,0)),0,VLOOKUP($A180+8860000,'Growth Data'!$A:$F,6,0)),0)","v":0},0,null,0,{"$f":"IF(ISERROR(VLOOKUP($A180+8860000,'Growth Data'!$A:$Z,7,0)),0,VLOOKUP($A180+8860000,'Growth Data'!$A:$Z,7,0))","v":0},0,null,"NO",{"$f":"IF(ISERROR(VLOOKUP($A180+8860000,'Growth Data'!$A:$F,4,0)),\"NO\",VLOOKUP($A180+8860000,'Growth Data'!$A:$F,4,0))","v":"NO"},0,null,0,{"$f":"IF(ISERROR(VLOOKUP($A180+8860000,'Growth Data'!$A:$Z,8,0)),0,VLOOKUP($A180+8860000,'Growth Data'!$A:$Z,8,0))","v":0},0,null,0,{"$f":"IF(ISERROR(VLOOKUP($A180+8860000,'Growth Data'!$A:$Z,9,0)),0,VLOOKUP($A180+8860000,'Growth Data'!$A:$Z,9,0))","v":0},0,null,"NO",{"$f":"IF(ISERROR(VLOOKUP($A180+8860000,'Growth Data'!$A:$Z,5,0)),\"NO\",VLOOKUP($A180+8860000,'Growth Data'!$A:$Z,5,0))","v":"NO"},0,null,0,{"$f":"IF(ISERROR(VLOOKUP($A180+8860000,'Growth Data'!$A:$Z,10,0)),0,VLOOKUP($A180+8860000,'Growth Data'!$A:$Z,10,0))","v":0},0,null,0,{"$f":"IF(ISERROR(VLOOKUP($A180+8860000,'Growth Data'!$A:$Z,11,0)),0,VLOOKUP($A180+8860000,'Growth Data'!$A:$Z,11,0))","v":0},0]
[3091,"Laddingford St Mary's CEP School",null,"Laddingford St Mary's CEP School","Laddingford St Mary's CEP School",0,null,368736.53,368736.53060762759,0,null,0,0,0,null,368736.53,368736.53060762759,0,null,2002.86,2002.8610212000001,0,null,null,null,0,null,0,0,0,null,28264.81,28264.810005827574,0,null,3173.52,3173.5189994172424,0,null,0,null,0,null,0,null,0,null,0,null,0,null,0,null,0,null,0,null,0,null,0,null,0,null,"NO",{"$f":"IF(ISERROR(VLOOKUP($A181+8860000,'Growth Data'!$A:$F,3,0)),\"NO\",VLOOKUP($A181+8860000,'Growth Data'!$A:$F,3,0))","v":"NO"},0,null,0,{"$f":"IF(BM181=\"YES\",IF(ISERROR(VLOOKUP($A181+8860000,'Growth Data'!$A:$F,6,0)),0,VLOOKUP($A181+8860000,'Growth Data'!$A:$F,6,0)),0)","v":0},0,null,0,{"$f":"IF(ISERROR(VLOOKUP($A181+8860000,'Growth Data'!$A:$Z,7,0)),0,VLOOKUP($A181+8860000,'Growth Data'!$A:$Z,7,0))","v":0},0,null,"NO",{"$f":"IF(ISERROR(VLOOKUP($A181+8860000,'Growth Data'!$A:$F,4,0)),\"NO\",VLOOKUP($A181+8860000,'Growth Data'!$A:$F,4,0))","v":"NO"},0,null,0,{"$f":"IF(ISERROR(VLOOKUP($A181+8860000,'Growth Data'!$A:$Z,8,0)),0,VLOOKUP($A181+8860000,'Growth Data'!$A:$Z,8,0))","v":0},0,null,0,{"$f":"IF(ISERROR(VLOOKUP($A181+8860000,'Growth Data'!$A:$Z,9,0)),0,VLOOKUP($A181+8860000,'Growth Data'!$A:$Z,9,0))","v":0},0,null,"NO",{"$f":"IF(ISERROR(VLOOKUP($A181+8860000,'Growth Data'!$A:$Z,5,0)),\"NO\",VLOOKUP($A181+8860000,'Growth Data'!$A:$Z,5,0))","v":"NO"},0,null,0,{"$f":"IF(ISERROR(VLOOKUP($A181+8860000,'Growth Data'!$A:$Z,10,0)),0,VLOOKUP($A181+8860000,'Growth Data'!$A:$Z,10,0))","v":0},0,null,0,{"$f":"IF(ISERROR(VLOOKUP($A181+8860000,'Growth Data'!$A:$Z,11,0)),0,VLOOKUP($A181+8860000,'Growth Data'!$A:$Z,11,0))","v":0},0]
[3092,"Yalding St Peter & St Paul CEP School",null,"Yalding St Peter & St Paul CEP School","Yalding St Peter & St Paul CEP School",0,null,591606.66,591606.66085694195,0,null,0,0,0,null,591606.66,591606.66085694195,0,null,4005.72,4005.7220424000002,0,null,null,null,0,null,0,0,0,null,33051.22,33051.216853341881,0,null,2694.88,2694.8783146658116,0,null,0,null,0,null,0,null,0,null,0,null,0,null,0,null,0,null,0,null,0,null,0,null,0,null,"NO",{"$f":"IF(ISERROR(VLOOKUP($A182+8860000,'Growth Data'!$A:$F,3,0)),\"NO\",VLOOKUP($A182+8860000,'Growth Data'!$A:$F,3,0))","v":"NO"},0,null,0,{"$f":"IF(BM182=\"YES\",IF(ISERROR(VLOOKUP($A182+8860000,'Growth Data'!$A:$F,6,0)),0,VLOOKUP($A182+8860000,'Growth Data'!$A:$F,6,0)),0)","v":0},0,null,0,{"$f":"IF(ISERROR(VLOOKUP($A182+8860000,'Growth Data'!$A:$Z,7,0)),0,VLOOKUP($A182+8860000,'Growth Data'!$A:$Z,7,0))","v":0},0,null,"NO",{"$f":"IF(ISERROR(VLOOKUP($A182+8860000,'Growth Data'!$A:$F,4,0)),\"NO\",VLOOKUP($A182+8860000,'Growth Data'!$A:$F,4,0))","v":"NO"},0,null,0,{"$f":"IF(ISERROR(VLOOKUP($A182+8860000,'Growth Data'!$A:$Z,8,0)),0,VLOOKUP($A182+8860000,'Growth Data'!$A:$Z,8,0))","v":0},0,null,0,{"$f":"IF(ISERROR(VLOOKUP($A182+8860000,'Growth Data'!$A:$Z,9,0)),0,VLOOKUP($A182+8860000,'Growth Data'!$A:$Z,9,0))","v":0},0,null,"NO",{"$f":"IF(ISERROR(VLOOKUP($A182+8860000,'Growth Data'!$A:$Z,5,0)),\"NO\",VLOOKUP($A182+8860000,'Growth Data'!$A:$Z,5,0))","v":"NO"},0,null,0,{"$f":"IF(ISERROR(VLOOKUP($A182+8860000,'Growth Data'!$A:$Z,10,0)),0,VLOOKUP($A182+8860000,'Growth Data'!$A:$Z,10,0))","v":0},0,null,0,{"$f":"IF(ISERROR(VLOOKUP($A182+8860000,'Growth Data'!$A:$Z,11,0)),0,VLOOKUP($A182+8860000,'Growth Data'!$A:$Z,11,0))","v":0},0]
[3106,"Eastchurch CEP School",null,"Eastchurch CEP School","Eastchurch CEP School",0,null,1823642.97,1823642.9666209209,0,null,0,0,0,null,1823642.97,1823642.9666209209,0,null,11991.49,11991.488421800001,0,null,null,null,0,null,4.9000000000000004,4.9000000000000004,0,null,297412.63,297412.63483322086,0,null,0,0,0,null,0,null,0,null,0,null,0,null,0,null,0,null,0,null,0,null,0,null,0,null,0,null,0,null,"NO",{"$f":"IF(ISERROR(VLOOKUP($A183+8860000,'Growth Data'!$A:$F,3,0)),\"NO\",VLOOKUP($A183+8860000,'Growth Data'!$A:$F,3,0))","v":"NO"},0,null,0,{"$f":"IF(BM183=\"YES\",IF(ISERROR(VLOOKUP($A183+8860000,'Growth Data'!$A:$F,6,0)),0,VLOOKUP($A183+8860000,'Growth Data'!$A:$F,6,0)),0)","v":0},0,null,0,{"$f":"IF(ISERROR(VLOOKUP($A183+8860000,'Growth Data'!$A:$Z,7,0)),0,VLOOKUP($A183+8860000,'Growth Data'!$A:$Z,7,0))","v":0},0,null,"NO",{"$f":"IF(ISERROR(VLOOKUP($A183+8860000,'Growth Data'!$A:$F,4,0)),\"NO\",VLOOKUP($A183+8860000,'Growth Data'!$A:$F,4,0))","v":"NO"},0,null,0,{"$f":"IF(ISERROR(VLOOKUP($A183+8860000,'Growth Data'!$A:$Z,8,0)),0,VLOOKUP($A183+8860000,'Growth Data'!$A:$Z,8,0))","v":0},0,null,0,{"$f":"IF(ISERROR(VLOOKUP($A183+8860000,'Growth Data'!$A:$Z,9,0)),0,VLOOKUP($A183+8860000,'Growth Data'!$A:$Z,9,0))","v":0},0,null,"NO",{"$f":"IF(ISERROR(VLOOKUP($A183+8860000,'Growth Data'!$A:$Z,5,0)),\"NO\",VLOOKUP($A183+8860000,'Growth Data'!$A:$Z,5,0))","v":"NO"},0,null,0,{"$f":"IF(ISERROR(VLOOKUP($A183+8860000,'Growth Data'!$A:$Z,10,0)),0,VLOOKUP($A183+8860000,'Growth Data'!$A:$Z,10,0))","v":0},0,null,0,{"$f":"IF(ISERROR(VLOOKUP($A183+8860000,'Growth Data'!$A:$Z,11,0)),0,VLOOKUP($A183+8860000,'Growth Data'!$A:$Z,11,0))","v":0},0]
[3108,"Ospringe CEP School",null,"Ospringe CEP School","Ospringe CEP School",0,null,931582.94,931582.94084957498,0,null,0,0,0,null,931582.94,931582.94084957498,0,null,6316.72,6316.7155284000009,0,null,null,null,0,null,0,0,0,null,103893.61,103893.61156697487,0,null,0,0,0,null,0,null,0,null,0,null,0,null,0,null,0,null,0,null,0,null,0,null,0,null,0,null,0,null,"NO",{"$f":"IF(ISERROR(VLOOKUP($A184+8860000,'Growth Data'!$A:$F,3,0)),\"NO\",VLOOKUP($A184+8860000,'Growth Data'!$A:$F,3,0))","v":"NO"},0,null,0,{"$f":"IF(BM184=\"YES\",IF(ISERROR(VLOOKUP($A184+8860000,'Growth Data'!$A:$F,6,0)),0,VLOOKUP($A184+8860000,'Growth Data'!$A:$F,6,0)),0)","v":0},0,null,0,{"$f":"IF(ISERROR(VLOOKUP($A184+8860000,'Growth Data'!$A:$Z,7,0)),0,VLOOKUP($A184+8860000,'Growth Data'!$A:$Z,7,0))","v":0},0,null,"NO",{"$f":"IF(ISERROR(VLOOKUP($A184+8860000,'Growth Data'!$A:$F,4,0)),\"NO\",VLOOKUP($A184+8860000,'Growth Data'!$A:$F,4,0))","v":"NO"},0,null,0,{"$f":"IF(ISERROR(VLOOKUP($A184+8860000,'Growth Data'!$A:$Z,8,0)),0,VLOOKUP($A184+8860000,'Growth Data'!$A:$Z,8,0))","v":0},0,null,0,{"$f":"IF(ISERROR(VLOOKUP($A184+8860000,'Growth Data'!$A:$Z,9,0)),0,VLOOKUP($A184+8860000,'Growth Data'!$A:$Z,9,0))","v":0},0,null,"NO",{"$f":"IF(ISERROR(VLOOKUP($A184+8860000,'Growth Data'!$A:$Z,5,0)),\"NO\",VLOOKUP($A184+8860000,'Growth Data'!$A:$Z,5,0))","v":"NO"},0,null,0,{"$f":"IF(ISERROR(VLOOKUP($A184+8860000,'Growth Data'!$A:$Z,10,0)),0,VLOOKUP($A184+8860000,'Growth Data'!$A:$Z,10,0))","v":0},0,null,0,{"$f":"IF(ISERROR(VLOOKUP($A184+8860000,'Growth Data'!$A:$Z,11,0)),0,VLOOKUP($A184+8860000,'Growth Data'!$A:$Z,11,0))","v":0},0]
[3109,"Hernhill CEP School",null,"Hernhill CEP School","Hernhill CEP School",0,null,756752.83,756752.82753913209,0,null,0,0,0,null,756752.83,756752.82753913209,0,null,5263.93,5263.9296069999991,0,null,null,null,0,null,0,0,0,null,45735.39,45735.390603632113,0,null,1426.46,1426.4609396367887,0,null,0,null,0,null,0,null,0,null,0,null,0,null,0,null,0,null,0,null,0,null,0,null,0,null,"NO",{"$f":"IF(ISERROR(VLOOKUP($A185+8860000,'Growth Data'!$A:$F,3,0)),\"NO\",VLOOKUP($A185+8860000,'Growth Data'!$A:$F,3,0))","v":"NO"},0,null,0,{"$f":"IF(BM185=\"YES\",IF(ISERROR(VLOOKUP($A185+8860000,'Growth Data'!$A:$F,6,0)),0,VLOOKUP($A185+8860000,'Growth Data'!$A:$F,6,0)),0)","v":0},0,null,0,{"$f":"IF(ISERROR(VLOOKUP($A185+8860000,'Growth Data'!$A:$Z,7,0)),0,VLOOKUP($A185+8860000,'Growth Data'!$A:$Z,7,0))","v":0},0,null,"NO",{"$f":"IF(ISERROR(VLOOKUP($A185+8860000,'Growth Data'!$A:$F,4,0)),\"NO\",VLOOKUP($A185+8860000,'Growth Data'!$A:$F,4,0))","v":"NO"},0,null,0,{"$f":"IF(ISERROR(VLOOKUP($A185+8860000,'Growth Data'!$A:$Z,8,0)),0,VLOOKUP($A185+8860000,'Growth Data'!$A:$Z,8,0))","v":0},0,null,0,{"$f":"IF(ISERROR(VLOOKUP($A185+8860000,'Growth Data'!$A:$Z,9,0)),0,VLOOKUP($A185+8860000,'Growth Data'!$A:$Z,9,0))","v":0},0,null,"NO",{"$f":"IF(ISERROR(VLOOKUP($A185+8860000,'Growth Data'!$A:$Z,5,0)),\"NO\",VLOOKUP($A185+8860000,'Growth Data'!$A:$Z,5,0))","v":"NO"},0,null,0,{"$f":"IF(ISERROR(VLOOKUP($A185+8860000,'Growth Data'!$A:$Z,10,0)),0,VLOOKUP($A185+8860000,'Growth Data'!$A:$Z,10,0))","v":0},0,null,0,{"$f":"IF(ISERROR(VLOOKUP($A185+8860000,'Growth Data'!$A:$Z,11,0)),0,VLOOKUP($A185+8860000,'Growth Data'!$A:$Z,11,0))","v":0},0]
[3111,"Newington CEP School",null,"Newington CEP School","Newington CEP School",0,null,692983.55,692983.551473081,0,null,0,0,0,null,692983.55,692983.551473081,0,null,4390.8900000000003,4390.8876233999999,0,null,null,null,0,null,0,0,0,null,61761.33,61761.325322980912,0,null,0,0,0,null,0,null,0,null,0,null,0,null,0,null,0,null,0,null,0,null,0,null,0,null,0,null,0,null,"NO",{"$f":"IF(ISERROR(VLOOKUP($A186+8860000,'Growth Data'!$A:$F,3,0)),\"NO\",VLOOKUP($A186+8860000,'Growth Data'!$A:$F,3,0))","v":"NO"},0,null,0,{"$f":"IF(BM186=\"YES\",IF(ISERROR(VLOOKUP($A186+8860000,'Growth Data'!$A:$F,6,0)),0,VLOOKUP($A186+8860000,'Growth Data'!$A:$F,6,0)),0)","v":0},0,null,0,{"$f":"IF(ISERROR(VLOOKUP($A186+8860000,'Growth Data'!$A:$Z,7,0)),0,VLOOKUP($A186+8860000,'Growth Data'!$A:$Z,7,0))","v":0},0,null,"NO",{"$f":"IF(ISERROR(VLOOKUP($A186+8860000,'Growth Data'!$A:$F,4,0)),\"NO\",VLOOKUP($A186+8860000,'Growth Data'!$A:$F,4,0))","v":"NO"},0,null,0,{"$f":"IF(ISERROR(VLOOKUP($A186+8860000,'Growth Data'!$A:$Z,8,0)),0,VLOOKUP($A186+8860000,'Growth Data'!$A:$Z,8,0))","v":0},0,null,0,{"$f":"IF(ISERROR(VLOOKUP($A186+8860000,'Growth Data'!$A:$Z,9,0)),0,VLOOKUP($A186+8860000,'Growth Data'!$A:$Z,9,0))","v":0},0,null,"NO",{"$f":"IF(ISERROR(VLOOKUP($A186+8860000,'Growth Data'!$A:$Z,5,0)),\"NO\",VLOOKUP($A186+8860000,'Growth Data'!$A:$Z,5,0))","v":"NO"},0,null,0,{"$f":"IF(ISERROR(VLOOKUP($A186+8860000,'Growth Data'!$A:$Z,10,0)),0,VLOOKUP($A186+8860000,'Growth Data'!$A:$Z,10,0))","v":0},0,null,0,{"$f":"IF(ISERROR(VLOOKUP($A186+8860000,'Growth Data'!$A:$Z,11,0)),0,VLOOKUP($A186+8860000,'Growth Data'!$A:$Z,11,0))","v":0},0]
[3117,"Teynham Parochial CEP School",null,"Teynham Parochial CEP School","Teynham Parochial CEP School",0,null,789660.03,789660.03186310269,0,null,14416.18,14416.175404696842,0,null,804076.21,804076.20726779953,0,null,5186.8999999999996,5186.8964907999998,0,null,null,null,0,null,0,0,0,null,93068.36,93068.357596902555,0,null,0,0,0,null,0,null,0,null,0,null,0,null,0,null,0,null,0,null,0,null,0,null,0,null,0,null,0,null,"NO",{"$f":"IF(ISERROR(VLOOKUP($A187+8860000,'Growth Data'!$A:$F,3,0)),\"NO\",VLOOKUP($A187+8860000,'Growth Data'!$A:$F,3,0))","v":"NO"},0,null,0,{"$f":"IF(BM187=\"YES\",IF(ISERROR(VLOOKUP($A187+8860000,'Growth Data'!$A:$F,6,0)),0,VLOOKUP($A187+8860000,'Growth Data'!$A:$F,6,0)),0)","v":0},0,null,0,{"$f":"IF(ISERROR(VLOOKUP($A187+8860000,'Growth Data'!$A:$Z,7,0)),0,VLOOKUP($A187+8860000,'Growth Data'!$A:$Z,7,0))","v":0},0,null,"NO",{"$f":"IF(ISERROR(VLOOKUP($A187+8860000,'Growth Data'!$A:$F,4,0)),\"NO\",VLOOKUP($A187+8860000,'Growth Data'!$A:$F,4,0))","v":"NO"},0,null,0,{"$f":"IF(ISERROR(VLOOKUP($A187+8860000,'Growth Data'!$A:$Z,8,0)),0,VLOOKUP($A187+8860000,'Growth Data'!$A:$Z,8,0))","v":0},0,null,0,{"$f":"IF(ISERROR(VLOOKUP($A187+8860000,'Growth Data'!$A:$Z,9,0)),0,VLOOKUP($A187+8860000,'Growth Data'!$A:$Z,9,0))","v":0},0,null,"NO",{"$f":"IF(ISERROR(VLOOKUP($A187+8860000,'Growth Data'!$A:$Z,5,0)),\"NO\",VLOOKUP($A187+8860000,'Growth Data'!$A:$Z,5,0))","v":"NO"},0,null,0,{"$f":"IF(ISERROR(VLOOKUP($A187+8860000,'Growth Data'!$A:$Z,10,0)),0,VLOOKUP($A187+8860000,'Growth Data'!$A:$Z,10,0))","v":0},0,null,0,{"$f":"IF(ISERROR(VLOOKUP($A187+8860000,'Growth Data'!$A:$Z,11,0)),0,VLOOKUP($A187+8860000,'Growth Data'!$A:$Z,11,0))","v":0},0]
[3120,"Barham CEP School",null,"Barham CEP School","Barham CEP School",0,null,736716.14,736716.13859481085,0,null,0,0,0,null,736716.14,736716.13859481085,0,null,5186.8999999999996,5186.8964907999998,0,null,null,null,0,null,0,0,0,null,37783.97,37783.965128610835,0,null,2221.6,2221.6034871389165,0,null,0,null,0,null,0,null,0,null,0,null,0,null,0,null,0,null,0,null,0,null,0,null,0,null,"NO",{"$f":"IF(ISERROR(VLOOKUP($A188+8860000,'Growth Data'!$A:$F,3,0)),\"NO\",VLOOKUP($A188+8860000,'Growth Data'!$A:$F,3,0))","v":"NO"},0,null,0,{"$f":"IF(BM188=\"YES\",IF(ISERROR(VLOOKUP($A188+8860000,'Growth Data'!$A:$F,6,0)),0,VLOOKUP($A188+8860000,'Growth Data'!$A:$F,6,0)),0)","v":0},0,null,0,{"$f":"IF(ISERROR(VLOOKUP($A188+8860000,'Growth Data'!$A:$Z,7,0)),0,VLOOKUP($A188+8860000,'Growth Data'!$A:$Z,7,0))","v":0},0,null,"NO",{"$f":"IF(ISERROR(VLOOKUP($A188+8860000,'Growth Data'!$A:$F,4,0)),\"NO\",VLOOKUP($A188+8860000,'Growth Data'!$A:$F,4,0))","v":"NO"},0,null,0,{"$f":"IF(ISERROR(VLOOKUP($A188+8860000,'Growth Data'!$A:$Z,8,0)),0,VLOOKUP($A188+8860000,'Growth Data'!$A:$Z,8,0))","v":0},0,null,0,{"$f":"IF(ISERROR(VLOOKUP($A188+8860000,'Growth Data'!$A:$Z,9,0)),0,VLOOKUP($A188+8860000,'Growth Data'!$A:$Z,9,0))","v":0},0,null,"NO",{"$f":"IF(ISERROR(VLOOKUP($A188+8860000,'Growth Data'!$A:$Z,5,0)),\"NO\",VLOOKUP($A188+8860000,'Growth Data'!$A:$Z,5,0))","v":"NO"},0,null,0,{"$f":"IF(ISERROR(VLOOKUP($A188+8860000,'Growth Data'!$A:$Z,10,0)),0,VLOOKUP($A188+8860000,'Growth Data'!$A:$Z,10,0))","v":0},0,null,0,{"$f":"IF(ISERROR(VLOOKUP($A188+8860000,'Growth Data'!$A:$Z,11,0)),0,VLOOKUP($A188+8860000,'Growth Data'!$A:$Z,11,0))","v":0},0]
[3122,"Bridge & Patrixbourne CEP School",null,"Bridge & Patrixbourne CEP School","Bridge & Patrixbourne CEP School",0,null,1365531.51,1365531.5061283419,0,null,0,0,0,null,1365531.51,1365531.5061283419,0,null,10604.89,10604.892330199998,0,null,null,null,0,null,0,0,0,null,76899.08,76899.079588041801,0,null,0,0,0,null,0,null,0,null,0,null,0,null,0,null,0,null,0,null,0,null,0,null,0,null,0,null,0,null,"NO",{"$f":"IF(ISERROR(VLOOKUP($A189+8860000,'Growth Data'!$A:$F,3,0)),\"NO\",VLOOKUP($A189+8860000,'Growth Data'!$A:$F,3,0))","v":"NO"},0,null,0,{"$f":"IF(BM189=\"YES\",IF(ISERROR(VLOOKUP($A189+8860000,'Growth Data'!$A:$F,6,0)),0,VLOOKUP($A189+8860000,'Growth Data'!$A:$F,6,0)),0)","v":0},0,null,0,{"$f":"IF(ISERROR(VLOOKUP($A189+8860000,'Growth Data'!$A:$Z,7,0)),0,VLOOKUP($A189+8860000,'Growth Data'!$A:$Z,7,0))","v":0},0,null,"NO",{"$f":"IF(ISERROR(VLOOKUP($A189+8860000,'Growth Data'!$A:$F,4,0)),\"NO\",VLOOKUP($A189+8860000,'Growth Data'!$A:$F,4,0))","v":"NO"},0,null,0,{"$f":"IF(ISERROR(VLOOKUP($A189+8860000,'Growth Data'!$A:$Z,8,0)),0,VLOOKUP($A189+8860000,'Growth Data'!$A:$Z,8,0))","v":0},0,null,0,{"$f":"IF(ISERROR(VLOOKUP($A189+8860000,'Growth Data'!$A:$Z,9,0)),0,VLOOKUP($A189+8860000,'Growth Data'!$A:$Z,9,0))","v":0},0,null,"NO",{"$f":"IF(ISERROR(VLOOKUP($A189+8860000,'Growth Data'!$A:$Z,5,0)),\"NO\",VLOOKUP($A189+8860000,'Growth Data'!$A:$Z,5,0))","v":"NO"},0,null,0,{"$f":"IF(ISERROR(VLOOKUP($A189+8860000,'Growth Data'!$A:$Z,10,0)),0,VLOOKUP($A189+8860000,'Growth Data'!$A:$Z,10,0))","v":0},0,null,0,{"$f":"IF(ISERROR(VLOOKUP($A189+8860000,'Growth Data'!$A:$Z,11,0)),0,VLOOKUP($A189+8860000,'Growth Data'!$A:$Z,11,0))","v":0},0]
[3123,"Chislet CEP School",null,"Chislet CEP School","Chislet CEP School",0,null,409539.78,409539.78136692086,0,null,0,0,0,null,409539.78,409539.78136692086,0,null,2439.38,2439.3820129999999,0,null,null,null,0,null,0,0,0,null,28865.87,28865.866172420861,0,null,3113.41,3113.4133827579135,0,null,0,null,0,null,0,null,0,null,0,null,0,null,0,null,0,null,0,null,0,null,0,null,0,null,"NO",{"$f":"IF(ISERROR(VLOOKUP($A190+8860000,'Growth Data'!$A:$F,3,0)),\"NO\",VLOOKUP($A190+8860000,'Growth Data'!$A:$F,3,0))","v":"NO"},0,null,0,{"$f":"IF(BM190=\"YES\",IF(ISERROR(VLOOKUP($A190+8860000,'Growth Data'!$A:$F,6,0)),0,VLOOKUP($A190+8860000,'Growth Data'!$A:$F,6,0)),0)","v":0},0,null,0,{"$f":"IF(ISERROR(VLOOKUP($A190+8860000,'Growth Data'!$A:$Z,7,0)),0,VLOOKUP($A190+8860000,'Growth Data'!$A:$Z,7,0))","v":0},0,null,"NO",{"$f":"IF(ISERROR(VLOOKUP($A190+8860000,'Growth Data'!$A:$F,4,0)),\"NO\",VLOOKUP($A190+8860000,'Growth Data'!$A:$F,4,0))","v":"NO"},0,null,0,{"$f":"IF(ISERROR(VLOOKUP($A190+8860000,'Growth Data'!$A:$Z,8,0)),0,VLOOKUP($A190+8860000,'Growth Data'!$A:$Z,8,0))","v":0},0,null,0,{"$f":"IF(ISERROR(VLOOKUP($A190+8860000,'Growth Data'!$A:$Z,9,0)),0,VLOOKUP($A190+8860000,'Growth Data'!$A:$Z,9,0))","v":0},0,null,"NO",{"$f":"IF(ISERROR(VLOOKUP($A190+8860000,'Growth Data'!$A:$Z,5,0)),\"NO\",VLOOKUP($A190+8860000,'Growth Data'!$A:$Z,5,0))","v":"NO"},0,null,0,{"$f":"IF(ISERROR(VLOOKUP($A190+8860000,'Growth Data'!$A:$Z,10,0)),0,VLOOKUP($A190+8860000,'Growth Data'!$A:$Z,10,0))","v":0},0,null,0,{"$f":"IF(ISERROR(VLOOKUP($A190+8860000,'Growth Data'!$A:$Z,11,0)),0,VLOOKUP($A190+8860000,'Growth Data'!$A:$Z,11,0))","v":0},0]
[3126,"Littlebourne CEP School",null,"Littlebourne CEP School","Littlebourne CEP School",0,null,410999.23,410999.23312018631,0,null,0,0,0,null,410999.23,410999.23312018631,0,null,2259.64,2259.6380752000005,0,null,null,null,0,null,0,0,0,null,36524.050000000003,36524.051087386317,0,null,2347.59,2347.594891261368,0,null,0,null,0,null,0,null,0,null,0,null,0,null,0,null,0,null,0,null,0,null,0,null,0,null,"NO",{"$f":"IF(ISERROR(VLOOKUP($A191+8860000,'Growth Data'!$A:$F,3,0)),\"NO\",VLOOKUP($A191+8860000,'Growth Data'!$A:$F,3,0))","v":"NO"},0,null,0,{"$f":"IF(BM191=\"YES\",IF(ISERROR(VLOOKUP($A191+8860000,'Growth Data'!$A:$F,6,0)),0,VLOOKUP($A191+8860000,'Growth Data'!$A:$F,6,0)),0)","v":0},0,null,0,{"$f":"IF(ISERROR(VLOOKUP($A191+8860000,'Growth Data'!$A:$Z,7,0)),0,VLOOKUP($A191+8860000,'Growth Data'!$A:$Z,7,0))","v":0},0,null,"NO",{"$f":"IF(ISERROR(VLOOKUP($A191+8860000,'Growth Data'!$A:$F,4,0)),\"NO\",VLOOKUP($A191+8860000,'Growth Data'!$A:$F,4,0))","v":"NO"},0,null,0,{"$f":"IF(ISERROR(VLOOKUP($A191+8860000,'Growth Data'!$A:$Z,8,0)),0,VLOOKUP($A191+8860000,'Growth Data'!$A:$Z,8,0))","v":0},0,null,0,{"$f":"IF(ISERROR(VLOOKUP($A191+8860000,'Growth Data'!$A:$Z,9,0)),0,VLOOKUP($A191+8860000,'Growth Data'!$A:$Z,9,0))","v":0},0,null,"NO",{"$f":"IF(ISERROR(VLOOKUP($A191+8860000,'Growth Data'!$A:$Z,5,0)),\"NO\",VLOOKUP($A191+8860000,'Growth Data'!$A:$Z,5,0))","v":"NO"},0,null,0,{"$f":"IF(ISERROR(VLOOKUP($A191+8860000,'Growth Data'!$A:$Z,10,0)),0,VLOOKUP($A191+8860000,'Growth Data'!$A:$Z,10,0))","v":0},0,null,0,{"$f":"IF(ISERROR(VLOOKUP($A191+8860000,'Growth Data'!$A:$Z,11,0)),0,VLOOKUP($A191+8860000,'Growth Data'!$A:$Z,11,0))","v":0},0]
[3129,"St Alphege CEI School",null,"St Alphege CEI School","St Alphege CEI School",0,null,659955.03,659955.03484446381,0,null,0,0,0,null,659955.03,659955.03484446381,0,null,4211.1400000000003,4211.1436856000009,0,null,null,null,0,null,4.9000000000000004,4.9000000000000004,0,null,59686.38,59686.382256063749,0,null,31.36,31.361774393624728,0,null,0,null,0,null,0,null,0,null,0,null,0,null,0,null,0,null,0,null,0,null,0,null,0,null,"NO",{"$f":"IF(ISERROR(VLOOKUP($A192+8860000,'Growth Data'!$A:$F,3,0)),\"NO\",VLOOKUP($A192+8860000,'Growth Data'!$A:$F,3,0))","v":"NO"},0,null,0,{"$f":"IF(BM192=\"YES\",IF(ISERROR(VLOOKUP($A192+8860000,'Growth Data'!$A:$F,6,0)),0,VLOOKUP($A192+8860000,'Growth Data'!$A:$F,6,0)),0)","v":0},0,null,0,{"$f":"IF(ISERROR(VLOOKUP($A192+8860000,'Growth Data'!$A:$Z,7,0)),0,VLOOKUP($A192+8860000,'Growth Data'!$A:$Z,7,0))","v":0},0,null,"NO",{"$f":"IF(ISERROR(VLOOKUP($A192+8860000,'Growth Data'!$A:$F,4,0)),\"NO\",VLOOKUP($A192+8860000,'Growth Data'!$A:$F,4,0))","v":"NO"},0,null,0,{"$f":"IF(ISERROR(VLOOKUP($A192+8860000,'Growth Data'!$A:$Z,8,0)),0,VLOOKUP($A192+8860000,'Growth Data'!$A:$Z,8,0))","v":0},0,null,0,{"$f":"IF(ISERROR(VLOOKUP($A192+8860000,'Growth Data'!$A:$Z,9,0)),0,VLOOKUP($A192+8860000,'Growth Data'!$A:$Z,9,0))","v":0},0,null,"NO",{"$f":"IF(ISERROR(VLOOKUP($A192+8860000,'Growth Data'!$A:$Z,5,0)),\"NO\",VLOOKUP($A192+8860000,'Growth Data'!$A:$Z,5,0))","v":"NO"},0,null,0,{"$f":"IF(ISERROR(VLOOKUP($A192+8860000,'Growth Data'!$A:$Z,10,0)),0,VLOOKUP($A192+8860000,'Growth Data'!$A:$Z,10,0))","v":0},0,null,0,{"$f":"IF(ISERROR(VLOOKUP($A192+8860000,'Growth Data'!$A:$Z,11,0)),0,VLOOKUP($A192+8860000,'Growth Data'!$A:$Z,11,0))","v":0},0]
[3130,"Wickhambreaux CEP School",null,"Wickhambreaux CEP School","Wickhambreaux CEP School",0,null,490478.68,490478.67767195858,0,null,14662.28,14662.275215798174,0,null,505140.95,505140.95288775675,0,null,3209.71,3209.7131750000003,0,null,null,null,0,null,0,0,0,null,23299.29,23299.288984458588,0,null,3670.07,3670.071101554141,0,null,0,null,0,null,0,null,0,null,0,null,0,null,0,null,0,null,0,null,0,null,0,null,0,null,"NO",{"$f":"IF(ISERROR(VLOOKUP($A193+8860000,'Growth Data'!$A:$F,3,0)),\"NO\",VLOOKUP($A193+8860000,'Growth Data'!$A:$F,3,0))","v":"NO"},0,null,0,{"$f":"IF(BM193=\"YES\",IF(ISERROR(VLOOKUP($A193+8860000,'Growth Data'!$A:$F,6,0)),0,VLOOKUP($A193+8860000,'Growth Data'!$A:$F,6,0)),0)","v":0},0,null,0,{"$f":"IF(ISERROR(VLOOKUP($A193+8860000,'Growth Data'!$A:$Z,7,0)),0,VLOOKUP($A193+8860000,'Growth Data'!$A:$Z,7,0))","v":0},0,null,"NO",{"$f":"IF(ISERROR(VLOOKUP($A193+8860000,'Growth Data'!$A:$F,4,0)),\"NO\",VLOOKUP($A193+8860000,'Growth Data'!$A:$F,4,0))","v":"NO"},0,null,0,{"$f":"IF(ISERROR(VLOOKUP($A193+8860000,'Growth Data'!$A:$Z,8,0)),0,VLOOKUP($A193+8860000,'Growth Data'!$A:$Z,8,0))","v":0},0,null,0,{"$f":"IF(ISERROR(VLOOKUP($A193+8860000,'Growth Data'!$A:$Z,9,0)),0,VLOOKUP($A193+8860000,'Growth Data'!$A:$Z,9,0))","v":0},0,null,"NO",{"$f":"IF(ISERROR(VLOOKUP($A193+8860000,'Growth Data'!$A:$Z,5,0)),\"NO\",VLOOKUP($A193+8860000,'Growth Data'!$A:$Z,5,0))","v":"NO"},0,null,0,{"$f":"IF(ISERROR(VLOOKUP($A193+8860000,'Growth Data'!$A:$Z,10,0)),0,VLOOKUP($A193+8860000,'Growth Data'!$A:$Z,10,0))","v":0},0,null,0,{"$f":"IF(ISERROR(VLOOKUP($A193+8860000,'Growth Data'!$A:$Z,11,0)),0,VLOOKUP($A193+8860000,'Growth Data'!$A:$Z,11,0))","v":0},0]
[3134,"John Mayne CEP School",null,"John Mayne CEP School","John Mayne CEP School",{"$f":"IF(E194=D194,0,1)","v":0},null,488896.18,488896.17758469976,{"$f":"ROUND(H194-I194,0)","v":0},null,0,0,{"$f":"ROUND(L194-M194,0)","v":0},null,488896.18,488896.17758469976,{"$f":"ROUND(P194-Q194,0)","v":0},null,2978.61,2978.6138264000001,{"$f":"ROUND(T194-U194,0)","v":0},null,null,null,{"$f":"ROUND(X194-Y194,0)","v":0},null,0,0,{"$f":"ROUND(AB194-AC194,0)","v":0},null,29834.44,29834.442780667174,{"$f":"ROUND(AF194-AG194,0)","v":0},null,3016.56,3016.5557219332823,{"$f":"ROUND(AJ194-AK194,0)","v":0},null,0,null,{"$f":"ROUND(AN194-AO194,0)","v":0},null,0,null,{"$f":"ROUND(AR194-AS194,0)","v":0},null,0,null,{"$f":"ROUND(AV194-AW194,0)","v":0},null,0,null,{"$f":"ROUND(AZ194-BA194,0)","v":0},null,0,null,{"$f":"ROUND(BD194-BE194,0)","v":0},null,0,null,{"$f":"ROUND(BH194-BI194,0)","v":0},null,"NO",{"$f":"IF(ISERROR(VLOOKUP($A194+8860000,'Growth Data'!$A:$F,3,0)),\"NO\",VLOOKUP($A194+8860000,'Growth Data'!$A:$F,3,0))","v":"NO"},{"$f":"IF(BL194=BM194,0,1)","v":0},null,0,{"$f":"IF(BM194=\"YES\",IF(ISERROR(VLOOKUP($A194+8860000,'Growth Data'!$A:$F,6,0)),0,VLOOKUP($A194+8860000,'Growth Data'!$A:$F,6,0)),0)","v":0},{"$f":"ROUND(BP194-BQ194,0)","v":0},null,0,{"$f":"IF(ISERROR(VLOOKUP($A194+8860000,'Growth Data'!$A:$Z,7,0)),0,VLOOKUP($A194+8860000,'Growth Data'!$A:$Z,7,0))","v":0},{"$f":"IF(BT194=BU194,0,1)","v":0},null,"NO",{"$f":"IF(ISERROR(VLOOKUP($A194+8860000,'Growth Data'!$A:$F,4,0)),\"NO\",VLOOKUP($A194+8860000,'Growth Data'!$A:$F,4,0))","v":"NO"},0,null,0,{"$f":"IF(ISERROR(VLOOKUP($A194+8860000,'Growth Data'!$A:$Z,8,0)),0,VLOOKUP($A194+8860000,'Growth Data'!$A:$Z,8,0))","v":0},{"$f":"IF(CB194=CC194,0,1)","v":0},null,0,{"$f":"IF(ISERROR(VLOOKUP($A194+8860000,'Growth Data'!$A:$Z,9,0)),0,VLOOKUP($A194+8860000,'Growth Data'!$A:$Z,9,0))","v":0},0,null,"NO",{"$f":"IF(ISERROR(VLOOKUP($A194+8860000,'Growth Data'!$A:$Z,5,0)),\"NO\",VLOOKUP($A194+8860000,'Growth Data'!$A:$Z,5,0))","v":"NO"},0,null,0,{"$f":"IF(ISERROR(VLOOKUP($A194+8860000,'Growth Data'!$A:$Z,10,0)),0,VLOOKUP($A194+8860000,'Growth Data'!$A:$Z,10,0))","v":0},0,null,0,{"$f":"IF(ISERROR(VLOOKUP($A194+8860000,'Growth Data'!$A:$Z,11,0)),0,VLOOKUP($A194+8860000,'Growth Data'!$A:$Z,11,0))","v":0},0]
[3136,"Brabourne CEP School",null,"Brabourne CEP School","Brabourne CEP School",0,null,409694.12,409694.11748950789,0,null,0,0,0,null,409694.12,409694.11748950789,0,null,2465.06,2465.0597184000003,0,null,null,null,0,null,0,0,0,null,23345.89,23345.888071907921,0,null,3665.41,3665.4111928092079,0,null,0,null,0,null,0,null,0,null,0,null,0,null,0,null,0,null,0,null,0,null,0,null,0,null,"NO",{"$f":"IF(ISERROR(VLOOKUP($A195+8860000,'Growth Data'!$A:$F,3,0)),\"NO\",VLOOKUP($A195+8860000,'Growth Data'!$A:$F,3,0))","v":"NO"},0,null,0,{"$f":"IF(BM195=\"YES\",IF(ISERROR(VLOOKUP($A195+8860000,'Growth Data'!$A:$F,6,0)),0,VLOOKUP($A195+8860000,'Growth Data'!$A:$F,6,0)),0)","v":0},0,null,0,{"$f":"IF(ISERROR(VLOOKUP($A195+8860000,'Growth Data'!$A:$Z,7,0)),0,VLOOKUP($A195+8860000,'Growth Data'!$A:$Z,7,0))","v":0},0,null,"NO",{"$f":"IF(ISERROR(VLOOKUP($A195+8860000,'Growth Data'!$A:$F,4,0)),\"NO\",VLOOKUP($A195+8860000,'Growth Data'!$A:$F,4,0))","v":"NO"},{"$f":"IF(BX195=BY195,0,1)","v":0},null,0,{"$f":"IF(ISERROR(VLOOKUP($A195+8860000,'Growth Data'!$A:$Z,8,0)),0,VLOOKUP($A195+8860000,'Growth Data'!$A:$Z,8,0))","v":0},0,null,0,{"$f":"IF(ISERROR(VLOOKUP($A195+8860000,'Growth Data'!$A:$Z,9,0)),0,VLOOKUP($A195+8860000,'Growth Data'!$A:$Z,9,0))","v":0},{"$f":"IF(CF195=CG195,0,1)","v":0},null,"NO",{"$f":"IF(ISERROR(VLOOKUP($A195+8860000,'Growth Data'!$A:$Z,5,0)),\"NO\",VLOOKUP($A195+8860000,'Growth Data'!$A:$Z,5,0))","v":"NO"},{"$f":"IF(CJ195=CK195,0,1)","v":0},null,0,{"$f":"IF(ISERROR(VLOOKUP($A195+8860000,'Growth Data'!$A:$Z,10,0)),0,VLOOKUP($A195+8860000,'Growth Data'!$A:$Z,10,0))","v":0},{"$f":"IF(CN195=CO195,0,1)","v":0},null,0,{"$f":"IF(ISERROR(VLOOKUP($A195+8860000,'Growth Data'!$A:$Z,11,0)),0,VLOOKUP($A195+8860000,'Growth Data'!$A:$Z,11,0))","v":0},{"$f":"IF(CR195=CS195,0,1)","v":0}]
[3137,"Brookland CEP School",null,"Brookland CEP School","Brookland CEP School",0,null,447512.11,447512.11244370585,0,null,0,0,0,null,447512.11,447512.11244370585,0,null,2619.13,2619.1259507999998,0,null,null,null,0,null,0,0,0,null,36914.660000000003,36914.659687505868,0,null,2308.5300000000002,2308.5340312494131,0,null,0,null,0,null,0,null,0,null,0,null,0,null,0,null,0,null,0,null,0,null,0,null,0,null,"NO",{"$f":"IF(ISERROR(VLOOKUP($A196+8860000,'Growth Data'!$A:$F,3,0)),\"NO\",VLOOKUP($A196+8860000,'Growth Data'!$A:$F,3,0))","v":"NO"},0,null,0,{"$f":"IF(BM196=\"YES\",IF(ISERROR(VLOOKUP($A196+8860000,'Growth Data'!$A:$F,6,0)),0,VLOOKUP($A196+8860000,'Growth Data'!$A:$F,6,0)),0)","v":0},0,null,0,{"$f":"IF(ISERROR(VLOOKUP($A196+8860000,'Growth Data'!$A:$Z,7,0)),0,VLOOKUP($A196+8860000,'Growth Data'!$A:$Z,7,0))","v":0},0,null,"NO",{"$f":"IF(ISERROR(VLOOKUP($A196+8860000,'Growth Data'!$A:$F,4,0)),\"NO\",VLOOKUP($A196+8860000,'Growth Data'!$A:$F,4,0))","v":"NO"},0,null,0,{"$f":"IF(ISERROR(VLOOKUP($A196+8860000,'Growth Data'!$A:$Z,8,0)),0,VLOOKUP($A196+8860000,'Growth Data'!$A:$Z,8,0))","v":0},0,null,0,{"$f":"IF(ISERROR(VLOOKUP($A196+8860000,'Growth Data'!$A:$Z,9,0)),0,VLOOKUP($A196+8860000,'Growth Data'!$A:$Z,9,0))","v":0},0,null,"NO",{"$f":"IF(ISERROR(VLOOKUP($A196+8860000,'Growth Data'!$A:$Z,5,0)),\"NO\",VLOOKUP($A196+8860000,'Growth Data'!$A:$Z,5,0))","v":"NO"},0,null,0,{"$f":"IF(ISERROR(VLOOKUP($A196+8860000,'Growth Data'!$A:$Z,10,0)),0,VLOOKUP($A196+8860000,'Growth Data'!$A:$Z,10,0))","v":0},0,null,0,{"$f":"IF(ISERROR(VLOOKUP($A196+8860000,'Growth Data'!$A:$Z,11,0)),0,VLOOKUP($A196+8860000,'Growth Data'!$A:$Z,11,0))","v":0},0]
[3138,"Chilham St Mary's CEP School",null,"Chilham St Mary's CEP School","Chilham St Mary's CEP School",0,null,418737.86,418737.86214767181,0,null,0,0,0,null,418737.86,418737.86214767181,0,null,2336.67,2336.6711914000002,0,null,null,null,0,null,0,0,0,null,31682.33,31682.327445571813,0,null,2831.77,2831.7672554428186,0,null,0,null,0,null,0,null,0,null,0,null,0,null,0,null,0,null,0,null,0,null,0,null,0,null,"NO",{"$f":"IF(ISERROR(VLOOKUP($A197+8860000,'Growth Data'!$A:$F,3,0)),\"NO\",VLOOKUP($A197+8860000,'Growth Data'!$A:$F,3,0))","v":"NO"},0,null,0,{"$f":"IF(BM197=\"YES\",IF(ISERROR(VLOOKUP($A197+8860000,'Growth Data'!$A:$F,6,0)),0,VLOOKUP($A197+8860000,'Growth Data'!$A:$F,6,0)),0)","v":0},0,null,0,{"$f":"IF(ISERROR(VLOOKUP($A197+8860000,'Growth Data'!$A:$Z,7,0)),0,VLOOKUP($A197+8860000,'Growth Data'!$A:$Z,7,0))","v":0},0,null,"NO",{"$f":"IF(ISERROR(VLOOKUP($A197+8860000,'Growth Data'!$A:$F,4,0)),\"NO\",VLOOKUP($A197+8860000,'Growth Data'!$A:$F,4,0))","v":"NO"},0,null,0,{"$f":"IF(ISERROR(VLOOKUP($A197+8860000,'Growth Data'!$A:$Z,8,0)),0,VLOOKUP($A197+8860000,'Growth Data'!$A:$Z,8,0))","v":0},0,null,0,{"$f":"IF(ISERROR(VLOOKUP($A197+8860000,'Growth Data'!$A:$Z,9,0)),0,VLOOKUP($A197+8860000,'Growth Data'!$A:$Z,9,0))","v":0},0,null,"NO",{"$f":"IF(ISERROR(VLOOKUP($A197+8860000,'Growth Data'!$A:$Z,5,0)),\"NO\",VLOOKUP($A197+8860000,'Growth Data'!$A:$Z,5,0))","v":"NO"},0,null,0,{"$f":"IF(ISERROR(VLOOKUP($A197+8860000,'Growth Data'!$A:$Z,10,0)),0,VLOOKUP($A197+8860000,'Growth Data'!$A:$Z,10,0))","v":0},0,null,0,{"$f":"IF(ISERROR(VLOOKUP($A197+8860000,'Growth Data'!$A:$Z,11,0)),0,VLOOKUP($A197+8860000,'Growth Data'!$A:$Z,11,0))","v":0},0]
[3139,"High Halden CEP School",null,"High Halden CEP School","High Halden CEP School",0,null,410331.68,410331.67783693055,0,null,2553.02,2553.0247736311867,0,null,412884.7,412884.70261056174,0,null,2362.35,2362.3488968000001,0,null,null,null,0,null,0,0,0,null,25584.6,25584.597311730533,0,null,3441.54,3441.5402688269464,0,null,0,null,0,null,0,null,0,null,0,null,0,null,0,null,0,null,0,null,0,null,0,null,0,null,"NO",{"$f":"IF(ISERROR(VLOOKUP($A198+8860000,'Growth Data'!$A:$F,3,0)),\"NO\",VLOOKUP($A198+8860000,'Growth Data'!$A:$F,3,0))","v":"NO"},0,null,0,{"$f":"IF(BM198=\"YES\",IF(ISERROR(VLOOKUP($A198+8860000,'Growth Data'!$A:$F,6,0)),0,VLOOKUP($A198+8860000,'Growth Data'!$A:$F,6,0)),0)","v":0},0,null,0,{"$f":"IF(ISERROR(VLOOKUP($A198+8860000,'Growth Data'!$A:$Z,7,0)),0,VLOOKUP($A198+8860000,'Growth Data'!$A:$Z,7,0))","v":0},0,null,"NO",{"$f":"IF(ISERROR(VLOOKUP($A198+8860000,'Growth Data'!$A:$F,4,0)),\"NO\",VLOOKUP($A198+8860000,'Growth Data'!$A:$F,4,0))","v":"NO"},0,null,0,{"$f":"IF(ISERROR(VLOOKUP($A198+8860000,'Growth Data'!$A:$Z,8,0)),0,VLOOKUP($A198+8860000,'Growth Data'!$A:$Z,8,0))","v":0},0,null,0,{"$f":"IF(ISERROR(VLOOKUP($A198+8860000,'Growth Data'!$A:$Z,9,0)),0,VLOOKUP($A198+8860000,'Growth Data'!$A:$Z,9,0))","v":0},0,null,"NO",{"$f":"IF(ISERROR(VLOOKUP($A198+8860000,'Growth Data'!$A:$Z,5,0)),\"NO\",VLOOKUP($A198+8860000,'Growth Data'!$A:$Z,5,0))","v":"NO"},0,null,0,{"$f":"IF(ISERROR(VLOOKUP($A198+8860000,'Growth Data'!$A:$Z,10,0)),0,VLOOKUP($A198+8860000,'Growth Data'!$A:$Z,10,0))","v":0},0,null,0,{"$f":"IF(ISERROR(VLOOKUP($A198+8860000,'Growth Data'!$A:$Z,11,0)),0,VLOOKUP($A198+8860000,'Growth Data'!$A:$Z,11,0))","v":0},0]
[3145,"Woodchurch CEP School",null,"Woodchurch CEP School","Woodchurch CEP School",0,null,623512.55000000005,623512.55469284509,0,null,0,0,0,null,623512.55000000005,623512.55469284509,0,null,4185.47,4185.4659802000006,0,null,null,null,0,null,0,0,0,null,42831.27,42831.269527545133,0,null,1716.87,1716.8730472454863,0,null,0,null,0,null,0,null,0,null,0,null,0,null,0,null,0,null,0,null,0,null,0,null,0,null,"YES",{"$f":"IF(ISERROR(VLOOKUP($A199+8860000,'Growth Data'!$A:$F,3,0)),\"NO\",VLOOKUP($A199+8860000,'Growth Data'!$A:$F,3,0))","v":"YES"},0,null,20,{"$f":"IF(BM199=\"YES\",IF(ISERROR(VLOOKUP($A199+8860000,'Growth Data'!$A:$F,6,0)),0,VLOOKUP($A199+8860000,'Growth Data'!$A:$F,6,0)),0)","v":20},0,null,26,{"$f":"IF(ISERROR(VLOOKUP($A199+8860000,'Growth Data'!$A:$Z,7,0)),0,VLOOKUP($A199+8860000,'Growth Data'!$A:$Z,7,0))","v":26},0,null,"NO",{"$f":"IF(ISERROR(VLOOKUP($A199+8860000,'Growth Data'!$A:$F,4,0)),\"NO\",VLOOKUP($A199+8860000,'Growth Data'!$A:$F,4,0))","v":"NO"},0,null,0,{"$f":"IF(ISERROR(VLOOKUP($A199+8860000,'Growth Data'!$A:$Z,8,0)),0,VLOOKUP($A199+8860000,'Growth Data'!$A:$Z,8,0))","v":30},1,null,0,{"$f":"IF(ISERROR(VLOOKUP($A199+8860000,'Growth Data'!$A:$Z,9,0)),0,VLOOKUP($A199+8860000,'Growth Data'!$A:$Z,9,0))","v":30},1,null,"YES",{"$f":"IF(ISERROR(VLOOKUP($A199+8860000,'Growth Data'!$A:$Z,5,0)),\"NO\",VLOOKUP($A199+8860000,'Growth Data'!$A:$Z,5,0))","v":"YES"},0,null,21,{"$f":"IF(ISERROR(VLOOKUP($A199+8860000,'Growth Data'!$A:$Z,10,0)),0,VLOOKUP($A199+8860000,'Growth Data'!$A:$Z,10,0))","v":21},0,null,26,{"$f":"IF(ISERROR(VLOOKUP($A199+8860000,'Growth Data'!$A:$Z,11,0)),0,VLOOKUP($A199+8860000,'Growth Data'!$A:$Z,11,0))","v":26},0]
[3146,"Bodsham CEP School",null,"Bodsham CEP School","Bodsham CEP School",0,null,410394.4,410394.40351367666,0,null,0,0,0,null,410394.4,410394.40351367666,0,null,2388.0300000000002,2388.0266022000001,0,null,null,null,0,null,0,0,0,null,14807.66,14807.655441478151,0,null,4519.2299999999996,4519.2344558521845,0,null,0,null,0,null,0,null,0,null,0,null,0,null,0,null,0,null,0,null,0,null,0,null,0,null,"NO",{"$f":"IF(ISERROR(VLOOKUP($A200+8860000,'Growth Data'!$A:$F,3,0)),\"NO\",VLOOKUP($A200+8860000,'Growth Data'!$A:$F,3,0))","v":"NO"},0,null,0,{"$f":"IF(BM200=\"YES\",IF(ISERROR(VLOOKUP($A200+8860000,'Growth Data'!$A:$F,6,0)),0,VLOOKUP($A200+8860000,'Growth Data'!$A:$F,6,0)),0)","v":0},0,null,0,{"$f":"IF(ISERROR(VLOOKUP($A200+8860000,'Growth Data'!$A:$Z,7,0)),0,VLOOKUP($A200+8860000,'Growth Data'!$A:$Z,7,0))","v":0},0,null,"NO",{"$f":"IF(ISERROR(VLOOKUP($A200+8860000,'Growth Data'!$A:$F,4,0)),\"NO\",VLOOKUP($A200+8860000,'Growth Data'!$A:$F,4,0))","v":"NO"},0,null,0,{"$f":"IF(ISERROR(VLOOKUP($A200+8860000,'Growth Data'!$A:$Z,8,0)),0,VLOOKUP($A200+8860000,'Growth Data'!$A:$Z,8,0))","v":0},0,null,0,{"$f":"IF(ISERROR(VLOOKUP($A200+8860000,'Growth Data'!$A:$Z,9,0)),0,VLOOKUP($A200+8860000,'Growth Data'!$A:$Z,9,0))","v":0},0,null,"NO",{"$f":"IF(ISERROR(VLOOKUP($A200+8860000,'Growth Data'!$A:$Z,5,0)),\"NO\",VLOOKUP($A200+8860000,'Growth Data'!$A:$Z,5,0))","v":"NO"},0,null,0,{"$f":"IF(ISERROR(VLOOKUP($A200+8860000,'Growth Data'!$A:$Z,10,0)),0,VLOOKUP($A200+8860000,'Growth Data'!$A:$Z,10,0))","v":0},0,null,0,{"$f":"IF(ISERROR(VLOOKUP($A200+8860000,'Growth Data'!$A:$Z,11,0)),0,VLOOKUP($A200+8860000,'Growth Data'!$A:$Z,11,0))","v":0},0]
[3149,"St Martin's CEP School, Folkestone",null,"St Martin's CEP School, Folkestone","St Martin's CEP School, Folkestone",0,null,763519.8,763519.80345775886,0,null,0,0,0,null,763519.8,763519.80345775886,0,null,5315.29,5315.2850177999999,0,null,null,null,0,null,0,0,0,null,56601.08,56601.077676058798,0,null,339.89,339.89223239411967,0,null,0,null,0,null,0,null,0,null,0,null,0,null,0,null,0,null,0,null,0,null,0,null,0,null,"NO",{"$f":"IF(ISERROR(VLOOKUP($A201+8860000,'Growth Data'!$A:$F,3,0)),\"NO\",VLOOKUP($A201+8860000,'Growth Data'!$A:$F,3,0))","v":"NO"},0,null,0,{"$f":"IF(BM201=\"YES\",IF(ISERROR(VLOOKUP($A201+8860000,'Growth Data'!$A:$F,6,0)),0,VLOOKUP($A201+8860000,'Growth Data'!$A:$F,6,0)),0)","v":0},0,null,0,{"$f":"IF(ISERROR(VLOOKUP($A201+8860000,'Growth Data'!$A:$Z,7,0)),0,VLOOKUP($A201+8860000,'Growth Data'!$A:$Z,7,0))","v":0},0,null,"NO",{"$f":"IF(ISERROR(VLOOKUP($A201+8860000,'Growth Data'!$A:$F,4,0)),\"NO\",VLOOKUP($A201+8860000,'Growth Data'!$A:$F,4,0))","v":"NO"},0,null,0,{"$f":"IF(ISERROR(VLOOKUP($A201+8860000,'Growth Data'!$A:$Z,8,0)),0,VLOOKUP($A201+8860000,'Growth Data'!$A:$Z,8,0))","v":0},0,null,0,{"$f":"IF(ISERROR(VLOOKUP($A201+8860000,'Growth Data'!$A:$Z,9,0)),0,VLOOKUP($A201+8860000,'Growth Data'!$A:$Z,9,0))","v":0},0,null,"NO",{"$f":"IF(ISERROR(VLOOKUP($A201+8860000,'Growth Data'!$A:$Z,5,0)),\"NO\",VLOOKUP($A201+8860000,'Growth Data'!$A:$Z,5,0))","v":"NO"},0,null,0,{"$f":"IF(ISERROR(VLOOKUP($A201+8860000,'Growth Data'!$A:$Z,10,0)),0,VLOOKUP($A201+8860000,'Growth Data'!$A:$Z,10,0))","v":0},0,null,0,{"$f":"IF(ISERROR(VLOOKUP($A201+8860000,'Growth Data'!$A:$Z,11,0)),0,VLOOKUP($A201+8860000,'Growth Data'!$A:$Z,11,0))","v":0},0]
[3150,"St Peter's CEP School, Folkestone",null,"St Peter's CEP School, Folkestone","St Peter's CEP School, Folkestone",0,null,532023.93999999994,532023.93597870436,0,null,0,0,0,null,532023.93999999994,532023.93597870436,0,null,2670.48,2670.4813615999997,0,null,null,null,0,null,0,0,0,null,88843.34,88843.336776304423,0,null,0,0,0,null,0,null,0,null,0,null,0,null,0,null,0,null,0,null,0,null,0,null,0,null,0,null,0,null,"NO",{"$f":"IF(ISERROR(VLOOKUP($A202+8860000,'Growth Data'!$A:$F,3,0)),\"NO\",VLOOKUP($A202+8860000,'Growth Data'!$A:$F,3,0))","v":"NO"},0,null,0,{"$f":"IF(BM202=\"YES\",IF(ISERROR(VLOOKUP($A202+8860000,'Growth Data'!$A:$F,6,0)),0,VLOOKUP($A202+8860000,'Growth Data'!$A:$F,6,0)),0)","v":0},0,null,0,{"$f":"IF(ISERROR(VLOOKUP($A202+8860000,'Growth Data'!$A:$Z,7,0)),0,VLOOKUP($A202+8860000,'Growth Data'!$A:$Z,7,0))","v":0},0,null,"NO",{"$f":"IF(ISERROR(VLOOKUP($A202+8860000,'Growth Data'!$A:$F,4,0)),\"NO\",VLOOKUP($A202+8860000,'Growth Data'!$A:$F,4,0))","v":"NO"},0,null,0,{"$f":"IF(ISERROR(VLOOKUP($A202+8860000,'Growth Data'!$A:$Z,8,0)),0,VLOOKUP($A202+8860000,'Growth Data'!$A:$Z,8,0))","v":0},0,null,0,{"$f":"IF(ISERROR(VLOOKUP($A202+8860000,'Growth Data'!$A:$Z,9,0)),0,VLOOKUP($A202+8860000,'Growth Data'!$A:$Z,9,0))","v":0},0,null,"NO",{"$f":"IF(ISERROR(VLOOKUP($A202+8860000,'Growth Data'!$A:$Z,5,0)),\"NO\",VLOOKUP($A202+8860000,'Growth Data'!$A:$Z,5,0))","v":"NO"},0,null,0,{"$f":"IF(ISERROR(VLOOKUP($A202+8860000,'Growth Data'!$A:$Z,10,0)),0,VLOOKUP($A202+8860000,'Growth Data'!$A:$Z,10,0))","v":0},0,null,0,{"$f":"IF(ISERROR(VLOOKUP($A202+8860000,'Growth Data'!$A:$Z,11,0)),0,VLOOKUP($A202+8860000,'Growth Data'!$A:$Z,11,0))","v":0},0]
[3153,"Seabrook CEP School",null,"Seabrook CEP School","Seabrook CEP School",0,null,449849.82,449849.82096229936,0,null,0,0,0,null,449849.82,449849.82096229936,0,null,2747.51,2747.5144778000003,0,null,null,null,0,null,0,0,0,null,35262.03,35262.030290599345,0,null,2473.8000000000002,2473.7969709400654,0,null,0,null,0,null,0,null,0,null,0,null,0,null,0,null,0,null,0,null,0,null,0,null,0,null,"NO",{"$f":"IF(ISERROR(VLOOKUP($A203+8860000,'Growth Data'!$A:$F,3,0)),\"NO\",VLOOKUP($A203+8860000,'Growth Data'!$A:$F,3,0))","v":"NO"},0,null,0,{"$f":"IF(BM203=\"YES\",IF(ISERROR(VLOOKUP($A203+8860000,'Growth Data'!$A:$F,6,0)),0,VLOOKUP($A203+8860000,'Growth Data'!$A:$F,6,0)),0)","v":0},0,null,0,{"$f":"IF(ISERROR(VLOOKUP($A203+8860000,'Growth Data'!$A:$Z,7,0)),0,VLOOKUP($A203+8860000,'Growth Data'!$A:$Z,7,0))","v":0},0,null,"NO",{"$f":"IF(ISERROR(VLOOKUP($A203+8860000,'Growth Data'!$A:$F,4,0)),\"NO\",VLOOKUP($A203+8860000,'Growth Data'!$A:$F,4,0))","v":"NO"},0,null,0,{"$f":"IF(ISERROR(VLOOKUP($A203+8860000,'Growth Data'!$A:$Z,8,0)),0,VLOOKUP($A203+8860000,'Growth Data'!$A:$Z,8,0))","v":0},0,null,0,{"$f":"IF(ISERROR(VLOOKUP($A203+8860000,'Growth Data'!$A:$Z,9,0)),0,VLOOKUP($A203+8860000,'Growth Data'!$A:$Z,9,0))","v":0},0,null,"NO",{"$f":"IF(ISERROR(VLOOKUP($A203+8860000,'Growth Data'!$A:$Z,5,0)),\"NO\",VLOOKUP($A203+8860000,'Growth Data'!$A:$Z,5,0))","v":"NO"},0,null,0,{"$f":"IF(ISERROR(VLOOKUP($A203+8860000,'Growth Data'!$A:$Z,10,0)),0,VLOOKUP($A203+8860000,'Growth Data'!$A:$Z,10,0))","v":0},0,null,0,{"$f":"IF(ISERROR(VLOOKUP($A203+8860000,'Growth Data'!$A:$Z,11,0)),0,VLOOKUP($A203+8860000,'Growth Data'!$A:$Z,11,0))","v":0},0]
[3154,"Lyminge CEP School",null,"Lyminge CEP School","Lyminge CEP School",0,null,719005.1,719005.10021607124,0,null,0,0,0,null,719005.1,719005.10021607124,0,null,5109.8599999999997,5109.8633746000005,0,null,null,null,0,null,0,0,0,null,30133.49,30133.493819171083,0,null,2986.65,2986.6506180828915,0,null,0,null,0,null,0,null,0,null,0,null,0,null,0,null,0,null,0,null,0,null,0,null,0,null,"NO",{"$f":"IF(ISERROR(VLOOKUP($A204+8860000,'Growth Data'!$A:$F,3,0)),\"NO\",VLOOKUP($A204+8860000,'Growth Data'!$A:$F,3,0))","v":"NO"},0,null,0,{"$f":"IF(BM204=\"YES\",IF(ISERROR(VLOOKUP($A204+8860000,'Growth Data'!$A:$F,6,0)),0,VLOOKUP($A204+8860000,'Growth Data'!$A:$F,6,0)),0)","v":0},0,null,0,{"$f":"IF(ISERROR(VLOOKUP($A204+8860000,'Growth Data'!$A:$Z,7,0)),0,VLOOKUP($A204+8860000,'Growth Data'!$A:$Z,7,0))","v":0},0,null,"NO",{"$f":"IF(ISERROR(VLOOKUP($A204+8860000,'Growth Data'!$A:$F,4,0)),\"NO\",VLOOKUP($A204+8860000,'Growth Data'!$A:$F,4,0))","v":"NO"},0,null,0,{"$f":"IF(ISERROR(VLOOKUP($A204+8860000,'Growth Data'!$A:$Z,8,0)),0,VLOOKUP($A204+8860000,'Growth Data'!$A:$Z,8,0))","v":0},0,null,0,{"$f":"IF(ISERROR(VLOOKUP($A204+8860000,'Growth Data'!$A:$Z,9,0)),0,VLOOKUP($A204+8860000,'Growth Data'!$A:$Z,9,0))","v":0},0,null,"NO",{"$f":"IF(ISERROR(VLOOKUP($A204+8860000,'Growth Data'!$A:$Z,5,0)),\"NO\",VLOOKUP($A204+8860000,'Growth Data'!$A:$Z,5,0))","v":"NO"},0,null,0,{"$f":"IF(ISERROR(VLOOKUP($A204+8860000,'Growth Data'!$A:$Z,10,0)),0,VLOOKUP($A204+8860000,'Growth Data'!$A:$Z,10,0))","v":0},0,null,0,{"$f":"IF(ISERROR(VLOOKUP($A204+8860000,'Growth Data'!$A:$Z,11,0)),0,VLOOKUP($A204+8860000,'Growth Data'!$A:$Z,11,0))","v":0},0]
[3155,"Lympne CEP School",null,"Lympne CEP School","Lympne CEP School",0,null,814927.23,814927.23059588275,0,null,0,0,0,null,814927.23,814927.23059588275,0,null,5546.38,5546.3843664000005,0,null,null,null,0,null,0,0,0,null,56591.63,56591.625206282712,0,null,340.84,340.83747937172848,0,null,0,null,0,null,0,null,0,null,0,null,0,null,0,null,0,null,0,null,0,null,0,null,0,null,"NO",{"$f":"IF(ISERROR(VLOOKUP($A205+8860000,'Growth Data'!$A:$F,3,0)),\"NO\",VLOOKUP($A205+8860000,'Growth Data'!$A:$F,3,0))","v":"NO"},0,null,0,{"$f":"IF(BM205=\"YES\",IF(ISERROR(VLOOKUP($A205+8860000,'Growth Data'!$A:$F,6,0)),0,VLOOKUP($A205+8860000,'Growth Data'!$A:$F,6,0)),0)","v":0},0,null,0,{"$f":"IF(ISERROR(VLOOKUP($A205+8860000,'Growth Data'!$A:$Z,7,0)),0,VLOOKUP($A205+8860000,'Growth Data'!$A:$Z,7,0))","v":0},0,null,"NO",{"$f":"IF(ISERROR(VLOOKUP($A205+8860000,'Growth Data'!$A:$F,4,0)),\"NO\",VLOOKUP($A205+8860000,'Growth Data'!$A:$F,4,0))","v":"NO"},0,null,0,{"$f":"IF(ISERROR(VLOOKUP($A205+8860000,'Growth Data'!$A:$Z,8,0)),0,VLOOKUP($A205+8860000,'Growth Data'!$A:$Z,8,0))","v":0},0,null,0,{"$f":"IF(ISERROR(VLOOKUP($A205+8860000,'Growth Data'!$A:$Z,9,0)),0,VLOOKUP($A205+8860000,'Growth Data'!$A:$Z,9,0))","v":0},0,null,"NO",{"$f":"IF(ISERROR(VLOOKUP($A205+8860000,'Growth Data'!$A:$Z,5,0)),\"NO\",VLOOKUP($A205+8860000,'Growth Data'!$A:$Z,5,0))","v":"NO"},0,null,0,{"$f":"IF(ISERROR(VLOOKUP($A205+8860000,'Growth Data'!$A:$Z,10,0)),0,VLOOKUP($A205+8860000,'Growth Data'!$A:$Z,10,0))","v":0},0,null,0,{"$f":"IF(ISERROR(VLOOKUP($A205+8860000,'Growth Data'!$A:$Z,11,0)),0,VLOOKUP($A205+8860000,'Growth Data'!$A:$Z,11,0))","v":0},0]
[3158,"Stelling Minnis CEP School",null,"Stelling Minnis CEP School","Stelling Minnis CEP School",0,null,438081.01,438081.00559174299,0,null,0,0,0,null,438081.01,438081.00559174299,0,null,2516.42,2516.4151291999997,0,null,null,null,0,null,0,0,0,null,21779.27,21779.266595232777,0,null,3822.07,3822.073340476722,0,null,0,null,0,null,0,null,0,null,0,null,0,null,0,null,0,null,0,null,0,null,0,null,0,null,"NO",{"$f":"IF(ISERROR(VLOOKUP($A206+8860000,'Growth Data'!$A:$F,3,0)),\"NO\",VLOOKUP($A206+8860000,'Growth Data'!$A:$F,3,0))","v":"NO"},0,null,0,{"$f":"IF(BM206=\"YES\",IF(ISERROR(VLOOKUP($A206+8860000,'Growth Data'!$A:$F,6,0)),0,VLOOKUP($A206+8860000,'Growth Data'!$A:$F,6,0)),0)","v":0},0,null,0,{"$f":"IF(ISERROR(VLOOKUP($A206+8860000,'Growth Data'!$A:$Z,7,0)),0,VLOOKUP($A206+8860000,'Growth Data'!$A:$Z,7,0))","v":0},0,null,"NO",{"$f":"IF(ISERROR(VLOOKUP($A206+8860000,'Growth Data'!$A:$F,4,0)),\"NO\",VLOOKUP($A206+8860000,'Growth Data'!$A:$F,4,0))","v":"NO"},0,null,0,{"$f":"IF(ISERROR(VLOOKUP($A206+8860000,'Growth Data'!$A:$Z,8,0)),0,VLOOKUP($A206+8860000,'Growth Data'!$A:$Z,8,0))","v":0},0,null,0,{"$f":"IF(ISERROR(VLOOKUP($A206+8860000,'Growth Data'!$A:$Z,9,0)),0,VLOOKUP($A206+8860000,'Growth Data'!$A:$Z,9,0))","v":0},0,null,"NO",{"$f":"IF(ISERROR(VLOOKUP($A206+8860000,'Growth Data'!$A:$Z,5,0)),\"NO\",VLOOKUP($A206+8860000,'Growth Data'!$A:$Z,5,0))","v":"NO"},0,null,0,{"$f":"IF(ISERROR(VLOOKUP($A206+8860000,'Growth Data'!$A:$Z,10,0)),0,VLOOKUP($A206+8860000,'Growth Data'!$A:$Z,10,0))","v":0},0,null,0,{"$f":"IF(ISERROR(VLOOKUP($A206+8860000,'Growth Data'!$A:$Z,11,0)),0,VLOOKUP($A206+8860000,'Growth Data'!$A:$Z,11,0))","v":0},0]
[3159,"Stowting CEP School",null,"Stowting CEP School","Stowting CEP School",0,null,413440.83,413440.82611912297,0,null,0,0,0,null,413440.83,413440.82611912297,0,null,2439.38,2439.3820129999999,0,null,null,null,0,null,0,0,0,null,24568.61,24568.607324622972,0,null,3543.14,3543.1392675377028,0,null,0,null,0,null,0,null,0,null,0,null,0,null,0,null,0,null,0,null,0,null,0,null,0,null,"NO",{"$f":"IF(ISERROR(VLOOKUP($A207+8860000,'Growth Data'!$A:$F,3,0)),\"NO\",VLOOKUP($A207+8860000,'Growth Data'!$A:$F,3,0))","v":"NO"},0,null,0,{"$f":"IF(BM207=\"YES\",IF(ISERROR(VLOOKUP($A207+8860000,'Growth Data'!$A:$F,6,0)),0,VLOOKUP($A207+8860000,'Growth Data'!$A:$F,6,0)),0)","v":0},0,null,0,{"$f":"IF(ISERROR(VLOOKUP($A207+8860000,'Growth Data'!$A:$Z,7,0)),0,VLOOKUP($A207+8860000,'Growth Data'!$A:$Z,7,0))","v":0},0,null,"NO",{"$f":"IF(ISERROR(VLOOKUP($A207+8860000,'Growth Data'!$A:$F,4,0)),\"NO\",VLOOKUP($A207+8860000,'Growth Data'!$A:$F,4,0))","v":"NO"},0,null,0,{"$f":"IF(ISERROR(VLOOKUP($A207+8860000,'Growth Data'!$A:$Z,8,0)),0,VLOOKUP($A207+8860000,'Growth Data'!$A:$Z,8,0))","v":0},0,null,0,{"$f":"IF(ISERROR(VLOOKUP($A207+8860000,'Growth Data'!$A:$Z,9,0)),0,VLOOKUP($A207+8860000,'Growth Data'!$A:$Z,9,0))","v":0},0,null,"NO",{"$f":"IF(ISERROR(VLOOKUP($A207+8860000,'Growth Data'!$A:$Z,5,0)),\"NO\",VLOOKUP($A207+8860000,'Growth Data'!$A:$Z,5,0))","v":"NO"},0,null,0,{"$f":"IF(ISERROR(VLOOKUP($A207+8860000,'Growth Data'!$A:$Z,10,0)),0,VLOOKUP($A207+8860000,'Growth Data'!$A:$Z,10,0))","v":0},0,null,0,{"$f":"IF(ISERROR(VLOOKUP($A207+8860000,'Growth Data'!$A:$Z,11,0)),0,VLOOKUP($A207+8860000,'Growth Data'!$A:$Z,11,0))","v":0},0]
[3160,"Selsted CEP School",null,"Selsted CEP School","Selsted CEP School",0,null,438091.69,438091.69163860311,0,null,0,0,0,null,438091.69,438091.69163860311,0,null,2465.06,2465.0597184000003,0,null,null,null,0,null,0,0,0,null,29761.71,29761.706131817595,0,null,3023.83,3023.8293868182404,0,null,0,null,0,null,0,null,0,null,0,null,0,null,0,null,0,null,0,null,0,null,0,null,0,null,"NO",{"$f":"IF(ISERROR(VLOOKUP($A208+8860000,'Growth Data'!$A:$F,3,0)),\"NO\",VLOOKUP($A208+8860000,'Growth Data'!$A:$F,3,0))","v":"NO"},0,null,0,{"$f":"IF(BM208=\"YES\",IF(ISERROR(VLOOKUP($A208+8860000,'Growth Data'!$A:$F,6,0)),0,VLOOKUP($A208+8860000,'Growth Data'!$A:$F,6,0)),0)","v":0},0,null,0,{"$f":"IF(ISERROR(VLOOKUP($A208+8860000,'Growth Data'!$A:$Z,7,0)),0,VLOOKUP($A208+8860000,'Growth Data'!$A:$Z,7,0))","v":0},0,null,"NO",{"$f":"IF(ISERROR(VLOOKUP($A208+8860000,'Growth Data'!$A:$F,4,0)),\"NO\",VLOOKUP($A208+8860000,'Growth Data'!$A:$F,4,0))","v":"NO"},0,null,0,{"$f":"IF(ISERROR(VLOOKUP($A208+8860000,'Growth Data'!$A:$Z,8,0)),0,VLOOKUP($A208+8860000,'Growth Data'!$A:$Z,8,0))","v":0},0,null,0,{"$f":"IF(ISERROR(VLOOKUP($A208+8860000,'Growth Data'!$A:$Z,9,0)),0,VLOOKUP($A208+8860000,'Growth Data'!$A:$Z,9,0))","v":0},0,null,"NO",{"$f":"IF(ISERROR(VLOOKUP($A208+8860000,'Growth Data'!$A:$Z,5,0)),\"NO\",VLOOKUP($A208+8860000,'Growth Data'!$A:$Z,5,0))","v":"NO"},0,null,0,{"$f":"IF(ISERROR(VLOOKUP($A208+8860000,'Growth Data'!$A:$Z,10,0)),0,VLOOKUP($A208+8860000,'Growth Data'!$A:$Z,10,0))","v":0},0,null,0,{"$f":"IF(ISERROR(VLOOKUP($A208+8860000,'Growth Data'!$A:$Z,11,0)),0,VLOOKUP($A208+8860000,'Growth Data'!$A:$Z,11,0))","v":0},0]
[3163,"Downs CEP School, The",null,"Downs CEP School, The","Downs CEP School, The",0,null,1427515.99,1427515.9884731227,0,null,0,0,0,null,1427515.99,1427515.9884731227,0,null,10194.049999999999,10194.049043799996,0,null,null,null,0,null,0,0,0,null,161204.32999999999,161204.33430242277,0,null,0,0,0,null,0,null,0,null,0,null,0,null,0,null,0,null,0,null,0,null,0,null,0,null,0,null,0,null,"NO",{"$f":"IF(ISERROR(VLOOKUP($A209+8860000,'Growth Data'!$A:$F,3,0)),\"NO\",VLOOKUP($A209+8860000,'Growth Data'!$A:$F,3,0))","v":"NO"},0,null,0,{"$f":"IF(BM209=\"YES\",IF(ISERROR(VLOOKUP($A209+8860000,'Growth Data'!$A:$F,6,0)),0,VLOOKUP($A209+8860000,'Growth Data'!$A:$F,6,0)),0)","v":0},0,null,0,{"$f":"IF(ISERROR(VLOOKUP($A209+8860000,'Growth Data'!$A:$Z,7,0)),0,VLOOKUP($A209+8860000,'Growth Data'!$A:$Z,7,0))","v":0},0,null,"NO",{"$f":"IF(ISERROR(VLOOKUP($A209+8860000,'Growth Data'!$A:$F,4,0)),\"NO\",VLOOKUP($A209+8860000,'Growth Data'!$A:$F,4,0))","v":"NO"},0,null,0,{"$f":"IF(ISERROR(VLOOKUP($A209+8860000,'Growth Data'!$A:$Z,8,0)),0,VLOOKUP($A209+8860000,'Growth Data'!$A:$Z,8,0))","v":0},0,null,0,{"$f":"IF(ISERROR(VLOOKUP($A209+8860000,'Growth Data'!$A:$Z,9,0)),0,VLOOKUP($A209+8860000,'Growth Data'!$A:$Z,9,0))","v":0},0,null,"NO",{"$f":"IF(ISERROR(VLOOKUP($A209+8860000,'Growth Data'!$A:$Z,5,0)),\"NO\",VLOOKUP($A209+8860000,'Growth Data'!$A:$Z,5,0))","v":"NO"},0,null,0,{"$f":"IF(ISERROR(VLOOKUP($A209+8860000,'Growth Data'!$A:$Z,10,0)),0,VLOOKUP($A209+8860000,'Growth Data'!$A:$Z,10,0))","v":0},0,null,0,{"$f":"IF(ISERROR(VLOOKUP($A209+8860000,'Growth Data'!$A:$Z,11,0)),0,VLOOKUP($A209+8860000,'Growth Data'!$A:$Z,11,0))","v":0},0]
[3167,"Eastry CEP School",null,"Eastry CEP School","Eastry CEP School",0,null,780014.94,780014.93893740675,0,null,0,0,0,null,780014.94,780014.93893740675,0,null,5495.03,5495.0289556000007,0,null,null,null,0,null,0,0,0,null,57295.98,57295.979194006693,0,null,270.39999999999998,270.40208059933047,0,null,0,null,0,null,0,null,0,null,0,null,0,null,0,null,0,null,0,null,0,null,0,null,0,null,"NO",{"$f":"IF(ISERROR(VLOOKUP($A210+8860000,'Growth Data'!$A:$F,3,0)),\"NO\",VLOOKUP($A210+8860000,'Growth Data'!$A:$F,3,0))","v":"NO"},0,null,0,{"$f":"IF(BM210=\"YES\",IF(ISERROR(VLOOKUP($A210+8860000,'Growth Data'!$A:$F,6,0)),0,VLOOKUP($A210+8860000,'Growth Data'!$A:$F,6,0)),0)","v":0},0,null,0,{"$f":"IF(ISERROR(VLOOKUP($A210+8860000,'Growth Data'!$A:$Z,7,0)),0,VLOOKUP($A210+8860000,'Growth Data'!$A:$Z,7,0))","v":0},0,null,"NO",{"$f":"IF(ISERROR(VLOOKUP($A210+8860000,'Growth Data'!$A:$F,4,0)),\"NO\",VLOOKUP($A210+8860000,'Growth Data'!$A:$F,4,0))","v":"NO"},0,null,0,{"$f":"IF(ISERROR(VLOOKUP($A210+8860000,'Growth Data'!$A:$Z,8,0)),0,VLOOKUP($A210+8860000,'Growth Data'!$A:$Z,8,0))","v":0},0,null,0,{"$f":"IF(ISERROR(VLOOKUP($A210+8860000,'Growth Data'!$A:$Z,9,0)),0,VLOOKUP($A210+8860000,'Growth Data'!$A:$Z,9,0))","v":0},0,null,"NO",{"$f":"IF(ISERROR(VLOOKUP($A210+8860000,'Growth Data'!$A:$Z,5,0)),\"NO\",VLOOKUP($A210+8860000,'Growth Data'!$A:$Z,5,0))","v":"NO"},0,null,0,{"$f":"IF(ISERROR(VLOOKUP($A210+8860000,'Growth Data'!$A:$Z,10,0)),0,VLOOKUP($A210+8860000,'Growth Data'!$A:$Z,10,0))","v":0},0,null,0,{"$f":"IF(ISERROR(VLOOKUP($A210+8860000,'Growth Data'!$A:$Z,11,0)),0,VLOOKUP($A210+8860000,'Growth Data'!$A:$Z,11,0))","v":0},0]
[3168,"Goodnestone CEP School",null,"Goodnestone CEP School","Goodnestone CEP School",0,null,305439.61,305439.60585265449,0,null,0,0,0,null,305439.61,305439.60585265449,0,null,1489.31,1489.3069132000001,0,null,null,null,0,null,0,0,0,null,27669.24,27669.236912854503,0,null,3233.08,3233.0763087145497,0,null,0,null,0,null,0,null,0,null,0,null,0,null,0,null,0,null,0,null,0,null,0,null,0,null,"NO",{"$f":"IF(ISERROR(VLOOKUP($A211+8860000,'Growth Data'!$A:$F,3,0)),\"NO\",VLOOKUP($A211+8860000,'Growth Data'!$A:$F,3,0))","v":"NO"},0,null,0,{"$f":"IF(BM211=\"YES\",IF(ISERROR(VLOOKUP($A211+8860000,'Growth Data'!$A:$F,6,0)),0,VLOOKUP($A211+8860000,'Growth Data'!$A:$F,6,0)),0)","v":0},0,null,0,{"$f":"IF(ISERROR(VLOOKUP($A211+8860000,'Growth Data'!$A:$Z,7,0)),0,VLOOKUP($A211+8860000,'Growth Data'!$A:$Z,7,0))","v":0},0,null,"NO",{"$f":"IF(ISERROR(VLOOKUP($A211+8860000,'Growth Data'!$A:$F,4,0)),\"NO\",VLOOKUP($A211+8860000,'Growth Data'!$A:$F,4,0))","v":"NO"},0,null,0,{"$f":"IF(ISERROR(VLOOKUP($A211+8860000,'Growth Data'!$A:$Z,8,0)),0,VLOOKUP($A211+8860000,'Growth Data'!$A:$Z,8,0))","v":0},0,null,0,{"$f":"IF(ISERROR(VLOOKUP($A211+8860000,'Growth Data'!$A:$Z,9,0)),0,VLOOKUP($A211+8860000,'Growth Data'!$A:$Z,9,0))","v":0},0,null,"NO",{"$f":"IF(ISERROR(VLOOKUP($A211+8860000,'Growth Data'!$A:$Z,5,0)),\"NO\",VLOOKUP($A211+8860000,'Growth Data'!$A:$Z,5,0))","v":"NO"},0,null,0,{"$f":"IF(ISERROR(VLOOKUP($A211+8860000,'Growth Data'!$A:$Z,10,0)),0,VLOOKUP($A211+8860000,'Growth Data'!$A:$Z,10,0))","v":0},0,null,0,{"$f":"IF(ISERROR(VLOOKUP($A211+8860000,'Growth Data'!$A:$Z,11,0)),0,VLOOKUP($A211+8860000,'Growth Data'!$A:$Z,11,0))","v":0},0]
[3169,"Guston CEP School",null,"Guston CEP School","Guston CEP School",0,null,612368.5,612368.49692982552,0,null,27345.77,27345.765854373807,0,null,639714.26,639714.26278419932,0,null,3800.3,3800.3003991999994,0,null,null,null,0,null,0,0,0,null,70623.53,70623.529111025447,0,null,0,0,0,null,0,null,0,null,0,null,0,null,0,null,0,null,0,null,0,null,0,null,0,null,0,null,0,null,"NO",{"$f":"IF(ISERROR(VLOOKUP($A212+8860000,'Growth Data'!$A:$F,3,0)),\"NO\",VLOOKUP($A212+8860000,'Growth Data'!$A:$F,3,0))","v":"NO"},0,null,0,{"$f":"IF(BM212=\"YES\",IF(ISERROR(VLOOKUP($A212+8860000,'Growth Data'!$A:$F,6,0)),0,VLOOKUP($A212+8860000,'Growth Data'!$A:$F,6,0)),0)","v":0},0,null,0,{"$f":"IF(ISERROR(VLOOKUP($A212+8860000,'Growth Data'!$A:$Z,7,0)),0,VLOOKUP($A212+8860000,'Growth Data'!$A:$Z,7,0))","v":0},0,null,"NO",{"$f":"IF(ISERROR(VLOOKUP($A212+8860000,'Growth Data'!$A:$F,4,0)),\"NO\",VLOOKUP($A212+8860000,'Growth Data'!$A:$F,4,0))","v":"NO"},0,null,0,{"$f":"IF(ISERROR(VLOOKUP($A212+8860000,'Growth Data'!$A:$Z,8,0)),0,VLOOKUP($A212+8860000,'Growth Data'!$A:$Z,8,0))","v":0},0,null,0,{"$f":"IF(ISERROR(VLOOKUP($A212+8860000,'Growth Data'!$A:$Z,9,0)),0,VLOOKUP($A212+8860000,'Growth Data'!$A:$Z,9,0))","v":0},0,null,"NO",{"$f":"IF(ISERROR(VLOOKUP($A212+8860000,'Growth Data'!$A:$Z,5,0)),\"NO\",VLOOKUP($A212+8860000,'Growth Data'!$A:$Z,5,0))","v":"NO"},0,null,0,{"$f":"IF(ISERROR(VLOOKUP($A212+8860000,'Growth Data'!$A:$Z,10,0)),0,VLOOKUP($A212+8860000,'Growth Data'!$A:$Z,10,0))","v":0},0,null,0,{"$f":"IF(ISERROR(VLOOKUP($A212+8860000,'Growth Data'!$A:$Z,11,0)),0,VLOOKUP($A212+8860000,'Growth Data'!$A:$Z,11,0))","v":0},0]
[3171,"Nonington CEP School",null,"Nonington CEP School","Nonington CEP School",0,null,351207.27,351207.27417827002,0,null,3896.33,3896.3270079864888,0,null,355103.6,355103.60118625651,0,null,1720.41,1720.4062618,0,null,null,null,0,null,0,0,0,null,41493.03,41493.025630570017,0,null,1850.7,1850.6974369429981,0,null,0,null,0,null,0,null,0,null,0,null,0,null,0,null,0,null,0,null,0,null,0,null,0,null,"NO",{"$f":"IF(ISERROR(VLOOKUP($A213+8860000,'Growth Data'!$A:$F,3,0)),\"NO\",VLOOKUP($A213+8860000,'Growth Data'!$A:$F,3,0))","v":"NO"},0,null,0,{"$f":"IF(BM213=\"YES\",IF(ISERROR(VLOOKUP($A213+8860000,'Growth Data'!$A:$F,6,0)),0,VLOOKUP($A213+8860000,'Growth Data'!$A:$F,6,0)),0)","v":0},0,null,0,{"$f":"IF(ISERROR(VLOOKUP($A213+8860000,'Growth Data'!$A:$Z,7,0)),0,VLOOKUP($A213+8860000,'Growth Data'!$A:$Z,7,0))","v":0},0,null,"NO",{"$f":"IF(ISERROR(VLOOKUP($A213+8860000,'Growth Data'!$A:$F,4,0)),\"NO\",VLOOKUP($A213+8860000,'Growth Data'!$A:$F,4,0))","v":"NO"},0,null,0,{"$f":"IF(ISERROR(VLOOKUP($A213+8860000,'Growth Data'!$A:$Z,8,0)),0,VLOOKUP($A213+8860000,'Growth Data'!$A:$Z,8,0))","v":0},0,null,0,{"$f":"IF(ISERROR(VLOOKUP($A213+8860000,'Growth Data'!$A:$Z,9,0)),0,VLOOKUP($A213+8860000,'Growth Data'!$A:$Z,9,0))","v":0},0,null,"NO",{"$f":"IF(ISERROR(VLOOKUP($A213+8860000,'Growth Data'!$A:$Z,5,0)),\"NO\",VLOOKUP($A213+8860000,'Growth Data'!$A:$Z,5,0))","v":"NO"},0,null,0,{"$f":"IF(ISERROR(VLOOKUP($A213+8860000,'Growth Data'!$A:$Z,10,0)),0,VLOOKUP($A213+8860000,'Growth Data'!$A:$Z,10,0))","v":0},0,null,0,{"$f":"IF(ISERROR(VLOOKUP($A213+8860000,'Growth Data'!$A:$Z,11,0)),0,VLOOKUP($A213+8860000,'Growth Data'!$A:$Z,11,0))","v":0},0]
[3172,"Northbourne CEP School",null,"Northbourne CEP School","Northbourne CEP School",0,null,493002.97,493002.969447607,0,null,0,0,0,null,493002.97,493002.969447607,0,null,3132.68,3132.6800587999996,0,null,null,null,0,null,0,0,0,null,23737.02,23737.022629406994,0,null,3626.3,3626.2977370593003,0,null,0,null,0,null,0,null,0,null,0,null,0,null,0,null,0,null,0,null,0,null,0,null,0,null,"NO",{"$f":"IF(ISERROR(VLOOKUP($A214+8860000,'Growth Data'!$A:$F,3,0)),\"NO\",VLOOKUP($A214+8860000,'Growth Data'!$A:$F,3,0))","v":"NO"},0,null,0,{"$f":"IF(BM214=\"YES\",IF(ISERROR(VLOOKUP($A214+8860000,'Growth Data'!$A:$F,6,0)),0,VLOOKUP($A214+8860000,'Growth Data'!$A:$F,6,0)),0)","v":0},0,null,0,{"$f":"IF(ISERROR(VLOOKUP($A214+8860000,'Growth Data'!$A:$Z,7,0)),0,VLOOKUP($A214+8860000,'Growth Data'!$A:$Z,7,0))","v":0},0,null,"NO",{"$f":"IF(ISERROR(VLOOKUP($A214+8860000,'Growth Data'!$A:$F,4,0)),\"NO\",VLOOKUP($A214+8860000,'Growth Data'!$A:$F,4,0))","v":"NO"},0,null,0,{"$f":"IF(ISERROR(VLOOKUP($A214+8860000,'Growth Data'!$A:$Z,8,0)),0,VLOOKUP($A214+8860000,'Growth Data'!$A:$Z,8,0))","v":0},0,null,0,{"$f":"IF(ISERROR(VLOOKUP($A214+8860000,'Growth Data'!$A:$Z,9,0)),0,VLOOKUP($A214+8860000,'Growth Data'!$A:$Z,9,0))","v":0},0,null,"NO",{"$f":"IF(ISERROR(VLOOKUP($A214+8860000,'Growth Data'!$A:$Z,5,0)),\"NO\",VLOOKUP($A214+8860000,'Growth Data'!$A:$Z,5,0))","v":"NO"},0,null,0,{"$f":"IF(ISERROR(VLOOKUP($A214+8860000,'Growth Data'!$A:$Z,10,0)),0,VLOOKUP($A214+8860000,'Growth Data'!$A:$Z,10,0))","v":0},0,null,0,{"$f":"IF(ISERROR(VLOOKUP($A214+8860000,'Growth Data'!$A:$Z,11,0)),0,VLOOKUP($A214+8860000,'Growth Data'!$A:$Z,11,0))","v":0},0]
[3173,"Kingsdown & Ringwould CEP School",null,"Kingsdown & Ringwould CEP School","Kingsdown & Ringwould CEP School",0,null,785820.69,785820.68763890001,0,null,0,0,0,null,785820.69,785820.68763890001,0,null,5623.42,5623.4174826000008,0,null,null,null,0,null,0,0,0,null,42241.52,42241.515179999915,0,null,1775.85,1775.8484820000085,0,null,0,null,0,null,0,null,0,null,0,null,0,null,0,null,0,null,0,null,0,null,0,null,0,null,"NO",{"$f":"IF(ISERROR(VLOOKUP($A215+8860000,'Growth Data'!$A:$F,3,0)),\"NO\",VLOOKUP($A215+8860000,'Growth Data'!$A:$F,3,0))","v":"NO"},0,null,0,{"$f":"IF(BM215=\"YES\",IF(ISERROR(VLOOKUP($A215+8860000,'Growth Data'!$A:$F,6,0)),0,VLOOKUP($A215+8860000,'Growth Data'!$A:$F,6,0)),0)","v":0},0,null,0,{"$f":"IF(ISERROR(VLOOKUP($A215+8860000,'Growth Data'!$A:$Z,7,0)),0,VLOOKUP($A215+8860000,'Growth Data'!$A:$Z,7,0))","v":0},0,null,"NO",{"$f":"IF(ISERROR(VLOOKUP($A215+8860000,'Growth Data'!$A:$F,4,0)),\"NO\",VLOOKUP($A215+8860000,'Growth Data'!$A:$F,4,0))","v":"NO"},0,null,0,{"$f":"IF(ISERROR(VLOOKUP($A215+8860000,'Growth Data'!$A:$Z,8,0)),0,VLOOKUP($A215+8860000,'Growth Data'!$A:$Z,8,0))","v":0},0,null,0,{"$f":"IF(ISERROR(VLOOKUP($A215+8860000,'Growth Data'!$A:$Z,9,0)),0,VLOOKUP($A215+8860000,'Growth Data'!$A:$Z,9,0))","v":0},0,null,"NO",{"$f":"IF(ISERROR(VLOOKUP($A215+8860000,'Growth Data'!$A:$Z,5,0)),\"NO\",VLOOKUP($A215+8860000,'Growth Data'!$A:$Z,5,0))","v":"NO"},0,null,0,{"$f":"IF(ISERROR(VLOOKUP($A215+8860000,'Growth Data'!$A:$Z,10,0)),0,VLOOKUP($A215+8860000,'Growth Data'!$A:$Z,10,0))","v":0},0,null,0,{"$f":"IF(ISERROR(VLOOKUP($A215+8860000,'Growth Data'!$A:$Z,11,0)),0,VLOOKUP($A215+8860000,'Growth Data'!$A:$Z,11,0))","v":0},0]
[3175,"Sibertswold CEP School",null,"Sibertswold CEP School","Sibertswold CEP School",0,null,760767.64,760767.63577334874,0,null,3769.62,3769.6164022543235,0,null,764537.25,764537.25217560306,0,null,5340.96,5340.9627231999993,0,null,null,null,0,null,0,0,0,null,45500.24,45500.238968548627,0,null,1449.98,1449.9761031451371,0,null,0,null,0,null,0,null,0,null,0,null,0,null,0,null,0,null,0,null,0,null,0,null,0,null,"NO",{"$f":"IF(ISERROR(VLOOKUP($A216+8860000,'Growth Data'!$A:$F,3,0)),\"NO\",VLOOKUP($A216+8860000,'Growth Data'!$A:$F,3,0))","v":"NO"},0,null,0,{"$f":"IF(BM216=\"YES\",IF(ISERROR(VLOOKUP($A216+8860000,'Growth Data'!$A:$F,6,0)),0,VLOOKUP($A216+8860000,'Growth Data'!$A:$F,6,0)),0)","v":0},0,null,0,{"$f":"IF(ISERROR(VLOOKUP($A216+8860000,'Growth Data'!$A:$Z,7,0)),0,VLOOKUP($A216+8860000,'Growth Data'!$A:$Z,7,0))","v":0},0,null,"NO",{"$f":"IF(ISERROR(VLOOKUP($A216+8860000,'Growth Data'!$A:$F,4,0)),\"NO\",VLOOKUP($A216+8860000,'Growth Data'!$A:$F,4,0))","v":"NO"},0,null,0,{"$f":"IF(ISERROR(VLOOKUP($A216+8860000,'Growth Data'!$A:$Z,8,0)),0,VLOOKUP($A216+8860000,'Growth Data'!$A:$Z,8,0))","v":0},0,null,0,{"$f":"IF(ISERROR(VLOOKUP($A216+8860000,'Growth Data'!$A:$Z,9,0)),0,VLOOKUP($A216+8860000,'Growth Data'!$A:$Z,9,0))","v":0},0,null,"NO",{"$f":"IF(ISERROR(VLOOKUP($A216+8860000,'Growth Data'!$A:$Z,5,0)),\"NO\",VLOOKUP($A216+8860000,'Growth Data'!$A:$Z,5,0))","v":"NO"},0,null,0,{"$f":"IF(ISERROR(VLOOKUP($A216+8860000,'Growth Data'!$A:$Z,10,0)),0,VLOOKUP($A216+8860000,'Growth Data'!$A:$Z,10,0))","v":0},0,null,0,{"$f":"IF(ISERROR(VLOOKUP($A216+8860000,'Growth Data'!$A:$Z,11,0)),0,VLOOKUP($A216+8860000,'Growth Data'!$A:$Z,11,0))","v":0},0]
[3178,"Birchington CEP School",null,"Birchington CEP School","Birchington CEP School",0,null,1602709.79,1602709.7902059609,0,null,0,0,0,null,1602709.79,1602709.7902059609,0,null,11709.03,11709.033662400001,0,null,null,null,0,null,0,0,0,null,168702.84,168702.84287236066,0,null,0,0,0,null,0,null,0,null,0,null,0,null,0,null,0,null,0,null,0,null,0,null,0,null,0,null,0,null,"NO",{"$f":"IF(ISERROR(VLOOKUP($A217+8860000,'Growth Data'!$A:$F,3,0)),\"NO\",VLOOKUP($A217+8860000,'Growth Data'!$A:$F,3,0))","v":"NO"},0,null,0,{"$f":"IF(BM217=\"YES\",IF(ISERROR(VLOOKUP($A217+8860000,'Growth Data'!$A:$F,6,0)),0,VLOOKUP($A217+8860000,'Growth Data'!$A:$F,6,0)),0)","v":0},0,null,0,{"$f":"IF(ISERROR(VLOOKUP($A217+8860000,'Growth Data'!$A:$Z,7,0)),0,VLOOKUP($A217+8860000,'Growth Data'!$A:$Z,7,0))","v":0},0,null,"YES",{"$f":"IF(ISERROR(VLOOKUP($A217+8860000,'Growth Data'!$A:$F,4,0)),\"NO\",VLOOKUP($A217+8860000,'Growth Data'!$A:$F,4,0))","v":"YES"},0,null,61,{"$f":"IF(ISERROR(VLOOKUP($A217+8860000,'Growth Data'!$A:$Z,8,0)),0,VLOOKUP($A217+8860000,'Growth Data'!$A:$Z,8,0))","v":61},0,null,90,{"$f":"IF(ISERROR(VLOOKUP($A217+8860000,'Growth Data'!$A:$Z,9,0)),0,VLOOKUP($A217+8860000,'Growth Data'!$A:$Z,9,0))","v":90},0,null,"YES",{"$f":"IF(ISERROR(VLOOKUP($A217+8860000,'Growth Data'!$A:$Z,5,0)),\"NO\",VLOOKUP($A217+8860000,'Growth Data'!$A:$Z,5,0))","v":"YES"},0,null,63,{"$f":"IF(ISERROR(VLOOKUP($A217+8860000,'Growth Data'!$A:$Z,10,0)),0,VLOOKUP($A217+8860000,'Growth Data'!$A:$Z,10,0))","v":63},0,null,90,{"$f":"IF(ISERROR(VLOOKUP($A217+8860000,'Growth Data'!$A:$Z,11,0)),0,VLOOKUP($A217+8860000,'Growth Data'!$A:$Z,11,0))","v":90},0]
[3179,"Holy Trinity & St John's CEP School, Margate",null,"Holy Trinity & St John's CEP School, Margate","Holy Trinity & St John's CEP School, Margate",0,null,1655125.36,1655125.3595414944,0,null,0,0,0,null,1655125.36,1655125.3595414944,0,null,10425.15,10425.148392400002,0,null,null,null,0,null,4.9000000000000004,4.9000000000000004,0,null,349999.11,349999.11056289426,0,null,0,0,0,null,0,null,0,null,0,null,0,null,0,null,0,null,0,null,0,null,0,null,0,null,0,null,0,null,"NO",{"$f":"IF(ISERROR(VLOOKUP($A218+8860000,'Growth Data'!$A:$F,3,0)),\"NO\",VLOOKUP($A218+8860000,'Growth Data'!$A:$F,3,0))","v":"NO"},0,null,0,{"$f":"IF(BM218=\"YES\",IF(ISERROR(VLOOKUP($A218+8860000,'Growth Data'!$A:$F,6,0)),0,VLOOKUP($A218+8860000,'Growth Data'!$A:$F,6,0)),0)","v":0},0,null,0,{"$f":"IF(ISERROR(VLOOKUP($A218+8860000,'Growth Data'!$A:$Z,7,0)),0,VLOOKUP($A218+8860000,'Growth Data'!$A:$Z,7,0))","v":0},0,null,"NO",{"$f":"IF(ISERROR(VLOOKUP($A218+8860000,'Growth Data'!$A:$F,4,0)),\"NO\",VLOOKUP($A218+8860000,'Growth Data'!$A:$F,4,0))","v":"NO"},0,null,0,{"$f":"IF(ISERROR(VLOOKUP($A218+8860000,'Growth Data'!$A:$Z,8,0)),0,VLOOKUP($A218+8860000,'Growth Data'!$A:$Z,8,0))","v":0},0,null,0,{"$f":"IF(ISERROR(VLOOKUP($A218+8860000,'Growth Data'!$A:$Z,9,0)),0,VLOOKUP($A218+8860000,'Growth Data'!$A:$Z,9,0))","v":0},0,null,"NO",{"$f":"IF(ISERROR(VLOOKUP($A218+8860000,'Growth Data'!$A:$Z,5,0)),\"NO\",VLOOKUP($A218+8860000,'Growth Data'!$A:$Z,5,0))","v":"NO"},0,null,0,{"$f":"IF(ISERROR(VLOOKUP($A218+8860000,'Growth Data'!$A:$Z,10,0)),0,VLOOKUP($A218+8860000,'Growth Data'!$A:$Z,10,0))","v":0},0,null,0,{"$f":"IF(ISERROR(VLOOKUP($A218+8860000,'Growth Data'!$A:$Z,11,0)),0,VLOOKUP($A218+8860000,'Growth Data'!$A:$Z,11,0))","v":0},0]
[3181,"St Saviour's CEJ School",null,"St Saviour's CEJ School","St Saviour's CEJ School",0,null,1360953.27,1360953.2682244584,0,null,0,0,0,null,1360953.27,1360953.2682244584,0,null,9860.24,9860.2388736000012,0,null,null,null,0,null,0,0,0,null,129596.05,129596.0541540585,0,null,0,0,0,null,0,null,0,null,0,null,0,null,0,null,0,null,0,null,0,null,0,null,0,null,0,null,0,null,"NO",{"$f":"IF(ISERROR(VLOOKUP($A219+8860000,'Growth Data'!$A:$F,3,0)),\"NO\",VLOOKUP($A219+8860000,'Growth Data'!$A:$F,3,0))","v":"NO"},0,null,0,{"$f":"IF(BM219=\"YES\",IF(ISERROR(VLOOKUP($A219+8860000,'Growth Data'!$A:$F,6,0)),0,VLOOKUP($A219+8860000,'Growth Data'!$A:$F,6,0)),0)","v":0},0,null,0,{"$f":"IF(ISERROR(VLOOKUP($A219+8860000,'Growth Data'!$A:$Z,7,0)),0,VLOOKUP($A219+8860000,'Growth Data'!$A:$Z,7,0))","v":0},0,null,"NO",{"$f":"IF(ISERROR(VLOOKUP($A219+8860000,'Growth Data'!$A:$F,4,0)),\"NO\",VLOOKUP($A219+8860000,'Growth Data'!$A:$F,4,0))","v":"NO"},0,null,0,{"$f":"IF(ISERROR(VLOOKUP($A219+8860000,'Growth Data'!$A:$Z,8,0)),0,VLOOKUP($A219+8860000,'Growth Data'!$A:$Z,8,0))","v":0},0,null,0,{"$f":"IF(ISERROR(VLOOKUP($A219+8860000,'Growth Data'!$A:$Z,9,0)),0,VLOOKUP($A219+8860000,'Growth Data'!$A:$Z,9,0))","v":0},0,null,"NO",{"$f":"IF(ISERROR(VLOOKUP($A219+8860000,'Growth Data'!$A:$Z,5,0)),\"NO\",VLOOKUP($A219+8860000,'Growth Data'!$A:$Z,5,0))","v":"NO"},0,null,0,{"$f":"IF(ISERROR(VLOOKUP($A219+8860000,'Growth Data'!$A:$Z,10,0)),0,VLOOKUP($A219+8860000,'Growth Data'!$A:$Z,10,0))","v":0},0,null,0,{"$f":"IF(ISERROR(VLOOKUP($A219+8860000,'Growth Data'!$A:$Z,11,0)),0,VLOOKUP($A219+8860000,'Growth Data'!$A:$Z,11,0))","v":0},0]
[3182,"Minster CEP School",null,"Minster CEP School","Minster CEP School",0,null,1392584.45,1392584.4476898208,0,null,0,0,0,null,1392584.45,1392584.4476898208,0,null,10450.83,10450.826097800002,0,null,null,null,0,null,0,0,0,null,110318.35,110318.35088812068,0,null,0,0,0,null,0,null,0,null,0,null,0,null,0,null,0,null,0,null,0,null,0,null,0,null,0,null,0,null,"NO",{"$f":"IF(ISERROR(VLOOKUP($A220+8860000,'Growth Data'!$A:$F,3,0)),\"NO\",VLOOKUP($A220+8860000,'Growth Data'!$A:$F,3,0))","v":"NO"},0,null,0,{"$f":"IF(BM220=\"YES\",IF(ISERROR(VLOOKUP($A220+8860000,'Growth Data'!$A:$F,6,0)),0,VLOOKUP($A220+8860000,'Growth Data'!$A:$F,6,0)),0)","v":0},0,null,0,{"$f":"IF(ISERROR(VLOOKUP($A220+8860000,'Growth Data'!$A:$Z,7,0)),0,VLOOKUP($A220+8860000,'Growth Data'!$A:$Z,7,0))","v":0},0,null,"NO",{"$f":"IF(ISERROR(VLOOKUP($A220+8860000,'Growth Data'!$A:$F,4,0)),\"NO\",VLOOKUP($A220+8860000,'Growth Data'!$A:$F,4,0))","v":"NO"},0,null,0,{"$f":"IF(ISERROR(VLOOKUP($A220+8860000,'Growth Data'!$A:$Z,8,0)),0,VLOOKUP($A220+8860000,'Growth Data'!$A:$Z,8,0))","v":0},0,null,0,{"$f":"IF(ISERROR(VLOOKUP($A220+8860000,'Growth Data'!$A:$Z,9,0)),0,VLOOKUP($A220+8860000,'Growth Data'!$A:$Z,9,0))","v":0},0,null,"NO",{"$f":"IF(ISERROR(VLOOKUP($A220+8860000,'Growth Data'!$A:$Z,5,0)),\"NO\",VLOOKUP($A220+8860000,'Growth Data'!$A:$Z,5,0))","v":"NO"},0,null,0,{"$f":"IF(ISERROR(VLOOKUP($A220+8860000,'Growth Data'!$A:$Z,10,0)),0,VLOOKUP($A220+8860000,'Growth Data'!$A:$Z,10,0))","v":0},0,null,0,{"$f":"IF(ISERROR(VLOOKUP($A220+8860000,'Growth Data'!$A:$Z,11,0)),0,VLOOKUP($A220+8860000,'Growth Data'!$A:$Z,11,0))","v":0},0]
[3183,"Monkton CEP School",null,"Monkton CEP School","Monkton CEP School",0,null,458675.71,458675.70516648953,0,null,0,0,0,null,458675.71,458675.70516648953,0,null,2721.84,2721.8367724,0,null,null,null,0,null,0,0,0,null,30683.01,30683.014317889512,0,null,2931.7,2931.6985682110485,0,null,0,null,0,null,0,null,0,null,0,null,0,null,0,null,0,null,0,null,0,null,0,null,0,null,"NO",{"$f":"IF(ISERROR(VLOOKUP($A221+8860000,'Growth Data'!$A:$F,3,0)),\"NO\",VLOOKUP($A221+8860000,'Growth Data'!$A:$F,3,0))","v":"NO"},0,null,0,{"$f":"IF(BM221=\"YES\",IF(ISERROR(VLOOKUP($A221+8860000,'Growth Data'!$A:$F,6,0)),0,VLOOKUP($A221+8860000,'Growth Data'!$A:$F,6,0)),0)","v":0},0,null,0,{"$f":"IF(ISERROR(VLOOKUP($A221+8860000,'Growth Data'!$A:$Z,7,0)),0,VLOOKUP($A221+8860000,'Growth Data'!$A:$Z,7,0))","v":0},0,null,"NO",{"$f":"IF(ISERROR(VLOOKUP($A221+8860000,'Growth Data'!$A:$F,4,0)),\"NO\",VLOOKUP($A221+8860000,'Growth Data'!$A:$F,4,0))","v":"NO"},0,null,0,{"$f":"IF(ISERROR(VLOOKUP($A221+8860000,'Growth Data'!$A:$Z,8,0)),0,VLOOKUP($A221+8860000,'Growth Data'!$A:$Z,8,0))","v":0},0,null,0,{"$f":"IF(ISERROR(VLOOKUP($A221+8860000,'Growth Data'!$A:$Z,9,0)),0,VLOOKUP($A221+8860000,'Growth Data'!$A:$Z,9,0))","v":0},0,null,"NO",{"$f":"IF(ISERROR(VLOOKUP($A221+8860000,'Growth Data'!$A:$Z,5,0)),\"NO\",VLOOKUP($A221+8860000,'Growth Data'!$A:$Z,5,0))","v":"NO"},0,null,0,{"$f":"IF(ISERROR(VLOOKUP($A221+8860000,'Growth Data'!$A:$Z,10,0)),0,VLOOKUP($A221+8860000,'Growth Data'!$A:$Z,10,0))","v":0},0,null,0,{"$f":"IF(ISERROR(VLOOKUP($A221+8860000,'Growth Data'!$A:$Z,11,0)),0,VLOOKUP($A221+8860000,'Growth Data'!$A:$Z,11,0))","v":0},0]
[3186,"St Nicholas at Wade CEP School",null,"St Nicholas at Wade CEP School","St Nicholas at Wade CEP School",0,null,749157.71,749157.71380216535,0,null,0,0,0,null,749157.71,749157.71380216535,0,null,5366.64,5366.6404285999988,0,null,null,null,0,null,0,0,0,null,43870.13,43870.127974265371,0,null,1612.99,1612.987202573463,0,null,0,null,0,null,0,null,0,null,0,null,0,null,0,null,0,null,0,null,0,null,0,null,0,null,"NO",{"$f":"IF(ISERROR(VLOOKUP($A222+8860000,'Growth Data'!$A:$F,3,0)),\"NO\",VLOOKUP($A222+8860000,'Growth Data'!$A:$F,3,0))","v":"NO"},0,null,0,{"$f":"IF(BM222=\"YES\",IF(ISERROR(VLOOKUP($A222+8860000,'Growth Data'!$A:$F,6,0)),0,VLOOKUP($A222+8860000,'Growth Data'!$A:$F,6,0)),0)","v":0},0,null,0,{"$f":"IF(ISERROR(VLOOKUP($A222+8860000,'Growth Data'!$A:$Z,7,0)),0,VLOOKUP($A222+8860000,'Growth Data'!$A:$Z,7,0))","v":0},0,null,"NO",{"$f":"IF(ISERROR(VLOOKUP($A222+8860000,'Growth Data'!$A:$F,4,0)),\"NO\",VLOOKUP($A222+8860000,'Growth Data'!$A:$F,4,0))","v":"NO"},0,null,0,{"$f":"IF(ISERROR(VLOOKUP($A222+8860000,'Growth Data'!$A:$Z,8,0)),0,VLOOKUP($A222+8860000,'Growth Data'!$A:$Z,8,0))","v":0},0,null,0,{"$f":"IF(ISERROR(VLOOKUP($A222+8860000,'Growth Data'!$A:$Z,9,0)),0,VLOOKUP($A222+8860000,'Growth Data'!$A:$Z,9,0))","v":0},0,null,"NO",{"$f":"IF(ISERROR(VLOOKUP($A222+8860000,'Growth Data'!$A:$Z,5,0)),\"NO\",VLOOKUP($A222+8860000,'Growth Data'!$A:$Z,5,0))","v":"NO"},0,null,0,{"$f":"IF(ISERROR(VLOOKUP($A222+8860000,'Growth Data'!$A:$Z,10,0)),0,VLOOKUP($A222+8860000,'Growth Data'!$A:$Z,10,0))","v":0},0,null,0,{"$f":"IF(ISERROR(VLOOKUP($A222+8860000,'Growth Data'!$A:$Z,11,0)),0,VLOOKUP($A222+8860000,'Growth Data'!$A:$Z,11,0))","v":0},0]
[3198,"Frittenden CEP School",null,"Frittenden CEP School","Frittenden CEP School",0,null,407201.1,407201.10132074077,0,null,0,0,0,null,407201.1,407201.10132074077,0,null,2439.38,2439.3820129999999,0,null,null,null,0,null,0,0,0,null,18848.580000000002,18848.578926240752,0,null,4115.1400000000003,4115.1421073759248,0,null,0,null,0,null,0,null,0,null,0,null,0,null,0,null,0,null,0,null,0,null,0,null,0,null,"NO",{"$f":"IF(ISERROR(VLOOKUP($A223+8860000,'Growth Data'!$A:$F,3,0)),\"NO\",VLOOKUP($A223+8860000,'Growth Data'!$A:$F,3,0))","v":"NO"},0,null,0,{"$f":"IF(BM223=\"YES\",IF(ISERROR(VLOOKUP($A223+8860000,'Growth Data'!$A:$F,6,0)),0,VLOOKUP($A223+8860000,'Growth Data'!$A:$F,6,0)),0)","v":0},0,null,0,{"$f":"IF(ISERROR(VLOOKUP($A223+8860000,'Growth Data'!$A:$Z,7,0)),0,VLOOKUP($A223+8860000,'Growth Data'!$A:$Z,7,0))","v":0},0,null,"NO",{"$f":"IF(ISERROR(VLOOKUP($A223+8860000,'Growth Data'!$A:$F,4,0)),\"NO\",VLOOKUP($A223+8860000,'Growth Data'!$A:$F,4,0))","v":"NO"},0,null,0,{"$f":"IF(ISERROR(VLOOKUP($A223+8860000,'Growth Data'!$A:$Z,8,0)),0,VLOOKUP($A223+8860000,'Growth Data'!$A:$Z,8,0))","v":0},0,null,0,{"$f":"IF(ISERROR(VLOOKUP($A223+8860000,'Growth Data'!$A:$Z,9,0)),0,VLOOKUP($A223+8860000,'Growth Data'!$A:$Z,9,0))","v":0},0,null,"NO",{"$f":"IF(ISERROR(VLOOKUP($A223+8860000,'Growth Data'!$A:$Z,5,0)),\"NO\",VLOOKUP($A223+8860000,'Growth Data'!$A:$Z,5,0))","v":"NO"},0,null,0,{"$f":"IF(ISERROR(VLOOKUP($A223+8860000,'Growth Data'!$A:$Z,10,0)),0,VLOOKUP($A223+8860000,'Growth Data'!$A:$Z,10,0))","v":0},0,null,0,{"$f":"IF(ISERROR(VLOOKUP($A223+8860000,'Growth Data'!$A:$Z,11,0)),0,VLOOKUP($A223+8860000,'Growth Data'!$A:$Z,11,0))","v":0},0]
[3199,"Egerton CEP School",null,"Egerton CEP School","Egerton CEP School",0,null,742616.65,742616.65238279488,0,null,0,0,0,null,742616.65,742616.65238279488,0,null,5289.61,5289.6073123999995,0,null,null,null,0,null,0,0,0,null,45875.6,45875.597624194874,0,null,1412.44,1412.4402375805121,0,null,0,null,0,null,0,null,0,null,0,null,0,null,0,null,0,null,0,null,0,null,0,null,0,null,"NO",{"$f":"IF(ISERROR(VLOOKUP($A224+8860000,'Growth Data'!$A:$F,3,0)),\"NO\",VLOOKUP($A224+8860000,'Growth Data'!$A:$F,3,0))","v":"NO"},0,null,0,{"$f":"IF(BM224=\"YES\",IF(ISERROR(VLOOKUP($A224+8860000,'Growth Data'!$A:$F,6,0)),0,VLOOKUP($A224+8860000,'Growth Data'!$A:$F,6,0)),0)","v":0},0,null,0,{"$f":"IF(ISERROR(VLOOKUP($A224+8860000,'Growth Data'!$A:$Z,7,0)),0,VLOOKUP($A224+8860000,'Growth Data'!$A:$Z,7,0))","v":0},0,null,"NO",{"$f":"IF(ISERROR(VLOOKUP($A224+8860000,'Growth Data'!$A:$F,4,0)),\"NO\",VLOOKUP($A224+8860000,'Growth Data'!$A:$F,4,0))","v":"NO"},0,null,0,{"$f":"IF(ISERROR(VLOOKUP($A224+8860000,'Growth Data'!$A:$Z,8,0)),0,VLOOKUP($A224+8860000,'Growth Data'!$A:$Z,8,0))","v":0},0,null,0,{"$f":"IF(ISERROR(VLOOKUP($A224+8860000,'Growth Data'!$A:$Z,9,0)),0,VLOOKUP($A224+8860000,'Growth Data'!$A:$Z,9,0))","v":0},0,null,"NO",{"$f":"IF(ISERROR(VLOOKUP($A224+8860000,'Growth Data'!$A:$Z,5,0)),\"NO\",VLOOKUP($A224+8860000,'Growth Data'!$A:$Z,5,0))","v":"NO"},0,null,0,{"$f":"IF(ISERROR(VLOOKUP($A224+8860000,'Growth Data'!$A:$Z,10,0)),0,VLOOKUP($A224+8860000,'Growth Data'!$A:$Z,10,0))","v":0},0,null,0,{"$f":"IF(ISERROR(VLOOKUP($A224+8860000,'Growth Data'!$A:$Z,11,0)),0,VLOOKUP($A224+8860000,'Growth Data'!$A:$Z,11,0))","v":0},0]
[3201,"St Lawrence CEP School",null,"St Lawrence CEP School","St Lawrence CEP School",0,null,395195.8,395195.80422039446,0,null,0,0,0,null,395195.8,395195.80422039446,0,null,2288.66,2288.6641533841603,0,null,null,null,0,null,0,0,0,null,21826.37,21826.372428042214,0,null,3817.36,3817.3627571957786,0,null,0,null,0,null,0,null,0,null,0,null,0,null,0,null,0,null,0,null,0,null,0,null,0,null,"NO",{"$f":"IF(ISERROR(VLOOKUP($A225+8860000,'Growth Data'!$A:$F,3,0)),\"NO\",VLOOKUP($A225+8860000,'Growth Data'!$A:$F,3,0))","v":"NO"},0,null,0,{"$f":"IF(BM225=\"YES\",IF(ISERROR(VLOOKUP($A225+8860000,'Growth Data'!$A:$F,6,0)),0,VLOOKUP($A225+8860000,'Growth Data'!$A:$F,6,0)),0)","v":0},0,null,0,{"$f":"IF(ISERROR(VLOOKUP($A225+8860000,'Growth Data'!$A:$Z,7,0)),0,VLOOKUP($A225+8860000,'Growth Data'!$A:$Z,7,0))","v":0},0,null,"NO",{"$f":"IF(ISERROR(VLOOKUP($A225+8860000,'Growth Data'!$A:$F,4,0)),\"NO\",VLOOKUP($A225+8860000,'Growth Data'!$A:$F,4,0))","v":"NO"},0,null,0,{"$f":"IF(ISERROR(VLOOKUP($A225+8860000,'Growth Data'!$A:$Z,8,0)),0,VLOOKUP($A225+8860000,'Growth Data'!$A:$Z,8,0))","v":0},0,null,0,{"$f":"IF(ISERROR(VLOOKUP($A225+8860000,'Growth Data'!$A:$Z,9,0)),0,VLOOKUP($A225+8860000,'Growth Data'!$A:$Z,9,0))","v":0},0,null,"NO",{"$f":"IF(ISERROR(VLOOKUP($A225+8860000,'Growth Data'!$A:$Z,5,0)),\"NO\",VLOOKUP($A225+8860000,'Growth Data'!$A:$Z,5,0))","v":"NO"},0,null,0,{"$f":"IF(ISERROR(VLOOKUP($A225+8860000,'Growth Data'!$A:$Z,10,0)),0,VLOOKUP($A225+8860000,'Growth Data'!$A:$Z,10,0))","v":0},0,null,0,{"$f":"IF(ISERROR(VLOOKUP($A225+8860000,'Growth Data'!$A:$Z,11,0)),0,VLOOKUP($A225+8860000,'Growth Data'!$A:$Z,11,0))","v":0},0]
[3282,"Boughton-under-Blean & Dunkirk Primary School",null,"Boughton-under-Blean & Dunkirk Primary School","Boughton-under-Blean & Dunkirk Primary School",0,null,848749.19,848749.18604091764,0,null,0,0,0,null,848749.19,848749.18604091764,0,null,5803.16,5803.1614204000016,0,null,null,null,0,null,0,0,0,null,84125.08,84125.083220317465,0,null,0,0,0,null,0,null,0,null,0,null,0,null,0,null,0,null,0,null,0,null,0,null,0,null,0,null,0,null,"NO",{"$f":"IF(ISERROR(VLOOKUP($A226+8860000,'Growth Data'!$A:$F,3,0)),\"NO\",VLOOKUP($A226+8860000,'Growth Data'!$A:$F,3,0))","v":"NO"},0,null,0,{"$f":"IF(BM226=\"YES\",IF(ISERROR(VLOOKUP($A226+8860000,'Growth Data'!$A:$F,6,0)),0,VLOOKUP($A226+8860000,'Growth Data'!$A:$F,6,0)),0)","v":0},0,null,0,{"$f":"IF(ISERROR(VLOOKUP($A226+8860000,'Growth Data'!$A:$Z,7,0)),0,VLOOKUP($A226+8860000,'Growth Data'!$A:$Z,7,0))","v":0},0,null,"NO",{"$f":"IF(ISERROR(VLOOKUP($A226+8860000,'Growth Data'!$A:$F,4,0)),\"NO\",VLOOKUP($A226+8860000,'Growth Data'!$A:$F,4,0))","v":"NO"},0,null,0,{"$f":"IF(ISERROR(VLOOKUP($A226+8860000,'Growth Data'!$A:$Z,8,0)),0,VLOOKUP($A226+8860000,'Growth Data'!$A:$Z,8,0))","v":0},0,null,0,{"$f":"IF(ISERROR(VLOOKUP($A226+8860000,'Growth Data'!$A:$Z,9,0)),0,VLOOKUP($A226+8860000,'Growth Data'!$A:$Z,9,0))","v":0},0,null,"NO",{"$f":"IF(ISERROR(VLOOKUP($A226+8860000,'Growth Data'!$A:$Z,5,0)),\"NO\",VLOOKUP($A226+8860000,'Growth Data'!$A:$Z,5,0))","v":"NO"},0,null,0,{"$f":"IF(ISERROR(VLOOKUP($A226+8860000,'Growth Data'!$A:$Z,10,0)),0,VLOOKUP($A226+8860000,'Growth Data'!$A:$Z,10,0))","v":0},0,null,0,{"$f":"IF(ISERROR(VLOOKUP($A226+8860000,'Growth Data'!$A:$Z,11,0)),0,VLOOKUP($A226+8860000,'Growth Data'!$A:$Z,11,0))","v":0},0]
[3284,"Lady Joanna Thornhill (Endowed) Primary School",null,"Lady Joanna Thornhill (Endowed) Primary School","Lady Joanna Thornhill (Endowed) Primary School",0,null,1386333.55,1386333.5491113472,0,null,0,0,0,null,1386333.55,1386333.5491113472,0,null,10733.28,10733.280857199998,0,null,null,null,0,null,0,0,0,null,70189.3,70189.302655547188,0,null,0,0,0,null,0,null,0,null,0,null,0,null,0,null,0,null,0,null,0,null,0,null,0,null,0,null,0,null,"NO",{"$f":"IF(ISERROR(VLOOKUP($A227+8860000,'Growth Data'!$A:$F,3,0)),\"NO\",VLOOKUP($A227+8860000,'Growth Data'!$A:$F,3,0))","v":"NO"},0,null,0,{"$f":"IF(BM227=\"YES\",IF(ISERROR(VLOOKUP($A227+8860000,'Growth Data'!$A:$F,6,0)),0,VLOOKUP($A227+8860000,'Growth Data'!$A:$F,6,0)),0)","v":0},0,null,0,{"$f":"IF(ISERROR(VLOOKUP($A227+8860000,'Growth Data'!$A:$Z,7,0)),0,VLOOKUP($A227+8860000,'Growth Data'!$A:$Z,7,0))","v":0},0,null,"NO",{"$f":"IF(ISERROR(VLOOKUP($A227+8860000,'Growth Data'!$A:$F,4,0)),\"NO\",VLOOKUP($A227+8860000,'Growth Data'!$A:$F,4,0))","v":"NO"},0,null,0,{"$f":"IF(ISERROR(VLOOKUP($A227+8860000,'Growth Data'!$A:$Z,8,0)),0,VLOOKUP($A227+8860000,'Growth Data'!$A:$Z,8,0))","v":0},0,null,0,{"$f":"IF(ISERROR(VLOOKUP($A227+8860000,'Growth Data'!$A:$Z,9,0)),0,VLOOKUP($A227+8860000,'Growth Data'!$A:$Z,9,0))","v":0},0,null,"NO",{"$f":"IF(ISERROR(VLOOKUP($A227+8860000,'Growth Data'!$A:$Z,5,0)),\"NO\",VLOOKUP($A227+8860000,'Growth Data'!$A:$Z,5,0))","v":"NO"},0,null,0,{"$f":"IF(ISERROR(VLOOKUP($A227+8860000,'Growth Data'!$A:$Z,10,0)),0,VLOOKUP($A227+8860000,'Growth Data'!$A:$Z,10,0))","v":0},0,null,0,{"$f":"IF(ISERROR(VLOOKUP($A227+8860000,'Growth Data'!$A:$Z,11,0)),0,VLOOKUP($A227+8860000,'Growth Data'!$A:$Z,11,0))","v":0},0]
[3289,"St Peter's Methodist Primary School, Canterbury",null,"St Peter's Methodist Primary School, Canterbury","St Peter's Methodist Primary School, Canterbury",0,null,786209.06,786209.05592502689,0,null,0,0,0,null,786209.06,786209.05592502689,0,null,5135.54,5135.5410799999991,0,null,null,null,0,null,0,0,0,null,100501.44,100501.43890502678,0,null,0,0,0,null,0,null,0,null,0,null,0,null,0,null,0,null,0,null,0,null,0,null,0,null,0,null,0,null,"NO",{"$f":"IF(ISERROR(VLOOKUP($A228+8860000,'Growth Data'!$A:$F,3,0)),\"NO\",VLOOKUP($A228+8860000,'Growth Data'!$A:$F,3,0))","v":"NO"},0,null,0,{"$f":"IF(BM228=\"YES\",IF(ISERROR(VLOOKUP($A228+8860000,'Growth Data'!$A:$F,6,0)),0,VLOOKUP($A228+8860000,'Growth Data'!$A:$F,6,0)),0)","v":0},0,null,0,{"$f":"IF(ISERROR(VLOOKUP($A228+8860000,'Growth Data'!$A:$Z,7,0)),0,VLOOKUP($A228+8860000,'Growth Data'!$A:$Z,7,0))","v":0},0,null,"NO",{"$f":"IF(ISERROR(VLOOKUP($A228+8860000,'Growth Data'!$A:$F,4,0)),\"NO\",VLOOKUP($A228+8860000,'Growth Data'!$A:$F,4,0))","v":"NO"},0,null,0,{"$f":"IF(ISERROR(VLOOKUP($A228+8860000,'Growth Data'!$A:$Z,8,0)),0,VLOOKUP($A228+8860000,'Growth Data'!$A:$Z,8,0))","v":0},0,null,0,{"$f":"IF(ISERROR(VLOOKUP($A228+8860000,'Growth Data'!$A:$Z,9,0)),0,VLOOKUP($A228+8860000,'Growth Data'!$A:$Z,9,0))","v":0},0,null,"NO",{"$f":"IF(ISERROR(VLOOKUP($A228+8860000,'Growth Data'!$A:$Z,5,0)),\"NO\",VLOOKUP($A228+8860000,'Growth Data'!$A:$Z,5,0))","v":"NO"},0,null,0,{"$f":"IF(ISERROR(VLOOKUP($A228+8860000,'Growth Data'!$A:$Z,10,0)),0,VLOOKUP($A228+8860000,'Growth Data'!$A:$Z,10,0))","v":0},0,null,0,{"$f":"IF(ISERROR(VLOOKUP($A228+8860000,'Growth Data'!$A:$Z,11,0)),0,VLOOKUP($A228+8860000,'Growth Data'!$A:$Z,11,0))","v":0},0]
[3294,"St Matthew's High Brooms CEP School",null,"St Matthew's High Brooms CEP School","St Matthew's High Brooms CEP School",0,null,1595749.16,1595749.1600559743,0,null,0,0,0,null,1595749.16,1595749.1600559743,0,null,11349.55,11349.545786799998,0,null,null,null,0,null,0,0,0,null,192651.29,192651.2862457743,0,null,0,0,0,null,0,null,0,null,0,null,0,null,0,null,0,null,0,null,0,null,0,null,0,null,0,null,0,null,"NO",{"$f":"IF(ISERROR(VLOOKUP($A229+8860000,'Growth Data'!$A:$F,3,0)),\"NO\",VLOOKUP($A229+8860000,'Growth Data'!$A:$F,3,0))","v":"NO"},0,null,0,{"$f":"IF(BM229=\"YES\",IF(ISERROR(VLOOKUP($A229+8860000,'Growth Data'!$A:$F,6,0)),0,VLOOKUP($A229+8860000,'Growth Data'!$A:$F,6,0)),0)","v":0},0,null,0,{"$f":"IF(ISERROR(VLOOKUP($A229+8860000,'Growth Data'!$A:$Z,7,0)),0,VLOOKUP($A229+8860000,'Growth Data'!$A:$Z,7,0))","v":0},0,null,"NO",{"$f":"IF(ISERROR(VLOOKUP($A229+8860000,'Growth Data'!$A:$F,4,0)),\"NO\",VLOOKUP($A229+8860000,'Growth Data'!$A:$F,4,0))","v":"NO"},0,null,0,{"$f":"IF(ISERROR(VLOOKUP($A229+8860000,'Growth Data'!$A:$Z,8,0)),0,VLOOKUP($A229+8860000,'Growth Data'!$A:$Z,8,0))","v":0},0,null,0,{"$f":"IF(ISERROR(VLOOKUP($A229+8860000,'Growth Data'!$A:$Z,9,0)),0,VLOOKUP($A229+8860000,'Growth Data'!$A:$Z,9,0))","v":0},0,null,"NO",{"$f":"IF(ISERROR(VLOOKUP($A229+8860000,'Growth Data'!$A:$Z,5,0)),\"NO\",VLOOKUP($A229+8860000,'Growth Data'!$A:$Z,5,0))","v":"NO"},0,null,0,{"$f":"IF(ISERROR(VLOOKUP($A229+8860000,'Growth Data'!$A:$Z,10,0)),0,VLOOKUP($A229+8860000,'Growth Data'!$A:$Z,10,0))","v":0},0,null,0,{"$f":"IF(ISERROR(VLOOKUP($A229+8860000,'Growth Data'!$A:$Z,11,0)),0,VLOOKUP($A229+8860000,'Growth Data'!$A:$Z,11,0))","v":0},0]
[3295,"Herne CEI School",null,"Herne CEI School","Herne CEI School",0,null,958592.92,958592.91884788917,0,null,0,0,0,null,958592.92,958592.91884788917,0,null,6881.63,6881.6250472000002,0,null,null,null,0,null,4.9000000000000004,4.9000000000000004,0,null,56716.88,56716.878657089204,0,null,328.31,328.31213429107902,0,null,0,null,0,null,0,null,0,null,0,null,0,null,0,null,0,null,0,null,0,null,0,null,0,null,"NO",{"$f":"IF(ISERROR(VLOOKUP($A230+8860000,'Growth Data'!$A:$F,3,0)),\"NO\",VLOOKUP($A230+8860000,'Growth Data'!$A:$F,3,0))","v":"NO"},0,null,0,{"$f":"IF(BM230=\"YES\",IF(ISERROR(VLOOKUP($A230+8860000,'Growth Data'!$A:$F,6,0)),0,VLOOKUP($A230+8860000,'Growth Data'!$A:$F,6,0)),0)","v":0},0,null,0,{"$f":"IF(ISERROR(VLOOKUP($A230+8860000,'Growth Data'!$A:$Z,7,0)),0,VLOOKUP($A230+8860000,'Growth Data'!$A:$Z,7,0))","v":0},0,null,"NO",{"$f":"IF(ISERROR(VLOOKUP($A230+8860000,'Growth Data'!$A:$F,4,0)),\"NO\",VLOOKUP($A230+8860000,'Growth Data'!$A:$F,4,0))","v":"NO"},0,null,0,{"$f":"IF(ISERROR(VLOOKUP($A230+8860000,'Growth Data'!$A:$Z,8,0)),0,VLOOKUP($A230+8860000,'Growth Data'!$A:$Z,8,0))","v":0},0,null,0,{"$f":"IF(ISERROR(VLOOKUP($A230+8860000,'Growth Data'!$A:$Z,9,0)),0,VLOOKUP($A230+8860000,'Growth Data'!$A:$Z,9,0))","v":0},0,null,"NO",{"$f":"IF(ISERROR(VLOOKUP($A230+8860000,'Growth Data'!$A:$Z,5,0)),\"NO\",VLOOKUP($A230+8860000,'Growth Data'!$A:$Z,5,0))","v":"NO"},0,null,0,{"$f":"IF(ISERROR(VLOOKUP($A230+8860000,'Growth Data'!$A:$Z,10,0)),0,VLOOKUP($A230+8860000,'Growth Data'!$A:$Z,10,0))","v":0},0,null,0,{"$f":"IF(ISERROR(VLOOKUP($A230+8860000,'Growth Data'!$A:$Z,11,0)),0,VLOOKUP($A230+8860000,'Growth Data'!$A:$Z,11,0))","v":0},0]
[3296,"Langafel CEP School",null,"Langafel CEP School","Langafel CEP School",0,null,1231494.8899999999,1231494.8860283883,0,null,0,0,0,null,1231494.8899999999,1231494.8860283883,0,null,8702.25,8702.2462576351209,0,null,null,null,0,null,0,0,0,null,120211.56,120211.55897613365,0,null,0,0,0,null,0,null,0,null,120000,null,120000,null,0,null,0,null,0,null,0,null,0,null,0,null,0,null,0,null,"NO",{"$f":"IF(ISERROR(VLOOKUP($A231+8860000,'Growth Data'!$A:$F,3,0)),\"NO\",VLOOKUP($A231+8860000,'Growth Data'!$A:$F,3,0))","v":"NO"},0,null,0,{"$f":"IF(BM231=\"YES\",IF(ISERROR(VLOOKUP($A231+8860000,'Growth Data'!$A:$F,6,0)),0,VLOOKUP($A231+8860000,'Growth Data'!$A:$F,6,0)),0)","v":0},0,null,0,{"$f":"IF(ISERROR(VLOOKUP($A231+8860000,'Growth Data'!$A:$Z,7,0)),0,VLOOKUP($A231+8860000,'Growth Data'!$A:$Z,7,0))","v":0},0,null,"NO",{"$f":"IF(ISERROR(VLOOKUP($A231+8860000,'Growth Data'!$A:$F,4,0)),\"NO\",VLOOKUP($A231+8860000,'Growth Data'!$A:$F,4,0))","v":"NO"},0,null,0,{"$f":"IF(ISERROR(VLOOKUP($A231+8860000,'Growth Data'!$A:$Z,8,0)),0,VLOOKUP($A231+8860000,'Growth Data'!$A:$Z,8,0))","v":0},0,null,0,{"$f":"IF(ISERROR(VLOOKUP($A231+8860000,'Growth Data'!$A:$Z,9,0)),0,VLOOKUP($A231+8860000,'Growth Data'!$A:$Z,9,0))","v":0},0,null,"NO",{"$f":"IF(ISERROR(VLOOKUP($A231+8860000,'Growth Data'!$A:$Z,5,0)),\"NO\",VLOOKUP($A231+8860000,'Growth Data'!$A:$Z,5,0))","v":"NO"},0,null,0,{"$f":"IF(ISERROR(VLOOKUP($A231+8860000,'Growth Data'!$A:$Z,10,0)),0,VLOOKUP($A231+8860000,'Growth Data'!$A:$Z,10,0))","v":0},0,null,0,{"$f":"IF(ISERROR(VLOOKUP($A231+8860000,'Growth Data'!$A:$Z,11,0)),0,VLOOKUP($A231+8860000,'Growth Data'!$A:$Z,11,0))","v":0},0]
[3297,"Southborough CEP School",null,"Southborough CEP School","Southborough CEP School",0,null,1800265.84,1800265.8363093454,0,null,0,0,0,null,1800265.84,1800265.8363093454,0,null,13968.67,13968.6717376,0,null,null,null,0,null,0,0,0,null,126490.56,126490.5617429454,0,null,0,0,0,null,0,null,0,null,0,null,0,null,0,null,0,null,0,null,0,null,0,null,0,null,0,null,0,null,"YES",{"$f":"IF(ISERROR(VLOOKUP($A232+8860000,'Growth Data'!$A:$F,3,0)),\"NO\",VLOOKUP($A232+8860000,'Growth Data'!$A:$F,3,0))","v":"YES"},0,null,60,{"$f":"IF(BM232=\"YES\",IF(ISERROR(VLOOKUP($A232+8860000,'Growth Data'!$A:$F,6,0)),0,VLOOKUP($A232+8860000,'Growth Data'!$A:$F,6,0)),0)","v":60},0,null,90,{"$f":"IF(ISERROR(VLOOKUP($A232+8860000,'Growth Data'!$A:$Z,7,0)),0,VLOOKUP($A232+8860000,'Growth Data'!$A:$Z,7,0))","v":90},0,null,"YES",{"$f":"IF(ISERROR(VLOOKUP($A232+8860000,'Growth Data'!$A:$F,4,0)),\"NO\",VLOOKUP($A232+8860000,'Growth Data'!$A:$F,4,0))","v":"YES"},0,null,60,{"$f":"IF(ISERROR(VLOOKUP($A232+8860000,'Growth Data'!$A:$Z,8,0)),0,VLOOKUP($A232+8860000,'Growth Data'!$A:$Z,8,0))","v":60},0,null,90,{"$f":"IF(ISERROR(VLOOKUP($A232+8860000,'Growth Data'!$A:$Z,9,0)),0,VLOOKUP($A232+8860000,'Growth Data'!$A:$Z,9,0))","v":90},0,null,"NO",{"$f":"IF(ISERROR(VLOOKUP($A232+8860000,'Growth Data'!$A:$Z,5,0)),\"NO\",VLOOKUP($A232+8860000,'Growth Data'!$A:$Z,5,0))","v":"NO"},0,null,0,{"$f":"IF(ISERROR(VLOOKUP($A232+8860000,'Growth Data'!$A:$Z,10,0)),0,VLOOKUP($A232+8860000,'Growth Data'!$A:$Z,10,0))","v":0},0,null,0,{"$f":"IF(ISERROR(VLOOKUP($A232+8860000,'Growth Data'!$A:$Z,11,0)),0,VLOOKUP($A232+8860000,'Growth Data'!$A:$Z,11,0))","v":0},0]
[3298,"West Kingsdown C.E. (V.C.) Primary School",null,"West Kingsdown C.E. (V.C.) Primary School","West Kingsdown C.E. (V.C.) Primary School",0,null,626338.66,626338.66257052403,0,null,0,0,0,null,626338.66,626338.66257052403,0,null,4098.3100000000004,4098.3055769902403,0,null,null,null,0,null,0,0,0,null,38139,38138.996901874561,0,null,2186.1,2186.1003098125439,0,null,0,null,0,null,0,null,0,null,0,null,0,null,0,null,0,null,0,null,0,null,0,null,0,null,"NO",{"$f":"IF(ISERROR(VLOOKUP($A233+8860000,'Growth Data'!$A:$F,3,0)),\"NO\",VLOOKUP($A233+8860000,'Growth Data'!$A:$F,3,0))","v":"NO"},0,null,0,{"$f":"IF(BM233=\"YES\",IF(ISERROR(VLOOKUP($A233+8860000,'Growth Data'!$A:$F,6,0)),0,VLOOKUP($A233+8860000,'Growth Data'!$A:$F,6,0)),0)","v":0},0,null,0,{"$f":"IF(ISERROR(VLOOKUP($A233+8860000,'Growth Data'!$A:$Z,7,0)),0,VLOOKUP($A233+8860000,'Growth Data'!$A:$Z,7,0))","v":0},0,null,"NO",{"$f":"IF(ISERROR(VLOOKUP($A233+8860000,'Growth Data'!$A:$F,4,0)),\"NO\",VLOOKUP($A233+8860000,'Growth Data'!$A:$F,4,0))","v":"NO"},0,null,0,{"$f":"IF(ISERROR(VLOOKUP($A233+8860000,'Growth Data'!$A:$Z,8,0)),0,VLOOKUP($A233+8860000,'Growth Data'!$A:$Z,8,0))","v":0},0,null,0,{"$f":"IF(ISERROR(VLOOKUP($A233+8860000,'Growth Data'!$A:$Z,9,0)),0,VLOOKUP($A233+8860000,'Growth Data'!$A:$Z,9,0))","v":0},0,null,"NO",{"$f":"IF(ISERROR(VLOOKUP($A233+8860000,'Growth Data'!$A:$Z,5,0)),\"NO\",VLOOKUP($A233+8860000,'Growth Data'!$A:$Z,5,0))","v":"NO"},0,null,0,{"$f":"IF(ISERROR(VLOOKUP($A233+8860000,'Growth Data'!$A:$Z,10,0)),0,VLOOKUP($A233+8860000,'Growth Data'!$A:$Z,10,0))","v":0},0,null,0,{"$f":"IF(ISERROR(VLOOKUP($A233+8860000,'Growth Data'!$A:$Z,11,0)),0,VLOOKUP($A233+8860000,'Growth Data'!$A:$Z,11,0))","v":0},0]
[3299,"John Wesley Primary School",null,"John Wesley Primary School","John Wesley Primary School",0,null,1502428.88,1502428.8833602888,0,null,0,0,0,null,1502428.88,1502428.8833602888,0,null,11144.12,11144.124143599998,0,null,null,null,0,null,0,0,0,null,168161.88,168161.88013488881,0,null,0,0,0,null,0,null,0,null,0,null,0,null,0,null,0,null,0,null,0,null,0,null,0,null,0,null,0,null,"NO",{"$f":"IF(ISERROR(VLOOKUP($A234+8860000,'Growth Data'!$A:$F,3,0)),\"NO\",VLOOKUP($A234+8860000,'Growth Data'!$A:$F,3,0))","v":"NO"},0,null,0,{"$f":"IF(BM234=\"YES\",IF(ISERROR(VLOOKUP($A234+8860000,'Growth Data'!$A:$F,6,0)),0,VLOOKUP($A234+8860000,'Growth Data'!$A:$F,6,0)),0)","v":0},0,null,0,{"$f":"IF(ISERROR(VLOOKUP($A234+8860000,'Growth Data'!$A:$Z,7,0)),0,VLOOKUP($A234+8860000,'Growth Data'!$A:$Z,7,0))","v":0},0,null,"NO",{"$f":"IF(ISERROR(VLOOKUP($A234+8860000,'Growth Data'!$A:$F,4,0)),\"NO\",VLOOKUP($A234+8860000,'Growth Data'!$A:$F,4,0))","v":"NO"},0,null,0,{"$f":"IF(ISERROR(VLOOKUP($A234+8860000,'Growth Data'!$A:$Z,8,0)),0,VLOOKUP($A234+8860000,'Growth Data'!$A:$Z,8,0))","v":0},0,null,0,{"$f":"IF(ISERROR(VLOOKUP($A234+8860000,'Growth Data'!$A:$Z,9,0)),0,VLOOKUP($A234+8860000,'Growth Data'!$A:$Z,9,0))","v":0},0,null,"NO",{"$f":"IF(ISERROR(VLOOKUP($A234+8860000,'Growth Data'!$A:$Z,5,0)),\"NO\",VLOOKUP($A234+8860000,'Growth Data'!$A:$Z,5,0))","v":"NO"},0,null,0,{"$f":"IF(ISERROR(VLOOKUP($A234+8860000,'Growth Data'!$A:$Z,10,0)),0,VLOOKUP($A234+8860000,'Growth Data'!$A:$Z,10,0))","v":0},0,null,0,{"$f":"IF(ISERROR(VLOOKUP($A234+8860000,'Growth Data'!$A:$Z,11,0)),0,VLOOKUP($A234+8860000,'Growth Data'!$A:$Z,11,0))","v":0},0]
[3303,"St Katharine's Knockholt CEP School",null,"St Katharine's Knockholt CEP School","St Katharine's Knockholt CEP School",0,null,739205.85,739205.84918440715,0,null,0,0,0,null,739205.85,739205.84918440715,0,null,5269.25,5269.25002755888,0,null,null,null,0,null,0,0,0,null,50489.919999999998,50489.924563000692,0,null,951.01,951.00754369993047,0,null,0,null,0,null,0,null,0,null,0,null,0,null,0,null,0,null,0,null,0,null,0,null,0,null,"NO",{"$f":"IF(ISERROR(VLOOKUP($A235+8860000,'Growth Data'!$A:$F,3,0)),\"NO\",VLOOKUP($A235+8860000,'Growth Data'!$A:$F,3,0))","v":"NO"},0,null,0,{"$f":"IF(BM235=\"YES\",IF(ISERROR(VLOOKUP($A235+8860000,'Growth Data'!$A:$F,6,0)),0,VLOOKUP($A235+8860000,'Growth Data'!$A:$F,6,0)),0)","v":0},0,null,0,{"$f":"IF(ISERROR(VLOOKUP($A235+8860000,'Growth Data'!$A:$Z,7,0)),0,VLOOKUP($A235+8860000,'Growth Data'!$A:$Z,7,0))","v":0},0,null,"NO",{"$f":"IF(ISERROR(VLOOKUP($A235+8860000,'Growth Data'!$A:$F,4,0)),\"NO\",VLOOKUP($A235+8860000,'Growth Data'!$A:$F,4,0))","v":"NO"},0,null,0,{"$f":"IF(ISERROR(VLOOKUP($A235+8860000,'Growth Data'!$A:$Z,8,0)),0,VLOOKUP($A235+8860000,'Growth Data'!$A:$Z,8,0))","v":0},0,null,0,{"$f":"IF(ISERROR(VLOOKUP($A235+8860000,'Growth Data'!$A:$Z,9,0)),0,VLOOKUP($A235+8860000,'Growth Data'!$A:$Z,9,0))","v":0},0,null,"NO",{"$f":"IF(ISERROR(VLOOKUP($A235+8860000,'Growth Data'!$A:$Z,5,0)),\"NO\",VLOOKUP($A235+8860000,'Growth Data'!$A:$Z,5,0))","v":"NO"},0,null,0,{"$f":"IF(ISERROR(VLOOKUP($A235+8860000,'Growth Data'!$A:$Z,10,0)),0,VLOOKUP($A235+8860000,'Growth Data'!$A:$Z,10,0))","v":0},0,null,0,{"$f":"IF(ISERROR(VLOOKUP($A235+8860000,'Growth Data'!$A:$Z,11,0)),0,VLOOKUP($A235+8860000,'Growth Data'!$A:$Z,11,0))","v":0},0]
[3307,"Chevening (St Botolph's) CEP School",null,"Chevening (St Botolph's) CEP School","Chevening (St Botolph's) CEP School",0,null,751601.35,751601.35159010743,0,null,0,0,0,null,751601.35,751601.35159010743,0,null,5508.76,5508.7613924479201,0,null,null,null,0,null,0,0,0,null,36160.92,36160.923296193519,0,null,2383.91,2383.9076703806477,0,null,0,null,0,null,0,null,0,null,0,null,0,null,0,null,0,null,0,null,0,null,0,null,0,null,"NO",{"$f":"IF(ISERROR(VLOOKUP($A236+8860000,'Growth Data'!$A:$F,3,0)),\"NO\",VLOOKUP($A236+8860000,'Growth Data'!$A:$F,3,0))","v":"NO"},0,null,0,{"$f":"IF(BM236=\"YES\",IF(ISERROR(VLOOKUP($A236+8860000,'Growth Data'!$A:$F,6,0)),0,VLOOKUP($A236+8860000,'Growth Data'!$A:$F,6,0)),0)","v":0},0,null,0,{"$f":"IF(ISERROR(VLOOKUP($A236+8860000,'Growth Data'!$A:$Z,7,0)),0,VLOOKUP($A236+8860000,'Growth Data'!$A:$Z,7,0))","v":0},0,null,"NO",{"$f":"IF(ISERROR(VLOOKUP($A236+8860000,'Growth Data'!$A:$F,4,0)),\"NO\",VLOOKUP($A236+8860000,'Growth Data'!$A:$F,4,0))","v":"NO"},0,null,0,{"$f":"IF(ISERROR(VLOOKUP($A236+8860000,'Growth Data'!$A:$Z,8,0)),0,VLOOKUP($A236+8860000,'Growth Data'!$A:$Z,8,0))","v":0},0,null,0,{"$f":"IF(ISERROR(VLOOKUP($A236+8860000,'Growth Data'!$A:$Z,9,0)),0,VLOOKUP($A236+8860000,'Growth Data'!$A:$Z,9,0))","v":0},0,null,"NO",{"$f":"IF(ISERROR(VLOOKUP($A236+8860000,'Growth Data'!$A:$Z,5,0)),\"NO\",VLOOKUP($A236+8860000,'Growth Data'!$A:$Z,5,0))","v":"NO"},0,null,0,{"$f":"IF(ISERROR(VLOOKUP($A236+8860000,'Growth Data'!$A:$Z,10,0)),0,VLOOKUP($A236+8860000,'Growth Data'!$A:$Z,10,0))","v":0},0,null,0,{"$f":"IF(ISERROR(VLOOKUP($A236+8860000,'Growth Data'!$A:$Z,11,0)),0,VLOOKUP($A236+8860000,'Growth Data'!$A:$Z,11,0))","v":0},0]
[3308,"Colliers Green CEP School",null,"Colliers Green CEP School","Colliers Green CEP School",0,null,452149.27,452149.27041153231,0,null,0,0,0,null,452149.27,452149.27041153231,0,null,2901.58,2901.5807102000008,0,null,null,null,0,null,0,0,0,null,25413.11,25413.114001232279,0,null,3458.69,3458.6885998767721,0,null,0,null,0,null,0,null,0,null,0,null,0,null,0,null,0,null,0,null,0,null,0,null,0,null,"NO",{"$f":"IF(ISERROR(VLOOKUP($A237+8860000,'Growth Data'!$A:$F,3,0)),\"NO\",VLOOKUP($A237+8860000,'Growth Data'!$A:$F,3,0))","v":"NO"},0,null,0,{"$f":"IF(BM237=\"YES\",IF(ISERROR(VLOOKUP($A237+8860000,'Growth Data'!$A:$F,6,0)),0,VLOOKUP($A237+8860000,'Growth Data'!$A:$F,6,0)),0)","v":0},0,null,0,{"$f":"IF(ISERROR(VLOOKUP($A237+8860000,'Growth Data'!$A:$Z,7,0)),0,VLOOKUP($A237+8860000,'Growth Data'!$A:$Z,7,0))","v":0},0,null,"NO",{"$f":"IF(ISERROR(VLOOKUP($A237+8860000,'Growth Data'!$A:$F,4,0)),\"NO\",VLOOKUP($A237+8860000,'Growth Data'!$A:$F,4,0))","v":"NO"},0,null,0,{"$f":"IF(ISERROR(VLOOKUP($A237+8860000,'Growth Data'!$A:$Z,8,0)),0,VLOOKUP($A237+8860000,'Growth Data'!$A:$Z,8,0))","v":0},0,null,0,{"$f":"IF(ISERROR(VLOOKUP($A237+8860000,'Growth Data'!$A:$Z,9,0)),0,VLOOKUP($A237+8860000,'Growth Data'!$A:$Z,9,0))","v":0},0,null,"NO",{"$f":"IF(ISERROR(VLOOKUP($A237+8860000,'Growth Data'!$A:$Z,5,0)),\"NO\",VLOOKUP($A237+8860000,'Growth Data'!$A:$Z,5,0))","v":"NO"},0,null,0,{"$f":"IF(ISERROR(VLOOKUP($A237+8860000,'Growth Data'!$A:$Z,10,0)),0,VLOOKUP($A237+8860000,'Growth Data'!$A:$Z,10,0))","v":0},0,null,0,{"$f":"IF(ISERROR(VLOOKUP($A237+8860000,'Growth Data'!$A:$Z,11,0)),0,VLOOKUP($A237+8860000,'Growth Data'!$A:$Z,11,0))","v":0},0]
[3309,"Sissinghurst CEP School",null,"Sissinghurst CEP School","Sissinghurst CEP School",0,null,612812.43999999994,612812.43660490063,0,null,0,0,0,null,612812.43999999994,612812.43660490063,0,null,4159.79,4159.7882748000002,0,null,null,null,0,null,0,0,0,null,41110.86,41110.858462700526,0,null,1888.91,1888.9141537299474,0,null,0,null,0,null,0,null,0,null,0,null,0,null,0,null,0,null,0,null,0,null,0,null,0,null,"NO",{"$f":"IF(ISERROR(VLOOKUP($A238+8860000,'Growth Data'!$A:$F,3,0)),\"NO\",VLOOKUP($A238+8860000,'Growth Data'!$A:$F,3,0))","v":"NO"},0,null,0,{"$f":"IF(BM238=\"YES\",IF(ISERROR(VLOOKUP($A238+8860000,'Growth Data'!$A:$F,6,0)),0,VLOOKUP($A238+8860000,'Growth Data'!$A:$F,6,0)),0)","v":0},0,null,0,{"$f":"IF(ISERROR(VLOOKUP($A238+8860000,'Growth Data'!$A:$Z,7,0)),0,VLOOKUP($A238+8860000,'Growth Data'!$A:$Z,7,0))","v":0},0,null,"NO",{"$f":"IF(ISERROR(VLOOKUP($A238+8860000,'Growth Data'!$A:$F,4,0)),\"NO\",VLOOKUP($A238+8860000,'Growth Data'!$A:$F,4,0))","v":"NO"},0,null,0,{"$f":"IF(ISERROR(VLOOKUP($A238+8860000,'Growth Data'!$A:$Z,8,0)),0,VLOOKUP($A238+8860000,'Growth Data'!$A:$Z,8,0))","v":0},0,null,0,{"$f":"IF(ISERROR(VLOOKUP($A238+8860000,'Growth Data'!$A:$Z,9,0)),0,VLOOKUP($A238+8860000,'Growth Data'!$A:$Z,9,0))","v":0},0,null,"NO",{"$f":"IF(ISERROR(VLOOKUP($A238+8860000,'Growth Data'!$A:$Z,5,0)),\"NO\",VLOOKUP($A238+8860000,'Growth Data'!$A:$Z,5,0))","v":"NO"},0,null,0,{"$f":"IF(ISERROR(VLOOKUP($A238+8860000,'Growth Data'!$A:$Z,10,0)),0,VLOOKUP($A238+8860000,'Growth Data'!$A:$Z,10,0))","v":0},0,null,0,{"$f":"IF(ISERROR(VLOOKUP($A238+8860000,'Growth Data'!$A:$Z,11,0)),0,VLOOKUP($A238+8860000,'Growth Data'!$A:$Z,11,0))","v":0},0]
[3312,"Hever CEP School",null,"Hever CEP School","Hever CEP School",0,null,542961.81000000006,542961.80862538714,0,null,0,0,0,null,542961.81000000006,542961.80862538714,0,null,3486.22,3486.22097782936,0,null,null,null,0,null,0,0,0,null,41403.919999999998,41403.91845405777,0,null,1859.61,1859.6081545942225,0,null,0,null,0,null,0,null,0,null,0,null,0,null,0,null,0,null,0,null,0,null,0,null,0,null,"NO",{"$f":"IF(ISERROR(VLOOKUP($A239+8860000,'Growth Data'!$A:$F,3,0)),\"NO\",VLOOKUP($A239+8860000,'Growth Data'!$A:$F,3,0))","v":"NO"},0,null,0,{"$f":"IF(BM239=\"YES\",IF(ISERROR(VLOOKUP($A239+8860000,'Growth Data'!$A:$F,6,0)),0,VLOOKUP($A239+8860000,'Growth Data'!$A:$F,6,0)),0)","v":0},0,null,0,{"$f":"IF(ISERROR(VLOOKUP($A239+8860000,'Growth Data'!$A:$Z,7,0)),0,VLOOKUP($A239+8860000,'Growth Data'!$A:$Z,7,0))","v":0},0,null,"NO",{"$f":"IF(ISERROR(VLOOKUP($A239+8860000,'Growth Data'!$A:$F,4,0)),\"NO\",VLOOKUP($A239+8860000,'Growth Data'!$A:$F,4,0))","v":"NO"},0,null,0,{"$f":"IF(ISERROR(VLOOKUP($A239+8860000,'Growth Data'!$A:$Z,8,0)),0,VLOOKUP($A239+8860000,'Growth Data'!$A:$Z,8,0))","v":0},0,null,0,{"$f":"IF(ISERROR(VLOOKUP($A239+8860000,'Growth Data'!$A:$Z,9,0)),0,VLOOKUP($A239+8860000,'Growth Data'!$A:$Z,9,0))","v":0},0,null,"NO",{"$f":"IF(ISERROR(VLOOKUP($A239+8860000,'Growth Data'!$A:$Z,5,0)),\"NO\",VLOOKUP($A239+8860000,'Growth Data'!$A:$Z,5,0))","v":"NO"},0,null,0,{"$f":"IF(ISERROR(VLOOKUP($A239+8860000,'Growth Data'!$A:$Z,10,0)),0,VLOOKUP($A239+8860000,'Growth Data'!$A:$Z,10,0))","v":0},0,null,0,{"$f":"IF(ISERROR(VLOOKUP($A239+8860000,'Growth Data'!$A:$Z,11,0)),0,VLOOKUP($A239+8860000,'Growth Data'!$A:$Z,11,0))","v":0},0]
[3313,"Fordcombe CEP School",null,"Fordcombe CEP School","Fordcombe CEP School",0,null,429430.12,429430.12270784477,0,null,0,0,0,null,429430.12,429430.12270784477,0,null,2608.0100000000002,2608.01263990288,0,null,null,null,0,null,0,0,0,null,25879.02,25879.022034442547,0,null,3412.1,3412.0977965557449,0,null,0,null,0,null,0,null,0,null,0,null,0,null,0,null,0,null,0,null,0,null,0,null,0,null,"NO",{"$f":"IF(ISERROR(VLOOKUP($A240+8860000,'Growth Data'!$A:$F,3,0)),\"NO\",VLOOKUP($A240+8860000,'Growth Data'!$A:$F,3,0))","v":"NO"},0,null,0,{"$f":"IF(BM240=\"YES\",IF(ISERROR(VLOOKUP($A240+8860000,'Growth Data'!$A:$F,6,0)),0,VLOOKUP($A240+8860000,'Growth Data'!$A:$F,6,0)),0)","v":0},0,null,0,{"$f":"IF(ISERROR(VLOOKUP($A240+8860000,'Growth Data'!$A:$Z,7,0)),0,VLOOKUP($A240+8860000,'Growth Data'!$A:$Z,7,0))","v":0},0,null,"NO",{"$f":"IF(ISERROR(VLOOKUP($A240+8860000,'Growth Data'!$A:$F,4,0)),\"NO\",VLOOKUP($A240+8860000,'Growth Data'!$A:$F,4,0))","v":"NO"},0,null,0,{"$f":"IF(ISERROR(VLOOKUP($A240+8860000,'Growth Data'!$A:$Z,8,0)),0,VLOOKUP($A240+8860000,'Growth Data'!$A:$Z,8,0))","v":0},0,null,0,{"$f":"IF(ISERROR(VLOOKUP($A240+8860000,'Growth Data'!$A:$Z,9,0)),0,VLOOKUP($A240+8860000,'Growth Data'!$A:$Z,9,0))","v":0},0,null,"NO",{"$f":"IF(ISERROR(VLOOKUP($A240+8860000,'Growth Data'!$A:$Z,5,0)),\"NO\",VLOOKUP($A240+8860000,'Growth Data'!$A:$Z,5,0))","v":"NO"},0,null,0,{"$f":"IF(ISERROR(VLOOKUP($A240+8860000,'Growth Data'!$A:$Z,10,0)),0,VLOOKUP($A240+8860000,'Growth Data'!$A:$Z,10,0))","v":0},0,null,0,{"$f":"IF(ISERROR(VLOOKUP($A240+8860000,'Growth Data'!$A:$Z,11,0)),0,VLOOKUP($A240+8860000,'Growth Data'!$A:$Z,11,0))","v":0},0]
[3314,"Penshurst CEP School",null,"Penshurst CEP School","Penshurst CEP School",0,null,431530.98,431530.98207957949,0,null,0,0,0,null,431530.98,431530.98207957949,0,null,2661.24,2661.2373876559996,0,null,null,null,0,null,0,0,0,null,24132.65,24132.653003255567,0,null,3586.73,3586.7346996744432,0,null,0,null,0,null,0,null,0,null,0,null,0,null,0,null,0,null,0,null,0,null,0,null,0,null,"NO",{"$f":"IF(ISERROR(VLOOKUP($A241+8860000,'Growth Data'!$A:$F,3,0)),\"NO\",VLOOKUP($A241+8860000,'Growth Data'!$A:$F,3,0))","v":"NO"},0,null,0,{"$f":"IF(BM241=\"YES\",IF(ISERROR(VLOOKUP($A241+8860000,'Growth Data'!$A:$F,6,0)),0,VLOOKUP($A241+8860000,'Growth Data'!$A:$F,6,0)),0)","v":0},0,null,0,{"$f":"IF(ISERROR(VLOOKUP($A241+8860000,'Growth Data'!$A:$Z,7,0)),0,VLOOKUP($A241+8860000,'Growth Data'!$A:$Z,7,0))","v":0},0,null,"NO",{"$f":"IF(ISERROR(VLOOKUP($A241+8860000,'Growth Data'!$A:$F,4,0)),\"NO\",VLOOKUP($A241+8860000,'Growth Data'!$A:$F,4,0))","v":"NO"},0,null,0,{"$f":"IF(ISERROR(VLOOKUP($A241+8860000,'Growth Data'!$A:$Z,8,0)),0,VLOOKUP($A241+8860000,'Growth Data'!$A:$Z,8,0))","v":0},0,null,0,{"$f":"IF(ISERROR(VLOOKUP($A241+8860000,'Growth Data'!$A:$Z,9,0)),0,VLOOKUP($A241+8860000,'Growth Data'!$A:$Z,9,0))","v":0},0,null,"NO",{"$f":"IF(ISERROR(VLOOKUP($A241+8860000,'Growth Data'!$A:$Z,5,0)),\"NO\",VLOOKUP($A241+8860000,'Growth Data'!$A:$Z,5,0))","v":"NO"},0,null,0,{"$f":"IF(ISERROR(VLOOKUP($A241+8860000,'Growth Data'!$A:$Z,10,0)),0,VLOOKUP($A241+8860000,'Growth Data'!$A:$Z,10,0))","v":0},0,null,0,{"$f":"IF(ISERROR(VLOOKUP($A241+8860000,'Growth Data'!$A:$Z,11,0)),0,VLOOKUP($A241+8860000,'Growth Data'!$A:$Z,11,0))","v":0},0]
[3317,"Lady Boswell's CEP School, Sevenoaks",null,"Lady Boswell's CEP School, Sevenoaks","Lady Boswell's CEP School, Sevenoaks",0,null,1239663.03,1239663.0268315224,0,null,0,0,0,null,1239663.03,1239663.0268315224,0,null,9899.7999999999993,9899.8030820803178,0,null,null,null,0,null,0,0,0,null,52521.02,52521.020479129867,0,null,747.9,747.89795208701253,0,null,0,null,0,null,0,null,0,null,0,null,0,null,0,null,0,null,0,null,0,null,0,null,0,null,"YES",{"$f":"IF(ISERROR(VLOOKUP($A242+8860000,'Growth Data'!$A:$F,3,0)),\"NO\",VLOOKUP($A242+8860000,'Growth Data'!$A:$F,3,0))","v":"YES"},0,null,32,{"$f":"IF(BM242=\"YES\",IF(ISERROR(VLOOKUP($A242+8860000,'Growth Data'!$A:$F,6,0)),0,VLOOKUP($A242+8860000,'Growth Data'!$A:$F,6,0)),0)","v":32},0,null,60,{"$f":"IF(ISERROR(VLOOKUP($A242+8860000,'Growth Data'!$A:$Z,7,0)),0,VLOOKUP($A242+8860000,'Growth Data'!$A:$Z,7,0))","v":60},0,null,"YES",{"$f":"IF(ISERROR(VLOOKUP($A242+8860000,'Growth Data'!$A:$F,4,0)),\"NO\",VLOOKUP($A242+8860000,'Growth Data'!$A:$F,4,0))","v":"YES"},0,null,32,{"$f":"IF(ISERROR(VLOOKUP($A242+8860000,'Growth Data'!$A:$Z,8,0)),0,VLOOKUP($A242+8860000,'Growth Data'!$A:$Z,8,0))","v":32},0,null,60,{"$f":"IF(ISERROR(VLOOKUP($A242+8860000,'Growth Data'!$A:$Z,9,0)),0,VLOOKUP($A242+8860000,'Growth Data'!$A:$Z,9,0))","v":60},0,null,"NO",{"$f":"IF(ISERROR(VLOOKUP($A242+8860000,'Growth Data'!$A:$Z,5,0)),\"NO\",VLOOKUP($A242+8860000,'Growth Data'!$A:$Z,5,0))","v":"NO"},0,null,0,{"$f":"IF(ISERROR(VLOOKUP($A242+8860000,'Growth Data'!$A:$Z,10,0)),0,VLOOKUP($A242+8860000,'Growth Data'!$A:$Z,10,0))","v":0},0,null,0,{"$f":"IF(ISERROR(VLOOKUP($A242+8860000,'Growth Data'!$A:$Z,11,0)),0,VLOOKUP($A242+8860000,'Growth Data'!$A:$Z,11,0))","v":0},0]
[3318,"Ide Hill CEP School",null,"Ide Hill CEP School","Ide Hill CEP School",0,null,539699.81000000006,539699.8139539879,0,null,0,0,0,null,539699.81000000006,539699.8139539879,0,null,3645.9,3645.8952210887201,0,null,null,null,0,null,0,0,0,null,27728.19,27728.186637212879,0,null,3227.18,3227.181336278712,0,null,0,null,0,null,0,null,0,null,0,null,0,null,0,null,0,null,0,null,0,null,0,null,0,null,"NO",{"$f":"IF(ISERROR(VLOOKUP($A243+8860000,'Growth Data'!$A:$F,3,0)),\"NO\",VLOOKUP($A243+8860000,'Growth Data'!$A:$F,3,0))","v":"NO"},0,null,0,{"$f":"IF(BM243=\"YES\",IF(ISERROR(VLOOKUP($A243+8860000,'Growth Data'!$A:$F,6,0)),0,VLOOKUP($A243+8860000,'Growth Data'!$A:$F,6,0)),0)","v":0},0,null,0,{"$f":"IF(ISERROR(VLOOKUP($A243+8860000,'Growth Data'!$A:$Z,7,0)),0,VLOOKUP($A243+8860000,'Growth Data'!$A:$Z,7,0))","v":0},0,null,"NO",{"$f":"IF(ISERROR(VLOOKUP($A243+8860000,'Growth Data'!$A:$F,4,0)),\"NO\",VLOOKUP($A243+8860000,'Growth Data'!$A:$F,4,0))","v":"NO"},0,null,0,{"$f":"IF(ISERROR(VLOOKUP($A243+8860000,'Growth Data'!$A:$Z,8,0)),0,VLOOKUP($A243+8860000,'Growth Data'!$A:$Z,8,0))","v":0},0,null,0,{"$f":"IF(ISERROR(VLOOKUP($A243+8860000,'Growth Data'!$A:$Z,9,0)),0,VLOOKUP($A243+8860000,'Growth Data'!$A:$Z,9,0))","v":0},0,null,"NO",{"$f":"IF(ISERROR(VLOOKUP($A243+8860000,'Growth Data'!$A:$Z,5,0)),\"NO\",VLOOKUP($A243+8860000,'Growth Data'!$A:$Z,5,0))","v":"NO"},0,null,0,{"$f":"IF(ISERROR(VLOOKUP($A243+8860000,'Growth Data'!$A:$Z,10,0)),0,VLOOKUP($A243+8860000,'Growth Data'!$A:$Z,10,0))","v":0},0,null,0,{"$f":"IF(ISERROR(VLOOKUP($A243+8860000,'Growth Data'!$A:$Z,11,0)),0,VLOOKUP($A243+8860000,'Growth Data'!$A:$Z,11,0))","v":0},0]
[3320,"St Barnabas CEP School",null,"St Barnabas CEP School","St Barnabas CEP School",0,null,744949.82,744949.82247414428,0,null,84147.44,84147.438181939651,0,null,829097.26,829097.26065608393,0,null,5109.8599999999997,5109.8633746000005,0,null,null,null,0,null,0,0,0,null,70130.929999999993,70130.929677244145,0,null,0,0,0,null,0,null,0,null,0,null,0,null,0,null,0,null,0,null,0,null,0,null,0,null,0,null,0,null,"NO",{"$f":"IF(ISERROR(VLOOKUP($A244+8860000,'Growth Data'!$A:$F,3,0)),\"NO\",VLOOKUP($A244+8860000,'Growth Data'!$A:$F,3,0))","v":"NO"},0,null,0,{"$f":"IF(BM244=\"YES\",IF(ISERROR(VLOOKUP($A244+8860000,'Growth Data'!$A:$F,6,0)),0,VLOOKUP($A244+8860000,'Growth Data'!$A:$F,6,0)),0)","v":0},0,null,0,{"$f":"IF(ISERROR(VLOOKUP($A244+8860000,'Growth Data'!$A:$Z,7,0)),0,VLOOKUP($A244+8860000,'Growth Data'!$A:$Z,7,0))","v":0},0,null,"NO",{"$f":"IF(ISERROR(VLOOKUP($A244+8860000,'Growth Data'!$A:$F,4,0)),\"NO\",VLOOKUP($A244+8860000,'Growth Data'!$A:$F,4,0))","v":"NO"},0,null,0,{"$f":"IF(ISERROR(VLOOKUP($A244+8860000,'Growth Data'!$A:$Z,8,0)),0,VLOOKUP($A244+8860000,'Growth Data'!$A:$Z,8,0))","v":0},0,null,0,{"$f":"IF(ISERROR(VLOOKUP($A244+8860000,'Growth Data'!$A:$Z,9,0)),0,VLOOKUP($A244+8860000,'Growth Data'!$A:$Z,9,0))","v":0},0,null,"NO",{"$f":"IF(ISERROR(VLOOKUP($A244+8860000,'Growth Data'!$A:$Z,5,0)),\"NO\",VLOOKUP($A244+8860000,'Growth Data'!$A:$Z,5,0))","v":"NO"},0,null,0,{"$f":"IF(ISERROR(VLOOKUP($A244+8860000,'Growth Data'!$A:$Z,10,0)),0,VLOOKUP($A244+8860000,'Growth Data'!$A:$Z,10,0))","v":0},0,null,0,{"$f":"IF(ISERROR(VLOOKUP($A244+8860000,'Growth Data'!$A:$Z,11,0)),0,VLOOKUP($A244+8860000,'Growth Data'!$A:$Z,11,0))","v":0},0]
[3322,"St James' CEI School",null,"St James' CEI School","St James' CEI School",0,null,955589.97,955589.96524392709,0,null,0,0,0,null,955589.97,955589.96524392709,0,null,6932.98,6932.980458,0,null,null,null,0,null,0,0,0,null,92661.28,92661.27940692706,0,null,0,0,0,null,0,null,0,null,0,null,0,null,0,null,0,null,0,null,0,null,0,null,0,null,0,null,0,null,"NO",{"$f":"IF(ISERROR(VLOOKUP($A245+8860000,'Growth Data'!$A:$F,3,0)),\"NO\",VLOOKUP($A245+8860000,'Growth Data'!$A:$F,3,0))","v":"NO"},0,null,0,{"$f":"IF(BM245=\"YES\",IF(ISERROR(VLOOKUP($A245+8860000,'Growth Data'!$A:$F,6,0)),0,VLOOKUP($A245+8860000,'Growth Data'!$A:$F,6,0)),0)","v":0},0,null,0,{"$f":"IF(ISERROR(VLOOKUP($A245+8860000,'Growth Data'!$A:$Z,7,0)),0,VLOOKUP($A245+8860000,'Growth Data'!$A:$Z,7,0))","v":0},0,null,"NO",{"$f":"IF(ISERROR(VLOOKUP($A245+8860000,'Growth Data'!$A:$F,4,0)),\"NO\",VLOOKUP($A245+8860000,'Growth Data'!$A:$F,4,0))","v":"NO"},0,null,0,{"$f":"IF(ISERROR(VLOOKUP($A245+8860000,'Growth Data'!$A:$Z,8,0)),0,VLOOKUP($A245+8860000,'Growth Data'!$A:$Z,8,0))","v":0},0,null,0,{"$f":"IF(ISERROR(VLOOKUP($A245+8860000,'Growth Data'!$A:$Z,9,0)),0,VLOOKUP($A245+8860000,'Growth Data'!$A:$Z,9,0))","v":0},0,null,"NO",{"$f":"IF(ISERROR(VLOOKUP($A245+8860000,'Growth Data'!$A:$Z,5,0)),\"NO\",VLOOKUP($A245+8860000,'Growth Data'!$A:$Z,5,0))","v":"NO"},0,null,0,{"$f":"IF(ISERROR(VLOOKUP($A245+8860000,'Growth Data'!$A:$Z,10,0)),0,VLOOKUP($A245+8860000,'Growth Data'!$A:$Z,10,0))","v":0},0,null,0,{"$f":"IF(ISERROR(VLOOKUP($A245+8860000,'Growth Data'!$A:$Z,11,0)),0,VLOOKUP($A245+8860000,'Growth Data'!$A:$Z,11,0))","v":0},0]
[3323,"Hunton CEP School",null,"Hunton CEP School","Hunton CEP School",0,null,403495.56,403495.56416324573,0,null,0,0,0,null,403495.56,403495.56416324573,0,null,2439.38,2439.3820129999999,0,null,null,null,0,null,0,0,0,null,25207.040000000001,25207.041768745687,0,null,3479.3,3479.2958231254311,0,null,0,null,0,null,0,null,0,null,0,null,0,null,0,null,0,null,0,null,0,null,0,null,0,null,"NO",{"$f":"IF(ISERROR(VLOOKUP($A246+8860000,'Growth Data'!$A:$F,3,0)),\"NO\",VLOOKUP($A246+8860000,'Growth Data'!$A:$F,3,0))","v":"NO"},0,null,0,{"$f":"IF(BM246=\"YES\",IF(ISERROR(VLOOKUP($A246+8860000,'Growth Data'!$A:$F,6,0)),0,VLOOKUP($A246+8860000,'Growth Data'!$A:$F,6,0)),0)","v":0},0,null,0,{"$f":"IF(ISERROR(VLOOKUP($A246+8860000,'Growth Data'!$A:$Z,7,0)),0,VLOOKUP($A246+8860000,'Growth Data'!$A:$Z,7,0))","v":0},0,null,"NO",{"$f":"IF(ISERROR(VLOOKUP($A246+8860000,'Growth Data'!$A:$F,4,0)),\"NO\",VLOOKUP($A246+8860000,'Growth Data'!$A:$F,4,0))","v":"NO"},0,null,0,{"$f":"IF(ISERROR(VLOOKUP($A246+8860000,'Growth Data'!$A:$Z,8,0)),0,VLOOKUP($A246+8860000,'Growth Data'!$A:$Z,8,0))","v":0},0,null,0,{"$f":"IF(ISERROR(VLOOKUP($A246+8860000,'Growth Data'!$A:$Z,9,0)),0,VLOOKUP($A246+8860000,'Growth Data'!$A:$Z,9,0))","v":0},0,null,"NO",{"$f":"IF(ISERROR(VLOOKUP($A246+8860000,'Growth Data'!$A:$Z,5,0)),\"NO\",VLOOKUP($A246+8860000,'Growth Data'!$A:$Z,5,0))","v":"NO"},0,null,0,{"$f":"IF(ISERROR(VLOOKUP($A246+8860000,'Growth Data'!$A:$Z,10,0)),0,VLOOKUP($A246+8860000,'Growth Data'!$A:$Z,10,0))","v":0},0,null,0,{"$f":"IF(ISERROR(VLOOKUP($A246+8860000,'Growth Data'!$A:$Z,11,0)),0,VLOOKUP($A246+8860000,'Growth Data'!$A:$Z,11,0))","v":0},0]
[3325,"Platt CEP School",null,"Platt CEP School","Platt CEP School",0,null,558617.97,558617.97208145354,0,null,0,0,0,null,558617.97,558617.97208145354,0,null,3748.95,3748.9449883999996,0,null,null,null,0,null,0,0,0,null,39184.69,39184.685908853469,0,null,2081.5300000000002,2081.5314091146529,0,null,0,null,0,null,0,null,0,null,0,null,0,null,0,null,0,null,0,null,0,null,0,null,0,null,"NO",{"$f":"IF(ISERROR(VLOOKUP($A247+8860000,'Growth Data'!$A:$F,3,0)),\"NO\",VLOOKUP($A247+8860000,'Growth Data'!$A:$F,3,0))","v":"NO"},0,null,0,{"$f":"IF(BM247=\"YES\",IF(ISERROR(VLOOKUP($A247+8860000,'Growth Data'!$A:$F,6,0)),0,VLOOKUP($A247+8860000,'Growth Data'!$A:$F,6,0)),0)","v":0},0,null,0,{"$f":"IF(ISERROR(VLOOKUP($A247+8860000,'Growth Data'!$A:$Z,7,0)),0,VLOOKUP($A247+8860000,'Growth Data'!$A:$Z,7,0))","v":0},0,null,"NO",{"$f":"IF(ISERROR(VLOOKUP($A247+8860000,'Growth Data'!$A:$F,4,0)),\"NO\",VLOOKUP($A247+8860000,'Growth Data'!$A:$F,4,0))","v":"NO"},0,null,0,{"$f":"IF(ISERROR(VLOOKUP($A247+8860000,'Growth Data'!$A:$Z,8,0)),0,VLOOKUP($A247+8860000,'Growth Data'!$A:$Z,8,0))","v":0},0,null,0,{"$f":"IF(ISERROR(VLOOKUP($A247+8860000,'Growth Data'!$A:$Z,9,0)),0,VLOOKUP($A247+8860000,'Growth Data'!$A:$Z,9,0))","v":0},0,null,"NO",{"$f":"IF(ISERROR(VLOOKUP($A247+8860000,'Growth Data'!$A:$Z,5,0)),\"NO\",VLOOKUP($A247+8860000,'Growth Data'!$A:$Z,5,0))","v":"NO"},0,null,0,{"$f":"IF(ISERROR(VLOOKUP($A247+8860000,'Growth Data'!$A:$Z,10,0)),0,VLOOKUP($A247+8860000,'Growth Data'!$A:$Z,10,0))","v":0},0,null,0,{"$f":"IF(ISERROR(VLOOKUP($A247+8860000,'Growth Data'!$A:$Z,11,0)),0,VLOOKUP($A247+8860000,'Growth Data'!$A:$Z,11,0))","v":0},0]
[3328,"Bapchild & Tonge CEP School",null,"Bapchild & Tonge CEP School","Bapchild & Tonge CEP School",0,null,750178.95,750178.94706204394,0,null,0,0,0,null,750178.95,750178.94706204394,0,null,5186.8999999999996,5186.8964907999998,0,null,null,null,0,null,0,0,0,null,72185.34,72185.344795843965,0,null,0,0,0,null,0,null,0,null,0,null,0,null,0,null,0,null,0,null,0,null,0,null,0,null,0,null,0,null,"NO",{"$f":"IF(ISERROR(VLOOKUP($A248+8860000,'Growth Data'!$A:$F,3,0)),\"NO\",VLOOKUP($A248+8860000,'Growth Data'!$A:$F,3,0))","v":"NO"},0,null,0,{"$f":"IF(BM248=\"YES\",IF(ISERROR(VLOOKUP($A248+8860000,'Growth Data'!$A:$F,6,0)),0,VLOOKUP($A248+8860000,'Growth Data'!$A:$F,6,0)),0)","v":0},0,null,0,{"$f":"IF(ISERROR(VLOOKUP($A248+8860000,'Growth Data'!$A:$Z,7,0)),0,VLOOKUP($A248+8860000,'Growth Data'!$A:$Z,7,0))","v":0},0,null,"NO",{"$f":"IF(ISERROR(VLOOKUP($A248+8860000,'Growth Data'!$A:$F,4,0)),\"NO\",VLOOKUP($A248+8860000,'Growth Data'!$A:$F,4,0))","v":"NO"},0,null,0,{"$f":"IF(ISERROR(VLOOKUP($A248+8860000,'Growth Data'!$A:$Z,8,0)),0,VLOOKUP($A248+8860000,'Growth Data'!$A:$Z,8,0))","v":0},0,null,0,{"$f":"IF(ISERROR(VLOOKUP($A248+8860000,'Growth Data'!$A:$Z,9,0)),0,VLOOKUP($A248+8860000,'Growth Data'!$A:$Z,9,0))","v":0},0,null,"NO",{"$f":"IF(ISERROR(VLOOKUP($A248+8860000,'Growth Data'!$A:$Z,5,0)),\"NO\",VLOOKUP($A248+8860000,'Growth Data'!$A:$Z,5,0))","v":"NO"},0,null,0,{"$f":"IF(ISERROR(VLOOKUP($A248+8860000,'Growth Data'!$A:$Z,10,0)),0,VLOOKUP($A248+8860000,'Growth Data'!$A:$Z,10,0))","v":0},0,null,0,{"$f":"IF(ISERROR(VLOOKUP($A248+8860000,'Growth Data'!$A:$Z,11,0)),0,VLOOKUP($A248+8860000,'Growth Data'!$A:$Z,11,0))","v":0},0]
[3332,"Hartlip Endowed CEP School",null,"Hartlip Endowed CEP School","Hartlip Endowed CEP School",0,null,434149.36,434149.36278439278,0,null,0,0,0,null,434149.36,434149.36278439278,0,null,2670.48,2670.4813615999997,0,null,null,null,0,null,0,0,0,null,31458.26,31458.264381992849,0,null,2854.17,2854.1735618007151,0,null,0,null,0,null,0,null,0,null,0,null,0,null,0,null,0,null,0,null,0,null,0,null,0,null,"NO",{"$f":"IF(ISERROR(VLOOKUP($A249+8860000,'Growth Data'!$A:$F,3,0)),\"NO\",VLOOKUP($A249+8860000,'Growth Data'!$A:$F,3,0))","v":"NO"},0,null,0,{"$f":"IF(BM249=\"YES\",IF(ISERROR(VLOOKUP($A249+8860000,'Growth Data'!$A:$F,6,0)),0,VLOOKUP($A249+8860000,'Growth Data'!$A:$F,6,0)),0)","v":0},0,null,0,{"$f":"IF(ISERROR(VLOOKUP($A249+8860000,'Growth Data'!$A:$Z,7,0)),0,VLOOKUP($A249+8860000,'Growth Data'!$A:$Z,7,0))","v":0},0,null,"NO",{"$f":"IF(ISERROR(VLOOKUP($A249+8860000,'Growth Data'!$A:$F,4,0)),\"NO\",VLOOKUP($A249+8860000,'Growth Data'!$A:$F,4,0))","v":"NO"},0,null,0,{"$f":"IF(ISERROR(VLOOKUP($A249+8860000,'Growth Data'!$A:$Z,8,0)),0,VLOOKUP($A249+8860000,'Growth Data'!$A:$Z,8,0))","v":0},0,null,0,{"$f":"IF(ISERROR(VLOOKUP($A249+8860000,'Growth Data'!$A:$Z,9,0)),0,VLOOKUP($A249+8860000,'Growth Data'!$A:$Z,9,0))","v":0},0,null,"NO",{"$f":"IF(ISERROR(VLOOKUP($A249+8860000,'Growth Data'!$A:$Z,5,0)),\"NO\",VLOOKUP($A249+8860000,'Growth Data'!$A:$Z,5,0))","v":"NO"},0,null,0,{"$f":"IF(ISERROR(VLOOKUP($A249+8860000,'Growth Data'!$A:$Z,10,0)),0,VLOOKUP($A249+8860000,'Growth Data'!$A:$Z,10,0))","v":0},0,null,0,{"$f":"IF(ISERROR(VLOOKUP($A249+8860000,'Growth Data'!$A:$Z,11,0)),0,VLOOKUP($A249+8860000,'Growth Data'!$A:$Z,11,0))","v":0},0]
[3337,"Tunstall CEP School",null,"Tunstall CEP School","Tunstall CEP School",0,null,996439.04000000004,996439.03651331482,0,null,0,0,0,null,996439.04000000004,996439.03651331482,0,null,7600.6,7600.6007983999989,0,null,null,null,0,null,0,0,0,null,56167.24,56167.240475714614,0,null,383.28,383.2759524285384,0,null,0,null,0,null,0,null,0,null,0,null,0,null,0,null,0,null,0,null,0,null,0,null,0,null,"YES",{"$f":"IF(ISERROR(VLOOKUP($A250+8860000,'Growth Data'!$A:$F,3,0)),\"NO\",VLOOKUP($A250+8860000,'Growth Data'!$A:$F,3,0))","v":"YES"},0,null,30,{"$f":"IF(BM250=\"YES\",IF(ISERROR(VLOOKUP($A250+8860000,'Growth Data'!$A:$F,6,0)),0,VLOOKUP($A250+8860000,'Growth Data'!$A:$F,6,0)),0)","v":30},0,null,60,{"$f":"IF(ISERROR(VLOOKUP($A250+8860000,'Growth Data'!$A:$Z,7,0)),0,VLOOKUP($A250+8860000,'Growth Data'!$A:$Z,7,0))","v":60},0,null,"YES",{"$f":"IF(ISERROR(VLOOKUP($A250+8860000,'Growth Data'!$A:$F,4,0)),\"NO\",VLOOKUP($A250+8860000,'Growth Data'!$A:$F,4,0))","v":"YES"},0,null,30,{"$f":"IF(ISERROR(VLOOKUP($A250+8860000,'Growth Data'!$A:$Z,8,0)),0,VLOOKUP($A250+8860000,'Growth Data'!$A:$Z,8,0))","v":30},0,null,60,{"$f":"IF(ISERROR(VLOOKUP($A250+8860000,'Growth Data'!$A:$Z,9,0)),0,VLOOKUP($A250+8860000,'Growth Data'!$A:$Z,9,0))","v":60},0,null,"YES",{"$f":"IF(ISERROR(VLOOKUP($A250+8860000,'Growth Data'!$A:$Z,5,0)),\"NO\",VLOOKUP($A250+8860000,'Growth Data'!$A:$Z,5,0))","v":"YES"},0,null,30,{"$f":"IF(ISERROR(VLOOKUP($A250+8860000,'Growth Data'!$A:$Z,10,0)),0,VLOOKUP($A250+8860000,'Growth Data'!$A:$Z,10,0))","v":30},0,null,60,{"$f":"IF(ISERROR(VLOOKUP($A250+8860000,'Growth Data'!$A:$Z,11,0)),0,VLOOKUP($A250+8860000,'Growth Data'!$A:$Z,11,0))","v":60},0]
[3338,"Herne CEJ School",null,"Herne CEJ School","Herne CEJ School",0,null,1200637.02,1200637.0218425267,0,null,0,0,0,null,1200637.02,1200637.0218425267,0,null,9321.01,9321.0070601999996,0,null,null,null,0,null,0,0,0,null,71273.83,71273.83045722665,0,null,0,0,0,null,0,null,0,null,0,null,0,null,0,null,0,null,0,null,0,null,0,null,0,null,0,null,0,null,"NO",{"$f":"IF(ISERROR(VLOOKUP($A251+8860000,'Growth Data'!$A:$F,3,0)),\"NO\",VLOOKUP($A251+8860000,'Growth Data'!$A:$F,3,0))","v":"NO"},0,null,0,{"$f":"IF(BM251=\"YES\",IF(ISERROR(VLOOKUP($A251+8860000,'Growth Data'!$A:$F,6,0)),0,VLOOKUP($A251+8860000,'Growth Data'!$A:$F,6,0)),0)","v":0},0,null,0,{"$f":"IF(ISERROR(VLOOKUP($A251+8860000,'Growth Data'!$A:$Z,7,0)),0,VLOOKUP($A251+8860000,'Growth Data'!$A:$Z,7,0))","v":0},0,null,"NO",{"$f":"IF(ISERROR(VLOOKUP($A251+8860000,'Growth Data'!$A:$F,4,0)),\"NO\",VLOOKUP($A251+8860000,'Growth Data'!$A:$F,4,0))","v":"NO"},0,null,0,{"$f":"IF(ISERROR(VLOOKUP($A251+8860000,'Growth Data'!$A:$Z,8,0)),0,VLOOKUP($A251+8860000,'Growth Data'!$A:$Z,8,0))","v":0},0,null,0,{"$f":"IF(ISERROR(VLOOKUP($A251+8860000,'Growth Data'!$A:$Z,9,0)),0,VLOOKUP($A251+8860000,'Growth Data'!$A:$Z,9,0))","v":0},0,null,"NO",{"$f":"IF(ISERROR(VLOOKUP($A251+8860000,'Growth Data'!$A:$Z,5,0)),\"NO\",VLOOKUP($A251+8860000,'Growth Data'!$A:$Z,5,0))","v":"NO"},0,null,0,{"$f":"IF(ISERROR(VLOOKUP($A251+8860000,'Growth Data'!$A:$Z,10,0)),0,VLOOKUP($A251+8860000,'Growth Data'!$A:$Z,10,0))","v":0},0,null,0,{"$f":"IF(ISERROR(VLOOKUP($A251+8860000,'Growth Data'!$A:$Z,11,0)),0,VLOOKUP($A251+8860000,'Growth Data'!$A:$Z,11,0))","v":0},0]
[3339,"Whitstable & Seasalter Endowed CEJ School",null,"Whitstable & Seasalter Endowed CEJ School","Whitstable & Seasalter Endowed CEJ School",0,null,700595.29,700595.29470309406,0,null,0,0,0,null,700595.29,700595.29470309406,0,null,4981.47,4981.4748475999986,0,null,null,null,0,null,0,0,0,null,47461.9,47461.901021693906,0,null,1253.81,1253.8098978306089,0,null,0,null,0,null,0,null,0,null,0,null,0,null,0,null,0,null,0,null,0,null,0,null,0,null,"NO",{"$f":"IF(ISERROR(VLOOKUP($A252+8860000,'Growth Data'!$A:$F,3,0)),\"NO\",VLOOKUP($A252+8860000,'Growth Data'!$A:$F,3,0))","v":"NO"},0,null,0,{"$f":"IF(BM252=\"YES\",IF(ISERROR(VLOOKUP($A252+8860000,'Growth Data'!$A:$F,6,0)),0,VLOOKUP($A252+8860000,'Growth Data'!$A:$F,6,0)),0)","v":0},0,null,0,{"$f":"IF(ISERROR(VLOOKUP($A252+8860000,'Growth Data'!$A:$Z,7,0)),0,VLOOKUP($A252+8860000,'Growth Data'!$A:$Z,7,0))","v":0},0,null,"NO",{"$f":"IF(ISERROR(VLOOKUP($A252+8860000,'Growth Data'!$A:$F,4,0)),\"NO\",VLOOKUP($A252+8860000,'Growth Data'!$A:$F,4,0))","v":"NO"},0,null,0,{"$f":"IF(ISERROR(VLOOKUP($A252+8860000,'Growth Data'!$A:$Z,8,0)),0,VLOOKUP($A252+8860000,'Growth Data'!$A:$Z,8,0))","v":0},0,null,0,{"$f":"IF(ISERROR(VLOOKUP($A252+8860000,'Growth Data'!$A:$Z,9,0)),0,VLOOKUP($A252+8860000,'Growth Data'!$A:$Z,9,0))","v":0},0,null,"NO",{"$f":"IF(ISERROR(VLOOKUP($A252+8860000,'Growth Data'!$A:$Z,5,0)),\"NO\",VLOOKUP($A252+8860000,'Growth Data'!$A:$Z,5,0))","v":"NO"},0,null,0,{"$f":"IF(ISERROR(VLOOKUP($A252+8860000,'Growth Data'!$A:$Z,10,0)),0,VLOOKUP($A252+8860000,'Growth Data'!$A:$Z,10,0))","v":0},0,null,0,{"$f":"IF(ISERROR(VLOOKUP($A252+8860000,'Growth Data'!$A:$Z,11,0)),0,VLOOKUP($A252+8860000,'Growth Data'!$A:$Z,11,0))","v":0},0]
[3340,"St Mary's CEP School, Ashford",null,"St Mary's CEP School, Ashford","St Mary's CEP School, Ashford",0,null,1486909.84,1486909.841923096,0,null,0,0,0,null,1486909.84,1486909.841923096,0,null,10784.64,10784.636268,0,null,null,null,0,null,0,0,0,null,183924.25,183924.25182109588,0,null,0,0,0,null,0,null,0,null,0,null,0,null,0,null,0,null,0,null,0,null,0,null,0,null,0,null,0,null,"NO",{"$f":"IF(ISERROR(VLOOKUP($A253+8860000,'Growth Data'!$A:$F,3,0)),\"NO\",VLOOKUP($A253+8860000,'Growth Data'!$A:$F,3,0))","v":"NO"},0,null,0,{"$f":"IF(BM253=\"YES\",IF(ISERROR(VLOOKUP($A253+8860000,'Growth Data'!$A:$F,6,0)),0,VLOOKUP($A253+8860000,'Growth Data'!$A:$F,6,0)),0)","v":0},0,null,0,{"$f":"IF(ISERROR(VLOOKUP($A253+8860000,'Growth Data'!$A:$Z,7,0)),0,VLOOKUP($A253+8860000,'Growth Data'!$A:$Z,7,0))","v":0},0,null,"NO",{"$f":"IF(ISERROR(VLOOKUP($A253+8860000,'Growth Data'!$A:$F,4,0)),\"NO\",VLOOKUP($A253+8860000,'Growth Data'!$A:$F,4,0))","v":"NO"},0,null,0,{"$f":"IF(ISERROR(VLOOKUP($A253+8860000,'Growth Data'!$A:$Z,8,0)),0,VLOOKUP($A253+8860000,'Growth Data'!$A:$Z,8,0))","v":0},0,null,0,{"$f":"IF(ISERROR(VLOOKUP($A253+8860000,'Growth Data'!$A:$Z,9,0)),0,VLOOKUP($A253+8860000,'Growth Data'!$A:$Z,9,0))","v":0},0,null,"NO",{"$f":"IF(ISERROR(VLOOKUP($A253+8860000,'Growth Data'!$A:$Z,5,0)),\"NO\",VLOOKUP($A253+8860000,'Growth Data'!$A:$Z,5,0))","v":"NO"},0,null,0,{"$f":"IF(ISERROR(VLOOKUP($A253+8860000,'Growth Data'!$A:$Z,10,0)),0,VLOOKUP($A253+8860000,'Growth Data'!$A:$Z,10,0))","v":0},0,null,0,{"$f":"IF(ISERROR(VLOOKUP($A253+8860000,'Growth Data'!$A:$Z,11,0)),0,VLOOKUP($A253+8860000,'Growth Data'!$A:$Z,11,0))","v":0},0]
[3346,"Wittersham CEP School",null,"Wittersham CEP School","Wittersham CEP School",0,null,516185.82,516185.824567148,0,null,0,0,0,null,516185.82,516185.824567148,0,null,3209.71,3209.7131750000003,0,null,null,null,0,null,0,0,0,null,40902.68,40902.68105935429,0,null,1909.73,1909.731894064571,0,null,0,null,0,null,0,null,0,null,0,null,0,null,0,null,0,null,0,null,0,null,0,null,0,null,"NO",{"$f":"IF(ISERROR(VLOOKUP($A254+8860000,'Growth Data'!$A:$F,3,0)),\"NO\",VLOOKUP($A254+8860000,'Growth Data'!$A:$F,3,0))","v":"NO"},0,null,0,{"$f":"IF(BM254=\"YES\",IF(ISERROR(VLOOKUP($A254+8860000,'Growth Data'!$A:$F,6,0)),0,VLOOKUP($A254+8860000,'Growth Data'!$A:$F,6,0)),0)","v":0},0,null,0,{"$f":"IF(ISERROR(VLOOKUP($A254+8860000,'Growth Data'!$A:$Z,7,0)),0,VLOOKUP($A254+8860000,'Growth Data'!$A:$Z,7,0))","v":0},0,null,"NO",{"$f":"IF(ISERROR(VLOOKUP($A254+8860000,'Growth Data'!$A:$F,4,0)),\"NO\",VLOOKUP($A254+8860000,'Growth Data'!$A:$F,4,0))","v":"NO"},0,null,0,{"$f":"IF(ISERROR(VLOOKUP($A254+8860000,'Growth Data'!$A:$Z,8,0)),0,VLOOKUP($A254+8860000,'Growth Data'!$A:$Z,8,0))","v":0},0,null,0,{"$f":"IF(ISERROR(VLOOKUP($A254+8860000,'Growth Data'!$A:$Z,9,0)),0,VLOOKUP($A254+8860000,'Growth Data'!$A:$Z,9,0))","v":0},0,null,"NO",{"$f":"IF(ISERROR(VLOOKUP($A254+8860000,'Growth Data'!$A:$Z,5,0)),\"NO\",VLOOKUP($A254+8860000,'Growth Data'!$A:$Z,5,0))","v":"NO"},0,null,0,{"$f":"IF(ISERROR(VLOOKUP($A254+8860000,'Growth Data'!$A:$Z,10,0)),0,VLOOKUP($A254+8860000,'Growth Data'!$A:$Z,10,0))","v":0},0,null,0,{"$f":"IF(ISERROR(VLOOKUP($A254+8860000,'Growth Data'!$A:$Z,11,0)),0,VLOOKUP($A254+8860000,'Growth Data'!$A:$Z,11,0))","v":0},0]
[3347,"Elham CEP School",null,"Elham CEP School","Elham CEP School",0,null,518575.96,518575.964913023,0,null,0,0,0,null,518575.96,518575.964913023,0,null,3415.13,3415.1348181999992,0,null,null,null,0,null,0,0,0,null,34604.49,34604.492840723047,0,null,2539.5500000000002,2539.5507159276949,0,null,0,null,0,null,0,null,0,null,0,null,0,null,0,null,0,null,0,null,0,null,0,null,0,null,"NO",{"$f":"IF(ISERROR(VLOOKUP($A255+8860000,'Growth Data'!$A:$F,3,0)),\"NO\",VLOOKUP($A255+8860000,'Growth Data'!$A:$F,3,0))","v":"NO"},0,null,0,{"$f":"IF(BM255=\"YES\",IF(ISERROR(VLOOKUP($A255+8860000,'Growth Data'!$A:$F,6,0)),0,VLOOKUP($A255+8860000,'Growth Data'!$A:$F,6,0)),0)","v":0},0,null,0,{"$f":"IF(ISERROR(VLOOKUP($A255+8860000,'Growth Data'!$A:$Z,7,0)),0,VLOOKUP($A255+8860000,'Growth Data'!$A:$Z,7,0))","v":0},0,null,"NO",{"$f":"IF(ISERROR(VLOOKUP($A255+8860000,'Growth Data'!$A:$F,4,0)),\"NO\",VLOOKUP($A255+8860000,'Growth Data'!$A:$F,4,0))","v":"NO"},0,null,0,{"$f":"IF(ISERROR(VLOOKUP($A255+8860000,'Growth Data'!$A:$Z,8,0)),0,VLOOKUP($A255+8860000,'Growth Data'!$A:$Z,8,0))","v":0},0,null,0,{"$f":"IF(ISERROR(VLOOKUP($A255+8860000,'Growth Data'!$A:$Z,9,0)),0,VLOOKUP($A255+8860000,'Growth Data'!$A:$Z,9,0))","v":0},0,null,"NO",{"$f":"IF(ISERROR(VLOOKUP($A255+8860000,'Growth Data'!$A:$Z,5,0)),\"NO\",VLOOKUP($A255+8860000,'Growth Data'!$A:$Z,5,0))","v":"NO"},0,null,0,{"$f":"IF(ISERROR(VLOOKUP($A255+8860000,'Growth Data'!$A:$Z,10,0)),0,VLOOKUP($A255+8860000,'Growth Data'!$A:$Z,10,0))","v":0},0,null,0,{"$f":"IF(ISERROR(VLOOKUP($A255+8860000,'Growth Data'!$A:$Z,11,0)),0,VLOOKUP($A255+8860000,'Growth Data'!$A:$Z,11,0))","v":0},0]
[3350,"Saltwood CEP School",null,"Saltwood CEP School","Saltwood CEP School",0,null,768795.16,768795.16167025093,0,null,0,0,0,null,768795.16,768795.16167025093,0,null,5649.1,5649.0951879999984,0,null,null,null,0,null,0,0,0,null,41324.839999999997,41324.836188250942,0,null,1867.52,1867.5163811749053,0,null,0,null,0,null,0,null,0,null,0,null,0,null,0,null,0,null,0,null,0,null,0,null,0,null,"NO",{"$f":"IF(ISERROR(VLOOKUP($A256+8860000,'Growth Data'!$A:$F,3,0)),\"NO\",VLOOKUP($A256+8860000,'Growth Data'!$A:$F,3,0))","v":"NO"},0,null,0,{"$f":"IF(BM256=\"YES\",IF(ISERROR(VLOOKUP($A256+8860000,'Growth Data'!$A:$F,6,0)),0,VLOOKUP($A256+8860000,'Growth Data'!$A:$F,6,0)),0)","v":0},0,null,0,{"$f":"IF(ISERROR(VLOOKUP($A256+8860000,'Growth Data'!$A:$Z,7,0)),0,VLOOKUP($A256+8860000,'Growth Data'!$A:$Z,7,0))","v":0},0,null,"NO",{"$f":"IF(ISERROR(VLOOKUP($A256+8860000,'Growth Data'!$A:$F,4,0)),\"NO\",VLOOKUP($A256+8860000,'Growth Data'!$A:$F,4,0))","v":"NO"},0,null,0,{"$f":"IF(ISERROR(VLOOKUP($A256+8860000,'Growth Data'!$A:$Z,8,0)),0,VLOOKUP($A256+8860000,'Growth Data'!$A:$Z,8,0))","v":0},0,null,0,{"$f":"IF(ISERROR(VLOOKUP($A256+8860000,'Growth Data'!$A:$Z,9,0)),0,VLOOKUP($A256+8860000,'Growth Data'!$A:$Z,9,0))","v":0},0,null,"NO",{"$f":"IF(ISERROR(VLOOKUP($A256+8860000,'Growth Data'!$A:$Z,5,0)),\"NO\",VLOOKUP($A256+8860000,'Growth Data'!$A:$Z,5,0))","v":"NO"},0,null,0,{"$f":"IF(ISERROR(VLOOKUP($A256+8860000,'Growth Data'!$A:$Z,10,0)),0,VLOOKUP($A256+8860000,'Growth Data'!$A:$Z,10,0))","v":0},0,null,0,{"$f":"IF(ISERROR(VLOOKUP($A256+8860000,'Growth Data'!$A:$Z,11,0)),0,VLOOKUP($A256+8860000,'Growth Data'!$A:$Z,11,0))","v":0},0]
[3351,"Ash Cartwright and Kelsey CEP School",null,"Ash Cartwright and Kelsey CEP School","Ash Cartwright and Kelsey CEP School",0,null,619078.76,619078.75692674227,0,null,0,0,0,null,619078.76,619078.75692674227,0,null,4211.1400000000003,4211.1436856000009,0,null,null,null,0,null,4.9000000000000004,4.9000000000000004,0,null,42033.8,42033.800738342194,0,null,1796.62,1796.6199261657803,0,null,0,null,0,null,0,null,0,null,0,null,0,null,0,null,0,null,0,null,0,null,0,null,0,null,"NO",{"$f":"IF(ISERROR(VLOOKUP($A257+8860000,'Growth Data'!$A:$F,3,0)),\"NO\",VLOOKUP($A257+8860000,'Growth Data'!$A:$F,3,0))","v":"NO"},0,null,0,{"$f":"IF(BM257=\"YES\",IF(ISERROR(VLOOKUP($A257+8860000,'Growth Data'!$A:$F,6,0)),0,VLOOKUP($A257+8860000,'Growth Data'!$A:$F,6,0)),0)","v":0},0,null,0,{"$f":"IF(ISERROR(VLOOKUP($A257+8860000,'Growth Data'!$A:$Z,7,0)),0,VLOOKUP($A257+8860000,'Growth Data'!$A:$Z,7,0))","v":0},0,null,"NO",{"$f":"IF(ISERROR(VLOOKUP($A257+8860000,'Growth Data'!$A:$F,4,0)),\"NO\",VLOOKUP($A257+8860000,'Growth Data'!$A:$F,4,0))","v":"NO"},0,null,0,{"$f":"IF(ISERROR(VLOOKUP($A257+8860000,'Growth Data'!$A:$Z,8,0)),0,VLOOKUP($A257+8860000,'Growth Data'!$A:$Z,8,0))","v":0},0,null,0,{"$f":"IF(ISERROR(VLOOKUP($A257+8860000,'Growth Data'!$A:$Z,9,0)),0,VLOOKUP($A257+8860000,'Growth Data'!$A:$Z,9,0))","v":0},0,null,"NO",{"$f":"IF(ISERROR(VLOOKUP($A257+8860000,'Growth Data'!$A:$Z,5,0)),\"NO\",VLOOKUP($A257+8860000,'Growth Data'!$A:$Z,5,0))","v":"NO"},0,null,0,{"$f":"IF(ISERROR(VLOOKUP($A257+8860000,'Growth Data'!$A:$Z,10,0)),0,VLOOKUP($A257+8860000,'Growth Data'!$A:$Z,10,0))","v":0},0,null,0,{"$f":"IF(ISERROR(VLOOKUP($A257+8860000,'Growth Data'!$A:$Z,11,0)),0,VLOOKUP($A257+8860000,'Growth Data'!$A:$Z,11,0))","v":0},0]
[3353,"Deal Parochial CEP School",null,"Deal Parochial CEP School","Deal Parochial CEP School",{"$f":"IF(E258=D258,0,1)","v":0},null,773189.64,773189.63720917655,{"$f":"ROUND(H258-I258,0)","v":0},null,0,0,{"$f":"ROUND(L258-M258,0)","v":0},null,773189.64,773189.63720917655,{"$f":"ROUND(P258-Q258,0)","v":0},null,5263.93,5263.9296069999991,{"$f":"ROUND(T258-U258,0)","v":0},null,null,null,{"$f":"ROUND(X258-Y258,0)","v":0},null,0,0,{"$f":"ROUND(AB258-AC258,0)","v":0},null,71641.09,71641.092273676448,{"$f":"ROUND(AF258-AG258,0)","v":0},null,0,0,{"$f":"ROUND(AJ258-AK258,0)","v":0},null,0,null,{"$f":"ROUND(AN258-AO258,0)","v":0},null,0,null,{"$f":"ROUND(AR258-AS258,0)","v":0},null,0,null,{"$f":"ROUND(AV258-AW258,0)","v":0},null,0,null,{"$f":"ROUND(AZ258-BA258,0)","v":0},null,0,null,{"$f":"ROUND(BD258-BE258,0)","v":0},null,0,null,{"$f":"ROUND(BH258-BI258,0)","v":0},null,"NO",{"$f":"IF(ISERROR(VLOOKUP($A258+8860000,'Growth Data'!$A:$F,3,0)),\"NO\",VLOOKUP($A258+8860000,'Growth Data'!$A:$F,3,0))","v":"NO"},{"$f":"IF(BL258=BM258,0,1)","v":0},null,0,{"$f":"IF(BM258=\"YES\",IF(ISERROR(VLOOKUP($A258+8860000,'Growth Data'!$A:$F,6,0)),0,VLOOKUP($A258+8860000,'Growth Data'!$A:$F,6,0)),0)","v":0},{"$f":"ROUND(BP258-BQ258,0)","v":0},null,0,{"$f":"IF(ISERROR(VLOOKUP($A258+8860000,'Growth Data'!$A:$Z,7,0)),0,VLOOKUP($A258+8860000,'Growth Data'!$A:$Z,7,0))","v":0},{"$f":"IF(BT258=BU258,0,1)","v":0},null,"NO",{"$f":"IF(ISERROR(VLOOKUP($A258+8860000,'Growth Data'!$A:$F,4,0)),\"NO\",VLOOKUP($A258+8860000,'Growth Data'!$A:$F,4,0))","v":"NO"},0,null,0,{"$f":"IF(ISERROR(VLOOKUP($A258+8860000,'Growth Data'!$A:$Z,8,0)),0,VLOOKUP($A258+8860000,'Growth Data'!$A:$Z,8,0))","v":0},{"$f":"IF(CB258=CC258,0,1)","v":0},null,0,{"$f":"IF(ISERROR(VLOOKUP($A258+8860000,'Growth Data'!$A:$Z,9,0)),0,VLOOKUP($A258+8860000,'Growth Data'!$A:$Z,9,0))","v":0},0,null,"NO",{"$f":"IF(ISERROR(VLOOKUP($A258+8860000,'Growth Data'!$A:$Z,5,0)),\"NO\",VLOOKUP($A258+8860000,'Growth Data'!$A:$Z,5,0))","v":"NO"},0,null,0,{"$f":"IF(ISERROR(VLOOKUP($A258+8860000,'Growth Data'!$A:$Z,10,0)),0,VLOOKUP($A258+8860000,'Growth Data'!$A:$Z,10,0))","v":0},0,null,0,{"$f":"IF(ISERROR(VLOOKUP($A258+8860000,'Growth Data'!$A:$Z,11,0)),0,VLOOKUP($A258+8860000,'Growth Data'!$A:$Z,11,0))","v":0},0]
[3356,"St Mary's CEP School, Dover",null,"St Mary's CEP School, Dover","St Mary's CEP School, Dover",0,null,881473.12,881473.12023594126,0,null,0,0,0,null,881473.12,881473.12023594126,0,null,5520.71,5520.7066610000002,0,null,null,null,0,null,0,0,0,null,150781.76999999999,150781.77426944111,0,null,0,0,0,null,0,null,0,null,0,null,0,null,0,null,0,null,0,null,0,null,0,null,0,null,0,null,0,null,"NO",{"$f":"IF(ISERROR(VLOOKUP($A259+8860000,'Growth Data'!$A:$F,3,0)),\"NO\",VLOOKUP($A259+8860000,'Growth Data'!$A:$F,3,0))","v":"NO"},0,null,0,{"$f":"IF(BM259=\"YES\",IF(ISERROR(VLOOKUP($A259+8860000,'Growth Data'!$A:$F,6,0)),0,VLOOKUP($A259+8860000,'Growth Data'!$A:$F,6,0)),0)","v":0},0,null,0,{"$f":"IF(ISERROR(VLOOKUP($A259+8860000,'Growth Data'!$A:$Z,7,0)),0,VLOOKUP($A259+8860000,'Growth Data'!$A:$Z,7,0))","v":0},0,null,"NO",{"$f":"IF(ISERROR(VLOOKUP($A259+8860000,'Growth Data'!$A:$F,4,0)),\"NO\",VLOOKUP($A259+8860000,'Growth Data'!$A:$F,4,0))","v":"NO"},{"$f":"IF(BX259=BY259,0,1)","v":0},null,0,{"$f":"IF(ISERROR(VLOOKUP($A259+8860000,'Growth Data'!$A:$Z,8,0)),0,VLOOKUP($A259+8860000,'Growth Data'!$A:$Z,8,0))","v":0},0,null,0,{"$f":"IF(ISERROR(VLOOKUP($A259+8860000,'Growth Data'!$A:$Z,9,0)),0,VLOOKUP($A259+8860000,'Growth Data'!$A:$Z,9,0))","v":0},{"$f":"IF(CF259=CG259,0,1)","v":0},null,"NO",{"$f":"IF(ISERROR(VLOOKUP($A259+8860000,'Growth Data'!$A:$Z,5,0)),\"NO\",VLOOKUP($A259+8860000,'Growth Data'!$A:$Z,5,0))","v":"NO"},{"$f":"IF(CJ259=CK259,0,1)","v":0},null,0,{"$f":"IF(ISERROR(VLOOKUP($A259+8860000,'Growth Data'!$A:$Z,10,0)),0,VLOOKUP($A259+8860000,'Growth Data'!$A:$Z,10,0))","v":0},{"$f":"IF(CN259=CO259,0,1)","v":0},null,0,{"$f":"IF(ISERROR(VLOOKUP($A259+8860000,'Growth Data'!$A:$Z,11,0)),0,VLOOKUP($A259+8860000,'Growth Data'!$A:$Z,11,0))","v":0},{"$f":"IF(CR259=CS259,0,1)","v":0}]
[3358,"Sholden CEP School",null,"Sholden CEP School","Sholden CEP School",0,null,444177.33,444177.33269137231,0,null,1078.73,1078.7258639208158,0,null,445256.06,445256.05855529313,0,null,2721.84,2721.8367724,0,null,null,null,0,null,0,0,0,null,33752.639999999999,33752.64184277234,0,null,2624.74,2624.7358157227659,0,null,0,null,0,null,0,null,0,null,0,null,0,null,0,null,0,null,0,null,0,null,0,null,0,null,"NO",{"$f":"IF(ISERROR(VLOOKUP($A260+8860000,'Growth Data'!$A:$F,3,0)),\"NO\",VLOOKUP($A260+8860000,'Growth Data'!$A:$F,3,0))","v":"NO"},0,null,0,{"$f":"IF(BM260=\"YES\",IF(ISERROR(VLOOKUP($A260+8860000,'Growth Data'!$A:$F,6,0)),0,VLOOKUP($A260+8860000,'Growth Data'!$A:$F,6,0)),0)","v":0},0,null,0,{"$f":"IF(ISERROR(VLOOKUP($A260+8860000,'Growth Data'!$A:$Z,7,0)),0,VLOOKUP($A260+8860000,'Growth Data'!$A:$Z,7,0))","v":0},0,null,"NO",{"$f":"IF(ISERROR(VLOOKUP($A260+8860000,'Growth Data'!$A:$F,4,0)),\"NO\",VLOOKUP($A260+8860000,'Growth Data'!$A:$F,4,0))","v":"NO"},0,null,0,{"$f":"IF(ISERROR(VLOOKUP($A260+8860000,'Growth Data'!$A:$Z,8,0)),0,VLOOKUP($A260+8860000,'Growth Data'!$A:$Z,8,0))","v":0},0,null,0,{"$f":"IF(ISERROR(VLOOKUP($A260+8860000,'Growth Data'!$A:$Z,9,0)),0,VLOOKUP($A260+8860000,'Growth Data'!$A:$Z,9,0))","v":0},0,null,"NO",{"$f":"IF(ISERROR(VLOOKUP($A260+8860000,'Growth Data'!$A:$Z,5,0)),\"NO\",VLOOKUP($A260+8860000,'Growth Data'!$A:$Z,5,0))","v":"NO"},0,null,0,{"$f":"IF(ISERROR(VLOOKUP($A260+8860000,'Growth Data'!$A:$Z,10,0)),0,VLOOKUP($A260+8860000,'Growth Data'!$A:$Z,10,0))","v":0},0,null,0,{"$f":"IF(ISERROR(VLOOKUP($A260+8860000,'Growth Data'!$A:$Z,11,0)),0,VLOOKUP($A260+8860000,'Growth Data'!$A:$Z,11,0))","v":0},0]
[3360,"St Peter-in-Thanet CEJ School",null,"St Peter-in-Thanet CEJ School","St Peter-in-Thanet CEJ School",0,null,1318628.02,1318628.0150252217,0,null,0,0,0,null,1318628.02,1318628.0150252217,0,null,9577.7800000000007,9577.7841141999997,0,null,null,null,0,null,0,0,0,null,152660.10999999999,152660.11180892173,0,null,0,0,0,null,0,null,0,null,0,null,0,null,0,null,0,null,0,null,0,null,0,null,0,null,0,null,0,null,"NO",{"$f":"IF(ISERROR(VLOOKUP($A261+8860000,'Growth Data'!$A:$F,3,0)),\"NO\",VLOOKUP($A261+8860000,'Growth Data'!$A:$F,3,0))","v":"NO"},0,null,0,{"$f":"IF(BM261=\"YES\",IF(ISERROR(VLOOKUP($A261+8860000,'Growth Data'!$A:$F,6,0)),0,VLOOKUP($A261+8860000,'Growth Data'!$A:$F,6,0)),0)","v":0},0,null,0,{"$f":"IF(ISERROR(VLOOKUP($A261+8860000,'Growth Data'!$A:$Z,7,0)),0,VLOOKUP($A261+8860000,'Growth Data'!$A:$Z,7,0))","v":0},0,null,"NO",{"$f":"IF(ISERROR(VLOOKUP($A261+8860000,'Growth Data'!$A:$F,4,0)),\"NO\",VLOOKUP($A261+8860000,'Growth Data'!$A:$F,4,0))","v":"NO"},0,null,0,{"$f":"IF(ISERROR(VLOOKUP($A261+8860000,'Growth Data'!$A:$Z,8,0)),0,VLOOKUP($A261+8860000,'Growth Data'!$A:$Z,8,0))","v":0},0,null,0,{"$f":"IF(ISERROR(VLOOKUP($A261+8860000,'Growth Data'!$A:$Z,9,0)),0,VLOOKUP($A261+8860000,'Growth Data'!$A:$Z,9,0))","v":0},0,null,"NO",{"$f":"IF(ISERROR(VLOOKUP($A261+8860000,'Growth Data'!$A:$Z,5,0)),\"NO\",VLOOKUP($A261+8860000,'Growth Data'!$A:$Z,5,0))","v":"NO"},0,null,0,{"$f":"IF(ISERROR(VLOOKUP($A261+8860000,'Growth Data'!$A:$Z,10,0)),0,VLOOKUP($A261+8860000,'Growth Data'!$A:$Z,10,0))","v":0},0,null,0,{"$f":"IF(ISERROR(VLOOKUP($A261+8860000,'Growth Data'!$A:$Z,11,0)),0,VLOOKUP($A261+8860000,'Growth Data'!$A:$Z,11,0))","v":0},0]
[3364,"Ramsgate, Holy Trinity CEP School",null,"Ramsgate, Holy Trinity CEP School","Ramsgate, Holy Trinity CEP School",0,null,769612.16,769612.16345475195,0,null,0,0,0,null,769612.16,769612.16345475195,0,null,5392.32,5392.3181340000001,0,null,null,null,0,null,0,0,0,null,66615.17,66615.174203751929,0,null,0,0,0,null,0,null,0,null,0,null,0,null,0,null,0,null,0,null,0,null,0,null,0,null,0,null,0,null,"NO",{"$f":"IF(ISERROR(VLOOKUP($A262+8860000,'Growth Data'!$A:$F,3,0)),\"NO\",VLOOKUP($A262+8860000,'Growth Data'!$A:$F,3,0))","v":"NO"},0,null,0,{"$f":"IF(BM262=\"YES\",IF(ISERROR(VLOOKUP($A262+8860000,'Growth Data'!$A:$F,6,0)),0,VLOOKUP($A262+8860000,'Growth Data'!$A:$F,6,0)),0)","v":0},0,null,0,{"$f":"IF(ISERROR(VLOOKUP($A262+8860000,'Growth Data'!$A:$Z,7,0)),0,VLOOKUP($A262+8860000,'Growth Data'!$A:$Z,7,0))","v":0},0,null,"NO",{"$f":"IF(ISERROR(VLOOKUP($A262+8860000,'Growth Data'!$A:$F,4,0)),\"NO\",VLOOKUP($A262+8860000,'Growth Data'!$A:$F,4,0))","v":"NO"},0,null,0,{"$f":"IF(ISERROR(VLOOKUP($A262+8860000,'Growth Data'!$A:$Z,8,0)),0,VLOOKUP($A262+8860000,'Growth Data'!$A:$Z,8,0))","v":0},0,null,0,{"$f":"IF(ISERROR(VLOOKUP($A262+8860000,'Growth Data'!$A:$Z,9,0)),0,VLOOKUP($A262+8860000,'Growth Data'!$A:$Z,9,0))","v":0},0,null,"NO",{"$f":"IF(ISERROR(VLOOKUP($A262+8860000,'Growth Data'!$A:$Z,5,0)),\"NO\",VLOOKUP($A262+8860000,'Growth Data'!$A:$Z,5,0))","v":"NO"},0,null,0,{"$f":"IF(ISERROR(VLOOKUP($A262+8860000,'Growth Data'!$A:$Z,10,0)),0,VLOOKUP($A262+8860000,'Growth Data'!$A:$Z,10,0))","v":0},0,null,0,{"$f":"IF(ISERROR(VLOOKUP($A262+8860000,'Growth Data'!$A:$Z,11,0)),0,VLOOKUP($A262+8860000,'Growth Data'!$A:$Z,11,0))","v":0},0]
[3373,"St Mary's CEP School",null,"St Mary's CEP School","St Mary's CEP School",0,null,852238.1,852238.09897345072,0,null,0,0,0,null,852238.1,852238.09897345072,0,null,5295.86,5295.86240143544,0,null,null,null,0,null,4.91,4.91,0,null,132815.06,132815.05978610364,0,null,0,0,0,null,0,null,0,null,0,null,0,null,0,null,0,null,0,null,0,null,0,null,0,null,0,null,0,null,"NO",{"$f":"IF(ISERROR(VLOOKUP($A263+8860000,'Growth Data'!$A:$F,3,0)),\"NO\",VLOOKUP($A263+8860000,'Growth Data'!$A:$F,3,0))","v":"NO"},0,null,0,{"$f":"IF(BM263=\"YES\",IF(ISERROR(VLOOKUP($A263+8860000,'Growth Data'!$A:$F,6,0)),0,VLOOKUP($A263+8860000,'Growth Data'!$A:$F,6,0)),0)","v":0},0,null,0,{"$f":"IF(ISERROR(VLOOKUP($A263+8860000,'Growth Data'!$A:$Z,7,0)),0,VLOOKUP($A263+8860000,'Growth Data'!$A:$Z,7,0))","v":0},0,null,"NO",{"$f":"IF(ISERROR(VLOOKUP($A263+8860000,'Growth Data'!$A:$F,4,0)),\"NO\",VLOOKUP($A263+8860000,'Growth Data'!$A:$F,4,0))","v":"NO"},0,null,0,{"$f":"IF(ISERROR(VLOOKUP($A263+8860000,'Growth Data'!$A:$Z,8,0)),0,VLOOKUP($A263+8860000,'Growth Data'!$A:$Z,8,0))","v":0},0,null,0,{"$f":"IF(ISERROR(VLOOKUP($A263+8860000,'Growth Data'!$A:$Z,9,0)),0,VLOOKUP($A263+8860000,'Growth Data'!$A:$Z,9,0))","v":0},0,null,"NO",{"$f":"IF(ISERROR(VLOOKUP($A263+8860000,'Growth Data'!$A:$Z,5,0)),\"NO\",VLOOKUP($A263+8860000,'Growth Data'!$A:$Z,5,0))","v":"NO"},0,null,0,{"$f":"IF(ISERROR(VLOOKUP($A263+8860000,'Growth Data'!$A:$Z,10,0)),0,VLOOKUP($A263+8860000,'Growth Data'!$A:$Z,10,0))","v":0},0,null,0,{"$f":"IF(ISERROR(VLOOKUP($A263+8860000,'Growth Data'!$A:$Z,11,0)),0,VLOOKUP($A263+8860000,'Growth Data'!$A:$Z,11,0))","v":0},0]
[3718,"St Augustine's Catholic Primary School, Hythe",null,"St Augustine's Catholic Primary School, Hythe","St Augustine's Catholic Primary School, Hythe",0,null,761588.49,761588.48543881322,0,null,0,0,0,null,761588.49,761588.48543881322,0,null,5263.93,5263.9296069999991,0,null,null,null,0,null,0,0,0,null,73062.14,73062.137703313245,0,null,0,0,0,null,0,null,0,null,0,null,0,null,0,null,0,null,0,null,0,null,0,null,0,null,0,null,0,null,"NO",{"$f":"IF(ISERROR(VLOOKUP($A264+8860000,'Growth Data'!$A:$F,3,0)),\"NO\",VLOOKUP($A264+8860000,'Growth Data'!$A:$F,3,0))","v":"NO"},0,null,0,{"$f":"IF(BM264=\"YES\",IF(ISERROR(VLOOKUP($A264+8860000,'Growth Data'!$A:$F,6,0)),0,VLOOKUP($A264+8860000,'Growth Data'!$A:$F,6,0)),0)","v":0},0,null,0,{"$f":"IF(ISERROR(VLOOKUP($A264+8860000,'Growth Data'!$A:$Z,7,0)),0,VLOOKUP($A264+8860000,'Growth Data'!$A:$Z,7,0))","v":0},0,null,"NO",{"$f":"IF(ISERROR(VLOOKUP($A264+8860000,'Growth Data'!$A:$F,4,0)),\"NO\",VLOOKUP($A264+8860000,'Growth Data'!$A:$F,4,0))","v":"NO"},0,null,0,{"$f":"IF(ISERROR(VLOOKUP($A264+8860000,'Growth Data'!$A:$Z,8,0)),0,VLOOKUP($A264+8860000,'Growth Data'!$A:$Z,8,0))","v":0},0,null,0,{"$f":"IF(ISERROR(VLOOKUP($A264+8860000,'Growth Data'!$A:$Z,9,0)),0,VLOOKUP($A264+8860000,'Growth Data'!$A:$Z,9,0))","v":0},0,null,"NO",{"$f":"IF(ISERROR(VLOOKUP($A264+8860000,'Growth Data'!$A:$Z,5,0)),\"NO\",VLOOKUP($A264+8860000,'Growth Data'!$A:$Z,5,0))","v":"NO"},0,null,0,{"$f":"IF(ISERROR(VLOOKUP($A264+8860000,'Growth Data'!$A:$Z,10,0)),0,VLOOKUP($A264+8860000,'Growth Data'!$A:$Z,10,0))","v":0},0,null,0,{"$f":"IF(ISERROR(VLOOKUP($A264+8860000,'Growth Data'!$A:$Z,11,0)),0,VLOOKUP($A264+8860000,'Growth Data'!$A:$Z,11,0))","v":0},0]
[3722,"St Ethelbert's Catholic Primary School, Ramsgate",null,"St Ethelbert's Catholic Primary School, Ramsgate","St Ethelbert's Catholic Primary School, Ramsgate",0,null,816969.9,816969.89715616405,0,null,0,0,0,null,816969.9,816969.89715616405,0,null,5418,5417.9958393999996,0,null,null,null,0,null,0,0,0,null,108942.9,108942.89728206395,0,null,0,0,0,null,0,null,0,null,0,null,0,null,0,null,0,null,0,null,0,null,0,null,0,null,0,null,0,null,"NO",{"$f":"IF(ISERROR(VLOOKUP($A265+8860000,'Growth Data'!$A:$F,3,0)),\"NO\",VLOOKUP($A265+8860000,'Growth Data'!$A:$F,3,0))","v":"NO"},0,null,0,{"$f":"IF(BM265=\"YES\",IF(ISERROR(VLOOKUP($A265+8860000,'Growth Data'!$A:$F,6,0)),0,VLOOKUP($A265+8860000,'Growth Data'!$A:$F,6,0)),0)","v":0},0,null,0,{"$f":"IF(ISERROR(VLOOKUP($A265+8860000,'Growth Data'!$A:$Z,7,0)),0,VLOOKUP($A265+8860000,'Growth Data'!$A:$Z,7,0))","v":0},0,null,"NO",{"$f":"IF(ISERROR(VLOOKUP($A265+8860000,'Growth Data'!$A:$F,4,0)),\"NO\",VLOOKUP($A265+8860000,'Growth Data'!$A:$F,4,0))","v":"NO"},0,null,0,{"$f":"IF(ISERROR(VLOOKUP($A265+8860000,'Growth Data'!$A:$Z,8,0)),0,VLOOKUP($A265+8860000,'Growth Data'!$A:$Z,8,0))","v":0},0,null,0,{"$f":"IF(ISERROR(VLOOKUP($A265+8860000,'Growth Data'!$A:$Z,9,0)),0,VLOOKUP($A265+8860000,'Growth Data'!$A:$Z,9,0))","v":0},0,null,"NO",{"$f":"IF(ISERROR(VLOOKUP($A265+8860000,'Growth Data'!$A:$Z,5,0)),\"NO\",VLOOKUP($A265+8860000,'Growth Data'!$A:$Z,5,0))","v":"NO"},0,null,0,{"$f":"IF(ISERROR(VLOOKUP($A265+8860000,'Growth Data'!$A:$Z,10,0)),0,VLOOKUP($A265+8860000,'Growth Data'!$A:$Z,10,0))","v":0},0,null,0,{"$f":"IF(ISERROR(VLOOKUP($A265+8860000,'Growth Data'!$A:$Z,11,0)),0,VLOOKUP($A265+8860000,'Growth Data'!$A:$Z,11,0))","v":0},0]
[3728,"St Anselm's Catholic Primary School, Dartford",null,"St Anselm's Catholic Primary School, Dartford","St Anselm's Catholic Primary School, Dartford",0,null,841103.97,841103.96592088835,0,null,0,0,0,null,841103.97,841103.96592088835,0,null,5615.21,5615.2108879541593,0,null,null,null,0,null,0,0,0,null,110850.78,110850.78235761104,0,null,0,0,0,null,0,null,0,null,0,null,0,null,0,null,0,null,0,null,0,null,0,null,0,null,0,null,0,null,"NO",{"$f":"IF(ISERROR(VLOOKUP($A266+8860000,'Growth Data'!$A:$F,3,0)),\"NO\",VLOOKUP($A266+8860000,'Growth Data'!$A:$F,3,0))","v":"NO"},0,null,0,{"$f":"IF(BM266=\"YES\",IF(ISERROR(VLOOKUP($A266+8860000,'Growth Data'!$A:$F,6,0)),0,VLOOKUP($A266+8860000,'Growth Data'!$A:$F,6,0)),0)","v":0},0,null,0,{"$f":"IF(ISERROR(VLOOKUP($A266+8860000,'Growth Data'!$A:$Z,7,0)),0,VLOOKUP($A266+8860000,'Growth Data'!$A:$Z,7,0))","v":0},0,null,"NO",{"$f":"IF(ISERROR(VLOOKUP($A266+8860000,'Growth Data'!$A:$F,4,0)),\"NO\",VLOOKUP($A266+8860000,'Growth Data'!$A:$F,4,0))","v":"NO"},0,null,0,{"$f":"IF(ISERROR(VLOOKUP($A266+8860000,'Growth Data'!$A:$Z,8,0)),0,VLOOKUP($A266+8860000,'Growth Data'!$A:$Z,8,0))","v":0},0,null,0,{"$f":"IF(ISERROR(VLOOKUP($A266+8860000,'Growth Data'!$A:$Z,9,0)),0,VLOOKUP($A266+8860000,'Growth Data'!$A:$Z,9,0))","v":0},0,null,"NO",{"$f":"IF(ISERROR(VLOOKUP($A266+8860000,'Growth Data'!$A:$Z,5,0)),\"NO\",VLOOKUP($A266+8860000,'Growth Data'!$A:$Z,5,0))","v":"NO"},0,null,0,{"$f":"IF(ISERROR(VLOOKUP($A266+8860000,'Growth Data'!$A:$Z,10,0)),0,VLOOKUP($A266+8860000,'Growth Data'!$A:$Z,10,0))","v":0},0,null,0,{"$f":"IF(ISERROR(VLOOKUP($A266+8860000,'Growth Data'!$A:$Z,11,0)),0,VLOOKUP($A266+8860000,'Growth Data'!$A:$Z,11,0))","v":0},0]
[3733,"Our Lady's Catholic Primary School, Dartford",null,"Our Lady's Catholic Primary School, Dartford","Our Lady's Catholic Primary School, Dartford",0,null,813066.16,813066.15826657077,0,null,0,0,0,null,813066.16,813066.15826657077,0,null,5748.27,5748.2727573369593,0,null,null,null,0,null,0,0,0,null,73941.89,73941.887602229268,0,null,0,0,0,null,0,null,0,null,0,null,0,null,0,null,0,null,0,null,0,null,0,null,0,null,0,null,0,null,"NO",{"$f":"IF(ISERROR(VLOOKUP($A267+8860000,'Growth Data'!$A:$F,3,0)),\"NO\",VLOOKUP($A267+8860000,'Growth Data'!$A:$F,3,0))","v":"NO"},0,null,0,{"$f":"IF(BM267=\"YES\",IF(ISERROR(VLOOKUP($A267+8860000,'Growth Data'!$A:$F,6,0)),0,VLOOKUP($A267+8860000,'Growth Data'!$A:$F,6,0)),0)","v":0},0,null,0,{"$f":"IF(ISERROR(VLOOKUP($A267+8860000,'Growth Data'!$A:$Z,7,0)),0,VLOOKUP($A267+8860000,'Growth Data'!$A:$Z,7,0))","v":0},0,null,"NO",{"$f":"IF(ISERROR(VLOOKUP($A267+8860000,'Growth Data'!$A:$F,4,0)),\"NO\",VLOOKUP($A267+8860000,'Growth Data'!$A:$F,4,0))","v":"NO"},0,null,0,{"$f":"IF(ISERROR(VLOOKUP($A267+8860000,'Growth Data'!$A:$Z,8,0)),0,VLOOKUP($A267+8860000,'Growth Data'!$A:$Z,8,0))","v":0},0,null,0,{"$f":"IF(ISERROR(VLOOKUP($A267+8860000,'Growth Data'!$A:$Z,9,0)),0,VLOOKUP($A267+8860000,'Growth Data'!$A:$Z,9,0))","v":0},0,null,"NO",{"$f":"IF(ISERROR(VLOOKUP($A267+8860000,'Growth Data'!$A:$Z,5,0)),\"NO\",VLOOKUP($A267+8860000,'Growth Data'!$A:$Z,5,0))","v":"NO"},0,null,0,{"$f":"IF(ISERROR(VLOOKUP($A267+8860000,'Growth Data'!$A:$Z,10,0)),0,VLOOKUP($A267+8860000,'Growth Data'!$A:$Z,10,0))","v":0},0,null,0,{"$f":"IF(ISERROR(VLOOKUP($A267+8860000,'Growth Data'!$A:$Z,11,0)),0,VLOOKUP($A267+8860000,'Growth Data'!$A:$Z,11,0))","v":0},0]
[3749,"St Thomas' Catholic Primary School, Canterbury",null,"St Thomas' Catholic Primary School, Canterbury","St Thomas' Catholic Primary School, Canterbury",0,null,803659.86,803659.85669371358,0,null,0,0,0,null,803659.86,803659.85669371358,0,null,5315.29,5315.2850177999999,0,null,null,null,0,null,0,0,0,null,109439.31,109439.30931201347,0,null,0,0,0,null,0,null,0,null,0,null,0,null,0,null,0,null,0,null,0,null,0,null,0,null,0,null,0,null,"NO",{"$f":"IF(ISERROR(VLOOKUP($A268+8860000,'Growth Data'!$A:$F,3,0)),\"NO\",VLOOKUP($A268+8860000,'Growth Data'!$A:$F,3,0))","v":"NO"},0,null,0,{"$f":"IF(BM268=\"YES\",IF(ISERROR(VLOOKUP($A268+8860000,'Growth Data'!$A:$F,6,0)),0,VLOOKUP($A268+8860000,'Growth Data'!$A:$F,6,0)),0)","v":0},0,null,0,{"$f":"IF(ISERROR(VLOOKUP($A268+8860000,'Growth Data'!$A:$Z,7,0)),0,VLOOKUP($A268+8860000,'Growth Data'!$A:$Z,7,0))","v":0},0,null,"NO",{"$f":"IF(ISERROR(VLOOKUP($A268+8860000,'Growth Data'!$A:$F,4,0)),\"NO\",VLOOKUP($A268+8860000,'Growth Data'!$A:$F,4,0))","v":"NO"},0,null,0,{"$f":"IF(ISERROR(VLOOKUP($A268+8860000,'Growth Data'!$A:$Z,8,0)),0,VLOOKUP($A268+8860000,'Growth Data'!$A:$Z,8,0))","v":0},0,null,0,{"$f":"IF(ISERROR(VLOOKUP($A268+8860000,'Growth Data'!$A:$Z,9,0)),0,VLOOKUP($A268+8860000,'Growth Data'!$A:$Z,9,0))","v":0},0,null,"NO",{"$f":"IF(ISERROR(VLOOKUP($A268+8860000,'Growth Data'!$A:$Z,5,0)),\"NO\",VLOOKUP($A268+8860000,'Growth Data'!$A:$Z,5,0))","v":"NO"},0,null,0,{"$f":"IF(ISERROR(VLOOKUP($A268+8860000,'Growth Data'!$A:$Z,10,0)),0,VLOOKUP($A268+8860000,'Growth Data'!$A:$Z,10,0))","v":0},0,null,0,{"$f":"IF(ISERROR(VLOOKUP($A268+8860000,'Growth Data'!$A:$Z,11,0)),0,VLOOKUP($A268+8860000,'Growth Data'!$A:$Z,11,0))","v":0},0]
[3893,"Phoenix Community Primary School",null,"Phoenix Community Primary School","Phoenix Community Primary School",0,null,876973.68,876973.67728135316,0,null,0,0,0,null,876973.68,876973.67728135316,0,null,5263.93,5263.9296069999991,0,null,null,null,0,null,0,0,0,null,120487.85,120487.8459458531,0,null,0,0,0,null,0,null,0,null,0,null,0,null,0,null,0,null,0,null,0,null,0,null,0,null,0,null,0,null,"NO",{"$f":"IF(ISERROR(VLOOKUP($A269+8860000,'Growth Data'!$A:$F,3,0)),\"NO\",VLOOKUP($A269+8860000,'Growth Data'!$A:$F,3,0))","v":"NO"},0,null,0,{"$f":"IF(BM269=\"YES\",IF(ISERROR(VLOOKUP($A269+8860000,'Growth Data'!$A:$F,6,0)),0,VLOOKUP($A269+8860000,'Growth Data'!$A:$F,6,0)),0)","v":0},0,null,0,{"$f":"IF(ISERROR(VLOOKUP($A269+8860000,'Growth Data'!$A:$Z,7,0)),0,VLOOKUP($A269+8860000,'Growth Data'!$A:$Z,7,0))","v":0},0,null,"NO",{"$f":"IF(ISERROR(VLOOKUP($A269+8860000,'Growth Data'!$A:$F,4,0)),\"NO\",VLOOKUP($A269+8860000,'Growth Data'!$A:$F,4,0))","v":"NO"},0,null,0,{"$f":"IF(ISERROR(VLOOKUP($A269+8860000,'Growth Data'!$A:$Z,8,0)),0,VLOOKUP($A269+8860000,'Growth Data'!$A:$Z,8,0))","v":0},0,null,0,{"$f":"IF(ISERROR(VLOOKUP($A269+8860000,'Growth Data'!$A:$Z,9,0)),0,VLOOKUP($A269+8860000,'Growth Data'!$A:$Z,9,0))","v":0},0,null,"NO",{"$f":"IF(ISERROR(VLOOKUP($A269+8860000,'Growth Data'!$A:$Z,5,0)),\"NO\",VLOOKUP($A269+8860000,'Growth Data'!$A:$Z,5,0))","v":"NO"},0,null,0,{"$f":"IF(ISERROR(VLOOKUP($A269+8860000,'Growth Data'!$A:$Z,10,0)),0,VLOOKUP($A269+8860000,'Growth Data'!$A:$Z,10,0))","v":0},0,null,0,{"$f":"IF(ISERROR(VLOOKUP($A269+8860000,'Growth Data'!$A:$Z,11,0)),0,VLOOKUP($A269+8860000,'Growth Data'!$A:$Z,11,0))","v":0},0]
[3896,"Downsview Primary",null,"Downsview Primary","Downsview Primary",0,null,837148.31,837148.31290359166,0,null,0,0,0,null,837148.31,837148.31290359166,0,null,5482.15,5482.1490185713592,0,null,null,null,0,null,0,0,0,null,100914.9,100914.90188409852,0,null,0,0,0,null,0,null,0,null,0,null,0,null,0,null,0,null,0,null,0,null,0,null,0,null,0,null,0,null,"NO",{"$f":"IF(ISERROR(VLOOKUP($A270+8860000,'Growth Data'!$A:$F,3,0)),\"NO\",VLOOKUP($A270+8860000,'Growth Data'!$A:$F,3,0))","v":"NO"},0,null,0,{"$f":"IF(BM270=\"YES\",IF(ISERROR(VLOOKUP($A270+8860000,'Growth Data'!$A:$F,6,0)),0,VLOOKUP($A270+8860000,'Growth Data'!$A:$F,6,0)),0)","v":0},0,null,0,{"$f":"IF(ISERROR(VLOOKUP($A270+8860000,'Growth Data'!$A:$Z,7,0)),0,VLOOKUP($A270+8860000,'Growth Data'!$A:$Z,7,0))","v":0},0,null,"NO",{"$f":"IF(ISERROR(VLOOKUP($A270+8860000,'Growth Data'!$A:$F,4,0)),\"NO\",VLOOKUP($A270+8860000,'Growth Data'!$A:$F,4,0))","v":"NO"},0,null,0,{"$f":"IF(ISERROR(VLOOKUP($A270+8860000,'Growth Data'!$A:$Z,8,0)),0,VLOOKUP($A270+8860000,'Growth Data'!$A:$Z,8,0))","v":0},0,null,0,{"$f":"IF(ISERROR(VLOOKUP($A270+8860000,'Growth Data'!$A:$Z,9,0)),0,VLOOKUP($A270+8860000,'Growth Data'!$A:$Z,9,0))","v":0},0,null,"NO",{"$f":"IF(ISERROR(VLOOKUP($A270+8860000,'Growth Data'!$A:$Z,5,0)),\"NO\",VLOOKUP($A270+8860000,'Growth Data'!$A:$Z,5,0))","v":"NO"},0,null,0,{"$f":"IF(ISERROR(VLOOKUP($A270+8860000,'Growth Data'!$A:$Z,10,0)),0,VLOOKUP($A270+8860000,'Growth Data'!$A:$Z,10,0))","v":0},0,null,0,{"$f":"IF(ISERROR(VLOOKUP($A270+8860000,'Growth Data'!$A:$Z,11,0)),0,VLOOKUP($A270+8860000,'Growth Data'!$A:$Z,11,0))","v":0},0]
[3898,"Greenfields Community Primary School",null,"Greenfields Community Primary School","Greenfields Community Primary School",0,null,1229042.76,1229042.7644860747,0,null,202188.1,202188.09948065621,0,null,1431230.86,1431230.8639667309,0,null,8191.19,8191.1880226000003,0,null,null,null,0,null,5.0599999999999996,5.0599999999999996,0,null,166312.01,166312.01211717466,0,null,0,0,0,null,0,null,0,null,0,null,0,null,0,null,0,null,0,null,0,null,0,null,0,null,0,null,0,null,"NO",{"$f":"IF(ISERROR(VLOOKUP($A271+8860000,'Growth Data'!$A:$F,3,0)),\"NO\",VLOOKUP($A271+8860000,'Growth Data'!$A:$F,3,0))","v":"NO"},0,null,0,{"$f":"IF(BM271=\"YES\",IF(ISERROR(VLOOKUP($A271+8860000,'Growth Data'!$A:$F,6,0)),0,VLOOKUP($A271+8860000,'Growth Data'!$A:$F,6,0)),0)","v":0},0,null,0,{"$f":"IF(ISERROR(VLOOKUP($A271+8860000,'Growth Data'!$A:$Z,7,0)),0,VLOOKUP($A271+8860000,'Growth Data'!$A:$Z,7,0))","v":0},0,null,"NO",{"$f":"IF(ISERROR(VLOOKUP($A271+8860000,'Growth Data'!$A:$F,4,0)),\"NO\",VLOOKUP($A271+8860000,'Growth Data'!$A:$F,4,0))","v":"NO"},0,null,0,{"$f":"IF(ISERROR(VLOOKUP($A271+8860000,'Growth Data'!$A:$Z,8,0)),0,VLOOKUP($A271+8860000,'Growth Data'!$A:$Z,8,0))","v":0},0,null,0,{"$f":"IF(ISERROR(VLOOKUP($A271+8860000,'Growth Data'!$A:$Z,9,0)),0,VLOOKUP($A271+8860000,'Growth Data'!$A:$Z,9,0))","v":0},0,null,"NO",{"$f":"IF(ISERROR(VLOOKUP($A271+8860000,'Growth Data'!$A:$Z,5,0)),\"NO\",VLOOKUP($A271+8860000,'Growth Data'!$A:$Z,5,0))","v":"NO"},0,null,0,{"$f":"IF(ISERROR(VLOOKUP($A271+8860000,'Growth Data'!$A:$Z,10,0)),0,VLOOKUP($A271+8860000,'Growth Data'!$A:$Z,10,0))","v":0},0,null,0,{"$f":"IF(ISERROR(VLOOKUP($A271+8860000,'Growth Data'!$A:$Z,11,0)),0,VLOOKUP($A271+8860000,'Growth Data'!$A:$Z,11,0))","v":0},0]
[3902,"Hythe Bay C of E Primary School",null,"Hythe Bay C of E Primary School","Hythe Bay C of E Primary School",0,null,1491247.34,1491247.3431642782,0,null,0,0,0,null,1491247.34,1491247.3431642782,0,null,10245.4,10245.4044546,0,null,null,null,0,null,0,0,0,null,191704.4,191704.40014737798,0,null,0,0,0,null,3333.33,null,3333,null,101000,null,101000,null,0,null,0,null,0,null,0,null,0,null,0,null,0,null,0,null,"NO",{"$f":"IF(ISERROR(VLOOKUP($A272+8860000,'Growth Data'!$A:$F,3,0)),\"NO\",VLOOKUP($A272+8860000,'Growth Data'!$A:$F,3,0))","v":"NO"},0,null,0,{"$f":"IF(BM272=\"YES\",IF(ISERROR(VLOOKUP($A272+8860000,'Growth Data'!$A:$F,6,0)),0,VLOOKUP($A272+8860000,'Growth Data'!$A:$F,6,0)),0)","v":0},0,null,0,{"$f":"IF(ISERROR(VLOOKUP($A272+8860000,'Growth Data'!$A:$Z,7,0)),0,VLOOKUP($A272+8860000,'Growth Data'!$A:$Z,7,0))","v":0},0,null,"NO",{"$f":"IF(ISERROR(VLOOKUP($A272+8860000,'Growth Data'!$A:$F,4,0)),\"NO\",VLOOKUP($A272+8860000,'Growth Data'!$A:$F,4,0))","v":"NO"},0,null,0,{"$f":"IF(ISERROR(VLOOKUP($A272+8860000,'Growth Data'!$A:$Z,8,0)),0,VLOOKUP($A272+8860000,'Growth Data'!$A:$Z,8,0))","v":0},0,null,0,{"$f":"IF(ISERROR(VLOOKUP($A272+8860000,'Growth Data'!$A:$Z,9,0)),0,VLOOKUP($A272+8860000,'Growth Data'!$A:$Z,9,0))","v":0},0,null,"NO",{"$f":"IF(ISERROR(VLOOKUP($A272+8860000,'Growth Data'!$A:$Z,5,0)),\"NO\",VLOOKUP($A272+8860000,'Growth Data'!$A:$Z,5,0))","v":"NO"},0,null,0,{"$f":"IF(ISERROR(VLOOKUP($A272+8860000,'Growth Data'!$A:$Z,10,0)),0,VLOOKUP($A272+8860000,'Growth Data'!$A:$Z,10,0))","v":0},0,null,0,{"$f":"IF(ISERROR(VLOOKUP($A272+8860000,'Growth Data'!$A:$Z,11,0)),0,VLOOKUP($A272+8860000,'Growth Data'!$A:$Z,11,0))","v":0},0]
[3904,"Castle Hill Community Primary School",null,"Castle Hill Community Primary School","Castle Hill Community Primary School",0,null,1606573.35,1606573.3547271402,0,null,0,0,0,null,1606573.35,1606573.3547271402,0,null,9860.24,9860.2388736000012,0,null,null,null,0,null,5.19,5.19,0,null,324533.39,324533.38785674016,0,null,0,0,0,null,2333.33,null,2333,null,31000,null,31000,null,0,null,0,null,0,null,0,null,0,null,0,null,0,null,0,null,"NO",{"$f":"IF(ISERROR(VLOOKUP($A273+8860000,'Growth Data'!$A:$F,3,0)),\"NO\",VLOOKUP($A273+8860000,'Growth Data'!$A:$F,3,0))","v":"NO"},0,null,0,{"$f":"IF(BM273=\"YES\",IF(ISERROR(VLOOKUP($A273+8860000,'Growth Data'!$A:$F,6,0)),0,VLOOKUP($A273+8860000,'Growth Data'!$A:$F,6,0)),0)","v":0},0,null,0,{"$f":"IF(ISERROR(VLOOKUP($A273+8860000,'Growth Data'!$A:$Z,7,0)),0,VLOOKUP($A273+8860000,'Growth Data'!$A:$Z,7,0))","v":0},0,null,"NO",{"$f":"IF(ISERROR(VLOOKUP($A273+8860000,'Growth Data'!$A:$F,4,0)),\"NO\",VLOOKUP($A273+8860000,'Growth Data'!$A:$F,4,0))","v":"NO"},0,null,0,{"$f":"IF(ISERROR(VLOOKUP($A273+8860000,'Growth Data'!$A:$Z,8,0)),0,VLOOKUP($A273+8860000,'Growth Data'!$A:$Z,8,0))","v":0},0,null,0,{"$f":"IF(ISERROR(VLOOKUP($A273+8860000,'Growth Data'!$A:$Z,9,0)),0,VLOOKUP($A273+8860000,'Growth Data'!$A:$Z,9,0))","v":0},0,null,"NO",{"$f":"IF(ISERROR(VLOOKUP($A273+8860000,'Growth Data'!$A:$Z,5,0)),\"NO\",VLOOKUP($A273+8860000,'Growth Data'!$A:$Z,5,0))","v":"NO"},0,null,0,{"$f":"IF(ISERROR(VLOOKUP($A273+8860000,'Growth Data'!$A:$Z,10,0)),0,VLOOKUP($A273+8860000,'Growth Data'!$A:$Z,10,0))","v":0},0,null,0,{"$f":"IF(ISERROR(VLOOKUP($A273+8860000,'Growth Data'!$A:$Z,11,0)),0,VLOOKUP($A273+8860000,'Growth Data'!$A:$Z,11,0))","v":0},0]
[3906,"Palace Wood Primary School",null,"Palace Wood Primary School","Palace Wood Primary School",0,null,1415150.1,1415150.0984756316,0,null,0,0,0,null,1415150.1,1415150.0984756316,0,null,10707.6,10707.6031518,0,null,null,null,0,null,0,0,0,null,109963.93,109963.93304293157,0,null,0,0,0,null,0,null,0,null,0,null,0,null,0,null,0,null,0,null,0,null,0,null,0,null,0,null,0,null,"NO",{"$f":"IF(ISERROR(VLOOKUP($A274+8860000,'Growth Data'!$A:$F,3,0)),\"NO\",VLOOKUP($A274+8860000,'Growth Data'!$A:$F,3,0))","v":"NO"},0,null,0,{"$f":"IF(BM274=\"YES\",IF(ISERROR(VLOOKUP($A274+8860000,'Growth Data'!$A:$F,6,0)),0,VLOOKUP($A274+8860000,'Growth Data'!$A:$F,6,0)),0)","v":0},0,null,0,{"$f":"IF(ISERROR(VLOOKUP($A274+8860000,'Growth Data'!$A:$Z,7,0)),0,VLOOKUP($A274+8860000,'Growth Data'!$A:$Z,7,0))","v":0},0,null,"NO",{"$f":"IF(ISERROR(VLOOKUP($A274+8860000,'Growth Data'!$A:$F,4,0)),\"NO\",VLOOKUP($A274+8860000,'Growth Data'!$A:$F,4,0))","v":"NO"},0,null,0,{"$f":"IF(ISERROR(VLOOKUP($A274+8860000,'Growth Data'!$A:$Z,8,0)),0,VLOOKUP($A274+8860000,'Growth Data'!$A:$Z,8,0))","v":0},0,null,0,{"$f":"IF(ISERROR(VLOOKUP($A274+8860000,'Growth Data'!$A:$Z,9,0)),0,VLOOKUP($A274+8860000,'Growth Data'!$A:$Z,9,0))","v":0},0,null,"NO",{"$f":"IF(ISERROR(VLOOKUP($A274+8860000,'Growth Data'!$A:$Z,5,0)),\"NO\",VLOOKUP($A274+8860000,'Growth Data'!$A:$Z,5,0))","v":"NO"},0,null,0,{"$f":"IF(ISERROR(VLOOKUP($A274+8860000,'Growth Data'!$A:$Z,10,0)),0,VLOOKUP($A274+8860000,'Growth Data'!$A:$Z,10,0))","v":0},0,null,0,{"$f":"IF(ISERROR(VLOOKUP($A274+8860000,'Growth Data'!$A:$Z,11,0)),0,VLOOKUP($A274+8860000,'Growth Data'!$A:$Z,11,0))","v":0},0]
[3907,"Hextable Primary School",null,"Hextable Primary School","Hextable Primary School",0,null,1560380.41,1560380.412574929,0,null,0,0,0,null,1560380.41,1560380.412574929,0,null,11842.51,11842.506375069197,0,null,null,null,0,null,0,0,0,null,141265.15,141265.14962021526,0,null,0,0,0,null,0,null,0,null,0,null,0,null,0,null,0,null,0,null,0,null,0,null,0,null,0,null,0,null,"NO",{"$f":"IF(ISERROR(VLOOKUP($A275+8860000,'Growth Data'!$A:$F,3,0)),\"NO\",VLOOKUP($A275+8860000,'Growth Data'!$A:$F,3,0))","v":"NO"},0,null,0,{"$f":"IF(BM275=\"YES\",IF(ISERROR(VLOOKUP($A275+8860000,'Growth Data'!$A:$F,6,0)),0,VLOOKUP($A275+8860000,'Growth Data'!$A:$F,6,0)),0)","v":0},0,null,0,{"$f":"IF(ISERROR(VLOOKUP($A275+8860000,'Growth Data'!$A:$Z,7,0)),0,VLOOKUP($A275+8860000,'Growth Data'!$A:$Z,7,0))","v":0},0,null,"YES",{"$f":"IF(ISERROR(VLOOKUP($A275+8860000,'Growth Data'!$A:$F,4,0)),\"NO\",VLOOKUP($A275+8860000,'Growth Data'!$A:$F,4,0))","v":"YES"},0,null,60,{"$f":"IF(ISERROR(VLOOKUP($A275+8860000,'Growth Data'!$A:$Z,8,0)),0,VLOOKUP($A275+8860000,'Growth Data'!$A:$Z,8,0))","v":60},0,null,90,{"$f":"IF(ISERROR(VLOOKUP($A275+8860000,'Growth Data'!$A:$Z,9,0)),0,VLOOKUP($A275+8860000,'Growth Data'!$A:$Z,9,0))","v":90},0,null,"YES",{"$f":"IF(ISERROR(VLOOKUP($A275+8860000,'Growth Data'!$A:$Z,5,0)),\"NO\",VLOOKUP($A275+8860000,'Growth Data'!$A:$Z,5,0))","v":"YES"},0,null,62,{"$f":"IF(ISERROR(VLOOKUP($A275+8860000,'Growth Data'!$A:$Z,10,0)),0,VLOOKUP($A275+8860000,'Growth Data'!$A:$Z,10,0))","v":62},0,null,90,{"$f":"IF(ISERROR(VLOOKUP($A275+8860000,'Growth Data'!$A:$Z,11,0)),0,VLOOKUP($A275+8860000,'Growth Data'!$A:$Z,11,0))","v":90},0]
[3909,"Ashford Oaks Community Primary School",null,"Ashford Oaks Community Primary School","Ashford Oaks Community Primary School",0,null,1694630.95,1694630.9510918907,0,null,35531.15,35531.149808881804,0,null,1730162.1,1730162.1009007725,0,null,10733.28,10733.280857199998,0,null,null,null,0,null,5.31,5.31,0,null,299095.81,299095.8078360908,0,null,0,0,0,null,7000,null,7000,null,40500,null,40500,null,0,null,0,null,0,null,0,null,0,null,0,null,0,null,0,null,"NO",{"$f":"IF(ISERROR(VLOOKUP($A276+8860000,'Growth Data'!$A:$F,3,0)),\"NO\",VLOOKUP($A276+8860000,'Growth Data'!$A:$F,3,0))","v":"NO"},0,null,0,{"$f":"IF(BM276=\"YES\",IF(ISERROR(VLOOKUP($A276+8860000,'Growth Data'!$A:$F,6,0)),0,VLOOKUP($A276+8860000,'Growth Data'!$A:$F,6,0)),0)","v":0},0,null,0,{"$f":"IF(ISERROR(VLOOKUP($A276+8860000,'Growth Data'!$A:$Z,7,0)),0,VLOOKUP($A276+8860000,'Growth Data'!$A:$Z,7,0))","v":0},0,null,"NO",{"$f":"IF(ISERROR(VLOOKUP($A276+8860000,'Growth Data'!$A:$F,4,0)),\"NO\",VLOOKUP($A276+8860000,'Growth Data'!$A:$F,4,0))","v":"NO"},0,null,0,{"$f":"IF(ISERROR(VLOOKUP($A276+8860000,'Growth Data'!$A:$Z,8,0)),0,VLOOKUP($A276+8860000,'Growth Data'!$A:$Z,8,0))","v":0},0,null,0,{"$f":"IF(ISERROR(VLOOKUP($A276+8860000,'Growth Data'!$A:$Z,9,0)),0,VLOOKUP($A276+8860000,'Growth Data'!$A:$Z,9,0))","v":0},0,null,"NO",{"$f":"IF(ISERROR(VLOOKUP($A276+8860000,'Growth Data'!$A:$Z,5,0)),\"NO\",VLOOKUP($A276+8860000,'Growth Data'!$A:$Z,5,0))","v":"NO"},0,null,0,{"$f":"IF(ISERROR(VLOOKUP($A276+8860000,'Growth Data'!$A:$Z,10,0)),0,VLOOKUP($A276+8860000,'Growth Data'!$A:$Z,10,0))","v":0},0,null,0,{"$f":"IF(ISERROR(VLOOKUP($A276+8860000,'Growth Data'!$A:$Z,11,0)),0,VLOOKUP($A276+8860000,'Growth Data'!$A:$Z,11,0))","v":0},0]
[3910,"Joy Lane Primary School",null,"Joy Lane Primary School","Joy Lane Primary School",0,null,1888852.06,1888852.0627322926,{"$f":"ROUND(H277-I277,0)","v":0},null,0,0,0,null,1888852.06,1888852.0627322926,0,null,14148.42,14148.4156754,0,null,null,null,0,null,0,0,0,null,181272,181272.00020419245,0,null,0,0,0,null,2333.33,null,2333,null,177500,null,177500,null,0,null,0,null,0,null,0,null,0,null,0,null,0,null,0,null,"YES",{"$f":"IF(ISERROR(VLOOKUP($A277+8860000,'Growth Data'!$A:$F,3,0)),\"NO\",VLOOKUP($A277+8860000,'Growth Data'!$A:$F,3,0))","v":"YES"},0,null,60,{"$f":"IF(BM277=\"YES\",IF(ISERROR(VLOOKUP($A277+8860000,'Growth Data'!$A:$F,6,0)),0,VLOOKUP($A277+8860000,'Growth Data'!$A:$F,6,0)),0)","v":60},0,null,90,{"$f":"IF(ISERROR(VLOOKUP($A277+8860000,'Growth Data'!$A:$Z,7,0)),0,VLOOKUP($A277+8860000,'Growth Data'!$A:$Z,7,0))","v":90},0,null,"YES",{"$f":"IF(ISERROR(VLOOKUP($A277+8860000,'Growth Data'!$A:$F,4,0)),\"NO\",VLOOKUP($A277+8860000,'Growth Data'!$A:$F,4,0))","v":"YES"},0,null,60,{"$f":"IF(ISERROR(VLOOKUP($A277+8860000,'Growth Data'!$A:$Z,8,0)),0,VLOOKUP($A277+8860000,'Growth Data'!$A:$Z,8,0))","v":60},0,null,90,{"$f":"IF(ISERROR(VLOOKUP($A277+8860000,'Growth Data'!$A:$Z,9,0)),0,VLOOKUP($A277+8860000,'Growth Data'!$A:$Z,9,0))","v":90},0,null,"NO",{"$f":"IF(ISERROR(VLOOKUP($A277+8860000,'Growth Data'!$A:$Z,5,0)),\"NO\",VLOOKUP($A277+8860000,'Growth Data'!$A:$Z,5,0))","v":"NO"},0,null,0,{"$f":"IF(ISERROR(VLOOKUP($A277+8860000,'Growth Data'!$A:$Z,10,0)),0,VLOOKUP($A277+8860000,'Growth Data'!$A:$Z,10,0))","v":0},0,null,0,{"$f":"IF(ISERROR(VLOOKUP($A277+8860000,'Growth Data'!$A:$Z,11,0)),0,VLOOKUP($A277+8860000,'Growth Data'!$A:$Z,11,0))","v":0},0]
[3911,"Hornbeam Primary School",null,"Hornbeam Primary School","Hornbeam Primary School",0,null,956106,956105.9990885827,0,null,0,0,0,null,956106,956105.9990885827,0,null,6547.81,6547.8148770000007,0,null,null,null,0,null,0,0,0,null,105861.7,105861.70099808267,0,null,0,0,0,null,0,null,0,null,0,null,0,null,0,null,0,null,0,null,0,null,0,null,0,null,0,null,0,null,"NO",{"$f":"IF(ISERROR(VLOOKUP($A278+8860000,'Growth Data'!$A:$F,3,0)),\"NO\",VLOOKUP($A278+8860000,'Growth Data'!$A:$F,3,0))","v":"NO"},0,null,0,{"$f":"IF(BM278=\"YES\",IF(ISERROR(VLOOKUP($A278+8860000,'Growth Data'!$A:$F,6,0)),0,VLOOKUP($A278+8860000,'Growth Data'!$A:$F,6,0)),0)","v":0},0,null,0,{"$f":"IF(ISERROR(VLOOKUP($A278+8860000,'Growth Data'!$A:$Z,7,0)),0,VLOOKUP($A278+8860000,'Growth Data'!$A:$Z,7,0))","v":0},0,null,"NO",{"$f":"IF(ISERROR(VLOOKUP($A278+8860000,'Growth Data'!$A:$F,4,0)),\"NO\",VLOOKUP($A278+8860000,'Growth Data'!$A:$F,4,0))","v":"NO"},0,null,0,{"$f":"IF(ISERROR(VLOOKUP($A278+8860000,'Growth Data'!$A:$Z,8,0)),0,VLOOKUP($A278+8860000,'Growth Data'!$A:$Z,8,0))","v":0},0,null,0,{"$f":"IF(ISERROR(VLOOKUP($A278+8860000,'Growth Data'!$A:$Z,9,0)),0,VLOOKUP($A278+8860000,'Growth Data'!$A:$Z,9,0))","v":0},0,null,"NO",{"$f":"IF(ISERROR(VLOOKUP($A278+8860000,'Growth Data'!$A:$Z,5,0)),\"NO\",VLOOKUP($A278+8860000,'Growth Data'!$A:$Z,5,0))","v":"NO"},0,null,0,{"$f":"IF(ISERROR(VLOOKUP($A278+8860000,'Growth Data'!$A:$Z,10,0)),0,VLOOKUP($A278+8860000,'Growth Data'!$A:$Z,10,0))","v":0},0,null,0,{"$f":"IF(ISERROR(VLOOKUP($A278+8860000,'Growth Data'!$A:$Z,11,0)),0,VLOOKUP($A278+8860000,'Growth Data'!$A:$Z,11,0))","v":0},0]
[3913,"Rusthall, St Paul's CE VA School",null,"Rusthall, St Paul's CE VA School","Rusthall, St Paul's CE VA School",0,null,802684.55,802684.54772850976,0,null,5332.73,5332.7255150439451,0,null,808017.27,808017.2732435537,0,null,5623.42,5623.4174826000008,0,null,null,null,0,null,0,0,0,null,71037.55,71037.553669609726,0,null,0,0,0,null,0,null,0,null,0,null,0,null,0,null,0,null,0,null,0,null,0,null,0,null,0,null,0,null,"NO",{"$f":"IF(ISERROR(VLOOKUP($A279+8860000,'Growth Data'!$A:$F,3,0)),\"NO\",VLOOKUP($A279+8860000,'Growth Data'!$A:$F,3,0))","v":"NO"},0,null,0,{"$f":"IF(BM279=\"YES\",IF(ISERROR(VLOOKUP($A279+8860000,'Growth Data'!$A:$F,6,0)),0,VLOOKUP($A279+8860000,'Growth Data'!$A:$F,6,0)),0)","v":0},0,null,0,{"$f":"IF(ISERROR(VLOOKUP($A279+8860000,'Growth Data'!$A:$Z,7,0)),0,VLOOKUP($A279+8860000,'Growth Data'!$A:$Z,7,0))","v":0},0,null,"NO",{"$f":"IF(ISERROR(VLOOKUP($A279+8860000,'Growth Data'!$A:$F,4,0)),\"NO\",VLOOKUP($A279+8860000,'Growth Data'!$A:$F,4,0))","v":"NO"},0,null,0,{"$f":"IF(ISERROR(VLOOKUP($A279+8860000,'Growth Data'!$A:$Z,8,0)),0,VLOOKUP($A279+8860000,'Growth Data'!$A:$Z,8,0))","v":0},0,null,0,{"$f":"IF(ISERROR(VLOOKUP($A279+8860000,'Growth Data'!$A:$Z,9,0)),0,VLOOKUP($A279+8860000,'Growth Data'!$A:$Z,9,0))","v":0},0,null,"NO",{"$f":"IF(ISERROR(VLOOKUP($A279+8860000,'Growth Data'!$A:$Z,5,0)),\"NO\",VLOOKUP($A279+8860000,'Growth Data'!$A:$Z,5,0))","v":"NO"},0,null,0,{"$f":"IF(ISERROR(VLOOKUP($A279+8860000,'Growth Data'!$A:$Z,10,0)),0,VLOOKUP($A279+8860000,'Growth Data'!$A:$Z,10,0))","v":0},0,null,0,{"$f":"IF(ISERROR(VLOOKUP($A279+8860000,'Growth Data'!$A:$Z,11,0)),0,VLOOKUP($A279+8860000,'Growth Data'!$A:$Z,11,0))","v":0},0]
[3916,"Green Park Community Primary School",null,"Green Park Community Primary School","Green Park Community Primary School",0,null,1386237.73,1386237.7276918732,0,null,49787.74,49787.740752023179,0,null,1436025.47,1436025.4684438964,0,null,9064.23,9064.2300061999995,0,null,null,null,0,null,0,0,0,null,231523.87,231523.87093757285,0,null,0,0,0,null,0,null,0,null,0,null,0,null,0,null,0,null,0,null,0,null,0,null,0,null,0,null,0,null,"NO",{"$f":"IF(ISERROR(VLOOKUP($A280+8860000,'Growth Data'!$A:$F,3,0)),\"NO\",VLOOKUP($A280+8860000,'Growth Data'!$A:$F,3,0))","v":"NO"},0,null,0,{"$f":"IF(BM280=\"YES\",IF(ISERROR(VLOOKUP($A280+8860000,'Growth Data'!$A:$F,6,0)),0,VLOOKUP($A280+8860000,'Growth Data'!$A:$F,6,0)),0)","v":0},0,null,0,{"$f":"IF(ISERROR(VLOOKUP($A280+8860000,'Growth Data'!$A:$Z,7,0)),0,VLOOKUP($A280+8860000,'Growth Data'!$A:$Z,7,0))","v":0},0,null,"YES",{"$f":"IF(ISERROR(VLOOKUP($A280+8860000,'Growth Data'!$A:$F,4,0)),\"NO\",VLOOKUP($A280+8860000,'Growth Data'!$A:$F,4,0))","v":"YES"},0,null,45,{"$f":"IF(ISERROR(VLOOKUP($A280+8860000,'Growth Data'!$A:$Z,8,0)),0,VLOOKUP($A280+8860000,'Growth Data'!$A:$Z,8,0))","v":45},0,null,60,{"$f":"IF(ISERROR(VLOOKUP($A280+8860000,'Growth Data'!$A:$Z,9,0)),0,VLOOKUP($A280+8860000,'Growth Data'!$A:$Z,9,0))","v":60},0,null,"YES",{"$f":"IF(ISERROR(VLOOKUP($A280+8860000,'Growth Data'!$A:$Z,5,0)),\"NO\",VLOOKUP($A280+8860000,'Growth Data'!$A:$Z,5,0))","v":"YES"},0,null,53,{"$f":"IF(ISERROR(VLOOKUP($A280+8860000,'Growth Data'!$A:$Z,10,0)),0,VLOOKUP($A280+8860000,'Growth Data'!$A:$Z,10,0))","v":53},0,null,60,{"$f":"IF(ISERROR(VLOOKUP($A280+8860000,'Growth Data'!$A:$Z,11,0)),0,VLOOKUP($A280+8860000,'Growth Data'!$A:$Z,11,0))","v":60},0]
[3917,"Garlinge Primary School",null,"Garlinge Primary School","Garlinge Primary School",0,null,2658384.44,2658384.4367527934,0,null,52247.59,52247.591187710874,0,null,2710632.03,2710632.0279405043,0,null,18744.72,18744.724941999997,0,null,null,null,0,null,5.13,5.13,0,null,413912.95,413912.95228979317,0,null,0,0,0,null,0,null,0,null,24000,null,24000,null,0,null,0,null,0,null,0,null,0,null,0,null,0,null,0,null,"YES",{"$f":"IF(ISERROR(VLOOKUP($A281+8860000,'Growth Data'!$A:$F,3,0)),\"NO\",VLOOKUP($A281+8860000,'Growth Data'!$A:$F,3,0))","v":"YES"},0,null,92,{"$f":"IF(BM281=\"YES\",IF(ISERROR(VLOOKUP($A281+8860000,'Growth Data'!$A:$F,6,0)),0,VLOOKUP($A281+8860000,'Growth Data'!$A:$F,6,0)),0)","v":92},0,null,120,{"$f":"IF(ISERROR(VLOOKUP($A281+8860000,'Growth Data'!$A:$Z,7,0)),0,VLOOKUP($A281+8860000,'Growth Data'!$A:$Z,7,0))","v":120},0,null,"YES",{"$f":"IF(ISERROR(VLOOKUP($A281+8860000,'Growth Data'!$A:$F,4,0)),\"NO\",VLOOKUP($A281+8860000,'Growth Data'!$A:$F,4,0))","v":"YES"},0,null,90,{"$f":"IF(ISERROR(VLOOKUP($A281+8860000,'Growth Data'!$A:$Z,8,0)),0,VLOOKUP($A281+8860000,'Growth Data'!$A:$Z,8,0))","v":90},0,null,120,{"$f":"IF(ISERROR(VLOOKUP($A281+8860000,'Growth Data'!$A:$Z,9,0)),0,VLOOKUP($A281+8860000,'Growth Data'!$A:$Z,9,0))","v":120},0,null,"NO",{"$f":"IF(ISERROR(VLOOKUP($A281+8860000,'Growth Data'!$A:$Z,5,0)),\"NO\",VLOOKUP($A281+8860000,'Growth Data'!$A:$Z,5,0))","v":"NO"},0,null,0,{"$f":"IF(ISERROR(VLOOKUP($A281+8860000,'Growth Data'!$A:$Z,10,0)),0,VLOOKUP($A281+8860000,'Growth Data'!$A:$Z,10,0))","v":0},0,null,0,{"$f":"IF(ISERROR(VLOOKUP($A281+8860000,'Growth Data'!$A:$Z,11,0)),0,VLOOKUP($A281+8860000,'Growth Data'!$A:$Z,11,0))","v":0},0]
[3918,"Newington Community Primary School and Nursery",null,"Newington Community Primary School and Nursery","Newington Community Primary School and Nursery",0,null,2324809.02,2324809.0189582468,0,null,215838.36,215838.36431319453,0,null,2540647.38,2540647.3832714413,0,null,16536.439999999999,16536.442277599999,0,null,null,null,0,null,5.21,5.21,0,null,363216.64000000001,363216.6448818472,0,null,0,0,0,null,0,null,0,null,0,null,0,null,0,null,0,null,0,null,0,null,0,null,0,null,0,null,0,null,"NO",{"$f":"IF(ISERROR(VLOOKUP($A282+8860000,'Growth Data'!$A:$F,3,0)),\"NO\",VLOOKUP($A282+8860000,'Growth Data'!$A:$F,3,0))","v":"NO"},0,null,0,{"$f":"IF(BM282=\"YES\",IF(ISERROR(VLOOKUP($A282+8860000,'Growth Data'!$A:$F,6,0)),0,VLOOKUP($A282+8860000,'Growth Data'!$A:$F,6,0)),0)","v":0},0,null,0,{"$f":"IF(ISERROR(VLOOKUP($A282+8860000,'Growth Data'!$A:$Z,7,0)),0,VLOOKUP($A282+8860000,'Growth Data'!$A:$Z,7,0))","v":0},0,null,"NO",{"$f":"IF(ISERROR(VLOOKUP($A282+8860000,'Growth Data'!$A:$F,4,0)),\"NO\",VLOOKUP($A282+8860000,'Growth Data'!$A:$F,4,0))","v":"NO"},0,null,0,{"$f":"IF(ISERROR(VLOOKUP($A282+8860000,'Growth Data'!$A:$Z,8,0)),0,VLOOKUP($A282+8860000,'Growth Data'!$A:$Z,8,0))","v":0},0,null,0,{"$f":"IF(ISERROR(VLOOKUP($A282+8860000,'Growth Data'!$A:$Z,9,0)),0,VLOOKUP($A282+8860000,'Growth Data'!$A:$Z,9,0))","v":0},0,null,"NO",{"$f":"IF(ISERROR(VLOOKUP($A282+8860000,'Growth Data'!$A:$Z,5,0)),\"NO\",VLOOKUP($A282+8860000,'Growth Data'!$A:$Z,5,0))","v":"NO"},0,null,0,{"$f":"IF(ISERROR(VLOOKUP($A282+8860000,'Growth Data'!$A:$Z,10,0)),0,VLOOKUP($A282+8860000,'Growth Data'!$A:$Z,10,0))","v":0},0,null,0,{"$f":"IF(ISERROR(VLOOKUP($A282+8860000,'Growth Data'!$A:$Z,11,0)),0,VLOOKUP($A282+8860000,'Growth Data'!$A:$Z,11,0))","v":0},0]
[3919,"Dartford Bridge Community Primary School, The",null,"Dartford Bridge Community Primary School, The","Dartford Bridge Community Primary School, The",0,null,1380119.95,1380119.9459528788,0,null,83309.83,83309.832093244419,0,null,1463429.78,1463429.7780461232,0,null,9633.68,9633.6793433147195,0,null,null,null,0,null,4.9000000000000004,4.9000000000000004,0,null,188673.44,188673.43640677453,0,null,0,0,0,null,0,null,0,null,0,null,0,null,0,null,0,null,0,null,0,null,0,null,0,null,0,null,0,null,"YES",{"$f":"IF(ISERROR(VLOOKUP($A283+8860000,'Growth Data'!$A:$F,3,0)),\"NO\",VLOOKUP($A283+8860000,'Growth Data'!$A:$F,3,0))","v":"YES"},0,null,31,{"$f":"IF(BM283=\"YES\",IF(ISERROR(VLOOKUP($A283+8860000,'Growth Data'!$A:$F,6,0)),0,VLOOKUP($A283+8860000,'Growth Data'!$A:$F,6,0)),0)","v":31},0,null,60,{"$f":"IF(ISERROR(VLOOKUP($A283+8860000,'Growth Data'!$A:$Z,7,0)),0,VLOOKUP($A283+8860000,'Growth Data'!$A:$Z,7,0))","v":60},0,null,"YES",{"$f":"IF(ISERROR(VLOOKUP($A283+8860000,'Growth Data'!$A:$F,4,0)),\"NO\",VLOOKUP($A283+8860000,'Growth Data'!$A:$F,4,0))","v":"YES"},0,null,32,{"$f":"IF(ISERROR(VLOOKUP($A283+8860000,'Growth Data'!$A:$Z,8,0)),0,VLOOKUP($A283+8860000,'Growth Data'!$A:$Z,8,0))","v":32},0,null,60,{"$f":"IF(ISERROR(VLOOKUP($A283+8860000,'Growth Data'!$A:$Z,9,0)),0,VLOOKUP($A283+8860000,'Growth Data'!$A:$Z,9,0))","v":60},0,null,"NO",{"$f":"IF(ISERROR(VLOOKUP($A283+8860000,'Growth Data'!$A:$Z,5,0)),\"NO\",VLOOKUP($A283+8860000,'Growth Data'!$A:$Z,5,0))","v":"NO"},0,null,0,{"$f":"IF(ISERROR(VLOOKUP($A283+8860000,'Growth Data'!$A:$Z,10,0)),0,VLOOKUP($A283+8860000,'Growth Data'!$A:$Z,10,0))","v":0},0,null,0,{"$f":"IF(ISERROR(VLOOKUP($A283+8860000,'Growth Data'!$A:$Z,11,0)),0,VLOOKUP($A283+8860000,'Growth Data'!$A:$Z,11,0))","v":0},0]
[3920,"Goat Lees Primary School",null,"Goat Lees Primary School","Goat Lees Primary School",0,null,812511.07,812511.07398393902,0,null,0,0,0,null,812511.07,812511.07398393902,0,null,5315.29,5315.2850177999999,0,null,null,null,0,null,0,0,0,null,99148.81,99148.811402238905,0,null,0,0,0,null,0,null,0,null,0,null,0,null,0,null,0,null,0,null,0,null,0,null,0,null,0,null,0,null,"NO",{"$f":"IF(ISERROR(VLOOKUP($A284+8860000,'Growth Data'!$A:$F,3,0)),\"NO\",VLOOKUP($A284+8860000,'Growth Data'!$A:$F,3,0))","v":"NO"},0,null,0,{"$f":"IF(BM284=\"YES\",IF(ISERROR(VLOOKUP($A284+8860000,'Growth Data'!$A:$F,6,0)),0,VLOOKUP($A284+8860000,'Growth Data'!$A:$F,6,0)),0)","v":0},0,null,0,{"$f":"IF(ISERROR(VLOOKUP($A284+8860000,'Growth Data'!$A:$Z,7,0)),0,VLOOKUP($A284+8860000,'Growth Data'!$A:$Z,7,0))","v":0},0,null,"NO",{"$f":"IF(ISERROR(VLOOKUP($A284+8860000,'Growth Data'!$A:$F,4,0)),\"NO\",VLOOKUP($A284+8860000,'Growth Data'!$A:$F,4,0))","v":"NO"},0,null,0,{"$f":"IF(ISERROR(VLOOKUP($A284+8860000,'Growth Data'!$A:$Z,8,0)),0,VLOOKUP($A284+8860000,'Growth Data'!$A:$Z,8,0))","v":0},0,null,0,{"$f":"IF(ISERROR(VLOOKUP($A284+8860000,'Growth Data'!$A:$Z,9,0)),0,VLOOKUP($A284+8860000,'Growth Data'!$A:$Z,9,0))","v":0},0,null,"NO",{"$f":"IF(ISERROR(VLOOKUP($A284+8860000,'Growth Data'!$A:$Z,5,0)),\"NO\",VLOOKUP($A284+8860000,'Growth Data'!$A:$Z,5,0))","v":"NO"},0,null,0,{"$f":"IF(ISERROR(VLOOKUP($A284+8860000,'Growth Data'!$A:$Z,10,0)),0,VLOOKUP($A284+8860000,'Growth Data'!$A:$Z,10,0))","v":0},0,null,0,{"$f":"IF(ISERROR(VLOOKUP($A284+8860000,'Growth Data'!$A:$Z,11,0)),0,VLOOKUP($A284+8860000,'Growth Data'!$A:$Z,11,0))","v":0},0]
[5200,"Snodland CEP School",null,"Snodland CEP School","Snodland CEP School",0,null,1328791.6299999999,1328791.631613727,0,null,0,0,0,null,1328791.6299999999,1328791.631613727,0,null,9706.17,9706.1726411999989,0,null,null,null,0,null,0,0,0,null,144380.04999999999,144380.05088192702,0,null,0,0,0,null,0,null,0,null,0,null,0,null,0,null,0,null,0,null,0,null,0,null,0,null,0,null,0,null,"NO",{"$f":"IF(ISERROR(VLOOKUP($A285+8860000,'Growth Data'!$A:$F,3,0)),\"NO\",VLOOKUP($A285+8860000,'Growth Data'!$A:$F,3,0))","v":"NO"},0,null,0,{"$f":"IF(BM285=\"YES\",IF(ISERROR(VLOOKUP($A285+8860000,'Growth Data'!$A:$F,6,0)),0,VLOOKUP($A285+8860000,'Growth Data'!$A:$F,6,0)),0)","v":0},0,null,0,{"$f":"IF(ISERROR(VLOOKUP($A285+8860000,'Growth Data'!$A:$Z,7,0)),0,VLOOKUP($A285+8860000,'Growth Data'!$A:$Z,7,0))","v":0},0,null,"NO",{"$f":"IF(ISERROR(VLOOKUP($A285+8860000,'Growth Data'!$A:$F,4,0)),\"NO\",VLOOKUP($A285+8860000,'Growth Data'!$A:$F,4,0))","v":"NO"},0,null,0,{"$f":"IF(ISERROR(VLOOKUP($A285+8860000,'Growth Data'!$A:$Z,8,0)),0,VLOOKUP($A285+8860000,'Growth Data'!$A:$Z,8,0))","v":0},0,null,0,{"$f":"IF(ISERROR(VLOOKUP($A285+8860000,'Growth Data'!$A:$Z,9,0)),0,VLOOKUP($A285+8860000,'Growth Data'!$A:$Z,9,0))","v":0},0,null,"NO",{"$f":"IF(ISERROR(VLOOKUP($A285+8860000,'Growth Data'!$A:$Z,5,0)),\"NO\",VLOOKUP($A285+8860000,'Growth Data'!$A:$Z,5,0))","v":"NO"},0,null,0,{"$f":"IF(ISERROR(VLOOKUP($A285+8860000,'Growth Data'!$A:$Z,10,0)),0,VLOOKUP($A285+8860000,'Growth Data'!$A:$Z,10,0))","v":0},0,null,0,{"$f":"IF(ISERROR(VLOOKUP($A285+8860000,'Growth Data'!$A:$Z,11,0)),0,VLOOKUP($A285+8860000,'Growth Data'!$A:$Z,11,0))","v":0},0]
[5201,"Borough Green Primary School",null,"Borough Green Primary School","Borough Green Primary School",0,null,1000430.99,1000430.9925234178,0,null,0,0,0,null,1000430.99,1000430.9925234178,0,null,7472.21,7472.2122714000006,0,null,null,null,0,null,0,0,0,null,71500.160000000003,71500.158801317681,0,null,0,0,0,null,0,null,0,null,0,null,0,null,0,null,0,null,0,null,0,null,0,null,0,null,0,null,0,null,"NO",{"$f":"IF(ISERROR(VLOOKUP($A286+8860000,'Growth Data'!$A:$F,3,0)),\"NO\",VLOOKUP($A286+8860000,'Growth Data'!$A:$F,3,0))","v":"NO"},0,null,0,{"$f":"IF(BM286=\"YES\",IF(ISERROR(VLOOKUP($A286+8860000,'Growth Data'!$A:$F,6,0)),0,VLOOKUP($A286+8860000,'Growth Data'!$A:$F,6,0)),0)","v":0},0,null,0,{"$f":"IF(ISERROR(VLOOKUP($A286+8860000,'Growth Data'!$A:$Z,7,0)),0,VLOOKUP($A286+8860000,'Growth Data'!$A:$Z,7,0))","v":0},0,null,"NO",{"$f":"IF(ISERROR(VLOOKUP($A286+8860000,'Growth Data'!$A:$F,4,0)),\"NO\",VLOOKUP($A286+8860000,'Growth Data'!$A:$F,4,0))","v":"NO"},0,null,0,{"$f":"IF(ISERROR(VLOOKUP($A286+8860000,'Growth Data'!$A:$Z,8,0)),0,VLOOKUP($A286+8860000,'Growth Data'!$A:$Z,8,0))","v":0},0,null,0,{"$f":"IF(ISERROR(VLOOKUP($A286+8860000,'Growth Data'!$A:$Z,9,0)),0,VLOOKUP($A286+8860000,'Growth Data'!$A:$Z,9,0))","v":0},0,null,"NO",{"$f":"IF(ISERROR(VLOOKUP($A286+8860000,'Growth Data'!$A:$Z,5,0)),\"NO\",VLOOKUP($A286+8860000,'Growth Data'!$A:$Z,5,0))","v":"NO"},0,null,0,{"$f":"IF(ISERROR(VLOOKUP($A286+8860000,'Growth Data'!$A:$Z,10,0)),0,VLOOKUP($A286+8860000,'Growth Data'!$A:$Z,10,0))","v":0},0,null,0,{"$f":"IF(ISERROR(VLOOKUP($A286+8860000,'Growth Data'!$A:$Z,11,0)),0,VLOOKUP($A286+8860000,'Growth Data'!$A:$Z,11,0))","v":0},0]
[5202,"Holy Trinity CEP School",null,"Holy Trinity CEP School","Holy Trinity CEP School",0,null,1555805.5,1555805.5038546824,0,null,22086.91,22086.913001434878,0,null,1577892.42,1577892.4168561173,0,null,10990.06,10990.057911200001,0,null,null,null,0,null,5.14,5.14,0,null,244520.85,244520.84916788235,0,null,0,0,0,null,0,null,0,null,0,null,0,null,0,null,0,null,0,null,0,null,0,null,0,null,0,null,0,null,"NO",{"$f":"IF(ISERROR(VLOOKUP($A287+8860000,'Growth Data'!$A:$F,3,0)),\"NO\",VLOOKUP($A287+8860000,'Growth Data'!$A:$F,3,0))","v":"NO"},0,null,0,{"$f":"IF(BM287=\"YES\",IF(ISERROR(VLOOKUP($A287+8860000,'Growth Data'!$A:$F,6,0)),0,VLOOKUP($A287+8860000,'Growth Data'!$A:$F,6,0)),0)","v":0},0,null,0,{"$f":"IF(ISERROR(VLOOKUP($A287+8860000,'Growth Data'!$A:$Z,7,0)),0,VLOOKUP($A287+8860000,'Growth Data'!$A:$Z,7,0))","v":0},0,null,"NO",{"$f":"IF(ISERROR(VLOOKUP($A287+8860000,'Growth Data'!$A:$F,4,0)),\"NO\",VLOOKUP($A287+8860000,'Growth Data'!$A:$F,4,0))","v":"NO"},0,null,0,{"$f":"IF(ISERROR(VLOOKUP($A287+8860000,'Growth Data'!$A:$Z,8,0)),0,VLOOKUP($A287+8860000,'Growth Data'!$A:$Z,8,0))","v":0},0,null,0,{"$f":"IF(ISERROR(VLOOKUP($A287+8860000,'Growth Data'!$A:$Z,9,0)),0,VLOOKUP($A287+8860000,'Growth Data'!$A:$Z,9,0))","v":0},0,null,"NO",{"$f":"IF(ISERROR(VLOOKUP($A287+8860000,'Growth Data'!$A:$Z,5,0)),\"NO\",VLOOKUP($A287+8860000,'Growth Data'!$A:$Z,5,0))","v":"NO"},0,null,0,{"$f":"IF(ISERROR(VLOOKUP($A287+8860000,'Growth Data'!$A:$Z,10,0)),0,VLOOKUP($A287+8860000,'Growth Data'!$A:$Z,10,0))","v":0},0,null,0,{"$f":"IF(ISERROR(VLOOKUP($A287+8860000,'Growth Data'!$A:$Z,11,0)),0,VLOOKUP($A287+8860000,'Growth Data'!$A:$Z,11,0))","v":0},0]
[5203,"Roseacre Junior School",null,"Roseacre Junior School","Roseacre Junior School",0,null,1353341.33,1353341.3269234565,0,null,0,0,0,null,1353341.33,1353341.3269234565,0,null,10810.31,10810.3139734,0,null,null,null,0,null,0,0,0,null,69504.91,69504.906198356679,0,null,0,0,0,null,0,null,0,null,0,null,0,null,0,null,0,null,0,null,0,null,0,null,0,null,0,null,0,null,"NO",{"$f":"IF(ISERROR(VLOOKUP($A288+8860000,'Growth Data'!$A:$F,3,0)),\"NO\",VLOOKUP($A288+8860000,'Growth Data'!$A:$F,3,0))","v":"NO"},0,null,0,{"$f":"IF(BM288=\"YES\",IF(ISERROR(VLOOKUP($A288+8860000,'Growth Data'!$A:$F,6,0)),0,VLOOKUP($A288+8860000,'Growth Data'!$A:$F,6,0)),0)","v":0},0,null,0,{"$f":"IF(ISERROR(VLOOKUP($A288+8860000,'Growth Data'!$A:$Z,7,0)),0,VLOOKUP($A288+8860000,'Growth Data'!$A:$Z,7,0))","v":0},0,null,"NO",{"$f":"IF(ISERROR(VLOOKUP($A288+8860000,'Growth Data'!$A:$F,4,0)),\"NO\",VLOOKUP($A288+8860000,'Growth Data'!$A:$F,4,0))","v":"NO"},0,null,0,{"$f":"IF(ISERROR(VLOOKUP($A288+8860000,'Growth Data'!$A:$Z,8,0)),0,VLOOKUP($A288+8860000,'Growth Data'!$A:$Z,8,0))","v":0},0,null,0,{"$f":"IF(ISERROR(VLOOKUP($A288+8860000,'Growth Data'!$A:$Z,9,0)),0,VLOOKUP($A288+8860000,'Growth Data'!$A:$Z,9,0))","v":0},0,null,"NO",{"$f":"IF(ISERROR(VLOOKUP($A288+8860000,'Growth Data'!$A:$Z,5,0)),\"NO\",VLOOKUP($A288+8860000,'Growth Data'!$A:$Z,5,0))","v":"NO"},0,null,0,{"$f":"IF(ISERROR(VLOOKUP($A288+8860000,'Growth Data'!$A:$Z,10,0)),0,VLOOKUP($A288+8860000,'Growth Data'!$A:$Z,10,0))","v":0},0,null,0,{"$f":"IF(ISERROR(VLOOKUP($A288+8860000,'Growth Data'!$A:$Z,11,0)),0,VLOOKUP($A288+8860000,'Growth Data'!$A:$Z,11,0))","v":0},0]
[5206,"Herne Bay Junior School",null,"Herne Bay Junior School","Herne Bay Junior School",0,null,1698000.9,1698000.9007880597,0,null,0,0,0,null,1698000.9,1698000.9007880597,0,null,12428.01,12428.009413600001,0,null,null,null,0,null,0,0,0,null,213796.61,213796.60760765948,0,null,0,0,0,null,0,null,0,null,0,null,0,null,0,null,0,null,0,null,0,null,0,null,0,null,0,null,0,null,"NO",{"$f":"IF(ISERROR(VLOOKUP($A289+8860000,'Growth Data'!$A:$F,3,0)),\"NO\",VLOOKUP($A289+8860000,'Growth Data'!$A:$F,3,0))","v":"NO"},0,null,0,{"$f":"IF(BM289=\"YES\",IF(ISERROR(VLOOKUP($A289+8860000,'Growth Data'!$A:$F,6,0)),0,VLOOKUP($A289+8860000,'Growth Data'!$A:$F,6,0)),0)","v":0},0,null,0,{"$f":"IF(ISERROR(VLOOKUP($A289+8860000,'Growth Data'!$A:$Z,7,0)),0,VLOOKUP($A289+8860000,'Growth Data'!$A:$Z,7,0))","v":0},0,null,"NO",{"$f":"IF(ISERROR(VLOOKUP($A289+8860000,'Growth Data'!$A:$F,4,0)),\"NO\",VLOOKUP($A289+8860000,'Growth Data'!$A:$F,4,0))","v":"NO"},0,null,0,{"$f":"IF(ISERROR(VLOOKUP($A289+8860000,'Growth Data'!$A:$Z,8,0)),0,VLOOKUP($A289+8860000,'Growth Data'!$A:$Z,8,0))","v":0},0,null,0,{"$f":"IF(ISERROR(VLOOKUP($A289+8860000,'Growth Data'!$A:$Z,9,0)),0,VLOOKUP($A289+8860000,'Growth Data'!$A:$Z,9,0))","v":0},0,null,"NO",{"$f":"IF(ISERROR(VLOOKUP($A289+8860000,'Growth Data'!$A:$Z,5,0)),\"NO\",VLOOKUP($A289+8860000,'Growth Data'!$A:$Z,5,0))","v":"NO"},0,null,0,{"$f":"IF(ISERROR(VLOOKUP($A289+8860000,'Growth Data'!$A:$Z,10,0)),0,VLOOKUP($A289+8860000,'Growth Data'!$A:$Z,10,0))","v":0},0,null,0,{"$f":"IF(ISERROR(VLOOKUP($A289+8860000,'Growth Data'!$A:$Z,11,0)),0,VLOOKUP($A289+8860000,'Growth Data'!$A:$Z,11,0))","v":0},0]
[5207,"St Francis' Catholic Primary School, Maidstone",null,"St Francis' Catholic Primary School, Maidstone","St Francis' Catholic Primary School, Maidstone",0,null,1405418.79,1405418.7912854638,0,null,0,0,0,null,1405418.79,1405418.7912854638,0,null,10502.18,10502.181508599999,0,null,null,null,0,null,0,0,0,null,144883.96,144883.95963756379,0,null,0,0,0,null,0,null,0,null,0,null,0,null,0,null,0,null,0,null,0,null,0,null,0,null,0,null,0,null,"NO",{"$f":"IF(ISERROR(VLOOKUP($A290+8860000,'Growth Data'!$A:$F,3,0)),\"NO\",VLOOKUP($A290+8860000,'Growth Data'!$A:$F,3,0))","v":"NO"},0,null,0,{"$f":"IF(BM290=\"YES\",IF(ISERROR(VLOOKUP($A290+8860000,'Growth Data'!$A:$F,6,0)),0,VLOOKUP($A290+8860000,'Growth Data'!$A:$F,6,0)),0)","v":0},0,null,0,{"$f":"IF(ISERROR(VLOOKUP($A290+8860000,'Growth Data'!$A:$Z,7,0)),0,VLOOKUP($A290+8860000,'Growth Data'!$A:$Z,7,0))","v":0},0,null,"NO",{"$f":"IF(ISERROR(VLOOKUP($A290+8860000,'Growth Data'!$A:$F,4,0)),\"NO\",VLOOKUP($A290+8860000,'Growth Data'!$A:$F,4,0))","v":"NO"},0,null,0,{"$f":"IF(ISERROR(VLOOKUP($A290+8860000,'Growth Data'!$A:$Z,8,0)),0,VLOOKUP($A290+8860000,'Growth Data'!$A:$Z,8,0))","v":0},0,null,0,{"$f":"IF(ISERROR(VLOOKUP($A290+8860000,'Growth Data'!$A:$Z,9,0)),0,VLOOKUP($A290+8860000,'Growth Data'!$A:$Z,9,0))","v":0},0,null,"NO",{"$f":"IF(ISERROR(VLOOKUP($A290+8860000,'Growth Data'!$A:$Z,5,0)),\"NO\",VLOOKUP($A290+8860000,'Growth Data'!$A:$Z,5,0))","v":"NO"},0,null,0,{"$f":"IF(ISERROR(VLOOKUP($A290+8860000,'Growth Data'!$A:$Z,10,0)),0,VLOOKUP($A290+8860000,'Growth Data'!$A:$Z,10,0))","v":0},0,null,0,{"$f":"IF(ISERROR(VLOOKUP($A290+8860000,'Growth Data'!$A:$Z,11,0)),0,VLOOKUP($A290+8860000,'Growth Data'!$A:$Z,11,0))","v":0},0]
[5208,"Ditton CEJ School",null,"Ditton CEJ School","Ditton CEJ School",0,null,893238.6,893238.59783501725,0,null,0,0,0,null,893238.6,893238.59783501725,0,null,6368.07,6368.0709391999999,0,null,null,null,0,null,0,0,0,null,83873.929999999993,83873.926506217278,0,null,0,0,0,null,0,null,0,null,0,null,0,null,0,null,0,null,0,null,0,null,0,null,0,null,0,null,0,null,"NO",{"$f":"IF(ISERROR(VLOOKUP($A291+8860000,'Growth Data'!$A:$F,3,0)),\"NO\",VLOOKUP($A291+8860000,'Growth Data'!$A:$F,3,0))","v":"NO"},0,null,0,{"$f":"IF(BM291=\"YES\",IF(ISERROR(VLOOKUP($A291+8860000,'Growth Data'!$A:$F,6,0)),0,VLOOKUP($A291+8860000,'Growth Data'!$A:$F,6,0)),0)","v":0},0,null,0,{"$f":"IF(ISERROR(VLOOKUP($A291+8860000,'Growth Data'!$A:$Z,7,0)),0,VLOOKUP($A291+8860000,'Growth Data'!$A:$Z,7,0))","v":0},0,null,"NO",{"$f":"IF(ISERROR(VLOOKUP($A291+8860000,'Growth Data'!$A:$F,4,0)),\"NO\",VLOOKUP($A291+8860000,'Growth Data'!$A:$F,4,0))","v":"NO"},0,null,0,{"$f":"IF(ISERROR(VLOOKUP($A291+8860000,'Growth Data'!$A:$Z,8,0)),0,VLOOKUP($A291+8860000,'Growth Data'!$A:$Z,8,0))","v":0},0,null,0,{"$f":"IF(ISERROR(VLOOKUP($A291+8860000,'Growth Data'!$A:$Z,9,0)),0,VLOOKUP($A291+8860000,'Growth Data'!$A:$Z,9,0))","v":0},0,null,"NO",{"$f":"IF(ISERROR(VLOOKUP($A291+8860000,'Growth Data'!$A:$Z,5,0)),\"NO\",VLOOKUP($A291+8860000,'Growth Data'!$A:$Z,5,0))","v":"NO"},0,null,0,{"$f":"IF(ISERROR(VLOOKUP($A291+8860000,'Growth Data'!$A:$Z,10,0)),0,VLOOKUP($A291+8860000,'Growth Data'!$A:$Z,10,0))","v":0},0,null,0,{"$f":"IF(ISERROR(VLOOKUP($A291+8860000,'Growth Data'!$A:$Z,11,0)),0,VLOOKUP($A291+8860000,'Growth Data'!$A:$Z,11,0))","v":0},0]
[5212,"Ditton Infant School",null,"Ditton Infant School","Ditton Infant School",0,null,660995.11,660995.11168620223,0,null,2987.05,2987.0451351467054,0,null,663982.16,663982.15682134894,0,null,4493.6000000000004,4493.5984449999996,0,null,null,null,0,null,0,0,0,null,56056.51,56056.505043702186,0,null,394.35,394.3494956297809,0,null,0,null,0,null,0,null,0,null,0,null,0,null,0,null,0,null,0,null,0,null,0,null,0,null,"NO",{"$f":"IF(ISERROR(VLOOKUP($A292+8860000,'Growth Data'!$A:$F,3,0)),\"NO\",VLOOKUP($A292+8860000,'Growth Data'!$A:$F,3,0))","v":"NO"},0,null,0,{"$f":"IF(BM292=\"YES\",IF(ISERROR(VLOOKUP($A292+8860000,'Growth Data'!$A:$F,6,0)),0,VLOOKUP($A292+8860000,'Growth Data'!$A:$F,6,0)),0)","v":0},0,null,0,{"$f":"IF(ISERROR(VLOOKUP($A292+8860000,'Growth Data'!$A:$Z,7,0)),0,VLOOKUP($A292+8860000,'Growth Data'!$A:$Z,7,0))","v":0},0,null,"NO",{"$f":"IF(ISERROR(VLOOKUP($A292+8860000,'Growth Data'!$A:$F,4,0)),\"NO\",VLOOKUP($A292+8860000,'Growth Data'!$A:$F,4,0))","v":"NO"},0,null,0,{"$f":"IF(ISERROR(VLOOKUP($A292+8860000,'Growth Data'!$A:$Z,8,0)),0,VLOOKUP($A292+8860000,'Growth Data'!$A:$Z,8,0))","v":0},0,null,0,{"$f":"IF(ISERROR(VLOOKUP($A292+8860000,'Growth Data'!$A:$Z,9,0)),0,VLOOKUP($A292+8860000,'Growth Data'!$A:$Z,9,0))","v":0},0,null,"NO",{"$f":"IF(ISERROR(VLOOKUP($A292+8860000,'Growth Data'!$A:$Z,5,0)),\"NO\",VLOOKUP($A292+8860000,'Growth Data'!$A:$Z,5,0))","v":"NO"},0,null,0,{"$f":"IF(ISERROR(VLOOKUP($A292+8860000,'Growth Data'!$A:$Z,10,0)),0,VLOOKUP($A292+8860000,'Growth Data'!$A:$Z,10,0))","v":0},0,null,0,{"$f":"IF(ISERROR(VLOOKUP($A292+8860000,'Growth Data'!$A:$Z,11,0)),0,VLOOKUP($A292+8860000,'Growth Data'!$A:$Z,11,0))","v":0},0]
[5213,"Holy Trinity CEP School, Dartford",null,"Holy Trinity CEP School, Dartford","Holy Trinity CEP School, Dartford",0,null,1506441.98,1506441.9781057641,0,null,58066.71,58066.707602645271,0,null,1564508.69,1564508.6857084094,0,null,11230.42,11230.421775908319,0,null,null,null,0,null,0,0,0,null,167712.79,167712.78545648966,0,null,0,0,0,null,0,null,0,null,0,null,0,null,0,null,0,null,0,null,0,null,0,null,0,null,0,null,0,null,"NO",{"$f":"IF(ISERROR(VLOOKUP($A293+8860000,'Growth Data'!$A:$F,3,0)),\"NO\",VLOOKUP($A293+8860000,'Growth Data'!$A:$F,3,0))","v":"NO"},0,null,0,{"$f":"IF(BM293=\"YES\",IF(ISERROR(VLOOKUP($A293+8860000,'Growth Data'!$A:$F,6,0)),0,VLOOKUP($A293+8860000,'Growth Data'!$A:$F,6,0)),0)","v":0},0,null,0,{"$f":"IF(ISERROR(VLOOKUP($A293+8860000,'Growth Data'!$A:$Z,7,0)),0,VLOOKUP($A293+8860000,'Growth Data'!$A:$Z,7,0))","v":0},0,null,"NO",{"$f":"IF(ISERROR(VLOOKUP($A293+8860000,'Growth Data'!$A:$F,4,0)),\"NO\",VLOOKUP($A293+8860000,'Growth Data'!$A:$F,4,0))","v":"NO"},0,null,0,{"$f":"IF(ISERROR(VLOOKUP($A293+8860000,'Growth Data'!$A:$Z,8,0)),0,VLOOKUP($A293+8860000,'Growth Data'!$A:$Z,8,0))","v":0},0,null,0,{"$f":"IF(ISERROR(VLOOKUP($A293+8860000,'Growth Data'!$A:$Z,9,0)),0,VLOOKUP($A293+8860000,'Growth Data'!$A:$Z,9,0))","v":0},0,null,"NO",{"$f":"IF(ISERROR(VLOOKUP($A293+8860000,'Growth Data'!$A:$Z,5,0)),\"NO\",VLOOKUP($A293+8860000,'Growth Data'!$A:$Z,5,0))","v":"NO"},0,null,0,{"$f":"IF(ISERROR(VLOOKUP($A293+8860000,'Growth Data'!$A:$Z,10,0)),0,VLOOKUP($A293+8860000,'Growth Data'!$A:$Z,10,0))","v":0},0,null,0,{"$f":"IF(ISERROR(VLOOKUP($A293+8860000,'Growth Data'!$A:$Z,11,0)),0,VLOOKUP($A293+8860000,'Growth Data'!$A:$Z,11,0))","v":0},0]
[5214,"St Bartholomew's Catholic Primary School",null,"St Bartholomew's Catholic Primary School","St Bartholomew's Catholic Primary School",0,null,1324720.82,1324720.8202977632,0,null,0,0,0,null,1324720.82,1324720.8202977632,0,null,9314.33,9314.3308567960012,0,null,null,null,0,null,0,0,0,null,189943.34,189943.34247126931,0,null,0,0,0,null,0,null,0,null,0,null,0,null,0,null,0,null,0,null,0,null,0,null,0,null,0,null,0,null,"NO",{"$f":"IF(ISERROR(VLOOKUP($A294+8860000,'Growth Data'!$A:$F,3,0)),\"NO\",VLOOKUP($A294+8860000,'Growth Data'!$A:$F,3,0))","v":"NO"},0,null,0,{"$f":"IF(BM294=\"YES\",IF(ISERROR(VLOOKUP($A294+8860000,'Growth Data'!$A:$F,6,0)),0,VLOOKUP($A294+8860000,'Growth Data'!$A:$F,6,0)),0)","v":0},0,null,0,{"$f":"IF(ISERROR(VLOOKUP($A294+8860000,'Growth Data'!$A:$Z,7,0)),0,VLOOKUP($A294+8860000,'Growth Data'!$A:$Z,7,0))","v":0},0,null,"NO",{"$f":"IF(ISERROR(VLOOKUP($A294+8860000,'Growth Data'!$A:$F,4,0)),\"NO\",VLOOKUP($A294+8860000,'Growth Data'!$A:$F,4,0))","v":"NO"},0,null,0,{"$f":"IF(ISERROR(VLOOKUP($A294+8860000,'Growth Data'!$A:$Z,8,0)),0,VLOOKUP($A294+8860000,'Growth Data'!$A:$Z,8,0))","v":0},0,null,0,{"$f":"IF(ISERROR(VLOOKUP($A294+8860000,'Growth Data'!$A:$Z,9,0)),0,VLOOKUP($A294+8860000,'Growth Data'!$A:$Z,9,0))","v":0},0,null,"NO",{"$f":"IF(ISERROR(VLOOKUP($A294+8860000,'Growth Data'!$A:$Z,5,0)),\"NO\",VLOOKUP($A294+8860000,'Growth Data'!$A:$Z,5,0))","v":"NO"},0,null,0,{"$f":"IF(ISERROR(VLOOKUP($A294+8860000,'Growth Data'!$A:$Z,10,0)),0,VLOOKUP($A294+8860000,'Growth Data'!$A:$Z,10,0))","v":0},0,null,0,{"$f":"IF(ISERROR(VLOOKUP($A294+8860000,'Growth Data'!$A:$Z,11,0)),0,VLOOKUP($A294+8860000,'Growth Data'!$A:$Z,11,0))","v":0},0]
[5218,"Greatstone Primary School",null,"Greatstone Primary School","Greatstone Primary School",0,null,1231878.54,1231878.5433743084,0,null,41773.4,41773.403214757098,0,null,1273651.95,1273651.9465890655,0,null,9192.6200000000008,9192.6185332000023,0,null,null,null,0,null,4.9000000000000004,4.9000000000000004,0,null,116227.48,116227.47550450831,0,null,0,0,0,null,0,null,0,null,0,null,0,null,0,null,0,null,0,null,0,null,0,null,0,null,0,null,0,null,"NO",{"$f":"IF(ISERROR(VLOOKUP($A295+8860000,'Growth Data'!$A:$F,3,0)),\"NO\",VLOOKUP($A295+8860000,'Growth Data'!$A:$F,3,0))","v":"NO"},0,null,0,{"$f":"IF(BM295=\"YES\",IF(ISERROR(VLOOKUP($A295+8860000,'Growth Data'!$A:$F,6,0)),0,VLOOKUP($A295+8860000,'Growth Data'!$A:$F,6,0)),0)","v":0},0,null,0,{"$f":"IF(ISERROR(VLOOKUP($A295+8860000,'Growth Data'!$A:$Z,7,0)),0,VLOOKUP($A295+8860000,'Growth Data'!$A:$Z,7,0))","v":0},0,null,"NO",{"$f":"IF(ISERROR(VLOOKUP($A295+8860000,'Growth Data'!$A:$F,4,0)),\"NO\",VLOOKUP($A295+8860000,'Growth Data'!$A:$F,4,0))","v":"NO"},0,null,0,{"$f":"IF(ISERROR(VLOOKUP($A295+8860000,'Growth Data'!$A:$Z,8,0)),0,VLOOKUP($A295+8860000,'Growth Data'!$A:$Z,8,0))","v":0},0,null,0,{"$f":"IF(ISERROR(VLOOKUP($A295+8860000,'Growth Data'!$A:$Z,9,0)),0,VLOOKUP($A295+8860000,'Growth Data'!$A:$Z,9,0))","v":0},0,null,"NO",{"$f":"IF(ISERROR(VLOOKUP($A295+8860000,'Growth Data'!$A:$Z,5,0)),\"NO\",VLOOKUP($A295+8860000,'Growth Data'!$A:$Z,5,0))","v":"NO"},0,null,0,{"$f":"IF(ISERROR(VLOOKUP($A295+8860000,'Growth Data'!$A:$Z,10,0)),0,VLOOKUP($A295+8860000,'Growth Data'!$A:$Z,10,0))","v":0},0,null,0,{"$f":"IF(ISERROR(VLOOKUP($A295+8860000,'Growth Data'!$A:$Z,11,0)),0,VLOOKUP($A295+8860000,'Growth Data'!$A:$Z,11,0))","v":0},0]
[5221,"Wincheap Foundation Primary School",null,"Wincheap Foundation Primary School","Wincheap Foundation Primary School",0,null,1583049.87,1583049.8739059465,0,null,0,0,0,null,1583049.87,1583049.8739059465,0,null,11375.22,11375.223492200001,0,null,null,null,0,null,0,0,0,null,204328.11,204328.11467264645,0,null,0,0,0,null,16000,null,16000,null,150000,null,150000,null,0,null,0,null,0,null,0,null,0,null,0,null,0,null,0,null,"NO",{"$f":"IF(ISERROR(VLOOKUP($A296+8860000,'Growth Data'!$A:$F,3,0)),\"NO\",VLOOKUP($A296+8860000,'Growth Data'!$A:$F,3,0))","v":"NO"},0,null,0,{"$f":"IF(BM296=\"YES\",IF(ISERROR(VLOOKUP($A296+8860000,'Growth Data'!$A:$F,6,0)),0,VLOOKUP($A296+8860000,'Growth Data'!$A:$F,6,0)),0)","v":0},0,null,0,{"$f":"IF(ISERROR(VLOOKUP($A296+8860000,'Growth Data'!$A:$Z,7,0)),0,VLOOKUP($A296+8860000,'Growth Data'!$A:$Z,7,0))","v":0},0,null,"NO",{"$f":"IF(ISERROR(VLOOKUP($A296+8860000,'Growth Data'!$A:$F,4,0)),\"NO\",VLOOKUP($A296+8860000,'Growth Data'!$A:$F,4,0))","v":"NO"},0,null,0,{"$f":"IF(ISERROR(VLOOKUP($A296+8860000,'Growth Data'!$A:$Z,8,0)),0,VLOOKUP($A296+8860000,'Growth Data'!$A:$Z,8,0))","v":0},0,null,0,{"$f":"IF(ISERROR(VLOOKUP($A296+8860000,'Growth Data'!$A:$Z,9,0)),0,VLOOKUP($A296+8860000,'Growth Data'!$A:$Z,9,0))","v":0},0,null,"NO",{"$f":"IF(ISERROR(VLOOKUP($A296+8860000,'Growth Data'!$A:$Z,5,0)),\"NO\",VLOOKUP($A296+8860000,'Growth Data'!$A:$Z,5,0))","v":"NO"},0,null,0,{"$f":"IF(ISERROR(VLOOKUP($A296+8860000,'Growth Data'!$A:$Z,10,0)),0,VLOOKUP($A296+8860000,'Growth Data'!$A:$Z,10,0))","v":0},0,null,0,{"$f":"IF(ISERROR(VLOOKUP($A296+8860000,'Growth Data'!$A:$Z,11,0)),0,VLOOKUP($A296+8860000,'Growth Data'!$A:$Z,11,0))","v":0},0]
[5223,"Brookfield Junior School, Larkfield",null,"Brookfield Junior School, Larkfield","Brookfield Junior School, Larkfield",0,null,893690.58,893690.57585435675,0,null,0,0,0,null,893690.58,893690.57585435675,0,null,6034.26,6034.2607689999995,0,null,null,null,0,null,0,0,0,null,92949.25,92949.253825856722,0,null,0,0,0,null,0,null,0,null,0,null,0,null,0,null,0,null,0,null,0,null,0,null,0,null,0,null,0,null,"NO",{"$f":"IF(ISERROR(VLOOKUP($A297+8860000,'Growth Data'!$A:$F,3,0)),\"NO\",VLOOKUP($A297+8860000,'Growth Data'!$A:$F,3,0))","v":"NO"},0,null,0,{"$f":"IF(BM297=\"YES\",IF(ISERROR(VLOOKUP($A297+8860000,'Growth Data'!$A:$F,6,0)),0,VLOOKUP($A297+8860000,'Growth Data'!$A:$F,6,0)),0)","v":0},0,null,0,{"$f":"IF(ISERROR(VLOOKUP($A297+8860000,'Growth Data'!$A:$Z,7,0)),0,VLOOKUP($A297+8860000,'Growth Data'!$A:$Z,7,0))","v":0},0,null,"NO",{"$f":"IF(ISERROR(VLOOKUP($A297+8860000,'Growth Data'!$A:$F,4,0)),\"NO\",VLOOKUP($A297+8860000,'Growth Data'!$A:$F,4,0))","v":"NO"},0,null,0,{"$f":"IF(ISERROR(VLOOKUP($A297+8860000,'Growth Data'!$A:$Z,8,0)),0,VLOOKUP($A297+8860000,'Growth Data'!$A:$Z,8,0))","v":0},0,null,0,{"$f":"IF(ISERROR(VLOOKUP($A297+8860000,'Growth Data'!$A:$Z,9,0)),0,VLOOKUP($A297+8860000,'Growth Data'!$A:$Z,9,0))","v":0},0,null,"NO",{"$f":"IF(ISERROR(VLOOKUP($A297+8860000,'Growth Data'!$A:$Z,5,0)),\"NO\",VLOOKUP($A297+8860000,'Growth Data'!$A:$Z,5,0))","v":"NO"},0,null,0,{"$f":"IF(ISERROR(VLOOKUP($A297+8860000,'Growth Data'!$A:$Z,10,0)),0,VLOOKUP($A297+8860000,'Growth Data'!$A:$Z,10,0))","v":0},0,null,0,{"$f":"IF(ISERROR(VLOOKUP($A297+8860000,'Growth Data'!$A:$Z,11,0)),0,VLOOKUP($A297+8860000,'Growth Data'!$A:$Z,11,0))","v":0},0]
[5224,"All Souls' CEP School",null,"All Souls' CEP School","All Souls' CEP School",0,null,1031691.86,1031691.8610251595,0,null,0,0,0,null,1031691.86,1031691.8610251595,0,null,7395.18,7395.1791552000004,0,null,null,null,0,null,0,0,0,null,102672,102672.00437235931,0,null,0,0,0,null,0,null,0,null,0,null,0,null,0,null,0,null,0,null,0,null,0,null,0,null,0,null,0,null,"NO",{"$f":"IF(ISERROR(VLOOKUP($A298+8860000,'Growth Data'!$A:$F,3,0)),\"NO\",VLOOKUP($A298+8860000,'Growth Data'!$A:$F,3,0))","v":"NO"},0,null,0,{"$f":"IF(BM298=\"YES\",IF(ISERROR(VLOOKUP($A298+8860000,'Growth Data'!$A:$F,6,0)),0,VLOOKUP($A298+8860000,'Growth Data'!$A:$F,6,0)),0)","v":0},0,null,0,{"$f":"IF(ISERROR(VLOOKUP($A298+8860000,'Growth Data'!$A:$Z,7,0)),0,VLOOKUP($A298+8860000,'Growth Data'!$A:$Z,7,0))","v":0},0,null,"NO",{"$f":"IF(ISERROR(VLOOKUP($A298+8860000,'Growth Data'!$A:$F,4,0)),\"NO\",VLOOKUP($A298+8860000,'Growth Data'!$A:$F,4,0))","v":"NO"},0,null,0,{"$f":"IF(ISERROR(VLOOKUP($A298+8860000,'Growth Data'!$A:$Z,8,0)),0,VLOOKUP($A298+8860000,'Growth Data'!$A:$Z,8,0))","v":0},0,null,0,{"$f":"IF(ISERROR(VLOOKUP($A298+8860000,'Growth Data'!$A:$Z,9,0)),0,VLOOKUP($A298+8860000,'Growth Data'!$A:$Z,9,0))","v":0},0,null,"NO",{"$f":"IF(ISERROR(VLOOKUP($A298+8860000,'Growth Data'!$A:$Z,5,0)),\"NO\",VLOOKUP($A298+8860000,'Growth Data'!$A:$Z,5,0))","v":"NO"},0,null,0,{"$f":"IF(ISERROR(VLOOKUP($A298+8860000,'Growth Data'!$A:$Z,10,0)),0,VLOOKUP($A298+8860000,'Growth Data'!$A:$Z,10,0))","v":0},0,null,0,{"$f":"IF(ISERROR(VLOOKUP($A298+8860000,'Growth Data'!$A:$Z,11,0)),0,VLOOKUP($A298+8860000,'Growth Data'!$A:$Z,11,0))","v":0},0]
[5225,"Harcourt Primary School",null,"Harcourt Primary School","Harcourt Primary School",0,null,650387.59,650387.58774349769,0,null,43430.47,43430.466795220622,0,null,693818.05,693818.05453871831,0,null,4288.18,4288.1768018000002,0,null,null,null,0,null,0,0,0,null,65992.850000000006,65992.850085797661,0,null,0,0,0,null,0,null,0,null,0,null,0,null,0,null,0,null,0,null,0,null,0,null,0,null,0,null,0,null,"NO",{"$f":"IF(ISERROR(VLOOKUP($A299+8860000,'Growth Data'!$A:$F,3,0)),\"NO\",VLOOKUP($A299+8860000,'Growth Data'!$A:$F,3,0))","v":"NO"},0,null,0,{"$f":"IF(BM299=\"YES\",IF(ISERROR(VLOOKUP($A299+8860000,'Growth Data'!$A:$F,6,0)),0,VLOOKUP($A299+8860000,'Growth Data'!$A:$F,6,0)),0)","v":0},0,null,0,{"$f":"IF(ISERROR(VLOOKUP($A299+8860000,'Growth Data'!$A:$Z,7,0)),0,VLOOKUP($A299+8860000,'Growth Data'!$A:$Z,7,0))","v":0},0,null,"NO",{"$f":"IF(ISERROR(VLOOKUP($A299+8860000,'Growth Data'!$A:$F,4,0)),\"NO\",VLOOKUP($A299+8860000,'Growth Data'!$A:$F,4,0))","v":"NO"},0,null,0,{"$f":"IF(ISERROR(VLOOKUP($A299+8860000,'Growth Data'!$A:$Z,8,0)),0,VLOOKUP($A299+8860000,'Growth Data'!$A:$Z,8,0))","v":0},0,null,0,{"$f":"IF(ISERROR(VLOOKUP($A299+8860000,'Growth Data'!$A:$Z,9,0)),0,VLOOKUP($A299+8860000,'Growth Data'!$A:$Z,9,0))","v":0},0,null,"NO",{"$f":"IF(ISERROR(VLOOKUP($A299+8860000,'Growth Data'!$A:$Z,5,0)),\"NO\",VLOOKUP($A299+8860000,'Growth Data'!$A:$Z,5,0))","v":"NO"},0,null,0,{"$f":"IF(ISERROR(VLOOKUP($A299+8860000,'Growth Data'!$A:$Z,10,0)),0,VLOOKUP($A299+8860000,'Growth Data'!$A:$Z,10,0))","v":0},0,null,0,{"$f":"IF(ISERROR(VLOOKUP($A299+8860000,'Growth Data'!$A:$Z,11,0)),0,VLOOKUP($A299+8860000,'Growth Data'!$A:$Z,11,0))","v":0},0]
[5226,"Willesborough Junior School",null,"Willesborough Junior School","Willesborough Junior School",0,null,1636244.52,1636244.5198965832,0,null,0,0,0,null,1636244.52,1636244.5198965832,0,null,12196.91,12196.910064999996,0,null,null,null,0,null,0,0,0,null,190573.91,190573.91072408311,0,null,0,0,0,null,0,null,0,null,0,null,0,null,0,null,0,null,0,null,0,null,0,null,0,null,0,null,0,null,"NO",{"$f":"IF(ISERROR(VLOOKUP($A300+8860000,'Growth Data'!$A:$F,3,0)),\"NO\",VLOOKUP($A300+8860000,'Growth Data'!$A:$F,3,0))","v":"NO"},0,null,0,{"$f":"IF(BM300=\"YES\",IF(ISERROR(VLOOKUP($A300+8860000,'Growth Data'!$A:$F,6,0)),0,VLOOKUP($A300+8860000,'Growth Data'!$A:$F,6,0)),0)","v":0},0,null,0,{"$f":"IF(ISERROR(VLOOKUP($A300+8860000,'Growth Data'!$A:$Z,7,0)),0,VLOOKUP($A300+8860000,'Growth Data'!$A:$Z,7,0))","v":0},0,null,"NO",{"$f":"IF(ISERROR(VLOOKUP($A300+8860000,'Growth Data'!$A:$F,4,0)),\"NO\",VLOOKUP($A300+8860000,'Growth Data'!$A:$F,4,0))","v":"NO"},0,null,0,{"$f":"IF(ISERROR(VLOOKUP($A300+8860000,'Growth Data'!$A:$Z,8,0)),0,VLOOKUP($A300+8860000,'Growth Data'!$A:$Z,8,0))","v":0},0,null,0,{"$f":"IF(ISERROR(VLOOKUP($A300+8860000,'Growth Data'!$A:$Z,9,0)),0,VLOOKUP($A300+8860000,'Growth Data'!$A:$Z,9,0))","v":0},0,null,"NO",{"$f":"IF(ISERROR(VLOOKUP($A300+8860000,'Growth Data'!$A:$Z,5,0)),\"NO\",VLOOKUP($A300+8860000,'Growth Data'!$A:$Z,5,0))","v":"NO"},0,null,0,{"$f":"IF(ISERROR(VLOOKUP($A300+8860000,'Growth Data'!$A:$Z,10,0)),0,VLOOKUP($A300+8860000,'Growth Data'!$A:$Z,10,0))","v":0},0,null,0,{"$f":"IF(ISERROR(VLOOKUP($A300+8860000,'Growth Data'!$A:$Z,11,0)),0,VLOOKUP($A300+8860000,'Growth Data'!$A:$Z,11,0))","v":0},0]
[5229,"Fleetdown Primary School",null,"Fleetdown Primary School","Fleetdown Primary School",0,null,2043476.93,2043476.9263101397,0,null,0,0,0,null,2043476.93,2043476.9263101397,0,null,16047.26,16047.261447565679,0,null,null,null,0,null,0,0,0,null,152749.09,152749.09429053296,0,null,0,0,0,null,0,null,0,null,75500,null,75500,null,0,null,0,null,0,null,0,null,0,null,0,null,0,null,0,null,"YES",{"$f":"IF(ISERROR(VLOOKUP($A301+8860000,'Growth Data'!$A:$F,3,0)),\"NO\",VLOOKUP($A301+8860000,'Growth Data'!$A:$F,3,0))","v":"YES"},0,null,66,{"$f":"IF(BM301=\"YES\",IF(ISERROR(VLOOKUP($A301+8860000,'Growth Data'!$A:$F,6,0)),0,VLOOKUP($A301+8860000,'Growth Data'!$A:$F,6,0)),0)","v":66},0,null,90,{"$f":"IF(ISERROR(VLOOKUP($A301+8860000,'Growth Data'!$A:$Z,7,0)),0,VLOOKUP($A301+8860000,'Growth Data'!$A:$Z,7,0))","v":90},0,null,"NO",{"$f":"IF(ISERROR(VLOOKUP($A301+8860000,'Growth Data'!$A:$F,4,0)),\"NO\",VLOOKUP($A301+8860000,'Growth Data'!$A:$F,4,0))","v":"NO"},0,null,0,{"$f":"IF(ISERROR(VLOOKUP($A301+8860000,'Growth Data'!$A:$Z,8,0)),0,VLOOKUP($A301+8860000,'Growth Data'!$A:$Z,8,0))","v":0},0,null,0,{"$f":"IF(ISERROR(VLOOKUP($A301+8860000,'Growth Data'!$A:$Z,9,0)),0,VLOOKUP($A301+8860000,'Growth Data'!$A:$Z,9,0))","v":0},0,null,"NO",{"$f":"IF(ISERROR(VLOOKUP($A301+8860000,'Growth Data'!$A:$Z,5,0)),\"NO\",VLOOKUP($A301+8860000,'Growth Data'!$A:$Z,5,0))","v":"NO"},0,null,0,{"$f":"IF(ISERROR(VLOOKUP($A301+8860000,'Growth Data'!$A:$Z,10,0)),0,VLOOKUP($A301+8860000,'Growth Data'!$A:$Z,10,0))","v":0},0,null,0,{"$f":"IF(ISERROR(VLOOKUP($A301+8860000,'Growth Data'!$A:$Z,11,0)),0,VLOOKUP($A301+8860000,'Growth Data'!$A:$Z,11,0))","v":0},0]
[4026,"Dartford Science and Technology College",null,"Dartford Science and Technology College","Dartford Science and Technology College",0,null,3312946.44,3312946.4372570165,0,null,0,0,0,null,3312946.44,3312946.4372570165,0,null,10819.18,10819.184890112001,0,null,null,null,0,null,0,0,0,null,361023.83,361023.83478104312,0,null,0,0,0,null,0,null,0,null,0,null,0,null,0,null,0,null,0,null,0,null,0,null,0,null,0,null,0,null,"NO",{"$f":"IF(ISERROR(VLOOKUP($A302+8860000,'Growth Data'!$A:$F,3,0)),\"NO\",VLOOKUP($A302+8860000,'Growth Data'!$A:$F,3,0))","v":"NO"},0,null,0,{"$f":"IF(BM302=\"YES\",IF(ISERROR(VLOOKUP($A302+8860000,'Growth Data'!$A:$F,6,0)),0,VLOOKUP($A302+8860000,'Growth Data'!$A:$F,6,0)),0)","v":0},0,null,0,{"$f":"IF(ISERROR(VLOOKUP($A302+8860000,'Growth Data'!$A:$Z,7,0)),0,VLOOKUP($A302+8860000,'Growth Data'!$A:$Z,7,0))","v":0},0,null,"NO",{"$f":"IF(ISERROR(VLOOKUP($A302+8860000,'Growth Data'!$A:$F,4,0)),\"NO\",VLOOKUP($A302+8860000,'Growth Data'!$A:$F,4,0))","v":"NO"},0,null,0,{"$f":"IF(ISERROR(VLOOKUP($A302+8860000,'Growth Data'!$A:$Z,8,0)),0,VLOOKUP($A302+8860000,'Growth Data'!$A:$Z,8,0))","v":0},0,null,0,{"$f":"IF(ISERROR(VLOOKUP($A302+8860000,'Growth Data'!$A:$Z,9,0)),0,VLOOKUP($A302+8860000,'Growth Data'!$A:$Z,9,0))","v":0},0,null,"NO",{"$f":"IF(ISERROR(VLOOKUP($A302+8860000,'Growth Data'!$A:$Z,5,0)),\"NO\",VLOOKUP($A302+8860000,'Growth Data'!$A:$Z,5,0))","v":"NO"},0,null,0,{"$f":"IF(ISERROR(VLOOKUP($A302+8860000,'Growth Data'!$A:$Z,10,0)),0,VLOOKUP($A302+8860000,'Growth Data'!$A:$Z,10,0))","v":0},0,null,0,{"$f":"IF(ISERROR(VLOOKUP($A302+8860000,'Growth Data'!$A:$Z,11,0)),0,VLOOKUP($A302+8860000,'Growth Data'!$A:$Z,11,0))","v":0},0]
[4040,"Northfleet School for Girls",null,"Northfleet School for Girls","Northfleet School for Girls",0,null,3666651.51,3666651.5086519667,0,null,0,0,0,null,3666651.51,3666651.5086519667,0,null,11907.21,11907.210310000002,0,null,null,null,0,null,0,0,0,null,504334.76,504334.76367216668,0,null,0,0,0,null,0,null,0,null,0,null,0,null,0,null,0,null,0,null,0,null,0,null,0,null,0,null,0,null,"NO",{"$f":"IF(ISERROR(VLOOKUP($A303+8860000,'Growth Data'!$A:$F,3,0)),\"NO\",VLOOKUP($A303+8860000,'Growth Data'!$A:$F,3,0))","v":"NO"},0,null,0,{"$f":"IF(BM303=\"YES\",IF(ISERROR(VLOOKUP($A303+8860000,'Growth Data'!$A:$F,6,0)),0,VLOOKUP($A303+8860000,'Growth Data'!$A:$F,6,0)),0)","v":0},0,null,0,{"$f":"IF(ISERROR(VLOOKUP($A303+8860000,'Growth Data'!$A:$Z,7,0)),0,VLOOKUP($A303+8860000,'Growth Data'!$A:$Z,7,0))","v":0},0,null,"YES",{"$f":"IF(ISERROR(VLOOKUP($A303+8860000,'Growth Data'!$A:$F,4,0)),\"NO\",VLOOKUP($A303+8860000,'Growth Data'!$A:$F,4,0))","v":"YES"},0,null,175,{"$f":"IF(ISERROR(VLOOKUP($A303+8860000,'Growth Data'!$A:$Z,8,0)),0,VLOOKUP($A303+8860000,'Growth Data'!$A:$Z,8,0))","v":175},0,null,200,{"$f":"IF(ISERROR(VLOOKUP($A303+8860000,'Growth Data'!$A:$Z,9,0)),0,VLOOKUP($A303+8860000,'Growth Data'!$A:$Z,9,0))","v":200},0,null,"YES",{"$f":"IF(ISERROR(VLOOKUP($A303+8860000,'Growth Data'!$A:$Z,5,0)),\"NO\",VLOOKUP($A303+8860000,'Growth Data'!$A:$Z,5,0))","v":"YES"},0,null,175,{"$f":"IF(ISERROR(VLOOKUP($A303+8860000,'Growth Data'!$A:$Z,10,0)),0,VLOOKUP($A303+8860000,'Growth Data'!$A:$Z,10,0))","v":175},0,null,200,{"$f":"IF(ISERROR(VLOOKUP($A303+8860000,'Growth Data'!$A:$Z,11,0)),0,VLOOKUP($A303+8860000,'Growth Data'!$A:$Z,11,0))","v":200},0]
[4043,"Tunbridge Wells Girls' Grammar School",null,"Tunbridge Wells Girls' Grammar School","Tunbridge Wells Girls' Grammar School",0,null,3335857,3335857,0,null,0,0,0,null,3335857,3335857,0,null,11907.21,11907.210310000002,0,null,null,null,0,null,0,0,0,null,33608.370000000003,33608.371452300547,0,null,2639.16,2639.1628547699452,0,null,0,null,0,null,0,null,0,null,0,null,0,null,0,null,0,null,0,null,0,null,0,null,0,null,"NO",{"$f":"IF(ISERROR(VLOOKUP($A304+8860000,'Growth Data'!$A:$F,3,0)),\"NO\",VLOOKUP($A304+8860000,'Growth Data'!$A:$F,3,0))","v":"NO"},0,null,0,{"$f":"IF(BM304=\"YES\",IF(ISERROR(VLOOKUP($A304+8860000,'Growth Data'!$A:$F,6,0)),0,VLOOKUP($A304+8860000,'Growth Data'!$A:$F,6,0)),0)","v":0},0,null,0,{"$f":"IF(ISERROR(VLOOKUP($A304+8860000,'Growth Data'!$A:$Z,7,0)),0,VLOOKUP($A304+8860000,'Growth Data'!$A:$Z,7,0))","v":0},0,null,"NO",{"$f":"IF(ISERROR(VLOOKUP($A304+8860000,'Growth Data'!$A:$F,4,0)),\"NO\",VLOOKUP($A304+8860000,'Growth Data'!$A:$F,4,0))","v":"NO"},0,null,0,{"$f":"IF(ISERROR(VLOOKUP($A304+8860000,'Growth Data'!$A:$Z,8,0)),0,VLOOKUP($A304+8860000,'Growth Data'!$A:$Z,8,0))","v":0},0,null,0,{"$f":"IF(ISERROR(VLOOKUP($A304+8860000,'Growth Data'!$A:$Z,9,0)),0,VLOOKUP($A304+8860000,'Growth Data'!$A:$Z,9,0))","v":0},0,null,"NO",{"$f":"IF(ISERROR(VLOOKUP($A304+8860000,'Growth Data'!$A:$Z,5,0)),\"NO\",VLOOKUP($A304+8860000,'Growth Data'!$A:$Z,5,0))","v":"NO"},0,null,0,{"$f":"IF(ISERROR(VLOOKUP($A304+8860000,'Growth Data'!$A:$Z,10,0)),0,VLOOKUP($A304+8860000,'Growth Data'!$A:$Z,10,0))","v":0},0,null,0,{"$f":"IF(ISERROR(VLOOKUP($A304+8860000,'Growth Data'!$A:$Z,11,0)),0,VLOOKUP($A304+8860000,'Growth Data'!$A:$Z,11,0))","v":0},0]
[4045,"Tunbridge Wells Grammar School for Boys",null,"Tunbridge Wells Grammar School for Boys","Tunbridge Wells Grammar School for Boys",0,null,4439725,4439725,0,null,0,0,0,null,4439725,4439725,0,null,15512,15511.995897000003,0,null,null,null,0,null,0,0,0,null,62897.34,62897.335145499339,0,null,0,0,0,null,0,null,0,null,0,null,0,null,0,null,0,null,0,null,0,null,0,null,0,null,0,null,0,null,"NO",{"$f":"IF(ISERROR(VLOOKUP($A305+8860000,'Growth Data'!$A:$F,3,0)),\"NO\",VLOOKUP($A305+8860000,'Growth Data'!$A:$F,3,0))","v":"NO"},0,null,0,{"$f":"IF(BM305=\"YES\",IF(ISERROR(VLOOKUP($A305+8860000,'Growth Data'!$A:$F,6,0)),0,VLOOKUP($A305+8860000,'Growth Data'!$A:$F,6,0)),0)","v":0},0,null,0,{"$f":"IF(ISERROR(VLOOKUP($A305+8860000,'Growth Data'!$A:$Z,7,0)),0,VLOOKUP($A305+8860000,'Growth Data'!$A:$Z,7,0))","v":0},0,null,"NO",{"$f":"IF(ISERROR(VLOOKUP($A305+8860000,'Growth Data'!$A:$F,4,0)),\"NO\",VLOOKUP($A305+8860000,'Growth Data'!$A:$F,4,0))","v":"NO"},0,null,0,{"$f":"IF(ISERROR(VLOOKUP($A305+8860000,'Growth Data'!$A:$Z,8,0)),0,VLOOKUP($A305+8860000,'Growth Data'!$A:$Z,8,0))","v":0},0,null,0,{"$f":"IF(ISERROR(VLOOKUP($A305+8860000,'Growth Data'!$A:$Z,9,0)),0,VLOOKUP($A305+8860000,'Growth Data'!$A:$Z,9,0))","v":0},0,null,"NO",{"$f":"IF(ISERROR(VLOOKUP($A305+8860000,'Growth Data'!$A:$Z,5,0)),\"NO\",VLOOKUP($A305+8860000,'Growth Data'!$A:$Z,5,0))","v":"NO"},0,null,0,{"$f":"IF(ISERROR(VLOOKUP($A305+8860000,'Growth Data'!$A:$Z,10,0)),0,VLOOKUP($A305+8860000,'Growth Data'!$A:$Z,10,0))","v":0},0,null,0,{"$f":"IF(ISERROR(VLOOKUP($A305+8860000,'Growth Data'!$A:$Z,11,0)),0,VLOOKUP($A305+8860000,'Growth Data'!$A:$Z,11,0))","v":0},0]
[4065,"Holmesdale School, The",null,"Holmesdale School, The","Holmesdale School, The",0,null,3748731.54,3748731.5393593418,0,null,0,0,0,null,3748731.54,3748731.5393593418,0,null,8775.4500000000007,8775.4508860000005,0,null,null,null,0,null,0,0,0,null,328715.3,328715.30309023685,0,null,0,0,0,null,7333.33,null,7333,null,29000,null,29000,null,0,null,0,null,0,null,0,null,0,null,0,null,0,null,0,null,"NO",{"$f":"IF(ISERROR(VLOOKUP($A306+8860000,'Growth Data'!$A:$F,3,0)),\"NO\",VLOOKUP($A306+8860000,'Growth Data'!$A:$F,3,0))","v":"NO"},0,null,0,{"$f":"IF(BM306=\"YES\",IF(ISERROR(VLOOKUP($A306+8860000,'Growth Data'!$A:$F,6,0)),0,VLOOKUP($A306+8860000,'Growth Data'!$A:$F,6,0)),0)","v":0},0,null,0,{"$f":"IF(ISERROR(VLOOKUP($A306+8860000,'Growth Data'!$A:$Z,7,0)),0,VLOOKUP($A306+8860000,'Growth Data'!$A:$Z,7,0))","v":0},0,null,"NO",{"$f":"IF(ISERROR(VLOOKUP($A306+8860000,'Growth Data'!$A:$F,4,0)),\"NO\",VLOOKUP($A306+8860000,'Growth Data'!$A:$F,4,0))","v":"NO"},0,null,0,{"$f":"IF(ISERROR(VLOOKUP($A306+8860000,'Growth Data'!$A:$Z,8,0)),0,VLOOKUP($A306+8860000,'Growth Data'!$A:$Z,8,0))","v":0},0,null,0,{"$f":"IF(ISERROR(VLOOKUP($A306+8860000,'Growth Data'!$A:$Z,9,0)),0,VLOOKUP($A306+8860000,'Growth Data'!$A:$Z,9,0))","v":0},0,null,"NO",{"$f":"IF(ISERROR(VLOOKUP($A306+8860000,'Growth Data'!$A:$Z,5,0)),\"NO\",VLOOKUP($A306+8860000,'Growth Data'!$A:$Z,5,0))","v":"NO"},0,null,0,{"$f":"IF(ISERROR(VLOOKUP($A306+8860000,'Growth Data'!$A:$Z,10,0)),0,VLOOKUP($A306+8860000,'Growth Data'!$A:$Z,10,0))","v":0},0,null,0,{"$f":"IF(ISERROR(VLOOKUP($A306+8860000,'Growth Data'!$A:$Z,11,0)),0,VLOOKUP($A306+8860000,'Growth Data'!$A:$Z,11,0))","v":0},0]
[4091,"Community College Whitstable, The",null,"Community College Whitstable, The","Community College Whitstable, The",0,null,3571130.78,3571130.7773624985,0,null,0,0,0,null,3571130.78,3571130.7773624985,0,null,11124.27,11124.270454000001,0,null,null,null,0,null,0,0,0,null,344512.59,344512.59444869752,0,null,0,0,0,null,0,null,0,null,0,null,0,null,0,null,0,null,0,null,0,null,0,null,0,null,0,null,0,null,"NO",{"$f":"IF(ISERROR(VLOOKUP($A307+8860000,'Growth Data'!$A:$F,3,0)),\"NO\",VLOOKUP($A307+8860000,'Growth Data'!$A:$F,3,0))","v":"NO"},0,null,0,{"$f":"IF(BM307=\"YES\",IF(ISERROR(VLOOKUP($A307+8860000,'Growth Data'!$A:$F,6,0)),0,VLOOKUP($A307+8860000,'Growth Data'!$A:$F,6,0)),0)","v":0},0,null,0,{"$f":"IF(ISERROR(VLOOKUP($A307+8860000,'Growth Data'!$A:$Z,7,0)),0,VLOOKUP($A307+8860000,'Growth Data'!$A:$Z,7,0))","v":0},0,null,"NO",{"$f":"IF(ISERROR(VLOOKUP($A307+8860000,'Growth Data'!$A:$F,4,0)),\"NO\",VLOOKUP($A307+8860000,'Growth Data'!$A:$F,4,0))","v":"NO"},0,null,0,{"$f":"IF(ISERROR(VLOOKUP($A307+8860000,'Growth Data'!$A:$Z,8,0)),0,VLOOKUP($A307+8860000,'Growth Data'!$A:$Z,8,0))","v":0},0,null,0,{"$f":"IF(ISERROR(VLOOKUP($A307+8860000,'Growth Data'!$A:$Z,9,0)),0,VLOOKUP($A307+8860000,'Growth Data'!$A:$Z,9,0))","v":0},0,null,"NO",{"$f":"IF(ISERROR(VLOOKUP($A307+8860000,'Growth Data'!$A:$Z,5,0)),\"NO\",VLOOKUP($A307+8860000,'Growth Data'!$A:$Z,5,0))","v":"NO"},0,null,0,{"$f":"IF(ISERROR(VLOOKUP($A307+8860000,'Growth Data'!$A:$Z,10,0)),0,VLOOKUP($A307+8860000,'Growth Data'!$A:$Z,10,0))","v":0},0,null,0,{"$f":"IF(ISERROR(VLOOKUP($A307+8860000,'Growth Data'!$A:$Z,11,0)),0,VLOOKUP($A307+8860000,'Growth Data'!$A:$Z,11,0))","v":0},0]
[4109,"Dover Grammar School for Girls",null,"Dover Grammar School for Girls","Dover Grammar School for Girls",0,null,3067592.42,3067592.4218352027,0,null,0,0,0,null,3067592.42,3067592.4218352027,0,null,10830.67,10830.668008000001,0,null,null,null,0,null,0,0,0,null,175025.87,175025.87079160279,0,null,0,0,0,null,0,null,0,null,0,null,0,null,0,null,0,null,0,null,0,null,0,null,0,null,0,null,0,null,"NO",{"$f":"IF(ISERROR(VLOOKUP($A308+8860000,'Growth Data'!$A:$F,3,0)),\"NO\",VLOOKUP($A308+8860000,'Growth Data'!$A:$F,3,0))","v":"NO"},0,null,0,{"$f":"IF(BM308=\"YES\",IF(ISERROR(VLOOKUP($A308+8860000,'Growth Data'!$A:$F,6,0)),0,VLOOKUP($A308+8860000,'Growth Data'!$A:$F,6,0)),0)","v":0},0,null,0,{"$f":"IF(ISERROR(VLOOKUP($A308+8860000,'Growth Data'!$A:$Z,7,0)),0,VLOOKUP($A308+8860000,'Growth Data'!$A:$Z,7,0))","v":0},0,null,"NO",{"$f":"IF(ISERROR(VLOOKUP($A308+8860000,'Growth Data'!$A:$F,4,0)),\"NO\",VLOOKUP($A308+8860000,'Growth Data'!$A:$F,4,0))","v":"NO"},0,null,0,{"$f":"IF(ISERROR(VLOOKUP($A308+8860000,'Growth Data'!$A:$Z,8,0)),0,VLOOKUP($A308+8860000,'Growth Data'!$A:$Z,8,0))","v":0},0,null,0,{"$f":"IF(ISERROR(VLOOKUP($A308+8860000,'Growth Data'!$A:$Z,9,0)),0,VLOOKUP($A308+8860000,'Growth Data'!$A:$Z,9,0))","v":0},0,null,"NO",{"$f":"IF(ISERROR(VLOOKUP($A308+8860000,'Growth Data'!$A:$Z,5,0)),\"NO\",VLOOKUP($A308+8860000,'Growth Data'!$A:$Z,5,0))","v":"NO"},0,null,0,{"$f":"IF(ISERROR(VLOOKUP($A308+8860000,'Growth Data'!$A:$Z,10,0)),0,VLOOKUP($A308+8860000,'Growth Data'!$A:$Z,10,0))","v":0},0,null,0,{"$f":"IF(ISERROR(VLOOKUP($A308+8860000,'Growth Data'!$A:$Z,11,0)),0,VLOOKUP($A308+8860000,'Growth Data'!$A:$Z,11,0))","v":0},0]
[4246,"North School, The",null,"North School, The","North School, The",0,null,5724874.7599999998,5724874.7622167543,0,null,0,0,0,null,5724874.7599999998,5724874.7622167543,0,null,14337.59,14337.586113000003,0,null,null,null,0,null,0,0,0,null,581688.9,581688.89872796449,0,null,0,0,0,null,8000,null,8000,null,156000,null,156000,null,0,null,0,null,0,null,0,null,0,null,0,null,0,null,0,null,"NO",{"$f":"IF(ISERROR(VLOOKUP($A309+8860000,'Growth Data'!$A:$F,3,0)),\"NO\",VLOOKUP($A309+8860000,'Growth Data'!$A:$F,3,0))","v":"NO"},0,null,0,{"$f":"IF(BM309=\"YES\",IF(ISERROR(VLOOKUP($A309+8860000,'Growth Data'!$A:$F,6,0)),0,VLOOKUP($A309+8860000,'Growth Data'!$A:$F,6,0)),0)","v":0},0,null,0,{"$f":"IF(ISERROR(VLOOKUP($A309+8860000,'Growth Data'!$A:$Z,7,0)),0,VLOOKUP($A309+8860000,'Growth Data'!$A:$Z,7,0))","v":0},0,null,"NO",{"$f":"IF(ISERROR(VLOOKUP($A309+8860000,'Growth Data'!$A:$F,4,0)),\"NO\",VLOOKUP($A309+8860000,'Growth Data'!$A:$F,4,0))","v":"NO"},0,null,0,{"$f":"IF(ISERROR(VLOOKUP($A309+8860000,'Growth Data'!$A:$Z,8,0)),0,VLOOKUP($A309+8860000,'Growth Data'!$A:$Z,8,0))","v":0},0,null,0,{"$f":"IF(ISERROR(VLOOKUP($A309+8860000,'Growth Data'!$A:$Z,9,0)),0,VLOOKUP($A309+8860000,'Growth Data'!$A:$Z,9,0))","v":0},0,null,"NO",{"$f":"IF(ISERROR(VLOOKUP($A309+8860000,'Growth Data'!$A:$Z,5,0)),\"NO\",VLOOKUP($A309+8860000,'Growth Data'!$A:$Z,5,0))","v":"NO"},0,null,0,{"$f":"IF(ISERROR(VLOOKUP($A309+8860000,'Growth Data'!$A:$Z,10,0)),0,VLOOKUP($A309+8860000,'Growth Data'!$A:$Z,10,0))","v":0},0,null,0,{"$f":"IF(ISERROR(VLOOKUP($A309+8860000,'Growth Data'!$A:$Z,11,0)),0,VLOOKUP($A309+8860000,'Growth Data'!$A:$Z,11,0))","v":0},0]
[4522,"Maidstone Grammar School",null,"Maidstone Grammar School","Maidstone Grammar School",0,null,4216059,4216059,0,null,0,0,0,null,4216059,4216059,0,null,15169.46,15169.459710000003,0,null,null,null,0,null,0,0,0,null,81298.17,81298.166596992553,0,null,0,0,0,null,0,null,0,null,0,null,0,null,0,null,0,null,0,null,0,null,0,null,0,null,0,null,0,null,"NO",{"$f":"IF(ISERROR(VLOOKUP($A310+8860000,'Growth Data'!$A:$F,3,0)),\"NO\",VLOOKUP($A310+8860000,'Growth Data'!$A:$F,3,0))","v":"NO"},0,null,0,{"$f":"IF(BM310=\"YES\",IF(ISERROR(VLOOKUP($A310+8860000,'Growth Data'!$A:$F,6,0)),0,VLOOKUP($A310+8860000,'Growth Data'!$A:$F,6,0)),0)","v":0},0,null,0,{"$f":"IF(ISERROR(VLOOKUP($A310+8860000,'Growth Data'!$A:$Z,7,0)),0,VLOOKUP($A310+8860000,'Growth Data'!$A:$Z,7,0))","v":0},0,null,"NO",{"$f":"IF(ISERROR(VLOOKUP($A310+8860000,'Growth Data'!$A:$F,4,0)),\"NO\",VLOOKUP($A310+8860000,'Growth Data'!$A:$F,4,0))","v":"NO"},0,null,0,{"$f":"IF(ISERROR(VLOOKUP($A310+8860000,'Growth Data'!$A:$Z,8,0)),0,VLOOKUP($A310+8860000,'Growth Data'!$A:$Z,8,0))","v":0},0,null,0,{"$f":"IF(ISERROR(VLOOKUP($A310+8860000,'Growth Data'!$A:$Z,9,0)),0,VLOOKUP($A310+8860000,'Growth Data'!$A:$Z,9,0))","v":0},0,null,"YES",{"$f":"IF(ISERROR(VLOOKUP($A310+8860000,'Growth Data'!$A:$Z,5,0)),\"NO\",VLOOKUP($A310+8860000,'Growth Data'!$A:$Z,5,0))","v":"YES"},0,null,182,{"$f":"IF(ISERROR(VLOOKUP($A310+8860000,'Growth Data'!$A:$Z,10,0)),0,VLOOKUP($A310+8860000,'Growth Data'!$A:$Z,10,0))","v":182},0,null,205,{"$f":"IF(ISERROR(VLOOKUP($A310+8860000,'Growth Data'!$A:$Z,11,0)),0,VLOOKUP($A310+8860000,'Growth Data'!$A:$Z,11,0))","v":205},0]
[4523,"Maidstone Grammar School for Girls",null,"Maidstone Grammar School for Girls","Maidstone Grammar School for Girls",0,null,3986559,3986559,0,null,0,0,0,null,3986559,3986559,0,null,14337.59,14337.586113000003,0,null,null,null,0,null,0,0,0,null,93205.62,93205.618874833672,0,null,0,0,0,null,0,null,0,null,0,null,0,null,0,null,0,null,0,null,0,null,0,null,0,null,0,null,0,null,"NO",{"$f":"IF(ISERROR(VLOOKUP($A311+8860000,'Growth Data'!$A:$F,3,0)),\"NO\",VLOOKUP($A311+8860000,'Growth Data'!$A:$F,3,0))","v":"NO"},0,null,0,{"$f":"IF(BM311=\"YES\",IF(ISERROR(VLOOKUP($A311+8860000,'Growth Data'!$A:$F,6,0)),0,VLOOKUP($A311+8860000,'Growth Data'!$A:$F,6,0)),0)","v":0},0,null,0,{"$f":"IF(ISERROR(VLOOKUP($A311+8860000,'Growth Data'!$A:$Z,7,0)),0,VLOOKUP($A311+8860000,'Growth Data'!$A:$Z,7,0))","v":0},0,null,"NO",{"$f":"IF(ISERROR(VLOOKUP($A311+8860000,'Growth Data'!$A:$F,4,0)),\"NO\",VLOOKUP($A311+8860000,'Growth Data'!$A:$F,4,0))","v":"NO"},0,null,0,{"$f":"IF(ISERROR(VLOOKUP($A311+8860000,'Growth Data'!$A:$Z,8,0)),0,VLOOKUP($A311+8860000,'Growth Data'!$A:$Z,8,0))","v":0},0,null,0,{"$f":"IF(ISERROR(VLOOKUP($A311+8860000,'Growth Data'!$A:$Z,9,0)),0,VLOOKUP($A311+8860000,'Growth Data'!$A:$Z,9,0))","v":0},0,null,"NO",{"$f":"IF(ISERROR(VLOOKUP($A311+8860000,'Growth Data'!$A:$Z,5,0)),\"NO\",VLOOKUP($A311+8860000,'Growth Data'!$A:$Z,5,0))","v":"NO"},0,null,0,{"$f":"IF(ISERROR(VLOOKUP($A311+8860000,'Growth Data'!$A:$Z,10,0)),0,VLOOKUP($A311+8860000,'Growth Data'!$A:$Z,10,0))","v":0},0,null,0,{"$f":"IF(ISERROR(VLOOKUP($A311+8860000,'Growth Data'!$A:$Z,11,0)),0,VLOOKUP($A311+8860000,'Growth Data'!$A:$Z,11,0))","v":0},0]
[4534,"Simon Langton Girls' Grammar School",null,"Simon Langton Girls' Grammar School","Simon Langton Girls' Grammar School",0,null,3893993,3893993,0,null,0,0,0,null,3893993,3893993,0,null,13538.34,13538.335010000003,0,null,null,null,0,null,0,0,0,null,97911.039999999994,97911.035717664316,0,null,0,0,0,null,0,null,0,null,0,null,0,null,0,null,0,null,0,null,0,null,0,null,0,null,0,null,0,null,"NO",{"$f":"IF(ISERROR(VLOOKUP($A312+8860000,'Growth Data'!$A:$F,3,0)),\"NO\",VLOOKUP($A312+8860000,'Growth Data'!$A:$F,3,0))","v":"NO"},0,null,0,{"$f":"IF(BM312=\"YES\",IF(ISERROR(VLOOKUP($A312+8860000,'Growth Data'!$A:$F,6,0)),0,VLOOKUP($A312+8860000,'Growth Data'!$A:$F,6,0)),0)","v":0},0,null,0,{"$f":"IF(ISERROR(VLOOKUP($A312+8860000,'Growth Data'!$A:$Z,7,0)),0,VLOOKUP($A312+8860000,'Growth Data'!$A:$Z,7,0))","v":0},0,null,"NO",{"$f":"IF(ISERROR(VLOOKUP($A312+8860000,'Growth Data'!$A:$F,4,0)),\"NO\",VLOOKUP($A312+8860000,'Growth Data'!$A:$F,4,0))","v":"NO"},0,null,0,{"$f":"IF(ISERROR(VLOOKUP($A312+8860000,'Growth Data'!$A:$Z,8,0)),0,VLOOKUP($A312+8860000,'Growth Data'!$A:$Z,8,0))","v":0},0,null,0,{"$f":"IF(ISERROR(VLOOKUP($A312+8860000,'Growth Data'!$A:$Z,9,0)),0,VLOOKUP($A312+8860000,'Growth Data'!$A:$Z,9,0))","v":0},0,null,"NO",{"$f":"IF(ISERROR(VLOOKUP($A312+8860000,'Growth Data'!$A:$Z,5,0)),\"NO\",VLOOKUP($A312+8860000,'Growth Data'!$A:$Z,5,0))","v":"NO"},0,null,0,{"$f":"IF(ISERROR(VLOOKUP($A312+8860000,'Growth Data'!$A:$Z,10,0)),0,VLOOKUP($A312+8860000,'Growth Data'!$A:$Z,10,0))","v":0},0,null,0,{"$f":"IF(ISERROR(VLOOKUP($A312+8860000,'Growth Data'!$A:$Z,11,0)),0,VLOOKUP($A312+8860000,'Growth Data'!$A:$Z,11,0))","v":0},0]
[4622,"Judd School, The",null,"Judd School, The","Judd School, The",0,null,3698989,3698989,0,null,0,0,0,null,3698989,3698989,0,null,13277.36,13277.355058000001,0,null,null,null,0,null,0,0,0,null,48922.61,48922.60902284128,0,null,1107.74,1107.739097715872,0,null,0,null,0,null,0,null,0,null,0,null,0,null,0,null,0,null,0,null,0,null,0,null,0,null,"NO",{"$f":"IF(ISERROR(VLOOKUP($A313+8860000,'Growth Data'!$A:$F,3,0)),\"NO\",VLOOKUP($A313+8860000,'Growth Data'!$A:$F,3,0))","v":"NO"},0,null,0,{"$f":"IF(BM313=\"YES\",IF(ISERROR(VLOOKUP($A313+8860000,'Growth Data'!$A:$F,6,0)),0,VLOOKUP($A313+8860000,'Growth Data'!$A:$F,6,0)),0)","v":0},0,null,0,{"$f":"IF(ISERROR(VLOOKUP($A313+8860000,'Growth Data'!$A:$Z,7,0)),0,VLOOKUP($A313+8860000,'Growth Data'!$A:$Z,7,0))","v":0},0,null,"NO",{"$f":"IF(ISERROR(VLOOKUP($A313+8860000,'Growth Data'!$A:$F,4,0)),\"NO\",VLOOKUP($A313+8860000,'Growth Data'!$A:$F,4,0))","v":"NO"},0,null,0,{"$f":"IF(ISERROR(VLOOKUP($A313+8860000,'Growth Data'!$A:$Z,8,0)),0,VLOOKUP($A313+8860000,'Growth Data'!$A:$Z,8,0))","v":0},0,null,0,{"$f":"IF(ISERROR(VLOOKUP($A313+8860000,'Growth Data'!$A:$Z,9,0)),0,VLOOKUP($A313+8860000,'Growth Data'!$A:$Z,9,0))","v":0},0,null,"YES",{"$f":"IF(ISERROR(VLOOKUP($A313+8860000,'Growth Data'!$A:$Z,5,0)),\"NO\",VLOOKUP($A313+8860000,'Growth Data'!$A:$Z,5,0))","v":"YES"},0,null,154,{"$f":"IF(ISERROR(VLOOKUP($A313+8860000,'Growth Data'!$A:$Z,10,0)),0,VLOOKUP($A313+8860000,'Growth Data'!$A:$Z,10,0))","v":154},0,null,180,{"$f":"IF(ISERROR(VLOOKUP($A313+8860000,'Growth Data'!$A:$Z,11,0)),0,VLOOKUP($A313+8860000,'Growth Data'!$A:$Z,11,0))","v":180},0]
[5407,"Thamesview School",null,"Thamesview School","Thamesview School",0,null,4921718.2300000004,4921718.2279617377,0,null,0,0,0,null,4921718.2300000004,4921718.2279617377,0,null,12706.46,12706.461413000003,0,null,null,null,0,null,0,0,0,null,612707.18999999994,612707.18524143158,0,null,0,0,0,null,0,null,0,null,43000,null,43000,null,0,null,0,null,0,null,0,null,0,null,0,null,0,null,0,null,"NO",{"$f":"IF(ISERROR(VLOOKUP($A314+8860000,'Growth Data'!$A:$F,3,0)),\"NO\",VLOOKUP($A314+8860000,'Growth Data'!$A:$F,3,0))","v":"NO"},0,null,0,{"$f":"IF(BM314=\"YES\",IF(ISERROR(VLOOKUP($A314+8860000,'Growth Data'!$A:$F,6,0)),0,VLOOKUP($A314+8860000,'Growth Data'!$A:$F,6,0)),0)","v":0},0,null,0,{"$f":"IF(ISERROR(VLOOKUP($A314+8860000,'Growth Data'!$A:$Z,7,0)),0,VLOOKUP($A314+8860000,'Growth Data'!$A:$Z,7,0))","v":0},0,null,"NO",{"$f":"IF(ISERROR(VLOOKUP($A314+8860000,'Growth Data'!$A:$F,4,0)),\"NO\",VLOOKUP($A314+8860000,'Growth Data'!$A:$F,4,0))","v":"NO"},0,null,0,{"$f":"IF(ISERROR(VLOOKUP($A314+8860000,'Growth Data'!$A:$Z,8,0)),0,VLOOKUP($A314+8860000,'Growth Data'!$A:$Z,8,0))","v":0},0,null,0,{"$f":"IF(ISERROR(VLOOKUP($A314+8860000,'Growth Data'!$A:$Z,9,0)),0,VLOOKUP($A314+8860000,'Growth Data'!$A:$Z,9,0))","v":0},0,null,"NO",{"$f":"IF(ISERROR(VLOOKUP($A314+8860000,'Growth Data'!$A:$Z,5,0)),\"NO\",VLOOKUP($A314+8860000,'Growth Data'!$A:$Z,5,0))","v":"NO"},0,null,0,{"$f":"IF(ISERROR(VLOOKUP($A314+8860000,'Growth Data'!$A:$Z,10,0)),0,VLOOKUP($A314+8860000,'Growth Data'!$A:$Z,10,0))","v":0},0,null,0,{"$f":"IF(ISERROR(VLOOKUP($A314+8860000,'Growth Data'!$A:$Z,11,0)),0,VLOOKUP($A314+8860000,'Growth Data'!$A:$Z,11,0))","v":0},0]
[5410,"Aylesford School - Sports College",null,"Aylesford School - Sports College","Aylesford School - Sports College",0,null,4237193.3499999996,4237193.3516279235,0,null,0,0,0,null,4237193.3499999996,4237193.3516279235,0,null,11140.58,11140.581701000001,0,null,null,null,0,null,0,0,0,null,354425.81,354425.81035774364,0,null,0,0,0,null,0,null,0,null,0,null,0,null,0,null,0,null,0,null,0,null,0,null,0,null,0,null,0,null,"NO",{"$f":"IF(ISERROR(VLOOKUP($A315+8860000,'Growth Data'!$A:$F,3,0)),\"NO\",VLOOKUP($A315+8860000,'Growth Data'!$A:$F,3,0))","v":"NO"},0,null,0,{"$f":"IF(BM315=\"YES\",IF(ISERROR(VLOOKUP($A315+8860000,'Growth Data'!$A:$F,6,0)),0,VLOOKUP($A315+8860000,'Growth Data'!$A:$F,6,0)),0)","v":0},0,null,0,{"$f":"IF(ISERROR(VLOOKUP($A315+8860000,'Growth Data'!$A:$Z,7,0)),0,VLOOKUP($A315+8860000,'Growth Data'!$A:$Z,7,0))","v":0},0,null,"NO",{"$f":"IF(ISERROR(VLOOKUP($A315+8860000,'Growth Data'!$A:$F,4,0)),\"NO\",VLOOKUP($A315+8860000,'Growth Data'!$A:$F,4,0))","v":"NO"},0,null,0,{"$f":"IF(ISERROR(VLOOKUP($A315+8860000,'Growth Data'!$A:$Z,8,0)),0,VLOOKUP($A315+8860000,'Growth Data'!$A:$Z,8,0))","v":0},0,null,0,{"$f":"IF(ISERROR(VLOOKUP($A315+8860000,'Growth Data'!$A:$Z,9,0)),0,VLOOKUP($A315+8860000,'Growth Data'!$A:$Z,9,0))","v":0},0,null,"NO",{"$f":"IF(ISERROR(VLOOKUP($A315+8860000,'Growth Data'!$A:$Z,5,0)),\"NO\",VLOOKUP($A315+8860000,'Growth Data'!$A:$Z,5,0))","v":"NO"},0,null,0,{"$f":"IF(ISERROR(VLOOKUP($A315+8860000,'Growth Data'!$A:$Z,10,0)),0,VLOOKUP($A315+8860000,'Growth Data'!$A:$Z,10,0))","v":0},0,null,0,{"$f":"IF(ISERROR(VLOOKUP($A315+8860000,'Growth Data'!$A:$Z,11,0)),0,VLOOKUP($A315+8860000,'Growth Data'!$A:$Z,11,0))","v":0},0]
[5412,"Simon Langton Grammar School for Boys",null,"Simon Langton Grammar School for Boys","Simon Langton Grammar School for Boys",0,null,2966601,2966601,0,null,0,0,0,null,2966601,2966601,0,null,10651.24,10651.244291000001,0,null,null,null,0,null,0,0,0,null,84424.58,84424.580829782659,0,null,0,0,0,null,11666.67,null,11667,null,122000,null,122000,null,0,null,0,null,0,null,0,null,0,null,0,null,0,null,0,null,"NO",{"$f":"IF(ISERROR(VLOOKUP($A316+8860000,'Growth Data'!$A:$F,3,0)),\"NO\",VLOOKUP($A316+8860000,'Growth Data'!$A:$F,3,0))","v":"NO"},0,null,0,{"$f":"IF(BM316=\"YES\",IF(ISERROR(VLOOKUP($A316+8860000,'Growth Data'!$A:$F,6,0)),0,VLOOKUP($A316+8860000,'Growth Data'!$A:$F,6,0)),0)","v":0},0,null,0,{"$f":"IF(ISERROR(VLOOKUP($A316+8860000,'Growth Data'!$A:$Z,7,0)),0,VLOOKUP($A316+8860000,'Growth Data'!$A:$Z,7,0))","v":0},0,null,"NO",{"$f":"IF(ISERROR(VLOOKUP($A316+8860000,'Growth Data'!$A:$F,4,0)),\"NO\",VLOOKUP($A316+8860000,'Growth Data'!$A:$F,4,0))","v":"NO"},0,null,0,{"$f":"IF(ISERROR(VLOOKUP($A316+8860000,'Growth Data'!$A:$Z,8,0)),0,VLOOKUP($A316+8860000,'Growth Data'!$A:$Z,8,0))","v":0},0,null,0,{"$f":"IF(ISERROR(VLOOKUP($A316+8860000,'Growth Data'!$A:$Z,9,0)),0,VLOOKUP($A316+8860000,'Growth Data'!$A:$Z,9,0))","v":0},0,null,"NO",{"$f":"IF(ISERROR(VLOOKUP($A316+8860000,'Growth Data'!$A:$Z,5,0)),\"NO\",VLOOKUP($A316+8860000,'Growth Data'!$A:$Z,5,0))","v":"NO"},0,null,0,{"$f":"IF(ISERROR(VLOOKUP($A316+8860000,'Growth Data'!$A:$Z,10,0)),0,VLOOKUP($A316+8860000,'Growth Data'!$A:$Z,10,0))","v":0},0,null,0,{"$f":"IF(ISERROR(VLOOKUP($A316+8860000,'Growth Data'!$A:$Z,11,0)),0,VLOOKUP($A316+8860000,'Growth Data'!$A:$Z,11,0))","v":0},0]
[5425,"Malling School, The",null,"Malling School, The","Malling School, The",0,null,4357784.8600000003,4357784.8573749457,0,null,72435.58,72435.711328726262,0,null,4430220.43,4430220.5687036719,0,null,11760.41,11760.409087000002,0,null,null,null,0,null,0,0,0,null,436669.34,436669.3448324452,0,null,0,0,0,null,0,null,0,null,663000,null,663000,null,0,null,0,null,0,null,0,null,0,null,0,null,0,null,0,null,"NO",{"$f":"IF(ISERROR(VLOOKUP($A317+8860000,'Growth Data'!$A:$F,3,0)),\"NO\",VLOOKUP($A317+8860000,'Growth Data'!$A:$F,3,0))","v":"NO"},0,null,0,{"$f":"IF(BM317=\"YES\",IF(ISERROR(VLOOKUP($A317+8860000,'Growth Data'!$A:$F,6,0)),0,VLOOKUP($A317+8860000,'Growth Data'!$A:$F,6,0)),0)","v":0},0,null,0,{"$f":"IF(ISERROR(VLOOKUP($A317+8860000,'Growth Data'!$A:$Z,7,0)),0,VLOOKUP($A317+8860000,'Growth Data'!$A:$Z,7,0))","v":0},0,null,"NO",{"$f":"IF(ISERROR(VLOOKUP($A317+8860000,'Growth Data'!$A:$F,4,0)),\"NO\",VLOOKUP($A317+8860000,'Growth Data'!$A:$F,4,0))","v":"NO"},0,null,0,{"$f":"IF(ISERROR(VLOOKUP($A317+8860000,'Growth Data'!$A:$Z,8,0)),0,VLOOKUP($A317+8860000,'Growth Data'!$A:$Z,8,0))","v":0},0,null,0,{"$f":"IF(ISERROR(VLOOKUP($A317+8860000,'Growth Data'!$A:$Z,9,0)),0,VLOOKUP($A317+8860000,'Growth Data'!$A:$Z,9,0))","v":0},0,null,"NO",{"$f":"IF(ISERROR(VLOOKUP($A317+8860000,'Growth Data'!$A:$Z,5,0)),\"NO\",VLOOKUP($A317+8860000,'Growth Data'!$A:$Z,5,0))","v":"NO"},0,null,0,{"$f":"IF(ISERROR(VLOOKUP($A317+8860000,'Growth Data'!$A:$Z,10,0)),0,VLOOKUP($A317+8860000,'Growth Data'!$A:$Z,10,0))","v":0},0,null,0,{"$f":"IF(ISERROR(VLOOKUP($A317+8860000,'Growth Data'!$A:$Z,11,0)),0,VLOOKUP($A317+8860000,'Growth Data'!$A:$Z,11,0))","v":0},0]
[5426,"Archbishop's School, The",null,"Archbishop's School, The","Archbishop's School, The",0,null,3416502.55,3416502.5453212666,0,null,0,0,0,null,3416502.55,3416502.5453212666,0,null,11515.74,11515.740382,0,null,null,null,0,null,0,0,0,null,366517.91,366517.91318226629,0,null,0,0,0,null,12000,null,12000,null,66000,null,66000,null,0,null,0,null,0,null,0,null,0,null,0,null,0,null,0,null,"NO",{"$f":"IF(ISERROR(VLOOKUP($A318+8860000,'Growth Data'!$A:$F,3,0)),\"NO\",VLOOKUP($A318+8860000,'Growth Data'!$A:$F,3,0))","v":"NO"},0,null,0,{"$f":"IF(BM318=\"YES\",IF(ISERROR(VLOOKUP($A318+8860000,'Growth Data'!$A:$F,6,0)),0,VLOOKUP($A318+8860000,'Growth Data'!$A:$F,6,0)),0)","v":0},0,null,0,{"$f":"IF(ISERROR(VLOOKUP($A318+8860000,'Growth Data'!$A:$Z,7,0)),0,VLOOKUP($A318+8860000,'Growth Data'!$A:$Z,7,0))","v":0},0,null,"NO",{"$f":"IF(ISERROR(VLOOKUP($A318+8860000,'Growth Data'!$A:$F,4,0)),\"NO\",VLOOKUP($A318+8860000,'Growth Data'!$A:$F,4,0))","v":"NO"},0,null,0,{"$f":"IF(ISERROR(VLOOKUP($A318+8860000,'Growth Data'!$A:$Z,8,0)),0,VLOOKUP($A318+8860000,'Growth Data'!$A:$Z,8,0))","v":0},0,null,0,{"$f":"IF(ISERROR(VLOOKUP($A318+8860000,'Growth Data'!$A:$Z,9,0)),0,VLOOKUP($A318+8860000,'Growth Data'!$A:$Z,9,0))","v":0},0,null,"NO",{"$f":"IF(ISERROR(VLOOKUP($A318+8860000,'Growth Data'!$A:$Z,5,0)),\"NO\",VLOOKUP($A318+8860000,'Growth Data'!$A:$Z,5,0))","v":"NO"},0,null,0,{"$f":"IF(ISERROR(VLOOKUP($A318+8860000,'Growth Data'!$A:$Z,10,0)),0,VLOOKUP($A318+8860000,'Growth Data'!$A:$Z,10,0))","v":0},0,null,0,{"$f":"IF(ISERROR(VLOOKUP($A318+8860000,'Growth Data'!$A:$Z,11,0)),0,VLOOKUP($A318+8860000,'Growth Data'!$A:$Z,11,0))","v":0},0]
[5431,"Hugh Christie Technology College",null,"Hugh Christie Technology College","Hugh Christie Technology College",0,null,4349911.88,4349911.8810125645,0,null,0,0,0,null,4349911.88,4349911.8810125645,0,null,11450.5,11450.495394000001,0,null,null,null,0,null,0,0,0,null,411334.17,411334.17469447805,0,null,0,0,0,null,36333.33,null,36333,null,132500,null,132500,null,0,null,0,null,0,null,0,null,0,null,0,null,0,null,0,null,"NO",{"$f":"IF(ISERROR(VLOOKUP($A319+8860000,'Growth Data'!$A:$F,3,0)),\"NO\",VLOOKUP($A319+8860000,'Growth Data'!$A:$F,3,0))","v":"NO"},0,null,0,{"$f":"IF(BM319=\"YES\",IF(ISERROR(VLOOKUP($A319+8860000,'Growth Data'!$A:$F,6,0)),0,VLOOKUP($A319+8860000,'Growth Data'!$A:$F,6,0)),0)","v":0},0,null,0,{"$f":"IF(ISERROR(VLOOKUP($A319+8860000,'Growth Data'!$A:$Z,7,0)),0,VLOOKUP($A319+8860000,'Growth Data'!$A:$Z,7,0))","v":0},0,null,"NO",{"$f":"IF(ISERROR(VLOOKUP($A319+8860000,'Growth Data'!$A:$F,4,0)),\"NO\",VLOOKUP($A319+8860000,'Growth Data'!$A:$F,4,0))","v":"NO"},0,null,0,{"$f":"IF(ISERROR(VLOOKUP($A319+8860000,'Growth Data'!$A:$Z,8,0)),0,VLOOKUP($A319+8860000,'Growth Data'!$A:$Z,8,0))","v":0},0,null,0,{"$f":"IF(ISERROR(VLOOKUP($A319+8860000,'Growth Data'!$A:$Z,9,0)),0,VLOOKUP($A319+8860000,'Growth Data'!$A:$Z,9,0))","v":0},0,null,"NO",{"$f":"IF(ISERROR(VLOOKUP($A319+8860000,'Growth Data'!$A:$Z,5,0)),\"NO\",VLOOKUP($A319+8860000,'Growth Data'!$A:$Z,5,0))","v":"NO"},0,null,0,{"$f":"IF(ISERROR(VLOOKUP($A319+8860000,'Growth Data'!$A:$Z,10,0)),0,VLOOKUP($A319+8860000,'Growth Data'!$A:$Z,10,0))","v":0},0,null,0,{"$f":"IF(ISERROR(VLOOKUP($A319+8860000,'Growth Data'!$A:$Z,11,0)),0,VLOOKUP($A319+8860000,'Growth Data'!$A:$Z,11,0))","v":0},0]
[5456,"Northfleet Technology College",null,"Northfleet Technology College","Northfleet Technology College",0,null,5057555.24,5057555.2432119902,0,null,0,0,0,null,5057555.24,5057555.2432119902,0,null,13603.58,13603.579998000003,0,null,null,null,0,null,0,0,0,null,615020.84,615020.84155382309,0,null,0,0,0,null,0,null,0,null,0,null,0,null,0,null,0,null,0,null,0,null,0,null,0,null,0,null,0,null,"NO",{"$f":"IF(ISERROR(VLOOKUP($A320+8860000,'Growth Data'!$A:$F,3,0)),\"NO\",VLOOKUP($A320+8860000,'Growth Data'!$A:$F,3,0))","v":"NO"},0,null,0,{"$f":"IF(BM320=\"YES\",IF(ISERROR(VLOOKUP($A320+8860000,'Growth Data'!$A:$F,6,0)),0,VLOOKUP($A320+8860000,'Growth Data'!$A:$F,6,0)),0)","v":0},0,null,0,{"$f":"IF(ISERROR(VLOOKUP($A320+8860000,'Growth Data'!$A:$Z,7,0)),0,VLOOKUP($A320+8860000,'Growth Data'!$A:$Z,7,0))","v":0},0,null,"NO",{"$f":"IF(ISERROR(VLOOKUP($A320+8860000,'Growth Data'!$A:$F,4,0)),\"NO\",VLOOKUP($A320+8860000,'Growth Data'!$A:$F,4,0))","v":"NO"},0,null,0,{"$f":"IF(ISERROR(VLOOKUP($A320+8860000,'Growth Data'!$A:$Z,8,0)),0,VLOOKUP($A320+8860000,'Growth Data'!$A:$Z,8,0))","v":0},0,null,0,{"$f":"IF(ISERROR(VLOOKUP($A320+8860000,'Growth Data'!$A:$Z,9,0)),0,VLOOKUP($A320+8860000,'Growth Data'!$A:$Z,9,0))","v":0},0,null,"NO",{"$f":"IF(ISERROR(VLOOKUP($A320+8860000,'Growth Data'!$A:$Z,5,0)),\"NO\",VLOOKUP($A320+8860000,'Growth Data'!$A:$Z,5,0))","v":"NO"},0,null,0,{"$f":"IF(ISERROR(VLOOKUP($A320+8860000,'Growth Data'!$A:$Z,10,0)),0,VLOOKUP($A320+8860000,'Growth Data'!$A:$Z,10,0))","v":0},0,null,0,{"$f":"IF(ISERROR(VLOOKUP($A320+8860000,'Growth Data'!$A:$Z,11,0)),0,VLOOKUP($A320+8860000,'Growth Data'!$A:$Z,11,0))","v":0},0]
[5459,"Dover Grammar School for Boys",null,"Dover Grammar School for Boys","Dover Grammar School for Boys",0,null,2878516.92,2878516.9171434515,0,null,0,0,0,null,2878516.92,2878516.9171434515,0,null,10259.77,10259.774363,0,null,null,null,0,null,0,0,0,null,177826.74,177826.73776415078,0,null,0,0,0,null,0,null,0,null,0,null,0,null,0,null,0,null,0,null,0,null,0,null,0,null,0,null,0,null,"NO",{"$f":"IF(ISERROR(VLOOKUP($A321+8860000,'Growth Data'!$A:$F,3,0)),\"NO\",VLOOKUP($A321+8860000,'Growth Data'!$A:$F,3,0))","v":"NO"},0,null,0,{"$f":"IF(BM321=\"YES\",IF(ISERROR(VLOOKUP($A321+8860000,'Growth Data'!$A:$F,6,0)),0,VLOOKUP($A321+8860000,'Growth Data'!$A:$F,6,0)),0)","v":0},0,null,0,{"$f":"IF(ISERROR(VLOOKUP($A321+8860000,'Growth Data'!$A:$Z,7,0)),0,VLOOKUP($A321+8860000,'Growth Data'!$A:$Z,7,0))","v":0},0,null,"NO",{"$f":"IF(ISERROR(VLOOKUP($A321+8860000,'Growth Data'!$A:$F,4,0)),\"NO\",VLOOKUP($A321+8860000,'Growth Data'!$A:$F,4,0))","v":"NO"},0,null,0,{"$f":"IF(ISERROR(VLOOKUP($A321+8860000,'Growth Data'!$A:$Z,8,0)),0,VLOOKUP($A321+8860000,'Growth Data'!$A:$Z,8,0))","v":0},0,null,0,{"$f":"IF(ISERROR(VLOOKUP($A321+8860000,'Growth Data'!$A:$Z,9,0)),0,VLOOKUP($A321+8860000,'Growth Data'!$A:$Z,9,0))","v":0},0,null,"NO",{"$f":"IF(ISERROR(VLOOKUP($A321+8860000,'Growth Data'!$A:$Z,5,0)),\"NO\",VLOOKUP($A321+8860000,'Growth Data'!$A:$Z,5,0))","v":"NO"},0,null,0,{"$f":"IF(ISERROR(VLOOKUP($A321+8860000,'Growth Data'!$A:$Z,10,0)),0,VLOOKUP($A321+8860000,'Growth Data'!$A:$Z,10,0))","v":0},0,null,0,{"$f":"IF(ISERROR(VLOOKUP($A321+8860000,'Growth Data'!$A:$Z,11,0)),0,VLOOKUP($A321+8860000,'Growth Data'!$A:$Z,11,0))","v":0},0]
[5461,"St John's Catholic Comprehensive School",null,"St John's Catholic Comprehensive School","St John's Catholic Comprehensive School",{"$f":"IF(E322=D322,0,1)","v":0},null,5841496.75,5841496.7475408362,{"$f":"ROUND(H322-I322,0)","v":0},null,0,0,{"$f":"ROUND(L322-M322,0)","v":0},null,5841496.75,5841496.7475408362,{"$f":"ROUND(P322-Q322,0)","v":0},null,15120.53,15120.525969,{"$f":"ROUND(T322-U322,0)","v":0},null,null,null,{"$f":"ROUND(X322-Y322,0)","v":0},null,0,0,{"$f":"ROUND(AB322-AC322,0)","v":0},null,733967.4,733967.39955082291,{"$f":"ROUND(AF322-AG322,0)","v":0},null,0,0,{"$f":"ROUND(AJ322-AK322,0)","v":0},null,0,null,{"$f":"ROUND(AN322-AO322,0)","v":0},null,0,null,{"$f":"ROUND(AR322-AS322,0)","v":0},null,0,null,{"$f":"ROUND(AV322-AW322,0)","v":0},null,0,null,{"$f":"ROUND(AZ322-BA322,0)","v":0},null,0,null,{"$f":"ROUND(BD322-BE322,0)","v":0},null,0,null,{"$f":"ROUND(BH322-BI322,0)","v":0},null,"NO",{"$f":"IF(ISERROR(VLOOKUP($A322+8860000,'Growth Data'!$A:$F,3,0)),\"NO\",VLOOKUP($A322+8860000,'Growth Data'!$A:$F,3,0))","v":"NO"},{"$f":"IF(BL322=BM322,0,1)","v":0},null,0,{"$f":"IF(BM322=\"YES\",IF(ISERROR(VLOOKUP($A322+8860000,'Growth Data'!$A:$F,6,0)),0,VLOOKUP($A322+8860000,'Growth Data'!$A:$F,6,0)),0)","v":0},{"$f":"ROUND(BP322-BQ322,0)","v":0},null,0,{"$f":"IF(ISERROR(VLOOKUP($A322+8860000,'Growth Data'!$A:$Z,7,0)),0,VLOOKUP($A322+8860000,'Growth Data'!$A:$Z,7,0))","v":0},{"$f":"IF(BT322=BU322,0,1)","v":0},null,"NO",{"$f":"IF(ISERROR(VLOOKUP($A322+8860000,'Growth Data'!$A:$F,4,0)),\"NO\",VLOOKUP($A322+8860000,'Growth Data'!$A:$F,4,0))","v":"NO"},0,null,0,{"$f":"IF(ISERROR(VLOOKUP($A322+8860000,'Growth Data'!$A:$Z,8,0)),0,VLOOKUP($A322+8860000,'Growth Data'!$A:$Z,8,0))","v":0},{"$f":"IF(CB322=CC322,0,1)","v":0},null,0,{"$f":"IF(ISERROR(VLOOKUP($A322+8860000,'Growth Data'!$A:$Z,9,0)),0,VLOOKUP($A322+8860000,'Growth Data'!$A:$Z,9,0))","v":0},0,null,"NO",{"$f":"IF(ISERROR(VLOOKUP($A322+8860000,'Growth Data'!$A:$Z,5,0)),\"NO\",VLOOKUP($A322+8860000,'Growth Data'!$A:$Z,5,0))","v":"NO"},0,null,0,{"$f":"IF(ISERROR(VLOOKUP($A322+8860000,'Growth Data'!$A:$Z,10,0)),0,VLOOKUP($A322+8860000,'Growth Data'!$A:$Z,10,0))","v":0},0,null,0,{"$f":"IF(ISERROR(VLOOKUP($A322+8860000,'Growth Data'!$A:$Z,11,0)),0,VLOOKUP($A322+8860000,'Growth Data'!$A:$Z,11,0))","v":0},0]
[5468,"Royal Harbour Academy, The",null,"Royal Harbour Academy, The","Royal Harbour Academy, The",0,null,4963427.58,4963427.5779168475,0,null,0,0,0,null,4963427.58,4963427.5779168475,0,null,12983.75,12983.752612000002,0,null,null,null,0,null,0,0,0,null,818190.13,818190.13477855851,0,null,0,0,0,null,0,null,0,null,0,null,0,null,0,null,0,null,0,null,0,null,0,null,0,null,0,null,0,null,"NO",{"$f":"IF(ISERROR(VLOOKUP($A323+8860000,'Growth Data'!$A:$F,3,0)),\"NO\",VLOOKUP($A323+8860000,'Growth Data'!$A:$F,3,0))","v":"NO"},0,null,0,{"$f":"IF(BM323=\"YES\",IF(ISERROR(VLOOKUP($A323+8860000,'Growth Data'!$A:$F,6,0)),0,VLOOKUP($A323+8860000,'Growth Data'!$A:$F,6,0)),0)","v":0},0,null,0,{"$f":"IF(ISERROR(VLOOKUP($A323+8860000,'Growth Data'!$A:$Z,7,0)),0,VLOOKUP($A323+8860000,'Growth Data'!$A:$Z,7,0))","v":0},0,null,"NO",{"$f":"IF(ISERROR(VLOOKUP($A323+8860000,'Growth Data'!$A:$F,4,0)),\"NO\",VLOOKUP($A323+8860000,'Growth Data'!$A:$F,4,0))","v":"NO"},{"$f":"IF(BX323=BY323,0,1)","v":0},null,0,{"$f":"IF(ISERROR(VLOOKUP($A323+8860000,'Growth Data'!$A:$Z,8,0)),0,VLOOKUP($A323+8860000,'Growth Data'!$A:$Z,8,0))","v":0},0,null,0,{"$f":"IF(ISERROR(VLOOKUP($A323+8860000,'Growth Data'!$A:$Z,9,0)),0,VLOOKUP($A323+8860000,'Growth Data'!$A:$Z,9,0))","v":0},{"$f":"IF(CF323=CG323,0,1)","v":0},null,"NO",{"$f":"IF(ISERROR(VLOOKUP($A323+8860000,'Growth Data'!$A:$Z,5,0)),\"NO\",VLOOKUP($A323+8860000,'Growth Data'!$A:$Z,5,0))","v":"NO"},{"$f":"IF(CJ323=CK323,0,1)","v":0},null,0,{"$f":"IF(ISERROR(VLOOKUP($A323+8860000,'Growth Data'!$A:$Z,10,0)),0,VLOOKUP($A323+8860000,'Growth Data'!$A:$Z,10,0))","v":0},{"$f":"IF(CN323=CO323,0,1)","v":0},null,0,{"$f":"IF(ISERROR(VLOOKUP($A323+8860000,'Growth Data'!$A:$Z,11,0)),0,VLOOKUP($A323+8860000,'Growth Data'!$A:$Z,11,0))","v":0},{"$f":"IF(CR323=CS323,0,1)","v":0}]
[5447,"St George's CE Foundation School",null,"St George's CE Foundation School","St George's CE Foundation School",0,null,5918267.2000000002,5918267.2018027417,0,null,0,0,0,null,5918267.2000000002,5918267.2018027417,0,null,21984.1,21984.098568599999,0,null,null,null,0,null,0,0,0,null,840131,840130.99716204056,0,null,0,0,0,null,0,null,0,null,0,null,0,null,0,null,0,null,0,null,0,null,0,null,0,null,0,null,0,null,"NO",{"$f":"IF(ISERROR(VLOOKUP($A324+8860000,'Growth Data'!$A:$F,3,0)),\"NO\",VLOOKUP($A324+8860000,'Growth Data'!$A:$F,3,0))","v":"NO"},0,null,0,{"$f":"IF(BM324=\"YES\",IF(ISERROR(VLOOKUP($A324+8860000,'Growth Data'!$A:$F,6,0)),0,VLOOKUP($A324+8860000,'Growth Data'!$A:$F,6,0)),0)","v":0},0,null,0,{"$f":"IF(ISERROR(VLOOKUP($A324+8860000,'Growth Data'!$A:$Z,7,0)),0,VLOOKUP($A324+8860000,'Growth Data'!$A:$Z,7,0))","v":0},0,null,"YES",{"$f":"IF(ISERROR(VLOOKUP($A324+8860000,'Growth Data'!$A:$F,4,0)),\"NO\",VLOOKUP($A324+8860000,'Growth Data'!$A:$F,4,0))","v":"YES"},0,null,0,{"$f":"IF(ISERROR(VLOOKUP($A324+8860000,'Growth Data'!$A:$Z,8,0)),0,VLOOKUP($A324+8860000,'Growth Data'!$A:$Z,8,0))","v":0},0,null,60,{"$f":"IF(ISERROR(VLOOKUP($A324+8860000,'Growth Data'!$A:$Z,9,0)),0,VLOOKUP($A324+8860000,'Growth Data'!$A:$Z,9,0))","v":60},0,null,"YES",{"$f":"IF(ISERROR(VLOOKUP($A324+8860000,'Growth Data'!$A:$Z,5,0)),\"NO\",VLOOKUP($A324+8860000,'Growth Data'!$A:$Z,5,0))","v":"YES"},0,null,0,{"$f":"IF(ISERROR(VLOOKUP($A324+8860000,'Growth Data'!$A:$Z,10,0)),0,VLOOKUP($A324+8860000,'Growth Data'!$A:$Z,10,0))","v":0},0,null,60,{"$f":"IF(ISERROR(VLOOKUP($A324+8860000,'Growth Data'!$A:$Z,11,0)),0,VLOOKUP($A324+8860000,'Growth Data'!$A:$Z,11,0))","v":60},0]
[null,null,null,null,null,null,null,0,null,null,null,0,null,null,null,0,null,null,null,0,null,null,null,null,null,null,null,0,null,null,null,0,null,null,null,6000,null,null,null,0,null,null,null,0,null,null,null,0,null,null,null,0,null,null,null,0,null,null,null,0,null,null,null,"NO",null,null,null,0,null,null,null,0,null,null,null,"NO",null,null,null,0,null,null,null,0,null,null,null,"NO",null,null,null,0,null,null,null,0]

{"sheet":"Growth Data","index":2,"n_rows":40,"n_cols":11,"rows_kept":40,"cut":false,"hidden":true,"merged":[[2,5,2,6],[2,7,2,8],[2,9,2,10]]}
["LA "]
[]
[null,null,null,null,null,"2018-19",null,"2019-20","2018-19","2020-21"]
[null,null,"2017-18","2018-19","2019-20","Lower","Higher","Lower","Higher","Lower","Higher"]
[8862002,"Repton Manor Primary School","YES","NO","NO",33,60]
[8862138,"Otford Primary School","NO","NO","NO",60,60,60,60]
[8862155,"Slade Primary School","YES","YES","YES",46,60,46,60,47,60]
[8862165,"Headcorn Primary School","NO","NO","YES",null,null,null,null,31,60]
[8862175,"North Borough Junior School","YES","NO","NO",75,90]
[8862245,"Rose Street School","YES","YES","YES",30,60,30,60,30,60]
[8862259,"Chartham Primary School","NO","YES","YES",null,null,47,60,49,60]
[8862298,"Hawkinge Primary School","YES","NO","NO",45,60]
[8862434,"West Minster Primary School","NO","YES","YES",null,null,61,90,60,90]
[8862471,"Whitfield and Aspen School","NO","YES","YES",null,null,64,82,67,82]
[8862482,"Langton Green Primary School","NO","YES","NO",null,null,31,60]
[8862509,"Singlewell Primary School","NO","YES","YES",null,null,30,60,30,60]
[8862534,"Bysing Wood Primary School","NO","NO","YES",null,null,null,null,30,60]
[8862632,"Sevenoaks Primary School","NO","YES","NO",null,null,62,90]
[8862636,"Edenbridge Primary School","NO","YES","YES",null,null,60,90,60,90]
[8862689,"Craylands School, The","NO","YES","YES",null,null,30,60,30,60]
[8863034,"Lamberhurst St Mary's CEP School","YES","NO","NO",21,30]
[8863035,"Seal CEP School","NO","YES","YES",null,null,44,60,31,60]
[8863052,"St Marks CEP School","YES","YES","NO",30,60,30,60]
[8863067,"Harrietsham CEP School","YES","YES","NO",55,60,55,60]
[8863088,"Wouldham, All Saint's CEP School","NO","NO","YES",null,null,null,null,30,60]
[8863145,"Woodchurch CEP School","YES","NO","YES",20,26,30,30,21,26]
[8863178,"Birchington CEP School","NO","YES","YES",null,null,61,90,63,90]
[8863297,"Southborough CEP School","YES","YES","NO",60,90,60,90]
[8863317,"Lady Boswell's CEP School, Sevenoaks","YES","YES","NO",32,60,32,60]
[8863337,"Tunstall CEP School","YES","YES","YES",30,60,30,60,30,60]
[8863907,"Hextable Primary School","NO","YES","YES",null,null,60,90,62,90]
[8863910,"Joy Lane Primary School","YES","YES","NO",60,90,60,90]
[8863916,"Green Park Community Primary School","NO","YES","YES",null,null,45,60,53,60]
[8863917,"Garlinge Primary School","YES","YES","NO",92,120,90,120]
[8863919,"Dartford Bridge Community Primary School, The","YES","YES","NO",31,60,32,60]
[8865229,"Fleetdown Primary School","YES","NO","NO",66,90]
[8864040,"Northfleet School for Girls","NO","YES","YES",null,null,175,200,175,200]
[8864522,"Maidstone Grammar School","NO","NO","YES",null,null,null,null,182,205]
[8864622,"Judd School, The","NO","NO","YES",null,null,null,null,154,180]
[8865447,"St George's Church of England Foundation School","NO","YES","YES",null,null,0,60,0,60]

{"sheet":"TestAreaY2","index":3,"n_rows":325,"n_cols":90,"rows_kept":325,"cut":false,"hidden":true,"merged":[]}
["MI DfE no","School Name",null,"Macro School Name","Data Calc",{"$f":"SUM(F2:F324)","v":0},null,"Macro Formula Factors","Data Calc SBS",{"$f":"SUM(J2:J324)","v":0},null,"Macro MFG","Data Calc",{"$f":"SUM(N2:N324)","v":0},null,"Macro SBS","Data Calc",{"$f":"SUM(R2:R324)","v":0},null,"Y2 DeDel Total","Data Calc",{"$f":"SUM(V2:V324)","v":0},null,"July UIFSM","APSA",{"$f":"SUM(Z2:Z324)","v":0},null,"Early years rate",null,{"$f":"SUM(AD2:AD324)","v":0},null,"Macro Notional SEN","Data Calc",{"$f":"SUM(AH2:AH324)","v":26725206},null,"Macro SEN top up","Data Calc",{"$f":"SUM(AL2:AL324)","v":441614},null,"SRP Element 1","Data Calc",{"$f":"SUM(AP2:AP324)","v":1161999},null,"SRP Element 2","Data Calc",{"$f":"SUM(AT2:AT324)","v":1743000},null,"SRP 1 Pre","Data Calc",{"$f":"SUM(AX2:AX324)","v":0},null,"SRP 1 Post","Data Calc",{"$f":"SUM(BB2:BB324)","v":0},null,"SRP 2 Pre","Data Calc",{"$f":"SUM(BF2:BF324)","v":0},null,"SRP 2 Post","Data Calc",{"$f":"SUM(BJ2:BJ324)","v":0},null,"Qual Year1","Data Calc",{"$f":"SUM(BN2:BN324)","v":35},null,"Orig PAN 1","Data Calc",{"$f":"SUM(BR2:BR324)","v":310},null,"Qual Year2","Data Calc",{"$f":"SUM(BV2:BV324)","v":42},null,"Orig PAN 2","Data Calc",{"$f":"SUM(BZ2:BZ324)","v":327},null,"Qual Year3","Data Calc",{"$f":"SUM(CD2:CD324)","v":41},null,"Orig PAN 3","Data Calc",{"$f":"SUM(CH2:CH324)","v":292},null,"SEN protect","Data Calc",{"$f":"SUM(CL2:CL324)","v":0}]
[1001,"Northfleet Nursery",null,"Northfleet Nursery","Northfleet Nursery",{"$f":"IF(E2=D2,0,1)","v":0},null,0,0,{"$f":"ROUND(H2-I2,0)","v":0},null,0,0,{"$f":"ROUND(L2-M2,0)","v":0},null,0,0,{"$f":"ROUND(P2-Q2,0)","v":0},null,0,0,{"$f":"ROUND(T2-U2,0)","v":0},null,null,null,{"$f":"ROUND(X2-Y2,0)","v":0},null,5.01,5.01,{"$f":"ROUND(AB2-AC2,0)","v":0},null,0,null,{"$f":"ROUND(AF2-AG2,0)","v":0},null,0,null,{"$f":"ROUND(AJ2-AK2,0)","v":0},null,0,null,{"$f":"ROUND(AN2-AO2,0)","v":0},null,0,null,{"$f":"ROUND(AR2-AS2,0)","v":0},null,null,null,{"$f":"ROUND(AV2-AW2,0)","v":0},null,null,null,{"$f":"ROUND(AZ2-BA2,0)","v":0},null,null,null,{"$f":"ROUND(BD2-BE2,0)","v":0},null,null,null,{"$f":"ROUND(BH2-BI2,0)","v":0},null,"NO",{"$f":"IF(ISERROR(VLOOKUP($A2+8860000,'Growth Data'!$A:$F,3,0)),\"NO\",VLOOKUP($A2+8860000,'Growth Data'!$A:$F,3,0))","v":"NO"},{"$f":"IF(BL2=BM2,0,1)","v":0},null,0,{"$f":"IF(BM2=\"YES\",IF(ISERROR(VLOOKUP($A2+8860000,'Growth Data'!$A:$F,6,0)),0,VLOOKUP($A2+8860000,'Growth Data'!$A:$F,6,0)),0)","v":0},{"$f":"ROUND(BP2-BQ2,0)","v":0},null,"NO",{"$f":"IF(ISERROR(VLOOKUP($A2+8860000,'Growth Data'!$A:$F,4,0)),\"NO\",VLOOKUP($A2+8860000,'Growth Data'!$A:$F,4,0))","v":"NO"},{"$f":"IF(BT2=BU2,0,1)","v":0},null,0,{"$f":"IF(BU2=\"YES\",IF(ISERROR(VLOOKUP($A2+8860000,'Growth Data'!$A:$Z,7,0)),0,VLOOKUP($A2+8860000,'Growth Data'!$A:$Z,7,0)),0)","v":0},{"$f":"ROUND(BX2-BY2,0)","v":0},null,"NO",{"$f":"IF(ISERROR(VLOOKUP($A2+8860000,'Growth Data'!$A:$F,5,0)),\"NO\",VLOOKUP($A2+8860000,'Growth Data'!$A:$F,5,0))","v":"NO"},{"$f":"IF(CB2=CC2,0,1)","v":0},null,0,{"$f":"IF(CC2=\"YES\",IF(ISERROR(VLOOKUP($A2+8860000,'Growth Data'!$A:$Z,8,0)),0,VLOOKUP($A2+8860000,'Growth Data'!$A:$Z,8,0)),0)","v":0},{"$f":"ROUND(CF2-CG2,0)","v":0},null,null,null,{"$f":"ROUND(CJ2-CK2,0)","v":0}]
[2000,"St Johns C of E Primary School",null,"St Johns C of E Primary School","St Johns C of E Primary School",{"$f":"IF(E3=D3,0,1)","v":0},null,1154700.31,1154700.3098665797,{"$f":"ROUND(H3-I3,0)","v":0},null,0,0,{"$f":"ROUND(L3-M3,0)","v":0},null,1154700.31,1154700.3098665797,{"$f":"ROUND(P3-Q3,0)","v":0},null,6984.34,6984.3358687999998,{"$f":"ROUND(T3-U3,0)","v":0},null,null,null,{"$f":"ROUND(X3-Y3,0)","v":0},null,5,5,{"$f":"ROUND(AB3-AC3,0)","v":0},null,177198.44,null,{"$f":"ROUND(AF3-AG3,0)","v":177198},null,0,null,{"$f":"ROUND(AJ3-AK3,0)","v":0},null,0,null,{"$f":"ROUND(AN3-AO3,0)","v":0},null,0,null,{"$f":"ROUND(AR3-AS3,0)","v":0},null,null,null,{"$f":"ROUND(AV3-AW3,0)","v":0},null,null,null,{"$f":"ROUND(AZ3-BA3,0)","v":0},null,null,null,{"$f":"ROUND(BD3-BE3,0)","v":0},null,null,null,{"$f":"ROUND(BH3-BI3,0)","v":0},null,"NO",{"$f":"IF(ISERROR(VLOOKUP($A3+8860000,'Growth Data'!$A:$F,3,0)),\"NO\",VLOOKUP($A3+8860000,'Growth Data'!$A:$F,3,0))","v":"NO"},{"$f":"IF(BL3=BM3,0,1)","v":0},null,0,{"$f":"IF(BM3=\"YES\",IF(ISERROR(VLOOKUP($A3+8860000,'Growth Data'!$A:$F,6,0)),0,VLOOKUP($A3+8860000,'Growth Data'!$A:$F,6,0)),0)","v":0},{"$f":"ROUND(BP3-BQ3,0)","v":0},null,"NO",{"$f":"IF(ISERROR(VLOOKUP($A3+8860000,'Growth Data'!$A:$F,4,0)),\"NO\",VLOOKUP($A3+8860000,'Growth Data'!$A:$F,4,0))","v":"NO"},{"$f":"IF(BT3=BU3,0,1)","v":0},null,0,{"$f":"IF(BU3=\"YES\",IF(ISERROR(VLOOKUP($A3+8860000,'Growth Data'!$A:$Z,7,0)),0,VLOOKUP($A3+8860000,'Growth Data'!$A:$Z,7,0)),0)","v":0},{"$f":"ROUND(BX3-BY3,0)","v":0},null,"NO",{"$f":"IF(ISERROR(VLOOKUP($A3+8860000,'Growth Data'!$A:$F,5,0)),\"NO\",VLOOKUP($A3+8860000,'Growth Data'!$A:$F,5,0))","v":"NO"},{"$f":"IF(CB3=CC3,0,1)","v":0},null,0,{"$f":"IF(CC3=\"YES\",IF(ISERROR(VLOOKUP($A3+8860000,'Growth Data'!$A:$Z,8,0)),0,VLOOKUP($A3+8860000,'Growth Data'!$A:$Z,8,0)),0)","v":0},{"$f":"ROUND(CF3-CG3,0)","v":0},null,null,null,{"$f":"ROUND(CJ3-CK3,0)","v":0}]
[2002,"Repton Manor Primary School",null,"Repton Manor Primary School","Repton Manor Primary School",0,null,1541106,1541106.0000000002,0,null,0,0,0,null,1541106,1541106.0000000002,0,null,11529.29,11529.289724599999,0,null,null,null,0,null,0,0,0,null,102895.27,null,102895,null,0,null,0,null,0,null,0,null,0,null,0,null,null,null,0,null,null,null,0,null,null,null,0,null,null,null,0,null,"YES",{"$f":"IF(ISERROR(VLOOKUP($A4+8860000,'Growth Data'!$A:$F,3,0)),\"NO\",VLOOKUP($A4+8860000,'Growth Data'!$A:$F,3,0))","v":"YES"},0,null,60,{"$f":"IF(BM4=\"YES\",IF(ISERROR(VLOOKUP($A4+8860000,'Growth Data'!$A:$F,6,0)),0,VLOOKUP($A4+8860000,'Growth Data'!$A:$F,6,0)),0)","v":33},27,null,"YES",{"$f":"IF(ISERROR(VLOOKUP($A4+8860000,'Growth Data'!$A:$F,4,0)),\"NO\",VLOOKUP($A4+8860000,'Growth Data'!$A:$F,4,0))","v":"NO"},1,null,60,{"$f":"IF(BU4=\"YES\",IF(ISERROR(VLOOKUP($A4+8860000,'Growth Data'!$A:$Z,7,0)),0,VLOOKUP($A4+8860000,'Growth Data'!$A:$Z,7,0)),0)","v":0},60,null,"NO",{"$f":"IF(ISERROR(VLOOKUP($A4+8860000,'Growth Data'!$A:$F,5,0)),\"NO\",VLOOKUP($A4+8860000,'Growth Data'!$A:$F,5,0))","v":"NO"},0,null,0,{"$f":"IF(CC4=\"YES\",IF(ISERROR(VLOOKUP($A4+8860000,'Growth Data'!$A:$Z,8,0)),0,VLOOKUP($A4+8860000,'Growth Data'!$A:$Z,8,0)),0)","v":0},0,null,null,null,0]
[2044,"Loose Primary School",null,"Loose Primary School","Loose Primary School",0,null,2274481,2274481,0,null,0,0,0,null,2274481,2274481,0,null,16741.86,16741.863920800002,0,null,null,null,0,null,0,0,0,null,149287.38,null,149287,null,0,null,0,null,0,null,0,null,0,null,0,null,null,null,0,null,null,null,0,null,null,null,0,null,null,null,0,null,"NO",{"$f":"IF(ISERROR(VLOOKUP($A5+8860000,'Growth Data'!$A:$F,3,0)),\"NO\",VLOOKUP($A5+8860000,'Growth Data'!$A:$F,3,0))","v":"NO"},0,null,0,{"$f":"IF(BM5=\"YES\",IF(ISERROR(VLOOKUP($A5+8860000,'Growth Data'!$A:$F,6,0)),0,VLOOKUP($A5+8860000,'Growth Data'!$A:$F,6,0)),0)","v":0},0,null,"NO",{"$f":"IF(ISERROR(VLOOKUP($A5+8860000,'Growth Data'!$A:$F,4,0)),\"NO\",VLOOKUP($A5+8860000,'Growth Data'!$A:$F,4,0))","v":"NO"},0,null,0,{"$f":"IF(BU5=\"YES\",IF(ISERROR(VLOOKUP($A5+8860000,'Growth Data'!$A:$Z,7,0)),0,VLOOKUP($A5+8860000,'Growth Data'!$A:$Z,7,0)),0)","v":0},0,null,"NO",{"$f":"IF(ISERROR(VLOOKUP($A5+8860000,'Growth Data'!$A:$F,5,0)),\"NO\",VLOOKUP($A5+8860000,'Growth Data'!$A:$F,5,0))","v":"NO"},0,null,0,{"$f":"IF(CC5=\"YES\",IF(ISERROR(VLOOKUP($A5+8860000,'Growth Data'!$A:$Z,8,0)),0,VLOOKUP($A5+8860000,'Growth Data'!$A:$Z,8,0)),0)","v":0},0,null,null,null,0]
[2062,"Darenth Community Primary School",null,"Darenth Community Primary School","Darenth Community Primary School",0,null,794948.12,794948.11500552902,0,null,0,0,0,null,794948.12,794948.11500552902,0,null,4923.29,4923.2891671635998,0,null,null,null,0,null,0,0,0,null,108769.02,null,108769,null,0,null,0,null,0,null,0,null,0,null,0,null,null,null,0,null,null,null,0,null,null,null,0,null,null,null,0,null,"NO",{"$f":"IF(ISERROR(VLOOKUP($A6+8860000,'Growth Data'!$A:$F,3,0)),\"NO\",VLOOKUP($A6+8860000,'Growth Data'!$A:$F,3,0))","v":"NO"},0,null,0,{"$f":"IF(BM6=\"YES\",IF(ISERROR(VLOOKUP($A6+8860000,'Growth Data'!$A:$F,6,0)),0,VLOOKUP($A6+8860000,'Growth Data'!$A:$F,6,0)),0)","v":0},0,null,"NO",{"$f":"IF(ISERROR(VLOOKUP($A6+8860000,'Growth Data'!$A:$F,4,0)),\"NO\",VLOOKUP($A6+8860000,'Growth Data'!$A:$F,4,0))","v":"NO"},0,null,0,{"$f":"IF(BU6=\"YES\",IF(ISERROR(VLOOKUP($A6+8860000,'Growth Data'!$A:$Z,7,0)),0,VLOOKUP($A6+8860000,'Growth Data'!$A:$Z,7,0)),0)","v":0},0,null,"NO",{"$f":"IF(ISERROR(VLOOKUP($A6+8860000,'Growth Data'!$A:$F,5,0)),\"NO\",VLOOKUP($A6+8860000,'Growth Data'!$A:$F,5,0))","v":"NO"},0,null,0,{"$f":"IF(CC6=\"YES\",IF(ISERROR(VLOOKUP($A6+8860000,'Growth Data'!$A:$Z,8,0)),0,VLOOKUP($A6+8860000,'Growth Data'!$A:$Z,8,0)),0)","v":0},0,null,null,null,0]
[2065,"Discovery School, The",null,"Discovery School, The","Discovery School, The",0,null,2215457,2215457,0,null,0,0,0,null,2215457,2215457,0,null,16176.95,16176.954402000001,0,null,null,null,0,null,0,0,0,null,98017.44,null,98017,null,0,null,0,null,0,null,0,null,0,null,0,null,null,null,0,null,null,null,0,null,null,null,0,null,null,null,0,null,"NO",{"$f":"IF(ISERROR(VLOOKUP($A7+8860000,'Growth Data'!$A:$F,3,0)),\"NO\",VLOOKUP($A7+8860000,'Growth Data'!$A:$F,3,0))","v":"NO"},0,null,0,{"$f":"IF(BM7=\"YES\",IF(ISERROR(VLOOKUP($A7+8860000,'Growth Data'!$A:$F,6,0)),0,VLOOKUP($A7+8860000,'Growth Data'!$A:$F,6,0)),0)","v":0},0,null,"NO",{"$f":"IF(ISERROR(VLOOKUP($A7+8860000,'Growth Data'!$A:$F,4,0)),\"NO\",VLOOKUP($A7+8860000,'Growth Data'!$A:$F,4,0))","v":"NO"},0,null,0,{"$f":"IF(BU7=\"YES\",IF(ISERROR(VLOOKUP($A7+8860000,'Growth Data'!$A:$Z,7,0)),0,VLOOKUP($A7+8860000,'Growth Data'!$A:$Z,7,0)),0)","v":0},0,null,"NO",{"$f":"IF(ISERROR(VLOOKUP($A7+8860000,'Growth Data'!$A:$F,5,0)),\"NO\",VLOOKUP($A7+8860000,'Growth Data'!$A:$F,5,0))","v":"NO"},0,null,0,{"$f":"IF(CC7=\"YES\",IF(ISERROR(VLOOKUP($A7+8860000,'Growth Data'!$A:$Z,8,0)),0,VLOOKUP($A7+8860000,'Growth Data'!$A:$Z,8,0)),0)","v":0},0,null,null,null,0]
[2066,"Maypole Primary School",null,"Maypole Primary School","Maypole Primary School",0,null,1499637.65,1499637.6495489718,0,null,0,0,0,null,1499637.65,1499637.6495489718,0,null,10911.07,10911.073289389598,0,null,null,null,0,null,0,0,0,null,119178.78,null,119179,null,0,null,0,null,0,null,0,null,0,null,0,null,null,null,0,null,null,null,0,null,null,null,0,null,null,null,0,null,"NO",{"$f":"IF(ISERROR(VLOOKUP($A8+8860000,'Growth Data'!$A:$F,3,0)),\"NO\",VLOOKUP($A8+8860000,'Growth Data'!$A:$F,3,0))","v":"NO"},0,null,0,{"$f":"IF(BM8=\"YES\",IF(ISERROR(VLOOKUP($A8+8860000,'Growth Data'!$A:$F,6,0)),0,VLOOKUP($A8+8860000,'Growth Data'!$A:$F,6,0)),0)","v":0},0,null,"NO",{"$f":"IF(ISERROR(VLOOKUP($A8+8860000,'Growth Data'!$A:$F,4,0)),\"NO\",VLOOKUP($A8+8860000,'Growth Data'!$A:$F,4,0))","v":"NO"},0,null,0,{"$f":"IF(BU8=\"YES\",IF(ISERROR(VLOOKUP($A8+8860000,'Growth Data'!$A:$Z,7,0)),0,VLOOKUP($A8+8860000,'Growth Data'!$A:$Z,7,0)),0)","v":0},0,null,"NO",{"$f":"IF(ISERROR(VLOOKUP($A8+8860000,'Growth Data'!$A:$F,5,0)),\"NO\",VLOOKUP($A8+8860000,'Growth Data'!$A:$F,5,0))","v":"NO"},0,null,0,{"$f":"IF(CC8=\"YES\",IF(ISERROR(VLOOKUP($A8+8860000,'Growth Data'!$A:$Z,8,0)),0,VLOOKUP($A8+8860000,'Growth Data'!$A:$Z,8,0)),0)","v":0},0,null,null,null,0]
[2074,"Sunny Bank Primary School",null,"Sunny Bank Primary School","Sunny Bank Primary School",0,null,1174236.55,1174236.5507490817,0,null,0,0,0,null,1174236.55,1174236.5507490817,0,null,7010.01,7010.0135742000002,0,null,null,null,0,null,5.1100000000000003,5.1100000000000003,0,null,193117.8,null,193118,null,0,null,0,null,0,null,0,null,0,null,0,null,null,null,0,null,null,null,0,null,null,null,0,null,null,null,0,null,"NO",{"$f":"IF(ISERROR(VLOOKUP($A9+8860000,'Growth Data'!$A:$F,3,0)),\"NO\",VLOOKUP($A9+8860000,'Growth Data'!$A:$F,3,0))","v":"NO"},0,null,0,{"$f":"IF(BM9=\"YES\",IF(ISERROR(VLOOKUP($A9+8860000,'Growth Data'!$A:$F,6,0)),0,VLOOKUP($A9+8860000,'Growth Data'!$A:$F,6,0)),0)","v":0},0,null,"NO",{"$f":"IF(ISERROR(VLOOKUP($A9+8860000,'Growth Data'!$A:$F,4,0)),\"NO\",VLOOKUP($A9+8860000,'Growth Data'!$A:$F,4,0))","v":"NO"},0,null,0,{"$f":"IF(BU9=\"YES\",IF(ISERROR(VLOOKUP($A9+8860000,'Growth Data'!$A:$Z,7,0)),0,VLOOKUP($A9+8860000,'Growth Data'!$A:$Z,7,0)),0)","v":0},0,null,"NO",{"$f":"IF(ISERROR(VLOOKUP($A9+8860000,'Growth Data'!$A:$F,5,0)),\"NO\",VLOOKUP($A9+8860000,'Growth Data'!$A:$F,5,0))","v":"NO"},0,null,0,{"$f":"IF(CC9=\"YES\",IF(ISERROR(VLOOKUP($A9+8860000,'Growth Data'!$A:$Z,8,0)),0,VLOOKUP($A9+8860000,'Growth Data'!$A:$Z,8,0)),0)","v":0},0,null,null,null,0]
[2079,"Woodlands Primary School",null,"Woodlands Primary School","Woodlands Primary School",0,null,2275909,2275909,0,null,0,0,0,null,2275909,2275909,0,null,16767.54,16767.5416262,0,null,null,null,0,null,0,0,0,null,142087.03,null,142087,null,0,null,0,null,0,null,0,null,0,null,0,null,null,null,0,null,null,null,0,null,null,null,0,null,null,null,0,null,"NO",{"$f":"IF(ISERROR(VLOOKUP($A10+8860000,'Growth Data'!$A:$F,3,0)),\"NO\",VLOOKUP($A10+8860000,'Growth Data'!$A:$F,3,0))","v":"NO"},0,null,0,{"$f":"IF(BM10=\"YES\",IF(ISERROR(VLOOKUP($A10+8860000,'Growth Data'!$A:$F,6,0)),0,VLOOKUP($A10+8860000,'Growth Data'!$A:$F,6,0)),0)","v":0},0,null,"NO",{"$f":"IF(ISERROR(VLOOKUP($A10+8860000,'Growth Data'!$A:$F,4,0)),\"NO\",VLOOKUP($A10+8860000,'Growth Data'!$A:$F,4,0))","v":"NO"},0,null,0,{"$f":"IF(BU10=\"YES\",IF(ISERROR(VLOOKUP($A10+8860000,'Growth Data'!$A:$Z,7,0)),0,VLOOKUP($A10+8860000,'Growth Data'!$A:$Z,7,0)),0)","v":0},0,null,"NO",{"$f":"IF(ISERROR(VLOOKUP($A10+8860000,'Growth Data'!$A:$F,5,0)),\"NO\",VLOOKUP($A10+8860000,'Growth Data'!$A:$F,5,0))","v":"NO"},0,null,0,{"$f":"IF(CC10=\"YES\",IF(ISERROR(VLOOKUP($A10+8860000,'Growth Data'!$A:$Z,8,0)),0,VLOOKUP($A10+8860000,'Growth Data'!$A:$Z,8,0)),0)","v":0},0,null,null,null,0]
[2088,"Crockenhill Primary School",null,"Crockenhill Primary School","Crockenhill Primary School",0,null,808523.32,808523.32217854587,0,null,0,0,0,null,808523.32,808523.32217854587,0,null,5508.76,5508.7613924479201,0,null,null,null,0,null,0,0,0,null,60901.599999999999,null,60902,null,0,null,0,null,0,null,0,null,0,null,0,null,null,null,0,null,null,null,0,null,null,null,0,null,null,null,0,null,"NO",{"$f":"IF(ISERROR(VLOOKUP($A11+8860000,'Growth Data'!$A:$F,3,0)),\"NO\",VLOOKUP($A11+8860000,'Growth Data'!$A:$F,3,0))","v":"NO"},0,null,0,{"$f":"IF(BM11=\"YES\",IF(ISERROR(VLOOKUP($A11+8860000,'Growth Data'!$A:$F,6,0)),0,VLOOKUP($A11+8860000,'Growth Data'!$A:$F,6,0)),0)","v":0},0,null,"NO",{"$f":"IF(ISERROR(VLOOKUP($A11+8860000,'Growth Data'!$A:$F,4,0)),\"NO\",VLOOKUP($A11+8860000,'Growth Data'!$A:$F,4,0))","v":"NO"},0,null,0,{"$f":"IF(BU11=\"YES\",IF(ISERROR(VLOOKUP($A11+8860000,'Growth Data'!$A:$Z,7,0)),0,VLOOKUP($A11+8860000,'Growth Data'!$A:$Z,7,0)),0)","v":0},0,null,"NO",{"$f":"IF(ISERROR(VLOOKUP($A11+8860000,'Growth Data'!$A:$F,5,0)),\"NO\",VLOOKUP($A11+8860000,'Growth Data'!$A:$F,5,0))","v":"NO"},0,null,0,{"$f":"IF(CC11=\"YES\",IF(ISERROR(VLOOKUP($A11+8860000,'Growth Data'!$A:$Z,8,0)),0,VLOOKUP($A11+8860000,'Growth Data'!$A:$Z,8,0)),0)","v":0},0,null,null,null,0]
[2089,"Anthony Roper Primary School, The",null,"Anthony Roper Primary School, The","Anthony Roper Primary School, The",0,null,1096372.07,1096372.0702849976,0,null,0,0,0,null,1096372.07,1096372.0702849976,0,null,8356.2900000000009,8356.2853972398389,0,null,null,null,0,null,0,0,0,null,59777.88,null,59778,null,22.21,null,22,null,0,null,0,null,0,null,0,null,null,null,0,null,null,null,0,null,null,null,0,null,null,null,0,null,"NO",{"$f":"IF(ISERROR(VLOOKUP($A12+8860000,'Growth Data'!$A:$F,3,0)),\"NO\",VLOOKUP($A12+8860000,'Growth Data'!$A:$F,3,0))","v":"NO"},0,null,0,{"$f":"IF(BM12=\"YES\",IF(ISERROR(VLOOKUP($A12+8860000,'Growth Data'!$A:$F,6,0)),0,VLOOKUP($A12+8860000,'Growth Data'!$A:$F,6,0)),0)","v":0},0,null,"NO",{"$f":"IF(ISERROR(VLOOKUP($A12+8860000,'Growth Data'!$A:$F,4,0)),\"NO\",VLOOKUP($A12+8860000,'Growth Data'!$A:$F,4,0))","v":"NO"},0,null,0,{"$f":"IF(BU12=\"YES\",IF(ISERROR(VLOOKUP($A12+8860000,'Growth Data'!$A:$Z,7,0)),0,VLOOKUP($A12+8860000,'Growth Data'!$A:$Z,7,0)),0)","v":0},0,null,"NO",{"$f":"IF(ISERROR(VLOOKUP($A12+8860000,'Growth Data'!$A:$F,5,0)),\"NO\",VLOOKUP($A12+8860000,'Growth Data'!$A:$F,5,0))","v":"NO"},0,null,0,{"$f":"IF(CC12=\"YES\",IF(ISERROR(VLOOKUP($A12+8860000,'Growth Data'!$A:$Z,8,0)),0,VLOOKUP($A12+8860000,'Growth Data'!$A:$Z,8,0)),0)","v":0},0,null,null,null,0]
[2094,"Cobham Primary School",null,"Cobham Primary School","Cobham Primary School",0,null,775017.67,775017.66946996679,0,null,0,0,0,null,775017.67,775017.66946996679,0,null,5597.74,5597.7397772000004,0,null,null,null,0,null,0,0,0,null,36479.06,null,36479,null,2352.09,null,2352,null,0,null,0,null,0,null,0,null,null,null,0,null,null,null,0,null,null,null,0,null,null,null,0,null,"NO",{"$f":"IF(ISERROR(VLOOKUP($A13+8860000,'Growth Data'!$A:$F,3,0)),\"NO\",VLOOKUP($A13+8860000,'Growth Data'!$A:$F,3,0))","v":"NO"},0,null,0,{"$f":"IF(BM13=\"YES\",IF(ISERROR(VLOOKUP($A13+8860000,'Growth Data'!$A:$F,6,0)),0,VLOOKUP($A13+8860000,'Growth Data'!$A:$F,6,0)),0)","v":0},0,null,"NO",{"$f":"IF(ISERROR(VLOOKUP($A13+8860000,'Growth Data'!$A:$F,4,0)),\"NO\",VLOOKUP($A13+8860000,'Growth Data'!$A:$F,4,0))","v":"NO"},0,null,0,{"$f":"IF(BU13=\"YES\",IF(ISERROR(VLOOKUP($A13+8860000,'Growth Data'!$A:$Z,7,0)),0,VLOOKUP($A13+8860000,'Growth Data'!$A:$Z,7,0)),0)","v":0},0,null,"NO",{"$f":"IF(ISERROR(VLOOKUP($A13+8860000,'Growth Data'!$A:$F,5,0)),\"NO\",VLOOKUP($A13+8860000,'Growth Data'!$A:$F,5,0))","v":"NO"},0,null,0,{"$f":"IF(CC13=\"YES\",IF(ISERROR(VLOOKUP($A13+8860000,'Growth Data'!$A:$Z,8,0)),0,VLOOKUP($A13+8860000,'Growth Data'!$A:$Z,8,0)),0)","v":0},0,null,null,null,0]
[2095,"Cecil Road Primary and Nursery School",null,"Cecil Road Primary and Nursery School","Cecil Road Primary and Nursery School",0,null,1405654.29,1405654.2915977519,0,null,0,0,0,null,1405654.29,1405654.2915977519,0,null,9808.8799999999992,9808.8834628000004,0,null,null,null,0,null,4.9000000000000004,4.9000000000000004,0,null,127687.21,null,127687,null,0,null,0,null,0,null,0,null,0,null,0,null,null,null,0,null,null,null,0,null,null,null,0,null,null,null,0,null,"NO",{"$f":"IF(ISERROR(VLOOKUP($A14+8860000,'Growth Data'!$A:$F,3,0)),\"NO\",VLOOKUP($A14+8860000,'Growth Data'!$A:$F,3,0))","v":"NO"},0,null,0,{"$f":"IF(BM14=\"YES\",IF(ISERROR(VLOOKUP($A14+8860000,'Growth Data'!$A:$F,6,0)),0,VLOOKUP($A14+8860000,'Growth Data'!$A:$F,6,0)),0)","v":0},0,null,"NO",{"$f":"IF(ISERROR(VLOOKUP($A14+8860000,'Growth Data'!$A:$F,4,0)),\"NO\",VLOOKUP($A14+8860000,'Growth Data'!$A:$F,4,0))","v":"NO"},0,null,0,{"$f":"IF(BU14=\"YES\",IF(ISERROR(VLOOKUP($A14+8860000,'Growth Data'!$A:$Z,7,0)),0,VLOOKUP($A14+8860000,'Growth Data'!$A:$Z,7,0)),0)","v":0},0,null,"NO",{"$f":"IF(ISERROR(VLOOKUP($A14+8860000,'Growth Data'!$A:$F,5,0)),\"NO\",VLOOKUP($A14+8860000,'Growth Data'!$A:$F,5,0))","v":"NO"},0,null,0,{"$f":"IF(CC14=\"YES\",IF(ISERROR(VLOOKUP($A14+8860000,'Growth Data'!$A:$Z,8,0)),0,VLOOKUP($A14+8860000,'Growth Data'!$A:$Z,8,0)),0)","v":0},0,null,null,null,0]
[2109,"Higham Primary School",null,"Higham Primary School","Higham Primary School",0,null,781784.36,781784.36182316369,0,null,0,0,0,null,781784.36,781784.36182316369,0,null,5546.38,5546.3843664000005,0,null,null,null,0,null,0,0,0,null,42130.03,null,42130,null,1787,null,1787,null,0,null,0,null,0,null,0,null,null,null,0,null,null,null,0,null,null,null,0,null,null,null,0,null,"NO",{"$f":"IF(ISERROR(VLOOKUP($A15+8860000,'Growth Data'!$A:$F,3,0)),\"NO\",VLOOKUP($A15+8860000,'Growth Data'!$A:$F,3,0))","v":"NO"},0,null,0,{"$f":"IF(BM15=\"YES\",IF(ISERROR(VLOOKUP($A15+8860000,'Growth Data'!$A:$F,6,0)),0,VLOOKUP($A15+8860000,'Growth Data'!$A:$F,6,0)),0)","v":0},0,null,"NO",{"$f":"IF(ISERROR(VLOOKUP($A15+8860000,'Growth Data'!$A:$F,4,0)),\"NO\",VLOOKUP($A15+8860000,'Growth Data'!$A:$F,4,0))","v":"NO"},0,null,0,{"$f":"IF(BU15=\"YES\",IF(ISERROR(VLOOKUP($A15+8860000,'Growth Data'!$A:$Z,7,0)),0,VLOOKUP($A15+8860000,'Growth Data'!$A:$Z,7,0)),0)","v":0},0,null,"NO",{"$f":"IF(ISERROR(VLOOKUP($A15+8860000,'Growth Data'!$A:$F,5,0)),\"NO\",VLOOKUP($A15+8860000,'Growth Data'!$A:$F,5,0))","v":"NO"},0,null,0,{"$f":"IF(CC15=\"YES\",IF(ISERROR(VLOOKUP($A15+8860000,'Growth Data'!$A:$Z,8,0)),0,VLOOKUP($A15+8860000,'Growth Data'!$A:$Z,8,0)),0)","v":0},0,null,null,null,0]
[2116,"Lawn Primary School",null,"Lawn Primary School","Lawn Primary School",0,null,926060.85,926060.84849564463,0,null,0,0,0,null,926060.85,926060.84849564463,0,null,5135.54,5135.5410799999991,0,null,null,null,0,null,5.52,5.52,0,null,170279.84,null,170280,null,0,null,0,null,0,null,0,null,0,null,0,null,null,null,0,null,null,null,0,null,null,null,0,null,null,null,0,null,"NO",{"$f":"IF(ISERROR(VLOOKUP($A16+8860000,'Growth Data'!$A:$F,3,0)),\"NO\",VLOOKUP($A16+8860000,'Growth Data'!$A:$F,3,0))","v":"NO"},0,null,0,{"$f":"IF(BM16=\"YES\",IF(ISERROR(VLOOKUP($A16+8860000,'Growth Data'!$A:$F,6,0)),0,VLOOKUP($A16+8860000,'Growth Data'!$A:$F,6,0)),0)","v":0},0,null,"NO",{"$f":"IF(ISERROR(VLOOKUP($A16+8860000,'Growth Data'!$A:$F,4,0)),\"NO\",VLOOKUP($A16+8860000,'Growth Data'!$A:$F,4,0))","v":"NO"},0,null,0,{"$f":"IF(BU16=\"YES\",IF(ISERROR(VLOOKUP($A16+8860000,'Growth Data'!$A:$Z,7,0)),0,VLOOKUP($A16+8860000,'Growth Data'!$A:$Z,7,0)),0)","v":0},0,null,"NO",{"$f":"IF(ISERROR(VLOOKUP($A16+8860000,'Growth Data'!$A:$F,5,0)),\"NO\",VLOOKUP($A16+8860000,'Growth Data'!$A:$F,5,0))","v":"NO"},0,null,0,{"$f":"IF(CC16=\"YES\",IF(ISERROR(VLOOKUP($A16+8860000,'Growth Data'!$A:$Z,8,0)),0,VLOOKUP($A16+8860000,'Growth Data'!$A:$Z,8,0)),0)","v":0},0,null,null,null,0]
[2119,"Shears Green Infant School",null,"Shears Green Infant School","Shears Green Infant School",0,null,1279430.33,1279430.3302759652,0,null,169.72,169.71956342295744,0,null,1279600.05,1279600.0498393881,0,null,9218.2999999999993,9218.2962385999999,0,null,null,null,0,null,0,0,0,null,109827.78,null,109828,null,0,null,0,null,0,null,0,null,0,null,0,null,null,null,0,null,null,null,0,null,null,null,0,null,null,null,0,null,"NO",{"$f":"IF(ISERROR(VLOOKUP($A17+8860000,'Growth Data'!$A:$F,3,0)),\"NO\",VLOOKUP($A17+8860000,'Growth Data'!$A:$F,3,0))","v":"NO"},0,null,0,{"$f":"IF(BM17=\"YES\",IF(ISERROR(VLOOKUP($A17+8860000,'Growth Data'!$A:$F,6,0)),0,VLOOKUP($A17+8860000,'Growth Data'!$A:$F,6,0)),0)","v":0},0,null,"NO",{"$f":"IF(ISERROR(VLOOKUP($A17+8860000,'Growth Data'!$A:$F,4,0)),\"NO\",VLOOKUP($A17+8860000,'Growth Data'!$A:$F,4,0))","v":"NO"},0,null,0,{"$f":"IF(BU17=\"YES\",IF(ISERROR(VLOOKUP($A17+8860000,'Growth Data'!$A:$Z,7,0)),0,VLOOKUP($A17+8860000,'Growth Data'!$A:$Z,7,0)),0)","v":0},0,null,"NO",{"$f":"IF(ISERROR(VLOOKUP($A17+8860000,'Growth Data'!$A:$F,5,0)),\"NO\",VLOOKUP($A17+8860000,'Growth Data'!$A:$F,5,0))","v":"NO"},0,null,0,{"$f":"IF(CC17=\"YES\",IF(ISERROR(VLOOKUP($A17+8860000,'Growth Data'!$A:$Z,8,0)),0,VLOOKUP($A17+8860000,'Growth Data'!$A:$Z,8,0)),0)","v":0},0,null,null,null,0]
[2120,"Bean Primary School",null,"Bean Primary School","Bean Primary School",0,null,824107.02,824107.02485826134,0,null,0,0,0,null,824107.02,824107.02485826134,0,null,5428.92,5428.9242708182401,0,null,null,null,0,null,0,0,0,null,87801.9,null,87802,null,0,null,0,null,0,null,0,null,0,null,0,null,null,null,0,null,null,null,0,null,null,null,0,null,null,null,0,null,"NO",{"$f":"IF(ISERROR(VLOOKUP($A18+8860000,'Growth Data'!$A:$F,3,0)),\"NO\",VLOOKUP($A18+8860000,'Growth Data'!$A:$F,3,0))","v":"NO"},0,null,0,{"$f":"IF(BM18=\"YES\",IF(ISERROR(VLOOKUP($A18+8860000,'Growth Data'!$A:$F,6,0)),0,VLOOKUP($A18+8860000,'Growth Data'!$A:$F,6,0)),0)","v":0},0,null,"NO",{"$f":"IF(ISERROR(VLOOKUP($A18+8860000,'Growth Data'!$A:$F,4,0)),\"NO\",VLOOKUP($A18+8860000,'Growth Data'!$A:$F,4,0))","v":"NO"},0,null,0,{"$f":"IF(BU18=\"YES\",IF(ISERROR(VLOOKUP($A18+8860000,'Growth Data'!$A:$Z,7,0)),0,VLOOKUP($A18+8860000,'Growth Data'!$A:$Z,7,0)),0)","v":0},0,null,"NO",{"$f":"IF(ISERROR(VLOOKUP($A18+8860000,'Growth Data'!$A:$F,5,0)),\"NO\",VLOOKUP($A18+8860000,'Growth Data'!$A:$F,5,0))","v":"NO"},0,null,0,{"$f":"IF(CC18=\"YES\",IF(ISERROR(VLOOKUP($A18+8860000,'Growth Data'!$A:$Z,8,0)),0,VLOOKUP($A18+8860000,'Growth Data'!$A:$Z,8,0)),0)","v":0},0,null,null,null,0]
[2127,"Paddock Wood Primary School",null,"Paddock Wood Primary School","Paddock Wood Primary School",0,null,2115174,2115174,0,null,0,0,0,null,2115174,2115174,0,null,15535.01,15535.011767,0,null,null,null,0,null,0,0,0,null,133290.46,null,133290,null,0,null,0,null,0,null,0,null,0,null,0,null,null,null,0,null,null,null,0,null,null,null,0,null,null,null,0,null,"NO",{"$f":"IF(ISERROR(VLOOKUP($A19+8860000,'Growth Data'!$A:$F,3,0)),\"NO\",VLOOKUP($A19+8860000,'Growth Data'!$A:$F,3,0))","v":"NO"},0,null,0,{"$f":"IF(BM19=\"YES\",IF(ISERROR(VLOOKUP($A19+8860000,'Growth Data'!$A:$F,6,0)),0,VLOOKUP($A19+8860000,'Growth Data'!$A:$F,6,0)),0)","v":0},0,null,"NO",{"$f":"IF(ISERROR(VLOOKUP($A19+8860000,'Growth Data'!$A:$F,4,0)),\"NO\",VLOOKUP($A19+8860000,'Growth Data'!$A:$F,4,0))","v":"NO"},0,null,0,{"$f":"IF(BU19=\"YES\",IF(ISERROR(VLOOKUP($A19+8860000,'Growth Data'!$A:$Z,7,0)),0,VLOOKUP($A19+8860000,'Growth Data'!$A:$Z,7,0)),0)","v":0},0,null,"NO",{"$f":"IF(ISERROR(VLOOKUP($A19+8860000,'Growth Data'!$A:$F,5,0)),\"NO\",VLOOKUP($A19+8860000,'Growth Data'!$A:$F,5,0))","v":"NO"},0,null,0,{"$f":"IF(CC19=\"YES\",IF(ISERROR(VLOOKUP($A19+8860000,'Growth Data'!$A:$Z,8,0)),0,VLOOKUP($A19+8860000,'Growth Data'!$A:$Z,8,0)),0)","v":0},0,null,null,null,0]
[2128,"Capel Primary School",null,"Capel Primary School","Capel Primary School",0,null,759926.06,759926.06037858571,0,null,0,0,0,null,759926.06,759926.06037858571,0,null,5443.67,5443.6735447999999,0,null,null,null,0,null,0,0,0,null,36677.129999999997,null,36677,null,2332.29,null,2332,null,0,null,0,null,0,null,0,null,null,null,0,null,null,null,0,null,null,null,0,null,null,null,0,null,"NO",{"$f":"IF(ISERROR(VLOOKUP($A20+8860000,'Growth Data'!$A:$F,3,0)),\"NO\",VLOOKUP($A20+8860000,'Growth Data'!$A:$F,3,0))","v":"NO"},0,null,0,{"$f":"IF(BM20=\"YES\",IF(ISERROR(VLOOKUP($A20+8860000,'Growth Data'!$A:$F,6,0)),0,VLOOKUP($A20+8860000,'Growth Data'!$A:$F,6,0)),0)","v":0},0,null,"NO",{"$f":"IF(ISERROR(VLOOKUP($A20+8860000,'Growth Data'!$A:$F,4,0)),\"NO\",VLOOKUP($A20+8860000,'Growth Data'!$A:$F,4,0))","v":"NO"},0,null,0,{"$f":"IF(BU20=\"YES\",IF(ISERROR(VLOOKUP($A20+8860000,'Growth Data'!$A:$Z,7,0)),0,VLOOKUP($A20+8860000,'Growth Data'!$A:$Z,7,0)),0)","v":0},0,null,"NO",{"$f":"IF(ISERROR(VLOOKUP($A20+8860000,'Growth Data'!$A:$F,5,0)),\"NO\",VLOOKUP($A20+8860000,'Growth Data'!$A:$F,5,0))","v":"NO"},0,null,0,{"$f":"IF(CC20=\"YES\",IF(ISERROR(VLOOKUP($A20+8860000,'Growth Data'!$A:$Z,8,0)),0,VLOOKUP($A20+8860000,'Growth Data'!$A:$Z,8,0)),0)","v":0},0,null,null,null,0]
[2130,"Dunton Green Primary School",null,"Dunton Green Primary School","Dunton Green Primary School",0,null,671024.43999999994,671024.43770723161,0,null,0,0,0,null,671024.43999999994,671024.43770723161,0,null,4311.2,4311.2045680027195,0,null,null,null,0,null,0,0,0,null,43988.5,null,43989,null,1601.15,null,1601,null,0,null,0,null,0,null,0,null,null,null,0,null,null,null,0,null,null,null,0,null,null,null,0,null,"NO",{"$f":"IF(ISERROR(VLOOKUP($A21+8860000,'Growth Data'!$A:$F,3,0)),\"NO\",VLOOKUP($A21+8860000,'Growth Data'!$A:$F,3,0))","v":"NO"},0,null,0,{"$f":"IF(BM21=\"YES\",IF(ISERROR(VLOOKUP($A21+8860000,'Growth Data'!$A:$F,6,0)),0,VLOOKUP($A21+8860000,'Growth Data'!$A:$F,6,0)),0)","v":0},0,null,"NO",{"$f":"IF(ISERROR(VLOOKUP($A21+8860000,'Growth Data'!$A:$F,4,0)),\"NO\",VLOOKUP($A21+8860000,'Growth Data'!$A:$F,4,0))","v":"NO"},0,null,0,{"$f":"IF(BU21=\"YES\",IF(ISERROR(VLOOKUP($A21+8860000,'Growth Data'!$A:$Z,7,0)),0,VLOOKUP($A21+8860000,'Growth Data'!$A:$Z,7,0)),0)","v":0},0,null,"NO",{"$f":"IF(ISERROR(VLOOKUP($A21+8860000,'Growth Data'!$A:$F,5,0)),\"NO\",VLOOKUP($A21+8860000,'Growth Data'!$A:$F,5,0))","v":"NO"},0,null,0,{"$f":"IF(CC21=\"YES\",IF(ISERROR(VLOOKUP($A21+8860000,'Growth Data'!$A:$Z,8,0)),0,VLOOKUP($A21+8860000,'Growth Data'!$A:$Z,8,0)),0)","v":0},0,null,null,null,0]
[2132,"Hadlow School",null,"Hadlow School","Hadlow School",0,null,795026.34,795026.34068316116,0,null,0,0,0,null,795026.34,795026.34068316116,0,null,5263.93,5263.9296069999991,0,null,null,null,0,null,0,0,0,null,70527.990000000005,null,70528,null,0,null,0,null,0,null,0,null,0,null,0,null,null,null,0,null,null,null,0,null,null,null,0,null,null,null,0,null,"NO",{"$f":"IF(ISERROR(VLOOKUP($A22+8860000,'Growth Data'!$A:$F,3,0)),\"NO\",VLOOKUP($A22+8860000,'Growth Data'!$A:$F,3,0))","v":"NO"},0,null,0,{"$f":"IF(BM22=\"YES\",IF(ISERROR(VLOOKUP($A22+8860000,'Growth Data'!$A:$F,6,0)),0,VLOOKUP($A22+8860000,'Growth Data'!$A:$F,6,0)),0)","v":0},0,null,"NO",{"$f":"IF(ISERROR(VLOOKUP($A22+8860000,'Growth Data'!$A:$F,4,0)),\"NO\",VLOOKUP($A22+8860000,'Growth Data'!$A:$F,4,0))","v":"NO"},0,null,0,{"$f":"IF(BU22=\"YES\",IF(ISERROR(VLOOKUP($A22+8860000,'Growth Data'!$A:$Z,7,0)),0,VLOOKUP($A22+8860000,'Growth Data'!$A:$Z,7,0)),0)","v":0},0,null,"NO",{"$f":"IF(ISERROR(VLOOKUP($A22+8860000,'Growth Data'!$A:$F,5,0)),\"NO\",VLOOKUP($A22+8860000,'Growth Data'!$A:$F,5,0))","v":"NO"},0,null,0,{"$f":"IF(CC22=\"YES\",IF(ISERROR(VLOOKUP($A22+8860000,'Growth Data'!$A:$Z,8,0)),0,VLOOKUP($A22+8860000,'Growth Data'!$A:$Z,8,0)),0)","v":0},0,null,null,null,0]
[2133,"Halstead Community Primary School",null,"Halstead Community Primary School","Halstead Community Primary School",0,null,438759.66,438759.65651731932,0,null,0,0,0,null,438759.66,438759.65651731932,0,null,2421.73,2421.7260227669599,0,null,null,null,0,null,0,0,0,null,34033.97,null,34034,null,2596.6,null,2597,null,0,null,0,null,0,null,0,null,null,null,0,null,null,null,0,null,null,null,0,null,null,null,0,null,"NO",{"$f":"IF(ISERROR(VLOOKUP($A23+8860000,'Growth Data'!$A:$F,3,0)),\"NO\",VLOOKUP($A23+8860000,'Growth Data'!$A:$F,3,0))","v":"NO"},0,null,0,{"$f":"IF(BM23=\"YES\",IF(ISERROR(VLOOKUP($A23+8860000,'Growth Data'!$A:$F,6,0)),0,VLOOKUP($A23+8860000,'Growth Data'!$A:$F,6,0)),0)","v":0},0,null,"NO",{"$f":"IF(ISERROR(VLOOKUP($A23+8860000,'Growth Data'!$A:$F,4,0)),\"NO\",VLOOKUP($A23+8860000,'Growth Data'!$A:$F,4,0))","v":"NO"},0,null,0,{"$f":"IF(BU23=\"YES\",IF(ISERROR(VLOOKUP($A23+8860000,'Growth Data'!$A:$Z,7,0)),0,VLOOKUP($A23+8860000,'Growth Data'!$A:$Z,7,0)),0)","v":0},0,null,"NO",{"$f":"IF(ISERROR(VLOOKUP($A23+8860000,'Growth Data'!$A:$F,5,0)),\"NO\",VLOOKUP($A23+8860000,'Growth Data'!$A:$F,5,0))","v":"NO"},0,null,0,{"$f":"IF(CC23=\"YES\",IF(ISERROR(VLOOKUP($A23+8860000,'Growth Data'!$A:$Z,8,0)),0,VLOOKUP($A23+8860000,'Growth Data'!$A:$Z,8,0)),0)","v":0},0,null,null,null,0]
[2134,"Four Elms Primary School",null,"Four Elms Primary School","Four Elms Primary School",0,null,491590.87,491590.87096195959,0,null,0,0,0,null,491590.87,491590.87096195959,0,null,2927.36,2927.3611264216001,0,null,null,null,0,null,0,0,0,null,37571.410000000003,null,37571,null,2242.86,null,2243,null,0,null,0,null,0,null,0,null,null,null,0,null,null,null,0,null,null,null,0,null,null,null,0,null,"NO",{"$f":"IF(ISERROR(VLOOKUP($A24+8860000,'Growth Data'!$A:$F,3,0)),\"NO\",VLOOKUP($A24+8860000,'Growth Data'!$A:$F,3,0))","v":"NO"},0,null,0,{"$f":"IF(BM24=\"YES\",IF(ISERROR(VLOOKUP($A24+8860000,'Growth Data'!$A:$F,6,0)),0,VLOOKUP($A24+8860000,'Growth Data'!$A:$F,6,0)),0)","v":0},0,null,"NO",{"$f":"IF(ISERROR(VLOOKUP($A24+8860000,'Growth Data'!$A:$F,4,0)),\"NO\",VLOOKUP($A24+8860000,'Growth Data'!$A:$F,4,0))","v":"NO"},0,null,0,{"$f":"IF(BU24=\"YES\",IF(ISERROR(VLOOKUP($A24+8860000,'Growth Data'!$A:$Z,7,0)),0,VLOOKUP($A24+8860000,'Growth Data'!$A:$Z,7,0)),0)","v":0},0,null,"NO",{"$f":"IF(ISERROR(VLOOKUP($A24+8860000,'Growth Data'!$A:$F,5,0)),\"NO\",VLOOKUP($A24+8860000,'Growth Data'!$A:$F,5,0))","v":"NO"},0,null,0,{"$f":"IF(CC24=\"YES\",IF(ISERROR(VLOOKUP($A24+8860000,'Growth Data'!$A:$Z,8,0)),0,VLOOKUP($A24+8860000,'Growth Data'!$A:$Z,8,0)),0)","v":0},0,null,null,null,0]
[2135,"Horsmonden Primary School",null,"Horsmonden Primary School","Horsmonden Primary School",0,null,710849.06,710849.05967784498,0,null,0,0,0,null,710849.06,710849.05967784498,0,null,4930.12,4930.1194368000006,0,null,null,null,0,null,0,0,0,null,37609.480000000003,null,37609,null,2239.0500000000002,null,2239,null,0,null,0,null,0,null,0,null,null,null,0,null,null,null,0,null,null,null,0,null,null,null,0,null,"NO",{"$f":"IF(ISERROR(VLOOKUP($A25+8860000,'Growth Data'!$A:$F,3,0)),\"NO\",VLOOKUP($A25+8860000,'Growth Data'!$A:$F,3,0))","v":"NO"},0,null,0,{"$f":"IF(BM25=\"YES\",IF(ISERROR(VLOOKUP($A25+8860000,'Growth Data'!$A:$F,6,0)),0,VLOOKUP($A25+8860000,'Growth Data'!$A:$F,6,0)),0)","v":0},0,null,"NO",{"$f":"IF(ISERROR(VLOOKUP($A25+8860000,'Growth Data'!$A:$F,4,0)),\"NO\",VLOOKUP($A25+8860000,'Growth Data'!$A:$F,4,0))","v":"NO"},0,null,0,{"$f":"IF(BU25=\"YES\",IF(ISERROR(VLOOKUP($A25+8860000,'Growth Data'!$A:$Z,7,0)),0,VLOOKUP($A25+8860000,'Growth Data'!$A:$Z,7,0)),0)","v":0},0,null,"NO",{"$f":"IF(ISERROR(VLOOKUP($A25+8860000,'Growth Data'!$A:$F,5,0)),\"NO\",VLOOKUP($A25+8860000,'Growth Data'!$A:$F,5,0))","v":"NO"},0,null,0,{"$f":"IF(CC25=\"YES\",IF(ISERROR(VLOOKUP($A25+8860000,'Growth Data'!$A:$Z,8,0)),0,VLOOKUP($A25+8860000,'Growth Data'!$A:$Z,8,0)),0)","v":0},0,null,null,null,0]
[2136,"Kemsing Primary School",null,"Kemsing Primary School","Kemsing Primary School",0,null,773836.74,773836.74166534317,0,null,0,0,0,null,773836.74,773836.74166534317,0,null,5322.47,5322.4747753119991,0,null,null,null,0,null,0,0,0,null,52372.2,null,52372,null,762.78,null,763,null,0,null,0,null,0,null,0,null,null,null,0,null,null,null,0,null,null,null,0,null,null,null,0,null,"NO",{"$f":"IF(ISERROR(VLOOKUP($A26+8860000,'Growth Data'!$A:$F,3,0)),\"NO\",VLOOKUP($A26+8860000,'Growth Data'!$A:$F,3,0))","v":"NO"},0,null,0,{"$f":"IF(BM26=\"YES\",IF(ISERROR(VLOOKUP($A26+8860000,'Growth Data'!$A:$F,6,0)),0,VLOOKUP($A26+8860000,'Growth Data'!$A:$F,6,0)),0)","v":0},0,null,"NO",{"$f":"IF(ISERROR(VLOOKUP($A26+8860000,'Growth Data'!$A:$F,4,0)),\"NO\",VLOOKUP($A26+8860000,'Growth Data'!$A:$F,4,0))","v":"NO"},0,null,0,{"$f":"IF(BU26=\"YES\",IF(ISERROR(VLOOKUP($A26+8860000,'Growth Data'!$A:$Z,7,0)),0,VLOOKUP($A26+8860000,'Growth Data'!$A:$Z,7,0)),0)","v":0},0,null,"NO",{"$f":"IF(ISERROR(VLOOKUP($A26+8860000,'Growth Data'!$A:$F,5,0)),\"NO\",VLOOKUP($A26+8860000,'Growth Data'!$A:$F,5,0))","v":"NO"},0,null,0,{"$f":"IF(CC26=\"YES\",IF(ISERROR(VLOOKUP($A26+8860000,'Growth Data'!$A:$Z,8,0)),0,VLOOKUP($A26+8860000,'Growth Data'!$A:$Z,8,0)),0)","v":0},0,null,null,null,0]
[2137,"Leigh Primary School",null,"Leigh Primary School","Leigh Primary School",0,null,629449.92000000004,629449.9228418516,0,null,0,0,0,null,629449.92000000004,629449.9228418516,0,null,4284.59,4284.5921941261595,0,null,null,null,0,null,0,0,0,null,34459.760000000002,null,34460,null,2554.02,null,2554,null,0,null,0,null,0,null,0,null,null,null,0,null,null,null,0,null,null,null,0,null,null,null,0,null,"NO",{"$f":"IF(ISERROR(VLOOKUP($A27+8860000,'Growth Data'!$A:$F,3,0)),\"NO\",VLOOKUP($A27+8860000,'Growth Data'!$A:$F,3,0))","v":"NO"},0,null,0,{"$f":"IF(BM27=\"YES\",IF(ISERROR(VLOOKUP($A27+8860000,'Growth Data'!$A:$F,6,0)),0,VLOOKUP($A27+8860000,'Growth Data'!$A:$F,6,0)),0)","v":0},0,null,"NO",{"$f":"IF(ISERROR(VLOOKUP($A27+8860000,'Growth Data'!$A:$F,4,0)),\"NO\",VLOOKUP($A27+8860000,'Growth Data'!$A:$F,4,0))","v":"NO"},0,null,0,{"$f":"IF(BU27=\"YES\",IF(ISERROR(VLOOKUP($A27+8860000,'Growth Data'!$A:$Z,7,0)),0,VLOOKUP($A27+8860000,'Growth Data'!$A:$Z,7,0)),0)","v":0},0,null,"NO",{"$f":"IF(ISERROR(VLOOKUP($A27+8860000,'Growth Data'!$A:$F,5,0)),\"NO\",VLOOKUP($A27+8860000,'Growth Data'!$A:$F,5,0))","v":"NO"},0,null,0,{"$f":"IF(CC27=\"YES\",IF(ISERROR(VLOOKUP($A27+8860000,'Growth Data'!$A:$Z,8,0)),0,VLOOKUP($A27+8860000,'Growth Data'!$A:$Z,8,0)),0)","v":0},0,null,null,null,0]
[2138,"Otford Primary School",null,"Otford Primary School","Otford Primary School",0,null,1371348,1371348.0000000002,0,null,0,0,0,null,1371348,1371348.0000000002,0,null,10511.89,10511.887681241198,0,null,null,null,0,null,0,0,0,null,67986.12,null,67986,null,0,null,0,null,0,null,0,null,0,null,0,null,null,null,0,null,null,null,0,null,null,null,0,null,null,null,0,null,"YES",{"$f":"IF(ISERROR(VLOOKUP($A28+8860000,'Growth Data'!$A:$F,3,0)),\"NO\",VLOOKUP($A28+8860000,'Growth Data'!$A:$F,3,0))","v":"NO"},1,null,50,{"$f":"IF(BM28=\"YES\",IF(ISERROR(VLOOKUP($A28+8860000,'Growth Data'!$A:$F,6,0)),0,VLOOKUP($A28+8860000,'Growth Data'!$A:$F,6,0)),0)","v":0},50,null,"YES",{"$f":"IF(ISERROR(VLOOKUP($A28+8860000,'Growth Data'!$A:$F,4,0)),\"NO\",VLOOKUP($A28+8860000,'Growth Data'!$A:$F,4,0))","v":"NO"},1,null,56,{"$f":"IF(BU28=\"YES\",IF(ISERROR(VLOOKUP($A28+8860000,'Growth Data'!$A:$Z,7,0)),0,VLOOKUP($A28+8860000,'Growth Data'!$A:$Z,7,0)),0)","v":0},56,null,"NO",{"$f":"IF(ISERROR(VLOOKUP($A28+8860000,'Growth Data'!$A:$F,5,0)),\"NO\",VLOOKUP($A28+8860000,'Growth Data'!$A:$F,5,0))","v":"NO"},0,null,0,{"$f":"IF(CC28=\"YES\",IF(ISERROR(VLOOKUP($A28+8860000,'Growth Data'!$A:$Z,8,0)),0,VLOOKUP($A28+8860000,'Growth Data'!$A:$Z,8,0)),0)","v":0},0,null,null,null,0]
[2139,"Pembury School",null,"Pembury School","Pembury School",0,null,1655919,1655919,0,null,0,0,0,null,1655919,1655919,0,null,12196.91,12196.910064999996,0,null,null,null,0,null,0,0,0,null,75145.899999999994,null,75146,null,0,null,0,null,0,null,0,null,0,null,0,null,null,null,0,null,null,null,0,null,null,null,0,null,null,null,0,null,"NO",{"$f":"IF(ISERROR(VLOOKUP($A29+8860000,'Growth Data'!$A:$F,3,0)),\"NO\",VLOOKUP($A29+8860000,'Growth Data'!$A:$F,3,0))","v":"NO"},0,null,0,{"$f":"IF(BM29=\"YES\",IF(ISERROR(VLOOKUP($A29+8860000,'Growth Data'!$A:$F,6,0)),0,VLOOKUP($A29+8860000,'Growth Data'!$A:$F,6,0)),0)","v":0},0,null,"NO",{"$f":"IF(ISERROR(VLOOKUP($A29+8860000,'Growth Data'!$A:$F,4,0)),\"NO\",VLOOKUP($A29+8860000,'Growth Data'!$A:$F,4,0))","v":"NO"},0,null,0,{"$f":"IF(BU29=\"YES\",IF(ISERROR(VLOOKUP($A29+8860000,'Growth Data'!$A:$Z,7,0)),0,VLOOKUP($A29+8860000,'Growth Data'!$A:$Z,7,0)),0)","v":0},0,null,"NO",{"$f":"IF(ISERROR(VLOOKUP($A29+8860000,'Growth Data'!$A:$F,5,0)),\"NO\",VLOOKUP($A29+8860000,'Growth Data'!$A:$F,5,0))","v":"NO"},0,null,0,{"$f":"IF(CC29=\"YES\",IF(ISERROR(VLOOKUP($A29+8860000,'Growth Data'!$A:$Z,8,0)),0,VLOOKUP($A29+8860000,'Growth Data'!$A:$Z,8,0)),0)","v":0},0,null,null,null,0]
[2142,"Sandhurst Primary School",null,"Sandhurst Primary School","Sandhurst Primary School",0,null,563942.84,563942.8364064201,0,null,0,0,0,null,563942.84,563942.8364064201,0,null,3543.52,3543.5233452000002,0,null,null,null,0,null,0,0,0,null,36840.21,null,36840,null,2315.98,null,2316,null,0,null,0,null,0,null,0,null,null,null,0,null,null,null,0,null,null,null,0,null,null,null,0,null,"NO",{"$f":"IF(ISERROR(VLOOKUP($A30+8860000,'Growth Data'!$A:$F,3,0)),\"NO\",VLOOKUP($A30+8860000,'Growth Data'!$A:$F,3,0))","v":"NO"},0,null,0,{"$f":"IF(BM30=\"YES\",IF(ISERROR(VLOOKUP($A30+8860000,'Growth Data'!$A:$F,6,0)),0,VLOOKUP($A30+8860000,'Growth Data'!$A:$F,6,0)),0)","v":0},0,null,"NO",{"$f":"IF(ISERROR(VLOOKUP($A30+8860000,'Growth Data'!$A:$F,4,0)),\"NO\",VLOOKUP($A30+8860000,'Growth Data'!$A:$F,4,0))","v":"NO"},0,null,0,{"$f":"IF(BU30=\"YES\",IF(ISERROR(VLOOKUP($A30+8860000,'Growth Data'!$A:$Z,7,0)),0,VLOOKUP($A30+8860000,'Growth Data'!$A:$Z,7,0)),0)","v":0},0,null,"NO",{"$f":"IF(ISERROR(VLOOKUP($A30+8860000,'Growth Data'!$A:$F,5,0)),\"NO\",VLOOKUP($A30+8860000,'Growth Data'!$A:$F,5,0))","v":"NO"},0,null,0,{"$f":"IF(CC30=\"YES\",IF(ISERROR(VLOOKUP($A30+8860000,'Growth Data'!$A:$Z,8,0)),0,VLOOKUP($A30+8860000,'Growth Data'!$A:$Z,8,0)),0)","v":0},0,null,null,null,0]
[2147,"Weald Community Primary School",null,"Weald Community Primary School","Weald Community Primary School",0,null,623731.86,623731.86471756757,0,null,0,0,0,null,623731.86,623731.86471756757,0,null,4204.76,4204.7550724964804,0,null,null,null,0,null,0,0,0,null,32227.1,null,32227,null,2777.29,null,2777,null,0,null,0,null,0,null,0,null,null,null,0,null,null,null,0,null,null,null,0,null,null,null,0,null,"NO",{"$f":"IF(ISERROR(VLOOKUP($A31+8860000,'Growth Data'!$A:$F,3,0)),\"NO\",VLOOKUP($A31+8860000,'Growth Data'!$A:$F,3,0))","v":"NO"},0,null,0,{"$f":"IF(BM31=\"YES\",IF(ISERROR(VLOOKUP($A31+8860000,'Growth Data'!$A:$F,6,0)),0,VLOOKUP($A31+8860000,'Growth Data'!$A:$F,6,0)),0)","v":0},0,null,"NO",{"$f":"IF(ISERROR(VLOOKUP($A31+8860000,'Growth Data'!$A:$F,4,0)),\"NO\",VLOOKUP($A31+8860000,'Growth Data'!$A:$F,4,0))","v":"NO"},0,null,0,{"$f":"IF(BU31=\"YES\",IF(ISERROR(VLOOKUP($A31+8860000,'Growth Data'!$A:$Z,7,0)),0,VLOOKUP($A31+8860000,'Growth Data'!$A:$Z,7,0)),0)","v":0},0,null,"NO",{"$f":"IF(ISERROR(VLOOKUP($A31+8860000,'Growth Data'!$A:$F,5,0)),\"NO\",VLOOKUP($A31+8860000,'Growth Data'!$A:$F,5,0))","v":"NO"},0,null,0,{"$f":"IF(CC31=\"YES\",IF(ISERROR(VLOOKUP($A31+8860000,'Growth Data'!$A:$Z,8,0)),0,VLOOKUP($A31+8860000,'Growth Data'!$A:$Z,8,0)),0)","v":0},0,null,null,null,0]
[2148,"Shoreham Village School",null,"Shoreham Village School","Shoreham Village School",0,null,428515.04,428515.04135797231,0,null,0,0,0,null,428515.04,428515.04135797231,0,null,2368.5,2368.5012750138399,0,null,null,null,0,null,0,0,0,null,31241.66,null,31242,null,2875.83,null,2876,null,0,null,0,null,0,null,0,null,null,null,0,null,null,null,0,null,null,null,0,null,null,null,0,null,"NO",{"$f":"IF(ISERROR(VLOOKUP($A32+8860000,'Growth Data'!$A:$F,3,0)),\"NO\",VLOOKUP($A32+8860000,'Growth Data'!$A:$F,3,0))","v":"NO"},0,null,0,{"$f":"IF(BM32=\"YES\",IF(ISERROR(VLOOKUP($A32+8860000,'Growth Data'!$A:$F,6,0)),0,VLOOKUP($A32+8860000,'Growth Data'!$A:$F,6,0)),0)","v":0},0,null,"NO",{"$f":"IF(ISERROR(VLOOKUP($A32+8860000,'Growth Data'!$A:$F,4,0)),\"NO\",VLOOKUP($A32+8860000,'Growth Data'!$A:$F,4,0))","v":"NO"},0,null,0,{"$f":"IF(BU32=\"YES\",IF(ISERROR(VLOOKUP($A32+8860000,'Growth Data'!$A:$Z,7,0)),0,VLOOKUP($A32+8860000,'Growth Data'!$A:$Z,7,0)),0)","v":0},0,null,"NO",{"$f":"IF(ISERROR(VLOOKUP($A32+8860000,'Growth Data'!$A:$F,5,0)),\"NO\",VLOOKUP($A32+8860000,'Growth Data'!$A:$F,5,0))","v":"NO"},0,null,0,{"$f":"IF(CC32=\"YES\",IF(ISERROR(VLOOKUP($A32+8860000,'Growth Data'!$A:$Z,8,0)),0,VLOOKUP($A32+8860000,'Growth Data'!$A:$Z,8,0)),0)","v":0},0,null,null,null,0]
[2155,"Slade Primary School",null,"Slade Primary School","Slade Primary School",0,null,1313054,1313054,0,null,0,0,0,null,1313054,1313054,0,null,9731.85,9731.8503466000002,0,null,null,null,0,null,0,0,0,null,86935.57,null,86936,null,0,null,0,null,0,null,0,null,0,null,0,null,null,null,0,null,null,null,0,null,null,null,0,null,null,null,0,null,"YES",{"$f":"IF(ISERROR(VLOOKUP($A33+8860000,'Growth Data'!$A:$F,3,0)),\"NO\",VLOOKUP($A33+8860000,'Growth Data'!$A:$F,3,0))","v":"YES"},0,null,45,{"$f":"IF(BM33=\"YES\",IF(ISERROR(VLOOKUP($A33+8860000,'Growth Data'!$A:$F,6,0)),0,VLOOKUP($A33+8860000,'Growth Data'!$A:$F,6,0)),0)","v":46},-1,null,"YES",{"$f":"IF(ISERROR(VLOOKUP($A33+8860000,'Growth Data'!$A:$F,4,0)),\"NO\",VLOOKUP($A33+8860000,'Growth Data'!$A:$F,4,0))","v":"YES"},0,null,47,{"$f":"IF(BU33=\"YES\",IF(ISERROR(VLOOKUP($A33+8860000,'Growth Data'!$A:$Z,7,0)),0,VLOOKUP($A33+8860000,'Growth Data'!$A:$Z,7,0)),0)","v":60},-13,null,"YES",{"$f":"IF(ISERROR(VLOOKUP($A33+8860000,'Growth Data'!$A:$F,5,0)),\"NO\",VLOOKUP($A33+8860000,'Growth Data'!$A:$F,5,0))","v":"YES"},0,null,45,{"$f":"IF(CC33=\"YES\",IF(ISERROR(VLOOKUP($A33+8860000,'Growth Data'!$A:$Z,8,0)),0,VLOOKUP($A33+8860000,'Growth Data'!$A:$Z,8,0)),0)","v":46},-1,null,null,null,0]
[2156,"Sussex Road Community Primary School",null,"Sussex Road Community Primary School","Sussex Road Community Primary School",0,null,1545691,1545691,0,null,0,0,0,null,1545691,1545691,0,null,11349.55,11349.545786799998,0,null,null,null,0,null,0,0,0,null,68816.350000000006,null,68816,null,0,null,0,null,20000,null,20000,null,30000,null,30000,null,null,null,0,null,null,null,0,null,null,null,0,null,null,null,0,null,"NO",{"$f":"IF(ISERROR(VLOOKUP($A34+8860000,'Growth Data'!$A:$F,3,0)),\"NO\",VLOOKUP($A34+8860000,'Growth Data'!$A:$F,3,0))","v":"NO"},0,null,0,{"$f":"IF(BM34=\"YES\",IF(ISERROR(VLOOKUP($A34+8860000,'Growth Data'!$A:$F,6,0)),0,VLOOKUP($A34+8860000,'Growth Data'!$A:$F,6,0)),0)","v":0},0,null,"NO",{"$f":"IF(ISERROR(VLOOKUP($A34+8860000,'Growth Data'!$A:$F,4,0)),\"NO\",VLOOKUP($A34+8860000,'Growth Data'!$A:$F,4,0))","v":"NO"},0,null,0,{"$f":"IF(BU34=\"YES\",IF(ISERROR(VLOOKUP($A34+8860000,'Growth Data'!$A:$Z,7,0)),0,VLOOKUP($A34+8860000,'Growth Data'!$A:$Z,7,0)),0)","v":0},0,null,"NO",{"$f":"IF(ISERROR(VLOOKUP($A34+8860000,'Growth Data'!$A:$F,5,0)),\"NO\",VLOOKUP($A34+8860000,'Growth Data'!$A:$F,5,0))","v":"NO"},0,null,0,{"$f":"IF(CC34=\"YES\",IF(ISERROR(VLOOKUP($A34+8860000,'Growth Data'!$A:$Z,8,0)),0,VLOOKUP($A34+8860000,'Growth Data'!$A:$Z,8,0)),0)","v":0},0,null,null,null,0]
[2161,"Boughton Monchelsea Primary School",null,"Boughton Monchelsea Primary School","Boughton Monchelsea Primary School",0,null,787442.28,787442.27850527957,0,null,0,0,0,null,787442.28,787442.27850527957,0,null,5418,5417.9958393999996,0,null,null,null,0,null,0,0,0,null,56812.83,null,56813,null,318.72000000000003,null,319,null,0,null,0,null,0,null,0,null,null,null,0,null,null,null,0,null,null,null,0,null,null,null,0,null,"NO",{"$f":"IF(ISERROR(VLOOKUP($A35+8860000,'Growth Data'!$A:$F,3,0)),\"NO\",VLOOKUP($A35+8860000,'Growth Data'!$A:$F,3,0))","v":"NO"},0,null,0,{"$f":"IF(BM35=\"YES\",IF(ISERROR(VLOOKUP($A35+8860000,'Growth Data'!$A:$F,6,0)),0,VLOOKUP($A35+8860000,'Growth Data'!$A:$F,6,0)),0)","v":0},0,null,"NO",{"$f":"IF(ISERROR(VLOOKUP($A35+8860000,'Growth Data'!$A:$F,4,0)),\"NO\",VLOOKUP($A35+8860000,'Growth Data'!$A:$F,4,0))","v":"NO"},0,null,0,{"$f":"IF(BU35=\"YES\",IF(ISERROR(VLOOKUP($A35+8860000,'Growth Data'!$A:$Z,7,0)),0,VLOOKUP($A35+8860000,'Growth Data'!$A:$Z,7,0)),0)","v":0},0,null,"NO",{"$f":"IF(ISERROR(VLOOKUP($A35+8860000,'Growth Data'!$A:$F,5,0)),\"NO\",VLOOKUP($A35+8860000,'Growth Data'!$A:$F,5,0))","v":"NO"},0,null,0,{"$f":"IF(CC35=\"YES\",IF(ISERROR(VLOOKUP($A35+8860000,'Growth Data'!$A:$Z,8,0)),0,VLOOKUP($A35+8860000,'Growth Data'!$A:$Z,8,0)),0)","v":0},0,null,null,null,0]
[2163,"East Farleigh Primary School",null,"East Farleigh Primary School","East Farleigh Primary School",0,null,742107.89,742107.89137599966,0,null,0,0,0,null,742107.89,742107.89137599966,0,null,5212.57,5212.5741962000011,0,null,null,null,0,null,0,0,0,null,42933.120000000003,null,42933,null,1706.69,null,1707,null,0,null,0,null,0,null,0,null,null,null,0,null,null,null,0,null,null,null,0,null,null,null,0,null,"NO",{"$f":"IF(ISERROR(VLOOKUP($A36+8860000,'Growth Data'!$A:$F,3,0)),\"NO\",VLOOKUP($A36+8860000,'Growth Data'!$A:$F,3,0))","v":"NO"},0,null,0,{"$f":"IF(BM36=\"YES\",IF(ISERROR(VLOOKUP($A36+8860000,'Growth Data'!$A:$F,6,0)),0,VLOOKUP($A36+8860000,'Growth Data'!$A:$F,6,0)),0)","v":0},0,null,"NO",{"$f":"IF(ISERROR(VLOOKUP($A36+8860000,'Growth Data'!$A:$F,4,0)),\"NO\",VLOOKUP($A36+8860000,'Growth Data'!$A:$F,4,0))","v":"NO"},0,null,0,{"$f":"IF(BU36=\"YES\",IF(ISERROR(VLOOKUP($A36+8860000,'Growth Data'!$A:$Z,7,0)),0,VLOOKUP($A36+8860000,'Growth Data'!$A:$Z,7,0)),0)","v":0},0,null,"NO",{"$f":"IF(ISERROR(VLOOKUP($A36+8860000,'Growth Data'!$A:$F,5,0)),\"NO\",VLOOKUP($A36+8860000,'Growth Data'!$A:$F,5,0))","v":"NO"},0,null,0,{"$f":"IF(CC36=\"YES\",IF(ISERROR(VLOOKUP($A36+8860000,'Growth Data'!$A:$Z,8,0)),0,VLOOKUP($A36+8860000,'Growth Data'!$A:$Z,8,0)),0)","v":0},0,null,null,null,0]
[2164,"East Peckham Primary School",null,"East Peckham Primary School","East Peckham Primary School",0,null,632355.36,632355.35778366774,0,null,0,0,0,null,632355.36,632355.35778366774,0,null,4236.82,4236.8213909999995,0,null,null,null,0,null,0,0,0,null,38191.56,null,38192,null,2180.84,null,2181,null,0,null,0,null,0,null,0,null,null,null,0,null,null,null,0,null,null,null,0,null,null,null,0,null,"NO",{"$f":"IF(ISERROR(VLOOKUP($A37+8860000,'Growth Data'!$A:$F,3,0)),\"NO\",VLOOKUP($A37+8860000,'Growth Data'!$A:$F,3,0))","v":"NO"},0,null,0,{"$f":"IF(BM37=\"YES\",IF(ISERROR(VLOOKUP($A37+8860000,'Growth Data'!$A:$F,6,0)),0,VLOOKUP($A37+8860000,'Growth Data'!$A:$F,6,0)),0)","v":0},0,null,"NO",{"$f":"IF(ISERROR(VLOOKUP($A37+8860000,'Growth Data'!$A:$F,4,0)),\"NO\",VLOOKUP($A37+8860000,'Growth Data'!$A:$F,4,0))","v":"NO"},0,null,0,{"$f":"IF(BU37=\"YES\",IF(ISERROR(VLOOKUP($A37+8860000,'Growth Data'!$A:$Z,7,0)),0,VLOOKUP($A37+8860000,'Growth Data'!$A:$Z,7,0)),0)","v":0},0,null,"NO",{"$f":"IF(ISERROR(VLOOKUP($A37+8860000,'Growth Data'!$A:$F,5,0)),\"NO\",VLOOKUP($A37+8860000,'Growth Data'!$A:$F,5,0))","v":"NO"},0,null,0,{"$f":"IF(CC37=\"YES\",IF(ISERROR(VLOOKUP($A37+8860000,'Growth Data'!$A:$Z,8,0)),0,VLOOKUP($A37+8860000,'Growth Data'!$A:$Z,8,0)),0)","v":0},0,null,null,null,0]
[2165,"Headcorn Primary School",null,"Headcorn Primary School","Headcorn Primary School",0,null,786742.94,786742.94307622116,0,null,0,0,0,null,786742.94,786742.94307622116,0,null,5777.48,5777.4837149999994,0,null,null,null,0,null,0,0,0,null,24260.31,null,24260,null,3573.97,null,3574,null,0,null,0,null,0,null,0,null,null,null,0,null,null,null,0,null,null,null,0,null,null,null,0,null,"NO",{"$f":"IF(ISERROR(VLOOKUP($A38+8860000,'Growth Data'!$A:$F,3,0)),\"NO\",VLOOKUP($A38+8860000,'Growth Data'!$A:$F,3,0))","v":"NO"},0,null,0,{"$f":"IF(BM38=\"YES\",IF(ISERROR(VLOOKUP($A38+8860000,'Growth Data'!$A:$F,6,0)),0,VLOOKUP($A38+8860000,'Growth Data'!$A:$F,6,0)),0)","v":0},0,null,"NO",{"$f":"IF(ISERROR(VLOOKUP($A38+8860000,'Growth Data'!$A:$F,4,0)),\"NO\",VLOOKUP($A38+8860000,'Growth Data'!$A:$F,4,0))","v":"NO"},0,null,0,{"$f":"IF(BU38=\"YES\",IF(ISERROR(VLOOKUP($A38+8860000,'Growth Data'!$A:$Z,7,0)),0,VLOOKUP($A38+8860000,'Growth Data'!$A:$Z,7,0)),0)","v":0},0,null,"NO",{"$f":"IF(ISERROR(VLOOKUP($A38+8860000,'Growth Data'!$A:$F,5,0)),\"NO\",VLOOKUP($A38+8860000,'Growth Data'!$A:$F,5,0))","v":"YES"},1,null,0,{"$f":"IF(CC38=\"YES\",IF(ISERROR(VLOOKUP($A38+8860000,'Growth Data'!$A:$Z,8,0)),0,VLOOKUP($A38+8860000,'Growth Data'!$A:$Z,8,0)),0)","v":0},0,null,null,null,0]
[2166,"Hollingbourne Primary School",null,"Hollingbourne Primary School","Hollingbourne Primary School",0,null,429685.36,429685.36260473059,0,null,0,0,0,null,429685.36,429685.36260473059,0,null,2567.77,2567.7705399999995,0,null,null,null,0,null,0,0,0,null,22011.09,null,22011,null,3798.89,null,3799,null,0,null,0,null,0,null,0,null,null,null,0,null,null,null,0,null,null,null,0,null,null,null,0,null,"NO",{"$f":"IF(ISERROR(VLOOKUP($A39+8860000,'Growth Data'!$A:$F,3,0)),\"NO\",VLOOKUP($A39+8860000,'Growth Data'!$A:$F,3,0))","v":"NO"},0,null,0,{"$f":"IF(BM39=\"YES\",IF(ISERROR(VLOOKUP($A39+8860000,'Growth Data'!$A:$F,6,0)),0,VLOOKUP($A39+8860000,'Growth Data'!$A:$F,6,0)),0)","v":0},0,null,"NO",{"$f":"IF(ISERROR(VLOOKUP($A39+8860000,'Growth Data'!$A:$F,4,0)),\"NO\",VLOOKUP($A39+8860000,'Growth Data'!$A:$F,4,0))","v":"NO"},0,null,0,{"$f":"IF(BU39=\"YES\",IF(ISERROR(VLOOKUP($A39+8860000,'Growth Data'!$A:$Z,7,0)),0,VLOOKUP($A39+8860000,'Growth Data'!$A:$Z,7,0)),0)","v":0},0,null,"NO",{"$f":"IF(ISERROR(VLOOKUP($A39+8860000,'Growth Data'!$A:$F,5,0)),\"NO\",VLOOKUP($A39+8860000,'Growth Data'!$A:$F,5,0))","v":"NO"},0,null,0,{"$f":"IF(CC39=\"YES\",IF(ISERROR(VLOOKUP($A39+8860000,'Growth Data'!$A:$Z,8,0)),0,VLOOKUP($A39+8860000,'Growth Data'!$A:$Z,8,0)),0)","v":0},0,null,null,null,0]
[2167,"Ightham Primary School",null,"Ightham Primary School","Ightham Primary School",0,null,733520.33,733520.33016684814,0,null,0,0,0,null,733520.33,733520.33016684814,0,null,5263.93,5263.9296069999991,0,null,null,null,0,null,0,0,0,null,29227.94,null,29228,null,3077.21,null,3077,null,0,null,0,null,0,null,0,null,null,null,0,null,null,null,0,null,null,null,0,null,null,null,0,null,"NO",{"$f":"IF(ISERROR(VLOOKUP($A40+8860000,'Growth Data'!$A:$F,3,0)),\"NO\",VLOOKUP($A40+8860000,'Growth Data'!$A:$F,3,0))","v":"NO"},0,null,0,{"$f":"IF(BM40=\"YES\",IF(ISERROR(VLOOKUP($A40+8860000,'Growth Data'!$A:$F,6,0)),0,VLOOKUP($A40+8860000,'Growth Data'!$A:$F,6,0)),0)","v":0},0,null,"NO",{"$f":"IF(ISERROR(VLOOKUP($A40+8860000,'Growth Data'!$A:$F,4,0)),\"NO\",VLOOKUP($A40+8860000,'Growth Data'!$A:$F,4,0))","v":"NO"},0,null,0,{"$f":"IF(BU40=\"YES\",IF(ISERROR(VLOOKUP($A40+8860000,'Growth Data'!$A:$Z,7,0)),0,VLOOKUP($A40+8860000,'Growth Data'!$A:$Z,7,0)),0)","v":0},0,null,"NO",{"$f":"IF(ISERROR(VLOOKUP($A40+8860000,'Growth Data'!$A:$F,5,0)),\"NO\",VLOOKUP($A40+8860000,'Growth Data'!$A:$F,5,0))","v":"NO"},0,null,0,{"$f":"IF(CC40=\"YES\",IF(ISERROR(VLOOKUP($A40+8860000,'Growth Data'!$A:$Z,8,0)),0,VLOOKUP($A40+8860000,'Growth Data'!$A:$Z,8,0)),0)","v":0},0,null,null,null,0]
[2168,"Lenham Primary School",null,"Lenham Primary School","Lenham Primary School",0,null,757688.92,757688.92257838824,0,null,0,0,0,null,757688.92,757688.92257838824,0,null,5340.96,5340.9627231999993,0,null,null,null,0,null,0,0,0,null,39403.269999999997,null,39403,null,2059.67,null,2060,null,0,null,0,null,0,null,0,null,null,null,0,null,null,null,0,null,null,null,0,null,null,null,0,null,"NO",{"$f":"IF(ISERROR(VLOOKUP($A41+8860000,'Growth Data'!$A:$F,3,0)),\"NO\",VLOOKUP($A41+8860000,'Growth Data'!$A:$F,3,0))","v":"NO"},0,null,0,{"$f":"IF(BM41=\"YES\",IF(ISERROR(VLOOKUP($A41+8860000,'Growth Data'!$A:$F,6,0)),0,VLOOKUP($A41+8860000,'Growth Data'!$A:$F,6,0)),0)","v":0},0,null,"NO",{"$f":"IF(ISERROR(VLOOKUP($A41+8860000,'Growth Data'!$A:$F,4,0)),\"NO\",VLOOKUP($A41+8860000,'Growth Data'!$A:$F,4,0))","v":"NO"},0,null,0,{"$f":"IF(BU41=\"YES\",IF(ISERROR(VLOOKUP($A41+8860000,'Growth Data'!$A:$Z,7,0)),0,VLOOKUP($A41+8860000,'Growth Data'!$A:$Z,7,0)),0)","v":0},0,null,"NO",{"$f":"IF(ISERROR(VLOOKUP($A41+8860000,'Growth Data'!$A:$F,5,0)),\"NO\",VLOOKUP($A41+8860000,'Growth Data'!$A:$F,5,0))","v":"NO"},0,null,0,{"$f":"IF(CC41=\"YES\",IF(ISERROR(VLOOKUP($A41+8860000,'Growth Data'!$A:$Z,8,0)),0,VLOOKUP($A41+8860000,'Growth Data'!$A:$Z,8,0)),0)","v":0},0,null,null,null,0]
[2169,"Platts Heath Primary School",null,"Platts Heath Primary School","Platts Heath Primary School",0,null,364807.72,364807.71809952916,0,null,0,0,0,null,364807.72,364807.71809952916,0,null,1977.18,1977.1833157999999,0,null,null,null,0,null,0,0,0,null,29320.52,null,29321,null,3067.95,null,3068,null,0,null,0,null,0,null,0,null,null,null,0,null,null,null,0,null,null,null,0,null,null,null,0,null,"NO",{"$f":"IF(ISERROR(VLOOKUP($A42+8860000,'Growth Data'!$A:$F,3,0)),\"NO\",VLOOKUP($A42+8860000,'Growth Data'!$A:$F,3,0))","v":"NO"},0,null,0,{"$f":"IF(BM42=\"YES\",IF(ISERROR(VLOOKUP($A42+8860000,'Growth Data'!$A:$F,6,0)),0,VLOOKUP($A42+8860000,'Growth Data'!$A:$F,6,0)),0)","v":0},0,null,"NO",{"$f":"IF(ISERROR(VLOOKUP($A42+8860000,'Growth Data'!$A:$F,4,0)),\"NO\",VLOOKUP($A42+8860000,'Growth Data'!$A:$F,4,0))","v":"NO"},0,null,0,{"$f":"IF(BU42=\"YES\",IF(ISERROR(VLOOKUP($A42+8860000,'Growth Data'!$A:$Z,7,0)),0,VLOOKUP($A42+8860000,'Growth Data'!$A:$Z,7,0)),0)","v":0},0,null,"NO",{"$f":"IF(ISERROR(VLOOKUP($A42+8860000,'Growth Data'!$A:$F,5,0)),\"NO\",VLOOKUP($A42+8860000,'Growth Data'!$A:$F,5,0))","v":"NO"},0,null,0,{"$f":"IF(CC42=\"YES\",IF(ISERROR(VLOOKUP($A42+8860000,'Growth Data'!$A:$Z,8,0)),0,VLOOKUP($A42+8860000,'Growth Data'!$A:$Z,8,0)),0)","v":0},0,null,null,null,0]
[2171,"Brunswick House Primary School",null,"Brunswick House Primary School","Brunswick House Primary School",0,null,1491597,1491597,0,null,0,0,0,null,1491597,1491597,0,null,10784.64,10784.636268,0,null,null,null,0,null,0,0,0,null,92776.71,null,92777,null,0,null,0,null,0,null,0,null,0,null,0,null,null,null,0,null,null,null,0,null,null,null,0,null,null,null,0,null,"NO",{"$f":"IF(ISERROR(VLOOKUP($A43+8860000,'Growth Data'!$A:$F,3,0)),\"NO\",VLOOKUP($A43+8860000,'Growth Data'!$A:$F,3,0))","v":"NO"},0,null,0,{"$f":"IF(BM43=\"YES\",IF(ISERROR(VLOOKUP($A43+8860000,'Growth Data'!$A:$F,6,0)),0,VLOOKUP($A43+8860000,'Growth Data'!$A:$F,6,0)),0)","v":0},0,null,"NO",{"$f":"IF(ISERROR(VLOOKUP($A43+8860000,'Growth Data'!$A:$F,4,0)),\"NO\",VLOOKUP($A43+8860000,'Growth Data'!$A:$F,4,0))","v":"NO"},0,null,0,{"$f":"IF(BU43=\"YES\",IF(ISERROR(VLOOKUP($A43+8860000,'Growth Data'!$A:$Z,7,0)),0,VLOOKUP($A43+8860000,'Growth Data'!$A:$Z,7,0)),0)","v":0},0,null,"NO",{"$f":"IF(ISERROR(VLOOKUP($A43+8860000,'Growth Data'!$A:$F,5,0)),\"NO\",VLOOKUP($A43+8860000,'Growth Data'!$A:$F,5,0))","v":"NO"},0,null,0,{"$f":"IF(CC43=\"YES\",IF(ISERROR(VLOOKUP($A43+8860000,'Growth Data'!$A:$Z,8,0)),0,VLOOKUP($A43+8860000,'Growth Data'!$A:$Z,8,0)),0)","v":0},0,null,null,null,0]
[2175,"North Borough Junior School",null,"North Borough Junior School","North Borough Junior School",0,null,1228119.3999999999,1228119.40202188,0,null,0,0,0,null,1228119.3999999999,1228119.40202188,0,null,8447.9699999999993,8447.9650765999995,0,null,null,null,0,null,0,0,0,null,5580,null,5580,null,5442,null,5442,null,0,null,0,null,0,null,0,null,null,null,0,null,null,null,0,null,null,null,0,null,null,null,0,null,"NO",{"$f":"IF(ISERROR(VLOOKUP($A44+8860000,'Growth Data'!$A:$F,3,0)),\"NO\",VLOOKUP($A44+8860000,'Growth Data'!$A:$F,3,0))","v":"YES"},1,null,0,{"$f":"IF(BM44=\"YES\",IF(ISERROR(VLOOKUP($A44+8860000,'Growth Data'!$A:$F,6,0)),0,VLOOKUP($A44+8860000,'Growth Data'!$A:$F,6,0)),0)","v":75},-75,null,"NO",{"$f":"IF(ISERROR(VLOOKUP($A44+8860000,'Growth Data'!$A:$F,4,0)),\"NO\",VLOOKUP($A44+8860000,'Growth Data'!$A:$F,4,0))","v":"NO"},0,null,0,{"$f":"IF(BU44=\"YES\",IF(ISERROR(VLOOKUP($A44+8860000,'Growth Data'!$A:$Z,7,0)),0,VLOOKUP($A44+8860000,'Growth Data'!$A:$Z,7,0)),0)","v":0},0,null,"NO",{"$f":"IF(ISERROR(VLOOKUP($A44+8860000,'Growth Data'!$A:$F,5,0)),\"NO\",VLOOKUP($A44+8860000,'Growth Data'!$A:$F,5,0))","v":"NO"},0,null,0,{"$f":"IF(CC44=\"YES\",IF(ISERROR(VLOOKUP($A44+8860000,'Growth Data'!$A:$Z,8,0)),0,VLOOKUP($A44+8860000,'Growth Data'!$A:$Z,8,0)),0)","v":0},0,null,null,null,0]
[2176,"Park Way Primary School",null,"Park Way Primary School","Park Way Primary School",0,null,1210048.5,1210048.4992474101,0,null,0,0,0,null,1210048.5,1210048.4992474101,0,null,8011.44,8011.4440848000004,0,null,null,null,0,null,0,0,0,null,123982.51,null,123983,null,0,null,0,null,0,null,0,null,0,null,0,null,null,null,0,null,null,null,0,null,null,null,0,null,null,null,0,null,"YES",{"$f":"IF(ISERROR(VLOOKUP($A45+8860000,'Growth Data'!$A:$F,3,0)),\"NO\",VLOOKUP($A45+8860000,'Growth Data'!$A:$F,3,0))","v":"NO"},1,null,75,{"$f":"IF(BM45=\"YES\",IF(ISERROR(VLOOKUP($A45+8860000,'Growth Data'!$A:$F,6,0)),0,VLOOKUP($A45+8860000,'Growth Data'!$A:$F,6,0)),0)","v":0},75,null,"YES",{"$f":"IF(ISERROR(VLOOKUP($A45+8860000,'Growth Data'!$A:$F,4,0)),\"NO\",VLOOKUP($A45+8860000,'Growth Data'!$A:$F,4,0))","v":"NO"},1,null,75,{"$f":"IF(BU45=\"YES\",IF(ISERROR(VLOOKUP($A45+8860000,'Growth Data'!$A:$Z,7,0)),0,VLOOKUP($A45+8860000,'Growth Data'!$A:$Z,7,0)),0)","v":0},75,null,"NO",{"$f":"IF(ISERROR(VLOOKUP($A45+8860000,'Growth Data'!$A:$F,5,0)),\"NO\",VLOOKUP($A45+8860000,'Growth Data'!$A:$F,5,0))","v":"NO"},0,null,0,{"$f":"IF(CC45=\"YES\",IF(ISERROR(VLOOKUP($A45+8860000,'Growth Data'!$A:$Z,8,0)),0,VLOOKUP($A45+8860000,'Growth Data'!$A:$Z,8,0)),0)","v":0},0,null,null,null,0]
[2183,"Marden Primary School",null,"Marden Primary School","Marden Primary School",0,null,982451.67,982451.6667634953,0,null,0,0,0,null,982451.67,982451.6667634953,0,null,6599.17,6599.1702877999987,0,null,null,null,0,null,0,0,0,null,146702.95000000001,null,146703,null,0,null,0,null,0,null,0,null,0,null,0,null,null,null,0,null,null,null,0,null,null,null,0,null,null,null,0,null,"NO",{"$f":"IF(ISERROR(VLOOKUP($A46+8860000,'Growth Data'!$A:$F,3,0)),\"NO\",VLOOKUP($A46+8860000,'Growth Data'!$A:$F,3,0))","v":"NO"},0,null,0,{"$f":"IF(BM46=\"YES\",IF(ISERROR(VLOOKUP($A46+8860000,'Growth Data'!$A:$F,6,0)),0,VLOOKUP($A46+8860000,'Growth Data'!$A:$F,6,0)),0)","v":0},0,null,"NO",{"$f":"IF(ISERROR(VLOOKUP($A46+8860000,'Growth Data'!$A:$F,4,0)),\"NO\",VLOOKUP($A46+8860000,'Growth Data'!$A:$F,4,0))","v":"NO"},0,null,0,{"$f":"IF(BU46=\"YES\",IF(ISERROR(VLOOKUP($A46+8860000,'Growth Data'!$A:$Z,7,0)),0,VLOOKUP($A46+8860000,'Growth Data'!$A:$Z,7,0)),0)","v":0},0,null,"NO",{"$f":"IF(ISERROR(VLOOKUP($A46+8860000,'Growth Data'!$A:$F,5,0)),\"NO\",VLOOKUP($A46+8860000,'Growth Data'!$A:$F,5,0))","v":"NO"},0,null,0,{"$f":"IF(CC46=\"YES\",IF(ISERROR(VLOOKUP($A46+8860000,'Growth Data'!$A:$Z,8,0)),0,VLOOKUP($A46+8860000,'Growth Data'!$A:$Z,8,0)),0)","v":0},0,null,null,null,0]
[2185,"Mereworth Community Primary School",null,"Mereworth Community Primary School","Mereworth Community Primary School",0,null,787560.55,787560.54821482429,0,null,0,0,0,null,787560.55,787560.54821482429,0,null,5469.35,5469.3512501999994,0,null,null,null,0,null,0,0,0,null,102263.44,null,102263,null,0,null,0,null,0,null,0,null,0,null,0,null,null,null,0,null,null,null,0,null,null,null,0,null,null,null,0,null,"NO",{"$f":"IF(ISERROR(VLOOKUP($A47+8860000,'Growth Data'!$A:$F,3,0)),\"NO\",VLOOKUP($A47+8860000,'Growth Data'!$A:$F,3,0))","v":"NO"},0,null,0,{"$f":"IF(BM47=\"YES\",IF(ISERROR(VLOOKUP($A47+8860000,'Growth Data'!$A:$F,6,0)),0,VLOOKUP($A47+8860000,'Growth Data'!$A:$F,6,0)),0)","v":0},0,null,"NO",{"$f":"IF(ISERROR(VLOOKUP($A47+8860000,'Growth Data'!$A:$F,4,0)),\"NO\",VLOOKUP($A47+8860000,'Growth Data'!$A:$F,4,0))","v":"NO"},0,null,0,{"$f":"IF(BU47=\"YES\",IF(ISERROR(VLOOKUP($A47+8860000,'Growth Data'!$A:$Z,7,0)),0,VLOOKUP($A47+8860000,'Growth Data'!$A:$Z,7,0)),0)","v":0},0,null,"NO",{"$f":"IF(ISERROR(VLOOKUP($A47+8860000,'Growth Data'!$A:$F,5,0)),\"NO\",VLOOKUP($A47+8860000,'Growth Data'!$A:$F,5,0))","v":"NO"},0,null,0,{"$f":"IF(CC47=\"YES\",IF(ISERROR(VLOOKUP($A47+8860000,'Growth Data'!$A:$Z,8,0)),0,VLOOKUP($A47+8860000,'Growth Data'!$A:$Z,8,0)),0)","v":0},0,null,null,null,0]
[2187,"Offham Primary School",null,"Offham Primary School","Offham Primary School",0,null,749104.62,749104.62057808507,0,null,0,0,0,null,749104.62,749104.62057808507,0,null,5340.96,5340.9627231999993,0,null,null,null,0,null,0,0,0,null,46008.54,null,46009,null,1399.15,null,1399,null,0,null,0,null,0,null,0,null,null,null,0,null,null,null,0,null,null,null,0,null,null,null,0,null,"NO",{"$f":"IF(ISERROR(VLOOKUP($A48+8860000,'Growth Data'!$A:$F,3,0)),\"NO\",VLOOKUP($A48+8860000,'Growth Data'!$A:$F,3,0))","v":"NO"},0,null,0,{"$f":"IF(BM48=\"YES\",IF(ISERROR(VLOOKUP($A48+8860000,'Growth Data'!$A:$F,6,0)),0,VLOOKUP($A48+8860000,'Growth Data'!$A:$F,6,0)),0)","v":0},0,null,"NO",{"$f":"IF(ISERROR(VLOOKUP($A48+8860000,'Growth Data'!$A:$F,4,0)),\"NO\",VLOOKUP($A48+8860000,'Growth Data'!$A:$F,4,0))","v":"NO"},0,null,0,{"$f":"IF(BU48=\"YES\",IF(ISERROR(VLOOKUP($A48+8860000,'Growth Data'!$A:$Z,7,0)),0,VLOOKUP($A48+8860000,'Growth Data'!$A:$Z,7,0)),0)","v":0},0,null,"NO",{"$f":"IF(ISERROR(VLOOKUP($A48+8860000,'Growth Data'!$A:$F,5,0)),\"NO\",VLOOKUP($A48+8860000,'Growth Data'!$A:$F,5,0))","v":"NO"},0,null,0,{"$f":"IF(CC48=\"YES\",IF(ISERROR(VLOOKUP($A48+8860000,'Growth Data'!$A:$Z,8,0)),0,VLOOKUP($A48+8860000,'Growth Data'!$A:$Z,8,0)),0)","v":0},0,null,null,null,0]
[2188,"Plaxtol Primary School",null,"Plaxtol Primary School","Plaxtol Primary School",0,null,406021.37,406021.36963066412,0,null,0,0,0,null,406021.37,406021.36963066412,0,null,2388.0300000000002,2388.0266022000001,0,null,null,null,0,null,0,0,0,null,35490.61,null,35491,null,2450.94,null,2451,null,0,null,0,null,0,null,0,null,null,null,0,null,null,null,0,null,null,null,0,null,null,null,0,null,"NO",{"$f":"IF(ISERROR(VLOOKUP($A49+8860000,'Growth Data'!$A:$F,3,0)),\"NO\",VLOOKUP($A49+8860000,'Growth Data'!$A:$F,3,0))","v":"NO"},0,null,0,{"$f":"IF(BM49=\"YES\",IF(ISERROR(VLOOKUP($A49+8860000,'Growth Data'!$A:$F,6,0)),0,VLOOKUP($A49+8860000,'Growth Data'!$A:$F,6,0)),0)","v":0},0,null,"NO",{"$f":"IF(ISERROR(VLOOKUP($A49+8860000,'Growth Data'!$A:$F,4,0)),\"NO\",VLOOKUP($A49+8860000,'Growth Data'!$A:$F,4,0))","v":"NO"},0,null,0,{"$f":"IF(BU49=\"YES\",IF(ISERROR(VLOOKUP($A49+8860000,'Growth Data'!$A:$Z,7,0)),0,VLOOKUP($A49+8860000,'Growth Data'!$A:$Z,7,0)),0)","v":0},0,null,"NO",{"$f":"IF(ISERROR(VLOOKUP($A49+8860000,'Growth Data'!$A:$F,5,0)),\"NO\",VLOOKUP($A49+8860000,'Growth Data'!$A:$F,5,0))","v":"NO"},0,null,0,{"$f":"IF(CC49=\"YES\",IF(ISERROR(VLOOKUP($A49+8860000,'Growth Data'!$A:$Z,8,0)),0,VLOOKUP($A49+8860000,'Growth Data'!$A:$Z,8,0)),0)","v":0},0,null,null,null,0]
[2189,"Ryarsh Primary School",null,"Ryarsh Primary School","Ryarsh Primary School",0,null,750159.41,750159.41286680428,0,null,0,0,0,null,750159.41,750159.41286680428,0,null,5392.32,5392.3181340000001,0,null,null,null,0,null,0,0,0,null,20008.650000000001,null,20009,null,3999.13,null,3999,null,0,null,0,null,0,null,0,null,null,null,0,null,null,null,0,null,null,null,0,null,null,null,0,null,"NO",{"$f":"IF(ISERROR(VLOOKUP($A50+8860000,'Growth Data'!$A:$F,3,0)),\"NO\",VLOOKUP($A50+8860000,'Growth Data'!$A:$F,3,0))","v":"NO"},0,null,0,{"$f":"IF(BM50=\"YES\",IF(ISERROR(VLOOKUP($A50+8860000,'Growth Data'!$A:$F,6,0)),0,VLOOKUP($A50+8860000,'Growth Data'!$A:$F,6,0)),0)","v":0},0,null,"NO",{"$f":"IF(ISERROR(VLOOKUP($A50+8860000,'Growth Data'!$A:$F,4,0)),\"NO\",VLOOKUP($A50+8860000,'Growth Data'!$A:$F,4,0))","v":"NO"},0,null,0,{"$f":"IF(BU50=\"YES\",IF(ISERROR(VLOOKUP($A50+8860000,'Growth Data'!$A:$Z,7,0)),0,VLOOKUP($A50+8860000,'Growth Data'!$A:$Z,7,0)),0)","v":0},0,null,"NO",{"$f":"IF(ISERROR(VLOOKUP($A50+8860000,'Growth Data'!$A:$F,5,0)),\"NO\",VLOOKUP($A50+8860000,'Growth Data'!$A:$F,5,0))","v":"NO"},0,null,0,{"$f":"IF(CC50=\"YES\",IF(ISERROR(VLOOKUP($A50+8860000,'Growth Data'!$A:$Z,8,0)),0,VLOOKUP($A50+8860000,'Growth Data'!$A:$Z,8,0)),0)","v":0},0,null,null,null,0]
[2190,"Shipbourne School",null,"Shipbourne School","Shipbourne School",0,null,283001.21000000002,283001.21206590912,0,null,0,0,0,null,283001.21000000002,283001.21206590912,0,null,1309.56,1309.5629753999999,0,null,null,null,0,null,0,0,0,null,34664.14,null,34664,null,2533.59,null,2534,null,0,null,0,null,0,null,0,null,null,null,0,null,null,null,0,null,null,null,0,null,null,null,0,null,"NO",{"$f":"IF(ISERROR(VLOOKUP($A51+8860000,'Growth Data'!$A:$F,3,0)),\"NO\",VLOOKUP($A51+8860000,'Growth Data'!$A:$F,3,0))","v":"NO"},0,null,0,{"$f":"IF(BM51=\"YES\",IF(ISERROR(VLOOKUP($A51+8860000,'Growth Data'!$A:$F,6,0)),0,VLOOKUP($A51+8860000,'Growth Data'!$A:$F,6,0)),0)","v":0},0,null,"NO",{"$f":"IF(ISERROR(VLOOKUP($A51+8860000,'Growth Data'!$A:$F,4,0)),\"NO\",VLOOKUP($A51+8860000,'Growth Data'!$A:$F,4,0))","v":"NO"},0,null,0,{"$f":"IF(BU51=\"YES\",IF(ISERROR(VLOOKUP($A51+8860000,'Growth Data'!$A:$Z,7,0)),0,VLOOKUP($A51+8860000,'Growth Data'!$A:$Z,7,0)),0)","v":0},0,null,"NO",{"$f":"IF(ISERROR(VLOOKUP($A51+8860000,'Growth Data'!$A:$F,5,0)),\"NO\",VLOOKUP($A51+8860000,'Growth Data'!$A:$F,5,0))","v":"NO"},0,null,0,{"$f":"IF(CC51=\"YES\",IF(ISERROR(VLOOKUP($A51+8860000,'Growth Data'!$A:$Z,8,0)),0,VLOOKUP($A51+8860000,'Growth Data'!$A:$Z,8,0)),0)","v":0},0,null,null,null,0]
[2191,"St Katherine's School",null,"St Katherine's School","St Katherine's School",0,null,2040034,2040034,0,null,0,0,0,null,2040034,2040034,0,null,14893.07,14893.069131999997,0,null,null,null,0,null,4.9000000000000004,4.9000000000000004,0,null,16696.2,null,16696,null,4330.38,null,4330,null,0,null,0,null,0,null,0,null,null,null,0,null,null,null,0,null,null,null,0,null,null,null,0,null,"NO",{"$f":"IF(ISERROR(VLOOKUP($A52+8860000,'Growth Data'!$A:$F,3,0)),\"NO\",VLOOKUP($A52+8860000,'Growth Data'!$A:$F,3,0))","v":"NO"},0,null,0,{"$f":"IF(BM52=\"YES\",IF(ISERROR(VLOOKUP($A52+8860000,'Growth Data'!$A:$F,6,0)),0,VLOOKUP($A52+8860000,'Growth Data'!$A:$F,6,0)),0)","v":0},0,null,"NO",{"$f":"IF(ISERROR(VLOOKUP($A52+8860000,'Growth Data'!$A:$F,4,0)),\"NO\",VLOOKUP($A52+8860000,'Growth Data'!$A:$F,4,0))","v":"NO"},0,null,0,{"$f":"IF(BU52=\"YES\",IF(ISERROR(VLOOKUP($A52+8860000,'Growth Data'!$A:$Z,7,0)),0,VLOOKUP($A52+8860000,'Growth Data'!$A:$Z,7,0)),0)","v":0},0,null,"NO",{"$f":"IF(ISERROR(VLOOKUP($A52+8860000,'Growth Data'!$A:$F,5,0)),\"NO\",VLOOKUP($A52+8860000,'Growth Data'!$A:$F,5,0))","v":"NO"},0,null,0,{"$f":"IF(CC52=\"YES\",IF(ISERROR(VLOOKUP($A52+8860000,'Growth Data'!$A:$Z,8,0)),0,VLOOKUP($A52+8860000,'Growth Data'!$A:$Z,8,0)),0)","v":0},0,null,null,null,0]
[2192,"Staplehurst School",null,"Staplehurst School","Staplehurst School",0,null,1484636,1484636,0,null,0,0,0,null,1484636,1484636,0,null,10938.7,10938.702500399999,0,null,null,null,0,null,0,0,0,null,196789.88,null,196790,null,0,null,0,null,0,null,0,null,0,null,0,null,null,null,0,null,null,null,0,null,null,null,0,null,null,null,0,null,"NO",{"$f":"IF(ISERROR(VLOOKUP($A53+8860000,'Growth Data'!$A:$F,3,0)),\"NO\",VLOOKUP($A53+8860000,'Growth Data'!$A:$F,3,0))","v":"NO"},0,null,0,{"$f":"IF(BM53=\"YES\",IF(ISERROR(VLOOKUP($A53+8860000,'Growth Data'!$A:$F,6,0)),0,VLOOKUP($A53+8860000,'Growth Data'!$A:$F,6,0)),0)","v":0},0,null,"NO",{"$f":"IF(ISERROR(VLOOKUP($A53+8860000,'Growth Data'!$A:$F,4,0)),\"NO\",VLOOKUP($A53+8860000,'Growth Data'!$A:$F,4,0))","v":"NO"},0,null,0,{"$f":"IF(BU53=\"YES\",IF(ISERROR(VLOOKUP($A53+8860000,'Growth Data'!$A:$Z,7,0)),0,VLOOKUP($A53+8860000,'Growth Data'!$A:$Z,7,0)),0)","v":0},0,null,"NO",{"$f":"IF(ISERROR(VLOOKUP($A53+8860000,'Growth Data'!$A:$F,5,0)),\"NO\",VLOOKUP($A53+8860000,'Growth Data'!$A:$F,5,0))","v":"NO"},0,null,0,{"$f":"IF(CC53=\"YES\",IF(ISERROR(VLOOKUP($A53+8860000,'Growth Data'!$A:$Z,8,0)),0,VLOOKUP($A53+8860000,'Growth Data'!$A:$Z,8,0)),0)","v":0},0,null,null,null,0]
[2193,"Sutton Valence Primary School",null,"Sutton Valence Primary School","Sutton Valence Primary School",0,null,672519.92,672519.91913649172,0,null,0,0,0,null,672519.92,672519.91913649172,0,null,4467.92,4467.9207396000002,0,null,null,null,0,null,0,0,0,null,89079.27,null,89079,null,0,null,0,null,0,null,0,null,0,null,0,null,null,null,0,null,null,null,0,null,null,null,0,null,null,null,0,null,"NO",{"$f":"IF(ISERROR(VLOOKUP($A54+8860000,'Growth Data'!$A:$F,3,0)),\"NO\",VLOOKUP($A54+8860000,'Growth Data'!$A:$F,3,0))","v":"NO"},0,null,0,{"$f":"IF(BM54=\"YES\",IF(ISERROR(VLOOKUP($A54+8860000,'Growth Data'!$A:$F,6,0)),0,VLOOKUP($A54+8860000,'Growth Data'!$A:$F,6,0)),0)","v":0},0,null,"NO",{"$f":"IF(ISERROR(VLOOKUP($A54+8860000,'Growth Data'!$A:$F,4,0)),\"NO\",VLOOKUP($A54+8860000,'Growth Data'!$A:$F,4,0))","v":"NO"},0,null,0,{"$f":"IF(BU54=\"YES\",IF(ISERROR(VLOOKUP($A54+8860000,'Growth Data'!$A:$Z,7,0)),0,VLOOKUP($A54+8860000,'Growth Data'!$A:$Z,7,0)),0)","v":0},0,null,"NO",{"$f":"IF(ISERROR(VLOOKUP($A54+8860000,'Growth Data'!$A:$F,5,0)),\"NO\",VLOOKUP($A54+8860000,'Growth Data'!$A:$F,5,0))","v":"NO"},0,null,0,{"$f":"IF(CC54=\"YES\",IF(ISERROR(VLOOKUP($A54+8860000,'Growth Data'!$A:$Z,8,0)),0,VLOOKUP($A54+8860000,'Growth Data'!$A:$Z,8,0)),0)","v":0},0,null,null,null,0]
[2226,"Eastling Primary School",null,"Eastling Primary School","Eastling Primary School",0,null,467547.29,467547.29039824411,0,null,0,0,0,null,467547.29,467547.29039824411,0,null,2696.16,2696.1590670000001,0,null,null,null,0,null,0,0,0,null,44196.25,null,44196,null,1580.37,null,1580,null,0,null,0,null,0,null,0,null,null,null,0,null,null,null,0,null,null,null,0,null,null,null,0,null,"NO",{"$f":"IF(ISERROR(VLOOKUP($A55+8860000,'Growth Data'!$A:$F,3,0)),\"NO\",VLOOKUP($A55+8860000,'Growth Data'!$A:$F,3,0))","v":"NO"},0,null,0,{"$f":"IF(BM55=\"YES\",IF(ISERROR(VLOOKUP($A55+8860000,'Growth Data'!$A:$F,6,0)),0,VLOOKUP($A55+8860000,'Growth Data'!$A:$F,6,0)),0)","v":0},0,null,"NO",{"$f":"IF(ISERROR(VLOOKUP($A55+8860000,'Growth Data'!$A:$F,4,0)),\"NO\",VLOOKUP($A55+8860000,'Growth Data'!$A:$F,4,0))","v":"NO"},0,null,0,{"$f":"IF(BU55=\"YES\",IF(ISERROR(VLOOKUP($A55+8860000,'Growth Data'!$A:$Z,7,0)),0,VLOOKUP($A55+8860000,'Growth Data'!$A:$Z,7,0)),0)","v":0},0,null,"NO",{"$f":"IF(ISERROR(VLOOKUP($A55+8860000,'Growth Data'!$A:$F,5,0)),\"NO\",VLOOKUP($A55+8860000,'Growth Data'!$A:$F,5,0))","v":"NO"},0,null,0,{"$f":"IF(CC55=\"YES\",IF(ISERROR(VLOOKUP($A55+8860000,'Growth Data'!$A:$Z,8,0)),0,VLOOKUP($A55+8860000,'Growth Data'!$A:$Z,8,0)),0)","v":0},0,null,null,null,0]
[2227,"Ethelbert Road Primary School",null,"Ethelbert Road Primary School","Ethelbert Road Primary School",0,null,769388.65,769388.648285373,0,null,0,0,0,null,769388.65,769388.648285373,0,null,5392.32,5392.3181340000001,0,null,null,null,0,null,0,0,0,null,33477.870000000003,null,33478,null,2652.21,null,2652,null,0,null,0,null,0,null,0,null,null,null,0,null,null,null,0,null,null,null,0,null,null,null,0,null,"NO",{"$f":"IF(ISERROR(VLOOKUP($A56+8860000,'Growth Data'!$A:$F,3,0)),\"NO\",VLOOKUP($A56+8860000,'Growth Data'!$A:$F,3,0))","v":"NO"},0,null,0,{"$f":"IF(BM56=\"YES\",IF(ISERROR(VLOOKUP($A56+8860000,'Growth Data'!$A:$F,6,0)),0,VLOOKUP($A56+8860000,'Growth Data'!$A:$F,6,0)),0)","v":0},0,null,"NO",{"$f":"IF(ISERROR(VLOOKUP($A56+8860000,'Growth Data'!$A:$F,4,0)),\"NO\",VLOOKUP($A56+8860000,'Growth Data'!$A:$F,4,0))","v":"NO"},0,null,0,{"$f":"IF(BU56=\"YES\",IF(ISERROR(VLOOKUP($A56+8860000,'Growth Data'!$A:$Z,7,0)),0,VLOOKUP($A56+8860000,'Growth Data'!$A:$Z,7,0)),0)","v":0},0,null,"NO",{"$f":"IF(ISERROR(VLOOKUP($A56+8860000,'Growth Data'!$A:$F,5,0)),\"NO\",VLOOKUP($A56+8860000,'Growth Data'!$A:$F,5,0))","v":"NO"},0,null,0,{"$f":"IF(CC56=\"YES\",IF(ISERROR(VLOOKUP($A56+8860000,'Growth Data'!$A:$Z,8,0)),0,VLOOKUP($A56+8860000,'Growth Data'!$A:$Z,8,0)),0)","v":0},0,null,null,null,0]
[2228,"Davington Primary School",null,"Davington Primary School","Davington Primary School",0,null,1529174.43,1529174.4325844939,0,null,0,0,0,null,1529174.43,1529174.4325844939,0,null,10707.6,10707.6031518,0,null,null,null,0,null,0,0,0,null,54764.959999999999,null,54765,null,523.5,null,524,null,0,null,0,null,0,null,0,null,null,null,0,null,null,null,0,null,null,null,0,null,null,null,0,null,"NO",{"$f":"IF(ISERROR(VLOOKUP($A57+8860000,'Growth Data'!$A:$F,3,0)),\"NO\",VLOOKUP($A57+8860000,'Growth Data'!$A:$F,3,0))","v":"NO"},0,null,0,{"$f":"IF(BM57=\"YES\",IF(ISERROR(VLOOKUP($A57+8860000,'Growth Data'!$A:$F,6,0)),0,VLOOKUP($A57+8860000,'Growth Data'!$A:$F,6,0)),0)","v":0},0,null,"NO",{"$f":"IF(ISERROR(VLOOKUP($A57+8860000,'Growth Data'!$A:$F,4,0)),\"NO\",VLOOKUP($A57+8860000,'Growth Data'!$A:$F,4,0))","v":"NO"},0,null,0,{"$f":"IF(BU57=\"YES\",IF(ISERROR(VLOOKUP($A57+8860000,'Growth Data'!$A:$Z,7,0)),0,VLOOKUP($A57+8860000,'Growth Data'!$A:$Z,7,0)),0)","v":0},0,null,"NO",{"$f":"IF(ISERROR(VLOOKUP($A57+8860000,'Growth Data'!$A:$F,5,0)),\"NO\",VLOOKUP($A57+8860000,'Growth Data'!$A:$F,5,0))","v":"NO"},0,null,0,{"$f":"IF(CC57=\"YES\",IF(ISERROR(VLOOKUP($A57+8860000,'Growth Data'!$A:$Z,8,0)),0,VLOOKUP($A57+8860000,'Growth Data'!$A:$Z,8,0)),0)","v":0},0,null,null,null,0]
[2231,"Lower Halstow School",null,"Lower Halstow School","Lower Halstow School",0,null,620031.73,620031.72683125769,0,null,0,0,0,null,620031.73,620031.72683125769,0,null,4005.72,4005.7220424000002,0,null,null,null,0,null,0,0,0,null,189060.27,null,189060,null,0,null,0,null,0,null,0,null,0,null,0,null,null,null,0,null,null,null,0,null,null,null,0,null,null,null,0,null,"NO",{"$f":"IF(ISERROR(VLOOKUP($A58+8860000,'Growth Data'!$A:$F,3,0)),\"NO\",VLOOKUP($A58+8860000,'Growth Data'!$A:$F,3,0))","v":"NO"},0,null,0,{"$f":"IF(BM58=\"YES\",IF(ISERROR(VLOOKUP($A58+8860000,'Growth Data'!$A:$F,6,0)),0,VLOOKUP($A58+8860000,'Growth Data'!$A:$F,6,0)),0)","v":0},0,null,"NO",{"$f":"IF(ISERROR(VLOOKUP($A58+8860000,'Growth Data'!$A:$F,4,0)),\"NO\",VLOOKUP($A58+8860000,'Growth Data'!$A:$F,4,0))","v":"NO"},0,null,0,{"$f":"IF(BU58=\"YES\",IF(ISERROR(VLOOKUP($A58+8860000,'Growth Data'!$A:$Z,7,0)),0,VLOOKUP($A58+8860000,'Growth Data'!$A:$Z,7,0)),0)","v":0},0,null,"NO",{"$f":"IF(ISERROR(VLOOKUP($A58+8860000,'Growth Data'!$A:$F,5,0)),\"NO\",VLOOKUP($A58+8860000,'Growth Data'!$A:$F,5,0))","v":"NO"},0,null,0,{"$f":"IF(CC58=\"YES\",IF(ISERROR(VLOOKUP($A58+8860000,'Growth Data'!$A:$Z,8,0)),0,VLOOKUP($A58+8860000,'Growth Data'!$A:$Z,8,0)),0)","v":0},0,null,null,null,0]
[2237,"Queenborough School and Nursery",null,"Queenborough School and Nursery","Queenborough School and Nursery",0,null,1643604.65,1643604.6465239706,0,null,0,0,0,null,1643604.65,1643604.6465239706,0,null,10733.28,10733.280857199998,0,null,null,null,0,null,5.13,5.13,0,null,45967.1,null,45967,null,1403.29,null,1403,null,0,null,0,null,0,null,0,null,null,null,0,null,null,null,0,null,null,null,0,null,null,null,0,null,"NO",{"$f":"IF(ISERROR(VLOOKUP($A59+8860000,'Growth Data'!$A:$F,3,0)),\"NO\",VLOOKUP($A59+8860000,'Growth Data'!$A:$F,3,0))","v":"NO"},0,null,0,{"$f":"IF(BM59=\"YES\",IF(ISERROR(VLOOKUP($A59+8860000,'Growth Data'!$A:$F,6,0)),0,VLOOKUP($A59+8860000,'Growth Data'!$A:$F,6,0)),0)","v":0},0,null,"NO",{"$f":"IF(ISERROR(VLOOKUP($A59+8860000,'Growth Data'!$A:$F,4,0)),\"NO\",VLOOKUP($A59+8860000,'Growth Data'!$A:$F,4,0))","v":"NO"},0,null,0,{"$f":"IF(BU59=\"YES\",IF(ISERROR(VLOOKUP($A59+8860000,'Growth Data'!$A:$Z,7,0)),0,VLOOKUP($A59+8860000,'Growth Data'!$A:$Z,7,0)),0)","v":0},0,null,"NO",{"$f":"IF(ISERROR(VLOOKUP($A59+8860000,'Growth Data'!$A:$F,5,0)),\"NO\",VLOOKUP($A59+8860000,'Growth Data'!$A:$F,5,0))","v":"NO"},0,null,0,{"$f":"IF(CC59=\"YES\",IF(ISERROR(VLOOKUP($A59+8860000,'Growth Data'!$A:$Z,8,0)),0,VLOOKUP($A59+8860000,'Growth Data'!$A:$Z,8,0)),0)","v":0},0,null,null,null,0]
[2239,"Rodmersham School",null,"Rodmersham School","Rodmersham School",0,null,408258.66,408258.66467924858,0,null,0,0,0,null,408258.66,408258.66467924858,0,null,2542.09,2542.0928346000001,0,null,null,null,0,null,0,0,0,null,276461.96000000002,null,276462,null,0,null,0,null,0,null,0,null,0,null,0,null,null,null,0,null,null,null,0,null,null,null,0,null,null,null,0,null,"YES",{"$f":"IF(ISERROR(VLOOKUP($A60+8860000,'Growth Data'!$A:$F,3,0)),\"NO\",VLOOKUP($A60+8860000,'Growth Data'!$A:$F,3,0))","v":"NO"},1,null,55,{"$f":"IF(BM60=\"YES\",IF(ISERROR(VLOOKUP($A60+8860000,'Growth Data'!$A:$F,6,0)),0,VLOOKUP($A60+8860000,'Growth Data'!$A:$F,6,0)),0)","v":0},55,null,"NO",{"$f":"IF(ISERROR(VLOOKUP($A60+8860000,'Growth Data'!$A:$F,4,0)),\"NO\",VLOOKUP($A60+8860000,'Growth Data'!$A:$F,4,0))","v":"NO"},0,null,0,{"$f":"IF(BU60=\"YES\",IF(ISERROR(VLOOKUP($A60+8860000,'Growth Data'!$A:$Z,7,0)),0,VLOOKUP($A60+8860000,'Growth Data'!$A:$Z,7,0)),0)","v":0},0,null,"NO",{"$f":"IF(ISERROR(VLOOKUP($A60+8860000,'Growth Data'!$A:$F,5,0)),\"NO\",VLOOKUP($A60+8860000,'Growth Data'!$A:$F,5,0))","v":"NO"},0,null,0,{"$f":"IF(CC60=\"YES\",IF(ISERROR(VLOOKUP($A60+8860000,'Growth Data'!$A:$Z,8,0)),0,VLOOKUP($A60+8860000,'Growth Data'!$A:$Z,8,0)),0)","v":0},0,null,null,null,0]
[2245,"Rose Street School",null,"Rose Street School","Rose Street School",0,null,1353820.27,1353820.2690983273,0,null,6335.46,6335.4550541585777,0,null,1360155.72,1360155.7241524858,0,null,8268.2199999999993,8268.2211387999996,0,null,null,null,0,null,5.41,5.41,0,null,16189.06,null,16189,null,4381.09,null,4381,null,0,null,0,null,0,null,0,null,null,null,0,null,null,null,0,null,null,null,0,null,null,null,0,null,"NO",{"$f":"IF(ISERROR(VLOOKUP($A61+8860000,'Growth Data'!$A:$F,3,0)),\"NO\",VLOOKUP($A61+8860000,'Growth Data'!$A:$F,3,0))","v":"YES"},1,null,0,{"$f":"IF(BM61=\"YES\",IF(ISERROR(VLOOKUP($A61+8860000,'Growth Data'!$A:$F,6,0)),0,VLOOKUP($A61+8860000,'Growth Data'!$A:$F,6,0)),0)","v":30},-30,null,"NO",{"$f":"IF(ISERROR(VLOOKUP($A61+8860000,'Growth Data'!$A:$F,4,0)),\"NO\",VLOOKUP($A61+8860000,'Growth Data'!$A:$F,4,0))","v":"YES"},1,null,0,{"$f":"IF(BU61=\"YES\",IF(ISERROR(VLOOKUP($A61+8860000,'Growth Data'!$A:$Z,7,0)),0,VLOOKUP($A61+8860000,'Growth Data'!$A:$Z,7,0)),0)","v":60},-60,null,"NO",{"$f":"IF(ISERROR(VLOOKUP($A61+8860000,'Growth Data'!$A:$F,5,0)),\"NO\",VLOOKUP($A61+8860000,'Growth Data'!$A:$F,5,0))","v":"YES"},1,null,0,{"$f":"IF(CC61=\"YES\",IF(ISERROR(VLOOKUP($A61+8860000,'Growth Data'!$A:$Z,8,0)),0,VLOOKUP($A61+8860000,'Growth Data'!$A:$Z,8,0)),0)","v":30},-30,null,null,null,0]
[2254,"Canterbury Road Primary School",null,"Canterbury Road Primary School","Canterbury Road Primary School",0,null,869358.81,869358.80756126565,0,null,0,0,0,null,869358.81,869358.80756126565,0,null,5366.64,5366.6404285999988,0,null,null,null,0,null,0,0,0,null,243426.63,null,243427,null,0,null,0,null,0,null,0,null,0,null,0,null,null,null,0,null,null,null,0,null,null,null,0,null,null,null,0,null,"YES",{"$f":"IF(ISERROR(VLOOKUP($A62+8860000,'Growth Data'!$A:$F,3,0)),\"NO\",VLOOKUP($A62+8860000,'Growth Data'!$A:$F,3,0))","v":"NO"},1,null,31,{"$f":"IF(BM62=\"YES\",IF(ISERROR(VLOOKUP($A62+8860000,'Growth Data'!$A:$F,6,0)),0,VLOOKUP($A62+8860000,'Growth Data'!$A:$F,6,0)),0)","v":0},31,null,"YES",{"$f":"IF(ISERROR(VLOOKUP($A62+8860000,'Growth Data'!$A:$F,4,0)),\"NO\",VLOOKUP($A62+8860000,'Growth Data'!$A:$F,4,0))","v":"NO"},1,null,30,{"$f":"IF(BU62=\"YES\",IF(ISERROR(VLOOKUP($A62+8860000,'Growth Data'!$A:$Z,7,0)),0,VLOOKUP($A62+8860000,'Growth Data'!$A:$Z,7,0)),0)","v":0},30,null,"YES",{"$f":"IF(ISERROR(VLOOKUP($A62+8860000,'Growth Data'!$A:$F,5,0)),\"NO\",VLOOKUP($A62+8860000,'Growth Data'!$A:$F,5,0))","v":"NO"},1,null,30,{"$f":"IF(CC62=\"YES\",IF(ISERROR(VLOOKUP($A62+8860000,'Growth Data'!$A:$Z,8,0)),0,VLOOKUP($A62+8860000,'Growth Data'!$A:$Z,8,0)),0)","v":0},30,null,null,null,0]
[2258,"Blean Primary School",null,"Blean Primary School","Blean Primary School",0,null,1513900,1513900,0,null,0,0,0,null,1513900,1513900,0,null,11169.8,11169.801848999999,0,null,null,null,0,null,0,0,0,null,125425.22,null,125425,null,0,null,0,null,0,null,0,null,0,null,0,null,null,null,0,null,null,null,0,null,null,null,0,null,null,null,0,null,"NO",{"$f":"IF(ISERROR(VLOOKUP($A63+8860000,'Growth Data'!$A:$F,3,0)),\"NO\",VLOOKUP($A63+8860000,'Growth Data'!$A:$F,3,0))","v":"NO"},0,null,0,{"$f":"IF(BM63=\"YES\",IF(ISERROR(VLOOKUP($A63+8860000,'Growth Data'!$A:$F,6,0)),0,VLOOKUP($A63+8860000,'Growth Data'!$A:$F,6,0)),0)","v":0},0,null,"NO",{"$f":"IF(ISERROR(VLOOKUP($A63+8860000,'Growth Data'!$A:$F,4,0)),\"NO\",VLOOKUP($A63+8860000,'Growth Data'!$A:$F,4,0))","v":"NO"},0,null,0,{"$f":"IF(BU63=\"YES\",IF(ISERROR(VLOOKUP($A63+8860000,'Growth Data'!$A:$Z,7,0)),0,VLOOKUP($A63+8860000,'Growth Data'!$A:$Z,7,0)),0)","v":0},0,null,"NO",{"$f":"IF(ISERROR(VLOOKUP($A63+8860000,'Growth Data'!$A:$F,5,0)),\"NO\",VLOOKUP($A63+8860000,'Growth Data'!$A:$F,5,0))","v":"NO"},0,null,0,{"$f":"IF(CC63=\"YES\",IF(ISERROR(VLOOKUP($A63+8860000,'Growth Data'!$A:$Z,8,0)),0,VLOOKUP($A63+8860000,'Growth Data'!$A:$Z,8,0)),0)","v":0},0,null,null,null,0]
[2259,"Chartham Primary School",null,"Chartham Primary School","Chartham Primary School",0,null,1214815.92,1214815.9154718157,0,null,0,0,0,null,1214815.92,1214815.9154718157,0,null,8987.2000000000007,8987.1968899999993,0,null,null,null,0,null,0,0,0,null,90252.51,null,90253,null,0,null,0,null,0,null,0,null,0,null,0,null,null,null,0,null,null,null,0,null,null,null,0,null,null,null,0,null,"NO",{"$f":"IF(ISERROR(VLOOKUP($A64+8860000,'Growth Data'!$A:$F,3,0)),\"NO\",VLOOKUP($A64+8860000,'Growth Data'!$A:$F,3,0))","v":"NO"},0,null,0,{"$f":"IF(BM64=\"YES\",IF(ISERROR(VLOOKUP($A64+8860000,'Growth Data'!$A:$F,6,0)),0,VLOOKUP($A64+8860000,'Growth Data'!$A:$F,6,0)),0)","v":0},0,null,"NO",{"$f":"IF(ISERROR(VLOOKUP($A64+8860000,'Growth Data'!$A:$F,4,0)),\"NO\",VLOOKUP($A64+8860000,'Growth Data'!$A:$F,4,0))","v":"YES"},1,null,0,{"$f":"IF(BU64=\"YES\",IF(ISERROR(VLOOKUP($A64+8860000,'Growth Data'!$A:$Z,7,0)),0,VLOOKUP($A64+8860000,'Growth Data'!$A:$Z,7,0)),0)","v":0},0,null,"NO",{"$f":"IF(ISERROR(VLOOKUP($A64+8860000,'Growth Data'!$A:$F,5,0)),\"NO\",VLOOKUP($A64+8860000,'Growth Data'!$A:$F,5,0))","v":"YES"},1,null,0,{"$f":"IF(CC64=\"YES\",IF(ISERROR(VLOOKUP($A64+8860000,'Growth Data'!$A:$Z,8,0)),0,VLOOKUP($A64+8860000,'Growth Data'!$A:$Z,8,0)),0)","v":47},-47,null,null,null,0]
[2263,"Herne Bay Infant School",null,"Herne Bay Infant School","Herne Bay Infant School",0,null,1274604.22,1274604.2159670133,0,null,0,0,0,null,1274604.22,1274604.2159670133,0,null,8858.81,8858.8083630000001,0,null,null,null,0,null,4.9000000000000004,4.9000000000000004,0,null,77501.27,null,77501,null,0,null,0,null,0,null,0,null,0,null,0,null,null,null,0,null,null,null,0,null,null,null,0,null,null,null,0,null,"NO",{"$f":"IF(ISERROR(VLOOKUP($A65+8860000,'Growth Data'!$A:$F,3,0)),\"NO\",VLOOKUP($A65+8860000,'Growth Data'!$A:$F,3,0))","v":"NO"},0,null,0,{"$f":"IF(BM65=\"YES\",IF(ISERROR(VLOOKUP($A65+8860000,'Growth Data'!$A:$F,6,0)),0,VLOOKUP($A65+8860000,'Growth Data'!$A:$F,6,0)),0)","v":0},0,null,"NO",{"$f":"IF(ISERROR(VLOOKUP($A65+8860000,'Growth Data'!$A:$F,4,0)),\"NO\",VLOOKUP($A65+8860000,'Growth Data'!$A:$F,4,0))","v":"NO"},0,null,0,{"$f":"IF(BU65=\"YES\",IF(ISERROR(VLOOKUP($A65+8860000,'Growth Data'!$A:$Z,7,0)),0,VLOOKUP($A65+8860000,'Growth Data'!$A:$Z,7,0)),0)","v":0},0,null,"YES",{"$f":"IF(ISERROR(VLOOKUP($A65+8860000,'Growth Data'!$A:$F,5,0)),\"NO\",VLOOKUP($A65+8860000,'Growth Data'!$A:$F,5,0))","v":"NO"},1,null,45,{"$f":"IF(CC65=\"YES\",IF(ISERROR(VLOOKUP($A65+8860000,'Growth Data'!$A:$Z,8,0)),0,VLOOKUP($A65+8860000,'Growth Data'!$A:$Z,8,0)),0)","v":0},45,null,null,null,0]
[2265,"Hoath Primary School",null,"Hoath Primary School","Hoath Primary School",0,null,398869.92,398869.92189959937,0,null,0,0,0,null,398869.92,398869.92189959937,0,null,2208.2800000000002,2208.2826643999997,0,null,null,null,0,null,0,0,0,null,154112.53,null,154113,null,0,null,0,null,0,null,0,null,0,null,0,null,null,null,0,null,null,null,0,null,null,null,0,null,null,null,0,null,"NO",{"$f":"IF(ISERROR(VLOOKUP($A66+8860000,'Growth Data'!$A:$F,3,0)),\"NO\",VLOOKUP($A66+8860000,'Growth Data'!$A:$F,3,0))","v":"NO"},0,null,0,{"$f":"IF(BM66=\"YES\",IF(ISERROR(VLOOKUP($A66+8860000,'Growth Data'!$A:$F,6,0)),0,VLOOKUP($A66+8860000,'Growth Data'!$A:$F,6,0)),0)","v":0},0,null,"NO",{"$f":"IF(ISERROR(VLOOKUP($A66+8860000,'Growth Data'!$A:$F,4,0)),\"NO\",VLOOKUP($A66+8860000,'Growth Data'!$A:$F,4,0))","v":"NO"},0,null,0,{"$f":"IF(BU66=\"YES\",IF(ISERROR(VLOOKUP($A66+8860000,'Growth Data'!$A:$Z,7,0)),0,VLOOKUP($A66+8860000,'Growth Data'!$A:$Z,7,0)),0)","v":0},0,null,"NO",{"$f":"IF(ISERROR(VLOOKUP($A66+8860000,'Growth Data'!$A:$F,5,0)),\"NO\",VLOOKUP($A66+8860000,'Growth Data'!$A:$F,5,0))","v":"NO"},0,null,0,{"$f":"IF(CC66=\"YES\",IF(ISERROR(VLOOKUP($A66+8860000,'Growth Data'!$A:$Z,8,0)),0,VLOOKUP($A66+8860000,'Growth Data'!$A:$Z,8,0)),0)","v":0},0,null,null,null,0]
[2268,"Westmeads Community Infant School",null,"Westmeads Community Infant School","Westmeads Community Infant School",{"$f":"IF(E67=D67,0,1)","v":0},null,681777.32,681777.31711709313,{"$f":"ROUND(H67-I67,0)","v":0},null,0,0,{"$f":"ROUND(L67-M67,0)","v":0},null,681777.32,681777.31711709313,{"$f":"ROUND(P67-Q67,0)","v":0},null,4596.3100000000004,4596.3092666000011,{"$f":"ROUND(T67-U67,0)","v":0},null,null,null,{"$f":"ROUND(X67-Y67,0)","v":0},null,0,0,{"$f":"ROUND(AB67-AC67,0)","v":0},null,28830.76,null,{"$f":"ROUND(AF67-AG67,0)","v":28831},null,3116.92,null,{"$f":"ROUND(AJ67-AK67,0)","v":3117},null,0,null,{"$f":"ROUND(AN67-AO67,0)","v":0},null,0,null,{"$f":"ROUND(AR67-AS67,0)","v":0},null,null,null,{"$f":"ROUND(AV67-AW67,0)","v":0},null,null,null,{"$f":"ROUND(AZ67-BA67,0)","v":0},null,null,null,{"$f":"ROUND(BD67-BE67,0)","v":0},null,null,null,{"$f":"ROUND(BH67-BI67,0)","v":0},null,"NO",{"$f":"IF(ISERROR(VLOOKUP($A67+8860000,'Growth Data'!$A:$F,3,0)),\"NO\",VLOOKUP($A67+8860000,'Growth Data'!$A:$F,3,0))","v":"NO"},{"$f":"IF(BL67=BM67,0,1)","v":0},null,0,{"$f":"IF(BM67=\"YES\",IF(ISERROR(VLOOKUP($A67+8860000,'Growth Data'!$A:$F,6,0)),0,VLOOKUP($A67+8860000,'Growth Data'!$A:$F,6,0)),0)","v":0},{"$f":"ROUND(BP67-BQ67,0)","v":0},null,"NO",{"$f":"IF(ISERROR(VLOOKUP($A67+8860000,'Growth Data'!$A:$F,4,0)),\"NO\",VLOOKUP($A67+8860000,'Growth Data'!$A:$F,4,0))","v":"NO"},{"$f":"IF(BT67=BU67,0,1)","v":0},null,0,{"$f":"IF(BU67=\"YES\",IF(ISERROR(VLOOKUP($A67+8860000,'Growth Data'!$A:$Z,7,0)),0,VLOOKUP($A67+8860000,'Growth Data'!$A:$Z,7,0)),0)","v":0},{"$f":"ROUND(BX67-BY67,0)","v":0},null,"NO",{"$f":"IF(ISERROR(VLOOKUP($A67+8860000,'Growth Data'!$A:$F,5,0)),\"NO\",VLOOKUP($A67+8860000,'Growth Data'!$A:$F,5,0))","v":"NO"},{"$f":"IF(CB67=CC67,0,1)","v":0},null,0,{"$f":"IF(CC67=\"YES\",IF(ISERROR(VLOOKUP($A67+8860000,'Growth Data'!$A:$Z,8,0)),0,VLOOKUP($A67+8860000,'Growth Data'!$A:$Z,8,0)),0)","v":0},{"$f":"ROUND(CF67-CG67,0)","v":0},null,null,null,{"$f":"ROUND(CJ67-CK67,0)","v":0}]
[2269,"Whitstable Junior School",null,"Whitstable Junior School","Whitstable Junior School",0,null,997161.56,997161.56150700268,0,null,0,0,0,null,997161.56,997161.56150700268,0,null,6881.63,6881.6250472000002,0,null,null,null,0,null,0,0,0,null,40555.25,null,40555,null,1944.47,null,1944,null,0,null,0,null,0,null,0,null,null,null,0,null,null,null,0,null,null,null,0,null,null,null,0,null,"NO",{"$f":"IF(ISERROR(VLOOKUP($A68+8860000,'Growth Data'!$A:$F,3,0)),\"NO\",VLOOKUP($A68+8860000,'Growth Data'!$A:$F,3,0))","v":"NO"},0,null,0,{"$f":"IF(BM68=\"YES\",IF(ISERROR(VLOOKUP($A68+8860000,'Growth Data'!$A:$F,6,0)),0,VLOOKUP($A68+8860000,'Growth Data'!$A:$F,6,0)),0)","v":0},0,null,"NO",{"$f":"IF(ISERROR(VLOOKUP($A68+8860000,'Growth Data'!$A:$F,4,0)),\"NO\",VLOOKUP($A68+8860000,'Growth Data'!$A:$F,4,0))","v":"NO"},0,null,0,{"$f":"IF(BU68=\"YES\",IF(ISERROR(VLOOKUP($A68+8860000,'Growth Data'!$A:$Z,7,0)),0,VLOOKUP($A68+8860000,'Growth Data'!$A:$Z,7,0)),0)","v":0},0,null,"NO",{"$f":"IF(ISERROR(VLOOKUP($A68+8860000,'Growth Data'!$A:$F,5,0)),\"NO\",VLOOKUP($A68+8860000,'Growth Data'!$A:$F,5,0))","v":"NO"},0,null,0,{"$f":"IF(CC68=\"YES\",IF(ISERROR(VLOOKUP($A68+8860000,'Growth Data'!$A:$Z,8,0)),0,VLOOKUP($A68+8860000,'Growth Data'!$A:$Z,8,0)),0)","v":0},0,null,null,null,0]
[2270,"Aldington Primary School",null,"Aldington Primary School","Aldington Primary School",0,null,762232.52,762232.51846664574,0,null,0,0,0,null,762232.52,762232.51846664574,0,null,5289.61,5289.6073123999995,0,null,null,null,0,null,0,0,0,null,97705.27,null,97705,null,0,null,0,null,0,null,0,null,0,null,0,null,null,null,0,null,null,null,0,null,null,null,0,null,null,null,0,null,"NO",{"$f":"IF(ISERROR(VLOOKUP($A69+8860000,'Growth Data'!$A:$F,3,0)),\"NO\",VLOOKUP($A69+8860000,'Growth Data'!$A:$F,3,0))","v":"NO"},0,null,0,{"$f":"IF(BM69=\"YES\",IF(ISERROR(VLOOKUP($A69+8860000,'Growth Data'!$A:$F,6,0)),0,VLOOKUP($A69+8860000,'Growth Data'!$A:$F,6,0)),0)","v":0},0,null,"NO",{"$f":"IF(ISERROR(VLOOKUP($A69+8860000,'Growth Data'!$A:$F,4,0)),\"NO\",VLOOKUP($A69+8860000,'Growth Data'!$A:$F,4,0))","v":"NO"},0,null,0,{"$f":"IF(BU69=\"YES\",IF(ISERROR(VLOOKUP($A69+8860000,'Growth Data'!$A:$Z,7,0)),0,VLOOKUP($A69+8860000,'Growth Data'!$A:$Z,7,0)),0)","v":0},0,null,"NO",{"$f":"IF(ISERROR(VLOOKUP($A69+8860000,'Growth Data'!$A:$F,5,0)),\"NO\",VLOOKUP($A69+8860000,'Growth Data'!$A:$F,5,0))","v":"NO"},0,null,0,{"$f":"IF(CC69=\"YES\",IF(ISERROR(VLOOKUP($A69+8860000,'Growth Data'!$A:$Z,8,0)),0,VLOOKUP($A69+8860000,'Growth Data'!$A:$Z,8,0)),0)","v":0},0,null,null,null,0]
[2272,"East Stour Primary School",null,"East Stour Primary School","East Stour Primary School",0,null,1556225.84,1556225.8360694114,0,null,0,0,0,null,1556225.84,1556225.8360694114,0,null,10476.5,10476.503803199999,0,null,null,null,0,null,4.9000000000000004,4.9000000000000004,0,null,45195.360000000001,null,45195,null,1480.46,null,1480,null,0,null,0,null,0,null,0,null,null,null,0,null,null,null,0,null,null,null,0,null,null,null,0,null,"YES",{"$f":"IF(ISERROR(VLOOKUP($A70+8860000,'Growth Data'!$A:$F,3,0)),\"NO\",VLOOKUP($A70+8860000,'Growth Data'!$A:$F,3,0))","v":"NO"},1,null,22,{"$f":"IF(BM70=\"YES\",IF(ISERROR(VLOOKUP($A70+8860000,'Growth Data'!$A:$F,6,0)),0,VLOOKUP($A70+8860000,'Growth Data'!$A:$F,6,0)),0)","v":0},22,null,"NO",{"$f":"IF(ISERROR(VLOOKUP($A70+8860000,'Growth Data'!$A:$F,4,0)),\"NO\",VLOOKUP($A70+8860000,'Growth Data'!$A:$F,4,0))","v":"NO"},0,null,0,{"$f":"IF(BU70=\"YES\",IF(ISERROR(VLOOKUP($A70+8860000,'Growth Data'!$A:$Z,7,0)),0,VLOOKUP($A70+8860000,'Growth Data'!$A:$Z,7,0)),0)","v":0},0,null,"NO",{"$f":"IF(ISERROR(VLOOKUP($A70+8860000,'Growth Data'!$A:$F,5,0)),\"NO\",VLOOKUP($A70+8860000,'Growth Data'!$A:$F,5,0))","v":"NO"},0,null,0,{"$f":"IF(CC70=\"YES\",IF(ISERROR(VLOOKUP($A70+8860000,'Growth Data'!$A:$Z,8,0)),0,VLOOKUP($A70+8860000,'Growth Data'!$A:$Z,8,0)),0)","v":0},0,null,null,null,0]
[2275,"Victoria Road Primary School",null,"Victoria Road Primary School","Victoria Road Primary School",0,null,831342.44,831342.43799014739,0,null,0,0,0,null,831342.44,831342.43799014739,0,null,5392.32,5392.3181340000001,0,null,null,null,0,null,0,0,0,null,193061.95,null,193062,null,0,null,0,null,0,null,0,null,0,null,0,null,null,null,0,null,null,null,0,null,null,null,0,null,null,null,0,null,"NO",{"$f":"IF(ISERROR(VLOOKUP($A71+8860000,'Growth Data'!$A:$F,3,0)),\"NO\",VLOOKUP($A71+8860000,'Growth Data'!$A:$F,3,0))","v":"NO"},0,null,0,{"$f":"IF(BM71=\"YES\",IF(ISERROR(VLOOKUP($A71+8860000,'Growth Data'!$A:$F,6,0)),0,VLOOKUP($A71+8860000,'Growth Data'!$A:$F,6,0)),0)","v":0},0,null,"NO",{"$f":"IF(ISERROR(VLOOKUP($A71+8860000,'Growth Data'!$A:$F,4,0)),\"NO\",VLOOKUP($A71+8860000,'Growth Data'!$A:$F,4,0))","v":"NO"},0,null,0,{"$f":"IF(BU71=\"YES\",IF(ISERROR(VLOOKUP($A71+8860000,'Growth Data'!$A:$Z,7,0)),0,VLOOKUP($A71+8860000,'Growth Data'!$A:$Z,7,0)),0)","v":0},0,null,"NO",{"$f":"IF(ISERROR(VLOOKUP($A71+8860000,'Growth Data'!$A:$F,5,0)),\"NO\",VLOOKUP($A71+8860000,'Growth Data'!$A:$F,5,0))","v":"NO"},0,null,0,{"$f":"IF(CC71=\"YES\",IF(ISERROR(VLOOKUP($A71+8860000,'Growth Data'!$A:$Z,8,0)),0,VLOOKUP($A71+8860000,'Growth Data'!$A:$Z,8,0)),0)","v":0},0,null,null,null,0]
[2276,"Willesborough Infant School",null,"Willesborough Infant School","Willesborough Infant School",0,null,1351227.25,1351227.2506524283,0,null,0,0,0,null,1351227.25,1351227.2506524283,0,null,9731.85,9731.8503466000002,0,null,null,null,0,null,0,0,0,null,92834.99,null,92835,null,0,null,0,null,0,null,0,null,0,null,0,null,null,null,0,null,null,null,0,null,null,null,0,null,null,null,0,null,"NO",{"$f":"IF(ISERROR(VLOOKUP($A72+8860000,'Growth Data'!$A:$F,3,0)),\"NO\",VLOOKUP($A72+8860000,'Growth Data'!$A:$F,3,0))","v":"NO"},0,null,0,{"$f":"IF(BM72=\"YES\",IF(ISERROR(VLOOKUP($A72+8860000,'Growth Data'!$A:$F,6,0)),0,VLOOKUP($A72+8860000,'Growth Data'!$A:$F,6,0)),0)","v":0},0,null,"NO",{"$f":"IF(ISERROR(VLOOKUP($A72+8860000,'Growth Data'!$A:$F,4,0)),\"NO\",VLOOKUP($A72+8860000,'Growth Data'!$A:$F,4,0))","v":"NO"},0,null,0,{"$f":"IF(BU72=\"YES\",IF(ISERROR(VLOOKUP($A72+8860000,'Growth Data'!$A:$Z,7,0)),0,VLOOKUP($A72+8860000,'Growth Data'!$A:$Z,7,0)),0)","v":0},0,null,"NO",{"$f":"IF(ISERROR(VLOOKUP($A72+8860000,'Growth Data'!$A:$F,5,0)),\"NO\",VLOOKUP($A72+8860000,'Growth Data'!$A:$F,5,0))","v":"NO"},0,null,0,{"$f":"IF(CC72=\"YES\",IF(ISERROR(VLOOKUP($A72+8860000,'Growth Data'!$A:$Z,8,0)),0,VLOOKUP($A72+8860000,'Growth Data'!$A:$Z,8,0)),0)","v":0},0,null,null,null,0]
[2278,"Bethersden Primary School",null,"Bethersden Primary School","Bethersden Primary School",0,null,531884.25,531884.2475939492,0,null,0,0,0,null,531884.25,531884.2475939492,0,null,3209.71,3209.7131750000003,0,null,null,null,0,null,0,0,0,null,107180.29,null,107180,null,0,null,0,null,0,null,0,null,0,null,0,null,null,null,0,null,null,null,0,null,null,null,0,null,null,null,0,null,"NO",{"$f":"IF(ISERROR(VLOOKUP($A73+8860000,'Growth Data'!$A:$F,3,0)),\"NO\",VLOOKUP($A73+8860000,'Growth Data'!$A:$F,3,0))","v":"NO"},0,null,0,{"$f":"IF(BM73=\"YES\",IF(ISERROR(VLOOKUP($A73+8860000,'Growth Data'!$A:$F,6,0)),0,VLOOKUP($A73+8860000,'Growth Data'!$A:$F,6,0)),0)","v":0},0,null,"NO",{"$f":"IF(ISERROR(VLOOKUP($A73+8860000,'Growth Data'!$A:$F,4,0)),\"NO\",VLOOKUP($A73+8860000,'Growth Data'!$A:$F,4,0))","v":"NO"},0,null,0,{"$f":"IF(BU73=\"YES\",IF(ISERROR(VLOOKUP($A73+8860000,'Growth Data'!$A:$Z,7,0)),0,VLOOKUP($A73+8860000,'Growth Data'!$A:$Z,7,0)),0)","v":0},0,null,"NO",{"$f":"IF(ISERROR(VLOOKUP($A73+8860000,'Growth Data'!$A:$F,5,0)),\"NO\",VLOOKUP($A73+8860000,'Growth Data'!$A:$F,5,0))","v":"NO"},0,null,0,{"$f":"IF(CC73=\"YES\",IF(ISERROR(VLOOKUP($A73+8860000,'Growth Data'!$A:$Z,8,0)),0,VLOOKUP($A73+8860000,'Growth Data'!$A:$Z,8,0)),0)","v":0},0,null,null,null,0]
[2279,"Brook Community Primary School",null,"Brook Community Primary School","Brook Community Primary School",0,null,403499.67,403499.66739442095,0,null,0,0,0,null,403499.67,403499.66739442095,0,null,2259.64,2259.6380752000005,0,null,null,null,0,null,0,0,0,null,39780.879999999997,null,39781,null,2021.91,null,2022,null,0,null,0,null,0,null,0,null,null,null,0,null,null,null,0,null,null,null,0,null,null,null,0,null,"NO",{"$f":"IF(ISERROR(VLOOKUP($A74+8860000,'Growth Data'!$A:$F,3,0)),\"NO\",VLOOKUP($A74+8860000,'Growth Data'!$A:$F,3,0))","v":"NO"},0,null,0,{"$f":"IF(BM74=\"YES\",IF(ISERROR(VLOOKUP($A74+8860000,'Growth Data'!$A:$F,6,0)),0,VLOOKUP($A74+8860000,'Growth Data'!$A:$F,6,0)),0)","v":0},0,null,"NO",{"$f":"IF(ISERROR(VLOOKUP($A74+8860000,'Growth Data'!$A:$F,4,0)),\"NO\",VLOOKUP($A74+8860000,'Growth Data'!$A:$F,4,0))","v":"NO"},0,null,0,{"$f":"IF(BU74=\"YES\",IF(ISERROR(VLOOKUP($A74+8860000,'Growth Data'!$A:$Z,7,0)),0,VLOOKUP($A74+8860000,'Growth Data'!$A:$Z,7,0)),0)","v":0},0,null,"NO",{"$f":"IF(ISERROR(VLOOKUP($A74+8860000,'Growth Data'!$A:$F,5,0)),\"NO\",VLOOKUP($A74+8860000,'Growth Data'!$A:$F,5,0))","v":"NO"},0,null,0,{"$f":"IF(CC74=\"YES\",IF(ISERROR(VLOOKUP($A74+8860000,'Growth Data'!$A:$Z,8,0)),0,VLOOKUP($A74+8860000,'Growth Data'!$A:$Z,8,0)),0)","v":0},0,null,null,null,0]
[2280,"Challock Primary School",null,"Challock Primary School","Challock Primary School",0,null,761997.03,761997.02937557525,0,null,0,0,0,null,761997.03,761997.02937557525,0,null,5418,5417.9958393999996,0,null,null,null,0,null,0,0,0,null,29958.71,null,29959,null,3004.13,null,3004,null,0,null,0,null,0,null,0,null,null,null,0,null,null,null,0,null,null,null,0,null,null,null,0,null,"NO",{"$f":"IF(ISERROR(VLOOKUP($A75+8860000,'Growth Data'!$A:$F,3,0)),\"NO\",VLOOKUP($A75+8860000,'Growth Data'!$A:$F,3,0))","v":"NO"},0,null,0,{"$f":"IF(BM75=\"YES\",IF(ISERROR(VLOOKUP($A75+8860000,'Growth Data'!$A:$F,6,0)),0,VLOOKUP($A75+8860000,'Growth Data'!$A:$F,6,0)),0)","v":0},0,null,"NO",{"$f":"IF(ISERROR(VLOOKUP($A75+8860000,'Growth Data'!$A:$F,4,0)),\"NO\",VLOOKUP($A75+8860000,'Growth Data'!$A:$F,4,0))","v":"NO"},0,null,0,{"$f":"IF(BU75=\"YES\",IF(ISERROR(VLOOKUP($A75+8860000,'Growth Data'!$A:$Z,7,0)),0,VLOOKUP($A75+8860000,'Growth Data'!$A:$Z,7,0)),0)","v":0},0,null,"NO",{"$f":"IF(ISERROR(VLOOKUP($A75+8860000,'Growth Data'!$A:$F,5,0)),\"NO\",VLOOKUP($A75+8860000,'Growth Data'!$A:$F,5,0))","v":"NO"},0,null,0,{"$f":"IF(CC75=\"YES\",IF(ISERROR(VLOOKUP($A75+8860000,'Growth Data'!$A:$Z,8,0)),0,VLOOKUP($A75+8860000,'Growth Data'!$A:$Z,8,0)),0)","v":0},0,null,null,null,0]
[2282,"Great Chart Primary School",null,"Great Chart Primary School","Great Chart Primary School",0,null,1679422,1679422,0,null,0,0,0,null,1679422,1679422,0,null,12402.33,12402.331708199999,0,null,null,null,0,null,0,0,0,null,40596.03,null,40596,null,1940.4,null,1940,null,0,null,0,null,0,null,0,null,null,null,0,null,null,null,0,null,null,null,0,null,null,null,0,null,"NO",{"$f":"IF(ISERROR(VLOOKUP($A76+8860000,'Growth Data'!$A:$F,3,0)),\"NO\",VLOOKUP($A76+8860000,'Growth Data'!$A:$F,3,0))","v":"NO"},0,null,0,{"$f":"IF(BM76=\"YES\",IF(ISERROR(VLOOKUP($A76+8860000,'Growth Data'!$A:$F,6,0)),0,VLOOKUP($A76+8860000,'Growth Data'!$A:$F,6,0)),0)","v":0},0,null,"NO",{"$f":"IF(ISERROR(VLOOKUP($A76+8860000,'Growth Data'!$A:$F,4,0)),\"NO\",VLOOKUP($A76+8860000,'Growth Data'!$A:$F,4,0))","v":"NO"},0,null,0,{"$f":"IF(BU76=\"YES\",IF(ISERROR(VLOOKUP($A76+8860000,'Growth Data'!$A:$Z,7,0)),0,VLOOKUP($A76+8860000,'Growth Data'!$A:$Z,7,0)),0)","v":0},0,null,"NO",{"$f":"IF(ISERROR(VLOOKUP($A76+8860000,'Growth Data'!$A:$F,5,0)),\"NO\",VLOOKUP($A76+8860000,'Growth Data'!$A:$F,5,0))","v":"NO"},0,null,0,{"$f":"IF(CC76=\"YES\",IF(ISERROR(VLOOKUP($A76+8860000,'Growth Data'!$A:$Z,8,0)),0,VLOOKUP($A76+8860000,'Growth Data'!$A:$Z,8,0)),0)","v":0},0,null,null,null,0]
[2285,"Mersham Primary School",null,"Mersham Primary School","Mersham Primary School",0,null,717710.11,717710.11067558755,0,null,0,0,0,null,717710.11,717710.11067558755,0,null,5109.8599999999997,5109.8633746000005,0,null,null,null,0,null,0,0,0,null,102641.56,null,102642,null,0,null,0,null,0,null,0,null,0,null,0,null,null,null,0,null,null,null,0,null,null,null,0,null,null,null,0,null,"NO",{"$f":"IF(ISERROR(VLOOKUP($A77+8860000,'Growth Data'!$A:$F,3,0)),\"NO\",VLOOKUP($A77+8860000,'Growth Data'!$A:$F,3,0))","v":"NO"},0,null,0,{"$f":"IF(BM77=\"YES\",IF(ISERROR(VLOOKUP($A77+8860000,'Growth Data'!$A:$F,6,0)),0,VLOOKUP($A77+8860000,'Growth Data'!$A:$F,6,0)),0)","v":0},0,null,"NO",{"$f":"IF(ISERROR(VLOOKUP($A77+8860000,'Growth Data'!$A:$F,4,0)),\"NO\",VLOOKUP($A77+8860000,'Growth Data'!$A:$F,4,0))","v":"NO"},0,null,0,{"$f":"IF(BU77=\"YES\",IF(ISERROR(VLOOKUP($A77+8860000,'Growth Data'!$A:$Z,7,0)),0,VLOOKUP($A77+8860000,'Growth Data'!$A:$Z,7,0)),0)","v":0},0,null,"NO",{"$f":"IF(ISERROR(VLOOKUP($A77+8860000,'Growth Data'!$A:$F,5,0)),\"NO\",VLOOKUP($A77+8860000,'Growth Data'!$A:$F,5,0))","v":"NO"},0,null,0,{"$f":"IF(CC77=\"YES\",IF(ISERROR(VLOOKUP($A77+8860000,'Growth Data'!$A:$Z,8,0)),0,VLOOKUP($A77+8860000,'Growth Data'!$A:$Z,8,0)),0)","v":0},0,null,null,null,0]
[2287,"Rolvenden Primary School",null,"Rolvenden Primary School","Rolvenden Primary School",0,null,484230.77,484230.77297699515,0,null,0,0,0,null,484230.77,484230.77297699515,0,null,2721.84,2721.8367724,0,null,null,null,0,null,0,0,0,null,40134,null,40134,null,1986.6,null,1987,null,0,null,0,null,0,null,0,null,null,null,0,null,null,null,0,null,null,null,0,null,null,null,0,null,"NO",{"$f":"IF(ISERROR(VLOOKUP($A78+8860000,'Growth Data'!$A:$F,3,0)),\"NO\",VLOOKUP($A78+8860000,'Growth Data'!$A:$F,3,0))","v":"NO"},0,null,0,{"$f":"IF(BM78=\"YES\",IF(ISERROR(VLOOKUP($A78+8860000,'Growth Data'!$A:$F,6,0)),0,VLOOKUP($A78+8860000,'Growth Data'!$A:$F,6,0)),0)","v":0},0,null,"NO",{"$f":"IF(ISERROR(VLOOKUP($A78+8860000,'Growth Data'!$A:$F,4,0)),\"NO\",VLOOKUP($A78+8860000,'Growth Data'!$A:$F,4,0))","v":"NO"},0,null,0,{"$f":"IF(BU78=\"YES\",IF(ISERROR(VLOOKUP($A78+8860000,'Growth Data'!$A:$Z,7,0)),0,VLOOKUP($A78+8860000,'Growth Data'!$A:$Z,7,0)),0)","v":0},0,null,"NO",{"$f":"IF(ISERROR(VLOOKUP($A78+8860000,'Growth Data'!$A:$F,5,0)),\"NO\",VLOOKUP($A78+8860000,'Growth Data'!$A:$F,5,0))","v":"NO"},0,null,0,{"$f":"IF(CC78=\"YES\",IF(ISERROR(VLOOKUP($A78+8860000,'Growth Data'!$A:$Z,8,0)),0,VLOOKUP($A78+8860000,'Growth Data'!$A:$Z,8,0)),0)","v":0},0,null,null,null,0]
[2289,"Smeeth Community Primary School",null,"Smeeth Community Primary School","Smeeth Community Primary School",0,null,546433.64,546433.64467871003,0,null,0,0,0,null,546433.64,546433.64467871003,0,null,3543.52,3543.5233452000002,0,null,null,null,0,null,0,0,0,null,42401.9,null,42402,null,1759.81,null,1760,null,0,null,0,null,0,null,0,null,null,null,0,null,null,null,0,null,null,null,0,null,null,null,0,null,"NO",{"$f":"IF(ISERROR(VLOOKUP($A79+8860000,'Growth Data'!$A:$F,3,0)),\"NO\",VLOOKUP($A79+8860000,'Growth Data'!$A:$F,3,0))","v":"NO"},0,null,0,{"$f":"IF(BM79=\"YES\",IF(ISERROR(VLOOKUP($A79+8860000,'Growth Data'!$A:$F,6,0)),0,VLOOKUP($A79+8860000,'Growth Data'!$A:$F,6,0)),0)","v":0},0,null,"NO",{"$f":"IF(ISERROR(VLOOKUP($A79+8860000,'Growth Data'!$A:$F,4,0)),\"NO\",VLOOKUP($A79+8860000,'Growth Data'!$A:$F,4,0))","v":"NO"},0,null,0,{"$f":"IF(BU79=\"YES\",IF(ISERROR(VLOOKUP($A79+8860000,'Growth Data'!$A:$Z,7,0)),0,VLOOKUP($A79+8860000,'Growth Data'!$A:$Z,7,0)),0)","v":0},0,null,"NO",{"$f":"IF(ISERROR(VLOOKUP($A79+8860000,'Growth Data'!$A:$F,5,0)),\"NO\",VLOOKUP($A79+8860000,'Growth Data'!$A:$F,5,0))","v":"NO"},0,null,0,{"$f":"IF(CC79=\"YES\",IF(ISERROR(VLOOKUP($A79+8860000,'Growth Data'!$A:$Z,8,0)),0,VLOOKUP($A79+8860000,'Growth Data'!$A:$Z,8,0)),0)","v":0},0,null,null,null,0]
[2296,"Mundella Primary School",null,"Mundella Primary School","Mundella Primary School",0,null,868622.5,868622.50211785024,0,null,0,0,0,null,868622.5,868622.50211785024,0,null,4981.47,4981.4748475999986,0,null,null,null,0,null,0,0,0,null,33598.42,null,33598,null,2640.16,null,2640,null,0,null,0,null,0,null,0,null,null,null,0,null,null,null,0,null,null,null,0,null,null,null,0,null,"NO",{"$f":"IF(ISERROR(VLOOKUP($A80+8860000,'Growth Data'!$A:$F,3,0)),\"NO\",VLOOKUP($A80+8860000,'Growth Data'!$A:$F,3,0))","v":"NO"},0,null,0,{"$f":"IF(BM80=\"YES\",IF(ISERROR(VLOOKUP($A80+8860000,'Growth Data'!$A:$F,6,0)),0,VLOOKUP($A80+8860000,'Growth Data'!$A:$F,6,0)),0)","v":0},0,null,"NO",{"$f":"IF(ISERROR(VLOOKUP($A80+8860000,'Growth Data'!$A:$F,4,0)),\"NO\",VLOOKUP($A80+8860000,'Growth Data'!$A:$F,4,0))","v":"NO"},0,null,0,{"$f":"IF(BU80=\"YES\",IF(ISERROR(VLOOKUP($A80+8860000,'Growth Data'!$A:$Z,7,0)),0,VLOOKUP($A80+8860000,'Growth Data'!$A:$Z,7,0)),0)","v":0},0,null,"NO",{"$f":"IF(ISERROR(VLOOKUP($A80+8860000,'Growth Data'!$A:$F,5,0)),\"NO\",VLOOKUP($A80+8860000,'Growth Data'!$A:$F,5,0))","v":"NO"},0,null,0,{"$f":"IF(CC80=\"YES\",IF(ISERROR(VLOOKUP($A80+8860000,'Growth Data'!$A:$Z,8,0)),0,VLOOKUP($A80+8860000,'Growth Data'!$A:$Z,8,0)),0)","v":0},0,null,null,null,0]
[2298,"Hawkinge Primary School",null,"Hawkinge Primary School","Hawkinge Primary School",0,null,1323165.77,1323165.7688930249,0,null,0,0,0,null,1323165.77,1323165.7688930249,0,null,9526.43,9526.4287034000008,0,null,null,null,0,null,0,0,0,null,153876.04,null,153876,null,0,null,0,null,0,null,0,null,0,null,0,null,null,null,0,null,null,null,0,null,null,null,0,null,null,null,0,null,"NO",{"$f":"IF(ISERROR(VLOOKUP($A81+8860000,'Growth Data'!$A:$F,3,0)),\"NO\",VLOOKUP($A81+8860000,'Growth Data'!$A:$F,3,0))","v":"YES"},1,null,0,{"$f":"IF(BM81=\"YES\",IF(ISERROR(VLOOKUP($A81+8860000,'Growth Data'!$A:$F,6,0)),0,VLOOKUP($A81+8860000,'Growth Data'!$A:$F,6,0)),0)","v":45},-45,null,"NO",{"$f":"IF(ISERROR(VLOOKUP($A81+8860000,'Growth Data'!$A:$F,4,0)),\"NO\",VLOOKUP($A81+8860000,'Growth Data'!$A:$F,4,0))","v":"NO"},0,null,0,{"$f":"IF(BU81=\"YES\",IF(ISERROR(VLOOKUP($A81+8860000,'Growth Data'!$A:$Z,7,0)),0,VLOOKUP($A81+8860000,'Growth Data'!$A:$Z,7,0)),0)","v":0},0,null,"NO",{"$f":"IF(ISERROR(VLOOKUP($A81+8860000,'Growth Data'!$A:$F,5,0)),\"NO\",VLOOKUP($A81+8860000,'Growth Data'!$A:$F,5,0))","v":"NO"},0,null,0,{"$f":"IF(CC81=\"YES\",IF(ISERROR(VLOOKUP($A81+8860000,'Growth Data'!$A:$Z,8,0)),0,VLOOKUP($A81+8860000,'Growth Data'!$A:$Z,8,0)),0)","v":0},0,null,null,null,0]
[2300,"Sellindge Primary School",null,"Sellindge Primary School","Sellindge Primary School",0,null,465876.38,465876.37942039763,0,null,0,0,0,null,465876.38,465876.37942039763,0,null,2850.23,2850.2252994,0,null,null,null,0,null,0,0,0,null,133182.31,null,133182,null,0,null,0,null,0,null,0,null,0,null,0,null,null,null,0,null,null,null,0,null,null,null,0,null,null,null,0,null,"YES",{"$f":"IF(ISERROR(VLOOKUP($A82+8860000,'Growth Data'!$A:$F,3,0)),\"NO\",VLOOKUP($A82+8860000,'Growth Data'!$A:$F,3,0))","v":"NO"},1,null,45,{"$f":"IF(BM82=\"YES\",IF(ISERROR(VLOOKUP($A82+8860000,'Growth Data'!$A:$F,6,0)),0,VLOOKUP($A82+8860000,'Growth Data'!$A:$F,6,0)),0)","v":0},45,null,"YES",{"$f":"IF(ISERROR(VLOOKUP($A82+8860000,'Growth Data'!$A:$F,4,0)),\"NO\",VLOOKUP($A82+8860000,'Growth Data'!$A:$F,4,0))","v":"NO"},1,null,45,{"$f":"IF(BU82=\"YES\",IF(ISERROR(VLOOKUP($A82+8860000,'Growth Data'!$A:$Z,7,0)),0,VLOOKUP($A82+8860000,'Growth Data'!$A:$Z,7,0)),0)","v":0},45,null,"NO",{"$f":"IF(ISERROR(VLOOKUP($A82+8860000,'Growth Data'!$A:$F,5,0)),\"NO\",VLOOKUP($A82+8860000,'Growth Data'!$A:$F,5,0))","v":"NO"},0,null,0,{"$f":"IF(CC82=\"YES\",IF(ISERROR(VLOOKUP($A82+8860000,'Growth Data'!$A:$Z,8,0)),0,VLOOKUP($A82+8860000,'Growth Data'!$A:$Z,8,0)),0)","v":0},0,null,null,null,0]
[2312,"River Primary School",null,"River Primary School","River Primary School",0,null,1495169.47,1495169.4659156231,0,null,0,0,0,null,1495169.47,1495169.4659156231,0,null,10990.06,10990.057911200001,0,null,null,null,0,null,0,0,0,null,23722.01,null,23722,null,3627.8,null,3628,null,0,null,0,null,0,null,0,null,null,null,0,null,null,null,0,null,null,null,0,null,null,null,0,null,"NO",{"$f":"IF(ISERROR(VLOOKUP($A83+8860000,'Growth Data'!$A:$F,3,0)),\"NO\",VLOOKUP($A83+8860000,'Growth Data'!$A:$F,3,0))","v":"NO"},0,null,0,{"$f":"IF(BM83=\"YES\",IF(ISERROR(VLOOKUP($A83+8860000,'Growth Data'!$A:$F,6,0)),0,VLOOKUP($A83+8860000,'Growth Data'!$A:$F,6,0)),0)","v":0},0,null,"NO",{"$f":"IF(ISERROR(VLOOKUP($A83+8860000,'Growth Data'!$A:$F,4,0)),\"NO\",VLOOKUP($A83+8860000,'Growth Data'!$A:$F,4,0))","v":"NO"},0,null,0,{"$f":"IF(BU83=\"YES\",IF(ISERROR(VLOOKUP($A83+8860000,'Growth Data'!$A:$Z,7,0)),0,VLOOKUP($A83+8860000,'Growth Data'!$A:$Z,7,0)),0)","v":0},0,null,"NO",{"$f":"IF(ISERROR(VLOOKUP($A83+8860000,'Growth Data'!$A:$F,5,0)),\"NO\",VLOOKUP($A83+8860000,'Growth Data'!$A:$F,5,0))","v":"NO"},0,null,0,{"$f":"IF(CC83=\"YES\",IF(ISERROR(VLOOKUP($A83+8860000,'Growth Data'!$A:$Z,8,0)),0,VLOOKUP($A83+8860000,'Growth Data'!$A:$Z,8,0)),0)","v":0},0,null,null,null,0]
[2318,"Langdon Primary School",null,"Langdon Primary School","Langdon Primary School",0,null,377042.56,377042.56450084626,0,null,0,0,0,null,377042.56,377042.56450084626,0,null,2105.5700000000002,2105.5718428000005,0,null,null,null,0,null,0,0,0,null,136965.84,null,136966,null,0,null,0,null,0,null,0,null,0,null,0,null,null,null,0,null,null,null,0,null,null,null,0,null,null,null,0,null,"NO",{"$f":"IF(ISERROR(VLOOKUP($A84+8860000,'Growth Data'!$A:$F,3,0)),\"NO\",VLOOKUP($A84+8860000,'Growth Data'!$A:$F,3,0))","v":"NO"},0,null,0,{"$f":"IF(BM84=\"YES\",IF(ISERROR(VLOOKUP($A84+8860000,'Growth Data'!$A:$F,6,0)),0,VLOOKUP($A84+8860000,'Growth Data'!$A:$F,6,0)),0)","v":0},0,null,"NO",{"$f":"IF(ISERROR(VLOOKUP($A84+8860000,'Growth Data'!$A:$F,4,0)),\"NO\",VLOOKUP($A84+8860000,'Growth Data'!$A:$F,4,0))","v":"NO"},0,null,0,{"$f":"IF(BU84=\"YES\",IF(ISERROR(VLOOKUP($A84+8860000,'Growth Data'!$A:$Z,7,0)),0,VLOOKUP($A84+8860000,'Growth Data'!$A:$Z,7,0)),0)","v":0},0,null,"NO",{"$f":"IF(ISERROR(VLOOKUP($A84+8860000,'Growth Data'!$A:$F,5,0)),\"NO\",VLOOKUP($A84+8860000,'Growth Data'!$A:$F,5,0))","v":"NO"},0,null,0,{"$f":"IF(CC84=\"YES\",IF(ISERROR(VLOOKUP($A84+8860000,'Growth Data'!$A:$Z,8,0)),0,VLOOKUP($A84+8860000,'Growth Data'!$A:$Z,8,0)),0)","v":0},0,null,null,null,0]
[2320,"Eythorne Elvington Community Primary School",null,"Eythorne Elvington Community Primary School","Eythorne Elvington Community Primary School",0,null,496016.76,496016.7557554355,0,null,0,0,0,null,496016.76,496016.7557554355,0,null,2644.8,2644.8036561999998,0,null,null,null,0,null,0,0,0,null,25287.16,null,25287,null,3471.28,null,3471,null,0,null,0,null,0,null,0,null,null,null,0,null,null,null,0,null,null,null,0,null,null,null,0,null,"NO",{"$f":"IF(ISERROR(VLOOKUP($A85+8860000,'Growth Data'!$A:$F,3,0)),\"NO\",VLOOKUP($A85+8860000,'Growth Data'!$A:$F,3,0))","v":"NO"},0,null,0,{"$f":"IF(BM85=\"YES\",IF(ISERROR(VLOOKUP($A85+8860000,'Growth Data'!$A:$F,6,0)),0,VLOOKUP($A85+8860000,'Growth Data'!$A:$F,6,0)),0)","v":0},0,null,"NO",{"$f":"IF(ISERROR(VLOOKUP($A85+8860000,'Growth Data'!$A:$F,4,0)),\"NO\",VLOOKUP($A85+8860000,'Growth Data'!$A:$F,4,0))","v":"NO"},0,null,0,{"$f":"IF(BU85=\"YES\",IF(ISERROR(VLOOKUP($A85+8860000,'Growth Data'!$A:$Z,7,0)),0,VLOOKUP($A85+8860000,'Growth Data'!$A:$Z,7,0)),0)","v":0},0,null,"NO",{"$f":"IF(ISERROR(VLOOKUP($A85+8860000,'Growth Data'!$A:$F,5,0)),\"NO\",VLOOKUP($A85+8860000,'Growth Data'!$A:$F,5,0))","v":"NO"},0,null,0,{"$f":"IF(CC85=\"YES\",IF(ISERROR(VLOOKUP($A85+8860000,'Growth Data'!$A:$Z,8,0)),0,VLOOKUP($A85+8860000,'Growth Data'!$A:$Z,8,0)),0)","v":0},0,null,null,null,0]
[2321,"Lydden Primary School",null,"Lydden Primary School","Lydden Primary School",0,null,394742.47,394742.46671796223,0,null,0,0,0,null,394742.47,394742.46671796223,0,null,2310.9899999999998,2310.9934859999998,0,null,null,null,0,null,0,0,0,null,55151.72,null,55152,null,484.83,null,485,null,48000,null,48000,null,72000,null,72000,null,null,null,0,null,null,null,0,null,null,null,0,null,null,null,0,null,"NO",{"$f":"IF(ISERROR(VLOOKUP($A86+8860000,'Growth Data'!$A:$F,3,0)),\"NO\",VLOOKUP($A86+8860000,'Growth Data'!$A:$F,3,0))","v":"NO"},0,null,0,{"$f":"IF(BM86=\"YES\",IF(ISERROR(VLOOKUP($A86+8860000,'Growth Data'!$A:$F,6,0)),0,VLOOKUP($A86+8860000,'Growth Data'!$A:$F,6,0)),0)","v":0},0,null,"NO",{"$f":"IF(ISERROR(VLOOKUP($A86+8860000,'Growth Data'!$A:$F,4,0)),\"NO\",VLOOKUP($A86+8860000,'Growth Data'!$A:$F,4,0))","v":"NO"},0,null,0,{"$f":"IF(BU86=\"YES\",IF(ISERROR(VLOOKUP($A86+8860000,'Growth Data'!$A:$Z,7,0)),0,VLOOKUP($A86+8860000,'Growth Data'!$A:$Z,7,0)),0)","v":0},0,null,"NO",{"$f":"IF(ISERROR(VLOOKUP($A86+8860000,'Growth Data'!$A:$F,5,0)),\"NO\",VLOOKUP($A86+8860000,'Growth Data'!$A:$F,5,0))","v":"NO"},0,null,0,{"$f":"IF(CC86=\"YES\",IF(ISERROR(VLOOKUP($A86+8860000,'Growth Data'!$A:$Z,8,0)),0,VLOOKUP($A86+8860000,'Growth Data'!$A:$Z,8,0)),0)","v":0},0,null,null,null,0]
[2322,"Preston Primary School",null,"Preston Primary School","Preston Primary School",0,null,506871.58,506871.57956617628,0,null,0,0,0,null,506871.58,506871.57956617628,0,null,3107,3107.0023534000002,0,null,null,null,0,null,0,0,0,null,22481.62,null,22482,null,3751.84,null,3752,null,0,null,0,null,0,null,0,null,null,null,0,null,null,null,0,null,null,null,0,null,null,null,0,null,"NO",{"$f":"IF(ISERROR(VLOOKUP($A87+8860000,'Growth Data'!$A:$F,3,0)),\"NO\",VLOOKUP($A87+8860000,'Growth Data'!$A:$F,3,0))","v":"NO"},0,null,0,{"$f":"IF(BM87=\"YES\",IF(ISERROR(VLOOKUP($A87+8860000,'Growth Data'!$A:$F,6,0)),0,VLOOKUP($A87+8860000,'Growth Data'!$A:$F,6,0)),0)","v":0},0,null,"NO",{"$f":"IF(ISERROR(VLOOKUP($A87+8860000,'Growth Data'!$A:$F,4,0)),\"NO\",VLOOKUP($A87+8860000,'Growth Data'!$A:$F,4,0))","v":"NO"},0,null,0,{"$f":"IF(BU87=\"YES\",IF(ISERROR(VLOOKUP($A87+8860000,'Growth Data'!$A:$Z,7,0)),0,VLOOKUP($A87+8860000,'Growth Data'!$A:$Z,7,0)),0)","v":0},0,null,"NO",{"$f":"IF(ISERROR(VLOOKUP($A87+8860000,'Growth Data'!$A:$F,5,0)),\"NO\",VLOOKUP($A87+8860000,'Growth Data'!$A:$F,5,0))","v":"NO"},0,null,0,{"$f":"IF(CC87=\"YES\",IF(ISERROR(VLOOKUP($A87+8860000,'Growth Data'!$A:$Z,8,0)),0,VLOOKUP($A87+8860000,'Growth Data'!$A:$Z,8,0)),0)","v":0},0,null,null,null,0]
[2326,"Wingham Primary School",null,"Wingham Primary School","Wingham Primary School",0,null,749443.94,749443.93760281312,0,null,0,0,0,null,749443.94,749443.93760281312,0,null,5084.1899999999996,5084.1856692000001,0,null,null,null,0,null,0,0,0,null,34040.18,null,34040,null,2595.98,null,2596,null,0,null,0,null,0,null,0,null,null,null,0,null,null,null,0,null,null,null,0,null,null,null,0,null,"NO",{"$f":"IF(ISERROR(VLOOKUP($A88+8860000,'Growth Data'!$A:$F,3,0)),\"NO\",VLOOKUP($A88+8860000,'Growth Data'!$A:$F,3,0))","v":"NO"},0,null,0,{"$f":"IF(BM88=\"YES\",IF(ISERROR(VLOOKUP($A88+8860000,'Growth Data'!$A:$F,6,0)),0,VLOOKUP($A88+8860000,'Growth Data'!$A:$F,6,0)),0)","v":0},0,null,"NO",{"$f":"IF(ISERROR(VLOOKUP($A88+8860000,'Growth Data'!$A:$F,4,0)),\"NO\",VLOOKUP($A88+8860000,'Growth Data'!$A:$F,4,0))","v":"NO"},0,null,0,{"$f":"IF(BU88=\"YES\",IF(ISERROR(VLOOKUP($A88+8860000,'Growth Data'!$A:$Z,7,0)),0,VLOOKUP($A88+8860000,'Growth Data'!$A:$Z,7,0)),0)","v":0},0,null,"NO",{"$f":"IF(ISERROR(VLOOKUP($A88+8860000,'Growth Data'!$A:$F,5,0)),\"NO\",VLOOKUP($A88+8860000,'Growth Data'!$A:$F,5,0))","v":"NO"},0,null,0,{"$f":"IF(CC88=\"YES\",IF(ISERROR(VLOOKUP($A88+8860000,'Growth Data'!$A:$Z,8,0)),0,VLOOKUP($A88+8860000,'Growth Data'!$A:$Z,8,0)),0)","v":0},0,null,null,null,0]
[2327,"Worth Primary School",null,"Worth Primary School","Worth Primary School",0,null,331137.38,331137.37618963287,0,null,0,0,0,null,331137.38,331137.37618963287,0,null,1694.73,1694.7285563999997,0,null,null,null,0,null,0,0,0,null,43991.02,null,43991,null,1600.9,null,1601,null,0,null,0,null,0,null,0,null,null,null,0,null,null,null,0,null,null,null,0,null,null,null,0,null,"NO",{"$f":"IF(ISERROR(VLOOKUP($A89+8860000,'Growth Data'!$A:$F,3,0)),\"NO\",VLOOKUP($A89+8860000,'Growth Data'!$A:$F,3,0))","v":"NO"},0,null,0,{"$f":"IF(BM89=\"YES\",IF(ISERROR(VLOOKUP($A89+8860000,'Growth Data'!$A:$F,6,0)),0,VLOOKUP($A89+8860000,'Growth Data'!$A:$F,6,0)),0)","v":0},0,null,"NO",{"$f":"IF(ISERROR(VLOOKUP($A89+8860000,'Growth Data'!$A:$F,4,0)),\"NO\",VLOOKUP($A89+8860000,'Growth Data'!$A:$F,4,0))","v":"NO"},0,null,0,{"$f":"IF(BU89=\"YES\",IF(ISERROR(VLOOKUP($A89+8860000,'Growth Data'!$A:$Z,7,0)),0,VLOOKUP($A89+8860000,'Growth Data'!$A:$Z,7,0)),0)","v":0},0,null,"NO",{"$f":"IF(ISERROR(VLOOKUP($A89+8860000,'Growth Data'!$A:$F,5,0)),\"NO\",VLOOKUP($A89+8860000,'Growth Data'!$A:$F,5,0))","v":"NO"},0,null,0,{"$f":"IF(CC89=\"YES\",IF(ISERROR(VLOOKUP($A89+8860000,'Growth Data'!$A:$Z,8,0)),0,VLOOKUP($A89+8860000,'Growth Data'!$A:$Z,8,0)),0)","v":0},0,null,null,null,0]
[2328,"St Mildred's Primary Infant School",null,"St Mildred's Primary Infant School","St Mildred's Primary Infant School",0,null,989941.46,989941.45705560292,0,null,0,0,0,null,989941.46,989941.45705560292,0,null,6932.98,6932.980458,0,null,null,null,0,null,0,0,0,null,23554.17,null,23554,null,3644.58,null,3645,null,0,null,0,null,0,null,0,null,null,null,0,null,null,null,0,null,null,null,0,null,null,null,0,null,"NO",{"$f":"IF(ISERROR(VLOOKUP($A90+8860000,'Growth Data'!$A:$F,3,0)),\"NO\",VLOOKUP($A90+8860000,'Growth Data'!$A:$F,3,0))","v":"NO"},0,null,0,{"$f":"IF(BM90=\"YES\",IF(ISERROR(VLOOKUP($A90+8860000,'Growth Data'!$A:$F,6,0)),0,VLOOKUP($A90+8860000,'Growth Data'!$A:$F,6,0)),0)","v":0},0,null,"NO",{"$f":"IF(ISERROR(VLOOKUP($A90+8860000,'Growth Data'!$A:$F,4,0)),\"NO\",VLOOKUP($A90+8860000,'Growth Data'!$A:$F,4,0))","v":"NO"},0,null,0,{"$f":"IF(BU90=\"YES\",IF(ISERROR(VLOOKUP($A90+8860000,'Growth Data'!$A:$Z,7,0)),0,VLOOKUP($A90+8860000,'Growth Data'!$A:$Z,7,0)),0)","v":0},0,null,"NO",{"$f":"IF(ISERROR(VLOOKUP($A90+8860000,'Growth Data'!$A:$F,5,0)),\"NO\",VLOOKUP($A90+8860000,'Growth Data'!$A:$F,5,0))","v":"NO"},0,null,0,{"$f":"IF(CC90=\"YES\",IF(ISERROR(VLOOKUP($A90+8860000,'Growth Data'!$A:$Z,8,0)),0,VLOOKUP($A90+8860000,'Growth Data'!$A:$Z,8,0)),0)","v":0},0,null,null,null,0]
[2329,"Callis Grange Nursery & Infant School",null,"Callis Grange Nursery & Infant School","Callis Grange Nursery & Infant School",0,null,1013391.05,1013391.0493283081,0,null,0,0,0,null,1013391.05,1013391.0493283081,0,null,6855.95,6855.9473417999998,0,null,null,null,0,null,4.9000000000000004,4.9000000000000004,0,null,79570.81,null,79571,null,0,null,0,null,0,null,0,null,0,null,0,null,null,null,0,null,null,null,0,null,null,null,0,null,null,null,0,null,"NO",{"$f":"IF(ISERROR(VLOOKUP($A91+8860000,'Growth Data'!$A:$F,3,0)),\"NO\",VLOOKUP($A91+8860000,'Growth Data'!$A:$F,3,0))","v":"NO"},0,null,0,{"$f":"IF(BM91=\"YES\",IF(ISERROR(VLOOKUP($A91+8860000,'Growth Data'!$A:$F,6,0)),0,VLOOKUP($A91+8860000,'Growth Data'!$A:$F,6,0)),0)","v":0},0,null,"NO",{"$f":"IF(ISERROR(VLOOKUP($A91+8860000,'Growth Data'!$A:$F,4,0)),\"NO\",VLOOKUP($A91+8860000,'Growth Data'!$A:$F,4,0))","v":"NO"},0,null,0,{"$f":"IF(BU91=\"YES\",IF(ISERROR(VLOOKUP($A91+8860000,'Growth Data'!$A:$Z,7,0)),0,VLOOKUP($A91+8860000,'Growth Data'!$A:$Z,7,0)),0)","v":0},0,null,"NO",{"$f":"IF(ISERROR(VLOOKUP($A91+8860000,'Growth Data'!$A:$F,5,0)),\"NO\",VLOOKUP($A91+8860000,'Growth Data'!$A:$F,5,0))","v":"NO"},0,null,0,{"$f":"IF(CC91=\"YES\",IF(ISERROR(VLOOKUP($A91+8860000,'Growth Data'!$A:$Z,8,0)),0,VLOOKUP($A91+8860000,'Growth Data'!$A:$Z,8,0)),0)","v":0},0,null,null,null,0]
[2337,"St Crispin's Community Primary Infant School",null,"St Crispin's Community Primary Infant School","St Crispin's Community Primary Infant School",0,null,961038.34,961038.33787233464,0,null,0,0,0,null,961038.34,961038.33787233464,0,null,6881.63,6881.6250472000002,0,null,null,null,0,null,0,0,0,null,92366.26,null,92366,null,0,null,0,null,0,null,0,null,0,null,0,null,null,null,0,null,null,null,0,null,null,null,0,null,null,null,0,null,"NO",{"$f":"IF(ISERROR(VLOOKUP($A92+8860000,'Growth Data'!$A:$F,3,0)),\"NO\",VLOOKUP($A92+8860000,'Growth Data'!$A:$F,3,0))","v":"NO"},0,null,0,{"$f":"IF(BM92=\"YES\",IF(ISERROR(VLOOKUP($A92+8860000,'Growth Data'!$A:$F,6,0)),0,VLOOKUP($A92+8860000,'Growth Data'!$A:$F,6,0)),0)","v":0},0,null,"NO",{"$f":"IF(ISERROR(VLOOKUP($A92+8860000,'Growth Data'!$A:$F,4,0)),\"NO\",VLOOKUP($A92+8860000,'Growth Data'!$A:$F,4,0))","v":"NO"},0,null,0,{"$f":"IF(BU92=\"YES\",IF(ISERROR(VLOOKUP($A92+8860000,'Growth Data'!$A:$Z,7,0)),0,VLOOKUP($A92+8860000,'Growth Data'!$A:$Z,7,0)),0)","v":0},0,null,"NO",{"$f":"IF(ISERROR(VLOOKUP($A92+8860000,'Growth Data'!$A:$F,5,0)),\"NO\",VLOOKUP($A92+8860000,'Growth Data'!$A:$F,5,0))","v":"NO"},0,null,0,{"$f":"IF(CC92=\"YES\",IF(ISERROR(VLOOKUP($A92+8860000,'Growth Data'!$A:$Z,8,0)),0,VLOOKUP($A92+8860000,'Growth Data'!$A:$Z,8,0)),0)","v":0},0,null,null,null,0]
[2340,"Ellington Infant School",null,"Ellington Infant School","Ellington Infant School",0,null,850195.46,850195.46229299437,0,null,0,0,0,null,850195.46,850195.46229299437,0,null,5212.57,5212.5741962000011,0,null,null,null,0,null,0,0,0,null,69898.52,null,69899,null,0,null,0,null,0,null,0,null,0,null,0,null,null,null,0,null,null,null,0,null,null,null,0,null,null,null,0,null,"NO",{"$f":"IF(ISERROR(VLOOKUP($A93+8860000,'Growth Data'!$A:$F,3,0)),\"NO\",VLOOKUP($A93+8860000,'Growth Data'!$A:$F,3,0))","v":"NO"},0,null,0,{"$f":"IF(BM93=\"YES\",IF(ISERROR(VLOOKUP($A93+8860000,'Growth Data'!$A:$F,6,0)),0,VLOOKUP($A93+8860000,'Growth Data'!$A:$F,6,0)),0)","v":0},0,null,"NO",{"$f":"IF(ISERROR(VLOOKUP($A93+8860000,'Growth Data'!$A:$F,4,0)),\"NO\",VLOOKUP($A93+8860000,'Growth Data'!$A:$F,4,0))","v":"NO"},0,null,0,{"$f":"IF(BU93=\"YES\",IF(ISERROR(VLOOKUP($A93+8860000,'Growth Data'!$A:$Z,7,0)),0,VLOOKUP($A93+8860000,'Growth Data'!$A:$Z,7,0)),0)","v":0},0,null,"NO",{"$f":"IF(ISERROR(VLOOKUP($A93+8860000,'Growth Data'!$A:$F,5,0)),\"NO\",VLOOKUP($A93+8860000,'Growth Data'!$A:$F,5,0))","v":"NO"},0,null,0,{"$f":"IF(CC93=\"YES\",IF(ISERROR(VLOOKUP($A93+8860000,'Growth Data'!$A:$Z,8,0)),0,VLOOKUP($A93+8860000,'Growth Data'!$A:$Z,8,0)),0)","v":0},0,null,null,null,0]
[2345,"Priory Infant School",null,"Priory Infant School","Priory Infant School",0,null,756762.3,756762.30335076037,0,null,0,0,0,null,756762.3,756762.30335076037,0,null,4596.3100000000004,4596.3092666000011,0,null,null,null,0,null,0,0,0,null,113224.37,null,113224,null,0,null,0,null,0,null,0,null,0,null,0,null,null,null,0,null,null,null,0,null,null,null,0,null,null,null,0,null,"NO",{"$f":"IF(ISERROR(VLOOKUP($A94+8860000,'Growth Data'!$A:$F,3,0)),\"NO\",VLOOKUP($A94+8860000,'Growth Data'!$A:$F,3,0))","v":"NO"},0,null,0,{"$f":"IF(BM94=\"YES\",IF(ISERROR(VLOOKUP($A94+8860000,'Growth Data'!$A:$F,6,0)),0,VLOOKUP($A94+8860000,'Growth Data'!$A:$F,6,0)),0)","v":0},0,null,"NO",{"$f":"IF(ISERROR(VLOOKUP($A94+8860000,'Growth Data'!$A:$F,4,0)),\"NO\",VLOOKUP($A94+8860000,'Growth Data'!$A:$F,4,0))","v":"NO"},0,null,0,{"$f":"IF(BU94=\"YES\",IF(ISERROR(VLOOKUP($A94+8860000,'Growth Data'!$A:$Z,7,0)),0,VLOOKUP($A94+8860000,'Growth Data'!$A:$Z,7,0)),0)","v":0},0,null,"NO",{"$f":"IF(ISERROR(VLOOKUP($A94+8860000,'Growth Data'!$A:$F,5,0)),\"NO\",VLOOKUP($A94+8860000,'Growth Data'!$A:$F,5,0))","v":"NO"},0,null,0,{"$f":"IF(CC94=\"YES\",IF(ISERROR(VLOOKUP($A94+8860000,'Growth Data'!$A:$Z,8,0)),0,VLOOKUP($A94+8860000,'Growth Data'!$A:$Z,8,0)),0)","v":0},0,null,null,null,0]
[2431,"Shears Green Junior School",null,"Shears Green Junior School","Shears Green Junior School",0,null,1678178.13,1678178.1322888494,0,null,0,0,0,null,1678178.13,1678178.1322888494,0,null,12299.62,12299.620886599996,0,null,null,null,0,null,0,0,0,null,92397.42,null,92397,null,0,null,0,null,0,null,0,null,0,null,0,null,null,null,0,null,null,null,0,null,null,null,0,null,null,null,0,null,"NO",{"$f":"IF(ISERROR(VLOOKUP($A95+8860000,'Growth Data'!$A:$F,3,0)),\"NO\",VLOOKUP($A95+8860000,'Growth Data'!$A:$F,3,0))","v":"NO"},0,null,0,{"$f":"IF(BM95=\"YES\",IF(ISERROR(VLOOKUP($A95+8860000,'Growth Data'!$A:$F,6,0)),0,VLOOKUP($A95+8860000,'Growth Data'!$A:$F,6,0)),0)","v":0},0,null,"NO",{"$f":"IF(ISERROR(VLOOKUP($A95+8860000,'Growth Data'!$A:$F,4,0)),\"NO\",VLOOKUP($A95+8860000,'Growth Data'!$A:$F,4,0))","v":"NO"},0,null,0,{"$f":"IF(BU95=\"YES\",IF(ISERROR(VLOOKUP($A95+8860000,'Growth Data'!$A:$Z,7,0)),0,VLOOKUP($A95+8860000,'Growth Data'!$A:$Z,7,0)),0)","v":0},0,null,"NO",{"$f":"IF(ISERROR(VLOOKUP($A95+8860000,'Growth Data'!$A:$F,5,0)),\"NO\",VLOOKUP($A95+8860000,'Growth Data'!$A:$F,5,0))","v":"NO"},0,null,0,{"$f":"IF(CC95=\"YES\",IF(ISERROR(VLOOKUP($A95+8860000,'Growth Data'!$A:$Z,8,0)),0,VLOOKUP($A95+8860000,'Growth Data'!$A:$Z,8,0)),0)","v":0},0,null,null,null,0]
[2434,"West Minster Primary School",null,"West Minster Primary School","West Minster Primary School",0,null,1797729.34,1797729.3427273666,0,null,0,0,0,null,1797729.34,1797729.3427273666,0,null,11323.87,11323.8680814,0,null,null,null,0,null,5.51,5.51,0,null,164462.01,null,164462,null,0,null,0,null,0,null,0,null,0,null,0,null,null,null,0,null,null,null,0,null,null,null,0,null,null,null,0,null,"NO",{"$f":"IF(ISERROR(VLOOKUP($A96+8860000,'Growth Data'!$A:$F,3,0)),\"NO\",VLOOKUP($A96+8860000,'Growth Data'!$A:$F,3,0))","v":"NO"},0,null,0,{"$f":"IF(BM96=\"YES\",IF(ISERROR(VLOOKUP($A96+8860000,'Growth Data'!$A:$F,6,0)),0,VLOOKUP($A96+8860000,'Growth Data'!$A:$F,6,0)),0)","v":0},0,null,"NO",{"$f":"IF(ISERROR(VLOOKUP($A96+8860000,'Growth Data'!$A:$F,4,0)),\"NO\",VLOOKUP($A96+8860000,'Growth Data'!$A:$F,4,0))","v":"YES"},1,null,0,{"$f":"IF(BU96=\"YES\",IF(ISERROR(VLOOKUP($A96+8860000,'Growth Data'!$A:$Z,7,0)),0,VLOOKUP($A96+8860000,'Growth Data'!$A:$Z,7,0)),0)","v":0},0,null,"NO",{"$f":"IF(ISERROR(VLOOKUP($A96+8860000,'Growth Data'!$A:$F,5,0)),\"NO\",VLOOKUP($A96+8860000,'Growth Data'!$A:$F,5,0))","v":"YES"},1,null,0,{"$f":"IF(CC96=\"YES\",IF(ISERROR(VLOOKUP($A96+8860000,'Growth Data'!$A:$Z,8,0)),0,VLOOKUP($A96+8860000,'Growth Data'!$A:$Z,8,0)),0)","v":61},-61,null,null,null,0]
[2454,"Aycliffe Community Primary School",null,"Aycliffe Community Primary School","Aycliffe Community Primary School",0,null,612913.06000000006,612913.0640998024,0,null,0,0,0,null,612913.06000000006,612913.0640998024,0,null,3261.07,3261.0685858000006,0,null,null,null,0,null,0,0,0,null,317536.88,null,317537,null,0,null,0,null,0,null,0,null,0,null,0,null,null,null,0,null,null,null,0,null,null,null,0,null,null,null,0,null,"NO",{"$f":"IF(ISERROR(VLOOKUP($A97+8860000,'Growth Data'!$A:$F,3,0)),\"NO\",VLOOKUP($A97+8860000,'Growth Data'!$A:$F,3,0))","v":"NO"},0,null,0,{"$f":"IF(BM97=\"YES\",IF(ISERROR(VLOOKUP($A97+8860000,'Growth Data'!$A:$F,6,0)),0,VLOOKUP($A97+8860000,'Growth Data'!$A:$F,6,0)),0)","v":0},0,null,"NO",{"$f":"IF(ISERROR(VLOOKUP($A97+8860000,'Growth Data'!$A:$F,4,0)),\"NO\",VLOOKUP($A97+8860000,'Growth Data'!$A:$F,4,0))","v":"NO"},0,null,0,{"$f":"IF(BU97=\"YES\",IF(ISERROR(VLOOKUP($A97+8860000,'Growth Data'!$A:$Z,7,0)),0,VLOOKUP($A97+8860000,'Growth Data'!$A:$Z,7,0)),0)","v":0},0,null,"YES",{"$f":"IF(ISERROR(VLOOKUP($A97+8860000,'Growth Data'!$A:$F,5,0)),\"NO\",VLOOKUP($A97+8860000,'Growth Data'!$A:$F,5,0))","v":"NO"},1,null,60,{"$f":"IF(CC97=\"YES\",IF(ISERROR(VLOOKUP($A97+8860000,'Growth Data'!$A:$Z,8,0)),0,VLOOKUP($A97+8860000,'Growth Data'!$A:$Z,8,0)),0)","v":0},60,null,null,null,0]
[2459,"Riverhead Infant School",null,"Riverhead Infant School","Riverhead Infant School",0,null,960427.37,960427.36543086008,0,null,0,0,0,null,960427.37,960427.36543086008,0,null,7052.28,7052.2790772884,0,null,null,null,0,null,0,0,0,null,5580,null,5580,null,5442,null,5442,null,0,null,0,null,0,null,0,null,null,null,0,null,null,null,0,null,null,null,0,null,null,null,0,null,"NO",{"$f":"IF(ISERROR(VLOOKUP($A98+8860000,'Growth Data'!$A:$F,3,0)),\"NO\",VLOOKUP($A98+8860000,'Growth Data'!$A:$F,3,0))","v":"NO"},0,null,0,{"$f":"IF(BM98=\"YES\",IF(ISERROR(VLOOKUP($A98+8860000,'Growth Data'!$A:$F,6,0)),0,VLOOKUP($A98+8860000,'Growth Data'!$A:$F,6,0)),0)","v":0},0,null,"NO",{"$f":"IF(ISERROR(VLOOKUP($A98+8860000,'Growth Data'!$A:$F,4,0)),\"NO\",VLOOKUP($A98+8860000,'Growth Data'!$A:$F,4,0))","v":"NO"},0,null,0,{"$f":"IF(BU98=\"YES\",IF(ISERROR(VLOOKUP($A98+8860000,'Growth Data'!$A:$Z,7,0)),0,VLOOKUP($A98+8860000,'Growth Data'!$A:$Z,7,0)),0)","v":0},0,null,"NO",{"$f":"IF(ISERROR(VLOOKUP($A98+8860000,'Growth Data'!$A:$F,5,0)),\"NO\",VLOOKUP($A98+8860000,'Growth Data'!$A:$F,5,0))","v":"NO"},0,null,0,{"$f":"IF(CC98=\"YES\",IF(ISERROR(VLOOKUP($A98+8860000,'Growth Data'!$A:$Z,8,0)),0,VLOOKUP($A98+8860000,'Growth Data'!$A:$Z,8,0)),0)","v":0},0,null,null,null,0]
[2465,"Claremont Primary School",null,"Claremont Primary School","Claremont Primary School",0,null,1732534,1732534,0,null,0,0,0,null,1732534,1732534,0,null,12813.18,12813.174994599998,0,null,null,null,0,null,0,0,0,null,94477.49,null,94477,null,0,null,0,null,0,null,0,null,0,null,0,null,null,null,0,null,null,null,0,null,null,null,0,null,null,null,0,null,"NO",{"$f":"IF(ISERROR(VLOOKUP($A99+8860000,'Growth Data'!$A:$F,3,0)),\"NO\",VLOOKUP($A99+8860000,'Growth Data'!$A:$F,3,0))","v":"NO"},0,null,0,{"$f":"IF(BM99=\"YES\",IF(ISERROR(VLOOKUP($A99+8860000,'Growth Data'!$A:$F,6,0)),0,VLOOKUP($A99+8860000,'Growth Data'!$A:$F,6,0)),0)","v":0},0,null,"NO",{"$f":"IF(ISERROR(VLOOKUP($A99+8860000,'Growth Data'!$A:$F,4,0)),\"NO\",VLOOKUP($A99+8860000,'Growth Data'!$A:$F,4,0))","v":"NO"},0,null,0,{"$f":"IF(BU99=\"YES\",IF(ISERROR(VLOOKUP($A99+8860000,'Growth Data'!$A:$Z,7,0)),0,VLOOKUP($A99+8860000,'Growth Data'!$A:$Z,7,0)),0)","v":0},0,null,"NO",{"$f":"IF(ISERROR(VLOOKUP($A99+8860000,'Growth Data'!$A:$F,5,0)),\"NO\",VLOOKUP($A99+8860000,'Growth Data'!$A:$F,5,0))","v":"NO"},0,null,0,{"$f":"IF(CC99=\"YES\",IF(ISERROR(VLOOKUP($A99+8860000,'Growth Data'!$A:$Z,8,0)),0,VLOOKUP($A99+8860000,'Growth Data'!$A:$Z,8,0)),0)","v":0},0,null,null,null,0]
[2471,"Whitfield Aspen School",null,"Whitfield Aspen School","Whitfield Aspen School",0,null,1780277.66,1780277.661240191,0,null,0,0,0,null,1780277.66,1780277.661240191,0,null,12171.23,12171.232359599999,0,null,null,null,0,null,0,0,0,null,29861.74,null,29862,null,3013.83,null,3014,null,32000,null,32000,null,48000,null,48000,null,null,null,0,null,null,null,0,null,null,null,0,null,null,null,0,null,"NO",{"$f":"IF(ISERROR(VLOOKUP($A100+8860000,'Growth Data'!$A:$F,3,0)),\"NO\",VLOOKUP($A100+8860000,'Growth Data'!$A:$F,3,0))","v":"NO"},0,null,0,{"$f":"IF(BM100=\"YES\",IF(ISERROR(VLOOKUP($A100+8860000,'Growth Data'!$A:$F,6,0)),0,VLOOKUP($A100+8860000,'Growth Data'!$A:$F,6,0)),0)","v":0},0,null,"NO",{"$f":"IF(ISERROR(VLOOKUP($A100+8860000,'Growth Data'!$A:$F,4,0)),\"NO\",VLOOKUP($A100+8860000,'Growth Data'!$A:$F,4,0))","v":"YES"},1,null,0,{"$f":"IF(BU100=\"YES\",IF(ISERROR(VLOOKUP($A100+8860000,'Growth Data'!$A:$Z,7,0)),0,VLOOKUP($A100+8860000,'Growth Data'!$A:$Z,7,0)),0)","v":0},0,null,"NO",{"$f":"IF(ISERROR(VLOOKUP($A100+8860000,'Growth Data'!$A:$F,5,0)),\"NO\",VLOOKUP($A100+8860000,'Growth Data'!$A:$F,5,0))","v":"YES"},1,null,0,{"$f":"IF(CC100=\"YES\",IF(ISERROR(VLOOKUP($A100+8860000,'Growth Data'!$A:$Z,8,0)),0,VLOOKUP($A100+8860000,'Growth Data'!$A:$Z,8,0)),0)","v":64},-64,null,null,null,0]
[2474,"St Paul's Infant School",null,"St Paul's Infant School","St Paul's Infant School",0,null,1034904.55,1034904.5535487607,0,null,10691.06,10691.058507435839,0,null,1045595.61,1045595.6120561966,0,null,6932.98,6932.980458,0,null,null,null,0,null,0,0,0,null,5580,null,5580,null,5442,null,5442,null,0,null,0,null,0,null,0,null,null,null,0,null,null,null,0,null,null,null,0,null,null,null,0,null,"NO",{"$f":"IF(ISERROR(VLOOKUP($A101+8860000,'Growth Data'!$A:$F,3,0)),\"NO\",VLOOKUP($A101+8860000,'Growth Data'!$A:$F,3,0))","v":"NO"},0,null,0,{"$f":"IF(BM101=\"YES\",IF(ISERROR(VLOOKUP($A101+8860000,'Growth Data'!$A:$F,6,0)),0,VLOOKUP($A101+8860000,'Growth Data'!$A:$F,6,0)),0)","v":0},0,null,"NO",{"$f":"IF(ISERROR(VLOOKUP($A101+8860000,'Growth Data'!$A:$F,4,0)),\"NO\",VLOOKUP($A101+8860000,'Growth Data'!$A:$F,4,0))","v":"NO"},0,null,0,{"$f":"IF(BU101=\"YES\",IF(ISERROR(VLOOKUP($A101+8860000,'Growth Data'!$A:$Z,7,0)),0,VLOOKUP($A101+8860000,'Growth Data'!$A:$Z,7,0)),0)","v":0},0,null,"NO",{"$f":"IF(ISERROR(VLOOKUP($A101+8860000,'Growth Data'!$A:$F,5,0)),\"NO\",VLOOKUP($A101+8860000,'Growth Data'!$A:$F,5,0))","v":"NO"},0,null,0,{"$f":"IF(CC101=\"YES\",IF(ISERROR(VLOOKUP($A101+8860000,'Growth Data'!$A:$Z,8,0)),0,VLOOKUP($A101+8860000,'Growth Data'!$A:$Z,8,0)),0)","v":0},0,null,null,null,0]
[2482,"Langton Green Primary School",null,"Langton Green Primary School","Langton Green Primary School",0,null,1367115,1367115,0,null,0,0,0,null,1367115,1367115,0,null,10039.98,10039.982811400001,0,null,null,null,0,null,0,0,0,null,63518.13,null,63518,null,0,null,0,null,0,null,0,null,0,null,0,null,null,null,0,null,null,null,0,null,null,null,0,null,null,null,0,null,"NO",{"$f":"IF(ISERROR(VLOOKUP($A102+8860000,'Growth Data'!$A:$F,3,0)),\"NO\",VLOOKUP($A102+8860000,'Growth Data'!$A:$F,3,0))","v":"NO"},0,null,0,{"$f":"IF(BM102=\"YES\",IF(ISERROR(VLOOKUP($A102+8860000,'Growth Data'!$A:$F,6,0)),0,VLOOKUP($A102+8860000,'Growth Data'!$A:$F,6,0)),0)","v":0},0,null,"NO",{"$f":"IF(ISERROR(VLOOKUP($A102+8860000,'Growth Data'!$A:$F,4,0)),\"NO\",VLOOKUP($A102+8860000,'Growth Data'!$A:$F,4,0))","v":"YES"},1,null,0,{"$f":"IF(BU102=\"YES\",IF(ISERROR(VLOOKUP($A102+8860000,'Growth Data'!$A:$Z,7,0)),0,VLOOKUP($A102+8860000,'Growth Data'!$A:$Z,7,0)),0)","v":0},0,null,"NO",{"$f":"IF(ISERROR(VLOOKUP($A102+8860000,'Growth Data'!$A:$F,5,0)),\"NO\",VLOOKUP($A102+8860000,'Growth Data'!$A:$F,5,0))","v":"NO"},0,null,0,{"$f":"IF(CC102=\"YES\",IF(ISERROR(VLOOKUP($A102+8860000,'Growth Data'!$A:$Z,8,0)),0,VLOOKUP($A102+8860000,'Growth Data'!$A:$Z,8,0)),0)","v":0},0,null,null,null,0]
[2490,"Bishops Down Primary School",null,"Bishops Down Primary School","Bishops Down Primary School",0,null,1048484.13,1048484.1282754833,0,null,0,0,0,null,1048484.13,1048484.1282754833,0,null,7651.96,7651.9562091999996,0,null,null,null,0,null,4.9000000000000004,4.9000000000000004,0,null,231689.29,null,231689,null,0,null,0,null,0,null,0,null,0,null,0,null,null,null,0,null,null,null,0,null,null,null,0,null,null,null,0,null,"NO",{"$f":"IF(ISERROR(VLOOKUP($A103+8860000,'Growth Data'!$A:$F,3,0)),\"NO\",VLOOKUP($A103+8860000,'Growth Data'!$A:$F,3,0))","v":"NO"},0,null,0,{"$f":"IF(BM103=\"YES\",IF(ISERROR(VLOOKUP($A103+8860000,'Growth Data'!$A:$F,6,0)),0,VLOOKUP($A103+8860000,'Growth Data'!$A:$F,6,0)),0)","v":0},0,null,"NO",{"$f":"IF(ISERROR(VLOOKUP($A103+8860000,'Growth Data'!$A:$F,4,0)),\"NO\",VLOOKUP($A103+8860000,'Growth Data'!$A:$F,4,0))","v":"NO"},0,null,0,{"$f":"IF(BU103=\"YES\",IF(ISERROR(VLOOKUP($A103+8860000,'Growth Data'!$A:$Z,7,0)),0,VLOOKUP($A103+8860000,'Growth Data'!$A:$Z,7,0)),0)","v":0},0,null,"YES",{"$f":"IF(ISERROR(VLOOKUP($A103+8860000,'Growth Data'!$A:$F,5,0)),\"NO\",VLOOKUP($A103+8860000,'Growth Data'!$A:$F,5,0))","v":"NO"},1,null,62,{"$f":"IF(CC103=\"YES\",IF(ISERROR(VLOOKUP($A103+8860000,'Growth Data'!$A:$Z,8,0)),0,VLOOKUP($A103+8860000,'Growth Data'!$A:$Z,8,0)),0)","v":0},62,null,null,null,0]
[2509,"Singlewell Primary School",null,"Singlewell Primary School","Singlewell Primary School",0,null,989906.17,989906.16529900744,0,null,0,0,0,null,989906.17,989906.16529900744,0,null,6599.17,6599.1702877999987,0,null,null,null,0,null,0,0,0,null,87466.35,null,87466,null,0,null,0,null,0,null,0,null,0,null,0,null,null,null,0,null,null,null,0,null,null,null,0,null,null,null,0,null,"NO",{"$f":"IF(ISERROR(VLOOKUP($A104+8860000,'Growth Data'!$A:$F,3,0)),\"NO\",VLOOKUP($A104+8860000,'Growth Data'!$A:$F,3,0))","v":"NO"},0,null,0,{"$f":"IF(BM104=\"YES\",IF(ISERROR(VLOOKUP($A104+8860000,'Growth Data'!$A:$F,6,0)),0,VLOOKUP($A104+8860000,'Growth Data'!$A:$F,6,0)),0)","v":0},0,null,"NO",{"$f":"IF(ISERROR(VLOOKUP($A104+8860000,'Growth Data'!$A:$F,4,0)),\"NO\",VLOOKUP($A104+8860000,'Growth Data'!$A:$F,4,0))","v":"YES"},1,null,0,{"$f":"IF(BU104=\"YES\",IF(ISERROR(VLOOKUP($A104+8860000,'Growth Data'!$A:$Z,7,0)),0,VLOOKUP($A104+8860000,'Growth Data'!$A:$Z,7,0)),0)","v":0},0,null,"NO",{"$f":"IF(ISERROR(VLOOKUP($A104+8860000,'Growth Data'!$A:$F,5,0)),\"NO\",VLOOKUP($A104+8860000,'Growth Data'!$A:$F,5,0))","v":"YES"},1,null,0,{"$f":"IF(CC104=\"YES\",IF(ISERROR(VLOOKUP($A104+8860000,'Growth Data'!$A:$Z,8,0)),0,VLOOKUP($A104+8860000,'Growth Data'!$A:$Z,8,0)),0)","v":30},-30,null,null,null,0]
[2510,"Cheriton Primary School",null,"Cheriton Primary School","Cheriton Primary School",0,null,1621316.88,1621316.8755767778,0,null,0,0,0,null,1621316.88,1621316.8755767778,0,null,11632,11632.000546199999,0,null,null,null,0,null,0,0,0,null,53016.06,null,53016,null,698.39,null,698,null,103333.33,null,103333,null,155000,null,155000,null,null,null,0,null,null,null,0,null,null,null,0,null,null,null,0,null,"YES",{"$f":"IF(ISERROR(VLOOKUP($A105+8860000,'Growth Data'!$A:$F,3,0)),\"NO\",VLOOKUP($A105+8860000,'Growth Data'!$A:$F,3,0))","v":"NO"},1,null,32,{"$f":"IF(BM105=\"YES\",IF(ISERROR(VLOOKUP($A105+8860000,'Growth Data'!$A:$F,6,0)),0,VLOOKUP($A105+8860000,'Growth Data'!$A:$F,6,0)),0)","v":0},32,null,"YES",{"$f":"IF(ISERROR(VLOOKUP($A105+8860000,'Growth Data'!$A:$F,4,0)),\"NO\",VLOOKUP($A105+8860000,'Growth Data'!$A:$F,4,0))","v":"NO"},1,null,60,{"$f":"IF(BU105=\"YES\",IF(ISERROR(VLOOKUP($A105+8860000,'Growth Data'!$A:$Z,7,0)),0,VLOOKUP($A105+8860000,'Growth Data'!$A:$Z,7,0)),0)","v":0},60,null,"YES",{"$f":"IF(ISERROR(VLOOKUP($A105+8860000,'Growth Data'!$A:$F,5,0)),\"NO\",VLOOKUP($A105+8860000,'Growth Data'!$A:$F,5,0))","v":"NO"},1,null,31,{"$f":"IF(CC105=\"YES\",IF(ISERROR(VLOOKUP($A105+8860000,'Growth Data'!$A:$Z,8,0)),0,VLOOKUP($A105+8860000,'Growth Data'!$A:$Z,8,0)),0)","v":0},31,null,null,null,0]
[2514,"Brookfield Infant School",null,"Brookfield Infant School","Brookfield Infant School",0,null,696895.11,696895.11061833892,0,null,0,0,0,null,696895.11,696895.11061833892,0,null,4570.63,4570.6315611999999,0,null,null,null,0,null,0,0,0,null,66253.789999999994,null,66254,null,0,null,0,null,0,null,0,null,0,null,0,null,null,null,0,null,null,null,0,null,null,null,0,null,null,null,0,null,"NO",{"$f":"IF(ISERROR(VLOOKUP($A106+8860000,'Growth Data'!$A:$F,3,0)),\"NO\",VLOOKUP($A106+8860000,'Growth Data'!$A:$F,3,0))","v":"NO"},0,null,0,{"$f":"IF(BM106=\"YES\",IF(ISERROR(VLOOKUP($A106+8860000,'Growth Data'!$A:$F,6,0)),0,VLOOKUP($A106+8860000,'Growth Data'!$A:$F,6,0)),0)","v":0},0,null,"NO",{"$f":"IF(ISERROR(VLOOKUP($A106+8860000,'Growth Data'!$A:$F,4,0)),\"NO\",VLOOKUP($A106+8860000,'Growth Data'!$A:$F,4,0))","v":"NO"},0,null,0,{"$f":"IF(BU106=\"YES\",IF(ISERROR(VLOOKUP($A106+8860000,'Growth Data'!$A:$Z,7,0)),0,VLOOKUP($A106+8860000,'Growth Data'!$A:$Z,7,0)),0)","v":0},0,null,"NO",{"$f":"IF(ISERROR(VLOOKUP($A106+8860000,'Growth Data'!$A:$F,5,0)),\"NO\",VLOOKUP($A106+8860000,'Growth Data'!$A:$F,5,0))","v":"NO"},0,null,0,{"$f":"IF(CC106=\"YES\",IF(ISERROR(VLOOKUP($A106+8860000,'Growth Data'!$A:$Z,8,0)),0,VLOOKUP($A106+8860000,'Growth Data'!$A:$Z,8,0)),0)","v":0},0,null,null,null,0]
[2519,"Vigo Village School",null,"Vigo Village School","Vigo Village School",0,null,734053.66,734053.66223423451,0,null,0,0,0,null,734053.66,734053.66223423451,0,null,5007.1499999999996,5007.1525529999999,0,null,null,null,0,null,0,0,0,null,83160.13,null,83160,null,0,null,0,null,360000,null,360000,null,540000,null,540000,null,null,null,0,null,null,null,0,null,null,null,0,null,null,null,0,null,"NO",{"$f":"IF(ISERROR(VLOOKUP($A107+8860000,'Growth Data'!$A:$F,3,0)),\"NO\",VLOOKUP($A107+8860000,'Growth Data'!$A:$F,3,0))","v":"NO"},0,null,0,{"$f":"IF(BM107=\"YES\",IF(ISERROR(VLOOKUP($A107+8860000,'Growth Data'!$A:$F,6,0)),0,VLOOKUP($A107+8860000,'Growth Data'!$A:$F,6,0)),0)","v":0},0,null,"NO",{"$f":"IF(ISERROR(VLOOKUP($A107+8860000,'Growth Data'!$A:$F,4,0)),\"NO\",VLOOKUP($A107+8860000,'Growth Data'!$A:$F,4,0))","v":"NO"},0,null,0,{"$f":"IF(BU107=\"YES\",IF(ISERROR(VLOOKUP($A107+8860000,'Growth Data'!$A:$Z,7,0)),0,VLOOKUP($A107+8860000,'Growth Data'!$A:$Z,7,0)),0)","v":0},0,null,"YES",{"$f":"IF(ISERROR(VLOOKUP($A107+8860000,'Growth Data'!$A:$F,5,0)),\"NO\",VLOOKUP($A107+8860000,'Growth Data'!$A:$F,5,0))","v":"NO"},1,null,30,{"$f":"IF(CC107=\"YES\",IF(ISERROR(VLOOKUP($A107+8860000,'Growth Data'!$A:$Z,8,0)),0,VLOOKUP($A107+8860000,'Growth Data'!$A:$Z,8,0)),0)","v":0},30,null,null,null,0]
[2520,"Madginford Primary School",null,"Madginford Primary School","Madginford Primary School",0,null,2225895,2225895,0,null,0,0,0,null,2225895,2225895,0,null,16382.38,16382.376045200001,0,null,null,null,0,null,0,0,0,null,161861.15,null,161861,null,0,null,0,null,0,null,0,null,0,null,0,null,null,null,0,null,null,null,0,null,null,null,0,null,null,null,0,null,"NO",{"$f":"IF(ISERROR(VLOOKUP($A108+8860000,'Growth Data'!$A:$F,3,0)),\"NO\",VLOOKUP($A108+8860000,'Growth Data'!$A:$F,3,0))","v":"NO"},0,null,0,{"$f":"IF(BM108=\"YES\",IF(ISERROR(VLOOKUP($A108+8860000,'Growth Data'!$A:$F,6,0)),0,VLOOKUP($A108+8860000,'Growth Data'!$A:$F,6,0)),0)","v":0},0,null,"NO",{"$f":"IF(ISERROR(VLOOKUP($A108+8860000,'Growth Data'!$A:$F,4,0)),\"NO\",VLOOKUP($A108+8860000,'Growth Data'!$A:$F,4,0))","v":"NO"},0,null,0,{"$f":"IF(BU108=\"YES\",IF(ISERROR(VLOOKUP($A108+8860000,'Growth Data'!$A:$Z,7,0)),0,VLOOKUP($A108+8860000,'Growth Data'!$A:$Z,7,0)),0)","v":0},0,null,"NO",{"$f":"IF(ISERROR(VLOOKUP($A108+8860000,'Growth Data'!$A:$F,5,0)),\"NO\",VLOOKUP($A108+8860000,'Growth Data'!$A:$F,5,0))","v":"NO"},0,null,0,{"$f":"IF(CC108=\"YES\",IF(ISERROR(VLOOKUP($A108+8860000,'Growth Data'!$A:$Z,8,0)),0,VLOOKUP($A108+8860000,'Growth Data'!$A:$Z,8,0)),0)","v":0},0,null,null,null,0]
[2524,"Palmarsh Primary School",null,"Palmarsh Primary School","Palmarsh Primary School",0,null,571066.25,571066.24780282727,0,null,0,0,0,null,571066.25,571066.24780282727,0,null,3415.13,3415.1348181999992,0,null,null,null,0,null,0,0,0,null,5580,null,5580,null,5442,null,5442,null,0,null,0,null,0,null,0,null,null,null,0,null,null,null,0,null,null,null,0,null,null,null,0,null,"NO",{"$f":"IF(ISERROR(VLOOKUP($A109+8860000,'Growth Data'!$A:$F,3,0)),\"NO\",VLOOKUP($A109+8860000,'Growth Data'!$A:$F,3,0))","v":"NO"},0,null,0,{"$f":"IF(BM109=\"YES\",IF(ISERROR(VLOOKUP($A109+8860000,'Growth Data'!$A:$F,6,0)),0,VLOOKUP($A109+8860000,'Growth Data'!$A:$F,6,0)),0)","v":0},0,null,"NO",{"$f":"IF(ISERROR(VLOOKUP($A109+8860000,'Growth Data'!$A:$F,4,0)),\"NO\",VLOOKUP($A109+8860000,'Growth Data'!$A:$F,4,0))","v":"NO"},0,null,0,{"$f":"IF(BU109=\"YES\",IF(ISERROR(VLOOKUP($A109+8860000,'Growth Data'!$A:$Z,7,0)),0,VLOOKUP($A109+8860000,'Growth Data'!$A:$Z,7,0)),0)","v":0},0,null,"NO",{"$f":"IF(ISERROR(VLOOKUP($A109+8860000,'Growth Data'!$A:$F,5,0)),\"NO\",VLOOKUP($A109+8860000,'Growth Data'!$A:$F,5,0))","v":"NO"},0,null,0,{"$f":"IF(CC109=\"YES\",IF(ISERROR(VLOOKUP($A109+8860000,'Growth Data'!$A:$Z,8,0)),0,VLOOKUP($A109+8860000,'Growth Data'!$A:$Z,8,0)),0)","v":0},0,null,null,null,0]
[2525,"Painters Ash Primary School",null,"Painters Ash Primary School","Painters Ash Primary School",0,null,1510053.23,1510053.2258614693,0,null,0,0,0,null,1510053.23,1510053.2258614693,0,null,10656.25,10656.247741000003,0,null,null,null,0,null,0,0,0,null,52618.35,null,52618,null,738.17,null,738,null,0,null,0,null,0,null,0,null,null,null,0,null,null,null,0,null,null,null,0,null,null,null,0,null,"NO",{"$f":"IF(ISERROR(VLOOKUP($A110+8860000,'Growth Data'!$A:$F,3,0)),\"NO\",VLOOKUP($A110+8860000,'Growth Data'!$A:$F,3,0))","v":"NO"},0,null,0,{"$f":"IF(BM110=\"YES\",IF(ISERROR(VLOOKUP($A110+8860000,'Growth Data'!$A:$F,6,0)),0,VLOOKUP($A110+8860000,'Growth Data'!$A:$F,6,0)),0)","v":0},0,null,"NO",{"$f":"IF(ISERROR(VLOOKUP($A110+8860000,'Growth Data'!$A:$F,4,0)),\"NO\",VLOOKUP($A110+8860000,'Growth Data'!$A:$F,4,0))","v":"NO"},0,null,0,{"$f":"IF(BU110=\"YES\",IF(ISERROR(VLOOKUP($A110+8860000,'Growth Data'!$A:$Z,7,0)),0,VLOOKUP($A110+8860000,'Growth Data'!$A:$Z,7,0)),0)","v":0},0,null,"NO",{"$f":"IF(ISERROR(VLOOKUP($A110+8860000,'Growth Data'!$A:$F,5,0)),\"NO\",VLOOKUP($A110+8860000,'Growth Data'!$A:$F,5,0))","v":"NO"},0,null,0,{"$f":"IF(CC110=\"YES\",IF(ISERROR(VLOOKUP($A110+8860000,'Growth Data'!$A:$Z,8,0)),0,VLOOKUP($A110+8860000,'Growth Data'!$A:$Z,8,0)),0)","v":0},0,null,null,null,0]
[2530,"Tunbury Primary School",null,"Tunbury Primary School","Tunbury Primary School",0,null,2108370,2108370,0,null,0,0,0,null,2108370,2108370,0,null,15612.04,15612.044883199998,0,null,null,null,0,null,0,0,0,null,50014.86,null,50015,null,998.51,null,999,null,20000,null,20000,null,30000,null,30000,null,null,null,0,null,null,null,0,null,null,null,0,null,null,null,0,null,"NO",{"$f":"IF(ISERROR(VLOOKUP($A111+8860000,'Growth Data'!$A:$F,3,0)),\"NO\",VLOOKUP($A111+8860000,'Growth Data'!$A:$F,3,0))","v":"NO"},0,null,0,{"$f":"IF(BM111=\"YES\",IF(ISERROR(VLOOKUP($A111+8860000,'Growth Data'!$A:$F,6,0)),0,VLOOKUP($A111+8860000,'Growth Data'!$A:$F,6,0)),0)","v":0},0,null,"NO",{"$f":"IF(ISERROR(VLOOKUP($A111+8860000,'Growth Data'!$A:$F,4,0)),\"NO\",VLOOKUP($A111+8860000,'Growth Data'!$A:$F,4,0))","v":"NO"},0,null,0,{"$f":"IF(BU111=\"YES\",IF(ISERROR(VLOOKUP($A111+8860000,'Growth Data'!$A:$Z,7,0)),0,VLOOKUP($A111+8860000,'Growth Data'!$A:$Z,7,0)),0)","v":0},0,null,"NO",{"$f":"IF(ISERROR(VLOOKUP($A111+8860000,'Growth Data'!$A:$F,5,0)),\"NO\",VLOOKUP($A111+8860000,'Growth Data'!$A:$F,5,0))","v":"NO"},0,null,0,{"$f":"IF(CC111=\"YES\",IF(ISERROR(VLOOKUP($A111+8860000,'Growth Data'!$A:$Z,8,0)),0,VLOOKUP($A111+8860000,'Growth Data'!$A:$Z,8,0)),0)","v":0},0,null,null,null,0]
[2532,"St Margaret's-at-Cliffe Primary School",null,"St Margaret's-at-Cliffe Primary School","St Margaret's-at-Cliffe Primary School",0,null,697359.07,697359.06503411336,0,null,0,0,0,null,697359.07,697359.06503411336,0,null,4878.76,4878.7640259999998,0,null,null,null,0,null,0,0,0,null,130088.8,null,130089,null,0,null,0,null,0,null,0,null,0,null,0,null,null,null,0,null,null,null,0,null,null,null,0,null,null,null,0,null,"NO",{"$f":"IF(ISERROR(VLOOKUP($A112+8860000,'Growth Data'!$A:$F,3,0)),\"NO\",VLOOKUP($A112+8860000,'Growth Data'!$A:$F,3,0))","v":"NO"},0,null,0,{"$f":"IF(BM112=\"YES\",IF(ISERROR(VLOOKUP($A112+8860000,'Growth Data'!$A:$F,6,0)),0,VLOOKUP($A112+8860000,'Growth Data'!$A:$F,6,0)),0)","v":0},0,null,"NO",{"$f":"IF(ISERROR(VLOOKUP($A112+8860000,'Growth Data'!$A:$F,4,0)),\"NO\",VLOOKUP($A112+8860000,'Growth Data'!$A:$F,4,0))","v":"NO"},0,null,0,{"$f":"IF(BU112=\"YES\",IF(ISERROR(VLOOKUP($A112+8860000,'Growth Data'!$A:$Z,7,0)),0,VLOOKUP($A112+8860000,'Growth Data'!$A:$Z,7,0)),0)","v":0},0,null,"NO",{"$f":"IF(ISERROR(VLOOKUP($A112+8860000,'Growth Data'!$A:$F,5,0)),\"NO\",VLOOKUP($A112+8860000,'Growth Data'!$A:$F,5,0))","v":"NO"},0,null,0,{"$f":"IF(CC112=\"YES\",IF(ISERROR(VLOOKUP($A112+8860000,'Growth Data'!$A:$Z,8,0)),0,VLOOKUP($A112+8860000,'Growth Data'!$A:$Z,8,0)),0)","v":0},0,null,null,null,0]
[2534,"Bysing Wood Primary School",null,"Bysing Wood Primary School","Bysing Wood Primary School",0,null,719028.36,719028.36379898922,0,null,0,0,0,null,719028.36,719028.36379898922,0,null,3980.04,3980.0443369999998,0,null,null,null,0,null,0,0,0,null,61164.46,null,61164,null,0,null,0,null,0,null,0,null,0,null,0,null,null,null,0,null,null,null,0,null,null,null,0,null,null,null,0,null,"NO",{"$f":"IF(ISERROR(VLOOKUP($A113+8860000,'Growth Data'!$A:$F,3,0)),\"NO\",VLOOKUP($A113+8860000,'Growth Data'!$A:$F,3,0))","v":"NO"},0,null,0,{"$f":"IF(BM113=\"YES\",IF(ISERROR(VLOOKUP($A113+8860000,'Growth Data'!$A:$F,6,0)),0,VLOOKUP($A113+8860000,'Growth Data'!$A:$F,6,0)),0)","v":0},0,null,"NO",{"$f":"IF(ISERROR(VLOOKUP($A113+8860000,'Growth Data'!$A:$F,4,0)),\"NO\",VLOOKUP($A113+8860000,'Growth Data'!$A:$F,4,0))","v":"NO"},0,null,0,{"$f":"IF(BU113=\"YES\",IF(ISERROR(VLOOKUP($A113+8860000,'Growth Data'!$A:$Z,7,0)),0,VLOOKUP($A113+8860000,'Growth Data'!$A:$Z,7,0)),0)","v":0},0,null,"NO",{"$f":"IF(ISERROR(VLOOKUP($A113+8860000,'Growth Data'!$A:$F,5,0)),\"NO\",VLOOKUP($A113+8860000,'Growth Data'!$A:$F,5,0))","v":"YES"},1,null,0,{"$f":"IF(CC113=\"YES\",IF(ISERROR(VLOOKUP($A113+8860000,'Growth Data'!$A:$Z,8,0)),0,VLOOKUP($A113+8860000,'Growth Data'!$A:$Z,8,0)),0)","v":0},0,null,null,null,0]
[2539,"Stocks Green Primary School",null,"Stocks Green Primary School","Stocks Green Primary School",0,null,760062.49,760062.48632655165,0,null,0,0,0,null,760062.49,760062.48632655165,0,null,5597.74,5597.7397772000004,0,null,null,null,0,null,0,0,0,null,153857.60000000001,null,153858,null,0,null,0,null,46333.33,null,46333,null,69500,null,69500,null,null,null,0,null,null,null,0,null,null,null,0,null,null,null,0,null,"NO",{"$f":"IF(ISERROR(VLOOKUP($A114+8860000,'Growth Data'!$A:$F,3,0)),\"NO\",VLOOKUP($A114+8860000,'Growth Data'!$A:$F,3,0))","v":"NO"},0,null,0,{"$f":"IF(BM114=\"YES\",IF(ISERROR(VLOOKUP($A114+8860000,'Growth Data'!$A:$F,6,0)),0,VLOOKUP($A114+8860000,'Growth Data'!$A:$F,6,0)),0)","v":0},0,null,"NO",{"$f":"IF(ISERROR(VLOOKUP($A114+8860000,'Growth Data'!$A:$F,4,0)),\"NO\",VLOOKUP($A114+8860000,'Growth Data'!$A:$F,4,0))","v":"NO"},0,null,0,{"$f":"IF(BU114=\"YES\",IF(ISERROR(VLOOKUP($A114+8860000,'Growth Data'!$A:$Z,7,0)),0,VLOOKUP($A114+8860000,'Growth Data'!$A:$Z,7,0)),0)","v":0},0,null,"NO",{"$f":"IF(ISERROR(VLOOKUP($A114+8860000,'Growth Data'!$A:$F,5,0)),\"NO\",VLOOKUP($A114+8860000,'Growth Data'!$A:$F,5,0))","v":"NO"},0,null,0,{"$f":"IF(CC114=\"YES\",IF(ISERROR(VLOOKUP($A114+8860000,'Growth Data'!$A:$Z,8,0)),0,VLOOKUP($A114+8860000,'Growth Data'!$A:$Z,8,0)),0)","v":0},0,null,null,null,0]
[2545,"Sandgate Primary School",null,"Sandgate Primary School","Sandgate Primary School",0,null,1478456,1478456.0000000002,0,null,0,0,0,null,1478456,1478456.0000000002,0,null,10835.99,10835.991678799999,0,null,null,null,0,null,0,0,0,null,95076.86,null,95077,null,0,null,0,null,0,null,0,null,0,null,0,null,null,null,0,null,null,null,0,null,null,null,0,null,null,null,0,null,"NO",{"$f":"IF(ISERROR(VLOOKUP($A115+8860000,'Growth Data'!$A:$F,3,0)),\"NO\",VLOOKUP($A115+8860000,'Growth Data'!$A:$F,3,0))","v":"NO"},0,null,0,{"$f":"IF(BM115=\"YES\",IF(ISERROR(VLOOKUP($A115+8860000,'Growth Data'!$A:$F,6,0)),0,VLOOKUP($A115+8860000,'Growth Data'!$A:$F,6,0)),0)","v":0},0,null,"NO",{"$f":"IF(ISERROR(VLOOKUP($A115+8860000,'Growth Data'!$A:$F,4,0)),\"NO\",VLOOKUP($A115+8860000,'Growth Data'!$A:$F,4,0))","v":"NO"},0,null,0,{"$f":"IF(BU115=\"YES\",IF(ISERROR(VLOOKUP($A115+8860000,'Growth Data'!$A:$Z,7,0)),0,VLOOKUP($A115+8860000,'Growth Data'!$A:$Z,7,0)),0)","v":0},0,null,"NO",{"$f":"IF(ISERROR(VLOOKUP($A115+8860000,'Growth Data'!$A:$F,5,0)),\"NO\",VLOOKUP($A115+8860000,'Growth Data'!$A:$F,5,0))","v":"NO"},0,null,0,{"$f":"IF(CC115=\"YES\",IF(ISERROR(VLOOKUP($A115+8860000,'Growth Data'!$A:$Z,8,0)),0,VLOOKUP($A115+8860000,'Growth Data'!$A:$Z,8,0)),0)","v":0},0,null,null,null,0]
[2552,"Sandling Primary School",null,"Sandling Primary School","Sandling Primary School",0,null,1455802,1455802,0,null,0,0,0,null,1455802,1455802,0,null,10810.31,10810.3139734,0,null,null,null,0,null,0,0,0,null,5580,null,5580,null,5442,null,5442,null,0,null,0,null,0,null,0,null,null,null,0,null,null,null,0,null,null,null,0,null,null,null,0,null,"NO",{"$f":"IF(ISERROR(VLOOKUP($A116+8860000,'Growth Data'!$A:$F,3,0)),\"NO\",VLOOKUP($A116+8860000,'Growth Data'!$A:$F,3,0))","v":"NO"},0,null,0,{"$f":"IF(BM116=\"YES\",IF(ISERROR(VLOOKUP($A116+8860000,'Growth Data'!$A:$F,6,0)),0,VLOOKUP($A116+8860000,'Growth Data'!$A:$F,6,0)),0)","v":0},0,null,"NO",{"$f":"IF(ISERROR(VLOOKUP($A116+8860000,'Growth Data'!$A:$F,4,0)),\"NO\",VLOOKUP($A116+8860000,'Growth Data'!$A:$F,4,0))","v":"NO"},0,null,0,{"$f":"IF(BU116=\"YES\",IF(ISERROR(VLOOKUP($A116+8860000,'Growth Data'!$A:$Z,7,0)),0,VLOOKUP($A116+8860000,'Growth Data'!$A:$Z,7,0)),0)","v":0},0,null,"NO",{"$f":"IF(ISERROR(VLOOKUP($A116+8860000,'Growth Data'!$A:$F,5,0)),\"NO\",VLOOKUP($A116+8860000,'Growth Data'!$A:$F,5,0))","v":"NO"},0,null,0,{"$f":"IF(CC116=\"YES\",IF(ISERROR(VLOOKUP($A116+8860000,'Growth Data'!$A:$Z,8,0)),0,VLOOKUP($A116+8860000,'Growth Data'!$A:$Z,8,0)),0)","v":0},0,null,null,null,0]
[2559,"Capel-le-Ferne Primary School",null,"Capel-le-Ferne Primary School","Capel-le-Ferne Primary School",0,null,782131.29,782131.28808722121,0,null,0,0,0,null,782131.29,782131.28808722121,0,null,5289.61,5289.6073123999995,0,null,null,null,0,null,0,0,0,null,38318.58,null,38319,null,2168.14,null,2168,null,0,null,0,null,0,null,0,null,null,null,0,null,null,null,0,null,null,null,0,null,null,null,0,null,"NO",{"$f":"IF(ISERROR(VLOOKUP($A117+8860000,'Growth Data'!$A:$F,3,0)),\"NO\",VLOOKUP($A117+8860000,'Growth Data'!$A:$F,3,0))","v":"NO"},0,null,0,{"$f":"IF(BM117=\"YES\",IF(ISERROR(VLOOKUP($A117+8860000,'Growth Data'!$A:$F,6,0)),0,VLOOKUP($A117+8860000,'Growth Data'!$A:$F,6,0)),0)","v":0},0,null,"NO",{"$f":"IF(ISERROR(VLOOKUP($A117+8860000,'Growth Data'!$A:$F,4,0)),\"NO\",VLOOKUP($A117+8860000,'Growth Data'!$A:$F,4,0))","v":"NO"},0,null,0,{"$f":"IF(BU117=\"YES\",IF(ISERROR(VLOOKUP($A117+8860000,'Growth Data'!$A:$Z,7,0)),0,VLOOKUP($A117+8860000,'Growth Data'!$A:$Z,7,0)),0)","v":0},0,null,"NO",{"$f":"IF(ISERROR(VLOOKUP($A117+8860000,'Growth Data'!$A:$F,5,0)),\"NO\",VLOOKUP($A117+8860000,'Growth Data'!$A:$F,5,0))","v":"NO"},0,null,0,{"$f":"IF(CC117=\"YES\",IF(ISERROR(VLOOKUP($A117+8860000,'Growth Data'!$A:$Z,8,0)),0,VLOOKUP($A117+8860000,'Growth Data'!$A:$Z,8,0)),0)","v":0},0,null,null,null,0]
[2562,"Lunsford Primary School",null,"Lunsford Primary School","Lunsford Primary School",0,null,767558.67,767558.67073565477,0,null,0,0,0,null,767558.67,767558.67073565477,0,null,5392.32,5392.3181340000001,0,null,null,null,0,null,0,0,0,null,117872.01,null,117872,null,0,null,0,null,0,null,0,null,0,null,0,null,null,null,0,null,null,null,0,null,null,null,0,null,null,null,0,null,"YES",{"$f":"IF(ISERROR(VLOOKUP($A118+8860000,'Growth Data'!$A:$F,3,0)),\"NO\",VLOOKUP($A118+8860000,'Growth Data'!$A:$F,3,0))","v":"NO"},1,null,49,{"$f":"IF(BM118=\"YES\",IF(ISERROR(VLOOKUP($A118+8860000,'Growth Data'!$A:$F,6,0)),0,VLOOKUP($A118+8860000,'Growth Data'!$A:$F,6,0)),0)","v":0},49,null,"NO",{"$f":"IF(ISERROR(VLOOKUP($A118+8860000,'Growth Data'!$A:$F,4,0)),\"NO\",VLOOKUP($A118+8860000,'Growth Data'!$A:$F,4,0))","v":"NO"},0,null,0,{"$f":"IF(BU118=\"YES\",IF(ISERROR(VLOOKUP($A118+8860000,'Growth Data'!$A:$Z,7,0)),0,VLOOKUP($A118+8860000,'Growth Data'!$A:$Z,7,0)),0)","v":0},0,null,"NO",{"$f":"IF(ISERROR(VLOOKUP($A118+8860000,'Growth Data'!$A:$F,5,0)),\"NO\",VLOOKUP($A118+8860000,'Growth Data'!$A:$F,5,0))","v":"NO"},0,null,0,{"$f":"IF(CC118=\"YES\",IF(ISERROR(VLOOKUP($A118+8860000,'Growth Data'!$A:$Z,8,0)),0,VLOOKUP($A118+8860000,'Growth Data'!$A:$Z,8,0)),0)","v":0},0,null,null,null,0]
[2569,"Briary Primary School",null,"Briary Primary School","Briary Primary School",0,null,1402234.16,1402234.1560184399,0,null,0,0,0,null,1402234.16,1402234.1560184399,0,null,9860.24,9860.2388736000012,0,null,null,null,0,null,0,0,0,null,21899.040000000001,null,21899,null,3810.1,null,3810,null,0,null,0,null,0,null,0,null,null,null,0,null,null,null,0,null,null,null,0,null,null,null,0,null,"NO",{"$f":"IF(ISERROR(VLOOKUP($A119+8860000,'Growth Data'!$A:$F,3,0)),\"NO\",VLOOKUP($A119+8860000,'Growth Data'!$A:$F,3,0))","v":"NO"},0,null,0,{"$f":"IF(BM119=\"YES\",IF(ISERROR(VLOOKUP($A119+8860000,'Growth Data'!$A:$F,6,0)),0,VLOOKUP($A119+8860000,'Growth Data'!$A:$F,6,0)),0)","v":0},0,null,"NO",{"$f":"IF(ISERROR(VLOOKUP($A119+8860000,'Growth Data'!$A:$F,4,0)),\"NO\",VLOOKUP($A119+8860000,'Growth Data'!$A:$F,4,0))","v":"NO"},0,null,0,{"$f":"IF(BU119=\"YES\",IF(ISERROR(VLOOKUP($A119+8860000,'Growth Data'!$A:$Z,7,0)),0,VLOOKUP($A119+8860000,'Growth Data'!$A:$Z,7,0)),0)","v":0},0,null,"NO",{"$f":"IF(ISERROR(VLOOKUP($A119+8860000,'Growth Data'!$A:$F,5,0)),\"NO\",VLOOKUP($A119+8860000,'Growth Data'!$A:$F,5,0))","v":"NO"},0,null,0,{"$f":"IF(CC119=\"YES\",IF(ISERROR(VLOOKUP($A119+8860000,'Growth Data'!$A:$Z,8,0)),0,VLOOKUP($A119+8860000,'Growth Data'!$A:$Z,8,0)),0)","v":0},0,null,null,null,0]
[2574,"Downs View Infant School",null,"Downs View Infant School","Downs View Infant School",0,null,982423.65,982423.64616967994,0,null,0,0,0,null,982423.65,982423.64616967994,0,null,6727.56,6727.5588147999997,0,null,null,null,0,null,0,0,0,null,76812.38,null,76812,null,0,null,0,null,0,null,0,null,0,null,0,null,null,null,0,null,null,null,0,null,null,null,0,null,null,null,0,null,"NO",{"$f":"IF(ISERROR(VLOOKUP($A120+8860000,'Growth Data'!$A:$F,3,0)),\"NO\",VLOOKUP($A120+8860000,'Growth Data'!$A:$F,3,0))","v":"NO"},0,null,0,{"$f":"IF(BM120=\"YES\",IF(ISERROR(VLOOKUP($A120+8860000,'Growth Data'!$A:$F,6,0)),0,VLOOKUP($A120+8860000,'Growth Data'!$A:$F,6,0)),0)","v":0},0,null,"NO",{"$f":"IF(ISERROR(VLOOKUP($A120+8860000,'Growth Data'!$A:$F,4,0)),\"NO\",VLOOKUP($A120+8860000,'Growth Data'!$A:$F,4,0))","v":"NO"},0,null,0,{"$f":"IF(BU120=\"YES\",IF(ISERROR(VLOOKUP($A120+8860000,'Growth Data'!$A:$Z,7,0)),0,VLOOKUP($A120+8860000,'Growth Data'!$A:$Z,7,0)),0)","v":0},0,null,"NO",{"$f":"IF(ISERROR(VLOOKUP($A120+8860000,'Growth Data'!$A:$F,5,0)),\"NO\",VLOOKUP($A120+8860000,'Growth Data'!$A:$F,5,0))","v":"NO"},0,null,0,{"$f":"IF(CC120=\"YES\",IF(ISERROR(VLOOKUP($A120+8860000,'Growth Data'!$A:$Z,8,0)),0,VLOOKUP($A120+8860000,'Growth Data'!$A:$Z,8,0)),0)","v":0},0,null,null,null,0]
[2578,"Kingswood Primary School",null,"Kingswood Primary School","Kingswood Primary School",0,null,478766.76,478766.76480031165,0,null,0,0,0,null,478766.76,478766.76480031165,0,null,3055.65,3055.6469426000003,0,null,null,null,0,null,0,0,0,null,70083.44,null,70083,null,0,null,0,null,0,null,0,null,0,null,0,null,null,null,0,null,null,null,0,null,null,null,0,null,null,null,0,null,"NO",{"$f":"IF(ISERROR(VLOOKUP($A121+8860000,'Growth Data'!$A:$F,3,0)),\"NO\",VLOOKUP($A121+8860000,'Growth Data'!$A:$F,3,0))","v":"NO"},0,null,0,{"$f":"IF(BM121=\"YES\",IF(ISERROR(VLOOKUP($A121+8860000,'Growth Data'!$A:$F,6,0)),0,VLOOKUP($A121+8860000,'Growth Data'!$A:$F,6,0)),0)","v":0},0,null,"NO",{"$f":"IF(ISERROR(VLOOKUP($A121+8860000,'Growth Data'!$A:$F,4,0)),\"NO\",VLOOKUP($A121+8860000,'Growth Data'!$A:$F,4,0))","v":"NO"},0,null,0,{"$f":"IF(BU121=\"YES\",IF(ISERROR(VLOOKUP($A121+8860000,'Growth Data'!$A:$Z,7,0)),0,VLOOKUP($A121+8860000,'Growth Data'!$A:$Z,7,0)),0)","v":0},0,null,"NO",{"$f":"IF(ISERROR(VLOOKUP($A121+8860000,'Growth Data'!$A:$F,5,0)),\"NO\",VLOOKUP($A121+8860000,'Growth Data'!$A:$F,5,0))","v":"NO"},0,null,0,{"$f":"IF(CC121=\"YES\",IF(ISERROR(VLOOKUP($A121+8860000,'Growth Data'!$A:$Z,8,0)),0,VLOOKUP($A121+8860000,'Growth Data'!$A:$Z,8,0)),0)","v":0},0,null,null,null,0]
[2586,"Senacre Wood Primary School",null,"Senacre Wood Primary School","Senacre Wood Primary School",0,null,839105.11,839105.11150569213,0,null,0,0,0,null,839105.11,839105.11150569213,0,null,5315.29,5315.2850177999999,0,null,null,null,0,null,0,0,0,null,72242.59,null,72243,null,0,null,0,null,0,null,0,null,0,null,0,null,null,null,0,null,null,null,0,null,null,null,0,null,null,null,0,null,"NO",{"$f":"IF(ISERROR(VLOOKUP($A122+8860000,'Growth Data'!$A:$F,3,0)),\"NO\",VLOOKUP($A122+8860000,'Growth Data'!$A:$F,3,0))","v":"NO"},0,null,0,{"$f":"IF(BM122=\"YES\",IF(ISERROR(VLOOKUP($A122+8860000,'Growth Data'!$A:$F,6,0)),0,VLOOKUP($A122+8860000,'Growth Data'!$A:$F,6,0)),0)","v":0},0,null,"NO",{"$f":"IF(ISERROR(VLOOKUP($A122+8860000,'Growth Data'!$A:$F,4,0)),\"NO\",VLOOKUP($A122+8860000,'Growth Data'!$A:$F,4,0))","v":"NO"},0,null,0,{"$f":"IF(BU122=\"YES\",IF(ISERROR(VLOOKUP($A122+8860000,'Growth Data'!$A:$Z,7,0)),0,VLOOKUP($A122+8860000,'Growth Data'!$A:$Z,7,0)),0)","v":0},0,null,"NO",{"$f":"IF(ISERROR(VLOOKUP($A122+8860000,'Growth Data'!$A:$F,5,0)),\"NO\",VLOOKUP($A122+8860000,'Growth Data'!$A:$F,5,0))","v":"NO"},0,null,0,{"$f":"IF(CC122=\"YES\",IF(ISERROR(VLOOKUP($A122+8860000,'Growth Data'!$A:$Z,8,0)),0,VLOOKUP($A122+8860000,'Growth Data'!$A:$Z,8,0)),0)","v":0},0,null,null,null,0]
[2603,"Bromstone Primary School, Broadstairs",null,"Bromstone Primary School, Broadstairs","Bromstone Primary School, Broadstairs",0,null,1836069.85,1836069.8468247659,0,null,0,0,0,null,1836069.85,1836069.8468247659,0,null,12633.43,12633.431056800002,0,null,null,null,0,null,0,0,0,null,44855.27,null,44855,null,1514.47,null,1514,null,0,null,0,null,0,null,0,null,null,null,0,null,null,null,0,null,null,null,0,null,null,null,0,null,"NO",{"$f":"IF(ISERROR(VLOOKUP($A123+8860000,'Growth Data'!$A:$F,3,0)),\"NO\",VLOOKUP($A123+8860000,'Growth Data'!$A:$F,3,0))","v":"NO"},0,null,0,{"$f":"IF(BM123=\"YES\",IF(ISERROR(VLOOKUP($A123+8860000,'Growth Data'!$A:$F,6,0)),0,VLOOKUP($A123+8860000,'Growth Data'!$A:$F,6,0)),0)","v":0},0,null,"NO",{"$f":"IF(ISERROR(VLOOKUP($A123+8860000,'Growth Data'!$A:$F,4,0)),\"NO\",VLOOKUP($A123+8860000,'Growth Data'!$A:$F,4,0))","v":"NO"},0,null,0,{"$f":"IF(BU123=\"YES\",IF(ISERROR(VLOOKUP($A123+8860000,'Growth Data'!$A:$Z,7,0)),0,VLOOKUP($A123+8860000,'Growth Data'!$A:$Z,7,0)),0)","v":0},0,null,"NO",{"$f":"IF(ISERROR(VLOOKUP($A123+8860000,'Growth Data'!$A:$F,5,0)),\"NO\",VLOOKUP($A123+8860000,'Growth Data'!$A:$F,5,0))","v":"NO"},0,null,0,{"$f":"IF(CC123=\"YES\",IF(ISERROR(VLOOKUP($A123+8860000,'Growth Data'!$A:$Z,8,0)),0,VLOOKUP($A123+8860000,'Growth Data'!$A:$Z,8,0)),0)","v":0},0,null,null,null,0]
[2607,"Parkside Community Primary School",null,"Parkside Community Primary School","Parkside Community Primary School",0,null,572902.23,572902.23350121966,0,null,42660.81,42660.807761153905,0,null,615563.04,615563.04126237356,0,null,2824.55,2824.5475939999992,0,null,null,null,0,null,4.9000000000000004,4.9000000000000004,0,null,138988.67000000001,null,138989,null,0,null,0,null,0,null,0,null,0,null,0,null,null,null,0,null,null,null,0,null,null,null,0,null,null,null,0,null,"NO",{"$f":"IF(ISERROR(VLOOKUP($A124+8860000,'Growth Data'!$A:$F,3,0)),\"NO\",VLOOKUP($A124+8860000,'Growth Data'!$A:$F,3,0))","v":"NO"},0,null,0,{"$f":"IF(BM124=\"YES\",IF(ISERROR(VLOOKUP($A124+8860000,'Growth Data'!$A:$F,6,0)),0,VLOOKUP($A124+8860000,'Growth Data'!$A:$F,6,0)),0)","v":0},0,null,"NO",{"$f":"IF(ISERROR(VLOOKUP($A124+8860000,'Growth Data'!$A:$F,4,0)),\"NO\",VLOOKUP($A124+8860000,'Growth Data'!$A:$F,4,0))","v":"NO"},0,null,0,{"$f":"IF(BU124=\"YES\",IF(ISERROR(VLOOKUP($A124+8860000,'Growth Data'!$A:$Z,7,0)),0,VLOOKUP($A124+8860000,'Growth Data'!$A:$Z,7,0)),0)","v":0},0,null,"NO",{"$f":"IF(ISERROR(VLOOKUP($A124+8860000,'Growth Data'!$A:$F,5,0)),\"NO\",VLOOKUP($A124+8860000,'Growth Data'!$A:$F,5,0))","v":"NO"},0,null,0,{"$f":"IF(CC124=\"YES\",IF(ISERROR(VLOOKUP($A124+8860000,'Growth Data'!$A:$Z,8,0)),0,VLOOKUP($A124+8860000,'Growth Data'!$A:$Z,8,0)),0)","v":0},0,null,null,null,0]
[2611,"St Stephen's Infant School",null,"St Stephen's Infant School","St Stephen's Infant School",0,null,1065694.8899999999,1065694.890298774,0,null,0,0,0,null,1065694.8899999999,1065694.890298774,0,null,6932.98,6932.980458,0,null,null,null,0,null,0,0,0,null,89259.27,null,89259,null,0,null,0,null,0,null,0,null,0,null,0,null,null,null,0,null,null,null,0,null,null,null,0,null,null,null,0,null,"NO",{"$f":"IF(ISERROR(VLOOKUP($A125+8860000,'Growth Data'!$A:$F,3,0)),\"NO\",VLOOKUP($A125+8860000,'Growth Data'!$A:$F,3,0))","v":"NO"},0,null,0,{"$f":"IF(BM125=\"YES\",IF(ISERROR(VLOOKUP($A125+8860000,'Growth Data'!$A:$F,6,0)),0,VLOOKUP($A125+8860000,'Growth Data'!$A:$F,6,0)),0)","v":0},0,null,"NO",{"$f":"IF(ISERROR(VLOOKUP($A125+8860000,'Growth Data'!$A:$F,4,0)),\"NO\",VLOOKUP($A125+8860000,'Growth Data'!$A:$F,4,0))","v":"NO"},0,null,0,{"$f":"IF(BU125=\"YES\",IF(ISERROR(VLOOKUP($A125+8860000,'Growth Data'!$A:$Z,7,0)),0,VLOOKUP($A125+8860000,'Growth Data'!$A:$Z,7,0)),0)","v":0},0,null,"NO",{"$f":"IF(ISERROR(VLOOKUP($A125+8860000,'Growth Data'!$A:$F,5,0)),\"NO\",VLOOKUP($A125+8860000,'Growth Data'!$A:$F,5,0))","v":"NO"},0,null,0,{"$f":"IF(CC125=\"YES\",IF(ISERROR(VLOOKUP($A125+8860000,'Growth Data'!$A:$Z,8,0)),0,VLOOKUP($A125+8860000,'Growth Data'!$A:$Z,8,0)),0)","v":0},0,null,null,null,0]
[2615,"High Firs Primary School",null,"High Firs Primary School","High Firs Primary School",0,null,820825.06,820825.06437850546,0,null,0,0,0,null,820825.06,820825.06437850546,0,null,5428.92,5428.9242708182401,0,null,null,null,0,null,0,0,0,null,22908.19,null,22908,null,3709.18,null,3709,null,0,null,0,null,0,null,0,null,null,null,0,null,null,null,0,null,null,null,0,null,null,null,0,null,"NO",{"$f":"IF(ISERROR(VLOOKUP($A126+8860000,'Growth Data'!$A:$F,3,0)),\"NO\",VLOOKUP($A126+8860000,'Growth Data'!$A:$F,3,0))","v":"NO"},0,null,0,{"$f":"IF(BM126=\"YES\",IF(ISERROR(VLOOKUP($A126+8860000,'Growth Data'!$A:$F,6,0)),0,VLOOKUP($A126+8860000,'Growth Data'!$A:$F,6,0)),0)","v":0},0,null,"NO",{"$f":"IF(ISERROR(VLOOKUP($A126+8860000,'Growth Data'!$A:$F,4,0)),\"NO\",VLOOKUP($A126+8860000,'Growth Data'!$A:$F,4,0))","v":"NO"},0,null,0,{"$f":"IF(BU126=\"YES\",IF(ISERROR(VLOOKUP($A126+8860000,'Growth Data'!$A:$Z,7,0)),0,VLOOKUP($A126+8860000,'Growth Data'!$A:$Z,7,0)),0)","v":0},0,null,"NO",{"$f":"IF(ISERROR(VLOOKUP($A126+8860000,'Growth Data'!$A:$F,5,0)),\"NO\",VLOOKUP($A126+8860000,'Growth Data'!$A:$F,5,0))","v":"NO"},0,null,0,{"$f":"IF(CC126=\"YES\",IF(ISERROR(VLOOKUP($A126+8860000,'Growth Data'!$A:$Z,8,0)),0,VLOOKUP($A126+8860000,'Growth Data'!$A:$Z,8,0)),0)","v":0},0,null,null,null,0]
[2626,"Sandwich Infant School",null,"Sandwich Infant School","Sandwich Infant School",0,null,574807.16,574807.16465321463,0,null,0,0,0,null,574807.16,574807.16465321463,0,null,3594.88,3594.8787560000001,0,null,null,null,0,null,0,0,0,null,108372.61,null,108373,null,0,null,0,null,0,null,0,null,0,null,0,null,null,null,0,null,null,null,0,null,null,null,0,null,null,null,0,null,"NO",{"$f":"IF(ISERROR(VLOOKUP($A127+8860000,'Growth Data'!$A:$F,3,0)),\"NO\",VLOOKUP($A127+8860000,'Growth Data'!$A:$F,3,0))","v":"NO"},0,null,0,{"$f":"IF(BM127=\"YES\",IF(ISERROR(VLOOKUP($A127+8860000,'Growth Data'!$A:$F,6,0)),0,VLOOKUP($A127+8860000,'Growth Data'!$A:$F,6,0)),0)","v":0},0,null,"NO",{"$f":"IF(ISERROR(VLOOKUP($A127+8860000,'Growth Data'!$A:$F,4,0)),\"NO\",VLOOKUP($A127+8860000,'Growth Data'!$A:$F,4,0))","v":"NO"},0,null,0,{"$f":"IF(BU127=\"YES\",IF(ISERROR(VLOOKUP($A127+8860000,'Growth Data'!$A:$Z,7,0)),0,VLOOKUP($A127+8860000,'Growth Data'!$A:$Z,7,0)),0)","v":0},0,null,"NO",{"$f":"IF(ISERROR(VLOOKUP($A127+8860000,'Growth Data'!$A:$F,5,0)),\"NO\",VLOOKUP($A127+8860000,'Growth Data'!$A:$F,5,0))","v":"NO"},0,null,0,{"$f":"IF(CC127=\"YES\",IF(ISERROR(VLOOKUP($A127+8860000,'Growth Data'!$A:$Z,8,0)),0,VLOOKUP($A127+8860000,'Growth Data'!$A:$Z,8,0)),0)","v":0},0,null,null,null,0]
[2627,"Sandwich Junior School",null,"Sandwich Junior School","Sandwich Junior School",0,null,837285.22,837285.22071902524,0,null,0,0,0,null,837285.22,837285.22071902524,0,null,5777.48,5777.4837149999994,0,null,null,null,0,null,0,0,0,null,250789.2,null,250789,null,0,null,0,null,0,null,0,null,0,null,0,null,null,null,0,null,null,null,0,null,null,null,0,null,null,null,0,null,"NO",{"$f":"IF(ISERROR(VLOOKUP($A128+8860000,'Growth Data'!$A:$F,3,0)),\"NO\",VLOOKUP($A128+8860000,'Growth Data'!$A:$F,3,0))","v":"NO"},0,null,0,{"$f":"IF(BM128=\"YES\",IF(ISERROR(VLOOKUP($A128+8860000,'Growth Data'!$A:$F,6,0)),0,VLOOKUP($A128+8860000,'Growth Data'!$A:$F,6,0)),0)","v":0},0,null,"NO",{"$f":"IF(ISERROR(VLOOKUP($A128+8860000,'Growth Data'!$A:$F,4,0)),\"NO\",VLOOKUP($A128+8860000,'Growth Data'!$A:$F,4,0))","v":"NO"},0,null,0,{"$f":"IF(BU128=\"YES\",IF(ISERROR(VLOOKUP($A128+8860000,'Growth Data'!$A:$Z,7,0)),0,VLOOKUP($A128+8860000,'Growth Data'!$A:$Z,7,0)),0)","v":0},0,null,"NO",{"$f":"IF(ISERROR(VLOOKUP($A128+8860000,'Growth Data'!$A:$F,5,0)),\"NO\",VLOOKUP($A128+8860000,'Growth Data'!$A:$F,5,0))","v":"NO"},0,null,0,{"$f":"IF(CC128=\"YES\",IF(ISERROR(VLOOKUP($A128+8860000,'Growth Data'!$A:$Z,8,0)),0,VLOOKUP($A128+8860000,'Growth Data'!$A:$Z,8,0)),0)","v":0},0,null,null,null,0]
[2629,"Holywell Primary School Upchurch",null,"Holywell Primary School Upchurch","Holywell Primary School Upchurch",0,null,736419.56,736419.55513364449,0,null,0,0,0,null,736419.56,736419.55513364449,0,null,5161.22,5161.2187854000003,0,null,null,null,0,null,0,0,0,null,96179.54,null,96180,null,0,null,0,null,0,null,0,null,0,null,0,null,null,null,0,null,null,null,0,null,null,null,0,null,null,null,0,null,"NO",{"$f":"IF(ISERROR(VLOOKUP($A129+8860000,'Growth Data'!$A:$F,3,0)),\"NO\",VLOOKUP($A129+8860000,'Growth Data'!$A:$F,3,0))","v":"NO"},0,null,0,{"$f":"IF(BM129=\"YES\",IF(ISERROR(VLOOKUP($A129+8860000,'Growth Data'!$A:$F,6,0)),0,VLOOKUP($A129+8860000,'Growth Data'!$A:$F,6,0)),0)","v":0},0,null,"NO",{"$f":"IF(ISERROR(VLOOKUP($A129+8860000,'Growth Data'!$A:$F,4,0)),\"NO\",VLOOKUP($A129+8860000,'Growth Data'!$A:$F,4,0))","v":"NO"},0,null,0,{"$f":"IF(BU129=\"YES\",IF(ISERROR(VLOOKUP($A129+8860000,'Growth Data'!$A:$Z,7,0)),0,VLOOKUP($A129+8860000,'Growth Data'!$A:$Z,7,0)),0)","v":0},0,null,"NO",{"$f":"IF(ISERROR(VLOOKUP($A129+8860000,'Growth Data'!$A:$F,5,0)),\"NO\",VLOOKUP($A129+8860000,'Growth Data'!$A:$F,5,0))","v":"NO"},0,null,0,{"$f":"IF(CC129=\"YES\",IF(ISERROR(VLOOKUP($A129+8860000,'Growth Data'!$A:$Z,8,0)),0,VLOOKUP($A129+8860000,'Growth Data'!$A:$Z,8,0)),0)","v":0},0,null,null,null,0]
[2632,"Sevenoaks Primary School",null,"Sevenoaks Primary School","Sevenoaks Primary School",0,null,2107150,2107150,0,null,0,0,0,null,2107150,2107150,0,null,15914.2,15914.199578182881,0,null,null,null,0,null,0,0,0,null,126283.68,null,126284,null,0,null,0,null,0,null,0,null,0,null,0,null,null,null,0,null,null,null,0,null,null,null,0,null,null,null,0,null,"NO",{"$f":"IF(ISERROR(VLOOKUP($A130+8860000,'Growth Data'!$A:$F,3,0)),\"NO\",VLOOKUP($A130+8860000,'Growth Data'!$A:$F,3,0))","v":"NO"},0,null,0,{"$f":"IF(BM130=\"YES\",IF(ISERROR(VLOOKUP($A130+8860000,'Growth Data'!$A:$F,6,0)),0,VLOOKUP($A130+8860000,'Growth Data'!$A:$F,6,0)),0)","v":0},0,null,"NO",{"$f":"IF(ISERROR(VLOOKUP($A130+8860000,'Growth Data'!$A:$F,4,0)),\"NO\",VLOOKUP($A130+8860000,'Growth Data'!$A:$F,4,0))","v":"YES"},1,null,0,{"$f":"IF(BU130=\"YES\",IF(ISERROR(VLOOKUP($A130+8860000,'Growth Data'!$A:$Z,7,0)),0,VLOOKUP($A130+8860000,'Growth Data'!$A:$Z,7,0)),0)","v":0},0,null,"NO",{"$f":"IF(ISERROR(VLOOKUP($A130+8860000,'Growth Data'!$A:$F,5,0)),\"NO\",VLOOKUP($A130+8860000,'Growth Data'!$A:$F,5,0))","v":"NO"},0,null,0,{"$f":"IF(CC130=\"YES\",IF(ISERROR(VLOOKUP($A130+8860000,'Growth Data'!$A:$Z,8,0)),0,VLOOKUP($A130+8860000,'Growth Data'!$A:$Z,8,0)),0)","v":0},0,null,null,null,0]
[2636,"Edenbridge Primary School",null,"Edenbridge Primary School","Edenbridge Primary School",{"$f":"IF(E131=D131,0,1)","v":0},null,1524891.25,1524891.2534374609,{"$f":"ROUND(H131-I131,0)","v":0},null,0,0,{"$f":"ROUND(L131-M131,0)","v":0},null,1524891.25,1524891.2534374609,{"$f":"ROUND(P131-Q131,0)","v":0},null,10591.72,10591.72480287088,{"$f":"ROUND(T131-U131,0)","v":0},null,null,null,{"$f":"ROUND(X131-Y131,0)","v":0},null,4.9000000000000004,4.9000000000000004,{"$f":"ROUND(AB131-AC131,0)","v":0},null,77024.14,null,{"$f":"ROUND(AF131-AG131,0)","v":77024},null,0,null,{"$f":"ROUND(AJ131-AK131,0)","v":0},null,0,null,{"$f":"ROUND(AN131-AO131,0)","v":0},null,0,null,{"$f":"ROUND(AR131-AS131,0)","v":0},null,null,null,{"$f":"ROUND(AV131-AW131,0)","v":0},null,null,null,{"$f":"ROUND(AZ131-BA131,0)","v":0},null,null,null,{"$f":"ROUND(BD131-BE131,0)","v":0},null,null,null,{"$f":"ROUND(BH131-BI131,0)","v":0},null,"NO",{"$f":"IF(ISERROR(VLOOKUP($A131+8860000,'Growth Data'!$A:$F,3,0)),\"NO\",VLOOKUP($A131+8860000,'Growth Data'!$A:$F,3,0))","v":"NO"},{"$f":"IF(BL131=BM131,0,1)","v":0},null,0,{"$f":"IF(BM131=\"YES\",IF(ISERROR(VLOOKUP($A131+8860000,'Growth Data'!$A:$F,6,0)),0,VLOOKUP($A131+8860000,'Growth Data'!$A:$F,6,0)),0)","v":0},{"$f":"ROUND(BP131-BQ131,0)","v":0},null,"NO",{"$f":"IF(ISERROR(VLOOKUP($A131+8860000,'Growth Data'!$A:$F,4,0)),\"NO\",VLOOKUP($A131+8860000,'Growth Data'!$A:$F,4,0))","v":"YES"},{"$f":"IF(BT131=BU131,0,1)","v":1},null,0,{"$f":"IF(BU131=\"YES\",IF(ISERROR(VLOOKUP($A131+8860000,'Growth Data'!$A:$Z,7,0)),0,VLOOKUP($A131+8860000,'Growth Data'!$A:$Z,7,0)),0)","v":0},{"$f":"ROUND(BX131-BY131,0)","v":0},null,"NO",{"$f":"IF(ISERROR(VLOOKUP($A131+8860000,'Growth Data'!$A:$F,5,0)),\"NO\",VLOOKUP($A131+8860000,'Growth Data'!$A:$F,5,0))","v":"YES"},{"$f":"IF(CB131=CC131,0,1)","v":1},null,0,{"$f":"IF(CC131=\"YES\",IF(ISERROR(VLOOKUP($A131+8860000,'Growth Data'!$A:$Z,8,0)),0,VLOOKUP($A131+8860000,'Growth Data'!$A:$Z,8,0)),0)","v":60},{"$f":"ROUND(CF131-CG131,0)","v":-60},null,null,null,{"$f":"ROUND(CJ131-CK131,0)","v":0}]
[2643,"Swalecliffe Community Primary School",null,"Swalecliffe Community Primary School","Swalecliffe Community Primary School",0,null,2213281,2213281,0,null,0,0,0,null,2213281,2213281,0,null,16279.67,16279.665223599999,0,null,null,null,0,null,0,0,0,null,49098.48,null,49098,null,1090.1500000000001,null,1090,null,0,null,0,null,0,null,0,null,null,null,0,null,null,null,0,null,null,null,0,null,null,null,0,null,"NO",{"$f":"IF(ISERROR(VLOOKUP($A132+8860000,'Growth Data'!$A:$F,3,0)),\"NO\",VLOOKUP($A132+8860000,'Growth Data'!$A:$F,3,0))","v":"NO"},0,null,0,{"$f":"IF(BM132=\"YES\",IF(ISERROR(VLOOKUP($A132+8860000,'Growth Data'!$A:$F,6,0)),0,VLOOKUP($A132+8860000,'Growth Data'!$A:$F,6,0)),0)","v":0},0,null,"NO",{"$f":"IF(ISERROR(VLOOKUP($A132+8860000,'Growth Data'!$A:$F,4,0)),\"NO\",VLOOKUP($A132+8860000,'Growth Data'!$A:$F,4,0))","v":"NO"},0,null,0,{"$f":"IF(BU132=\"YES\",IF(ISERROR(VLOOKUP($A132+8860000,'Growth Data'!$A:$Z,7,0)),0,VLOOKUP($A132+8860000,'Growth Data'!$A:$Z,7,0)),0)","v":0},0,null,"NO",{"$f":"IF(ISERROR(VLOOKUP($A132+8860000,'Growth Data'!$A:$F,5,0)),\"NO\",VLOOKUP($A132+8860000,'Growth Data'!$A:$F,5,0))","v":"NO"},0,null,0,{"$f":"IF(CC132=\"YES\",IF(ISERROR(VLOOKUP($A132+8860000,'Growth Data'!$A:$Z,8,0)),0,VLOOKUP($A132+8860000,'Growth Data'!$A:$Z,8,0)),0)","v":0},0,null,null,null,0]
[2648,"Aylesham Primary School",null,"Aylesham Primary School","Aylesham Primary School",0,null,930979.26,930979.26401220495,0,null,0,0,0,null,930979.26,930979.26401220495,0,null,5905.87,5905.8722420000013,0,null,null,null,0,null,0,0,0,null,66167.5,null,66168,null,0,null,0,null,0,null,0,null,0,null,0,null,null,null,0,null,null,null,0,null,null,null,0,null,null,null,0,null,"NO",{"$f":"IF(ISERROR(VLOOKUP($A133+8860000,'Growth Data'!$A:$F,3,0)),\"NO\",VLOOKUP($A133+8860000,'Growth Data'!$A:$F,3,0))","v":"NO"},0,null,0,{"$f":"IF(BM133=\"YES\",IF(ISERROR(VLOOKUP($A133+8860000,'Growth Data'!$A:$F,6,0)),0,VLOOKUP($A133+8860000,'Growth Data'!$A:$F,6,0)),0)","v":0},0,null,"NO",{"$f":"IF(ISERROR(VLOOKUP($A133+8860000,'Growth Data'!$A:$F,4,0)),\"NO\",VLOOKUP($A133+8860000,'Growth Data'!$A:$F,4,0))","v":"NO"},0,null,0,{"$f":"IF(BU133=\"YES\",IF(ISERROR(VLOOKUP($A133+8860000,'Growth Data'!$A:$Z,7,0)),0,VLOOKUP($A133+8860000,'Growth Data'!$A:$Z,7,0)),0)","v":0},0,null,"NO",{"$f":"IF(ISERROR(VLOOKUP($A133+8860000,'Growth Data'!$A:$F,5,0)),\"NO\",VLOOKUP($A133+8860000,'Growth Data'!$A:$F,5,0))","v":"NO"},0,null,0,{"$f":"IF(CC133=\"YES\",IF(ISERROR(VLOOKUP($A133+8860000,'Growth Data'!$A:$Z,8,0)),0,VLOOKUP($A133+8860000,'Growth Data'!$A:$Z,8,0)),0)","v":0},0,null,null,null,0]
[2651,"Broadwater Primary School",null,"Broadwater Primary School","Broadwater Primary School",0,null,773541.51,773541.50737390586,0,null,0,0,0,null,773541.51,773541.50737390586,0,null,4827.41,4827.4086152,0,null,null,null,0,null,0,0,0,null,35678.199999999997,null,35678,null,2432.1799999999998,null,2432,null,75000,null,75000,null,112500,null,112500,null,null,null,0,null,null,null,0,null,null,null,0,null,null,null,0,null,"NO",{"$f":"IF(ISERROR(VLOOKUP($A134+8860000,'Growth Data'!$A:$F,3,0)),\"NO\",VLOOKUP($A134+8860000,'Growth Data'!$A:$F,3,0))","v":"NO"},0,null,0,{"$f":"IF(BM134=\"YES\",IF(ISERROR(VLOOKUP($A134+8860000,'Growth Data'!$A:$F,6,0)),0,VLOOKUP($A134+8860000,'Growth Data'!$A:$F,6,0)),0)","v":0},0,null,"NO",{"$f":"IF(ISERROR(VLOOKUP($A134+8860000,'Growth Data'!$A:$F,4,0)),\"NO\",VLOOKUP($A134+8860000,'Growth Data'!$A:$F,4,0))","v":"NO"},0,null,0,{"$f":"IF(BU134=\"YES\",IF(ISERROR(VLOOKUP($A134+8860000,'Growth Data'!$A:$Z,7,0)),0,VLOOKUP($A134+8860000,'Growth Data'!$A:$Z,7,0)),0)","v":0},0,null,"NO",{"$f":"IF(ISERROR(VLOOKUP($A134+8860000,'Growth Data'!$A:$F,5,0)),\"NO\",VLOOKUP($A134+8860000,'Growth Data'!$A:$F,5,0))","v":"NO"},0,null,0,{"$f":"IF(CC134=\"YES\",IF(ISERROR(VLOOKUP($A134+8860000,'Growth Data'!$A:$Z,8,0)),0,VLOOKUP($A134+8860000,'Growth Data'!$A:$Z,8,0)),0)","v":0},0,null,null,null,0]
[2653,"West Borough Primary School",null,"West Borough Primary School","West Borough Primary School",0,null,1620069.04,1620069.0362003618,0,null,0,0,0,null,1620069.04,1620069.0362003618,0,null,11503.61,11503.612019199998,0,null,null,null,0,null,4.9000000000000004,4.9000000000000004,0,null,80569.06,null,80569,null,0,null,0,null,0,null,0,null,0,null,0,null,null,null,0,null,null,null,0,null,null,null,0,null,null,null,0,null,"YES",{"$f":"IF(ISERROR(VLOOKUP($A135+8860000,'Growth Data'!$A:$F,3,0)),\"NO\",VLOOKUP($A135+8860000,'Growth Data'!$A:$F,3,0))","v":"NO"},1,null,60,{"$f":"IF(BM135=\"YES\",IF(ISERROR(VLOOKUP($A135+8860000,'Growth Data'!$A:$F,6,0)),0,VLOOKUP($A135+8860000,'Growth Data'!$A:$F,6,0)),0)","v":0},60,null,"NO",{"$f":"IF(ISERROR(VLOOKUP($A135+8860000,'Growth Data'!$A:$F,4,0)),\"NO\",VLOOKUP($A135+8860000,'Growth Data'!$A:$F,4,0))","v":"NO"},0,null,0,{"$f":"IF(BU135=\"YES\",IF(ISERROR(VLOOKUP($A135+8860000,'Growth Data'!$A:$Z,7,0)),0,VLOOKUP($A135+8860000,'Growth Data'!$A:$Z,7,0)),0)","v":0},0,null,"YES",{"$f":"IF(ISERROR(VLOOKUP($A135+8860000,'Growth Data'!$A:$F,5,0)),\"NO\",VLOOKUP($A135+8860000,'Growth Data'!$A:$F,5,0))","v":"NO"},1,null,60,{"$f":"IF(CC135=\"YES\",IF(ISERROR(VLOOKUP($A135+8860000,'Growth Data'!$A:$Z,8,0)),0,VLOOKUP($A135+8860000,'Growth Data'!$A:$Z,8,0)),0)","v":0},60,null,null,null,0]
[2659,"Sandown School",null,"Sandown School","Sandown School",0,null,1371153.59,1371153.5871800603,0,null,0,0,0,null,1371153.59,1371153.5871800603,0,null,9731.85,9731.8503466000002,0,null,null,null,0,null,0,0,0,null,167719,null,167719,null,0,null,0,null,0,null,0,null,0,null,0,null,null,null,0,null,null,null,0,null,null,null,0,null,null,null,0,null,"NO",{"$f":"IF(ISERROR(VLOOKUP($A136+8860000,'Growth Data'!$A:$F,3,0)),\"NO\",VLOOKUP($A136+8860000,'Growth Data'!$A:$F,3,0))","v":"NO"},0,null,0,{"$f":"IF(BM136=\"YES\",IF(ISERROR(VLOOKUP($A136+8860000,'Growth Data'!$A:$F,6,0)),0,VLOOKUP($A136+8860000,'Growth Data'!$A:$F,6,0)),0)","v":0},0,null,"YES",{"$f":"IF(ISERROR(VLOOKUP($A136+8860000,'Growth Data'!$A:$F,4,0)),\"NO\",VLOOKUP($A136+8860000,'Growth Data'!$A:$F,4,0))","v":"NO"},1,null,60,{"$f":"IF(BU136=\"YES\",IF(ISERROR(VLOOKUP($A136+8860000,'Growth Data'!$A:$Z,7,0)),0,VLOOKUP($A136+8860000,'Growth Data'!$A:$Z,7,0)),0)","v":0},60,null,"YES",{"$f":"IF(ISERROR(VLOOKUP($A136+8860000,'Growth Data'!$A:$F,5,0)),\"NO\",VLOOKUP($A136+8860000,'Growth Data'!$A:$F,5,0))","v":"NO"},1,null,60,{"$f":"IF(CC136=\"YES\",IF(ISERROR(VLOOKUP($A136+8860000,'Growth Data'!$A:$Z,8,0)),0,VLOOKUP($A136+8860000,'Growth Data'!$A:$Z,8,0)),0)","v":0},60,null,null,null,0]
[2661,"Cage Green Primary School",null,"Cage Green Primary School","Cage Green Primary School",0,null,1514146,1514146.0014892553,0,null,0,0,0,null,1514146,1514146.0014892553,0,null,10656.25,10656.247741000003,0,null,null,null,0,null,0,0,0,null,144405.29999999999,null,144405,null,0,null,0,null,0,null,0,null,0,null,0,null,null,null,0,null,null,null,0,null,null,null,0,null,null,null,0,null,"NO",{"$f":"IF(ISERROR(VLOOKUP($A137+8860000,'Growth Data'!$A:$F,3,0)),\"NO\",VLOOKUP($A137+8860000,'Growth Data'!$A:$F,3,0))","v":"NO"},0,null,0,{"$f":"IF(BM137=\"YES\",IF(ISERROR(VLOOKUP($A137+8860000,'Growth Data'!$A:$F,6,0)),0,VLOOKUP($A137+8860000,'Growth Data'!$A:$F,6,0)),0)","v":0},0,null,"NO",{"$f":"IF(ISERROR(VLOOKUP($A137+8860000,'Growth Data'!$A:$F,4,0)),\"NO\",VLOOKUP($A137+8860000,'Growth Data'!$A:$F,4,0))","v":"NO"},0,null,0,{"$f":"IF(BU137=\"YES\",IF(ISERROR(VLOOKUP($A137+8860000,'Growth Data'!$A:$Z,7,0)),0,VLOOKUP($A137+8860000,'Growth Data'!$A:$Z,7,0)),0)","v":0},0,null,"NO",{"$f":"IF(ISERROR(VLOOKUP($A137+8860000,'Growth Data'!$A:$F,5,0)),\"NO\",VLOOKUP($A137+8860000,'Growth Data'!$A:$F,5,0))","v":"NO"},0,null,0,{"$f":"IF(CC137=\"YES\",IF(ISERROR(VLOOKUP($A137+8860000,'Growth Data'!$A:$Z,8,0)),0,VLOOKUP($A137+8860000,'Growth Data'!$A:$Z,8,0)),0)","v":0},0,null,null,null,0]
[2662,"Long Mead Community Primary School",null,"Long Mead Community Primary School","Long Mead Community Primary School",0,null,643136.23,643136.23185896524,0,null,0,0,0,null,643136.23,643136.23185896524,0,null,3800.3,3800.3003991999994,0,null,null,null,0,null,5.04,5.04,0,null,129233.12,null,129233,null,0,null,0,null,0,null,0,null,0,null,0,null,null,null,0,null,null,null,0,null,null,null,0,null,null,null,0,null,"NO",{"$f":"IF(ISERROR(VLOOKUP($A138+8860000,'Growth Data'!$A:$F,3,0)),\"NO\",VLOOKUP($A138+8860000,'Growth Data'!$A:$F,3,0))","v":"NO"},0,null,0,{"$f":"IF(BM138=\"YES\",IF(ISERROR(VLOOKUP($A138+8860000,'Growth Data'!$A:$F,6,0)),0,VLOOKUP($A138+8860000,'Growth Data'!$A:$F,6,0)),0)","v":0},0,null,"NO",{"$f":"IF(ISERROR(VLOOKUP($A138+8860000,'Growth Data'!$A:$F,4,0)),\"NO\",VLOOKUP($A138+8860000,'Growth Data'!$A:$F,4,0))","v":"NO"},0,null,0,{"$f":"IF(BU138=\"YES\",IF(ISERROR(VLOOKUP($A138+8860000,'Growth Data'!$A:$Z,7,0)),0,VLOOKUP($A138+8860000,'Growth Data'!$A:$Z,7,0)),0)","v":0},0,null,"NO",{"$f":"IF(ISERROR(VLOOKUP($A138+8860000,'Growth Data'!$A:$F,5,0)),\"NO\",VLOOKUP($A138+8860000,'Growth Data'!$A:$F,5,0))","v":"NO"},0,null,0,{"$f":"IF(CC138=\"YES\",IF(ISERROR(VLOOKUP($A138+8860000,'Growth Data'!$A:$Z,8,0)),0,VLOOKUP($A138+8860000,'Growth Data'!$A:$Z,8,0)),0)","v":0},0,null,null,null,0]
[2666,"Wrotham Road Primary School",null,"Wrotham Road Primary School","Wrotham Road Primary School",0,null,1559503.86,1559503.8556324823,0,null,0,0,0,null,1559503.86,1559503.8556324823,0,null,10553.54,10553.536919400001,0,null,null,null,0,null,5.12,5.12,0,null,91122.91,null,91123,null,0,null,0,null,0,null,0,null,0,null,0,null,null,null,0,null,null,null,0,null,null,null,0,null,null,null,0,null,"NO",{"$f":"IF(ISERROR(VLOOKUP($A139+8860000,'Growth Data'!$A:$F,3,0)),\"NO\",VLOOKUP($A139+8860000,'Growth Data'!$A:$F,3,0))","v":"NO"},0,null,0,{"$f":"IF(BM139=\"YES\",IF(ISERROR(VLOOKUP($A139+8860000,'Growth Data'!$A:$F,6,0)),0,VLOOKUP($A139+8860000,'Growth Data'!$A:$F,6,0)),0)","v":0},0,null,"NO",{"$f":"IF(ISERROR(VLOOKUP($A139+8860000,'Growth Data'!$A:$F,4,0)),\"NO\",VLOOKUP($A139+8860000,'Growth Data'!$A:$F,4,0))","v":"NO"},0,null,0,{"$f":"IF(BU139=\"YES\",IF(ISERROR(VLOOKUP($A139+8860000,'Growth Data'!$A:$Z,7,0)),0,VLOOKUP($A139+8860000,'Growth Data'!$A:$Z,7,0)),0)","v":0},0,null,"NO",{"$f":"IF(ISERROR(VLOOKUP($A139+8860000,'Growth Data'!$A:$F,5,0)),\"NO\",VLOOKUP($A139+8860000,'Growth Data'!$A:$F,5,0))","v":"NO"},0,null,0,{"$f":"IF(CC139=\"YES\",IF(ISERROR(VLOOKUP($A139+8860000,'Growth Data'!$A:$Z,8,0)),0,VLOOKUP($A139+8860000,'Growth Data'!$A:$Z,8,0)),0)","v":0},0,null,null,null,0]
[2672,"Palm Bay Primary School",null,"Palm Bay Primary School","Palm Bay Primary School",0,null,1501855.79,1501855.7945308334,0,null,0,0,0,null,1501855.79,1501855.7945308334,0,null,10835.99,10835.991678799999,0,null,null,null,0,null,0,0,0,null,129857.22,null,129857,null,0,null,0,null,0,null,0,null,0,null,0,null,null,null,0,null,null,null,0,null,null,null,0,null,null,null,0,null,"NO",{"$f":"IF(ISERROR(VLOOKUP($A140+8860000,'Growth Data'!$A:$F,3,0)),\"NO\",VLOOKUP($A140+8860000,'Growth Data'!$A:$F,3,0))","v":"NO"},0,null,0,{"$f":"IF(BM140=\"YES\",IF(ISERROR(VLOOKUP($A140+8860000,'Growth Data'!$A:$F,6,0)),0,VLOOKUP($A140+8860000,'Growth Data'!$A:$F,6,0)),0)","v":0},0,null,"NO",{"$f":"IF(ISERROR(VLOOKUP($A140+8860000,'Growth Data'!$A:$F,4,0)),\"NO\",VLOOKUP($A140+8860000,'Growth Data'!$A:$F,4,0))","v":"NO"},0,null,0,{"$f":"IF(BU140=\"YES\",IF(ISERROR(VLOOKUP($A140+8860000,'Growth Data'!$A:$Z,7,0)),0,VLOOKUP($A140+8860000,'Growth Data'!$A:$Z,7,0)),0)","v":0},0,null,"NO",{"$f":"IF(ISERROR(VLOOKUP($A140+8860000,'Growth Data'!$A:$F,5,0)),\"NO\",VLOOKUP($A140+8860000,'Growth Data'!$A:$F,5,0))","v":"NO"},0,null,0,{"$f":"IF(CC140=\"YES\",IF(ISERROR(VLOOKUP($A140+8860000,'Growth Data'!$A:$Z,8,0)),0,VLOOKUP($A140+8860000,'Growth Data'!$A:$Z,8,0)),0)","v":0},0,null,null,null,0]
[2674,"King's Farm Primary School",null,"King's Farm Primary School","King's Farm Primary School",0,null,1424072.34,1424072.3376881867,0,null,299991.69,299991.68948705238,0,null,1724064.03,1724064.0271752391,0,null,8833.1299999999992,8833.1306575999988,0,null,null,null,0,null,5.17,5.17,0,null,133033.44,null,133033,null,0,null,0,null,0,null,0,null,0,null,0,null,null,null,0,null,null,null,0,null,null,null,0,null,null,null,0,null,"NO",{"$f":"IF(ISERROR(VLOOKUP($A141+8860000,'Growth Data'!$A:$F,3,0)),\"NO\",VLOOKUP($A141+8860000,'Growth Data'!$A:$F,3,0))","v":"NO"},0,null,0,{"$f":"IF(BM141=\"YES\",IF(ISERROR(VLOOKUP($A141+8860000,'Growth Data'!$A:$F,6,0)),0,VLOOKUP($A141+8860000,'Growth Data'!$A:$F,6,0)),0)","v":0},0,null,"NO",{"$f":"IF(ISERROR(VLOOKUP($A141+8860000,'Growth Data'!$A:$F,4,0)),\"NO\",VLOOKUP($A141+8860000,'Growth Data'!$A:$F,4,0))","v":"NO"},0,null,0,{"$f":"IF(BU141=\"YES\",IF(ISERROR(VLOOKUP($A141+8860000,'Growth Data'!$A:$Z,7,0)),0,VLOOKUP($A141+8860000,'Growth Data'!$A:$Z,7,0)),0)","v":0},0,null,"NO",{"$f":"IF(ISERROR(VLOOKUP($A141+8860000,'Growth Data'!$A:$F,5,0)),\"NO\",VLOOKUP($A141+8860000,'Growth Data'!$A:$F,5,0))","v":"NO"},0,null,0,{"$f":"IF(CC141=\"YES\",IF(ISERROR(VLOOKUP($A141+8860000,'Growth Data'!$A:$Z,8,0)),0,VLOOKUP($A141+8860000,'Growth Data'!$A:$Z,8,0)),0)","v":0},0,null,null,null,0]
[2677,"Coxheath Primary School",null,"Coxheath Primary School","Coxheath Primary School",0,null,1273741.29,1273741.2877359982,0,null,0,0,0,null,1273741.29,1273741.2877359982,0,null,9089.91,9089.9077116000008,0,null,null,null,0,null,0,0,0,null,159695.35,null,159695,null,0,null,0,null,0,null,0,null,0,null,0,null,null,null,0,null,null,null,0,null,null,null,0,null,null,null,0,null,"NO",{"$f":"IF(ISERROR(VLOOKUP($A142+8860000,'Growth Data'!$A:$F,3,0)),\"NO\",VLOOKUP($A142+8860000,'Growth Data'!$A:$F,3,0))","v":"NO"},0,null,0,{"$f":"IF(BM142=\"YES\",IF(ISERROR(VLOOKUP($A142+8860000,'Growth Data'!$A:$F,6,0)),0,VLOOKUP($A142+8860000,'Growth Data'!$A:$F,6,0)),0)","v":0},0,null,"NO",{"$f":"IF(ISERROR(VLOOKUP($A142+8860000,'Growth Data'!$A:$F,4,0)),\"NO\",VLOOKUP($A142+8860000,'Growth Data'!$A:$F,4,0))","v":"NO"},0,null,0,{"$f":"IF(BU142=\"YES\",IF(ISERROR(VLOOKUP($A142+8860000,'Growth Data'!$A:$Z,7,0)),0,VLOOKUP($A142+8860000,'Growth Data'!$A:$Z,7,0)),0)","v":0},0,null,"NO",{"$f":"IF(ISERROR(VLOOKUP($A142+8860000,'Growth Data'!$A:$F,5,0)),\"NO\",VLOOKUP($A142+8860000,'Growth Data'!$A:$F,5,0))","v":"NO"},0,null,0,{"$f":"IF(CC142=\"YES\",IF(ISERROR(VLOOKUP($A142+8860000,'Growth Data'!$A:$Z,8,0)),0,VLOOKUP($A142+8860000,'Growth Data'!$A:$Z,8,0)),0)","v":0},0,null,null,null,0]
[2680,"Kings Hill School",null,"Kings Hill School","Kings Hill School",0,null,1665286,1665286,0,null,0,0,0,null,1665286,1665286,0,null,12196.91,12196.910064999996,0,null,null,null,0,null,0,0,0,null,74048.11,null,74048,null,0,null,0,null,0,null,0,null,0,null,0,null,null,null,0,null,null,null,0,null,null,null,0,null,null,null,0,null,"NO",{"$f":"IF(ISERROR(VLOOKUP($A143+8860000,'Growth Data'!$A:$F,3,0)),\"NO\",VLOOKUP($A143+8860000,'Growth Data'!$A:$F,3,0))","v":"NO"},0,null,0,{"$f":"IF(BM143=\"YES\",IF(ISERROR(VLOOKUP($A143+8860000,'Growth Data'!$A:$F,6,0)),0,VLOOKUP($A143+8860000,'Growth Data'!$A:$F,6,0)),0)","v":0},0,null,"NO",{"$f":"IF(ISERROR(VLOOKUP($A143+8860000,'Growth Data'!$A:$F,4,0)),\"NO\",VLOOKUP($A143+8860000,'Growth Data'!$A:$F,4,0))","v":"NO"},0,null,0,{"$f":"IF(BU143=\"YES\",IF(ISERROR(VLOOKUP($A143+8860000,'Growth Data'!$A:$Z,7,0)),0,VLOOKUP($A143+8860000,'Growth Data'!$A:$Z,7,0)),0)","v":0},0,null,"NO",{"$f":"IF(ISERROR(VLOOKUP($A143+8860000,'Growth Data'!$A:$F,5,0)),\"NO\",VLOOKUP($A143+8860000,'Growth Data'!$A:$F,5,0))","v":"NO"},0,null,0,{"$f":"IF(CC143=\"YES\",IF(ISERROR(VLOOKUP($A143+8860000,'Growth Data'!$A:$Z,8,0)),0,VLOOKUP($A143+8860000,'Growth Data'!$A:$Z,8,0)),0)","v":0},0,null,null,null,0]
[2682,"New Ash Green Primary School",null,"New Ash Green Primary School","New Ash Green Primary School",0,null,1350150.23,1350150.2300240088,0,null,0,0,0,null,1350150.23,1350150.2300240088,0,null,10032.870000000001,10032.86495146312,0,null,null,null,0,null,0,0,0,null,183049.93,null,183050,null,0,null,0,null,0,null,0,null,0,null,0,null,null,null,0,null,null,null,0,null,null,null,0,null,null,null,0,null,"NO",{"$f":"IF(ISERROR(VLOOKUP($A144+8860000,'Growth Data'!$A:$F,3,0)),\"NO\",VLOOKUP($A144+8860000,'Growth Data'!$A:$F,3,0))","v":"NO"},0,null,0,{"$f":"IF(BM144=\"YES\",IF(ISERROR(VLOOKUP($A144+8860000,'Growth Data'!$A:$F,6,0)),0,VLOOKUP($A144+8860000,'Growth Data'!$A:$F,6,0)),0)","v":0},0,null,"NO",{"$f":"IF(ISERROR(VLOOKUP($A144+8860000,'Growth Data'!$A:$F,4,0)),\"NO\",VLOOKUP($A144+8860000,'Growth Data'!$A:$F,4,0))","v":"NO"},0,null,0,{"$f":"IF(BU144=\"YES\",IF(ISERROR(VLOOKUP($A144+8860000,'Growth Data'!$A:$Z,7,0)),0,VLOOKUP($A144+8860000,'Growth Data'!$A:$Z,7,0)),0)","v":0},0,null,"NO",{"$f":"IF(ISERROR(VLOOKUP($A144+8860000,'Growth Data'!$A:$F,5,0)),\"NO\",VLOOKUP($A144+8860000,'Growth Data'!$A:$F,5,0))","v":"NO"},0,null,0,{"$f":"IF(CC144=\"YES\",IF(ISERROR(VLOOKUP($A144+8860000,'Growth Data'!$A:$Z,8,0)),0,VLOOKUP($A144+8860000,'Growth Data'!$A:$Z,8,0)),0)","v":0},0,null,null,null,0]
[2689,"Craylands School, The",null,"Craylands School, The","Craylands School, The",0,null,1147388.56,1147388.5579946938,0,null,0,0,0,null,1147388.56,1147388.5579946938,0,null,7078.89,7078.89145116496,0,null,null,null,0,null,0,0,0,null,5580,null,5580,null,5442,null,5442,null,0,null,0,null,0,null,0,null,null,null,0,null,null,null,0,null,null,null,0,null,null,null,0,null,"NO",{"$f":"IF(ISERROR(VLOOKUP($A145+8860000,'Growth Data'!$A:$F,3,0)),\"NO\",VLOOKUP($A145+8860000,'Growth Data'!$A:$F,3,0))","v":"NO"},0,null,0,{"$f":"IF(BM145=\"YES\",IF(ISERROR(VLOOKUP($A145+8860000,'Growth Data'!$A:$F,6,0)),0,VLOOKUP($A145+8860000,'Growth Data'!$A:$F,6,0)),0)","v":0},0,null,"NO",{"$f":"IF(ISERROR(VLOOKUP($A145+8860000,'Growth Data'!$A:$F,4,0)),\"NO\",VLOOKUP($A145+8860000,'Growth Data'!$A:$F,4,0))","v":"YES"},1,null,0,{"$f":"IF(BU145=\"YES\",IF(ISERROR(VLOOKUP($A145+8860000,'Growth Data'!$A:$Z,7,0)),0,VLOOKUP($A145+8860000,'Growth Data'!$A:$Z,7,0)),0)","v":0},0,null,"NO",{"$f":"IF(ISERROR(VLOOKUP($A145+8860000,'Growth Data'!$A:$F,5,0)),\"NO\",VLOOKUP($A145+8860000,'Growth Data'!$A:$F,5,0))","v":"YES"},1,null,0,{"$f":"IF(CC145=\"YES\",IF(ISERROR(VLOOKUP($A145+8860000,'Growth Data'!$A:$Z,8,0)),0,VLOOKUP($A145+8860000,'Growth Data'!$A:$Z,8,0)),0)","v":30},-30,null,null,null,0]
[2692,"Churchill School, The",null,"Churchill School, The","Churchill School, The",0,null,1426528,1426528,0,null,0,0,0,null,1426528,1426528,0,null,10681.93,10681.925446399999,0,null,null,null,0,null,0,0,0,null,137248.78,null,137249,null,0,null,0,null,0,null,0,null,0,null,0,null,null,null,0,null,null,null,0,null,null,null,0,null,null,null,0,null,"NO",{"$f":"IF(ISERROR(VLOOKUP($A146+8860000,'Growth Data'!$A:$F,3,0)),\"NO\",VLOOKUP($A146+8860000,'Growth Data'!$A:$F,3,0))","v":"NO"},0,null,0,{"$f":"IF(BM146=\"YES\",IF(ISERROR(VLOOKUP($A146+8860000,'Growth Data'!$A:$F,6,0)),0,VLOOKUP($A146+8860000,'Growth Data'!$A:$F,6,0)),0)","v":0},0,null,"NO",{"$f":"IF(ISERROR(VLOOKUP($A146+8860000,'Growth Data'!$A:$F,4,0)),\"NO\",VLOOKUP($A146+8860000,'Growth Data'!$A:$F,4,0))","v":"NO"},0,null,0,{"$f":"IF(BU146=\"YES\",IF(ISERROR(VLOOKUP($A146+8860000,'Growth Data'!$A:$Z,7,0)),0,VLOOKUP($A146+8860000,'Growth Data'!$A:$Z,7,0)),0)","v":0},0,null,"NO",{"$f":"IF(ISERROR(VLOOKUP($A146+8860000,'Growth Data'!$A:$F,5,0)),\"NO\",VLOOKUP($A146+8860000,'Growth Data'!$A:$F,5,0))","v":"NO"},0,null,0,{"$f":"IF(CC146=\"YES\",IF(ISERROR(VLOOKUP($A146+8860000,'Growth Data'!$A:$Z,8,0)),0,VLOOKUP($A146+8860000,'Growth Data'!$A:$Z,8,0)),0)","v":0},0,null,null,null,0]
[3010,"St Paul's CEP School",null,"St Paul's CEP School","St Paul's CEP School",0,null,475348.2,475348.19927142555,0,null,0,0,0,null,475348.2,475348.19927142555,0,null,2874.14,2874.1363786684797,0,null,null,null,0,null,0,0,0,null,226854.47,null,226854,null,0,null,0,null,0,null,0,null,0,null,0,null,null,null,0,null,null,null,0,null,null,null,0,null,null,null,0,null,"NO",{"$f":"IF(ISERROR(VLOOKUP($A147+8860000,'Growth Data'!$A:$F,3,0)),\"NO\",VLOOKUP($A147+8860000,'Growth Data'!$A:$F,3,0))","v":"NO"},0,null,0,{"$f":"IF(BM147=\"YES\",IF(ISERROR(VLOOKUP($A147+8860000,'Growth Data'!$A:$F,6,0)),0,VLOOKUP($A147+8860000,'Growth Data'!$A:$F,6,0)),0)","v":0},0,null,"NO",{"$f":"IF(ISERROR(VLOOKUP($A147+8860000,'Growth Data'!$A:$F,4,0)),\"NO\",VLOOKUP($A147+8860000,'Growth Data'!$A:$F,4,0))","v":"NO"},0,null,0,{"$f":"IF(BU147=\"YES\",IF(ISERROR(VLOOKUP($A147+8860000,'Growth Data'!$A:$Z,7,0)),0,VLOOKUP($A147+8860000,'Growth Data'!$A:$Z,7,0)),0)","v":0},0,null,"NO",{"$f":"IF(ISERROR(VLOOKUP($A147+8860000,'Growth Data'!$A:$F,5,0)),\"NO\",VLOOKUP($A147+8860000,'Growth Data'!$A:$F,5,0))","v":"NO"},0,null,0,{"$f":"IF(CC147=\"YES\",IF(ISERROR(VLOOKUP($A147+8860000,'Growth Data'!$A:$Z,8,0)),0,VLOOKUP($A147+8860000,'Growth Data'!$A:$Z,8,0)),0)","v":0},0,null,null,null,0]
[3015,"Fawkham CEP School",null,"Fawkham CEP School","Fawkham CEP School",0,null,452373.13,452373.12560984795,0,null,0,0,0,null,452373.13,452373.12560984795,0,null,2714.46,2714.46213540912,0,null,null,null,0,null,0,0,0,null,5580,null,5580,null,5442,null,5442,null,0,null,0,null,0,null,0,null,null,null,0,null,null,null,0,null,null,null,0,null,null,null,0,null,"NO",{"$f":"IF(ISERROR(VLOOKUP($A148+8860000,'Growth Data'!$A:$F,3,0)),\"NO\",VLOOKUP($A148+8860000,'Growth Data'!$A:$F,3,0))","v":"NO"},0,null,0,{"$f":"IF(BM148=\"YES\",IF(ISERROR(VLOOKUP($A148+8860000,'Growth Data'!$A:$F,6,0)),0,VLOOKUP($A148+8860000,'Growth Data'!$A:$F,6,0)),0)","v":0},0,null,"NO",{"$f":"IF(ISERROR(VLOOKUP($A148+8860000,'Growth Data'!$A:$F,4,0)),\"NO\",VLOOKUP($A148+8860000,'Growth Data'!$A:$F,4,0))","v":"NO"},0,null,0,{"$f":"IF(BU148=\"YES\",IF(ISERROR(VLOOKUP($A148+8860000,'Growth Data'!$A:$Z,7,0)),0,VLOOKUP($A148+8860000,'Growth Data'!$A:$Z,7,0)),0)","v":0},0,null,"NO",{"$f":"IF(ISERROR(VLOOKUP($A148+8860000,'Growth Data'!$A:$F,5,0)),\"NO\",VLOOKUP($A148+8860000,'Growth Data'!$A:$F,5,0))","v":"NO"},0,null,0,{"$f":"IF(CC148=\"YES\",IF(ISERROR(VLOOKUP($A148+8860000,'Growth Data'!$A:$Z,8,0)),0,VLOOKUP($A148+8860000,'Growth Data'!$A:$Z,8,0)),0)","v":0},0,null,null,null,0]
[3020,"Sedley's CEP School",null,"Sedley's CEP School","Sedley's CEP School",0,null,443128.86,443128.85522466962,0,null,0,0,0,null,443128.86,443128.85522466962,0,null,2687.85,2687.84976153256,0,null,null,null,0,null,0,0,0,null,121066.27,null,121066,null,0,null,0,null,0,null,0,null,0,null,0,null,null,null,0,null,null,null,0,null,null,null,0,null,null,null,0,null,"NO",{"$f":"IF(ISERROR(VLOOKUP($A149+8860000,'Growth Data'!$A:$F,3,0)),\"NO\",VLOOKUP($A149+8860000,'Growth Data'!$A:$F,3,0))","v":"NO"},0,null,0,{"$f":"IF(BM149=\"YES\",IF(ISERROR(VLOOKUP($A149+8860000,'Growth Data'!$A:$F,6,0)),0,VLOOKUP($A149+8860000,'Growth Data'!$A:$F,6,0)),0)","v":0},0,null,"NO",{"$f":"IF(ISERROR(VLOOKUP($A149+8860000,'Growth Data'!$A:$F,4,0)),\"NO\",VLOOKUP($A149+8860000,'Growth Data'!$A:$F,4,0))","v":"NO"},0,null,0,{"$f":"IF(BU149=\"YES\",IF(ISERROR(VLOOKUP($A149+8860000,'Growth Data'!$A:$Z,7,0)),0,VLOOKUP($A149+8860000,'Growth Data'!$A:$Z,7,0)),0)","v":0},0,null,"NO",{"$f":"IF(ISERROR(VLOOKUP($A149+8860000,'Growth Data'!$A:$F,5,0)),\"NO\",VLOOKUP($A149+8860000,'Growth Data'!$A:$F,5,0))","v":"NO"},0,null,0,{"$f":"IF(CC149=\"YES\",IF(ISERROR(VLOOKUP($A149+8860000,'Growth Data'!$A:$Z,8,0)),0,VLOOKUP($A149+8860000,'Growth Data'!$A:$Z,8,0)),0)","v":0},0,null,null,null,0]
[3022,"Benenden CEP School",null,"Benenden CEP School","Benenden CEP School",0,null,617046.31999999995,617046.32300493203,0,null,0,0,0,null,617046.31999999995,617046.32300493203,0,null,4159.79,4159.7882748000002,0,null,null,null,0,null,0,0,0,null,78328.08,null,78328,null,0,null,0,null,120000,null,120000,null,180000,null,180000,null,null,null,0,null,null,null,0,null,null,null,0,null,null,null,0,null,"NO",{"$f":"IF(ISERROR(VLOOKUP($A150+8860000,'Growth Data'!$A:$F,3,0)),\"NO\",VLOOKUP($A150+8860000,'Growth Data'!$A:$F,3,0))","v":"NO"},0,null,0,{"$f":"IF(BM150=\"YES\",IF(ISERROR(VLOOKUP($A150+8860000,'Growth Data'!$A:$F,6,0)),0,VLOOKUP($A150+8860000,'Growth Data'!$A:$F,6,0)),0)","v":0},0,null,"NO",{"$f":"IF(ISERROR(VLOOKUP($A150+8860000,'Growth Data'!$A:$F,4,0)),\"NO\",VLOOKUP($A150+8860000,'Growth Data'!$A:$F,4,0))","v":"NO"},0,null,0,{"$f":"IF(BU150=\"YES\",IF(ISERROR(VLOOKUP($A150+8860000,'Growth Data'!$A:$Z,7,0)),0,VLOOKUP($A150+8860000,'Growth Data'!$A:$Z,7,0)),0)","v":0},0,null,"NO",{"$f":"IF(ISERROR(VLOOKUP($A150+8860000,'Growth Data'!$A:$F,5,0)),\"NO\",VLOOKUP($A150+8860000,'Growth Data'!$A:$F,5,0))","v":"NO"},0,null,0,{"$f":"IF(CC150=\"YES\",IF(ISERROR(VLOOKUP($A150+8860000,'Growth Data'!$A:$Z,8,0)),0,VLOOKUP($A150+8860000,'Growth Data'!$A:$Z,8,0)),0)","v":0},0,null,null,null,0]
[3023,"Bidborough CEP School",null,"Bidborough CEP School","Bidborough CEP School",0,null,738028.42,738028.41974978044,0,null,0,0,0,null,738028.42,738028.41974978044,0,null,5289.61,5289.6073123999995,0,null,null,null,0,null,0,0,0,null,102771.63,null,102772,null,0,null,0,null,0,null,0,null,0,null,0,null,null,null,0,null,null,null,0,null,null,null,0,null,null,null,0,null,"NO",{"$f":"IF(ISERROR(VLOOKUP($A151+8860000,'Growth Data'!$A:$F,3,0)),\"NO\",VLOOKUP($A151+8860000,'Growth Data'!$A:$F,3,0))","v":"NO"},0,null,0,{"$f":"IF(BM151=\"YES\",IF(ISERROR(VLOOKUP($A151+8860000,'Growth Data'!$A:$F,6,0)),0,VLOOKUP($A151+8860000,'Growth Data'!$A:$F,6,0)),0)","v":0},0,null,"NO",{"$f":"IF(ISERROR(VLOOKUP($A151+8860000,'Growth Data'!$A:$F,4,0)),\"NO\",VLOOKUP($A151+8860000,'Growth Data'!$A:$F,4,0))","v":"NO"},0,null,0,{"$f":"IF(BU151=\"YES\",IF(ISERROR(VLOOKUP($A151+8860000,'Growth Data'!$A:$Z,7,0)),0,VLOOKUP($A151+8860000,'Growth Data'!$A:$Z,7,0)),0)","v":0},0,null,"NO",{"$f":"IF(ISERROR(VLOOKUP($A151+8860000,'Growth Data'!$A:$F,5,0)),\"NO\",VLOOKUP($A151+8860000,'Growth Data'!$A:$F,5,0))","v":"NO"},0,null,0,{"$f":"IF(CC151=\"YES\",IF(ISERROR(VLOOKUP($A151+8860000,'Growth Data'!$A:$Z,8,0)),0,VLOOKUP($A151+8860000,'Growth Data'!$A:$Z,8,0)),0)","v":0},0,null,null,null,0]
[3027,"Cranbrook CEP School",null,"Cranbrook CEP School","Cranbrook CEP School",0,null,632199.13,632199.13053242804,0,null,0,0,0,null,632199.13,632199.13053242804,0,null,3851.66,3851.6558099999997,0,null,null,null,0,null,0,0,0,null,123519.05,null,123519,null,0,null,0,null,0,null,0,null,0,null,0,null,null,null,0,null,null,null,0,null,null,null,0,null,null,null,0,null,"NO",{"$f":"IF(ISERROR(VLOOKUP($A152+8860000,'Growth Data'!$A:$F,3,0)),\"NO\",VLOOKUP($A152+8860000,'Growth Data'!$A:$F,3,0))","v":"NO"},0,null,0,{"$f":"IF(BM152=\"YES\",IF(ISERROR(VLOOKUP($A152+8860000,'Growth Data'!$A:$F,6,0)),0,VLOOKUP($A152+8860000,'Growth Data'!$A:$F,6,0)),0)","v":0},0,null,"NO",{"$f":"IF(ISERROR(VLOOKUP($A152+8860000,'Growth Data'!$A:$F,4,0)),\"NO\",VLOOKUP($A152+8860000,'Growth Data'!$A:$F,4,0))","v":"NO"},0,null,0,{"$f":"IF(BU152=\"YES\",IF(ISERROR(VLOOKUP($A152+8860000,'Growth Data'!$A:$Z,7,0)),0,VLOOKUP($A152+8860000,'Growth Data'!$A:$Z,7,0)),0)","v":0},0,null,"YES",{"$f":"IF(ISERROR(VLOOKUP($A152+8860000,'Growth Data'!$A:$F,5,0)),\"NO\",VLOOKUP($A152+8860000,'Growth Data'!$A:$F,5,0))","v":"NO"},1,null,30,{"$f":"IF(CC152=\"YES\",IF(ISERROR(VLOOKUP($A152+8860000,'Growth Data'!$A:$Z,8,0)),0,VLOOKUP($A152+8860000,'Growth Data'!$A:$Z,8,0)),0)","v":0},30,null,null,null,0]
[3029,"Goudhurst & Kilndown CEP School",null,"Goudhurst & Kilndown CEP School","Goudhurst & Kilndown CEP School",0,null,759523.32,759523.32203536516,0,null,0,0,0,null,759523.32,759523.32203536516,0,null,5418,5417.9958393999996,0,null,null,null,0,null,0,0,0,null,112839.79,null,112840,null,0,null,0,null,0,null,0,null,0,null,0,null,null,null,0,null,null,null,0,null,null,null,0,null,null,null,0,null,"NO",{"$f":"IF(ISERROR(VLOOKUP($A153+8860000,'Growth Data'!$A:$F,3,0)),\"NO\",VLOOKUP($A153+8860000,'Growth Data'!$A:$F,3,0))","v":"NO"},0,null,0,{"$f":"IF(BM153=\"YES\",IF(ISERROR(VLOOKUP($A153+8860000,'Growth Data'!$A:$F,6,0)),0,VLOOKUP($A153+8860000,'Growth Data'!$A:$F,6,0)),0)","v":0},0,null,"NO",{"$f":"IF(ISERROR(VLOOKUP($A153+8860000,'Growth Data'!$A:$F,4,0)),\"NO\",VLOOKUP($A153+8860000,'Growth Data'!$A:$F,4,0))","v":"NO"},0,null,0,{"$f":"IF(BU153=\"YES\",IF(ISERROR(VLOOKUP($A153+8860000,'Growth Data'!$A:$Z,7,0)),0,VLOOKUP($A153+8860000,'Growth Data'!$A:$Z,7,0)),0)","v":0},0,null,"NO",{"$f":"IF(ISERROR(VLOOKUP($A153+8860000,'Growth Data'!$A:$F,5,0)),\"NO\",VLOOKUP($A153+8860000,'Growth Data'!$A:$F,5,0))","v":"NO"},0,null,0,{"$f":"IF(CC153=\"YES\",IF(ISERROR(VLOOKUP($A153+8860000,'Growth Data'!$A:$Z,8,0)),0,VLOOKUP($A153+8860000,'Growth Data'!$A:$Z,8,0)),0)","v":0},0,null,null,null,0]
[3032,"Hawkhurst CEP School",null,"Hawkhurst CEP School","Hawkhurst CEP School",0,null,786218.33,786218.33125416748,0,null,0,0,0,null,786218.33,786218.33125416748,0,null,5032.83,5032.8302583999994,0,null,null,null,0,null,0,0,0,null,33023.96,null,33024,null,2697.6,null,2698,null,0,null,0,null,0,null,0,null,null,null,0,null,null,null,0,null,null,null,0,null,null,null,0,null,"NO",{"$f":"IF(ISERROR(VLOOKUP($A154+8860000,'Growth Data'!$A:$F,3,0)),\"NO\",VLOOKUP($A154+8860000,'Growth Data'!$A:$F,3,0))","v":"NO"},0,null,0,{"$f":"IF(BM154=\"YES\",IF(ISERROR(VLOOKUP($A154+8860000,'Growth Data'!$A:$F,6,0)),0,VLOOKUP($A154+8860000,'Growth Data'!$A:$F,6,0)),0)","v":0},0,null,"NO",{"$f":"IF(ISERROR(VLOOKUP($A154+8860000,'Growth Data'!$A:$F,4,0)),\"NO\",VLOOKUP($A154+8860000,'Growth Data'!$A:$F,4,0))","v":"NO"},0,null,0,{"$f":"IF(BU154=\"YES\",IF(ISERROR(VLOOKUP($A154+8860000,'Growth Data'!$A:$Z,7,0)),0,VLOOKUP($A154+8860000,'Growth Data'!$A:$Z,7,0)),0)","v":0},0,null,"NO",{"$f":"IF(ISERROR(VLOOKUP($A154+8860000,'Growth Data'!$A:$F,5,0)),\"NO\",VLOOKUP($A154+8860000,'Growth Data'!$A:$F,5,0))","v":"NO"},0,null,0,{"$f":"IF(CC154=\"YES\",IF(ISERROR(VLOOKUP($A154+8860000,'Growth Data'!$A:$Z,8,0)),0,VLOOKUP($A154+8860000,'Growth Data'!$A:$Z,8,0)),0)","v":0},0,null,null,null,0]
[3033,"Hildenborough CEP School",null,"Hildenborough CEP School","Hildenborough CEP School",0,null,732146.87,732146.86867745896,0,null,0,0,0,null,732146.87,732146.86867745896,0,null,5084.1899999999996,5084.1856692000001,0,null,null,null,0,null,0,0,0,null,18906.14,null,18906,null,4109.3900000000003,null,4109,null,0,null,0,null,0,null,0,null,null,null,0,null,null,null,0,null,null,null,0,null,null,null,0,null,"NO",{"$f":"IF(ISERROR(VLOOKUP($A155+8860000,'Growth Data'!$A:$F,3,0)),\"NO\",VLOOKUP($A155+8860000,'Growth Data'!$A:$F,3,0))","v":"NO"},0,null,0,{"$f":"IF(BM155=\"YES\",IF(ISERROR(VLOOKUP($A155+8860000,'Growth Data'!$A:$F,6,0)),0,VLOOKUP($A155+8860000,'Growth Data'!$A:$F,6,0)),0)","v":0},0,null,"NO",{"$f":"IF(ISERROR(VLOOKUP($A155+8860000,'Growth Data'!$A:$F,4,0)),\"NO\",VLOOKUP($A155+8860000,'Growth Data'!$A:$F,4,0))","v":"NO"},0,null,0,{"$f":"IF(BU155=\"YES\",IF(ISERROR(VLOOKUP($A155+8860000,'Growth Data'!$A:$Z,7,0)),0,VLOOKUP($A155+8860000,'Growth Data'!$A:$Z,7,0)),0)","v":0},0,null,"NO",{"$f":"IF(ISERROR(VLOOKUP($A155+8860000,'Growth Data'!$A:$F,5,0)),\"NO\",VLOOKUP($A155+8860000,'Growth Data'!$A:$F,5,0))","v":"NO"},0,null,0,{"$f":"IF(CC155=\"YES\",IF(ISERROR(VLOOKUP($A155+8860000,'Growth Data'!$A:$Z,8,0)),0,VLOOKUP($A155+8860000,'Growth Data'!$A:$Z,8,0)),0)","v":0},0,null,null,null,0]
[3034,"Lamberhurst St Mary's CEP School",null,"Lamberhurst St Mary's CEP School","Lamberhurst St Mary's CEP School",0,null,722431.51,722431.5102413845,0,null,0,0,0,null,722431.51,722431.5102413845,0,null,5084.1899999999996,5084.1856692000001,0,null,null,null,0,null,0,0,0,null,27864.65,null,27865,null,3213.54,null,3214,null,0,null,0,null,0,null,0,null,null,null,0,null,null,null,0,null,null,null,0,null,null,null,0,null,"NO",{"$f":"IF(ISERROR(VLOOKUP($A156+8860000,'Growth Data'!$A:$F,3,0)),\"NO\",VLOOKUP($A156+8860000,'Growth Data'!$A:$F,3,0))","v":"YES"},1,null,0,{"$f":"IF(BM156=\"YES\",IF(ISERROR(VLOOKUP($A156+8860000,'Growth Data'!$A:$F,6,0)),0,VLOOKUP($A156+8860000,'Growth Data'!$A:$F,6,0)),0)","v":21},-21,null,"NO",{"$f":"IF(ISERROR(VLOOKUP($A156+8860000,'Growth Data'!$A:$F,4,0)),\"NO\",VLOOKUP($A156+8860000,'Growth Data'!$A:$F,4,0))","v":"NO"},0,null,0,{"$f":"IF(BU156=\"YES\",IF(ISERROR(VLOOKUP($A156+8860000,'Growth Data'!$A:$Z,7,0)),0,VLOOKUP($A156+8860000,'Growth Data'!$A:$Z,7,0)),0)","v":0},0,null,"NO",{"$f":"IF(ISERROR(VLOOKUP($A156+8860000,'Growth Data'!$A:$F,5,0)),\"NO\",VLOOKUP($A156+8860000,'Growth Data'!$A:$F,5,0))","v":"NO"},0,null,0,{"$f":"IF(CC156=\"YES\",IF(ISERROR(VLOOKUP($A156+8860000,'Growth Data'!$A:$Z,8,0)),0,VLOOKUP($A156+8860000,'Growth Data'!$A:$Z,8,0)),0)","v":0},0,null,null,null,0]
[3035,"Seal CEP School",null,"Seal CEP School","Seal CEP School",0,null,993997.32,993997.32455857156,0,null,0,0,0,null,993997.32,993997.32455857156,0,null,6999.05,6999.05432953528,0,null,null,null,0,null,0,0,0,null,5580,null,5580,null,5442,null,5442,null,0,null,0,null,0,null,0,null,null,null,0,null,null,null,0,null,null,null,0,null,null,null,0,null,"YES",{"$f":"IF(ISERROR(VLOOKUP($A157+8860000,'Growth Data'!$A:$F,3,0)),\"NO\",VLOOKUP($A157+8860000,'Growth Data'!$A:$F,3,0))","v":"NO"},1,null,60,{"$f":"IF(BM157=\"YES\",IF(ISERROR(VLOOKUP($A157+8860000,'Growth Data'!$A:$F,6,0)),0,VLOOKUP($A157+8860000,'Growth Data'!$A:$F,6,0)),0)","v":0},60,null,"YES",{"$f":"IF(ISERROR(VLOOKUP($A157+8860000,'Growth Data'!$A:$F,4,0)),\"NO\",VLOOKUP($A157+8860000,'Growth Data'!$A:$F,4,0))","v":"YES"},0,null,62,{"$f":"IF(BU157=\"YES\",IF(ISERROR(VLOOKUP($A157+8860000,'Growth Data'!$A:$Z,7,0)),0,VLOOKUP($A157+8860000,'Growth Data'!$A:$Z,7,0)),0)","v":0},62,null,"YES",{"$f":"IF(ISERROR(VLOOKUP($A157+8860000,'Growth Data'!$A:$F,5,0)),\"NO\",VLOOKUP($A157+8860000,'Growth Data'!$A:$F,5,0))","v":"YES"},0,null,61,{"$f":"IF(CC157=\"YES\",IF(ISERROR(VLOOKUP($A157+8860000,'Growth Data'!$A:$Z,8,0)),0,VLOOKUP($A157+8860000,'Growth Data'!$A:$Z,8,0)),0)","v":44},17,null,null,null,0]
[3037,"St John's CEP School, Sevenoaks",null,"St John's CEP School, Sevenoaks","St John's CEP School, Sevenoaks",0,null,898784.94,898784.93775298796,0,null,103968.35,103968.34714865801,0,null,1002753.28,1002753.284901646,0,null,6440.19,6440.1944781275206,0,null,null,null,0,null,0,0,0,null,30217.360000000001,null,30217,null,2978.26,null,2978,null,0,null,0,null,0,null,0,null,null,null,0,null,null,null,0,null,null,null,0,null,null,null,0,null,"NO",{"$f":"IF(ISERROR(VLOOKUP($A158+8860000,'Growth Data'!$A:$F,3,0)),\"NO\",VLOOKUP($A158+8860000,'Growth Data'!$A:$F,3,0))","v":"NO"},0,null,0,{"$f":"IF(BM158=\"YES\",IF(ISERROR(VLOOKUP($A158+8860000,'Growth Data'!$A:$F,6,0)),0,VLOOKUP($A158+8860000,'Growth Data'!$A:$F,6,0)),0)","v":0},0,null,"NO",{"$f":"IF(ISERROR(VLOOKUP($A158+8860000,'Growth Data'!$A:$F,4,0)),\"NO\",VLOOKUP($A158+8860000,'Growth Data'!$A:$F,4,0))","v":"NO"},0,null,0,{"$f":"IF(BU158=\"YES\",IF(ISERROR(VLOOKUP($A158+8860000,'Growth Data'!$A:$Z,7,0)),0,VLOOKUP($A158+8860000,'Growth Data'!$A:$Z,7,0)),0)","v":0},0,null,"NO",{"$f":"IF(ISERROR(VLOOKUP($A158+8860000,'Growth Data'!$A:$F,5,0)),\"NO\",VLOOKUP($A158+8860000,'Growth Data'!$A:$F,5,0))","v":"NO"},0,null,0,{"$f":"IF(CC158=\"YES\",IF(ISERROR(VLOOKUP($A158+8860000,'Growth Data'!$A:$Z,8,0)),0,VLOOKUP($A158+8860000,'Growth Data'!$A:$Z,8,0)),0)","v":0},0,null,null,null,0]
[3042,"Speldhurst CEP School",null,"Speldhurst CEP School","Speldhurst CEP School",0,null,541530.62,541530.61656375614,0,null,0,0,0,null,541530.62,541530.61656375614,0,null,3723.27,3723.2672829999992,0,null,null,null,0,null,0,0,0,null,35214.11,null,35214,null,2478.59,null,2479,null,0,null,0,null,0,null,0,null,null,null,0,null,null,null,0,null,null,null,0,null,null,null,0,null,"NO",{"$f":"IF(ISERROR(VLOOKUP($A159+8860000,'Growth Data'!$A:$F,3,0)),\"NO\",VLOOKUP($A159+8860000,'Growth Data'!$A:$F,3,0))","v":"NO"},0,null,0,{"$f":"IF(BM159=\"YES\",IF(ISERROR(VLOOKUP($A159+8860000,'Growth Data'!$A:$F,6,0)),0,VLOOKUP($A159+8860000,'Growth Data'!$A:$F,6,0)),0)","v":0},0,null,"NO",{"$f":"IF(ISERROR(VLOOKUP($A159+8860000,'Growth Data'!$A:$F,4,0)),\"NO\",VLOOKUP($A159+8860000,'Growth Data'!$A:$F,4,0))","v":"NO"},0,null,0,{"$f":"IF(BU159=\"YES\",IF(ISERROR(VLOOKUP($A159+8860000,'Growth Data'!$A:$Z,7,0)),0,VLOOKUP($A159+8860000,'Growth Data'!$A:$Z,7,0)),0)","v":0},0,null,"NO",{"$f":"IF(ISERROR(VLOOKUP($A159+8860000,'Growth Data'!$A:$F,5,0)),\"NO\",VLOOKUP($A159+8860000,'Growth Data'!$A:$F,5,0))","v":"NO"},0,null,0,{"$f":"IF(CC159=\"YES\",IF(ISERROR(VLOOKUP($A159+8860000,'Growth Data'!$A:$Z,8,0)),0,VLOOKUP($A159+8860000,'Growth Data'!$A:$Z,8,0)),0)","v":0},0,null,null,null,0]
[3043,"Sundridge & Brasted CEP School",null,"Sundridge & Brasted CEP School","Sundridge & Brasted CEP School",0,null,431815.47,431815.47423331806,0,null,0,0,0,null,431815.47,431815.47423331806,0,null,2554.79,2554.78789214976,0,null,null,null,0,null,0,0,0,null,52911.46,null,52911,null,708.85,null,709,null,0,null,0,null,0,null,0,null,null,null,0,null,null,null,0,null,null,null,0,null,null,null,0,null,"NO",{"$f":"IF(ISERROR(VLOOKUP($A160+8860000,'Growth Data'!$A:$F,3,0)),\"NO\",VLOOKUP($A160+8860000,'Growth Data'!$A:$F,3,0))","v":"NO"},0,null,0,{"$f":"IF(BM160=\"YES\",IF(ISERROR(VLOOKUP($A160+8860000,'Growth Data'!$A:$F,6,0)),0,VLOOKUP($A160+8860000,'Growth Data'!$A:$F,6,0)),0)","v":0},0,null,"NO",{"$f":"IF(ISERROR(VLOOKUP($A160+8860000,'Growth Data'!$A:$F,4,0)),\"NO\",VLOOKUP($A160+8860000,'Growth Data'!$A:$F,4,0))","v":"NO"},0,null,0,{"$f":"IF(BU160=\"YES\",IF(ISERROR(VLOOKUP($A160+8860000,'Growth Data'!$A:$Z,7,0)),0,VLOOKUP($A160+8860000,'Growth Data'!$A:$Z,7,0)),0)","v":0},0,null,"NO",{"$f":"IF(ISERROR(VLOOKUP($A160+8860000,'Growth Data'!$A:$F,5,0)),\"NO\",VLOOKUP($A160+8860000,'Growth Data'!$A:$F,5,0))","v":"NO"},0,null,0,{"$f":"IF(CC160=\"YES\",IF(ISERROR(VLOOKUP($A160+8860000,'Growth Data'!$A:$Z,8,0)),0,VLOOKUP($A160+8860000,'Growth Data'!$A:$Z,8,0)),0)","v":0},0,null,null,null,0]
[3049,"St James' CEJ School",null,"St James' CEJ School","St James' CEJ School",0,null,1261417,1261417,0,null,0,0,0,null,1261417,1261417,0,null,9269.65,9269.6516494000007,0,null,null,null,0,null,0,0,0,null,27005.74,null,27006,null,3299.43,null,3299,null,0,null,0,null,0,null,0,null,null,null,0,null,null,null,0,null,null,null,0,null,null,null,0,null,"NO",{"$f":"IF(ISERROR(VLOOKUP($A161+8860000,'Growth Data'!$A:$F,3,0)),\"NO\",VLOOKUP($A161+8860000,'Growth Data'!$A:$F,3,0))","v":"NO"},0,null,0,{"$f":"IF(BM161=\"YES\",IF(ISERROR(VLOOKUP($A161+8860000,'Growth Data'!$A:$F,6,0)),0,VLOOKUP($A161+8860000,'Growth Data'!$A:$F,6,0)),0)","v":0},0,null,"NO",{"$f":"IF(ISERROR(VLOOKUP($A161+8860000,'Growth Data'!$A:$F,4,0)),\"NO\",VLOOKUP($A161+8860000,'Growth Data'!$A:$F,4,0))","v":"NO"},0,null,0,{"$f":"IF(BU161=\"YES\",IF(ISERROR(VLOOKUP($A161+8860000,'Growth Data'!$A:$Z,7,0)),0,VLOOKUP($A161+8860000,'Growth Data'!$A:$Z,7,0)),0)","v":0},0,null,"NO",{"$f":"IF(ISERROR(VLOOKUP($A161+8860000,'Growth Data'!$A:$F,5,0)),\"NO\",VLOOKUP($A161+8860000,'Growth Data'!$A:$F,5,0))","v":"NO"},0,null,0,{"$f":"IF(CC161=\"YES\",IF(ISERROR(VLOOKUP($A161+8860000,'Growth Data'!$A:$Z,8,0)),0,VLOOKUP($A161+8860000,'Growth Data'!$A:$Z,8,0)),0)","v":0},0,null,null,null,0]
[3050,"St John's CEP School",null,"St John's CEP School","St John's CEP School",0,null,2219299,2219299,0,null,0,0,0,null,2219299,2219299,0,null,16228.31,16228.3098128,0,null,null,null,0,null,0,0,0,null,68732.460000000006,null,68732,null,0,null,0,null,0,null,0,null,0,null,0,null,null,null,0,null,null,null,0,null,null,null,0,null,null,null,0,null,"NO",{"$f":"IF(ISERROR(VLOOKUP($A162+8860000,'Growth Data'!$A:$F,3,0)),\"NO\",VLOOKUP($A162+8860000,'Growth Data'!$A:$F,3,0))","v":"NO"},0,null,0,{"$f":"IF(BM162=\"YES\",IF(ISERROR(VLOOKUP($A162+8860000,'Growth Data'!$A:$F,6,0)),0,VLOOKUP($A162+8860000,'Growth Data'!$A:$F,6,0)),0)","v":0},0,null,"NO",{"$f":"IF(ISERROR(VLOOKUP($A162+8860000,'Growth Data'!$A:$F,4,0)),\"NO\",VLOOKUP($A162+8860000,'Growth Data'!$A:$F,4,0))","v":"NO"},0,null,0,{"$f":"IF(BU162=\"YES\",IF(ISERROR(VLOOKUP($A162+8860000,'Growth Data'!$A:$Z,7,0)),0,VLOOKUP($A162+8860000,'Growth Data'!$A:$Z,7,0)),0)","v":0},0,null,"NO",{"$f":"IF(ISERROR(VLOOKUP($A162+8860000,'Growth Data'!$A:$F,5,0)),\"NO\",VLOOKUP($A162+8860000,'Growth Data'!$A:$F,5,0))","v":"NO"},0,null,0,{"$f":"IF(CC162=\"YES\",IF(ISERROR(VLOOKUP($A162+8860000,'Growth Data'!$A:$Z,8,0)),0,VLOOKUP($A162+8860000,'Growth Data'!$A:$Z,8,0)),0)","v":0},0,null,null,null,0]
[3052,"St Mark's CEP School",null,"St Mark's CEP School","St Mark's CEP School",0,null,1172943.08,1172943.0803358208,0,null,0,0,0,null,1172943.08,1172943.0803358208,0,null,7960.09,7960.0886739999996,0,null,null,null,0,null,0,0,0,null,37780.519999999997,null,37781,null,2221.9499999999998,null,2222,null,0,null,0,null,0,null,0,null,null,null,0,null,null,null,0,null,null,null,0,null,null,null,0,null,"NO",{"$f":"IF(ISERROR(VLOOKUP($A163+8860000,'Growth Data'!$A:$F,3,0)),\"NO\",VLOOKUP($A163+8860000,'Growth Data'!$A:$F,3,0))","v":"YES"},1,null,0,{"$f":"IF(BM163=\"YES\",IF(ISERROR(VLOOKUP($A163+8860000,'Growth Data'!$A:$F,6,0)),0,VLOOKUP($A163+8860000,'Growth Data'!$A:$F,6,0)),0)","v":30},-30,null,"NO",{"$f":"IF(ISERROR(VLOOKUP($A163+8860000,'Growth Data'!$A:$F,4,0)),\"NO\",VLOOKUP($A163+8860000,'Growth Data'!$A:$F,4,0))","v":"YES"},1,null,0,{"$f":"IF(BU163=\"YES\",IF(ISERROR(VLOOKUP($A163+8860000,'Growth Data'!$A:$Z,7,0)),0,VLOOKUP($A163+8860000,'Growth Data'!$A:$Z,7,0)),0)","v":60},-60,null,"NO",{"$f":"IF(ISERROR(VLOOKUP($A163+8860000,'Growth Data'!$A:$F,5,0)),\"NO\",VLOOKUP($A163+8860000,'Growth Data'!$A:$F,5,0))","v":"NO"},0,null,0,{"$f":"IF(CC163=\"YES\",IF(ISERROR(VLOOKUP($A163+8860000,'Growth Data'!$A:$Z,8,0)),0,VLOOKUP($A163+8860000,'Growth Data'!$A:$Z,8,0)),0)","v":0},0,null,null,null,0]
[3053,"St Peter's CEP School",null,"St Peter's CEP School","St Peter's CEP School",0,null,556912.73,556912.72886477842,0,null,0,0,0,null,556912.73,556912.72886477842,0,null,3569.2,3569.2010506000001,0,null,null,null,0,null,0,0,0,null,31147.78,null,31148,null,2885.22,null,2885,null,0,null,0,null,0,null,0,null,null,null,0,null,null,null,0,null,null,null,0,null,null,null,0,null,"YES",{"$f":"IF(ISERROR(VLOOKUP($A164+8860000,'Growth Data'!$A:$F,3,0)),\"NO\",VLOOKUP($A164+8860000,'Growth Data'!$A:$F,3,0))","v":"NO"},1,null,29,{"$f":"IF(BM164=\"YES\",IF(ISERROR(VLOOKUP($A164+8860000,'Growth Data'!$A:$F,6,0)),0,VLOOKUP($A164+8860000,'Growth Data'!$A:$F,6,0)),0)","v":0},29,null,"YES",{"$f":"IF(ISERROR(VLOOKUP($A164+8860000,'Growth Data'!$A:$F,4,0)),\"NO\",VLOOKUP($A164+8860000,'Growth Data'!$A:$F,4,0))","v":"NO"},1,null,20,{"$f":"IF(BU164=\"YES\",IF(ISERROR(VLOOKUP($A164+8860000,'Growth Data'!$A:$Z,7,0)),0,VLOOKUP($A164+8860000,'Growth Data'!$A:$Z,7,0)),0)","v":0},20,null,"NO",{"$f":"IF(ISERROR(VLOOKUP($A164+8860000,'Growth Data'!$A:$F,5,0)),\"NO\",VLOOKUP($A164+8860000,'Growth Data'!$A:$F,5,0))","v":"NO"},0,null,0,{"$f":"IF(CC164=\"YES\",IF(ISERROR(VLOOKUP($A164+8860000,'Growth Data'!$A:$Z,8,0)),0,VLOOKUP($A164+8860000,'Growth Data'!$A:$Z,8,0)),0)","v":0},0,null,null,null,0]
[3054,"Crockham Hill CEP School",null,"Crockham Hill CEP School","Crockham Hill CEP School",0,null,575386.89,575386.88965827634,0,null,0,0,0,null,575386.89,575386.88965827634,0,null,3645.9,3645.8952210887201,0,null,null,null,0,null,0,0,0,null,68946.33,null,68946,null,0,null,0,null,0,null,0,null,0,null,0,null,null,null,0,null,null,null,0,null,null,null,0,null,null,null,0,null,"NO",{"$f":"IF(ISERROR(VLOOKUP($A165+8860000,'Growth Data'!$A:$F,3,0)),\"NO\",VLOOKUP($A165+8860000,'Growth Data'!$A:$F,3,0))","v":"NO"},0,null,0,{"$f":"IF(BM165=\"YES\",IF(ISERROR(VLOOKUP($A165+8860000,'Growth Data'!$A:$F,6,0)),0,VLOOKUP($A165+8860000,'Growth Data'!$A:$F,6,0)),0)","v":0},0,null,"YES",{"$f":"IF(ISERROR(VLOOKUP($A165+8860000,'Growth Data'!$A:$F,4,0)),\"NO\",VLOOKUP($A165+8860000,'Growth Data'!$A:$F,4,0))","v":"NO"},1,null,30,{"$f":"IF(BU165=\"YES\",IF(ISERROR(VLOOKUP($A165+8860000,'Growth Data'!$A:$Z,7,0)),0,VLOOKUP($A165+8860000,'Growth Data'!$A:$Z,7,0)),0)","v":0},30,null,"YES",{"$f":"IF(ISERROR(VLOOKUP($A165+8860000,'Growth Data'!$A:$F,5,0)),\"NO\",VLOOKUP($A165+8860000,'Growth Data'!$A:$F,5,0))","v":"NO"},1,null,42,{"$f":"IF(CC165=\"YES\",IF(ISERROR(VLOOKUP($A165+8860000,'Growth Data'!$A:$Z,8,0)),0,VLOOKUP($A165+8860000,'Growth Data'!$A:$Z,8,0)),0)","v":0},42,null,null,null,0]
[3055,"Churchill CEP School",null,"Churchill CEP School","Churchill CEP School",0,null,1050077.81,1050077.8072642668,0,null,0,0,0,null,1050077.81,1050077.8072642668,0,null,7824.04,7824.0379197086395,0,null,null,null,0,null,0,0,0,null,48370.64,null,48371,null,1162.94,null,1163,null,0,null,0,null,0,null,0,null,null,null,0,null,null,null,0,null,null,null,0,null,null,null,0,null,"NO",{"$f":"IF(ISERROR(VLOOKUP($A166+8860000,'Growth Data'!$A:$F,3,0)),\"NO\",VLOOKUP($A166+8860000,'Growth Data'!$A:$F,3,0))","v":"NO"},0,null,0,{"$f":"IF(BM166=\"YES\",IF(ISERROR(VLOOKUP($A166+8860000,'Growth Data'!$A:$F,6,0)),0,VLOOKUP($A166+8860000,'Growth Data'!$A:$F,6,0)),0)","v":0},0,null,"NO",{"$f":"IF(ISERROR(VLOOKUP($A166+8860000,'Growth Data'!$A:$F,4,0)),\"NO\",VLOOKUP($A166+8860000,'Growth Data'!$A:$F,4,0))","v":"NO"},0,null,0,{"$f":"IF(BU166=\"YES\",IF(ISERROR(VLOOKUP($A166+8860000,'Growth Data'!$A:$Z,7,0)),0,VLOOKUP($A166+8860000,'Growth Data'!$A:$Z,7,0)),0)","v":0},0,null,"NO",{"$f":"IF(ISERROR(VLOOKUP($A166+8860000,'Growth Data'!$A:$F,5,0)),\"NO\",VLOOKUP($A166+8860000,'Growth Data'!$A:$F,5,0))","v":"NO"},0,null,0,{"$f":"IF(CC166=\"YES\",IF(ISERROR(VLOOKUP($A166+8860000,'Growth Data'!$A:$Z,8,0)),0,VLOOKUP($A166+8860000,'Growth Data'!$A:$Z,8,0)),0)","v":0},0,null,null,null,0]
[3057,"St Peter's CEP School",null,"St Peter's CEP School","St Peter's CEP School",0,null,643836.52,643836.51963994582,0,null,0,0,0,null,643836.52,643836.51963994582,0,null,4236.82,4236.8213909999995,0,null,null,null,0,null,0,0,0,null,20471.84,null,20472,null,3952.82,null,3953,null,0,null,0,null,0,null,0,null,null,null,0,null,null,null,0,null,null,null,0,null,null,null,0,null,"NO",{"$f":"IF(ISERROR(VLOOKUP($A167+8860000,'Growth Data'!$A:$F,3,0)),\"NO\",VLOOKUP($A167+8860000,'Growth Data'!$A:$F,3,0))","v":"NO"},0,null,0,{"$f":"IF(BM167=\"YES\",IF(ISERROR(VLOOKUP($A167+8860000,'Growth Data'!$A:$F,6,0)),0,VLOOKUP($A167+8860000,'Growth Data'!$A:$F,6,0)),0)","v":0},0,null,"NO",{"$f":"IF(ISERROR(VLOOKUP($A167+8860000,'Growth Data'!$A:$F,4,0)),\"NO\",VLOOKUP($A167+8860000,'Growth Data'!$A:$F,4,0))","v":"NO"},0,null,0,{"$f":"IF(BU167=\"YES\",IF(ISERROR(VLOOKUP($A167+8860000,'Growth Data'!$A:$Z,7,0)),0,VLOOKUP($A167+8860000,'Growth Data'!$A:$Z,7,0)),0)","v":0},0,null,"NO",{"$f":"IF(ISERROR(VLOOKUP($A167+8860000,'Growth Data'!$A:$F,5,0)),\"NO\",VLOOKUP($A167+8860000,'Growth Data'!$A:$F,5,0))","v":"NO"},0,null,0,{"$f":"IF(CC167=\"YES\",IF(ISERROR(VLOOKUP($A167+8860000,'Growth Data'!$A:$Z,8,0)),0,VLOOKUP($A167+8860000,'Growth Data'!$A:$Z,8,0)),0)","v":0},0,null,null,null,0]
[3061,"Bredhurst CEP School",null,"Bredhurst CEP School","Bredhurst CEP School",0,null,493733.46,493733.46340221929,0,null,0,0,0,null,493733.46,493733.46340221929,0,null,3081.32,3081.3246479999998,0,null,null,null,0,null,0,0,0,null,26057.89,null,26058,null,3394.21,null,3394,null,0,null,0,null,0,null,0,null,null,null,0,null,null,null,0,null,null,null,0,null,null,null,0,null,"NO",{"$f":"IF(ISERROR(VLOOKUP($A168+8860000,'Growth Data'!$A:$F,3,0)),\"NO\",VLOOKUP($A168+8860000,'Growth Data'!$A:$F,3,0))","v":"NO"},0,null,0,{"$f":"IF(BM168=\"YES\",IF(ISERROR(VLOOKUP($A168+8860000,'Growth Data'!$A:$F,6,0)),0,VLOOKUP($A168+8860000,'Growth Data'!$A:$F,6,0)),0)","v":0},0,null,"NO",{"$f":"IF(ISERROR(VLOOKUP($A168+8860000,'Growth Data'!$A:$F,4,0)),\"NO\",VLOOKUP($A168+8860000,'Growth Data'!$A:$F,4,0))","v":"NO"},0,null,0,{"$f":"IF(BU168=\"YES\",IF(ISERROR(VLOOKUP($A168+8860000,'Growth Data'!$A:$Z,7,0)),0,VLOOKUP($A168+8860000,'Growth Data'!$A:$Z,7,0)),0)","v":0},0,null,"NO",{"$f":"IF(ISERROR(VLOOKUP($A168+8860000,'Growth Data'!$A:$F,5,0)),\"NO\",VLOOKUP($A168+8860000,'Growth Data'!$A:$F,5,0))","v":"NO"},0,null,0,{"$f":"IF(CC168=\"YES\",IF(ISERROR(VLOOKUP($A168+8860000,'Growth Data'!$A:$Z,8,0)),0,VLOOKUP($A168+8860000,'Growth Data'!$A:$Z,8,0)),0)","v":0},0,null,null,null,0]
[3062,"Burham CEP School",null,"Burham CEP School","Burham CEP School",0,null,609000.57999999996,609000.57603415707,0,null,0,0,0,null,609000.57999999996,609000.57603415707,0,null,3851.66,3851.6558099999997,0,null,null,null,0,null,0,0,0,null,64710.12,null,64710,null,0,null,0,null,0,null,0,null,0,null,0,null,null,null,0,null,null,null,0,null,null,null,0,null,null,null,0,null,"NO",{"$f":"IF(ISERROR(VLOOKUP($A169+8860000,'Growth Data'!$A:$F,3,0)),\"NO\",VLOOKUP($A169+8860000,'Growth Data'!$A:$F,3,0))","v":"NO"},0,null,0,{"$f":"IF(BM169=\"YES\",IF(ISERROR(VLOOKUP($A169+8860000,'Growth Data'!$A:$F,6,0)),0,VLOOKUP($A169+8860000,'Growth Data'!$A:$F,6,0)),0)","v":0},0,null,"NO",{"$f":"IF(ISERROR(VLOOKUP($A169+8860000,'Growth Data'!$A:$F,4,0)),\"NO\",VLOOKUP($A169+8860000,'Growth Data'!$A:$F,4,0))","v":"NO"},0,null,0,{"$f":"IF(BU169=\"YES\",IF(ISERROR(VLOOKUP($A169+8860000,'Growth Data'!$A:$Z,7,0)),0,VLOOKUP($A169+8860000,'Growth Data'!$A:$Z,7,0)),0)","v":0},0,null,"NO",{"$f":"IF(ISERROR(VLOOKUP($A169+8860000,'Growth Data'!$A:$F,5,0)),\"NO\",VLOOKUP($A169+8860000,'Growth Data'!$A:$F,5,0))","v":"NO"},0,null,0,{"$f":"IF(CC169=\"YES\",IF(ISERROR(VLOOKUP($A169+8860000,'Growth Data'!$A:$Z,8,0)),0,VLOOKUP($A169+8860000,'Growth Data'!$A:$Z,8,0)),0)","v":0},0,null,null,null,0]
[3067,"Harrietsham CEP School",null,"Harrietsham CEP School","Harrietsham CEP School",0,null,733605.67,733605.66670987825,0,null,0,0,0,null,733605.67,733605.66670987825,0,null,4981.47,4981.4748475999986,0,null,null,null,0,null,0,0,0,null,129566.65,null,129567,null,0,null,0,null,0,null,0,null,0,null,0,null,null,null,0,null,null,null,0,null,null,null,0,null,null,null,0,null,"NO",{"$f":"IF(ISERROR(VLOOKUP($A170+8860000,'Growth Data'!$A:$F,3,0)),\"NO\",VLOOKUP($A170+8860000,'Growth Data'!$A:$F,3,0))","v":"YES"},1,null,0,{"$f":"IF(BM170=\"YES\",IF(ISERROR(VLOOKUP($A170+8860000,'Growth Data'!$A:$F,6,0)),0,VLOOKUP($A170+8860000,'Growth Data'!$A:$F,6,0)),0)","v":55},-55,null,"NO",{"$f":"IF(ISERROR(VLOOKUP($A170+8860000,'Growth Data'!$A:$F,4,0)),\"NO\",VLOOKUP($A170+8860000,'Growth Data'!$A:$F,4,0))","v":"YES"},1,null,0,{"$f":"IF(BU170=\"YES\",IF(ISERROR(VLOOKUP($A170+8860000,'Growth Data'!$A:$Z,7,0)),0,VLOOKUP($A170+8860000,'Growth Data'!$A:$Z,7,0)),0)","v":60},-60,null,"NO",{"$f":"IF(ISERROR(VLOOKUP($A170+8860000,'Growth Data'!$A:$F,5,0)),\"NO\",VLOOKUP($A170+8860000,'Growth Data'!$A:$F,5,0))","v":"NO"},0,null,0,{"$f":"IF(CC170=\"YES\",IF(ISERROR(VLOOKUP($A170+8860000,'Growth Data'!$A:$Z,8,0)),0,VLOOKUP($A170+8860000,'Growth Data'!$A:$Z,8,0)),0)","v":0},0,null,null,null,0]
[3069,"Leeds & Broomfield CEP School",null,"Leeds & Broomfield CEP School","Leeds & Broomfield CEP School",0,null,370920.82,370920.8154138379,0,null,0,0,0,null,370920.82,370920.8154138379,0,null,2028.54,2028.5387266,0,null,null,null,0,null,0,0,0,null,112585.35,null,112585,null,0,null,0,null,0,null,0,null,0,null,0,null,null,null,0,null,null,null,0,null,null,null,0,null,null,null,0,null,"YES",{"$f":"IF(ISERROR(VLOOKUP($A171+8860000,'Growth Data'!$A:$F,3,0)),\"NO\",VLOOKUP($A171+8860000,'Growth Data'!$A:$F,3,0))","v":"NO"},1,null,30,{"$f":"IF(BM171=\"YES\",IF(ISERROR(VLOOKUP($A171+8860000,'Growth Data'!$A:$F,6,0)),0,VLOOKUP($A171+8860000,'Growth Data'!$A:$F,6,0)),0)","v":0},30,null,"YES",{"$f":"IF(ISERROR(VLOOKUP($A171+8860000,'Growth Data'!$A:$F,4,0)),\"NO\",VLOOKUP($A171+8860000,'Growth Data'!$A:$F,4,0))","v":"NO"},1,null,30,{"$f":"IF(BU171=\"YES\",IF(ISERROR(VLOOKUP($A171+8860000,'Growth Data'!$A:$Z,7,0)),0,VLOOKUP($A171+8860000,'Growth Data'!$A:$Z,7,0)),0)","v":0},30,null,"YES",{"$f":"IF(ISERROR(VLOOKUP($A171+8860000,'Growth Data'!$A:$F,5,0)),\"NO\",VLOOKUP($A171+8860000,'Growth Data'!$A:$F,5,0))","v":"NO"},1,null,30,{"$f":"IF(CC171=\"YES\",IF(ISERROR(VLOOKUP($A171+8860000,'Growth Data'!$A:$Z,8,0)),0,VLOOKUP($A171+8860000,'Growth Data'!$A:$Z,8,0)),0)","v":0},30,null,null,null,0]
[3072,"St Michael's CEJ School, Maidstone",null,"St Michael's CEJ School, Maidstone","St Michael's CEJ School, Maidstone",0,null,644191.5,644191.49863776751,0,null,0,0,0,null,644191.5,644191.49863776751,0,null,4185.47,4185.4659802000006,0,null,null,null,0,null,0,0,0,null,31915.62,null,31916,null,2808.44,null,2808,null,0,null,0,null,0,null,0,null,null,null,0,null,null,null,0,null,null,null,0,null,null,null,0,null,"NO",{"$f":"IF(ISERROR(VLOOKUP($A172+8860000,'Growth Data'!$A:$F,3,0)),\"NO\",VLOOKUP($A172+8860000,'Growth Data'!$A:$F,3,0))","v":"NO"},0,null,0,{"$f":"IF(BM172=\"YES\",IF(ISERROR(VLOOKUP($A172+8860000,'Growth Data'!$A:$F,6,0)),0,VLOOKUP($A172+8860000,'Growth Data'!$A:$F,6,0)),0)","v":0},0,null,"NO",{"$f":"IF(ISERROR(VLOOKUP($A172+8860000,'Growth Data'!$A:$F,4,0)),\"NO\",VLOOKUP($A172+8860000,'Growth Data'!$A:$F,4,0))","v":"NO"},0,null,0,{"$f":"IF(BU172=\"YES\",IF(ISERROR(VLOOKUP($A172+8860000,'Growth Data'!$A:$Z,7,0)),0,VLOOKUP($A172+8860000,'Growth Data'!$A:$Z,7,0)),0)","v":0},0,null,"NO",{"$f":"IF(ISERROR(VLOOKUP($A172+8860000,'Growth Data'!$A:$F,5,0)),\"NO\",VLOOKUP($A172+8860000,'Growth Data'!$A:$F,5,0))","v":"NO"},0,null,0,{"$f":"IF(CC172=\"YES\",IF(ISERROR(VLOOKUP($A172+8860000,'Growth Data'!$A:$Z,8,0)),0,VLOOKUP($A172+8860000,'Growth Data'!$A:$Z,8,0)),0)","v":0},0,null,null,null,0]
[3073,"St Michael's CEI School, Maidstone",null,"St Michael's CEI School, Maidstone","St Michael's CEI School, Maidstone",0,null,519211.2,519211.19880819443,0,null,0,0,0,null,519211.2,519211.19880819443,0,null,3107,3107.0023534000002,0,null,null,null,0,null,0,0,0,null,21621.7,null,21622,null,3837.83,null,3838,null,0,null,0,null,0,null,0,null,null,null,0,null,null,null,0,null,null,null,0,null,null,null,0,null,"NO",{"$f":"IF(ISERROR(VLOOKUP($A173+8860000,'Growth Data'!$A:$F,3,0)),\"NO\",VLOOKUP($A173+8860000,'Growth Data'!$A:$F,3,0))","v":"NO"},0,null,0,{"$f":"IF(BM173=\"YES\",IF(ISERROR(VLOOKUP($A173+8860000,'Growth Data'!$A:$F,6,0)),0,VLOOKUP($A173+8860000,'Growth Data'!$A:$F,6,0)),0)","v":0},0,null,"NO",{"$f":"IF(ISERROR(VLOOKUP($A173+8860000,'Growth Data'!$A:$F,4,0)),\"NO\",VLOOKUP($A173+8860000,'Growth Data'!$A:$F,4,0))","v":"NO"},0,null,0,{"$f":"IF(BU173=\"YES\",IF(ISERROR(VLOOKUP($A173+8860000,'Growth Data'!$A:$Z,7,0)),0,VLOOKUP($A173+8860000,'Growth Data'!$A:$Z,7,0)),0)","v":0},0,null,"NO",{"$f":"IF(ISERROR(VLOOKUP($A173+8860000,'Growth Data'!$A:$F,5,0)),\"NO\",VLOOKUP($A173+8860000,'Growth Data'!$A:$F,5,0))","v":"NO"},0,null,0,{"$f":"IF(CC173=\"YES\",IF(ISERROR(VLOOKUP($A173+8860000,'Growth Data'!$A:$Z,8,0)),0,VLOOKUP($A173+8860000,'Growth Data'!$A:$Z,8,0)),0)","v":0},0,null,null,null,0]
[3081,"Thurnham CEI School",null,"Thurnham CEI School","Thurnham CEI School",0,null,953590,953590,0,null,0,0,0,null,953590,953590,0,null,7010.01,7010.0135742000002,0,null,null,null,0,null,0,0,0,null,49721.67,null,49722,null,1027.83,null,1028,null,0,null,0,null,0,null,0,null,null,null,0,null,null,null,0,null,null,null,0,null,null,null,0,null,"NO",{"$f":"IF(ISERROR(VLOOKUP($A174+8860000,'Growth Data'!$A:$F,3,0)),\"NO\",VLOOKUP($A174+8860000,'Growth Data'!$A:$F,3,0))","v":"NO"},0,null,0,{"$f":"IF(BM174=\"YES\",IF(ISERROR(VLOOKUP($A174+8860000,'Growth Data'!$A:$F,6,0)),0,VLOOKUP($A174+8860000,'Growth Data'!$A:$F,6,0)),0)","v":0},0,null,"NO",{"$f":"IF(ISERROR(VLOOKUP($A174+8860000,'Growth Data'!$A:$F,4,0)),\"NO\",VLOOKUP($A174+8860000,'Growth Data'!$A:$F,4,0))","v":"NO"},0,null,0,{"$f":"IF(BU174=\"YES\",IF(ISERROR(VLOOKUP($A174+8860000,'Growth Data'!$A:$Z,7,0)),0,VLOOKUP($A174+8860000,'Growth Data'!$A:$Z,7,0)),0)","v":0},0,null,"NO",{"$f":"IF(ISERROR(VLOOKUP($A174+8860000,'Growth Data'!$A:$F,5,0)),\"NO\",VLOOKUP($A174+8860000,'Growth Data'!$A:$F,5,0))","v":"NO"},0,null,0,{"$f":"IF(CC174=\"YES\",IF(ISERROR(VLOOKUP($A174+8860000,'Growth Data'!$A:$Z,8,0)),0,VLOOKUP($A174+8860000,'Growth Data'!$A:$Z,8,0)),0)","v":0},0,null,null,null,0]
[3082,"Trottiscliffe CEP School",null,"Trottiscliffe CEP School","Trottiscliffe CEP School",0,null,322585.31,322585.30653361621,0,null,0,0,0,null,322585.31,322585.30653361621,0,null,1694.73,1694.7285563999997,0,null,null,null,0,null,0,0,0,null,40483.9,null,40484,null,1951.61,null,1952,null,0,null,0,null,0,null,0,null,null,null,0,null,null,null,0,null,null,null,0,null,null,null,0,null,"NO",{"$f":"IF(ISERROR(VLOOKUP($A175+8860000,'Growth Data'!$A:$F,3,0)),\"NO\",VLOOKUP($A175+8860000,'Growth Data'!$A:$F,3,0))","v":"NO"},0,null,0,{"$f":"IF(BM175=\"YES\",IF(ISERROR(VLOOKUP($A175+8860000,'Growth Data'!$A:$F,6,0)),0,VLOOKUP($A175+8860000,'Growth Data'!$A:$F,6,0)),0)","v":0},0,null,"NO",{"$f":"IF(ISERROR(VLOOKUP($A175+8860000,'Growth Data'!$A:$F,4,0)),\"NO\",VLOOKUP($A175+8860000,'Growth Data'!$A:$F,4,0))","v":"NO"},0,null,0,{"$f":"IF(BU175=\"YES\",IF(ISERROR(VLOOKUP($A175+8860000,'Growth Data'!$A:$Z,7,0)),0,VLOOKUP($A175+8860000,'Growth Data'!$A:$Z,7,0)),0)","v":0},0,null,"NO",{"$f":"IF(ISERROR(VLOOKUP($A175+8860000,'Growth Data'!$A:$F,5,0)),\"NO\",VLOOKUP($A175+8860000,'Growth Data'!$A:$F,5,0))","v":"NO"},0,null,0,{"$f":"IF(CC175=\"YES\",IF(ISERROR(VLOOKUP($A175+8860000,'Growth Data'!$A:$Z,8,0)),0,VLOOKUP($A175+8860000,'Growth Data'!$A:$Z,8,0)),0)","v":0},0,null,null,null,0]
[3083,"Ulcombe CEP School",null,"Ulcombe CEP School","Ulcombe CEP School",0,null,354896.68,354896.68255705963,0,null,0,0,0,null,354896.68,354896.68255705963,0,null,1823.12,1823.1170834,0,null,null,null,0,null,0,0,0,null,5580,null,5580,null,5442,null,5442,null,0,null,0,null,0,null,0,null,null,null,0,null,null,null,0,null,null,null,0,null,null,null,0,null,"NO",{"$f":"IF(ISERROR(VLOOKUP($A176+8860000,'Growth Data'!$A:$F,3,0)),\"NO\",VLOOKUP($A176+8860000,'Growth Data'!$A:$F,3,0))","v":"NO"},0,null,0,{"$f":"IF(BM176=\"YES\",IF(ISERROR(VLOOKUP($A176+8860000,'Growth Data'!$A:$F,6,0)),0,VLOOKUP($A176+8860000,'Growth Data'!$A:$F,6,0)),0)","v":0},0,null,"NO",{"$f":"IF(ISERROR(VLOOKUP($A176+8860000,'Growth Data'!$A:$F,4,0)),\"NO\",VLOOKUP($A176+8860000,'Growth Data'!$A:$F,4,0))","v":"NO"},0,null,0,{"$f":"IF(BU176=\"YES\",IF(ISERROR(VLOOKUP($A176+8860000,'Growth Data'!$A:$Z,7,0)),0,VLOOKUP($A176+8860000,'Growth Data'!$A:$Z,7,0)),0)","v":0},0,null,"NO",{"$f":"IF(ISERROR(VLOOKUP($A176+8860000,'Growth Data'!$A:$F,5,0)),\"NO\",VLOOKUP($A176+8860000,'Growth Data'!$A:$F,5,0))","v":"NO"},0,null,0,{"$f":"IF(CC176=\"YES\",IF(ISERROR(VLOOKUP($A176+8860000,'Growth Data'!$A:$Z,8,0)),0,VLOOKUP($A176+8860000,'Growth Data'!$A:$Z,8,0)),0)","v":0},0,null,null,null,0]
[3084,"Wateringbury CEP School",null,"Wateringbury CEP School","Wateringbury CEP School",0,null,720358.87,720358.87071298459,0,null,0,0,0,null,720358.87,720358.87071298459,0,null,5109.8599999999997,5109.8633746000005,0,null,null,null,0,null,0,0,0,null,29098.639999999999,null,29099,null,3090.14,null,3090,null,0,null,0,null,0,null,0,null,null,null,0,null,null,null,0,null,null,null,0,null,null,null,0,null,"NO",{"$f":"IF(ISERROR(VLOOKUP($A177+8860000,'Growth Data'!$A:$F,3,0)),\"NO\",VLOOKUP($A177+8860000,'Growth Data'!$A:$F,3,0))","v":"NO"},0,null,0,{"$f":"IF(BM177=\"YES\",IF(ISERROR(VLOOKUP($A177+8860000,'Growth Data'!$A:$F,6,0)),0,VLOOKUP($A177+8860000,'Growth Data'!$A:$F,6,0)),0)","v":0},0,null,"NO",{"$f":"IF(ISERROR(VLOOKUP($A177+8860000,'Growth Data'!$A:$F,4,0)),\"NO\",VLOOKUP($A177+8860000,'Growth Data'!$A:$F,4,0))","v":"NO"},0,null,0,{"$f":"IF(BU177=\"YES\",IF(ISERROR(VLOOKUP($A177+8860000,'Growth Data'!$A:$Z,7,0)),0,VLOOKUP($A177+8860000,'Growth Data'!$A:$Z,7,0)),0)","v":0},0,null,"NO",{"$f":"IF(ISERROR(VLOOKUP($A177+8860000,'Growth Data'!$A:$F,5,0)),\"NO\",VLOOKUP($A177+8860000,'Growth Data'!$A:$F,5,0))","v":"NO"},0,null,0,{"$f":"IF(CC177=\"YES\",IF(ISERROR(VLOOKUP($A177+8860000,'Growth Data'!$A:$Z,8,0)),0,VLOOKUP($A177+8860000,'Growth Data'!$A:$Z,8,0)),0)","v":0},0,null,null,null,0]
[3088,"Wouldham, All Saint's CEP School",null,"Wouldham, All Saint's CEP School","Wouldham, All Saint's CEP School",0,null,796902.03,796902.03237016243,0,null,0,0,0,null,796902.03,796902.03237016243,0,null,5520.71,5520.7066610000002,0,null,null,null,0,null,0,0,0,null,48793.22,null,48793,null,1120.68,null,1121,null,0,null,0,null,0,null,0,null,null,null,0,null,null,null,0,null,null,null,0,null,null,null,0,null,"NO",{"$f":"IF(ISERROR(VLOOKUP($A178+8860000,'Growth Data'!$A:$F,3,0)),\"NO\",VLOOKUP($A178+8860000,'Growth Data'!$A:$F,3,0))","v":"NO"},0,null,0,{"$f":"IF(BM178=\"YES\",IF(ISERROR(VLOOKUP($A178+8860000,'Growth Data'!$A:$F,6,0)),0,VLOOKUP($A178+8860000,'Growth Data'!$A:$F,6,0)),0)","v":0},0,null,"NO",{"$f":"IF(ISERROR(VLOOKUP($A178+8860000,'Growth Data'!$A:$F,4,0)),\"NO\",VLOOKUP($A178+8860000,'Growth Data'!$A:$F,4,0))","v":"NO"},0,null,0,{"$f":"IF(BU178=\"YES\",IF(ISERROR(VLOOKUP($A178+8860000,'Growth Data'!$A:$Z,7,0)),0,VLOOKUP($A178+8860000,'Growth Data'!$A:$Z,7,0)),0)","v":0},0,null,"NO",{"$f":"IF(ISERROR(VLOOKUP($A178+8860000,'Growth Data'!$A:$F,5,0)),\"NO\",VLOOKUP($A178+8860000,'Growth Data'!$A:$F,5,0))","v":"YES"},1,null,0,{"$f":"IF(CC178=\"YES\",IF(ISERROR(VLOOKUP($A178+8860000,'Growth Data'!$A:$Z,8,0)),0,VLOOKUP($A178+8860000,'Growth Data'!$A:$Z,8,0)),0)","v":0},0,null,null,null,0]
[3089,"St George's CEP School",null,"St George's CEP School","St George's CEP School",0,null,804718.68,804718.6820235193,0,null,0,0,0,null,804718.68,804718.6820235193,0,null,5392.32,5392.3181340000001,0,null,null,null,0,null,0,0,0,null,42482.21,null,42482,null,1751.78,null,1752,null,0,null,0,null,0,null,0,null,null,null,0,null,null,null,0,null,null,null,0,null,null,null,0,null,"NO",{"$f":"IF(ISERROR(VLOOKUP($A179+8860000,'Growth Data'!$A:$F,3,0)),\"NO\",VLOOKUP($A179+8860000,'Growth Data'!$A:$F,3,0))","v":"NO"},0,null,0,{"$f":"IF(BM179=\"YES\",IF(ISERROR(VLOOKUP($A179+8860000,'Growth Data'!$A:$F,6,0)),0,VLOOKUP($A179+8860000,'Growth Data'!$A:$F,6,0)),0)","v":0},0,null,"YES",{"$f":"IF(ISERROR(VLOOKUP($A179+8860000,'Growth Data'!$A:$F,4,0)),\"NO\",VLOOKUP($A179+8860000,'Growth Data'!$A:$F,4,0))","v":"NO"},1,null,26,{"$f":"IF(BU179=\"YES\",IF(ISERROR(VLOOKUP($A179+8860000,'Growth Data'!$A:$Z,7,0)),0,VLOOKUP($A179+8860000,'Growth Data'!$A:$Z,7,0)),0)","v":0},26,null,"YES",{"$f":"IF(ISERROR(VLOOKUP($A179+8860000,'Growth Data'!$A:$F,5,0)),\"NO\",VLOOKUP($A179+8860000,'Growth Data'!$A:$F,5,0))","v":"NO"},1,null,25,{"$f":"IF(CC179=\"YES\",IF(ISERROR(VLOOKUP($A179+8860000,'Growth Data'!$A:$Z,8,0)),0,VLOOKUP($A179+8860000,'Growth Data'!$A:$Z,8,0)),0)","v":0},25,null,null,null,0]
[3090,"St Margaret's CEP School, Collier Street",null,"St Margaret's CEP School, Collier Street","St Margaret's CEP School, Collier Street",0,null,508691.99,508691.98623359756,0,null,0,0,0,null,508691.99,508691.98623359756,0,null,3081.32,3081.3246479999998,0,null,null,null,0,null,0,0,0,null,28406.47,null,28406,null,3159.35,null,3159,null,0,null,0,null,0,null,0,null,null,null,0,null,null,null,0,null,null,null,0,null,null,null,0,null,"NO",{"$f":"IF(ISERROR(VLOOKUP($A180+8860000,'Growth Data'!$A:$F,3,0)),\"NO\",VLOOKUP($A180+8860000,'Growth Data'!$A:$F,3,0))","v":"NO"},0,null,0,{"$f":"IF(BM180=\"YES\",IF(ISERROR(VLOOKUP($A180+8860000,'Growth Data'!$A:$F,6,0)),0,VLOOKUP($A180+8860000,'Growth Data'!$A:$F,6,0)),0)","v":0},0,null,"NO",{"$f":"IF(ISERROR(VLOOKUP($A180+8860000,'Growth Data'!$A:$F,4,0)),\"NO\",VLOOKUP($A180+8860000,'Growth Data'!$A:$F,4,0))","v":"NO"},0,null,0,{"$f":"IF(BU180=\"YES\",IF(ISERROR(VLOOKUP($A180+8860000,'Growth Data'!$A:$Z,7,0)),0,VLOOKUP($A180+8860000,'Growth Data'!$A:$Z,7,0)),0)","v":0},0,null,"NO",{"$f":"IF(ISERROR(VLOOKUP($A180+8860000,'Growth Data'!$A:$F,5,0)),\"NO\",VLOOKUP($A180+8860000,'Growth Data'!$A:$F,5,0))","v":"NO"},0,null,0,{"$f":"IF(CC180=\"YES\",IF(ISERROR(VLOOKUP($A180+8860000,'Growth Data'!$A:$Z,8,0)),0,VLOOKUP($A180+8860000,'Growth Data'!$A:$Z,8,0)),0)","v":0},0,null,null,null,0]
[3091,"Laddingford St Mary's CEP School",null,"Laddingford St Mary's CEP School","Laddingford St Mary's CEP School",0,null,372409.56,372409.55781155889,0,null,0,0,0,null,372409.56,372409.55781155889,0,null,2002.86,2002.8610212000001,0,null,null,null,0,null,0,0,0,null,53711.01,null,53711,null,628.9,null,629,null,0,null,0,null,0,null,0,null,null,null,0,null,null,null,0,null,null,null,0,null,null,null,0,null,"NO",{"$f":"IF(ISERROR(VLOOKUP($A181+8860000,'Growth Data'!$A:$F,3,0)),\"NO\",VLOOKUP($A181+8860000,'Growth Data'!$A:$F,3,0))","v":"NO"},0,null,0,{"$f":"IF(BM181=\"YES\",IF(ISERROR(VLOOKUP($A181+8860000,'Growth Data'!$A:$F,6,0)),0,VLOOKUP($A181+8860000,'Growth Data'!$A:$F,6,0)),0)","v":0},0,null,"NO",{"$f":"IF(ISERROR(VLOOKUP($A181+8860000,'Growth Data'!$A:$F,4,0)),\"NO\",VLOOKUP($A181+8860000,'Growth Data'!$A:$F,4,0))","v":"NO"},0,null,0,{"$f":"IF(BU181=\"YES\",IF(ISERROR(VLOOKUP($A181+8860000,'Growth Data'!$A:$Z,7,0)),0,VLOOKUP($A181+8860000,'Growth Data'!$A:$Z,7,0)),0)","v":0},0,null,"NO",{"$f":"IF(ISERROR(VLOOKUP($A181+8860000,'Growth Data'!$A:$F,5,0)),\"NO\",VLOOKUP($A181+8860000,'Growth Data'!$A:$F,5,0))","v":"NO"},0,null,0,{"$f":"IF(CC181=\"YES\",IF(ISERROR(VLOOKUP($A181+8860000,'Growth Data'!$A:$Z,8,0)),0,VLOOKUP($A181+8860000,'Growth Data'!$A:$Z,8,0)),0)","v":0},0,null,null,null,0]
[3092,"Yalding St Peter & St Paul CEP School",null,"Yalding St Peter & St Paul CEP School","Yalding St Peter & St Paul CEP School",0,null,595722.46,595722.45708601631,0,null,0,0,0,null,595722.46,595722.45708601631,0,null,4005.72,4005.7220424000002,0,null,null,null,0,null,0,0,0,null,35978.71,null,35979,null,2402.13,null,2402,null,0,null,0,null,0,null,0,null,null,null,0,null,null,null,0,null,null,null,0,null,null,null,0,null,"NO",{"$f":"IF(ISERROR(VLOOKUP($A182+8860000,'Growth Data'!$A:$F,3,0)),\"NO\",VLOOKUP($A182+8860000,'Growth Data'!$A:$F,3,0))","v":"NO"},0,null,0,{"$f":"IF(BM182=\"YES\",IF(ISERROR(VLOOKUP($A182+8860000,'Growth Data'!$A:$F,6,0)),0,VLOOKUP($A182+8860000,'Growth Data'!$A:$F,6,0)),0)","v":0},0,null,"NO",{"$f":"IF(ISERROR(VLOOKUP($A182+8860000,'Growth Data'!$A:$F,4,0)),\"NO\",VLOOKUP($A182+8860000,'Growth Data'!$A:$F,4,0))","v":"NO"},0,null,0,{"$f":"IF(BU182=\"YES\",IF(ISERROR(VLOOKUP($A182+8860000,'Growth Data'!$A:$Z,7,0)),0,VLOOKUP($A182+8860000,'Growth Data'!$A:$Z,7,0)),0)","v":0},0,null,"NO",{"$f":"IF(ISERROR(VLOOKUP($A182+8860000,'Growth Data'!$A:$F,5,0)),\"NO\",VLOOKUP($A182+8860000,'Growth Data'!$A:$F,5,0))","v":"NO"},0,null,0,{"$f":"IF(CC182=\"YES\",IF(ISERROR(VLOOKUP($A182+8860000,'Growth Data'!$A:$Z,8,0)),0,VLOOKUP($A182+8860000,'Growth Data'!$A:$Z,8,0)),0)","v":0},0,null,null,null,0]
[3106,"Eastchurch CEP School",null,"Eastchurch CEP School","Eastchurch CEP School",0,null,1852620.77,1852620.7665678812,0,null,0,0,0,null,1852620.77,1852620.7665678812,0,null,11991.49,11991.488421800001,0,null,null,null,0,null,4.9000000000000004,4.9000000000000004,0,null,40361.39,null,40361,null,1963.86,null,1964,null,0,null,0,null,0,null,0,null,null,null,0,null,null,null,0,null,null,null,0,null,null,null,0,null,"NO",{"$f":"IF(ISERROR(VLOOKUP($A183+8860000,'Growth Data'!$A:$F,3,0)),\"NO\",VLOOKUP($A183+8860000,'Growth Data'!$A:$F,3,0))","v":"NO"},0,null,0,{"$f":"IF(BM183=\"YES\",IF(ISERROR(VLOOKUP($A183+8860000,'Growth Data'!$A:$F,6,0)),0,VLOOKUP($A183+8860000,'Growth Data'!$A:$F,6,0)),0)","v":0},0,null,"NO",{"$f":"IF(ISERROR(VLOOKUP($A183+8860000,'Growth Data'!$A:$F,4,0)),\"NO\",VLOOKUP($A183+8860000,'Growth Data'!$A:$F,4,0))","v":"NO"},0,null,0,{"$f":"IF(BU183=\"YES\",IF(ISERROR(VLOOKUP($A183+8860000,'Growth Data'!$A:$Z,7,0)),0,VLOOKUP($A183+8860000,'Growth Data'!$A:$Z,7,0)),0)","v":0},0,null,"NO",{"$f":"IF(ISERROR(VLOOKUP($A183+8860000,'Growth Data'!$A:$F,5,0)),\"NO\",VLOOKUP($A183+8860000,'Growth Data'!$A:$F,5,0))","v":"NO"},0,null,0,{"$f":"IF(CC183=\"YES\",IF(ISERROR(VLOOKUP($A183+8860000,'Growth Data'!$A:$Z,8,0)),0,VLOOKUP($A183+8860000,'Growth Data'!$A:$Z,8,0)),0)","v":0},0,null,null,null,0]
[3108,"Ospringe CEP School",null,"Ospringe CEP School","Ospringe CEP School",0,null,943179.99,943179.99381897389,0,null,0,0,0,null,943179.99,943179.99381897389,0,null,6316.72,6316.7155284000009,0,null,null,null,0,null,0,0,0,null,18786.09,null,18786,null,4121.3900000000003,null,4121,null,0,null,0,null,0,null,0,null,null,null,0,null,null,null,0,null,null,null,0,null,null,null,0,null,"NO",{"$f":"IF(ISERROR(VLOOKUP($A184+8860000,'Growth Data'!$A:$F,3,0)),\"NO\",VLOOKUP($A184+8860000,'Growth Data'!$A:$F,3,0))","v":"NO"},0,null,0,{"$f":"IF(BM184=\"YES\",IF(ISERROR(VLOOKUP($A184+8860000,'Growth Data'!$A:$F,6,0)),0,VLOOKUP($A184+8860000,'Growth Data'!$A:$F,6,0)),0)","v":0},0,null,"NO",{"$f":"IF(ISERROR(VLOOKUP($A184+8860000,'Growth Data'!$A:$F,4,0)),\"NO\",VLOOKUP($A184+8860000,'Growth Data'!$A:$F,4,0))","v":"NO"},0,null,0,{"$f":"IF(BU184=\"YES\",IF(ISERROR(VLOOKUP($A184+8860000,'Growth Data'!$A:$Z,7,0)),0,VLOOKUP($A184+8860000,'Growth Data'!$A:$Z,7,0)),0)","v":0},0,null,"NO",{"$f":"IF(ISERROR(VLOOKUP($A184+8860000,'Growth Data'!$A:$F,5,0)),\"NO\",VLOOKUP($A184+8860000,'Growth Data'!$A:$F,5,0))","v":"NO"},0,null,0,{"$f":"IF(CC184=\"YES\",IF(ISERROR(VLOOKUP($A184+8860000,'Growth Data'!$A:$Z,8,0)),0,VLOOKUP($A184+8860000,'Growth Data'!$A:$Z,8,0)),0)","v":0},0,null,null,null,0]
[3109,"Hernhill CEP School",null,"Hernhill CEP School","Hernhill CEP School",0,null,762123.23,762123.22862540476,0,null,0,0,0,null,762123.23,762123.22862540476,0,null,5263.93,5263.9296069999991,0,null,null,null,0,null,0,0,0,null,30068.83,null,30069,null,2993.12,null,2993,null,0,null,0,null,0,null,0,null,null,null,0,null,null,null,0,null,null,null,0,null,null,null,0,null,"NO",{"$f":"IF(ISERROR(VLOOKUP($A185+8860000,'Growth Data'!$A:$F,3,0)),\"NO\",VLOOKUP($A185+8860000,'Growth Data'!$A:$F,3,0))","v":"NO"},0,null,0,{"$f":"IF(BM185=\"YES\",IF(ISERROR(VLOOKUP($A185+8860000,'Growth Data'!$A:$F,6,0)),0,VLOOKUP($A185+8860000,'Growth Data'!$A:$F,6,0)),0)","v":0},0,null,"NO",{"$f":"IF(ISERROR(VLOOKUP($A185+8860000,'Growth Data'!$A:$F,4,0)),\"NO\",VLOOKUP($A185+8860000,'Growth Data'!$A:$F,4,0))","v":"NO"},0,null,0,{"$f":"IF(BU185=\"YES\",IF(ISERROR(VLOOKUP($A185+8860000,'Growth Data'!$A:$Z,7,0)),0,VLOOKUP($A185+8860000,'Growth Data'!$A:$Z,7,0)),0)","v":0},0,null,"NO",{"$f":"IF(ISERROR(VLOOKUP($A185+8860000,'Growth Data'!$A:$F,5,0)),\"NO\",VLOOKUP($A185+8860000,'Growth Data'!$A:$F,5,0))","v":"NO"},0,null,0,{"$f":"IF(CC185=\"YES\",IF(ISERROR(VLOOKUP($A185+8860000,'Growth Data'!$A:$Z,8,0)),0,VLOOKUP($A185+8860000,'Growth Data'!$A:$Z,8,0)),0)","v":0},0,null,null,null,0]
[3111,"Newington CEP School",null,"Newington CEP School","Newington CEP School",0,null,701627.68,701627.67902485142,0,null,0,0,0,null,701627.68,701627.67902485142,0,null,4390.8900000000003,4390.8876233999999,0,null,null,null,0,null,0,0,0,null,41775.39,null,41775,null,1822.46,null,1822,null,0,null,0,null,0,null,0,null,null,null,0,null,null,null,0,null,null,null,0,null,null,null,0,null,"NO",{"$f":"IF(ISERROR(VLOOKUP($A186+8860000,'Growth Data'!$A:$F,3,0)),\"NO\",VLOOKUP($A186+8860000,'Growth Data'!$A:$F,3,0))","v":"NO"},0,null,0,{"$f":"IF(BM186=\"YES\",IF(ISERROR(VLOOKUP($A186+8860000,'Growth Data'!$A:$F,6,0)),0,VLOOKUP($A186+8860000,'Growth Data'!$A:$F,6,0)),0)","v":0},0,null,"NO",{"$f":"IF(ISERROR(VLOOKUP($A186+8860000,'Growth Data'!$A:$F,4,0)),\"NO\",VLOOKUP($A186+8860000,'Growth Data'!$A:$F,4,0))","v":"NO"},0,null,0,{"$f":"IF(BU186=\"YES\",IF(ISERROR(VLOOKUP($A186+8860000,'Growth Data'!$A:$Z,7,0)),0,VLOOKUP($A186+8860000,'Growth Data'!$A:$Z,7,0)),0)","v":0},0,null,"NO",{"$f":"IF(ISERROR(VLOOKUP($A186+8860000,'Growth Data'!$A:$F,5,0)),\"NO\",VLOOKUP($A186+8860000,'Growth Data'!$A:$F,5,0))","v":"NO"},0,null,0,{"$f":"IF(CC186=\"YES\",IF(ISERROR(VLOOKUP($A186+8860000,'Growth Data'!$A:$Z,8,0)),0,VLOOKUP($A186+8860000,'Growth Data'!$A:$Z,8,0)),0)","v":0},0,null,null,null,0]
[3117,"Teynham Parochial CEP School",null,"Teynham Parochial CEP School","Teynham Parochial CEP School",0,null,800947.16,800947.16189293377,0,null,0,0,0,null,800947.16,800947.16189293377,0,null,5186.8999999999996,5186.8964907999998,0,null,null,null,0,null,0,0,0,null,63768.99,null,63769,null,0,null,0,null,0,null,0,null,0,null,0,null,null,null,0,null,null,null,0,null,null,null,0,null,null,null,0,null,"NO",{"$f":"IF(ISERROR(VLOOKUP($A187+8860000,'Growth Data'!$A:$F,3,0)),\"NO\",VLOOKUP($A187+8860000,'Growth Data'!$A:$F,3,0))","v":"NO"},0,null,0,{"$f":"IF(BM187=\"YES\",IF(ISERROR(VLOOKUP($A187+8860000,'Growth Data'!$A:$F,6,0)),0,VLOOKUP($A187+8860000,'Growth Data'!$A:$F,6,0)),0)","v":0},0,null,"NO",{"$f":"IF(ISERROR(VLOOKUP($A187+8860000,'Growth Data'!$A:$F,4,0)),\"NO\",VLOOKUP($A187+8860000,'Growth Data'!$A:$F,4,0))","v":"NO"},0,null,0,{"$f":"IF(BU187=\"YES\",IF(ISERROR(VLOOKUP($A187+8860000,'Growth Data'!$A:$Z,7,0)),0,VLOOKUP($A187+8860000,'Growth Data'!$A:$Z,7,0)),0)","v":0},0,null,"NO",{"$f":"IF(ISERROR(VLOOKUP($A187+8860000,'Growth Data'!$A:$F,5,0)),\"NO\",VLOOKUP($A187+8860000,'Growth Data'!$A:$F,5,0))","v":"NO"},0,null,0,{"$f":"IF(CC187=\"YES\",IF(ISERROR(VLOOKUP($A187+8860000,'Growth Data'!$A:$Z,8,0)),0,VLOOKUP($A187+8860000,'Growth Data'!$A:$Z,8,0)),0)","v":0},0,null,null,null,0]
[3120,"Barham CEP School",null,"Barham CEP School","Barham CEP School",0,null,740319.47,740319.46659774263,0,null,0,0,0,null,740319.47,740319.46659774263,0,null,5186.8999999999996,5186.8964907999998,0,null,null,null,0,null,0,0,0,null,80483.92,null,80484,null,0,null,0,null,0,null,0,null,0,null,0,null,null,null,0,null,null,null,0,null,null,null,0,null,null,null,0,null,"NO",{"$f":"IF(ISERROR(VLOOKUP($A188+8860000,'Growth Data'!$A:$F,3,0)),\"NO\",VLOOKUP($A188+8860000,'Growth Data'!$A:$F,3,0))","v":"NO"},0,null,0,{"$f":"IF(BM188=\"YES\",IF(ISERROR(VLOOKUP($A188+8860000,'Growth Data'!$A:$F,6,0)),0,VLOOKUP($A188+8860000,'Growth Data'!$A:$F,6,0)),0)","v":0},0,null,"NO",{"$f":"IF(ISERROR(VLOOKUP($A188+8860000,'Growth Data'!$A:$F,4,0)),\"NO\",VLOOKUP($A188+8860000,'Growth Data'!$A:$F,4,0))","v":"NO"},0,null,0,{"$f":"IF(BU188=\"YES\",IF(ISERROR(VLOOKUP($A188+8860000,'Growth Data'!$A:$Z,7,0)),0,VLOOKUP($A188+8860000,'Growth Data'!$A:$Z,7,0)),0)","v":0},0,null,"NO",{"$f":"IF(ISERROR(VLOOKUP($A188+8860000,'Growth Data'!$A:$F,5,0)),\"NO\",VLOOKUP($A188+8860000,'Growth Data'!$A:$F,5,0))","v":"NO"},0,null,0,{"$f":"IF(CC188=\"YES\",IF(ISERROR(VLOOKUP($A188+8860000,'Growth Data'!$A:$Z,8,0)),0,VLOOKUP($A188+8860000,'Growth Data'!$A:$Z,8,0)),0)","v":0},0,null,null,null,0]
[3122,"Bridge & Patrixbourne CEP School",null,"Bridge & Patrixbourne CEP School","Bridge & Patrixbourne CEP School",0,null,1437971,1437971,0,null,0,0,0,null,1437971,1437971,0,null,10604.89,10604.892330199998,0,null,null,null,0,null,0,0,0,null,41378.559999999998,null,41379,null,1862.14,null,1862,null,0,null,0,null,0,null,0,null,null,null,0,null,null,null,0,null,null,null,0,null,null,null,0,null,"NO",{"$f":"IF(ISERROR(VLOOKUP($A189+8860000,'Growth Data'!$A:$F,3,0)),\"NO\",VLOOKUP($A189+8860000,'Growth Data'!$A:$F,3,0))","v":"NO"},0,null,0,{"$f":"IF(BM189=\"YES\",IF(ISERROR(VLOOKUP($A189+8860000,'Growth Data'!$A:$F,6,0)),0,VLOOKUP($A189+8860000,'Growth Data'!$A:$F,6,0)),0)","v":0},0,null,"NO",{"$f":"IF(ISERROR(VLOOKUP($A189+8860000,'Growth Data'!$A:$F,4,0)),\"NO\",VLOOKUP($A189+8860000,'Growth Data'!$A:$F,4,0))","v":"NO"},0,null,0,{"$f":"IF(BU189=\"YES\",IF(ISERROR(VLOOKUP($A189+8860000,'Growth Data'!$A:$Z,7,0)),0,VLOOKUP($A189+8860000,'Growth Data'!$A:$Z,7,0)),0)","v":0},0,null,"NO",{"$f":"IF(ISERROR(VLOOKUP($A189+8860000,'Growth Data'!$A:$F,5,0)),\"NO\",VLOOKUP($A189+8860000,'Growth Data'!$A:$F,5,0))","v":"NO"},0,null,0,{"$f":"IF(CC189=\"YES\",IF(ISERROR(VLOOKUP($A189+8860000,'Growth Data'!$A:$Z,8,0)),0,VLOOKUP($A189+8860000,'Growth Data'!$A:$Z,8,0)),0)","v":0},0,null,null,null,0]
[3123,"Chislet CEP School",null,"Chislet CEP School","Chislet CEP School",0,null,412508.67,412508.66967558267,0,null,0,0,0,null,412508.67,412508.66967558267,0,null,2439.38,2439.3820129999999,0,null,null,null,0,null,0,0,0,null,27116.3,null,27116,null,3288.37,null,3288,null,0,null,0,null,0,null,0,null,null,null,0,null,null,null,0,null,null,null,0,null,null,null,0,null,"NO",{"$f":"IF(ISERROR(VLOOKUP($A190+8860000,'Growth Data'!$A:$F,3,0)),\"NO\",VLOOKUP($A190+8860000,'Growth Data'!$A:$F,3,0))","v":"NO"},0,null,0,{"$f":"IF(BM190=\"YES\",IF(ISERROR(VLOOKUP($A190+8860000,'Growth Data'!$A:$F,6,0)),0,VLOOKUP($A190+8860000,'Growth Data'!$A:$F,6,0)),0)","v":0},0,null,"NO",{"$f":"IF(ISERROR(VLOOKUP($A190+8860000,'Growth Data'!$A:$F,4,0)),\"NO\",VLOOKUP($A190+8860000,'Growth Data'!$A:$F,4,0))","v":"NO"},0,null,0,{"$f":"IF(BU190=\"YES\",IF(ISERROR(VLOOKUP($A190+8860000,'Growth Data'!$A:$Z,7,0)),0,VLOOKUP($A190+8860000,'Growth Data'!$A:$Z,7,0)),0)","v":0},0,null,"NO",{"$f":"IF(ISERROR(VLOOKUP($A190+8860000,'Growth Data'!$A:$F,5,0)),\"NO\",VLOOKUP($A190+8860000,'Growth Data'!$A:$F,5,0))","v":"NO"},0,null,0,{"$f":"IF(CC190=\"YES\",IF(ISERROR(VLOOKUP($A190+8860000,'Growth Data'!$A:$Z,8,0)),0,VLOOKUP($A190+8860000,'Growth Data'!$A:$Z,8,0)),0)","v":0},0,null,null,null,0]
[3126,"Littlebourne CEP School",null,"Littlebourne CEP School","Littlebourne CEP School",0,null,415569.3,415569.29761906288,0,null,0,0,0,null,415569.3,415569.29761906288,0,null,2259.64,2259.6380752000005,0,null,null,null,0,null,0,0,0,null,32442.16,null,32442,null,2755.78,null,2756,null,0,null,0,null,0,null,0,null,null,null,0,null,null,null,0,null,null,null,0,null,null,null,0,null,"NO",{"$f":"IF(ISERROR(VLOOKUP($A191+8860000,'Growth Data'!$A:$F,3,0)),\"NO\",VLOOKUP($A191+8860000,'Growth Data'!$A:$F,3,0))","v":"NO"},0,null,0,{"$f":"IF(BM191=\"YES\",IF(ISERROR(VLOOKUP($A191+8860000,'Growth Data'!$A:$F,6,0)),0,VLOOKUP($A191+8860000,'Growth Data'!$A:$F,6,0)),0)","v":0},0,null,"NO",{"$f":"IF(ISERROR(VLOOKUP($A191+8860000,'Growth Data'!$A:$F,4,0)),\"NO\",VLOOKUP($A191+8860000,'Growth Data'!$A:$F,4,0))","v":"NO"},0,null,0,{"$f":"IF(BU191=\"YES\",IF(ISERROR(VLOOKUP($A191+8860000,'Growth Data'!$A:$Z,7,0)),0,VLOOKUP($A191+8860000,'Growth Data'!$A:$Z,7,0)),0)","v":0},0,null,"NO",{"$f":"IF(ISERROR(VLOOKUP($A191+8860000,'Growth Data'!$A:$F,5,0)),\"NO\",VLOOKUP($A191+8860000,'Growth Data'!$A:$F,5,0))","v":"NO"},0,null,0,{"$f":"IF(CC191=\"YES\",IF(ISERROR(VLOOKUP($A191+8860000,'Growth Data'!$A:$Z,8,0)),0,VLOOKUP($A191+8860000,'Growth Data'!$A:$Z,8,0)),0)","v":0},0,null,null,null,0]
[3129,"St Alphege CEI School",null,"St Alphege CEI School","St Alphege CEI School",0,null,666619.56000000006,666619.56408065581,0,null,0,0,0,null,666619.56000000006,666619.56408065581,0,null,4211.1400000000003,4211.1436856000009,0,null,null,null,0,null,4.9000000000000004,4.9000000000000004,0,null,292682,null,292682,null,0,null,0,null,0,null,0,null,0,null,0,null,null,null,0,null,null,null,0,null,null,null,0,null,null,null,0,null,"NO",{"$f":"IF(ISERROR(VLOOKUP($A192+8860000,'Growth Data'!$A:$F,3,0)),\"NO\",VLOOKUP($A192+8860000,'Growth Data'!$A:$F,3,0))","v":"NO"},0,null,0,{"$f":"IF(BM192=\"YES\",IF(ISERROR(VLOOKUP($A192+8860000,'Growth Data'!$A:$F,6,0)),0,VLOOKUP($A192+8860000,'Growth Data'!$A:$F,6,0)),0)","v":0},0,null,"NO",{"$f":"IF(ISERROR(VLOOKUP($A192+8860000,'Growth Data'!$A:$F,4,0)),\"NO\",VLOOKUP($A192+8860000,'Growth Data'!$A:$F,4,0))","v":"NO"},0,null,0,{"$f":"IF(BU192=\"YES\",IF(ISERROR(VLOOKUP($A192+8860000,'Growth Data'!$A:$Z,7,0)),0,VLOOKUP($A192+8860000,'Growth Data'!$A:$Z,7,0)),0)","v":0},0,null,"NO",{"$f":"IF(ISERROR(VLOOKUP($A192+8860000,'Growth Data'!$A:$F,5,0)),\"NO\",VLOOKUP($A192+8860000,'Growth Data'!$A:$F,5,0))","v":"NO"},0,null,0,{"$f":"IF(CC192=\"YES\",IF(ISERROR(VLOOKUP($A192+8860000,'Growth Data'!$A:$Z,8,0)),0,VLOOKUP($A192+8860000,'Growth Data'!$A:$Z,8,0)),0)","v":0},0,null,null,null,0]
[3130,"Wickhambreaux CEP School",null,"Wickhambreaux CEP School","Wickhambreaux CEP School",0,null,493038.44,493038.4350651186,0,null,6452.65,6452.6455293217441,0,null,499491.08,499491.08059444034,0,null,3209.71,3209.7131750000003,0,null,null,null,0,null,0,0,0,null,102719.75,null,102720,null,0,null,0,null,0,null,0,null,0,null,0,null,null,null,0,null,null,null,0,null,null,null,0,null,null,null,0,null,"NO",{"$f":"IF(ISERROR(VLOOKUP($A193+8860000,'Growth Data'!$A:$F,3,0)),\"NO\",VLOOKUP($A193+8860000,'Growth Data'!$A:$F,3,0))","v":"NO"},0,null,0,{"$f":"IF(BM193=\"YES\",IF(ISERROR(VLOOKUP($A193+8860000,'Growth Data'!$A:$F,6,0)),0,VLOOKUP($A193+8860000,'Growth Data'!$A:$F,6,0)),0)","v":0},0,null,"NO",{"$f":"IF(ISERROR(VLOOKUP($A193+8860000,'Growth Data'!$A:$F,4,0)),\"NO\",VLOOKUP($A193+8860000,'Growth Data'!$A:$F,4,0))","v":"NO"},0,null,0,{"$f":"IF(BU193=\"YES\",IF(ISERROR(VLOOKUP($A193+8860000,'Growth Data'!$A:$Z,7,0)),0,VLOOKUP($A193+8860000,'Growth Data'!$A:$Z,7,0)),0)","v":0},0,null,"NO",{"$f":"IF(ISERROR(VLOOKUP($A193+8860000,'Growth Data'!$A:$F,5,0)),\"NO\",VLOOKUP($A193+8860000,'Growth Data'!$A:$F,5,0))","v":"NO"},0,null,0,{"$f":"IF(CC193=\"YES\",IF(ISERROR(VLOOKUP($A193+8860000,'Growth Data'!$A:$Z,8,0)),0,VLOOKUP($A193+8860000,'Growth Data'!$A:$Z,8,0)),0)","v":0},0,null,null,null,0]
[3134,"John Mayne CEP School",null,"John Mayne CEP School","John Mayne CEP School",0,null,493211.22,493211.2241907554,0,null,0,0,0,null,493211.22,493211.2241907554,0,null,2978.61,2978.6138264000001,0,null,null,null,0,null,0,0,0,null,45735.39,null,45735,null,1426.46,null,1426,null,0,null,0,null,0,null,0,null,null,null,0,null,null,null,0,null,null,null,0,null,null,null,0,null,"NO",{"$f":"IF(ISERROR(VLOOKUP($A194+8860000,'Growth Data'!$A:$F,3,0)),\"NO\",VLOOKUP($A194+8860000,'Growth Data'!$A:$F,3,0))","v":"NO"},0,null,0,{"$f":"IF(BM194=\"YES\",IF(ISERROR(VLOOKUP($A194+8860000,'Growth Data'!$A:$F,6,0)),0,VLOOKUP($A194+8860000,'Growth Data'!$A:$F,6,0)),0)","v":0},0,null,"NO",{"$f":"IF(ISERROR(VLOOKUP($A194+8860000,'Growth Data'!$A:$F,4,0)),\"NO\",VLOOKUP($A194+8860000,'Growth Data'!$A:$F,4,0))","v":"NO"},0,null,0,{"$f":"IF(BU194=\"YES\",IF(ISERROR(VLOOKUP($A194+8860000,'Growth Data'!$A:$Z,7,0)),0,VLOOKUP($A194+8860000,'Growth Data'!$A:$Z,7,0)),0)","v":0},0,null,"NO",{"$f":"IF(ISERROR(VLOOKUP($A194+8860000,'Growth Data'!$A:$F,5,0)),\"NO\",VLOOKUP($A194+8860000,'Growth Data'!$A:$F,5,0))","v":"NO"},0,null,0,{"$f":"IF(CC194=\"YES\",IF(ISERROR(VLOOKUP($A194+8860000,'Growth Data'!$A:$Z,8,0)),0,VLOOKUP($A194+8860000,'Growth Data'!$A:$Z,8,0)),0)","v":0},0,null,null,null,0]
[3136,"Brabourne CEP School",null,"Brabourne CEP School","Brabourne CEP School",{"$f":"IF(E195=D195,0,1)","v":0},null,412402.82,412402.82117432146,{"$f":"ROUND(H195-I195,0)","v":0},null,0,0,{"$f":"ROUND(L195-M195,0)","v":0},null,412402.82,412402.82117432146,{"$f":"ROUND(P195-Q195,0)","v":0},null,2465.06,2465.0597184000003,{"$f":"ROUND(T195-U195,0)","v":0},null,null,null,{"$f":"ROUND(X195-Y195,0)","v":0},null,0,0,{"$f":"ROUND(AB195-AC195,0)","v":0},null,59472.34,null,{"$f":"ROUND(AF195-AG195,0)","v":59472},null,52.77,null,{"$f":"ROUND(AJ195-AK195,0)","v":53},null,0,null,{"$f":"ROUND(AN195-AO195,0)","v":0},null,0,null,{"$f":"ROUND(AR195-AS195,0)","v":0},null,null,null,{"$f":"ROUND(AV195-AW195,0)","v":0},null,null,null,{"$f":"ROUND(AZ195-BA195,0)","v":0},null,null,null,{"$f":"ROUND(BD195-BE195,0)","v":0},null,null,null,{"$f":"ROUND(BH195-BI195,0)","v":0},null,"NO",{"$f":"IF(ISERROR(VLOOKUP($A195+8860000,'Growth Data'!$A:$F,3,0)),\"NO\",VLOOKUP($A195+8860000,'Growth Data'!$A:$F,3,0))","v":"NO"},{"$f":"IF(BL195=BM195,0,1)","v":0},null,0,{"$f":"IF(BM195=\"YES\",IF(ISERROR(VLOOKUP($A195+8860000,'Growth Data'!$A:$F,6,0)),0,VLOOKUP($A195+8860000,'Growth Data'!$A:$F,6,0)),0)","v":0},{"$f":"ROUND(BP195-BQ195,0)","v":0},null,"NO",{"$f":"IF(ISERROR(VLOOKUP($A195+8860000,'Growth Data'!$A:$F,4,0)),\"NO\",VLOOKUP($A195+8860000,'Growth Data'!$A:$F,4,0))","v":"NO"},{"$f":"IF(BT195=BU195,0,1)","v":0},null,0,{"$f":"IF(BU195=\"YES\",IF(ISERROR(VLOOKUP($A195+8860000,'Growth Data'!$A:$Z,7,0)),0,VLOOKUP($A195+8860000,'Growth Data'!$A:$Z,7,0)),0)","v":0},{"$f":"ROUND(BX195-BY195,0)","v":0},null,"NO",{"$f":"IF(ISERROR(VLOOKUP($A195+8860000,'Growth Data'!$A:$F,5,0)),\"NO\",VLOOKUP($A195+8860000,'Growth Data'!$A:$F,5,0))","v":"NO"},{"$f":"IF(CB195=CC195,0,1)","v":0},null,0,{"$f":"IF(CC195=\"YES\",IF(ISERROR(VLOOKUP($A195+8860000,'Growth Data'!$A:$Z,8,0)),0,VLOOKUP($A195+8860000,'Growth Data'!$A:$Z,8,0)),0)","v":0},{"$f":"ROUND(CF195-CG195,0)","v":0},null,null,null,{"$f":"ROUND(CJ195-CK195,0)","v":0}]
[3137,"Brookland CEP School",null,"Brookland CEP School","Brookland CEP School",0,null,450706.84,450706.84091767634,0,null,0,0,0,null,450706.84,450706.84091767634,0,null,2619.13,2619.1259507999998,0,null,null,null,0,null,0,0,0,null,90042.14,null,90042,null,0,null,0,null,0,null,0,null,0,null,0,null,null,null,0,null,null,null,0,null,null,null,0,null,null,null,0,null,"NO",{"$f":"IF(ISERROR(VLOOKUP($A196+8860000,'Growth Data'!$A:$F,3,0)),\"NO\",VLOOKUP($A196+8860000,'Growth Data'!$A:$F,3,0))","v":"NO"},0,null,0,{"$f":"IF(BM196=\"YES\",IF(ISERROR(VLOOKUP($A196+8860000,'Growth Data'!$A:$F,6,0)),0,VLOOKUP($A196+8860000,'Growth Data'!$A:$F,6,0)),0)","v":0},0,null,"NO",{"$f":"IF(ISERROR(VLOOKUP($A196+8860000,'Growth Data'!$A:$F,4,0)),\"NO\",VLOOKUP($A196+8860000,'Growth Data'!$A:$F,4,0))","v":"NO"},0,null,0,{"$f":"IF(BU196=\"YES\",IF(ISERROR(VLOOKUP($A196+8860000,'Growth Data'!$A:$Z,7,0)),0,VLOOKUP($A196+8860000,'Growth Data'!$A:$Z,7,0)),0)","v":0},0,null,"NO",{"$f":"IF(ISERROR(VLOOKUP($A196+8860000,'Growth Data'!$A:$F,5,0)),\"NO\",VLOOKUP($A196+8860000,'Growth Data'!$A:$F,5,0))","v":"NO"},0,null,0,{"$f":"IF(CC196=\"YES\",IF(ISERROR(VLOOKUP($A196+8860000,'Growth Data'!$A:$Z,8,0)),0,VLOOKUP($A196+8860000,'Growth Data'!$A:$Z,8,0)),0)","v":0},0,null,null,null,0]
[3138,"Chilham St Mary's CEP School",null,"Chilham St Mary's CEP School","Chilham St Mary's CEP School",0,null,423364.33,423364.33423268457,0,null,0,0,0,null,423364.33,423364.33423268457,0,null,2336.67,2336.6711914000002,0,null,null,null,0,null,0,0,0,null,36573.480000000003,null,36573,null,2342.65,null,2343,null,0,null,0,null,0,null,0,null,null,null,0,null,null,null,0,null,null,null,0,null,null,null,0,null,"NO",{"$f":"IF(ISERROR(VLOOKUP($A197+8860000,'Growth Data'!$A:$F,3,0)),\"NO\",VLOOKUP($A197+8860000,'Growth Data'!$A:$F,3,0))","v":"NO"},0,null,0,{"$f":"IF(BM197=\"YES\",IF(ISERROR(VLOOKUP($A197+8860000,'Growth Data'!$A:$F,6,0)),0,VLOOKUP($A197+8860000,'Growth Data'!$A:$F,6,0)),0)","v":0},0,null,"NO",{"$f":"IF(ISERROR(VLOOKUP($A197+8860000,'Growth Data'!$A:$F,4,0)),\"NO\",VLOOKUP($A197+8860000,'Growth Data'!$A:$F,4,0))","v":"NO"},0,null,0,{"$f":"IF(BU197=\"YES\",IF(ISERROR(VLOOKUP($A197+8860000,'Growth Data'!$A:$Z,7,0)),0,VLOOKUP($A197+8860000,'Growth Data'!$A:$Z,7,0)),0)","v":0},0,null,"NO",{"$f":"IF(ISERROR(VLOOKUP($A197+8860000,'Growth Data'!$A:$F,5,0)),\"NO\",VLOOKUP($A197+8860000,'Growth Data'!$A:$F,5,0))","v":"NO"},0,null,0,{"$f":"IF(CC197=\"YES\",IF(ISERROR(VLOOKUP($A197+8860000,'Growth Data'!$A:$Z,8,0)),0,VLOOKUP($A197+8860000,'Growth Data'!$A:$Z,8,0)),0)","v":0},0,null,null,null,0]
[3139,"High Halden CEP School",null,"High Halden CEP School","High Halden CEP School",0,null,413877.87,413877.86872208177,0,null,0,0,0,null,413877.87,413877.86872208177,0,null,2362.35,2362.3488968000001,0,null,null,null,0,null,0,0,0,null,57767.24,null,57767,null,223.28,null,223,null,0,null,0,null,0,null,0,null,null,null,0,null,null,null,0,null,null,null,0,null,null,null,0,null,"NO",{"$f":"IF(ISERROR(VLOOKUP($A198+8860000,'Growth Data'!$A:$F,3,0)),\"NO\",VLOOKUP($A198+8860000,'Growth Data'!$A:$F,3,0))","v":"NO"},0,null,0,{"$f":"IF(BM198=\"YES\",IF(ISERROR(VLOOKUP($A198+8860000,'Growth Data'!$A:$F,6,0)),0,VLOOKUP($A198+8860000,'Growth Data'!$A:$F,6,0)),0)","v":0},0,null,"NO",{"$f":"IF(ISERROR(VLOOKUP($A198+8860000,'Growth Data'!$A:$F,4,0)),\"NO\",VLOOKUP($A198+8860000,'Growth Data'!$A:$F,4,0))","v":"NO"},0,null,0,{"$f":"IF(BU198=\"YES\",IF(ISERROR(VLOOKUP($A198+8860000,'Growth Data'!$A:$Z,7,0)),0,VLOOKUP($A198+8860000,'Growth Data'!$A:$Z,7,0)),0)","v":0},0,null,"NO",{"$f":"IF(ISERROR(VLOOKUP($A198+8860000,'Growth Data'!$A:$F,5,0)),\"NO\",VLOOKUP($A198+8860000,'Growth Data'!$A:$F,5,0))","v":"NO"},0,null,0,{"$f":"IF(CC198=\"YES\",IF(ISERROR(VLOOKUP($A198+8860000,'Growth Data'!$A:$Z,8,0)),0,VLOOKUP($A198+8860000,'Growth Data'!$A:$Z,8,0)),0)","v":0},0,null,null,null,0]
[3145,"Woodchurch CEP School",null,"Woodchurch CEP School","Woodchurch CEP School",0,null,629651.89,629651.8917879482,0,null,0,0,0,null,629651.89,629651.8917879482,0,null,4185.47,4185.4659802000006,0,null,null,null,0,null,0,0,0,null,28865.87,null,28866,null,3113.41,null,3113,null,0,null,0,null,0,null,0,null,null,null,0,null,null,null,0,null,null,null,0,null,null,null,0,null,"NO",{"$f":"IF(ISERROR(VLOOKUP($A199+8860000,'Growth Data'!$A:$F,3,0)),\"NO\",VLOOKUP($A199+8860000,'Growth Data'!$A:$F,3,0))","v":"YES"},1,null,0,{"$f":"IF(BM199=\"YES\",IF(ISERROR(VLOOKUP($A199+8860000,'Growth Data'!$A:$F,6,0)),0,VLOOKUP($A199+8860000,'Growth Data'!$A:$F,6,0)),0)","v":20},-20,null,"NO",{"$f":"IF(ISERROR(VLOOKUP($A199+8860000,'Growth Data'!$A:$F,4,0)),\"NO\",VLOOKUP($A199+8860000,'Growth Data'!$A:$F,4,0))","v":"NO"},0,null,0,{"$f":"IF(BU199=\"YES\",IF(ISERROR(VLOOKUP($A199+8860000,'Growth Data'!$A:$Z,7,0)),0,VLOOKUP($A199+8860000,'Growth Data'!$A:$Z,7,0)),0)","v":0},0,null,"NO",{"$f":"IF(ISERROR(VLOOKUP($A199+8860000,'Growth Data'!$A:$F,5,0)),\"NO\",VLOOKUP($A199+8860000,'Growth Data'!$A:$F,5,0))","v":"YES"},1,null,0,{"$f":"IF(CC199=\"YES\",IF(ISERROR(VLOOKUP($A199+8860000,'Growth Data'!$A:$Z,8,0)),0,VLOOKUP($A199+8860000,'Growth Data'!$A:$Z,8,0)),0)","v":30},-30,null,null,null,0]
[3146,"Bodsham CEP School",null,"Bodsham CEP School","Bodsham CEP School",0,null,411609.71,411609.70978936384,0,null,0,0,0,null,411609.71,411609.70978936384,0,null,2388.0300000000002,2388.0266022000001,0,null,null,null,0,null,0,0,0,null,33500.629999999997,null,33501,null,2649.94,null,2650,null,0,null,0,null,0,null,0,null,null,null,0,null,null,null,0,null,null,null,0,null,null,null,0,null,"NO",{"$f":"IF(ISERROR(VLOOKUP($A200+8860000,'Growth Data'!$A:$F,3,0)),\"NO\",VLOOKUP($A200+8860000,'Growth Data'!$A:$F,3,0))","v":"NO"},0,null,0,{"$f":"IF(BM200=\"YES\",IF(ISERROR(VLOOKUP($A200+8860000,'Growth Data'!$A:$F,6,0)),0,VLOOKUP($A200+8860000,'Growth Data'!$A:$F,6,0)),0)","v":0},0,null,"NO",{"$f":"IF(ISERROR(VLOOKUP($A200+8860000,'Growth Data'!$A:$F,4,0)),\"NO\",VLOOKUP($A200+8860000,'Growth Data'!$A:$F,4,0))","v":"NO"},0,null,0,{"$f":"IF(BU200=\"YES\",IF(ISERROR(VLOOKUP($A200+8860000,'Growth Data'!$A:$Z,7,0)),0,VLOOKUP($A200+8860000,'Growth Data'!$A:$Z,7,0)),0)","v":0},0,null,"NO",{"$f":"IF(ISERROR(VLOOKUP($A200+8860000,'Growth Data'!$A:$F,5,0)),\"NO\",VLOOKUP($A200+8860000,'Growth Data'!$A:$F,5,0))","v":"NO"},0,null,0,{"$f":"IF(CC200=\"YES\",IF(ISERROR(VLOOKUP($A200+8860000,'Growth Data'!$A:$Z,8,0)),0,VLOOKUP($A200+8860000,'Growth Data'!$A:$Z,8,0)),0)","v":0},0,null,null,null,0]
[3149,"St Martin's CEP School, Folkestone",null,"St Martin's CEP School, Folkestone","St Martin's CEP School, Folkestone",0,null,770017.92,770017.91694077326,0,null,0,0,0,null,770017.92,770017.91694077326,0,null,5315.29,5315.2850177999999,0,null,null,null,0,null,0,0,0,null,56164.79,null,56165,null,383.52,null,384,null,0,null,0,null,0,null,0,null,null,null,0,null,null,null,0,null,null,null,0,null,null,null,0,null,"NO",{"$f":"IF(ISERROR(VLOOKUP($A201+8860000,'Growth Data'!$A:$F,3,0)),\"NO\",VLOOKUP($A201+8860000,'Growth Data'!$A:$F,3,0))","v":"NO"},0,null,0,{"$f":"IF(BM201=\"YES\",IF(ISERROR(VLOOKUP($A201+8860000,'Growth Data'!$A:$F,6,0)),0,VLOOKUP($A201+8860000,'Growth Data'!$A:$F,6,0)),0)","v":0},0,null,"NO",{"$f":"IF(ISERROR(VLOOKUP($A201+8860000,'Growth Data'!$A:$F,4,0)),\"NO\",VLOOKUP($A201+8860000,'Growth Data'!$A:$F,4,0))","v":"NO"},0,null,0,{"$f":"IF(BU201=\"YES\",IF(ISERROR(VLOOKUP($A201+8860000,'Growth Data'!$A:$Z,7,0)),0,VLOOKUP($A201+8860000,'Growth Data'!$A:$Z,7,0)),0)","v":0},0,null,"NO",{"$f":"IF(ISERROR(VLOOKUP($A201+8860000,'Growth Data'!$A:$F,5,0)),\"NO\",VLOOKUP($A201+8860000,'Growth Data'!$A:$F,5,0))","v":"NO"},0,null,0,{"$f":"IF(CC201=\"YES\",IF(ISERROR(VLOOKUP($A201+8860000,'Growth Data'!$A:$Z,8,0)),0,VLOOKUP($A201+8860000,'Growth Data'!$A:$Z,8,0)),0)","v":0},0,null,null,null,0]
[3150,"St Peter's CEP School, Folkestone",null,"St Peter's CEP School, Folkestone","St Peter's CEP School, Folkestone",0,null,539877.59,539877.58516257768,0,null,0,0,0,null,539877.59,539877.58516257768,0,null,2670.48,2670.4813615999997,0,null,null,null,0,null,0,0,0,null,19720.43,null,19720,null,4027.96,null,4028,null,0,null,0,null,0,null,0,null,null,null,0,null,null,null,0,null,null,null,0,null,null,null,0,null,"NO",{"$f":"IF(ISERROR(VLOOKUP($A202+8860000,'Growth Data'!$A:$F,3,0)),\"NO\",VLOOKUP($A202+8860000,'Growth Data'!$A:$F,3,0))","v":"NO"},0,null,0,{"$f":"IF(BM202=\"YES\",IF(ISERROR(VLOOKUP($A202+8860000,'Growth Data'!$A:$F,6,0)),0,VLOOKUP($A202+8860000,'Growth Data'!$A:$F,6,0)),0)","v":0},0,null,"NO",{"$f":"IF(ISERROR(VLOOKUP($A202+8860000,'Growth Data'!$A:$F,4,0)),\"NO\",VLOOKUP($A202+8860000,'Growth Data'!$A:$F,4,0))","v":"NO"},0,null,0,{"$f":"IF(BU202=\"YES\",IF(ISERROR(VLOOKUP($A202+8860000,'Growth Data'!$A:$Z,7,0)),0,VLOOKUP($A202+8860000,'Growth Data'!$A:$Z,7,0)),0)","v":0},0,null,"NO",{"$f":"IF(ISERROR(VLOOKUP($A202+8860000,'Growth Data'!$A:$F,5,0)),\"NO\",VLOOKUP($A202+8860000,'Growth Data'!$A:$F,5,0))","v":"NO"},0,null,0,{"$f":"IF(CC202=\"YES\",IF(ISERROR(VLOOKUP($A202+8860000,'Growth Data'!$A:$Z,8,0)),0,VLOOKUP($A202+8860000,'Growth Data'!$A:$Z,8,0)),0)","v":0},0,null,null,null,0]
[3153,"Seabrook CEP School",null,"Seabrook CEP School","Seabrook CEP School",0,null,452875.85,452875.84500757448,0,null,0,0,0,null,452875.85,452875.84500757448,0,null,2747.51,2747.5144778000003,0,null,null,null,0,null,0,0,0,null,29259.62,null,29260,null,3074.04,null,3074,null,0,null,0,null,0,null,0,null,null,null,0,null,null,null,0,null,null,null,0,null,null,null,0,null,"NO",{"$f":"IF(ISERROR(VLOOKUP($A203+8860000,'Growth Data'!$A:$F,3,0)),\"NO\",VLOOKUP($A203+8860000,'Growth Data'!$A:$F,3,0))","v":"NO"},0,null,0,{"$f":"IF(BM203=\"YES\",IF(ISERROR(VLOOKUP($A203+8860000,'Growth Data'!$A:$F,6,0)),0,VLOOKUP($A203+8860000,'Growth Data'!$A:$F,6,0)),0)","v":0},0,null,"NO",{"$f":"IF(ISERROR(VLOOKUP($A203+8860000,'Growth Data'!$A:$F,4,0)),\"NO\",VLOOKUP($A203+8860000,'Growth Data'!$A:$F,4,0))","v":"NO"},0,null,0,{"$f":"IF(BU203=\"YES\",IF(ISERROR(VLOOKUP($A203+8860000,'Growth Data'!$A:$Z,7,0)),0,VLOOKUP($A203+8860000,'Growth Data'!$A:$Z,7,0)),0)","v":0},0,null,"NO",{"$f":"IF(ISERROR(VLOOKUP($A203+8860000,'Growth Data'!$A:$F,5,0)),\"NO\",VLOOKUP($A203+8860000,'Growth Data'!$A:$F,5,0))","v":"NO"},0,null,0,{"$f":"IF(CC203=\"YES\",IF(ISERROR(VLOOKUP($A203+8860000,'Growth Data'!$A:$Z,8,0)),0,VLOOKUP($A203+8860000,'Growth Data'!$A:$Z,8,0)),0)","v":0},0,null,null,null,0]
[3154,"Lyminge CEP School",null,"Lyminge CEP School","Lyminge CEP School",0,null,721905.67,721905.66690269276,0,null,0,0,0,null,721905.67,721905.66690269276,0,null,5109.8599999999997,5109.8633746000005,0,null,null,null,0,null,0,0,0,null,23345.89,null,23346,null,3665.41,null,3665,null,0,null,0,null,0,null,0,null,null,null,0,null,null,null,0,null,null,null,0,null,null,null,0,null,"NO",{"$f":"IF(ISERROR(VLOOKUP($A204+8860000,'Growth Data'!$A:$F,3,0)),\"NO\",VLOOKUP($A204+8860000,'Growth Data'!$A:$F,3,0))","v":"NO"},0,null,0,{"$f":"IF(BM204=\"YES\",IF(ISERROR(VLOOKUP($A204+8860000,'Growth Data'!$A:$F,6,0)),0,VLOOKUP($A204+8860000,'Growth Data'!$A:$F,6,0)),0)","v":0},0,null,"NO",{"$f":"IF(ISERROR(VLOOKUP($A204+8860000,'Growth Data'!$A:$F,4,0)),\"NO\",VLOOKUP($A204+8860000,'Growth Data'!$A:$F,4,0))","v":"NO"},0,null,0,{"$f":"IF(BU204=\"YES\",IF(ISERROR(VLOOKUP($A204+8860000,'Growth Data'!$A:$Z,7,0)),0,VLOOKUP($A204+8860000,'Growth Data'!$A:$Z,7,0)),0)","v":0},0,null,"NO",{"$f":"IF(ISERROR(VLOOKUP($A204+8860000,'Growth Data'!$A:$F,5,0)),\"NO\",VLOOKUP($A204+8860000,'Growth Data'!$A:$F,5,0))","v":"NO"},0,null,0,{"$f":"IF(CC204=\"YES\",IF(ISERROR(VLOOKUP($A204+8860000,'Growth Data'!$A:$Z,8,0)),0,VLOOKUP($A204+8860000,'Growth Data'!$A:$Z,8,0)),0)","v":0},0,null,null,null,0]
[3155,"Lympne CEP School",null,"Lympne CEP School","Lympne CEP School",0,null,822036.78,822036.77604477282,0,null,0,0,0,null,822036.78,822036.77604477282,0,null,5546.38,5546.3843664000005,0,null,null,null,0,null,0,0,0,null,36914.660000000003,null,36915,null,2308.5300000000002,null,2309,null,0,null,0,null,0,null,0,null,null,null,0,null,null,null,0,null,null,null,0,null,null,null,0,null,"NO",{"$f":"IF(ISERROR(VLOOKUP($A205+8860000,'Growth Data'!$A:$F,3,0)),\"NO\",VLOOKUP($A205+8860000,'Growth Data'!$A:$F,3,0))","v":"NO"},0,null,0,{"$f":"IF(BM205=\"YES\",IF(ISERROR(VLOOKUP($A205+8860000,'Growth Data'!$A:$F,6,0)),0,VLOOKUP($A205+8860000,'Growth Data'!$A:$F,6,0)),0)","v":0},0,null,"NO",{"$f":"IF(ISERROR(VLOOKUP($A205+8860000,'Growth Data'!$A:$F,4,0)),\"NO\",VLOOKUP($A205+8860000,'Growth Data'!$A:$F,4,0))","v":"NO"},0,null,0,{"$f":"IF(BU205=\"YES\",IF(ISERROR(VLOOKUP($A205+8860000,'Growth Data'!$A:$Z,7,0)),0,VLOOKUP($A205+8860000,'Growth Data'!$A:$Z,7,0)),0)","v":0},0,null,"NO",{"$f":"IF(ISERROR(VLOOKUP($A205+8860000,'Growth Data'!$A:$F,5,0)),\"NO\",VLOOKUP($A205+8860000,'Growth Data'!$A:$F,5,0))","v":"NO"},0,null,0,{"$f":"IF(CC205=\"YES\",IF(ISERROR(VLOOKUP($A205+8860000,'Growth Data'!$A:$Z,8,0)),0,VLOOKUP($A205+8860000,'Growth Data'!$A:$Z,8,0)),0)","v":0},0,null,null,null,0]
[3158,"Stelling Minnis CEP School",null,"Stelling Minnis CEP School","Stelling Minnis CEP School",0,null,440662.45,440662.449860472,0,null,0,0,0,null,440662.45,440662.449860472,0,null,2516.42,2516.4151291999997,0,null,null,null,0,null,0,0,0,null,29855.16,null,29855,null,3014.48,null,3014,null,0,null,0,null,0,null,0,null,null,null,0,null,null,null,0,null,null,null,0,null,null,null,0,null,"NO",{"$f":"IF(ISERROR(VLOOKUP($A206+8860000,'Growth Data'!$A:$F,3,0)),\"NO\",VLOOKUP($A206+8860000,'Growth Data'!$A:$F,3,0))","v":"NO"},0,null,0,{"$f":"IF(BM206=\"YES\",IF(ISERROR(VLOOKUP($A206+8860000,'Growth Data'!$A:$F,6,0)),0,VLOOKUP($A206+8860000,'Growth Data'!$A:$F,6,0)),0)","v":0},0,null,"NO",{"$f":"IF(ISERROR(VLOOKUP($A206+8860000,'Growth Data'!$A:$F,4,0)),\"NO\",VLOOKUP($A206+8860000,'Growth Data'!$A:$F,4,0))","v":"NO"},0,null,0,{"$f":"IF(BU206=\"YES\",IF(ISERROR(VLOOKUP($A206+8860000,'Growth Data'!$A:$Z,7,0)),0,VLOOKUP($A206+8860000,'Growth Data'!$A:$Z,7,0)),0)","v":0},0,null,"NO",{"$f":"IF(ISERROR(VLOOKUP($A206+8860000,'Growth Data'!$A:$F,5,0)),\"NO\",VLOOKUP($A206+8860000,'Growth Data'!$A:$F,5,0))","v":"NO"},0,null,0,{"$f":"IF(CC206=\"YES\",IF(ISERROR(VLOOKUP($A206+8860000,'Growth Data'!$A:$Z,8,0)),0,VLOOKUP($A206+8860000,'Growth Data'!$A:$Z,8,0)),0)","v":0},0,null,null,null,0]
[3159,"Stowting CEP School",null,"Stowting CEP School","Stowting CEP School",0,null,415626.8,415626.7952188967,0,null,0,0,0,null,415626.8,415626.7952188967,0,null,2439.38,2439.3820129999999,0,null,null,null,0,null,0,0,0,null,25013.360000000001,null,25013,null,3498.66,null,3499,null,0,null,0,null,0,null,0,null,null,null,0,null,null,null,0,null,null,null,0,null,null,null,0,null,"NO",{"$f":"IF(ISERROR(VLOOKUP($A207+8860000,'Growth Data'!$A:$F,3,0)),\"NO\",VLOOKUP($A207+8860000,'Growth Data'!$A:$F,3,0))","v":"NO"},0,null,0,{"$f":"IF(BM207=\"YES\",IF(ISERROR(VLOOKUP($A207+8860000,'Growth Data'!$A:$F,6,0)),0,VLOOKUP($A207+8860000,'Growth Data'!$A:$F,6,0)),0)","v":0},0,null,"NO",{"$f":"IF(ISERROR(VLOOKUP($A207+8860000,'Growth Data'!$A:$F,4,0)),\"NO\",VLOOKUP($A207+8860000,'Growth Data'!$A:$F,4,0))","v":"NO"},0,null,0,{"$f":"IF(BU207=\"YES\",IF(ISERROR(VLOOKUP($A207+8860000,'Growth Data'!$A:$Z,7,0)),0,VLOOKUP($A207+8860000,'Growth Data'!$A:$Z,7,0)),0)","v":0},0,null,"NO",{"$f":"IF(ISERROR(VLOOKUP($A207+8860000,'Growth Data'!$A:$F,5,0)),\"NO\",VLOOKUP($A207+8860000,'Growth Data'!$A:$F,5,0))","v":"NO"},0,null,0,{"$f":"IF(CC207=\"YES\",IF(ISERROR(VLOOKUP($A207+8860000,'Growth Data'!$A:$Z,8,0)),0,VLOOKUP($A207+8860000,'Growth Data'!$A:$Z,8,0)),0)","v":0},0,null,null,null,0]
[3160,"Selsted CEP School",null,"Selsted CEP School","Selsted CEP School",0,null,440941.79,440941.78603267774,0,null,0,0,0,null,440941.79,440941.78603267774,0,null,2465.06,2465.0597184000003,0,null,null,null,0,null,0,0,0,null,42831.27,null,42831,null,1716.87,null,1717,null,0,null,0,null,0,null,0,null,null,null,0,null,null,null,0,null,null,null,0,null,null,null,0,null,"YES",{"$f":"IF(ISERROR(VLOOKUP($A208+8860000,'Growth Data'!$A:$F,3,0)),\"NO\",VLOOKUP($A208+8860000,'Growth Data'!$A:$F,3,0))","v":"NO"},1,null,21,{"$f":"IF(BM208=\"YES\",IF(ISERROR(VLOOKUP($A208+8860000,'Growth Data'!$A:$F,6,0)),0,VLOOKUP($A208+8860000,'Growth Data'!$A:$F,6,0)),0)","v":0},21,null,"YES",{"$f":"IF(ISERROR(VLOOKUP($A208+8860000,'Growth Data'!$A:$F,4,0)),\"NO\",VLOOKUP($A208+8860000,'Growth Data'!$A:$F,4,0))","v":"NO"},1,null,23,{"$f":"IF(BU208=\"YES\",IF(ISERROR(VLOOKUP($A208+8860000,'Growth Data'!$A:$Z,7,0)),0,VLOOKUP($A208+8860000,'Growth Data'!$A:$Z,7,0)),0)","v":0},23,null,"YES",{"$f":"IF(ISERROR(VLOOKUP($A208+8860000,'Growth Data'!$A:$F,5,0)),\"NO\",VLOOKUP($A208+8860000,'Growth Data'!$A:$F,5,0))","v":"NO"},1,null,24,{"$f":"IF(CC208=\"YES\",IF(ISERROR(VLOOKUP($A208+8860000,'Growth Data'!$A:$Z,8,0)),0,VLOOKUP($A208+8860000,'Growth Data'!$A:$Z,8,0)),0)","v":0},24,null,null,null,0]
[3163,"Downs CEP School, The",null,"Downs CEP School, The","Downs CEP School, The",0,null,1446296.1,1446296.0977838933,0,null,0,0,0,null,1446296.1,1446296.0977838933,0,null,10194.049999999999,10194.049043799996,0,null,null,null,0,null,0,0,0,null,13693.05,null,13693,null,4630.7,null,4631,null,0,null,0,null,0,null,0,null,null,null,0,null,null,null,0,null,null,null,0,null,null,null,0,null,"NO",{"$f":"IF(ISERROR(VLOOKUP($A209+8860000,'Growth Data'!$A:$F,3,0)),\"NO\",VLOOKUP($A209+8860000,'Growth Data'!$A:$F,3,0))","v":"NO"},0,null,0,{"$f":"IF(BM209=\"YES\",IF(ISERROR(VLOOKUP($A209+8860000,'Growth Data'!$A:$F,6,0)),0,VLOOKUP($A209+8860000,'Growth Data'!$A:$F,6,0)),0)","v":0},0,null,"NO",{"$f":"IF(ISERROR(VLOOKUP($A209+8860000,'Growth Data'!$A:$F,4,0)),\"NO\",VLOOKUP($A209+8860000,'Growth Data'!$A:$F,4,0))","v":"NO"},0,null,0,{"$f":"IF(BU209=\"YES\",IF(ISERROR(VLOOKUP($A209+8860000,'Growth Data'!$A:$Z,7,0)),0,VLOOKUP($A209+8860000,'Growth Data'!$A:$Z,7,0)),0)","v":0},0,null,"NO",{"$f":"IF(ISERROR(VLOOKUP($A209+8860000,'Growth Data'!$A:$F,5,0)),\"NO\",VLOOKUP($A209+8860000,'Growth Data'!$A:$F,5,0))","v":"NO"},0,null,0,{"$f":"IF(CC209=\"YES\",IF(ISERROR(VLOOKUP($A209+8860000,'Growth Data'!$A:$Z,8,0)),0,VLOOKUP($A209+8860000,'Growth Data'!$A:$Z,8,0)),0)","v":0},0,null,null,null,0]
[3167,"Eastry CEP School",null,"Eastry CEP School","Eastry CEP School",0,null,788123.64,788123.64113605546,0,null,0,0,0,null,788123.64,788123.64113605546,0,null,5495.03,5495.0289556000007,0,null,null,null,0,null,0,0,0,null,54190.26,null,54190,null,580.97,null,581,null,0,null,0,null,0,null,0,null,null,null,0,null,null,null,0,null,null,null,0,null,null,null,0,null,"NO",{"$f":"IF(ISERROR(VLOOKUP($A210+8860000,'Growth Data'!$A:$F,3,0)),\"NO\",VLOOKUP($A210+8860000,'Growth Data'!$A:$F,3,0))","v":"NO"},0,null,0,{"$f":"IF(BM210=\"YES\",IF(ISERROR(VLOOKUP($A210+8860000,'Growth Data'!$A:$F,6,0)),0,VLOOKUP($A210+8860000,'Growth Data'!$A:$F,6,0)),0)","v":0},0,null,"NO",{"$f":"IF(ISERROR(VLOOKUP($A210+8860000,'Growth Data'!$A:$F,4,0)),\"NO\",VLOOKUP($A210+8860000,'Growth Data'!$A:$F,4,0))","v":"NO"},0,null,0,{"$f":"IF(BU210=\"YES\",IF(ISERROR(VLOOKUP($A210+8860000,'Growth Data'!$A:$Z,7,0)),0,VLOOKUP($A210+8860000,'Growth Data'!$A:$Z,7,0)),0)","v":0},0,null,"NO",{"$f":"IF(ISERROR(VLOOKUP($A210+8860000,'Growth Data'!$A:$F,5,0)),\"NO\",VLOOKUP($A210+8860000,'Growth Data'!$A:$F,5,0))","v":"NO"},0,null,0,{"$f":"IF(CC210=\"YES\",IF(ISERROR(VLOOKUP($A210+8860000,'Growth Data'!$A:$Z,8,0)),0,VLOOKUP($A210+8860000,'Growth Data'!$A:$Z,8,0)),0)","v":0},0,null,null,null,0]
[3168,"Goodnestone CEP School",null,"Goodnestone CEP School","Goodnestone CEP School",0,null,308008.46999999997,308008.4688255529,0,null,0,0,0,null,308008.46999999997,308008.4688255529,0,null,1489.31,1489.3069132000001,0,null,null,null,0,null,0,0,0,null,86973.68,null,86974,null,0,null,0,null,0,null,0,null,0,null,0,null,null,null,0,null,null,null,0,null,null,null,0,null,null,null,0,null,"NO",{"$f":"IF(ISERROR(VLOOKUP($A211+8860000,'Growth Data'!$A:$F,3,0)),\"NO\",VLOOKUP($A211+8860000,'Growth Data'!$A:$F,3,0))","v":"NO"},0,null,0,{"$f":"IF(BM211=\"YES\",IF(ISERROR(VLOOKUP($A211+8860000,'Growth Data'!$A:$F,6,0)),0,VLOOKUP($A211+8860000,'Growth Data'!$A:$F,6,0)),0)","v":0},0,null,"NO",{"$f":"IF(ISERROR(VLOOKUP($A211+8860000,'Growth Data'!$A:$F,4,0)),\"NO\",VLOOKUP($A211+8860000,'Growth Data'!$A:$F,4,0))","v":"NO"},0,null,0,{"$f":"IF(BU211=\"YES\",IF(ISERROR(VLOOKUP($A211+8860000,'Growth Data'!$A:$Z,7,0)),0,VLOOKUP($A211+8860000,'Growth Data'!$A:$Z,7,0)),0)","v":0},0,null,"NO",{"$f":"IF(ISERROR(VLOOKUP($A211+8860000,'Growth Data'!$A:$F,5,0)),\"NO\",VLOOKUP($A211+8860000,'Growth Data'!$A:$F,5,0))","v":"NO"},0,null,0,{"$f":"IF(CC211=\"YES\",IF(ISERROR(VLOOKUP($A211+8860000,'Growth Data'!$A:$Z,8,0)),0,VLOOKUP($A211+8860000,'Growth Data'!$A:$Z,8,0)),0)","v":0},0,null,null,null,0]
[3169,"Guston CEP School",null,"Guston CEP School","Guston CEP School",0,null,616862.76,616862.76006401889,0,null,15326.73,15326.730778417434,0,null,632189.49,632189.49084243632,0,null,3800.3,3800.3003991999994,0,null,null,null,0,null,0,0,0,null,34662.65,null,34663,null,2533.7399999999998,null,2534,null,0,null,0,null,0,null,0,null,null,null,0,null,null,null,0,null,null,null,0,null,null,null,0,null,"NO",{"$f":"IF(ISERROR(VLOOKUP($A212+8860000,'Growth Data'!$A:$F,3,0)),\"NO\",VLOOKUP($A212+8860000,'Growth Data'!$A:$F,3,0))","v":"NO"},0,null,0,{"$f":"IF(BM212=\"YES\",IF(ISERROR(VLOOKUP($A212+8860000,'Growth Data'!$A:$F,6,0)),0,VLOOKUP($A212+8860000,'Growth Data'!$A:$F,6,0)),0)","v":0},0,null,"NO",{"$f":"IF(ISERROR(VLOOKUP($A212+8860000,'Growth Data'!$A:$F,4,0)),\"NO\",VLOOKUP($A212+8860000,'Growth Data'!$A:$F,4,0))","v":"NO"},0,null,0,{"$f":"IF(BU212=\"YES\",IF(ISERROR(VLOOKUP($A212+8860000,'Growth Data'!$A:$Z,7,0)),0,VLOOKUP($A212+8860000,'Growth Data'!$A:$Z,7,0)),0)","v":0},0,null,"NO",{"$f":"IF(ISERROR(VLOOKUP($A212+8860000,'Growth Data'!$A:$F,5,0)),\"NO\",VLOOKUP($A212+8860000,'Growth Data'!$A:$F,5,0))","v":"NO"},0,null,0,{"$f":"IF(CC212=\"YES\",IF(ISERROR(VLOOKUP($A212+8860000,'Growth Data'!$A:$Z,8,0)),0,VLOOKUP($A212+8860000,'Growth Data'!$A:$Z,8,0)),0)","v":0},0,null,null,null,0]
[3171,"Nonington CEP School",null,"Nonington CEP School","Nonington CEP School",0,null,355507.02,355507.02436647442,0,null,0,0,0,null,355507.02,355507.02436647442,0,null,1720.41,1720.4062618,0,null,null,null,0,null,0,0,0,null,25278.79,null,25279,null,3472.12,null,3472,null,0,null,0,null,0,null,0,null,null,null,0,null,null,null,0,null,null,null,0,null,null,null,0,null,"NO",{"$f":"IF(ISERROR(VLOOKUP($A213+8860000,'Growth Data'!$A:$F,3,0)),\"NO\",VLOOKUP($A213+8860000,'Growth Data'!$A:$F,3,0))","v":"NO"},0,null,0,{"$f":"IF(BM213=\"YES\",IF(ISERROR(VLOOKUP($A213+8860000,'Growth Data'!$A:$F,6,0)),0,VLOOKUP($A213+8860000,'Growth Data'!$A:$F,6,0)),0)","v":0},0,null,"NO",{"$f":"IF(ISERROR(VLOOKUP($A213+8860000,'Growth Data'!$A:$F,4,0)),\"NO\",VLOOKUP($A213+8860000,'Growth Data'!$A:$F,4,0))","v":"NO"},0,null,0,{"$f":"IF(BU213=\"YES\",IF(ISERROR(VLOOKUP($A213+8860000,'Growth Data'!$A:$Z,7,0)),0,VLOOKUP($A213+8860000,'Growth Data'!$A:$Z,7,0)),0)","v":0},0,null,"NO",{"$f":"IF(ISERROR(VLOOKUP($A213+8860000,'Growth Data'!$A:$F,5,0)),\"NO\",VLOOKUP($A213+8860000,'Growth Data'!$A:$F,5,0))","v":"NO"},0,null,0,{"$f":"IF(CC213=\"YES\",IF(ISERROR(VLOOKUP($A213+8860000,'Growth Data'!$A:$Z,8,0)),0,VLOOKUP($A213+8860000,'Growth Data'!$A:$Z,8,0)),0)","v":0},0,null,null,null,0]
[3172,"Northbourne CEP School",null,"Northbourne CEP School","Northbourne CEP School",0,null,496051.98,496051.98051162547,0,null,0,0,0,null,496051.98,496051.98051162547,0,null,3132.68,3132.6800587999996,0,null,null,null,0,null,0,0,0,null,56591.63,null,56592,null,340.84,null,341,null,0,null,0,null,0,null,0,null,null,null,0,null,null,null,0,null,null,null,0,null,null,null,0,null,"NO",{"$f":"IF(ISERROR(VLOOKUP($A214+8860000,'Growth Data'!$A:$F,3,0)),\"NO\",VLOOKUP($A214+8860000,'Growth Data'!$A:$F,3,0))","v":"NO"},0,null,0,{"$f":"IF(BM214=\"YES\",IF(ISERROR(VLOOKUP($A214+8860000,'Growth Data'!$A:$F,6,0)),0,VLOOKUP($A214+8860000,'Growth Data'!$A:$F,6,0)),0)","v":0},0,null,"NO",{"$f":"IF(ISERROR(VLOOKUP($A214+8860000,'Growth Data'!$A:$F,4,0)),\"NO\",VLOOKUP($A214+8860000,'Growth Data'!$A:$F,4,0))","v":"NO"},0,null,0,{"$f":"IF(BU214=\"YES\",IF(ISERROR(VLOOKUP($A214+8860000,'Growth Data'!$A:$Z,7,0)),0,VLOOKUP($A214+8860000,'Growth Data'!$A:$Z,7,0)),0)","v":0},0,null,"NO",{"$f":"IF(ISERROR(VLOOKUP($A214+8860000,'Growth Data'!$A:$F,5,0)),\"NO\",VLOOKUP($A214+8860000,'Growth Data'!$A:$F,5,0))","v":"NO"},0,null,0,{"$f":"IF(CC214=\"YES\",IF(ISERROR(VLOOKUP($A214+8860000,'Growth Data'!$A:$Z,8,0)),0,VLOOKUP($A214+8860000,'Growth Data'!$A:$Z,8,0)),0)","v":0},0,null,null,null,0]
[3173,"Kingsdown & Ringwould CEP School",null,"Kingsdown & Ringwould CEP School","Kingsdown & Ringwould CEP School",0,null,790807.52,790807.52191960788,0,null,0,0,0,null,790807.52,790807.52191960788,0,null,5623.42,5623.4174826000008,0,null,null,null,0,null,0,0,0,null,20618.240000000002,null,20618,null,3938.18,null,3938,null,0,null,0,null,0,null,0,null,null,null,0,null,null,null,0,null,null,null,0,null,null,null,0,null,"NO",{"$f":"IF(ISERROR(VLOOKUP($A215+8860000,'Growth Data'!$A:$F,3,0)),\"NO\",VLOOKUP($A215+8860000,'Growth Data'!$A:$F,3,0))","v":"NO"},0,null,0,{"$f":"IF(BM215=\"YES\",IF(ISERROR(VLOOKUP($A215+8860000,'Growth Data'!$A:$F,6,0)),0,VLOOKUP($A215+8860000,'Growth Data'!$A:$F,6,0)),0)","v":0},0,null,"NO",{"$f":"IF(ISERROR(VLOOKUP($A215+8860000,'Growth Data'!$A:$F,4,0)),\"NO\",VLOOKUP($A215+8860000,'Growth Data'!$A:$F,4,0))","v":"NO"},0,null,0,{"$f":"IF(BU215=\"YES\",IF(ISERROR(VLOOKUP($A215+8860000,'Growth Data'!$A:$Z,7,0)),0,VLOOKUP($A215+8860000,'Growth Data'!$A:$Z,7,0)),0)","v":0},0,null,"NO",{"$f":"IF(ISERROR(VLOOKUP($A215+8860000,'Growth Data'!$A:$F,5,0)),\"NO\",VLOOKUP($A215+8860000,'Growth Data'!$A:$F,5,0))","v":"NO"},0,null,0,{"$f":"IF(CC215=\"YES\",IF(ISERROR(VLOOKUP($A215+8860000,'Growth Data'!$A:$Z,8,0)),0,VLOOKUP($A215+8860000,'Growth Data'!$A:$Z,8,0)),0)","v":0},0,null,null,null,0]
[3175,"Sibertswold CEP School",null,"Sibertswold CEP School","Sibertswold CEP School",0,null,765200.99,765200.99142208486,0,null,0,0,0,null,765200.99,765200.99142208486,0,null,5340.96,5340.9627231999993,0,null,null,null,0,null,0,0,0,null,22755.32,null,22755,null,3724.47,null,3724,null,0,null,0,null,0,null,0,null,null,null,0,null,null,null,0,null,null,null,0,null,null,null,0,null,"NO",{"$f":"IF(ISERROR(VLOOKUP($A216+8860000,'Growth Data'!$A:$F,3,0)),\"NO\",VLOOKUP($A216+8860000,'Growth Data'!$A:$F,3,0))","v":"NO"},0,null,0,{"$f":"IF(BM216=\"YES\",IF(ISERROR(VLOOKUP($A216+8860000,'Growth Data'!$A:$F,6,0)),0,VLOOKUP($A216+8860000,'Growth Data'!$A:$F,6,0)),0)","v":0},0,null,"NO",{"$f":"IF(ISERROR(VLOOKUP($A216+8860000,'Growth Data'!$A:$F,4,0)),\"NO\",VLOOKUP($A216+8860000,'Growth Data'!$A:$F,4,0))","v":"NO"},0,null,0,{"$f":"IF(BU216=\"YES\",IF(ISERROR(VLOOKUP($A216+8860000,'Growth Data'!$A:$Z,7,0)),0,VLOOKUP($A216+8860000,'Growth Data'!$A:$Z,7,0)),0)","v":0},0,null,"NO",{"$f":"IF(ISERROR(VLOOKUP($A216+8860000,'Growth Data'!$A:$F,5,0)),\"NO\",VLOOKUP($A216+8860000,'Growth Data'!$A:$F,5,0))","v":"NO"},0,null,0,{"$f":"IF(CC216=\"YES\",IF(ISERROR(VLOOKUP($A216+8860000,'Growth Data'!$A:$Z,8,0)),0,VLOOKUP($A216+8860000,'Growth Data'!$A:$Z,8,0)),0)","v":0},0,null,null,null,0]
[3178,"Birchington CEP School",null,"Birchington CEP School","Birchington CEP School",0,null,1623684.15,1623684.148993111,0,null,0,0,0,null,1623684.15,1623684.148993111,0,null,11709.03,11709.033662400001,0,null,null,null,0,null,0,0,0,null,29165.63,null,29166,null,3083.44,null,3083,null,0,null,0,null,0,null,0,null,null,null,0,null,null,null,0,null,null,null,0,null,null,null,0,null,"NO",{"$f":"IF(ISERROR(VLOOKUP($A217+8860000,'Growth Data'!$A:$F,3,0)),\"NO\",VLOOKUP($A217+8860000,'Growth Data'!$A:$F,3,0))","v":"NO"},0,null,0,{"$f":"IF(BM217=\"YES\",IF(ISERROR(VLOOKUP($A217+8860000,'Growth Data'!$A:$F,6,0)),0,VLOOKUP($A217+8860000,'Growth Data'!$A:$F,6,0)),0)","v":0},0,null,"NO",{"$f":"IF(ISERROR(VLOOKUP($A217+8860000,'Growth Data'!$A:$F,4,0)),\"NO\",VLOOKUP($A217+8860000,'Growth Data'!$A:$F,4,0))","v":"YES"},1,null,0,{"$f":"IF(BU217=\"YES\",IF(ISERROR(VLOOKUP($A217+8860000,'Growth Data'!$A:$Z,7,0)),0,VLOOKUP($A217+8860000,'Growth Data'!$A:$Z,7,0)),0)","v":0},0,null,"NO",{"$f":"IF(ISERROR(VLOOKUP($A217+8860000,'Growth Data'!$A:$F,5,0)),\"NO\",VLOOKUP($A217+8860000,'Growth Data'!$A:$F,5,0))","v":"YES"},1,null,0,{"$f":"IF(CC217=\"YES\",IF(ISERROR(VLOOKUP($A217+8860000,'Growth Data'!$A:$Z,8,0)),0,VLOOKUP($A217+8860000,'Growth Data'!$A:$Z,8,0)),0)","v":61},-61,null,null,null,0]
[3179,"Holy Trinity & St John's CEP School, Margate",null,"Holy Trinity & St John's CEP School, Margate","Holy Trinity & St John's CEP School, Margate",0,null,1684940.08,1684940.0798396859,0,null,0,0,0,null,1684940.08,1684940.0798396859,0,null,10425.15,10425.148392400002,0,null,null,null,0,null,4.9000000000000004,4.9000000000000004,0,null,157583.16,null,157583,null,0,null,0,null,0,null,0,null,0,null,0,null,null,null,0,null,null,null,0,null,null,null,0,null,null,null,0,null,"NO",{"$f":"IF(ISERROR(VLOOKUP($A218+8860000,'Growth Data'!$A:$F,3,0)),\"NO\",VLOOKUP($A218+8860000,'Growth Data'!$A:$F,3,0))","v":"NO"},0,null,0,{"$f":"IF(BM218=\"YES\",IF(ISERROR(VLOOKUP($A218+8860000,'Growth Data'!$A:$F,6,0)),0,VLOOKUP($A218+8860000,'Growth Data'!$A:$F,6,0)),0)","v":0},0,null,"NO",{"$f":"IF(ISERROR(VLOOKUP($A218+8860000,'Growth Data'!$A:$F,4,0)),\"NO\",VLOOKUP($A218+8860000,'Growth Data'!$A:$F,4,0))","v":"NO"},0,null,0,{"$f":"IF(BU218=\"YES\",IF(ISERROR(VLOOKUP($A218+8860000,'Growth Data'!$A:$Z,7,0)),0,VLOOKUP($A218+8860000,'Growth Data'!$A:$Z,7,0)),0)","v":0},0,null,"NO",{"$f":"IF(ISERROR(VLOOKUP($A218+8860000,'Growth Data'!$A:$F,5,0)),\"NO\",VLOOKUP($A218+8860000,'Growth Data'!$A:$F,5,0))","v":"NO"},0,null,0,{"$f":"IF(CC218=\"YES\",IF(ISERROR(VLOOKUP($A218+8860000,'Growth Data'!$A:$Z,8,0)),0,VLOOKUP($A218+8860000,'Growth Data'!$A:$Z,8,0)),0)","v":0},0,null,null,null,0]
[3181,"St Saviour's CEJ School",null,"St Saviour's CEJ School","St Saviour's CEJ School",0,null,1378275.96,1378275.9595458526,0,null,0,0,0,null,1378275.96,1378275.9595458526,0,null,9860.24,9860.2388736000012,0,null,null,null,0,null,0,0,0,null,56084.04,null,56084,null,391.6,null,392,null,0,null,0,null,0,null,0,null,null,null,0,null,null,null,0,null,null,null,0,null,null,null,0,null,"NO",{"$f":"IF(ISERROR(VLOOKUP($A219+8860000,'Growth Data'!$A:$F,3,0)),\"NO\",VLOOKUP($A219+8860000,'Growth Data'!$A:$F,3,0))","v":"NO"},0,null,0,{"$f":"IF(BM219=\"YES\",IF(ISERROR(VLOOKUP($A219+8860000,'Growth Data'!$A:$F,6,0)),0,VLOOKUP($A219+8860000,'Growth Data'!$A:$F,6,0)),0)","v":0},0,null,"NO",{"$f":"IF(ISERROR(VLOOKUP($A219+8860000,'Growth Data'!$A:$F,4,0)),\"NO\",VLOOKUP($A219+8860000,'Growth Data'!$A:$F,4,0))","v":"NO"},0,null,0,{"$f":"IF(BU219=\"YES\",IF(ISERROR(VLOOKUP($A219+8860000,'Growth Data'!$A:$Z,7,0)),0,VLOOKUP($A219+8860000,'Growth Data'!$A:$Z,7,0)),0)","v":0},0,null,"NO",{"$f":"IF(ISERROR(VLOOKUP($A219+8860000,'Growth Data'!$A:$F,5,0)),\"NO\",VLOOKUP($A219+8860000,'Growth Data'!$A:$F,5,0))","v":"NO"},0,null,0,{"$f":"IF(CC219=\"YES\",IF(ISERROR(VLOOKUP($A219+8860000,'Growth Data'!$A:$Z,8,0)),0,VLOOKUP($A219+8860000,'Growth Data'!$A:$Z,8,0)),0)","v":0},0,null,null,null,0]
[3182,"Minster CEP School",null,"Minster CEP School","Minster CEP School",0,null,1417571,1417571,0,null,0,0,0,null,1417571,1417571,0,null,10450.83,10450.826097800002,0,null,null,null,0,null,0,0,0,null,27669.24,null,27669,null,3233.08,null,3233,null,0,null,0,null,0,null,0,null,null,null,0,null,null,null,0,null,null,null,0,null,null,null,0,null,"NO",{"$f":"IF(ISERROR(VLOOKUP($A220+8860000,'Growth Data'!$A:$F,3,0)),\"NO\",VLOOKUP($A220+8860000,'Growth Data'!$A:$F,3,0))","v":"NO"},0,null,0,{"$f":"IF(BM220=\"YES\",IF(ISERROR(VLOOKUP($A220+8860000,'Growth Data'!$A:$F,6,0)),0,VLOOKUP($A220+8860000,'Growth Data'!$A:$F,6,0)),0)","v":0},0,null,"NO",{"$f":"IF(ISERROR(VLOOKUP($A220+8860000,'Growth Data'!$A:$F,4,0)),\"NO\",VLOOKUP($A220+8860000,'Growth Data'!$A:$F,4,0))","v":"NO"},0,null,0,{"$f":"IF(BU220=\"YES\",IF(ISERROR(VLOOKUP($A220+8860000,'Growth Data'!$A:$Z,7,0)),0,VLOOKUP($A220+8860000,'Growth Data'!$A:$Z,7,0)),0)","v":0},0,null,"NO",{"$f":"IF(ISERROR(VLOOKUP($A220+8860000,'Growth Data'!$A:$F,5,0)),\"NO\",VLOOKUP($A220+8860000,'Growth Data'!$A:$F,5,0))","v":"NO"},0,null,0,{"$f":"IF(CC220=\"YES\",IF(ISERROR(VLOOKUP($A220+8860000,'Growth Data'!$A:$Z,8,0)),0,VLOOKUP($A220+8860000,'Growth Data'!$A:$Z,8,0)),0)","v":0},0,null,null,null,0]
[3183,"Monkton CEP School",null,"Monkton CEP School","Monkton CEP School",0,null,462595.69,462595.69400050136,0,null,0,0,0,null,462595.69,462595.69400050136,0,null,2721.84,2721.8367724,0,null,null,null,0,null,0,0,0,null,41287.919999999998,null,41288,null,1871.21,null,1871,null,0,null,0,null,0,null,0,null,null,null,0,null,null,null,0,null,null,null,0,null,null,null,0,null,"NO",{"$f":"IF(ISERROR(VLOOKUP($A221+8860000,'Growth Data'!$A:$F,3,0)),\"NO\",VLOOKUP($A221+8860000,'Growth Data'!$A:$F,3,0))","v":"NO"},0,null,0,{"$f":"IF(BM221=\"YES\",IF(ISERROR(VLOOKUP($A221+8860000,'Growth Data'!$A:$F,6,0)),0,VLOOKUP($A221+8860000,'Growth Data'!$A:$F,6,0)),0)","v":0},0,null,"NO",{"$f":"IF(ISERROR(VLOOKUP($A221+8860000,'Growth Data'!$A:$F,4,0)),\"NO\",VLOOKUP($A221+8860000,'Growth Data'!$A:$F,4,0))","v":"NO"},0,null,0,{"$f":"IF(BU221=\"YES\",IF(ISERROR(VLOOKUP($A221+8860000,'Growth Data'!$A:$Z,7,0)),0,VLOOKUP($A221+8860000,'Growth Data'!$A:$Z,7,0)),0)","v":0},0,null,"NO",{"$f":"IF(ISERROR(VLOOKUP($A221+8860000,'Growth Data'!$A:$F,5,0)),\"NO\",VLOOKUP($A221+8860000,'Growth Data'!$A:$F,5,0))","v":"NO"},0,null,0,{"$f":"IF(CC221=\"YES\",IF(ISERROR(VLOOKUP($A221+8860000,'Growth Data'!$A:$Z,8,0)),0,VLOOKUP($A221+8860000,'Growth Data'!$A:$Z,8,0)),0)","v":0},0,null,null,null,0]
[3186,"St Nicholas at Wade CEP School",null,"St Nicholas at Wade CEP School","St Nicholas at Wade CEP School",0,null,754188.43,754188.43409203645,0,null,0,0,0,null,754188.43,754188.43409203645,0,null,5366.64,5366.6404285999988,0,null,null,null,0,null,0,0,0,null,40907.79,null,40908,null,1909.22,null,1909,null,0,null,0,null,0,null,0,null,null,null,0,null,null,null,0,null,null,null,0,null,null,null,0,null,"NO",{"$f":"IF(ISERROR(VLOOKUP($A222+8860000,'Growth Data'!$A:$F,3,0)),\"NO\",VLOOKUP($A222+8860000,'Growth Data'!$A:$F,3,0))","v":"NO"},0,null,0,{"$f":"IF(BM222=\"YES\",IF(ISERROR(VLOOKUP($A222+8860000,'Growth Data'!$A:$F,6,0)),0,VLOOKUP($A222+8860000,'Growth Data'!$A:$F,6,0)),0)","v":0},0,null,"NO",{"$f":"IF(ISERROR(VLOOKUP($A222+8860000,'Growth Data'!$A:$F,4,0)),\"NO\",VLOOKUP($A222+8860000,'Growth Data'!$A:$F,4,0))","v":"NO"},0,null,0,{"$f":"IF(BU222=\"YES\",IF(ISERROR(VLOOKUP($A222+8860000,'Growth Data'!$A:$Z,7,0)),0,VLOOKUP($A222+8860000,'Growth Data'!$A:$Z,7,0)),0)","v":0},0,null,"NO",{"$f":"IF(ISERROR(VLOOKUP($A222+8860000,'Growth Data'!$A:$F,5,0)),\"NO\",VLOOKUP($A222+8860000,'Growth Data'!$A:$F,5,0))","v":"NO"},0,null,0,{"$f":"IF(CC222=\"YES\",IF(ISERROR(VLOOKUP($A222+8860000,'Growth Data'!$A:$Z,8,0)),0,VLOOKUP($A222+8860000,'Growth Data'!$A:$Z,8,0)),0)","v":0},0,null,null,null,0]
[3198,"Frittenden CEP School",null,"Frittenden CEP School","Frittenden CEP School",0,null,409151.16,409151.15532367019,0,null,0,0,0,null,409151.16,409151.15532367019,0,null,2439.38,2439.3820129999999,0,null,null,null,0,null,0,0,0,null,23737.02,null,23737,null,3626.3,null,3626,null,0,null,0,null,0,null,0,null,null,null,0,null,null,null,0,null,null,null,0,null,null,null,0,null,"NO",{"$f":"IF(ISERROR(VLOOKUP($A223+8860000,'Growth Data'!$A:$F,3,0)),\"NO\",VLOOKUP($A223+8860000,'Growth Data'!$A:$F,3,0))","v":"NO"},0,null,0,{"$f":"IF(BM223=\"YES\",IF(ISERROR(VLOOKUP($A223+8860000,'Growth Data'!$A:$F,6,0)),0,VLOOKUP($A223+8860000,'Growth Data'!$A:$F,6,0)),0)","v":0},0,null,"NO",{"$f":"IF(ISERROR(VLOOKUP($A223+8860000,'Growth Data'!$A:$F,4,0)),\"NO\",VLOOKUP($A223+8860000,'Growth Data'!$A:$F,4,0))","v":"NO"},0,null,0,{"$f":"IF(BU223=\"YES\",IF(ISERROR(VLOOKUP($A223+8860000,'Growth Data'!$A:$Z,7,0)),0,VLOOKUP($A223+8860000,'Growth Data'!$A:$Z,7,0)),0)","v":0},0,null,"NO",{"$f":"IF(ISERROR(VLOOKUP($A223+8860000,'Growth Data'!$A:$F,5,0)),\"NO\",VLOOKUP($A223+8860000,'Growth Data'!$A:$F,5,0))","v":"NO"},0,null,0,{"$f":"IF(CC223=\"YES\",IF(ISERROR(VLOOKUP($A223+8860000,'Growth Data'!$A:$Z,8,0)),0,VLOOKUP($A223+8860000,'Growth Data'!$A:$Z,8,0)),0)","v":0},0,null,null,null,0]
[3199,"Egerton CEP School",null,"Egerton CEP School","Egerton CEP School",0,null,749451.93,749451.92519613239,0,null,0,0,0,null,749451.93,749451.92519613239,0,null,5289.61,5289.6073123999995,0,null,null,null,0,null,0,0,0,null,38061.410000000003,null,38061,null,2193.86,null,2194,null,0,null,0,null,0,null,0,null,null,null,0,null,null,null,0,null,null,null,0,null,null,null,0,null,"NO",{"$f":"IF(ISERROR(VLOOKUP($A224+8860000,'Growth Data'!$A:$F,3,0)),\"NO\",VLOOKUP($A224+8860000,'Growth Data'!$A:$F,3,0))","v":"NO"},0,null,0,{"$f":"IF(BM224=\"YES\",IF(ISERROR(VLOOKUP($A224+8860000,'Growth Data'!$A:$F,6,0)),0,VLOOKUP($A224+8860000,'Growth Data'!$A:$F,6,0)),0)","v":0},0,null,"NO",{"$f":"IF(ISERROR(VLOOKUP($A224+8860000,'Growth Data'!$A:$F,4,0)),\"NO\",VLOOKUP($A224+8860000,'Growth Data'!$A:$F,4,0))","v":"NO"},0,null,0,{"$f":"IF(BU224=\"YES\",IF(ISERROR(VLOOKUP($A224+8860000,'Growth Data'!$A:$Z,7,0)),0,VLOOKUP($A224+8860000,'Growth Data'!$A:$Z,7,0)),0)","v":0},0,null,"NO",{"$f":"IF(ISERROR(VLOOKUP($A224+8860000,'Growth Data'!$A:$F,5,0)),\"NO\",VLOOKUP($A224+8860000,'Growth Data'!$A:$F,5,0))","v":"NO"},0,null,0,{"$f":"IF(CC224=\"YES\",IF(ISERROR(VLOOKUP($A224+8860000,'Growth Data'!$A:$Z,8,0)),0,VLOOKUP($A224+8860000,'Growth Data'!$A:$Z,8,0)),0)","v":0},0,null,null,null,0]
[3201,"St Lawrence CEP School",null,"St Lawrence CEP School","St Lawrence CEP School",0,null,398025.24,398025.23556199,0,null,0,0,0,null,398025.24,398025.23556199,0,null,2288.66,2288.6641533841603,0,null,null,null,0,null,0,0,0,null,42489.17,null,42489,null,1751.08,null,1751,null,0,null,0,null,0,null,0,null,null,null,0,null,null,null,0,null,null,null,0,null,null,null,0,null,"NO",{"$f":"IF(ISERROR(VLOOKUP($A225+8860000,'Growth Data'!$A:$F,3,0)),\"NO\",VLOOKUP($A225+8860000,'Growth Data'!$A:$F,3,0))","v":"NO"},0,null,0,{"$f":"IF(BM225=\"YES\",IF(ISERROR(VLOOKUP($A225+8860000,'Growth Data'!$A:$F,6,0)),0,VLOOKUP($A225+8860000,'Growth Data'!$A:$F,6,0)),0)","v":0},0,null,"NO",{"$f":"IF(ISERROR(VLOOKUP($A225+8860000,'Growth Data'!$A:$F,4,0)),\"NO\",VLOOKUP($A225+8860000,'Growth Data'!$A:$F,4,0))","v":"NO"},0,null,0,{"$f":"IF(BU225=\"YES\",IF(ISERROR(VLOOKUP($A225+8860000,'Growth Data'!$A:$Z,7,0)),0,VLOOKUP($A225+8860000,'Growth Data'!$A:$Z,7,0)),0)","v":0},0,null,"NO",{"$f":"IF(ISERROR(VLOOKUP($A225+8860000,'Growth Data'!$A:$F,5,0)),\"NO\",VLOOKUP($A225+8860000,'Growth Data'!$A:$F,5,0))","v":"NO"},0,null,0,{"$f":"IF(CC225=\"YES\",IF(ISERROR(VLOOKUP($A225+8860000,'Growth Data'!$A:$Z,8,0)),0,VLOOKUP($A225+8860000,'Growth Data'!$A:$Z,8,0)),0)","v":0},0,null,null,null,0]
[3282,"Boughton-under-Blean & Dunkirk Primary School",null,"Boughton-under-Blean & Dunkirk Primary School","Boughton-under-Blean & Dunkirk Primary School",0,null,857202.27,857202.26914721797,0,null,0,0,0,null,857202.27,857202.26914721797,0,null,5803.16,5803.1614204000016,0,null,null,null,0,null,0,0,0,null,160788.26999999999,null,160788,null,0,null,0,null,0,null,0,null,0,null,0,null,null,null,0,null,null,null,0,null,null,null,0,null,null,null,0,null,"NO",{"$f":"IF(ISERROR(VLOOKUP($A226+8860000,'Growth Data'!$A:$F,3,0)),\"NO\",VLOOKUP($A226+8860000,'Growth Data'!$A:$F,3,0))","v":"NO"},0,null,0,{"$f":"IF(BM226=\"YES\",IF(ISERROR(VLOOKUP($A226+8860000,'Growth Data'!$A:$F,6,0)),0,VLOOKUP($A226+8860000,'Growth Data'!$A:$F,6,0)),0)","v":0},0,null,"NO",{"$f":"IF(ISERROR(VLOOKUP($A226+8860000,'Growth Data'!$A:$F,4,0)),\"NO\",VLOOKUP($A226+8860000,'Growth Data'!$A:$F,4,0))","v":"NO"},0,null,0,{"$f":"IF(BU226=\"YES\",IF(ISERROR(VLOOKUP($A226+8860000,'Growth Data'!$A:$Z,7,0)),0,VLOOKUP($A226+8860000,'Growth Data'!$A:$Z,7,0)),0)","v":0},0,null,"YES",{"$f":"IF(ISERROR(VLOOKUP($A226+8860000,'Growth Data'!$A:$F,5,0)),\"NO\",VLOOKUP($A226+8860000,'Growth Data'!$A:$F,5,0))","v":"NO"},1,null,61,{"$f":"IF(CC226=\"YES\",IF(ISERROR(VLOOKUP($A226+8860000,'Growth Data'!$A:$Z,8,0)),0,VLOOKUP($A226+8860000,'Growth Data'!$A:$Z,8,0)),0)","v":0},61,null,null,null,0]
[3284,"Lady Joanna Thornhill (Endowed) Primary School",null,"Lady Joanna Thornhill (Endowed) Primary School","Lady Joanna Thornhill (Endowed) Primary School",0,null,1462119,1462119,0,null,0,0,0,null,1462119,1462119,0,null,10733.28,10733.280857199998,0,null,null,null,0,null,0,0,0,null,317855.87,null,317856,null,0,null,0,null,0,null,0,null,0,null,0,null,null,null,0,null,null,null,0,null,null,null,0,null,null,null,0,null,"NO",{"$f":"IF(ISERROR(VLOOKUP($A227+8860000,'Growth Data'!$A:$F,3,0)),\"NO\",VLOOKUP($A227+8860000,'Growth Data'!$A:$F,3,0))","v":"NO"},0,null,0,{"$f":"IF(BM227=\"YES\",IF(ISERROR(VLOOKUP($A227+8860000,'Growth Data'!$A:$F,6,0)),0,VLOOKUP($A227+8860000,'Growth Data'!$A:$F,6,0)),0)","v":0},0,null,"NO",{"$f":"IF(ISERROR(VLOOKUP($A227+8860000,'Growth Data'!$A:$F,4,0)),\"NO\",VLOOKUP($A227+8860000,'Growth Data'!$A:$F,4,0))","v":"NO"},0,null,0,{"$f":"IF(BU227=\"YES\",IF(ISERROR(VLOOKUP($A227+8860000,'Growth Data'!$A:$Z,7,0)),0,VLOOKUP($A227+8860000,'Growth Data'!$A:$Z,7,0)),0)","v":0},0,null,"NO",{"$f":"IF(ISERROR(VLOOKUP($A227+8860000,'Growth Data'!$A:$F,5,0)),\"NO\",VLOOKUP($A227+8860000,'Growth Data'!$A:$F,5,0))","v":"NO"},0,null,0,{"$f":"IF(CC227=\"YES\",IF(ISERROR(VLOOKUP($A227+8860000,'Growth Data'!$A:$Z,8,0)),0,VLOOKUP($A227+8860000,'Growth Data'!$A:$Z,8,0)),0)","v":0},0,null,null,null,0]
[3289,"St Peter's Methodist Primary School, Canterbury",null,"St Peter's Methodist Primary School, Canterbury","St Peter's Methodist Primary School, Canterbury",0,null,792532.98,792532.97919164656,0,null,0,0,0,null,792532.98,792532.97919164656,0,null,5135.54,5135.5410799999991,0,null,null,null,0,null,0,0,0,null,129079.35,null,129079,null,0,null,0,null,0,null,0,null,0,null,0,null,null,null,0,null,null,null,0,null,null,null,0,null,null,null,0,null,"NO",{"$f":"IF(ISERROR(VLOOKUP($A228+8860000,'Growth Data'!$A:$F,3,0)),\"NO\",VLOOKUP($A228+8860000,'Growth Data'!$A:$F,3,0))","v":"NO"},0,null,0,{"$f":"IF(BM228=\"YES\",IF(ISERROR(VLOOKUP($A228+8860000,'Growth Data'!$A:$F,6,0)),0,VLOOKUP($A228+8860000,'Growth Data'!$A:$F,6,0)),0)","v":0},0,null,"NO",{"$f":"IF(ISERROR(VLOOKUP($A228+8860000,'Growth Data'!$A:$F,4,0)),\"NO\",VLOOKUP($A228+8860000,'Growth Data'!$A:$F,4,0))","v":"NO"},0,null,0,{"$f":"IF(BU228=\"YES\",IF(ISERROR(VLOOKUP($A228+8860000,'Growth Data'!$A:$Z,7,0)),0,VLOOKUP($A228+8860000,'Growth Data'!$A:$Z,7,0)),0)","v":0},0,null,"NO",{"$f":"IF(ISERROR(VLOOKUP($A228+8860000,'Growth Data'!$A:$F,5,0)),\"NO\",VLOOKUP($A228+8860000,'Growth Data'!$A:$F,5,0))","v":"NO"},0,null,0,{"$f":"IF(CC228=\"YES\",IF(ISERROR(VLOOKUP($A228+8860000,'Growth Data'!$A:$Z,8,0)),0,VLOOKUP($A228+8860000,'Growth Data'!$A:$Z,8,0)),0)","v":0},0,null,null,null,0]
[3294,"St Matthew's High Brooms CEP School",null,"St Matthew's High Brooms CEP School","St Matthew's High Brooms CEP School",0,null,1622632.75,1622632.745111133,0,null,0,0,0,null,1622632.75,1622632.745111133,0,null,11349.55,11349.545786799998,0,null,null,null,0,null,0,0,0,null,104426.51,null,104427,null,0,null,0,null,0,null,0,null,0,null,0,null,null,null,0,null,null,null,0,null,null,null,0,null,null,null,0,null,"NO",{"$f":"IF(ISERROR(VLOOKUP($A229+8860000,'Growth Data'!$A:$F,3,0)),\"NO\",VLOOKUP($A229+8860000,'Growth Data'!$A:$F,3,0))","v":"NO"},0,null,0,{"$f":"IF(BM229=\"YES\",IF(ISERROR(VLOOKUP($A229+8860000,'Growth Data'!$A:$F,6,0)),0,VLOOKUP($A229+8860000,'Growth Data'!$A:$F,6,0)),0)","v":0},0,null,"NO",{"$f":"IF(ISERROR(VLOOKUP($A229+8860000,'Growth Data'!$A:$F,4,0)),\"NO\",VLOOKUP($A229+8860000,'Growth Data'!$A:$F,4,0))","v":"NO"},0,null,0,{"$f":"IF(BU229=\"YES\",IF(ISERROR(VLOOKUP($A229+8860000,'Growth Data'!$A:$Z,7,0)),0,VLOOKUP($A229+8860000,'Growth Data'!$A:$Z,7,0)),0)","v":0},0,null,"NO",{"$f":"IF(ISERROR(VLOOKUP($A229+8860000,'Growth Data'!$A:$F,5,0)),\"NO\",VLOOKUP($A229+8860000,'Growth Data'!$A:$F,5,0))","v":"NO"},0,null,0,{"$f":"IF(CC229=\"YES\",IF(ISERROR(VLOOKUP($A229+8860000,'Growth Data'!$A:$Z,8,0)),0,VLOOKUP($A229+8860000,'Growth Data'!$A:$Z,8,0)),0)","v":0},0,null,null,null,0]
[3295,"Herne CEI School",null,"Herne CEI School","Herne CEI School",0,null,965684.5,965684.50087081641,0,null,0,0,0,null,965684.5,965684.50087081641,0,null,6881.63,6881.6250472000002,0,null,null,null,0,null,4.9000000000000004,4.9000000000000004,0,null,28307.9,null,28308,null,3169.21,null,3169,null,0,null,0,null,0,null,0,null,null,null,0,null,null,null,0,null,null,null,0,null,null,null,0,null,"NO",{"$f":"IF(ISERROR(VLOOKUP($A230+8860000,'Growth Data'!$A:$F,3,0)),\"NO\",VLOOKUP($A230+8860000,'Growth Data'!$A:$F,3,0))","v":"NO"},0,null,0,{"$f":"IF(BM230=\"YES\",IF(ISERROR(VLOOKUP($A230+8860000,'Growth Data'!$A:$F,6,0)),0,VLOOKUP($A230+8860000,'Growth Data'!$A:$F,6,0)),0)","v":0},0,null,"NO",{"$f":"IF(ISERROR(VLOOKUP($A230+8860000,'Growth Data'!$A:$F,4,0)),\"NO\",VLOOKUP($A230+8860000,'Growth Data'!$A:$F,4,0))","v":"NO"},0,null,0,{"$f":"IF(BU230=\"YES\",IF(ISERROR(VLOOKUP($A230+8860000,'Growth Data'!$A:$Z,7,0)),0,VLOOKUP($A230+8860000,'Growth Data'!$A:$Z,7,0)),0)","v":0},0,null,"NO",{"$f":"IF(ISERROR(VLOOKUP($A230+8860000,'Growth Data'!$A:$F,5,0)),\"NO\",VLOOKUP($A230+8860000,'Growth Data'!$A:$F,5,0))","v":"NO"},0,null,0,{"$f":"IF(CC230=\"YES\",IF(ISERROR(VLOOKUP($A230+8860000,'Growth Data'!$A:$Z,8,0)),0,VLOOKUP($A230+8860000,'Growth Data'!$A:$Z,8,0)),0)","v":0},0,null,null,null,0]
[3296,"Langafel CEP School",null,"Langafel CEP School","Langafel CEP School",0,null,1249141.8799999999,1249141.8766398334,0,null,0,0,0,null,1249141.8799999999,1249141.8766398334,0,null,8702.25,8702.2462576351209,0,null,null,null,0,null,0,0,0,null,42084.89,null,42085,null,1791.51,null,1792,null,0,null,0,null,0,null,0,null,null,null,0,null,null,null,0,null,null,null,0,null,null,null,0,null,"NO",{"$f":"IF(ISERROR(VLOOKUP($A231+8860000,'Growth Data'!$A:$F,3,0)),\"NO\",VLOOKUP($A231+8860000,'Growth Data'!$A:$F,3,0))","v":"NO"},0,null,0,{"$f":"IF(BM231=\"YES\",IF(ISERROR(VLOOKUP($A231+8860000,'Growth Data'!$A:$F,6,0)),0,VLOOKUP($A231+8860000,'Growth Data'!$A:$F,6,0)),0)","v":0},0,null,"NO",{"$f":"IF(ISERROR(VLOOKUP($A231+8860000,'Growth Data'!$A:$F,4,0)),\"NO\",VLOOKUP($A231+8860000,'Growth Data'!$A:$F,4,0))","v":"NO"},0,null,0,{"$f":"IF(BU231=\"YES\",IF(ISERROR(VLOOKUP($A231+8860000,'Growth Data'!$A:$Z,7,0)),0,VLOOKUP($A231+8860000,'Growth Data'!$A:$Z,7,0)),0)","v":0},0,null,"NO",{"$f":"IF(ISERROR(VLOOKUP($A231+8860000,'Growth Data'!$A:$F,5,0)),\"NO\",VLOOKUP($A231+8860000,'Growth Data'!$A:$F,5,0))","v":"NO"},0,null,0,{"$f":"IF(CC231=\"YES\",IF(ISERROR(VLOOKUP($A231+8860000,'Growth Data'!$A:$Z,8,0)),0,VLOOKUP($A231+8860000,'Growth Data'!$A:$Z,8,0)),0)","v":0},0,null,null,null,0]
[3297,"Southborough CEP School",null,"Southborough CEP School","Southborough CEP School",0,null,1901365,1901365,0,null,0,0,0,null,1901365,1901365,0,null,13968.67,13968.6717376,0,null,null,null,0,null,0,0,0,null,17624.61,null,17625,null,4237.54,null,4238,null,0,null,0,null,0,null,0,null,null,null,0,null,null,null,0,null,null,null,0,null,null,null,0,null,"NO",{"$f":"IF(ISERROR(VLOOKUP($A232+8860000,'Growth Data'!$A:$F,3,0)),\"NO\",VLOOKUP($A232+8860000,'Growth Data'!$A:$F,3,0))","v":"YES"},1,null,0,{"$f":"IF(BM232=\"YES\",IF(ISERROR(VLOOKUP($A232+8860000,'Growth Data'!$A:$F,6,0)),0,VLOOKUP($A232+8860000,'Growth Data'!$A:$F,6,0)),0)","v":60},-60,null,"NO",{"$f":"IF(ISERROR(VLOOKUP($A232+8860000,'Growth Data'!$A:$F,4,0)),\"NO\",VLOOKUP($A232+8860000,'Growth Data'!$A:$F,4,0))","v":"YES"},1,null,0,{"$f":"IF(BU232=\"YES\",IF(ISERROR(VLOOKUP($A232+8860000,'Growth Data'!$A:$Z,7,0)),0,VLOOKUP($A232+8860000,'Growth Data'!$A:$Z,7,0)),0)","v":90},-90,null,"NO",{"$f":"IF(ISERROR(VLOOKUP($A232+8860000,'Growth Data'!$A:$F,5,0)),\"NO\",VLOOKUP($A232+8860000,'Growth Data'!$A:$F,5,0))","v":"NO"},0,null,0,{"$f":"IF(CC232=\"YES\",IF(ISERROR(VLOOKUP($A232+8860000,'Growth Data'!$A:$Z,8,0)),0,VLOOKUP($A232+8860000,'Growth Data'!$A:$Z,8,0)),0)","v":0},0,null,null,null,0]
[3298,"West Kingsdown C.E. (V.C.) Primary School",null,"West Kingsdown C.E. (V.C.) Primary School","West Kingsdown C.E. (V.C.) Primary School",0,null,631395.99,631395.99428764998,0,null,0,0,0,null,631395.99,631395.99428764998,0,null,4098.3100000000004,4098.3055769902403,0,null,null,null,0,null,0,0,0,null,43476.43,null,43476,null,1652.36,null,1652,null,0,null,0,null,0,null,0,null,null,null,0,null,null,null,0,null,null,null,0,null,null,null,0,null,"NO",{"$f":"IF(ISERROR(VLOOKUP($A233+8860000,'Growth Data'!$A:$F,3,0)),\"NO\",VLOOKUP($A233+8860000,'Growth Data'!$A:$F,3,0))","v":"NO"},0,null,0,{"$f":"IF(BM233=\"YES\",IF(ISERROR(VLOOKUP($A233+8860000,'Growth Data'!$A:$F,6,0)),0,VLOOKUP($A233+8860000,'Growth Data'!$A:$F,6,0)),0)","v":0},0,null,"NO",{"$f":"IF(ISERROR(VLOOKUP($A233+8860000,'Growth Data'!$A:$F,4,0)),\"NO\",VLOOKUP($A233+8860000,'Growth Data'!$A:$F,4,0))","v":"NO"},0,null,0,{"$f":"IF(BU233=\"YES\",IF(ISERROR(VLOOKUP($A233+8860000,'Growth Data'!$A:$Z,7,0)),0,VLOOKUP($A233+8860000,'Growth Data'!$A:$Z,7,0)),0)","v":0},0,null,"NO",{"$f":"IF(ISERROR(VLOOKUP($A233+8860000,'Growth Data'!$A:$F,5,0)),\"NO\",VLOOKUP($A233+8860000,'Growth Data'!$A:$F,5,0))","v":"NO"},0,null,0,{"$f":"IF(CC233=\"YES\",IF(ISERROR(VLOOKUP($A233+8860000,'Growth Data'!$A:$Z,8,0)),0,VLOOKUP($A233+8860000,'Growth Data'!$A:$Z,8,0)),0)","v":0},0,null,null,null,0]
[3299,"John Wesley Primary School",null,"John Wesley Primary School","John Wesley Primary School",0,null,1522076.9,1522076.9004068666,0,null,0,0,0,null,1522076.9,1522076.9004068666,0,null,11144.12,11144.124143599998,0,null,null,null,0,null,0,0,0,null,21826.37,null,21826,null,3817.36,null,3817,null,0,null,0,null,0,null,0,null,null,null,0,null,null,null,0,null,null,null,0,null,null,null,0,null,"NO",{"$f":"IF(ISERROR(VLOOKUP($A234+8860000,'Growth Data'!$A:$F,3,0)),\"NO\",VLOOKUP($A234+8860000,'Growth Data'!$A:$F,3,0))","v":"NO"},0,null,0,{"$f":"IF(BM234=\"YES\",IF(ISERROR(VLOOKUP($A234+8860000,'Growth Data'!$A:$F,6,0)),0,VLOOKUP($A234+8860000,'Growth Data'!$A:$F,6,0)),0)","v":0},0,null,"NO",{"$f":"IF(ISERROR(VLOOKUP($A234+8860000,'Growth Data'!$A:$F,4,0)),\"NO\",VLOOKUP($A234+8860000,'Growth Data'!$A:$F,4,0))","v":"NO"},0,null,0,{"$f":"IF(BU234=\"YES\",IF(ISERROR(VLOOKUP($A234+8860000,'Growth Data'!$A:$Z,7,0)),0,VLOOKUP($A234+8860000,'Growth Data'!$A:$Z,7,0)),0)","v":0},0,null,"NO",{"$f":"IF(ISERROR(VLOOKUP($A234+8860000,'Growth Data'!$A:$F,5,0)),\"NO\",VLOOKUP($A234+8860000,'Growth Data'!$A:$F,5,0))","v":"NO"},0,null,0,{"$f":"IF(CC234=\"YES\",IF(ISERROR(VLOOKUP($A234+8860000,'Growth Data'!$A:$Z,8,0)),0,VLOOKUP($A234+8860000,'Growth Data'!$A:$Z,8,0)),0)","v":0},0,null,null,null,0]
[3303,"St Katharine's Knockholt CEP School",null,"St Katharine's Knockholt CEP School","St Katharine's Knockholt CEP School",0,null,745807.97,745807.9705848922,0,null,0,0,0,null,745807.97,745807.9705848922,0,null,5269.25,5269.25002755888,0,null,null,null,0,null,0,0,0,null,81748.14,null,81748,null,0,null,0,null,0,null,0,null,0,null,0,null,null,null,0,null,null,null,0,null,null,null,0,null,null,null,0,null,"NO",{"$f":"IF(ISERROR(VLOOKUP($A235+8860000,'Growth Data'!$A:$F,3,0)),\"NO\",VLOOKUP($A235+8860000,'Growth Data'!$A:$F,3,0))","v":"NO"},0,null,0,{"$f":"IF(BM235=\"YES\",IF(ISERROR(VLOOKUP($A235+8860000,'Growth Data'!$A:$F,6,0)),0,VLOOKUP($A235+8860000,'Growth Data'!$A:$F,6,0)),0)","v":0},0,null,"NO",{"$f":"IF(ISERROR(VLOOKUP($A235+8860000,'Growth Data'!$A:$F,4,0)),\"NO\",VLOOKUP($A235+8860000,'Growth Data'!$A:$F,4,0))","v":"NO"},0,null,0,{"$f":"IF(BU235=\"YES\",IF(ISERROR(VLOOKUP($A235+8860000,'Growth Data'!$A:$Z,7,0)),0,VLOOKUP($A235+8860000,'Growth Data'!$A:$Z,7,0)),0)","v":0},0,null,"NO",{"$f":"IF(ISERROR(VLOOKUP($A235+8860000,'Growth Data'!$A:$F,5,0)),\"NO\",VLOOKUP($A235+8860000,'Growth Data'!$A:$F,5,0))","v":"NO"},0,null,0,{"$f":"IF(CC235=\"YES\",IF(ISERROR(VLOOKUP($A235+8860000,'Growth Data'!$A:$Z,8,0)),0,VLOOKUP($A235+8860000,'Growth Data'!$A:$Z,8,0)),0)","v":0},0,null,null,null,0]
[3307,"Chevening (St Botolph's) CEP School",null,"Chevening (St Botolph's) CEP School","Chevening (St Botolph's) CEP School",0,null,756056.47,756056.47095980204,0,null,0,0,0,null,756056.47,756056.47095980204,0,null,5508.76,5508.7613924479201,0,null,null,null,0,null,0,0,0,null,63107.05,null,63107,null,0,null,0,null,0,null,0,null,0,null,0,null,null,null,0,null,null,null,0,null,null,null,0,null,null,null,0,null,"NO",{"$f":"IF(ISERROR(VLOOKUP($A236+8860000,'Growth Data'!$A:$F,3,0)),\"NO\",VLOOKUP($A236+8860000,'Growth Data'!$A:$F,3,0))","v":"NO"},0,null,0,{"$f":"IF(BM236=\"YES\",IF(ISERROR(VLOOKUP($A236+8860000,'Growth Data'!$A:$F,6,0)),0,VLOOKUP($A236+8860000,'Growth Data'!$A:$F,6,0)),0)","v":0},0,null,"NO",{"$f":"IF(ISERROR(VLOOKUP($A236+8860000,'Growth Data'!$A:$F,4,0)),\"NO\",VLOOKUP($A236+8860000,'Growth Data'!$A:$F,4,0))","v":"NO"},0,null,0,{"$f":"IF(BU236=\"YES\",IF(ISERROR(VLOOKUP($A236+8860000,'Growth Data'!$A:$Z,7,0)),0,VLOOKUP($A236+8860000,'Growth Data'!$A:$Z,7,0)),0)","v":0},0,null,"NO",{"$f":"IF(ISERROR(VLOOKUP($A236+8860000,'Growth Data'!$A:$F,5,0)),\"NO\",VLOOKUP($A236+8860000,'Growth Data'!$A:$F,5,0))","v":"NO"},0,null,0,{"$f":"IF(CC236=\"YES\",IF(ISERROR(VLOOKUP($A236+8860000,'Growth Data'!$A:$Z,8,0)),0,VLOOKUP($A236+8860000,'Growth Data'!$A:$Z,8,0)),0)","v":0},0,null,null,null,0]
[3308,"Colliers Green CEP School",null,"Colliers Green CEP School","Colliers Green CEP School",0,null,454982.91,454982.91088644095,0,null,0,0,0,null,454982.91,454982.91088644095,0,null,2901.58,2901.5807102000008,0,null,null,null,0,null,0,0,0,null,69939.67,null,69940,null,0,null,0,null,0,null,0,null,0,null,0,null,null,null,0,null,null,null,0,null,null,null,0,null,null,null,0,null,"NO",{"$f":"IF(ISERROR(VLOOKUP($A237+8860000,'Growth Data'!$A:$F,3,0)),\"NO\",VLOOKUP($A237+8860000,'Growth Data'!$A:$F,3,0))","v":"NO"},0,null,0,{"$f":"IF(BM237=\"YES\",IF(ISERROR(VLOOKUP($A237+8860000,'Growth Data'!$A:$F,6,0)),0,VLOOKUP($A237+8860000,'Growth Data'!$A:$F,6,0)),0)","v":0},0,null,"NO",{"$f":"IF(ISERROR(VLOOKUP($A237+8860000,'Growth Data'!$A:$F,4,0)),\"NO\",VLOOKUP($A237+8860000,'Growth Data'!$A:$F,4,0))","v":"NO"},0,null,0,{"$f":"IF(BU237=\"YES\",IF(ISERROR(VLOOKUP($A237+8860000,'Growth Data'!$A:$Z,7,0)),0,VLOOKUP($A237+8860000,'Growth Data'!$A:$Z,7,0)),0)","v":0},0,null,"NO",{"$f":"IF(ISERROR(VLOOKUP($A237+8860000,'Growth Data'!$A:$F,5,0)),\"NO\",VLOOKUP($A237+8860000,'Growth Data'!$A:$F,5,0))","v":"NO"},0,null,0,{"$f":"IF(CC237=\"YES\",IF(ISERROR(VLOOKUP($A237+8860000,'Growth Data'!$A:$Z,8,0)),0,VLOOKUP($A237+8860000,'Growth Data'!$A:$Z,8,0)),0)","v":0},0,null,null,null,0]
[3309,"Sissinghurst CEP School",null,"Sissinghurst CEP School","Sissinghurst CEP School",0,null,618789.17000000004,618789.17045375763,0,null,0,0,0,null,618789.17000000004,618789.17045375763,0,null,4159.79,4159.7882748000002,0,null,null,null,0,null,0,0,0,null,179354.07,null,179354,null,0,null,0,null,0,null,0,null,0,null,0,null,null,null,0,null,null,null,0,null,null,null,0,null,null,null,0,null,"NO",{"$f":"IF(ISERROR(VLOOKUP($A238+8860000,'Growth Data'!$A:$F,3,0)),\"NO\",VLOOKUP($A238+8860000,'Growth Data'!$A:$F,3,0))","v":"NO"},0,null,0,{"$f":"IF(BM238=\"YES\",IF(ISERROR(VLOOKUP($A238+8860000,'Growth Data'!$A:$F,6,0)),0,VLOOKUP($A238+8860000,'Growth Data'!$A:$F,6,0)),0)","v":0},0,null,"NO",{"$f":"IF(ISERROR(VLOOKUP($A238+8860000,'Growth Data'!$A:$F,4,0)),\"NO\",VLOOKUP($A238+8860000,'Growth Data'!$A:$F,4,0))","v":"NO"},0,null,0,{"$f":"IF(BU238=\"YES\",IF(ISERROR(VLOOKUP($A238+8860000,'Growth Data'!$A:$Z,7,0)),0,VLOOKUP($A238+8860000,'Growth Data'!$A:$Z,7,0)),0)","v":0},0,null,"NO",{"$f":"IF(ISERROR(VLOOKUP($A238+8860000,'Growth Data'!$A:$F,5,0)),\"NO\",VLOOKUP($A238+8860000,'Growth Data'!$A:$F,5,0))","v":"NO"},0,null,0,{"$f":"IF(CC238=\"YES\",IF(ISERROR(VLOOKUP($A238+8860000,'Growth Data'!$A:$Z,8,0)),0,VLOOKUP($A238+8860000,'Growth Data'!$A:$Z,8,0)),0)","v":0},0,null,null,null,0]
[3312,"Hever CEP School",null,"Hever CEP School","Hever CEP School",0,null,547078.25,547078.25054012239,0,null,0,0,0,null,547078.25,547078.25054012239,0,null,3486.22,3486.22097782936,0,null,null,null,0,null,0,0,0,null,54402.1,null,54402,null,559.79,null,560,null,0,null,0,null,0,null,0,null,null,null,0,null,null,null,0,null,null,null,0,null,null,null,0,null,"NO",{"$f":"IF(ISERROR(VLOOKUP($A239+8860000,'Growth Data'!$A:$F,3,0)),\"NO\",VLOOKUP($A239+8860000,'Growth Data'!$A:$F,3,0))","v":"NO"},0,null,0,{"$f":"IF(BM239=\"YES\",IF(ISERROR(VLOOKUP($A239+8860000,'Growth Data'!$A:$F,6,0)),0,VLOOKUP($A239+8860000,'Growth Data'!$A:$F,6,0)),0)","v":0},0,null,"NO",{"$f":"IF(ISERROR(VLOOKUP($A239+8860000,'Growth Data'!$A:$F,4,0)),\"NO\",VLOOKUP($A239+8860000,'Growth Data'!$A:$F,4,0))","v":"NO"},0,null,0,{"$f":"IF(BU239=\"YES\",IF(ISERROR(VLOOKUP($A239+8860000,'Growth Data'!$A:$Z,7,0)),0,VLOOKUP($A239+8860000,'Growth Data'!$A:$Z,7,0)),0)","v":0},0,null,"NO",{"$f":"IF(ISERROR(VLOOKUP($A239+8860000,'Growth Data'!$A:$F,5,0)),\"NO\",VLOOKUP($A239+8860000,'Growth Data'!$A:$F,5,0))","v":"NO"},0,null,0,{"$f":"IF(CC239=\"YES\",IF(ISERROR(VLOOKUP($A239+8860000,'Growth Data'!$A:$Z,8,0)),0,VLOOKUP($A239+8860000,'Growth Data'!$A:$Z,8,0)),0)","v":0},0,null,null,null,0]
[3313,"Fordcombe CEP School",null,"Fordcombe CEP School","Fordcombe CEP School",0,null,432491.94,432491.94478023256,0,null,0,0,0,null,432491.94,432491.94478023256,0,null,2608.0100000000002,2608.01263990288,0,null,null,null,0,null,0,0,0,null,117103.81,null,117104,null,0,null,0,null,0,null,0,null,0,null,0,null,null,null,0,null,null,null,0,null,null,null,0,null,null,null,0,null,"NO",{"$f":"IF(ISERROR(VLOOKUP($A240+8860000,'Growth Data'!$A:$F,3,0)),\"NO\",VLOOKUP($A240+8860000,'Growth Data'!$A:$F,3,0))","v":"NO"},0,null,0,{"$f":"IF(BM240=\"YES\",IF(ISERROR(VLOOKUP($A240+8860000,'Growth Data'!$A:$F,6,0)),0,VLOOKUP($A240+8860000,'Growth Data'!$A:$F,6,0)),0)","v":0},0,null,"NO",{"$f":"IF(ISERROR(VLOOKUP($A240+8860000,'Growth Data'!$A:$F,4,0)),\"NO\",VLOOKUP($A240+8860000,'Growth Data'!$A:$F,4,0))","v":"NO"},0,null,0,{"$f":"IF(BU240=\"YES\",IF(ISERROR(VLOOKUP($A240+8860000,'Growth Data'!$A:$Z,7,0)),0,VLOOKUP($A240+8860000,'Growth Data'!$A:$Z,7,0)),0)","v":0},0,null,"NO",{"$f":"IF(ISERROR(VLOOKUP($A240+8860000,'Growth Data'!$A:$F,5,0)),\"NO\",VLOOKUP($A240+8860000,'Growth Data'!$A:$F,5,0))","v":"NO"},0,null,0,{"$f":"IF(CC240=\"YES\",IF(ISERROR(VLOOKUP($A240+8860000,'Growth Data'!$A:$Z,8,0)),0,VLOOKUP($A240+8860000,'Growth Data'!$A:$Z,8,0)),0)","v":0},0,null,null,null,0]
[3314,"Penshurst CEP School",null,"Penshurst CEP School","Penshurst CEP School",0,null,434231.82,434231.81796168489,0,null,0,0,0,null,434231.82,434231.81796168489,0,null,2661.24,2661.2373876559996,0,null,null,null,0,null,0,0,0,null,98884.66,null,98885,null,0,null,0,null,0,null,0,null,0,null,0,null,null,null,0,null,null,null,0,null,null,null,0,null,null,null,0,null,"YES",{"$f":"IF(ISERROR(VLOOKUP($A241+8860000,'Growth Data'!$A:$F,3,0)),\"NO\",VLOOKUP($A241+8860000,'Growth Data'!$A:$F,3,0))","v":"NO"},1,null,60,{"$f":"IF(BM241=\"YES\",IF(ISERROR(VLOOKUP($A241+8860000,'Growth Data'!$A:$F,6,0)),0,VLOOKUP($A241+8860000,'Growth Data'!$A:$F,6,0)),0)","v":0},60,null,"YES",{"$f":"IF(ISERROR(VLOOKUP($A241+8860000,'Growth Data'!$A:$F,4,0)),\"NO\",VLOOKUP($A241+8860000,'Growth Data'!$A:$F,4,0))","v":"NO"},1,null,63,{"$f":"IF(BU241=\"YES\",IF(ISERROR(VLOOKUP($A241+8860000,'Growth Data'!$A:$Z,7,0)),0,VLOOKUP($A241+8860000,'Growth Data'!$A:$Z,7,0)),0)","v":0},63,null,"YES",{"$f":"IF(ISERROR(VLOOKUP($A241+8860000,'Growth Data'!$A:$F,5,0)),\"NO\",VLOOKUP($A241+8860000,'Growth Data'!$A:$F,5,0))","v":"NO"},1,null,60,{"$f":"IF(CC241=\"YES\",IF(ISERROR(VLOOKUP($A241+8860000,'Growth Data'!$A:$Z,8,0)),0,VLOOKUP($A241+8860000,'Growth Data'!$A:$Z,8,0)),0)","v":0},60,null,null,null,0]
[3317,"Lady Boswell's CEP School, Sevenoaks",null,"Lady Boswell's CEP School, Sevenoaks","Lady Boswell's CEP School, Sevenoaks",0,null,1273230,1273230,0,null,0,0,0,null,1273230,1273230,0,null,9899.7999999999993,9899.8030820803178,0,null,null,null,0,null,0,0,0,null,35158.79,null,35159,null,2484.12,null,2484,null,0,null,0,null,0,null,0,null,null,null,0,null,null,null,0,null,null,null,0,null,null,null,0,null,"NO",{"$f":"IF(ISERROR(VLOOKUP($A242+8860000,'Growth Data'!$A:$F,3,0)),\"NO\",VLOOKUP($A242+8860000,'Growth Data'!$A:$F,3,0))","v":"YES"},1,null,0,{"$f":"IF(BM242=\"YES\",IF(ISERROR(VLOOKUP($A242+8860000,'Growth Data'!$A:$F,6,0)),0,VLOOKUP($A242+8860000,'Growth Data'!$A:$F,6,0)),0)","v":32},-32,null,"NO",{"$f":"IF(ISERROR(VLOOKUP($A242+8860000,'Growth Data'!$A:$F,4,0)),\"NO\",VLOOKUP($A242+8860000,'Growth Data'!$A:$F,4,0))","v":"YES"},1,null,0,{"$f":"IF(BU242=\"YES\",IF(ISERROR(VLOOKUP($A242+8860000,'Growth Data'!$A:$Z,7,0)),0,VLOOKUP($A242+8860000,'Growth Data'!$A:$Z,7,0)),0)","v":60},-60,null,"NO",{"$f":"IF(ISERROR(VLOOKUP($A242+8860000,'Growth Data'!$A:$F,5,0)),\"NO\",VLOOKUP($A242+8860000,'Growth Data'!$A:$F,5,0))","v":"NO"},0,null,0,{"$f":"IF(CC242=\"YES\",IF(ISERROR(VLOOKUP($A242+8860000,'Growth Data'!$A:$Z,8,0)),0,VLOOKUP($A242+8860000,'Growth Data'!$A:$Z,8,0)),0)","v":0},0,null,null,null,0]
[3318,"Ide Hill CEP School",null,"Ide Hill CEP School","Ide Hill CEP School",0,null,542679.48,542679.47788890149,0,null,0,0,0,null,542679.48,542679.47788890149,0,null,3645.9,3645.8952210887201,0,null,null,null,0,null,0,0,0,null,161983.31,null,161983,null,0,null,0,null,0,null,0,null,0,null,0,null,null,null,0,null,null,null,0,null,null,null,0,null,null,null,0,null,"YES",{"$f":"IF(ISERROR(VLOOKUP($A243+8860000,'Growth Data'!$A:$F,3,0)),\"NO\",VLOOKUP($A243+8860000,'Growth Data'!$A:$F,3,0))","v":"NO"},1,null,30,{"$f":"IF(BM243=\"YES\",IF(ISERROR(VLOOKUP($A243+8860000,'Growth Data'!$A:$F,6,0)),0,VLOOKUP($A243+8860000,'Growth Data'!$A:$F,6,0)),0)","v":0},30,null,"NO",{"$f":"IF(ISERROR(VLOOKUP($A243+8860000,'Growth Data'!$A:$F,4,0)),\"NO\",VLOOKUP($A243+8860000,'Growth Data'!$A:$F,4,0))","v":"NO"},0,null,0,{"$f":"IF(BU243=\"YES\",IF(ISERROR(VLOOKUP($A243+8860000,'Growth Data'!$A:$Z,7,0)),0,VLOOKUP($A243+8860000,'Growth Data'!$A:$Z,7,0)),0)","v":0},0,null,"NO",{"$f":"IF(ISERROR(VLOOKUP($A243+8860000,'Growth Data'!$A:$F,5,0)),\"NO\",VLOOKUP($A243+8860000,'Growth Data'!$A:$F,5,0))","v":"NO"},0,null,0,{"$f":"IF(CC243=\"YES\",IF(ISERROR(VLOOKUP($A243+8860000,'Growth Data'!$A:$Z,8,0)),0,VLOOKUP($A243+8860000,'Growth Data'!$A:$Z,8,0)),0)","v":0},0,null,null,null,0]
[3320,"St Barnabas CEP School",null,"St Barnabas CEP School","St Barnabas CEP School",0,null,753772.36,753772.35712786438,0,null,64727.11,64727.111618378316,0,null,818499.47,818499.4687462427,0,null,5109.8599999999997,5109.8633746000005,0,null,null,null,0,null,0,0,0,null,49253.03,null,49253,null,1074.7,null,1075,null,0,null,0,null,0,null,0,null,null,null,0,null,null,null,0,null,null,null,0,null,null,null,0,null,"YES",{"$f":"IF(ISERROR(VLOOKUP($A244+8860000,'Growth Data'!$A:$F,3,0)),\"NO\",VLOOKUP($A244+8860000,'Growth Data'!$A:$F,3,0))","v":"NO"},1,null,27,{"$f":"IF(BM244=\"YES\",IF(ISERROR(VLOOKUP($A244+8860000,'Growth Data'!$A:$F,6,0)),0,VLOOKUP($A244+8860000,'Growth Data'!$A:$F,6,0)),0)","v":0},27,null,"NO",{"$f":"IF(ISERROR(VLOOKUP($A244+8860000,'Growth Data'!$A:$F,4,0)),\"NO\",VLOOKUP($A244+8860000,'Growth Data'!$A:$F,4,0))","v":"NO"},0,null,0,{"$f":"IF(BU244=\"YES\",IF(ISERROR(VLOOKUP($A244+8860000,'Growth Data'!$A:$Z,7,0)),0,VLOOKUP($A244+8860000,'Growth Data'!$A:$Z,7,0)),0)","v":0},0,null,"NO",{"$f":"IF(ISERROR(VLOOKUP($A244+8860000,'Growth Data'!$A:$F,5,0)),\"NO\",VLOOKUP($A244+8860000,'Growth Data'!$A:$F,5,0))","v":"NO"},0,null,0,{"$f":"IF(CC244=\"YES\",IF(ISERROR(VLOOKUP($A244+8860000,'Growth Data'!$A:$Z,8,0)),0,VLOOKUP($A244+8860000,'Growth Data'!$A:$Z,8,0)),0)","v":0},0,null,null,null,0]
[3322,"St James' CEI School",null,"St James' CEI School","St James' CEI School",0,null,962703.76,962703.75514640636,0,null,0,0,0,null,962703.76,962703.75514640636,0,null,6932.98,6932.980458,0,null,null,null,0,null,0,0,0,null,33604.58,null,33605,null,2639.54,null,2640,null,0,null,0,null,0,null,0,null,null,null,0,null,null,null,0,null,null,null,0,null,null,null,0,null,"NO",{"$f":"IF(ISERROR(VLOOKUP($A245+8860000,'Growth Data'!$A:$F,3,0)),\"NO\",VLOOKUP($A245+8860000,'Growth Data'!$A:$F,3,0))","v":"NO"},0,null,0,{"$f":"IF(BM245=\"YES\",IF(ISERROR(VLOOKUP($A245+8860000,'Growth Data'!$A:$F,6,0)),0,VLOOKUP($A245+8860000,'Growth Data'!$A:$F,6,0)),0)","v":0},0,null,"NO",{"$f":"IF(ISERROR(VLOOKUP($A245+8860000,'Growth Data'!$A:$F,4,0)),\"NO\",VLOOKUP($A245+8860000,'Growth Data'!$A:$F,4,0))","v":"NO"},0,null,0,{"$f":"IF(BU245=\"YES\",IF(ISERROR(VLOOKUP($A245+8860000,'Growth Data'!$A:$Z,7,0)),0,VLOOKUP($A245+8860000,'Growth Data'!$A:$Z,7,0)),0)","v":0},0,null,"NO",{"$f":"IF(ISERROR(VLOOKUP($A245+8860000,'Growth Data'!$A:$F,5,0)),\"NO\",VLOOKUP($A245+8860000,'Growth Data'!$A:$F,5,0))","v":"NO"},0,null,0,{"$f":"IF(CC245=\"YES\",IF(ISERROR(VLOOKUP($A245+8860000,'Growth Data'!$A:$Z,8,0)),0,VLOOKUP($A245+8860000,'Growth Data'!$A:$Z,8,0)),0)","v":0},0,null,null,null,0]
[3323,"Hunton CEP School",null,"Hunton CEP School","Hunton CEP School",0,null,405938.83,405938.83260569535,0,null,0,0,0,null,405938.83,405938.83260569535,0,null,2439.38,2439.3820129999999,0,null,null,null,0,null,0,0,0,null,23011.66,null,23012,null,3698.83,null,3699,null,0,null,0,null,0,null,0,null,null,null,0,null,null,null,0,null,null,null,0,null,null,null,0,null,"NO",{"$f":"IF(ISERROR(VLOOKUP($A246+8860000,'Growth Data'!$A:$F,3,0)),\"NO\",VLOOKUP($A246+8860000,'Growth Data'!$A:$F,3,0))","v":"NO"},0,null,0,{"$f":"IF(BM246=\"YES\",IF(ISERROR(VLOOKUP($A246+8860000,'Growth Data'!$A:$F,6,0)),0,VLOOKUP($A246+8860000,'Growth Data'!$A:$F,6,0)),0)","v":0},0,null,"NO",{"$f":"IF(ISERROR(VLOOKUP($A246+8860000,'Growth Data'!$A:$F,4,0)),\"NO\",VLOOKUP($A246+8860000,'Growth Data'!$A:$F,4,0))","v":"NO"},0,null,0,{"$f":"IF(BU246=\"YES\",IF(ISERROR(VLOOKUP($A246+8860000,'Growth Data'!$A:$Z,7,0)),0,VLOOKUP($A246+8860000,'Growth Data'!$A:$Z,7,0)),0)","v":0},0,null,"NO",{"$f":"IF(ISERROR(VLOOKUP($A246+8860000,'Growth Data'!$A:$F,5,0)),\"NO\",VLOOKUP($A246+8860000,'Growth Data'!$A:$F,5,0))","v":"NO"},0,null,0,{"$f":"IF(CC246=\"YES\",IF(ISERROR(VLOOKUP($A246+8860000,'Growth Data'!$A:$Z,8,0)),0,VLOOKUP($A246+8860000,'Growth Data'!$A:$Z,8,0)),0)","v":0},0,null,null,null,0]
[3325,"Platt CEP School",null,"Platt CEP School","Platt CEP School",0,null,563234.65,563234.64854615717,0,null,0,0,0,null,563234.65,563234.64854615717,0,null,3748.95,3748.9449883999996,0,null,null,null,0,null,0,0,0,null,40510.230000000003,null,40510,null,1948.98,null,1949,null,0,null,0,null,0,null,0,null,null,null,0,null,null,null,0,null,null,null,0,null,null,null,0,null,"NO",{"$f":"IF(ISERROR(VLOOKUP($A247+8860000,'Growth Data'!$A:$F,3,0)),\"NO\",VLOOKUP($A247+8860000,'Growth Data'!$A:$F,3,0))","v":"NO"},0,null,0,{"$f":"IF(BM247=\"YES\",IF(ISERROR(VLOOKUP($A247+8860000,'Growth Data'!$A:$F,6,0)),0,VLOOKUP($A247+8860000,'Growth Data'!$A:$F,6,0)),0)","v":0},0,null,"NO",{"$f":"IF(ISERROR(VLOOKUP($A247+8860000,'Growth Data'!$A:$F,4,0)),\"NO\",VLOOKUP($A247+8860000,'Growth Data'!$A:$F,4,0))","v":"NO"},0,null,0,{"$f":"IF(BU247=\"YES\",IF(ISERROR(VLOOKUP($A247+8860000,'Growth Data'!$A:$Z,7,0)),0,VLOOKUP($A247+8860000,'Growth Data'!$A:$Z,7,0)),0)","v":0},0,null,"NO",{"$f":"IF(ISERROR(VLOOKUP($A247+8860000,'Growth Data'!$A:$F,5,0)),\"NO\",VLOOKUP($A247+8860000,'Growth Data'!$A:$F,5,0))","v":"NO"},0,null,0,{"$f":"IF(CC247=\"YES\",IF(ISERROR(VLOOKUP($A247+8860000,'Growth Data'!$A:$Z,8,0)),0,VLOOKUP($A247+8860000,'Growth Data'!$A:$Z,8,0)),0)","v":0},0,null,null,null,0]
[3328,"Bapchild & Tonge CEP School",null,"Bapchild & Tonge CEP School","Bapchild & Tonge CEP School",0,null,756102.18,756102.18020719686,0,null,0,0,0,null,756102.18,756102.18020719686,0,null,5186.8999999999996,5186.8964907999998,0,null,null,null,0,null,0,0,0,null,39404.81,null,39405,null,2059.52,null,2060,null,0,null,0,null,0,null,0,null,null,null,0,null,null,null,0,null,null,null,0,null,null,null,0,null,"NO",{"$f":"IF(ISERROR(VLOOKUP($A248+8860000,'Growth Data'!$A:$F,3,0)),\"NO\",VLOOKUP($A248+8860000,'Growth Data'!$A:$F,3,0))","v":"NO"},0,null,0,{"$f":"IF(BM248=\"YES\",IF(ISERROR(VLOOKUP($A248+8860000,'Growth Data'!$A:$F,6,0)),0,VLOOKUP($A248+8860000,'Growth Data'!$A:$F,6,0)),0)","v":0},0,null,"NO",{"$f":"IF(ISERROR(VLOOKUP($A248+8860000,'Growth Data'!$A:$F,4,0)),\"NO\",VLOOKUP($A248+8860000,'Growth Data'!$A:$F,4,0))","v":"NO"},0,null,0,{"$f":"IF(BU248=\"YES\",IF(ISERROR(VLOOKUP($A248+8860000,'Growth Data'!$A:$Z,7,0)),0,VLOOKUP($A248+8860000,'Growth Data'!$A:$Z,7,0)),0)","v":0},0,null,"NO",{"$f":"IF(ISERROR(VLOOKUP($A248+8860000,'Growth Data'!$A:$F,5,0)),\"NO\",VLOOKUP($A248+8860000,'Growth Data'!$A:$F,5,0))","v":"NO"},0,null,0,{"$f":"IF(CC248=\"YES\",IF(ISERROR(VLOOKUP($A248+8860000,'Growth Data'!$A:$Z,8,0)),0,VLOOKUP($A248+8860000,'Growth Data'!$A:$Z,8,0)),0)","v":0},0,null,null,null,0]
[3332,"Hartlip Endowed CEP School",null,"Hartlip Endowed CEP School","Hartlip Endowed CEP School",0,null,437473.83,437473.83047884161,0,null,0,0,0,null,437473.83,437473.83047884161,0,null,2670.48,2670.4813615999997,0,null,null,null,0,null,0,0,0,null,25255.89,null,25256,null,3474.41,null,3474,null,0,null,0,null,0,null,0,null,null,null,0,null,null,null,0,null,null,null,0,null,null,null,0,null,"NO",{"$f":"IF(ISERROR(VLOOKUP($A249+8860000,'Growth Data'!$A:$F,3,0)),\"NO\",VLOOKUP($A249+8860000,'Growth Data'!$A:$F,3,0))","v":"NO"},0,null,0,{"$f":"IF(BM249=\"YES\",IF(ISERROR(VLOOKUP($A249+8860000,'Growth Data'!$A:$F,6,0)),0,VLOOKUP($A249+8860000,'Growth Data'!$A:$F,6,0)),0)","v":0},0,null,"NO",{"$f":"IF(ISERROR(VLOOKUP($A249+8860000,'Growth Data'!$A:$F,4,0)),\"NO\",VLOOKUP($A249+8860000,'Growth Data'!$A:$F,4,0))","v":"NO"},0,null,0,{"$f":"IF(BU249=\"YES\",IF(ISERROR(VLOOKUP($A249+8860000,'Growth Data'!$A:$Z,7,0)),0,VLOOKUP($A249+8860000,'Growth Data'!$A:$Z,7,0)),0)","v":0},0,null,"NO",{"$f":"IF(ISERROR(VLOOKUP($A249+8860000,'Growth Data'!$A:$F,5,0)),\"NO\",VLOOKUP($A249+8860000,'Growth Data'!$A:$F,5,0))","v":"NO"},0,null,0,{"$f":"IF(CC249=\"YES\",IF(ISERROR(VLOOKUP($A249+8860000,'Growth Data'!$A:$Z,8,0)),0,VLOOKUP($A249+8860000,'Growth Data'!$A:$Z,8,0)),0)","v":0},0,null,null,null,0]
[3337,"Tunstall CEP School",null,"Tunstall CEP School","Tunstall CEP School",0,null,1017833,1017833,0,null,0,0,0,null,1017833,1017833,0,null,7600.6,7600.6007983999989,0,null,null,null,0,null,0,0,0,null,22371.84,null,22372,null,3762.82,null,3763,null,75000,null,75000,null,112500,null,112500,null,null,null,0,null,null,null,0,null,null,null,0,null,null,null,0,null,"NO",{"$f":"IF(ISERROR(VLOOKUP($A250+8860000,'Growth Data'!$A:$F,3,0)),\"NO\",VLOOKUP($A250+8860000,'Growth Data'!$A:$F,3,0))","v":"YES"},1,null,0,{"$f":"IF(BM250=\"YES\",IF(ISERROR(VLOOKUP($A250+8860000,'Growth Data'!$A:$F,6,0)),0,VLOOKUP($A250+8860000,'Growth Data'!$A:$F,6,0)),0)","v":30},-30,null,"NO",{"$f":"IF(ISERROR(VLOOKUP($A250+8860000,'Growth Data'!$A:$F,4,0)),\"NO\",VLOOKUP($A250+8860000,'Growth Data'!$A:$F,4,0))","v":"YES"},1,null,0,{"$f":"IF(BU250=\"YES\",IF(ISERROR(VLOOKUP($A250+8860000,'Growth Data'!$A:$Z,7,0)),0,VLOOKUP($A250+8860000,'Growth Data'!$A:$Z,7,0)),0)","v":60},-60,null,"NO",{"$f":"IF(ISERROR(VLOOKUP($A250+8860000,'Growth Data'!$A:$F,5,0)),\"NO\",VLOOKUP($A250+8860000,'Growth Data'!$A:$F,5,0))","v":"YES"},1,null,0,{"$f":"IF(CC250=\"YES\",IF(ISERROR(VLOOKUP($A250+8860000,'Growth Data'!$A:$Z,8,0)),0,VLOOKUP($A250+8860000,'Growth Data'!$A:$Z,8,0)),0)","v":30},-30,null,null,null,0]
[3338,"Herne CEJ School",null,"Herne CEJ School","Herne CEJ School",0,null,1241743,1241743,0,null,0,0,0,null,1241743,1241743,0,null,9321.01,9321.0070601999996,0,null,null,null,0,null,0,0,0,null,40421.279999999999,null,40421,null,1957.87,null,1958,null,0,null,0,null,0,null,0,null,null,null,0,null,null,null,0,null,null,null,0,null,null,null,0,null,"YES",{"$f":"IF(ISERROR(VLOOKUP($A251+8860000,'Growth Data'!$A:$F,3,0)),\"NO\",VLOOKUP($A251+8860000,'Growth Data'!$A:$F,3,0))","v":"NO"},1,null,32,{"$f":"IF(BM251=\"YES\",IF(ISERROR(VLOOKUP($A251+8860000,'Growth Data'!$A:$F,6,0)),0,VLOOKUP($A251+8860000,'Growth Data'!$A:$F,6,0)),0)","v":0},32,null,"YES",{"$f":"IF(ISERROR(VLOOKUP($A251+8860000,'Growth Data'!$A:$F,4,0)),\"NO\",VLOOKUP($A251+8860000,'Growth Data'!$A:$F,4,0))","v":"NO"},1,null,32,{"$f":"IF(BU251=\"YES\",IF(ISERROR(VLOOKUP($A251+8860000,'Growth Data'!$A:$Z,7,0)),0,VLOOKUP($A251+8860000,'Growth Data'!$A:$Z,7,0)),0)","v":0},32,null,"YES",{"$f":"IF(ISERROR(VLOOKUP($A251+8860000,'Growth Data'!$A:$F,5,0)),\"NO\",VLOOKUP($A251+8860000,'Growth Data'!$A:$F,5,0))","v":"NO"},1,null,32,{"$f":"IF(CC251=\"YES\",IF(ISERROR(VLOOKUP($A251+8860000,'Growth Data'!$A:$Z,8,0)),0,VLOOKUP($A251+8860000,'Growth Data'!$A:$Z,8,0)),0)","v":0},32,null,null,null,0]
[3339,"Whitstable & Seasalter Endowed CEJ School",null,"Whitstable & Seasalter Endowed CEJ School","Whitstable & Seasalter Endowed CEJ School",0,null,707260.31,707260.30836920452,0,null,0,0,0,null,707260.31,707260.30836920452,0,null,4981.47,4981.4748475999986,0,null,null,null,0,null,0,0,0,null,26455.599999999999,null,26456,null,3354.44,null,3354,null,0,null,0,null,0,null,0,null,null,null,0,null,null,null,0,null,null,null,0,null,null,null,0,null,"NO",{"$f":"IF(ISERROR(VLOOKUP($A252+8860000,'Growth Data'!$A:$F,3,0)),\"NO\",VLOOKUP($A252+8860000,'Growth Data'!$A:$F,3,0))","v":"NO"},0,null,0,{"$f":"IF(BM252=\"YES\",IF(ISERROR(VLOOKUP($A252+8860000,'Growth Data'!$A:$F,6,0)),0,VLOOKUP($A252+8860000,'Growth Data'!$A:$F,6,0)),0)","v":0},0,null,"NO",{"$f":"IF(ISERROR(VLOOKUP($A252+8860000,'Growth Data'!$A:$F,4,0)),\"NO\",VLOOKUP($A252+8860000,'Growth Data'!$A:$F,4,0))","v":"NO"},0,null,0,{"$f":"IF(BU252=\"YES\",IF(ISERROR(VLOOKUP($A252+8860000,'Growth Data'!$A:$Z,7,0)),0,VLOOKUP($A252+8860000,'Growth Data'!$A:$Z,7,0)),0)","v":0},0,null,"NO",{"$f":"IF(ISERROR(VLOOKUP($A252+8860000,'Growth Data'!$A:$F,5,0)),\"NO\",VLOOKUP($A252+8860000,'Growth Data'!$A:$F,5,0))","v":"NO"},0,null,0,{"$f":"IF(CC252=\"YES\",IF(ISERROR(VLOOKUP($A252+8860000,'Growth Data'!$A:$Z,8,0)),0,VLOOKUP($A252+8860000,'Growth Data'!$A:$Z,8,0)),0)","v":0},0,null,null,null,0]
[3340,"St Mary's CEP School, Ashford",null,"St Mary's CEP School, Ashford","St Mary's CEP School, Ashford",0,null,1508636.76,1508636.7626552125,0,null,0,0,0,null,1508636.76,1508636.7626552125,0,null,10784.64,10784.636268,0,null,null,null,0,null,0,0,0,null,53722.02,null,53722,null,627.79999999999995,null,628,null,0,null,0,null,0,null,0,null,null,null,0,null,null,null,0,null,null,null,0,null,null,null,0,null,"NO",{"$f":"IF(ISERROR(VLOOKUP($A253+8860000,'Growth Data'!$A:$F,3,0)),\"NO\",VLOOKUP($A253+8860000,'Growth Data'!$A:$F,3,0))","v":"NO"},0,null,0,{"$f":"IF(BM253=\"YES\",IF(ISERROR(VLOOKUP($A253+8860000,'Growth Data'!$A:$F,6,0)),0,VLOOKUP($A253+8860000,'Growth Data'!$A:$F,6,0)),0)","v":0},0,null,"NO",{"$f":"IF(ISERROR(VLOOKUP($A253+8860000,'Growth Data'!$A:$F,4,0)),\"NO\",VLOOKUP($A253+8860000,'Growth Data'!$A:$F,4,0))","v":"NO"},0,null,0,{"$f":"IF(BU253=\"YES\",IF(ISERROR(VLOOKUP($A253+8860000,'Growth Data'!$A:$Z,7,0)),0,VLOOKUP($A253+8860000,'Growth Data'!$A:$Z,7,0)),0)","v":0},0,null,"NO",{"$f":"IF(ISERROR(VLOOKUP($A253+8860000,'Growth Data'!$A:$F,5,0)),\"NO\",VLOOKUP($A253+8860000,'Growth Data'!$A:$F,5,0))","v":"NO"},0,null,0,{"$f":"IF(CC253=\"YES\",IF(ISERROR(VLOOKUP($A253+8860000,'Growth Data'!$A:$Z,8,0)),0,VLOOKUP($A253+8860000,'Growth Data'!$A:$Z,8,0)),0)","v":0},0,null,null,null,0]
[3346,"Wittersham CEP School",null,"Wittersham CEP School","Wittersham CEP School",0,null,523040.98,523040.98122937884,0,null,0,0,0,null,523040.98,523040.98122937884,0,null,3209.71,3209.7131750000003,0,null,null,null,0,null,0,0,0,null,55348.4,null,55348,null,465.16,null,465,null,0,null,0,null,0,null,0,null,null,null,0,null,null,null,0,null,null,null,0,null,null,null,0,null,"NO",{"$f":"IF(ISERROR(VLOOKUP($A254+8860000,'Growth Data'!$A:$F,3,0)),\"NO\",VLOOKUP($A254+8860000,'Growth Data'!$A:$F,3,0))","v":"NO"},0,null,0,{"$f":"IF(BM254=\"YES\",IF(ISERROR(VLOOKUP($A254+8860000,'Growth Data'!$A:$F,6,0)),0,VLOOKUP($A254+8860000,'Growth Data'!$A:$F,6,0)),0)","v":0},0,null,"NO",{"$f":"IF(ISERROR(VLOOKUP($A254+8860000,'Growth Data'!$A:$F,4,0)),\"NO\",VLOOKUP($A254+8860000,'Growth Data'!$A:$F,4,0))","v":"NO"},0,null,0,{"$f":"IF(BU254=\"YES\",IF(ISERROR(VLOOKUP($A254+8860000,'Growth Data'!$A:$Z,7,0)),0,VLOOKUP($A254+8860000,'Growth Data'!$A:$Z,7,0)),0)","v":0},0,null,"NO",{"$f":"IF(ISERROR(VLOOKUP($A254+8860000,'Growth Data'!$A:$F,5,0)),\"NO\",VLOOKUP($A254+8860000,'Growth Data'!$A:$F,5,0))","v":"NO"},0,null,0,{"$f":"IF(CC254=\"YES\",IF(ISERROR(VLOOKUP($A254+8860000,'Growth Data'!$A:$Z,8,0)),0,VLOOKUP($A254+8860000,'Growth Data'!$A:$Z,8,0)),0)","v":0},0,null,null,null,0]
[3347,"Elham CEP School",null,"Elham CEP School","Elham CEP School",0,null,522764.79,522764.790397587,0,null,0,0,0,null,522764.79,522764.790397587,0,null,3415.13,3415.1348181999992,0,null,null,null,0,null,0,0,0,null,24617.18,null,24617,null,3538.28,null,3538,null,0,null,0,null,0,null,0,null,null,null,0,null,null,null,0,null,null,null,0,null,null,null,0,null,"NO",{"$f":"IF(ISERROR(VLOOKUP($A255+8860000,'Growth Data'!$A:$F,3,0)),\"NO\",VLOOKUP($A255+8860000,'Growth Data'!$A:$F,3,0))","v":"NO"},0,null,0,{"$f":"IF(BM255=\"YES\",IF(ISERROR(VLOOKUP($A255+8860000,'Growth Data'!$A:$F,6,0)),0,VLOOKUP($A255+8860000,'Growth Data'!$A:$F,6,0)),0)","v":0},0,null,"NO",{"$f":"IF(ISERROR(VLOOKUP($A255+8860000,'Growth Data'!$A:$F,4,0)),\"NO\",VLOOKUP($A255+8860000,'Growth Data'!$A:$F,4,0))","v":"NO"},0,null,0,{"$f":"IF(BU255=\"YES\",IF(ISERROR(VLOOKUP($A255+8860000,'Growth Data'!$A:$Z,7,0)),0,VLOOKUP($A255+8860000,'Growth Data'!$A:$Z,7,0)),0)","v":0},0,null,"NO",{"$f":"IF(ISERROR(VLOOKUP($A255+8860000,'Growth Data'!$A:$F,5,0)),\"NO\",VLOOKUP($A255+8860000,'Growth Data'!$A:$F,5,0))","v":"NO"},0,null,0,{"$f":"IF(CC255=\"YES\",IF(ISERROR(VLOOKUP($A255+8860000,'Growth Data'!$A:$Z,8,0)),0,VLOOKUP($A255+8860000,'Growth Data'!$A:$Z,8,0)),0)","v":0},0,null,null,null,0]
[3350,"Saltwood CEP School",null,"Saltwood CEP School","Saltwood CEP School",0,null,773267.18,773267.17678625858,0,null,0,0,0,null,773267.18,773267.17678625858,0,null,5649.1,5649.0951879999984,0,null,null,null,0,null,0,0,0,null,5580,null,5580,null,5442,null,5442,null,0,null,0,null,0,null,0,null,null,null,0,null,null,null,0,null,null,null,0,null,null,null,0,null,"NO",{"$f":"IF(ISERROR(VLOOKUP($A256+8860000,'Growth Data'!$A:$F,3,0)),\"NO\",VLOOKUP($A256+8860000,'Growth Data'!$A:$F,3,0))","v":"NO"},0,null,0,{"$f":"IF(BM256=\"YES\",IF(ISERROR(VLOOKUP($A256+8860000,'Growth Data'!$A:$F,6,0)),0,VLOOKUP($A256+8860000,'Growth Data'!$A:$F,6,0)),0)","v":0},0,null,"NO",{"$f":"IF(ISERROR(VLOOKUP($A256+8860000,'Growth Data'!$A:$F,4,0)),\"NO\",VLOOKUP($A256+8860000,'Growth Data'!$A:$F,4,0))","v":"NO"},0,null,0,{"$f":"IF(BU256=\"YES\",IF(ISERROR(VLOOKUP($A256+8860000,'Growth Data'!$A:$Z,7,0)),0,VLOOKUP($A256+8860000,'Growth Data'!$A:$Z,7,0)),0)","v":0},0,null,"NO",{"$f":"IF(ISERROR(VLOOKUP($A256+8860000,'Growth Data'!$A:$F,5,0)),\"NO\",VLOOKUP($A256+8860000,'Growth Data'!$A:$F,5,0))","v":"NO"},0,null,0,{"$f":"IF(CC256=\"YES\",IF(ISERROR(VLOOKUP($A256+8860000,'Growth Data'!$A:$Z,8,0)),0,VLOOKUP($A256+8860000,'Growth Data'!$A:$Z,8,0)),0)","v":0},0,null,null,null,0]
[3351,"Ash Cartwright and Kelsey CEP School",null,"Ash Cartwright and Kelsey CEP School","Ash Cartwright and Kelsey CEP School",0,null,625833.09,625833.09488971438,0,null,0,0,0,null,625833.09,625833.09488971438,0,null,4211.1400000000003,4211.1436856000009,0,null,null,null,0,null,4.9000000000000004,4.9000000000000004,0,null,36697.35,null,36697,null,2330.2600000000002,null,2330,null,0,null,0,null,0,null,0,null,null,null,0,null,null,null,0,null,null,null,0,null,null,null,0,null,"NO",{"$f":"IF(ISERROR(VLOOKUP($A257+8860000,'Growth Data'!$A:$F,3,0)),\"NO\",VLOOKUP($A257+8860000,'Growth Data'!$A:$F,3,0))","v":"NO"},0,null,0,{"$f":"IF(BM257=\"YES\",IF(ISERROR(VLOOKUP($A257+8860000,'Growth Data'!$A:$F,6,0)),0,VLOOKUP($A257+8860000,'Growth Data'!$A:$F,6,0)),0)","v":0},0,null,"NO",{"$f":"IF(ISERROR(VLOOKUP($A257+8860000,'Growth Data'!$A:$F,4,0)),\"NO\",VLOOKUP($A257+8860000,'Growth Data'!$A:$F,4,0))","v":"NO"},0,null,0,{"$f":"IF(BU257=\"YES\",IF(ISERROR(VLOOKUP($A257+8860000,'Growth Data'!$A:$Z,7,0)),0,VLOOKUP($A257+8860000,'Growth Data'!$A:$Z,7,0)),0)","v":0},0,null,"NO",{"$f":"IF(ISERROR(VLOOKUP($A257+8860000,'Growth Data'!$A:$F,5,0)),\"NO\",VLOOKUP($A257+8860000,'Growth Data'!$A:$F,5,0))","v":"NO"},0,null,0,{"$f":"IF(CC257=\"YES\",IF(ISERROR(VLOOKUP($A257+8860000,'Growth Data'!$A:$Z,8,0)),0,VLOOKUP($A257+8860000,'Growth Data'!$A:$Z,8,0)),0)","v":0},0,null,null,null,0]
[3353,"Deal Parochial CEP School",null,"Deal Parochial CEP School","Deal Parochial CEP School",0,null,781598.08,781598.0777630657,0,null,0,0,0,null,781598.08,781598.0777630657,0,null,5263.93,5263.9296069999991,0,null,null,null,0,null,0,0,0,null,70988.77,null,70989,null,0,null,0,null,0,null,0,null,0,null,0,null,null,null,0,null,null,null,0,null,null,null,0,null,null,null,0,null,"NO",{"$f":"IF(ISERROR(VLOOKUP($A258+8860000,'Growth Data'!$A:$F,3,0)),\"NO\",VLOOKUP($A258+8860000,'Growth Data'!$A:$F,3,0))","v":"NO"},0,null,0,{"$f":"IF(BM258=\"YES\",IF(ISERROR(VLOOKUP($A258+8860000,'Growth Data'!$A:$F,6,0)),0,VLOOKUP($A258+8860000,'Growth Data'!$A:$F,6,0)),0)","v":0},0,null,"NO",{"$f":"IF(ISERROR(VLOOKUP($A258+8860000,'Growth Data'!$A:$F,4,0)),\"NO\",VLOOKUP($A258+8860000,'Growth Data'!$A:$F,4,0))","v":"NO"},0,null,0,{"$f":"IF(BU258=\"YES\",IF(ISERROR(VLOOKUP($A258+8860000,'Growth Data'!$A:$Z,7,0)),0,VLOOKUP($A258+8860000,'Growth Data'!$A:$Z,7,0)),0)","v":0},0,null,"NO",{"$f":"IF(ISERROR(VLOOKUP($A258+8860000,'Growth Data'!$A:$F,5,0)),\"NO\",VLOOKUP($A258+8860000,'Growth Data'!$A:$F,5,0))","v":"NO"},0,null,0,{"$f":"IF(CC258=\"YES\",IF(ISERROR(VLOOKUP($A258+8860000,'Growth Data'!$A:$Z,8,0)),0,VLOOKUP($A258+8860000,'Growth Data'!$A:$Z,8,0)),0)","v":0},0,null,null,null,0]
[3356,"St Mary's CEP School, Dover",null,"St Mary's CEP School, Dover","St Mary's CEP School, Dover",{"$f":"IF(E259=D259,0,1)","v":0},null,893411.85,893411.85001536366,{"$f":"ROUND(H259-I259,0)","v":0},null,0,0,{"$f":"ROUND(L259-M259,0)","v":0},null,893411.85,893411.85001536366,{"$f":"ROUND(P259-Q259,0)","v":0},null,5520.71,5520.7066610000002,{"$f":"ROUND(T259-U259,0)","v":0},null,null,null,{"$f":"ROUND(X259-Y259,0)","v":0},null,0,0,{"$f":"ROUND(AB259-AC259,0)","v":0},null,5580,null,{"$f":"ROUND(AF259-AG259,0)","v":5580},null,5442,null,{"$f":"ROUND(AJ259-AK259,0)","v":5442},null,0,null,{"$f":"ROUND(AN259-AO259,0)","v":0},null,0,null,{"$f":"ROUND(AR259-AS259,0)","v":0},null,null,null,{"$f":"ROUND(AV259-AW259,0)","v":0},null,null,null,{"$f":"ROUND(AZ259-BA259,0)","v":0},null,null,null,{"$f":"ROUND(BD259-BE259,0)","v":0},null,null,null,{"$f":"ROUND(BH259-BI259,0)","v":0},null,"NO",{"$f":"IF(ISERROR(VLOOKUP($A259+8860000,'Growth Data'!$A:$F,3,0)),\"NO\",VLOOKUP($A259+8860000,'Growth Data'!$A:$F,3,0))","v":"NO"},{"$f":"IF(BL259=BM259,0,1)","v":0},null,0,{"$f":"IF(BM259=\"YES\",IF(ISERROR(VLOOKUP($A259+8860000,'Growth Data'!$A:$F,6,0)),0,VLOOKUP($A259+8860000,'Growth Data'!$A:$F,6,0)),0)","v":0},{"$f":"ROUND(BP259-BQ259,0)","v":0},null,"NO",{"$f":"IF(ISERROR(VLOOKUP($A259+8860000,'Growth Data'!$A:$F,4,0)),\"NO\",VLOOKUP($A259+8860000,'Growth Data'!$A:$F,4,0))","v":"NO"},{"$f":"IF(BT259=BU259,0,1)","v":0},null,0,{"$f":"IF(BU259=\"YES\",IF(ISERROR(VLOOKUP($A259+8860000,'Growth Data'!$A:$Z,7,0)),0,VLOOKUP($A259+8860000,'Growth Data'!$A:$Z,7,0)),0)","v":0},{"$f":"ROUND(BX259-BY259,0)","v":0},null,"NO",{"$f":"IF(ISERROR(VLOOKUP($A259+8860000,'Growth Data'!$A:$F,5,0)),\"NO\",VLOOKUP($A259+8860000,'Growth Data'!$A:$F,5,0))","v":"NO"},{"$f":"IF(CB259=CC259,0,1)","v":0},null,0,{"$f":"IF(CC259=\"YES\",IF(ISERROR(VLOOKUP($A259+8860000,'Growth Data'!$A:$Z,8,0)),0,VLOOKUP($A259+8860000,'Growth Data'!$A:$Z,8,0)),0)","v":0},{"$f":"ROUND(CF259-CG259,0)","v":0},null,null,null,{"$f":"ROUND(CJ259-CK259,0)","v":0}]
[3358,"Sholden CEP School",null,"Sholden CEP School","Sholden CEP School",0,null,447011.47,447011.46925779578,0,null,0,0,0,null,447011.47,447011.46925779578,0,null,2721.84,2721.8367724,0,null,null,null,0,null,0,0,0,null,5580,null,5580,null,5442,null,5442,null,0,null,0,null,0,null,0,null,null,null,0,null,null,null,0,null,null,null,0,null,null,null,0,null,"NO",{"$f":"IF(ISERROR(VLOOKUP($A260+8860000,'Growth Data'!$A:$F,3,0)),\"NO\",VLOOKUP($A260+8860000,'Growth Data'!$A:$F,3,0))","v":"NO"},0,null,0,{"$f":"IF(BM260=\"YES\",IF(ISERROR(VLOOKUP($A260+8860000,'Growth Data'!$A:$F,6,0)),0,VLOOKUP($A260+8860000,'Growth Data'!$A:$F,6,0)),0)","v":0},0,null,"NO",{"$f":"IF(ISERROR(VLOOKUP($A260+8860000,'Growth Data'!$A:$F,4,0)),\"NO\",VLOOKUP($A260+8860000,'Growth Data'!$A:$F,4,0))","v":"NO"},0,null,0,{"$f":"IF(BU260=\"YES\",IF(ISERROR(VLOOKUP($A260+8860000,'Growth Data'!$A:$Z,7,0)),0,VLOOKUP($A260+8860000,'Growth Data'!$A:$Z,7,0)),0)","v":0},0,null,"NO",{"$f":"IF(ISERROR(VLOOKUP($A260+8860000,'Growth Data'!$A:$F,5,0)),\"NO\",VLOOKUP($A260+8860000,'Growth Data'!$A:$F,5,0))","v":"NO"},0,null,0,{"$f":"IF(CC260=\"YES\",IF(ISERROR(VLOOKUP($A260+8860000,'Growth Data'!$A:$Z,8,0)),0,VLOOKUP($A260+8860000,'Growth Data'!$A:$Z,8,0)),0)","v":0},0,null,null,null,0]
[3360,"St Peter-in-Thanet CEJ School",null,"St Peter-in-Thanet CEJ School","St Peter-in-Thanet CEJ School",0,null,1336049.71,1336049.7119691852,0,null,0,0,0,null,1336049.71,1336049.7119691852,0,null,9577.7800000000007,9577.7841141999997,0,null,null,null,0,null,0,0,0,null,31458.26,null,31458,null,2854.17,null,2854,null,0,null,0,null,0,null,0,null,null,null,0,null,null,null,0,null,null,null,0,null,null,null,0,null,"NO",{"$f":"IF(ISERROR(VLOOKUP($A261+8860000,'Growth Data'!$A:$F,3,0)),\"NO\",VLOOKUP($A261+8860000,'Growth Data'!$A:$F,3,0))","v":"NO"},0,null,0,{"$f":"IF(BM261=\"YES\",IF(ISERROR(VLOOKUP($A261+8860000,'Growth Data'!$A:$F,6,0)),0,VLOOKUP($A261+8860000,'Growth Data'!$A:$F,6,0)),0)","v":0},0,null,"NO",{"$f":"IF(ISERROR(VLOOKUP($A261+8860000,'Growth Data'!$A:$F,4,0)),\"NO\",VLOOKUP($A261+8860000,'Growth Data'!$A:$F,4,0))","v":"NO"},0,null,0,{"$f":"IF(BU261=\"YES\",IF(ISERROR(VLOOKUP($A261+8860000,'Growth Data'!$A:$Z,7,0)),0,VLOOKUP($A261+8860000,'Growth Data'!$A:$Z,7,0)),0)","v":0},0,null,"NO",{"$f":"IF(ISERROR(VLOOKUP($A261+8860000,'Growth Data'!$A:$F,5,0)),\"NO\",VLOOKUP($A261+8860000,'Growth Data'!$A:$F,5,0))","v":"NO"},0,null,0,{"$f":"IF(CC261=\"YES\",IF(ISERROR(VLOOKUP($A261+8860000,'Growth Data'!$A:$Z,8,0)),0,VLOOKUP($A261+8860000,'Growth Data'!$A:$Z,8,0)),0)","v":0},0,null,null,null,0]
[3364,"Ramsgate, Holy Trinity CEP School",null,"Ramsgate, Holy Trinity CEP School","Ramsgate, Holy Trinity CEP School",0,null,775371.75,775371.75429207576,0,null,0,0,0,null,775371.75,775371.75429207576,0,null,5392.32,5392.3181340000001,0,null,null,null,0,null,0,0,0,null,53581.73,null,53582,null,641.83000000000004,null,642,null,0,null,0,null,0,null,0,null,null,null,0,null,null,null,0,null,null,null,0,null,null,null,0,null,"NO",{"$f":"IF(ISERROR(VLOOKUP($A262+8860000,'Growth Data'!$A:$F,3,0)),\"NO\",VLOOKUP($A262+8860000,'Growth Data'!$A:$F,3,0))","v":"NO"},0,null,0,{"$f":"IF(BM262=\"YES\",IF(ISERROR(VLOOKUP($A262+8860000,'Growth Data'!$A:$F,6,0)),0,VLOOKUP($A262+8860000,'Growth Data'!$A:$F,6,0)),0)","v":0},0,null,"YES",{"$f":"IF(ISERROR(VLOOKUP($A262+8860000,'Growth Data'!$A:$F,4,0)),\"NO\",VLOOKUP($A262+8860000,'Growth Data'!$A:$F,4,0))","v":"NO"},1,null,30,{"$f":"IF(BU262=\"YES\",IF(ISERROR(VLOOKUP($A262+8860000,'Growth Data'!$A:$Z,7,0)),0,VLOOKUP($A262+8860000,'Growth Data'!$A:$Z,7,0)),0)","v":0},30,null,"YES",{"$f":"IF(ISERROR(VLOOKUP($A262+8860000,'Growth Data'!$A:$F,5,0)),\"NO\",VLOOKUP($A262+8860000,'Growth Data'!$A:$F,5,0))","v":"NO"},1,null,30,{"$f":"IF(CC262=\"YES\",IF(ISERROR(VLOOKUP($A262+8860000,'Growth Data'!$A:$Z,8,0)),0,VLOOKUP($A262+8860000,'Growth Data'!$A:$Z,8,0)),0)","v":0},30,null,null,null,0]
[3373,"St Mary's CEP School",null,"St Mary's CEP School","St Mary's CEP School",0,null,866657.33,866657.32513030386,0,null,0,0,0,null,866657.33,866657.32513030386,0,null,5295.86,5295.86240143544,0,null,null,null,0,null,4.91,4.91,0,null,70243.12,null,70243,null,0,null,0,null,0,null,0,null,0,null,0,null,null,null,0,null,null,null,0,null,null,null,0,null,null,null,0,null,"NO",{"$f":"IF(ISERROR(VLOOKUP($A263+8860000,'Growth Data'!$A:$F,3,0)),\"NO\",VLOOKUP($A263+8860000,'Growth Data'!$A:$F,3,0))","v":"NO"},0,null,0,{"$f":"IF(BM263=\"YES\",IF(ISERROR(VLOOKUP($A263+8860000,'Growth Data'!$A:$F,6,0)),0,VLOOKUP($A263+8860000,'Growth Data'!$A:$F,6,0)),0)","v":0},0,null,"NO",{"$f":"IF(ISERROR(VLOOKUP($A263+8860000,'Growth Data'!$A:$F,4,0)),\"NO\",VLOOKUP($A263+8860000,'Growth Data'!$A:$F,4,0))","v":"NO"},0,null,0,{"$f":"IF(BU263=\"YES\",IF(ISERROR(VLOOKUP($A263+8860000,'Growth Data'!$A:$Z,7,0)),0,VLOOKUP($A263+8860000,'Growth Data'!$A:$Z,7,0)),0)","v":0},0,null,"NO",{"$f":"IF(ISERROR(VLOOKUP($A263+8860000,'Growth Data'!$A:$F,5,0)),\"NO\",VLOOKUP($A263+8860000,'Growth Data'!$A:$F,5,0))","v":"NO"},0,null,0,{"$f":"IF(CC263=\"YES\",IF(ISERROR(VLOOKUP($A263+8860000,'Growth Data'!$A:$Z,8,0)),0,VLOOKUP($A263+8860000,'Growth Data'!$A:$Z,8,0)),0)","v":0},0,null,null,null,0]
[3718,"St Augustine's Catholic Primary School, Hythe",null,"St Augustine's Catholic Primary School, Hythe","St Augustine's Catholic Primary School, Hythe",0,null,769373.04,769373.03572807042,0,null,0,0,0,null,769373.04,769373.03572807042,0,null,5263.93,5263.9296069999991,0,null,null,null,0,null,0,0,0,null,46425.85,null,46426,null,1357.42,null,1357,null,0,null,0,null,0,null,0,null,null,null,0,null,null,null,0,null,null,null,0,null,null,null,0,null,"NO",{"$f":"IF(ISERROR(VLOOKUP($A264+8860000,'Growth Data'!$A:$F,3,0)),\"NO\",VLOOKUP($A264+8860000,'Growth Data'!$A:$F,3,0))","v":"NO"},0,null,0,{"$f":"IF(BM264=\"YES\",IF(ISERROR(VLOOKUP($A264+8860000,'Growth Data'!$A:$F,6,0)),0,VLOOKUP($A264+8860000,'Growth Data'!$A:$F,6,0)),0)","v":0},0,null,"NO",{"$f":"IF(ISERROR(VLOOKUP($A264+8860000,'Growth Data'!$A:$F,4,0)),\"NO\",VLOOKUP($A264+8860000,'Growth Data'!$A:$F,4,0))","v":"NO"},0,null,0,{"$f":"IF(BU264=\"YES\",IF(ISERROR(VLOOKUP($A264+8860000,'Growth Data'!$A:$Z,7,0)),0,VLOOKUP($A264+8860000,'Growth Data'!$A:$Z,7,0)),0)","v":0},0,null,"NO",{"$f":"IF(ISERROR(VLOOKUP($A264+8860000,'Growth Data'!$A:$F,5,0)),\"NO\",VLOOKUP($A264+8860000,'Growth Data'!$A:$F,5,0))","v":"NO"},0,null,0,{"$f":"IF(CC264=\"YES\",IF(ISERROR(VLOOKUP($A264+8860000,'Growth Data'!$A:$Z,8,0)),0,VLOOKUP($A264+8860000,'Growth Data'!$A:$Z,8,0)),0)","v":0},0,null,null,null,0]
[3722,"St Ethelbert's Catholic Primary School, Ramsgate",null,"St Ethelbert's Catholic Primary School, Ramsgate","St Ethelbert's Catholic Primary School, Ramsgate",0,null,825756.41,825756.40827610134,0,null,0,0,0,null,825756.41,825756.40827610134,0,null,5418,5417.9958393999996,0,null,null,null,0,null,0,0,0,null,168291.81,null,168292,null,0,null,0,null,0,null,0,null,0,null,0,null,null,null,0,null,null,null,0,null,null,null,0,null,null,null,0,null,"NO",{"$f":"IF(ISERROR(VLOOKUP($A265+8860000,'Growth Data'!$A:$F,3,0)),\"NO\",VLOOKUP($A265+8860000,'Growth Data'!$A:$F,3,0))","v":"NO"},0,null,0,{"$f":"IF(BM265=\"YES\",IF(ISERROR(VLOOKUP($A265+8860000,'Growth Data'!$A:$F,6,0)),0,VLOOKUP($A265+8860000,'Growth Data'!$A:$F,6,0)),0)","v":0},0,null,"NO",{"$f":"IF(ISERROR(VLOOKUP($A265+8860000,'Growth Data'!$A:$F,4,0)),\"NO\",VLOOKUP($A265+8860000,'Growth Data'!$A:$F,4,0))","v":"NO"},0,null,0,{"$f":"IF(BU265=\"YES\",IF(ISERROR(VLOOKUP($A265+8860000,'Growth Data'!$A:$Z,7,0)),0,VLOOKUP($A265+8860000,'Growth Data'!$A:$Z,7,0)),0)","v":0},0,null,"NO",{"$f":"IF(ISERROR(VLOOKUP($A265+8860000,'Growth Data'!$A:$F,5,0)),\"NO\",VLOOKUP($A265+8860000,'Growth Data'!$A:$F,5,0))","v":"NO"},0,null,0,{"$f":"IF(CC265=\"YES\",IF(ISERROR(VLOOKUP($A265+8860000,'Growth Data'!$A:$Z,8,0)),0,VLOOKUP($A265+8860000,'Growth Data'!$A:$Z,8,0)),0)","v":0},0,null,null,null,0]
[3728,"St Anselm's Catholic Primary School, Dartford",null,"St Anselm's Catholic Primary School, Dartford","St Anselm's Catholic Primary School, Dartford",0,null,848439.37,848439.36696426885,0,null,0,0,0,null,848439.37,848439.36696426885,0,null,5615.21,5615.2108879541593,0,null,null,null,0,null,0,0,0,null,5580,null,5580,null,5442,null,5442,null,0,null,0,null,0,null,0,null,null,null,0,null,null,null,0,null,null,null,0,null,null,null,0,null,"NO",{"$f":"IF(ISERROR(VLOOKUP($A266+8860000,'Growth Data'!$A:$F,3,0)),\"NO\",VLOOKUP($A266+8860000,'Growth Data'!$A:$F,3,0))","v":"NO"},0,null,0,{"$f":"IF(BM266=\"YES\",IF(ISERROR(VLOOKUP($A266+8860000,'Growth Data'!$A:$F,6,0)),0,VLOOKUP($A266+8860000,'Growth Data'!$A:$F,6,0)),0)","v":0},0,null,"NO",{"$f":"IF(ISERROR(VLOOKUP($A266+8860000,'Growth Data'!$A:$F,4,0)),\"NO\",VLOOKUP($A266+8860000,'Growth Data'!$A:$F,4,0))","v":"NO"},0,null,0,{"$f":"IF(BU266=\"YES\",IF(ISERROR(VLOOKUP($A266+8860000,'Growth Data'!$A:$Z,7,0)),0,VLOOKUP($A266+8860000,'Growth Data'!$A:$Z,7,0)),0)","v":0},0,null,"NO",{"$f":"IF(ISERROR(VLOOKUP($A266+8860000,'Growth Data'!$A:$F,5,0)),\"NO\",VLOOKUP($A266+8860000,'Growth Data'!$A:$F,5,0))","v":"NO"},0,null,0,{"$f":"IF(CC266=\"YES\",IF(ISERROR(VLOOKUP($A266+8860000,'Growth Data'!$A:$Z,8,0)),0,VLOOKUP($A266+8860000,'Growth Data'!$A:$Z,8,0)),0)","v":0},0,null,null,null,0]
[3733,"Our Lady's Catholic Primary School, Dartford",null,"Our Lady's Catholic Primary School, Dartford","Our Lady's Catholic Primary School, Dartford",0,null,819670.61,819670.61230458401,0,null,0,0,0,null,819670.61,819670.61230458401,0,null,5748.27,5748.2727573369593,0,null,null,null,0,null,0,0,0,null,40902.68,null,40903,null,1909.73,null,1910,null,0,null,0,null,0,null,0,null,null,null,0,null,null,null,0,null,null,null,0,null,null,null,0,null,"NO",{"$f":"IF(ISERROR(VLOOKUP($A267+8860000,'Growth Data'!$A:$F,3,0)),\"NO\",VLOOKUP($A267+8860000,'Growth Data'!$A:$F,3,0))","v":"NO"},0,null,0,{"$f":"IF(BM267=\"YES\",IF(ISERROR(VLOOKUP($A267+8860000,'Growth Data'!$A:$F,6,0)),0,VLOOKUP($A267+8860000,'Growth Data'!$A:$F,6,0)),0)","v":0},0,null,"NO",{"$f":"IF(ISERROR(VLOOKUP($A267+8860000,'Growth Data'!$A:$F,4,0)),\"NO\",VLOOKUP($A267+8860000,'Growth Data'!$A:$F,4,0))","v":"NO"},0,null,0,{"$f":"IF(BU267=\"YES\",IF(ISERROR(VLOOKUP($A267+8860000,'Growth Data'!$A:$Z,7,0)),0,VLOOKUP($A267+8860000,'Growth Data'!$A:$Z,7,0)),0)","v":0},0,null,"NO",{"$f":"IF(ISERROR(VLOOKUP($A267+8860000,'Growth Data'!$A:$F,5,0)),\"NO\",VLOOKUP($A267+8860000,'Growth Data'!$A:$F,5,0))","v":"NO"},0,null,0,{"$f":"IF(CC267=\"YES\",IF(ISERROR(VLOOKUP($A267+8860000,'Growth Data'!$A:$Z,8,0)),0,VLOOKUP($A267+8860000,'Growth Data'!$A:$Z,8,0)),0)","v":0},0,null,null,null,0]
[3749,"St Thomas' Catholic Primary School, Canterbury",null,"St Thomas' Catholic Primary School, Canterbury","St Thomas' Catholic Primary School, Canterbury",0,null,810765.95,810765.94518769451,0,null,0,0,0,null,810765.95,810765.94518769451,0,null,5315.29,5315.2850177999999,0,null,null,null,0,null,0,0,0,null,33992.51,null,33993,null,2600.75,null,2601,null,0,null,0,null,0,null,0,null,null,null,0,null,null,null,0,null,null,null,0,null,null,null,0,null,"NO",{"$f":"IF(ISERROR(VLOOKUP($A268+8860000,'Growth Data'!$A:$F,3,0)),\"NO\",VLOOKUP($A268+8860000,'Growth Data'!$A:$F,3,0))","v":"NO"},0,null,0,{"$f":"IF(BM268=\"YES\",IF(ISERROR(VLOOKUP($A268+8860000,'Growth Data'!$A:$F,6,0)),0,VLOOKUP($A268+8860000,'Growth Data'!$A:$F,6,0)),0)","v":0},0,null,"NO",{"$f":"IF(ISERROR(VLOOKUP($A268+8860000,'Growth Data'!$A:$F,4,0)),\"NO\",VLOOKUP($A268+8860000,'Growth Data'!$A:$F,4,0))","v":"NO"},0,null,0,{"$f":"IF(BU268=\"YES\",IF(ISERROR(VLOOKUP($A268+8860000,'Growth Data'!$A:$Z,7,0)),0,VLOOKUP($A268+8860000,'Growth Data'!$A:$Z,7,0)),0)","v":0},0,null,"NO",{"$f":"IF(ISERROR(VLOOKUP($A268+8860000,'Growth Data'!$A:$F,5,0)),\"NO\",VLOOKUP($A268+8860000,'Growth Data'!$A:$F,5,0))","v":"NO"},0,null,0,{"$f":"IF(CC268=\"YES\",IF(ISERROR(VLOOKUP($A268+8860000,'Growth Data'!$A:$Z,8,0)),0,VLOOKUP($A268+8860000,'Growth Data'!$A:$Z,8,0)),0)","v":0},0,null,null,null,0]
[3893,"Phoenix Community Primary School",null,"Phoenix Community Primary School","Phoenix Community Primary School",0,null,892271.8,892271.80286878627,0,null,0,0,0,null,892271.8,892271.80286878627,0,null,5263.93,5263.9296069999991,0,null,null,null,0,null,0,0,0,null,40131.379999999997,null,40131,null,1986.86,null,1987,null,0,null,0,null,0,null,0,null,null,null,0,null,null,null,0,null,null,null,0,null,null,null,0,null,"NO",{"$f":"IF(ISERROR(VLOOKUP($A269+8860000,'Growth Data'!$A:$F,3,0)),\"NO\",VLOOKUP($A269+8860000,'Growth Data'!$A:$F,3,0))","v":"NO"},0,null,0,{"$f":"IF(BM269=\"YES\",IF(ISERROR(VLOOKUP($A269+8860000,'Growth Data'!$A:$F,6,0)),0,VLOOKUP($A269+8860000,'Growth Data'!$A:$F,6,0)),0)","v":0},0,null,"NO",{"$f":"IF(ISERROR(VLOOKUP($A269+8860000,'Growth Data'!$A:$F,4,0)),\"NO\",VLOOKUP($A269+8860000,'Growth Data'!$A:$F,4,0))","v":"NO"},0,null,0,{"$f":"IF(BU269=\"YES\",IF(ISERROR(VLOOKUP($A269+8860000,'Growth Data'!$A:$Z,7,0)),0,VLOOKUP($A269+8860000,'Growth Data'!$A:$Z,7,0)),0)","v":0},0,null,"NO",{"$f":"IF(ISERROR(VLOOKUP($A269+8860000,'Growth Data'!$A:$F,5,0)),\"NO\",VLOOKUP($A269+8860000,'Growth Data'!$A:$F,5,0))","v":"NO"},0,null,0,{"$f":"IF(CC269=\"YES\",IF(ISERROR(VLOOKUP($A269+8860000,'Growth Data'!$A:$Z,8,0)),0,VLOOKUP($A269+8860000,'Growth Data'!$A:$Z,8,0)),0)","v":0},0,null,null,null,0]
[3896,"Downsview Primary",null,"Downsview Primary","Downsview Primary",0,null,850881.38,850881.38166219252,0,null,0,0,0,null,850881.38,850881.38166219252,0,null,5482.15,5482.1490185713592,0,null,null,null,0,null,0,0,0,null,40834.959999999999,null,40835,null,1916.5,null,1917,null,0,null,0,null,0,null,0,null,null,null,0,null,null,null,0,null,null,null,0,null,null,null,0,null,"NO",{"$f":"IF(ISERROR(VLOOKUP($A270+8860000,'Growth Data'!$A:$F,3,0)),\"NO\",VLOOKUP($A270+8860000,'Growth Data'!$A:$F,3,0))","v":"NO"},0,null,0,{"$f":"IF(BM270=\"YES\",IF(ISERROR(VLOOKUP($A270+8860000,'Growth Data'!$A:$F,6,0)),0,VLOOKUP($A270+8860000,'Growth Data'!$A:$F,6,0)),0)","v":0},0,null,"NO",{"$f":"IF(ISERROR(VLOOKUP($A270+8860000,'Growth Data'!$A:$F,4,0)),\"NO\",VLOOKUP($A270+8860000,'Growth Data'!$A:$F,4,0))","v":"NO"},0,null,0,{"$f":"IF(BU270=\"YES\",IF(ISERROR(VLOOKUP($A270+8860000,'Growth Data'!$A:$Z,7,0)),0,VLOOKUP($A270+8860000,'Growth Data'!$A:$Z,7,0)),0)","v":0},0,null,"NO",{"$f":"IF(ISERROR(VLOOKUP($A270+8860000,'Growth Data'!$A:$F,5,0)),\"NO\",VLOOKUP($A270+8860000,'Growth Data'!$A:$F,5,0))","v":"NO"},0,null,0,{"$f":"IF(CC270=\"YES\",IF(ISERROR(VLOOKUP($A270+8860000,'Growth Data'!$A:$Z,8,0)),0,VLOOKUP($A270+8860000,'Growth Data'!$A:$Z,8,0)),0)","v":0},0,null,null,null,0]
[3898,"Greenfields Community Primary School",null,"Greenfields Community Primary School","Greenfields Community Primary School",0,null,1248924.56,1248924.5616480687,0,null,163164.13,163164.12635916122,0,null,1412088.69,1412088.6880072299,0,null,8191.19,8191.1880226000003,0,null,null,null,0,null,5.0599999999999996,5.0599999999999996,0,null,67415.179999999993,null,67415,null,0,null,0,null,0,null,0,null,0,null,0,null,null,null,0,null,null,null,0,null,null,null,0,null,null,null,0,null,"NO",{"$f":"IF(ISERROR(VLOOKUP($A271+8860000,'Growth Data'!$A:$F,3,0)),\"NO\",VLOOKUP($A271+8860000,'Growth Data'!$A:$F,3,0))","v":"NO"},0,null,0,{"$f":"IF(BM271=\"YES\",IF(ISERROR(VLOOKUP($A271+8860000,'Growth Data'!$A:$F,6,0)),0,VLOOKUP($A271+8860000,'Growth Data'!$A:$F,6,0)),0)","v":0},0,null,"NO",{"$f":"IF(ISERROR(VLOOKUP($A271+8860000,'Growth Data'!$A:$F,4,0)),\"NO\",VLOOKUP($A271+8860000,'Growth Data'!$A:$F,4,0))","v":"NO"},0,null,0,{"$f":"IF(BU271=\"YES\",IF(ISERROR(VLOOKUP($A271+8860000,'Growth Data'!$A:$Z,7,0)),0,VLOOKUP($A271+8860000,'Growth Data'!$A:$Z,7,0)),0)","v":0},0,null,"NO",{"$f":"IF(ISERROR(VLOOKUP($A271+8860000,'Growth Data'!$A:$F,5,0)),\"NO\",VLOOKUP($A271+8860000,'Growth Data'!$A:$F,5,0))","v":"NO"},0,null,0,{"$f":"IF(CC271=\"YES\",IF(ISERROR(VLOOKUP($A271+8860000,'Growth Data'!$A:$Z,8,0)),0,VLOOKUP($A271+8860000,'Growth Data'!$A:$Z,8,0)),0)","v":0},0,null,null,null,0]
[3902,"Hythe Bay C of E Primary School",null,"Hythe Bay C of E Primary School","Hythe Bay C of E Primary School",0,null,1515098.56,1515098.5550908349,0,null,0,0,0,null,1515098.56,1515098.5550908349,0,null,10245.4,10245.4044546,0,null,null,null,0,null,0,0,0,null,128504.24,null,128504,null,0,null,0,null,0,null,0,null,0,null,0,null,null,null,0,null,null,null,0,null,null,null,0,null,null,null,0,null,"NO",{"$f":"IF(ISERROR(VLOOKUP($A272+8860000,'Growth Data'!$A:$F,3,0)),\"NO\",VLOOKUP($A272+8860000,'Growth Data'!$A:$F,3,0))","v":"NO"},0,null,0,{"$f":"IF(BM272=\"YES\",IF(ISERROR(VLOOKUP($A272+8860000,'Growth Data'!$A:$F,6,0)),0,VLOOKUP($A272+8860000,'Growth Data'!$A:$F,6,0)),0)","v":0},0,null,"NO",{"$f":"IF(ISERROR(VLOOKUP($A272+8860000,'Growth Data'!$A:$F,4,0)),\"NO\",VLOOKUP($A272+8860000,'Growth Data'!$A:$F,4,0))","v":"NO"},0,null,0,{"$f":"IF(BU272=\"YES\",IF(ISERROR(VLOOKUP($A272+8860000,'Growth Data'!$A:$Z,7,0)),0,VLOOKUP($A272+8860000,'Growth Data'!$A:$Z,7,0)),0)","v":0},0,null,"NO",{"$f":"IF(ISERROR(VLOOKUP($A272+8860000,'Growth Data'!$A:$F,5,0)),\"NO\",VLOOKUP($A272+8860000,'Growth Data'!$A:$F,5,0))","v":"NO"},0,null,0,{"$f":"IF(CC272=\"YES\",IF(ISERROR(VLOOKUP($A272+8860000,'Growth Data'!$A:$Z,8,0)),0,VLOOKUP($A272+8860000,'Growth Data'!$A:$Z,8,0)),0)","v":0},0,null,null,null,0]
[3904,"Castle Hill Community Primary School",null,"Castle Hill Community Primary School","Castle Hill Community Primary School",0,null,1641362.11,1641362.1113175887,0,null,0,0,0,null,1641362.11,1641362.1113175887,0,null,9860.24,9860.2388736000012,0,null,null,null,0,null,5.19,5.19,0,null,33752.639999999999,null,33753,null,2624.74,null,2625,null,0,null,0,null,0,null,0,null,null,null,0,null,null,null,0,null,null,null,0,null,null,null,0,null,"NO",{"$f":"IF(ISERROR(VLOOKUP($A273+8860000,'Growth Data'!$A:$F,3,0)),\"NO\",VLOOKUP($A273+8860000,'Growth Data'!$A:$F,3,0))","v":"NO"},0,null,0,{"$f":"IF(BM273=\"YES\",IF(ISERROR(VLOOKUP($A273+8860000,'Growth Data'!$A:$F,6,0)),0,VLOOKUP($A273+8860000,'Growth Data'!$A:$F,6,0)),0)","v":0},0,null,"NO",{"$f":"IF(ISERROR(VLOOKUP($A273+8860000,'Growth Data'!$A:$F,4,0)),\"NO\",VLOOKUP($A273+8860000,'Growth Data'!$A:$F,4,0))","v":"NO"},0,null,0,{"$f":"IF(BU273=\"YES\",IF(ISERROR(VLOOKUP($A273+8860000,'Growth Data'!$A:$Z,7,0)),0,VLOOKUP($A273+8860000,'Growth Data'!$A:$Z,7,0)),0)","v":0},0,null,"NO",{"$f":"IF(ISERROR(VLOOKUP($A273+8860000,'Growth Data'!$A:$F,5,0)),\"NO\",VLOOKUP($A273+8860000,'Growth Data'!$A:$F,5,0))","v":"NO"},0,null,0,{"$f":"IF(CC273=\"YES\",IF(ISERROR(VLOOKUP($A273+8860000,'Growth Data'!$A:$Z,8,0)),0,VLOOKUP($A273+8860000,'Growth Data'!$A:$Z,8,0)),0)","v":0},0,null,null,null,0]
[3906,"Palace Wood Primary School",null,"Palace Wood Primary School","Palace Wood Primary School",0,null,1445241,1445240.9999999998,0,null,0,0,0,null,1445241,1445240.9999999998,0,null,10707.6,10707.6031518,0,null,null,null,0,null,0,0,0,null,150598.69,null,150599,null,0,null,0,null,0,null,0,null,0,null,0,null,null,null,0,null,null,null,0,null,null,null,0,null,null,null,0,null,"NO",{"$f":"IF(ISERROR(VLOOKUP($A274+8860000,'Growth Data'!$A:$F,3,0)),\"NO\",VLOOKUP($A274+8860000,'Growth Data'!$A:$F,3,0))","v":"NO"},0,null,0,{"$f":"IF(BM274=\"YES\",IF(ISERROR(VLOOKUP($A274+8860000,'Growth Data'!$A:$F,6,0)),0,VLOOKUP($A274+8860000,'Growth Data'!$A:$F,6,0)),0)","v":0},0,null,"NO",{"$f":"IF(ISERROR(VLOOKUP($A274+8860000,'Growth Data'!$A:$F,4,0)),\"NO\",VLOOKUP($A274+8860000,'Growth Data'!$A:$F,4,0))","v":"NO"},0,null,0,{"$f":"IF(BU274=\"YES\",IF(ISERROR(VLOOKUP($A274+8860000,'Growth Data'!$A:$Z,7,0)),0,VLOOKUP($A274+8860000,'Growth Data'!$A:$Z,7,0)),0)","v":0},0,null,"NO",{"$f":"IF(ISERROR(VLOOKUP($A274+8860000,'Growth Data'!$A:$F,5,0)),\"NO\",VLOOKUP($A274+8860000,'Growth Data'!$A:$F,5,0))","v":"NO"},0,null,0,{"$f":"IF(CC274=\"YES\",IF(ISERROR(VLOOKUP($A274+8860000,'Growth Data'!$A:$Z,8,0)),0,VLOOKUP($A274+8860000,'Growth Data'!$A:$Z,8,0)),0)","v":0},0,null,null,null,0]
[3907,"Hextable Primary School",null,"Hextable Primary School","Hextable Primary School",0,null,1579475.11,1579475.1095841317,0,null,0,0,0,null,1579475.11,1579475.1095841317,0,null,11842.51,11842.506375069197,0,null,null,null,0,null,0,0,0,null,66013.929999999993,null,66014,null,0,null,0,null,0,null,0,null,0,null,0,null,null,null,0,null,null,null,0,null,null,null,0,null,null,null,0,null,"NO",{"$f":"IF(ISERROR(VLOOKUP($A275+8860000,'Growth Data'!$A:$F,3,0)),\"NO\",VLOOKUP($A275+8860000,'Growth Data'!$A:$F,3,0))","v":"NO"},0,null,0,{"$f":"IF(BM275=\"YES\",IF(ISERROR(VLOOKUP($A275+8860000,'Growth Data'!$A:$F,6,0)),0,VLOOKUP($A275+8860000,'Growth Data'!$A:$F,6,0)),0)","v":0},0,null,"NO",{"$f":"IF(ISERROR(VLOOKUP($A275+8860000,'Growth Data'!$A:$F,4,0)),\"NO\",VLOOKUP($A275+8860000,'Growth Data'!$A:$F,4,0))","v":"YES"},1,null,0,{"$f":"IF(BU275=\"YES\",IF(ISERROR(VLOOKUP($A275+8860000,'Growth Data'!$A:$Z,7,0)),0,VLOOKUP($A275+8860000,'Growth Data'!$A:$Z,7,0)),0)","v":0},0,null,"NO",{"$f":"IF(ISERROR(VLOOKUP($A275+8860000,'Growth Data'!$A:$F,5,0)),\"NO\",VLOOKUP($A275+8860000,'Growth Data'!$A:$F,5,0))","v":"YES"},1,null,0,{"$f":"IF(CC275=\"YES\",IF(ISERROR(VLOOKUP($A275+8860000,'Growth Data'!$A:$Z,8,0)),0,VLOOKUP($A275+8860000,'Growth Data'!$A:$Z,8,0)),0)","v":60},-60,null,null,null,0]
[3909,"Ashford Oaks Community Primary School",null,"Ashford Oaks Community Primary School","Ashford Oaks Community Primary School",0,null,1729150.65,1729150.6528756265,0,null,0,0,0,null,1729150.65,1729150.6528756265,0,null,10733.28,10733.280857199998,0,null,null,null,0,null,5.31,5.31,0,null,126017.52,null,126018,null,0,null,0,null,0,null,0,null,0,null,0,null,null,null,0,null,null,null,0,null,null,null,0,null,null,null,0,null,"NO",{"$f":"IF(ISERROR(VLOOKUP($A276+8860000,'Growth Data'!$A:$F,3,0)),\"NO\",VLOOKUP($A276+8860000,'Growth Data'!$A:$F,3,0))","v":"NO"},0,null,0,{"$f":"IF(BM276=\"YES\",IF(ISERROR(VLOOKUP($A276+8860000,'Growth Data'!$A:$F,6,0)),0,VLOOKUP($A276+8860000,'Growth Data'!$A:$F,6,0)),0)","v":0},0,null,"NO",{"$f":"IF(ISERROR(VLOOKUP($A276+8860000,'Growth Data'!$A:$F,4,0)),\"NO\",VLOOKUP($A276+8860000,'Growth Data'!$A:$F,4,0))","v":"NO"},0,null,0,{"$f":"IF(BU276=\"YES\",IF(ISERROR(VLOOKUP($A276+8860000,'Growth Data'!$A:$Z,7,0)),0,VLOOKUP($A276+8860000,'Growth Data'!$A:$Z,7,0)),0)","v":0},0,null,"NO",{"$f":"IF(ISERROR(VLOOKUP($A276+8860000,'Growth Data'!$A:$F,5,0)),\"NO\",VLOOKUP($A276+8860000,'Growth Data'!$A:$F,5,0))","v":"NO"},0,null,0,{"$f":"IF(CC276=\"YES\",IF(ISERROR(VLOOKUP($A276+8860000,'Growth Data'!$A:$Z,8,0)),0,VLOOKUP($A276+8860000,'Growth Data'!$A:$Z,8,0)),0)","v":0},0,null,null,null,0]
[3910,"Joy Lane Primary School",null,"Joy Lane Primary School","Joy Lane Primary School",0,null,1928720,1928720,0,null,0,0,0,null,1928720,1928720,0,null,14148.42,14148.4156754,0,null,null,null,0,null,0,0,0,null,5580,null,5580,null,5442,null,5442,null,0,null,0,null,0,null,0,null,null,null,0,null,null,null,0,null,null,null,0,null,null,null,0,null,"NO",{"$f":"IF(ISERROR(VLOOKUP($A277+8860000,'Growth Data'!$A:$F,3,0)),\"NO\",VLOOKUP($A277+8860000,'Growth Data'!$A:$F,3,0))","v":"YES"},1,null,0,{"$f":"IF(BM277=\"YES\",IF(ISERROR(VLOOKUP($A277+8860000,'Growth Data'!$A:$F,6,0)),0,VLOOKUP($A277+8860000,'Growth Data'!$A:$F,6,0)),0)","v":60},-60,null,"NO",{"$f":"IF(ISERROR(VLOOKUP($A277+8860000,'Growth Data'!$A:$F,4,0)),\"NO\",VLOOKUP($A277+8860000,'Growth Data'!$A:$F,4,0))","v":"YES"},1,null,0,{"$f":"IF(BU277=\"YES\",IF(ISERROR(VLOOKUP($A277+8860000,'Growth Data'!$A:$Z,7,0)),0,VLOOKUP($A277+8860000,'Growth Data'!$A:$Z,7,0)),0)","v":90},-90,null,"NO",{"$f":"IF(ISERROR(VLOOKUP($A277+8860000,'Growth Data'!$A:$F,5,0)),\"NO\",VLOOKUP($A277+8860000,'Growth Data'!$A:$F,5,0))","v":"NO"},0,null,0,{"$f":"IF(CC277=\"YES\",IF(ISERROR(VLOOKUP($A277+8860000,'Growth Data'!$A:$Z,8,0)),0,VLOOKUP($A277+8860000,'Growth Data'!$A:$Z,8,0)),0)","v":0},0,null,null,null,0]
[3911,"Hornbeam Primary School",null,"Hornbeam Primary School","Hornbeam Primary School",0,null,967775.39,967775.38783004961,0,null,0,0,0,null,967775.39,967775.38783004961,0,null,6547.81,6547.8148770000007,0,null,null,null,0,null,0,0,0,null,70043.63,null,70044,null,0,null,0,null,0,null,0,null,0,null,0,null,null,null,0,null,null,null,0,null,null,null,0,null,null,null,0,null,"NO",{"$f":"IF(ISERROR(VLOOKUP($A278+8860000,'Growth Data'!$A:$F,3,0)),\"NO\",VLOOKUP($A278+8860000,'Growth Data'!$A:$F,3,0))","v":"NO"},0,null,0,{"$f":"IF(BM278=\"YES\",IF(ISERROR(VLOOKUP($A278+8860000,'Growth Data'!$A:$F,6,0)),0,VLOOKUP($A278+8860000,'Growth Data'!$A:$F,6,0)),0)","v":0},0,null,"NO",{"$f":"IF(ISERROR(VLOOKUP($A278+8860000,'Growth Data'!$A:$F,4,0)),\"NO\",VLOOKUP($A278+8860000,'Growth Data'!$A:$F,4,0))","v":"NO"},0,null,0,{"$f":"IF(BU278=\"YES\",IF(ISERROR(VLOOKUP($A278+8860000,'Growth Data'!$A:$Z,7,0)),0,VLOOKUP($A278+8860000,'Growth Data'!$A:$Z,7,0)),0)","v":0},0,null,"NO",{"$f":"IF(ISERROR(VLOOKUP($A278+8860000,'Growth Data'!$A:$F,5,0)),\"NO\",VLOOKUP($A278+8860000,'Growth Data'!$A:$F,5,0))","v":"NO"},0,null,0,{"$f":"IF(CC278=\"YES\",IF(ISERROR(VLOOKUP($A278+8860000,'Growth Data'!$A:$Z,8,0)),0,VLOOKUP($A278+8860000,'Growth Data'!$A:$Z,8,0)),0)","v":0},0,null,null,null,0]
[3913,"Rusthall, St Paul's CE VA School",null,"Rusthall, St Paul's CE VA School","Rusthall, St Paul's CE VA School",0,null,813367.42,813367.42357664846,0,null,0,0,0,null,813367.42,813367.42357664846,0,null,5623.42,5623.4174826000008,0,null,null,null,0,null,0,0,0,null,95725.88,null,95726,null,0,null,0,null,0,null,0,null,0,null,0,null,null,null,0,null,null,null,0,null,null,null,0,null,null,null,0,null,"NO",{"$f":"IF(ISERROR(VLOOKUP($A279+8860000,'Growth Data'!$A:$F,3,0)),\"NO\",VLOOKUP($A279+8860000,'Growth Data'!$A:$F,3,0))","v":"NO"},0,null,0,{"$f":"IF(BM279=\"YES\",IF(ISERROR(VLOOKUP($A279+8860000,'Growth Data'!$A:$F,6,0)),0,VLOOKUP($A279+8860000,'Growth Data'!$A:$F,6,0)),0)","v":0},0,null,"NO",{"$f":"IF(ISERROR(VLOOKUP($A279+8860000,'Growth Data'!$A:$F,4,0)),\"NO\",VLOOKUP($A279+8860000,'Growth Data'!$A:$F,4,0))","v":"NO"},0,null,0,{"$f":"IF(BU279=\"YES\",IF(ISERROR(VLOOKUP($A279+8860000,'Growth Data'!$A:$Z,7,0)),0,VLOOKUP($A279+8860000,'Growth Data'!$A:$Z,7,0)),0)","v":0},0,null,"NO",{"$f":"IF(ISERROR(VLOOKUP($A279+8860000,'Growth Data'!$A:$F,5,0)),\"NO\",VLOOKUP($A279+8860000,'Growth Data'!$A:$F,5,0))","v":"NO"},0,null,0,{"$f":"IF(CC279=\"YES\",IF(ISERROR(VLOOKUP($A279+8860000,'Growth Data'!$A:$Z,8,0)),0,VLOOKUP($A279+8860000,'Growth Data'!$A:$Z,8,0)),0)","v":0},0,null,null,null,0]
[3916,"Green Park Community Primary School",null,"Green Park Community Primary School","Green Park Community Primary School",0,null,1411253.24,1411253.2431387079,0,null,5535.95,5535.9452785300091,0,null,1416789.19,1416789.188417238,0,null,9064.23,9064.2300061999995,0,null,null,null,0,null,0,0,0,null,80963.990000000005,null,80964,null,0,null,0,null,0,null,0,null,0,null,0,null,null,null,0,null,null,null,0,null,null,null,0,null,null,null,0,null,"NO",{"$f":"IF(ISERROR(VLOOKUP($A280+8860000,'Growth Data'!$A:$F,3,0)),\"NO\",VLOOKUP($A280+8860000,'Growth Data'!$A:$F,3,0))","v":"NO"},0,null,0,{"$f":"IF(BM280=\"YES\",IF(ISERROR(VLOOKUP($A280+8860000,'Growth Data'!$A:$F,6,0)),0,VLOOKUP($A280+8860000,'Growth Data'!$A:$F,6,0)),0)","v":0},0,null,"NO",{"$f":"IF(ISERROR(VLOOKUP($A280+8860000,'Growth Data'!$A:$F,4,0)),\"NO\",VLOOKUP($A280+8860000,'Growth Data'!$A:$F,4,0))","v":"YES"},1,null,0,{"$f":"IF(BU280=\"YES\",IF(ISERROR(VLOOKUP($A280+8860000,'Growth Data'!$A:$Z,7,0)),0,VLOOKUP($A280+8860000,'Growth Data'!$A:$Z,7,0)),0)","v":0},0,null,"NO",{"$f":"IF(ISERROR(VLOOKUP($A280+8860000,'Growth Data'!$A:$F,5,0)),\"NO\",VLOOKUP($A280+8860000,'Growth Data'!$A:$F,5,0))","v":"YES"},1,null,0,{"$f":"IF(CC280=\"YES\",IF(ISERROR(VLOOKUP($A280+8860000,'Growth Data'!$A:$Z,8,0)),0,VLOOKUP($A280+8860000,'Growth Data'!$A:$Z,8,0)),0)","v":45},-45,null,null,null,0]
[3917,"Garlinge Primary School",null,"Garlinge Primary School","Garlinge Primary School",0,null,2702156.09,2702156.0878491998,0,null,0,0,0,null,2702156.09,2702156.0878491998,0,null,18744.72,18744.724941999997,0,null,null,null,0,null,5.13,5.13,0,null,63340.44,null,63340,null,0,null,0,null,0,null,0,null,0,null,0,null,null,null,0,null,null,null,0,null,null,null,0,null,null,null,0,null,"NO",{"$f":"IF(ISERROR(VLOOKUP($A281+8860000,'Growth Data'!$A:$F,3,0)),\"NO\",VLOOKUP($A281+8860000,'Growth Data'!$A:$F,3,0))","v":"YES"},1,null,0,{"$f":"IF(BM281=\"YES\",IF(ISERROR(VLOOKUP($A281+8860000,'Growth Data'!$A:$F,6,0)),0,VLOOKUP($A281+8860000,'Growth Data'!$A:$F,6,0)),0)","v":92},-92,null,"NO",{"$f":"IF(ISERROR(VLOOKUP($A281+8860000,'Growth Data'!$A:$F,4,0)),\"NO\",VLOOKUP($A281+8860000,'Growth Data'!$A:$F,4,0))","v":"YES"},1,null,0,{"$f":"IF(BU281=\"YES\",IF(ISERROR(VLOOKUP($A281+8860000,'Growth Data'!$A:$Z,7,0)),0,VLOOKUP($A281+8860000,'Growth Data'!$A:$Z,7,0)),0)","v":120},-120,null,"NO",{"$f":"IF(ISERROR(VLOOKUP($A281+8860000,'Growth Data'!$A:$F,5,0)),\"NO\",VLOOKUP($A281+8860000,'Growth Data'!$A:$F,5,0))","v":"NO"},0,null,0,{"$f":"IF(CC281=\"YES\",IF(ISERROR(VLOOKUP($A281+8860000,'Growth Data'!$A:$Z,8,0)),0,VLOOKUP($A281+8860000,'Growth Data'!$A:$Z,8,0)),0)","v":0},0,null,null,null,0]
[3918,"Newington Community Primary School and Nursery",null,"Newington Community Primary School and Nursery","Newington Community Primary School and Nursery",0,null,2359832.75,2359832.7513161292,0,null,144637.79,144637.78820624063,0,null,2504470.54,2504470.5395223699,0,null,16536.439999999999,16536.442277599999,0,null,null,null,0,null,5.21,5.21,0,null,84125.75,null,84126,null,0,null,0,null,0,null,0,null,0,null,0,null,null,null,0,null,null,null,0,null,null,null,0,null,null,null,0,null,"NO",{"$f":"IF(ISERROR(VLOOKUP($A282+8860000,'Growth Data'!$A:$F,3,0)),\"NO\",VLOOKUP($A282+8860000,'Growth Data'!$A:$F,3,0))","v":"NO"},0,null,0,{"$f":"IF(BM282=\"YES\",IF(ISERROR(VLOOKUP($A282+8860000,'Growth Data'!$A:$F,6,0)),0,VLOOKUP($A282+8860000,'Growth Data'!$A:$F,6,0)),0)","v":0},0,null,"NO",{"$f":"IF(ISERROR(VLOOKUP($A282+8860000,'Growth Data'!$A:$F,4,0)),\"NO\",VLOOKUP($A282+8860000,'Growth Data'!$A:$F,4,0))","v":"NO"},0,null,0,{"$f":"IF(BU282=\"YES\",IF(ISERROR(VLOOKUP($A282+8860000,'Growth Data'!$A:$Z,7,0)),0,VLOOKUP($A282+8860000,'Growth Data'!$A:$Z,7,0)),0)","v":0},0,null,"NO",{"$f":"IF(ISERROR(VLOOKUP($A282+8860000,'Growth Data'!$A:$F,5,0)),\"NO\",VLOOKUP($A282+8860000,'Growth Data'!$A:$F,5,0))","v":"NO"},0,null,0,{"$f":"IF(CC282=\"YES\",IF(ISERROR(VLOOKUP($A282+8860000,'Growth Data'!$A:$Z,8,0)),0,VLOOKUP($A282+8860000,'Growth Data'!$A:$Z,8,0)),0)","v":0},0,null,null,null,0]
[3919,"Dartford Bridge Community Primary School, The",null,"Dartford Bridge Community Primary School, The","Dartford Bridge Community Primary School, The",0,null,1393411.72,1393411.7155291608,0,null,50363.01,50363.007846270455,0,null,1443774.72,1443774.7233754313,0,null,9633.68,9633.6793433147195,0,null,null,null,0,null,4.9000000000000004,4.9000000000000004,0,null,5580,null,5580,null,5442,null,5442,null,0,null,0,null,0,null,0,null,null,null,0,null,null,null,0,null,null,null,0,null,null,null,0,null,"NO",{"$f":"IF(ISERROR(VLOOKUP($A283+8860000,'Growth Data'!$A:$F,3,0)),\"NO\",VLOOKUP($A283+8860000,'Growth Data'!$A:$F,3,0))","v":"YES"},1,null,0,{"$f":"IF(BM283=\"YES\",IF(ISERROR(VLOOKUP($A283+8860000,'Growth Data'!$A:$F,6,0)),0,VLOOKUP($A283+8860000,'Growth Data'!$A:$F,6,0)),0)","v":31},-31,null,"NO",{"$f":"IF(ISERROR(VLOOKUP($A283+8860000,'Growth Data'!$A:$F,4,0)),\"NO\",VLOOKUP($A283+8860000,'Growth Data'!$A:$F,4,0))","v":"YES"},1,null,0,{"$f":"IF(BU283=\"YES\",IF(ISERROR(VLOOKUP($A283+8860000,'Growth Data'!$A:$Z,7,0)),0,VLOOKUP($A283+8860000,'Growth Data'!$A:$Z,7,0)),0)","v":60},-60,null,"NO",{"$f":"IF(ISERROR(VLOOKUP($A283+8860000,'Growth Data'!$A:$F,5,0)),\"NO\",VLOOKUP($A283+8860000,'Growth Data'!$A:$F,5,0))","v":"NO"},0,null,0,{"$f":"IF(CC283=\"YES\",IF(ISERROR(VLOOKUP($A283+8860000,'Growth Data'!$A:$Z,8,0)),0,VLOOKUP($A283+8860000,'Growth Data'!$A:$Z,8,0)),0)","v":0},0,null,null,null,0]
[3920,"Goat Lees Primary School",null,"Goat Lees Primary School","Goat Lees Primary School",0,null,823754.42,823754.41796337871,0,null,0,0,0,null,823754.42,823754.41796337871,0,null,5315.29,5315.2850177999999,0,null,null,null,0,null,0,0,0,null,108344.42,null,108344,null,0,null,0,null,0,null,0,null,0,null,0,null,null,null,0,null,null,null,0,null,null,null,0,null,null,null,0,null,"NO",{"$f":"IF(ISERROR(VLOOKUP($A284+8860000,'Growth Data'!$A:$F,3,0)),\"NO\",VLOOKUP($A284+8860000,'Growth Data'!$A:$F,3,0))","v":"NO"},0,null,0,{"$f":"IF(BM284=\"YES\",IF(ISERROR(VLOOKUP($A284+8860000,'Growth Data'!$A:$F,6,0)),0,VLOOKUP($A284+8860000,'Growth Data'!$A:$F,6,0)),0)","v":0},0,null,"NO",{"$f":"IF(ISERROR(VLOOKUP($A284+8860000,'Growth Data'!$A:$F,4,0)),\"NO\",VLOOKUP($A284+8860000,'Growth Data'!$A:$F,4,0))","v":"NO"},0,null,0,{"$f":"IF(BU284=\"YES\",IF(ISERROR(VLOOKUP($A284+8860000,'Growth Data'!$A:$Z,7,0)),0,VLOOKUP($A284+8860000,'Growth Data'!$A:$Z,7,0)),0)","v":0},0,null,"NO",{"$f":"IF(ISERROR(VLOOKUP($A284+8860000,'Growth Data'!$A:$F,5,0)),\"NO\",VLOOKUP($A284+8860000,'Growth Data'!$A:$F,5,0))","v":"NO"},0,null,0,{"$f":"IF(CC284=\"YES\",IF(ISERROR(VLOOKUP($A284+8860000,'Growth Data'!$A:$Z,8,0)),0,VLOOKUP($A284+8860000,'Growth Data'!$A:$Z,8,0)),0)","v":0},0,null,null,null,0]
[5200,"Snodland CEP School",null,"Snodland CEP School","Snodland CEP School",0,null,1346019.58,1346019.5759345023,0,null,0,0,0,null,1346019.58,1346019.5759345023,0,null,9706.17,9706.1726411999989,0,null,null,null,0,null,0,0,0,null,98414.28,null,98414,null,0,null,0,null,0,null,0,null,0,null,0,null,null,null,0,null,null,null,0,null,null,null,0,null,null,null,0,null,"NO",{"$f":"IF(ISERROR(VLOOKUP($A285+8860000,'Growth Data'!$A:$F,3,0)),\"NO\",VLOOKUP($A285+8860000,'Growth Data'!$A:$F,3,0))","v":"NO"},0,null,0,{"$f":"IF(BM285=\"YES\",IF(ISERROR(VLOOKUP($A285+8860000,'Growth Data'!$A:$F,6,0)),0,VLOOKUP($A285+8860000,'Growth Data'!$A:$F,6,0)),0)","v":0},0,null,"NO",{"$f":"IF(ISERROR(VLOOKUP($A285+8860000,'Growth Data'!$A:$F,4,0)),\"NO\",VLOOKUP($A285+8860000,'Growth Data'!$A:$F,4,0))","v":"NO"},0,null,0,{"$f":"IF(BU285=\"YES\",IF(ISERROR(VLOOKUP($A285+8860000,'Growth Data'!$A:$Z,7,0)),0,VLOOKUP($A285+8860000,'Growth Data'!$A:$Z,7,0)),0)","v":0},0,null,"NO",{"$f":"IF(ISERROR(VLOOKUP($A285+8860000,'Growth Data'!$A:$F,5,0)),\"NO\",VLOOKUP($A285+8860000,'Growth Data'!$A:$F,5,0))","v":"NO"},0,null,0,{"$f":"IF(CC285=\"YES\",IF(ISERROR(VLOOKUP($A285+8860000,'Growth Data'!$A:$Z,8,0)),0,VLOOKUP($A285+8860000,'Growth Data'!$A:$Z,8,0)),0)","v":0},0,null,null,null,0]
[5201,"Borough Green Primary School",null,"Borough Green Primary School","Borough Green Primary School",0,null,1008819.54,1008819.5390837023,0,null,0,0,0,null,1008819.54,1008819.5390837023,0,null,7472.21,7472.2122714000006,0,null,null,null,0,null,0,0,0,null,158512.09,null,158512,null,0,null,0,null,0,null,0,null,0,null,0,null,null,null,0,null,null,null,0,null,null,null,0,null,null,null,0,null,"NO",{"$f":"IF(ISERROR(VLOOKUP($A286+8860000,'Growth Data'!$A:$F,3,0)),\"NO\",VLOOKUP($A286+8860000,'Growth Data'!$A:$F,3,0))","v":"NO"},0,null,0,{"$f":"IF(BM286=\"YES\",IF(ISERROR(VLOOKUP($A286+8860000,'Growth Data'!$A:$F,6,0)),0,VLOOKUP($A286+8860000,'Growth Data'!$A:$F,6,0)),0)","v":0},0,null,"NO",{"$f":"IF(ISERROR(VLOOKUP($A286+8860000,'Growth Data'!$A:$F,4,0)),\"NO\",VLOOKUP($A286+8860000,'Growth Data'!$A:$F,4,0))","v":"NO"},0,null,0,{"$f":"IF(BU286=\"YES\",IF(ISERROR(VLOOKUP($A286+8860000,'Growth Data'!$A:$Z,7,0)),0,VLOOKUP($A286+8860000,'Growth Data'!$A:$Z,7,0)),0)","v":0},0,null,"NO",{"$f":"IF(ISERROR(VLOOKUP($A286+8860000,'Growth Data'!$A:$F,5,0)),\"NO\",VLOOKUP($A286+8860000,'Growth Data'!$A:$F,5,0))","v":"NO"},0,null,0,{"$f":"IF(CC286=\"YES\",IF(ISERROR(VLOOKUP($A286+8860000,'Growth Data'!$A:$Z,8,0)),0,VLOOKUP($A286+8860000,'Growth Data'!$A:$Z,8,0)),0)","v":0},0,null,null,null,0]
[5202,"Holy Trinity CEP School",null,"Holy Trinity CEP School","Holy Trinity CEP School",0,null,1576306.54,1576306.5402654912,0,null,0,0,0,null,1576306.54,1576306.5402654912,0,null,10990.06,10990.057911200001,0,null,null,null,0,null,5.14,5.14,0,null,180573.61,null,180574,null,0,null,0,null,0,null,0,null,0,null,0,null,null,null,0,null,null,null,0,null,null,null,0,null,null,null,0,null,"NO",{"$f":"IF(ISERROR(VLOOKUP($A287+8860000,'Growth Data'!$A:$F,3,0)),\"NO\",VLOOKUP($A287+8860000,'Growth Data'!$A:$F,3,0))","v":"NO"},0,null,0,{"$f":"IF(BM287=\"YES\",IF(ISERROR(VLOOKUP($A287+8860000,'Growth Data'!$A:$F,6,0)),0,VLOOKUP($A287+8860000,'Growth Data'!$A:$F,6,0)),0)","v":0},0,null,"NO",{"$f":"IF(ISERROR(VLOOKUP($A287+8860000,'Growth Data'!$A:$F,4,0)),\"NO\",VLOOKUP($A287+8860000,'Growth Data'!$A:$F,4,0))","v":"NO"},0,null,0,{"$f":"IF(BU287=\"YES\",IF(ISERROR(VLOOKUP($A287+8860000,'Growth Data'!$A:$Z,7,0)),0,VLOOKUP($A287+8860000,'Growth Data'!$A:$Z,7,0)),0)","v":0},0,null,"NO",{"$f":"IF(ISERROR(VLOOKUP($A287+8860000,'Growth Data'!$A:$F,5,0)),\"NO\",VLOOKUP($A287+8860000,'Growth Data'!$A:$F,5,0))","v":"NO"},0,null,0,{"$f":"IF(CC287=\"YES\",IF(ISERROR(VLOOKUP($A287+8860000,'Growth Data'!$A:$Z,8,0)),0,VLOOKUP($A287+8860000,'Growth Data'!$A:$Z,8,0)),0)","v":0},0,null,null,null,0]
[5203,"Roseacre Junior School",null,"Roseacre Junior School","Roseacre Junior School",0,null,1437063,1437063,0,null,0,0,0,null,1437063,1437063,0,null,10810.31,10810.3139734,0,null,null,null,0,null,0,0,0,null,301814.15999999997,null,301814,null,0,null,0,null,0,null,0,null,0,null,0,null,null,null,0,null,null,null,0,null,null,null,0,null,null,null,0,null,"NO",{"$f":"IF(ISERROR(VLOOKUP($A288+8860000,'Growth Data'!$A:$F,3,0)),\"NO\",VLOOKUP($A288+8860000,'Growth Data'!$A:$F,3,0))","v":"NO"},0,null,0,{"$f":"IF(BM288=\"YES\",IF(ISERROR(VLOOKUP($A288+8860000,'Growth Data'!$A:$F,6,0)),0,VLOOKUP($A288+8860000,'Growth Data'!$A:$F,6,0)),0)","v":0},0,null,"NO",{"$f":"IF(ISERROR(VLOOKUP($A288+8860000,'Growth Data'!$A:$F,4,0)),\"NO\",VLOOKUP($A288+8860000,'Growth Data'!$A:$F,4,0))","v":"NO"},0,null,0,{"$f":"IF(BU288=\"YES\",IF(ISERROR(VLOOKUP($A288+8860000,'Growth Data'!$A:$Z,7,0)),0,VLOOKUP($A288+8860000,'Growth Data'!$A:$Z,7,0)),0)","v":0},0,null,"NO",{"$f":"IF(ISERROR(VLOOKUP($A288+8860000,'Growth Data'!$A:$F,5,0)),\"NO\",VLOOKUP($A288+8860000,'Growth Data'!$A:$F,5,0))","v":"NO"},0,null,0,{"$f":"IF(CC288=\"YES\",IF(ISERROR(VLOOKUP($A288+8860000,'Growth Data'!$A:$Z,8,0)),0,VLOOKUP($A288+8860000,'Growth Data'!$A:$Z,8,0)),0)","v":0},0,null,null,null,0]
[5206,"Herne Bay Junior School",null,"Herne Bay Junior School","Herne Bay Junior School",0,null,1725613.75,1725613.7468964278,0,null,0,0,0,null,1725613.75,1725613.7468964278,0,null,12428.01,12428.009413600001,0,null,null,null,0,null,0,0,0,null,96157.3,null,96157,null,0,null,0,null,0,null,0,null,0,null,0,null,null,null,0,null,null,null,0,null,null,null,0,null,null,null,0,null,"NO",{"$f":"IF(ISERROR(VLOOKUP($A289+8860000,'Growth Data'!$A:$F,3,0)),\"NO\",VLOOKUP($A289+8860000,'Growth Data'!$A:$F,3,0))","v":"NO"},0,null,0,{"$f":"IF(BM289=\"YES\",IF(ISERROR(VLOOKUP($A289+8860000,'Growth Data'!$A:$F,6,0)),0,VLOOKUP($A289+8860000,'Growth Data'!$A:$F,6,0)),0)","v":0},0,null,"NO",{"$f":"IF(ISERROR(VLOOKUP($A289+8860000,'Growth Data'!$A:$F,4,0)),\"NO\",VLOOKUP($A289+8860000,'Growth Data'!$A:$F,4,0))","v":"NO"},0,null,0,{"$f":"IF(BU289=\"YES\",IF(ISERROR(VLOOKUP($A289+8860000,'Growth Data'!$A:$Z,7,0)),0,VLOOKUP($A289+8860000,'Growth Data'!$A:$Z,7,0)),0)","v":0},0,null,"NO",{"$f":"IF(ISERROR(VLOOKUP($A289+8860000,'Growth Data'!$A:$F,5,0)),\"NO\",VLOOKUP($A289+8860000,'Growth Data'!$A:$F,5,0))","v":"NO"},0,null,0,{"$f":"IF(CC289=\"YES\",IF(ISERROR(VLOOKUP($A289+8860000,'Growth Data'!$A:$Z,8,0)),0,VLOOKUP($A289+8860000,'Growth Data'!$A:$Z,8,0)),0)","v":0},0,null,null,null,0]
[5207,"St Francis' Catholic Primary School, Maidstone",null,"St Francis' Catholic Primary School, Maidstone","St Francis' Catholic Primary School, Maidstone",0,null,1417609.42,1417609.4231880412,0,null,0,0,0,null,1417609.42,1417609.4231880412,0,null,10502.18,10502.181508599999,0,null,null,null,0,null,0,0,0,null,138202.25,null,138202,null,0,null,0,null,0,null,0,null,0,null,0,null,null,null,0,null,null,null,0,null,null,null,0,null,null,null,0,null,"NO",{"$f":"IF(ISERROR(VLOOKUP($A290+8860000,'Growth Data'!$A:$F,3,0)),\"NO\",VLOOKUP($A290+8860000,'Growth Data'!$A:$F,3,0))","v":"NO"},0,null,0,{"$f":"IF(BM290=\"YES\",IF(ISERROR(VLOOKUP($A290+8860000,'Growth Data'!$A:$F,6,0)),0,VLOOKUP($A290+8860000,'Growth Data'!$A:$F,6,0)),0)","v":0},0,null,"YES",{"$f":"IF(ISERROR(VLOOKUP($A290+8860000,'Growth Data'!$A:$F,4,0)),\"NO\",VLOOKUP($A290+8860000,'Growth Data'!$A:$F,4,0))","v":"NO"},1,null,60,{"$f":"IF(BU290=\"YES\",IF(ISERROR(VLOOKUP($A290+8860000,'Growth Data'!$A:$Z,7,0)),0,VLOOKUP($A290+8860000,'Growth Data'!$A:$Z,7,0)),0)","v":0},60,null,"YES",{"$f":"IF(ISERROR(VLOOKUP($A290+8860000,'Growth Data'!$A:$F,5,0)),\"NO\",VLOOKUP($A290+8860000,'Growth Data'!$A:$F,5,0))","v":"NO"},1,null,60,{"$f":"IF(CC290=\"YES\",IF(ISERROR(VLOOKUP($A290+8860000,'Growth Data'!$A:$Z,8,0)),0,VLOOKUP($A290+8860000,'Growth Data'!$A:$Z,8,0)),0)","v":0},60,null,null,null,0]
[5208,"Ditton CEJ School",null,"Ditton CEJ School","Ditton CEJ School",0,null,902437.95,902437.94923167746,0,null,0,0,0,null,902437.95,902437.94923167746,0,null,6368.07,6368.0709391999999,0,null,null,null,0,null,0,0,0,null,278035.34000000003,null,278035,null,0,null,0,null,0,null,0,null,0,null,0,null,null,null,0,null,null,null,0,null,null,null,0,null,null,null,0,null,"NO",{"$f":"IF(ISERROR(VLOOKUP($A291+8860000,'Growth Data'!$A:$F,3,0)),\"NO\",VLOOKUP($A291+8860000,'Growth Data'!$A:$F,3,0))","v":"NO"},0,null,0,{"$f":"IF(BM291=\"YES\",IF(ISERROR(VLOOKUP($A291+8860000,'Growth Data'!$A:$F,6,0)),0,VLOOKUP($A291+8860000,'Growth Data'!$A:$F,6,0)),0)","v":0},0,null,"NO",{"$f":"IF(ISERROR(VLOOKUP($A291+8860000,'Growth Data'!$A:$F,4,0)),\"NO\",VLOOKUP($A291+8860000,'Growth Data'!$A:$F,4,0))","v":"NO"},0,null,0,{"$f":"IF(BU291=\"YES\",IF(ISERROR(VLOOKUP($A291+8860000,'Growth Data'!$A:$Z,7,0)),0,VLOOKUP($A291+8860000,'Growth Data'!$A:$Z,7,0)),0)","v":0},0,null,"NO",{"$f":"IF(ISERROR(VLOOKUP($A291+8860000,'Growth Data'!$A:$F,5,0)),\"NO\",VLOOKUP($A291+8860000,'Growth Data'!$A:$F,5,0))","v":"NO"},0,null,0,{"$f":"IF(CC291=\"YES\",IF(ISERROR(VLOOKUP($A291+8860000,'Growth Data'!$A:$Z,8,0)),0,VLOOKUP($A291+8860000,'Growth Data'!$A:$Z,8,0)),0)","v":0},0,null,null,null,0]
[5212,"Ditton Infant School",null,"Ditton Infant School","Ditton Infant School",0,null,665904.99,665904.99006629584,0,null,0,0,0,null,665904.99,665904.99006629584,0,null,4493.6000000000004,4493.5984449999996,0,null,null,null,0,null,0,0,0,null,173990.95,null,173991,null,0,null,0,null,0,null,0,null,0,null,0,null,null,null,0,null,null,null,0,null,null,null,0,null,null,null,0,null,"YES",{"$f":"IF(ISERROR(VLOOKUP($A292+8860000,'Growth Data'!$A:$F,3,0)),\"NO\",VLOOKUP($A292+8860000,'Growth Data'!$A:$F,3,0))","v":"NO"},1,null,61,{"$f":"IF(BM292=\"YES\",IF(ISERROR(VLOOKUP($A292+8860000,'Growth Data'!$A:$F,6,0)),0,VLOOKUP($A292+8860000,'Growth Data'!$A:$F,6,0)),0)","v":0},61,null,"YES",{"$f":"IF(ISERROR(VLOOKUP($A292+8860000,'Growth Data'!$A:$F,4,0)),\"NO\",VLOOKUP($A292+8860000,'Growth Data'!$A:$F,4,0))","v":"NO"},1,null,60,{"$f":"IF(BU292=\"YES\",IF(ISERROR(VLOOKUP($A292+8860000,'Growth Data'!$A:$Z,7,0)),0,VLOOKUP($A292+8860000,'Growth Data'!$A:$Z,7,0)),0)","v":0},60,null,"YES",{"$f":"IF(ISERROR(VLOOKUP($A292+8860000,'Growth Data'!$A:$F,5,0)),\"NO\",VLOOKUP($A292+8860000,'Growth Data'!$A:$F,5,0))","v":"NO"},1,null,61,{"$f":"IF(CC292=\"YES\",IF(ISERROR(VLOOKUP($A292+8860000,'Growth Data'!$A:$Z,8,0)),0,VLOOKUP($A292+8860000,'Growth Data'!$A:$Z,8,0)),0)","v":0},61,null,null,null,0]
[5213,"Holy Trinity CEP School, Dartford",null,"Holy Trinity CEP School, Dartford","Holy Trinity CEP School, Dartford",0,null,1520700.59,1520700.5935493261,0,null,22261.51,22261.508873457322,0,null,1542962.1,1542962.1024227834,0,null,11230.42,11230.421775908319,0,null,null,null,0,null,0,0,0,null,103309.94,null,103310,null,0,null,0,null,0,null,0,null,0,null,0,null,null,null,0,null,null,null,0,null,null,null,0,null,null,null,0,null,"NO",{"$f":"IF(ISERROR(VLOOKUP($A293+8860000,'Growth Data'!$A:$F,3,0)),\"NO\",VLOOKUP($A293+8860000,'Growth Data'!$A:$F,3,0))","v":"NO"},0,null,0,{"$f":"IF(BM293=\"YES\",IF(ISERROR(VLOOKUP($A293+8860000,'Growth Data'!$A:$F,6,0)),0,VLOOKUP($A293+8860000,'Growth Data'!$A:$F,6,0)),0)","v":0},0,null,"NO",{"$f":"IF(ISERROR(VLOOKUP($A293+8860000,'Growth Data'!$A:$F,4,0)),\"NO\",VLOOKUP($A293+8860000,'Growth Data'!$A:$F,4,0))","v":"NO"},0,null,0,{"$f":"IF(BU293=\"YES\",IF(ISERROR(VLOOKUP($A293+8860000,'Growth Data'!$A:$Z,7,0)),0,VLOOKUP($A293+8860000,'Growth Data'!$A:$Z,7,0)),0)","v":0},0,null,"NO",{"$f":"IF(ISERROR(VLOOKUP($A293+8860000,'Growth Data'!$A:$F,5,0)),\"NO\",VLOOKUP($A293+8860000,'Growth Data'!$A:$F,5,0))","v":"NO"},0,null,0,{"$f":"IF(CC293=\"YES\",IF(ISERROR(VLOOKUP($A293+8860000,'Growth Data'!$A:$Z,8,0)),0,VLOOKUP($A293+8860000,'Growth Data'!$A:$Z,8,0)),0)","v":0},0,null,null,null,0]
[5214,"St Bartholomew's Catholic Primary School",null,"St Bartholomew's Catholic Primary School","St Bartholomew's Catholic Primary School",0,null,1340567.29,1340567.2938495991,0,null,0,0,0,null,1340567.29,1340567.2938495991,0,null,9314.33,9314.3308567960012,0,null,null,null,0,null,0,0,0,null,64468.82,null,64469,null,0,null,0,null,0,null,0,null,0,null,0,null,null,null,0,null,null,null,0,null,null,null,0,null,null,null,0,null,"NO",{"$f":"IF(ISERROR(VLOOKUP($A294+8860000,'Growth Data'!$A:$F,3,0)),\"NO\",VLOOKUP($A294+8860000,'Growth Data'!$A:$F,3,0))","v":"NO"},0,null,0,{"$f":"IF(BM294=\"YES\",IF(ISERROR(VLOOKUP($A294+8860000,'Growth Data'!$A:$F,6,0)),0,VLOOKUP($A294+8860000,'Growth Data'!$A:$F,6,0)),0)","v":0},0,null,"NO",{"$f":"IF(ISERROR(VLOOKUP($A294+8860000,'Growth Data'!$A:$F,4,0)),\"NO\",VLOOKUP($A294+8860000,'Growth Data'!$A:$F,4,0))","v":"NO"},0,null,0,{"$f":"IF(BU294=\"YES\",IF(ISERROR(VLOOKUP($A294+8860000,'Growth Data'!$A:$Z,7,0)),0,VLOOKUP($A294+8860000,'Growth Data'!$A:$Z,7,0)),0)","v":0},0,null,"NO",{"$f":"IF(ISERROR(VLOOKUP($A294+8860000,'Growth Data'!$A:$F,5,0)),\"NO\",VLOOKUP($A294+8860000,'Growth Data'!$A:$F,5,0))","v":"NO"},0,null,0,{"$f":"IF(CC294=\"YES\",IF(ISERROR(VLOOKUP($A294+8860000,'Growth Data'!$A:$Z,8,0)),0,VLOOKUP($A294+8860000,'Growth Data'!$A:$Z,8,0)),0)","v":0},0,null,null,null,0]
[5218,"Greatstone Primary School",null,"Greatstone Primary School","Greatstone Primary School",0,null,1247170.8899999999,1247170.8870423958,0,null,9284.5499999999993,9284.5473478336353,0,null,1256455.43,1256455.4343902294,0,null,9192.6200000000008,9192.6185332000023,0,null,null,null,0,null,4.9000000000000004,4.9000000000000004,0,null,224148.72,null,224149,null,0,null,0,null,0,null,0,null,0,null,0,null,null,null,0,null,null,null,0,null,null,null,0,null,null,null,0,null,"NO",{"$f":"IF(ISERROR(VLOOKUP($A295+8860000,'Growth Data'!$A:$F,3,0)),\"NO\",VLOOKUP($A295+8860000,'Growth Data'!$A:$F,3,0))","v":"NO"},0,null,0,{"$f":"IF(BM295=\"YES\",IF(ISERROR(VLOOKUP($A295+8860000,'Growth Data'!$A:$F,6,0)),0,VLOOKUP($A295+8860000,'Growth Data'!$A:$F,6,0)),0)","v":0},0,null,"NO",{"$f":"IF(ISERROR(VLOOKUP($A295+8860000,'Growth Data'!$A:$F,4,0)),\"NO\",VLOOKUP($A295+8860000,'Growth Data'!$A:$F,4,0))","v":"NO"},0,null,0,{"$f":"IF(BU295=\"YES\",IF(ISERROR(VLOOKUP($A295+8860000,'Growth Data'!$A:$Z,7,0)),0,VLOOKUP($A295+8860000,'Growth Data'!$A:$Z,7,0)),0)","v":0},0,null,"YES",{"$f":"IF(ISERROR(VLOOKUP($A295+8860000,'Growth Data'!$A:$F,5,0)),\"NO\",VLOOKUP($A295+8860000,'Growth Data'!$A:$F,5,0))","v":"NO"},1,null,45,{"$f":"IF(CC295=\"YES\",IF(ISERROR(VLOOKUP($A295+8860000,'Growth Data'!$A:$Z,8,0)),0,VLOOKUP($A295+8860000,'Growth Data'!$A:$Z,8,0)),0)","v":0},45,null,null,null,0]
[5221,"Wincheap Foundation Primary School",null,"Wincheap Foundation Primary School","Wincheap Foundation Primary School",0,null,1608600.56,1608600.5590336742,0,null,0,0,0,null,1608600.56,1608600.5590336742,0,null,11375.22,11375.223492200001,0,null,null,null,0,null,0,0,0,null,381224.93,null,381225,null,0,null,0,null,0,null,0,null,0,null,0,null,null,null,0,null,null,null,0,null,null,null,0,null,null,null,0,null,"YES",{"$f":"IF(ISERROR(VLOOKUP($A296+8860000,'Growth Data'!$A:$F,3,0)),\"NO\",VLOOKUP($A296+8860000,'Growth Data'!$A:$F,3,0))","v":"NO"},1,null,60,{"$f":"IF(BM296=\"YES\",IF(ISERROR(VLOOKUP($A296+8860000,'Growth Data'!$A:$F,6,0)),0,VLOOKUP($A296+8860000,'Growth Data'!$A:$F,6,0)),0)","v":0},60,null,"YES",{"$f":"IF(ISERROR(VLOOKUP($A296+8860000,'Growth Data'!$A:$F,4,0)),\"NO\",VLOOKUP($A296+8860000,'Growth Data'!$A:$F,4,0))","v":"NO"},1,null,91,{"$f":"IF(BU296=\"YES\",IF(ISERROR(VLOOKUP($A296+8860000,'Growth Data'!$A:$Z,7,0)),0,VLOOKUP($A296+8860000,'Growth Data'!$A:$Z,7,0)),0)","v":0},91,null,"YES",{"$f":"IF(ISERROR(VLOOKUP($A296+8860000,'Growth Data'!$A:$F,5,0)),\"NO\",VLOOKUP($A296+8860000,'Growth Data'!$A:$F,5,0))","v":"NO"},1,null,90,{"$f":"IF(CC296=\"YES\",IF(ISERROR(VLOOKUP($A296+8860000,'Growth Data'!$A:$Z,8,0)),0,VLOOKUP($A296+8860000,'Growth Data'!$A:$Z,8,0)),0)","v":0},90,null,null,null,0]
[5223,"Brookfield Junior School, Larkfield",null,"Brookfield Junior School, Larkfield","Brookfield Junior School, Larkfield",0,null,908011.92,908011.9249267315,0,null,0,0,0,null,908011.92,908011.9249267315,0,null,6034.26,6034.2607689999995,0,null,null,null,0,null,0,0,0,null,352413.75,null,352414,null,0,null,0,null,0,null,0,null,0,null,0,null,null,null,0,null,null,null,0,null,null,null,0,null,null,null,0,null,"YES",{"$f":"IF(ISERROR(VLOOKUP($A297+8860000,'Growth Data'!$A:$F,3,0)),\"NO\",VLOOKUP($A297+8860000,'Growth Data'!$A:$F,3,0))","v":"NO"},1,null,72,{"$f":"IF(BM297=\"YES\",IF(ISERROR(VLOOKUP($A297+8860000,'Growth Data'!$A:$F,6,0)),0,VLOOKUP($A297+8860000,'Growth Data'!$A:$F,6,0)),0)","v":0},72,null,"NO",{"$f":"IF(ISERROR(VLOOKUP($A297+8860000,'Growth Data'!$A:$F,4,0)),\"NO\",VLOOKUP($A297+8860000,'Growth Data'!$A:$F,4,0))","v":"NO"},0,null,0,{"$f":"IF(BU297=\"YES\",IF(ISERROR(VLOOKUP($A297+8860000,'Growth Data'!$A:$Z,7,0)),0,VLOOKUP($A297+8860000,'Growth Data'!$A:$Z,7,0)),0)","v":0},0,null,"NO",{"$f":"IF(ISERROR(VLOOKUP($A297+8860000,'Growth Data'!$A:$F,5,0)),\"NO\",VLOOKUP($A297+8860000,'Growth Data'!$A:$F,5,0))","v":"NO"},0,null,0,{"$f":"IF(CC297=\"YES\",IF(ISERROR(VLOOKUP($A297+8860000,'Growth Data'!$A:$Z,8,0)),0,VLOOKUP($A297+8860000,'Growth Data'!$A:$Z,8,0)),0)","v":0},0,null,null,null,0]
[5224,"All Souls' CEP School",null,"All Souls' CEP School","All Souls' CEP School",0,null,1042844.82,1042844.822498057,0,null,0,0,0,null,1042844.82,1042844.822498057,0,null,7395.18,7395.1791552000004,0,null,null,null,0,null,0,0,0,null,155381.49,null,155381,null,0,null,0,null,0,null,0,null,0,null,0,null,null,null,0,null,null,null,0,null,null,null,0,null,null,null,0,null,"YES",{"$f":"IF(ISERROR(VLOOKUP($A298+8860000,'Growth Data'!$A:$F,3,0)),\"NO\",VLOOKUP($A298+8860000,'Growth Data'!$A:$F,3,0))","v":"NO"},1,null,30,{"$f":"IF(BM298=\"YES\",IF(ISERROR(VLOOKUP($A298+8860000,'Growth Data'!$A:$F,6,0)),0,VLOOKUP($A298+8860000,'Growth Data'!$A:$F,6,0)),0)","v":0},30,null,"YES",{"$f":"IF(ISERROR(VLOOKUP($A298+8860000,'Growth Data'!$A:$F,4,0)),\"NO\",VLOOKUP($A298+8860000,'Growth Data'!$A:$F,4,0))","v":"NO"},1,null,31,{"$f":"IF(BU298=\"YES\",IF(ISERROR(VLOOKUP($A298+8860000,'Growth Data'!$A:$Z,7,0)),0,VLOOKUP($A298+8860000,'Growth Data'!$A:$Z,7,0)),0)","v":0},31,null,"YES",{"$f":"IF(ISERROR(VLOOKUP($A298+8860000,'Growth Data'!$A:$F,5,0)),\"NO\",VLOOKUP($A298+8860000,'Growth Data'!$A:$F,5,0))","v":"NO"},1,null,31,{"$f":"IF(CC298=\"YES\",IF(ISERROR(VLOOKUP($A298+8860000,'Growth Data'!$A:$Z,8,0)),0,VLOOKUP($A298+8860000,'Growth Data'!$A:$Z,8,0)),0)","v":0},31,null,null,null,0]
[5225,"Harcourt Primary School",null,"Harcourt Primary School","Harcourt Primary School",0,null,658490.94999999995,658490.94956813892,0,null,26761.23,26761.231152498629,0,null,685252.18,685252.18072063755,0,null,4288.18,4288.1768018000002,0,null,null,null,0,null,0,0,0,null,94929.89,null,94930,null,0,null,0,null,0,null,0,null,0,null,0,null,null,null,0,null,null,null,0,null,null,null,0,null,null,null,0,null,"NO",{"$f":"IF(ISERROR(VLOOKUP($A299+8860000,'Growth Data'!$A:$F,3,0)),\"NO\",VLOOKUP($A299+8860000,'Growth Data'!$A:$F,3,0))","v":"NO"},0,null,0,{"$f":"IF(BM299=\"YES\",IF(ISERROR(VLOOKUP($A299+8860000,'Growth Data'!$A:$F,6,0)),0,VLOOKUP($A299+8860000,'Growth Data'!$A:$F,6,0)),0)","v":0},0,null,"NO",{"$f":"IF(ISERROR(VLOOKUP($A299+8860000,'Growth Data'!$A:$F,4,0)),\"NO\",VLOOKUP($A299+8860000,'Growth Data'!$A:$F,4,0))","v":"NO"},0,null,0,{"$f":"IF(BU299=\"YES\",IF(ISERROR(VLOOKUP($A299+8860000,'Growth Data'!$A:$Z,7,0)),0,VLOOKUP($A299+8860000,'Growth Data'!$A:$Z,7,0)),0)","v":0},0,null,"NO",{"$f":"IF(ISERROR(VLOOKUP($A299+8860000,'Growth Data'!$A:$F,5,0)),\"NO\",VLOOKUP($A299+8860000,'Growth Data'!$A:$F,5,0))","v":"NO"},0,null,0,{"$f":"IF(CC299=\"YES\",IF(ISERROR(VLOOKUP($A299+8860000,'Growth Data'!$A:$Z,8,0)),0,VLOOKUP($A299+8860000,'Growth Data'!$A:$Z,8,0)),0)","v":0},0,null,null,null,0]
[5226,"Willesborough Junior School",null,"Willesborough Junior School","Willesborough Junior School",0,null,1660380.5,1660380.5039947438,0,null,0,0,0,null,1660380.5,1660380.5039947438,0,null,12196.91,12196.910064999996,0,null,null,null,0,null,0,0,0,null,327986.53000000003,null,327987,null,0,null,0,null,0,null,0,null,0,null,0,null,null,null,0,null,null,null,0,null,null,null,0,null,null,null,0,null,"NO",{"$f":"IF(ISERROR(VLOOKUP($A300+8860000,'Growth Data'!$A:$F,3,0)),\"NO\",VLOOKUP($A300+8860000,'Growth Data'!$A:$F,3,0))","v":"NO"},0,null,0,{"$f":"IF(BM300=\"YES\",IF(ISERROR(VLOOKUP($A300+8860000,'Growth Data'!$A:$F,6,0)),0,VLOOKUP($A300+8860000,'Growth Data'!$A:$F,6,0)),0)","v":0},0,null,"NO",{"$f":"IF(ISERROR(VLOOKUP($A300+8860000,'Growth Data'!$A:$F,4,0)),\"NO\",VLOOKUP($A300+8860000,'Growth Data'!$A:$F,4,0))","v":"NO"},0,null,0,{"$f":"IF(BU300=\"YES\",IF(ISERROR(VLOOKUP($A300+8860000,'Growth Data'!$A:$Z,7,0)),0,VLOOKUP($A300+8860000,'Growth Data'!$A:$Z,7,0)),0)","v":0},0,null,"NO",{"$f":"IF(ISERROR(VLOOKUP($A300+8860000,'Growth Data'!$A:$F,5,0)),\"NO\",VLOOKUP($A300+8860000,'Growth Data'!$A:$F,5,0))","v":"NO"},0,null,0,{"$f":"IF(CC300=\"YES\",IF(ISERROR(VLOOKUP($A300+8860000,'Growth Data'!$A:$Z,8,0)),0,VLOOKUP($A300+8860000,'Growth Data'!$A:$Z,8,0)),0)","v":0},0,null,null,null,0]
[5229,"Fleetdown Primary School",null,"Fleetdown Primary School","Fleetdown Primary School",0,null,2086769,2086769,0,null,0,0,0,null,2086769,2086769,0,null,16047.26,16047.261447565679,0,null,null,null,0,null,0,0,0,null,464031.63,null,464032,null,0,null,0,null,0,null,0,null,0,null,0,null,null,null,0,null,null,null,0,null,null,null,0,null,null,null,0,null,"NO",{"$f":"IF(ISERROR(VLOOKUP($A301+8860000,'Growth Data'!$A:$F,3,0)),\"NO\",VLOOKUP($A301+8860000,'Growth Data'!$A:$F,3,0))","v":"YES"},1,null,0,{"$f":"IF(BM301=\"YES\",IF(ISERROR(VLOOKUP($A301+8860000,'Growth Data'!$A:$F,6,0)),0,VLOOKUP($A301+8860000,'Growth Data'!$A:$F,6,0)),0)","v":66},-66,null,"NO",{"$f":"IF(ISERROR(VLOOKUP($A301+8860000,'Growth Data'!$A:$F,4,0)),\"NO\",VLOOKUP($A301+8860000,'Growth Data'!$A:$F,4,0))","v":"NO"},0,null,0,{"$f":"IF(BU301=\"YES\",IF(ISERROR(VLOOKUP($A301+8860000,'Growth Data'!$A:$Z,7,0)),0,VLOOKUP($A301+8860000,'Growth Data'!$A:$Z,7,0)),0)","v":0},0,null,"NO",{"$f":"IF(ISERROR(VLOOKUP($A301+8860000,'Growth Data'!$A:$F,5,0)),\"NO\",VLOOKUP($A301+8860000,'Growth Data'!$A:$F,5,0))","v":"NO"},0,null,0,{"$f":"IF(CC301=\"YES\",IF(ISERROR(VLOOKUP($A301+8860000,'Growth Data'!$A:$Z,8,0)),0,VLOOKUP($A301+8860000,'Growth Data'!$A:$Z,8,0)),0)","v":0},0,null,null,null,0]
[4026,"Dartford Science and Technology College",null,"Dartford Science and Technology College","Dartford Science and Technology College",0,null,3361770.94,3361770.9413225688,0,null,0,0,0,null,3361770.94,3361770.9413225688,0,null,10819.18,10819.184890112001,0,null,null,null,0,null,0,0,0,null,33608.370000000003,null,33608,null,2639.16,null,2639,null,0,null,0,null,0,null,0,null,null,null,0,null,null,null,0,null,null,null,0,null,null,null,0,null,"NO",{"$f":"IF(ISERROR(VLOOKUP($A302+8860000,'Growth Data'!$A:$F,3,0)),\"NO\",VLOOKUP($A302+8860000,'Growth Data'!$A:$F,3,0))","v":"NO"},0,null,0,{"$f":"IF(BM302=\"YES\",IF(ISERROR(VLOOKUP($A302+8860000,'Growth Data'!$A:$F,6,0)),0,VLOOKUP($A302+8860000,'Growth Data'!$A:$F,6,0)),0)","v":0},0,null,"NO",{"$f":"IF(ISERROR(VLOOKUP($A302+8860000,'Growth Data'!$A:$F,4,0)),\"NO\",VLOOKUP($A302+8860000,'Growth Data'!$A:$F,4,0))","v":"NO"},0,null,0,{"$f":"IF(BU302=\"YES\",IF(ISERROR(VLOOKUP($A302+8860000,'Growth Data'!$A:$Z,7,0)),0,VLOOKUP($A302+8860000,'Growth Data'!$A:$Z,7,0)),0)","v":0},0,null,"NO",{"$f":"IF(ISERROR(VLOOKUP($A302+8860000,'Growth Data'!$A:$F,5,0)),\"NO\",VLOOKUP($A302+8860000,'Growth Data'!$A:$F,5,0))","v":"NO"},0,null,0,{"$f":"IF(CC302=\"YES\",IF(ISERROR(VLOOKUP($A302+8860000,'Growth Data'!$A:$Z,8,0)),0,VLOOKUP($A302+8860000,'Growth Data'!$A:$Z,8,0)),0)","v":0},0,null,null,null,0]
[4040,"Northfleet School for Girls",null,"Northfleet School for Girls","Northfleet School for Girls",0,null,3726189.54,3726189.5440137754,0,null,0,0,0,null,3726189.54,3726189.5440137754,0,null,11907.21,11907.210310000002,0,null,null,null,0,null,0,0,0,null,60125.42,null,60125,null,0,null,0,null,73666.67,null,73667,null,110500,null,110500,null,null,null,0,null,null,null,0,null,null,null,0,null,null,null,0,null,"NO",{"$f":"IF(ISERROR(VLOOKUP($A303+8860000,'Growth Data'!$A:$F,3,0)),\"NO\",VLOOKUP($A303+8860000,'Growth Data'!$A:$F,3,0))","v":"NO"},0,null,0,{"$f":"IF(BM303=\"YES\",IF(ISERROR(VLOOKUP($A303+8860000,'Growth Data'!$A:$F,6,0)),0,VLOOKUP($A303+8860000,'Growth Data'!$A:$F,6,0)),0)","v":0},0,null,"NO",{"$f":"IF(ISERROR(VLOOKUP($A303+8860000,'Growth Data'!$A:$F,4,0)),\"NO\",VLOOKUP($A303+8860000,'Growth Data'!$A:$F,4,0))","v":"YES"},1,null,0,{"$f":"IF(BU303=\"YES\",IF(ISERROR(VLOOKUP($A303+8860000,'Growth Data'!$A:$Z,7,0)),0,VLOOKUP($A303+8860000,'Growth Data'!$A:$Z,7,0)),0)","v":0},0,null,"NO",{"$f":"IF(ISERROR(VLOOKUP($A303+8860000,'Growth Data'!$A:$F,5,0)),\"NO\",VLOOKUP($A303+8860000,'Growth Data'!$A:$F,5,0))","v":"YES"},1,null,0,{"$f":"IF(CC303=\"YES\",IF(ISERROR(VLOOKUP($A303+8860000,'Growth Data'!$A:$Z,8,0)),0,VLOOKUP($A303+8860000,'Growth Data'!$A:$Z,8,0)),0)","v":175},-175,null,null,null,0]
[4043,"Tunbridge Wells Girls' Grammar School",null,"Tunbridge Wells Girls' Grammar School","Tunbridge Wells Girls' Grammar School",0,null,3481857,3481857,0,null,0,0,0,null,3481857,3481857,0,null,11907.21,11907.210310000002,0,null,null,null,0,null,0,0,0,null,5580,null,5580,null,5442,null,5442,null,0,null,0,null,0,null,0,null,null,null,0,null,null,null,0,null,null,null,0,null,null,null,0,null,"NO",{"$f":"IF(ISERROR(VLOOKUP($A304+8860000,'Growth Data'!$A:$F,3,0)),\"NO\",VLOOKUP($A304+8860000,'Growth Data'!$A:$F,3,0))","v":"NO"},0,null,0,{"$f":"IF(BM304=\"YES\",IF(ISERROR(VLOOKUP($A304+8860000,'Growth Data'!$A:$F,6,0)),0,VLOOKUP($A304+8860000,'Growth Data'!$A:$F,6,0)),0)","v":0},0,null,"NO",{"$f":"IF(ISERROR(VLOOKUP($A304+8860000,'Growth Data'!$A:$F,4,0)),\"NO\",VLOOKUP($A304+8860000,'Growth Data'!$A:$F,4,0))","v":"NO"},0,null,0,{"$f":"IF(BU304=\"YES\",IF(ISERROR(VLOOKUP($A304+8860000,'Growth Data'!$A:$Z,7,0)),0,VLOOKUP($A304+8860000,'Growth Data'!$A:$Z,7,0)),0)","v":0},0,null,"NO",{"$f":"IF(ISERROR(VLOOKUP($A304+8860000,'Growth Data'!$A:$F,5,0)),\"NO\",VLOOKUP($A304+8860000,'Growth Data'!$A:$F,5,0))","v":"NO"},0,null,0,{"$f":"IF(CC304=\"YES\",IF(ISERROR(VLOOKUP($A304+8860000,'Growth Data'!$A:$Z,8,0)),0,VLOOKUP($A304+8860000,'Growth Data'!$A:$Z,8,0)),0)","v":0},0,null,null,null,0]
[4045,"Tunbridge Wells Grammar School for Boys",null,"Tunbridge Wells Grammar School for Boys","Tunbridge Wells Grammar School for Boys",0,null,4629925,4629925,0,null,0,0,0,null,4629925,4629925,0,null,15512,15511.995897000003,0,null,null,null,0,null,0,0,0,null,325938.23,null,325938,null,0,null,0,null,14333.33,null,14333,null,21500,null,21500,null,null,null,0,null,null,null,0,null,null,null,0,null,null,null,0,null,"NO",{"$f":"IF(ISERROR(VLOOKUP($A305+8860000,'Growth Data'!$A:$F,3,0)),\"NO\",VLOOKUP($A305+8860000,'Growth Data'!$A:$F,3,0))","v":"NO"},0,null,0,{"$f":"IF(BM305=\"YES\",IF(ISERROR(VLOOKUP($A305+8860000,'Growth Data'!$A:$F,6,0)),0,VLOOKUP($A305+8860000,'Growth Data'!$A:$F,6,0)),0)","v":0},0,null,"NO",{"$f":"IF(ISERROR(VLOOKUP($A305+8860000,'Growth Data'!$A:$F,4,0)),\"NO\",VLOOKUP($A305+8860000,'Growth Data'!$A:$F,4,0))","v":"NO"},0,null,0,{"$f":"IF(BU305=\"YES\",IF(ISERROR(VLOOKUP($A305+8860000,'Growth Data'!$A:$Z,7,0)),0,VLOOKUP($A305+8860000,'Growth Data'!$A:$Z,7,0)),0)","v":0},0,null,"NO",{"$f":"IF(ISERROR(VLOOKUP($A305+8860000,'Growth Data'!$A:$F,5,0)),\"NO\",VLOOKUP($A305+8860000,'Growth Data'!$A:$F,5,0))","v":"NO"},0,null,0,{"$f":"IF(CC305=\"YES\",IF(ISERROR(VLOOKUP($A305+8860000,'Growth Data'!$A:$Z,8,0)),0,VLOOKUP($A305+8860000,'Growth Data'!$A:$Z,8,0)),0)","v":0},0,null,null,null,0]
[4065,"Holmesdale School, The",null,"Holmesdale School, The","Holmesdale School, The",0,null,3844856.84,3844856.8443619343,0,null,0,0,0,null,3844856.84,3844856.8443619343,0,null,8775.4500000000007,8775.4508860000005,0,null,null,null,0,null,0,0,0,null,337582.82,null,337583,null,0,null,0,null,0,null,0,null,0,null,0,null,null,null,0,null,null,null,0,null,null,null,0,null,null,null,0,null,"NO",{"$f":"IF(ISERROR(VLOOKUP($A306+8860000,'Growth Data'!$A:$F,3,0)),\"NO\",VLOOKUP($A306+8860000,'Growth Data'!$A:$F,3,0))","v":"NO"},0,null,0,{"$f":"IF(BM306=\"YES\",IF(ISERROR(VLOOKUP($A306+8860000,'Growth Data'!$A:$F,6,0)),0,VLOOKUP($A306+8860000,'Growth Data'!$A:$F,6,0)),0)","v":0},0,null,"NO",{"$f":"IF(ISERROR(VLOOKUP($A306+8860000,'Growth Data'!$A:$F,4,0)),\"NO\",VLOOKUP($A306+8860000,'Growth Data'!$A:$F,4,0))","v":"NO"},0,null,0,{"$f":"IF(BU306=\"YES\",IF(ISERROR(VLOOKUP($A306+8860000,'Growth Data'!$A:$Z,7,0)),0,VLOOKUP($A306+8860000,'Growth Data'!$A:$Z,7,0)),0)","v":0},0,null,"NO",{"$f":"IF(ISERROR(VLOOKUP($A306+8860000,'Growth Data'!$A:$F,5,0)),\"NO\",VLOOKUP($A306+8860000,'Growth Data'!$A:$F,5,0))","v":"NO"},0,null,0,{"$f":"IF(CC306=\"YES\",IF(ISERROR(VLOOKUP($A306+8860000,'Growth Data'!$A:$Z,8,0)),0,VLOOKUP($A306+8860000,'Growth Data'!$A:$Z,8,0)),0)","v":0},0,null,null,null,0]
[4091,"Community College Whitstable, The",null,"Community College Whitstable, The","Community College Whitstable, The",0,null,3623113.08,3623113.0833255546,0,null,0,0,0,null,3623113.08,3623113.0833255546,0,null,11124.27,11124.270454000001,0,null,null,null,0,null,0,0,0,null,172253.96,null,172254,null,0,null,0,null,0,null,0,null,0,null,0,null,null,null,0,null,null,null,0,null,null,null,0,null,null,null,0,null,"NO",{"$f":"IF(ISERROR(VLOOKUP($A307+8860000,'Growth Data'!$A:$F,3,0)),\"NO\",VLOOKUP($A307+8860000,'Growth Data'!$A:$F,3,0))","v":"NO"},0,null,0,{"$f":"IF(BM307=\"YES\",IF(ISERROR(VLOOKUP($A307+8860000,'Growth Data'!$A:$F,6,0)),0,VLOOKUP($A307+8860000,'Growth Data'!$A:$F,6,0)),0)","v":0},0,null,"NO",{"$f":"IF(ISERROR(VLOOKUP($A307+8860000,'Growth Data'!$A:$F,4,0)),\"NO\",VLOOKUP($A307+8860000,'Growth Data'!$A:$F,4,0))","v":"NO"},0,null,0,{"$f":"IF(BU307=\"YES\",IF(ISERROR(VLOOKUP($A307+8860000,'Growth Data'!$A:$Z,7,0)),0,VLOOKUP($A307+8860000,'Growth Data'!$A:$Z,7,0)),0)","v":0},0,null,"NO",{"$f":"IF(ISERROR(VLOOKUP($A307+8860000,'Growth Data'!$A:$F,5,0)),\"NO\",VLOOKUP($A307+8860000,'Growth Data'!$A:$F,5,0))","v":"NO"},0,null,0,{"$f":"IF(CC307=\"YES\",IF(ISERROR(VLOOKUP($A307+8860000,'Growth Data'!$A:$Z,8,0)),0,VLOOKUP($A307+8860000,'Growth Data'!$A:$Z,8,0)),0)","v":0},0,null,null,null,0]
[4109,"Dover Grammar School for Girls",null,"Dover Grammar School for Girls","Dover Grammar School for Girls",0,null,3187848,3187848,0,null,0,0,0,null,3187848,3187848,0,null,10830.67,10830.668008000001,0,null,null,null,0,null,0,0,0,null,549811.92000000004,null,549812,null,0,null,0,null,20000,null,20000,null,30000,null,30000,null,null,null,0,null,null,null,0,null,null,null,0,null,null,null,0,null,"NO",{"$f":"IF(ISERROR(VLOOKUP($A308+8860000,'Growth Data'!$A:$F,3,0)),\"NO\",VLOOKUP($A308+8860000,'Growth Data'!$A:$F,3,0))","v":"NO"},0,null,0,{"$f":"IF(BM308=\"YES\",IF(ISERROR(VLOOKUP($A308+8860000,'Growth Data'!$A:$F,6,0)),0,VLOOKUP($A308+8860000,'Growth Data'!$A:$F,6,0)),0)","v":0},0,null,"NO",{"$f":"IF(ISERROR(VLOOKUP($A308+8860000,'Growth Data'!$A:$F,4,0)),\"NO\",VLOOKUP($A308+8860000,'Growth Data'!$A:$F,4,0))","v":"NO"},0,null,0,{"$f":"IF(BU308=\"YES\",IF(ISERROR(VLOOKUP($A308+8860000,'Growth Data'!$A:$Z,7,0)),0,VLOOKUP($A308+8860000,'Growth Data'!$A:$Z,7,0)),0)","v":0},0,null,"NO",{"$f":"IF(ISERROR(VLOOKUP($A308+8860000,'Growth Data'!$A:$F,5,0)),\"NO\",VLOOKUP($A308+8860000,'Growth Data'!$A:$F,5,0))","v":"NO"},0,null,0,{"$f":"IF(CC308=\"YES\",IF(ISERROR(VLOOKUP($A308+8860000,'Growth Data'!$A:$Z,8,0)),0,VLOOKUP($A308+8860000,'Growth Data'!$A:$Z,8,0)),0)","v":0},0,null,null,null,0]
[4246,"North School, The",null,"North School, The","North School, The",0,null,5857668.8600000003,5857668.8628246821,0,null,0,0,0,null,5857668.8600000003,5857668.8628246821,0,null,14337.59,14337.586113000003,0,null,null,null,0,null,0,0,0,null,74368.39,null,74368,null,0,null,0,null,114333.33,null,114333,null,171500,null,171500,null,null,null,0,null,null,null,0,null,null,null,0,null,null,null,0,null,"NO",{"$f":"IF(ISERROR(VLOOKUP($A309+8860000,'Growth Data'!$A:$F,3,0)),\"NO\",VLOOKUP($A309+8860000,'Growth Data'!$A:$F,3,0))","v":"NO"},0,null,0,{"$f":"IF(BM309=\"YES\",IF(ISERROR(VLOOKUP($A309+8860000,'Growth Data'!$A:$F,6,0)),0,VLOOKUP($A309+8860000,'Growth Data'!$A:$F,6,0)),0)","v":0},0,null,"NO",{"$f":"IF(ISERROR(VLOOKUP($A309+8860000,'Growth Data'!$A:$F,4,0)),\"NO\",VLOOKUP($A309+8860000,'Growth Data'!$A:$F,4,0))","v":"NO"},0,null,0,{"$f":"IF(BU309=\"YES\",IF(ISERROR(VLOOKUP($A309+8860000,'Growth Data'!$A:$Z,7,0)),0,VLOOKUP($A309+8860000,'Growth Data'!$A:$Z,7,0)),0)","v":0},0,null,"NO",{"$f":"IF(ISERROR(VLOOKUP($A309+8860000,'Growth Data'!$A:$F,5,0)),\"NO\",VLOOKUP($A309+8860000,'Growth Data'!$A:$F,5,0))","v":"NO"},0,null,0,{"$f":"IF(CC309=\"YES\",IF(ISERROR(VLOOKUP($A309+8860000,'Growth Data'!$A:$Z,8,0)),0,VLOOKUP($A309+8860000,'Growth Data'!$A:$Z,8,0)),0)","v":0},0,null,null,null,0]
[4522,"Maidstone Grammar School",null,"Maidstone Grammar School","Maidstone Grammar School",0,null,4402059,4402059,0,null,0,0,0,null,4402059,4402059,0,null,15169.46,15169.459710000003,0,null,null,null,0,null,0,0,0,null,89047.75,null,89048,null,0,null,0,null,0,null,0,null,0,null,0,null,null,null,0,null,null,null,0,null,null,null,0,null,null,null,0,null,"NO",{"$f":"IF(ISERROR(VLOOKUP($A310+8860000,'Growth Data'!$A:$F,3,0)),\"NO\",VLOOKUP($A310+8860000,'Growth Data'!$A:$F,3,0))","v":"NO"},0,null,0,{"$f":"IF(BM310=\"YES\",IF(ISERROR(VLOOKUP($A310+8860000,'Growth Data'!$A:$F,6,0)),0,VLOOKUP($A310+8860000,'Growth Data'!$A:$F,6,0)),0)","v":0},0,null,"NO",{"$f":"IF(ISERROR(VLOOKUP($A310+8860000,'Growth Data'!$A:$F,4,0)),\"NO\",VLOOKUP($A310+8860000,'Growth Data'!$A:$F,4,0))","v":"NO"},0,null,0,{"$f":"IF(BU310=\"YES\",IF(ISERROR(VLOOKUP($A310+8860000,'Growth Data'!$A:$Z,7,0)),0,VLOOKUP($A310+8860000,'Growth Data'!$A:$Z,7,0)),0)","v":0},0,null,"NO",{"$f":"IF(ISERROR(VLOOKUP($A310+8860000,'Growth Data'!$A:$F,5,0)),\"NO\",VLOOKUP($A310+8860000,'Growth Data'!$A:$F,5,0))","v":"YES"},1,null,0,{"$f":"IF(CC310=\"YES\",IF(ISERROR(VLOOKUP($A310+8860000,'Growth Data'!$A:$Z,8,0)),0,VLOOKUP($A310+8860000,'Growth Data'!$A:$Z,8,0)),0)","v":0},0,null,null,null,0]
[4523,"Maidstone Grammar School for Girls",null,"Maidstone Grammar School for Girls","Maidstone Grammar School for Girls",0,null,4162359,4162359,0,null,0,0,0,null,4162359,4162359,0,null,14337.59,14337.586113000003,0,null,null,null,0,null,0,0,0,null,88185.91,null,88186,null,0,null,0,null,0,null,0,null,0,null,0,null,null,null,0,null,null,null,0,null,null,null,0,null,null,null,0,null,"NO",{"$f":"IF(ISERROR(VLOOKUP($A311+8860000,'Growth Data'!$A:$F,3,0)),\"NO\",VLOOKUP($A311+8860000,'Growth Data'!$A:$F,3,0))","v":"NO"},0,null,0,{"$f":"IF(BM311=\"YES\",IF(ISERROR(VLOOKUP($A311+8860000,'Growth Data'!$A:$F,6,0)),0,VLOOKUP($A311+8860000,'Growth Data'!$A:$F,6,0)),0)","v":0},0,null,"NO",{"$f":"IF(ISERROR(VLOOKUP($A311+8860000,'Growth Data'!$A:$F,4,0)),\"NO\",VLOOKUP($A311+8860000,'Growth Data'!$A:$F,4,0))","v":"NO"},0,null,0,{"$f":"IF(BU311=\"YES\",IF(ISERROR(VLOOKUP($A311+8860000,'Growth Data'!$A:$Z,7,0)),0,VLOOKUP($A311+8860000,'Growth Data'!$A:$Z,7,0)),0)","v":0},0,null,"NO",{"$f":"IF(ISERROR(VLOOKUP($A311+8860000,'Growth Data'!$A:$F,5,0)),\"NO\",VLOOKUP($A311+8860000,'Growth Data'!$A:$F,5,0))","v":"NO"},0,null,0,{"$f":"IF(CC311=\"YES\",IF(ISERROR(VLOOKUP($A311+8860000,'Growth Data'!$A:$Z,8,0)),0,VLOOKUP($A311+8860000,'Growth Data'!$A:$Z,8,0)),0)","v":0},0,null,null,null,0]
[4534,"Simon Langton Girls' Grammar School",null,"Simon Langton Girls' Grammar School","Simon Langton Girls' Grammar School",0,null,4059993,4059993,0,null,0,0,0,null,4059993,4059993,0,null,13538.34,13538.335010000003,0,null,null,null,0,null,0,0,0,null,35063.050000000003,null,35063,null,2493.69,null,2494,null,0,null,0,null,0,null,0,null,null,null,0,null,null,null,0,null,null,null,0,null,null,null,0,null,"NO",{"$f":"IF(ISERROR(VLOOKUP($A312+8860000,'Growth Data'!$A:$F,3,0)),\"NO\",VLOOKUP($A312+8860000,'Growth Data'!$A:$F,3,0))","v":"NO"},0,null,0,{"$f":"IF(BM312=\"YES\",IF(ISERROR(VLOOKUP($A312+8860000,'Growth Data'!$A:$F,6,0)),0,VLOOKUP($A312+8860000,'Growth Data'!$A:$F,6,0)),0)","v":0},0,null,"NO",{"$f":"IF(ISERROR(VLOOKUP($A312+8860000,'Growth Data'!$A:$F,4,0)),\"NO\",VLOOKUP($A312+8860000,'Growth Data'!$A:$F,4,0))","v":"NO"},0,null,0,{"$f":"IF(BU312=\"YES\",IF(ISERROR(VLOOKUP($A312+8860000,'Growth Data'!$A:$Z,7,0)),0,VLOOKUP($A312+8860000,'Growth Data'!$A:$Z,7,0)),0)","v":0},0,null,"NO",{"$f":"IF(ISERROR(VLOOKUP($A312+8860000,'Growth Data'!$A:$F,5,0)),\"NO\",VLOOKUP($A312+8860000,'Growth Data'!$A:$F,5,0))","v":"NO"},0,null,0,{"$f":"IF(CC312=\"YES\",IF(ISERROR(VLOOKUP($A312+8860000,'Growth Data'!$A:$Z,8,0)),0,VLOOKUP($A312+8860000,'Growth Data'!$A:$Z,8,0)),0)","v":0},0,null,null,null,0]
[4622,"Judd School, The",null,"Judd School, The","Judd School, The",0,null,3861789,3861789,0,null,0,0,0,null,3861789,3861789,0,null,13277.36,13277.355058000001,0,null,null,null,0,null,0,0,0,null,141317.09,null,141317,null,0,null,0,null,19333.330000000002,null,19333,null,29000,null,29000,null,null,null,0,null,null,null,0,null,null,null,0,null,null,null,0,null,"NO",{"$f":"IF(ISERROR(VLOOKUP($A313+8860000,'Growth Data'!$A:$F,3,0)),\"NO\",VLOOKUP($A313+8860000,'Growth Data'!$A:$F,3,0))","v":"NO"},0,null,0,{"$f":"IF(BM313=\"YES\",IF(ISERROR(VLOOKUP($A313+8860000,'Growth Data'!$A:$F,6,0)),0,VLOOKUP($A313+8860000,'Growth Data'!$A:$F,6,0)),0)","v":0},0,null,"NO",{"$f":"IF(ISERROR(VLOOKUP($A313+8860000,'Growth Data'!$A:$F,4,0)),\"NO\",VLOOKUP($A313+8860000,'Growth Data'!$A:$F,4,0))","v":"NO"},0,null,0,{"$f":"IF(BU313=\"YES\",IF(ISERROR(VLOOKUP($A313+8860000,'Growth Data'!$A:$Z,7,0)),0,VLOOKUP($A313+8860000,'Growth Data'!$A:$Z,7,0)),0)","v":0},0,null,"NO",{"$f":"IF(ISERROR(VLOOKUP($A313+8860000,'Growth Data'!$A:$F,5,0)),\"NO\",VLOOKUP($A313+8860000,'Growth Data'!$A:$F,5,0))","v":"YES"},1,null,0,{"$f":"IF(CC313=\"YES\",IF(ISERROR(VLOOKUP($A313+8860000,'Growth Data'!$A:$Z,8,0)),0,VLOOKUP($A313+8860000,'Growth Data'!$A:$Z,8,0)),0)","v":0},0,null,null,null,0]
[5407,"Thamesview School",null,"Thamesview School","Thamesview School",0,null,5046291.3099999996,5046291.306685403,0,null,0,0,0,null,5046291.3099999996,5046291.306685403,0,null,12706.46,12706.461413000003,0,null,null,null,0,null,0,0,0,null,69671.28,null,69671,null,0,null,0,null,0,null,0,null,0,null,0,null,null,null,0,null,null,null,0,null,null,null,0,null,null,null,0,null,"NO",{"$f":"IF(ISERROR(VLOOKUP($A314+8860000,'Growth Data'!$A:$F,3,0)),\"NO\",VLOOKUP($A314+8860000,'Growth Data'!$A:$F,3,0))","v":"NO"},0,null,0,{"$f":"IF(BM314=\"YES\",IF(ISERROR(VLOOKUP($A314+8860000,'Growth Data'!$A:$F,6,0)),0,VLOOKUP($A314+8860000,'Growth Data'!$A:$F,6,0)),0)","v":0},0,null,"NO",{"$f":"IF(ISERROR(VLOOKUP($A314+8860000,'Growth Data'!$A:$F,4,0)),\"NO\",VLOOKUP($A314+8860000,'Growth Data'!$A:$F,4,0))","v":"NO"},0,null,0,{"$f":"IF(BU314=\"YES\",IF(ISERROR(VLOOKUP($A314+8860000,'Growth Data'!$A:$Z,7,0)),0,VLOOKUP($A314+8860000,'Growth Data'!$A:$Z,7,0)),0)","v":0},0,null,"NO",{"$f":"IF(ISERROR(VLOOKUP($A314+8860000,'Growth Data'!$A:$F,5,0)),\"NO\",VLOOKUP($A314+8860000,'Growth Data'!$A:$F,5,0))","v":"NO"},0,null,0,{"$f":"IF(CC314=\"YES\",IF(ISERROR(VLOOKUP($A314+8860000,'Growth Data'!$A:$Z,8,0)),0,VLOOKUP($A314+8860000,'Growth Data'!$A:$Z,8,0)),0)","v":0},0,null,null,null,0]
[5410,"Aylesford School - Sports College",null,"Aylesford School - Sports College","Aylesford School - Sports College",0,null,4334126.49,4334126.4855860285,0,null,0,0,0,null,4334126.49,4334126.4855860285,0,null,11140.58,11140.581701000001,0,null,null,null,0,null,0,0,0,null,193252.74,null,193253,null,0,null,0,null,0,null,0,null,0,null,0,null,null,null,0,null,null,null,0,null,null,null,0,null,null,null,0,null,"NO",{"$f":"IF(ISERROR(VLOOKUP($A315+8860000,'Growth Data'!$A:$F,3,0)),\"NO\",VLOOKUP($A315+8860000,'Growth Data'!$A:$F,3,0))","v":"NO"},0,null,0,{"$f":"IF(BM315=\"YES\",IF(ISERROR(VLOOKUP($A315+8860000,'Growth Data'!$A:$F,6,0)),0,VLOOKUP($A315+8860000,'Growth Data'!$A:$F,6,0)),0)","v":0},0,null,"NO",{"$f":"IF(ISERROR(VLOOKUP($A315+8860000,'Growth Data'!$A:$F,4,0)),\"NO\",VLOOKUP($A315+8860000,'Growth Data'!$A:$F,4,0))","v":"NO"},0,null,0,{"$f":"IF(BU315=\"YES\",IF(ISERROR(VLOOKUP($A315+8860000,'Growth Data'!$A:$Z,7,0)),0,VLOOKUP($A315+8860000,'Growth Data'!$A:$Z,7,0)),0)","v":0},0,null,"NO",{"$f":"IF(ISERROR(VLOOKUP($A315+8860000,'Growth Data'!$A:$F,5,0)),\"NO\",VLOOKUP($A315+8860000,'Growth Data'!$A:$F,5,0))","v":"NO"},0,null,0,{"$f":"IF(CC315=\"YES\",IF(ISERROR(VLOOKUP($A315+8860000,'Growth Data'!$A:$Z,8,0)),0,VLOOKUP($A315+8860000,'Growth Data'!$A:$Z,8,0)),0)","v":0},0,null,null,null,0]
[5412,"Simon Langton Grammar School for Boys",null,"Simon Langton Grammar School for Boys","Simon Langton Grammar School for Boys",0,null,3097201,3097201,0,null,0,0,0,null,3097201,3097201,0,null,10651.24,10651.244291000001,0,null,null,null,0,null,0,0,0,null,63836,null,63836,null,0,null,0,null,0,null,0,null,0,null,0,null,null,null,0,null,null,null,0,null,null,null,0,null,null,null,0,null,"NO",{"$f":"IF(ISERROR(VLOOKUP($A316+8860000,'Growth Data'!$A:$F,3,0)),\"NO\",VLOOKUP($A316+8860000,'Growth Data'!$A:$F,3,0))","v":"NO"},0,null,0,{"$f":"IF(BM316=\"YES\",IF(ISERROR(VLOOKUP($A316+8860000,'Growth Data'!$A:$F,6,0)),0,VLOOKUP($A316+8860000,'Growth Data'!$A:$F,6,0)),0)","v":0},0,null,"NO",{"$f":"IF(ISERROR(VLOOKUP($A316+8860000,'Growth Data'!$A:$F,4,0)),\"NO\",VLOOKUP($A316+8860000,'Growth Data'!$A:$F,4,0))","v":"NO"},0,null,0,{"$f":"IF(BU316=\"YES\",IF(ISERROR(VLOOKUP($A316+8860000,'Growth Data'!$A:$Z,7,0)),0,VLOOKUP($A316+8860000,'Growth Data'!$A:$Z,7,0)),0)","v":0},0,null,"NO",{"$f":"IF(ISERROR(VLOOKUP($A316+8860000,'Growth Data'!$A:$F,5,0)),\"NO\",VLOOKUP($A316+8860000,'Growth Data'!$A:$F,5,0))","v":"NO"},0,null,0,{"$f":"IF(CC316=\"YES\",IF(ISERROR(VLOOKUP($A316+8860000,'Growth Data'!$A:$Z,8,0)),0,VLOOKUP($A316+8860000,'Growth Data'!$A:$Z,8,0)),0)","v":0},0,null,null,null,0]
[5425,"Malling School, The",null,"Malling School, The","Malling School, The",0,null,4454686.41,4454686.4148486676,0,null,0,0,0,null,4454686.41,4454686.4148486676,0,null,11760.41,11760.409087000002,0,null,null,null,0,null,0,0,0,null,5580,null,5580,null,5442,null,5442,null,0,null,0,null,0,null,0,null,null,null,0,null,null,null,0,null,null,null,0,null,null,null,0,null,"NO",{"$f":"IF(ISERROR(VLOOKUP($A317+8860000,'Growth Data'!$A:$F,3,0)),\"NO\",VLOOKUP($A317+8860000,'Growth Data'!$A:$F,3,0))","v":"NO"},0,null,0,{"$f":"IF(BM317=\"YES\",IF(ISERROR(VLOOKUP($A317+8860000,'Growth Data'!$A:$F,6,0)),0,VLOOKUP($A317+8860000,'Growth Data'!$A:$F,6,0)),0)","v":0},0,null,"YES",{"$f":"IF(ISERROR(VLOOKUP($A317+8860000,'Growth Data'!$A:$F,4,0)),\"NO\",VLOOKUP($A317+8860000,'Growth Data'!$A:$F,4,0))","v":"NO"},1,null,56,{"$f":"IF(BU317=\"YES\",IF(ISERROR(VLOOKUP($A317+8860000,'Growth Data'!$A:$Z,7,0)),0,VLOOKUP($A317+8860000,'Growth Data'!$A:$Z,7,0)),0)","v":0},56,null,"NO",{"$f":"IF(ISERROR(VLOOKUP($A317+8860000,'Growth Data'!$A:$F,5,0)),\"NO\",VLOOKUP($A317+8860000,'Growth Data'!$A:$F,5,0))","v":"NO"},0,null,0,{"$f":"IF(CC317=\"YES\",IF(ISERROR(VLOOKUP($A317+8860000,'Growth Data'!$A:$Z,8,0)),0,VLOOKUP($A317+8860000,'Growth Data'!$A:$Z,8,0)),0)","v":0},0,null,null,null,0]
[5426,"Archbishop's School, The",null,"Archbishop's School, The","Archbishop's School, The",0,null,3464345.72,3464345.7203482143,0,null,0,0,0,null,3464345.72,3464345.7203482143,0,null,11515.74,11515.740382,0,null,null,null,0,null,0,0,0,null,207612.34,null,207612,null,0,null,0,null,0,null,0,null,0,null,0,null,null,null,0,null,null,null,0,null,null,null,0,null,null,null,0,null,"NO",{"$f":"IF(ISERROR(VLOOKUP($A318+8860000,'Growth Data'!$A:$F,3,0)),\"NO\",VLOOKUP($A318+8860000,'Growth Data'!$A:$F,3,0))","v":"NO"},0,null,0,{"$f":"IF(BM318=\"YES\",IF(ISERROR(VLOOKUP($A318+8860000,'Growth Data'!$A:$F,6,0)),0,VLOOKUP($A318+8860000,'Growth Data'!$A:$F,6,0)),0)","v":0},0,null,"NO",{"$f":"IF(ISERROR(VLOOKUP($A318+8860000,'Growth Data'!$A:$F,4,0)),\"NO\",VLOOKUP($A318+8860000,'Growth Data'!$A:$F,4,0))","v":"NO"},0,null,0,{"$f":"IF(BU318=\"YES\",IF(ISERROR(VLOOKUP($A318+8860000,'Growth Data'!$A:$Z,7,0)),0,VLOOKUP($A318+8860000,'Growth Data'!$A:$Z,7,0)),0)","v":0},0,null,"NO",{"$f":"IF(ISERROR(VLOOKUP($A318+8860000,'Growth Data'!$A:$F,5,0)),\"NO\",VLOOKUP($A318+8860000,'Growth Data'!$A:$F,5,0))","v":"NO"},0,null,0,{"$f":"IF(CC318=\"YES\",IF(ISERROR(VLOOKUP($A318+8860000,'Growth Data'!$A:$Z,8,0)),0,VLOOKUP($A318+8860000,'Growth Data'!$A:$Z,8,0)),0)","v":0},0,null,null,null,0]
[5431,"Hugh Christie Technology College",null,"Hugh Christie Technology College","Hugh Christie Technology College",0,null,4460424.0199999996,4460424.0183366071,0,null,0,0,0,null,4460424.0199999996,4460424.0183366071,0,null,11450.5,11450.495394000001,0,null,null,null,0,null,0,0,0,null,99631.679999999993,null,99632,null,0,null,0,null,0,null,0,null,0,null,0,null,null,null,0,null,null,null,0,null,null,null,0,null,null,null,0,null,"NO",{"$f":"IF(ISERROR(VLOOKUP($A319+8860000,'Growth Data'!$A:$F,3,0)),\"NO\",VLOOKUP($A319+8860000,'Growth Data'!$A:$F,3,0))","v":"NO"},0,null,0,{"$f":"IF(BM319=\"YES\",IF(ISERROR(VLOOKUP($A319+8860000,'Growth Data'!$A:$F,6,0)),0,VLOOKUP($A319+8860000,'Growth Data'!$A:$F,6,0)),0)","v":0},0,null,"NO",{"$f":"IF(ISERROR(VLOOKUP($A319+8860000,'Growth Data'!$A:$F,4,0)),\"NO\",VLOOKUP($A319+8860000,'Growth Data'!$A:$F,4,0))","v":"NO"},0,null,0,{"$f":"IF(BU319=\"YES\",IF(ISERROR(VLOOKUP($A319+8860000,'Growth Data'!$A:$Z,7,0)),0,VLOOKUP($A319+8860000,'Growth Data'!$A:$Z,7,0)),0)","v":0},0,null,"NO",{"$f":"IF(ISERROR(VLOOKUP($A319+8860000,'Growth Data'!$A:$F,5,0)),\"NO\",VLOOKUP($A319+8860000,'Growth Data'!$A:$F,5,0))","v":"NO"},0,null,0,{"$f":"IF(CC319=\"YES\",IF(ISERROR(VLOOKUP($A319+8860000,'Growth Data'!$A:$Z,8,0)),0,VLOOKUP($A319+8860000,'Growth Data'!$A:$Z,8,0)),0)","v":0},0,null,null,null,0]
[5456,"Northfleet Technology College",null,"Northfleet Technology College","Northfleet Technology College",0,null,5175449.59,5175449.5893096207,0,null,0,0,0,null,5175449.59,5175449.5893096207,0,null,13603.58,13603.579998000003,0,null,null,null,0,null,0,0,0,null,81812.509999999995,null,81813,null,0,null,0,null,0,null,0,null,0,null,0,null,null,null,0,null,null,null,0,null,null,null,0,null,null,null,0,null,"NO",{"$f":"IF(ISERROR(VLOOKUP($A320+8860000,'Growth Data'!$A:$F,3,0)),\"NO\",VLOOKUP($A320+8860000,'Growth Data'!$A:$F,3,0))","v":"NO"},0,null,0,{"$f":"IF(BM320=\"YES\",IF(ISERROR(VLOOKUP($A320+8860000,'Growth Data'!$A:$F,6,0)),0,VLOOKUP($A320+8860000,'Growth Data'!$A:$F,6,0)),0)","v":0},0,null,"NO",{"$f":"IF(ISERROR(VLOOKUP($A320+8860000,'Growth Data'!$A:$F,4,0)),\"NO\",VLOOKUP($A320+8860000,'Growth Data'!$A:$F,4,0))","v":"NO"},0,null,0,{"$f":"IF(BU320=\"YES\",IF(ISERROR(VLOOKUP($A320+8860000,'Growth Data'!$A:$Z,7,0)),0,VLOOKUP($A320+8860000,'Growth Data'!$A:$Z,7,0)),0)","v":0},0,null,"NO",{"$f":"IF(ISERROR(VLOOKUP($A320+8860000,'Growth Data'!$A:$F,5,0)),\"NO\",VLOOKUP($A320+8860000,'Growth Data'!$A:$F,5,0))","v":"NO"},0,null,0,{"$f":"IF(CC320=\"YES\",IF(ISERROR(VLOOKUP($A320+8860000,'Growth Data'!$A:$Z,8,0)),0,VLOOKUP($A320+8860000,'Growth Data'!$A:$Z,8,0)),0)","v":0},0,null,null,null,0]
[5459,"Dover Grammar School for Boys",null,"Dover Grammar School for Boys","Dover Grammar School for Boys",0,null,2973456,2973456,0,null,0,0,0,null,2973456,2973456,0,null,10259.77,10259.774363,0,null,null,null,0,null,0,0,0,null,52202.35,null,52202,null,779.76,null,780,null,0,null,0,null,0,null,0,null,null,null,0,null,null,null,0,null,null,null,0,null,null,null,0,null,"NO",{"$f":"IF(ISERROR(VLOOKUP($A321+8860000,'Growth Data'!$A:$F,3,0)),\"NO\",VLOOKUP($A321+8860000,'Growth Data'!$A:$F,3,0))","v":"NO"},0,null,0,{"$f":"IF(BM321=\"YES\",IF(ISERROR(VLOOKUP($A321+8860000,'Growth Data'!$A:$F,6,0)),0,VLOOKUP($A321+8860000,'Growth Data'!$A:$F,6,0)),0)","v":0},0,null,"NO",{"$f":"IF(ISERROR(VLOOKUP($A321+8860000,'Growth Data'!$A:$F,4,0)),\"NO\",VLOOKUP($A321+8860000,'Growth Data'!$A:$F,4,0))","v":"NO"},0,null,0,{"$f":"IF(BU321=\"YES\",IF(ISERROR(VLOOKUP($A321+8860000,'Growth Data'!$A:$Z,7,0)),0,VLOOKUP($A321+8860000,'Growth Data'!$A:$Z,7,0)),0)","v":0},0,null,"NO",{"$f":"IF(ISERROR(VLOOKUP($A321+8860000,'Growth Data'!$A:$F,5,0)),\"NO\",VLOOKUP($A321+8860000,'Growth Data'!$A:$F,5,0))","v":"NO"},0,null,0,{"$f":"IF(CC321=\"YES\",IF(ISERROR(VLOOKUP($A321+8860000,'Growth Data'!$A:$Z,8,0)),0,VLOOKUP($A321+8860000,'Growth Data'!$A:$Z,8,0)),0)","v":0},0,null,null,null,0]
[5461,"St John's Catholic Comprehensive School",null,"St John's Catholic Comprehensive School","St John's Catholic Comprehensive School",0,null,5981075.9100000001,5981075.9094741503,0,null,0,0,0,null,5981075.9100000001,5981075.9094741503,0,null,15120.53,15120.525969,0,null,null,null,0,null,0,0,0,null,114196.92,null,114197,null,0,null,0,null,0,null,0,null,0,null,0,null,null,null,0,null,null,null,0,null,null,null,0,null,null,null,0,null,"NO",{"$f":"IF(ISERROR(VLOOKUP($A322+8860000,'Growth Data'!$A:$F,3,0)),\"NO\",VLOOKUP($A322+8860000,'Growth Data'!$A:$F,3,0))","v":"NO"},0,null,0,{"$f":"IF(BM322=\"YES\",IF(ISERROR(VLOOKUP($A322+8860000,'Growth Data'!$A:$F,6,0)),0,VLOOKUP($A322+8860000,'Growth Data'!$A:$F,6,0)),0)","v":0},0,null,"NO",{"$f":"IF(ISERROR(VLOOKUP($A322+8860000,'Growth Data'!$A:$F,4,0)),\"NO\",VLOOKUP($A322+8860000,'Growth Data'!$A:$F,4,0))","v":"NO"},0,null,0,{"$f":"IF(BU322=\"YES\",IF(ISERROR(VLOOKUP($A322+8860000,'Growth Data'!$A:$Z,7,0)),0,VLOOKUP($A322+8860000,'Growth Data'!$A:$Z,7,0)),0)","v":0},0,null,"NO",{"$f":"IF(ISERROR(VLOOKUP($A322+8860000,'Growth Data'!$A:$F,5,0)),\"NO\",VLOOKUP($A322+8860000,'Growth Data'!$A:$F,5,0))","v":"NO"},0,null,0,{"$f":"IF(CC322=\"YES\",IF(ISERROR(VLOOKUP($A322+8860000,'Growth Data'!$A:$Z,8,0)),0,VLOOKUP($A322+8860000,'Growth Data'!$A:$Z,8,0)),0)","v":0},0,null,null,null,0]
[5468,"Royal Harbour Academy, The",null,"Royal Harbour Academy, The","Royal Harbour Academy, The",{"$f":"IF(E323=D323,0,1)","v":0},null,5097220.09,5097220.0914763175,{"$f":"ROUND(H323-I323,0)","v":0},null,0,0,{"$f":"ROUND(L323-M323,0)","v":0},null,5097220.09,5097220.0914763175,{"$f":"ROUND(P323-Q323,0)","v":0},null,12983.75,12983.752612000002,{"$f":"ROUND(T323-U323,0)","v":0},null,null,null,{"$f":"ROUND(X323-Y323,0)","v":0},null,0,0,{"$f":"ROUND(AB323-AC323,0)","v":0},null,166887.41,null,{"$f":"ROUND(AF323-AG323,0)","v":166887},null,0,null,{"$f":"ROUND(AJ323-AK323,0)","v":0},null,20666.669999999998,null,{"$f":"ROUND(AN323-AO323,0)","v":20667},null,31000,null,{"$f":"ROUND(AR323-AS323,0)","v":31000},null,null,null,{"$f":"ROUND(AV323-AW323,0)","v":0},null,null,null,{"$f":"ROUND(AZ323-BA323,0)","v":0},null,null,null,{"$f":"ROUND(BD323-BE323,0)","v":0},null,null,null,{"$f":"ROUND(BH323-BI323,0)","v":0},null,"NO",{"$f":"IF(ISERROR(VLOOKUP($A323+8860000,'Growth Data'!$A:$F,3,0)),\"NO\",VLOOKUP($A323+8860000,'Growth Data'!$A:$F,3,0))","v":"NO"},{"$f":"IF(BL323=BM323,0,1)","v":0},null,0,{"$f":"IF(BM323=\"YES\",IF(ISERROR(VLOOKUP($A323+8860000,'Growth Data'!$A:$F,6,0)),0,VLOOKUP($A323+8860000,'Growth Data'!$A:$F,6,0)),0)","v":0},{"$f":"ROUND(BP323-BQ323,0)","v":0},null,"NO",{"$f":"IF(ISERROR(VLOOKUP($A323+8860000,'Growth Data'!$A:$F,4,0)),\"NO\",VLOOKUP($A323+8860000,'Growth Data'!$A:$F,4,0))","v":"NO"},{"$f":"IF(BT323=BU323,0,1)","v":0},null,0,{"$f":"IF(BU323=\"YES\",IF(ISERROR(VLOOKUP($A323+8860000,'Growth Data'!$A:$Z,7,0)),0,VLOOKUP($A323+8860000,'Growth Data'!$A:$Z,7,0)),0)","v":0},{"$f":"ROUND(BX323-BY323,0)","v":0},null,"NO",{"$f":"IF(ISERROR(VLOOKUP($A323+8860000,'Growth Data'!$A:$F,5,0)),\"NO\",VLOOKUP($A323+8860000,'Growth Data'!$A:$F,5,0))","v":"NO"},{"$f":"IF(CB323=CC323,0,1)","v":0},null,0,{"$f":"IF(CC323=\"YES\",IF(ISERROR(VLOOKUP($A323+8860000,'Growth Data'!$A:$Z,8,0)),0,VLOOKUP($A323+8860000,'Growth Data'!$A:$Z,8,0)),0)","v":0},{"$f":"ROUND(CF323-CG323,0)","v":0},null,null,null,{"$f":"ROUND(CJ323-CK323,0)","v":0}]
[5447,"St George's CE Foundation School",null,"St George's CE Foundation School","St George's CE Foundation School",0,null,6012712.3200000003,6012712.3202141291,0,null,0,0,0,null,6012712.3200000003,6012712.3202141291,0,null,21984.1,21984.098568599999,0,null,null,null,0,null,0,0,0,null,5580,null,5580,null,5442,null,5442,null,0,null,0,null,0,null,0,null,null,null,0,null,null,null,0,null,null,null,0,null,null,null,0,null,"NO",{"$f":"IF(ISERROR(VLOOKUP($A324+8860000,'Growth Data'!$A:$F,3,0)),\"NO\",VLOOKUP($A324+8860000,'Growth Data'!$A:$F,3,0))","v":"NO"},0,null,0,{"$f":"IF(BM324=\"YES\",IF(ISERROR(VLOOKUP($A324+8860000,'Growth Data'!$A:$F,6,0)),0,VLOOKUP($A324+8860000,'Growth Data'!$A:$F,6,0)),0)","v":0},0,null,"NO",{"$f":"IF(ISERROR(VLOOKUP($A324+8860000,'Growth Data'!$A:$F,4,0)),\"NO\",VLOOKUP($A324+8860000,'Growth Data'!$A:$F,4,0))","v":"YES"},1,null,0,{"$f":"IF(BU324=\"YES\",IF(ISERROR(VLOOKUP($A324+8860000,'Growth Data'!$A:$Z,7,0)),0,VLOOKUP($A324+8860000,'Growth Data'!$A:$Z,7,0)),0)","v":0},0,null,"NO",{"$f":"IF(ISERROR(VLOOKUP($A324+8860000,'Growth Data'!$A:$F,5,0)),\"NO\",VLOOKUP($A324+8860000,'Growth Data'!$A:$F,5,0))","v":"YES"},1,null,0,{"$f":"IF(CC324=\"YES\",IF(ISERROR(VLOOKUP($A324+8860000,'Growth Data'!$A:$Z,8,0)),0,VLOOKUP($A324+8860000,'Growth Data'!$A:$Z,8,0)),0)","v":0},0,null,null,null,0]
[null,null,null,null,null,null,null,0,null,null,null,0,null,null,null,0,null,null,null,0,null,null,null,null,null,null,null,0]

{"sheet":"Contents","index":4,"n_rows":19,"n_cols":12,"rows_kept":19,"cut":false,"hidden":false,"merged":[[8,1,8,11],[13,1,13,11],[9,1,9,11],[17,1,17,11],[15,1,15,11],[10,1,10,11],[11,1,11,11],[12,1,12,11],[14,1,14,11],[16,1,16,11],[0,0,1,11],[5,1,5,11],[4,1,4,11],[6,1,6,11],[7,1,7,11],[2,0,2,11],[3,1,3,11]]}
["Contents"]
[]
["Guidance has been written to aid the user in populating this template, to access this guidance click on this link\nUser guidance"]
["Rates Table","The information recorded in this table are Kent’s Local Funding formula rates for 2018-19 and indicative rates for 2019-20"]
["Year 1","This is the summary page for your funding for 2018-19, it includes your School Budget Share (SBS) funding formula, Pupil Premium (PP), Universal Infant Free Schools Meals (UIFSM), Growth funding, Early Years Funding, Post 16 formula funding, De-delegation total and total high needs funding (High Needs Mainstream and Specialist Resource Provision (SRP))."]
["Minimum Funding Guarantee (MFG) Y1","This is the detailed MFG calculation for 2018-19. Any MFG funding will be fed into the Year 1 tab."]
["Pupils","This is the pupil input sheet for the 2019-20 and 2020-21 SBS. It also has a pupil input for 2020-21 if your school is in receipt of rising roll funding."]
["Year 2","This is the summary page for your funding for 2019-20, it includes your School Budget Share (SBS) MFG calculation, Pupil Premium (PP), Universal Infant Free Schools Meals (UIFSM), Growth funding, Early Years Funding, Post formula funding, De-delegation total and total High Needs funding (High Needs Mainstream and Specialist Resource Provision (SRP))."]
["Minimum Funding Guarantee (MFG) Y2","This is the detailed MFG calculation for 2019-20. Any MFG funding will be fed into the Year 2 tab."]
["Year 3","This is the summary page for your funding for 2020-21, it includes your School Budget Share (SBS) MFG calculation, Pupil Premium (PP), Universal Infant Free Schools Meals (UIFSM), Growth funding, Early Years Funding, Post formula funding, De-delegation total and total High Needs funding (High Needs Mainstream and Specialist Resource Provision (SRP))."]
["Early Years","This is the input sheet to calculate your Early Years 3 & 4 years olds free entitlement, 2 Year old funding, Special Educational Needs Inclusion Fund (SENIF), Disability Access Fund (DAF), Early Years Pupil Premium. The outcome of this calculation will feed into tabs Year 1, Year 2 and Year 3."]
["High Needs Mainstream","The purpose of this template is to calculate your High Needs mainstream funding. The facility exists to estimate funding for Years 1, 2 and 3. The outputs for Years 1,2 and 3 will subsequently feed into the relevant Year 1, 2 and 3 tabs."]
["SRP Year 1","The purpose of this template is to calculate your Specialist Resource Provision (SRP) Funding for 2018-19. The outcome of this calculation will feed into your Year 1 table ."]
["SRP Year 1 Rec","The purpose of this template is to summarise a schools SRP budget. Element 1 funding is included in a school’s formula funding allocation (tab Year 1) and Elements 2 and 3 are paid from the Dedicated Schools Grant High Needs Block, which is recorded on SRP Year 1 tab to this template."]
["SRP Year 2 & 3 ","The purpose of this template is to calculate your Specialist Resource Provision (SRP) Funding for 2019-20 and 2020-21. The outcome of this calculation will feed into the respective Year 2 and Year 3 tab."]
["SRP Rates","This tabs provides a breakdown of how the SRP rate has been calculated for each SRP."]
["Growth Funding ","This tab needs to populated with any growth funding, this will be made up of either/both reorganisation funding or/and Rising Roll funding."]
["BPS Summary","This tab will be populated with the outputs from tabs Year 1, 2 and 3 and will be subsequently input into the BPS financial tool."]
[null,null,null,null,null,null,null,null,null,null,null,"V3SRP"]

{"sheet":"Rates Table","index":5,"n_rows":46,"n_cols":16,"rows_kept":46,"cut":false,"hidden":false,"merged":[[38,0,39,0],[5,10,9,12],[2,0,2,12],[32,0,33,0],[13,0,15,0],[16,0,31,0],[34,0,35,0],[36,0,37,0],[42,0,43,0],[42,2,42,12],[43,2,43,12],[40,0,41,0],[40,2,40,12],[41,2,41,12]]}
["Kent Local Funding Formula Funding Rates 2017-18, 2018-19 and 2019-20"]
[]
["As part of the National Funding Formula (NFF) reforms from 2018-19, the Government have introduced an Area Cost Adjustment (ACA).  Kent has two different rates, for Kent Fringe Schools who are in Dartford and Sevenoaks districts, the rate has been set a 0.03709 (3.709%).  For schools in all other districts, the rate has been set a 0.00069(0.069%).  Kent Fringe Schools will receive both ACAs, 0.0364 (3.64%) plus 0.00069 (0.069%) making a total ACA uplift of 0.03709 (3.709%).  Kent County Council has decided both ACA rates will be passed on to its schools in full through the local funding formula.\n\nThe Education & Skills Funding Agency (ESFA) guidance details that the Kent Fringe element and general ACA element are accounted for in different ways. For the London Fringe element, a separate factor (factor 9) has been included in Kent’s local funding formula and for the general ACA (non-fringe) element will be reflected by inflating the individual factor funding rates.\n\nThe table below provides details of Kent’s local funding formula rates for the period 2017-18 to 2019-20.  It is important to note that at the point of running Kent’s Local Funding Formula consultation on the NFF in October/ November that both ACA amounts (3.709% London Fringe and 0.069% ACA) were included as a separate factor (factor 9).  The presentation has now changed as directed by the ESFA and the table below illustrates the inclusion of the ACA uplift of 0.069% to the individual factor funding rates for factors 1 to 8.\n"]
[]
[null,null,null,null,null,null,null,null,null,null,null,null,null,null,null,{"$error":"#REF!"}]
[null,null,null,null,null,null,null,null,null,null,"Full funding rate when NFF is implemented\nFull implementation will depend on the Government next Spending Review (post 2019-20), therefore confirmation of funding rates and full implementation of a schools Hard NFF cannot be provided at this stage. "]
[]
[]
[]
[]
[null,null,null,null,"= B X 0.069%","= B +C",null,"= E X 0.069%","= E + F",null,null,"= H X 0.069%","= H + I"]
[null,null,"A","B","C","D","E","F","G",null,"H","I","J"]
["Factor Number","Factor Description","Kent Local Funding formula rate 2017-18","Kent Funding Formula rate 2018-19 (excluding 0.069% uplift)","Area Cost Adjusment non- fringe element","Kent Funding Formula rate 2018-19 (Including 0.069% uplift)","Indicative - Kent Funding Formula rate 2019-20 (excluding 0.069% uplift)","Area Cost Adjusment non- fringe element","Kent Funding Formula rate 2019-20 (Including 0.069% uplift)",null,"NFF when fully implemented","Area cost Adjustment non-fringe element","NFF including non-fringe ACA (0.069%)"]
[1,"Primary - Basic Entitlement",2739.6599999999994,2746.99,1.895423100000218,2748.8854231,2746.9900000000011,1.8954231000000008,2748.8854231000009,null,2746.99,1.8954230999999997,2748.8854230999996]
[null,"Secondary - KS3 Basic Entitlement",3802.5699999999997,3862.65,2.6652285000003069,3865.3152285000006,3862.6499999999983,2.6652284999999987,3865.3152284999983,null,3862.65,2.6652285,3865.3152285000001]
[null,"Secondary - KS4 Basic Entitlment",4172.8199999999988,4385.8100000000004,3.0262089000003485,4388.8362089000011,4385.8100000000004,3.0262089000000003,4388.8362089000002,null,4385.8100000000004,3.0262089000000003,4388.8362089000002]
[2,"Primary- Free School Meals",359.1,440,0.30360000000003495,440.30360000000002,439.99999999999989,0.30359999999999993,440.3035999999999,null,440,0.30359999999999998,440.30360000000002]
[null,"Secondary- Free School Meals",334.4,440,0.30360000000003495,440.30360000000002,439.99999999999994,0.30359999999999993,440.30359999999996,null,440,0.30359999999999998,440.30360000000002]
[null,"Primary - Ever 6 Free School Meals",0,232.2,0.16021800000001843,232.360218,324.00000000000006,0.22356000000000004,324.22356000000008,null,540,0.37259999999999999,540.37260000000003]
[null,"Secondary - Ever 6 Free School Meals",0,337.55,0.23290950000002683,337.78290950000002,470.99999999999994,0.32498999999999995,471.32498999999996,null,785,0.54164999999999996,785.54165]
[null,"Primary - Income Deprivation Affecting Children Index (F)",410.58269999999999,200,0.13800000000001589,200.13800000000001,200.00000000000009,0.13800000000000004,200.13800000000009,null,200,0.13799999999999998,200.13800000000001]
[null,"Primary - Income Deprivation Affecting Children Index (E)",431.11530000000005,240,0.16560000000001907,240.16560000000001,240.00000000000006,0.16560000000000002,240.16560000000007,null,240,0.1656,240.16560000000001]
[null,"Primary - Income Deprivation Affecting Children Index (D)",452.66759999999999,360,0.2484000000000286,360.2484,359.99999999999989,0.2483999999999999,360.24839999999989,null,360,0.24839999999999998,360.2484]
[null,"Primary - Income Deprivation Affecting Children Index (C)",475.29900000000004,390,0.26910000000003098,390.26910000000004,389.99999999999977,0.26909999999999984,390.26909999999975,null,390,0.26910000000000001,390.26909999999998]
[null,"Primary - Income Deprivation Affecting Children Index (B)",510.94889999999998,420,0.28980000000003336,420.28980000000001,420.00000000000017,0.28980000000000011,420.28980000000018,null,420,0.2898,420.28980000000001]
[null,"Primary - Income Deprivation Affecting Children Index (A)",664.23060000000009,575,0.39675000000004568,575.39675,575,0.39674999999999999,575.39675,null,575,0.39674999999999999,575.39675]
[null,"Secondary - Income Deprivation Affecting Children Index (F)",442.29239999999999,290,0.20010000000002304,290.20010000000002,290.00000000000006,0.20010000000000003,290.20010000000008,null,290,0.2001,290.20010000000002]
[null,"Secondary - Income Deprivation Affecting Children Index (E)",464.40899999999999,390,0.26910000000003098,390.26910000000004,390.00000000000011,0.26910000000000006,390.26910000000009,null,390,0.26910000000000001,390.26909999999998]
[null,"Secondary - Income Deprivation Affecting Children Index (D)",487.63439999999997,515,0.35535000000004091,515.35535000000004,515,0.35535,515.35535000000004,null,515,0.35535,515.35535000000004]
[null,"Secondary - Income Deprivation Affecting Children Index (C)",512.0181,560,0.38640000000004449,560.38640000000009,560.00000000000023,0.38640000000000013,560.38640000000021,null,560,0.38639999999999997,560.38639999999998]
[null,"Secondary - Income Deprivation Affecting Children Index (B)",550.42020000000002,600,0.41400000000004766,600.4140000000001,599.99999999999989,0.41399999999999992,600.41399999999987,null,600,0.41399999999999998,600.41399999999999]
[null,"Secondary - Income Deprivation Affecting Children Index (A)",715.54229999999995,810,0.55890000000006435,810.55890000000011,810.00000000000023,0.55890000000000017,810.55890000000022,null,810,0.55889999999999995,810.55889999999999]
[3,"Primary - Looked After Children",525.41999999999996,0,0,0,0,0,0,null,0,0,0]
[null,"Secondary - Looked After Children",525.41999999999996,0,0,0,0,0,0,null,0,0,0]
[4,"Primary - English as an Additional Language",884.94,515,0.35535000000004091,515.35535000000004,515.00000000000034,0.35535000000000022,515.35535000000039,null,515,0.35535,515.35535000000004]
[null,"Secondary - English as an Additional Language",3343.99,1385,0.95565000000011002,1385.9556500000001,1385.0000000000002,0.95565000000000011,1385.9556500000003,null,1385,0.95565,1385.9556500000001]
[6,"Primary- low cost high incidence",530.52383426511039,640.98993265646743,0.44228305353301345,641.43221571000049,733.40030798959219,0.50604621251281856,733.90635420210504,null,1050,0.72449999999999992,1050.7245]
[null,"Secondary - Low cost high incidence",863.13,1042.8516210589437,0.71956761853075402,1043.5711886774745,1193.1976792558737,0.82330639868655286,1194.0209856545603,null,1550,1.0694999999999999,1551.0695000000001]
[7,"Primary- Lump Sum",120000,120000,82.800000000009533,120082.8,120000,82.8,120082.8,null,110000,75.899999999999991,110075.9]
[null,"Secondary Lump Sum",120000,120000,82.800000000009533,120082.8,120000,82.8,120082.8,null,110000,75.899999999999991,110075.9]
[8,"Factor 8 Sparsity Primary","Rate unique to school"]
[null,"Factor 8 Sparsity Secondary","Rate unique to school"]
[9,"Primary London Fringe Fringe Schools 3.64%","This factor only applies to schools in the Dartford and Sevenoaks Districts. Funding allocated = total funding factors 1 to 8 X 3.64%"]
[null,"Secondary London Fringe Fringe Schools 3.64%","This factor only applies to schools in the Dartford and Sevenoaks Districts. Funding allocated = total funding factors 1 to 8 X 3.64%"]
[null,"Primary - Minimum Funding Level Primary ",0,3200,0,3200,3400,0,3400,null,3500,0,3500]
[null,"Secondary Minimum Funding Level",0,4500,0,4500,4700,0,4700,null,4800,0,4800]

{"sheet":"Year 1","index":6,"n_rows":136,"n_cols":8,"rows_kept":136,"cut":false,"hidden":false,"merged":[[135,2,135,7],[38,1,39,1],[44,1,45,1],[35,1,36,1],[8,1,8,7],[12,1,15,1],[16,1,32,1],[33,1,34,1]]}
[]
[null,null,null,null,null,"DfE Number"]
[]
[]
[null,null,null,null,null,null,"Phase",{"$f":"IFERROR(VLOOKUP(Year1DfE,dataslate,3,0),\"\")","v":""}]
[]
[]
[]
[null,{"$f":"IF(ISERROR(VLOOKUP(Year1DfE,dataslate,2,0)),\"\",VLOOKUP(Year1DfE,dataslate,2,0))","v":""}]
[]
[null,"Formula Budget 2018/19"]
[null,{"$f":"IF(SUM($H$64:$H$68)>0,\"Formula Budget now includes SRP pupils\",\"\")","v":""},null,null,null,"Pupils","Rate","Total"]
[null,"Factor 1","Basic Entitlement Primary",null,null,{"$f":"IFERROR(VLOOKUP(Year1DfE,dataslate,4,0),0)","v":0},2748.8854231,{"$f":"(F13*G13)","v":0}]
[null,null,"Basic Entitlement Key Stage 3",null,null,{"$f":"IFERROR(VLOOKUP(Year1DfE,dataslate,5,0),0)","v":0},3865.3152285000001,{"$f":"(F14*G14)","v":0}]
[null,null,"Basic Entitlement Key Stage 4",null,null,{"$f":"IFERROR(VLOOKUP(Year1DfE,dataslate,6,0),0)","v":0},4388.8362089000002,{"$f":"(F15*G15)","v":0}]
[null,null,"Total Basic Entitlement Funding",null,null,null,null,{"$f":"SUM(H13:H15)","v":0}]
[null,"Factor 2","Deprivation FSM - Primary",null,null,{"$f":"IFERROR(IF(OR(year1phase=1,year1phase=4),VLOOKUP(Year1DfE,dataslate,7,0),IF(year1phase=2,0,0)),0)","v":0},440.30360000000002,{"$f":"(F17*G17)","v":0}]
[null,null,"Deprivation FSM - Secondary",null,null,{"$f":"IFERROR(IF(year1phase=1,0,IF(OR(year1phase=2,year1phase=4),VLOOKUP(Year1DfE,dataslate,8,0),0)),0)","v":0},440.30360000000002,{"$f":"(F18*G18)","v":0}]
[null,null,"Deprivation Ever 6 FSM (Notional SEN Factor) - Primary",null,null,{"$f":"IFERROR(IF(OR(year1phase=1,year1phase=4),VLOOKUP(Year1DfE,dataslate,34,0),IF(year1phase=2,0,0)),0)","v":0},232.360218,{"$f":"(F19*G19)","v":0}]
[null,null,"Deprivation Ever 6 FSM (Notional SEN Factor) - Secondary",null,null,{"$f":"IFERROR(IF(year1phase=1,0,IF(OR(year1phase=2,year1phase=4),VLOOKUP(Year1DfE,dataslate,35,0),0)),0)","v":0},337.78290950000002,0]
[null,null,"Deprivation IDACI Band F (Notional SEN Factor) - Primary",null,null,{"$f":"IFERROR(IF(OR(year1phase=1,year1phase=4),VLOOKUP(Year1DfE,dataslate,9,0),IF(year1phase=2,0,0)),0)","v":0},200.13800000000001,{"$f":"(F21*G21)","v":0}]
[null,null,"Deprivation IDACI Band E (Notional SEN Factor) - Primary",null,null,{"$f":"IFERROR(IF(OR(year1phase=1,year1phase=4),VLOOKUP(Year1DfE,dataslate,10,0),IF(year1phase=2,0,0)),0)","v":0},240.16560000000001,0]
[null,null,"Deprivation IDACI Band D (Notional SEN Factor) - Primary",null,null,{"$f":"IFERROR(IF(OR(year1phase=1,year1phase=4),VLOOKUP(Year1DfE,dataslate,11,0),IF(year1phase=2,0,0)),0)","v":0},360.2484,0]
[null,null,"Deprivation IDACI Band C (Notional SEN Factor) - Primary",null,null,{"$f":"IFERROR(IF(OR(year1phase=1,year1phase=4),VLOOKUP(Year1DfE,dataslate,12,0),IF(year1phase=2,0,0)),0)","v":0},390.26909999999998,0]
[null,null,"Deprivation IDACI Band B (Notional SEN Factor) - Primary",null,null,{"$f":"IFERROR(IF(OR(year1phase=1,year1phase=4),VLOOKUP(Year1DfE,dataslate,13,0),IF(year1phase=2,0,0)),0)","v":0},420.28980000000001,0]
[null,null,"Deprivation IDACI Band A (Notional SEN Factor) - Primary",null,null,{"$f":"IFERROR(IF(OR(year1phase=1,year1phase=4),VLOOKUP(Year1DfE,dataslate,14,0),IF(year1phase=2,0,0)),0)","v":0},575.39675,0]
[null,null,"Deprivation IDACI Band F (Notional SEN Factor) - Secondary",null,null,{"$f":"IFERROR(IF(year1phase=1,0,IF(OR(year1phase=2,year1phase=4),VLOOKUP(Year1DfE,dataslate,15,0),0)),0)","v":0},290.20010000000002,0]
[null,null,"Deprivation IDACI Band E (Notional SEN Factor) - Secondary",null,null,{"$f":"IFERROR(IF(year1phase=1,0,IF(OR(year1phase=2,year1phase=4),VLOOKUP(Year1DfE,dataslate,16,0),0)),0)","v":0},390.26909999999998,0]
[null,null,"Deprivation IDACI Band D (Notional SEN Factor) - Secondary",null,null,{"$f":"IFERROR(IF(year1phase=1,0,IF(OR(year1phase=2,year1phase=4),VLOOKUP(Year1DfE,dataslate,17,0),0)),0)","v":0},515.35535000000004,0]
[null,null,"Deprivation IDACI Band C (Notional SEN Factor) - Secondary",null,null,{"$f":"IFERROR(IF(year1phase=1,0,IF(OR(year1phase=2,year1phase=4),VLOOKUP(Year1DfE,dataslate,18,0),0)),0)","v":0},560.38639999999998,0]
[null,null,"Deprivation IDACI Band B (Notional SEN Factor) - Secondary",null,null,{"$f":"IFERROR(IF(year1phase=1,0,IF(OR(year1phase=2,year1phase=4),VLOOKUP(Year1DfE,dataslate,19,0),0)),0)","v":0},600.41399999999999,0]
[null,null,"Deprivation IDACI Band A (Notional SEN Factor) - Secondary",null,null,{"$f":"IFERROR(IF(year1phase=1,0,IF(OR(year1phase=2,year1phase=4),VLOOKUP(Year1DfE,dataslate,20,0),0)),0)","v":0},810.55889999999999,0]
[null,null,"Total Deprivation Funding",null,null,null,null,{"$f":"SUM(H17:H32)","v":0}]
[null,"Factor 4","English as an additional language (Notional SEN Factor) - Primary",null,null,{"$f":"IFERROR(IF(OR(year1phase=1,year1phase=4),VLOOKUP(Year1DfE,dataslate,23,0),0),0)","v":0},515.35535000000004,{"$f":"(F34*G34)","v":0}]
[null,null,"English as an additional language (Notional SEN Factor) - Secondary",null,null,{"$f":"IFERROR(IF(OR(year1phase=2,year1phase=4),VLOOKUP(Year1DfE,dataslate,24,0),0),0)","v":0},1385.9556500000001,{"$f":"(F35*G35)","v":0}]
[null,"Factor 6","Low cost, high incidence SEN (Notional SEN Factor) - Primary",null,null,{"$f":"IFERROR(IF(OR(year1phase=1,year1phase=4),VLOOKUP(Year1DfE,dataslate,25,0),0),0)","v":0},641.43221571000004,{"$f":"(F36*G36)","v":0}]
[null,null,"Low cost, high incidence SEN (Notional SEN Factor) - Secondary",null,null,{"$f":"IFERROR(IF(OR(year1phase=2,year1phase=4),VLOOKUP(Year1DfE,dataslate,26,0),0),0)","v":0},1043.571188677,{"$f":"(F37*G37)","v":0}]
[null,"Factor 7","Lump Sum (Partial Notional SEN Factor) - Primary £6,235, Secondary £5,580",null,null,null,null,{"$f":"IF(OR(Year1DfE=\"\",Year1DfE=1001),0,120082.8)","v":0}]
[null,"Factor 8","Sparsity - Primary",null,null,null,null,{"$f":"IFERROR(IF(OR(year1phase=1,year1phase=4),VLOOKUP(Year1DfE,dataslate,21,0),IF(year1phase=2,0,0)),0)","v":0}]
[null,null,"Sparsity - Secondary",null,null,null,null,{"$f":"IFERROR(IF(year1phase=1,0,IF(OR(year1phase=2,year1phase=4),VLOOKUP(Year1DfE,dataslate,22,0),0)),0)","v":0}]
[null,"Factor 9","Area Cost Adjustment - London Fringe (3.64%) (Factors 1 to 8)",null,null,null,null,{"$f":"IFERROR(SUM(H16+SUM(H33:H40))*SUM(VLOOKUP(Year1DfE,dataslate,27,0)-1),0)","v":0}]
[null,"Factor 11","Rates",null,null,null,null,{"$f":"IFERROR(VLOOKUP(Year1DfE,dataslate,28,0),0)","v":0}]
[null,"Factor 12","PFI funding",null,null,null,null,{"$f":"IFERROR(VLOOKUP(Year1DfE,dataslate,29,0),0)","v":0}]
[null,"Factor 13","Exceptional Premises Factors",null,null,null,null,{"$f":"IFERROR(VLOOKUP(Year1DfE,dataslate,30,0),0)","v":0}]
[null,"Factor 14","Minimum Funding Levels - Primary",null,null,null,null,{"$f":"IFERROR(MAX(0,SUM(SUM(3200-SUM(SUM(H13+H17+H19+H21+H22+H23+H24+H25+H26+H34+H36+H39+H38+Year1F9+H43+H44)/F13))*F13)),0)","v":0}]
[null,null,"Minimum Funding Levels - Secondary",null,null,null,null,{"$f":"IFERROR(MAX(0,SUM(SUM(4500-SUM(SUM(H14+H15+H18+H20+H27+H28+H29+H30+H31+H32+H35+H37+H40+H38+Year1F9+H43+H44)/SUM(F14+F15)))*SUM(F14+F15))),0)","v":0}]
[]
[null,null,"Formula Factors Total",null,null,null,null,{"$f":"H16+H33+SUM(H34:H46)","v":0}]
[]
[null,null,"Minimum Funding Guarantee (MFG)",null,null,null,null,{"$f":"mfgadj","v":0}]
[]
[null,null,"School Budget Share (SBS) 2018/19",null,null,null,null,{"$f":"MFG+Year1TotalF","v":0}]
[]
[null,null,"Estimated Growth Funding",null,null,null,null,{"$f":"'Growth Funding'!H55","v":0}]
[]
[null,null,"School Budget Share (SBS) 2018/19 - Including Growth Funding",null,null,null,null,{"$f":"TotalSBS+H54","v":0}]
[]
[null,null,"High Needs Mainstream Funding 2018/19 - Element 3 Top Up",null,null,null,null,{"$f":"'High Needs Mainstream'!AC83","v":0}]
[null,null,"High Needs Mainstream Funding 2018/19 - Notional SEN Top Up",null,null,null,null,{"$f":"'High Needs Mainstream'!AQ85","v":0}]
[null,null,"High Needs Mainstream Funding 2018/19 - Element 2 Post 16",null,null,null,null,{"$f":"'High Needs Mainstream'!BE83","v":0}]
[]
[null,null,"Total High Needs Mainstream Funding 2018/19",null,null,null,null,{"$f":"SUM(H58:H60)","v":0}]
[]
[null,null,"High Needs Specialist Resource Provision (SRP) Funding 2018/19 - Excess Place Funding Pre-16 E1 (£4k)",null,null,null,null,{"$f":"srpelement1","v":0}]
[null,null,"High Needs Specialist Resource Provision (SRP) Funding 2018/19 - Place Funding Pre-16 E2 (£6k)",null,null,null,null,{"$f":"'SRP Year 1'!H23","v":0}]
[null,null,"High Needs Specialist Resource Provision (SRP) Funding 2018/19 - Place Funding Post-16 E2 (£6k)",null,null,null,null,{"$f":"'SRP Year 1'!H69","v":0}]
[null,null,"High Needs Specialist Resource Provision (SRP) Funding 2018/19 - Excess Place Funding E2 (£6k)",null,null,null,null,{"$f":"'SRP Year 1'!H70","v":0}]
[null,null,"High Needs Specialist Resource Provision (SRP) Funding 2018/19 - Element 3 Top Up",null,null,null,null,{"$f":"'SRP Year 1'!H71","v":0}]
[]
[null,null,"Total High Needs Specialist Resource Provision (SRP) Funding 2018/19",null,null,null,null,{"$f":"SUM(H64:H68)","v":0}]
[]
[null,null,"Early Years",null,null,null,null,{"$f":"earlyyears+SUM('Early Years'!$C$120:$E$120)+'Early Years'!$C$125+'Early Years'!$C$126","v":0}]
[]
[null,null,"Post 16 allocation (Apr - Jul)"]
[null,null,"Post 16 allocation (Aug - Mar)"]
[null,null,"Total Post 16 ",null,null,null,null,{"$f":"SUM(H74:H75)","v":0}]
[]
[null,"Estimated Pupil Premium (PP)"]
[null,null,null,null,null,"Units","Rate","Total"]
[null,null,"Free School Meals Ever 6 Primary (January census)",null,null,null,{"$f":"IF(Year1DfE=1001,0,1320)","v":1320},{"$f":"F80*G80","v":0}]
[null,null,"Free School Meals Ever 6 Secondary (January census)",null,null,null,{"$f":"IF(Year1DfE=1001,0,935)","v":935},{"$f":"F81*G81","v":0}]
[null,null,"Adopted (Post-LAC) pupils (January census)",null,null,null,{"$f":"IF(Year1DfE=1001,0,2300)","v":2300},{"$f":"F82*G82","v":0}]
[null,null,"Children in Care (CiC) "]
[null,null,"Service Children Ever 6 (January census)",null,null,null,{"$f":"IF(Year1DfE=1001,0,300)","v":300},{"$f":"F84*G84","v":0}]
[null,null,"Pupil Premium 3 & 4 year olds (input Early Years tab)",null,null,null,null,{"$f":"SUM('Early Years'!C91:E91)","v":0}]
[null,null,"Total Pupil Premium",null,null,null,null,{"$f":"SUM(H80:H85)","v":0}]
[]
[]
[null,"Universal Infant Free School Meals"]
[]
[null,null,"April to August 2018"]
[]
[null,null,"October 2017 Taken meals years 1 & 2"]
[null,null,"January 2018 Taken meals years 1 & 2"]
[null,null,"October 2017 Taken meals year R"]
[null,null,"January 2018 Taken meals year R"]
[null,null,"Qualifying pupils",null,null,null,null,{"$f":"((H93+H94)/2)+MAX(H96,((H95+H96)/2))","v":0}]
[null,null,"*190 meals (qualifying pupils X 190)",null,null,null,null,{"$f":"H97*190","v":0}]
[null,null,"Rate per meal",null,null,null,null,2.2999999999999998]
[null,null,"Full Year allocation (September 2017 to August 2018)",null,null,null,null,{"$f":"H99*H98","v":0}]
[]
[null,null,"Remaining Allocation for 2017/18 academic year (April to August 2018)",null,null,null,null,{"$f":"H100*(5/12)","v":0}]
[]
[]
[null,null,"September 2018 to March 2019 ESTIMATE"]
[null,null,"The DfE have not yet confirmed how this period will be calculated. However, we have assumed this is on the same basis as 2017/18 guidance."]
[null,null,"October 2018 Taken meals (ESTIMATE) years 1 & 2"]
[null,null,"January 2019 Taken meals (ESTIMATE) years 1 & 2"]
[null,null,"October 2018 Taken meals (ESTIMATE) year R"]
[null,null,"January 2019 Taken meals (ESTIMATE) year R"]
[null,null,"Qualifying pupils",null,null,null,null,{"$f":"((H107+H108)/2)+MAX(H110,((H109+H110)/2))","v":0}]
[null,null,"*190 meals (qualifying pupils X 190)",null,null,null,null,{"$f":"H111*190","v":0}]
[null,null,"Rate per meal",null,null,null,null,2.2999999999999998]
[null,null,"Full Year allocation (September 2018 to August 2019)",null,null,null,null,{"$f":"H113*H112","v":0}]
[]
[null,null,"Estimated Allocation for 2018/19 academic year (September to March 2019)",null,null,null,null,{"$f":"H114*(7/12)","v":0}]
[]
[]
[null,null,"UIFSM Estimated total funding in financial year 2018/19",null,null,null,null,{"$f":"SUM(H102,H116)","v":0}]
[]
[]
[null,null,"Overall total estimated funding 2018-19",null,null,null,null,{"$f":"SUM(H56,H62,H70,H72,H74:H75,H86,H119)","v":0}]
[]
[]
[null,"De-Delegation"]
[null,null,null,null,null,null,"Rate","De-Delegation"]
[null,null,"Schools in financial difficulties (E23)",null,null,null,{"$f":"IF(year1phase=1,18.8229789,IF(year1phase=2,9.4565205,IF(year1phase=4,10.803184,0)))","v":0},{"$f":"IF(Year1F9>0,SUM(G127*SUM($F$13:$F$15))*1.0364,SUM(G127*SUM($F$13:$F$15)))","v":0}]
[null,null,"Free School Meals Eligibility (E28)",null,null,null,{"$f":"IF(OR(year1phase=1,year1phase=2,year1phase=4),0.5703933,0)","v":0},{"$f":"IF(Year1F9>0,SUM(G128*SUM($F$13:$F$15))*1.0364,SUM(G128*SUM($F$13:$F$15)))","v":0}]
[null,null,"Licences and Subscriptions (SIMS) (E19)",null,null,null,{"$f":"IF(OR(year1phase=1,year1phase=2,year1phase=4),3.6325047,0)","v":0},{"$f":"IF(Year1F9>0,SUM(G129*SUM($F$13:$F$15))*1.0364,SUM(G129*SUM($F$13:$F$15)))","v":0}]
[null,null,"Trade Union Duties (E10)",null,null,null,{"$f":"IF(OR(year1phase=1,year1phase=2,year1phase=4),1.8512765,0)","v":0},{"$f":"IF(Year1F9>0,SUM(G130*SUM($F$13:$F$15))*1.0364,SUM(G130*SUM($F$13:$F$15)))","v":0}]
[null,null,"Schools Personnel Service (E28)",null,null,null,{"$f":"IF(OR(year1phase=1,year1phase=2,year1phase=4),0.800552,0)","v":0},{"$f":"IF(Year1F9>0,SUM(G131*SUM($F$13:$F$15))*1.0364,SUM(G131*SUM($F$13:$F$15)))","v":0}]
[null,null,"Area Cost Adjustment (Included in the above)"]
[null,null,"Totals",null,null,null,{"$f":"SUM(ROUND(G127,2)+ROUND(G128,2)+ROUND(G129,2)+ROUND(G130,2)+ROUND(G131,2))","v":0},{"$f":"SUM(H127:H132)","v":0}]
[]
[]
[null,null,"NOTE: Due to rounding, numbers presented throughout this page and others may not add up precisely to the totals provided"]

{"sheet":"MFG Y1","index":7,"n_rows":39,"n_cols":6,"rows_kept":39,"cut":false,"hidden":false,"merged":[[9,1,9,5],[7,1,7,5],[3,9,5,12]]}
[]
[null,null,null,null,null,{"$f":"Year1DfE","v":0}]
[]
[]
[]
[]
[]
[null,{"$f":"schoolname","v":""}]
[]
[null,"Minimum Funding Guarantee (MFG)"]
[]
[null,"School Budget Share (SBS) 2017/18",null,null,null,{"$f":"IFERROR(VLOOKUP(Year1DfE,dataslate,36,0),0)","v":0}]
[]
[null,"Less - Exempt Items 2017/18"]
[null,"Rates",null,null,null,{"$f":"IFERROR(VLOOKUP(Year1DfE,dataslate,37,0),0)","v":0}]
[null,"Lump Sum",null,null,null,{"$f":"IFERROR(VLOOKUP(Year1DfE,dataslate,40,0),0)","v":0}]
[null,"Total Exempt Items",null,null,null,{"$f":"SUM(F15:F16)","v":0}]
[]
[null,"MFG Baseline (SBS 2017/18 less exempt Items)",null,null,null,{"$f":"F12-F17","v":0}]
[]
[null,"October 2016 Pupil Numbers",null,null,null,{"$f":"IFERROR(VLOOKUP(Year1DfE,dataslate,39,0),0)","v":0}]
[null,"MFG per pupil before 1.5% reduction",null,null,null,{"$f":"IFERROR(F19/F21,0)","v":0}]
[null,"1.5% reduction of MFG per Pupil",null,null,null,{"$f":"0.015*F22","v":0}]
[null,"MFG per pupil after 1.5% reduction",null,null,null,{"$f":"F22*0.985","v":0}]
[]
[null,"October 2017 Pupil Numbers",null,null,null,{"$f":"SUM('Year 1'!F13:'Year 1'!F15)","v":0}]
[null,"New MFG baseline Excluding Exempt Items",null,null,null,{"$f":"F24*F26","v":0}]
[]
[null,"Plus - Exempt Items 2018/19"]
[null,"Rates",null,null,null,{"$f":"Year1F11","v":0}]
[null,"Lump Sum",null,null,null,{"$f":"IFERROR(VLOOKUP(Year1DfE,dataslate,41,0),0)","v":0}]
[null,"Sparsity",null,null,null,{"$f":"SUM('Year 1'!H39:H40)","v":0}]
[null,"MFG Technical Adjustment",null,null,null,{"$f":"IF(F2=5425,-187741.977539568,0)","v":0}]
[null,"Total Exempt Items",null,null,null,{"$f":"SUM(F30:F33)","v":0}]
[]
[null,"New MFG Baseline including exempt items (A)",null,null,null,{"$f":"F27+F34","v":0}]
[null,"SBS 2018/19 (B)",null,null,null,{"$f":"Year1TotalF","v":0}]
[null,{"$f":"IF(F36>F37,\"MFG (difference between A and B)\",\"MFG\")","v":"MFG"},null,null,null,{"$f":"IF(F36>F37,SUM(F36-F37),0)","v":0}]
[null,"SBS 2018/19 (the greater of A and B)",null,null,null,{"$f":"MAX(F36:F37)","v":0}]

{"sheet":"Pupils","index":8,"n_rows":30,"n_cols":4,"rows_kept":30,"cut":false,"hidden":false,"merged":[[5,0,6,3],[1,0,1,3]]}
[null,null,null,{"$f":"Year1DfE","v":0}]
[{"$f":"schoolname","v":""}]
[]
["Mainstream Pupil Numbers"]
[]
["Please enter your estimated pupil numbers to calculate future years budgets (October 2020 only needs to be completed if you are entitled to rising roll in 2020/21 - If there is a 'Yes' in cell E43 on the Growth Funding Tab)\n\nWhere a school has a SRP, the pupils in the SRP should be included in this estimate."]
[]
["Year Group","At October 2018","At October 2019","At October 2020"]
["R"]
[1]
[2]
[3]
[4]
[5]
[6]
[7]
[8]
[9]
[10]
[11]
["Total Primary",{"$f":"SUM(B9:B15)","v":0},{"$f":"SUM(C9:C15)","v":0},{"$f":"SUM(D9:D15)","v":0}]
["Total Secondary",{"$f":"SUM(B16:B20)","v":0},{"$f":"SUM(C16:C20)","v":0},{"$f":"SUM(D16:D20)","v":0}]
[]
[]
[]
[]
["Primary",{"$f":"SUM(B9:B15)","v":0},{"$f":"SUM(C9:C15)","v":0}]
["KS3",{"$f":"SUM(B16:B18)","v":0},{"$f":"SUM(C16:C18)","v":0}]
["KS4",{"$f":"SUM(B19:B20)","v":0},{"$f":"SUM(C19:C20)","v":0}]
["Secondary Check",{"$f":"IF(B22=SUM(B28:B29),\"OK\",\"NOT OK\")","v":"OK"},{"$f":"IF(C22=SUM(C28:C29),\"OK\",\"NOT OK\")","v":"OK"}]

{"sheet":"Year 2","index":9,"n_rows":118,"n_cols":6,"rows_kept":118,"cut":false,"hidden":false,"merged":[[117,2,118,5],[1,10,2,10],[11,1,14,1],[15,1,31,1],[32,1,33,1],[9,1,9,2],[34,1,35,1],[37,1,38,1],[43,1,44,1],[6,1,6,4],[1,7,2,9]]}
[]
[null,null,null,null,{"$f":"Year1DfE","v":0}]
[]
[]
[]
[]
[null,{"$f":"schoolname","v":""}]
[]
[null,"2019/20 Budget Projection"]
[null,"This projection is reliant on the completion of the pupis tabs B9 to B20.\nThis forecast is based on the factor profiles for 2018/19 dataset."]
[null,{"$f":"'Year 1'!B12","v":""},null,"Pupils","Rate","Total"]
[null,"Factor 1","Basic Entitlement Primary",{"$f":"Pupils!$B$27","v":0},2748.8854231,{"$f":"SUM(D12*E12)","v":0}]
[null,null,"Basic Entitlement Key Stage 3",{"$f":"Pupils!$B$28","v":0},3865.3152285000001,{"$f":"SUM(D13*E13)","v":0}]
[null,null,"Basic Entitlement Key Stage 4",{"$f":"Pupils!$B$29","v":0},4388.8362089000002,0]
[null,null,"Total Basic Entitlement Funding",null,null,{"$f":"SUM(F12:F14)","v":0}]
[null,"Factor 2","Deprivation FSM - Primary",{"$f":"IFERROR(SUM('Year 1'!F17/'Year 1'!$F$13)*$D$12,0)","v":0},440.30360000000002,0]
[null,null,"Deprivation FSM - Secondary",{"$f":"IFERROR(SUM('Year 1'!F18/SUM('Year 1'!$F$14:$F$15))*SUM($D$13:$D$14),0)","v":0},440.30360000000002,0]
[null,null,"Deprivation Ever 6 FSM (Notional SEN Factor) - Primary",{"$f":"IFERROR(SUM('Year 1'!F19/'Year 1'!$F$13)*$D$12,0)","v":0},324.22356000000002,0]
[null,null,"Deprivation Ever 6 FSM (Notional SEN Factor) - Secondary",{"$f":"IFERROR(SUM('Year 1'!F20/SUM('Year 1'!$F$14:$F$15))*SUM($D$13:$D$14),0)","v":0},471.32499000000001,0]
[null,null,"Deprivation IDACI Band F (Notional SEN Factor) - Primary",{"$f":"IFERROR(SUM('Year 1'!F21/'Year 1'!$F$13)*$D$12,0)","v":0},200.13800000000001,0]
[null,null,"Deprivation IDACI Band E (Notional SEN Factor) - Primary",{"$f":"IFERROR(SUM('Year 1'!F22/'Year 1'!$F$13)*$D$12,0)","v":0},240.16560000000001,0]
[null,null,"Deprivation IDACI Band D (Notional SEN Factor) - Primary",{"$f":"IFERROR(SUM('Year 1'!F23/'Year 1'!$F$13)*$D$12,0)","v":0},360.2484,0]
[null,null,"Deprivation IDACI Band C (Notional SEN Factor) - Primary",{"$f":"IFERROR(SUM('Year 1'!F24/'Year 1'!$F$13)*$D$12,0)","v":0},390.26909999999998,0]
[null,null,"Deprivation IDACI Band B (Notional SEN Factor) - Primary",{"$f":"IFERROR(SUM('Year 1'!F25/'Year 1'!$F$13)*$D$12,0)","v":0},420.28980000000001,0]
[null,null,"Deprivation IDACI Band A (Notional SEN Factor) - Primary",{"$f":"IFERROR(SUM('Year 1'!F26/'Year 1'!$F$13)*$D$12,0)","v":0},575.39675,0]
[null,null,"Deprivation IDACI Band F (Notional SEN Factor) - Secondary",{"$f":"IFERROR(SUM('Year 1'!F27/SUM('Year 1'!$F$14:$F$15))*SUM($D$13:$D$14),0)","v":0},290.20010000000002,0]
[null,null,"Deprivation IDACI Band E (Notional SEN Factor) - Secondary",{"$f":"IFERROR(SUM('Year 1'!F28/SUM('Year 1'!$F$14:$F$15))*SUM($D$13:$D$14),0)","v":0},390.26909999999998,0]
[null,null,"Deprivation IDACI Band D (Notional SEN Factor) - Secondary",{"$f":"IFERROR(SUM('Year 1'!F29/SUM('Year 1'!$F$14:$F$15))*SUM($D$13:$D$14),0)","v":0},515.35535000000004,0]
[null,null,"Deprivation IDACI Band C (Notional SEN Factor) - Secondary",{"$f":"IFERROR(SUM('Year 1'!F30/SUM('Year 1'!$F$14:$F$15))*SUM($D$13:$D$14),0)","v":0},560.38639999999998,0]
[null,null,"Deprivation IDACI Band B (Notional SEN Factor) - Secondary",{"$f":"IFERROR(SUM('Year 1'!F31/SUM('Year 1'!$F$14:$F$15))*SUM($D$13:$D$14),0)","v":0},600.41399999999999,0]
[null,null,"Deprivation IDACI Band A (Notional SEN Factor) - Secondary",{"$f":"IFERROR(SUM('Year 1'!F32/SUM('Year 1'!$F$14:$F$15))*SUM($D$13:$D$14),0)","v":0},810.55889999999999,0]
[null,null,"Total Deprivation Funding",null,null,{"$f":"SUM(F16:F31)","v":0}]
[null,"Factor 4","English as an additional language (Notional SEN Factor) - Primary",{"$f":"IFERROR(SUM('Year 1'!F34/'Year 1'!$F$13)*$D$12,0)","v":0},515.35535000000004,0]
[null,null,"English as an additional language (Notional SEN Factor) - Secondary",{"$f":"IFERROR(SUM('Year 1'!F35/SUM('Year 1'!$F$14:$F$15))*SUM($D$13:$D$14),0)","v":0},1385.9556500000001,0]
[null,"Factor 6","Low cost, high incidence SEN (Notional SEN Factor) - Primary",{"$f":"IFERROR(SUM('Year 1'!F36/'Year 1'!$F$13)*$D$12,0)","v":0},733.90635420000001,0]
[null,null,"Low cost, high incidence SEN (Notional SEN Factor) - Secondary",{"$f":"IFERROR(SUM('Year 1'!F37/SUM('Year 1'!$F$14:$F$15))*SUM($D$13:$D$14),0)","v":0},1194.0209857,0]
[null,"Factor 7","Lump Sum (Partial Notional SEN Factor) - Primary £6,235, Secondary £5,580",null,null,{"$f":"IF(SUM($D$12:$D$14)>0,'Year 1'!$H$38,0)","v":0}]
[null,"Factor 8","Sparsity - Primary",null,null,{"$f":"'Year 1'!$H$39","v":0}]
[null,null,"Sparsity - Secondary",null,null,{"$f":"'Year 1'!$H$40","v":0}]
[null,"Factor 9","Area Cost Adjustment - London Fringe (3.64%) (Factors 1 to 8)",null,null,{"$f":"IFERROR(SUM(F15+SUM(F32:F39))*SUM(VLOOKUP(Year1DfE,dataslate,27,0)-1),0)","v":0}]
[null,"Factor 11","Rates",null,null,{"$f":"IF(SUM($D$12:$D$14)>0,Year1F11,0)","v":0}]
[null,"Factor 12","PFI funding",null,null,{"$f":"IFERROR(VLOOKUP(E2,Data!A:AL,38,FALSE),0)","v":0}]
[null,"Factor 13","Exceptional Premises Factors",null,null,{"$f":"'Year 1'!$H$44","v":0}]
[null,"Factor 14","Minimum Funding Levels - Primary",null,null,{"$f":"IFERROR(MAX(0,SUM(SUM(3400-SUM(SUM(F12+F16+F18+F20+F21+F22+F23+F24+F25+F33+F35+F38+F37+F40+F42+F43)/D12))*D12)),0)","v":0}]
[null,null,"Minimum Funding Levels - Secondary",null,null,{"$f":"IFERROR(MAX(0,SUM(SUM(4700-SUM(SUM(F13+F14+F17+F19+F26+F27+F28+F29+F30+F31+F34+F36+F39+F37+F40+F42+F43)/SUM(D13+D14)))*SUM(D13+D14))),0)","v":0}]
[]
[null,null,"Estimated Formula Factors Total",null,null,{"$f":"SUM(F33:F45)+F32+F15","v":0}]
[]
[null,null,"Minimum Funding Guarantee (MFG)",null,null,{"$f":"mfgadjY2","v":0}]
[]
[null,null,"Estimated School Budget Share (SBS) 2019/20",null,null,{"$f":"SUM(F47+F49)","v":0}]
[]
[null,null,"Estimated Growth Funding",null,null,{"$f":"'Growth Funding'!$H$57","v":0}]
[]
[null,null,"Estimated School Budget Share (SBS) 2019/20 Including Growth Funding",null,null,{"$f":"SUM(TotalSBSY2+F53)","v":0}]
[]
[null,null,"High Needs Mainstream Funding 2019/20 - Element 3 Top Up",null,null,{"$f":"SUM('High Needs Mainstream'!BV83:BW83)","v":0}]
[null,null,"High Needs Mainstream Funding 2019/20 - Notional SEN Top Up",null,null,{"$f":"'High Needs Mainstream'!BX83","v":0}]
[null,null,"High Needs Mainstream Funding 2019/20 - Element 2 Post 16",null,null,{"$f":"'High Needs Mainstream'!BY83","v":0}]
[]
[null,null,"Total High Needs Mainstream Funding 2019-20",null,null,{"$f":"SUM(F57:F59)","v":0}]
[]
[null,null,"High Needs Specialist Resource Provision (SRP) Funding 2019/20 - Place Funding ",null,null,{"$f":"'SRP Year 2 & 3'!S24","v":0}]
[null,null,"High Needs Specialist Resource Provision (SRP) Funding 2019/20 - Element 3 Top Up",null,null,{"$f":"'SRP Year 2 & 3'!T24","v":0}]
[]
[null,null,"Total High Needs Specialist Resource Provision (SRP) Funding 2019/20",null,null,{"$f":"SUM(F63:F64)","v":0}]
[]
[null,null,"Early Years",null,null,{"$f":"'Early Years'!J63+SUM('Early Years'!$F$120:$H$120)+'Early Years'!$F$125+'Early Years'!$F$126","v":0}]
[]
[null,null,"Post 16 allocation"]
[]
[null,"Estimated Pupil Premium (PP)"]
[null,null,null,"Units","Estimated Rate","Total"]
[null,null,"Free School Meals Ever 6 Primary (January census)",null,{"$f":"IF(Year1DfE=1001,0,1320)","v":1320},{"$f":"D74*E74","v":0}]
[null,null,"Free School Meals Ever 6 Secondary (January census)",null,{"$f":"IF(Year1DfE=1001,0,935)","v":935},{"$f":"D75*E75","v":0}]
[null,null,"Adopted (Post-LAC) pupils (January census)",null,{"$f":"IF(Year1DfE=1001,0,2300)","v":2300},{"$f":"D76*E76","v":0}]
[null,null,"Children in Care (CiC) "]
[null,null,"Service Children Ever 6 (January census)",null,{"$f":"IF(Year1DfE=1001,0,300)","v":300},{"$f":"D78*E78","v":0}]
[null,null,"Pupil Premium 3 & 4 year olds (input Early Years tab)",null,null,{"$f":"SUM('Early Years'!F91:H91)","v":0}]
[null,null,"Total Pupil Premium",null,null,{"$f":"SUM(F74:F79)","v":0}]
[]
[]
[null,"Universal Infant Free School Meals  (ESTIMATE)"]
[null,null,"The DfE have not yet confirmed how funding for this period will be calculated. However, we have assumed this is on the same basis as 2017/18 guidance."]
[null,null,"April 2019 to August 2019"]
[]
[null,null,"Remaining payment (see Year 1)",null,null,{"$f":"'Year 1'!H114-'Year 1'!H116","v":0}]
[]
[null,null,"September 2019 to March 2020"]
[]
[null,null,"October 2019 Taken meals years 1 & 2"]
[null,null,"January 2020 Taken meals years 1 & 2"]
[null,null,"October 2019 Taken meals year R"]
[null,null,"January 2020 Taken meals Year R"]
[null,null,"Qualifying pupils",null,null,{"$f":"((F91+F92)/2)+MAX(F94,((F93+F94)/2))","v":0}]
[null,null,"*190 meals (qualifying pupils X 190)",null,null,{"$f":"F95*190","v":0}]
[null,null,"Rate per pupil",null,null,2.2999999999999998]
[null,null,"Full Year allocation (September 2019 to August 2020)",null,null,{"$f":"F97*F96","v":0}]
[]
[null,null,"Estimated Allocation for 2019/20 academic year (September to March 2020)",null,null,{"$f":"F98*(7/12)","v":0}]
[]
[null,null,"UIFSM Estimated total funding in financial year 2019/20",null,null,{"$f":"F100+F87","v":0}]
[]
[]
[null,null,"Overall total estimated funding 2019-20",null,null,{"$f":"SUM(F102,F80,F70,F68,F66,F61,F55)","v":0}]
[]
[null,"De-Delegation"]
[null,null,null,null,"Rate","De-Delegation"]
[null,null,"Schools in financial difficulties (E23)",null,{"$f":"'Year 1'!G127","v":0},{"$f":"IF($F$40>0,SUM(E109*'MFG Y2'!$F$28)*1.0364,SUM(E109*'MFG Y2'!$F$28))","v":0}]
[null,null,"Free School Meals Eligibility (E28)",null,{"$f":"'Year 1'!G128","v":0},{"$f":"IF($F$40>0,SUM(E110*'MFG Y2'!$F$28)*1.0364,SUM(E110*'MFG Y2'!$F$28))","v":0}]
[null,null,"Licences and Subscriptions (SIMS) (E19)",null,{"$f":"'Year 1'!G129","v":0},{"$f":"IF($F$40>0,SUM(E111*'MFG Y2'!$F$28)*1.0364,SUM(E111*'MFG Y2'!$F$28))","v":0}]
[null,null,"Trade Union Duties (E10)",null,{"$f":"'Year 1'!G130","v":0},{"$f":"IF($F$40>0,SUM(E112*'MFG Y2'!$F$28)*1.0364,SUM(E112*'MFG Y2'!$F$28))","v":0}]
[null,null,"Schools Personnel Service (E28)",null,{"$f":"'Year 1'!G131","v":0},{"$f":"IF($F$40>0,SUM(E113*'MFG Y2'!$F$28)*1.0364,SUM(E113*'MFG Y2'!$F$28))","v":0}]
[null,null,"Area Cost Adjustment (Included in the above)"]
[null,null,"Totals",null,{"$f":"'Year 1'!$G$133","v":0},{"$f":"SUM(F109:F114)","v":0}]
[]
[null,null,null,null,1.0364]
[null,null,"NOTE: Due to rounding, numbers presented throughout this page and others may not add up precisely to the totals provided"]

{"sheet":"MFG Y2","index":10,"n_rows":43,"n_cols":6,"rows_kept":43,"cut":false,"hidden":false,"merged":[[3,9,5,12],[7,1,7,5],[9,1,9,5]]}
[]
[null,null,null,null,null,{"$f":"Year1DfE","v":0}]
[]
[]
[]
[]
[]
[null,{"$f":"schoolname","v":""}]
[]
[null,"2019/20 Minimum Funding Guarantee (MFG)"]
[]
[null,"School Budget Share (SBS) 2018/19 (Minus Growth Funding)",null,null,null,{"$f":"TotalSBS","v":0}]
[]
[null,"Less - Exempt Items 2018/19"]
[null,"Rates",null,null,null,{"$f":"Year1F11","v":0}]
[null,"Lump Sum",null,null,null,{"$f":"'Year 1'!$H$38","v":0}]
[null,"Sparsity",null,null,null,{"$f":"SUM('Year 1'!$H$39:$H$40)","v":0}]
[null,"PFI Funding",null,null,null,{"$f":"'Year 1'!$H$43","v":0}]
[null,"Total Exempt Items",null,null,null,{"$f":"SUM(F15:F18)","v":0}]
[]
[null,"MFG Baseline (SBS 2018/19 less exempt Items)",null,null,null,{"$f":"F12-F19","v":0}]
[]
[null,"October 2017 Pupil Numbers",null,null,null,{"$f":"SUM('Year 1'!$F$13:$F$15)","v":0}]
[null,"MFG per pupil before 1.5% reduction",null,null,null,{"$f":"IFERROR(F21/F23,0)","v":0}]
[null,"1.5% reduction of MFG per Pupil",null,null,null,{"$f":"0.015*F24","v":0}]
[null,"MFG per pupil after 1.5% reduction",null,null,null,{"$f":"F24*0.985","v":0}]
[]
[null,"October 2018 Pupil Numbers",null,null,null,{"$f":"SUM(Pupils!$B$21:$B$22)","v":0}]
[null,"New MFG baseline Excluding Exempt Items",null,null,null,{"$f":"F26*F28","v":0}]
[]
[null,"Plus - Exempt Items 2019/20"]
[null,"Rates",null,null,null,{"$f":"'Year 2'!$F$41","v":0}]
[null,"Lump Sum",null,null,null,{"$f":"'Year 2'!$F$37","v":0}]
[null,"MFG Technical Adjustment",null,null,null,{"$f":"IF(F2=5425,0,0)","v":0}]
[null,"Sparsity",null,null,null,{"$f":"SUM('Year 2'!$F$38:$F$39)","v":0}]
[null,"PFI Funding",null,null,null,{"$f":"'Year 2'!$F$42","v":0}]
[null,"Total Exempt Items",null,null,null,{"$f":"SUM(F32:F36)","v":0}]
[]
[null,"New MFG Baseline including exempt items (A)",null,null,null,{"$f":"F29+F37","v":0}]
[null,"SBS 2019/20 (B)",null,null,null,{"$f":"'Year 2'!F47","v":0}]
[null,{"$f":"IF(F39>F40,\"MFG (difference between A and B)\",\"MFG\")","v":"MFG"},null,null,null,{"$f":"IF(F39>F40,SUM(F39-F40),0)","v":0}]
[]
[null,"SBS 2019/20 (the greater of A and B)",null,null,null,{"$f":"MAX(F39:F40)","v":0}]

{"sheet":"Year 3","index":11,"n_rows":103,"n_cols":8,"rows_kept":103,"cut":false,"hidden":false,"merged":[[6,1,6,4],[9,1,9,4],[102,1,103,4]]}
[]
[null,null,null,null,{"$f":"Year1DfE","v":0}]
[]
[]
[]
[]
[null,{"$f":"'Year 1'!B9:H9","v":""}]
[]
[null,"2020/21 Budget Projection"]
[null,{"$f":"\"This projection is reliant on the pupil number estimate provided on the pupils sheet \n\"&'Year 1'!B12","v":"This projection is reliant on the pupil number estimate provided on the pupils sheet \n"}]
[null,"School Budget Share (SBS) 2019/20 Including Growth Funding",null,null,{"$f":"'Year 2'!$F$55","v":0}]
[]
[null,"Less - Exempt Items 2019/20"]
[null,"Rates",null,null,{"$f":"'Year 2'!$F$41","v":0}]
[null,"Lump Sum",null,null,{"$f":"IF(Year1DfE=1001,0,'Year 2'!$F$37)","v":0}]
[null,"Growth Funding",null,null,{"$f":"'Year 2'!$F$53","v":0}]
[null,"Sparsity",null,null,{"$f":"SUM('Year 2'!$F$38:$F$39)","v":0}]
[null,"PFI Funding",null,null,{"$f":"'Year 2'!$F$42","v":0}]
[null,"Total Exempt Items",null,null,{"$f":"SUM($E$14:$E$18)","v":0}]
[]
[null,"MFG Baseline (SBS 2019/20 less exempt Items)",null,null,{"$f":"E11-E19","v":0}]
[]
[null,"October 2018 Pupil Numbers",null,null,{"$f":"SUM('Year 2'!$D$12:$D$14)","v":0}]
[null,"MFG baseline per pupil before any MFG adjustment",null,null,{"$f":"IF(E23=0,0,IF(Year1DfE=1001,0,E21/E23))","v":0}]
[null,"MFG Adjustment",null,null,{"$f":"H25","v":0},null,null,0]
[null,"MFG Adjustment per Pupil",null,null,{"$f":"MFGrate2*E24","v":0}]
[null,"MFG per pupil after any MFG Adjustment",null,null,{"$f":"E24+E26","v":0}]
[]
[null,"October 2019 Pupils",null,null,{"$f":"Pupils!$C$21+Pupils!$C$22","v":0}]
[null,"New MFG baseline Excluding Exempt Items",null,null,{"$f":"E27*E29","v":0}]
[]
[null,"Plus - Exempt Items 2020/21"]
[null,"Rates",null,null,{"$f":"E14","v":0}]
[null,"Lump Sum",null,null,{"$f":"IF(Year1DfE=1001,0,E15)","v":0}]
[null,"Growth Funding (populated from Growth Funding Tab)",null,null,{"$f":"'Growth Funding'!H59","v":0}]
[null,"Sparsity",null,null,{"$f":"SUM('Year 2'!$F$38:$F$39)","v":0}]
[null,"PFI Funding",null,null,{"$f":"'Year 2'!$F$42","v":0}]
[null,"Total Exempt Items",null,null,{"$f":"SUM(E33:E37)","v":0}]
[]
[null,"Estimated SBS 2020/21",null,null,{"$f":"IF(E29=0,0,E30+E38)","v":0}]
[]
[null,"High Needs Mainstream Funding 2020/21 - Element 3 Top Up",null,null,{"$f":"SUM('High Needs Mainstream'!CD83:CE83)","v":0}]
[null,"High Needs Mainstream Funding 2020/21 - Notional SEN Top Up",null,null,{"$f":"'High Needs Mainstream'!CF83","v":0}]
[null,"High Needs Mainstream Funding 2020/21 - Element 2 Post 16",null,null,{"$f":"'High Needs Mainstream'!CG83","v":0}]
[]
[null,"Total High Needs Mainstream Funding 2019-20",null,null,{"$f":"SUM(E42:E44)","v":0}]
[]
[null,"High Needs Specialist Resource Provision (SRP) Funding 2020/21 - Place Funding ",null,null,{"$f":"'SRP Year 2 & 3'!S38","v":0}]
[null,"High Needs Specialist Resource Provision (SRP) Funding 2020/21 - Element 3 Top Up",null,null,{"$f":"'SRP Year 2 & 3'!T38","v":0}]
[]
[null,"Total High Needs Specialist Resource Provision (SRP) Funding 2020/21",null,null,{"$f":"SUM(E48:E49)","v":0}]
[]
[null,"Early Years",null,null,{"$f":"'Early Years'!J64+SUM('Early Years'!$I$120:$K$120)+'Early Years'!$I$125+'Early Years'!$I$126","v":0}]
[]
[null,"Post 16 allocation"]
[]
[null,"Estimated Pupil Premium (PP)"]
[null,null,"Units","Estimated Rate","Total"]
[null,"Free School Meals Ever 6 Primary (January census)",null,{"$f":"IF(Year1DfE=1001,0,1320)","v":1320},{"$f":"C59*D59","v":0}]
[null,"Free School Meals Ever 6 Secondary (January census)",null,{"$f":"IF(Year1DfE=1001,0,935)","v":935},{"$f":"C60*D60","v":0}]
[null,"Adopted (Post-LAC) pupils (January census)",null,{"$f":"IF(Year1DfE=1001,0,2300)","v":2300},{"$f":"C61*D61","v":0}]
[null,"Children in Care (CiC) "]
[null,"Service Children Ever 6 (January census)",null,{"$f":"IF(Year1DfE=1001,0,300)","v":300},{"$f":"C63*D63","v":0}]
[null,"Pupil Premium 3 & 4 year olds (input Early Years tab)",null,null,{"$f":"SUM('Early Years'!I91:K91)","v":0}]
[null,"Total Pupil Premium",null,null,{"$f":"SUM(E59:E64)","v":0}]
[]
[]
[null,"Universal Infant Free School Meals  (ESTIMATE)"]
[null,"The DfE have not yet confirmed how funding for this period will be calculated. However, we have assumed this is on the same basis as 2017/18 guidance."]
[null,"April 2020 to August 2020"]
[]
[null,"Remaining payment (see Year 2)",null,null,{"$f":"'Year 2'!F98-'Year 2'!F100","v":0}]
[]
[null,"September 2020 to March 2021"]
[]
[null,"October 2020 Taken meals years 1 & 2"]
[null,"January 2021 Taken meals years 1 & 2"]
[null,"October 2020 Taken meals year R"]
[null,"January 2021 Taken meals year R"]
[null,"Qualifying pupils",null,null,{"$f":"((E76+E77)/2)+MAX(E79,((E78+E79)/2))","v":0}]
[null,"*190 meals (qualifying pupils X 190)",null,null,{"$f":"E80*190","v":0}]
[null,"Rate per pupil",null,null,2.2999999999999998]
[null,"Full Year allocation (September 2020 to August 2021)",null,null,{"$f":"E82*E81","v":0}]
[]
[null,"Estimated Allocation for 2020/21 academic year (September to March 2021)",null,null,{"$f":"E83*(7/12)","v":0}]
[]
[null,"UIFSM Estimated total funding in financial year 2020/21",null,null,{"$f":"E72+E85","v":0}]
[]
[]
[null,"Overall total estimated funding 2020-21",null,null,{"$f":"SUM(E40,E46,E51,E53,E55,E65,E87)","v":0}]
[]
["De-Delegation"]
[null,null,null,"Rate","De-Delegation"]
[null,"Schools in financial difficulties (E23)",null,{"$f":"'Year 1'!G127","v":0},{"$f":"IF(Year1F9>0,SUM(D94*$E$29)*1.0364,SUM(D94*$E$29))","v":0}]
[null,"Free School Meals Eligibility (E28)",null,{"$f":"'Year 1'!G128","v":0},{"$f":"IF(Year1F9>0,SUM(D95*$E$29)*1.0364,SUM(D95*$E$29))","v":0}]
[null,"Licences and Subscriptions (SIMS) (E19)",null,{"$f":"'Year 1'!G129","v":0},{"$f":"IF(Year1F9>0,SUM(D96*$E$29)*1.0364,SUM(D96*$E$29))","v":0}]
[null,"Trade Union Duties (E10)",null,{"$f":"'Year 1'!G130","v":0},{"$f":"IF(Year1F9>0,SUM(D97*$E$29)*1.0364,SUM(D97*$E$29))","v":0}]
[null,"Schools Personnel Service (E28)",null,{"$f":"'Year 1'!G131","v":0},{"$f":"IF(Year1F9>0,SUM(D98*$E$29)*1.0364,SUM(D98*$E$29))","v":0}]
[null,"Area Cost Adjustment (Included in the above)"]
[null,"Totals",null,{"$f":"'Year 1'!$G$133","v":0},{"$f":"SUM(E94:E99)","v":0}]
[]
[]
[null,"NOTE: Due to rounding, numbers presented throughout this page and others may not add up precisely to the totals provided"]

{"sheet":"Early Years","index":12,"n_rows":130,"n_cols":11,"rows_kept":130,"cut":false,"hidden":false,"merged":[[127,1,127,4],[129,1,129,4],[67,1,67,4],[96,1,96,3],[16,1,16,3],[123,8,123,10],[124,8,124,10],[125,8,125,10],[98,2,98,4],[98,5,98,7],[98,8,98,10],[125,2,125,4],[125,5,125,7],[124,2,124,4],[124,5,124,7],[123,2,123,4],[123,5,123,7],[4,2,4,7],[69,2,69,4],[69,5,69,7],[69,8,69,10],[6,0,6,10],[17,2,17,4],[17,5,17,7],[17,8,17,10],[9,6,9,7],[8,6,8,7],[10,6,10,7],[11,6,11,7],[12,6,12,7]]}
[]
[null,null,null,null,null,null,null,null,null,null,{"$f":"Year1DfE","v":0}]
[]
[]
[null,null,{"$f":"schoolname","v":""}]
[]
["2018/19 Early Years Budget Estimation"]
[]
[null,"Hourly Rate",null,null,null,null,"Hourly rate"]
[null,"Base rate",null,null,null,null,{"$f":"IFERROR(VLOOKUP(Year1DfE,dataslate,31,0),0)","v":0}]
[null,"Qualified Teacher Supplement",null,null,null,null,{"$f":"IFERROR(VLOOKUP(Year1DfE,dataslate,32,0),0)","v":0}]
[null,"Disadvantage supplement",null,null,null,null,{"$f":"IFERROR(VLOOKUP(Year1DfE,dataslate,33,0),0)","v":0}]
[null,null,null,null,null,null,{"$f":"SUM(G10:G12)","v":0}]
[]
[null,"Please Enter your Pupil Numbers"]
[]
[null,"Please only enter qualifying pupils (follow link for guidance)"]
[null,null,"2018/19",null,null,"2019/20",null,null,"2020/21"]
[null,"Pupils Early Years Hours","Summer","Autumn","Spring","Summer","Autumn","Spring","Summer","Autumn","Spring"]
[null,1]
[null,2]
[null,3]
[null,4]
[null,5]
[null,6]
[null,7]
[null,8]
[null,9]
[null,10]
[null,11]
[null,12]
[null,13]
[null,14]
[null,15]
[null,16]
[null,17]
[null,18]
[null,19]
[null,20]
[null,21]
[null,22]
[null,23]
[null,24]
[null,25]
[null,26]
[null,27]
[null,28]
[null,29]
[null,30]
[null,"Total pupils:",{"$f":"SUM(C20:C49)","v":0},0,0,0,0,0,0,0,0]
[null,"Total Weekly Hours:",{"$f":"SUMPRODUCT(C20:C49,$B$20:$B$49)","v":0},{"$f":"SUMPRODUCT(D20:D49,$B$20:$B$49)","v":0},0,0,0,0,{"$f":"SUMPRODUCT(I20:I49,$B$20:$B$49)","v":0},{"$f":"SUMPRODUCT(J20:J49,$B$20:$B$49)","v":0},{"$f":"SUMPRODUCT(K20:K49,$B$20:$B$49)","v":0}]
[null,"Total Hours for Term:",{"$f":"C51*$H$55","v":0},{"$f":"D51*$H$56","v":0},{"$f":"E51*$H$57","v":0},{"$f":"F51*$H$55","v":0},{"$f":"G51*$H$56","v":0},{"$f":"H51*$H$57","v":0},{"$f":"I51*$H$55","v":0},{"$f":"J51*$H$56","v":0},{"$f":"K51*$H$57","v":0}]
[]
[null,null,null,"Hourly Rate",null,"Weekly Hours",null,"Weeks"]
[null,"Summer term 2018",null,{"$f":"littleones","v":0},null,{"$f":"C51","v":0},null,13,null,{"$f":"SUM(F55*H55)*D55","v":0}]
[null,"Autumn term 2018",null,{"$f":"littleones","v":0},null,{"$f":"D51","v":0},null,14,null,{"$f":"SUM(F56*H56)*D56","v":0}]
[null,"Spring term 2019",null,{"$f":"littleones","v":0},null,{"$f":"E51","v":0},null,11,null,{"$f":"SUM(F57*H57)*D57","v":0}]
[]
[null,{"$f":"IF(K2=1001,\"Nursery Lump Sum\",\"\")","v":""},null,null,null,null,null,null,null,{"$f":"IF(K2=1001,87036,0)","v":0}]
[null,"Total 2018/19 Estimated Budget:",null,null,null,null,null,null,null,{"$f":"IF(K2=1001,SUM(J55:J57)+J59,SUM(J55:J57))","v":0}]
[]
[]
[null,"Total 2019/20 Estimated Budget:",null,null,null,null,null,null,null,{"$f":"(SUM(F52:H52)*D57)+IF(K2=1001,J59,0)","v":0}]
[null,"Total 2020/21 Estimated Budget:",null,null,null,null,null,null,null,{"$f":"(SUM(I52:K52)*D57)+IF(K2=1001,J59,0)","v":0}]
[]
[null,"Early Years Pupil Premium (EYPP)"]
[]
[null,"Please only enter pupils who qualify for the Early Years Pupil Premium"]
[]
[null,null,"2018/19",null,null,"2019/20",null,null,"2020/21"]
[null,"Pupils Early Years Hours","Summer","Autumn","Spring","Summer","Autumn","Spring","Summer","Autumn","Spring"]
[null,1]
[null,2]
[null,3]
[null,4]
[null,5]
[null,6]
[null,7]
[null,8]
[null,9]
[null,10]
[null,11]
[null,12]
[null,13]
[null,14]
[null,15]
[null,"Total pupils:",{"$f":"SUM(C72:C86)","v":0},{"$f":"SUM(D72:D86)","v":0},{"$f":"SUM(E72:E86)","v":0},{"$f":"SUM(F72:F86)","v":0},0,0,0,0,0]
[null,"Total Weekly Hours:",{"$f":"SUMPRODUCT(C72:C86,$B$72:$B$86)","v":0},{"$f":"SUMPRODUCT(D72:D86,$B$72:$B$86)","v":0},0,0,0,0,0,{"$f":"SUMPRODUCT(J72:J86,$B$72:$B$86)","v":0},0]
[null,"Total Hours for Term:",{"$f":"C88*13","v":0},{"$f":"D88*14","v":0},{"$f":"E88*11","v":0},{"$f":"F88*13","v":0},{"$f":"G88*14","v":0},{"$f":"H88*11","v":0},{"$f":"I88*13","v":0},{"$f":"J88*14","v":0},{"$f":"K88*11","v":0}]
[null,"Rate per funded hour:",0.53,0.53,0.53,0.53,0.53,0.53,0.53,0.53,0.53]
[null,"Estimated Pupil Premium Funding:",{"$f":"C89*C90","v":0},{"$f":"D89*D90","v":0},0,0,0,0,0,0,{"$f":"K89*K90","v":0}]
[]
[]
[]
[null,"2 Year old funding"]
[]
[null,"Please only enter pupils who qualify for the 2 Year old funding"]
[]
[null,null,"2018/19",null,null,"2019/20",null,null,"2020/21"]
[null,"Pupils Early Years Hours","Summer","Autumn","Spring","Summer","Autumn","Spring","Summer","Autumn","Spring"]
[null,1]
[null,2]
[null,3]
[null,4]
[null,5]
[null,6]
[null,7]
[null,8]
[null,9]
[null,10]
[null,11]
[null,12]
[null,13]
[null,14]
[null,15]
[null,"Total pupils:",{"$f":"SUM(C101:C115)","v":0},{"$f":"SUM(D101:D115)","v":0},{"$f":"SUM(E101:E115)","v":0},{"$f":"SUM(F101:F115)","v":0},0,0,0,0,0]
[null,"Total Weekly Hours:",{"$f":"SUMPRODUCT(C101:C115,$B$101:$B$115)","v":0},{"$f":"SUMPRODUCT(D101:D115,$B$101:$B$115)","v":0},0,0,0,0,0,0,{"$f":"SUMPRODUCT(K101:K115,$B$101:$B$115)","v":0}]
[null,"Total Hours for Term:",{"$f":"C117*13","v":0},{"$f":"D117*14","v":0},{"$f":"E117*11","v":0},{"$f":"F117*13","v":0},{"$f":"G117*14","v":0},{"$f":"H117*11","v":0},{"$f":"I117*13","v":0},{"$f":"J117*14","v":0},{"$f":"K117*11","v":0}]
[null,"Rate per funded hour:",5.0199999999999996,5.0199999999999996,5.0199999999999996,5.0199999999999996,5.0199999999999996,5.0199999999999996,5.0199999999999996,5.0199999999999996,5.0199999999999996]
[null,"Estimated 2 Year old Funding:",{"$f":"C118*C119","v":0},{"$f":"D118*D119","v":0},0,0,0,0,0,0,{"$f":"K118*K119","v":0}]
[]
[]
[]
[null,null,"2018/19",null,null,"2019/20",null,null,"2020/21"]
[null,"Special Educational Needs Inclusion Fund (SENIF)"]
[null,"Disability Access Fund (DAF)"]
[]
[null,"Please only enter funding for pupils who qualify for the DAF funding"]
[]
[null,"Please only enter funding for pupils who qualify for the SENIF funding"]

{"sheet":"High Needs Mainstream","index":13,"n_rows":85,"n_cols":126,"rows_kept":85,"cut":false,"hidden":false,"merged":[[25,13,25,14],[14,73,14,76],[14,81,14,84],[9,30,9,41],[3,3,3,14],[11,2,11,10],[14,30,14,42],[14,44,14,56],[9,73,9,76],[9,81,9,84],[82,13,82,14],[82,2,82,10],[14,16,14,28],[12,2,12,10],[4,3,4,14],[14,2,14,14],[15,13,15,14],[16,13,16,14],[17,13,17,14],[18,13,18,14],[19,13,19,14],[20,13,20,14],[21,13,21,14],[22,13,22,14],[23,13,23,14],[24,13,24,14],[87,2,87,10],[87,16,87,28],[87,30,87,42],[87,44,87,56],[83,2,83,10],[84,2,84,10],[85,2,85,10],[26,13,26,14],[27,13,27,14],[28,13,28,14],[29,13,29,14],[30,13,30,14],[31,13,31,14],[32,13,32,14],[33,13,33,14],[34,13,34,14],[35,13,35,14],[36,13,36,14],[37,13,37,14],[38,13,38,14],[39,13,39,14],[40,13,40,14],[41,13,41,14],[42,13,42,14],[43,13,43,14],[44,13,44,14],[45,13,45,14],[46,13,46,14],[47,13,47,14],[48,13,48,14],[49,13,49,14],[50,13,50,14],[51,13,51,14],[52,13,52,14],[53,13,53,14],[54,13,54,14],[55,13,55,14],[56,13,56,14],[57,13,57,14],[58,13,58,14],[59,13,59,14],[60,13,60,14],[61,13,61,14],[62,13,62,14],[63,13,63,14],[64,13,64,14],[65,13,65,14],[66,13,66,14],[67,13,67,14],[68,13,68,14],[69,13,69,14],[70,13,70,14],[71,13,71,14],[72,13,72,14],[73,13,73,14],[74,13,74,14],[80,13,80,14],[75,13,75,14],[76,13,76,14],[77,13,77,14],[78,13,78,14],[79,13,79,14]]}
[null,null,null,null,null,null,null,null,null,null,null,null,null,null,null,null,"Notional SEN budget top up rate working"]
[null,null,null,{"$f":"Year1DfE","v":0},null,null,null,null,null,null,null,null,null,null,null,null,"Notional AEN/SEN Budget"]
[null,null,null,null,null,null,null,null,null,null,null,null,null,null,null,null,null,null,null,"IDACI",null,null,{"$f":"SUM('Year 1'!H21:H32)","v":0}]
[null,null,null,{"$f":"schoolname","v":""},null,null,null,null,null,null,null,null,null,null,null,null,null,null,null,"Ever 6 FSM",null,null,{"$f":"SUM('Year 1'!H19:H20)","v":0}]
[null,null,null,"2018/19",null,null,null,null,null,null,null,null,null,null,null,null,null,null,null,"Low Cost, high Incidence SEN",null,null,{"$f":"SUM('Year 1'!H36:H37)","v":0}]
[null,null,null,null,null,null,null,null,null,null,null,null,null,null,null,null,null,null,null,"English as an additional language",null,null,{"$f":"SUM('Year 1'!H34:H35)","v":0}]
[null,null,null,null,null,null,null,null,null,null,null,null,null,null,null,null,null,null,null,"Element of Lump Sum",null,null,{"$f":"IF(OR(Year1DfE=0,Year1DfE=1001),0,IF(Year1DfE=5458,2325,IF(year1phase=1,6235,5580)))","v":0}]
[null,null,null,null,null,null,null,null,null,null,null,null,null,null,null,null,null,null,null,"Area Cost Adjustment-London Fringe",null,null,{"$f":"IFERROR(SUM(W3:W7)*SUM(VLOOKUP(Year1DfE,dataslate,27,0)-1),0)","v":0}]
[null,null,null,null,null,null,null,null,null,null,null,null,null,null,null,null,null,null,null,"Total (with Area Cost Adjustment if applicable)",null,null,null,null,{"$f":"SUM(W3:W7)*IF(Year1F9>0,1.0364,1)","v":0}]
[null,null,null,null,null,null,null,null,null,null,null,null,null,null,null,null,"School Contribution per Pre-16 Pupil",null,null,null,null,null,null,null,6000,null,null,null,null,null,"Extra top up due to 28% rule"]
[null,null,null,null,null,null,null,null,null,null,null,null,null,null,null,null,"Notional AEN/SEN Top Up per Pre-16 Pupil (10%)",null,null,null,null,null,null,null,{"$f":"IF(Year1DfE=1001,0,IF(Y9>=60000,0,6000-(Y9*0.1)))","v":6000},null,null,null,null,null,{"$f":"IF(BG15>=senmax,\"Y\",\"N\")","v":"Y"},"Y","Y","Y","Y","Y","Y","Y","Y","Y","Y","Y","Total"]
[null,null,null,null,null,null,null,null,null,null,null,null,null,null,null,null,"Maximum Contribution for all Pre-16 Pupils (28%)",null,null,null,null,null,null,null,{"$f":"Y9*0.28","v":0},null,null,null,null,null,{"$f":"BG13","v":0},{"$f":"BH13-AE12","v":0},{"$f":"BI13-SUM(AE12:AF12)","v":0},{"$f":"BJ13-SUM(AE12:AG12)","v":0},{"$f":"BK13-SUM(AE12:AH12)","v":0},{"$f":"BL13-SUM(AE12:AI12)","v":0},{"$f":"BM13-SUM(AE12:AJ12)","v":0},{"$f":"BN13-SUM(AE12:AK12)","v":0},{"$f":"BO13-SUM(AE12:AL12)","v":0},{"$f":"BP13-SUM(AE12:AM12)","v":0},{"$f":"BQ13-SUM(AE12:AN12)","v":0},{"$f":"BR13-SUM(AE12:AO12)","v":0},{"$f":"SUM(AE12:AP12)","v":0}]
[null,null,null,null,null,null,null,null,null,null,null,null,null,null,null,null,null,null,null,null,null,null,null,null,null,null,null,null,null,null,null,null,null,null,null,null,null,null,null,null,null,null,null,null,null,null,null,null,null,null,null,null,null,null,null,null,null,null,{"$f":"IF(BG15-senmax<0,0,BG15-senmax)","v":0},0,0,0,0,0,0,0,0,0,0,0]
[null,null,null,null,"2017-09-01","2018-09-01"]
[null,null,"Pupil Data",null,null,null,null,null,null,null,null,null,null,null,null,null,"Element 3 top up",null,null,null,null,null,null,null,null,null,null,null,null,null,"Notional SEN budget top up",null,null,null,null,null,null,null,null,null,null,null,null,null,"Post 16 Element 2",null,null,null,null,null,null,null,null,null,null,null,null,null,{"$f":"BG16","v":0},{"$f":"BH16+BG15","v":0},0,0,0,0,0,{"$f":"BN16+BM15","v":0},0,0,0,{"$f":"BR16+BQ15","v":0},null,null,null,"2019/20",null,null,null,null,"2018/19",null,null,"2020/21"]
[null,null,"Name","Date of Birth","Year Group (Academic Year Sept 17 - Aug 18)","Year Group (Academic Year Sept 18 - Aug 19)","Start Date","End Date","Year 1 - Period 1 - (Apr to Aug)\nMonthly top up rate","Year 1 - Period 2 - (Sep to Dec)\nMonthly top up rate","Year 1 - Period 3 - (Jan to Mar)\nMonthly top up rate","Year 2 Monthly top up rate","Year 3 Monthly top up rate","Year 1 Total Funding linked to this Pupil",null,null,"April","May","June","July","August","September","October","November","December","January","February","March","Total",null,"April","May","June","July","August","September","October","November","December","January","February","March","Total",null,"April","May","June","July","August","September","October","November","December","January","February","March","Total",null,{"$f":"SUM(BG17:BG81)","v":0},{"$f":"SUM(BH17:BH81)","v":0},0,0,0,0,0,0,0,0,0,0,"Name","Pupil present between April and August","September to March Indicator","April to August (£)","September to March (£)","Notional SEN Budget Top Up","Post 16 Element 2",null,"Name","April to August Indicator","September to March Indicator","April to August (£)","September to March (£)","Notional SEN Budget Top Up","Post 16 Element 2",null,null,null,null,null,null,null,null,"April","May","June","July","August","September","October","November","December","January","February","March","Age1","Age2","Pre months","Post months",null,"April","May","June","July","August","September","October","November","December","January","February","March","Age1","Age2","Pre months","Post months"]
[null,null,null,null,{"$f":"IF(D17=\"\",\"\",IF(SUM(DATEDIF(D17,DATE(YEAR($E$14)+(MONTH($E$14)>8),8,31),\"Y\")-5)=0,\"R\",IF(SUM(DATEDIF(D17,DATE(YEAR($E$14)+(MONTH($E$14)>8),8,31),\"Y\")-5)<0,\"\",DATEDIF(D17,DATE(YEAR($E$14)+(MONTH($E$14)>8),8,31),\"Y\")-5)))","v":""},{"$f":"IF(D17=\"\",\"\",IF(SUM(DATEDIF(D17,DATE(YEAR($F$14)+(MONTH($F$14)>8),8,31),\"Y\")-5)=0,\"R\",DATEDIF(D17,DATE(YEAR($F$14)+(MONTH($F$14)>8),8,31),\"Y\")-5))","v":""},"2018-04-01","2021-03-31",null,null,null,null,null,{"$f":"AC17+AQ17+BE17","v":0},null,null,{"$f":"IF(AND($G17<DATE(2018,5,1),$H17>=DATE(2018,4,1)),$I17,0)","v":0},{"$f":"IF(AND($G17<DATE(2018,6,1),$H17>=DATE(2018,4,1)),$I17,0)","v":0},{"$f":"IF(AND($G17<DATE(2018,7,1),$H17>=DATE(2018,4,1)),$I17,0)","v":0},{"$f":"IF(AND($G17<DATE(2018,8,1),$H17>=DATE(2018,4,1)),$I17,0)","v":0},{"$f":"IF(AND($G17<DATE(2018,9,1),$H17>=DATE(2018,4,1)),$I17,0)","v":0},{"$f":"IF(AND($G17<DATE(2018,10,1),$H17>=DATE(2018,9,1)),$J17,0)","v":0},{"$f":"IF(AND($G17<DATE(2018,11,1),$H17>=DATE(2018,9,1)),$J17,0)","v":0},{"$f":"IF(AND($G17<DATE(2018,12,1),$H17>=DATE(2018,9,1)),$J17,0)","v":0},{"$f":"IF(AND($G17<DATE(2019,1,1),$H17>=DATE(2018,9,1)),$J17,0)","v":0},{"$f":"IF(AND($G17<DATE(2019,2,1),$H17>=DATE(2019,1,1)),$K17,0)","v":0},{"$f":"IF(AND($G17<DATE(2019,3,1),$H17>=DATE(2019,1,1)),$K17,0)","v":0},{"$f":"IF(AND($G17<DATE(2019,4,1),$H17>=DATE(2019,1,1)),$K17,0)","v":0},{"$f":"SUM(Q17:AB17)","v":0},null,{"$f":"IF(AND(Q17>0,$D17>DATE(2001,8,31)),sentopup/12,0)","v":0},{"$f":"IF(AND(R17>0,$D17>DATE(2001,8,31)),sentopup/12,0)","v":0},{"$f":"IF(AND(S17>0,$D17>DATE(2001,8,31)),sentopup/12,0)","v":0},{"$f":"IF(AND(T17>0,$D17>DATE(2001,8,31)),sentopup/12,0)","v":0},{"$f":"IF(AND(U17>0,$D17>DATE(2001,8,31)),sentopup/12,0)","v":0},{"$f":"IF(AND(V17>0,$D17>DATE(2002,8,1)),sentopup/12,0)","v":0},{"$f":"IF(AND(W17>0,$D17>DATE(2002,8,1)),sentopup/12,0)","v":0},{"$f":"IF(AND(X17>0,$D17>DATE(2002,8,1)),sentopup/12,0)","v":0},{"$f":"IF(AND(Y17>0,$D17>DATE(2002,8,1)),sentopup/12,0)","v":0},{"$f":"IF(AND(Z17>0,$D17>DATE(2002,8,1)),sentopup/12,0)","v":0},{"$f":"IF(AND(AA17>0,$D17>DATE(2002,8,1)),sentopup/12,0)","v":0},{"$f":"IF(AND(AB17>0,$D17>DATE(2002,8,1)),sentopup/12,0)","v":0},{"$f":"SUM(AE17:AP17)","v":0},null,{"$f":"IF(AND(Q17>0,$D17<DATE(2001,9,1),$D17>1),500,0)","v":0},{"$f":"IF(AND(R17>0,$D17<DATE(2001,9,1),$D17>1),500,0)","v":0},{"$f":"IF(AND(S17>0,$D17<DATE(2001,9,1),$D17>1),500,0)","v":0},{"$f":"IF(AND(T17>0,$D17<DATE(2001,9,1),$D17>1),500,0)","v":0},{"$f":"IF(AND(U17>0,$D17<DATE(2001,9,1),$D17>1),500,0)","v":0},{"$f":"IF(AND(V17>0,$D17<DATE(2002,9,1),$D17>1),500,0)","v":0},0,0,0,0,0,0,{"$f":"SUM(AS17:BD17)","v":0},null,{"$f":"IF(Q17>0,500-AE17-AS17,0)","v":0},{"$f":"IF(R17>0,500-AF17-AT17,0)","v":0},0,0,0,0,0,0,0,0,0,0,{"$f":"IF(AB17>0,C17,\"\")","v":""},{"$f":"IF(H17>DATE(2019,3,1),\"Yes\",\"No\")","v":"Yes"},{"$f":"IF(H17>DATE(2019,8,31),\"Yes\",\"No\")","v":"Yes"},{"$f":"IFERROR(IF(BT17=\"Yes\",L17*SUM(CP17:CT17),0),\"\")","v":0},{"$f":"IFERROR(IF(BU17=\"Yes\",L17*SUM(CU17:DA17),0),\"\")","v":0},{"$f":"SUM(sentopup/12)*DD17","v":0},{"$f":"SUM(6000/12)*DE17","v":0},null,null,{"$f":"IF(H17>DATE(2020,3,31),\"Yes\",\"No\")","v":"Yes"},{"$f":"IF(H17>=DATE(2020,8,31),\"Yes\",\"No\")","v":"Yes"},{"$f":"IFERROR(IF(CB17=\"Yes\",M17*SUM(DG17:DK17),0),\"\")","v":0},{"$f":"IFERROR(IF(CC17=\"Yes\",M17*SUM(DL17:DR17),0),\"\")","v":0},{"$f":"SUM(sentopup/12)*DU17","v":0},{"$f":"SUM(6000/12)*DV17","v":0},null,null,null,null,null,null,null,null,{"$f":"IF(AND($G17<DATE(2019,5,1),$H17>DATE(2019,3,31)),1,0)","v":1},{"$f":"IF(AND($G17<DATE(2019,6,1),$H17>DATE(2019,3,31)),1,0)","v":1},{"$f":"IF(AND($G17<DATE(2019,7,1),$H17>DATE(2019,3,31)),1,0)","v":1},{"$f":"IF(AND($G17<DATE(2019,8,1),$H17>DATE(2019,3,31)),1,0)","v":1},{"$f":"IF(AND($G17<DATE(2019,9,1),$H17>DATE(2019,3,31)),1,0)","v":1},{"$f":"IF(AND($G17<DATE(2019,10,1),$H17>DATE(2019,8,31)),1,0)","v":1},{"$f":"IF(AND($G17<DATE(2019,11,1),$H17>DATE(2019,8,31)),1,0)","v":1},{"$f":"IF(AND($G17<DATE(2019,12,1),$H17>DATE(2019,8,31)),1,0)","v":1},{"$f":"IF(AND($G17<DATE(2020,1,1),$H17>DATE(2019,8,31)),1,0)","v":1},{"$f":"IF(AND($G17<DATE(2020,2,1),$H17>DATE(2019,12,31)),1,0)","v":1},{"$f":"IF(AND($G17<DATE(2020,3,1),$H17>DATE(2019,12,31)),1,0)","v":1},{"$f":"IF(AND($G17<DATE(2020,4,1),$H17>DATE(2019,12,31)),1,0)","v":1},{"$f":"IF(AND(D17>1,D17<DATE(2002,9,1)),\"post\",IF(AND(D17>1,D17>DATE(2002,8,31)),\"pre\",\"null\"))","v":"null"},{"$f":"IF(AND(D17>1,D17<DATE(2003,9,1)),\"post\",IF(AND(D17>1,D17>DATE(2003,8,31)),\"pre\",\"null\"))","v":"null"},{"$f":"IF(AND(DB17=\"pre\",DC17=\"pre\"),SUM(CP17:DA17),\nIF(AND(DB17=\"post\",DC17=\"post\"),0,\nIF(AND(DB17=\"pre\",DC17=\"post\"),SUM(CP17:CT17),0)))","v":0},{"$f":"IF(AND(DB17=\"pre\",DC17=\"pre\"),0,\nIF(AND(DB17=\"post\",DC17=\"post\"),SUM(CP17:DA17),\nIF(AND(DB17=\"pre\",DC17=\"post\"),SUM(CU17:DA17),0)))","v":0},null,{"$f":"IF(AND($G17<DATE(2020,5,1),$H17>DATE(2020,3,31)),1,0)","v":1},{"$f":"IF(AND($G17<DATE(2020,6,1),$H17>DATE(2020,3,31)),1,0)","v":1},{"$f":"IF(AND($G17<DATE(2020,7,1),$H17>DATE(2020,3,31)),1,0)","v":1},{"$f":"IF(AND($G17<DATE(2020,8,1),$H17>DATE(2020,3,31)),1,0)","v":1},{"$f":"IF(AND($G17<DATE(2020,9,1),$H17>DATE(2020,3,31)),1,0)","v":1},{"$f":"IF(AND($G17<DATE(2020,10,1),$H17>DATE(2020,8,31)),1,0)","v":1},{"$f":"IF(AND($G17<DATE(2020,11,1),$H17>DATE(2020,8,31)),1,0)","v":1},{"$f":"IF(AND($G17<DATE(2020,12,1),$H17>DATE(2020,8,31)),1,0)","v":1},{"$f":"IF(AND($G17<DATE(2021,1,1),$H17>DATE(2020,8,31)),1,0)","v":1},{"$f":"IF(AND($G17<DATE(2021,2,1),$H17>DATE(2020,12,31)),1,0)","v":1},{"$f":"IF(AND($G17<DATE(2021,3,1),$H17>DATE(2020,12,31)),1,0)","v":1},{"$f":"IF(AND($G17<DATE(2021,4,1),$H17>DATE(2020,12,31)),1,0)","v":1},{"$f":"IF(AND(D17>1,D17<DATE(2003,9,1)),\"post\",IF(AND(D17>1,D17>DATE(2003,8,31)),\"pre\",\"null\"))","v":"null"},{"$f":"IF(AND(D17>1,D17<DATE(2004,9,1)),\"post\",IF(AND(D17>1,D17>DATE(2004,8,31)),\"pre\",\"null\"))","v":"null"},{"$f":"IF(AND(DS17=\"pre\",DT17=\"pre\"),SUM(DG17:DR17),\nIF(AND(DS17=\"post\",DT17=\"post\"),0,\nIF(AND(DS17=\"pre\",DT17=\"post\"),SUM(DG17:DK17),0)))","v":0},{"$f":"IF(AND(DS17=\"pre\",DT17=\"pre\"),0,\nIF(AND(DS17=\"post\",DT17=\"post\"),SUM(DG17:DR17),\nIF(AND(DS17=\"pre\",DT17=\"post\"),SUM(DL17:DR17),0)))","v":0}]
[null,null,null,null,"","","2018-04-01","2021-03-31",null,null,null,null,null,{"$f":"AC18+AQ18+BE18","v":0},null,null,{"$f":"IF(AND($G18<DATE(2018,5,1),$H18>=DATE(2018,4,1)),$I18,0)","v":0},{"$f":"IF(AND($G18<DATE(2018,6,1),$H18>=DATE(2018,4,1)),$I18,0)","v":0},{"$f":"IF(AND($G18<DATE(2018,7,1),$H18>=DATE(2018,4,1)),$I18,0)","v":0},{"$f":"IF(AND($G18<DATE(2018,8,1),$H18>=DATE(2018,4,1)),$I18,0)","v":0},{"$f":"IF(AND($G18<DATE(2018,9,1),$H18>=DATE(2018,4,1)),$I18,0)","v":0},{"$f":"IF(AND($G18<DATE(2018,10,1),$H18>=DATE(2018,9,1)),$J18,0)","v":0},{"$f":"IF(AND($G18<DATE(2018,11,1),$H18>=DATE(2018,9,1)),$J18,0)","v":0},{"$f":"IF(AND($G18<DATE(2018,12,1),$H18>=DATE(2018,9,1)),$J18,0)","v":0},{"$f":"IF(AND($G18<DATE(2019,1,1),$H18>=DATE(2018,9,1)),$J18,0)","v":0},{"$f":"IF(AND($G18<DATE(2019,2,1),$H18>=DATE(2019,1,1)),$K18,0)","v":0},{"$f":"IF(AND($G18<DATE(2019,3,1),$H18>=DATE(2019,1,1)),$K18,0)","v":0},{"$f":"IF(AND($G18<DATE(2019,4,1),$H18>=DATE(2019,1,1)),$K18,0)","v":0},{"$f":"SUM(Q18:AB18)","v":0},null,0,0,0,0,0,0,0,0,0,0,0,0,{"$f":"SUM(AE18:AP18)","v":0},null,{"$f":"IF(AND(Q18>0,$D18<DATE(2001,9,1),$D18>1),500,0)","v":0},{"$f":"IF(AND(R18>0,$D18<DATE(2001,9,1),$D18>1),500,0)","v":0},{"$f":"IF(AND(S18>0,$D18<DATE(2001,9,1),$D18>1),500,0)","v":0},{"$f":"IF(AND(T18>0,$D18<DATE(2001,9,1),$D18>1),500,0)","v":0},{"$f":"IF(AND(U18>0,$D18<DATE(2001,9,1),$D18>1),500,0)","v":0},{"$f":"IF(AND(V18>0,$D18<DATE(2002,9,1),$D18>1),500,0)","v":0},{"$f":"IF(AND(W18>0,$D18<DATE(2002,9,1),$D18>1),500,0)","v":0},{"$f":"IF(AND(X18>0,$D18<DATE(2002,9,1),$D18>1),500,0)","v":0},{"$f":"IF(AND(Y18>0,$D18<DATE(2002,9,1),$D18>1),500,0)","v":0},{"$f":"IF(AND(Z18>0,$D18<DATE(2002,9,1),$D18>1),500,0)","v":0},{"$f":"IF(AND(AA18>0,$D18<DATE(2002,9,1),$D18>1),500,0)","v":0},{"$f":"IF(AND(AB18>0,$D18<DATE(2002,9,1),$D18>1),500,0)","v":0},{"$f":"SUM(AS18:BD18)","v":0},null,{"$f":"IF(Q18>0,500-AE18-AS18,0)","v":0},{"$f":"IF(R18>0,500-AF18-AT18,0)","v":0},{"$f":"IF(S18>0,500-AG18-AU18,0)","v":0},{"$f":"IF(T18>0,500-AH18-AV18,0)","v":0},{"$f":"IF(U18>0,500-AI18-AW18,0)","v":0},{"$f":"IF(V18>0,500-AJ18-AX18,0)","v":0},{"$f":"IF(W18>0,500-AK18-AY18,0)","v":0},{"$f":"IF(X18>0,500-AL18-AZ18,0)","v":0},{"$f":"IF(Y18>0,500-AM18-BA18,0)","v":0},{"$f":"IF(Z18>0,500-AN18-BB18,0)","v":0},{"$f":"IF(AA18>0,500-AO18-BC18,0)","v":0},{"$f":"IF(AB18>0,500-AP18-BD18,0)","v":0},null,{"$f":"IF(H18>DATE(2019,3,1),\"Yes\",\"No\")","v":"Yes"},{"$f":"IF(H18>DATE(2019,8,31),\"Yes\",\"No\")","v":"Yes"},{"$f":"IFERROR(IF(BT18=\"Yes\",L18*SUM(CP18:CT18),0),\"\")","v":0},{"$f":"IFERROR(IF(BU18=\"Yes\",L18*SUM(CU18:DA18),0),\"\")","v":0},0,{"$f":"SUM(6000/12)*DE18","v":0},null,null,{"$f":"IF(H18>DATE(2020,3,31),\"Yes\",\"No\")","v":"Yes"},{"$f":"IF(H18>=DATE(2020,8,31),\"Yes\",\"No\")","v":"Yes"},{"$f":"IFERROR(IF(CB18=\"Yes\",M18*SUM(DG18:DK18),0),\"\")","v":0},{"$f":"IFERROR(IF(CC18=\"Yes\",M18*SUM(DL18:DR18),0),\"\")","v":0},0,{"$f":"SUM(6000/12)*DV18","v":0},null,null,null,null,null,null,null,null,{"$f":"IF(AND($G18<DATE(2019,5,1),$H18>DATE(2019,3,31)),1,0)","v":1},{"$f":"IF(AND($G18<DATE(2019,6,1),$H18>DATE(2019,3,31)),1,0)","v":1},{"$f":"IF(AND($G18<DATE(2019,7,1),$H18>DATE(2019,3,31)),1,0)","v":1},{"$f":"IF(AND($G18<DATE(2019,8,1),$H18>DATE(2019,3,31)),1,0)","v":1},{"$f":"IF(AND($G18<DATE(2019,9,1),$H18>DATE(2019,3,31)),1,0)","v":1},{"$f":"IF(AND($G18<DATE(2019,10,1),$H18>DATE(2019,8,31)),1,0)","v":1},{"$f":"IF(AND($G18<DATE(2019,11,1),$H18>DATE(2019,8,31)),1,0)","v":1},{"$f":"IF(AND($G18<DATE(2019,12,1),$H18>DATE(2019,8,31)),1,0)","v":1},{"$f":"IF(AND($G18<DATE(2020,1,1),$H18>DATE(2019,8,31)),1,0)","v":1},{"$f":"IF(AND($G18<DATE(2020,2,1),$H18>DATE(2019,12,31)),1,0)","v":1},{"$f":"IF(AND($G18<DATE(2020,3,1),$H18>DATE(2019,12,31)),1,0)","v":1},{"$f":"IF(AND($G18<DATE(2020,4,1),$H18>DATE(2019,12,31)),1,0)","v":1},{"$f":"IF(AND(D18>1,D18<DATE(2002,9,1)),\"post\",IF(AND(D18>1,D18>DATE(2002,8,31)),\"pre\",\"null\"))","v":"null"},{"$f":"IF(AND(D18>1,D18<DATE(2003,9,1)),\"post\",IF(AND(D18>1,D18>DATE(2003,8,31)),\"pre\",\"null\"))","v":"null"},{"$f":"IF(AND(DB18=\"pre\",DC18=\"pre\"),SUM(CP18:DA18),\nIF(AND(DB18=\"post\",DC18=\"post\"),0,\nIF(AND(DB18=\"pre\",DC18=\"post\"),SUM(CP18:CT18),0)))","v":0},{"$f":"IF(AND(DB18=\"pre\",DC18=\"pre\"),0,\nIF(AND(DB18=\"post\",DC18=\"post\"),SUM(CP18:DA18),\nIF(AND(DB18=\"pre\",DC18=\"post\"),SUM(CU18:DA18),0)))","v":0},null,{"$f":"IF(AND($G18<DATE(2020,5,1),$H18>DATE(2020,3,31)),1,0)","v":1},{"$f":"IF(AND($G18<DATE(2020,6,1),$H18>DATE(2020,3,31)),1,0)","v":1},{"$f":"IF(AND($G18<DATE(2020,7,1),$H18>DATE(2020,3,31)),1,0)","v":1},{"$f":"IF(AND($G18<DATE(2020,8,1),$H18>DATE(2020,3,31)),1,0)","v":1},{"$f":"IF(AND($G18<DATE(2020,9,1),$H18>DATE(2020,3,31)),1,0)","v":1},{"$f":"IF(AND($G18<DATE(2020,10,1),$H18>DATE(2020,8,31)),1,0)","v":1},{"$f":"IF(AND($G18<DATE(2020,11,1),$H18>DATE(2020,8,31)),1,0)","v":1},{"$f":"IF(AND($G18<DATE(2020,12,1),$H18>DATE(2020,8,31)),1,0)","v":1},{"$f":"IF(AND($G18<DATE(2021,1,1),$H18>DATE(2020,8,31)),1,0)","v":1},{"$f":"IF(AND($G18<DATE(2021,2,1),$H18>DATE(2020,12,31)),1,0)","v":1},{"$f":"IF(AND($G18<DATE(2021,3,1),$H18>DATE(2020,12,31)),1,0)","v":1},{"$f":"IF(AND($G18<DATE(2021,4,1),$H18>DATE(2020,12,31)),1,0)","v":1},{"$f":"IF(AND(D18>1,D18<DATE(2003,9,1)),\"post\",IF(AND(D18>1,D18>DATE(2003,8,31)),\"pre\",\"null\"))","v":"null"},{"$f":"IF(AND(D18>1,D18<DATE(2004,9,1)),\"post\",IF(AND(D18>1,D18>DATE(2004,8,31)),\"pre\",\"null\"))","v":"null"},{"$f":"IF(AND(DS18=\"pre\",DT18=\"pre\"),SUM(DG18:DR18),\nIF(AND(DS18=\"post\",DT18=\"post\"),0,\nIF(AND(DS18=\"pre\",DT18=\"post\"),SUM(DG18:DK18),0)))","v":0},{"$f":"IF(AND(DS18=\"pre\",DT18=\"pre\"),0,\nIF(AND(DS18=\"post\",DT18=\"post\"),SUM(DG18:DR18),\nIF(AND(DS18=\"pre\",DT18=\"post\"),SUM(DL18:DR18),0)))","v":0}]
[null,null,null,null,"","","2018-04-01","2021-03-31",null,null,null,null,null,0,null,null,0,0,0,0,0,0,0,0,0,0,0,0,0,null,0,0,0,0,0,0,0,0,0,0,0,0,0,null,0,0,0,0,0,0,0,0,0,0,0,0,0,null,0,0,0,0,0,0,0,0,0,0,0,0,null,"Yes","Yes",0,0,0,0,null,null,"Yes","Yes",0,0,0,0,null,null,null,null,null,null,null,null,1,1,1,1,1,1,1,1,1,1,1,1,"null","null",0,0,null,1,1,1,1,1,1,1,1,1,1,1,1,"null","null",0,0]
[null,null,null,null,"","","2018-04-01","2021-03-31",null,null,null,null,null,0,null,null,0,0,0,0,0,0,0,0,0,0,0,0,0,null,0,0,0,0,0,0,0,0,0,0,0,0,0,null,0,0,0,0,0,0,0,0,0,0,0,0,0,null,0,0,0,0,0,0,0,0,0,0,0,0,null,"Yes","Yes",0,0,0,0,null,null,"Yes","Yes",0,0,0,0,null,null,null,null,null,null,null,null,1,1,1,1,1,1,1,1,1,1,1,1,"null","null",0,0,null,1,1,1,1,1,1,1,1,1,1,1,1,"null","null",0,0]
[null,null,null,null,"","","2018-04-01","2021-03-31",null,null,null,null,null,0,null,null,0,0,0,0,0,0,0,0,0,0,0,0,0,null,0,0,0,0,0,0,0,0,0,0,0,0,0,null,0,0,0,0,0,0,0,0,0,0,0,0,0,null,0,0,0,0,0,0,0,0,0,0,0,0,null,"Yes","Yes",0,0,0,0,null,null,"Yes","Yes",0,0,0,0,null,null,null,null,null,null,null,null,1,1,1,1,1,1,1,1,1,1,1,1,"null","null",0,0,null,1,1,1,1,1,1,1,1,1,1,1,1,"null","null",0,0]
[null,null,null,null,"","","2018-04-01","2021-03-31",null,null,null,null,null,0,null,null,0,0,0,0,0,0,0,0,0,0,0,0,0,null,0,0,0,0,0,0,0,0,0,0,0,0,0,null,0,0,0,0,0,0,0,0,0,0,0,0,0,null,0,0,0,0,0,0,0,0,0,0,0,0,null,"Yes","Yes",0,0,0,0,null,null,"Yes","Yes",0,0,0,0,null,null,null,null,null,null,null,null,1,1,1,1,1,1,1,1,1,1,1,1,"null","null",0,0,null,1,1,1,1,1,1,1,1,1,1,1,1,"null","null",0,0]
[null,null,null,null,"","","2018-04-01","2021-03-31",null,null,null,null,null,0,null,null,0,0,0,0,0,0,0,0,0,0,0,0,{"$f":"SUM(Q23:AB23)","v":0},null,0,0,0,0,0,0,0,0,0,0,0,0,{"$f":"SUM(AE23:AP23)","v":0},null,0,0,0,0,0,0,0,0,0,0,0,0,{"$f":"SUM(AS23:BD23)","v":0},null,0,0,0,0,0,0,0,0,0,0,0,0,null,"Yes","Yes",0,0,0,0,null,null,"Yes","Yes",0,0,0,0,null,null,null,null,null,null,null,null,1,1,1,1,1,1,1,1,1,1,1,1,"null","null",0,0,null,1,1,1,1,1,1,1,1,1,1,1,1,"null","null",0,0]
[null,null,null,null,"","","2018-04-01","2021-03-31",null,null,null,null,null,0,null,null,0,0,0,0,0,0,0,0,0,0,0,0,0,null,0,0,0,0,0,0,0,0,0,0,0,0,0,null,0,0,0,0,0,0,0,0,0,0,0,0,0,null,0,0,0,0,0,0,0,0,0,0,0,0,null,"Yes","Yes",0,0,0,0,null,null,"Yes","Yes",0,0,0,0,null,null,null,null,null,null,null,null,1,1,1,1,1,1,1,1,1,1,1,1,"null","null",0,0,null,1,1,1,1,1,1,1,1,1,1,1,1,"null","null",0,0]
[null,null,null,null,"","","2018-04-01","2021-03-31",null,null,null,null,null,0,null,null,0,0,0,0,0,0,0,0,0,0,0,0,0,null,0,0,0,0,0,0,0,0,0,0,0,0,0,null,0,0,0,0,0,0,0,0,0,0,0,0,0,null,0,0,0,0,0,0,0,0,0,0,0,0,null,"Yes","Yes",0,0,0,0,null,null,"Yes","Yes",0,0,0,0,null,null,null,null,null,null,null,null,1,1,1,1,1,1,1,1,1,1,1,1,"null","null",0,0,null,1,1,1,1,1,1,1,1,1,1,1,1,"null","null",0,0]
[null,null,null,null,"","","2018-04-01","2021-03-31",null,null,null,null,null,0,null,null,0,0,0,0,0,0,0,0,0,0,0,0,0,null,0,0,0,0,0,0,0,0,0,0,0,0,0,null,0,0,0,0,0,0,0,0,0,0,0,0,0,null,0,0,0,0,0,0,0,0,0,0,0,0,null,"Yes","Yes",0,0,0,0,null,null,"Yes","Yes",0,0,0,0,null,null,null,null,null,null,null,null,1,1,1,1,1,1,1,1,1,1,1,1,"null","null",0,0,null,1,1,1,1,1,1,1,1,1,1,1,1,"null","null",0,0]
[null,null,null,null,"","","2018-04-01","2021-03-31",null,null,null,null,null,0,null,null,0,0,0,0,0,0,0,0,0,0,0,0,0,null,0,0,0,0,0,0,0,0,0,0,0,0,0,null,0,0,0,0,0,0,0,0,0,0,0,0,0,null,0,0,0,0,0,0,0,0,0,0,0,0,null,"Yes","Yes",0,0,0,0,null,null,"Yes","Yes",0,0,0,0,null,null,null,null,null,null,null,null,1,1,1,1,1,1,1,1,1,1,1,1,"null","null",0,0,null,1,1,1,1,1,1,1,1,1,1,1,1,"null","null",0,0]
[null,null,null,null,"","","2018-04-01","2021-03-31",null,null,null,null,null,0,null,null,0,0,0,0,0,0,0,0,0,0,0,0,0,null,0,0,0,0,0,0,0,0,0,0,0,0,0,null,0,0,0,0,0,0,0,0,0,0,0,0,0,null,0,0,0,0,0,0,0,0,0,0,0,0,null,"Yes","Yes",0,0,0,0,null,null,"Yes","Yes",0,0,0,0,null,null,null,null,null,null,null,null,1,1,1,1,1,1,1,1,1,1,1,1,"null","null",0,0,null,1,1,1,1,1,1,1,1,1,1,1,1,"null","null",0,0]
[null,null,null,null,"","","2018-04-01","2021-03-31",null,null,null,null,null,0,null,null,0,0,0,0,0,0,0,0,0,0,0,0,0,null,0,0,0,0,0,0,0,0,0,0,0,0,0,null,0,0,0,0,0,0,0,0,0,0,0,0,0,null,0,0,0,0,0,0,0,0,0,0,0,0,null,"Yes","Yes",0,0,0,0,null,null,"Yes","Yes",0,0,0,0,null,null,null,null,null,null,null,null,1,1,1,1,1,1,1,1,1,1,1,1,"null","null",0,0,null,1,1,1,1,1,1,1,1,1,1,1,1,"null","null",0,0]
[null,null,null,null,"","","2018-04-01","2021-03-31",null,null,null,null,null,0,null,null,0,0,0,0,0,0,0,0,0,0,0,0,0,null,0,0,0,0,0,0,0,0,0,0,0,0,0,null,0,0,0,0,0,0,0,0,0,0,0,0,0,null,0,0,0,0,0,0,0,0,0,0,0,0,null,"Yes","Yes",0,0,0,0,null,null,"Yes","Yes",0,0,0,0,null,null,null,null,null,null,null,null,1,1,1,1,1,1,1,1,1,1,1,1,"null","null",0,0,null,1,1,1,1,1,1,1,1,1,1,1,1,"null","null",0,0]
[null,null,null,null,"","","2018-04-01","2021-03-31",null,null,null,null,null,0,null,null,0,0,0,0,0,0,0,0,0,0,0,0,0,null,0,0,0,0,0,0,0,0,0,0,0,0,0,null,0,0,0,0,0,0,0,0,0,0,0,0,0,null,0,0,0,0,0,0,0,0,0,0,0,0,null,"Yes","Yes",0,0,0,0,null,null,"Yes","Yes",0,0,0,0,null,null,null,null,null,null,null,null,1,1,1,1,1,1,1,1,1,1,1,1,"null","null",0,0,null,1,1,1,1,1,1,1,1,1,1,1,1,"null","null",0,0]
[null,null,null,null,"","","2018-04-01","2021-03-31",null,null,null,null,null,0,null,null,0,0,0,0,0,0,0,0,0,0,0,0,0,null,0,0,0,0,0,0,0,0,0,0,0,0,0,null,0,0,0,0,0,0,0,0,0,0,0,0,0,null,0,0,0,0,0,0,0,0,0,0,0,0,null,"Yes","Yes",0,0,0,0,null,null,"Yes","Yes",0,0,0,0,null,null,null,null,null,null,null,null,1,1,1,1,1,1,1,1,1,1,1,1,"null","null",0,0,null,1,1,1,1,1,1,1,1,1,1,1,1,"null","null",0,0]
[null,null,null,null,"","","2018-04-01","2021-03-31",null,null,null,null,null,0,null,null,0,0,0,0,0,0,0,0,0,0,0,0,0,null,0,0,0,0,0,0,0,0,0,0,0,0,0,null,0,0,0,0,0,0,0,0,0,0,0,0,0,null,0,0,0,0,0,0,0,0,0,0,0,0,null,"Yes","Yes",0,0,0,0,null,null,"Yes","Yes",0,0,0,0,null,null,null,null,null,null,null,null,1,1,1,1,1,1,1,1,1,1,1,1,"null","null",0,0,null,1,1,1,1,1,1,1,1,1,1,1,1,"null","null",0,0]
[null,null,null,null,"","","2018-04-01","2021-03-31",null,null,null,null,null,0,null,null,0,0,0,0,0,0,0,0,0,0,0,0,0,null,0,0,0,0,0,0,0,0,0,0,0,0,0,null,0,0,0,0,0,0,0,0,0,0,0,0,0,null,0,0,0,0,0,0,0,0,0,0,0,0,null,"Yes","Yes",0,0,0,0,null,null,"Yes","Yes",0,0,0,0,null,null,null,null,null,null,null,null,1,1,1,1,1,1,1,1,1,1,1,1,"null","null",0,0,null,1,1,1,1,1,1,1,1,1,1,1,1,"null","null",0,0]
[null,null,null,null,"","","2018-04-01","2021-03-31",null,null,null,null,null,0,null,null,0,0,0,0,0,0,0,0,0,0,0,0,0,null,0,0,0,0,0,0,0,0,0,0,0,0,0,null,0,0,0,0,0,0,0,0,0,0,0,0,0,null,0,0,0,0,0,0,0,0,0,0,0,0,null,"Yes","Yes",0,0,0,0,null,null,"Yes","Yes",0,0,0,0,null,null,null,null,null,null,null,null,1,1,1,1,1,1,1,1,1,1,1,1,"null","null",0,0,null,1,1,1,1,1,1,1,1,1,1,1,1,"null","null",0,0]
[null,null,null,null,"","","2018-04-01","2021-03-31",null,null,null,null,null,0,null,null,0,0,0,0,0,0,0,0,0,0,0,0,0,null,0,0,0,0,0,0,0,0,0,0,0,0,0,null,0,0,0,0,0,0,0,0,0,0,0,0,0,null,0,0,0,0,0,0,0,0,0,0,0,0,null,"Yes","Yes",0,0,0,0,null,null,"Yes","Yes",0,0,0,0,null,null,null,null,null,null,null,null,1,1,1,1,1,1,1,1,1,1,1,1,"null","null",0,0,null,1,1,1,1,1,1,1,1,1,1,1,1,"null","null",0,0]
[null,null,null,null,"","","2018-04-01","2021-03-31",null,null,null,null,null,0,null,null,0,0,0,0,0,0,0,0,0,0,0,0,0,null,0,0,0,0,0,0,0,0,0,0,0,0,0,null,0,0,0,0,0,0,0,0,0,0,0,0,0,null,0,0,0,0,0,0,0,0,0,0,0,0,null,"Yes","Yes",0,0,0,0,null,null,"Yes","Yes",0,0,0,0,null,null,null,null,null,null,null,null,1,1,1,1,1,1,1,1,1,1,1,1,"null","null",0,0,null,1,1,1,1,1,1,1,1,1,1,1,1,"null","null",0,0]
[null,null,null,null,"","","2018-04-01","2021-03-31",null,null,null,null,null,0,null,null,0,0,0,0,0,0,0,0,0,0,0,0,0,null,0,0,0,0,0,0,0,0,0,0,0,0,0,null,0,0,0,0,0,0,0,0,0,0,0,0,0,null,0,0,0,0,0,0,0,0,0,0,0,0,null,"Yes","Yes",0,0,0,0,null,null,"Yes","Yes",0,0,0,0,null,null,null,null,null,null,null,null,1,1,1,1,1,1,1,1,1,1,1,1,"null","null",0,0,null,1,1,1,1,1,1,1,1,1,1,1,1,"null","null",0,0]
[null,null,null,null,"","","2018-04-01","2021-03-31",null,null,null,null,null,0,null,null,0,0,0,0,0,0,0,0,0,0,0,0,0,null,0,0,0,0,0,0,0,0,0,0,0,0,0,null,0,0,0,0,0,0,0,0,0,0,0,0,0,null,0,0,0,0,0,0,0,0,0,0,0,0,null,"Yes","Yes",0,0,0,0,null,null,"Yes","Yes",0,0,0,0,null,null,null,null,null,null,null,null,1,1,1,1,1,1,1,1,1,1,1,1,"null","null",0,0,null,1,1,1,1,1,1,1,1,1,1,1,1,"null","null",0,0]
[null,null,null,null,"","","2018-04-01","2021-03-31",null,null,null,null,null,0,null,null,0,0,0,0,0,0,0,0,0,0,0,0,0,null,0,0,0,0,0,0,0,0,0,0,0,0,0,null,0,0,0,0,0,0,0,0,0,0,0,0,0,null,0,0,0,0,0,0,0,0,0,0,0,0,null,"Yes","Yes",0,0,0,0,null,null,"Yes","Yes",0,0,0,0,null,null,null,null,null,null,null,null,1,1,1,1,1,1,1,1,1,1,1,1,"null","null",0,0,null,1,1,1,1,1,1,1,1,1,1,1,1,"null","null",0,0]
[null,null,null,null,"","","2018-04-01","2021-03-31",null,null,null,null,null,0,null,null,0,0,0,0,0,0,0,0,0,0,0,0,0,null,0,0,0,0,0,0,0,0,0,0,0,0,0,null,0,0,0,0,0,0,0,0,0,0,0,0,0,null,0,0,0,0,0,0,0,0,0,0,0,0,null,"Yes","Yes",0,0,0,0,null,null,"Yes","Yes",0,0,0,0,null,null,null,null,null,null,null,null,1,1,1,1,1,1,1,1,1,1,1,1,"null","null",0,0,null,1,1,1,1,1,1,1,1,1,1,1,1,"null","null",0,0]
[null,null,null,null,"","","2018-04-01","2021-03-31",null,null,null,null,null,0,null,null,0,0,0,0,0,0,0,0,0,0,0,0,0,null,0,0,0,0,0,0,0,0,0,0,0,0,0,null,0,0,0,0,0,0,0,0,0,0,0,0,0,null,0,0,0,0,0,0,0,0,0,0,0,0,null,"Yes","Yes",0,0,0,0,null,null,"Yes","Yes",0,0,0,0,null,null,null,null,null,null,null,null,1,1,1,1,1,1,1,1,1,1,1,1,"null","null",0,0,null,1,1,1,1,1,1,1,1,1,1,1,1,"null","null",0,0]
[null,null,null,null,"","","2018-04-01","2021-03-31",null,null,null,null,null,0,null,null,0,0,0,0,0,0,0,0,0,0,0,0,0,null,0,0,0,0,0,0,0,0,0,0,0,0,0,null,0,0,0,0,0,0,0,0,0,0,0,0,0,null,0,0,0,0,0,0,0,0,0,0,0,0,null,"Yes","Yes",0,0,0,0,null,null,"Yes","Yes",0,0,0,0,null,null,null,null,null,null,null,null,1,1,1,1,1,1,1,1,1,1,1,1,"null","null",0,0,null,1,1,1,1,1,1,1,1,1,1,1,1,"null","null",0,0]
[null,null,null,null,"","","2018-04-01","2021-03-31",null,null,null,null,null,0,null,null,0,0,0,0,0,0,0,0,0,0,0,0,0,null,0,0,0,0,0,0,0,0,0,0,0,0,0,null,0,0,0,0,0,0,0,0,0,0,0,0,0,null,0,0,0,0,0,0,0,0,0,0,0,0,null,"Yes","Yes",0,0,0,0,null,null,"Yes","Yes",0,0,0,0,null,null,null,null,null,null,null,null,1,1,1,1,1,1,1,1,1,1,1,1,"null","null",0,0,null,1,1,1,1,1,1,1,1,1,1,1,1,"null","null",0,0]
[null,null,null,null,"","","2018-04-01","2021-03-31",null,null,null,null,null,0,null,null,0,0,0,0,0,0,0,0,0,0,0,0,0,null,0,0,0,0,0,0,0,0,0,0,0,0,0,null,0,0,0,0,0,0,0,0,0,0,0,0,0,null,0,0,0,0,0,0,0,0,0,0,0,0,null,"Yes","Yes",0,0,0,0,null,null,"Yes","Yes",0,0,0,0,null,null,null,null,null,null,null,null,1,1,1,1,1,1,1,1,1,1,1,1,"null","null",0,0,null,1,1,1,1,1,1,1,1,1,1,1,1,"null","null",0,0]
[null,null,null,null,"","","2018-04-01","2021-03-31",null,null,null,null,null,0,null,null,0,0,0,0,0,0,0,0,0,0,0,0,0,null,0,0,0,0,0,0,0,0,0,0,0,0,0,null,0,0,0,0,0,0,0,0,0,0,0,0,0,null,0,0,0,0,0,0,0,0,0,0,0,0,null,"Yes","Yes",0,0,0,0,null,null,"Yes","Yes",0,0,0,0,null,null,null,null,null,null,null,null,1,1,1,1,1,1,1,1,1,1,1,1,"null","null",0,0,null,1,1,1,1,1,1,1,1,1,1,1,1,"null","null",0,0]
[null,null,null,null,"","","2018-04-01","2021-03-31",null,null,null,null,null,0,null,null,0,0,0,0,0,0,0,0,0,0,0,0,0,null,0,0,0,0,0,0,0,0,0,0,0,0,0,null,0,0,0,0,0,0,0,0,0,0,0,0,0,null,0,0,0,0,0,0,0,0,0,0,0,0,null,"Yes","Yes",0,0,0,0,null,null,"Yes","Yes",0,0,0,0,null,null,null,null,null,null,null,null,1,1,1,1,1,1,1,1,1,1,1,1,"null","null",0,0,null,1,1,1,1,1,1,1,1,1,1,1,1,"null","null",0,0]
[null,null,null,null,"","","2018-04-01","2021-03-31",null,null,null,null,null,0,null,null,0,0,0,0,0,0,0,0,0,0,0,0,{"$f":"SUM(Q48:AB48)","v":0},null,0,0,0,0,0,0,0,0,0,0,0,0,{"$f":"SUM(AE48:AP48)","v":0},null,0,0,0,0,0,0,0,0,0,0,0,0,{"$f":"SUM(AS48:BD48)","v":0},null,{"$f":"IF(Q48>0,500-AE48-AS48,0)","v":0},{"$f":"IF(R48>0,500-AF48-AT48,0)","v":0},{"$f":"IF(S48>0,500-AG48-AU48,0)","v":0},{"$f":"IF(T48>0,500-AH48-AV48,0)","v":0},{"$f":"IF(U48>0,500-AI48-AW48,0)","v":0},{"$f":"IF(V48>0,500-AJ48-AX48,0)","v":0},{"$f":"IF(W48>0,500-AK48-AY48,0)","v":0},{"$f":"IF(X48>0,500-AL48-AZ48,0)","v":0},{"$f":"IF(Y48>0,500-AM48-BA48,0)","v":0},{"$f":"IF(Z48>0,500-AN48-BB48,0)","v":0},{"$f":"IF(AA48>0,500-AO48-BC48,0)","v":0},{"$f":"IF(AB48>0,500-AP48-BD48,0)","v":0},null,"Yes","Yes",0,0,0,0,null,null,"Yes","Yes",0,0,0,0,null,null,null,null,null,null,null,null,1,1,1,1,1,1,1,1,1,1,1,1,"null","null",0,0,null,1,1,1,1,1,1,1,1,1,1,1,1,"null","null",0,0]
[null,null,null,null,{"$f":"IF(D49=\"\",\"\",IF(SUM(DATEDIF(D49,DATE(YEAR($E$14)+(MONTH($E$14)>8),8,31),\"Y\")-5)=0,\"R\",IF(SUM(DATEDIF(D49,DATE(YEAR($E$14)+(MONTH($E$14)>8),8,31),\"Y\")-5)<0,\"\",DATEDIF(D49,DATE(YEAR($E$14)+(MONTH($E$14)>8),8,31),\"Y\")-5)))","v":""},{"$f":"IF(D49=\"\",\"\",IF(SUM(DATEDIF(D49,DATE(YEAR($F$14)+(MONTH($F$14)>8),8,31),\"Y\")-5)=0,\"R\",DATEDIF(D49,DATE(YEAR($F$14)+(MONTH($F$14)>8),8,31),\"Y\")-5))","v":""},"2018-04-01","2021-03-31",null,null,null,null,null,0,null,null,0,0,0,0,0,0,0,0,0,0,0,0,0,null,{"$f":"IF(AND(Q49>0,$D49>DATE(2001,8,31)),sentopup/12,0)","v":0},{"$f":"IF(AND(R49>0,$D49>DATE(2001,8,31)),sentopup/12,0)","v":0},{"$f":"IF(AND(S49>0,$D49>DATE(2001,8,31)),sentopup/12,0)","v":0},{"$f":"IF(AND(T49>0,$D49>DATE(2001,8,31)),sentopup/12,0)","v":0},{"$f":"IF(AND(U49>0,$D49>DATE(2001,8,31)),sentopup/12,0)","v":0},{"$f":"IF(AND(V49>0,$D49>DATE(2002,8,1)),sentopup/12,0)","v":0},{"$f":"IF(AND(W49>0,$D49>DATE(2002,8,1)),sentopup/12,0)","v":0},{"$f":"IF(AND(X49>0,$D49>DATE(2002,8,1)),sentopup/12,0)","v":0},{"$f":"IF(AND(Y49>0,$D49>DATE(2002,8,1)),sentopup/12,0)","v":0},{"$f":"IF(AND(Z49>0,$D49>DATE(2002,8,1)),sentopup/12,0)","v":0},{"$f":"IF(AND(AA49>0,$D49>DATE(2002,8,1)),sentopup/12,0)","v":0},{"$f":"IF(AND(AB49>0,$D49>DATE(2002,8,1)),sentopup/12,0)","v":0},0,null,0,0,0,0,0,0,0,0,0,0,0,0,0,null,0,0,0,0,0,0,0,0,0,0,0,0,null,"Yes","Yes",0,0,{"$f":"SUM(sentopup/12)*DD49","v":0},0,null,null,"Yes","Yes",0,0,{"$f":"SUM(sentopup/12)*DU49","v":0},0,null,null,null,null,null,null,null,null,1,1,1,1,1,1,1,1,1,1,1,1,"null","null",0,0,null,1,1,1,1,1,1,1,1,1,1,1,1,"null","null",0,0]
[null,null,null,null,"","","2018-04-01","2021-03-31",null,null,null,null,null,0,null,null,0,0,0,0,0,0,0,0,0,0,0,0,0,null,0,0,0,0,0,0,0,0,0,0,0,0,0,null,0,0,0,0,0,0,0,0,0,0,0,0,0,null,0,0,0,0,0,0,0,0,0,0,0,0,null,"Yes","Yes",0,0,0,0,null,null,"Yes","Yes",0,0,0,0,null,null,null,null,null,null,null,null,1,1,1,1,1,1,1,1,1,1,1,1,"null","null",0,0,null,1,1,1,1,1,1,1,1,1,1,1,1,"null","null",0,0]
[null,null,null,null,"","","2018-04-01","2021-03-31",null,null,null,null,null,0,null,null,0,0,0,0,0,0,0,0,0,0,0,0,0,null,0,0,0,0,0,0,0,0,0,0,0,0,0,null,0,0,0,0,0,0,0,0,0,0,0,0,0,null,0,0,0,0,0,0,0,0,0,0,0,0,null,"Yes","Yes",0,0,0,0,null,null,"Yes","Yes",0,0,0,0,null,null,null,null,null,null,null,null,1,1,1,1,1,1,1,1,1,1,1,1,"null","null",0,0,null,1,1,1,1,1,1,1,1,1,1,1,1,"null","null",0,0]
[null,null,null,null,"","","2018-04-01","2021-03-31",null,null,null,null,null,0,null,null,0,0,0,0,0,0,0,0,0,0,0,0,0,null,0,0,0,0,0,0,0,0,0,0,0,0,0,null,0,0,0,0,0,0,0,0,0,0,0,0,0,null,0,0,0,0,0,0,0,0,0,0,0,0,null,"Yes","Yes",0,0,0,0,null,null,"Yes","Yes",0,0,0,0,null,null,null,null,null,null,null,null,1,1,1,1,1,1,1,1,1,1,1,1,"null","null",0,0,null,1,1,1,1,1,1,1,1,1,1,1,1,"null","null",0,0]
[null,null,null,null,"","","2018-04-01","2021-03-31",null,null,null,null,null,0,null,null,0,0,0,0,0,0,0,0,0,0,0,0,0,null,0,0,0,0,0,0,0,0,0,0,0,0,0,null,0,0,0,0,0,0,0,0,0,0,0,0,0,null,0,0,0,0,0,0,0,0,0,0,0,0,null,"Yes","Yes",0,0,0,0,null,null,"Yes","Yes",0,0,0,0,null,null,null,null,null,null,null,null,1,1,1,1,1,1,1,1,1,1,1,1,"null","null",0,0,null,1,1,1,1,1,1,1,1,1,1,1,1,"null","null",0,0]
[null,null,null,null,"","","2018-04-01","2021-03-31",null,null,null,null,null,0,null,null,0,0,0,0,0,0,0,0,0,0,0,0,0,null,0,0,0,0,0,0,0,0,0,0,0,0,0,null,0,0,0,0,0,0,0,0,0,0,0,0,0,null,0,0,0,0,0,0,0,0,0,0,0,0,null,"Yes","Yes",0,0,0,0,null,null,"Yes","Yes",0,0,0,0,null,null,null,null,null,null,null,null,1,1,1,1,1,1,1,1,1,1,1,1,"null","null",0,0,null,1,1,1,1,1,1,1,1,1,1,1,1,"null","null",0,0]
[null,null,null,null,"","","2018-04-01","2021-03-31",null,null,null,null,null,0,null,null,0,0,0,0,0,0,0,0,0,0,0,0,0,null,0,0,0,0,0,0,0,0,0,0,0,0,0,null,0,0,0,0,0,0,0,0,0,0,0,0,0,null,0,0,0,0,0,0,0,0,0,0,0,0,null,"Yes","Yes",0,0,0,0,null,null,"Yes","Yes",0,0,0,0,null,null,null,null,null,null,null,null,1,1,1,1,1,1,1,1,1,1,1,1,"null","null",0,0,null,1,1,1,1,1,1,1,1,1,1,1,1,"null","null",0,0]
[null,null,null,null,"","","2018-04-01","2021-03-31",null,null,null,null,null,0,null,null,0,0,0,0,0,0,0,0,0,0,0,0,0,null,0,0,0,0,0,0,0,0,0,0,0,0,0,null,0,0,0,0,0,0,0,0,0,0,0,0,0,null,0,0,0,0,0,0,0,0,0,0,0,0,null,"Yes","Yes",0,0,0,0,null,null,"Yes","Yes",0,0,0,0,null,null,null,null,null,null,null,null,1,1,1,1,1,1,1,1,1,1,1,1,"null","null",0,0,null,1,1,1,1,1,1,1,1,1,1,1,1,"null","null",0,0]
[null,null,null,null,"","","2018-04-01","2021-03-31",null,null,null,null,null,0,null,null,0,0,0,0,0,0,0,0,0,0,0,0,0,null,0,0,0,0,0,0,0,0,0,0,0,0,0,null,0,0,0,0,0,0,0,0,0,0,0,0,0,null,0,0,0,0,0,0,0,0,0,0,0,0,null,"Yes","Yes",0,0,0,0,null,null,"Yes","Yes",0,0,0,0,null,null,null,null,null,null,null,null,1,1,1,1,1,1,1,1,1,1,1,1,"null","null",0,0,null,1,1,1,1,1,1,1,1,1,1,1,1,"null","null",0,0]
[null,null,null,null,"","","2018-04-01","2021-03-31",null,null,null,null,null,0,null,null,0,0,0,0,0,0,0,0,0,0,0,0,0,null,0,0,0,0,0,0,0,0,0,0,0,0,0,null,0,0,0,0,0,0,0,0,0,0,0,0,0,null,0,0,0,0,0,0,0,0,0,0,0,0,null,"Yes","Yes",0,0,0,0,null,null,"Yes","Yes",0,0,0,0,null,null,null,null,null,null,null,null,1,1,1,1,1,1,1,1,1,1,1,1,"null","null",0,0,null,1,1,1,1,1,1,1,1,1,1,1,1,"null","null",0,0]
[null,null,null,null,"","","2018-04-01","2021-03-31",null,null,null,null,null,0,null,null,0,0,0,0,0,0,0,0,0,0,0,0,0,null,0,0,0,0,0,0,0,0,0,0,0,0,0,null,0,0,0,0,0,0,0,0,0,0,0,0,0,null,0,0,0,0,0,0,0,0,0,0,0,0,null,"Yes","Yes",0,0,0,0,null,null,"Yes","Yes",0,0,0,0,null,null,null,null,null,null,null,null,1,1,1,1,1,1,1,1,1,1,1,1,"null","null",0,0,null,1,1,1,1,1,1,1,1,1,1,1,1,"null","null",0,0]
[null,null,null,null,"","","2018-04-01","2021-03-31",null,null,null,null,null,0,null,null,0,0,0,0,0,0,0,0,0,0,0,0,0,null,0,0,0,0,0,0,0,0,0,0,0,0,0,null,0,0,0,0,0,0,0,0,0,0,0,0,0,null,0,0,0,0,0,0,0,0,0,0,0,0,null,"Yes","Yes",0,0,0,0,null,null,"Yes","Yes",0,0,0,0,null,null,null,null,null,null,null,null,1,1,1,1,1,1,1,1,1,1,1,1,"null","null",0,0,null,1,1,1,1,1,1,1,1,1,1,1,1,"null","null",0,0]
[null,null,null,null,"","","2018-04-01","2021-03-31",null,null,null,null,null,0,null,null,0,0,0,0,0,0,0,0,0,0,0,0,0,null,0,0,0,0,0,0,0,0,0,0,0,0,0,null,0,0,0,0,0,0,0,0,0,0,0,0,0,null,0,0,0,0,0,0,0,0,0,0,0,0,null,"Yes","Yes",0,0,0,0,null,null,"Yes","Yes",0,0,0,0,null,null,null,null,null,null,null,null,1,1,1,1,1,1,1,1,1,1,1,1,"null","null",0,0,null,1,1,1,1,1,1,1,1,1,1,1,1,"null","null",0,0]
[null,null,null,null,"","","2018-04-01","2021-03-31",null,null,null,null,null,0,null,null,0,0,0,0,0,0,0,0,0,0,0,0,0,null,0,0,0,0,0,0,0,0,0,0,0,0,0,null,0,0,0,0,0,0,0,0,0,0,0,0,0,null,0,0,0,0,0,0,0,0,0,0,0,0,null,"Yes","Yes",0,0,0,0,null,null,"Yes","Yes",0,0,0,0,null,null,null,null,null,null,null,null,1,1,1,1,1,1,1,1,1,1,1,1,"null","null",0,0,null,1,1,1,1,1,1,1,1,1,1,1,1,"null","null",0,0]
[null,null,null,null,"","","2018-04-01","2021-03-31",null,null,null,null,null,0,null,null,0,0,0,0,0,0,0,0,0,0,0,0,0,null,0,0,0,0,0,0,0,0,0,0,0,0,0,null,0,0,0,0,0,0,0,0,0,0,0,0,0,null,0,0,0,0,0,0,0,0,0,0,0,0,null,"Yes","Yes",0,0,0,0,null,null,"Yes","Yes",0,0,0,0,null,null,null,null,null,null,null,null,1,1,1,1,1,1,1,1,1,1,1,1,"null","null",0,0,null,1,1,1,1,1,1,1,1,1,1,1,1,"null","null",0,0]
[null,null,null,null,"","","2018-04-01","2021-03-31",null,null,null,null,null,0,null,null,0,0,0,0,0,0,0,0,0,0,0,0,0,null,0,0,0,0,0,0,0,0,0,0,0,0,0,null,0,0,0,0,0,0,0,0,0,0,0,0,0,null,0,0,0,0,0,0,0,0,0,0,0,0,null,"Yes","Yes",0,0,0,0,null,null,"Yes","Yes",0,0,0,0,null,null,null,null,null,null,null,null,1,1,1,1,1,1,1,1,1,1,1,1,"null","null",0,0,null,1,1,1,1,1,1,1,1,1,1,1,1,"null","null",0,0]
[null,null,null,null,"","","2018-04-01","2021-03-31",null,null,null,null,null,0,null,null,0,0,0,0,0,0,0,0,0,0,0,0,0,null,0,0,0,0,0,0,0,0,0,0,0,0,0,null,0,0,0,0,0,0,0,0,0,0,0,0,0,null,0,0,0,0,0,0,0,0,0,0,0,0,null,"Yes","Yes",0,0,0,0,null,null,"Yes","Yes",0,0,0,0,null,null,null,null,null,null,null,null,1,1,1,1,1,1,1,1,1,1,1,1,"null","null",0,0,null,1,1,1,1,1,1,1,1,1,1,1,1,"null","null",0,0]
[null,null,null,null,"","","2018-04-01","2021-03-31",null,null,null,null,null,0,null,null,0,0,0,0,0,0,0,0,0,0,0,0,0,null,0,0,0,0,0,0,0,0,0,0,0,0,0,null,0,0,0,0,0,0,0,0,0,0,0,0,0,null,0,0,0,0,0,0,0,0,0,0,0,0,null,"Yes","Yes",0,0,0,0,null,null,"Yes","Yes",0,0,0,0,null,null,null,null,null,null,null,null,1,1,1,1,1,1,1,1,1,1,1,1,"null","null",0,0,null,1,1,1,1,1,1,1,1,1,1,1,1,"null","null",0,0]
[null,null,null,null,"","","2018-04-01","2021-03-31",null,null,null,null,null,0,null,null,0,0,0,0,0,0,0,0,0,0,0,0,0,null,0,0,0,0,0,0,0,0,0,0,0,0,0,null,0,0,0,0,0,0,0,0,0,0,0,0,0,null,0,0,0,0,0,0,0,0,0,0,0,0,null,"Yes","Yes",0,0,0,0,null,null,"Yes","Yes",0,0,0,0,null,null,null,null,null,null,null,null,1,1,1,1,1,1,1,1,1,1,1,1,"null","null",0,0,null,1,1,1,1,1,1,1,1,1,1,1,1,"null","null",0,0]
[null,null,null,null,"","","2018-04-01","2021-03-31",null,null,null,null,null,0,null,null,0,0,0,0,0,0,0,0,0,0,0,0,0,null,0,0,0,0,0,0,0,0,0,0,0,0,0,null,0,0,0,0,0,0,0,0,0,0,0,0,0,null,0,0,0,0,0,0,0,0,0,0,0,0,null,"Yes","Yes",0,0,0,0,null,null,"Yes","Yes",0,0,0,0,null,null,null,null,null,null,null,null,1,1,1,1,1,1,1,1,1,1,1,1,"null","null",0,0,null,1,1,1,1,1,1,1,1,1,1,1,1,"null","null",0,0]
[null,null,null,null,"","","2018-04-01","2021-03-31",null,null,null,null,null,0,null,null,0,0,0,0,0,0,0,0,0,0,0,0,0,null,0,0,0,0,0,0,0,0,0,0,0,0,0,null,0,0,0,0,0,0,0,0,0,0,0,0,0,null,0,0,0,0,0,0,0,0,0,0,0,0,null,"Yes","Yes",0,0,0,0,null,null,"Yes","Yes",0,0,0,0,null,null,null,null,null,null,null,null,1,1,1,1,1,1,1,1,1,1,1,1,"null","null",0,0,null,1,1,1,1,1,1,1,1,1,1,1,1,"null","null",0,0]
[null,null,null,null,"","","2018-04-01","2021-03-31",null,null,null,null,null,0,null,null,0,0,0,0,0,0,0,0,0,0,0,0,0,null,0,0,0,0,0,0,0,0,0,0,0,0,0,null,0,0,0,0,0,0,0,0,0,0,0,0,0,null,0,0,0,0,0,0,0,0,0,0,0,0,null,"Yes","Yes",0,0,0,0,null,null,"Yes","Yes",0,0,0,0,null,null,null,null,null,null,null,null,1,1,1,1,1,1,1,1,1,1,1,1,"null","null",0,0,null,1,1,1,1,1,1,1,1,1,1,1,1,"null","null",0,0]
[null,null,null,null,"","","2018-04-01","2021-03-31",null,null,null,null,null,0,null,null,0,0,0,0,0,0,0,0,0,0,0,0,0,null,0,0,0,0,0,0,0,0,0,0,0,0,0,null,0,0,0,0,0,0,0,0,0,0,0,0,0,null,0,0,0,0,0,0,0,0,0,0,0,0,null,"Yes","Yes",0,0,0,0,null,null,"Yes","Yes",0,0,0,0,null,null,null,null,null,null,null,null,1,1,1,1,1,1,1,1,1,1,1,1,"null","null",0,0,null,1,1,1,1,1,1,1,1,1,1,1,1,"null","null",0,0]
[null,null,null,null,"","","2018-04-01","2021-03-31",null,null,null,null,null,0,null,null,0,0,0,0,0,0,0,0,0,0,0,0,0,null,0,0,0,0,0,0,0,0,0,0,0,0,0,null,0,0,0,0,0,0,0,0,0,0,0,0,0,null,0,0,0,0,0,0,0,0,0,0,0,0,null,"Yes","Yes",0,0,0,0,null,null,"Yes","Yes",0,0,0,0,null,null,null,null,null,null,null,null,1,1,1,1,1,1,1,1,1,1,1,1,"null","null",0,0,null,1,1,1,1,1,1,1,1,1,1,1,1,"null","null",0,0]
[null,null,null,null,"","","2018-04-01","2021-03-31",null,null,null,null,null,0,null,null,0,0,0,0,0,0,0,0,0,0,0,0,0,null,0,0,0,0,0,0,0,0,0,0,0,0,0,null,0,0,0,0,0,0,0,0,0,0,0,0,0,null,0,0,0,0,0,0,0,0,0,0,0,0,null,"Yes","Yes",0,0,0,0,null,null,"Yes","Yes",0,0,0,0,null,null,null,null,null,null,null,null,1,1,1,1,1,1,1,1,1,1,1,1,"null","null",0,0,null,1,1,1,1,1,1,1,1,1,1,1,1,"null","null",0,0]
[null,null,null,null,"","","2018-04-01","2021-03-31",null,null,null,null,null,0,null,null,0,0,0,0,0,0,0,0,0,0,0,0,0,null,0,0,0,0,0,0,0,0,0,0,0,0,0,null,0,0,0,0,0,0,0,0,0,0,0,0,0,null,0,0,0,0,0,0,0,0,0,0,0,0,null,"Yes","Yes",0,0,0,0,null,null,"Yes","Yes",0,0,0,0,null,null,null,null,null,null,null,null,1,1,1,1,1,1,1,1,1,1,1,1,"null","null",0,0,null,1,1,1,1,1,1,1,1,1,1,1,1,"null","null",0,0]
[null,null,null,null,"","","2018-04-01","2021-03-31",null,null,null,null,null,0,null,null,0,0,0,0,0,0,0,0,0,0,0,0,0,null,0,0,0,0,0,0,0,0,0,0,0,0,0,null,0,0,0,0,0,0,0,0,0,0,0,0,0,null,0,0,0,0,0,0,0,0,0,0,0,0,null,"Yes","Yes",0,0,0,0,null,null,"Yes","Yes",0,0,0,0,null,null,null,null,null,null,null,null,1,1,1,1,1,1,1,1,1,1,1,1,"null","null",0,0,null,1,1,1,1,1,1,1,1,1,1,1,1,"null","null",0,0]
[null,null,null,null,"","","2018-04-01","2021-03-31",null,null,null,null,null,0,null,null,0,0,0,0,0,0,0,0,0,0,0,0,0,null,0,0,0,0,0,0,0,0,0,0,0,0,0,null,0,0,0,0,0,0,0,0,0,0,0,0,0,null,0,0,0,0,0,0,0,0,0,0,0,0,null,"Yes","Yes",0,0,0,0,null,null,"Yes","Yes",0,0,0,0,null,null,null,null,null,null,null,null,1,1,1,1,1,1,1,1,1,1,1,1,"null","null",0,0,null,1,1,1,1,1,1,1,1,1,1,1,1,"null","null",0,0]
[null,null,null,null,"","","2018-04-01","2021-03-31",null,null,null,null,null,0,null,null,0,0,0,0,0,0,0,0,0,0,0,0,0,null,0,0,0,0,0,0,0,0,0,0,0,0,0,null,0,0,0,0,0,0,0,0,0,0,0,0,0,null,0,0,0,0,0,0,0,0,0,0,0,0,null,"Yes","Yes",0,0,0,0,null,null,"Yes","Yes",0,0,0,0,null,null,null,null,null,null,null,null,1,1,1,1,1,1,1,1,1,1,1,1,"null","null",0,0,null,1,1,1,1,1,1,1,1,1,1,1,1,"null","null",0,0]
[null,null,null,null,"","","2018-04-01","2021-03-31",null,null,null,null,null,0,null,null,0,0,0,0,0,0,0,0,0,0,0,0,0,null,0,0,0,0,0,0,0,0,0,0,0,0,0,null,0,0,0,0,0,0,0,0,0,0,0,0,0,null,0,0,0,0,0,0,0,0,0,0,0,0,null,"Yes","Yes",0,0,0,0,null,null,"Yes","Yes",0,0,0,0,null,null,null,null,null,null,null,null,1,1,1,1,1,1,1,1,1,1,1,1,"null","null",0,0,null,1,1,1,1,1,1,1,1,1,1,1,1,"null","null",0,0]
[null,null,null,null,"","","2018-04-01","2021-03-31",null,null,null,null,null,0,null,null,0,0,0,0,0,0,0,0,0,0,0,0,0,null,0,0,0,0,0,0,0,0,0,0,0,0,0,null,0,0,0,0,0,0,0,0,0,0,0,0,0,null,0,0,0,0,0,0,0,0,0,0,0,0,null,"Yes","Yes",0,0,0,0,null,null,"Yes","Yes",0,0,0,0,null,null,null,null,null,null,null,null,1,1,1,1,1,1,1,1,1,1,1,1,"null","null",0,0,null,1,1,1,1,1,1,1,1,1,1,1,1,"null","null",0,0]
[null,null,null,null,"","","2018-04-01","2021-03-31",null,null,null,null,null,0,null,null,0,0,0,0,0,0,0,0,0,0,0,0,0,null,0,0,0,0,0,0,0,0,0,0,0,0,0,null,0,0,0,0,0,0,0,0,0,0,0,0,0,null,0,0,0,0,0,0,0,0,0,0,0,0,null,"Yes","Yes",0,0,0,0,null,null,"Yes","Yes",0,0,0,0,null,null,null,null,null,null,null,null,1,1,1,1,1,1,1,1,1,1,1,1,"null","null",0,0,null,1,1,1,1,1,1,1,1,1,1,1,1,"null","null",0,0]
[null,null,null,null,{"$f":"IF(D81=\"\",\"\",IF(SUM(DATEDIF(D81,DATE(YEAR($E$14)+(MONTH($E$14)>8),8,31),\"Y\")-5)=0,\"R\",IF(SUM(DATEDIF(D81,DATE(YEAR($E$14)+(MONTH($E$14)>8),8,31),\"Y\")-5)<0,\"\",DATEDIF(D81,DATE(YEAR($E$14)+(MONTH($E$14)>8),8,31),\"Y\")-5)))","v":""},"","2018-04-01","2021-03-31",null,null,null,null,null,0,null,null,0,0,0,0,0,0,0,0,0,0,0,0,0,null,0,0,0,0,0,0,0,0,0,0,0,0,0,null,0,0,0,0,0,0,0,0,0,0,0,0,0,null,0,0,0,0,0,0,0,0,0,0,0,0,null,"Yes","Yes",0,0,0,0,null,null,"Yes","Yes",0,0,0,0,null,null,null,null,null,null,null,null,1,1,1,1,1,1,1,1,1,1,1,1,"null","null",0,0,null,1,1,1,1,1,1,1,1,1,1,1,1,"null","null",0,0]
[]
[null,null,null,null,null,null,null,null,null,null,null,null,null,{"$f":"SUM(N17:O81)","v":0},null,null,null,null,null,null,null,null,null,null,null,null,null,null,{"$f":"SUM(AC17:AC81)","v":0},null,null,null,null,null,null,null,null,null,null,null,null,null,{"$f":"SUM(AQ17:AQ81)","v":0},null,null,null,null,null,null,null,null,null,null,null,null,null,{"$f":"SUM(BE17:BE81)","v":0},null,null,null,null,null,null,null,null,null,null,null,null,null,null,null,null,{"$f":"SUM(BV17:BV82)","v":0},{"$f":"SUM(BW17:BW82)","v":0},{"$f":"SUM(BX17:BX82)","v":0},{"$f":"SUM(BY17:BY82)","v":0},null,null,null,null,{"$f":"SUM(CD17:CD82)","v":0},{"$f":"SUM(CE17:CE82)","v":0},{"$f":"SUM(CF17:CF82)","v":0},{"$f":"SUM(CG17:CG82)","v":0}]
[null,null,null,null,null,null,null,null,null,null,null,null,null,null,null,null,null,null,null,null,null,null,null,null,null,null,null,null,null,null,null,null,null,null,null,null,null,null,null,null,null,"28% rule",{"$f":"AQ12","v":0}]
[null,null,null,null,null,null,null,null,null,null,null,null,null,null,null,null,null,null,null,null,null,null,null,null,null,null,null,null,null,null,null,null,null,null,null,null,null,null,null,null,null,"Grand total",{"$f":"AQ84+AQ83","v":0},null,null,null,null,null,null,null,null,null,null,null,null,null,null,null,null,null,null,null,null,null,null,null,null,null,null,null,null,null,null,null,null,null,{"$f":"SUM(BV83:BY83)","v":0},null,null,null,null,null,null,null,{"$f":"SUM(CD83:CG83)","v":0}]

{"sheet":"SRP Year 1","index":14,"n_rows":180,"n_cols":33,"rows_kept":180,"cut":false,"hidden":false,"merged":[[44,1,46,8],[47,3,48,3],[5,2,5,8],[7,2,7,8],[16,1,17,1],[20,1,21,1],[29,1,30,1],[29,5,30,7],[33,1,34,1],[11,1,12,7]]}
[]
[null,null,null,null,null,null,null,{"$f":"Year1DfE","v":0}]
[]
[]
[]
[null,null,{"$f":"schoolname","v":""}]
[]
[null,null,"High Needs funding in a Specialist Resourced Provision (SRP) - Place Plus "]
[]
[null,"2018/19 Place Funding",null,null,null,null,null,null,null,null,"2018/19 Element 3 Input (top-up funding)"]
[]
[null,"IMPORTANT - From 2018/19 SRP pupils are now included in the Schools Formula Budget. For an explanation of the changes (please click the link)",null,null,null,null,null,null,null,null,"Pupils should only be recorded on this sheet where the School is named on the pupils Education Health Care Plan (EHCP)"]
[null,null,null,null,null,null,null,null,null,null,"SRP funding agreed with other local authorities for pupils they have placed should be entered on Budget Preparation"]
[null,null,null,null,null,null,null,null,null,null,"A designation must always be selected.  Apart from one school with two SRPs the designation will always be 1."]
[null,"Pre-16"]
[null,null,null,null,"Places included in formula budget","Places to be Funded","Rate","Total",null,null,"Designation","Pupil Surname","Pupil Forename","D.O.B","Pre/Post 16\nSUMMER","Pre/Post 16 WINTER","Placement START Date","Placement END Date","Monthly Rate Apr-Aug","Monthly Rate Sep-Mar","April\n(March Pupils)","May\n(April Pupils)","June\n(May Pupils)","July\n(June Pupils)","August\n(July Pupils)","September\n(July Pupils)","October\n(September Pupils)","November\n(October Pupils)","December\n(November Pupils)","January\n(December Pupils)","February\n(January Pupils)","March\n(February Pupils)","Total For Pupil"]
[null,"Element 1","Apr to Aug",null,{"$f":"IF(ISERROR(VLOOKUP(Year1DfE,dataslate,52,0)),0,VLOOKUP(Year1DfE,dataslate,52,0))","v":0},{"$f":"MAX(0,F21-E17)","v":0},{"$f":"4000*(5/12)","v":1666.6666666666667},{"$f":"IF(ISERROR(F17*G17),0,F17*G17)","v":0},null,null,null,null,null,null,{"$f":"IF(N17=0,\"\",IF(N17<DATE(2001,9,1),\"Post-16\",\"Pre-16\"))","v":""},{"$f":"IF(N17=0,\"\",IF(N17<DATE(2002,9,1),\"Post-16\",\"Pre-16\"))","v":""},"2018-03-31","2019-03-31",{"$f":"IF(AND(K17=\"Designation 1\",O17=\"Pre-16\"),VLOOKUP(Year1DfE,dataslate,44,0),\nIF(AND(K17=\"Designation 1\",O17=\"Post-16\"),VLOOKUP(Year1DfE,dataslate,46,0),\nIF(AND(K17=\"Designation 2\",O17=\"Pre-16\"),VLOOKUP(Year1DfE,dataslate,45,0),\nIF(AND(K17=\"Designation 2\",O17=\"Post-16\"),VLOOKUP(Year1DfE,dataslate,47,0),0))))","v":0},{"$f":"IF(AND(K17=\"Designation 1\",P17=\"Pre-16\"),VLOOKUP(Year1DfE,dataslate,44,0),\nIF(AND(K17=\"Designation 1\",P17=\"Post-16\"),VLOOKUP(Year1DfE,dataslate,46,0),\nIF(AND(K17=\"Designation 2\",P17=\"Pre-16\"),VLOOKUP(Year1DfE,dataslate,45,0),\nIF(AND(K17=\"Designation 2\",P17=\"Post-16\"),VLOOKUP(Year1DfE,dataslate,47,0),0))))","v":0},{"$f":"IF(OR(Q17>DATE(2018,3,31),R17<DATE(2018,3,1)),0,S17)","v":0},{"$f":"IF(OR(Q17>DATE(2018,4,30),R17<DATE(2018,4,1)),0,S17)","v":0},{"$f":"IF(OR(Q17>DATE(2018,5,31),R17<DATE(2018,5,1)),0,S17)","v":0},{"$f":"IF(OR(Q17>DATE(2018,6,30),R17<DATE(2018,6,1)),0,S17)","v":0},{"$f":"IF(OR(Q17>DATE(2018,7,31),R17<DATE(2018,7,1)),0,S17)","v":0},{"$f":"IF(OR(Q17>DATE(2018,7,31),R17<DATE(2018,7,1)),0,S17)","v":0},{"$f":"IF(OR(Q17>DATE(2018,9,30),R17<DATE(2018,9,1)),0,T17)","v":0},{"$f":"IF(OR(Q17>DATE(2018,10,31),R17<DATE(2018,10,1)),0,T17)","v":0},{"$f":"IF(OR(Q17>DATE(2018,11,30),R17<DATE(2018,11,1)),0,T17)","v":0},{"$f":"IF(OR(Q17>DATE(2018,12,31),R17<DATE(2018,12,1)),0,T17)","v":0},{"$f":"IF(OR(Q17>DATE(2019,1,31),R17<DATE(2019,1,1)),0,T17)","v":0},{"$f":"IF(OR(Q17>DATE(2019,2,28),R17<DATE(2019,2,1)),0,T17)","v":0},{"$f":"SUM(U17:AF17)","v":0}]
[null,null,"Sep to Mar",null,{"$f":"E17","v":0},{"$f":"MAX(F22-E18,0)","v":0},{"$f":"4000*(7/12)","v":2333.3333333333335},{"$f":"IF(ISERROR(F18*G18),0,F18*G18)","v":0},null,null,null,null,null,null,{"$f":"IF(N18=0,\"\",IF(N18<DATE(2001,9,1),\"Post-16\",\"Pre-16\"))","v":""},{"$f":"IF(N18=0,\"\",IF(N18<DATE(2002,9,1),\"Post-16\",\"Pre-16\"))","v":""},"2018-03-31","2019-03-31",0,0,0,0,0,0,0,0,0,0,0,0,0,0,{"$f":"SUM(U18:AF18)","v":0}]
[null,"*Element 1 only paid if place numbers greater than actual pupils on roll as at Oct'17 census. ",null,null,null,null,{"$f":"SUM(G17:G18)","v":4000},{"$f":"SUM(H17:H18)","v":0},null,null,null,null,null,null,{"$f":"IF(N19=0,\"\",IF(N19<DATE(2001,9,1),\"Post-16\",\"Pre-16\"))","v":""},{"$f":"IF(N19=0,\"\",IF(N19<DATE(2002,9,1),\"Post-16\",\"Pre-16\"))","v":""},"2018-03-31","2019-03-31",0,0,0,0,0,0,0,0,0,0,0,0,0,0,0]
[null," Actual funding now included within forumla allocation",null,null,null,null,null,null,null,null,null,null,null,null,"","","2018-03-31","2019-03-31",0,0,0,0,0,0,0,0,0,0,0,0,0,0,0]
[null,"Element 2","Apr to Aug",null,null,{"$f":"IF(ISERROR(VLOOKUP(Year1DfE,dataslate,48,0)),0,VLOOKUP(Year1DfE,dataslate,48,0))","v":0},{"$f":"6000*(5/12)","v":2500},{"$f":"IF(ISERROR(F21*G21),0,F21*G21)","v":0},null,null,null,null,null,null,"","","2018-03-31","2019-03-31",0,0,0,0,0,0,0,0,0,0,0,0,0,0,0]
[null,null,"Sep to Mar",null,null,{"$f":"IF(ISERROR(VLOOKUP(Year1DfE,dataslate,50,0)),0,VLOOKUP(Year1DfE,dataslate,50,0))","v":0},{"$f":"6000*(7/12)","v":3500},{"$f":"IF(ISERROR(F22*G22),0,F22*G22)","v":0},null,null,null,null,null,null,"","","2018-03-31","2019-03-31",0,0,0,0,0,0,0,0,0,0,0,0,0,0,0]
[null,null,null,null,null,null,{"$f":"SUM(G21:G22)","v":6000},{"$f":"SUM(H21:H22)","v":0},null,null,null,null,null,null,"","","2018-03-31","2019-03-31",0,0,0,0,0,0,0,0,0,0,0,0,0,0,0]
[null,null,null,null,null,null,null,null,null,null,null,null,null,null,"","","2018-03-31","2019-03-31",0,0,0,0,0,0,0,0,0,0,0,0,0,0,0]
[null,null,null,null,null,null,null,{"$f":"srpelement1+H23","v":0},null,null,null,null,null,null,"","","2018-03-31","2019-03-31",0,0,0,0,0,0,0,0,0,0,0,0,0,0,0]
[null,null,null,null,null,null,null,null,null,null,null,null,null,null,"","","2018-03-31","2019-03-31",0,0,0,0,0,0,0,0,0,0,0,0,0,0,0]
[null,null,null,null,null,null,null,null,null,null,null,null,null,null,"","","2018-03-31","2019-03-31",0,0,0,0,0,0,0,0,0,0,0,0,0,0,0]
[null,"Post-16",null,null,null,null,null,null,null,null,null,null,null,null,"","","2018-03-31","2019-03-31",0,0,0,0,0,0,0,0,0,0,0,0,0,0,0]
[null,null,null,null,null,"Places","Rate","Total",null,null,null,null,null,null,"","","2018-03-31","2019-03-31",0,0,0,0,0,0,0,0,0,0,0,0,0,0,0]
[null,"Element 1","Apr to Jul",null,null,"Included within your 16-19 formula allocation on actual number of lagged pupils",null,null,null,null,null,null,null,null,"","","2018-03-31","2019-03-31",0,0,0,0,0,0,0,0,0,0,0,0,0,0,0]
[null,null,"Aug to Mar",null,null,null,null,null,null,null,null,null,null,null,"","","2018-03-31","2019-03-31",0,0,0,0,0,0,0,0,0,0,0,0,0,0,0]
[null,null,null,null,null,null,null,null,null,null,null,null,null,null,"","","2018-03-31","2019-03-31",0,0,0,0,0,0,0,0,0,0,0,0,0,0,0]
[null,null,null,null,null,null,null,null,null,null,null,null,null,null,"","","2018-03-31","2019-03-31",0,0,0,0,0,0,0,0,0,0,0,0,0,0,0]
[null,"Element 2","Apr to Jul",null,null,{"$f":"IF(ISERROR(VLOOKUP(Year1DfE,dataslate,49,0)),0,VLOOKUP(Year1DfE,dataslate,49,0))","v":0},{"$f":"6000*(4/12)","v":2000},{"$f":"IF(ISERROR(F34*G34),0,F34*G34)","v":0},null,null,null,null,null,null,"","","2018-03-31","2019-03-31",0,0,0,0,0,0,0,0,0,0,0,0,0,0,0]
[null,null,"Aug to Mar",null,null,{"$f":"IF(ISERROR(VLOOKUP(Year1DfE,dataslate,51,0)),0,VLOOKUP(Year1DfE,dataslate,51,0))","v":0},{"$f":"6000*(8/12)","v":4000},{"$f":"IF(ISERROR(F35*G35),0,F35*G35)","v":0},null,null,null,null,null,null,"","","2018-03-31","2019-03-31",0,0,0,0,0,0,0,0,0,0,0,0,0,0,0]
[null,null,null,null,null,null,null,{"$f":"SUM(H34:H35)","v":0},{"$f":"H36+H23","v":0},null,null,null,null,null,"","","2018-03-31","2019-03-31",0,0,0,0,0,0,0,0,0,0,0,0,0,0,0]
[null,null,null,null,null,null,null,null,null,null,null,null,null,null,"","","2018-03-31","2019-03-31",0,0,0,0,0,0,0,0,0,0,0,0,0,0,0]
[null,null,null,null,null,null,null,{"$f":"H36","v":0},null,null,null,null,null,null,"","","2018-03-31","2019-03-31",0,0,0,0,0,0,0,0,0,0,0,0,0,0,0]
[null,null,null,null,null,null,null,null,null,null,null,null,null,null,"","","2018-03-31","2019-03-31",0,0,0,0,0,0,0,0,0,0,0,0,0,0,0]
[null,null,null,null,null,null,null,null,null,null,null,null,null,null,"","","2018-03-31","2019-03-31",0,0,0,0,0,0,0,0,0,0,0,0,0,0,0]
[null,null,null,null,null,null,null,null,null,null,null,null,null,null,"","","2018-03-31","2019-03-31",0,0,0,0,0,0,0,0,0,0,0,0,0,0,0]
[null,null,null,null,null,null,null,null,null,null,null,null,null,null,"","","2018-03-31","2019-03-31",0,0,0,0,0,0,0,0,0,0,0,0,0,0,0]
[null,null,null,null,null,null,null,null,null,null,null,null,null,null,"","","2018-03-31","2019-03-31",0,0,0,0,0,0,0,0,0,0,0,0,0,0,0]
[null,"Excess Place Funding (Elements 1 & 2)",null,null,null,null,null,null,null,null,null,null,null,null,"","","2018-03-31","2019-03-31",0,0,0,0,0,0,0,0,0,0,0,0,0,0,0]
[null,"Place funding is guaranteed for your commissioned number of places, no place funding will be deducted. Excess Place funding is only relevant where you exceed your commissioned places and will only ever be a positive amount.",null,null,null,null,null,null,null,null,null,null,null,null,"","","2018-03-31","2019-03-31",0,0,0,0,0,0,0,0,0,0,0,0,0,0,0]
[null,null,null,null,null,null,null,null,null,null,null,null,null,null,"","","2018-03-31","2019-03-31",0,0,0,0,0,0,0,0,0,0,0,0,0,0,0]
[null,null,null,null,null,null,null,null,null,null,null,null,null,null,"","","2018-03-31","2019-03-31",0,0,0,0,0,0,0,0,0,0,0,0,0,0,0]
[null,null,null,"Pre-16 Excess Pupil Numbers","Pre-16 Funding","Post-16 Excess Pupil Numbers","Post-16 Funding","Total Funding",null,null,null,null,null,null,"","","2018-03-31","2019-03-31",0,0,0,0,0,0,0,0,0,0,0,0,0,0,0]
[null,null,null,null,null,null,null,null,null,null,null,null,null,null,"","","2018-03-31","2019-03-31",{"$f":"IF(AND(K49=\"Designation 1\",O49=\"Pre-16\"),VLOOKUP(Year1DfE,dataslate,44,0),\nIF(AND(K49=\"Designation 1\",O49=\"Post-16\"),VLOOKUP(Year1DfE,dataslate,46,0),\nIF(AND(K49=\"Designation 2\",O49=\"Pre-16\"),VLOOKUP(Year1DfE,dataslate,45,0),\nIF(AND(K49=\"Designation 2\",O49=\"Post-16\"),VLOOKUP(Year1DfE,dataslate,47,0),0))))","v":0},{"$f":"IF(AND(K49=\"Designation 1\",P49=\"Pre-16\"),VLOOKUP(Year1DfE,dataslate,44,0),\nIF(AND(K49=\"Designation 1\",P49=\"Post-16\"),VLOOKUP(Year1DfE,dataslate,46,0),\nIF(AND(K49=\"Designation 2\",P49=\"Pre-16\"),VLOOKUP(Year1DfE,dataslate,45,0),\nIF(AND(K49=\"Designation 2\",P49=\"Post-16\"),VLOOKUP(Year1DfE,dataslate,47,0),0))))","v":0},0,0,0,0,0,0,0,0,0,0,0,0,{"$f":"SUM(U49:AF49)","v":0}]
[null,"April",null,{"$f":"U176","v":0},{"$f":"U178","v":0},{"$f":"U177","v":0},{"$f":"U179","v":0},{"$f":"U180","v":0},null,null,null,null,null,null,"","","2018-03-31","2019-03-31",0,0,0,0,0,0,0,0,0,0,0,0,0,0,0]
[null,"May",null,{"$f":"V176","v":0},{"$f":"V178","v":0},{"$f":"V177","v":0},{"$f":"V179","v":0},{"$f":"V180","v":0},null,null,null,null,null,null,"","","2018-03-31","2019-03-31",0,0,0,0,0,0,0,0,0,0,0,0,0,0,0]
[null,"June",null,{"$f":"W176","v":0},{"$f":"W178","v":0},{"$f":"W177","v":0},{"$f":"W179","v":0},{"$f":"W180","v":0},null,null,null,null,null,null,"","","2018-03-31","2019-03-31",0,0,0,0,0,0,0,0,0,0,0,0,0,0,0]
[null,"July",null,{"$f":"X176","v":0},{"$f":"X178","v":0},{"$f":"X177","v":0},{"$f":"X179","v":0},{"$f":"X180","v":0},null,null,null,null,null,null,"","","2018-03-31","2019-03-31",0,0,0,0,0,0,0,0,0,0,0,0,0,0,0]
[null,"August",null,{"$f":"Y176","v":0},{"$f":"Y178","v":0},{"$f":"Y177","v":0},{"$f":"Y179","v":0},{"$f":"Y180","v":0},null,null,null,null,null,null,"","","2018-03-31","2019-03-31",0,0,0,0,0,0,0,0,0,0,0,0,0,0,0]
[null,"September",null,{"$f":"Z176","v":0},{"$f":"Z178","v":0},{"$f":"Z177","v":0},{"$f":"Z179","v":0},{"$f":"Z180","v":0},null,null,null,null,null,null,"","","2018-03-31","2019-03-31",0,0,0,0,0,0,0,0,0,0,0,0,0,0,0]
[null,"October",null,{"$f":"AA176","v":0},{"$f":"AA178","v":0},{"$f":"AA177","v":0},{"$f":"AA179","v":0},{"$f":"AA180","v":0},null,null,null,null,null,null,"","","2018-03-31","2019-03-31",0,0,0,0,0,0,0,0,0,0,0,0,0,0,0]
[null,"November",null,{"$f":"AB176","v":0},{"$f":"AB178","v":0},{"$f":"AB177","v":0},{"$f":"AB179","v":0},{"$f":"AB180","v":0},null,null,null,null,null,null,"","","2018-03-31","2019-03-31",0,0,0,0,0,0,0,0,0,0,0,0,0,0,0]
[null,"December",null,{"$f":"AC176","v":0},{"$f":"AC178","v":0},{"$f":"AC177","v":0},{"$f":"AC179","v":0},{"$f":"AC180","v":0},null,null,null,null,null,null,"","","2018-03-31","2019-03-31",0,0,0,0,0,0,0,0,0,0,0,0,0,0,0]
[null,"January",null,{"$f":"AD176","v":0},{"$f":"AD178","v":0},{"$f":"AD177","v":0},{"$f":"AD179","v":0},{"$f":"AD180","v":0},null,null,null,null,null,null,"","","2018-03-31","2019-03-31",0,0,0,0,0,0,0,0,0,0,0,0,0,0,0]
[null,"February",null,{"$f":"AE176","v":0},{"$f":"AE178","v":0},{"$f":"AE177","v":0},{"$f":"AE179","v":0},{"$f":"AE180","v":0},null,null,null,null,null,null,"","","2018-03-31","2019-03-31",0,0,0,0,0,0,0,0,0,0,0,0,0,0,0]
[null,"March",null,{"$f":"AF176","v":0},{"$f":"AF178","v":0},{"$f":"AF177","v":0},{"$f":"AF179","v":0},{"$f":"AF180","v":0},null,null,null,null,null,null,"","","2018-03-31","2019-03-31",0,0,0,0,0,0,0,0,0,0,0,0,0,0,0]
[null,null,null,null,null,null,null,{"$f":"SUM(H50:H61)","v":0},null,null,null,null,null,null,"","","2018-03-31","2019-03-31",0,0,0,0,0,0,0,0,0,0,0,0,0,0,0]
[null,null,null,null,null,null,null,null,null,null,null,null,null,null,"","","2018-03-31","2019-03-31",0,0,0,0,0,0,0,0,0,0,0,0,0,0,0]
[null,null,null,null,null,null,null,null,null,null,null,null,null,null,"","","2018-03-31","2019-03-31",0,0,0,0,0,0,0,0,0,0,0,0,0,0,0]
[null,null,null,null,null,null,null,null,null,null,null,null,null,null,"","","2018-03-31","2019-03-31",0,0,0,0,0,0,0,0,0,0,0,0,0,0,0]
[null,"Element 3 Top-up Funding",null,null,null,"Summary",null,null,null,null,null,null,null,null,"","","2018-03-31","2019-03-31",0,0,0,0,0,0,0,0,0,0,0,0,0,0,0]
[null,null,null,null,null,null,null,null,null,null,null,null,null,null,"","","2018-03-31","2019-03-31",0,0,0,0,0,0,0,0,0,0,0,0,0,0,0]
[null,"April",{"$f":"SUM($U$17:$U$168)","v":0},null,null,"Place funding - Pre-16",null,{"$f":"H25","v":0},null,null,null,null,null,null,"","","2018-03-31","2019-03-31",0,0,0,0,0,0,0,0,0,0,0,0,0,0,0]
[null,"May",{"$f":"SUM($V$17:$V$168)","v":0},null,null,"Place funding - Post-16",null,{"$f":"H38","v":0},null,null,null,null,null,null,"","","2018-03-31","2019-03-31",0,0,0,0,0,0,0,0,0,0,0,0,0,0,0]
[null,"June",{"$f":"SUM($W$17:$W$168)","v":0},null,null,"Excess place funding",null,{"$f":"H62","v":0},null,null,null,null,null,null,"","","2018-03-31","2019-03-31",0,0,0,0,0,0,0,0,0,0,0,0,0,0,0]
[null,"July",{"$f":"SUM($X$17:$X$168)","v":0},null,null,"Element 3 top-up funding",null,{"$f":"srpelement3","v":0},null,null,null,null,null,null,"","","2018-03-31","2019-03-31",0,0,0,0,0,0,0,0,0,0,0,0,0,0,0]
[null,"August",{"$f":"SUM($Y$17:$Y$168)","v":0},null,null,null,null,null,null,null,null,null,null,null,"","","2018-03-31","2019-03-31",0,0,0,0,0,0,0,0,0,0,0,0,0,0,0]
[null,"September",{"$f":"SUM($Z$17:$Z$168)","v":0},null,null,"Total SRP funding 2018/19",null,{"$f":"SUM(H68:H72)","v":0},null,null,null,null,null,null,"","","2018-03-31","2019-03-31",0,0,0,0,0,0,0,0,0,0,0,0,0,0,0]
[null,"October",{"$f":"SUM($AA$17:$AA$168)","v":0},null,null,null,null,null,null,null,null,null,null,null,"","","2018-03-31","2019-03-31",0,0,0,0,0,0,0,0,0,0,0,0,0,0,0]
[null,"November",{"$f":"SUM($AB$17:$AB$168)","v":0},null,null,null,null,null,null,null,null,null,null,null,"","","2018-03-31","2019-03-31",0,0,0,0,0,0,0,0,0,0,0,0,0,0,0]
[null,"December",{"$f":"SUM($AC$17:$AC$168)","v":0},null,null,null,null,null,null,null,null,null,null,null,"","","2018-03-31","2019-03-31",0,0,0,0,0,0,0,0,0,0,0,0,0,0,0]
[null,"January",{"$f":"SUM($AD$17:$AD$168)","v":0},null,null,null,null,null,null,null,null,null,null,null,"","","2018-03-31","2019-03-31",0,0,0,0,0,0,0,0,0,0,0,0,0,0,0]
[null,"February",{"$f":"SUM($AE$17:$AE$168)","v":0},null,null,null,null,null,null,null,null,null,null,null,"","","2018-03-31","2019-03-31",0,0,0,0,0,0,0,0,0,0,0,0,0,0,0]
[null,"March",{"$f":"SUM($AF$17:$AF$168)","v":0},null,null,null,null,null,null,null,null,null,null,null,"","","2018-03-31","2019-03-31",0,0,0,0,0,0,0,0,0,0,0,0,0,0,0]
[null,null,{"$f":"SUM(C68:C79)","v":0},null,null,null,null,null,null,null,null,null,null,null,"","","2018-03-31","2019-03-31",0,0,0,0,0,0,0,0,0,0,0,0,0,0,0]
[null,null,null,null,null,null,null,null,null,null,null,null,null,null,"","","2018-03-31","2019-03-31",{"$f":"IF(AND(K81=\"Designation 1\",O81=\"Pre-16\"),VLOOKUP(Year1DfE,dataslate,44,0),\nIF(AND(K81=\"Designation 1\",O81=\"Post-16\"),VLOOKUP(Year1DfE,dataslate,46,0),\nIF(AND(K81=\"Designation 2\",O81=\"Pre-16\"),VLOOKUP(Year1DfE,dataslate,45,0),\nIF(AND(K81=\"Designation 2\",O81=\"Post-16\"),VLOOKUP(Year1DfE,dataslate,47,0),0))))","v":0},{"$f":"IF(AND(K81=\"Designation 1\",P81=\"Pre-16\"),VLOOKUP(Year1DfE,dataslate,44,0),\nIF(AND(K81=\"Designation 1\",P81=\"Post-16\"),VLOOKUP(Year1DfE,dataslate,46,0),\nIF(AND(K81=\"Designation 2\",P81=\"Pre-16\"),VLOOKUP(Year1DfE,dataslate,45,0),\nIF(AND(K81=\"Designation 2\",P81=\"Post-16\"),VLOOKUP(Year1DfE,dataslate,47,0),0))))","v":0},{"$f":"IF(OR(Q81>DATE(2018,3,31),R81<DATE(2018,3,1)),0,S81)","v":0},{"$f":"IF(OR(Q81>DATE(2018,4,30),R81<DATE(2018,4,1)),0,S81)","v":0},{"$f":"IF(OR(Q81>DATE(2018,5,31),R81<DATE(2018,5,1)),0,S81)","v":0},{"$f":"IF(OR(Q81>DATE(2018,6,30),R81<DATE(2018,6,1)),0,S81)","v":0},{"$f":"IF(OR(Q81>DATE(2018,7,31),R81<DATE(2018,7,1)),0,S81)","v":0},{"$f":"IF(OR(Q81>DATE(2018,7,31),R81<DATE(2018,7,1)),0,S81)","v":0},{"$f":"IF(OR(Q81>DATE(2018,9,30),R81<DATE(2018,9,1)),0,T81)","v":0},{"$f":"IF(OR(Q81>DATE(2018,10,31),R81<DATE(2018,10,1)),0,T81)","v":0},{"$f":"IF(OR(Q81>DATE(2018,11,30),R81<DATE(2018,11,1)),0,T81)","v":0},{"$f":"IF(OR(Q81>DATE(2018,12,31),R81<DATE(2018,12,1)),0,T81)","v":0},{"$f":"IF(OR(Q81>DATE(2019,1,31),R81<DATE(2019,1,1)),0,T81)","v":0},{"$f":"IF(OR(Q81>DATE(2019,2,28),R81<DATE(2019,2,1)),0,T81)","v":0},0]
[null,null,null,null,null,null,null,null,null,null,null,null,null,null,"","","2018-03-31","2019-03-31",0,0,0,0,0,0,0,0,0,0,0,0,0,0,0]
[null,null,null,null,null,null,null,null,null,null,null,null,null,null,{"$f":"IF(N83=0,\"\",IF(N83<DATE(2001,9,1),\"Post-16\",\"Pre-16\"))","v":""},{"$f":"IF(N83=0,\"\",IF(N83<DATE(2002,9,1),\"Post-16\",\"Pre-16\"))","v":""},"2018-03-31","2019-03-31",0,0,0,0,0,0,0,0,0,0,0,0,0,0,0]
[null,null,null,null,null,null,null,null,null,null,null,null,null,null,"","","2018-03-31","2019-03-31",0,0,0,0,0,0,0,0,0,0,0,0,0,0,{"$f":"SUM(U84:AF84)","v":0}]
[null,null,null,null,null,null,null,null,null,null,null,null,null,null,"","","2018-03-31","2019-03-31",0,0,0,0,0,0,0,0,0,0,0,0,0,0,0]
[null,null,null,null,null,null,null,null,null,null,null,null,null,null,"","","2018-03-31","2019-03-31",0,0,0,0,0,0,0,0,0,0,0,0,0,0,0]
[null,null,null,null,null,null,null,null,null,null,null,null,null,null,"","","2018-03-31","2019-03-31",0,0,0,0,0,0,0,0,0,0,0,0,0,0,0]
[null,null,null,null,null,null,null,null,null,null,null,null,null,null,"","","2018-03-31","2019-03-31",0,0,0,0,0,0,0,0,0,0,0,0,0,0,0]
[null,null,null,null,null,null,null,null,null,null,null,null,null,null,"","","2018-03-31","2019-03-31",0,0,0,0,0,0,0,0,0,0,0,0,0,0,0]
[null,null,null,null,null,null,null,null,null,null,null,null,null,null,"","","2018-03-31","2019-03-31",0,0,0,0,0,0,0,0,0,0,0,0,0,0,0]
[null,null,null,null,null,null,null,null,null,null,null,null,null,null,"","","2018-03-31","2019-03-31",0,0,0,0,0,0,0,0,0,0,0,0,0,0,0]
[null,null,null,null,null,null,null,null,null,null,null,null,null,null,"","","2018-03-31","2019-03-31",0,0,0,0,0,0,0,0,0,0,0,0,0,0,0]
[null,null,null,null,null,null,null,null,null,null,null,null,null,null,"","","2018-03-31","2019-03-31",0,0,0,0,0,0,0,0,0,0,0,0,0,0,0]
[null,null,null,null,null,null,null,null,null,null,null,null,null,null,"","","2018-03-31","2019-03-31",0,0,0,0,0,0,0,0,0,0,0,0,0,0,0]
[null,null,null,null,null,null,null,null,null,null,null,null,null,null,"","","2018-03-31","2019-03-31",0,0,0,0,0,0,0,0,0,0,0,0,0,0,0]
[null,null,null,null,null,null,null,null,null,null,null,null,null,null,"","","2018-03-31","2019-03-31",0,0,0,0,0,0,0,0,0,0,0,0,0,0,0]
[null,null,null,null,null,null,null,null,null,null,null,null,null,null,"","","2018-03-31","2019-03-31",0,0,0,0,0,0,0,0,0,0,0,0,0,0,0]
[null,null,null,null,null,null,null,null,null,null,null,null,null,null,"","","2018-03-31","2019-03-31",0,0,0,0,0,0,0,0,0,0,0,0,0,0,0]
[null,null,null,null,null,null,null,null,null,null,null,null,null,null,"","","2018-03-31","2019-03-31",0,0,0,0,0,0,0,0,0,0,0,0,0,0,0]
[null,null,null,null,null,null,null,null,null,null,null,null,null,null,"","","2018-03-31","2019-03-31",0,0,0,0,0,0,0,0,0,0,0,0,0,0,0]
[null,null,null,null,null,null,null,null,null,null,null,null,null,null,"","","2018-03-31","2019-03-31",0,0,0,0,0,0,0,0,0,0,0,0,0,0,0]
[null,null,null,null,null,null,null,null,null,null,null,null,null,null,"","","2018-03-31","2019-03-31",0,0,0,0,0,0,0,0,0,0,0,0,0,0,0]
[null,null,null,null,null,null,null,null,null,null,null,null,null,null,"","","2018-03-31","2019-03-31",0,0,0,0,0,0,0,0,0,0,0,0,0,0,0]
[null,null,null,null,null,null,null,null,null,null,null,null,null,null,"","","2018-03-31","2019-03-31",0,0,0,0,0,0,0,0,0,0,0,0,0,0,0]
[null,null,null,null,null,null,null,null,null,null,null,null,null,null,"","","2018-03-31","2019-03-31",0,0,0,0,0,0,0,0,0,0,0,0,0,0,0]
[null,null,null,null,null,null,null,null,null,null,null,null,null,null,"","","2018-03-31","2019-03-31",0,0,0,0,0,0,0,0,0,0,0,0,0,0,0]
[null,null,null,null,null,null,null,null,null,null,null,null,null,null,"","","2018-03-31","2019-03-31",0,0,0,0,0,0,0,0,0,0,0,0,0,0,0]
[null,null,null,null,null,null,null,null,null,null,null,null,null,null,"","","2018-03-31","2019-03-31",0,0,0,0,0,0,0,0,0,0,0,0,0,0,0]
[null,null,null,null,null,null,null,null,null,null,null,null,null,null,"","","2018-03-31","2019-03-31",0,0,0,0,0,0,0,0,0,0,0,0,0,0,0]
[null,null,null,null,null,null,null,null,null,null,null,null,null,null,"","","2018-03-31","2019-03-31",0,0,0,0,0,0,0,0,0,0,0,0,0,0,0]
[null,null,null,null,null,null,null,null,null,null,null,null,null,null,"","","2018-03-31","2019-03-31",0,0,0,0,0,0,0,0,0,0,0,0,0,0,0]
[null,null,null,null,null,null,null,null,null,null,null,null,null,null,"","","2018-03-31","2019-03-31",0,0,0,0,0,0,0,0,0,0,0,0,0,0,0]
[null,null,null,null,null,null,null,null,null,null,null,null,null,null,"","","2018-03-31","2019-03-31",{"$f":"IF(AND(K113=\"Designation 1\",O113=\"Pre-16\"),VLOOKUP(Year1DfE,dataslate,44,0),\nIF(AND(K113=\"Designation 1\",O113=\"Post-16\"),VLOOKUP(Year1DfE,dataslate,46,0),\nIF(AND(K113=\"Designation 2\",O113=\"Pre-16\"),VLOOKUP(Year1DfE,dataslate,45,0),\nIF(AND(K113=\"Designation 2\",O113=\"Post-16\"),VLOOKUP(Year1DfE,dataslate,47,0),0))))","v":0},{"$f":"IF(AND(K113=\"Designation 1\",P113=\"Pre-16\"),VLOOKUP(Year1DfE,dataslate,44,0),\nIF(AND(K113=\"Designation 1\",P113=\"Post-16\"),VLOOKUP(Year1DfE,dataslate,46,0),\nIF(AND(K113=\"Designation 2\",P113=\"Pre-16\"),VLOOKUP(Year1DfE,dataslate,45,0),\nIF(AND(K113=\"Designation 2\",P113=\"Post-16\"),VLOOKUP(Year1DfE,dataslate,47,0),0))))","v":0},0,0,0,0,0,0,0,0,0,0,0,0,0]
[null,null,null,null,null,null,null,null,null,null,null,null,null,null,"","","2018-03-31","2019-03-31",0,0,0,0,0,0,0,0,0,0,0,0,0,0,0]
[null,null,null,null,null,null,null,null,null,null,null,null,null,null,"","","2018-03-31","2019-03-31",0,0,0,0,0,0,0,0,0,0,0,0,0,0,0]
[null,null,null,null,null,null,null,null,null,null,null,null,null,null,"","","2018-03-31","2019-03-31",0,0,0,0,0,0,0,0,0,0,0,0,0,0,0]
[null,null,null,null,null,null,null,null,null,null,null,null,null,null,"","","2018-03-31","2019-03-31",0,0,0,0,0,0,0,0,0,0,0,0,0,0,0]
[null,null,null,null,null,null,null,null,null,null,null,null,null,null,"","","2018-03-31","2019-03-31",0,0,0,0,0,0,0,0,0,0,0,0,0,0,0]
[null,null,null,null,null,null,null,null,null,null,null,null,null,null,"","","2018-03-31","2019-03-31",0,0,0,0,0,0,0,0,0,0,0,0,0,0,0]
[null,null,null,null,null,null,null,null,null,null,null,null,null,null,"","","2018-03-31","2019-03-31",0,0,0,0,0,0,0,0,0,0,0,0,0,0,0]
[null,null,null,null,null,null,null,null,null,null,null,null,null,null,"","","2018-03-31","2019-03-31",0,0,0,0,0,0,0,0,0,0,0,0,0,0,0]
[null,null,null,null,null,null,null,null,null,null,null,null,null,null,"","","2018-03-31","2019-03-31",0,0,0,0,0,0,0,0,0,0,0,0,0,0,0]
[null,null,null,null,null,null,null,null,null,null,null,null,null,null,"","","2018-03-31","2019-03-31",0,0,0,0,0,0,0,0,0,0,0,0,0,0,0]
[null,null,null,null,null,null,null,null,null,null,null,null,null,null,"","","2018-03-31","2019-03-31",0,0,0,0,0,0,0,0,0,0,0,0,0,0,0]
[null,null,null,null,null,null,null,null,null,null,null,null,null,null,"","","2018-03-31","2019-03-31",0,0,0,0,0,0,0,0,0,0,0,0,0,0,0]
[null,null,null,null,null,null,null,null,null,null,null,null,null,null,"","","2018-03-31","2019-03-31",0,0,0,0,0,0,0,0,0,0,0,0,0,0,0]
[null,null,null,null,null,null,null,null,null,null,null,null,null,null,"","","2018-03-31","2019-03-31",0,0,0,0,0,0,0,0,0,0,0,0,0,0,0]
[null,null,null,null,null,null,null,null,null,null,null,null,null,null,"","","2018-03-31","2019-03-31",0,0,0,0,0,0,0,0,0,0,0,0,0,0,0]
[null,null,null,null,null,null,null,null,null,null,null,null,null,null,"","","2018-03-31","2019-03-31",0,0,0,0,0,0,0,0,0,0,0,0,0,0,0]
[null,null,null,null,null,null,null,null,null,null,null,null,null,null,"","","2018-03-31","2019-03-31",0,0,0,0,0,0,0,0,0,0,0,0,0,0,0]
[null,null,null,null,null,null,null,null,null,null,null,null,null,null,"","","2018-03-31","2019-03-31",0,0,0,0,0,0,0,0,0,0,0,0,0,0,0]
[null,null,null,null,null,null,null,null,null,null,null,null,null,null,"","","2018-03-31","2019-03-31",0,0,0,0,0,0,0,0,0,0,0,0,0,0,0]
[null,null,null,null,null,null,null,null,null,null,null,null,null,null,"","","2018-03-31","2019-03-31",0,0,0,0,0,0,0,0,0,0,0,0,0,0,0]
[null,null,null,null,null,null,null,null,null,null,null,null,null,null,"","","2018-03-31","2019-03-31",0,0,0,0,0,0,0,0,0,0,0,0,0,0,0]
[null,null,null,null,null,null,null,null,null,null,null,null,null,null,"","","2018-03-31","2019-03-31",0,0,0,0,0,0,0,0,0,0,0,0,0,0,0]
[null,null,null,null,null,null,null,null,null,null,null,null,null,null,"","","2018-03-31","2019-03-31",0,0,0,0,0,0,0,0,0,0,0,0,0,0,0]
[null,null,null,null,null,null,null,null,null,null,null,null,null,null,"","","2018-03-31","2019-03-31",0,0,0,0,0,0,0,0,0,0,0,0,0,0,0]
[null,null,null,null,null,null,null,null,null,null,null,null,null,null,"","","2018-03-31","2019-03-31",0,0,0,0,0,0,0,0,0,0,0,0,0,0,0]
[null,null,null,null,null,null,null,null,null,null,null,null,null,null,"","","2018-03-31","2019-03-31",0,0,0,0,0,0,0,0,0,0,0,0,0,0,0]
[null,null,null,null,null,null,null,null,null,null,null,null,null,null,"","","2018-03-31","2019-03-31",0,0,0,0,0,0,0,0,0,0,0,0,0,0,0]
[null,null,null,null,null,null,null,null,null,null,null,null,null,null,"","","2018-03-31","2019-03-31",0,0,0,0,0,0,0,0,0,0,0,0,0,0,0]
[null,null,null,null,null,null,null,null,null,null,null,null,null,null,"","","2018-03-31","2019-03-31",0,0,0,0,0,0,0,0,0,0,0,0,0,0,0]
[null,null,null,null,null,null,null,null,null,null,null,null,null,null,"","","2018-03-31","2019-03-31",0,0,0,0,0,0,0,0,0,0,0,0,0,0,0]
[null,null,null,null,null,null,null,null,null,null,null,null,null,null,"","","2018-03-31","2019-03-31",0,0,0,0,0,0,0,0,0,0,0,0,0,0,0]
[null,null,null,null,null,null,null,null,null,null,null,null,null,null,"","","2018-03-31","2019-03-31",{"$f":"IF(AND(K145=\"Designation 1\",O145=\"Pre-16\"),VLOOKUP(Year1DfE,dataslate,44,0),\nIF(AND(K145=\"Designation 1\",O145=\"Post-16\"),VLOOKUP(Year1DfE,dataslate,46,0),\nIF(AND(K145=\"Designation 2\",O145=\"Pre-16\"),VLOOKUP(Year1DfE,dataslate,45,0),\nIF(AND(K145=\"Designation 2\",O145=\"Post-16\"),VLOOKUP(Year1DfE,dataslate,47,0),0))))","v":0},{"$f":"IF(AND(K145=\"Designation 1\",P145=\"Pre-16\"),VLOOKUP(Year1DfE,dataslate,44,0),\nIF(AND(K145=\"Designation 1\",P145=\"Post-16\"),VLOOKUP(Year1DfE,dataslate,46,0),\nIF(AND(K145=\"Designation 2\",P145=\"Pre-16\"),VLOOKUP(Year1DfE,dataslate,45,0),\nIF(AND(K145=\"Designation 2\",P145=\"Post-16\"),VLOOKUP(Year1DfE,dataslate,47,0),0))))","v":0},{"$f":"IF(OR(Q145>DATE(2018,3,31),R145<DATE(2018,3,1)),0,S145)","v":0},{"$f":"IF(OR(Q145>DATE(2018,4,30),R145<DATE(2018,4,1)),0,S145)","v":0},{"$f":"IF(OR(Q145>DATE(2018,5,31),R145<DATE(2018,5,1)),0,S145)","v":0},{"$f":"IF(OR(Q145>DATE(2018,6,30),R145<DATE(2018,6,1)),0,S145)","v":0},{"$f":"IF(OR(Q145>DATE(2018,7,31),R145<DATE(2018,7,1)),0,S145)","v":0},{"$f":"IF(OR(Q145>DATE(2018,7,31),R145<DATE(2018,7,1)),0,S145)","v":0},{"$f":"IF(OR(Q145>DATE(2018,9,30),R145<DATE(2018,9,1)),0,T145)","v":0},{"$f":"IF(OR(Q145>DATE(2018,10,31),R145<DATE(2018,10,1)),0,T145)","v":0},{"$f":"IF(OR(Q145>DATE(2018,11,30),R145<DATE(2018,11,1)),0,T145)","v":0},{"$f":"IF(OR(Q145>DATE(2018,12,31),R145<DATE(2018,12,1)),0,T145)","v":0},{"$f":"IF(OR(Q145>DATE(2019,1,31),R145<DATE(2019,1,1)),0,T145)","v":0},{"$f":"IF(OR(Q145>DATE(2019,2,28),R145<DATE(2019,2,1)),0,T145)","v":0},0]
[null,null,null,null,null,null,null,null,null,null,null,null,null,null,"","","2018-03-31","2019-03-31",0,0,0,0,0,0,0,0,0,0,0,0,0,0,0]
[null,null,null,null,null,null,null,null,null,null,null,null,null,null,{"$f":"IF(N147=0,\"\",IF(N147<DATE(2001,9,1),\"Post-16\",\"Pre-16\"))","v":""},{"$f":"IF(N147=0,\"\",IF(N147<DATE(2002,9,1),\"Post-16\",\"Pre-16\"))","v":""},"2018-03-31","2019-03-31",0,0,0,0,0,0,0,0,0,0,0,0,0,0,0]
[null,null,null,null,null,null,null,null,null,null,null,null,null,null,"","","2018-03-31","2019-03-31",0,0,0,0,0,0,0,0,0,0,0,0,0,0,{"$f":"SUM(U148:AF148)","v":0}]
[null,null,null,null,null,null,null,null,null,null,null,null,null,null,"","","2018-03-31","2019-03-31",0,0,0,0,0,0,0,0,0,0,0,0,0,0,0]
[null,null,null,null,null,null,null,null,null,null,null,null,null,null,"","","2018-03-31","2019-03-31",0,0,0,0,0,0,0,0,0,0,0,0,0,0,0]
[null,null,null,null,null,null,null,null,null,null,null,null,null,null,"","","2018-03-31","2019-03-31",0,0,0,0,0,0,0,0,0,0,0,0,0,0,0]
[null,null,null,null,null,null,null,null,null,null,null,null,null,null,"","","2018-03-31","2019-03-31",0,0,0,0,0,0,0,0,0,0,0,0,0,0,0]
[null,null,null,null,null,null,null,null,null,null,null,null,null,null,"","","2018-03-31","2019-03-31",0,0,0,0,0,0,0,0,0,0,0,0,0,0,0]
[null,null,null,null,null,null,null,null,null,null,null,null,null,null,"","","2018-03-31","2019-03-31",0,0,0,0,0,0,0,0,0,0,0,0,0,0,0]
[null,null,null,null,null,null,null,null,null,null,null,null,null,null,"","","2018-03-31","2019-03-31",0,0,0,0,0,0,0,0,0,0,0,0,0,0,0]
[null,null,null,null,null,null,null,null,null,null,null,null,null,null,"","","2018-03-31","2019-03-31",0,0,0,0,0,0,0,0,0,0,0,0,0,0,0]
[null,null,null,null,null,null,null,null,null,null,null,null,null,null,"","","2018-03-31","2019-03-31",0,0,0,0,0,0,0,0,0,0,0,0,0,0,0]
[null,null,null,null,null,null,null,null,null,null,null,null,null,null,"","","2018-03-31","2019-03-31",0,0,0,0,0,0,0,0,0,0,0,0,0,0,0]
[null,null,null,null,null,null,null,null,null,null,null,null,null,null,"","","2018-03-31","2019-03-31",0,0,0,0,0,0,0,0,0,0,0,0,0,0,0]
[null,null,null,null,null,null,null,null,null,null,null,null,null,null,"","","2018-03-31","2019-03-31",0,0,0,0,0,0,0,0,0,0,0,0,0,0,0]
[null,null,null,null,null,null,null,null,null,null,null,null,null,null,"","","2018-03-31","2019-03-31",0,0,0,0,0,0,0,0,0,0,0,0,0,0,0]
[null,null,null,null,null,null,null,null,null,null,null,null,null,null,"","","2018-03-31","2019-03-31",0,0,0,0,0,0,0,0,0,0,0,0,0,0,0]
[null,null,null,null,null,null,null,null,null,null,null,null,null,null,"","","2018-03-31","2019-03-31",0,0,0,0,0,0,0,0,0,0,0,0,0,0,0]
[null,null,null,null,null,null,null,null,null,null,null,null,null,null,"","","2018-03-31","2019-03-31",0,0,0,0,0,0,0,0,0,0,0,0,0,0,0]
[null,null,null,null,null,null,null,null,null,null,null,null,null,null,"","","2018-03-31","2019-03-31",0,0,0,0,0,0,0,0,0,0,0,0,0,0,0]
[null,null,null,null,null,null,null,null,null,null,null,null,null,null,"","","2018-03-31","2019-03-31",0,0,0,0,0,0,0,0,0,0,0,0,0,0,0]
[null,null,null,null,null,null,null,null,null,null,null,null,null,null,"","","2018-03-31","2019-03-31",0,0,0,0,0,0,0,0,0,0,0,0,0,0,0]
[null,null,null,null,null,null,null,null,null,null,null,null,null,null,"","","2018-03-31","2019-03-31",0,0,0,0,0,0,0,0,0,0,0,0,0,0,0]
[]
[null,null,null,null,null,null,null,null,null,null,null,null,null,null,null,null,null,"pre-16 D1",{"$f":"IF(VLOOKUP(Year1DfE,dataslate,44,0)=0,\"\",VLOOKUP(Year1DfE,dataslate,44,0))","v":{"$error":"#N/A"}},null,{"$f":"COUNTIFS(U$17:U$168,$S170,$O$17:$O$168,\"Pre-16\")","v":0},{"$f":"COUNTIFS(V$17:V$168,$S170,$O$17:$O$168,\"Pre-16\")","v":0},{"$f":"COUNTIFS(W$17:W$168,$S170,$O$17:$O$168,\"Pre-16\")","v":0},0,0,0,{"$f":"COUNTIFS(AA$17:AA$168,$S170,$P$17:$P$168,\"Pre-16\")","v":0},{"$f":"COUNTIFS(AB$17:AB$168,$S170,$P$17:$P$168,\"Pre-16\")","v":0},0,0,0,0]
[null,null,null,null,null,null,null,null,null,null,null,null,null,null,null,null,null,"pre-16 D2",{"$f":"IF(VLOOKUP(Year1DfE,dataslate,45,0)=0,\"\",VLOOKUP(Year1DfE,dataslate,45,0))","v":{"$error":"#N/A"}},null,{"$f":"COUNTIFS(U$17:U$168,$S171,$O$17:$O$168,\"Pre-16\")","v":0},0,0,0,0,0,{"$f":"COUNTIFS(AA$17:AA$168,$S171,$P$17:$P$168,\"Pre-16\")","v":0},0,0,0,0,0]
[null,null,null,null,null,null,null,null,null,null,null,null,null,null,null,null,null,"post-16 D1",{"$f":"IF(VLOOKUP(Year1DfE,dataslate,46,0)=0,\"\",VLOOKUP(Year1DfE,dataslate,46,0))","v":{"$error":"#N/A"}},null,{"$f":"COUNTIFS(U$17:U$168,$S172,$O$17:$O$168,\"Post-16\")","v":0},{"$f":"COUNTIFS(V$17:V$168,$S172,$O$17:$O$168,\"Post-16\")","v":0},{"$f":"COUNTIFS(W$17:W$168,$S172,$O$17:$O$168,\"Post-16\")","v":0},0,0,0,{"$f":"COUNTIFS(AA$17:AA$168,$S172,$P$17:$P$168,\"Post-16\")","v":0},{"$f":"COUNTIFS(AB$17:AB$168,$S172,$P$17:$P$168,\"Post-16\")","v":0},0,0,0,0]
[null,null,null,null,null,null,null,null,null,null,null,null,null,null,null,null,null,"post-16 D2",{"$f":"IF(VLOOKUP(Year1DfE,dataslate,47,0)=0,\"\",VLOOKUP(Year1DfE,dataslate,47,0))","v":{"$error":"#N/A"}},null,{"$f":"COUNTIFS(U$17:U$168,$S173,$O$17:$O$168,\"Post-16\")","v":0},{"$f":"COUNTIFS(V$17:V$168,$S173,$O$17:$O$168,\"Post-16\")","v":0},0,0,0,0,{"$f":"COUNTIFS(AA$17:AA$168,$S173,$P$17:$P$168,\"Post-16\")","v":0},0,0,0,0,0]
[null,null,null,null,null,null,null,null,null,null,null,null,null,null,null,null,null,"pre-16 places",null,null,{"$f":"$F$21","v":0},{"$f":"$F$21","v":0},0,0,0,{"$f":"$F$22","v":0},{"$f":"$F$22","v":0},0,0,0,0,0]
[null,null,null,null,null,null,null,null,null,null,null,null,null,null,null,null,null,"post-16 places",null,null,{"$f":"$F$34","v":0},{"$f":"$F$34","v":0},0,0,{"$f":"$F$34","v":0},{"$f":"$F$35","v":0},0,0,0,0,0,0]
[null,null,null,null,null,null,null,null,null,null,null,null,null,null,null,null,null,"excess pre-16",null,null,{"$f":"(U170+U171-U174)","v":0},{"$f":"(V170+V171-V174)","v":0},{"$f":"(W170+W171-W174)","v":0},0,0,0,0,0,0,0,0,0]
[null,null,null,null,null,null,null,null,null,null,null,null,null,null,null,null,null,"excess post-16",null,null,{"$f":"U172+U173-U175","v":0},{"$f":"V172+V173-V175","v":0},0,0,0,0,0,0,0,0,0,0]
[null,null,null,null,null,null,null,null,null,null,null,null,null,null,null,null,null,"pre-16 cash",null,null,{"$f":"U176*(6000/12)","v":0},{"$f":"V176*(6000/12)","v":0},0,0,0,0,0,0,0,0,0,0]
[null,null,null,null,null,null,null,null,null,null,null,null,null,null,null,null,null,"post-16 cash",null,null,{"$f":"U177*500","v":0},{"$f":"V177*500","v":0},0,0,0,0,0,0,0,0,0,0]
[null,null,null,null,null,null,null,null,null,null,null,null,null,null,null,null,null,"excess funding",null,null,{"$f":"IF(U179+U178<0,0,U179+U178)","v":0},{"$f":"IF(V179+V178<0,0,V179+V178)","v":0},0,0,0,0,0,0,0,0,0,0]

{"sheet":"SRP Year 1 Rec","index":15,"n_rows":34,"n_cols":9,"rows_kept":34,"cut":false,"hidden":false,"merged":[]}
[]
[]
[]
[]
[]
[]
[]
[null,"Reconcilation SRP funding 2018-19 (Formula Budget and SRP template)",null,null,null,null,{"$f":"Year1DfE","v":0}]
[]
[]
[]
[]
[null,"Total pupil numbers",{"$f":"IFERROR(SUM('Year 1'!$F$13:'Year 1'!$F$15)*(IF('SRP Year 1'!$H$73>0,1,0)),0)","v":0},null,null,"white"]
[]
[null,"SRP funding included Formula Budget"]
[]
[null,"Basic Entitlement",{"$f":"I17","v":4074.7236206600001},null,null,null,{"$f":"3/5","v":0.6},{"$f":"2/5","v":0.4},{"$f":"IF(year1phase=1,'Year 1'!$G$13,('Year 1'!$G$14*0.6)+(('Year 1'!$G$15*0.4)))","v":4074.7236206600001}]
[null,"FSM",{"$f":"IFERROR($I18/$C$13,0)","v":0},null,null,null,null,null,{"$f":"SUM('Year 1'!H17:'Year 1'!H18)","v":0}]
[null,"E6FSM",{"$f":"IFERROR($I19/$C$13,0)","v":0},null,null,null,null,null,{"$f":"SUM('Year 1'!H19:'Year 1'!H20)","v":0}]
[null,"IDACI",{"$f":"IFERROR($I20/$C$13,0)","v":0},null,null,null,null,null,{"$f":"SUM('Year 1'!$H$21:$H$32)","v":0}]
[null,"EAL",0,null,null,null,null,null,{"$f":"SUM('Year 1'!H34:'Year 1'!H35)","v":0}]
[null,"Low Prior Attainment",{"$f":"IFERROR($I22/$C$13,0)","v":0},null,null,null,null,null,{"$f":"SUM('Year 1'!H36:'Year 1'!H37)","v":0}]
[]
[null,"Total amount per pupil (A)",{"$f":"IFERROR(SUM(C17:C22),0)","v":4074.7236206600001}]
[]
[null,"Number of SRP pupils (B)",{"$f":"'SRP Year 1'!$E$17","v":0}]
[]
[null,"SRP Year 1 budget (A X B)",{"$f":"C26*C24","v":0}]
[null,"Element 1  (SRP template)",{"$f":"srpelement1","v":0}]
[null,"Element 2",{"$f":"srpelement2+'SRP Year 1'!H23","v":0}]
[null,"Excess Place funding",{"$f":"'SRP Year 1'!H70","v":0}]
[null,"Element 3",{"$f":"'SRP Year 1'!H71","v":0}]
[]
[null,null,{"$f":"SUM(C28:C33)","v":0}]

{"sheet":"SRP Year 2 & 3","index":16,"n_rows":38,"n_cols":21,"rows_kept":38,"cut":false,"hidden":false,"merged":[[27,3,27,5],[27,7,27,9],[27,12,27,20],[28,3,28,5],[28,7,28,9],[28,12,28,14],[28,15,28,17],[28,18,28,20],[14,3,14,5],[14,7,14,9],[14,12,14,14],[14,15,14,17],[14,18,14,20],[5,2,5,11],[7,1,7,12],[13,3,13,5],[13,7,13,9],[13,12,13,20]]}
[]
[null,null,null,null,null,null,null,null,null,null,null,null,{"$f":"Year1DfE","v":0}]
[]
[]
[null,null,null,null,null,null,null,null,null,null,null,null,null,null,"Rates"]
[null,null,{"$f":"schoolname","v":""},null,null,null,null,null,null,null,null,null,null,null,null,"E1","E2","Designation 1 E3","Designation 2  E3"]
[null,null,null,null,null,null,null,null,null,null,null,null,null,null,"Pre 16",4000,6000,{"$f":"IFERROR(VLOOKUP(Year1DfE,dataslate,44,0)*12,0)","v":0},{"$f":"IFERROR(VLOOKUP(Year1DfE,dataslate,45,0)*12,0)","v":0}]
[null,"Place Plus Funding for High Needs Pupils in Resourced Provision",null,null,null,null,null,null,null,null,null,null,null,null,"Post 16",null,6000,{"$f":"IFERROR(VLOOKUP(Year1DfE,dataslate,46,0)*12,0)","v":0},{"$f":"IFERROR(VLOOKUP(Year1DfE,dataslate,47,0)*12,0)","v":0}]
[]
[]
[]
["2019/20"]
[]
[null,null,null,"18/19 Academic Year",null,null,null,"19/20 Academic Year",null,null,null,null,"Funding "]
[null,null,null,"Pre-16:  Apr to Aug\nPost-16: Apr to Jul",null,null,null,"Pre-16:  Sep to Mar\nPost-16:  Aug to Mar",null,null,null,null,"April - August",null,null,"September - March",null,null,"2019/20 Financial Year Total"]
[null,"Designation","Age Group","Places ","Estimated Pupils","Places to be funded",null,"Places","Estimated Pupils","Places to be funded",null,null,"E1 & E2","E3","Total","E1 & E2","E3","Total","E1 & E2","E3","Total"]
[]
[null,1,"Pre-16",null,null,{"$f":"IF(E18>D18,0,D18-E18)","v":0},null,null,null,{"$f":"IF(I18>H18,0,H18-I18)","v":0},null,null,{"$f":"(D18*$Q$7*5/12)+(F18*$P$7*5/12)","v":0},{"$f":"(E18*$R$7)*5/12","v":0},{"$f":"SUM(M18:N18)","v":0},{"$f":"(H18*$Q$7*7/12)+(J18*$P$7*7/12)","v":0},{"$f":"(I18*$R$7)*(7/12)","v":0},{"$f":"SUM(P18:Q18)","v":0},{"$f":"M18+P18","v":0},{"$f":"N18+Q18","v":0},{"$f":"S18+T18","v":0}]
[null,1,"Post-16",null,null,null,null,null,null,null,null,null,{"$f":"((D19*$Q$8)*4/12)+(H19*$Q$8)*1/12","v":0},{"$f":"(E19*$R$8)*5/12","v":0},{"$f":"SUM(M19:N19)","v":0},{"$f":"(H19*$Q$8)*7/12","v":0},{"$f":"(I19*$R$8)*(7/12)","v":0},{"$f":"SUM(P19:Q19)","v":0},{"$f":"M19+P19","v":0},{"$f":"N19+Q19","v":0},{"$f":"S19+T19","v":0}]
[]
[null,2,"Pre-16",null,null,{"$f":"IF(E21>D21,0,D21-E21)","v":0},null,null,null,{"$f":"IF(I21>H21,0,H21-I21)","v":0},null,null,{"$f":"(D21*$Q$7*5/12)+(F21*$P$7*5/12)","v":0},{"$f":"(E21*$R$7)*5/12","v":0},{"$f":"SUM(M21:N21)","v":0},{"$f":"(H21*$Q$7*7/12)+(J21*$P$7*7/12)","v":0},{"$f":"(I21*$S$7)*(7/12)","v":0},{"$f":"SUM(P21:Q21)","v":0},{"$f":"M21+P21","v":0},{"$f":"N21+Q21","v":0},{"$f":"S21+T21","v":0}]
[null,2,"Post-16",null,null,null,null,null,null,null,null,null,{"$f":"((D22*$Q$8)*4/12)+(H22*$Q$8)*1/12","v":0},{"$f":"(E22*$R$8)*5/12","v":0},{"$f":"SUM(M22:N22)","v":0},{"$f":"(H22*$Q$8)*7/12","v":0},{"$f":"(I22*$S$8)*(7/12)","v":0},{"$f":"SUM(P22:Q22)","v":0},{"$f":"M22+P22","v":0},{"$f":"N22+Q22","v":0},{"$f":"S22+T22","v":0}]
[]
[null,null,null,null,null,null,null,null,null,null,null,null,{"$f":"SUM(M18:M22)","v":0},{"$f":"SUM(N18:N22)","v":0},{"$f":"SUM(O18:O22)","v":0},{"$f":"SUM(P18:P22)","v":0},0,0,0,{"$f":"SUM(T18:T22)","v":0},{"$f":"SUM(U18:U22)","v":0}]
[]
["2020/21"]
[]
[null,null,null,"19/20 Academic Year",null,null,null,"20/21 Academic Year",null,null,null,null,"Funding "]
[null,null,null,"Pre-16:  Apr to Aug\nPost-16: Apr to Jul",null,null,null,"Pre-16:  Sep to Mar\nPost-16:  Aug to Mar",null,null,null,null,"April - August",null,null,"September - March",null,null,"2020/21 Financial Year Total"]
[null,"Designation","Age Group","Places ","Estimated Pupils","Places to be funded",null,"Places","Estimated Pupils","Places to be funded",null,null,"E1 & E2","E3","Total","E1 & E2","E3","Total","E1 & E2","E3","Total"]
[]
[null,1,"Pre-16",null,null,{"$f":"IF(E32>D32,0,D32-E32)","v":0},null,null,null,{"$f":"IF(I32>H32,0,H32-I32)","v":0},null,null,{"$f":"(D32*$Q$7*5/12)+(F32*$P$7*5/12)","v":0},{"$f":"(E32*$R$7)*5/12","v":0},{"$f":"SUM(M32:N32)","v":0},{"$f":"(H32*$Q$7*7/12)+(J32*$P$7*7/12)","v":0},{"$f":"(I32*$R$7)*(7/12)","v":0},{"$f":"SUM(P32:Q32)","v":0},{"$f":"M32+P32","v":0},{"$f":"N32+Q32","v":0},{"$f":"S32+T32","v":0}]
[null,1,"Post-16",null,null,null,null,null,null,null,null,null,{"$f":"((D33*$Q$8)*4/12)+(H33*$Q$8)*1/12","v":0},{"$f":"(E33*$R$8)*5/12","v":0},{"$f":"SUM(M33:N33)","v":0},{"$f":"(H33*$Q$8)*7/12","v":0},{"$f":"(I33*$R$8)*(7/12)","v":0},{"$f":"SUM(P33:Q33)","v":0},{"$f":"M33+P33","v":0},{"$f":"N33+Q33","v":0},{"$f":"S33+T33","v":0}]
[]
[null,2,"Pre-16",null,null,{"$f":"IF(E35>D35,0,D35-E35)","v":0},null,null,null,{"$f":"IF(I35>H35,0,H35-I35)","v":0},null,null,{"$f":"(D35*$Q$7*5/12)+(F35*$P$7*5/12)","v":0},{"$f":"(E35*$R$7)*5/12","v":0},{"$f":"SUM(M35:N35)","v":0},{"$f":"(H35*$Q$7*7/12)+(J35*$P$7*7/12)","v":0},{"$f":"(I35*$S$7)*(7/12)","v":0},{"$f":"SUM(P35:Q35)","v":0},{"$f":"M35+P35","v":0},{"$f":"N35+Q35","v":0},{"$f":"S35+T35","v":0}]
[null,2,"Post-16",null,null,null,null,null,null,null,null,null,{"$f":"((D36*$Q$8)*4/12)+(H36*$Q$8)*1/12","v":0},{"$f":"(E36*$R$8)*5/12","v":0},{"$f":"SUM(M36:N36)","v":0},{"$f":"(H36*$Q$8)*7/12","v":0},{"$f":"(I36*$S$8)*(7/12)","v":0},{"$f":"SUM(P36:Q36)","v":0},{"$f":"M36+P36","v":0},{"$f":"N36+Q36","v":0},{"$f":"S36+T36","v":0}]
[]
[null,null,null,null,null,null,null,null,null,null,null,null,{"$f":"SUM(M32:M36)","v":0},{"$f":"SUM(N32:N36)","v":0},{"$f":"SUM(O32:O36)","v":0},{"$f":"SUM(P32:P36)","v":0},0,0,0,{"$f":"SUM(T32:T36)","v":0},{"$f":"SUM(U32:U36)","v":0}]

{"sheet":"SRP Rates","index":17,"n_rows":64,"n_cols":51,"rows_kept":64,"cut":false,"hidden":false,"merged":[[1,22,1,26],[1,28,1,39],[1,41,1,48],[3,17,4,20],[4,5,4,6],[4,7,4,8],[4,9,4,10],[1,5,1,10],[1,12,1,20]]}
["How your SRP rate was calculated…",null,null,null,null,"Step 1",null,null,null,null,null,null,"Step 2",null,null,null,null,null,null,null,null,null,"Step 3",null,null,null,null,null,"Step 4",null,null,null,null,null,null,null,null,null,null,null,null,"Step 4"]
[null,null,null,null,null,"First of all we need to establish the commissioned place numbers pre and post 16 in both relevant academic years and the weighted average number of places in the financial year.",null,null,null,null,null,null,"The first part of your SRP rate is based on the rates previously known as Individually assigned resources (IAR). There are four rates based on the need type of the pupil, so we need to establish the mix of needs types at your school and allocate your places using this mix.",null,null,null,null,null,null,null,null,null,"Now that we have established the mix to be used, we can work out the total amount of cash that your number of places should attract if you are exactly at capacity. Then work out the average per place and feed it into your SRP rate.",null,null,null,null,null,null,null,null,null,null,null,null,null,null,null,null,null,null,"Finally we can now bring everything together to find your SRP rate. The rate is only the IAR element as these pupils also attract funding through either the schools formula budget or the 16-19 allocations. From the total rate we deduct £6,000 element 2 to reach the element 3 rate.\nPre 16 E3 Rate = IAR Element - E2 (£6,000)\nPost 16 E3 Rate = IAR Element - E2 (£6,000)"]
[null,null,null,null,null,null,null,null,null,null,null,null,null,null,null,null,null,null,null,null,null,null,14551.228288451965,19028.881051269283,10653.095777084111,12602.662032768039,"1-3"]
[null,null,null,null,null,"Place Numbers",null,null,null,null,null,null,"Actual pupils in October 2017 census",null,null,null,null,"Spread of commissioned places with October mix",null,null,null,null,14051.228288451965,16028.881051269283,8653.0957770841123,10602.662032768039,"4-20"]
[null,null,null,null,null,"2017/18 Academic",null,"2018/19 Academic",null,"2018/19 Financial",null,null,null,null,null,null,null,null,null,null,null,null,12551.228288451965,15028.881051269283,6653.0957770841123,8602.6620327680394,"20+"]
[null,null,"DFE","School",null,"Pre 16","Post 16","Pre 16","Post 16","Pre 16","Post 16",null,"ASD","PD, HI & VI","SLCN & SPLD","SLD",null,"ASD","PD, HI & VI","SLCN & SPLD","SLD",null,"ASD","PD, HI & VI","SLCN & SPLD","SLD","Average £",null,"AWPU Primary","AWPU KS3","AWPU KS4","FSM","IDACI","LAC","EAL","Prior Attainment","London Fringe","Total","NOR","Average £",null,"Pre-16 total rate","Post-16 total rate",null,"Element 1 pre-16","Element 1 post-16","Element 2 all ages","Element 3 pre-16","Element 3 post-16","Element 3 pre-16\n(Monthly)","Element 3 post-16\n(Monthly)"]
[null,2155,2155,"Slade Primary School",null,5,0,5,0,5,0,null,0,6,0,0,null,{"$f":"(M7/SUM($M7:$P7))*($J7+$K7)","v":0},{"$f":"(N7/SUM($M7:$P7))*($J7+$K7)","v":5},{"$f":"(O7/SUM($M7:$P7))*($J7+$K7)","v":0},{"$f":"(P7/SUM($M7:$P7))*($J7+$K7)","v":0},null,{"$f":"IF(R7>20,(3*W$3)+(17*W$4)+((R7-20)*W$5),\nIF(R7>3,(3*W$3)+((R7-3)*W$4),\nR7*W$3))","v":0},{"$f":"IF(S7>20,(3*X$3)+(17*X$4)+((S7-20)*X$5),\nIF(S7>3,(3*X$3)+((S7-3)*X$4),\nS7*X$3))","v":89144.405256346421},{"$f":"IF(T7>20,(3*Y$3)+(17*Y$4)+((T7-20)*Y$5),\nIF(T7>3,(3*Y$3)+((T7-3)*Y$4),\nT7*Y$3))","v":0},{"$f":"IF(U7>20,(3*Z$3)+(17*Z$4)+((U7-20)*Z$5),\nIF(U7>3,(3*Z$3)+((U7-3)*Z$4),\nU7*Z$3))","v":0},{"$f":"SUM(W7:Z7)/SUM(R7:U7)","v":17828.881051269283},null,null,null,null,null,null,null,null,null,null,null,null,null,null,{"$f":"AA7+AN7","v":17828.881051269283},{"$f":"IF(K7>0,AA7,0)","v":0},null,"Included in the Schools Formula Budget","Included in 16-19 allocation",6000,{"$f":"AP7-AU7","v":11828.881051269283},{"$f":"IF(AQ7-AU7<0,0,AQ7-AU7)","v":0},{"$f":"AV7/12","v":985.74008760577362},{"$f":"AW7/12","v":0}]
[null,2312,2312,"River Primary School",null,12,0,12,0,12,0,null,0,0,10,0,null,0,0,12,0,null,0,0,109837.14932500935,0,9153.0957770841123,null,null,null,null,null,null,null,null,null,null,null,null,null,null,9153.0957770841123,0,null,"Included in the Schools Formula Budget","Included in 16-19 allocation",6000,{"$f":"AP8-AU8","v":3153.0957770841123},0,262.75798142367603,0]
[null,2434,2434,"West Minster Primary",null,12,0,12,0,12,0,null,0,0,12,0,null,0,0,12,0,null,0,0,109837.14932500935,0,9153.0957770841123,null,null,null,null,null,null,null,null,null,null,null,null,null,null,9153.0957770841123,0,null,"Included in the Schools Formula Budget","Included in 16-19 allocation",6000,3153.0957770841123,0,262.75798142367603,0]
[null,2490,2490,"Bishops Down Primary School",null,5,0,7,0,6.1666666666666679,0,null,0,9,0,0,null,0,6.1666666666666679,0,0,null,0,107844.76648282725,0,0,17488.34051072874,null,null,null,null,null,null,null,null,null,null,null,null,null,null,17488.34051072874,0,null,"Included in the Schools Formula Budget","Included in 16-19 allocation",6000,11488.34051072874,0,957.36170922739495,0]
[null,2603,2603,"Bromstone Primary School, Broadstairs",null,20,0,16,0,17.666666666666668,0,null,4,4,5,2,null,4.7111111111111112,4.7111111111111112,5.8888888888888893,2.3555555555555556,null,67696.897714484803,84513.839619313076,56957.119576161989,29686.270566075826,13520.044951473717,null,null,null,null,null,null,null,null,null,null,null,null,null,null,13520.044951473717,0,null,"Included in the Schools Formula Budget","Included in 16-19 allocation",6000,7520.0449514737174,0,626.67041262280975,0]
[null,2661,2661,"Cage Green Primary School",null,30,0,31,0,30.583333333333336,0,null,29,0,1,0,null,29.56388888888889,0,1.0194444444444446,0,null,402563.11853887292,0,10860.239306082969,0,13517.929956783297,null,null,null,null,null,null,null,null,null,null,null,null,null,null,13517.929956783297,0,null,"Included in the Schools Formula Budget","Included in 16-19 allocation",6000,7517.9299567832968,0,626.49416306527473,0]
[null,3296,3296,"Langafel CEP School",null,20,0,20,0,20,0,null,24,0,0,0,null,20,0,0,0,null,282524.56576903927,0,0,0,14126.228288451963,null,null,null,null,null,null,null,null,null,null,null,null,null,null,14126.228288451963,0,null,"Included in the Schools Formula Budget","Included in 16-19 allocation",6000,8126.2282884519627,0,677.18569070433023,0]
[null,3902,3902,"Hythe Bay C of E Primary School",null,18,0,16,0,16.833333333333336,0,null,0,1,15,0,null,0,1.0520833333333335,15.781250000000002,0,null,0,20019.968606022896,142556.66773210868,0,9658.0180002850411,null,null,null,null,null,null,null,null,null,null,null,null,null,null,9658.0180002850411,0,null,"Included in the Schools Formula Budget","Included in 16-19 allocation",6000,3658.0180002850411,0,304.83483335708678,0]
[null,3904,3904,"Castle Hill Community Primary School",null,4,0,6,0,5.166666666666667,0,null,0,5,0,0,null,0,5.166666666666667,0,0,null,0,91815.885431557967,0,0,17770.816535140249,null,null,null,null,null,null,null,null,null,null,null,null,null,null,17770.816535140249,0,null,"Included in the Schools Formula Budget","Included in 16-19 allocation",6000,11770.816535140249,0,980.90137792835412,0]
[null,3909,3909,"Ashford Oaks Community Primary School",null,5,0,8,0,6.75,0,null,5,0,0,0,null,6.75,0,0,0,null,96345.790947050758,0,0,0,14273.450510674187,null,null,null,null,null,null,null,null,null,null,null,null,null,null,14273.450510674187,0,null,"Included in the Schools Formula Budget","Included in 16-19 allocation",6000,8273.4505106741872,0,689.45420922284893,0]
[null,3910,3910,"Joy Lane Primary School",null,29,0,30,0,29.583333333333336,0,null,26,0,3,0,null,26.522988505747129,0,3.0603448275862073,0,null,364396.08362761966,0,32481.456904007409,0,13415.5788348719,null,null,null,null,null,null,null,null,null,null,null,null,null,null,13415.5788348719,0,null,"Included in the Schools Formula Budget","Included in 16-19 allocation",6000,7415.5788348718997,0,617.96490290599161,0]
[null,3917,3917,"Garlinge Primary School",null,4,0,4,0,4,0,null,1,3,0,0,null,1,3,0,0,null,14551.228288451965,57086.643153807847,0,0,17909.467860564953,null,null,null,null,null,null,null,null,null,null,null,null,null,null,17909.467860564953,0,null,"Included in the Schools Formula Budget","Included in 16-19 allocation",6000,11909.467860564953,0,992.4556550470794,0]
[null,4065,4065,"Holmesdale Technology College",null,6,0,4,0,4.8333333333333339,0,null,3,0,0,0,null,4.8333333333333339,0,0,0,null,69414.270060851166,0,0,0,14361.573116038171,null,null,null,null,null,null,null,null,null,null,null,null,null,null,14361.573116038171,0,null,"Included in the Schools Formula Budget","Included in 16-19 allocation",6000,8361.5731160381711,0,696.79775966984755,0]
[null,4246,4246,"The North School",null,25,3,25,0,25,1,null,26,0,1,0,null,25.037037037037035,0,0.96296296296296291,0,null,345745.56751827878,0,10258.536674229143,0,13692.465545865691,null,null,null,null,null,null,null,null,null,null,null,null,null,null,13692.465545865691,13692.465545865691,null,"Included in the Schools Formula Budget","Included in 16-19 allocation",6000,7692.4655458656907,7692.4655458656907,641.03879548880752,641.03879548880752]
[null,5221,5221,"Wincheap Foundation Primary School",null,25,0,25,0,25,0,null,0,0,21,0,null,0,0,25,0,null,0,0,212327.39442710282,0,8493.0957770841123,null,null,null,null,null,null,null,null,null,null,null,null,null,null,8493.0957770841123,0,null,"Included in the Schools Formula Budget","Included in 16-19 allocation",6000,2493.0957770841123,0,207.75798142367603,0]
[null,5229,5229,"Fleetdown Primary School",null,12,0,13,0,12.583333333333334,0,null,0,13,0,0,null,0,12.583333333333334,0,0,null,0,210696.75322847182,0,0,16744.112839348752,null,null,null,null,null,null,null,null,null,null,null,null,null,null,16744.112839348752,0,null,"Included in the Schools Formula Budget","Included in 16-19 allocation",6000,10744.112839348752,0,895.34273661239604,0]
[null,5407,5407,"Thamesview School",null,6,0,8,0,7.166666666666667,0,null,1,7,0,0,null,0.89583333333333337,6.2708333333333339,0,0,null,13035.475341738218,109514.44159233448,0,0,17099.988409405491,null,null,null,null,null,null,null,null,null,null,null,null,null,null,{"$f":"AA23+AN23","v":17099.988409405491},0,null,"Included in the Schools Formula Budget","Included in 16-19 allocation",6000,11099.988409405491,0,924.99903411712421,0]
[null,5412,5412,"Simon Langton Grammar School for Boys",null,15,2,23,0,19.666666666666668,0.66666666666666663,null,21,0,1,0,null,19.409090909090914,0,0.92424242424242442,0,null,274221.5672349541,0,9846.0430666989523,0,13970.538211556703,null,null,null,null,null,null,null,null,null,null,null,null,null,null,13970.538211556703,13970.538211556703,null,"Included in the Schools Formula Budget","Included in 16-19 allocation",6000,7970.5382115567027,7970.5382115567027,664.21151762972522,664.21151762972522]
[null,5425,5425,"The Malling School",null,94,18,80,28,85.833333333333343,24.666666666666664,null,34,0,69,1,null,36.125,0,73.3125,1.0625,null,484913.12192032719,0,533755.084157479,13390.328409816042,9339.8962397069881,null,null,null,null,null,null,null,null,null,null,null,null,null,null,9339.8962397069881,9339.8962397069881,null,"Included in the Schools Formula Budget","Included in 16-19 allocation",6000,3339.8962397069881,3339.8962397069881,278.32468664224899,278.32468664224899]
[null,5431,5431,"Hugh Christie Technology College",null,25,0,20,0,22.083333333333336,0,null,13,0,0,0,null,22.083333333333336,0,0,0,null,308672.95803664753,0,0,0,13977.643382791584,null,null,null,null,null,null,null,null,null,null,null,null,null,null,13977.643382791584,0,null,"Included in the Schools Formula Budget","Included in 16-19 allocation",6000,7977.6433827915844,0,664.80361523263207,0]
[null,6914,6914,"Longfield Academy",null,37,0,34,0,35.25,0,null,32,0,0,0,null,35.25,0,0,0,null,473930.79716793174,0,0,0,13444.84530972856,null,null,null,null,null,null,null,null,null,null,null,null,null,null,13444.84530972856,0,null,"Included in the Schools Formula Budget","Included in 16-19 allocation",6000,7444.8453097285601,0,620.40377581071334,0]
[null,6917,6917,"Dover Christ Church Academy",null,30,8,38,0,34.666666666666671,2.6666666666666665,null,6,6,14,17,null,5.2093023255813957,5.2093023255813957,12.155038759689925,14.75968992248062,null,74697.096200307918,92499.287336844645,111178.71456176658,162492.00395651429,11808.94023362768,null,null,null,null,null,null,null,null,null,null,null,null,null,null,11808.94023362768,11808.94023362768,null,"Included in the Schools Formula Budget","Included in 16-19 allocation",6000,5808.9402336276798,5808.9402336276798,484.07835280230665,484.07835280230665]
[null,6919,6919,"The John Wallis Academy",null,12,0,4,0,7.3333333333333339,0,null,1,0,4,0,null,1.4666666666666668,0,5.8666666666666671,0,null,21341.801489729551,0,56764.828558893452,0,10650.9040975395,null,null,null,null,null,null,null,null,null,null,null,null,null,null,{"$f":"AA29+AN29","v":10650.9040975395},0,null,"Included in the Schools Formula Budget","Included in 16-19 allocation",6000,4650.9040975395001,0,387.57534146162499,0]
[null,6920,6920,"Wilmington Academy",null,3,0,3,0,3,0,null,2,0,0,0,null,3,0,0,0,null,43653.684865355892,0,0,0,14551.228288451965,null,null,null,null,null,null,null,null,null,null,null,null,null,null,14551.228288451965,0,null,"Included in the Schools Formula Budget","Included in 16-19 allocation",6000,8551.2282884519645,0,712.60235737099708,0]
[null,"5426A",5426,"The Archbishops School VI",null,3,0,3,0,3,0,null,0,2,0,0,null,0,3,0,0,null,0,57086.643153807847,0,0,19028.881051269283,null,null,null,null,null,null,null,null,null,null,null,null,null,null,19028.881051269283,0,null,"Included in the Schools Formula Budget","Included in 16-19 allocation",6000,13028.881051269283,0,1085.7400876057736,0]
[null,"5426B",5426,"The Archbishops School SPLD",null,8,0,8,0,8,0,null,1,0,8,0,null,0.88888888888888884,0,7.1111111111111107,0,null,12934.425145290634,0,67533.125525931449,0,10058.44383390276,null,null,null,null,null,null,null,null,null,null,null,null,null,null,10058.44383390276,0,null,"Included in the Schools Formula Budget","Included in 16-19 allocation",6000,4058.4438339027602,0,338.20365282522999,0]
[null,"6910A",6910,"Leigh Academy",null,3,0,3,0,3,0,null,0,2,1,0,null,0,2,1,0,null,0,38057.762102538567,10653.095777084111,0,16236.952626540893,null,null,null,null,null,null,null,null,null,null,null,null,null,null,16236.952626540893,0,null,"Included in the Schools Formula Budget","Included in 16-19 allocation",6000,10236.952626540893,0,853.07938554507439,0]
[null,"6910B",6910,"Leigh Academy Language Unit",null,9,0,9,0,9,0,null,0,0,9,0,null,0,0,9,0,null,0,0,83877.861993757004,0,9319.7624437507784,null,null,null,null,null,null,null,null,null,null,null,null,null,null,9319.7624437507784,0,null,"Included in the Schools Formula Budget","Included in 16-19 allocation",6000,3319.7624437507784,0,276.64687031256489,0]
[null,"A2007",2007,"Molehill Copse Primary Academy",null,4,0,4,0,4,0,null,0,3,0,0,null,0,4,0,0,null,0,73115.524205077134,0,0,18278.881051269283,null,null,null,null,null,null,null,null,null,null,null,null,null,null,18278.881051269283,0,null,"Included in the Schools Formula Budget","Included in 16-19 allocation",6000,12278.881051269283,0,1023.2400876057736,0]
[null,"A2029",2029,"Tymberwood Academy",null,4,0,3,0,3.416666666666667,0,null,0,4,0,0,null,0,3.416666666666667,0,0,null,0,63765.343591836718,0,0,18663.027392732696,null,null,null,null,null,null,null,null,null,null,null,null,null,null,18663.027392732696,0,null,"Included in the Schools Formula Budget","Included in 16-19 allocation",6000,12663.027392732696,0,1055.2522827277246,0]
[null,"A2034",2034,"Thistle Hill Academy",null,4,0,4,0,4,0,null,0,0,3,0,null,0,0,4,0,null,0,0,40612.383108336442,0,10153.095777084111,null,null,null,null,null,null,null,null,null,null,null,null,null,null,10153.095777084111,0,null,"Included in the Schools Formula Budget","Included in 16-19 allocation",6000,4153.0957770841105,0,346.09131475700923,0]
[null,"A2036",2036,"Valley Invicta Primary School at Leybourne Chase",null,4,0,1,0,2.25,0,null,0,0,0,0,null,0,0,{"$f":"J38","v":2.25},0,null,{"$f":"IF(R38>20,(3*W$3)+(17*W$4)+((R38-20)*W$5),\nIF(R38>3,(3*W$3)+((R38-3)*W$4),\nR38*W$3))","v":0},{"$f":"IF(S38>20,(3*X$3)+(17*X$4)+((S38-20)*X$5),\nIF(S38>3,(3*X$3)+((S38-3)*X$4),\nS38*X$3))","v":0},{"$f":"IF(T38>20,(3*Y$3)+(17*Y$4)+((T38-20)*Y$5),\nIF(T38>3,(3*Y$3)+((T38-3)*Y$4),\nT38*Y$3))","v":23969.465498439247},{"$f":"IF(U38>20,(3*Z$3)+(17*Z$4)+((U38-20)*Z$5),\nIF(U38>3,(3*Z$3)+((U38-3)*Z$4),\nU38*Z$3))","v":0},{"$f":"SUM(W38:Z38)/SUM(R38:U38)","v":10653.095777084111},null,null,null,null,null,null,null,null,null,null,null,null,null,null,{"$f":"AA38+AN38","v":10653.095777084111},{"$f":"IF(K38>0,AA38,0)","v":0},null,"Included in the Schools Formula Budget","Included in 16-19 allocation",6000,4653.0957770841105,{"$f":"IF(AQ38-AU38<0,0,AQ38-AU38)","v":0},{"$f":"AV38/12","v":387.75798142367586},{"$f":"AW38/12","v":0}]
[null,"A2037",2037,"Valley Invicta Primary School at Holborough Lakes",null,4,0,8,0,6.3333333333333339,0,null,0,0,1,0,null,{"$f":"(M39/SUM($M39:$P39))*($J39+$K39)","v":0},{"$f":"(N39/SUM($M39:$P39))*($J39+$K39)","v":0},{"$f":"(O39/SUM($M39:$P39))*($J39+$K39)","v":6.3333333333333339},{"$f":"(P39/SUM($M39:$P39))*($J39+$K39)","v":0},null,0,0,60802.939921532714,0,9600.464198136744,null,null,null,null,null,null,null,null,null,null,null,null,null,null,9600.464198136744,0,null,"Included in the Schools Formula Budget","Included in 16-19 allocation",6000,3600.464198136744,0,300.038683178062,0]
[null,"A2038",2038,"Valley Invicta Primary School at Kings Hill",null,4,0,8,0,6.3333333333333339,0,null,2,0,0,0,null,6.3333333333333339,0,0,0,null,90491.112493529115,0,0,0,14288.070393715123,null,null,null,null,null,null,null,null,null,null,null,null,null,null,14288.070393715123,0,null,"Included in the Schools Formula Budget","Included in 16-19 allocation",6000,8288.0703937151229,0,690.67253280959358,0]
[null,"A2039",2039,"Martello Grove Academy",null,4,0,4,0,4,0,null,0,0,0,0,null,{"$f":"J41","v":4},0,0,0,null,57704.913153807858,0,0,0,14426.228288451965,null,null,null,null,null,null,null,null,null,null,null,null,null,null,14426.228288451965,0,null,"Included in the Schools Formula Budget","Included in 16-19 allocation",6000,8426.2282884519645,0,702.18569070433034,0]
[null,"A2048",2048,"Reculver CofE Primary School",null,9,0,9,0,9,0,null,1,2,1,5,null,1,2,1,5,null,14551.228288451965,38057.762102538567,10653.095777084111,59013.310163840193,13586.155147990539,null,null,null,null,null,null,null,null,null,null,null,null,null,null,13586.155147990539,0,null,"Included in the Schools Formula Budget","Included in 16-19 allocation",6000,7586.1551479905393,0,632.17959566587831,0]
[null,"A2061",2061,"Finberry Park Primary School",null,4,0,8,0,6.3333333333333339,0,null,0,0,0,0,null,0,0,{"$f":"J43","v":6.3333333333333339},0,null,0,0,60802.939921532714,0,9600.464198136744,null,null,null,null,null,null,null,null,null,null,null,null,null,null,9600.464198136744,0,null,"Included in the Schools Formula Budget","Included in 16-19 allocation",6000,3600.464198136744,0,300.038683178062,0]
[null,"A2073",2073,"Langley Park Primary Academy",null,4,0,8,0,6.3333333333333339,0,null,1,0,0,0,null,6.3333333333333339,0,0,0,null,90491.112493529115,0,0,0,14288.070393715123,null,null,null,null,null,null,null,null,null,null,null,null,null,null,14288.070393715123,0,null,"Included in the Schools Formula Budget","Included in 16-19 allocation",6000,8288.0703937151229,0,690.67253280959358,0]
[null,"A2076",2076,"Cherry Orchard Academy",null,4,0,8,0,6.3333333333333339,0,null,1,1,2,0,null,1.5833333333333335,1.5833333333333335,3.166666666666667,0,null,23039.444790048947,30129.061664509703,33401.46996076635,0,13668.943644524999,null,null,null,null,null,null,null,null,null,null,null,null,null,null,13668.943644524999,0,null,"Included in the Schools Formula Budget","Included in 16-19 allocation",6000,7668.9436445249994,0,639.07863704374995,0]
[null,"A2087",2087,"Morehall Academy",null,3,0,3,0,3,0,null,0,3,0,0,null,0,3,0,0,null,0,57086.643153807847,0,0,19028.881051269283,null,null,null,null,null,null,null,null,null,null,null,null,null,null,19028.881051269283,0,null,"Included in the Schools Formula Budget","Included in 16-19 allocation",6000,13028.881051269283,0,1085.7400876057736,0]
[null,"A2463",2463,"Minterne Community Junior School",null,25,0,24,0,24.416666666666668,0,null,0,0,25,0,null,0,0,24.416666666666668,0,null,0,0,208446.42189047043,0,8537.0548214527134,null,null,null,null,null,null,null,null,null,null,null,null,null,null,8537.0548214527134,0,null,"Included in the Schools Formula Budget","Included in 16-19 allocation",6000,2537.0548214527134,0,211.42123512105945,0]
[null,"A2513",2513,"The Oaks Community Infant School",null,12,0,12,0,12,0,null,1,0,10,0,null,1.0909090909090908,0,10.909090909090908,0,null,15874.067223765778,0,100397.40847728121,0,9689.2896417539159,null,null,null,null,null,null,null,null,null,null,null,null,null,null,9689.2896417539159,0,null,"Included in the Schools Formula Budget","Included in 16-19 allocation",6000,3689.2896417539159,0,307.44080347949301,0]
[null,"A2654",2654,"Canterbury Primary School",null,8,0,12,0,10.333333333333334,0,null,4,0,0,0,null,10.333333333333334,0,0,0,null,146696.02564733697,0,0,0,14196.389578774544,null,null,null,null,null,null,null,null,null,null,null,null,null,null,14196.389578774544,0,null,"Included in the Schools Formula Budget","Included in 16-19 allocation",6000,8196.3895787745441,0,683.03246489787864,0]
[null,"A3086",3086,"West Malling Church Of England Academy Trust",null,20,0,18,0,18.833333333333336,0,null,0,0,19,0,null,0,0,18.833333333333336,0,null,0,0,168966.63713508414,0,8971.6798478805722,null,null,null,null,null,null,null,null,null,null,null,null,null,null,8971.6798478805722,0,null,"Included in the Schools Formula Budget","Included in 16-19 allocation",6000,2971.6798478805722,0,247.63998732338101,0]
[null,"A3914",3914,"Oakfield Primary Academy",null,12,0,14,0,13.166666666666668,0,null,8,0,2,0,null,10.533333333333335,0,2.6333333333333337,0,null,149506.27130502739,0,28053.152212988163,0,13485.525836811305,null,null,null,null,null,null,null,null,null,null,null,null,null,null,13485.525836811305,0,null,"Included in the Schools Formula Budget","Included in 16-19 allocation",6000,7485.5258368113045,0,623.79381973427542,0]
[null,"A4000",4000,"St Augustine Academy",null,9,0,10,0,9.5833333333333339,0,null,11,0,1,0,null,8.7847222222222232,0,0.79861111111111116,0,null,124936.13739508152,0,8507.6806553102269,0,13924.572318301745,null,null,null,null,null,null,null,null,null,null,null,null,null,null,13924.572318301745,0,null,"Included in the Schools Formula Budget","Included in 16-19 allocation",6000,7924.5723183017453,0,660.38102652514544,0]
[null,"A4002A",4002,"Sittingbourne Academy SPLD",null,18,0,18,0,18,0,null,2,0,25,1,null,1.2857142857142856,0,16.071428571428573,0.64285714285714279,null,18708.722085152524,0,145067.61070313753,8101.7113067794535,9548.7802275038612,null,null,null,null,null,null,null,null,null,null,null,null,null,null,9548.7802275038612,0,null,"Included in the Schools Formula Budget","Included in 16-19 allocation",6000,3548.7802275038612,0,295.73168562532175,0]
[null,"A4002B",4002,"Sittingbourne Academy HI",null,29,0,28,0,28.416666666666671,0,null,0,27,0,0,null,0,28.416666666666671,0,0,null,0,456070.70320690225,0,0,16049.408910506821,null,null,null,null,null,null,null,null,null,null,null,null,null,null,16049.408910506821,0,null,"Included in the Schools Formula Budget","Included in 16-19 allocation",6000,10049.408910506821,0,837.45074254223516,0]
[null,"A4004",4004,"Meopham School",null,16,0,15,0,15.416666666666668,0,null,16,0,0,0,null,15.416666666666668,0,0,0,null,218123.10278030115,0,0,0,14148.525585749263,null,null,null,null,null,null,null,null,null,null,null,null,null,null,14148.525585749263,0,null,"Included in the Schools Formula Budget","Included in 16-19 allocation",6000,8148.525585749263,0,679.04379881243858,0]
[null,"A4016",4016,"The Charles Dickens School",null,3,0,4,0,3.5833333333333335,0,null,0,4,0,0,null,0,3.5833333333333335,0,0,null,0,66436.823767048263,0,0,18540.508958246028,null,null,null,null,null,null,null,null,null,null,null,null,null,null,18540.508958246028,0,null,"Included in the Schools Formula Budget","Included in 16-19 allocation",6000,12540.508958246028,0,1045.0424131871689,0]
[null,"A4018",4018,"The Goodwin Academy",null,13,0,13,0,13,0,null,2,0,7,0,null,2.8888888888888888,0,10.111111111111111,0,null,42036.881722194565,0,93492.412857183794,0,10425.330352259874,null,null,null,null,null,null,null,null,null,null,null,null,null,null,10425.330352259874,0,null,"Included in the Schools Formula Budget","Included in 16-19 allocation",6000,4425.3303522598744,0,368.77752935498955,0]
[null,"A4172",4172,"Hartsdown Technology College",null,3,0,4,0,3.5833333333333335,0,null,0,2,1,0,null,0,2.3888888888888888,1.1944444444444444,0,null,0,45457.882511365511,12724.531067072687,0,16236.952626540893,null,null,null,null,null,null,null,null,null,null,null,null,null,null,16236.952626540893,0,null,"Included in the Schools Formula Budget","Included in 16-19 allocation",6000,10236.952626540893,0,853.07938554507439,0]
[null,"A4242",4242,"The Abbey School",null,33,0,30,0,31.25,0,null,26,0,2,0,null,29.017857142857142,0,2.2321428571428572,0,null,395709.74944168644,0,23779.231645277032,0,13423.647394782831,null,null,null,null,null,null,null,null,null,null,null,null,null,null,13423.647394782831,0,null,"Included in the Schools Formula Budget","Included in 16-19 allocation",6000,7423.6473947828308,0,618.6372828985692,0]
[null,"A5421",5421,"The Canterbury High School",null,25,0,25,0,25,0,null,0,0,26,0,null,0,0,25,0,null,0,0,212327.39442710282,0,8493.0957770841123,null,null,null,null,null,null,null,null,null,null,null,null,null,null,8493.0957770841123,0,null,"Included in the Schools Formula Budget","Included in 16-19 allocation",6000,2493.0957770841123,0,207.75798142367603,0]
[null,"A5434A",5434,"The Westlands Academy PD",null,6,0,6,0,6,0,null,0,6,0,1,null,0,5.1428571428571423,0,0.8571428571428571,null,0,91434.245406527742,0,10802.281742372605,17039.421191483394,null,null,null,null,null,null,null,null,null,null,null,null,null,null,17039.421191483394,0,null,"Included in the Schools Formula Budget","Included in 16-19 allocation",6000,11039.421191483394,0,919.95176595694954,0]
[null,"A5434B",5434,"The Westlands Academy SPLD",null,18,11,18,10,18,10.333333333333332,null,6,1,22,0,null,5.8620689655172411,0.97701149425287348,21.494252873563216,0,null,83869.269277132204,18591.435509860792,189003.32302468148,0,10286.965687470865,null,null,null,null,null,null,null,null,null,null,null,null,null,null,10286.965687470865,10286.965687470865,null,"Included in the Schools Formula Budget","Included in 16-19 allocation",6000,4286.9656874708653,4286.9656874708653,357.24714062257209,357.24714062257209]
[null,"A5435",5435,"St Gregory's Catholic Comprehensive School",null,10,2,10,0,10,0.66666666666666663,null,0,5,0,0,null,0,10.666666666666666,0,0,null,0,179974.73121353902,0,0,16872.631051269283,null,null,null,null,null,null,null,null,null,null,null,null,null,null,16872.631051269283,16872.631051269283,null,"Included in the Schools Formula Budget","Included in 16-19 allocation",6000,10872.631051269283,10872.631051269283,906.05258760577362,906.05258760577362]
[null,"A5446",5446,"St Anselm's Catholic School",null,10,2,10,0,10,0.66666666666666663,null,0,13,0,0,null,{"$f":"(M64/SUM($M64:$P64))*($J64+$K64)","v":0},{"$f":"(N64/SUM($M64:$P64))*($J64+$K64)","v":10.666666666666666},{"$f":"(O64/SUM($M64:$P64))*($J64+$K64)","v":0},{"$f":"(P64/SUM($M64:$P64))*($J64+$K64)","v":0},null,{"$f":"IF(R64>20,(3*W$3)+(17*W$4)+((R64-20)*W$5),\nIF(R64>3,(3*W$3)+((R64-3)*W$4),\nR64*W$3))","v":0},{"$f":"IF(S64>20,(3*X$3)+(17*X$4)+((S64-20)*X$5),\nIF(S64>3,(3*X$3)+((S64-3)*X$4),\nS64*X$3))","v":179974.73121353902},{"$f":"IF(T64>20,(3*Y$3)+(17*Y$4)+((T64-20)*Y$5),\nIF(T64>3,(3*Y$3)+((T64-3)*Y$4),\nT64*Y$3))","v":0},{"$f":"IF(U64>20,(3*Z$3)+(17*Z$4)+((U64-20)*Z$5),\nIF(U64>3,(3*Z$3)+((U64-3)*Z$4),\nU64*Z$3))","v":0},{"$f":"SUM(W64:Z64)/SUM(R64:U64)","v":16872.631051269283},null,null,null,null,null,null,null,null,null,null,null,null,null,null,16872.631051269283,16872.631051269283,null,"Included in the Schools Formula Budget","Included in 16-19 allocation",6000,{"$f":"AP64-AU64","v":10872.631051269283},{"$f":"IF(AQ64-AU64<0,0,AQ64-AU64)","v":10872.631051269283},{"$f":"AV64/12","v":906.05258760577362},{"$f":"AW64/12","v":906.05258760577362}]

{"sheet":"Growth Funding","index":18,"n_rows":59,"n_cols":8,"rows_kept":59,"cut":false,"hidden":false,"merged":[[58,4,58,5],[6,1,6,7],[8,1,8,7],[52,4,52,5],[53,4,53,5],[54,4,54,5],[55,4,55,5],[56,4,56,5],[57,4,57,5],[10,1,10,7],[11,1,11,7]]}
[]
[null,null,null,null,null,null,null,{"$f":"Year1DfE","v":0}]
[]
[]
[]
[]
[null,{"$f":"schoolname","v":""}]
[]
[null,"Growth Funding Estimator"]
[]
[null,"Only complete this tab if Growth Funding has been agreed by Kent County Council. Growth funding entitlement only applies to Basic Need pupil increases."]
[null,"Definition - The DfE define Basic Need as new pupil places which are requested by the LA because there are insufficient places available for pupils in the area. Area Education Officers (AEOs) determine if schools meet eligibility for the DfE Basic Need criteria.\nIf a school meets the Basic Need criteria, growth funding will be allocated under either of the headings Reorganisation or Rising Roll (RR).\nConfirmation of Reorganisation funding will be by email early in March. If your are expecting an email and have not received one please contact Ian Hamilton by email (Ian.Hamilton@kent.gov.uk) or telephone (03000 416194)."]
[null,"This projection is reliant on the pupil numbers entered on the Pupils tab"]
[null,null,null,"Rising Roll Funding",null,null,null,"Reorganisation Funding"]
[null,null,null,"Rising Roll Funding will be paid in December for the full period September 2018 to March 2019",null,null,null,"Will be notified by email, only populate pink cells with information provided in this email."]
[null,"April 2018 to August 2018"]
[]
[]
[null,"September 2018 to March 2019",null,"Qualifying year",{"$f":"IFERROR(VLOOKUP(8860000+H2,'Growth Data'!A:K,3,0),\"NO\")","v":"NO"}]
[null,null,null,"Lower Threshold (Old PAN or number of pupils leaving in Year 6 or Year 11",{"$f":"IF(E19=\"YES\",VLOOKUP(8860000+H2,'Growth Data'!A:K,6,0),0)","v":0}]
[null,null,null,"Upper Threshold (New PAN)",{"$f":"IF(E19=\"YES\",VLOOKUP(8860000+H2,'Growth Data'!A:K,7,0),0)","v":0}]
[null,null,null,"Pupils in year R Oct 18",{"$f":"IF(E19=\"NO\",0,Pupils!B9)","v":0}]
[null,null,null,"Qualifying pupils",{"$f":"IFERROR(IF(E19=\"NO\",0,IF(E22<E20,0,IF(E22>E21,E21-E20,E22-E20))),0)","v":0}]
[null,null,null,"Rate",{"$f":"IF(qual1=\"YES\",IF(year1phase=1,'Year 1'!$G$13*(7/12),IF(year1phase=2,'Year 1'!$G$14*(7/12),IF(year1phase=4,'Year 1'!$G$13*(7/12),0))),0)","v":0}]
[]
[null,null,null,"Rising Roll",{"$f":"E23*E24","v":0}]
[null,"April 2019 to August 2019"]
[null,null,null,null,null,null,"Protected pupils"]
[null,null,null,null,null,null,null,{"$f":"(IF(year1phase=1,'Year 1'!$G$13*(5/12),IF(year1phase=2,'Year 1'!$G$14*(5/12),IF(year1phase=4,'Year 1'!$G$13*(5/12),0))))*H28","v":0}]
[]
[null,"September 2019 to March 2020",null,"Qualifying year",{"$f":"IFERROR(VLOOKUP(8860000+H2,'Growth Data'!A:F,4,0),\"NO\")","v":"NO"}]
[null,null,null,"Lower Threshold (Old PAN or number of pupils leaving in Year 6 or Year 11",{"$f":"IF(E31=\"YES\",VLOOKUP(8860000+H2,'Growth Data'!A:K,8,0),0)","v":0}]
[null,null,null,"Upper Threshold (New PAN)",{"$f":"IF(E31=\"YES\",VLOOKUP(8860000+H2,'Growth Data'!A:K,9,0),0)","v":0}]
[null,null,null,"Pupils in year R Oct 19",{"$f":"IF(E31=\"NO\",0,Pupils!C9)","v":0}]
[null,null,null,"Qualifying pupils",{"$f":"IFERROR(IF(E31=\"NO\",0,IF(E34<E32,0,IF(E34>E33,E33-E32,E34-E32))),0)","v":0}]
[null,null,null,"Rate",{"$f":"IF(qual2=\"YES\",IF(year1phase=1,'Year 1'!$G$13*(7/12),IF(year1phase=2,'Year 1'!$G$14*(7/12),IF(year1phase=4,'Year 1'!$G$13*(7/12),0))),0)","v":0}]
[]
[null,null,null,"Rising Roll",{"$f":"E35*E36","v":0}]
[null,"April 2020 to August 2020"]
[null,null,null,null,null,null,"Protected pupils"]
[null,null,null,null,null,null,null,{"$f":"(IF(year1phase=1,'Year 1'!G13*(5/12),IF(year1phase=2,'Year 1'!G14*(5/12),IF(year1phase=4,'Year 1'!G13*(5/12),0))))*H40","v":0}]
[]
[null,"September 2020 to March 2021",null,"Qualifying year",{"$f":"IFERROR(VLOOKUP(8860000+H2,'Growth Data'!A:F,5,0),\"NO\")","v":"NO"}]
[null,null,null,"Lower Threshold (Old PAN or number of pupils leaving in Year 6 or Year 11",{"$f":"IF(E43=\"YES\",VLOOKUP(8860000+H2,'Growth Data'!A:K,10,0),0)","v":0}]
[null,null,null,"Upper Threshold (New PAN)",{"$f":"IF(E43=\"YES\",VLOOKUP(8860000+H2,'Growth Data'!A:K,11,0),0)","v":0}]
[null,null,null,"Pupils in year R Oct 20",{"$f":"IF(E43=\"NO\",0,Pupils!D9)","v":0}]
[null,null,null,"Qualifying pupils",{"$f":"IFERROR(IF(E43=\"NO\",0,IF(E46<E44,0,IF(E46>E45,E45-E44,E46-E44))),0)","v":0}]
[null,null,null,"Rate",{"$f":"IF(qual3=\"YES\",IF(year1phase=1,'Year 1'!$G$13*(7/12),IF(year1phase=2,'Year 1'!$G$14*(7/12),IF(year1phase=4,'Year 1'!$G$13*(7/12),0))),0)","v":0}]
[]
[null,null,null,"Rising Roll",{"$f":"E47*E48","v":0}]
[]
[null,"SUMMARY"]
[null,null,null,"Rising Roll Funding","Reorganisation Funding",null,null,"Actual Funding"]
[null,"2018/19 Financial year","Apr - Aug",null,{"$f":"H17","v":0}]
[null,null,"Sep-Mar",{"$f":"E26","v":0},{"$f":"H20","v":0},null,null,{"$f":"SUM(D54:F55)","v":0}]
[null,"2019/20 Financial year","Apr - Aug",null,{"$f":"H29","v":0}]
[null,null,"Sep-Mar",{"$f":"E38","v":0},{"$f":"H32","v":0},null,null,{"$f":"SUM(D56:F57)","v":0}]
[null,"2020/21 Financial year","Apr - Aug",null,{"$f":"H41","v":0}]
[null,null,"Sep-Mar",{"$f":"E50","v":0},{"$f":"H44","v":0},null,null,{"$f":"SUM(D58:F59)","v":0}]

{"sheet":"BPS Summary","index":19,"n_rows":33,"n_cols":5,"rows_kept":33,"cut":false,"hidden":false,"merged":[]}
[{"$f":"Year1DfE&\" - \"&schoolname","v":" - "},null,"Year 1","Year 2","Year 3"]
["Source of Funding -table","CFR Code","2018-19","2019-20","2020-21"]
[]
["School Budget Share (SBS)","I01",{"$f":"TotalSBS","v":0},{"$f":"TotalSBSY2","v":0},{"$f":"'Year 3'!E40-E5","v":0}]
["Estimated Growth Funding","I01",{"$f":"'Year 1'!H54","v":0},{"$f":"'Year 2'!F53","v":0},{"$f":"'Year 3'!E35","v":0}]
["High Needs Mainstream Funding Element 3 Top Up","I03",{"$f":"'Year 1'!H58","v":0},{"$f":"'Year 2'!F57","v":0},{"$f":"'Year 3'!E42","v":0}]
["High Needs Mainstream Funding - Notional SEN Top Up","I01",{"$f":"'Year 1'!H59","v":0},{"$f":"'Year 2'!F58","v":0},{"$f":"'Year 3'!E43","v":0}]
["High Needs Mainstream Funding - Element 2 Post 16","I02",{"$f":"'Year 1'!H60","v":0},{"$f":"'Year 2'!F59","v":0},{"$f":"'Year 3'!E44","v":0}]
["High Needs Specialist Resource Provision (SRP) Funding - Place Funding Pre-16","I01",{"$f":"'Year 1'!H65+'Year 1'!H64","v":0},{"$f":"SUM('Year 2'!F63-'SRP Year 2 & 3'!S19-'SRP Year 2 & 3'!S22)","v":0},{"$f":"SUM('Year 3'!E48-'SRP Year 2 & 3'!S33-'SRP Year 2 & 3'!S36)","v":0}]
["High Needs Specialist Resource Provision (SRP) Funding - Place Funding Post-16","I02",{"$f":"'Year 1'!H66","v":0},{"$f":"SUM('SRP Year 2 & 3'!S19+'SRP Year 2 & 3'!S22)","v":0},{"$f":"SUM('SRP Year 2 & 3'!S33+'SRP Year 2 & 3'!S36)","v":0}]
["High Needs Specialist Resource Provision (SRP) Funding  - Excess Place Funding","I01",{"$f":"'Year 1'!H67","v":0},0,0]
["High Needs Specialist Resource Provision (SRP) Funding - Element 3 Top Up","I03",{"$f":"'Year 1'!H68","v":0},{"$f":"'Year 2'!F64","v":0},{"$f":"'Year 3'!E49","v":0}]
["Early Years","I01",{"$f":"'Year 1'!H72","v":0},{"$f":"'Year 2'!F68","v":0},{"$f":"'Year 3'!E53","v":0}]
["Post 16 allocation","I02",{"$f":"'Year 1'!H74+'Year 1'!H75","v":0},{"$f":"'Year 2'!F70","v":0},{"$f":"'Year 3'!E55","v":0}]
["Pupil Premium (5 to 16 year olds)","I05",{"$f":"'Year 1'!H86-C16","v":0},{"$f":"'Year 2'!F80-D16","v":0},{"$f":"'Year 3'!E65-E16","v":0}]
["Pupil Premium (3 & 4 year olds)","I01",{"$f":"'Year 1'!H85","v":0},{"$f":"'Year 2'!F79","v":0},{"$f":"'Year 3'!E64","v":0}]
["Universal Infant Free School Meals","I18",{"$f":"'Year 1'!H119","v":0},{"$f":"'Year 2'!F102","v":0},{"$f":"'Year 3'!E87","v":0}]
["Total",null,{"$f":"SUM(C4:C17)","v":0},{"$f":"SUM(D4:D17)","v":0},{"$f":"SUM(E4:E17)","v":0}]
[null,null,{"$f":"'Year 1'!H122","v":0},{"$f":"'Year 2'!F105","v":0},{"$f":"'Year 3'!E90","v":0}]
["Control Check",null,{"$f":"IF(C18-C19=0,\"\",C18-C19)","v":""},{"$f":"IF(D18-D19=0,\"\",D18-D19)","v":""},""]
[]
["Summary by CFR code - for input in BPS"]
[null,"I01",{"$f":"SUMIF($B$4:$B$17,$B23,C$4:C$17)","v":0},0,0]
[null,"I02",0,0,0]
[null,"I03",0,0,0]
[null,"I05",0,0,0]
[null,"I18",0,0,0]
[null,"Total",{"$f":"SUM(C23:C27)","v":0},{"$f":"SUM(D23:D27)","v":0},{"$f":"SUM(E23:E27)","v":0}]
[]
[null,"De-delegation ",{"$f":"'Year 1'!H133","v":0},{"$f":"'Year 2'!F115","v":0},{"$f":"'Year 3'!E100","v":0}]
[]
[null,"Please see the BPS Guidance notes for instructions on how"]
[null,"to enter the above figures onto the BPS for your school."]