{"text_format":"1","workbook":"xlsx","n_sheets":11,"sheets":["Data","TestArea","TestAreaY2","Growth Data","Contents","Home","Early Years","High Needs Mainstream","Firing Range","Specialist Resourced Provision","SRP Rates"],"not_rendered":{"charts":0,"images":2,"macros":1,"external_links":0,"defined_names":31,"comments":2,"pivot_tables":0},"unopened":[],"bounds":{"document_bytes":16777216,"sheet_cells":100000,"rows_first":2000,"rows_last":500,"rows_between":2000,"halvings":0,"cell_chars":16384,"cell_head_chars":4096},"cells_cut":0,"cells_raw":0,"read":"whole","date_system":"1900"}

{"sheet":"Data","index":0,"n_rows":270,"n_cols":82,"rows_kept":270,"cut":false,"hidden":true,"merged":[]}
[1,2,3,4,5,6,7,8,9,10,11,12,13,14,15,16,17,18,19,20,21,22,23,24,25,26,27,28,29,30,31,32,33,34,35,36,37,38,39,40,41,42,43,44,45,46,47,48,49,50,51,52,53,54,55,56,57,58,59,60,61,62,63,64,65,66,67,68,69,70,71,72,73,74,75,76,77,78,79,80]
["final list","School Name","Phase","F1 - Pri","F1 -KS3","F1 - KS4","F2 - FSM Pri","F2 - FSM Sec","F2 - E6FSM Pri","F2 - E6FSM Sec","F2 - IDACI F - Pri","F2 - IDACI E - Pri","F2 - IDACI D - Pri","F2 - IDACI C - Pri","F2 - IDACI B - Pri","F2 - IDACI A - Pri","F2 - IDACI F - Sec","F2 - IDACI E - Sec","F2 - IDACI D - Sec","F2 - IDACI C - Sec","F2 - IDACI B - Sec","F2 - IDACI A - Sec","F4 - EAL Pri","F4 - EAL Sec","F6 - EYFS Pri","F6 - EYFS Sec","F7 - Lump Sum","F8 - Sparsity Pri","F8 - Sparsity Sec","F9 - ACA","F10 - Split Site","F11 - Rates","F12 - PFI","F13 - Exceptional Circumstances","MFL Rate","SBS 20-21","Protected Grants 20-21",null,null,"Rates - 20-21","Pupils - Oct 19","PFI Funding - Future Year?",null,"Early Years - Base Rate","Early Years - QTS","Early Years - Disadvantage",null,"SRP Des1 Pre","SRP Des2 Pre","SRP Des1 Post","SRP Des2 Post","SRP Places Apr - Aug PRE","SRP Places Apr - Aug POST","SRP Places Sep - Mar PRE","SRP Places Sep - Mar Post","SRP actuals PRE (OCT)","SRP actuals POST (OCT)",null,null,null,"IDACI","Ever 6 FSM","Low Cost, high Incidence SEN","English as an additional language","Element of Lump Sum","Area Cost Adjustment-London Fringe","Minimum Per-Pupil Level Funding (MPPL)","Minimum Funding Guarantee (MFG)"]
[2001,"Horizon Primary Academy",1,203,0,0,0.433497536945813,0,0.4682926829268293,0,5.4187192118226597E-2,0.167487684729064,0,0.26108374384236499,0.40394088669950701,0,0,0,0,0,0,0,2.3121387283237E-2,0,0.18562874251497005,0,120084,0,0,1.0367999999999999,0,4889.6000000000004,0,0,4180,910719.07869999995,37994.699999999997,0,0,2534.6999999999998,205,0,null,4.1399999999999997,0,0,null,null,null,null,null,null,null,null,null,null,null,null,null,null,73791.260000000009,31677.981658536588,41291.500658682635,2583.3334104046248,120084,null,0,0,null,null,null,null,null,null,null,null,null,null,null,null,null,"Recoupment Academy"]
[2003,"Oaks Primary Academy",1,173,0,0,0.300578034682081,0,0.3712574850299401,0,0.162790697674419,3.4883720930232599E-2,6.3953488372092998E-2,0.372093023255814,0.145348837209302,0,0,0,0,0,0,0,7.6388888888888895E-2,0,0.22794117647058823,0,120084,0,0,1,0,3891.2,0,0,4180,774433.03430000006,30219.84,0,0,3746.8,168,0,null,4.1399999999999997,0,0,null,null,null,null,null,null,null,null,null,null,null,null,null,null,52786.6853488372,21402.544790419161,43210.400808823528,7273.5567361111116,120084,null,0,20861.821531103575,null,null,null,null,null,null,null,null,null,null,null,null,null,"Recoupment Academy"]
[2004,"Tree Tops Primary Academy",1,267,0,0,0.53932584269662898,0,0.54435483870967738,0,3.3707865168539297E-2,1.4981273408239701E-2,2.9962546816479401E-2,0.15730337078651699,0.51685393258427004,0,0,0,0,0,0,0,9.0909090909090898E-2,0,0.33980582524271846,0,120084,0,0,1,0,6860.8,0,0,4180,1133841.6612,45149.88,0,0,6593.3339999999998,251,0,null,4.1399999999999997,0,0,null,null,null,null,null,null,null,null,null,null,null,null,null,null,90557.95000000007,48432.561895161292,99417.190776699019,13359.466363636362,120084,null,0,0,null,null,null,null,null,null,null,null,null,null,null,null,null,"Recoupment Academy"]
[2006,"St James the Great Academy",1,186,0,0,0.36559139784946199,0,0.41081081081081083,0,2.68817204301075E-2,0,5.3763440860215101E-3,0.35483870967741898,0.44086021505376299,0,0,0,0,0,0,0,1.27388535031847E-2,0,0.3,0,120084,0,0,1,0,7270.4,0,0,4180,831746.43790000002,33637.56,0,0,7000.6,187,0,null,4.1399999999999997,0,0,null,null,null,null,null,null,null,null,null,null,null,null,null,null,69853.559999999939,25462.374486486489,61143.965999999993,1304.1087898089158,120084,null,0,0,null,null,null,null,null,null,null,null,null,null,null,null,null,"Recoupment Academy"]
[2007,"Molehill Primary Academy",1,262,0,0,0.49236641221374,0,0.52142857142857146,0,0.17557251908396901,3.4351145038167899E-2,0.12977099236641201,0.225190839694656,0.15648854961832101,0,0,0,0,0,0,0,0.11894273127753301,0,0.3073170731707317,0,120084,0,0,1,0,6553.6,0,0,4180,1219359.1895999999,49646.879999999997,0,0,6115.0240000000003,276,0,null,4.1399999999999997,0,0,null,null,null,null,null,null,null,null,null,null,null,null,null,null,71950.199999999953,45523.978428571434,88228.193268292685,17151.801145374444,120084,null,0,0,null,null,null,null,null,null,null,null,null,null,null,null,null,"Recoupment Academy"]
[2008,"Tiger Primary School",1,422,0,0,0.24881516587677699,0,0.25,0,0.24940617577197099,6.6508313539192399E-2,4.5130641330166303E-2,0.13539192399049901,0.106888361045131,0,0,0,0,0,0,0,5.8981233243967798E-2,0,0.30277777777777776,0,120084,0,0,1,0,7577.6,0,0,4180,1603618.9055999999,75909.36,0,0,7296.4,422,0,null,4.1399999999999997,0,0,null,null,null,null,null,null,null,null,null,null,null,null,null,null,84644.399144893177,35155.764999999999,140008.96794444442,13699.25136729222,120084,null,16716.276543370244,0,null,null,null,null,null,null,null,null,null,null,null,null,null,"Recoupment Academy"]
[2009,"Northdown Primary School",1,299,0,0,0.59197324414715702,0,0.61386138613861385,0,3.0100334448160501E-2,9.0301003344481601E-2,1.6722408026755901E-2,0.12374581939799301,0.42140468227424699,0.26755852842809402,0,0,0,0,0,0,0.15,0,0.40963855421686746,0,120084,0,0,1,0,8704,0,0,4180,1417981.8669,60724.405700000003,0,0,3824.4,307,0,null,4.1399999999999997,0,0,null,null,null,null,null,null,null,null,null,null,null,null,null,null,137015.10999999993,61162.551881188119,134212.02192771083,24684.9915,120084,null,0,0,null,null,null,null,null,null,null,null,null,null,null,null,null,"Recoupment Academy"]
[2010,"Newlands Primary School",1,323,0,0,0.46439628482972101,0,0.47337278106508873,0,5.8823529411764698E-2,0.19195046439628499,3.7151702786377701E-2,0.17647058823529399,0.29102167182662497,9.2879256965944304E-3,0,0,0,0,0,0,7.5539568345323702E-2,0,0.36923076923076925,0,120084,0,0,1,0,8243.2000000000007,0,0,4180,1481277.6651000001,62238.48,0,0,7937.3,346,null,null,4.1399999999999997,0,0,null,null,null,null,null,null,null,null,null,null,null,null,null,null,97067.469999999928,50950.669822485201,130683.216,13429.120035971217,120084,null,0,0,null,null,null,null,null,null,null,null,null,null,null,null,null,"Recoupment Academy"]
[2011,"Salmestone Primary School",1,236,0,0,0.38983050847457601,0,0.39383561643835618,0,0.34745762711864397,0.13983050847457601,5.5084745762711898E-2,0.14830508474576301,0.19915254237288099,8.4745762711864403E-2,0,0,0,0,0,0,0.120192307692308,0,0.36686390532544377,0,120084,0,0,1,0,8448,0,0,4180,1270019.5422,52704.84,0,0,8134.5,293,null,null,4.1399999999999997,0,0,null,null,null,null,null,null,null,null,null,null,null,null,null,null,81896.969999999972,30972.13082191781,94871.63692307692,15612.024038461577,120084,null,0,0,null,null,null,null,null,null,null,null,null,null,null,null,null,"Recoupment Academy"]
[2013,"Water Meadows Primary School",1,99,0,0,0.44444444444444398,0,0.44444444444444398,0,0.62626262626262597,3.03030303030303E-2,1.01010101010101E-2,0,8.0808080808080801E-2,0,0,0,0,0,0,0,2.66666666666667E-2,0,0.21311475409836064,0,120084,0,0,1,0,3865.6,0,0,4180,452600.44689999998,17988,0,0,3425.346,89,null,null,4.1399999999999997,0,0,null,null,null,null,null,null,null,null,null,null,null,null,null,null,18332.769999999993,14662.119999999984,23118.950655737703,1453.0296000000017,120084,null,0,3962.3561942116357,null,null,null,null,null,null,null,null,null,null,null,null,null,"Recoupment Academy"]
[2014,"St Laurence In Thanet Church of England Junior Academy",1,203,0,0,0.48768472906403898,0,0.53521126760563376,0,0.201970443349754,0.12807881773398999,6.8965517241379296E-2,0.21182266009852199,0.133004926108374,6.4039408866995107E-2,0,0,0,0,0,0,1.47783251231527E-2,0,0.28282828282828282,0,120084,0,0,1,0,4979.3,0,0,4180,941232.97329999995,38494.32,0,0,4979.3,214,null,null,4.1399999999999997,0,0,null,null,null,null,null,null,null,null,null,null,null,null,null,null,61377.71999999995,36204.735492957741,62912.693737373731,1651.1699999999989,120084,null,0,0,null,null,null,null,null,null,null,null,null,null,null,null,null,"Recoupment Academy"]
[2015,"Dame Janet Primary Academy",1,374,0,0,0.55080213903743303,0,0.56553398058252424,0,5.8823529411764698E-2,0.12566844919786099,0.20320855614973299,0.13636363636363599,0.10962566844919799,0.25668449197860999,0,0,0,0,0,0,8.4084084084084104E-2,0,0.43543543543543545,0,120084,0,0,1,0,10342.4,0,0,4180,1769429.7498000001,71952,0,0,9958.6,400,null,null,4.1399999999999997,0,0,null,null,null,null,null,null,null,null,null,null,null,null,null,null,149904.4200000001,70481.380242718442,178449.27057057057,17308.360600600605,120084,null,0,0,null,null,null,null,null,null,null,null,null,null,null,null,null,"Recoupment Academy"]
[2017,"Drapers Mills Primary Academy",1,374,0,0,0.60695187165775399,0,0.60695187165775399,0,5.0802139037433199E-2,0.14705882352941199,9.0909090909090898E-2,0.18181818181818199,0.23796791443850299,0.24331550802138999,0,0,0,0,0,0,0.25,0,0.42293906810035842,0,120084,0,0,1,0,11776,0,0,4180,2015955.4687000001,77708.160000000003,0,0,11339,432,null,null,4.1399999999999997,0,0,null,null,null,null,null,null,null,null,null,null,null,null,null,null,161392.19000000003,75643.210000000006,173328.0345519713,51461.464999999997,120084,null,0,0,null,null,null,null,null,null,null,null,null,null,null,null,null,"Recoupment Academy"]
[2018,"Temple Grove Academy",1,206,0,0,0.38349514563106801,0,0.38349514563106801,0,0.461165048543689,0,1.45631067961165E-2,0.247572815533981,0,0,0,0,0,0,0,0,0.15819209039547999,0,0.29447852760736198,0,120084,0,0,1,0,6689.59,0,0,4180,887447.78460000001,37774.800000000003,0,0,4359.7960000000003,210,null,null,4.1399999999999997,0,0,null,null,null,null,null,null,null,null,null,null,null,null,null,null,44380.930000000022,26325.170000000006,66472.231656441727,17935.872994350255,120084,null,0,0,null,null,null,null,null,null,null,null,null,null,null,null,null,"Recoupment Academy"]
[2019,"Chantry Community Academy",1,408,0,0,0.36764705882352899,0,0.36764705882352899,0,0.39950980392156898,0.240196078431373,3.4313725490196102E-2,0.134803921568627,1.4705882352941201E-2,0,0,0,0,0,0,0,0.31549295774647901,0,0.34967320261437906,0,120084,0,0,1,0,3865.6,0,0,4180,1733875.6984999999,72311.759999999995,0,0,3223.6979999999999,402,null,null,4.1399999999999997,0,0,null,null,null,null,null,null,null,null,null,null,null,null,null,null,93655.180000000008,49984.499999999949,156329.85333333333,70846.820957746502,120084,null,0,14659.641418920131,null,null,null,null,null,null,null,null,null,null,null,null,null,"Recoupment Academy"]
[2020,"Christ Church Church of England Junior School, Ramsgate",1,198,0,0,0.27777777777777801,0,0.33181818181818185,0,0.19696969696969699,0.17676767676767699,0.12626262626262599,0.10101010101010099,3.03030303030303E-2,4.5454545454545497E-2,0,0,0,0,0,0,2.02020202020202E-2,0,0.33333333333333331,0,120084,0,0,1,0,7884.8,0,0,4180,917745.92150000005,39573.599999999999,0,0,7592.2,220,null,null,4.1399999999999997,0,0,null,null,null,null,null,null,null,null,null,null,null,null,null,null,45096.44999999999,21893.211000000003,72320.819999999992,2201.5599999999995,120084,null,0,0,null,null,null,null,null,null,null,null,null,null,null,null,null,"Recoupment Academy"]
[2021,"Kemsley Primary Academy",1,210,0,0,0.233333333333333,0,0.23923444976076555,0,0.77142857142857102,9.5238095238095195E-3,1.4285714285714299E-2,0,4.7619047619047597E-3,4.7619047619047597E-3,0,0,0,0,0,0,8.3333333333333301E-2,0,0.24858757062146894,0,120084,0,0,1,0,9472,0,0,4180,866813.22129999998,37774.800000000003,0,0,7888,210,null,null,4.1399999999999997,0,0,null,null,null,null,null,null,null,null,null,null,null,null,null,null,37701.289999999986,16741.220095693781,57202.908474576274,9631.8249999999953,120084,null,0,0,null,null,null,null,null,null,null,null,null,null,null,null,null,"Recoupment Academy"]
[2022,"Milton Court Primary Academy",1,196,0,0,0.60204081632653095,0,0.60204081632653095,0,0.268041237113402,0.149484536082474,0.37113402061855699,1.03092783505155E-2,0,5.1546391752577301E-3,0,0,0,0,0,0,7.2289156626505993E-2,0,0.34969325153374231,0,120084,0,0,1,0,5836.8,0,0,4180,875620.04310000001,34177.199999999997,0,0,5620.2,190,null,null,4.1399999999999997,0,0,null,null,null,null,null,null,null,null,null,null,null,null,null,null,50298.196907216508,39321.140000000029,75103.941349693254,7798.2968674698759,120084,null,0,0,null,null,null,null,null,null,null,null,null,null,null,null,null,"Recoupment Academy"]
[2023,"Temple Ewell Church of England Primary School",1,143,0,0,0.20979020979021001,0,0.23841059602649006,0,8.3916083916083906E-2,5.5944055944055902E-2,4.8951048951049E-2,6.9930069930069904E-3,2.0979020979021001E-2,4.8951048951049E-2,0,0,0,0,0,0,2.4590163934426201E-2,0,0.14529914529914531,0,120084,0,0,1,0,1229,0,0,4180,612924.35360000003,27161.88,0,0,1152,151,null,null,4.1399999999999997,0,0,null,null,null,null,null,null,null,null,null,null,null,null,null,null,13749.580000000005,11360.715496688741,22767.665555555555,1935.3877868852435,120084,null,0,0,null,null,null,null,null,null,null,null,null,null,null,null,null,"Recoupment Academy"]
[2024,"Copperfield Academy",1,413,0,0,0.31961259079903098,0,0.31961259079903098,0,0.20823244552058101,0.13801452784503601,9.4430992736077496E-2,9.6852300242130807E-3,7.2639225181598099E-2,0,0,0,0,0,0,0,0.30107526881720398,0,0.31778425655976678,0,120084,0,0,1,0,7782.4,0,0,4180,1700291.8633999999,76089.240000000005,0,0,7322.5039999999999,423,null,null,4.1399999999999997,0,0,null,null,null,null,null,null,null,null,null,null,null,null,null,null,65375.609999999971,43986.359999999935,143814.22183673468,68437.741505376267,120084,null,0,0,null,null,null,null,null,null,null,null,null,null,null,null,null,"Recoupment Academy"]
[2025,"The Wells Free School",1,174,0,0,0.12068965517241401,0,0.13529411764705881,0,1.1494252873563199E-2,0,0,5.74712643678161E-3,0,0,0,0,0,0,0,0,0.24666666666666701,0,0.25806451612903225,0,120084,0,0,1,0,1258.4000000000001,0,0,4180,694591.10699999996,35363.725700000003,0,0,1258.4000000000001,172,null,null,4.1399999999999997,0,0,null,null,null,null,null,null,null,null,null,null,null,null,null,null,875.60999999999945,7844.6262352941176,49203.607741935477,23622.738800000032,120084,null,0,0,null,null,null,null,null,null,null,null,null,null,null,null,null,"Recoupment Academy"]
[2026,"Petham Primary School",1,114,0,0,8.7719298245614002E-2,0,0.125,0,2.6315789473684199E-2,2.6315789473684199E-2,0,1.7543859649122799E-2,8.7719298245613996E-3,8.7719298245613996E-3,0,0,0,0,0,0,2.06185567010309E-2,0,0.18269230769230768,0,120084,21523.51922563418,0,1,0,3452.3999999999901,0,0,4180,491793.92660000001,20146.560000000001,0,0,3377.05,112,null,null,4.1399999999999997,0,0,null,null,null,null,null,null,null,null,null,null,null,null,null,null,3412.3699999999985,4748.5275000000001,22821.517499999998,1293.7002061855653,120084,null,0,0,null,null,null,null,null,null,null,null,null,null,null,null,null,"Recoupment Academy"]
[2027,"Archbishop Courtenay Primary School",1,295,0,0,0.29152542372881401,0,0.29333333333333333,0,5.7627118644067797E-2,4.4067796610169498E-2,1.01694915254237E-2,3.3898305084745801E-3,0.21355932203389799,0,0,0,0,0,0,0,0.27118644067796599,0,0.31308411214953269,0,120084,0,0,1,0,13005,0,0,4180,1236570.2098999999,53784.12,0,0,12983.932000000001,299,null,null,4.1399999999999997,0,0,null,null,null,null,null,null,null,null,null,null,null,null,null,null,38661.859999999957,28835.502666666667,101205.11238317756,44031.199999999983,120084,null,0,0,null,null,null,null,null,null,null,null,null,null,null,null,null,"Recoupment Academy"]
[2028,"Cliftonville Primary School",1,790,0,0,0.43797468354430402,0,0.46613545816733065,0,2.4050632911392401E-2,0.132911392405063,5.9493670886075899E-2,0.132911392405063,0.23164556962025301,0.22278481012658199,0,0,0,0,0,0,0.13963963963963999,0,0.38124999999999998,0,120084,0,0,1,0,16793.599999999999,0,0,4180,3230281.0502999998,152769.8057,0,0,13311,760,null,null,4.1399999999999997,0,0,null,null,null,null,null,null,null,null,null,null,null,null,null,null,293628.99999999965,122710.95179282868,330032.22687499999,60716.446396396546,120084,null,0,0,null,null,null,null,null,null,null,null,null,null,null,null,null,"Recoupment Academy"]
[2029,"Tymberwood Academy",1,359,0,0,0.42618384401114201,0,0.43814432989690721,0,0.17270194986072401,7.7994428969359306E-2,0.222841225626741,0.28690807799442902,5.5710306406685202E-3,0,0,0,0,0,0,0,7.4766355140186896E-2,0,0.29968454258675081,0,120084,0,0,1,0,6629.39,0,0,4180,1546359.9619,68354.399999999994,0,0,4318.3879999999999,380,null,null,4.1399999999999997,0,0,null,null,null,null,null,null,null,null,null,null,null,null,null,null,100265.13,52415.017783505151,117890.33391167193,14773.08485981308,120084,null,0,0,null,null,null,null,null,null,null,null,null,null,null,null,null,"Recoupment Academy"]
[2030,"Valley Invicta Primary School At Aylesford",1,339,0,0,0.19469026548672599,0,0.20535714285714285,0,0.13905325443787001,2.07100591715976E-2,0,0.19822485207100601,2.07100591715976E-2,0,0,0,0,0,0,0,2.2653721682847901E-2,0,0.21212121212121213,0,120084,0,0,1,0,4531.2,0,0,4180,1263879.1499999999,60439.68,0,0,3879.15,336,null,null,4.1399999999999997,0,0,null,null,null,null,null,null,null,null,null,null,null,null,null,null,45229.81127218937,23198.16348214286,78795.824545454539,4226.7814563106804,120084,null,66519.669243902375,0,null,null,null,null,null,null,null,null,null,null,null,null,null,"Recoupment Academy"]
[2034,"Thistle Hill Academy",1,317,0,0,0.35962145110410099,0,0.35962145110410099,0,0.68454258675078905,1.8927444794952699E-2,2.5236593059936901E-2,2.8391167192429002E-2,0.16088328075709801,2.8391167192429002E-2,0,0,0,0,0,0,3.6101083032491002E-2,0,0.27037037037037037,0,120084,0,0,1,0,13004.8,0,0,4180,1219756.1976000001,55923.085700000003,0,0,13263.06,306,null,null,4.1399999999999997,0,0,null,null,null,null,null,null,null,null,null,null,null,null,null,null,85364.440000000061,37988.220000000008,93915.6058148148,6298.6870036101127,120084,null,0,0,null,null,null,null,null,null,null,null,null,null,null,null,null,"Recoupment Academy"]
[2036,"Valley Invicta Primary School At Leybourne Chase",1,201,0,0,8.9552238805970102E-2,0,9.947643979057591E-2,0,8.9552238805970102E-2,9.9502487562189105E-3,0,4.9751243781094502E-2,1.99004975124378E-2,0,0,0,0,0,0,0,2.32558139534884E-2,0,0.23353293413173654,0,120084,0,0,1,0,8243.2000000000007,0,0,4180,751857.62419999996,37943.331400000003,0,0,7937.3,194,null,null,4.1399999999999997,0,0,null,null,null,null,null,null,null,null,null,null,null,null,null,null,10747.479999999996,6662.8553403141359,51435.575029940119,2572.7532558139565,120084,null,18664.406373931764,0,null,null,null,null,null,null,null,null,null,null,null,null,null,"Recoupment Academy"]
[2037,"Valley Invicta Primary School at Holborough Lakes",1,199,0,0,0.135678391959799,0,0.16393442622950818,0,0.69849246231155804,0.16080402010050299,0,0,5.0251256281407001E-3,0,0,0,0,0,0,0,7.69230769230769E-2,0,0.22222222222222221,0,120084,0,0,1,0,9420.7999999999993,0,0,4180,767458.99719999998,36929.811399999999,0,0,9071.2000000000007,183,null,null,4.1399999999999997,0,0,null,null,null,null,null,null,null,null,null,null,null,null,null,null,38706.940000000039,10870.945901639343,48457.38444444444,8425.200769230767,120084,null,0,3511.837857128121,null,null,null,null,null,null,null,null,null,null,null,null,null,"Recoupment Academy"]
[2038,"Valley Invicta Primary School At Kings Hill",1,196,0,0,9.1836734693877597E-2,0,9.1836734693877597E-2,0,9.1836734693877597E-2,1.53061224489796E-2,0,4.5918367346938799E-2,0,0,0,0,0,0,0,0,6.6265060240963902E-2,0,0.21951219512195122,0,120084,0,0,1,0,3891.2,0,0,4180,684186.14820000005,38718.6,0,0,3746.8,175,null,null,4.1399999999999997,0,0,null,null,null,null,null,null,null,null,null,null,null,null,null,null,8661.0300000000061,5998.140000000004,47144.836097560976,7148.4387951807275,120084,null,15696.475107258215,0,null,null,null,null,null,null,null,null,null,null,null,null,null,"Recoupment Academy"]
[2039,"Martello Primary",1,155,0,0,0.54193548387096802,0,0.54193548387096802,0,0.103225806451613,0.109677419354839,9.6774193548387094E-2,9.0322580645161299E-2,0.46451612903225797,5.8064516129032302E-2,0,0,0,0,0,0,0.110294117647059,0,0.375,0,120084,0,0,1,0,8908.7999999999993,0,0,4180,733403.45539999998,27161.88,0,0,8578.2000000000007,151,null,null,4.1399999999999997,0,0,null,null,null,null,null,null,null,null,null,null,null,null,null,null,60061.780000000013,27991.320000000014,63691.631249999999,9409.2408088235443,120084,null,0,0,null,null,null,null,null,null,null,null,null,null,null,null,null,"Recoupment Academy"]
[2041,"The Holy Family Catholic Primary School",1,185,0,0,0.37297297297297299,0,0.43915343915343913,0,2.7027027027027001E-2,1.0810810810810799E-2,7.5675675675675694E-2,0.25405405405405401,0.340540540540541,0,0,0,0,0,0,0,7.4999999999999997E-2,0,0.37341772151898733,0,120084,0,0,1,0,3928.96,0,0,4180,829279.9632,33277.800000000003,0,0,535.39800000000002,185,null,null,4.1399999999999997,0,0,null,null,null,null,null,null,null,null,null,null,null,null,null,null,58215.530000000042,27072.733597883598,75698.288291139237,7636.6612500000001,120084,null,0,0,null,null,null,null,null,null,null,null,null,null,null,null,null,"Recoupment Academy"]
[2043,"Jubilee Primary School",1,261,0,0,0.229885057471264,0,0.229885057471264,0,9.5785440613026795E-2,0.13793103448275901,7.6628352490421504E-3,7.6628352490421504E-3,3.0651340996168602E-2,7.6628352490421504E-3,0,0,0,0,0,0,5.8252427184466E-2,0,0.24352331606217617,0,120084,0,0,1,0,4736,0,0,4180,827235.24010000005,41005.388599999998,0,0,4153.2139999999999,210,null,null,4.1399999999999997,0,0,null,null,null,null,null,null,null,null,null,null,null,null,null,null,21499.930000000029,19993.79999999997,69646.68699481865,8368.065436893201,120084,null,16450.947568288189,0,null,null,null,null,null,null,null,null,null,null,null,null,null,"Recoupment Academy"]
[2044,"Loose Primary School",1,655,0,0,9.0076335877862596E-2,0,9.465648854961832E-2,0,0.195419847328244,7.63358778625954E-3,3.0534351145038198E-3,3.9694656488549598E-2,3.2061068702290099E-2,0,0,0,0,0,0,0,3.1858407079646003E-2,0,0.1982142857142857,0,120084,0,0,1,0,11980.8,0,0,4180,2470450.4778,118181.16,0,0,6700.4777999999997,657,null,null,4.1399999999999997,0,0,null,null,null,null,null,null,null,null,null,null,null,null,null,null,51220.669999999969,20660.260000000002,142264.21044642857,11485.129380530969,120084,null,339000.50017304037,0,null,null,null,null,null,null,null,null,null,null,null,null,null,"Recoupment Academy"]
[2045,"Skinners' Kent Primary School",1,210,0,0,0.12380952380952399,0,0.143646408839779,0,0.200956937799043,4.78468899521531E-3,1.43540669856459E-2,5.7416267942583699E-2,0,0,0,0,0,0,0,0,0.105555555555556,0,0.24561403508771928,0,120084,0,0,1,0,10854.4,0,0,4180,779368.07849999995,32798.348599999998,0,0,10882.406000000001,197.66666666666669,null,null,4.1399999999999997,0,0,null,null,null,null,null,null,null,null,null,null,null,null,null,null,15947.008133971281,10052.131491712707,56518.663157894727,12200.311666666717,120084,null,1463.8655497544823,0,null,null,null,null,null,null,null,null,null,null,null,null,null,"Recoupment Academy"]
[2048,"Reculver Church of England Primary School",1,503,0,0,0.182902584493042,0,0.20042194092827004,0,4.37375745526839E-2,2.98210735586481E-2,2.3856858846918499E-2,1.59045725646123E-2,1.59045725646123E-2,3.9761431411530802E-3,0,0,0,0,0,0,7.0588235294117702E-3,0,0.29128440366972475,0,120084,0,0,1,0,12595,0,0,4180,1797127.8,85622.88,0,0,12127.8,476,null,null,4.1399999999999997,0,0,null,null,null,null,null,null,null,null,null,null,null,null,null,null,22165.459999999992,33593.661497890294,160547.89763761466,1954.208258823531,120084,null,165980.82260567148,0,null,null,null,null,null,null,null,null,null,null,null,null,null,"Recoupment Academy"]
[2051,"St Mary of Charity CofE (Aided) Primary School",1,206,0,0,0.26699029126213603,0,0.32211538461538464,0,0.247572815533981,0.35922330097087402,2.9126213592233E-2,0,9.7087378640776698E-2,0,0,0,0,0,0,0,3.97727272727273E-2,0,0.26785714285714285,0,120084,0,0,1,0,5427.2,0,0,4180,871347.04350000003,36695.519999999997,0,0,5225.8,204,null,null,4.1399999999999997,0,0,null,null,null,null,null,null,null,null,null,null,null,null,null,null,42194.310000000027,22111.732980769237,60463.023214285706,4509.4453409090938,120084,null,0,2569.515657197684,null,null,null,null,null,null,null,null,null,null,null,null,null,"Recoupment Academy"]
[2052,"Kennington Church of England Academy",1,352,0,0,0.24715909090909099,0,0.28813559322033899,0,1.4285714285714299E-2,9.71428571428571E-2,0.114285714285714,0.111428571428571,1.7142857142857099E-2,0,0,0,0,0,0,0,1.9943019943019901E-2,0,0.23423423423423423,0,120084,0,0,1,0,5990,0,0,4180,1349366.8858,64217.16,0,0,5768.1,357,null,null,4.1399999999999997,0,0,null,null,null,null,null,null,null,null,null,null,null,null,null,null,46818.554514285599,33797.429152542376,90346.730090090088,3863.7064387464306,120084,null,47605.899804335437,0,null,null,null,null,null,null,null,null,null,null,null,null,null,"Recoupment Academy"]
[2054,"St Edward's Catholic Primary School",1,189,0,0,0.44444444444444398,0,0.44444444444444398,0,4.2780748663101602E-2,2.1390374331550801E-2,0,0.12834224598930499,0.40641711229946498,0.38502673796791398,0,0,0,0,0,0,0.101190476190476,0,0.31677018633540371,0,120084,0,0,1,0,4838.3999999999996,0,0,4180,966692.56510000001,37674.034299999999,0,0,4658.8500000000004,208,null,null,4.1399999999999997,0,0,null,null,null,null,null,null,null,null,null,null,null,null,null,null,95253.3721925133,27991.319999999974,65603.273478260875,10526.20874999998,120084,null,0,0,null,null,null,null,null,null,null,null,null,null,null,null,null,"Recoupment Academy"]
[2055,"Lansdowne Primary School",1,401,0,0,0.27182044887780499,0,0.27737226277372262,0,4.7381546134663298E-2,0.446384039900249,8.7281795511221894E-2,2.4937655860349101E-3,4.9875311720698296E-3,0.10723192019950099,0,0,0,0,0,0,0.125,0,0.25077399380804954,0,120084,0,0,1,0,4608,0,0,4180,1621099.4328999999,74470.320000000007,0,0,5173.9380000000001,414,null,null,4.1399999999999997,0,0,null,null,null,null,null,null,null,null,null,null,null,null,null,null,93094.679999999891,37063.932408759123,110191.03829721361,27588.298749999998,120084,null,0,0,null,null,null,null,null,null,null,null,null,null,null,null,null,"Recoupment Academy"]
[2058,"Charlton Church of England Primary School",1,203,0,0,0.22660098522167499,0,0.22660098522167499,0,0.123152709359606,0.216748768472906,0.27093596059113301,5.4187192118226597E-2,4.4334975369458102E-2,1.47783251231527E-2,0,0,0,0,0,0,6.9364161849711004E-2,0,0.19135802469135801,0,120084,0,0,1,0,2304,0,0,4180,845001.30310000002,36695.519999999997,0,0,2218.5,204,null,null,4.1399999999999997,0,0,null,null,null,null,null,null,null,null,null,null,null,null,null,null,50430.289999999986,15328.580000000007,42565.929691358018,7750.0002312138749,120084,null,0,0,null,null,null,null,null,null,null,null,null,null,null,null,null,"Recoupment Academy"]
[2059,"Lydd Primary School",1,257,0,0,0.42023346303501902,0,0.42023346303501902,0,0.46303501945525299,1.5564202334630401E-2,2.3346303501945501E-2,0.44747081712062298,0,0,0,0,0,0,0,0,0,0,0.28688524590163933,0,120084,0,0,1,0,5493.5999999999904,0,0,4180,1062772.5833000001,46588.92,0,0,5115.6899999999996,259,null,null,4.1399999999999997,0,0,null,null,null,null,null,null,null,null,null,null,null,null,null,null,80315.96000000005,35988.839999999967,80790.583196721316,0,120084,null,0,0,null,null,null,null,null,null,null,null,null,null,null,null,null,"Recoupment Academy"]
[2060,"Beaver Green Primary School",1,409,0,0,0.42787286063569702,0,0.42857142857142855,0,4.4226044226044203E-2,8.8452088452088407E-2,6.6339066339066305E-2,2.45700245700246E-3,0.52579852579852604,0,0,0,0,0,0,0,6.7796610169491497E-2,0,0.29640718562874252,0,120084,0,0,1,0,10956.8,0,0,4180,1673214.7442999999,73031.28,0,0,10550.2,406,null,null,4.1399999999999997,0,0,null,null,null,null,null,null,null,null,null,null,null,null,null,null,127104.47778869783,58410.458571428571,132840.78763473054,15261.661694915249,120084,null,0,0,null,null,null,null,null,null,null,null,null,null,null,null,null,"Recoupment Academy"]
[2061,"Finberry Primary School",1,219,0,0,0.25114155251141601,0,0.25252525252525254,0,3.6529680365296802E-2,4.5662100456621002E-2,9.1324200913242004E-3,9.1324200913242004E-3,9.1324200913242004E-3,0,0,0,0,0,0,0,3.5087719298245598E-2,0,0.29770992366412213,0,120084,0,0,1,0,9881.6,0,0,4180,815075.89269999997,36830.879999999997,0,0,9514.9,201,null,null,4.1399999999999997,0,0,null,null,null,null,null,null,null,null,null,null,null,null,null,null,6984.86,18428.628787878788,71442.531068702287,4229.312631578945,120084,null,0,0,null,null,null,null,null,null,null,null,null,null,null,null,null,"Recoupment Academy"]
[2062,"Greenlands Primary School",1,179,0,0,0.35195530726257002,0,0.35195530726257002,0,7.8651685393258397E-2,0.28651685393258403,1.6853932584269701E-2,5.6179775280898901E-3,3.3707865168539297E-2,0,0,0,0,0,0,0,7.1428571428571397E-2,0,0.323943661971831,0,120084,0,0,1.0367999999999999,0,3174.4,0,0,4180,818905.34609999997,33731.879999999997,0,0,2681.8,182,null,null,4.1399999999999997,0,0,null,null,null,null,null,null,null,null,null,null,null,null,null,null,20926.346966292123,20993.490000000013,63539.226619718313,7037.1292857142817,120084,null,0,0,null,null,null,null,null,null,null,null,null,null,null,null,null,"Recoupment Academy"]
[2063,"Istead Rise Primary School",1,258,0,0,0.24031007751937999,0,0.25347222222222221,0,5.4263565891472902E-2,0.112403100775194,3.8759689922480599E-2,7.7519379844961198E-2,7.7519379844961196E-3,0,0,0,0,0,0,0,1.3157894736842099E-2,0,0.18807339449541285,0,120084,0,0,1,0,5529.6,0,0,4180,1094549.3809,51805.440000000002,0,0,4744.7020000000002,288,null,null,4.1399999999999997,0,0,null,null,null,null,null,null,null,null,null,null,null,null,null,null,24517.080000000005,21791.853541666667,53169.977339449542,1868.4292105263148,120084,null,30430.959908357472,0,null,null,null,null,null,null,null,null,null,null,null,null,null,"Recoupment Academy"]
[2064,"Ramsgate Arts Primary School",1,297,0,0,0.306397306397306,0,0.306397306397306,0,0.114478114478114,0.15488215488215501,0.15488215488215501,9.4276094276094305E-2,0.12121212121212099,0.12121212121212099,0,0,0,0,0,0,4.2372881355932202E-2,0,0.21777777777777776,0,120084,0,0,1,0,12288,0,0,4180,1036918.3091,46150.302900000002,0,0,11832,251,null,null,4.1399999999999997,0,0,null,null,null,null,null,null,null,null,null,null,null,null,null,null,90072.759999999922,30323.929999999964,70874.403599999991,6926.5182203389822,120084,null,0,0,null,null,null,null,null,null,null,null,null,null,null,null,null,"Recoupment Academy"]
[2069,"Dartford Primary Academy",1,621,0,0,0.162640901771337,0,0.18789808917197454,0,6.7632850241545903E-2,1.7713365539452498E-2,3.3816425120772903E-2,9.6618357487922701E-3,8.6956521739130405E-2,0,0,0,0,0,0,0,0.16098484848484801,0,0.26027397260273971,0,120084,0,0,1.0367999999999999,33000,9395.2000000000007,0,0,4180,2391817.2749000001,116393.52,0,0,1090,628,null,null,4.1399999999999997,0,0,null,null,null,null,null,null,null,null,null,null,null,null,null,null,48854.049999999981,38882.847038216569,177109.45520547943,55023.36392045438,120084,null,99886.584329008721,0,null,null,null,null,null,null,null,null,null,null,null,null,null,"Recoupment Academy"]
[2073,"Langley Park Primary Academy",1,355,0,0,0.13802816901408499,0,0.13802816901408499,0,4.2735042735042701E-2,2.84900284900285E-3,3.4188034188034198E-2,0.16239316239316201,0.15669515669515699,0,0,0,0,0,0,0,0.105084745762712,0,0.20069204152249134,0,120084,0,0,1,0,10035.200000000001,0,0,4180,1229309.3558,52165.2,0,0,9662.7999999999993,325,null,null,4.1399999999999997,0,0,null,null,null,null,null,null,null,null,null,null,null,null,null,null,60619.769658119643,16328.270000000057,78068.87301038063,20532.345593220365,120084,null,67635.711738279118,0,null,null,null,null,null,null,null,null,null,null,null,null,null,"Recoupment Academy"]
[2076,"Cherry Orchard Primary Academy",1,379.25,0,0,0.12874251497006001,0,0.12874251497006001,0,0.134730538922156,5.9880239520958098E-2,5.9880239520958096E-3,8.9820359281437105E-3,6.2874251497005998E-2,0,0,0,0,0,0,0,0.16187050359712199,0,0.26744186046511625,0,120084,0,0,1.0367999999999999,0,12697.6,0,0,4180,1230542.0556000001,46520.34,0,0,12226.4,310,null,null,4.1399999999999997,0,0,null,null,null,null,null,null,null,null,null,null,null,null,null,null,30684.947178143739,16270.154288922171,111141.02055232557,33788.105530575471,120084,null,22259.607040697323,0,null,null,null,null,null,null,null,null,null,null,null,null,null,"Recoupment Academy"]
[2077,"Westgate Primary School",1,235,0,0,0.14468085106383,0,0.20085470085470086,0,0.11111111111111099,0,1.7094017094017099E-2,0.23504273504273501,4.7008547008547001E-2,0,0,0,0,0,0,0,0.23414634146341501,0,0.23243243243243245,0,120084,0,0,1.0367999999999999,0,6297.6,0,0,4180,1008858.0206,43925.58,0,0,6063.9,237,null,null,4.1399999999999997,0,0,null,null,null,null,null,null,null,null,null,null,null,null,null,null,37113.670512820499,15728.740811965814,59852.73432432433,30284.874146341514,120084,null,0,893.16064112551976,null,null,null,null,null,null,null,null,null,null,null,null,null,"Recoupment Academy"]
[2078,"St Nicholas Church of England Primary Academy",1,344,0,0,0.30523255813953498,0,0.34897360703812319,0,0.18023255813953501,2.32558139534884E-2,0.32848837209302301,5.8139534883720902E-2,0,0,0,0,0,0,0,0,1.3559322033898299E-2,0,0.25435540069686413,0,120084,0,0,1,0,7219,0,0,4180,1306348.7153,60439.68,0,0,6951.3,336,null,null,4.1399999999999997,0,0,null,null,null,null,null,null,null,null,null,null,null,null,null,null,70689.709999999977,40003.235425219951,95877.965993031365,2567.2428474576263,120084,null,0,0,null,null,null,null,null,null,null,null,null,null,null,null,null,"Recoupment Academy"]
[2080,"Barming Primary School",1,410,0,0,0.21219512195122001,0,0.21219512195122001,0,0.11330049261083699,0.150246305418719,0,9.8522167487684695E-3,7.38916256157635E-3,0,0,0,0,0,0,0,6.7796610169491497E-2,0,0.25073746312684364,0,120084,0,0,1,0,7560,0,0,4180,1499895,71592.240000000005,0,0,7395,398,null,null,4.1399999999999997,0,0,null,null,null,null,null,null,null,null,null,null,null,null,null,null,29260.579064039346,28991.010000000068,112647.74188790559,15298.976271186435,120084,null,99270.152776868548,0,null,null,null,null,null,null,null,null,null,null,null,null,null,"Recoupment Academy"]
[2081,"Brenzett Church of England Primary School",1,95,0,0,0.28421052631578902,0,0.35802469135802467,0,8.42105263157895E-2,2.1052631578947399E-2,0.52631578947368396,7.3684210526315796E-2,3.1578947368421102E-2,0,0,0,0,0,0,0,0,0,0.33333333333333331,0,120084,0,0,1,0,3891,0,0,4180,412740.65639999998,17988,0,0,3746.8,76,null,null,4.1399999999999997,0,0,null,null,null,null,null,null,null,null,null,null,null,null,null,null,27299.219999999998,11333.933950617284,34699.383333333331,0,120084,null,0,5928.1048185492982,null,null,null,null,null,null,null,null,null,null,null,null,null,"Recoupment Academy"]
[2085,"Royal Rise Primary School",1,176,0,0,0.32954545454545497,0,0.34502923976608185,0,0.27840909090909099,1.13636363636364E-2,0.34659090909090901,0,0,0,0,0,0,0,0,0,0.123287671232877,0,0.265625,0,120084,0,0,1,0,4812.8,0,0,4180,737530.42079999996,35998.834300000002,0,0,4424.0280000000002,171,null,null,4.1399999999999997,0,0,null,null,null,null,null,null,null,null,null,null,null,null,null,null,36090.400000000001,20235.440467836259,51227.247499999998,11942.709041095919,120084,null,0,0,null,null,null,null,null,null,null,null,null,null,null,null,null,"Recoupment Academy"]
[2086,"Bishop Chavasse Primary School",1,254.91666666666666,0,0,0.18894009216589899,0,0.18894009216589899,0,0.288372093023256,4.65116279069767E-3,0.25581395348837199,9.3023255813953504E-3,0,0,0,0,0,0,0,0,2.53164556962025E-2,0,0.21153846153846154,0,120084,0,0,1,0,5734.4,0,0,4180,757261.27439999999,34849.1829,0,0,0,194.16666666666666,null,null,4.1399999999999997,0,0,null,null,null,null,null,null,null,null,null,null,null,null,null,null,43935.83602713178,16049.682553763472,59089.046041666661,3551.989472573835,120084,null,12169.684157552256,0,null,null,null,null,null,null,null,null,null,null,null,null,null,"Recoupment Academy"]
[2087,"Morehall Primary",1,177,0,0,0.305084745762712,0,0.33898305084745761,0,0.42937853107344598,5.6497175141242903E-2,3.3898305084745797E-2,6.21468926553672E-2,4.5197740112994399E-2,2.2598870056497199E-2,0,0,0,0,0,0,4.7945205479452101E-2,0,0.20422535211267606,0,120084,0,0,1,0,5632,0,0,4180,755433.47100000002,32558.28,0,0,5423,181,null,null,4.1399999999999997,0,0,null,null,null,null,null,null,null,null,null,null,null,null,null,null,32597.709999999988,19993.800000000003,39609.770492957745,4670.7754109589077,120084,null,0,0,null,null,null,null,null,null,null,null,null,null,null,null,null,"Recoupment Academy"]
[2090,"Richmond Academy",1,301,0,0,0.56146179401993401,0,0.56146179401993401,0,1.32890365448505E-2,6.6445182724252502E-3,1.66112956810631E-2,4.3189368770764097E-2,0.45847176079734198,0.445182724252492,0,0,0,0,0,0,9.3385214007782102E-2,0,0.36144578313253012,0,120084,0,0,1,0,9318.4,0,0,4180,1402107.3563999999,55403.040000000001,0,0,8972.6,308,null,null,4.1399999999999997,0,0,null,null,null,null,null,null,null,null,null,null,null,null,null,null,157954.59999999998,56315.870000000054,119214.49518072289,15470.8846692607,120084,null,0,0,null,null,null,null,null,null,null,null,null,null,null,null,null,"Recoupment Academy"]
[2092,"Knockhall Primary School",1,383,0,0,0.32114882506527398,0,0.32718894009216593,0,0.29242819843341999,2.61096605744125E-2,1.8276762402088802E-2,7.8328981723237608E-3,5.4830287206266301E-2,0,0,0,0,0,0,0,7.8717201166180806E-2,0,0.33116883116883117,0,120084,0,0,1.0367999999999999,0,11468.8,0,0,4180,1746593.9624999999,80066.880000000005,0,0,11043.2,432,null,null,4.1399999999999997,0,0,null,null,null,null,null,null,null,null,null,null,null,null,null,null,40888.489999999962,41758.172304147469,138984.90525974025,16593.536413994178,120084,null,0,0,null,null,null,null,null,null,null,null,null,null,null,null,null,"Recoupment Academy"]
[2093,"Chilmington Green Primary School",1,101,0,0,0.29702970297029702,0,0.29702970297029702,0,1.9801980198019799E-2,0,5.9405940594059403E-2,9.9009900990098994E-3,0.17821782178217799,0,0,0,0,0,0,0,0.11111111111111099,0,0.2857142857142857,0,120084,0,0,1,0,2534.4,0,0,4180,556483.97219999996,18526.045699999999,0,0,0,120,null,null,4.1399999999999997,0,0,null,null,null,null,null,null,null,null,null,null,null,null,null,null,11893.289999999988,9996.9000000000015,31620.791428571425,6176.5988888888824,120084,null,0,0,null,null,null,null,null,null,null,null,null,null,null,null,null,"Recoupment Academy"]
[2096,"Riverview Junior School",1,476,0,0,0.15546218487395,0,0.15546218487395,0,0.128151260504202,5.2521008403361297E-2,8.8235294117647106E-2,0.11764705882352899,2.1008403361344498E-3,0,0,0,0,0,0,0,3.78151260504202E-2,0,0.2633832976445396,0,120084,0,0,1,0,7321.6,0,0,4180,1825287.82,87241.8,0,0,6537.82,485,null,null,4.1399999999999997,0,0,null,null,null,null,null,null,null,null,null,null,null,null,null,null,62273.51999999996,24659.020000000066,137377.1776445396,9907.0200000000077,120084,null,128966.66235546037,0,null,null,null,null,null,null,null,null,null,null,null,null,null,"Recoupment Academy"]
[2098,"Pilgrims' Way Primary School",1,222,0,0,0.51351351351351304,0,0.52608695652173909,0,2.7027027027027001E-2,0.56306306306306297,3.1531531531531501E-2,9.00900900900901E-2,5.8558558558558599E-2,0,0,0,0,0,0,0,0.17010309278350499,0,0.38983050847457629,0,120084,0,0,1,0,7493.6,0,0,4180,1024485.3662,41552.28,0,0,7493.6,231,null,null,4.1399999999999997,0,0,null,null,null,null,null,null,null,null,null,null,null,null,null,null,51770.919999999991,38918.366347826086,94830.535932203391,20784.315154639153,120084,null,0,0,null,null,null,null,null,null,null,null,null,null,null,null,null,"Recoupment Academy"]
[2099,"Edenbridge Primary School",1,342,0,0,0.37134502923976598,0,0.375,0,0.22807017543859601,5.8479532163742704E-3,0.18421052631578899,0,0,0,0,0,0,0,0,0,2.7586206896551699E-2,0,0.32608695652173914,0,120084,0,0,1.0367999999999999,0,6415.2000000000007,0,0,4180,1324690.7819999999,60235.5,0,0,6415.2,325,null,null,4.1399999999999997,0,0,null,null,null,null,null,null,null,null,null,null,null,null,null,null,43150.3299999999,42736.747500000005,122202.17608695652,5192.6449655172373,120084,null,0,0,null,null,null,null,null,null,null,null,null,null,null,null,null,"Recoupment Academy"]
[2107,"Rosherville Church of England Academy",1,141,0,0,0.290780141843972,0,0.32867132867132864,0,0.47142857142857097,8.5714285714285701E-2,0.221428571428571,0,3.5714285714285698E-2,0,0,0,0,0,0,0,0.22314049586776899,0,0.31531531531531531,0,120084,0,0,1,0,1561.6,0,0,4180,671675.38760000002,25722.84,0,0,1273.6600000000001,143,null,null,4.1399999999999997,0,0,null,null,null,null,null,null,null,null,null,null,null,null,null,null,32649.254999999961,15442.763706293706,48717.341891891891,17316.815950413253,120084,null,0,1687.7098972611711,null,null,null,null,null,null,null,null,null,null,null,null,null,"Recoupment Academy"]
[2110,"Culverstone Green Primary School",1,202,0,0,7.9207920792079195E-2,0,0.12135922330097088,0,2.4752475247524799E-2,2.9702970297029702E-2,4.9504950495049497E-3,2.9702970297029702E-2,0,0,0,0,0,0,0,0,1.1695906432748499E-2,0,0.28313253012048195,0,120084,0,0,1,0,7731.2,0,0,4180,803972.73089999997,37055.279999999999,0,0,7195.25,206,null,null,4.1399999999999997,0,0,null,null,null,null,null,null,null,null,null,null,null,null,null,null,5718.9800000000014,8168.9878640776706,62670.122771084338,1300.3366081871302,120084,null,14232.112756650895,0,null,null,null,null,null,null,null,null,null,null,null,null,null,"Recoupment Academy"]
[2112,"River Mill Primary School",1,142.5,0,0,7.5630252100840303E-2,0,7.5630252100840303E-2,0,8.4033613445378096E-3,0,1.6806722689075598E-2,8.4033613445378096E-3,0.73949579831932799,0,0,0,0,0,0,0,0.40677966101694901,0,0.30769230769230771,0,120084,0,0,1.0367999999999999,0,0,0,0,4180,420674.30820000003,18534,0,0,0,77.5,null,null,4.1399999999999997,0,0,null,null,null,null,null,null,null,null,null,null,null,null,null,null,51862.91092436976,3591.3233193277297,48045.3,31903.962711864395,120084,null,0,0,null,null,null,null,null,null,null,null,null,null,null,null,null,"Recoupment Academy"]
[2114,"Cage Green Primary School",1,277,0,0,0.31046931407942202,0,0.33757961783439489,0,0.31021897810219001,7.2992700729926996E-3,0.226277372262774,0,0,0,0,0,0,0,0,0,3.6290322580645198E-2,0,0.29460580912863071,0,120084,0,0,1,0,7731.2,0,0,4180,1243150.3396000001,56662.2,0,0,8285,315,null,null,4.1399999999999997,0,0,null,null,null,null,null,null,null,null,null,null,null,null,null,null,44730.536240875968,31160.188726114648,89421.197468879676,5532.7510887096832,120084,null,0,0,null,null,null,null,null,null,null,null,null,null,null,null,null,"Recoupment Academy"]
[2117,"Dartford Bridge Community Primary School",1,418,0,0,9.3301435406698593E-2,0,0.1076555023923445,0,7.1942446043165497E-3,2.3980815347721799E-3,8.1534772182254203E-2,2.3980815347721799E-3,2.8776978417266199E-2,0,0,0,0,0,0,0,0.215083798882682,0,0.25287356321839083,0,120084,0,0,1.0367999999999999,0,10050.36,0,0,4180,1638104.5611,76360.08,0,0,26555.56,412,null,null,4.1399999999999997,0,0,null,null,null,null,null,null,null,null,null,null,null,null,null,null,21055.131127098328,14995.35,115824.14850574714,49482.828324022448,120084,null,54830.92691831923,0,null,null,null,null,null,null,null,null,null,null,null,null,null,"Recoupment Academy"]
[2118,"St Katherine's School & Nursery",1,526,0,0,0.224334600760456,0,0.22448979591836735,0,0.16539923954372601,0.40494296577946798,1.9011406844106501E-3,7.6045627376425898E-3,1.9011406844106501E-3,0,0,0,0,0,0,0,1.3245033112582801E-2,0,0.18736842105263157,0,120084,0,0,1,0,14191.49,0,0,4180,2052409.05,97674.84,0,0,16159.05,543,null,null,4.1399999999999997,0,0,null,null,null,null,null,null,null,null,null,null,null,null,null,null,76803.250000000029,39348.342448979594,107994.47743157895,3834.505165562919,120084,null,169290.24495387869,0,null,null,null,null,null,null,null,null,null,null,null,null,null,"Recoupment Academy"]
[2126,"Sunny Bank Primary School",1,241,0,0,0.54356846473028997,0,0.54356846473028997,0,9.9585062240663894E-2,0.45228215767634899,4.9792531120331898E-2,0,1.2448132780083001E-2,0.26970954356846499,0,0,0,0,0,0,9.5477386934673406E-2,0,0.36787564766839376,0,120084,0,0,1,0,24202,0,0,4180,1170436.7079,44610.239999999998,0,0,24202,248,null,null,4.1399999999999997,0,0,null,null,null,null,null,null,null,null,null,null,null,null,null,null,80200.640000000058,43653.129999999961,97148.810725388597,12664.50155778895,120084,null,0,6317.5736285947496,null,null,null,null,null,null,null,null,null,null,null,null,null,"Recoupment Academy"]
[2127,"Paddock Wood Primary Academy",1,607,0,0,0.15321252059308099,0,0.16774193548387098,0,0.15702479338843001,8.2644628099173608E-3,0,0,0,0,0,0,0,0,0,0,1.12781954887218E-2,0,0.23339658444022771,0,120084,0,0,1,0,12083.2,0,0,4180,2295644.4,109546.92,0,0,11894.4,609,null,null,4.1399999999999997,0,0,null,null,null,null,null,null,null,null,null,null,null,null,null,null,21812.018264462844,33929.263612903233,155239.62802656548,3767.895451127818,120084,null,282063.24464494066,0,null,null,null,null,null,null,null,null,null,null,null,null,null,"Recoupment Academy"]
[2129,"Springhead Park Primary School",1,127.08333333333334,0,0,6.08695652173913E-2,0,6.08695652173913E-2,0,6.9565217391304293E-2,0.67826086956521703,3.4782608695652202E-2,0,1.7391304347826101E-2,0,0,0,0,0,0,0,0.161764705882353,0,0.2,0,120084,0,0,1,0,0,0,0,4180,196694.53279999999,18534,0,0,0,34.999999999999993,null,null,4.1399999999999997,0,0,null,null,null,null,null,null,null,null,null,null,null,null,null,null,27192.584420289848,2577.7030797101452,27850.820833333339,11314.696384803925,120084,null,0,64188.702556686767,null,null,null,null,null,null,null,null,null,null,null,null,null,"Recoupment Academy"]
[2131,"Bearsted Primary Academy",1,44.25,0,0,0.102564102564103,0,0.102564102564103,0,7.69230769230769E-2,7.69230769230769E-2,7.69230769230769E-2,5.1282051282051301E-2,2.5641025641025599E-2,0,0,0,0,0,0,0,0,0,0,0,120084,0,0,1,0,0,0,0,4180,189786.31099999999,17988,0,0,0,34.999999999999993,null,null,4.1399999999999997,0,0,null,null,null,null,null,null,null,null,null,null,null,null,null,null,4564.3421153846139,1512.351538461545,0,0,120084,null,0,29956.153139590606,null,null,null,null,null,null,null,null,null,null,null,null,null,"Recoupment Academy"]
[2135,"Horsmonden Primary Academy",1,163,0,0,9.2024539877300596E-2,0,9.6045197740112997E-2,0,6.13496932515337E-3,1.84049079754601E-2,0,0,0,0,0,0,0,0,0,0,3.35570469798658E-2,0,0.2,0,120084,0,0,1,0,3840,0,0,4180,663531.87379999994,30939.360000000001,0,0,3682.6,172,null,null,4.1399999999999997,0,0,null,null,null,null,null,null,null,null,null,null,null,null,null,null,995.68999999999892,5216.8380225988703,35722.101999999999,3010.522483221479,120084,null,5219.337494179621,0,null,null,null,null,null,null,null,null,null,null,null,null,null,"Recoupment Academy"]
[2140,"Ebbsfleet Green Primary School",1,77.5,0,0,0,0,0,0,0.13636363636363599,4.5454545454545497E-2,0,0,0,0,0,0,0,0,0,0,0,0,0.4,0,120084,0,0,1.0367999999999999,0,0,0,0,4180,196694.53279999999,18534,0,0,0,34.999999999999993,null,null,4.1399999999999997,0,0,null,null,null,null,null,null,null,null,null,null,null,null,null,null,3190.2874999999949,0,33968.870000000003,0,120084,null,0,30270.767213142855,null,null,null,null,null,null,null,null,null,null,null,null,null,"Recoupment Academy"]
[2141,"Amherst School",1,377,0,0,2.9177718832891199E-2,0,3.6458333333333336E-2,0,2.6525198938992002E-3,0,0,0,0,0,0,0,0,0,0,0,2.9177718832891199E-2,0,0.13793103448275862,0,120084,0,0,1.0367999999999999,0,5580.8,0,0,4180,1441911.2180000001,70985.22,0,0,5661.2179999999998,383,null,null,4.1399999999999997,0,0,null,null,null,null,null,null,null,null,null,null,null,null,null,null,215.14999999999966,4580.1769270833338,56980.04,6054.28999999999,120084,null,166742.76964999997,0,null,null,null,null,null,null,null,null,null,null,null,null,null,"Recoupment Academy"]
[2143,"Folkestone Primary",1,422,0,0,0.220379146919431,0,0.220379146919431,0,0.10189573459715601,7.10900473933649E-2,8.7677725118483402E-2,8.7677725118483402E-2,0.106635071090047,1.6587677725118499E-2,0,0,0,0,0,0,4.5212765957446797E-2,0,0.2391304347826087,0,120084,0,0,1,0,0,0,0,4180,1679946.0478640585,77377.397275185242,0,0,0,453,null,null,4.1399999999999997,0,0,null,null,null,null,null,null,null,null,null,null,null,null,null,null,74446.909999999887,30990.389999999963,110577.48565217391,10501.324095744678,120084,null,69232.390252081561,0,null,null,null,null,null,null,null,null,null,null,null,null,null,"Recoupment Academy"]
[2172,"Valley Invicta Primary School At East Borough",1,457,0,0,0.159737417943107,0,0.16008771929824561,0,0.23413566739606101,7.6586433260393896E-2,2.1881838074398201E-3,6.5645514223194703E-3,8.7527352297592995E-3,0,0,0,0,0,0,0,0.201511335012594,0,0.21614583333333334,0,120084,0,0,1,0,10188.799999999999,0,0,4180,1712212.1,81665.52,0,0,9712.1,454,null,null,4.1399999999999997,0,0,null,null,null,null,null,null,null,null,null,null,null,null,null,null,35774.889999999978,24379.136030701757,108238.67674479168,50685.789420654794,120084,null,123915.45780385192,0,null,null,null,null,null,null,null,null,null,null,null,null,null,"Recoupment Academy"]
[2180,"South Borough Primary School",1,440,0,0,0.22045454545454499,0,0.22045454545454499,0,0.154897494305239,7.2892938496583098E-2,4.5558086560364497E-3,1.5945330296127599E-2,0.25284738041002303,0,0,0,0,0,0,0,0.25065963060685997,0,0.25833333333333336,0,120084,0,0,1,0,11980.8,0,0,4180,1556570.4639000001,71232.479999999996,0,0,7870.6319999999996,396,null,null,4.1399999999999997,0,0,null,null,null,null,null,null,null,null,null,null,null,null,null,null,79836.787243735802,32323.309999999936,124552.52333333333,60702.643799472251,120084,null,16054.895623458724,0,null,null,null,null,null,null,null,null,null,null,null,null,null,"Recoupment Academy"]
[2183,"Marden Primary Academy",1,270,0,0,0.27407407407407403,0,0.28679245283018867,0,3.7037037037036999E-3,0.38888888888888901,3.7037037037036999E-3,3.7037037037036999E-3,1.85185185185185E-2,0,0,0,0,0,0,0,3.8793103448275898E-2,0,0.26008968609865468,0,120084,0,0,1,0,26624,0,0,4180,1098643.6998000001,49107.24,0,0,28546,273,null,null,4.1399999999999997,0,0,null,null,null,null,null,null,null,null,null,null,null,null,null,null,30766.30000000001,25803.319245283019,76949.588340807168,5764.8607758620747,120084,null,12.351638047737652,0,null,null,null,null,null,null,null,null,null,null,null,null,null,"Recoupment Academy"]
[2223,"Bobbing Village School",1,209,0,0,8.1339712918660295E-2,0,9.6153846153846159E-2,0,7.1770334928229707E-2,0.25837320574162698,9.5693779904306199E-3,4.78468899521531E-3,0,0,0,0,0,0,0,0,4.4692737430167599E-2,0,0.16374269005847952,0,120084,0,0,1,0,1126.4000000000001,0,0,4180,794868.10510000004,37774.800000000003,0,0,889.53800000000001,210,null,null,4.1399999999999997,0,0,null,null,null,null,null,null,null,null,null,null,null,null,null,null,18542.860000000011,6696.6413461538468,37499.684444444443,5141.0730726256979,120084,null,31357.771136775962,0,null,null,null,null,null,null,null,null,null,null,null,null,null,"Recoupment Academy"]
[2229,"Graveney Primary School",1,103,0,0,0.13592233009708701,0,0.13592233009708701,0,0.242718446601942,0.233009708737864,0,3.8834951456310697E-2,1.94174757281553E-2,0,0,0,0,0,0,0,5.8823529411764698E-2,0,0.20454545454545456,0,120084,0,0,1,0,952.32,0,0,4180,426754.29070000001,17988,0,0,827.72199999999998,95,null,null,4.1399999999999997,0,0,null,null,null,null,null,null,null,null,null,null,null,null,null,null,14354.970000000003,4665.2199999999875,23085.881590909092,3334.7158823529403,120084,null,0,0,null,null,null,null,null,null,null,null,null,null,null,null,null,"Recoupment Academy"]
[2230,"Iwade School",1,623,0,0,0.126805778491172,0,0.126805778491172,0,0.10450160771704201,2.8938906752411599E-2,2.2508038585209E-2,6.4308681672025697E-3,6.4308681672025697E-3,3.21543408360129E-3,0,0,0,0,0,0,1.1257035647279499E-2,0,0.22053231939163498,0,120084,0,0,1,0,13926.4,0,0,4180,2252159.6,107388.36,0,0,13409.6,597,null,null,4.1399999999999997,0,0,null,null,null,null,null,null,null,null,null,null,null,null,null,null,29382.633135048269,26325.170000000053,150549.63186311786,3859.9583864915403,120084,null,310528.41661534208,0,null,null,null,null,null,null,null,null,null,null,null,null,null,"Recoupment Academy"]
[2232,"Luddenham School",1,192,0,0,0.22916666666666699,0,0.22916666666666699,0,0.30208333333333298,5.7291666666666699E-2,7.2916666666666699E-2,5.2083333333333296E-3,9.8958333333333301E-2,0,0,0,0,0,0,0,1.8749999999999999E-2,0,0.30952380952380953,0,120084,0,0,1,0,5273.6,0,0,4180,777616.39760000003,34536.959999999999,0,0,5077.8999999999996,192,null,null,4.1399999999999997,0,0,null,null,null,null,null,null,null,null,null,null,null,null,null,null,30561.319999999989,14662.120000000023,65120.045714285712,1981.4039999999998,120084,null,0,0,null,null,null,null,null,null,null,null,null,null,null,null,null,"Recoupment Academy"]
[2233,"Lynsted and Norton Primary School",1,55,0,0,0.218181818181818,0,0.218181818181818,0,0.6,3.6363636363636397E-2,1.8181818181818198E-2,0,0,0,0,0,0,0,0,0,6.9767441860465101E-2,0,0.31818181818181818,0,120084,0,0,1,0,3225.6,0,0,4180,258564.62210000001,17988,0,0,2968.4259999999999,40,null,null,4.1399999999999997,0,0,null,null,null,null,null,null,null,null,null,null,null,null,null,null,8030.6,3998.759999999997,19175.974999999999,2111.9616279069764,120084,null,0,3152.5968577805907,null,null,null,null,null,null,null,null,null,null,null,null,null,"Recoupment Academy"]
[2235,"Minster in Sheppey Primary School",1,549,0,0,0.18761384335154799,0,0.23465703971119134,0,0.34790528233151202,6.7395264116575607E-2,5.8287795992713998E-2,5.28233151183971E-2,0.17122040072859701,2.9143897996356999E-2,0,0,0,0,0,0,4.3956043956043999E-3,0,0.17713004484304934,0,120084,0,0,1,0,20400,0,0,4180,2067900,98214.48,0,0,20400,546,null,null,4.1399999999999997,0,0,null,null,null,null,null,null,null,null,null,null,null,null,null,null,131371.47999999992,42928.926173285203,106557.49029147983,1328.1938901098915,120084,null,146986.61964512512,0,null,null,null,null,null,null,null,null,null,null,null,null,null,"Recoupment Academy"]
[2237,"Queenborough School and Nursery",1,438,0,0,0.34474885844748898,0,0.3480278422273782,0,0.198630136986301,2.0547945205479499E-2,1.5981735159817399E-2,2.0547945205479499E-2,0.36073059360730603,0.31506849315068503,0,0,0,0,0,0,1.5831134564643801E-2,0,0.28150134048257375,0,120084,0,0,1,0,34048,0,0,4180,1803959.9523,78247.8,0,0,34048,435,null,null,4.1399999999999997,0.9,0.32,null,null,null,null,null,null,null,null,null,null,null,null,null,null,188660.97000000003,50796.313225058009,135105.79705093836,3816.4245910290238,120084,null,0,0,null,null,null,null,null,null,null,null,null,null,null,null,null,"Recoupment Academy"]
[2246,"Sheldwich Primary School",1,211,0,0,5.6872037914691899E-2,0,7.9812206572769953E-2,0,6.6350710900473897E-2,7.10900473933649E-2,4.739336492891E-3,0,0,1.4218009478673001E-2,0,0,0,0,0,0,5.6179775280898901E-3,0,0.20725388601036268,0,120084,0,0,1,0,4966.3999999999996,0,0,4180,799782.1,38134.559999999998,0,0,4782.1000000000004,212,null,null,4.1399999999999997,0,0,null,null,null,null,null,null,null,null,null,null,null,null,null,null,9186.3799999999992,5611.7183568075125,47918.64663212435,652.42859550561832,120084,null,40344.116415562516,0,null,null,null,null,null,null,null,null,null,null,null,null,null,"Recoupment Academy"]
[2249,"Regis Manor Primary School",1,463,0,0,0.226781857451404,0,0.26511627906976742,0,0.220302375809935,0.13174946004319699,0.31749460043196498,4.3196544276457903E-3,2.15982721382289E-3,6.4794816414686799E-3,0,0,0,0,0,0,5.8823529411764698E-2,0,0.2262210796915167,0,120084,0,0,1,0,6809.6,0,0,4180,1631478.0141,76808.759999999995,0,0,4541.9459999999999,427,null,null,4.1399999999999997,0,0,null,null,null,null,null,null,null,null,null,null,null,null,null,null,101356.14999999994,40903.595023255817,114771.3441645244,14990.033529411761,120084,null,62763.567282808071,0,null,null,null,null,null,null,null,null,null,null,null,null,null,"Recoupment Academy"]
[2264,"Hampton Primary School",1,663,0,0,0.27149321266968302,0,0.28872180451127821,0,2.1116138763197598E-2,7.3906485671191596E-2,0.242835595776772,4.2232277526395197E-2,4.3740573152337897E-2,0,0,0,0,0,0,0,2.96684118673647E-2,0,0.22280701754385965,0,120084,0,0,1,0,16998.400000000001,0,0,4180,2504987.2000000002,119440.32000000001,0,0,14987.2,664,null,null,4.1399999999999997,0,0,null,null,null,null,null,null,null,null,null,null,null,null,null,null,108070.85999999996,63787.738466165421,161868.29784210527,10826.257748691081,120084,null,173073.53594303841,0,null,null,null,null,null,null,null,null,null,null,null,null,null,"Recoupment Academy"]
[2286,"Hamstreet Primary Academy",1,300,0,0,0.12,0,0.13157894736842105,0,1.00671140939597E-2,6.7114093959731499E-3,7.0469798657718102E-2,3.3557046979865801E-3,6.7114093959731499E-3,0,0,0,0,0,0,0,1.9157088122605401E-2,0,0.30038022813688214,0,120084,0,0,1,0,5017.6000000000004,0,0,4180,1140645.6200000001,54503.64,0,0,4395.62,303,null,null,4.1399999999999997,0,0,null,null,null,null,null,null,null,null,null,null,null,null,null,null,11252.889261744964,13153.815789473685,98744.29277566541,3163.1609195402361,120084,null,63079.321253575734,0,null,null,null,null,null,null,null,null,null,null,null,null,null,"Recoupment Academy"]
[2287,"Rolvenden Primary School",1,94,0,0,9.5744680851063801E-2,0,0.11458333333333333,0,0.57446808510638303,2.1276595744680899E-2,1.0638297872340399E-2,0,0,0,0,0,0,0,0,0,2.53164556962025E-2,0,0.30263157894736842,0,120084,33547.831642189587,0,1,0,2560,0,0,4180,484190.51789999998,18347.759999999998,0,0,0,102,null,null,4.1399999999999997,0,0,null,null,null,null,null,null,null,null,null,null,null,null,null,null,12548.750000000002,3589.1647916666666,31171.772894736841,1309.7888607594921,120084,null,0,0,null,null,null,null,null,null,null,null,null,null,null,null,null,"Recoupment Academy"]
[2288,"Smarden Primary School",1,117,0,0,9.4017094017094002E-2,0,9.4017094017094002E-2,0,8.6956521739130401E-3,1.7391304347826101E-2,4.3478260869565202E-2,0,0,0,0,0,0,0,0,0,9.8039215686274508E-3,0,0.12244897959183673,0,120084,19719.872363150862,0,1,0,3953.75,0,0,4180,519258.28320000001,22485,0,0,3253.8,125,null,null,4.1399999999999997,0,0,null,null,null,null,null,null,null,null,null,null,null,null,null,null,2835.4288695652176,3665.5299999999997,15698.582448979592,631.32970588235287,120084,null,0,0,null,null,null,null,null,null,null,null,null,null,null,null,null,"Recoupment Academy"]
[2290,"Tenterden Infant School",1,141,0,0,0.184397163120567,0,0.184397163120567,0,2.1276595744680899E-2,0.16312056737588701,0,0,0,0,0,0,0,0,0,0,7.2164948453608199E-2,0,0.33962264150943394,0,120084,0,0,1,0,4864,0,0,4180,559374.05039999995,29181.634300000002,0,0,4324.5039999999999,131,null,null,4.1399999999999997,0,0,null,null,null,null,null,null,null,null,null,null,null,null,null,null,6629.5900000000192,8663.9799999999832,52472.910566037732,5600.3601030927803,120084,null,0,0,null,null,null,null,null,null,null,null,null,null,null,null,null,"Recoupment Academy"]
[2307,"Warden House Primary School",1,444,0,0,0.31531531531531498,0,0.32808988764044944,0,0.16930022573363401,0.117381489841986,0.108352144469526,0.28442437923250602,0.10609480812641101,0,0,0,0,0,0,0,0,0,0.26509186351706038,0,120084,0,0,1,0,1007.6,0,0,4180,1715397.4696,79866.720000000001,0,0,1007.6,444,null,null,4.1399999999999997,0,0,null,null,null,null,null,null,null,null,null,null,null,null,null,null,128097.60812641087,48542.250606741574,128972.99181102363,0,120084,null,0,0,null,null,null,null,null,null,null,null,null,null,null,null,null,"Recoupment Academy"]
[2309,"Priory Fields School",1,376,0,0,0.48670212765957399,0,0.48670212765957399,0,7.7127659574468099E-2,0.30053191489361702,0.28191489361702099,0.111702127659574,0.125,3.7234042553191501E-2,0,0,0,0,0,0,0.13981762917933099,0,0.25597269624573377,0,120084,0,0,1,0,6041.6,0,0,4180,1620019.2178,73756.388600000006,0,0,4556.0519999999997,387,null,null,4.1399999999999997,0,0,null,null,null,null,null,null,null,null,null,null,null,null,null,null,128859.97999999988,60981.089999999946,105463.18771331057,28934.788571428508,120084,null,0,0,null,null,null,null,null,null,null,null,null,null,null,null,null,"Recoupment Academy"]
[2310,"Barton Junior School",1,213,0,0,0.42253521126760601,0,0.46118721461187212,0,8.4507042253521097E-2,0.13145539906103301,0.38967136150234699,0.154929577464789,4.69483568075117E-2,3.2863849765258198E-2,0,0,0,0,0,0,4.69483568075117E-2,0,0.24038461538461539,0,120084,0,0,1,0,3942.2,0,0,4180,925591.76379999996,38494.32,0,0,2904.82,214,null,null,4.1399999999999997,0,0,null,null,null,null,null,null,null,null,null,null,null,null,null,null,69003.349999999991,32734.141506849315,56105.53125,5503.899999999996,120084,null,0,0,null,null,null,null,null,null,null,null,null,null,null,null,null,"Recoupment Academy"]
[2313,"St Martin's School",1,220,0,0,0.145454545454545,0,0.16363636363636364,0,0.26818181818181802,3.1818181818181801E-2,5.9090909090909097E-2,7.2727272727272696E-2,2.7272727272727299E-2,1.3636363636363599E-2,0,0,0,0,0,0,1.05263157894737E-2,0,0.24468085106382978,0,120084,0,0,1,0,4096,0,0,4180,861292.09600000002,39573.599999999999,0,0,3700.06,220,null,null,4.1399999999999997,0,0,null,null,null,null,null,null,null,null,null,null,null,null,null,null,31687.109999999986,11996.28,58985.065957446801,1274.5873684210544,120084,null,345.31667413217656,0,null,null,null,null,null,null,null,null,null,null,null,null,null,"Recoupment Academy"]
[2315,"White Cliffs Primary School",1,326,0,0,0.52760736196319002,0,0.52760736196319002,0,2.4539877300613501E-2,7.9754601226993904E-2,0.34355828220858903,1.5337423312883401E-2,2.4539877300613501E-2,0.42944785276073599,0,0,0,0,0,0,6.25E-2,0,0.24723247232472326,0,120084,0,0,1,0,5836.8,0,0,4180,1361713.5432,65056.525699999998,0,0,2404.3180000000002,318,null,null,4.1399999999999997,0,0,null,null,null,null,null,null,null,null,null,null,null,null,null,null,147327.74999999997,57315.559999999983,88316.635940959415,11214.196249999999,120084,null,0,0,null,null,null,null,null,null,null,null,null,null,null,null,null,"Recoupment Academy"]
[2316,"Shatterlocks Infant and Nursery School",1,166,0,0,0.40361445783132499,0,0.40361445783132499,0,9.0361445783132502E-2,9.0361445783132502E-2,0.43975903614457801,0.16265060240963899,6.6265060240963902E-2,4.2168674698795199E-2,0,0,0,0,0,0,7.4766355140186896E-2,0,0.17241379310344829,0,120084,0,0,1,0,6912,0,0,4180,710752.47629999998,29058.857100000001,0,0,6062.634,160,null,null,4.1399999999999997,0,0,null,null,null,null,null,null,null,null,null,null,null,null,null,null,58676.130000000012,22326.409999999982,31361.693103448277,6831.0085981308384,120084,null,0,0,null,null,null,null,null,null,null,null,null,null,null,null,null,"Recoupment Academy"]
[2435,"South Avenue Primary School",1,414,0,0,0.28019323671497598,0,0.30714285714285716,0,0.23913043478260901,0.26570048309178701,9.1787439613526603E-2,0,2.4154589371980701E-3,7.4879227053140096E-2,0,0,0,0,0,0,7.0621468926553702E-2,0,0.19364161849710981,0,120084,0,0,1,0,7884.8,0,0,4180,1596360.7084999999,74830.080000000002,0,0,7190.6719999999996,416,null,null,4.1399999999999997,0,0,null,null,null,null,null,null,null,null,null,null,null,null,null,null,85219.329999999987,42372.574714285714,87845.283988439303,16091.911016949158,120084,null,44937.400280325674,0,null,null,null,null,null,null,null,null,null,null,null,null,null,"Recoupment Academy"]
[2438,"Joydens Wood Junior School",1,332,0,0,7.2289156626505993E-2,0,7.2289156626505993E-2,0,4.51807228915663E-2,4.81927710843374E-2,0,2.7108433734939801E-2,6.0240963855421699E-3,0,0,0,0,0,0,0,3.92749244712991E-2,0,0.17901234567901234,0,120084,0,0,1.0367999999999999,0,2668.9319999999998,0,0,4180,1285088.25,63386.28,0,0,2588.25,342,null,null,4.1399999999999997,0,0,null,null,null,null,null,null,null,null,null,null,null,null,null,null,12348.580000000013,7997.5199999999968,65123.910864197525,7176.6865256797591,120084,null,91023.024530175127,0,null,null,null,null,null,null,null,null,null,null,null,null,null,"Recoupment Academy"]
[2462,"Riverview Infant School",1,352,0,0,0.19034090909090901,0,0.19034090909090901,0,9.9431818181818205E-2,3.97727272727273E-2,7.1022727272727307E-2,0.17897727272727301,0,0,0,0,0,0,0,0,0.15677966101694901,0,0.24576271186440679,0,120084,0,0,1,0,4121.6000000000004,0,0,4180,1290283.7652,60259.8,0,0,3297.41,335,null,null,4.1399999999999997,0,0,null,null,null,null,null,null,null,null,null,null,null,null,null,null,49484.550000000061,22326.409999999993,94793.391186440684,30374.065084745736,120084,null,34660.30372881348,0,null,null,null,null,null,null,null,null,null,null,null,null,null,"Recoupment Academy"]
[2463,"Minterne Community Junior School",1,365,0,0,0.12602739726027401,0,0.15584415584415584,0,0.12876712328767101,6.3013698630137005E-2,0.10958904109589,5.4794520547945197E-3,8.21917808219178E-3,1.0958904109589E-2,0,0,0,0,0,0,1.6438356164383602E-2,0,0.26890756302521007,0,120084,0,0,1,0,6246.4,0,0,4180,1452800.63,76374.102899999998,0,0,5300.63,386,null,null,4.1399999999999997,0,0,null,null,null,null,null,null,null,null,null,null,null,null,null,null,37306.119999999908,18955.16103896104,107551.20672268906,3302.3400000000079,120084,null,88319.402238349925,0,null,null,null,null,null,null,null,null,null,null,null,null,null,"Recoupment Academy"]
[2500,"Joydens Wood Infant School",1,255,0,0,3.1372549019607801E-2,0,3.7656903765690378E-2,0,6.2745098039215699E-2,2.3529411764705899E-2,3.5294117647058802E-2,3.1372549019607801E-2,7.8431372549019607E-3,0,0,0,0,0,0,0,0.18181818181818199,0,0.3253012048192771,0,120084,0,0,1.0367999999999999,0,2688,0,0,4180,963014.32759999996,45222.96,0,0,5176.3999999999996,244,null,null,4.1399999999999997,0,0,null,null,null,null,null,null,null,null,null,null,null,null,null,null,13209.229999999996,3199.8445606694563,90896.101807228901,25518.081818181843,120084,null,0,0,null,null,null,null,null,null,null,null,null,null,null,null,null,"Recoupment Academy"]
[2511,"Hartley Primary Academy",1,418,0,0,7.8947368421052599E-2,0,7.8947368421052599E-2,0,2.3923444976076602E-3,1.43540669856459E-2,0.17942583732057399,0,2.3923444976076602E-3,0,0,0,0,0,0,0,4.7486033519553099E-2,0,0.46666666666666667,0,120084,0,0,1.0367999999999999,0,6574.08,0,0,4180,1572923,77472.12,0,0,5423,418,null,null,4.1399999999999997,0,0,null,null,null,null,null,null,null,null,null,null,null,null,null,null,33023.309999999969,10996.589999999997,213748.20133333333,10924.780279329614,120084,null,0,0,null,null,null,null,null,null,null,null,null,null,null,null,null,"Recoupment Academy"]
[2513,"The Oaks Community Infant School",1,274,0,0,0.127737226277372,0,0.127737226277372,0,0.13868613138686101,7.6642335766423403E-2,0.153284671532847,3.6496350364963498E-3,0,0,0,0,0,0,0,0,3.8043478260869602E-2,0,0.27906976744186046,0,120084,0,0,1,0,4736,0,0,4180,1025870.358,48387.72,0,0,3413.8380000000002,269,null,null,4.1399999999999997,0,0,null,null,null,null,null,null,null,null,null,null,null,null,null,null,31316.970000000019,11663.049999999977,83788.180465116267,5737.2175000000052,120084,null,29090.802034883702,0,null,null,null,null,null,null,null,null,null,null,null,null,null,"Recoupment Academy"]
[2523,"Upton Junior School",1,512,0,0,0.154296875,0,0.17738791423001948,0,8.2191780821917804E-2,7.6320939334638002E-2,5.0880626223092001E-2,3.1311154598825802E-2,3.1311154598825802E-2,5.8708414872798396E-3,0,0,0,0,0,0,1.5625E-2,0,0.25102880658436216,0,120084,0,0,1,0,15400.96,0,0,4180,1923066.72,91558.92,0,0,14316.72,509,null,null,4.1399999999999997,0,0,null,null,null,null,null,null,null,null,null,null,null,null,null,null,46533.275303326802,30264.81902534113,140835.75572016463,4403.12,120084,null,177970.7099511674,0,null,null,null,null,null,null,null,null,null,null,null,null,null,"Recoupment Academy"]
[2531,"Vale View Community School",1,186,0,0,0.44623655913978499,0,0.4494949494949495,0,0.15053763440860199,0.15053763440860199,0.12903225806451599,0.25268817204301097,0.15591397849462399,2.1505376344085999E-2,0,0,0,0,0,0,9.49367088607595E-2,0,0.3380281690140845,0,120084,0,0,1,0,3865.6,0,0,4180,888575.07209999999,35436.36,0,0,3290.9119999999998,197,null,null,4.1399999999999997,0,0,null,null,null,null,null,null,null,null,null,null,null,null,null,null,60352.060000000012,27860.047575757577,68894.609577464784,9718.9120253164547,120084,null,0,0,null,null,null,null,null,null,null,null,null,null,null,null,null,"Recoupment Academy"]
[2534,"Bysing Wood Primary School",1,136,0,0,0.51470588235294101,0,0.51470588235294101,0,0.10294117647058799,8.0882352941176502E-2,0.28676470588235298,7.3529411764705899E-3,0.35294117647058798,0,0,0,0,0,0,0,4.2372881355932202E-2,0,0.42857142857142855,0,120084,0,0,1,0,48154,0,0,4180,770357.15549999999,37968.188600000001,0,0,45608,151,null,null,4.1399999999999997,0,0,null,null,null,null,null,null,null,null,null,null,null,null,null,null,45136.539999999979,23326.099999999991,63867.737142857142,3171.7389830508473,120084,null,0,0,null,null,null,null,null,null,null,null,null,null,null,null,null,"Recoupment Academy"]
[2569,"Briary Primary School",1,307,0,0,0.25732899022801298,0,0.26530612244897961,0,2.2950819672131102E-2,0.26557377049180297,3.2786885245901599E-2,2.2950819672131102E-2,1.3114754098360701E-2,0,0,0,0,0,0,0,1.8382352941176499E-2,0,0.35471698113207545,0,120084,0,0,1,0,13308,0,0,4180,1312666.1886,60799.44,0,0,13317,338,null,null,4.1399999999999997,0,0,null,null,null,null,null,null,null,null,null,null,null,null,null,null,31909.902098360628,27141.243469387762,119327.28550943396,3106.061213235299,120084,null,0,0,null,null,null,null,null,null,null,null,null,null,null,null,null,"Recoupment Academy"]
[2595,"Grove Park Primary School",1,411,0,0,0.14111922141119199,0,0.15130023640661938,0,7.7858880778588796E-2,0.22141119221411201,4.3795620437956199E-2,0,7.2992700729926996E-3,1.4598540145985399E-2,0,0,0,0,0,0,6.25E-2,0,0.25852272727272729,0,120084,0,0,1,0,11366.4,0,0,4180,1578444.6,75189.84,0,0,10944.6,418,null,null,4.1399999999999997,0,0,null,null,null,null,null,null,null,null,null,null,null,null,null,null,43094.970000000008,20721.706666666665,116428.67548295455,14138.143125000001,120084,null,105521.07472537871,0,null,null,null,null,null,null,null,null,null,null,null,null,null,"Recoupment Academy"]
[2596,"Chilton Primary School",1,423,0,0,0.15602836879432599,0,0.15602836879432599,0,0.27186761229314399,4.7281323877068598E-2,7.5650118203309705E-2,5.4373522458628802E-2,2.8368794326241099E-2,3.7825059101654797E-2,0,0,0,0,0,0,1.9283746556473799E-2,0,0.20555555555555555,0,120084,0,0,1,0,7526.4,0,0,4180,1589747.1,79320.531400000007,0,0,7247.1,422,null,null,4.1399999999999997,0,0,null,null,null,null,null,null,null,null,null,null,null,null,null,null,68948.099999999962,21993.179999999968,95277.201499999996,4489.5448760330501,120084,null,118555.94362396715,0,null,null,null,null,null,null,null,null,null,null,null,null,null,"Recoupment Academy"]
[2608,"St Stephen's Junior School",1,423,0,0,0.24349881796690301,0,0.24349881796690301,0,8.9834515366430306E-2,0.115839243498818,1.1820330969267099E-2,0.139479905437352,0.27895981087470501,0,0,0,0,0,0,0,8.2742316784869999E-2,0,0.24934383202099739,0,120084,0,0,1,0,8294.4,0,0,4180,1653718.0718,92569.2,0,0,7888,432,null,null,4.1399999999999997,0,0,null,null,null,null,null,null,null,null,null,null,null,null,null,null,105338.20000000006,34322.689999999995,115573.53661417324,19263.650000000005,120084,null,17734.053385826817,0,null,null,null,null,null,null,null,null,null,null,null,null,null,"Recoupment Academy"]
[2625,"Godinton Primary School",1,415,0,0,6.7469879518072304E-2,0,8.5714285714285715E-2,0,4.09638554216867E-2,3.13253012048193E-2,1.20481927710843E-2,4.8192771084337397E-3,6.5060240963855404E-2,0,0,0,0,0,0,0,4.4817927170868299E-2,0,0.28774928774928776,0,120084,0,0,1,0,10086.4,0,0,4180,1588462.1,75729.48,0,0,9712.1,421,null,null,4.1399999999999997,0,0,null,null,null,null,null,null,null,null,null,null,null,null,null,null,22815.869999999988,11853.467142857144,130852.42037037037,10236.945658263294,120084,null,142302.78682850918,0,null,null,null,null,null,null,null,null,null,null,null,null,null,"Recoupment Academy"]
[2629,"Holywell Primary School",1,199,0,0,0.14572864321608001,0,0.14572864321608001,0,8.0402010050251299E-2,3.0150753768844199E-2,1.5075376884422099E-2,0,0,0,0,0,0,0,0,0,9.8837209302325604E-2,0,0.12422360248447205,0,120084,0,0,1,0,23578,0,0,4180,789266.70979999995,37472.914299999997,0,0,23578,202,null,null,4.1399999999999997,0,0,null,null,null,null,null,null,null,null,null,null,null,null,null,null,6234.3499999999995,9663.6699999999746,27087.978881987576,10825.403313953491,120084,null,29034.487804059056,0,null,null,null,null,null,null,null,null,null,null,null,null,null,"Recoupment Academy"]
[2650,"Dymchurch Primary School",1,175,0,0,0.26285714285714301,0,0.29050279329608941,0,0.57714285714285696,2.2857142857142899E-2,2.8571428571428598E-2,0.04,0,0,0,0,0,0,0,0,1.9736842105263198E-2,0,0.30201342281879195,0,120084,0,0,1,0,4359.6000000000004,0,0,4180,750348.84730000002,32018.639999999999,0,0,4264.45,178,null,null,4.1399999999999997,0,0,null,null,null,null,null,null,null,null,null,null,null,null,null,null,27939.489999999998,16940.743016759778,57914.018456375845,1901.018092105267,120084,null,0,0,null,null,null,null,null,null,null,null,null,null,null,null,null,"Recoupment Academy"]
[2654,"The Canterbury Primary School",1,392,0,0,0.32142857142857101,0,0.32904884318766064,0,4.5918367346938799E-2,0.147959183673469,2.5510204081632699E-2,0.29591836734693899,0.107142857142857,0,0,0,0,0,0,0,0.14202898550724599,0,0.2113564668769716,0,120084,0,0,1,0,16281.6,0,0,4180,1543879.0327000001,70512.960000000006,0,0,15677.4,392,null,null,4.1399999999999997,0,0,null,null,null,null,null,null,null,null,null,null,null,null,null,null,94685.859999999971,42982.386838046274,90786.445678233431,30643.162666666583,120084,null,0,0,null,null,null,null,null,null,null,null,null,null,null,null,null,"Recoupment Academy"]
[2656,"Meopham Community Academy",1,433,0,0,6.4665127020785196E-2,0,7.8160919540229884E-2,0,1.3953488372093001E-2,1.3953488372093001E-2,6.9767441860465098E-3,9.3023255813953504E-3,0,0,0,0,0,0,0,0,5.3619302949061698E-3,0,0.22131147540983606,0,120084,0,0,1,0,6553.6,0,0,4180,1633749.4539999999,78067.92,0,0,6249.4539999999997,434,null,null,4.1399999999999997,0,0,null,null,null,null,null,null,null,null,null,null,null,null,null,null,5905.002255813949,11277.728873563217,105005.30385245902,1277.8491689008051,120084,null,214158.54584926291,0,null,null,null,null,null,null,null,null,null,null,null,null,null,"Recoupment Academy"]
[2657,"Temple Hill Primary Academy",1,785,0,0,0.33121019108280297,0,0.33121019108280297,0,0.11464968152866201,1.14649681528662E-2,0.16942675159235701,1.27388535031847E-2,0.305732484076433,0,0,0,0,0,0,0,0.177650429799427,0,0.33031674208144796,0,120084,0,0,1.0367999999999999,0,9574.4,0,0,4180,3312092.4764,150496.07999999999,0,0,6897.4920000000002,812,null,null,4.1399999999999997,0,0,null,null,null,null,null,null,null,null,null,null,null,null,null,null,194805.99,86639.800000000119,284131.67352941172,76754.960744985699,120084,null,0,0,null,null,null,null,null,null,null,null,null,null,null,null,null,"Recoupment Academy"]
[2658,"Westcourt Primary School",1,299,0,0,0.35117056856187301,0,0.35117056856187301,0,0.18918918918918901,4.3918918918918901E-2,0.26013513513513498,0.35135135135135098,1.68918918918919E-2,0,0,0,0,0,0,0,0.13953488372093001,0,0.21132075471698114,0,120084,0,0,1,0,4787.2,0,0,4180,1274058.8433999999,52524.959999999999,0,0,4357.1000000000004,292,null,null,4.1399999999999997,0,0,null,null,null,null,null,null,null,null,null,null,null,null,null,null,96682.013648648586,34989.150000000009,69236.1240754717,22962.782790697638,120084,null,0,40054.498314575758,null,null,null,null,null,null,null,null,null,null,null,null,null,"Recoupment Academy"]
[2659,"Sandown School",1,386,0,0,0.26424870466321199,0,0.26424870466321199,0,0.38961038961039002,3.11688311688312E-2,2.3376623376623398E-2,0.12467532467532499,3.11688311688312E-2,5.1948051948051896E-3,0,0,0,0,0,0,1.49700598802395E-2,0,0.1873015873015873,0,120084,0,0,1,0,7610.4000000000005,0,0,4180,1470110.4,70153.2,0,0,7610.4,390,null,null,4.1399999999999997,0,0,null,null,null,null,null,null,null,null,null,null,null,null,null,null,67582.053038961138,33989.459999999948,79222.431682539682,3180.3973053892169,120084,null,68505.397973109968,0,null,null,null,null,null,null,null,null,null,null,null,null,null,"Recoupment Academy"]
[2666,"Wrotham Road Primary School",1,409,0,0,0.232273838630807,0,0.232273838630807,0,7.5794621026894896E-2,0.442542787286064,9.7799511002445005E-3,2.6894865525672398E-2,2.4449877750611199E-3,0,0,0,0,0,0,0,0.28977272727272702,0,0.33333333333333331,0,120084,0,0,1,0,5529.6,0,0,4180,1622676.7557999999,73930.679999999993,0,0,4434.5688,411,null,null,4.1399999999999997,0.9,0.22,null,null,null,null,null,null,null,null,null,null,null,null,null,null,60777.130000000056,31656.85000000002,149389.97666666665,65230.596647727216,120084,null,0,0,null,null,null,null,null,null,null,null,null,null,null,null,null,"Recoupment Academy"]
[2676,"West Hill Primary Academy",1,540,0,0,0.10740740740740699,0,0.10740740740740699,0,2.2222222222222199E-2,2.2222222222222199E-2,1.1111111111111099E-2,1.2962962962963001E-2,4.2592592592592599E-2,0,0,0,0,0,0,0,0.16989247311828001,0,0.23042505592841164,0,120084,0,0,1.0367999999999999,0,5734.4,0,0,4180,2030521.6,100083.6,0,0,5521.6,540,null,null,4.1399999999999997,0,0,null,null,null,null,null,null,null,null,null,null,null,null,null,null,22215.460000000003,19327.339999999927,136346.14630872483,50493.843870967867,120084,null,136449.29069369478,0,null,null,null,null,null,null,null,null,null,null,null,null,null,"Recoupment Academy"]
[2677,"Coxheath Primary School",1,405,0,0,0.187654320987654,0,0.2,0,0.360493827160494,1.97530864197531E-2,4.9382716049382698E-3,1.2345679012345699E-2,3.95061728395062E-2,0,0,0,0,0,0,0,4.2134831460674198E-2,0,0.27325581395348836,0,120084,0,0,1,0,5324.8,0,0,4180,1491942.8,71412.36,0,0,3192.8,397,null,null,4.1399999999999997,0,0,null,null,null,null,null,null,null,null,null,null,null,null,null,null,44145.750000000022,26991.63,121267.33691860463,9392.188904494391,120084,null,83300.924176900939,0,null,null,null,null,null,null,null,null,null,null,null,null,null,"Recoupment Academy"]
[2679,"The Brent Primary School",1,584,0,0,0.202054794520548,0,0.22586520947176686,0,0.27397260273972601,2.0547945205479499E-2,0.167808219178082,3.4246575342465799E-3,2.3972602739725998E-2,0,0,0,0,0,0,0,0.119191919191919,0,0.26626016260162599,0,120084,0,0,1.0367999999999999,0,8140.8,0,0,4180,2077331.6040000001,102307.68,0,0,7331.6040000000003,552,null,null,4.1399999999999997,0,0,null,null,null,null,null,null,null,null,null,null,null,null,null,null,85299.819999999949,43954.797231329692,170387.78065040646,38311.591595959537,120084,null,37022.343837525055,0,null,null,null,null,null,null,null,null,null,null,null,null,null,"Recoupment Academy"]
[2684,"Wentworth Primary School",1,606,0,0,0.113861386138614,0,0.12585034013605442,0,0.171617161716172,1.65016501650165E-3,4.9504950495049497E-3,1.65016501650165E-2,1.1551155115511601E-2,0,0,0,0,0,0,0,7.57281553398058E-2,0,0.25494071146245062,0,120084,0,0,1.0367999999999999,0,7680,0,0,4180,2193435.4720000001,108053.22,0,0,7185.4719999999998,583,null,null,4.1399999999999997,0,0,null,null,null,null,null,null,null,null,null,null,null,null,null,null,31647.060000000063,25413.887959183674,169289.96833992095,25258.091766990285,120084,null,171336.57915707264,0,null,null,null,null,null,null,null,null,null,null,null,null,null,"Recoupment Academy"]
[2685,"The Gateway Primary Academy",1,209,0,0,9.5693779904306206E-2,0,0.10476190476190476,0,0.19417475728155301,4.8543689320388302E-3,3.3980582524271802E-2,9.7087378640776708E-3,9.7087378640776708E-3,0,0,0,0,0,0,0,0.18994413407821201,0,0.22033898305084745,0,120084,0,0,1.0367999999999999,0,5376,0,0,4180,853175.05070000002,38921.4,0,0,5176.5,210,null,null,4.1399999999999997,0,0,null,null,null,null,null,null,null,null,null,null,null,null,null,null,13777.249563106776,7296.1501904761908,50461.137118644067,21849.560558659188,120084,null,0,0,null,null,null,null,null,null,null,null,null,null,null,null,null,"Recoupment Academy"]
[2686,"Furley Park Primary Academy",1,578,0,0,0.119377162629758,0,0.13388429752066117,0,4.3402777777777797E-2,2.6041666666666699E-2,1.7361111111111101E-2,3.4722222222222199E-3,3.4722222222222203E-2,0,0,0,0,0,0,0,8.8235294117647106E-2,0,0.19639278557114229,0,120084,0,0,1,0,14363.34,0,0,4180,2293705.4,109367.03999999999,0,0,13705.4,608,null,null,4.1399999999999997,0,0,null,null,null,null,null,null,null,null,null,null,null,null,null,null,23864.144895833331,25787.044859504138,124386.36448897795,28069.890000000014,120084,null,274234.21575568453,0,null,null,null,null,null,null,null,null,null,null,null,null,null,"Recoupment Academy"]
[3019,"Shorne Church of England Primary School",1,210,0,0,1.9047619047619001E-2,0,2.8571428571428571E-2,0,1.9047619047619001E-2,2.3809523809523801E-2,5.2380952380952403E-2,4.2857142857142899E-2,0,0,0,0,0,0,0,0,1.1111111111111099E-2,0,0.21666666666666667,0,120084,0,0,1,0,4096,0,0,4180,783800.88399999996,37415.040000000001,0,0,3800.884,208,null,null,4.1399999999999997,0,0,null,null,null,null,null,null,null,null,null,null,null,null,null,null,10682.480000000005,1999.38,49857.534999999996,1284.243333333332,120084,null,42485.381666666566,0,null,null,null,null,null,null,null,null,null,null,null,null,null,"Recoupment Academy"]
[3021,"Stone St Mary's CofE Primary School",1,636,0,0,0.18553459119496901,0,0.18553459119496901,0,9.1194968553459099E-2,2.51572327044025E-2,8.9622641509433998E-2,3.1446540880503099E-3,1.7295597484276701E-2,0,0,0,0,0,0,0,8.7912087912087905E-2,0,0.27724665391969405,0,120084,0,0,1.0367999999999999,0,11059.2,0,0,4180,2388148.7999999998,117505.56,0,0,10648.8,634,null,null,4.1399999999999997,0,0,null,null,null,null,null,null,null,null,null,null,null,null,null,null,46147.359999999986,39321.140000000101,193215.88795411086,30773.45406593406,120084,null,117163.21940961706,0,null,null,null,null,null,null,null,null,null,null,null,null,null,"Recoupment Academy"]
[3025,"Chiddingstone Church of England School",1,209,0,0,4.7846889952153103E-2,0,4.7846889952153103E-2,0,4.85436893203883E-2,0,1.94174757281553E-2,0,0,0,0,0,0,0,0,0,5.5865921787709499E-3,0,0.08,0,120084,0,0,1.0367999999999999,0,2534.4,0,0,4180,789940.35,38921.4,0,0,2440.35,210,null,null,4.1399999999999997,0,0,null,null,null,null,null,null,null,null,null,null,null,null,null,null,3847.8929126213538,3332.2999999999997,18321.274399999998,642.63413407821224,120084,null,46975.387556061862,0,null,null,null,null,null,null,null,null,null,null,null,null,null,"Recoupment Academy"]
[3059,"St Mark's Church of England Primary School, Eccles",1,135,0,0,0.125925925925926,0,0.125925925925926,0,2.96296296296296E-2,1.48148148148148E-2,0,7.4074074074074103E-3,1.48148148148148E-2,0,0,0,0,0,0,0,0,0,0.2767857142857143,0,120084,0,0,1,0,4582.3999999999996,0,0,4180,552412.32120000001,23263.114300000001,0,0,4412.3500000000004,127,null,null,4.1399999999999997,0,0,null,null,null,null,null,null,null,null,null,null,null,null,null,null,2776.929999999998,5664.9100000000035,40944.620089285716,0,120084,null,0,7207.9642824662151,null,null,null,null,null,null,null,null,null,null,null,null,null,"Recoupment Academy"]
[3086,"West Malling Church of England Primary School and McGinty Speech and Language Centre",1,194,0,0,0.19072164948453599,0,0.19072164948453599,0,0.27319587628865999,1.03092783505155E-2,0,0.134020618556701,5.1546391752577303E-2,0,0,0,0,0,0,0,2.2471910112359599E-2,0,0.36046511627906974,0,120084,0,0,1,0,3777.2,0,0,4180,851509.37950000004,37774.800000000003,0,0,3777.2,210,null,null,4.1399999999999997,0,0,null,null,null,null,null,null,null,null,null,null,null,null,null,null,28254.670000000009,12329.509999999993,76627.45093023256,2399.45303370787,120084,null,0,0,null,null,null,null,null,null,null,null,null,null,null,null,null,"Recoupment Academy"]
[3106,"Eastchurch Church of England Primary School",1,373,0,0,0.33243967828418203,0,0.33243967828418203,0,9.7035040431266803E-2,0,1.07816711590297E-2,0.51482479784366597,0.32614555256064698,2.6954177897574101E-2,0,0,0,0,0,0,2.7355623100304E-2,0,0.34177215189873417,0,120084,0,0,1,33000,77824,0,0,4180,1793630.2952000001,74110.559999999998,0,0,77824,412,null,null,4.1399999999999997,0,0,null,null,null,null,null,null,null,null,null,null,null,null,null,null,159012.61455525609,41320.519999999968,139689.86924050632,5615.9855015197672,120084,null,0,0,null,null,null,null,null,null,null,null,null,null,null,null,null,"Recoupment Academy"]
[3110,"Milstead and Frinsted Church of England Primary School",1,97,0,0,0.134020618556701,0,0.16494845360824742,0,8.2474226804123696E-2,0.15463917525773199,2.06185567010309E-2,4.1237113402061903E-2,0,0,0,0,0,0,0,0,0,0,0.26666666666666666,0,120084,0,0,1,0,1132.4359999999999,0,0,4180,448967.52230000001,22999.491399999999,0,0,1010.178,97,null,null,4.1399999999999997,0,0,null,null,null,null,null,null,null,null,null,null,null,null,null,null,8225.7200000000012,5331.68,28343.917333333335,0,120084,null,0,4704.2325451666256,null,null,null,null,null,null,null,null,null,null,null,null,null,"Recoupment Academy"]
[3112,"Selling Church of England Primary School",1,131,0,0,0.15267175572519101,0,0.15267175572519101,0,7.6335877862595394E-2,8.3969465648855005E-2,0,0,0,0,0,0,0,0,0,0,1.63934426229508E-2,0,0.24369747899159663,0,120084,0,0,1,0,2141.99999999999,0,0,4180,565214.02289999998,24463.68,0,0,2071.732,136,null,null,4.1399999999999997,0,0,null,null,null,null,null,null,null,null,null,null,null,null,null,null,5013.4800000000005,6664.6000000000076,34981.766638655463,1181.9850819672115,120084,null,0,0,null,null,null,null,null,null,null,null,null,null,null,null,null,"Recoupment Academy"]
[3119,"Adisham Church of England Primary School",1,106,0,0,0.122641509433962,0,0.14545454545454545,0,0.26415094339622602,0.122641509433962,0,0,9.4339622641509396E-3,0,0,0,0,0,0,0,1.0989010989011E-2,0,0.10989010989010989,0,120084,0,0,1,0,2867.2,0,0,4180,486416.80050000001,20146.560000000001,0,0,2760.8,112,null,null,4.1399999999999997,0,0,null,null,null,null,null,null,null,null,null,null,null,null,null,null,9881.8699999999826,5137.8007272727273,12763.914285714285,641.11362637362697,120084,null,0,2693.1414505054709,null,null,null,null,null,null,null,null,null,null,null,null,null,"Recoupment Academy"]
[3128,"Sturry Church of England Primary School",1,392,0,0,0.25510204081632698,0,0.25510204081632698,0,0.10459183673469399,0.31122448979591799,7.6530612244898001E-3,7.3979591836734707E-2,3.31632653061225E-2,0,0,0,0,0,0,0,3.8348082595870199E-2,0,0.16969696969696971,0,120084,0,0,1,0,8243.2000000000007,0,0,4180,1507603.068,79714.611399999994,0,0,7603.0680000000002,400,null,null,4.1399999999999997,0,0,null,null,null,null,null,null,null,null,null,null,null,null,null,null,60887.25999999998,33323.000000000058,72891.948606060614,8273.7092625368714,120084,null,84545.442131402233,0,null,null,null,null,null,null,null,null,null,null,null,null,null,"Recoupment Academy"]
[3140,"Kingsnorth Church of England Primary School",1,418,0,0,7.4162679425837305E-2,0,8.076009501187649E-2,0,2.15827338129496E-2,1.67865707434053E-2,2.3980815347721799E-3,4.7961630695443598E-3,4.3165467625899297E-2,0,0,0,0,0,0,0,1.38888888888889E-2,0,0.13725490196078433,0,120084,0,0,1,0,8090,0,0,4180,1582789.4,75549.600000000006,0,0,7789.4,420,null,null,4.1399999999999997,0,0,null,null,null,null,null,null,null,null,null,null,null,null,null,null,13647.108585131893,11249.084940617578,62867.118039215689,3195.3197222222248,120084,null,228982.38871281256,0,null,null,null,null,null,null,null,null,null,null,null,null,null,"Recoupment Academy"]
[3142,"Pluckley Church of England Primary School",1,98,0,0,9.1836734693877597E-2,0,0.14000000000000001,0,1.02040816326531E-2,6.1224489795918401E-2,2.04081632653061E-2,0,0,0,0,0,0,0,0,0,2.3529411764705899E-2,0,0.14117647058823529,0,120084,0,0,1,0,1971.2,0,0,4180,437052.64299999998,17988,0,0,1898.05,100,null,null,4.1399999999999997,0,0,null,null,null,null,null,null,null,null,null,null,null,null,null,null,2596.8100000000009,4571.9156000000003,15160.300235294118,1269.134588235295,120084,null,0,0,null,null,null,null,null,null,null,null,null,null,null,null,null,"Recoupment Academy"]
[3143,"St Michael's Church of England Primary School",1,154,0,0,0.253246753246753,0,0.253246753246753,0,1.9607843137254902E-2,7.1895424836601302E-2,0,6.5359477124183E-3,0,0,0,0,0,0,0,0,5.2631578947368397E-2,0,0.2558139534883721,0,120084,0,0,1,0,3635.2,0,0,4180,623042.64859999996,29582.897099999998,0,0,3500.3,150,null,null,4.1399999999999997,0,0,null,null,null,null,null,null,null,null,null,null,null,null,null,null,3978.5749019607842,12995.969999999988,43168.241395348836,4461.0557894736821,120084,null,0,0,null,null,null,null,null,null,null,null,null,null,null,null,null,"Recoupment Academy"]
[3144,"Tenterden Church of England Junior School",1,209,0,0,0.196172248803828,0,0.21645021645021645,0,3.82775119617225E-2,0.18181818181818199,1.43540669856459E-2,0,0,0,0,0,0,0,0,0,1.43540669856459E-2,0,0.23880597014925373,0,120084,0,0,1,0,5222.3999999999996,0,0,4180,857896.65040000004,43021.594299999997,0,0,5028.6000000000004,227,null,null,4.1399999999999997,0,0,null,null,null,null,null,null,null,null,null,null,null,null,null,null,12838.910000000007,15074.690476190477,54690.371343283579,1651.1699999999962,120084,null,3935.2081805259077,0,null,null,null,null,null,null,null,null,null,null,null,null,null,"Recoupment Academy"]
[3148,"Christ Church Cep Academy, Folkestone",1,420,0,0,0.371428571428571,0,0.40430622009569378,0,4.5238095238095202E-2,0.17619047619047601,8.5714285714285701E-2,0.121428571428571,0.25,0.17142857142857101,0,0,0,0,0,0,0.120786516853933,0,0.26409495548961426,0,120084,0,0,1,0,8687.5983606557293,0,0,4180,1743300.997,107641.56,0,0,8278.9,417,null,null,4.1399999999999997,0,0,null,null,null,null,null,null,null,null,null,null,null,null,null,null,155403.0299999998,56585.323923444979,121542.67833827893,27921.4702247192,120084,null,0,11253.355498449178,null,null,null,null,null,null,null,null,null,null,null,null,null,"Recoupment Academy"]
[3163,"The Downs Church of England Primary School",1,350,0,0,0.308571428571429,0,0.32975871313672922,0,0.254285714285714,0.13714285714285701,1.7142857142857099E-2,5.7142857142857099E-2,0.105714285714286,0,0,0,0,0,0,0,2.25806451612903E-2,0,0.38871473354231972,0,120084,0,0,1,0,7986.6,0,0,4180,1470166.1265,67301.177100000001,0,0,7986.6,372,null,null,4.1399999999999997,0,0,null,null,null,null,null,null,null,null,null,null,null,null,null,null,60592.14,38459.923592493302,149079.68025078368,4349.856451612899,120084,null,0,0,null,null,null,null,null,null,null,null,null,null,null,null,null,"Recoupment Academy"]
[3172,"Northbourne Church of England Primary School",1,121,0,0,8.2644628099173598E-2,0,0.125,0,0.11570247933884301,1.6528925619834701E-2,4.1322314049586799E-2,2.4793388429752101E-2,2.4793388429752101E-2,0,0,0,0,0,0,0,0,0,9.375E-2,0,120084,0,0,1,0,3854.4,0,0,4180,513233.12180000002,23135.245699999999,0,0,3854.4,126,null,null,4.1399999999999997,0,0,null,null,null,null,null,null,null,null,null,null,null,null,null,null,8345.8300000000054,5040.1037500000002,12430.1409375,0,120084,null,0,0,null,null,null,null,null,null,null,null,null,null,null,null,null,"Recoupment Academy"]
[3306,"Brenchley and Matfield Church of England Primary School",1,179,0,0,7.8212290502793297E-2,0,0.10169491525423729,0,1.1235955056179799E-2,0,0,0,0,0,0,0,0,0,0,0,6.2500000000000003E-3,0,0.23841059602649006,0,120084,0,0,1,0,4326.3999999999996,0,0,4180,688696.30119999999,34835.691400000003,0,0,4387.7,177,null,null,4.1399999999999997,0,0,null,null,null,null,null,null,null,null,null,null,null,null,null,null,432.71741573033802,6065.9155932203394,46762.529006622521,615.7488125000001,120084,null,14137.179171926749,0,null,null,null,null,null,null,null,null,null,null,null,null,null,"Recoupment Academy"]
[3313,"Fordcombe Church of England Primary School",1,93,0,0,0.204301075268817,0,0.204301075268817,0,3.2258064516128997E-2,0,0,0,0,0,0,0,0,0,0,0,1.20481927710843E-2,0,0.21333333333333335,0,120084,0,0,1.0367999999999999,0,2772,0,0,4180,444930.11410000001,18534,0,0,542.4,97,null,null,4.1399999999999997,0,0,null,null,null,null,null,null,null,null,null,null,null,null,null,null,645.44999999999936,6331.3699999999944,21740.076799999999,616.70204819276921,120084,null,0,0,null,null,null,null,null,null,null,null,null,null,null,null,null,"Recoupment Academy"]
[3324,"Leybourne, St Peter and St Paul Church of England Primary Academy",1,212,0,0,4.71698113207547E-2,0,6.1611374407582936E-2,0,3.3018867924528301E-2,0,0,4.7169811320754698E-3,4.7169811320754698E-3,0,0,0,0,0,0,0,0,0,0.15469613259668508,0,120084,0,0,1,0,4864,0,0,4180,806804,38494.32,0,0,4304,214,null,null,4.1399999999999997,0,0,null,null,null,null,null,null,null,null,null,null,null,null,null,null,2426.6899999999996,4352.5207582938392,35936.412817679557,0,120084,null,63005.136424026568,0,null,null,null,null,null,null,null,null,null,null,null,null,null,"Recoupment Academy"]
[3329,"Borden Church of England Primary School",1,136,0,0,8.8235294117647106E-2,0,8.8235294117647106E-2,0,0.13970588235294101,8.0882352941176502E-2,2.9411764705882401E-2,0,1.4705882352941201E-2,1.4705882352941201E-2,0,0,0,0,0,0,8.6206896551724102E-3,0,0.12389380530973451,0,120084,0,0,1,0,1254.4000000000001,0,0,4180,537842.20970000001,28949.52,0,0,1064.9760000000001,136,null,null,4.1399999999999997,0,0,null,null,null,null,null,null,null,null,null,null,null,null,null,null,10782.510000000002,3998.7600000000025,18463.239646017701,645.28482758620657,120084,null,0,0,null,null,null,null,null,null,null,null,null,null,null,null,null,"Recoupment Academy"]
[3330,"Bredgar Church of England Primary School",1,104,0,0,6.7307692307692304E-2,0,6.7307692307692304E-2,0,8.6538461538461495E-2,8.6538461538461495E-2,2.8846153846153799E-2,9.6153846153846194E-3,0,0,0,0,0,0,0,0,1.1235955056179799E-2,0,0.10714285714285714,0,120084,0,0,1,0,1147.42,0,7940,4180,431513.16739999998,17988,0,0,880.00800000000004,100,null,null,4.1399999999999997,0,0,null,null,null,null,null,null,null,null,null,null,null,null,null,null,5954.149999999996,2332.61,12210.008571428571,643.15235955056312,120084,null,0,0,null,null,null,null,null,null,null,null,null,null,null,null,null,"Recoupment Academy"]
[3343,"Charing Church of England Primary School",1,91,0,0,0.30769230769230799,0,0.32631578947368423,0,4.3956043956044001E-2,0.41758241758241799,0,0,2.1978021978022001E-2,0,0,0,0,0,0,0,1.2820512820512799E-2,0,0.30666666666666664,0,120084,35351.478504672894,0,1,0,3277,0,0,4180,460933.13540000003,17988,0,0,3155.2,93,null,null,4.1399999999999997,0,0,null,null,null,null,null,null,null,null,null,null,null,null,null,null,11698.100000000011,9895.1771578947373,30579.288133333332,642.12166666666565,120084,null,0,0,null,null,null,null,null,null,null,null,null,null,null,null,null,"Recoupment Academy"]
[3348,"St Eanswythe's Church of England Primary School",1,213,0,0,0.244131455399061,0,0.24413145539906103,0,7.0422535211267595E-2,0.117370892018779,6.5727699530516395E-2,0.2018779342723,0.20657276995305199,8.9201877934272297E-2,0,0,0,0,0,0,8.7431693989070997E-2,0,0.25287356321839083,0,120084,0,0,1,0,4353,0,0,4180,893443.96680000005,42704.674299999999,0,0,4353,213,null,null,4.1399999999999997,0,0,null,null,null,null,null,null,null,null,null,null,null,null,null,null,67326.829999999958,17327.96,59020.439310344831,10249.88590163934,120084,null,0,0,null,null,null,null,null,null,null,null,null,null,null,null,null,"Recoupment Academy"]
[3349,"Folkestone St. Mary's Church of England Primary Academy",1,403,0,0,0.285359801488834,0,0.285359801488834,0,0.18362282878411901,0.10421836228287799,0.11166253101737,8.9330024813895806E-2,0.34491315136476403,3.2258064516128997E-2,0,0,0,0,0,0,1.4492753623188401E-2,0,0.21511627906976744,0,120084,0,0,1,0,9984,0,0,4180,1618373.2350000001,83411.245699999999,0,0,9613.5,408,null,null,4.1399999999999997,0,0,null,null,null,null,null,null,null,null,null,null,null,null,null,null,135479.32999999993,38321.450000000033,94994.339941860468,3214.5966666666659,120084,null,0,0,null,null,null,null,null,null,null,null,null,null,null,null,null,"Recoupment Academy"]
[3353,"Deal Parochial Church of England Primary School",1,204,0,0,0.29901960784313703,0,0.30434782608695654,0,0.29901960784313703,0.11764705882352899,9.8039215686274508E-3,3.4313725490196102E-2,0.20588235294117599,0,0,0,0,0,0,0,1.7045454545454499E-2,0,0.1791907514450867,0,120084,0,0,1,0,1612.8000000000002,0,0,4180,826822.28980000003,37351.440000000002,0,0,1612.8,206,null,null,4.1399999999999997,0,0,null,null,null,null,null,null,null,null,null,null,null,null,null,null,43270.079999999929,20689.236521739131,40055.777341040462,1913.8561363636311,120084,null,0,0,null,null,null,null,null,null,null,null,null,null,null,null,null,"Recoupment Academy"]
[3358,"Sholden Church of England Primary School",1,105,0,0,0.19047619047618999,0,0.19801980198019803,0,0.20952380952381,0.12380952380952399,8.5714285714285701E-2,0.30476190476190501,9.5238095238095195E-3,0,0,0,0,0,0,0,1.1111111111111099E-2,0,0.1111111111111111,0,120084,0,0,1,0,181.4,0,0,4180,457242.2892,19967.6914,0,0,181.4,102,null,null,4.1399999999999997,0,0,null,null,null,null,null,null,null,null,null,null,null,null,null,null,26533.500000000025,6928.5445544554459,12783.983333333332,642.12166666666599,120084,null,0,0,null,null,null,null,null,null,null,null,null,null,null,null,null,"Recoupment Academy"]
[3372,"Maidstone, St John's Church of England Primary School",1,438,0,0,7.5342465753424695E-2,0,7.5342465753424695E-2,0,6.8649885583523997E-3,2.2883295194508001E-2,2.2883295194508001E-3,9.1533180778032002E-3,4.5766590389016001E-3,0,0,0,0,0,0,0,3.4391534391534397E-2,0,0.11590296495956873,0,120084,0,0,1,0,9062.4,0,0,4180,1643726.1,78427.679999999993,0,0,8726.1,436,null,null,4.1399999999999997,0,0,null,null,null,null,null,null,null,null,null,null,null,null,null,null,6404.0611441647579,10996.590000000006,55627.310458221014,8290.7953968253969,120084,null,259438.22300078883,0,null,null,null,null,null,null,null,null,null,null,null,null,null,"Recoupment Academy"]
[3708,"St John's Catholic Primary School, Gravesend",1,758,0,0,0.14511873350923499,0,0.14511873350923499,0,0.28968253968253999,5.8201058201058198E-2,6.2169312169312201E-2,0.21164021164021199,1.0582010582010601E-2,0,0,0,0,0,0,0,0.2421875,0,0.2318840579710145,0,120084,0,0,1,0,9850.8799999999992,0,0,4180,2776715.96,132751.44,0,0,9215.9599999999991,738,null,null,4.1399999999999997,0,0,null,null,null,null,null,null,null,null,null,null,null,null,null,null,153306.1416931219,36655.300000000039,192601.42840579711,101039.56421874999,120084,null,169495.50568233104,0,null,null,null,null,null,null,null,null,null,null,null,null,null,"Recoupment Academy"]
[3714,"St Peter's Catholic Primary School",1,199,0,0,8.0402010050251299E-2,0,8.0402010050251299E-2,0,0.19095477386934701,0.19597989949748701,4.0201005025125601E-2,0,0,1.5075376884422099E-2,0,0,0,0,0,0,0.13483146067415699,0,0.23837209302325582,0,120084,0,0,1,0,488.07,0,0,4180,820092.5307,40722.668599999997,0,0,488.07,211,null,null,4.1399999999999997,0,0,null,null,null,null,null,null,null,null,null,null,null,null,null,null,23466.329999999984,5331.680000000003,51978.996686046514,14767.767640449403,120084,null,0,0,null,null,null,null,null,null,null,null,null,null,null,null,null,"Recoupment Academy"]
[3715,"St Mary's Catholic Primary School, Whitstable",1,406,0,0,7.6354679802955697E-2,0,7.6354679802955697E-2,0,2.7093596059113299E-2,4.92610837438424E-3,3.9408866995073899E-2,4.1871921182266E-2,4.92610837438424E-3,0,0,0,0,0,0,0,1.4084507042253501E-2,0,0.19402985074626866,0,120084,0,0,1,0,8448,0,0,4180,1552000.6,74110.559999999998,0,0,7000.6,412,null,null,4.1399999999999997,0,0,null,null,null,null,null,null,null,null,null,null,null,null,null,null,17972.579999999998,10330.130000000005,86320.508358208957,3147.3005633802768,120084,null,189128.54107841069,0,null,null,null,null,null,null,null,null,null,null,null,null,null,"Recoupment Academy"]
[3716,"St Teresa's Catholic Primary School",1,215,0,0,0.125581395348837,0,0.13488372093023257,0,0.10747663551401899,7.00934579439252E-2,4.67289719626168E-2,2.80373831775701E-2,2.80373831775701E-2,0,0,0,0,0,0,0,0.12972972972972999,0,0.23391812865497075,0,120084,0,0,1,0,5040,0,0,4180,842685.02170000004,38674.199999999997,0,0,4066.5787999999998,215,null,null,4.1399999999999997,0,0,null,null,null,null,null,null,null,null,null,null,null,null,null,null,18564.235280373843,9663.6700000000019,55108.900584795316,15351.418378378408,120084,null,2467.5857564524049,0,null,null,null,null,null,null,null,null,null,null,null,null,null,"Recoupment Academy"]
[3719,"St Joseph's Catholic Primary School, Aylesham",1,108,0,0,0.38888888888888901,0,0.46,0,0.43518518518518501,0.47222222222222199,0,0,0,0,0,0,0,0,0,0,6.7415730337078705E-2,0,0.2,0,120084,0,0,1,0,2534.4,0,0,4180,510690.03749999998,18527.64,0,0,2340.0619999999999,103,null,null,4.1399999999999997,0,0,null,null,null,null,null,null,null,null,null,null,null,null,null,null,23381.229999999989,16554.866400000003,23668.632000000001,4007.3339325842726,120084,null,0,7665.7204477069899,null,null,null,null,null,null,null,null,null,null,null,null,null,"Recoupment Academy"]
[3720,"St Mary's Catholic Primary School",1,187,0,0,0.26203208556149699,0,0.26203208556149699,0,0.36898395721925098,0.18716577540106999,1.06951871657754E-2,4.8128342245989303E-2,4.2780748663101602E-2,0,0,0,0,0,0,0,2.4242424242424201E-2,0,0.20987654320987653,0,120084,0,0,1,0,2688,0,0,4180,791484.76630000002,35436.36,0,0,1379.4,197,null,null,4.1399999999999997,0,0,null,null,null,null,null,null,null,null,null,null,null,null,null,null,32582.660000000011,16328.26999999998,43005.590493827156,2495.101333333329,120084,null,0,0,null,null,null,null,null,null,null,null,null,null,null,null,null,"Recoupment Academy"]
[3740,"St Richard's Catholic Primary School",1,197,0,0,0.22335025380710699,0,0.22335025380710699,0,0.118556701030928,0.268041237113402,0.21134020618556701,9.2783505154639206E-2,0.118556701030928,1.54639175257732E-2,0,0,0,0,0,0,0.16766467065868301,0,0.24539877300613497,0,120084,0,0,1,0,5478.4,0,0,4180,862810.94609999994,36155.879999999997,0,0,3735.16,201,null,null,4.1399999999999997,0,0,null,null,null,null,null,null,null,null,null,null,null,null,null,null,56976.827422680442,14662.120000000026,52973.420858895704,18179.348742515009,120084,null,0,0,null,null,null,null,null,null,null,null,null,null,null,null,null,"Recoupment Academy"]
[3743,"St Simon of England Roman Catholic Primary School, Ashford",1,205,0,0,0.15609756097561001,0,0.19902912621359223,0,7.3170731707317097E-2,7.3170731707317097E-2,5.3658536585365901E-2,4.8780487804877997E-3,0.34634146341463401,0,0,0,0,0,0,0,0.24,0,0.40350877192982454,0,120084,0,0,1,0,506,0,0,4180,889215.78689999995,37164.205699999999,0,0,506,204,null,null,4.1399999999999997,0,0,null,null,null,null,null,null,null,null,null,null,null,null,null,null,45836.87999999999,13596.107524271843,90641.325438596483,27079.187999999998,120084,null,0,0,null,null,null,null,null,null,null,null,null,null,null,null,null,"Recoupment Academy"]
[3744,"St Margaret Clitherow Catholic Primary School",1,398,0,0,5.52763819095477E-2,0,5.52763819095477E-2,0,0.20654911838790899,1.00755667506297E-2,0.10327455919395501,0,0,0,0,0,0,0,0,0,0.14492753623188401,0,0.1580547112462006,0,120084,0,0,1,0,7577.6,0,0,4180,1488432.872,72349.474300000002,0,0,7182.8720000000003,395,null,null,4.1399999999999997,0,0,null,null,null,null,null,null,null,null,null,null,null,null,null,null,35594.343022670051,7331.0599999999959,68930.261155015192,31747.133333333324,120084,null,158744.50248898152,0,null,null,null,null,null,null,null,null,null,null,null,null,null,"Recoupment Academy"]
[3745,"More Park Catholic Primary School",1,204,0,0,9.8039215686274495E-2,0,9.8039215686274495E-2,0,0.17647058823529399,2.9411764705882401E-2,0,8.8235294117647106E-2,3.9215686274509803E-2,0,0,0,0,0,0,0,4.0229885057471299E-2,0,0.14117647058823529,0,120084,0,0,1,0,4889.6000000000004,0,0,4180,785419.08429999999,37415.040000000001,0,0,4708.1499999999996,208,null,null,4.1399999999999997,0,0,null,null,null,null,null,null,null,null,null,null,null,null,null,null,21124.7,6664.5999999999995,31558.175999999999,4516.9937931034519,120084,null,28558.450206896465,0,null,null,null,null,null,null,null,null,null,null,null,null,null,"Recoupment Academy"]
[3751,"St Thomas' Catholic Primary School, Sevenoaks",1,195,0,0,5.6410256410256397E-2,0,5.6410256410256397E-2,0,0,0,0,0,0,0,0,0,0,0,0,0,0.103030303030303,0,0.31372549019607843,0,120084,0,0,1.0367999999999999,0,5140.8,0,0,4180,827162.41079999995,37994.699999999997,0,0,4818.7340000000004,205,null,null,4.1399999999999997,0,0,null,null,null,null,null,null,null,null,null,null,null,null,null,null,0,3665.5299999999997,67035.341176470582,11057.835454545451,120084,null,0,0,null,null,null,null,null,null,null,null,null,null,null,null,null,"Recoupment Academy"]
[3754,"St Augustine's Catholic Primary School",1,290,0,0,0.14827586206896601,0,0.14827586206896601,0,0.18620689655172401,3.4482758620689698E-3,0,7.2413793103448296E-2,3.4482758620689698E-3,0,0,0,0,0,0,0,0.29457364341085301,0,0.233201581027668,0,120084,0,0,1,0,5836.8,0,0,4180,1150506.338,54503.64,0,0,4752.5020000000004,303,null,null,4.1399999999999997,0,0,null,null,null,null,null,null,null,null,null,null,null,null,null,null,21705.119999999999,14328.890000000049,74105.235968379449,47017.812403100819,120084,null,18145.881628519594,0,null,null,null,null,null,null,null,null,null,null,null,null,null,"Recoupment Academy"]
[3889,"St Gregory's Catholic Primary School, Margate",1,253,0,0,0.217391304347826,0,0.217391304347826,0,0.37944664031620601,0.106719367588933,2.3715415019762799E-2,0.17786561264822101,7.5098814229248995E-2,6.3241106719367599E-2,0,0,0,0,0,0,5.9360730593607303E-2,0,0.21052631578947367,0,120084,0,0,1,0,7782.4,0,0,4180,1045567.9916,46768.800000000003,0,0,7493.6,260,null,null,4.1399999999999997,0,0,null,null,null,null,null,null,null,null,null,null,null,null,null,null,69138.099999999991,18327.649999999994,58364.170526315786,8265.9027853881271,120084,null,0,0,null,null,null,null,null,null,null,null,null,null,null,null,null,"Recoupment Academy"]
[3890,"St Joseph's Catholic Primary School, Broadstairs",1,193,0,0,0.18652849740932601,0,0.18652849740932601,0,0.10880829015544,9.3264248704663197E-2,3.6269430051813503E-2,5.1813471502590698E-2,0.15544041450777199,4.1450777202072499E-2,0,0,0,0,0,0,5.1136363636363598E-2,0,0.30864197530864196,0,120084,0,0,1,0,3072,0,0,4180,852157.04330000002,37415.040000000001,0,0,2958,208,null,null,4.1399999999999997,0,0,null,null,null,null,null,null,null,null,null,null,null,null,null,null,35749.859999999979,11996.279999999975,65272.719135802465,5431.9740340909048,120084,null,0,0,null,null,null,null,null,null,null,null,null,null,null,null,null,"Recoupment Academy"]
[3900,"Whitehill Primary School",1,628,0,0,0.24522292993630601,0,0.26947040498442365,0,0.105263157894737,0.140350877192982,3.5087719298245598E-2,0.25518341307815001,1.43540669856459E-2,0,0,0,0,0,0,0,7.1297989031078604E-2,0,0.22986247544204322,0,120084,0,0,1,0,10649.6,0,0,4180,2444148.8645000001,114583.56,0,0,10254.4,637,null,null,4.1399999999999997,0,0,null,null,null,null,null,null,null,null,null,null,null,null,null,null,121843.70864433808,56391.651277258563,158178.38216110019,24643.787714808044,120084,null,130498.43020249504,0,null,null,null,null,null,null,null,null,null,null,null,null,null,"Recoupment Academy"]
[3911,"Hornbeam Primary School",1,234,0,0,0.19658119658119699,0,0.23012552301255229,0,0.226495726495726,0.24786324786324801,4.2735042735042701E-2,0.16239316239316201,4.2735042735042701E-2,0,0,0,0,0,0,0,1.4705882352941201E-2,0,0.27,0,120084,0,0,1,0,4566.4000000000005,0,0,4180,959342.34519999998,42991.32,0,0,4566.3999999999996,239,null,null,4.1399999999999997,0,0,null,null,null,null,null,null,null,null,null,null,null,null,null,null,52271.369999999937,17944.226359832635,69230.748600000006,1893.9891176470619,120084,null,0,0,null,null,null,null,null,null,null,null,null,null,null,null,null,"Recoupment Academy"]
[3912,"Westlands Primary School",1,561,0,0,0.26559714795008899,0,0.27482269503546097,0,0.183928571428571,0.13928571428571401,0.17142857142857101,1.78571428571429E-3,5.3571428571428598E-3,5.3571428571428598E-3,0,0,0,0,0,0,6.5843621399177002E-2,0,0.18061674008810572,0,120084,0,0,1,0,13619.2,0,0,4180,2128113.7999999998,101452.32,0,0,13113.8,564,null,null,4.1399999999999997,0,0,null,null,null,null,null,null,null,null,null,null,null,null,null,null,85727.732357142668,51375.912499999999,111029.98136563877,20330.455308641991,120084,null,152575.86846857646,0,null,null,null,null,null,null,null,null,null,null,null,null,null,"Recoupment Academy"]
[3914,"Oakfield Primary Academy",1,653,0,0,0.23583460949464,0,0.23684210526315788,0,0.15926493108728901,2.1439509954058199E-2,1.07197549770291E-2,0.13935681470137801,3.2159264931087297E-2,0,0,0,0,0,0,0,0.16548042704626301,0,0.23443223443223443,0,120084,0,0,1.0367999999999999,0,13107.2,0,0,4180,2453994.9906000001,121416.99430000001,0,0,12620.8,644,null,null,4.1399999999999997,0,0,null,null,null,null,null,null,null,null,null,null,null,null,null,null,79395.289999999877,51536.650263157899,167745.12761904762,59474.438274021231,120084,null,66037.299345224208,0,null,null,null,null,null,null,null,null,null,null,null,null,null,"Recoupment Academy"]
[3915,"Manor Community Primary School",1,620,0,0,0.26451612903225802,0,0.26451612903225802,0,0.25483870967741901,9.6774193548387094E-2,1.6129032258064498E-2,9.6774193548387101E-3,0.190322580645161,0,0,0,0,0,0,0,0.109433962264151,0,0.26744186046511625,0,120084,0,0,1.0367999999999999,0,21913.599999999999,0,0,4180,2463519.5145999999,115096.14,0,0,21100.400000000001,621,null,null,4.1399999999999997,0,0,null,null,null,null,null,null,null,null,null,null,null,null,null,null,112468.19999999987,54649.719999999994,181693.95581395348,37343.442264150959,120084,null,121.30503262141428,0,null,null,null,null,null,null,null,null,null,null,null,null,null,"Recoupment Academy"]
[5204,"Sutton-At-Hone Church of England Primary School",1,409,0,0,0.119804400977995,0,0.12224938875305623,0,5.3921568627450997E-2,8.0882352941176502E-2,1.22549019607843E-2,7.3529411764705899E-3,1.9607843137254902E-2,0,0,0,0,0,0,0,1.12676056338028E-2,0,0.19034090909090909,0,120084,0,0,1.0367999999999999,0,6092.8,0,0,4180,1557460.648,76730.759999999995,0,0,4960.6480000000001,414,null,null,4.1399999999999997,0,0,null,null,null,null,null,null,null,null,null,null,null,null,null,null,20559.52779411765,16661.5,85305.071903409087,2536.4451830985877,120084,null,120403.88293976765,0,null,null,null,null,null,null,null,null,null,null,null,null,null,"Recoupment Academy"]
[5209,"Allington Primary School",1,465,0,0,6.2365591397849501E-2,0,6.2365591397849501E-2,0,2.3706896551724099E-2,4.3103448275862103E-3,0,4.7413793103448301E-2,4.3103448275862103E-3,0,0,0,0,0,0,0,7.4074074074074098E-2,0,0.20270270270270271,0,120084,0,0,1,0,9323.9999999999909,0,0,4180,1741620.5,83104.56,0,0,9120.5,462,null,null,4.1399999999999997,0,0,null,null,null,null,null,null,null,null,null,null,null,null,null,null,13663.874676724139,9663.6700000000073,103283.72635135135,18957.877777777783,120084,null,226373.52119414666,0,null,null,null,null,null,null,null,null,null,null,null,null,null,"Recoupment Academy"]
[5210,"St Botolph's Church of England Primary School",1,450,0,0,0.17333333333333301,0,0.20935412026726058,0,0.113839285714286,8.2589285714285698E-2,0.20089285714285701,2.9017857142857099E-2,4.2410714285714302E-2,0,0,0,0,0,0,0,0.12987012987013,0,0.23809523809523808,0,120084,0,0,1,0,7987.2,0,0,4180,1695190.8,80946,0,0,7690.8,450,null,null,4.1399999999999997,0,0,null,null,null,null,null,null,null,null,null,null,null,null,null,null,72668.681919642855,31393.383073496661,117403.92857142857,32165.649350649383,120084,null,79452.897084782599,0,null,null,null,null,null,null,null,null,null,null,null,null,null,"Recoupment Academy"]
[5215,"Horton Kirby Church of England Primary School",1,258,0,0,0.22093023255814001,0,0.22348484848484848,0,0.26459143968871601,4.2801556420233498E-2,3.8910505836575902E-3,0,2.3346303501945501E-2,0,0,0,0,0,0,0,3.05676855895196E-2,0,0.26699029126213591,0,120084,0,0,1.0367999999999999,0,5529.6,0,0,4180,1026157.9194,48559.08,0,0,5324.4,262,null,null,4.1399999999999997,0,0,null,null,null,null,null,null,null,null,null,null,null,null,null,null,20835.206614785999,19213.738863636365,75480.467475728146,4340.6303056768484,120084,null,0,0,null,null,null,null,null,null,null,null,null,null,null,null,null,"Recoupment Academy"]
[5216,"Stella Maris Catholic Primary School",1,213,0,0,0.244131455399061,0,0.25233644859813081,0,4.2452830188679201E-2,0.13207547169811301,0.14622641509434001,0.169811320754717,0.13207547169811301,4.71698113207547E-2,0,0,0,0,0,0,7.10382513661202E-2,0,0.27272727272727271,0,120084,0,0,1,0,3814.4,0,0,4180,899638.13529999997,38494.32,0,0,3256.0059999999999,214,null,null,4.1399999999999997,0,0,null,null,null,null,null,null,null,null,null,null,null,null,null,null,57756.236037735849,17910.333925233645,63654.275454545452,8328.0322950819645,120084,null,0,0,null,null,null,null,null,null,null,null,null,null,null,null,null,"Recoupment Academy"]
[5217,"Our Lady of Hartley Catholic Primary School, Hartley, Longfield",1,216,0,0,2.3148148148148098E-2,0,6.9444444444444448E-2,0,6.0185185185185203E-2,1.38888888888889E-2,5.0925925925925902E-2,2.7777777777777801E-2,4.6296296296296302E-3,0,0,0,0,0,0,0,2.1505376344085999E-2,0,0.20218579234972678,0,120084,0,0,1.0367999999999999,0,4275.2,0,0,4180,833718.47629999998,40033.440000000002,0,0,3663.0459999999998,216,null,null,4.1399999999999997,0,0,null,null,null,null,null,null,null,null,null,null,null,null,null,null,11237.87,4998.4500000000007,47854.611147540978,2556.6503225806423,120084,null,14178.687755777948,0,null,null,null,null,null,null,null,null,null,null,null,null,null,"Recoupment Academy"]
[5219,"Wilmington Primary School",1,211,0,0,7.10900473933649E-2,0,7.5471698113207544E-2,0,4.2654028436019002E-2,1.4218009478673001E-2,1.4218009478673001E-2,0,1.8957345971564E-2,0,0,0,0,0,0,0,5.4945054945054897E-3,0,0.21787709497206703,0,120084,0,0,1.0367999999999999,0,4746.0020000000004,0,0,4180,812001.59270000004,38736.06,0,0,4746.0020000000004,209,null,null,4.1399999999999997,0,0,null,null,null,null,null,null,null,null,null,null,null,null,null,null,5849.0800000000054,5306.5305660377362,50374.811899441338,638.08950549450492,120084,null,9184.9825324945596,0,null,null,null,null,null,null,null,null,null,null,null,null,null,"Recoupment Academy"]
[5220,"Halfway Houses Primary School",1,613,0,0,0.239804241435563,0,0.239804241435563,0,0.334975369458128,0.10016420361247901,3.1198686371100199E-2,3.6124794745484398E-2,0.180623973727422,0.14285714285714299,0,0,0,0,0,0,3.3771106941838699E-2,0,0.28517110266159695,0,120084,0,0,1,0,19353.599999999999,0,0,4180,2187532.1913999999,103970.64,0,0,18635.400000000001,578,null,null,4.1399999999999997,0,0,null,null,null,null,null,null,null,null,null,null,null,null,null,null,184823.64706075532,48984.810000000041,191551.42870722435,11394.002363977503,120084,null,41721.861868042819,0,null,null,null,null,null,null,null,null,null,null,null,null,null,"Recoupment Academy"]
[5202,"Holy Trinity Church of England Voluntary Aided Primary School",1,417,0,0,0.17026378896882499,0,0.17026378896882499,0,0.189448441247002,0.32613908872901698,2.3980815347721798E-2,4.3165467625899297E-2,9.5923261390887301E-3,0,0,0,0,0,0,0,0.31436314363143603,0,0.28749999999999998,0,120084,0,0,1,0,9830,0,0,4180,1733098.5183000001,78967.320000000007,0,0,9830,439,0,null,4.1399999999999997,0,0.17,null,null,null,null,null,null,null,null,null,null,null,null,null,null,66401,23659.33,131369.13,72150.31,120084,null,6861.49,0,null,null,null,null,null,null,null,null,null,null,null,null,null,"Recoupment Academy"]
[3173,"Kingsdown and Ringwould CofE Primary School",1,218,0,0,0.123853211009174,0,0.123853211009174,0,0.11009174311926601,1.8348623853211E-2,1.3761467889908299E-2,1.3761467889908299E-2,1.3761467889908299E-2,0,0,0,0,0,0,0,2.6595744680851099E-2,0,7.4866310160427801E-2,0,120084,0,0,1,0,21707,0,0,4180,823084,38494.32,0,0,20584,214,0,null,4.1399999999999997,0,0,null,null,null,null,null,null,null,null,null,null,null,null,null,null,10197,8997.2099999999991,17883.900000000001,3191.09,120084,null,64146.99,0,null,null,null,null,null,null,null,null,null,null,null,null,null,"Recoupment Academy"]
[5222,"St Joseph's Catholic Primary School, Northfleet",1,210,0,0,8.0952380952380998E-2,0,9.2050209205020925E-2,0,0.143540669856459,0.17703349282296699,0.105263157894737,5.7416267942583699E-2,6.2200956937799E-2,0,0,0,0,0,0,0,0.117977528089888,0,0.19318181818181818,0,120084,0,0,1,0,4586.3999999999996,0,0,4180,941475.12600000005,43171.199999999997,0,0,4358.8999999999996,240,null,null,4.1399999999999997,0,0,null,null,null,null,null,null,null,null,null,null,null,null,null,null,36805.815789473701,6441.517154811716,44453.396590909091,13636.066853932627,120084,null,0,0,null,null,null,null,null,null,null,null,null,null,null,null,null,"Recoupment Academy"]
[5224,"All Soul's Church of England Primary School",1,260,0,0,0.33846153846153798,0,0.33846153846153798,0,0.36923076923076897,3.4615384615384603E-2,0,3.4615384615384603E-2,2.3076923076923099E-2,7.6923076923076901E-3,0,0,0,0,0,0,8.15450643776824E-2,0,0.17857142857142858,0,120084,0,0,1,0,4736,0,0,4180,1072305.5608999999,50546.28,0,0,0,281,null,null,4.1399999999999997,0,0,null,null,null,null,null,null,null,null,null,null,null,null,null,null,31096.649999999987,29324.239999999958,50875.035714285717,11669.212875536479,120084,null,0,0,null,null,null,null,null,null,null,null,null,null,null,null,null,"Recoupment Academy"]
[5228,"St Georges CofE (Aided) Primary School",1,386,0,0,0.15025906735751299,0,0.16071428571428573,0,0.44041450777202101,5.9585492227979299E-2,3.6269430051813503E-2,0.124352331606218,8.8082901554404097E-2,5.1813471502590698E-2,0,0,0,0,0,0,1.17302052785924E-2,0,0.3045977011494253,0,120084,0,0,1,0,15770,0,0,4180,1508368.8673,69973.320000000007,0,0,15184.4,389,null,null,4.1399999999999997,0,0,null,null,null,null,null,null,null,null,null,null,null,null,null,null,98248.400000000096,20672.161071428574,128834.84287356322,2492.0884457478055,120084,null,22486.327609260217,0,null,null,null,null,null,null,null,null,null,null,null,null,null,"Recoupment Academy"]
[4000,"St Augustine Academy",2,0,459,290,0,0.23097463284379199,0,0.30393487109905021,0,0,0,0,0,0,0.164218958611482,5.4739652870494003E-2,1.6021361815754299E-2,5.0734312416555398E-2,7.2096128170894502E-2,0,0,1.37741046831956E-2,0,0.2893235759537709,117882.46,0,0,1,0,34308.67,0,0,5415,4005758.1664999998,200438.46,0,0,37182.042000000001,757,null,null,4.1399999999999997,0,0,null,null,null,null,null,null,null,null,null,null,null,null,null,null,122851.50999999998,138735.04434192672,359978.95082209317,15331.184022038575,117882.46,null,0,0,null,null,null,null,null,null,null,null,null,null,null,null,null,"Recoupment Academy"]
[4001,"The Ebbsfleet Academy",2,0,353,268,0,0.243156199677939,0,0.33544303797468356,0,0,0,0,0,0,0.16774193548387101,0.130645161290323,5.32258064516129E-2,2.09677419354839E-2,0.111290322580645,1.6129032258064501E-3,0,9.9838969404186795E-2,0,0.24674626983494102,117882.46,0,0,1.0367999999999999,0,25088,1306093.7971946842,0,5415,4815857.8372999998,167486.92000000001,0,0,24157,614,null,null,4.1399999999999997,0,0,null,null,null,null,null,null,null,null,null,null,null,null,null,null,141296.88120967749,126950.44044303797,254538.60586498561,92134.48,117882.46,null,0,0,null,null,null,null,null,null,null,null,null,null,null,null,null,"Recoupment Academy"]
[4002,"The Sittingbourne School",2,0,816,511,0,0.32856066314996202,0,0.42663476874003192,0,0,0,0,0,0,0.22415094339622599,0.18339622641509401,9.2075471698113198E-2,4.7547169811320802E-2,9.5094339622641494E-2,0.12905660377358499,0,1.66288737717309E-2,0,0.29531445674548912,117882.46,0,0,1,0,62617.599999999999,0,0,5415,6933680.1686000004,345900.40289999999,0,0,49516.92,1245,null,null,4.1399999999999997,0,0,null,null,null,null,null,null,null,null,null,null,null,null,null,null,538149.41673962248,345025.34397926636,650979.1750576559,32791.724686318943,117882.46,null,0,0,null,null,null,null,null,null,null,null,null,null,null,null,null,"Recoupment Academy"]
[4003,"High Weald Academy",2,0,160,96,0,0.2578125,0,0.33067729083665337,0,0,0,0,0,0,0.13671875,2.34375E-2,1.171875E-2,3.90625E-3,0,0,0,7.8431372549019607E-3,0,0.37675256310297423,117882.46,0,70048.3,1,0,20582.400000000001,0,0,5415,1496065.8208999999,66989.34,0,0,19818.599999999999,253,null,null,4.1399999999999997,0,0,null,null,null,null,null,null,null,null,null,null,null,null,null,null,15721.11,51590.3133067729,160216.64965737899,2983.7352156862744,117882.46,null,0,0,null,null,null,null,null,null,null,null,null,null,null,null,null,"Recoupment Academy"]
[4004,"Meopham School",2,0,510,296,0,0.13275434243176201,0,0.21774193548387097,0,0,0,0,0,0,5.21739130434783E-2,4.9689440993788803E-2,4.3478260869565202E-2,3.8509316770186298E-2,6.2111801242236003E-3,0,0,0,0,0.22359938484943823,117882.46,0,0,1,0,43008,0,0,5415,3740892.5451000002,201328.29430000001,0,0,20213,739,null,null,4.1399999999999997,0,0,null,null,null,null,null,null,null,null,null,null,null,null,null,null,72991.790534161468,106954.965,299376.08943401324,0,117882.46,null,36501.615031825335,0,null,null,null,null,null,null,null,null,null,null,null,null,null,"Recoupment Academy"]
[4006,"Trinity School",2,0,545,303,0,0.12853773584905701,0,0.16347381864623245,0,0,0,0,0,0,3.4238488783943297E-2,5.9031877213695403E-3,8.2644628099173608E-3,2.36127508854782E-3,3.5419126328217199E-3,0,0,4.7169811320754698E-3,0,0.19849875630094019,117882.46,0,0,1.0367999999999999,0,39424,0,0,5415,3933683.07,212495.62,0,0,38683.07,779,null,null,4.1399999999999997,0,0,null,null,null,null,null,null,null,null,null,null,null,null,null,null,18459.788618654067,84482.720204342273,279617.98852630559,5944.1599999999971,117882.46,null,3808.3404122435022,0,null,null,null,null,null,null,null,null,null,null,null,null,null,"Recoupment Academy"]
[4007,"Wye School",2,0,318,185,0,0.13717693836978101,0,0.19400000000000001,0,0,0,0,0,0,1.7928286852589601E-2,5.1792828685259001E-2,1.9920318725099601E-2,4.1832669322709203E-2,1.5936254980079698E-2,1.9920318725099601E-3,0,9.9403578528827006E-3,0,0.26314085551482891,117882.46,0,22648.950333333341,1,0,31197.74,0,0,5415,2581083.2787000001,131595.66,0,0,20851.682000000001,497,null,null,4.1399999999999997,0,0,null,null,null,null,null,null,null,null,null,null,null,null,null,null,39019.884322709186,59469.398260000002,219870.88896414763,7430.1999999999971,117882.46,null,0,0,null,null,null,null,null,null,null,null,null,null,null,null,null,"Recoupment Academy"]
[4009,"Hadlow Rural Community School",2,0,234,155,0,0.17994858611825201,0,0.24258760107816713,0,0,0,0,0,0,0.14432989690721601,9.0206185567010294E-2,5.9278350515463901E-2,1.28865979381443E-2,5.1546391752577301E-3,0,0,0,0,0.33384756122530823,117882.46,0,0,1,0,19555.2,0,0,5415,1987289.4546000001,97439.039999999994,0,0,19128.400000000001,368,null,null,4.1399999999999997,0,0,null,null,null,null,null,null,null,null,null,null,null,null,null,null,49898.333350515393,57509.822911051211,215729.36955915787,0,117882.46,null,0,0,null,null,null,null,null,null,null,null,null,null,null,null,null,"Recoupment Academy"]
[4012,"The Leigh UTC",2,0,381,168,0,0.23497267759562801,0,0.32577319587628867,0,0,0,0,0,0,0.11580882352941201,4.4117647058823498E-2,0.11764705882352899,2.38970588235294E-2,9.7426470588235295E-2,0,0,1.3435700575815701E-2,0,0.24745254312347786,117882.46,0,0,1.0367999999999999,0,58368,0,0,5415,2728137.6867999998,135026.1,0,0,35794.305999999997,495,null,null,4.1399999999999997,0,0,null,null,null,null,null,null,null,null,null,null,null,null,null,null,111937.68893382343,108996.24136082474,225670.98832771307,10961.327677543155,117882.46,null,0,0,null,null,null,null,null,null,null,null,null,null,null,null,null,"Recoupment Academy"]
[4013,"St Edmund's Catholic School",2,0,345,203,0,0.26824817518248201,0,0.37176938369781309,0,0,0,0,0,0,0.107861060329068,0.15539305301645301,0.221206581352834,6.94698354661792E-2,0.11334552102376599,5.4844606946983503E-2,0,1.27737226277372E-2,0,0.30518960526753319,117882.46,0,0,1,0,18439.68,0,0,5415,2819708.8417000002,132934.90289999999,0,0,17088,498,null,null,4.1399999999999997,0,0,null,null,null,null,null,null,null,null,null,null,null,null,null,null,216341.80431444247,124158.9436978131,277818.88304804603,10402.279999999979,117882.46,null,0,0,null,null,null,null,null,null,null,null,null,null,null,null,null,"Recoupment Academy"]
[4015,"The Lenham School",2,0,433,160,0,0.16020236087689699,0,0.2462686567164179,0,0,0,0,0,0,2.87162162162162E-2,4.72972972972973E-2,2.87162162162162E-2,8.4459459459459499E-3,3.37837837837838E-2,0,0,1.0221465076660999E-2,0,0.3351593680328252,117882.46,0,1634.46033333334,1,0,23859.200000000001,0,0,5415,2844666.2807999998,143510.76,0,0,22973.8,542,null,null,4.1399999999999997,0,0,null,null,null,null,null,null,null,null,null,null,null,null,null,null,43604.161469594597,88999.519925373126,330154.72813023487,9007.3770357751382,117882.46,null,0,0,null,null,null,null,null,null,null,null,null,null,null,null,null,"Recoupment Academy"]
[4016,"The Charles Dickens School",2,0,683,432,0,0.27982062780269101,0,0.375,0,0,0,0,0,0,6.2836624775583494E-2,0.174147217235189,6.6427289048474003E-2,6.7324955116696603E-2,0.12567324955116699,9.5152603231597799E-2,0,4.49236298292902E-3,0,0.27778158487541732,117882.46,0,0,1,0,46082.77,0,0,5415,6026296.3284,292317.12,0,0,49926.127999999997,1104,null,null,4.1399999999999997,0,0,null,null,null,null,null,null,null,null,null,null,null,null,null,null,379877.55736086203,254817.91874999998,514505.21814778785,7443.5516621743018,117882.46,null,0,0,null,null,null,null,null,null,null,null,null,null,null,null,null,"Recoupment Academy"]
[4019,"School of Science and Technology Maidstone",2,0,339,0,0,5.2083333333333301E-2,0,5.2083333333333301E-2,0,0,0,0,0,0,7.8534031413612607E-2,1.5706806282722498E-2,3.1413612565444997E-2,2.6178010471204199E-2,1.5706806282722498E-2,0,0,6.13496932515337E-3,0,0.12384790906847867,117882.46,0,0,1,0,0,0,0,5215,391305.87589999998,31773.599999999999,0,0,0,69.999999999999986,null,null,4.1399999999999997,0,0,null,null,null,null,null,null,null,null,null,null,null,null,null,null,25869.196492146591,10760.248437499993,69742.874300957774,3090.5985276073598,117882.46,null,52995.757241788189,74472.449920364423,null,null,null,null,null,null,null,null,null,null,null,null,null,"Recoupment Academy"]
[4021,"Turner Free School",2,0,512.16666666666663,69.416666666666657,0,0.28361344537815097,0,0.38795986622073581,0,0,0,0,0,0,0.191176470588235,9.0336134453781497E-2,4.6218487394957999E-2,8.1932773109243698E-2,0.11764705882352899,2.5210084033613401E-2,0,6.3025210084033598E-3,0,0.22009920408384301,117882.46,0,0,1,0,29902,0,0,5215,2275173.5236,109111.2257,0,0,18390.128799999999,432.08333333333331,null,null,4.1399999999999997,0,0,null,null,null,null,null,null,null,null,null,null,null,null,null,null,161203.50047794092,137506.29557413599,212638.49476003685,5446.9922058823513,117882.46,null,0,0,null,null,null,null,null,null,null,null,null,null,null,null,null,"Recoupment Academy"]
[4023,"Goodwin Academy",2,0,527,223,0,0.28266666666666701,0,0.37209302325581395,0,0,0,0,0,0,0.25333333333333302,0.121333333333333,4.8000000000000001E-2,0.121333333333333,8.6666666666666697E-2,2.66666666666667E-3,0,5.3619302949061698E-3,0,0.27356542169633014,117882.46,0,0,1,0,45056,0,0,5415,3797646.3113000002,184551.66,0,0,43384,697,null,null,4.1399999999999997,0,0,null,null,null,null,null,null,null,null,null,null,null,null,null,null,220960.40999999968,170073.48837209301,340826.95192880684,5976.0321715817736,117882.46,null,0,0,null,null,null,null,null,null,null,null,null,null,null,null,null,"Recoupment Academy"]
[4024,"Stone Lodge School",2,0,342.08333333333337,0,0,0.170833333333333,0,0.27500000000000002,0,0,0,0,0,0,0.22916666666666699,1.2500000000000001E-2,0.104166666666667,1.2500000000000001E-2,4.1666666666666699E-2,0,0,8.4388185654008397E-3,0,0.1562005663898747,117882.46,0,0,1.0367999999999999,0,0,0,0,5215,975800.52549999999,30824.14,0,0,0,185.91666666666669,null,null,4.1399999999999997,0,0,null,null,null,null,null,null,null,null,null,null,null,null,null,null,59172.349201389006,57330.857604166675,88761.77628396322,4289.8693389592108,117882.46,null,0,0,null,null,null,null,null,null,null,null,null,null,null,null,null,"Recoupment Academy"]
[4031,"Orchards Academy",2,0,366,175,0,0.29759704251386299,0,0.37546468401486988,0,0,0,0,0,0,0.13308687615526801,0.105360443622921,1.47874306839187E-2,8.50277264325323E-2,0.34750462107208901,0,0,1.47874306839187E-2,0,0.27387339298471636,117882.46,0,0,1.0367999999999999,0,15360,0,0,5415,3076935.1357999998,147301.20000000001,0,0,15369.8,540,null,null,4.1399999999999997,0,0,null,null,null,null,null,null,null,null,null,null,null,null,null,null,207581.13000000024,123791.31832713755,246126.61129035588,11888.320000000023,117882.46,null,0,0,null,null,null,null,null,null,null,null,null,null,null,null,null,"Recoupment Academy"]
[4046,"Weald of Kent Grammar School",2,0,924,523,0,3.10988251554941E-2,0,4.0121120363361087E-2,0,0,0,0,0,0,6.6390041493775906E-2,9.6818810511756608E-3,1.72890733056708E-2,2.7662517289073298E-3,4.8409405255878304E-3,0,0,8.3275503122831399E-3,0,6.2660337389944453E-3,117882.46,0,0,1,0,89642.95,0,0,5415,6690849.8059999999,349509.6,0,0,90849.805999999997,1320,null,null,4.1399999999999997,0,0,null,null,null,null,null,null,null,null,null,null,null,null,null,null,57430.239177040094,35380.61781226343,15061.656024691014,17906.730437196398,117882.46,null,966393.33654880873,0,null,null,null,null,null,null,null,null,null,null,null,null,null,"Recoupment Academy"]
[4058,"Invicta Grammar School",2,0,760,466,0,4.5676998368678598E-2,0,7.3371805441055232E-2,0,0,0,0,0,0,8.0882352941176502E-2,3.2679738562091498E-2,2.3692810457516301E-2,2.61437908496732E-2,3.18627450980392E-2,8.1699346405228804E-4,0,9.0090090090090107E-3,0,6.5583423417776687E-3,117882.46,0,0,1,0,37888,0,0,5415,6114188.5700000003,321707.7,0,0,39188.57,1215,null,null,4.1399999999999997,0,0,null,null,null,null,null,null,null,null,null,null,null,null,null,null,111916.251372549,54820.564732069244,13356.603012437025,16413.378738738742,117882.46,null,689944.18214420544,0,null,null,null,null,null,null,null,null,null,null,null,null,null,"Recoupment Academy"]
[4080,"Highsted Grammar School",2,0,461,242,0,7.6813655761024197E-2,0,0.10666666666666667,0,0,0,0,0,0,0.20227920227920199,0.115384615384615,2.8490028490028501E-2,3.4188034188034198E-2,5.5555555555555601E-2,3.4188034188034198E-2,0,1.42247510668563E-3,0,1.3757214314844486E-2,117882.46,0,0,1,0,15462.4,0,0,5415,3394888.6,178991.28,0,0,14888.6,676,null,null,4.1399999999999997,0,0,null,null,null,null,null,null,null,null,null,null,null,null,null,null,151958.00648148137,45699.124266666659,16065.612694266689,1486.0399999999968,117882.46,null,246702.33655758522,0,null,null,null,null,null,null,null,null,null,null,null,null,null,"Recoupment Academy"]
[4091,"The Whitstable School",2,0,574,283,0,0.201866977829638,0,0.29475100942126514,0,0,0,0,0,0,4.6674445740956798E-2,1.7502917152858798E-2,9.2182030338389703E-2,5.8343057176195999E-2,1.5169194865811E-2,2.3337222870478398E-3,0,1.1668611435239199E-3,0,0.21004278709536359,117882.46,0,0,1,0,51018.06,0,0,5415,3763258.1623,194613.3,0,0,32119.829600000001,735,null,null,4.1399999999999997,0,0,null,null,null,null,null,null,null,null,null,null,null,null,null,null,106589.99999999997,153943.00227456258,299019.87751311343,1486.0399999999991,117882.46,null,0,0,null,null,null,null,null,null,null,null,null,null,null,null,null,"Recoupment Academy"]
[4092,"Highworth Grammar School",2,0,669,392,0,4.3355325164938702E-2,0,7.7715355805243441E-2,0,0,0,0,0,0,4.3355325164938702E-2,5.9377945334590003E-2,2.45051837888784E-2,1.22525918944392E-2,2.8275212064090501E-2,0,0,1.41376060320452E-2,0,9.804206868419962E-3,117882.46,0,0,1,0,38656,0,0,5415,5368524,282520.26,0,0,33524,1067,null,null,4.1399999999999997,0,0,null,null,null,null,null,null,null,null,null,null,null,null,null,null,84134.169999999984,50251.155514981263,17279.824014718721,22290.599999999937,117882.46,null,584717.45047029993,0,null,null,null,null,null,null,null,null,null,null,null,null,null,"Recoupment Academy"]
[4101,"The Harvey Grammar School",2,0,454,324,0,8.2262210796915203E-2,0,0.12210796915167095,0,0,0,0,0,0,0.17010309278350499,5.7989690721649501E-2,4.6391752577319603E-2,2.9639175257731999E-2,5.67010309278351E-2,1.54639175257732E-2,0,3.8610038610038598E-3,0,1.6707512061055047E-2,117882.46,0,0,1,0,36198.400000000001,0,0,5415,3919855.1,205734.06,0,0,34855.1,777,null,null,4.1399999999999997,0,0,null,null,null,null,null,null,null,null,null,null,null,null,null,null,135709.27703608249,57895.85,21592.495872096235,4463.8576061776048,117882.46,null,271007.77948564378,0,null,null,null,null,null,null,null,null,null,null,null,null,null,"Recoupment Academy"]
[4113,"Astor College (A Specialist College for the Arts)",2,0,401,265,0,0.345345345345345,0,0.45718432510885343,0,0,0,0,0,0,0.127627627627628,0.171171171171171,0.181681681681682,0.108108108108108,0.117117117117117,6.6066066066066104E-2,0,2.2590361445783101E-2,0,0.28558315410919388,117882.46,0,0,1,0,37328.629999999997,0,0,5415,3950266.4221999999,183492.54,0,0,41139.326000000001,693,null,null,4.1399999999999997,0,0,null,null,null,null,null,null,null,null,null,null,null,null,null,null,280497.33000000007,185562.14760522498,315949.941978499,22357.740361445751,117882.46,null,0,0,null,null,null,null,null,null,null,null,null,null,null,null,null,"Recoupment Academy"]
[4120,"King Ethelbert School",2,0,460,302,0,0.18372703412073499,0,0.26149802890932983,0,0,0,0,0,0,0.22834645669291301,0.20603674540682401,3.9370078740157497E-3,5.3805774278215202E-2,2.3622047244094498E-2,2.4934383202099699E-2,0,1.31233595800525E-2,0,0.27182744068903303,117882.46,0,0,1,0,31488,0,0,5415,3952344.8136,214943.3486,0,0,30572.988000000001,758,null,null,4.1399999999999997,0,0,null,null,null,null,null,null,null,null,null,null,null,null,null,null,175463.30999999985,121435.9347437582,344080.23998774553,14860.400000000007,117882.46,null,0,0,null,null,null,null,null,null,null,null,null,null,null,null,null,"Recoupment Academy"]
[4172,"Hartsdown Academy",2,0,412,236,0,0.50771604938271597,0,0.63888888888888884,0,0,0,0,0,0,0.12654320987654299,9.2592592592592601E-2,2.9320987654321E-2,0.180555555555556,0.25617283950617298,0.16358024691358,0,3.2761310452418098E-2,0,0.37542790388818081,117882.46,0,0,1,0,42035.199999999997,0,0,5415,3835205.1252000001,169914.0943,0,0,40475.300000000003,615,null,null,4.1399999999999997,0,0,null,null,null,null,null,null,null,null,null,null,null,null,null,null,339859.05000000005,252304.01999999993,404122.48930123303,31547.632324492981,117882.46,null,0,0,null,null,null,null,null,null,null,null,null,null,null,null,null,"Recoupment Academy"]
[4196,"Towers School and Sixth Form Centre",2,0,749,381,0,0.20707964601769899,0,0.28118811881188122,0,0,0,0,0,0,3.3628318584070803E-2,0.110619469026549,5.7522123893805302E-2,7.25663716814159E-2,5.9292035398230102E-2,0,0,9.7690941385435194E-3,0,0.2767024678289049,117882.46,0,0,1,0,43520,0,0,5415,5360577.8827,271929.06,0,0,41905,1027,null,null,4.1399999999999997,0,0,null,null,null,null,null,null,null,null,null,null,null,null,null,null,198714.50000000015,193641.85702970295,519401.19074828998,16404.509058614571,117882.46,null,0,0,null,null,null,null,null,null,null,null,null,null,null,null,null,"Recoupment Academy"]
[4242,"The Abbey School",2,0,594,417,0,0.274975272007913,0,0.33766233766233766,0,0,0,0,0,0,0.174257425742574,0.120792079207921,9.9009900990099001E-2,1.38613861386139E-2,0.13960396039604001,7.9207920792079192E-3,0,6.9238377843719098E-3,0,0.26263183761620718,117882.46,0,0,1,0,42030.080000000002,0,0,5415,5339473.6880000001,265839.12,0,0,39193.5,1004,null,null,4.1399999999999997,0,0,null,null,null,null,null,null,null,null,null,null,null,null,null,null,275276.10100990126,208045.1555844156,441072.51191165869,10402.280000000001,117882.46,null,0,0,null,null,null,null,null,null,null,null,null,null,null,null,null,"Recoupment Academy"]
[4249,"Valley Park School",2,0,808,535,0,0.107222635889799,0,0.1363973313565604,0,0,0,0,0,0,9.8287416232315697E-2,4.83991064780342E-2,5.2122114668652301E-3,1.9359642591213699E-2,2.23380491437081E-2,0,0,1.4892032762472101E-2,0,0.22548012511638027,117882.46,0,0,1,0,40192,0,0,5415,6769232.9400000004,356393.88,0,0,39232.94,1346,null,null,4.1399999999999997,0,0,null,null,null,null,null,null,null,null,null,null,null,null,null,null,108811.59999999995,111636.37224610821,503032.15230927215,29720.800000000047,117882.46,null,177449.65544461878,0,null,null,null,null,null,null,null,null,null,null,null,null,null,"Recoupment Academy"]
[4527,"Borden Grammar School",2,0,380,249,0,6.67726550079491E-2,0,9.1338582677165353E-2,0,0,0,0,0,0,0.18918918918918901,0.11764705882352899,4.7694753577106501E-2,2.3847376788553299E-2,3.8155802861685198E-2,3.3386327503974599E-2,0,1.5898251192368799E-3,0,1.0584163206710601E-2,117882.46,0,0,1,0,18432,0,0,5415,3192748,168135.3,0,0,17748,635,null,null,4.1399999999999997,0,0,null,null,null,null,null,null,null,null,null,null,null,null,null,null,129025.86999999988,35012.953165354331,11059.070799496951,1486.0399999999961,117882.46,null,209200.80603514897,0,null,null,null,null,null,null,null,null,null,null,null,null,null,"Recoupment Academy"]
[4528,"The Norton Knatchbull School",2,0,598,384,0,4.1751527494908298E-2,0,7.8891257995735611E-2,0,0,0,0,0,0,4.0733197556008099E-2,4.9898167006110002E-2,2.4439918533604901E-2,1.12016293279022E-2,3.25865580448065E-2,0,0,1.0183299389002001E-2,0,2.0613100359800594E-2,117882.46,0,0,1,0,36096,0,0,5415,4734263.5,248893.2,0,0,34263.5,940,null,null,4.1399999999999997,0,0,null,null,null,null,null,null,null,null,null,null,null,null,null,null,75398.049999999974,47213.282771855011,33625.307953400006,14860.399999999947,117882.46,null,511288.53927474533,0,null,null,null,null,null,null,null,null,null,null,null,null,null,"Recoupment Academy"]
[4633,"Ursuline College",2,0,520,259,0,0.17458279845956401,0,0.25841184387617766,0,0,0,0,0,0,0.13863928112965301,0.13350449293966599,3.4659820282413399E-2,0.12451861360718899,0.115532734274711,3.8510911424903697E-2,0,1.41206675224647E-2,0,0.26717523573135754,117882.46,0,0,1,0,34823.68,0,0,5415,3969410.9463999998,197261.1,0,0,33359.656000000003,745,null,null,4.1399999999999997,0,0,null,null,null,null,null,null,null,null,null,null,null,null,null,null,240729.1699999999,122679.98148048452,345736.414563664,16346.440000000002,117882.46,null,0,0,null,null,null,null,null,null,null,null,null,null,null,null,null,"Recoupment Academy"]
[5400,"Wilmington Grammar School for Girls",2,0,478,293,0,3.8910505836575897E-2,0,7.8167115902964962E-2,0,0,0,0,0,0,0.11543450064850801,5.3177691309987001E-2,4.4098573281452703E-2,3.3722438391699097E-2,4.5395590142671902E-2,0,0,2.6143790849673201E-3,0,6.4540287426620279E-3,117882.46,0,0,1.0367999999999999,0,20681.349999999999,0,0,5415,3725681.35,202129.98,0,0,20681.349999999999,741,null,null,4.1399999999999997,0,0,null,null,null,null,null,null,null,null,null,null,null,null,null,null,104578.64999999994,36728.42417789757,8266.0254517297108,2995.3904313725488,117882.46,null,223321.91321675532,0,null,null,null,null,null,null,null,null,null,null,null,null,null,"Recoupment Academy"]
[5401,"The Maplesden Noakes School",2,0,621,354,0,0.141538461538462,0,0.21375661375661376,0,0,0,0,0,0,0.156923076923077,2.76923076923077E-2,5.1282051282051299E-3,3.3846153846153797E-2,3.8974358974358997E-2,0,0,2.1538461538461499E-2,0,0.24075679686731774,117882.46,0,0,1,0,37548,0,0,5415,4771728.5,250746.66,0,0,36728.5,947,null,null,4.1399999999999997,0,0,null,null,null,null,null,null,null,null,null,null,null,null,null,null,108241.30000000003,127012.95079365077,389937.17166701076,31206.839999999942,117882.46,null,0,0,null,null,null,null,null,null,null,null,null,null,null,null,null,"Recoupment Academy"]
[5403,"Wilmington Grammar School for Boys",2,0,479,297,0,5.0257731958762902E-2,0,9.2769440654843105E-2,0,0,0,0,0,0,0.118556701030928,5.2835051546391801E-2,3.8659793814432998E-2,3.09278350515464E-2,4.3814432989690698E-2,0,0,3.9215686274509803E-3,0,1.4939623024124235E-2,117882.46,0,0,1.0367999999999999,0,25636,0,0,5415,3680636,199402.18,0,0,25636,731,null,null,4.1399999999999997,0,0,null,null,null,null,null,null,null,null,null,null,null,null,null,null,101246.31000000006,43872.308649386076,19258.072845817271,4522.2236862745094,117882.46,null,204247.77869184379,0,null,null,null,null,null,null,null,null,null,null,null,null,null,"Recoupment Academy"]
[5406,"Dartford Grammar School",2,0,555,362,0,3.8167938931297697E-2,0,8.5059978189749183E-2,0,0,0,0,0,0,0.10468920392584501,8.1788440567066495E-2,4.03489640130862E-2,2.61723009814613E-2,5.34351145038168E-2,1.0905125408942199E-3,0,2.3204419889502802E-2,0,5.2896129524841939E-3,117882.46,0,0,1.0367999999999999,0,37492.06,0,0,5415,4631134.5719999997,250684.82,0,0,36134.572,919,null,null,4.1399999999999997,0,0,null,null,null,null,null,null,null,null,null,null,null,null,null,null,131742.72999999998,47535.539999999994,8057.5812956203063,31620.632353591212,117882.46,null,242434.65932049739,0,null,null,null,null,null,null,null,null,null,null,null,null,null,"Recoupment Academy"]
[5408,"Homewood School and Sixth Form Centre",2,0,1091,643,0,0.18742791234140699,0,0.26203208556149732,0,0,0,0,0,0,5.9976931949250301E-2,4.26758938869665E-2,4.0369088811995399E-2,1.9607843137254902E-2,2.5951557093425601E-2,5.7670126874279103E-4,0,1.8610421836228301E-3,0,0.26566365406088466,117882.46,0,0,1,0,70051.839999999997,0,0,5415,8506607.1316999998,446419.08,0,0,66959.259999999995,1686,null,null,4.1399999999999997,0,0,null,null,null,null,null,null,null,null,null,null,null,null,null,null,156545.20999999996,276902.83090909087,765231.25489533704,4795.5211414392088,117882.46,null,0,0,null,null,null,null,null,null,null,null,null,null,null,null,null,"Recoupment Academy"]
[5409,"Wrotham School",2,0,469,281,0,0.14533333333333301,0,0.17385257301808066,0,0,0,0,0,0,9.6128170894525994E-2,1.0680907877169601E-2,2.6702269692923902E-3,8.0106809078771702E-3,1.46862483311081E-2,0,0,2.66666666666667E-3,0,0.23793082649895544,117882.46,0,0,1,0,27215.999999999902,0,0,5415,3656622,192230.28,0,0,26622,726,null,null,4.1399999999999997,0,0,null,null,null,null,null,null,null,null,null,null,null,null,null,null,38137.750333778356,79463.230180806655,296430.87881025363,2972.080000000004,117882.46,null,47362.940675161153,0,null,null,null,null,null,null,null,null,null,null,null,null,null,"Recoupment Academy"]
[5411,"Dartford Grammar School for Girls",2,0,540,354,0,0.109619686800895,0,0.15154994259471871,0,0,0,0,0,0,0.11856823266219201,9.61968680089485E-2,5.5928411633109597E-2,5.7046979865771799E-2,5.5928411633109597E-2,1.11856823266219E-3,0,2.68456375838926E-2,0,9.0016613515434066E-3,117882.46,0,0,1.0367999999999999,0,36096,0,0,5415,4389756.5,237591.38,0,0,34756.5,871,null,null,4.1399999999999997,0,0,null,null,null,null,null,null,null,null,null,null,null,null,null,null,164660.80999999982,82569.018874856469,13368.160595032483,35664.95999999997,117882.46,null,116336.31952561907,0,null,null,null,null,null,null,null,null,null,null,null,null,null,"Recoupment Academy"]
[5414,"Fulston Manor School",2,0,631,419,0,0.146666666666667,0,0.20963172804532579,0,0,0,0,0,0,0.146666666666667,0.13714285714285701,0.114285714285714,1.7142857142857099E-2,3.3333333333333298E-2,3.8095238095238099E-2,0,9.5419847328244304E-4,0,0.20958832490861071,117882.46,0,0,1,0,38912,0,0,5415,5397880.3903999999,280137.24,0,0,37468,1058,null,null,4.1399999999999997,0,0,null,null,null,null,null,null,null,null,null,null,null,null,null,null,247013.95999999985,134143.65722379604,365567.72889544716,1488.8759541984737,117882.46,null,0,0,null,null,null,null,null,null,null,null,null,null,null,null,null,"Recoupment Academy"]
[5416,"Cranbrook School",2,0,265,307,0,3.3216783216783202E-2,0,4.2662116040955635E-2,0,0,0,0,0,0,8.7412587412587395E-2,1.74825174825175E-3,1.74825174825175E-3,0,0,0,0,5.6042031523642698E-2,0,3.2324701494554339E-2,117882.46,0,0,1,0,51205.127999999902,0,0,5415,2959901.13,154101.96,0,0,49901.13,582,null,null,4.1399999999999997,0,0,null,null,null,null,null,null,null,null,null,null,null,null,null,null,16506.7,14871.755972696244,30714.398649044902,47636.560700525362,117882.46,null,194585.06467773346,0,null,null,null,null,null,null,null,null,null,null,null,null,null,"Recoupment Academy"]
[5418,"The Skinners' School",2,0,481,312,0,3.5308953341740203E-2,0,3.5308953341740203E-2,0,0,0,0,0,0,4.91803278688525E-2,1.13493064312736E-2,5.0441361916771796E-3,3.7831021437578802E-3,5.0441361916771796E-3,0,0,2.2900763358778602E-2,0,5.0246160649449591E-3,117882.46,0,0,1,0,27412.48,0,0,5415,3926395.22,206528.4,0,0,26395.22,780,null,null,4.1399999999999997,0,0,null,null,null,null,null,null,null,null,null,null,null,null,null,null,22771.070000000003,17064.039999999986,6618.9261393980678,26986.940152671727,117882.46,null,456216.46370793012,0,null,null,null,null,null,null,null,null,null,null,null,null,null,"Recoupment Academy"]
[5421,"The Canterbury Academy",2,0,681,424,0,0.232579185520362,0,0.30712303422756709,0,0,0,0,0,0,6.6243194192377494E-2,0.11161524500907399,2.8130671506352099E-2,0.126134301270417,0.105263157894737,9.0744101633393804E-4,0,1.9981834695731199E-2,0,0.24087131235589451,117882.46,0,0,1,0,71450.2,0,0,5415,5713780.3598999996,286491.96000000002,0,0,68132.600000000006,1082,null,null,4.1399999999999997,0,0,null,null,null,null,null,null,null,null,null,null,null,null,null,null,259857.385163339,206822.83977798335,442138.99710259511,32811.655222525049,117882.46,null,0,0,null,null,null,null,null,null,null,null,null,null,null,null,null,"Recoupment Academy"]
[5422,"Oakwood Park Grammar School",2,0,469,322,0,4.4247787610619503E-2,0,7.0528967254408062E-2,0,0,0,0,0,0,0.101522842639594,3.9340101522842598E-2,5.0761421319797002E-3,2.2842639593908601E-2,1.3959390862944201E-2,0,0,8.8607594936708899E-3,0,1.2098477069165413E-2,117882.46,0,0,1,0,30408.376,0,0,5415,4015408.3760000002,211029.66,0,0,30408.376,797,null,null,4.1399999999999997,0,0,null,null,null,null,null,null,null,null,null,null,null,null,null,null,59070.46463197971,33999.132594458431,15897.127379057922,10415.447443037978,117882.46,null,399407.34795146558,0,null,null,null,null,null,null,null,null,null,null,null,null,null,"Recoupment Academy"]
[5428,"Sir Roger Manwood's School",2,0,462,305,0,7.0404172099087406E-2,0,8.673469387755102E-2,0,0,0,0,0,0,0.16318537859007801,6.3968668407310705E-2,1.95822454308094E-2,4.9608355091383803E-2,1.8276762402088802E-2,0,0,5.21512385919166E-3,0,8.6882798404518749E-3,117882.46,0,0,1,0,26112,0,0,5415,3937047.4679999999,207057.96,0,0,27047.468000000001,782,null,null,4.1399999999999997,0,0,null,null,null,null,null,null,null,null,null,null,null,null,null,null,101448.5667101827,40542.641683673464,11069.821794799784,5944.1600000000053,117882.46,null,335240.14981134405,0,null,null,null,null,null,null,null,null,null,null,null,null,null,"Recoupment Academy"]
[5432,"St Simon Stock Catholic School",2,0,543,359,0,0.11529933481153,0,0.1215909090909091,0,0,0,0,0,0,0.105438401775805,4.9944506104328497E-2,2.21975582685905E-2,6.2153163152053298E-2,4.8834628190899003E-2,0,0,3.3296337402885698E-3,0,0.21455356927894281,117882.46,0,0,1,0,26345,0,0,5415,4426345,233006.4,0,0,26345,880,null,null,4.1399999999999997,0,0,null,null,null,null,null,null,null,null,null,null,null,null,null,null,125151.65906770268,66839.235249999998,321479.84204335458,4463.0679689234203,117882.46,null,65235.91567001924,0,null,null,null,null,null,null,null,null,null,null,null,null,null,"Recoupment Academy"]
[5434,"Westlands School",2,0,998,596,0,0.16750313676286099,0,0.23563589412524208,0,0,0,0,0,0,0.20200752823086601,0.132998745294856,9.4730238393977401E-2,1.31744040150565E-2,2.88582183186951E-2,2.6976160602258499E-2,0,3.1407035175879399E-3,0,0.25934099379522252,117882.46,0,0,1,0,50688,0,0,5415,7983728.6854999997,500373.11139999999,0,0,48807,1565,null,null,4.1399999999999997,0,0,null,null,null,null,null,null,null,null,null,null,null,null,null,null,357336.78000000044,228904.11123305355,686706.17509307771,7439.5344221105524,117882.46,null,0,0,null,null,null,null,null,null,null,null,null,null,null,null,null,"Recoupment Academy"]
[5435,"St Gregory's Catholic School",2,0,695,416,0,0.118811881188119,0,0.14929328621908128,0,0,0,0,0,0,0.12702702702702701,9.0090090090090102E-4,9.0090090090090107E-3,2.4324324324324301E-2,0,0,0,2.7149321266968299E-2,0,0.23339381627275174,117882.46,0,0,1,0,29184,0,0,5415,5693101,299995.74,0,0,28101,1133,null,null,4.1399999999999997,0,0,null,null,null,null,null,null,null,null,null,null,null,null,null,null,67042.634405405377,101083.01004416961,430739.66821384482,44823.269864253351,117882.46,null,114638.9774723265,0,null,null,null,null,null,null,null,null,null,null,null,null,null,"Recoupment Academy"]
[5437,"The Folkestone School for Girls",2,0,558,368,0,7.3434125269978404E-2,0,0.10043668122270742,0,0,0,0,0,0,0.144864864864865,4.7567567567567602E-2,5.2972972972973001E-2,4.4324324324324302E-2,6.0540540540540498E-2,7.5675675675675701E-3,0,3.24324324324324E-3,0,2.3706580523314993E-2,117882.46,0,0,1,0,27904,0,0,5415,4611866.8,242803.26,0,0,26866.799999999999,917,null,null,4.1399999999999997,0,0,null,null,null,null,null,null,null,null,null,null,null,null,null,null,158467.65137297302,56679.651266375542,36466.2719777538,4462.9395891891845,117882.46,null,363897.86579370807,0,null,null,null,null,null,null,null,null,null,null,null,null,null,"Recoupment Academy"]
[5439,"Mascalls Academy",2,0,634,414,0,0.11736641221374,0,0.18566176470588236,0,0,0,0,0,0,0.12225405921681,3.6294173829990499E-2,5.7306590257879698E-3,5.7306590257879698E-3,0,0,0,4.77554918815664E-3,0,0.25383752282036537,117882.46,0,0,1,0,42752,0,0,5415,5461165.5,287021.52,0,0,41165.5,1084,null,null,4.1399999999999997,0,0,null,null,null,null,null,null,null,null,null,null,null,null,null,null,62814.217230181523,118578.94602941176,441904.64689987549,7437.2966571155712,117882.46,null,66634.873183415693,0,null,null,null,null,null,null,null,null,null,null,null,null,null,"Recoupment Academy"]
[5443,"Tonbridge Grammar School",2,0,537,358,0,1.2290502793296101E-2,0,1.4492753623188406E-2,0,0,0,0,0,0,5.0391937290033599E-2,1.00783874580067E-2,1.45576707726764E-2,3.3594624860022399E-3,2.2396416573348299E-3,0,0,1.2345679012345699E-2,0,2.7006869270582573E-3,117882.46,0,0,1,0,43008,0,0,5415,4535287.0219999999,237772.44,0,0,45287.021999999997,898,null,null,4.1399999999999997,0,0,null,null,null,null,null,null,null,null,null,null,null,null,null,null,28558.938857782763,7904.9253623188397,4015.2144206981247,16419.824691358051,117882.46,null,562278.37666784204,0,null,null,null,null,null,null,null,null,null,null,null,null,null,"Recoupment Academy"]
[5444,"Barton Court Grammar School",2,0,450,301,0,6.7909454061251706E-2,0,0.123342175066313,0,0,0,0,0,0,5.8744993324432601E-2,7.4766355140186896E-2,3.0707610146862501E-2,4.5393858477970603E-2,2.5367156208277699E-2,0,0,9.3209054593874803E-3,0,1.3127540208676226E-2,117882.46,0,0,1,0,39424,0,0,5415,3808959.8,200438.46,0,0,23959.8,757,null,null,4.1399999999999997,0,0,null,null,null,null,null,null,null,null,null,null,null,null,null,null,84845.383084112153,56451.48473474801,16377.015464476495,10402.279999999995,117882.46,null,312952.61671666295,0,null,null,null,null,null,null,null,null,null,null,null,null,null,"Recoupment Academy"]
[5446,"St Anselm's Catholic School, Canterbury",2,0,553,357,0,0.15604395604395599,0,0.21844127332601537,0,0,0,0,0,0,9.5709570957095702E-2,0.12211221122112199,2.6402640264026399E-2,5.7205720572057202E-2,5.5005500550055E-2,1.1001100110011001E-3,0,1.65016501650165E-2,0,0.25941111544752415,117882.46,0,0,1,0,30720,0,0,5415,4709702.9895000001,242803.26,0,0,29580,917,null,null,4.1399999999999997,0,0,null,null,null,null,null,null,null,null,null,null,null,null,null,null,154858.83454345429,121143.44533479691,392140.26536849642,22315.122112211218,117882.46,null,0,0,null,null,null,null,null,null,null,null,null,null,null,null,null,"Recoupment Academy"]
[5448,"Herne Bay High School",2,0,820,527,0,0.181143281365999,0,0.26047220106626046,0,0,0,0,0,0,3.7147102526002999E-2,6.6864784546805306E-2,0.101040118870728,3.2689450222882603E-2,3.93759286775631E-2,0,0,2.9917726252804799E-3,0,0.15240101504319106,117882.46,0,0,1,0,49896,0,0,5415,6638807,348980.04,0,0,48807,1318,null,null,4.1399999999999997,0,0,null,null,null,null,null,null,null,null,null,null,null,null,null,null,195773.0000148587,213822.20549885754,341009.84729090141,5988.6189379207208,117882.46,null,136663.7082574612,0,null,null,null,null,null,null,null,null,null,null,null,null,null,"Recoupment Academy"]
[5449,"Queen Elizabeth's Grammar School",2,0,460,296,0,5.8201058201058198E-2,0,6.9425901201602136E-2,0,0,0,0,0,0,0.115079365079365,7.4074074074074098E-2,3.7037037037037E-2,1.4550264550264499E-2,3.5714285714285698E-2,0,0,2.6631158455392798E-3,0,9.9737365687277459E-3,117882.46,0,0,1,0,30965.7599999999,0,0,5415,3790289.92,199114.56,0,0,30289.919999999998,752,null,null,4.1399999999999997,0,0,null,null,null,null,null,null,null,null,null,null,null,null,null,null,91804.659999999945,31986.531588785041,12525.387012311885,2991.8674833555247,117882.46,null,352969.17391554773,0,null,null,null,null,null,null,null,null,null,null,null,null,null,"Recoupment Academy"]
[5450,"Hillview School for Girls",2,0,681,371,0,0.114068441064639,0,0.15020161290322581,0,0,0,0,0,0,0.120837297811608,1.5223596574690801E-2,6.0894386298763099E-2,3.8058991436726898E-3,9.5147478591817299E-4,0,0,1.23574144486692E-2,0,0.20847562692473565,117882.46,0,0,1,0,25856,0,0,5415,4988368.2,262926.53999999998,0,0,23368.2,993,null,null,4.1399999999999997,0,0,null,null,null,null,null,null,null,null,null,null,null,null,null,null,86473.258915318787,96297.312137096771,364319.56378825317,19318.519999999997,117882.46,null,160384.38515933149,0,null,null,null,null,null,null,null,null,null,null,null,null,null,"Recoupment Academy"]
[5455,"The Hayesbrook School",2,0,219,149,0,0.157608695652174,0,0.24744897959183673,0,0,0,0,0,0,0.20923913043478301,2.9891304347826098E-2,7.6086956521739094E-2,1.0869565217391301E-2,0,0,0,3.5326086956521702E-2,0,0.28537436450927856,117882.46,0,0,1,0,37376,0,0,5415,2110032.9479,103264.2,0,0,35989,390,null,null,4.1399999999999997,0,0,null,null,null,null,null,null,null,null,null,null,null,null,null,null,47228.370000000039,55495.442040816321,174451.31240014982,19318.519999999979,117882.46,null,0,0,null,null,null,null,null,null,null,null,null,null,null,null,null,"Recoupment Academy"]
[5460,"Dane Court Grammar School",2,0,547,350,0,0.112597547380156,0,0.16045197740112993,0,0,0,0,0,0,0.13043478260869601,0.10925306577480499,3.90189520624303E-2,4.1248606465997803E-2,7.46934225195095E-2,3.90189520624303E-2,0,4.4843049327354303E-3,0,7.9439544932486828E-3,117882.46,0,0,1,0,46336,0,0,5415,4474616.5,234595.08,0,0,44616.5,886,null,null,4.1399999999999997,0,0,null,null,null,null,null,null,null,null,null,null,null,null,null,null,196523.30000000016,87712.470983050836,11836.972963066468,5977.4792825112163,117882.46,null,282235.17677137104,0,null,null,null,null,null,null,null,null,null,null,null,null,null,"Recoupment Academy"]
[5462,"Chatham & Clarendon Grammar School",2,0,623,403,0,9.3567251461988299E-2,0,0.15127701375245581,0,0,0,0,0,0,0.133528265107212,0.10233918128654999,3.6062378167641303E-2,6.7251461988304104E-2,4.4834307992202699E-2,3.3138401559454203E-2,0,2.9469548133595298E-3,0,7.7498228047920368E-3,117882.46,0,0,1,0,41190.400000000001,0,0,5415,5134503.3499999996,269810.82,0,0,39503.35,1019,null,null,4.1399999999999997,0,0,null,null,null,null,null,null,null,null,null,null,null,null,null,null,211813.94,94589.762003929281,13208.411737318957,4493.1543418467609,117882.46,null,368670.85191690491,0,null,null,null,null,null,null,null,null,null,null,null,null,null,"Recoupment Academy"]
[5463,"Sandwich Technology School",2,0,747,492,0,0.198547215496368,0,0.27360774818401939,0,0,0,0,0,0,0.16720516962843299,0.105008077544426,2.6655896607431302E-2,4.8465266558966102E-2,2.3424878836833599E-2,2.3424878836833599E-2,0,2.4213075060532702E-3,0,0.24130720396255331,117882.46,0,0,1,0,37120,0,0,5415,6346588.6590999998,327532.86,0,0,35742.5,1237,null,null,4.1399999999999997,0,0,null,null,null,null,null,null,null,null,null,null,null,null,null,null,220197.50195476552,206596.77000000002,496652.99504376511,4458.1200000000026,117882.46,null,0,0,null,null,null,null,null,null,null,null,null,null,null,null,null,"Recoupment Academy"]
[5464,"Bennett Memorial Diocesan School",2,0,866,523,0,4.8956083513318899E-2,0,7.8313253012048195E-2,0,0,0,0,0,0,7.4927953890489896E-2,6.4841498559077802E-3,1.00864553314121E-2,2.1613832853025899E-3,0,0,0,7.2621641249092199E-3,0,0.17234175920549374,117882.46,0,0,1,0,46796.800000000003,0,0,5415,6673578.2000000002,352951.74,0,0,8578.2000000000007,1333,null,null,4.1399999999999997,0,0,null,null,null,null,null,null,null,null,null,null,null,null,null,null,46050.703854466839,66292.033192771079,397652.97180657747,14989.902396514153,117882.46,null,495645.08874967037,0,null,null,null,null,null,null,null,null,null,null,null,null,null,"Recoupment Academy"]
[5465,"Gravesend Grammar School",2,0,594,349,0,4.8780487804878099E-2,0,6.9662921348314602E-2,0,0,0,0,0,0,0.124203821656051,0.13057324840764301,3.6093418259023402E-2,6.3694267515923594E-2,1.27388535031847E-2,0,0,6.3897763578274801E-3,0,1.362993424747219E-2,117882.46,0,0,1,0,32000,0,0,5415,4470812.5,235124.64,0,0,30812.5,888,null,null,4.1399999999999997,0,0,null,null,null,null,null,null,null,null,null,null,null,null,null,null,153265.03920382162,40034.757730337071,21350.935984782642,8954.2218530351493,117882.46,null,434895.66522802325,0,null,null,null,null,null,null,null,null,null,null,null,null,null,"Recoupment Academy"]
[5466,"Brockhill Park Performing Arts College",2,0,729,499,0,0.19136807817589599,0,0.2616899097621001,0,0,0,0,0,0,0.14705882352941199,6.5359477124182996E-2,6.4542483660130698E-2,3.2679738562091498E-2,6.2908496732026101E-2,1.22549019607843E-2,0,2.4529844644317301E-3,0,0.26547835466166697,117882.46,0,0,1,0,45568,0,0,5415,6382330.3026999999,327003.3,0,0,40919,1235,null,null,4.1399999999999997,0,0,null,null,null,null,null,null,null,null,null,null,null,null,null,null,226250.87352941177,195843.50513535686,541550.48501736333,4476.3461651676289,117882.46,null,0,0,null,null,null,null,null,null,null,null,null,null,null,null,null,"Recoupment Academy"]
[5467,"Mayfield Grammar School, Gravesend",2,0,590,351,0,6.3761955366631207E-2,0,9.602649006622517E-2,0,0,0,0,0,0,0.12327311370882001,0.111583421891605,3.82571732199787E-2,6.2699256110520699E-2,6.3761955366631196E-3,0,0,6.3761955366631196E-3,0,1.0540242861083713E-2,117882.46,0,0,1,0,23705.599999999999,0,0,5415,4567825.8,240685.02,0,0,22825.8,909,null,null,4.1399999999999997,0,0,null,null,null,null,null,null,null,null,null,null,null,null,null,null,141764.56999999998,55068.659834437087,16475.997071081871,8916.2399999999925,117882.46,null,426620.03309448116,0,null,null,null,null,null,null,null,null,null,null,null,null,null,"Recoupment Academy"]
[6905,"Knole Academy",2,0,762,476,0,0.13651050080775401,0,0.199836867862969,0,0,0,0,0,0,9.0468497576736695E-2,2.2617124394184202E-2,1.6155088852988699E-2,1.1308562197092101E-2,2.9886914378029102E-2,0,0,7.2697899838449096E-3,0,0.20415324124667411,117882.46,0,0,1.0367999999999999,0,58149,0,0,5415,6157519.9948000005,331427.7,0,0,58149,1215,null,null,4.1399999999999997,0,0,null,null,null,null,null,null,null,null,null,null,null,null,null,null,91984.880000000077,150771.78898858072,419844.42340790457,13374.359999999997,117882.46,null,0,0,null,null,null,null,null,null,null,null,null,null,null,null,null,"Recoupment Academy"]
[6909,"The Marsh Academy",2,0,539,338,0,0.22348916761687601,0,0.32494279176201374,0,0,0,0,0,0,0.25514874141876398,5.4919908466819198E-2,0.157894736842105,9.1533180778032006E-2,1.1441647597254E-3,3.4324942791761999E-3,0,3.4207525655644199E-3,0,0.32534487628514575,117882.46,0,0,1,0,54474.42,0,0,5415,4760423.3064000001,232741.62,0,0,58876.921999999999,879,null,null,4.1399999999999997,0,0,null,null,null,null,null,null,null,null,null,null,null,null,null,null,223687.24872997688,173672.20965675055,473974.55764298333,4458.1199999999944,117882.46,null,0,0,null,null,null,null,null,null,null,null,null,null,null,null,null,"Recoupment Academy"]
[6910,"The Leigh Academy",2,0,712,456,0,0.17208904109588999,0,0.25,0,0,0,0,0,0,0.192439862542955,4.2096219931271502E-2,6.8728522336769807E-2,2.57731958762887E-2,6.5292096219931303E-2,0,0,1.20274914089347E-2,0,0.25973617299676616,117882.46,0,0,1.0367999999999999,0,69474.960000000006,0,0,5415,6209643.9287,315879.24,0,0,75258.297999999995,1158,null,null,4.1399999999999997,0,0,null,null,null,null,null,null,null,null,null,null,null,null,null,null,207611.96989690716,177953.56,503949.18244603986,20876.053333333319,117882.46,null,0,0,null,null,null,null,null,null,null,null,null,null,null,null,null,"Recoupment Academy"]
[6911,"Spires Academy",2,0,417,262,0,0.363770250368189,0,0.46529968454258674,0,0,0,0,0,0,0.16053019145802699,0.172312223858616,4.8600883652430003E-2,0.114874815905744,9.7201767304860104E-2,1.4727540500736401E-3,0,1.17820324005891E-2,0,0.26174508685545705,117882.46,0,0,1,0,32784.5,0,0,5415,3603624.6806000001,169723.98,0,0,32784.5,641,null,null,4.1399999999999997,0,0,null,null,null,null,null,null,null,null,null,null,null,null,null,null,196508.05000000031,192542.39140378547,295229.5180984707,11888.319999999998,117882.46,null,0,0,null,null,null,null,null,null,null,null,null,null,null,null,null,"Recoupment Academy"]
[6912,"New Line Learning Academy",2,0,389,231,0,0.37580645161290299,0,0.47250859106529208,0,0,0,0,0,0,0.17580645161290301,4.6774193548387098E-2,8.8709677419354802E-2,0.18870967741935499,0.166129032258065,0,0,5.32258064516129E-2,0,0.30863073474937308,117882.46,0,0,1,0,31535.73,0,0,5415,3410202.9062999999,154631.51999999999,0,0,34171.173999999999,584,null,null,4.1399999999999997,0,0,null,null,null,null,null,null,null,null,null,null,null,null,null,null,221630.86000000022,178535.76460481097,317864.71942848654,49039.32,117882.46,null,0,0,null,null,null,null,null,null,null,null,null,null,null,null,null,"Recoupment Academy"]
[6913,"Cornwallis Academy",2,0,578,423,0,0.21978021978022,0,0.29857819905213268,0,0,0,0,0,0,0.16500000000000001,3.2000000000000001E-2,4.5999999999999999E-2,8.5999999999999993E-2,6.4000000000000001E-2,0,0,2.0979020979021001E-2,0,0.32638486805659367,117882.46,0,0,1,0,67584,0,0,5415,5590336.6282000002,276959.88,0,0,72893.245999999999,1046,null,null,4.1399999999999997,0,0,null,null,null,null,null,null,null,null,null,null,null,null,null,null,189131.943,182144.47436018955,542719.66490831203,31206.840000000029,117882.46,null,0,0,null,null,null,null,null,null,null,null,null,null,null,null,null,"Recoupment Academy"]
[6914,"Longfield Academy",2,0,547,331,0,0.21753986332573999,0,0.28376844494892167,0,0,0,0,0,0,0.14139110604332999,6.8415051311288499E-2,6.2713797035347796E-2,1.7103762827822101E-2,2.8506271379703501E-2,0,0,1.14155251141553E-3,0,0.26963759144346505,117882.46,0,0,1.0367999999999999,0,54460.31,0,0,5415,4744517.7938000001,241137.52,0,0,58999.131999999998,884,null,null,4.1399999999999997,0,0,null,null,null,null,null,null,null,null,null,null,null,null,null,null,121914.68499429886,151838.68898978431,393266.01727115479,1489.4327853881341,117882.46,null,0,0,null,null,null,null,null,null,null,null,null,null,null,null,null,"Recoupment Academy"]
[6915,"Oasis Academy Isle of Sheppey",2,0,787,510,0,0.43099460292983799,0,0.51414713015359736,0,0,0,0,0,0,0.17592592592592601,2.7777777777777801E-2,2.9320987654321E-2,0.14429012345678999,0.33796296296296302,0.1875,0,2.24284609435422E-2,0,0.29794477484948861,117882.46,0,0,1,0,91136,0,0,5415,7267957.9170000004,330180.65999999997,0,0,87862.966,1247,null,null,4.1399999999999997,0,0,null,null,null,null,null,null,null,null,null,null,null,null,null,null,734588.30494598777,406397.68113177031,641929.32301910257,43228.47836040226,117882.46,null,0,0,null,null,null,null,null,null,null,null,null,null,null,null,null,"Recoupment Academy"]
[6916,"Skinners' Kent Academy",2,0,634,345,0,0.19611848825332001,0,0.2679324894514768,0,0,0,0,0,0,0.18794688457609801,2.0429009193054098E-3,2.0429009193054098E-3,8.3758937691521998E-2,2.0429009193054098E-3,0,0,1.33196721311475E-2,0,0.27780078741885789,117882.46,0,0,1,0,25497.599999999999,0,0,5415,4965663.4937000005,253394.46,0,0,24551.4,957,null,null,4.1399999999999997,0,0,null,null,null,null,null,null,null,null,null,null,null,null,null,null,112128.92000000001,159857.08900843881,451780.6533521071,19377.900696721252,117882.46,null,0,0,null,null,null,null,null,null,null,null,null,null,null,null,null,"Recoupment Academy"]
[6917,"Dover Christ Church Academy",2,0,451,297,0,0.38235294117647101,0,0.4799426934097421,0,0,0,0,0,0,0.185828877005348,0.13636363636363599,0.15106951871657801,6.0160427807486601E-2,0.11096256684491999,6.9518716577540093E-2,0,2.6917900403768502E-3,0,0.27710479365248047,117882.46,0,0,1,0,33759.599999999999,0,0,5415,3975312.6844000001,218147.88,0,0,33759.599999999999,704,null,null,4.1399999999999997,0,0,null,null,null,null,null,null,null,null,null,null,null,null,null,null,280927.85000000027,218783.62378223491,344315.91846976837,2992.0805383580073,117882.46,null,0,0,null,null,null,null,null,null,null,null,null,null,null,null,null,"Recoupment Academy"]
[6918,"Duke of York's Royal Military School",2,0,183,170,0,1.4164305949008501E-2,0,4.3360433604336043E-2,0,0,0,0,0,0,0,0,0,0,0,0,0,9.6317280453257798E-2,0,0.20670447394032643,117882.46,0,0,1,0,59904,0,0,5415,1963831.496,149544.91709999999,0,0,56695,373,null,null,4.1399999999999997,0,0,null,null,null,null,null,null,null,null,null,null,null,null,null,null,0,9328.0776151761511,121209.32898754156,50525.36,117882.46,null,0,25893.967597071547,null,null,null,null,null,null,null,null,null,null,null,null,null,"Recoupment Academy"]
[6920,"Wilmington Academy",2,0,732,469,0,0.118234804329725,0,0.19565217391304349,0,0,0,0,0,0,0.117402164862614,5.6619483763530397E-2,9.1590341382181504E-3,3.6636136552872602E-2,5.5786844296419599E-2,0,0,1.08604845446951E-2,0,0.2572574367575941,117882.46,0,0,1.0367999999999999,0,49780.2,0,0,5415,5981661.6935000001,314242.56,0,0,52707.972000000002,1152,null,null,4.1399999999999997,0,0,null,null,null,null,null,null,null,null,null,null,null,null,null,null,151696.76999999979,143202.80152173911,513242.26213673834,19383.076457811243,117882.46,null,0,0,null,null,null,null,null,null,null,null,null,null,null,null,null,"Recoupment Academy"]
[4020,"Folkestone Academy",2,0,544,538,0,0.35859519408502799,0.25219298245614036,0.4341880341880342,0,0,0,0,0,0,0.156192236598891,7.6709796672828096E-2,7.7634011090572996E-2,9.9815157116451003E-2,0.244916820702403,4.8983364140480601E-2,0,2.8837209302325601E-2,0,0.29527616054934536,117882.46,0,0,1,0,89088,0,0,5415,6647562.6787775792,314695.18272481475,0,0,108906.83199999999,1173,null,null,4.1399999999999997,0,0,null,null,null,null,null,null,null,null,null,null,null,null,null,null,429942.74000000005,286305.00519658119,530722.02450051892,46367.212725581427,117882.46,null,0,0,null,null,null,null,null,null,null,null,null,null,null,null,null,"Recoupment Academy"]
[5404,"Saint George's Church of England School",4,91,591,358,7.69230769230769E-2,0.13171759747102199,7.69230769230769E-2,0.16466739367502725,0.164835164835165,0.164835164835165,2.1978021978022001E-2,4.3956043956044001E-2,0,0,0.12988384371700101,0.155227032734952,3.8014783526927103E-2,6.1246040126715903E-2,1.90073917634636E-2,0,8.3333333333333301E-2,9.5948827292110898E-3,0.1111111111111111,0.24612212865776148,117882.46,0,0,1,0,33459.199999999997,0,0,4951.875,4851925.0225999998,250728.06,0,0,29087,962,null,null,4.1399999999999997,0,0,null,null,null,null,null,null,null,null,null,null,null,null,null,null,179002.11412882767,97567.843991275891,399076.42746605183,17704.99300817342,117882.46,null,0,8730.2186629679054,null,null,null,null,null,null,null,null,null,null,null,null,null,"Recoupment Academy"]
[6919,"The John Wallis Church of England Academy",4,335,678,401,0.48059701492537299,0.313253012048193,0.48059701492537299,0.4,9.8507462686567196E-2,9.2537313432835805E-2,1.1940298507462701E-2,2.9850746268656699E-3,0.47164179104477599,0,3.8033395176252302E-2,6.3079777365491696E-2,4.08163265306122E-2,1.85528756957328E-3,0.294990723562152,0,0.18120805369127499,3.2497678737233103E-2,0.38846153846153847,0.31921230016157354,117882.46,0,0,1,0,77209.600000000006,0,0,4694.583333333333,7266698.3968000002,339768.24,0,0,70048.388000000006,1398,null,null,4.1399999999999997,0.9,0.57999999999999996,null,null,null,null,null,null,null,null,null,null,null,null,null,null,376768.03025974013,316680.01799999998,714751.06569477508,85519.244425853598,117882.46,null,0,0,null,null,null,null,null,null,null,null,null,null,null,null,null,"Recoupment Academy"]

{"sheet":"TestArea","index":1,"n_rows":561,"n_cols":146,"rows_kept":561,"cut":false,"hidden":true,"merged":[]}
["MI DfE no","School Name",null,"Macro School Name","Data Calc",{"$f":"SUM(F2:F302)","v":301},null,"Macro F1","Data Calc F1",null,null,"Macro F2","Data Calc F2",0,null,"Macro F4","Data Calc F4",0,null,"Macro F6","Data Calc F6",0,null,"Macro F7","Data Calc F7",0,null,"Macro F8","Data Calc F8",0,null,"Macro F9","Data Calc F9",0,null,"Macro F10","Data Calc F10",0,null,"Macro F11","Data Calc F11",0,null,"Macro F12","Data Calc F12",0,null,"Macro F13","Data Calc F13",0,null,"Macro F14","Data Calc F14",0,null,"Macro FFT","Data Calc FFT",0,null,"Macro MFG","Data Calc MFG",0,null,"Macro SBS","Data Calc SBS",0,null,"Macro Growth","Data Calc Growth",0,null,"Macro SBS Inc Growth","Data Calc SBS Inc Growth",0,null,"Early years rate",null,{"$f":"SUM(BZ2:BZ302)","v":0},null,"Macro Notional SEN","Data Calc",{"$f":"SUM(CD2:CD302)","v":0},null,"Macro De-Delegation","Data Calc",{"$f":"SUM(CH2:CH302)","v":64553},null,"SRP Element 1","Data Calc",{"$f":"SUM(CL2:CL302)","v":0},null,"SRP Element 2","Data Calc",{"$f":"SUM(CP2:CP302)","v":0},null,"SRP 1 Pre","Data Calc",{"$f":"SUM(CT2:CT302)","v":0},null,"SRP 1 Post","Data Calc",{"$f":"SUM(CX2:CX302)","v":0},null,"SRP 2 Pre","Data Calc",{"$f":"SUM(DB2:DB302)","v":0},null,"SRP 2 Post","Data Calc",{"$f":"SUM(DF2:DF302)","v":0},null,"Qual Year1","Data Calc",{"$f":"SUM(DJ2:DJ302)","v":33},null,"Orig PAN 1","Data Calc",{"$f":"SUM(DN2:DN302)","v":-697},null,"New PAN","Data Calc",{"$f":"SUM(DR2:DR302)","v":33},null,"Qual Year2","Data Calc",{"$f":"SUM(DV2:DV302)","v":33},null,"Orig PAN2","Data Calc",{"$f":"SUM(DZ2:DZ302)","v":33},null,"New PAN2","Data Calc",{"$f":"SUM(ED2:ED302)","v":33},null,"Qual Year3","Data Calc",{"$f":"SUM(EH2:EH302)","v":20},null,"Orig PAN3","Data Calc",{"$f":"SUM(EL2:EL302)","v":20},null,"New PAN3","Data Calc",{"$f":"SUM(EP2:EP302)","v":20}]
[2000,"St Johns Church of England Primary School",null,"St Johns Church of England Primary School",null,{"$f":"IF(E2=D2,0,1)","v":1},null,1122820.71,1122820.71,{"$f":"H2-I2","v":0},null,253014.83,253014.83449152549,{"$f":"L2-M2","v":-4.491525498451665E-3},null,32877.089999999997,32877.093797468267,{"$f":"P2-Q2","v":-3.7974682709318586E-3},null,131081.49,131081.48624999999,{"$f":"T2-U2","v":3.7500000034924597E-3},null,120084,120084,{"$f":"X2-Y2","v":0},null,0,0,{"$f":"AB2-AC2","v":0},null,0,0,{"$f":"AF2-AG2","v":0},null,0,0,{"$f":"AJ2-AK2","v":0},null,24576,24576,{"$f":"AN2-AO2","v":0},null,0,0,{"$f":"AR2-AS2","v":0},null,0,0,{"$f":"AV2-AW2","v":0},null,0,0,{"$f":"AZ2-BA2","v":0},null,1684454.12,1684454.1245389939,{"$f":"BD2-BE2","v":-4.5389938168227673E-3},null,0,0,{"$f":"BH2-BI2","v":0},null,1684454.12,1684454.1245389939,{"$f":"BL2-BM2","v":-4.5389938168227673E-3},null,0,null,{"$f":"BP2-BQ2","v":0},null,null,null,{"$f":"BT2-BU2","v":0},null,null,null,{"$f":"BX2-BY2","v":0},null,339430.24,339430.23684600182,{"$f":"ROUND(CB2-CC2,0)","v":0},null,9546.9,9546.9,{"$f":"ROUND(CF2-CG2,0)","v":0},null,null,null,{"$f":"ROUND(CJ2-CK2,0)","v":0},null,null,null,{"$f":"ROUND(CN2-CO2,0)","v":0},null,null,null,{"$f":"ROUND(CR2-CS2,0)","v":0},null,null,null,{"$f":"ROUND(CV2-CW2,0)","v":0},null,null,null,{"$f":"ROUND(CZ2-DA2,0)","v":0},null,null,null,{"$f":"ROUND(DD2-DE2,0)","v":0},null,"NO",{"$f":"IF(ISERROR(VLOOKUP($A2+8860000,'Growth Data'!$A:$F,3,0)),\"NO\",VLOOKUP($A2+8860000,'Growth Data'!$A:$F,3,0))","v":"YES"},{"$f":"IF(DH2=DI2,0,1)","v":1},null,0,{"$f":"IF(DI2=\"YES\",IF(ISERROR(VLOOKUP($A2+8860000,'Growth Data'!$A:$F,6,0)),0,VLOOKUP($A2+8860000,'Growth Data'!$A:$F,6,0)),0)","v":54},{"$f":"ROUND(DL2-DM2,0)","v":-54},null,0,{"$f":"IF(ISERROR(VLOOKUP($A2+8860000,'Growth Data'!$A:$Z,7,0)),0,VLOOKUP($A2+8860000,'Growth Data'!$A:$Z,7,0))","v":60},{"$f":"IF(DP2=DQ2,0,1)","v":1},null,"NO",{"$f":"IF(ISERROR(VLOOKUP($A2+8860000,'Growth Data'!$A:$F,4,0)),\"NO\",VLOOKUP($A2+8860000,'Growth Data'!$A:$F,4,0))","v":"YES"},{"$f":"IF(DT2=DU2,0,1)","v":1},null,0,{"$f":"IF(ISERROR(VLOOKUP($A2+8860000,'Growth Data'!$A:$Z,8,0)),0,VLOOKUP($A2+8860000,'Growth Data'!$A:$Z,8,0))","v":54},{"$f":"IF(DX2=DY2,0,1)","v":1},null,0,{"$f":"IF(ISERROR(VLOOKUP($A2+8860000,'Growth Data'!$A:$Z,9,0)),0,VLOOKUP($A2+8860000,'Growth Data'!$A:$Z,9,0))","v":60},{"$f":"IF(EB2=EC2,0,1)","v":1},null,"NO",{"$f":"IF(ISERROR(VLOOKUP($A2+8860000,'Growth Data'!$A:$Z,5,0)),\"NO\",VLOOKUP($A2+8860000,'Growth Data'!$A:$Z,5,0))","v":"NO"},{"$f":"IF(EF2=EG2,0,1)","v":0},null,0,{"$f":"IF(ISERROR(VLOOKUP($A2+8860000,'Growth Data'!$A:$Z,10,0)),0,VLOOKUP($A2+8860000,'Growth Data'!$A:$Z,10,0))","v":0},{"$f":"IF(EJ2=EK2,0,1)","v":0},null,0,{"$f":"IF(ISERROR(VLOOKUP($A2+8860000,'Growth Data'!$A:$Z,11,0)),0,VLOOKUP($A2+8860000,'Growth Data'!$A:$Z,11,0))","v":0},{"$f":"IF(EN2=EO2,0,1)","v":0}]
[2002,"Repton Manor Primary School",null,"Repton Manor Primary School",null,1,null,1472348.92,1472348.92,0,null,76187.86,76187.860000000088,0,null,26450.47,26450.47326923065,-3.2692306485841982E-3,null,111114.92,111114.92280701754,-2.8070175467291847E-3,null,120084,120084,0,null,0,0,0,null,0,0,0,null,0,0,0,null,10650,10650,0,null,0,0,0,null,0,0,0,null,183493.82,183493.82392375183,-3.9237518212758005E-3,null,2000330,2000330,0,null,0,0,0,null,2000330,2000330,0,null,0,null,0,null,null,null,0,null,null,null,0,null,371259.74,371259.74230700819,0,null,12518.8,12518.8,0,null,null,null,0,null,null,null,0,null,null,null,0,null,null,null,0,null,null,null,0,null,null,null,0,null,"NO",{"$f":"IF(ISERROR(VLOOKUP($A3+8860000,'Growth Data'!$A:$F,3,0)),\"NO\",VLOOKUP($A3+8860000,'Growth Data'!$A:$F,3,0))","v":"NO"},0,null,0,{"$f":"IF(DI3=\"YES\",IF(ISERROR(VLOOKUP($A3+8860000,'Growth Data'!$A:$F,6,0)),0,VLOOKUP($A3+8860000,'Growth Data'!$A:$F,6,0)),0)","v":0},0,null,0,{"$f":"IF(ISERROR(VLOOKUP($A3+8860000,'Growth Data'!$A:$Z,7,0)),0,VLOOKUP($A3+8860000,'Growth Data'!$A:$Z,7,0))","v":0},0,null,"NO",{"$f":"IF(ISERROR(VLOOKUP($A3+8860000,'Growth Data'!$A:$F,4,0)),\"NO\",VLOOKUP($A3+8860000,'Growth Data'!$A:$F,4,0))","v":"NO"},0,null,0,{"$f":"IF(ISERROR(VLOOKUP($A3+8860000,'Growth Data'!$A:$Z,8,0)),0,VLOOKUP($A3+8860000,'Growth Data'!$A:$Z,8,0))","v":0},0,null,0,{"$f":"IF(ISERROR(VLOOKUP($A3+8860000,'Growth Data'!$A:$Z,9,0)),0,VLOOKUP($A3+8860000,'Growth Data'!$A:$Z,9,0))","v":0},0,null,"NO",{"$f":"IF(ISERROR(VLOOKUP($A3+8860000,'Growth Data'!$A:$Z,5,0)),\"NO\",VLOOKUP($A3+8860000,'Growth Data'!$A:$Z,5,0))","v":"NO"},0,null,0,{"$f":"IF(ISERROR(VLOOKUP($A3+8860000,'Growth Data'!$A:$Z,10,0)),0,VLOOKUP($A3+8860000,'Growth Data'!$A:$Z,10,0))","v":0},0,null,0,{"$f":"IF(ISERROR(VLOOKUP($A3+8860000,'Growth Data'!$A:$Z,11,0)),0,VLOOKUP($A3+8860000,'Growth Data'!$A:$Z,11,0))","v":0},0]
[2065,"The Discovery School",null,"The Discovery School",null,1,null,1902299.55,1902299.55,0,null,31727.77,31727.769230769245,7.6923075539525598E-4,null,15415.1,15415.097533206843,2.4667931575095281E-3,null,110601.67,110601.67041984733,-4.1984733252320439E-4,null,120084,120084,0,null,0,0,0,null,0,0,0,null,0,0,0,null,75264,75264,0,null,0,0,0,null,0,0,0,null,390571.91,390571.91281617654,-2.8161765658296645E-3,null,2645964,2645964.0000000005,0,null,0,0,0,null,2645964,2645964.0000000005,0,null,0,null,0,null,null,null,0,null,null,null,0,null,540741.91,540741.91230700817,0,null,16174.5,16174.5,0,null,null,null,0,null,null,null,0,null,null,null,0,null,null,null,0,null,null,null,0,null,null,null,0,null,"NO",{"$f":"IF(ISERROR(VLOOKUP($A4+8860000,'Growth Data'!$A:$F,3,0)),\"NO\",VLOOKUP($A4+8860000,'Growth Data'!$A:$F,3,0))","v":"NO"},0,null,0,{"$f":"IF(DI4=\"YES\",IF(ISERROR(VLOOKUP($A4+8860000,'Growth Data'!$A:$F,6,0)),0,VLOOKUP($A4+8860000,'Growth Data'!$A:$F,6,0)),0)","v":0},0,null,0,{"$f":"IF(ISERROR(VLOOKUP($A4+8860000,'Growth Data'!$A:$Z,7,0)),0,VLOOKUP($A4+8860000,'Growth Data'!$A:$Z,7,0))","v":0},0,null,"NO",{"$f":"IF(ISERROR(VLOOKUP($A4+8860000,'Growth Data'!$A:$F,4,0)),\"NO\",VLOOKUP($A4+8860000,'Growth Data'!$A:$F,4,0))","v":"NO"},0,null,0,{"$f":"IF(ISERROR(VLOOKUP($A4+8860000,'Growth Data'!$A:$Z,8,0)),0,VLOOKUP($A4+8860000,'Growth Data'!$A:$Z,8,0))","v":0},0,null,0,{"$f":"IF(ISERROR(VLOOKUP($A4+8860000,'Growth Data'!$A:$Z,9,0)),0,VLOOKUP($A4+8860000,'Growth Data'!$A:$Z,9,0))","v":0},0,null,"NO",{"$f":"IF(ISERROR(VLOOKUP($A4+8860000,'Growth Data'!$A:$Z,5,0)),\"NO\",VLOOKUP($A4+8860000,'Growth Data'!$A:$Z,5,0))","v":"NO"},0,null,0,{"$f":"IF(ISERROR(VLOOKUP($A4+8860000,'Growth Data'!$A:$Z,10,0)),0,VLOOKUP($A4+8860000,'Growth Data'!$A:$Z,10,0))","v":0},0,null,0,{"$f":"IF(ISERROR(VLOOKUP($A4+8860000,'Growth Data'!$A:$Z,11,0)),0,VLOOKUP($A4+8860000,'Growth Data'!$A:$Z,11,0))","v":0},0]
[2066,"Maypole Primary School",null,"Maypole Primary School",null,1,null,1252733.8500000001,1252733.8500000001,0,null,59522.26,59522.264084158451,-4.0841584486770444E-3,null,16152.75,16152.749999999995,0,null,111934.37,111934.36869436201,1.305637983023189E-3,null,120084,120084,0,null,0,0,0,null,57423.72,57423.722166249558,-2.1662495564669371E-3,null,0,0,0,null,38144,38144,0,null,0,0,0,null,0,0,0,null,75049.05,75049.045055229886,4.9447701167082414E-3,null,1731044,1731044,0,null,0,0,0,null,1731044,1731044,0,null,0,null,0,null,null,null,0,null,null,null,0,null,255504.8,255504.79535190592,0,null,11043.48,11043.475200000001,0,null,null,null,0,null,null,null,0,null,null,null,0,null,null,null,0,null,null,null,0,null,null,null,0,null,"NO",{"$f":"IF(ISERROR(VLOOKUP($A5+8860000,'Growth Data'!$A:$F,3,0)),\"NO\",VLOOKUP($A5+8860000,'Growth Data'!$A:$F,3,0))","v":"NO"},0,null,0,{"$f":"IF(DI5=\"YES\",IF(ISERROR(VLOOKUP($A5+8860000,'Growth Data'!$A:$F,6,0)),0,VLOOKUP($A5+8860000,'Growth Data'!$A:$F,6,0)),0)","v":0},0,null,0,{"$f":"IF(ISERROR(VLOOKUP($A5+8860000,'Growth Data'!$A:$Z,7,0)),0,VLOOKUP($A5+8860000,'Growth Data'!$A:$Z,7,0))","v":0},0,null,"NO",{"$f":"IF(ISERROR(VLOOKUP($A5+8860000,'Growth Data'!$A:$F,4,0)),\"NO\",VLOOKUP($A5+8860000,'Growth Data'!$A:$F,4,0))","v":"NO"},0,null,0,{"$f":"IF(ISERROR(VLOOKUP($A5+8860000,'Growth Data'!$A:$Z,8,0)),0,VLOOKUP($A5+8860000,'Growth Data'!$A:$Z,8,0))","v":0},0,null,0,{"$f":"IF(ISERROR(VLOOKUP($A5+8860000,'Growth Data'!$A:$Z,9,0)),0,VLOOKUP($A5+8860000,'Growth Data'!$A:$Z,9,0))","v":0},0,null,"NO",{"$f":"IF(ISERROR(VLOOKUP($A5+8860000,'Growth Data'!$A:$Z,5,0)),\"NO\",VLOOKUP($A5+8860000,'Growth Data'!$A:$Z,5,0))","v":"NO"},0,null,0,{"$f":"IF(ISERROR(VLOOKUP($A5+8860000,'Growth Data'!$A:$Z,10,0)),0,VLOOKUP($A5+8860000,'Growth Data'!$A:$Z,10,0))","v":0},0,null,0,{"$f":"IF(ISERROR(VLOOKUP($A5+8860000,'Growth Data'!$A:$Z,11,0)),0,VLOOKUP($A5+8860000,'Growth Data'!$A:$Z,11,0))","v":0},0]
[2079,"Woodlands Primary School",null,"Woodlands Primary School",null,1,null,1970349.29,1970349.29,0,null,127513.72,127513.72000000003,0,null,9544.42,9544.4218693284765,-1.8693284764594864E-3,null,152245.19,152245.19005545287,-5.5452866945415735E-5,null,120084,120084,0,null,0,0,0,null,0,0,0,null,0,0,0,null,57856,57856,0,null,0,0,0,null,0,0,0,null,282923.38,282923.37807521864,1.9247813615947962E-3,null,2720516,2720516,0,null,0,0,0,null,2720516,2720516,0,null,0,null,0,null,null,null,0,null,null,null,0,null,537032.97,537032.97230700823,0,null,16753.099999999999,16753.099999999999,0,null,null,null,0,null,null,null,0,null,null,null,0,null,null,null,0,null,null,null,0,null,null,null,0,null,"NO",{"$f":"IF(ISERROR(VLOOKUP($A6+8860000,'Growth Data'!$A:$F,3,0)),\"NO\",VLOOKUP($A6+8860000,'Growth Data'!$A:$F,3,0))","v":"NO"},0,null,0,{"$f":"IF(DI6=\"YES\",IF(ISERROR(VLOOKUP($A6+8860000,'Growth Data'!$A:$F,6,0)),0,VLOOKUP($A6+8860000,'Growth Data'!$A:$F,6,0)),0)","v":0},0,null,0,{"$f":"IF(ISERROR(VLOOKUP($A6+8860000,'Growth Data'!$A:$Z,7,0)),0,VLOOKUP($A6+8860000,'Growth Data'!$A:$Z,7,0))","v":0},0,null,"NO",{"$f":"IF(ISERROR(VLOOKUP($A6+8860000,'Growth Data'!$A:$F,4,0)),\"NO\",VLOOKUP($A6+8860000,'Growth Data'!$A:$F,4,0))","v":"NO"},0,null,0,{"$f":"IF(ISERROR(VLOOKUP($A6+8860000,'Growth Data'!$A:$Z,8,0)),0,VLOOKUP($A6+8860000,'Growth Data'!$A:$Z,8,0))","v":0},0,null,0,{"$f":"IF(ISERROR(VLOOKUP($A6+8860000,'Growth Data'!$A:$Z,9,0)),0,VLOOKUP($A6+8860000,'Growth Data'!$A:$Z,9,0))","v":0},0,null,"NO",{"$f":"IF(ISERROR(VLOOKUP($A6+8860000,'Growth Data'!$A:$Z,5,0)),\"NO\",VLOOKUP($A6+8860000,'Growth Data'!$A:$Z,5,0))","v":"NO"},0,null,0,{"$f":"IF(ISERROR(VLOOKUP($A6+8860000,'Growth Data'!$A:$Z,10,0)),0,VLOOKUP($A6+8860000,'Growth Data'!$A:$Z,10,0))","v":0},0,null,0,{"$f":"IF(ISERROR(VLOOKUP($A6+8860000,'Growth Data'!$A:$Z,11,0)),0,VLOOKUP($A6+8860000,'Growth Data'!$A:$Z,11,0))","v":0},0]
[2088,"Crockenhill Primary School",null,"Crockenhill Primary School",null,1,null,624820.34,624820.34,0,null,54306.69,54306.690000000053,0,null,1939.16,1939.1647674418628,-4.7674418626684201E-3,null,43478.59,43478.588214285715,1.7857142811408266E-3,null,120084,120084,0,null,0,0,0,null,31082.34,31082.339213727573,7.8627242692164145E-4,null,0,0,0,null,24116,24116,0,null,0,0,0,null,0,0,0,null,0,0,0,null,899827.12,899827.12219545513,-2.1954551339149475E-3,null,0,0,0,null,899827.12,899827.12219545513,-2.1954551339149475E-3,null,0,null,0,null,null,null,0,null,null,null,0,null,89336.639999999999,89336.644715361239,0,null,5508.1,5508.1036800000002,0,null,null,null,0,null,null,null,0,null,null,null,0,null,null,null,0,null,null,null,0,null,null,null,0,null,"NO",{"$f":"IF(ISERROR(VLOOKUP($A7+8860000,'Growth Data'!$A:$F,3,0)),\"NO\",VLOOKUP($A7+8860000,'Growth Data'!$A:$F,3,0))","v":"NO"},0,null,0,{"$f":"IF(DI7=\"YES\",IF(ISERROR(VLOOKUP($A7+8860000,'Growth Data'!$A:$F,6,0)),0,VLOOKUP($A7+8860000,'Growth Data'!$A:$F,6,0)),0)","v":0},0,null,0,{"$f":"IF(ISERROR(VLOOKUP($A7+8860000,'Growth Data'!$A:$Z,7,0)),0,VLOOKUP($A7+8860000,'Growth Data'!$A:$Z,7,0))","v":0},0,null,"NO",{"$f":"IF(ISERROR(VLOOKUP($A7+8860000,'Growth Data'!$A:$F,4,0)),\"NO\",VLOOKUP($A7+8860000,'Growth Data'!$A:$F,4,0))","v":"NO"},0,null,0,{"$f":"IF(ISERROR(VLOOKUP($A7+8860000,'Growth Data'!$A:$Z,8,0)),0,VLOOKUP($A7+8860000,'Growth Data'!$A:$Z,8,0))","v":0},0,null,0,{"$f":"IF(ISERROR(VLOOKUP($A7+8860000,'Growth Data'!$A:$Z,9,0)),0,VLOOKUP($A7+8860000,'Growth Data'!$A:$Z,9,0))","v":0},0,null,"NO",{"$f":"IF(ISERROR(VLOOKUP($A7+8860000,'Growth Data'!$A:$Z,5,0)),\"NO\",VLOOKUP($A7+8860000,'Growth Data'!$A:$Z,5,0))","v":"NO"},0,null,0,{"$f":"IF(ISERROR(VLOOKUP($A7+8860000,'Growth Data'!$A:$Z,10,0)),0,VLOOKUP($A7+8860000,'Growth Data'!$A:$Z,10,0))","v":0},0,null,0,{"$f":"IF(ISERROR(VLOOKUP($A7+8860000,'Growth Data'!$A:$Z,11,0)),0,VLOOKUP($A7+8860000,'Growth Data'!$A:$Z,11,0))","v":0},0]
[2089,"The Anthony Roper Primary School",null,"The Anthony Roper Primary School",null,1,null,924857.83,924857.83000000007,0,null,29410.36,29410.364379084982,-4.3790849813376553E-3,null,1943.7,1943.7001181102291,-1.1811022909569147E-4,null,54828.75,54828.752775510206,-2.7755102055380121E-3,null,120084,120084,0,null,0,0,0,null,41625.39,41625.387019635564,2.9803644356434233E-3,null,0,0,0,null,6656,6656,0,null,0,0,0,null,0,0,0,null,77069.97,77069.965707658994,4.2923410073854029E-3,null,1256476,1256476.0000000002,0,null,0,0,0,null,1256476,1256476.0000000002,0,null,0,null,0,null,null,null,0,null,null,null,0,null,163343.63,163343.62773590599,0,null,8153.08,8153.0841599999994,0,null,null,null,0,null,null,null,0,null,null,null,0,null,null,null,0,null,null,null,0,null,null,null,0,null,"NO",{"$f":"IF(ISERROR(VLOOKUP($A8+8860000,'Growth Data'!$A:$F,3,0)),\"NO\",VLOOKUP($A8+8860000,'Growth Data'!$A:$F,3,0))","v":"NO"},0,null,0,{"$f":"IF(DI8=\"YES\",IF(ISERROR(VLOOKUP($A8+8860000,'Growth Data'!$A:$F,6,0)),0,VLOOKUP($A8+8860000,'Growth Data'!$A:$F,6,0)),0)","v":0},0,null,0,{"$f":"IF(ISERROR(VLOOKUP($A8+8860000,'Growth Data'!$A:$Z,7,0)),0,VLOOKUP($A8+8860000,'Growth Data'!$A:$Z,7,0))","v":0},0,null,"NO",{"$f":"IF(ISERROR(VLOOKUP($A8+8860000,'Growth Data'!$A:$F,4,0)),\"NO\",VLOOKUP($A8+8860000,'Growth Data'!$A:$F,4,0))","v":"NO"},0,null,0,{"$f":"IF(ISERROR(VLOOKUP($A8+8860000,'Growth Data'!$A:$Z,8,0)),0,VLOOKUP($A8+8860000,'Growth Data'!$A:$Z,8,0))","v":0},0,null,0,{"$f":"IF(ISERROR(VLOOKUP($A8+8860000,'Growth Data'!$A:$Z,9,0)),0,VLOOKUP($A8+8860000,'Growth Data'!$A:$Z,9,0))","v":0},0,null,"NO",{"$f":"IF(ISERROR(VLOOKUP($A8+8860000,'Growth Data'!$A:$Z,5,0)),\"NO\",VLOOKUP($A8+8860000,'Growth Data'!$A:$Z,5,0))","v":"NO"},0,null,0,{"$f":"IF(ISERROR(VLOOKUP($A8+8860000,'Growth Data'!$A:$Z,10,0)),0,VLOOKUP($A8+8860000,'Growth Data'!$A:$Z,10,0))","v":0},0,null,0,{"$f":"IF(ISERROR(VLOOKUP($A8+8860000,'Growth Data'!$A:$Z,11,0)),0,VLOOKUP($A8+8860000,'Growth Data'!$A:$Z,11,0))","v":0},0]
[2094,"Cobham Primary School",null,"Cobham Primary School",null,1,null,677404.23,677404.23,0,null,10201.870000000001,10201.874357798166,-4.3577981650742004E-3,null,641.15,641.14579787234015,4.2021276598234181E-3,null,34648.6,34648.598983957214,1.0160427846130915E-3,null,120084,120084,0,null,0,0,0,null,0,0,0,null,0,0,0,null,17216,17216,0,null,0,0,0,null,0,0,0,null,72440.149999999994,72440.15086037229,-8.6037229630164802E-4,null,932636,932636,0,null,0,0,0,null,932636,932636,0,null,0,null,0,null,null,null,0,null,null,null,0,null,120023.95,120023.95230700816,0,null,5759.7,5759.7000000000007,0,null,null,null,0,null,null,null,0,null,null,null,0,null,null,null,0,null,null,null,0,null,null,null,0,null,"NO",{"$f":"IF(ISERROR(VLOOKUP($A9+8860000,'Growth Data'!$A:$F,3,0)),\"NO\",VLOOKUP($A9+8860000,'Growth Data'!$A:$F,3,0))","v":"NO"},0,null,0,{"$f":"IF(DI9=\"YES\",IF(ISERROR(VLOOKUP($A9+8860000,'Growth Data'!$A:$F,6,0)),0,VLOOKUP($A9+8860000,'Growth Data'!$A:$F,6,0)),0)","v":0},0,null,0,{"$f":"IF(ISERROR(VLOOKUP($A9+8860000,'Growth Data'!$A:$Z,7,0)),0,VLOOKUP($A9+8860000,'Growth Data'!$A:$Z,7,0))","v":0},0,null,"NO",{"$f":"IF(ISERROR(VLOOKUP($A9+8860000,'Growth Data'!$A:$F,4,0)),\"NO\",VLOOKUP($A9+8860000,'Growth Data'!$A:$F,4,0))","v":"NO"},0,null,0,{"$f":"IF(ISERROR(VLOOKUP($A9+8860000,'Growth Data'!$A:$Z,8,0)),0,VLOOKUP($A9+8860000,'Growth Data'!$A:$Z,8,0))","v":0},0,null,0,{"$f":"IF(ISERROR(VLOOKUP($A9+8860000,'Growth Data'!$A:$Z,9,0)),0,VLOOKUP($A9+8860000,'Growth Data'!$A:$Z,9,0))","v":0},0,null,"NO",{"$f":"IF(ISERROR(VLOOKUP($A9+8860000,'Growth Data'!$A:$Z,5,0)),\"NO\",VLOOKUP($A9+8860000,'Growth Data'!$A:$Z,5,0))","v":"NO"},0,null,0,{"$f":"IF(ISERROR(VLOOKUP($A9+8860000,'Growth Data'!$A:$Z,10,0)),0,VLOOKUP($A9+8860000,'Growth Data'!$A:$Z,10,0))","v":0},0,null,0,{"$f":"IF(ISERROR(VLOOKUP($A9+8860000,'Growth Data'!$A:$Z,11,0)),0,VLOOKUP($A9+8860000,'Growth Data'!$A:$Z,11,0))","v":0},0]
[2095,"Cecil Road Primary and Nursery School",null,"Cecil Road Primary and Nursery School",null,1,null,1169218.26,1169218.26,0,null,90246.89,90246.887446808425,2.5531915744068101E-3,null,50727.61,50727.611666666628,-1.6666666269884445E-3,null,100534.24,100534.23786407767,2.1359223319450393E-3,null,120084,120084,0,null,0,0,0,null,0,0,0,null,0,0,0,null,34048,34048,0,null,0,0,0,null,0,0,0,null,49229,49229.003022447287,-3.0224472866393626E-3,null,1614088,1614088,0,null,0,0,0,null,1614088,1614088,0,null,0,null,0,null,null,null,0,null,null,null,0,null,268893.28000000003,268893.28230700822,0,null,9941.4,9941.4000000000015,0,null,null,null,0,null,null,null,0,null,null,null,0,null,null,null,0,null,null,null,0,null,null,null,0,null,"NO",{"$f":"IF(ISERROR(VLOOKUP($A10+8860000,'Growth Data'!$A:$F,3,0)),\"NO\",VLOOKUP($A10+8860000,'Growth Data'!$A:$F,3,0))","v":"NO"},0,null,0,{"$f":"IF(DI10=\"YES\",IF(ISERROR(VLOOKUP($A10+8860000,'Growth Data'!$A:$F,6,0)),0,VLOOKUP($A10+8860000,'Growth Data'!$A:$F,6,0)),0)","v":0},0,null,0,{"$f":"IF(ISERROR(VLOOKUP($A10+8860000,'Growth Data'!$A:$Z,7,0)),0,VLOOKUP($A10+8860000,'Growth Data'!$A:$Z,7,0))","v":0},0,null,"NO",{"$f":"IF(ISERROR(VLOOKUP($A10+8860000,'Growth Data'!$A:$F,4,0)),\"NO\",VLOOKUP($A10+8860000,'Growth Data'!$A:$F,4,0))","v":"NO"},0,null,0,{"$f":"IF(ISERROR(VLOOKUP($A10+8860000,'Growth Data'!$A:$Z,8,0)),0,VLOOKUP($A10+8860000,'Growth Data'!$A:$Z,8,0))","v":0},0,null,0,{"$f":"IF(ISERROR(VLOOKUP($A10+8860000,'Growth Data'!$A:$Z,9,0)),0,VLOOKUP($A10+8860000,'Growth Data'!$A:$Z,9,0))","v":0},0,null,"NO",{"$f":"IF(ISERROR(VLOOKUP($A10+8860000,'Growth Data'!$A:$Z,5,0)),\"NO\",VLOOKUP($A10+8860000,'Growth Data'!$A:$Z,5,0))","v":"NO"},0,null,0,{"$f":"IF(ISERROR(VLOOKUP($A10+8860000,'Growth Data'!$A:$Z,10,0)),0,VLOOKUP($A10+8860000,'Growth Data'!$A:$Z,10,0))","v":0},0,null,0,{"$f":"IF(ISERROR(VLOOKUP($A10+8860000,'Growth Data'!$A:$Z,11,0)),0,VLOOKUP($A10+8860000,'Growth Data'!$A:$Z,11,0))","v":0},0]
[2109,"Higham Primary School",null,"Higham Primary School",null,1,null,637193.02,637193.02,0,null,16562.91,16562.913671497583,-3.6714975831273478E-3,null,1273.94,1273.9364044943845,3.595505615521688E-3,null,58663.94,58663.935141242931,4.8587570709059946E-3,null,120084,120084,0,null,0,0,0,null,0,0,0,null,0,0,0,null,22330,22330,0,null,0,0,0,null,0,0,0,null,27302.19,27302.194782765087,-4.7827650887484197E-3,null,883410,883410,0,null,0,0,0,null,883410,883410,0,null,0,null,0,null,null,null,0,null,null,null,0,null,102212.6,102212.60230700814,0,null,5417.8,5417.7999999999993,0,null,null,null,0,null,null,null,0,null,null,null,0,null,null,null,0,null,null,null,0,null,null,null,0,null,"NO",{"$f":"IF(ISERROR(VLOOKUP($A11+8860000,'Growth Data'!$A:$F,3,0)),\"NO\",VLOOKUP($A11+8860000,'Growth Data'!$A:$F,3,0))","v":"NO"},0,null,0,{"$f":"IF(DI11=\"YES\",IF(ISERROR(VLOOKUP($A11+8860000,'Growth Data'!$A:$F,6,0)),0,VLOOKUP($A11+8860000,'Growth Data'!$A:$F,6,0)),0)","v":0},0,null,0,{"$f":"IF(ISERROR(VLOOKUP($A11+8860000,'Growth Data'!$A:$Z,7,0)),0,VLOOKUP($A11+8860000,'Growth Data'!$A:$Z,7,0))","v":0},0,null,"NO",{"$f":"IF(ISERROR(VLOOKUP($A11+8860000,'Growth Data'!$A:$F,4,0)),\"NO\",VLOOKUP($A11+8860000,'Growth Data'!$A:$F,4,0))","v":"NO"},0,null,0,{"$f":"IF(ISERROR(VLOOKUP($A11+8860000,'Growth Data'!$A:$Z,8,0)),0,VLOOKUP($A11+8860000,'Growth Data'!$A:$Z,8,0))","v":0},0,null,0,{"$f":"IF(ISERROR(VLOOKUP($A11+8860000,'Growth Data'!$A:$Z,9,0)),0,VLOOKUP($A11+8860000,'Growth Data'!$A:$Z,9,0))","v":0},0,null,"NO",{"$f":"IF(ISERROR(VLOOKUP($A11+8860000,'Growth Data'!$A:$Z,5,0)),\"NO\",VLOOKUP($A11+8860000,'Growth Data'!$A:$Z,5,0))","v":"NO"},0,null,0,{"$f":"IF(ISERROR(VLOOKUP($A11+8860000,'Growth Data'!$A:$Z,10,0)),0,VLOOKUP($A11+8860000,'Growth Data'!$A:$Z,10,0))","v":0},0,null,0,{"$f":"IF(ISERROR(VLOOKUP($A11+8860000,'Growth Data'!$A:$Z,11,0)),0,VLOOKUP($A11+8860000,'Growth Data'!$A:$Z,11,0))","v":0},0]
[2116,"Lawn Primary School",null,"Lawn Primary School",null,1,null,603168.15,603168.15,0,null,168011.36,168011.35512315269,4.8768472915980965E-3,null,22766.13,22766.131818181802,-1.8181818013545126E-3,null,88417.3,88417.303448275867,-3.4482758637750521E-3,null,120084,120084,0,null,0,0,0,null,0,0,0,null,0,0,0,null,20709,20709,0,null,0,0,0,null,0,0,0,null,0,0,0,null,1023155.94,1023155.9403896105,-3.8961053360253572E-4,null,0,0,0,null,1023155.94,1023155.9403896105,-3.8961053360253572E-4,null,0,null,0,null,null,null,0,null,null,null,0,null,234334.33,234334.33269661851,0,null,5128.5,5128.5,0,null,null,null,0,null,null,null,0,null,null,null,0,null,null,null,0,null,null,null,0,null,null,null,0,null,"NO",{"$f":"IF(ISERROR(VLOOKUP($A12+8860000,'Growth Data'!$A:$F,3,0)),\"NO\",VLOOKUP($A12+8860000,'Growth Data'!$A:$F,3,0))","v":"NO"},0,null,0,{"$f":"IF(DI12=\"YES\",IF(ISERROR(VLOOKUP($A12+8860000,'Growth Data'!$A:$F,6,0)),0,VLOOKUP($A12+8860000,'Growth Data'!$A:$F,6,0)),0)","v":0},0,null,0,{"$f":"IF(ISERROR(VLOOKUP($A12+8860000,'Growth Data'!$A:$Z,7,0)),0,VLOOKUP($A12+8860000,'Growth Data'!$A:$Z,7,0))","v":0},0,null,"NO",{"$f":"IF(ISERROR(VLOOKUP($A12+8860000,'Growth Data'!$A:$F,4,0)),\"NO\",VLOOKUP($A12+8860000,'Growth Data'!$A:$F,4,0))","v":"NO"},0,null,0,{"$f":"IF(ISERROR(VLOOKUP($A12+8860000,'Growth Data'!$A:$Z,8,0)),0,VLOOKUP($A12+8860000,'Growth Data'!$A:$Z,8,0))","v":0},0,null,0,{"$f":"IF(ISERROR(VLOOKUP($A12+8860000,'Growth Data'!$A:$Z,9,0)),0,VLOOKUP($A12+8860000,'Growth Data'!$A:$Z,9,0))","v":0},0,null,"NO",{"$f":"IF(ISERROR(VLOOKUP($A12+8860000,'Growth Data'!$A:$Z,5,0)),\"NO\",VLOOKUP($A12+8860000,'Growth Data'!$A:$Z,5,0))","v":"NO"},0,null,0,{"$f":"IF(ISERROR(VLOOKUP($A12+8860000,'Growth Data'!$A:$Z,10,0)),0,VLOOKUP($A12+8860000,'Growth Data'!$A:$Z,10,0))","v":0},0,null,0,{"$f":"IF(ISERROR(VLOOKUP($A12+8860000,'Growth Data'!$A:$Z,11,0)),0,VLOOKUP($A12+8860000,'Growth Data'!$A:$Z,11,0))","v":0},0]
[2119,"Shears Green Infant School",null,"Shears Green Infant School",null,1,null,1048584.6299999999,1048584.6300000001,0,null,97334.53,97334.529999999984,0,null,23025.040000000001,23025.038680851074,1.3191489269956946E-3,null,48034.400000000001,48034.40043103449,-4.3103448842884973E-4,null,120084,120084,0,null,0,0,0,null,0,0,0,null,0,0,0,null,21760,21760,0,null,0,0,0,null,0,0,0,null,79957.399999999994,79957.400888114353,-8.8811435853131115E-4,null,1438780,1438780,0,null,0,0,0,null,1438780,1438780,0,null,0,null,0,null,null,null,0,null,null,null,0,null,229729.15,229729.15230700804,0,null,8915.7000000000007,8915.7000000000007,0,null,null,null,0,null,null,null,0,null,null,null,0,null,null,null,0,null,null,null,0,null,null,null,0,null,"NO",{"$f":"IF(ISERROR(VLOOKUP($A13+8860000,'Growth Data'!$A:$F,3,0)),\"NO\",VLOOKUP($A13+8860000,'Growth Data'!$A:$F,3,0))","v":"NO"},0,null,0,{"$f":"IF(DI13=\"YES\",IF(ISERROR(VLOOKUP($A13+8860000,'Growth Data'!$A:$F,6,0)),0,VLOOKUP($A13+8860000,'Growth Data'!$A:$F,6,0)),0)","v":0},0,null,0,{"$f":"IF(ISERROR(VLOOKUP($A13+8860000,'Growth Data'!$A:$Z,7,0)),0,VLOOKUP($A13+8860000,'Growth Data'!$A:$Z,7,0))","v":0},0,null,"NO",{"$f":"IF(ISERROR(VLOOKUP($A13+8860000,'Growth Data'!$A:$F,4,0)),\"NO\",VLOOKUP($A13+8860000,'Growth Data'!$A:$F,4,0))","v":"NO"},0,null,0,{"$f":"IF(ISERROR(VLOOKUP($A13+8860000,'Growth Data'!$A:$Z,8,0)),0,VLOOKUP($A13+8860000,'Growth Data'!$A:$Z,8,0))","v":0},0,null,0,{"$f":"IF(ISERROR(VLOOKUP($A13+8860000,'Growth Data'!$A:$Z,9,0)),0,VLOOKUP($A13+8860000,'Growth Data'!$A:$Z,9,0))","v":0},0,null,"NO",{"$f":"IF(ISERROR(VLOOKUP($A13+8860000,'Growth Data'!$A:$Z,5,0)),\"NO\",VLOOKUP($A13+8860000,'Growth Data'!$A:$Z,5,0))","v":"NO"},0,null,0,{"$f":"IF(ISERROR(VLOOKUP($A13+8860000,'Growth Data'!$A:$Z,10,0)),0,VLOOKUP($A13+8860000,'Growth Data'!$A:$Z,10,0))","v":0},0,null,0,{"$f":"IF(ISERROR(VLOOKUP($A13+8860000,'Growth Data'!$A:$Z,11,0)),0,VLOOKUP($A13+8860000,'Growth Data'!$A:$Z,11,0))","v":0},0]
[2120,"Bean Primary School",null,"Bean Primary School",null,1,null,596981.81000000006,596981.81000000006,0,null,53653.15,53653.14611940294,3.8805970616522245E-3,null,5431.97,5431.9740340909048,-4.034090904497134E-3,null,47272.81,47272.806941176466,3.0588235313189216E-3,null,120084,120084,0,null,0,0,0,null,30301.99,30301.993525083868,-3.5250838664069306E-3,null,0,0,0,null,16093,16093,0,null,0,0,0,null,0,0,0,null,0,0,0,null,869818.73,869818.73061975418,-6.1975419521331787E-4,null,0,0,0,null,869818.73,869818.73061975418,-6.1975419521331787E-4,null,0,null,0,null,null,null,0,null,null,null,0,null,100509.58,100509.57902766023,0,null,5262.69,5262.693119999999,0,null,null,null,0,null,null,null,0,null,null,null,0,null,null,null,0,null,null,null,0,null,null,null,0,null,"NO",{"$f":"IF(ISERROR(VLOOKUP($A14+8860000,'Growth Data'!$A:$F,3,0)),\"NO\",VLOOKUP($A14+8860000,'Growth Data'!$A:$F,3,0))","v":"NO"},0,null,0,{"$f":"IF(DI14=\"YES\",IF(ISERROR(VLOOKUP($A14+8860000,'Growth Data'!$A:$F,6,0)),0,VLOOKUP($A14+8860000,'Growth Data'!$A:$F,6,0)),0)","v":0},0,null,0,{"$f":"IF(ISERROR(VLOOKUP($A14+8860000,'Growth Data'!$A:$Z,7,0)),0,VLOOKUP($A14+8860000,'Growth Data'!$A:$Z,7,0))","v":0},0,null,"NO",{"$f":"IF(ISERROR(VLOOKUP($A14+8860000,'Growth Data'!$A:$F,4,0)),\"NO\",VLOOKUP($A14+8860000,'Growth Data'!$A:$F,4,0))","v":"NO"},0,null,0,{"$f":"IF(ISERROR(VLOOKUP($A14+8860000,'Growth Data'!$A:$Z,8,0)),0,VLOOKUP($A14+8860000,'Growth Data'!$A:$Z,8,0))","v":0},0,null,0,{"$f":"IF(ISERROR(VLOOKUP($A14+8860000,'Growth Data'!$A:$Z,9,0)),0,VLOOKUP($A14+8860000,'Growth Data'!$A:$Z,9,0))","v":0},0,null,"NO",{"$f":"IF(ISERROR(VLOOKUP($A14+8860000,'Growth Data'!$A:$Z,5,0)),\"NO\",VLOOKUP($A14+8860000,'Growth Data'!$A:$Z,5,0))","v":"NO"},0,null,0,{"$f":"IF(ISERROR(VLOOKUP($A14+8860000,'Growth Data'!$A:$Z,10,0)),0,VLOOKUP($A14+8860000,'Growth Data'!$A:$Z,10,0))","v":0},0,null,0,{"$f":"IF(ISERROR(VLOOKUP($A14+8860000,'Growth Data'!$A:$Z,11,0)),0,VLOOKUP($A14+8860000,'Growth Data'!$A:$Z,11,0))","v":0},0]
[2128,"Capel Primary School",null,"Capel Primary School",null,1,null,640286.18999999994,640286.19000000006,0,null,32125.31,32125.309999999969,3.2741809263825417E-11,null,3840.36,3840.3616853932549,-1.6853932547746808E-3,null,43204.65,43204.645714285711,4.2857142907450907E-3,null,120084,120084,0,null,0,0,0,null,0,0,0,null,0,0,0,null,21457,21457,0,null,0,0,0,null,0,0,0,null,25719.49,25719.492600321013,-2.6003210114140529E-3,null,886717,886717,0,null,0,0,0,null,886717,886717,0,null,0,null,0,null,null,null,0,null,null,null,0,null,96854.95,96854.95230700812,0,null,5444.1,5444.1,0,null,null,null,0,null,null,null,0,null,null,null,0,null,null,null,0,null,null,null,0,null,null,null,0,null,"NO",{"$f":"IF(ISERROR(VLOOKUP($A15+8860000,'Growth Data'!$A:$F,3,0)),\"NO\",VLOOKUP($A15+8860000,'Growth Data'!$A:$F,3,0))","v":"NO"},0,null,0,{"$f":"IF(DI15=\"YES\",IF(ISERROR(VLOOKUP($A15+8860000,'Growth Data'!$A:$F,6,0)),0,VLOOKUP($A15+8860000,'Growth Data'!$A:$F,6,0)),0)","v":0},0,null,0,{"$f":"IF(ISERROR(VLOOKUP($A15+8860000,'Growth Data'!$A:$Z,7,0)),0,VLOOKUP($A15+8860000,'Growth Data'!$A:$Z,7,0))","v":0},0,null,"NO",{"$f":"IF(ISERROR(VLOOKUP($A15+8860000,'Growth Data'!$A:$F,4,0)),\"NO\",VLOOKUP($A15+8860000,'Growth Data'!$A:$F,4,0))","v":"NO"},0,null,0,{"$f":"IF(ISERROR(VLOOKUP($A15+8860000,'Growth Data'!$A:$Z,8,0)),0,VLOOKUP($A15+8860000,'Growth Data'!$A:$Z,8,0))","v":0},0,null,0,{"$f":"IF(ISERROR(VLOOKUP($A15+8860000,'Growth Data'!$A:$Z,9,0)),0,VLOOKUP($A15+8860000,'Growth Data'!$A:$Z,9,0))","v":0},0,null,"NO",{"$f":"IF(ISERROR(VLOOKUP($A15+8860000,'Growth Data'!$A:$Z,5,0)),\"NO\",VLOOKUP($A15+8860000,'Growth Data'!$A:$Z,5,0))","v":"NO"},0,null,0,{"$f":"IF(ISERROR(VLOOKUP($A15+8860000,'Growth Data'!$A:$Z,10,0)),0,VLOOKUP($A15+8860000,'Growth Data'!$A:$Z,10,0))","v":0},0,null,0,{"$f":"IF(ISERROR(VLOOKUP($A15+8860000,'Growth Data'!$A:$Z,11,0)),0,VLOOKUP($A15+8860000,'Growth Data'!$A:$Z,11,0))","v":0},0]
[2130,"Dunton Green Primary School",null,"Dunton Green Primary School",null,1,null,566050.11,566050.11,0,null,40518.089999999997,40518.090000000011,0,null,7147.97,7147.9681935483895,1.8064516107187956E-3,null,48301.86,48301.86153284672,-1.5328467197832651E-3,null,120084,120084,0,null,0,0,0,null,28781.35,28781.354693931338,-4.6939313397160731E-3,null,0,0,0,null,24576,24576,0,null,0,0,0,null,0,0,0,null,0,0,0,null,835459.38,835459.38442032633,-4.4203263241797686E-3,null,0,0,0,null,835459.38,835459.38442032633,-4.4203263241797686E-3,null,0,null,0,null,null,null,0,null,null,null,0,null,82101.06,82101.06297223251,0,null,4990.01,4990.0147199999992,0,null,null,null,0,null,null,null,0,null,null,null,0,null,null,null,0,null,null,null,0,null,null,null,0,null,"NO",{"$f":"IF(ISERROR(VLOOKUP($A16+8860000,'Growth Data'!$A:$F,3,0)),\"NO\",VLOOKUP($A16+8860000,'Growth Data'!$A:$F,3,0))","v":"NO"},0,null,0,{"$f":"IF(DI16=\"YES\",IF(ISERROR(VLOOKUP($A16+8860000,'Growth Data'!$A:$F,6,0)),0,VLOOKUP($A16+8860000,'Growth Data'!$A:$F,6,0)),0)","v":0},0,null,0,{"$f":"IF(ISERROR(VLOOKUP($A16+8860000,'Growth Data'!$A:$Z,7,0)),0,VLOOKUP($A16+8860000,'Growth Data'!$A:$Z,7,0))","v":0},0,null,"NO",{"$f":"IF(ISERROR(VLOOKUP($A16+8860000,'Growth Data'!$A:$F,4,0)),\"NO\",VLOOKUP($A16+8860000,'Growth Data'!$A:$F,4,0))","v":"NO"},0,null,0,{"$f":"IF(ISERROR(VLOOKUP($A16+8860000,'Growth Data'!$A:$Z,8,0)),0,VLOOKUP($A16+8860000,'Growth Data'!$A:$Z,8,0))","v":0},0,null,0,{"$f":"IF(ISERROR(VLOOKUP($A16+8860000,'Growth Data'!$A:$Z,9,0)),0,VLOOKUP($A16+8860000,'Growth Data'!$A:$Z,9,0))","v":0},0,null,"NO",{"$f":"IF(ISERROR(VLOOKUP($A16+8860000,'Growth Data'!$A:$Z,5,0)),\"NO\",VLOOKUP($A16+8860000,'Growth Data'!$A:$Z,5,0))","v":"NO"},0,null,0,{"$f":"IF(ISERROR(VLOOKUP($A16+8860000,'Growth Data'!$A:$Z,10,0)),0,VLOOKUP($A16+8860000,'Growth Data'!$A:$Z,10,0))","v":0},0,null,0,{"$f":"IF(ISERROR(VLOOKUP($A16+8860000,'Growth Data'!$A:$Z,11,0)),0,VLOOKUP($A16+8860000,'Growth Data'!$A:$Z,11,0))","v":0},0]
[2132,"Hadlow Primary School",null,"Hadlow Primary School",null,1,null,572236.44999999995,572236.45000000007,0,null,56803.96,56803.955927835035,4.0721649638726376E-3,null,1313.83,1313.8341935483859,-4.1935483859560918E-3,null,57718.16,57718.162847222215,-2.8472222111304291E-3,null,120084,120084,0,null,0,0,0,null,0,0,0,null,0,0,0,null,24326,24326,0,null,0,0,0,null,0,0,0,null,0,0,0,null,832482.4,832482.40296860575,-2.9686057241633534E-3,null,0,0,0,null,832482.4,832482.40296860575,-2.9686057241633534E-3,null,0,null,0,null,null,null,0,null,null,null,0,null,105039.18,105039.17527561379,0,null,4865.5,4865.5,0,null,null,null,0,null,null,null,0,null,null,null,0,null,null,null,0,null,null,null,0,null,null,null,0,null,"NO",{"$f":"IF(ISERROR(VLOOKUP($A17+8860000,'Growth Data'!$A:$F,3,0)),\"NO\",VLOOKUP($A17+8860000,'Growth Data'!$A:$F,3,0))","v":"NO"},0,null,0,{"$f":"IF(DI17=\"YES\",IF(ISERROR(VLOOKUP($A17+8860000,'Growth Data'!$A:$F,6,0)),0,VLOOKUP($A17+8860000,'Growth Data'!$A:$F,6,0)),0)","v":0},0,null,0,{"$f":"IF(ISERROR(VLOOKUP($A17+8860000,'Growth Data'!$A:$Z,7,0)),0,VLOOKUP($A17+8860000,'Growth Data'!$A:$Z,7,0))","v":0},0,null,"NO",{"$f":"IF(ISERROR(VLOOKUP($A17+8860000,'Growth Data'!$A:$F,4,0)),\"NO\",VLOOKUP($A17+8860000,'Growth Data'!$A:$F,4,0))","v":"NO"},0,null,0,{"$f":"IF(ISERROR(VLOOKUP($A17+8860000,'Growth Data'!$A:$Z,8,0)),0,VLOOKUP($A17+8860000,'Growth Data'!$A:$Z,8,0))","v":0},0,null,0,{"$f":"IF(ISERROR(VLOOKUP($A17+8860000,'Growth Data'!$A:$Z,9,0)),0,VLOOKUP($A17+8860000,'Growth Data'!$A:$Z,9,0))","v":0},0,null,"NO",{"$f":"IF(ISERROR(VLOOKUP($A17+8860000,'Growth Data'!$A:$Z,5,0)),\"NO\",VLOOKUP($A17+8860000,'Growth Data'!$A:$Z,5,0))","v":"NO"},0,null,0,{"$f":"IF(ISERROR(VLOOKUP($A17+8860000,'Growth Data'!$A:$Z,10,0)),0,VLOOKUP($A17+8860000,'Growth Data'!$A:$Z,10,0))","v":0},0,null,0,{"$f":"IF(ISERROR(VLOOKUP($A17+8860000,'Growth Data'!$A:$Z,11,0)),0,VLOOKUP($A17+8860000,'Growth Data'!$A:$Z,11,0))","v":0},0]
[2133,"Halstead Community Primary School",null,"Halstead Community Primary School",null,1,null,225801.41,225801.41,0,null,19480.509999999998,19480.510000000017,0,null,0,0,0,null,20642.89,20642.892903225806,-2.9032258062215988E-3,null,120084,120084,0,null,0,0,0,null,14205.12,14205.124314838711,-4.3148387103428831E-3,null,0,0,0,null,9481,9481,0,null,0,0,0,null,0,0,0,null,0,0,0,null,409694.94,409694.93721806456,2.78193544363603E-3,null,1299.9000000000001,1299.8963593353983,3.6406646017894673E-3,null,410994.83,410994.83357739996,-3.5773999406956136E-3,null,0,null,0,null,null,null,0,null,null,null,0,null,40296.42,40296.41734530597,0,null,1990.55,1990.5523199999998,0,null,null,null,0,null,null,null,0,null,null,null,0,null,null,null,0,null,null,null,0,null,null,null,0,null,"NO",{"$f":"IF(ISERROR(VLOOKUP($A18+8860000,'Growth Data'!$A:$F,3,0)),\"NO\",VLOOKUP($A18+8860000,'Growth Data'!$A:$F,3,0))","v":"NO"},0,null,0,{"$f":"IF(DI18=\"YES\",IF(ISERROR(VLOOKUP($A18+8860000,'Growth Data'!$A:$F,6,0)),0,VLOOKUP($A18+8860000,'Growth Data'!$A:$F,6,0)),0)","v":0},0,null,0,{"$f":"IF(ISERROR(VLOOKUP($A18+8860000,'Growth Data'!$A:$Z,7,0)),0,VLOOKUP($A18+8860000,'Growth Data'!$A:$Z,7,0))","v":0},0,null,"NO",{"$f":"IF(ISERROR(VLOOKUP($A18+8860000,'Growth Data'!$A:$F,4,0)),\"NO\",VLOOKUP($A18+8860000,'Growth Data'!$A:$F,4,0))","v":"NO"},0,null,0,{"$f":"IF(ISERROR(VLOOKUP($A18+8860000,'Growth Data'!$A:$Z,8,0)),0,VLOOKUP($A18+8860000,'Growth Data'!$A:$Z,8,0))","v":0},0,null,0,{"$f":"IF(ISERROR(VLOOKUP($A18+8860000,'Growth Data'!$A:$Z,9,0)),0,VLOOKUP($A18+8860000,'Growth Data'!$A:$Z,9,0))","v":0},0,null,"NO",{"$f":"IF(ISERROR(VLOOKUP($A18+8860000,'Growth Data'!$A:$Z,5,0)),\"NO\",VLOOKUP($A18+8860000,'Growth Data'!$A:$Z,5,0))","v":"NO"},0,null,0,{"$f":"IF(ISERROR(VLOOKUP($A18+8860000,'Growth Data'!$A:$Z,10,0)),0,VLOOKUP($A18+8860000,'Growth Data'!$A:$Z,10,0))","v":0},0,null,0,{"$f":"IF(ISERROR(VLOOKUP($A18+8860000,'Growth Data'!$A:$Z,11,0)),0,VLOOKUP($A18+8860000,'Growth Data'!$A:$Z,11,0))","v":0},0]
[2134,"Four Elms Primary School",null,"Four Elms Primary School",null,1,null,330969.19,330969.19,0,null,17739.97,17739.9704716981,-4.7169809840852395E-4,null,0,0,0,null,33871.47,33871.468222222218,1.7777777829905972E-3,null,120084,120084,0,null,0,0,0,null,18498.060000000001,18498.058335936268,1.6640637331875041E-3,null,0,0,0,null,13348,13348,0,null,0,0,0,null,0,0,0,null,0,0,0,null,534510.68999999994,534510.68702985661,2.9701433377340436E-3,null,0,0,0,null,534510.68999999994,534510.68702985661,2.9701433377340436E-3,null,0,null,0,null,null,null,0,null,null,null,0,null,56157.17,56157.174029762631,0,null,2917.66,2917.6588800000004,0,null,null,null,0,null,null,null,0,null,null,null,0,null,null,null,0,null,null,null,0,null,null,null,0,null,"NO",{"$f":"IF(ISERROR(VLOOKUP($A19+8860000,'Growth Data'!$A:$F,3,0)),\"NO\",VLOOKUP($A19+8860000,'Growth Data'!$A:$F,3,0))","v":"NO"},0,null,0,{"$f":"IF(DI19=\"YES\",IF(ISERROR(VLOOKUP($A19+8860000,'Growth Data'!$A:$F,6,0)),0,VLOOKUP($A19+8860000,'Growth Data'!$A:$F,6,0)),0)","v":0},0,null,0,{"$f":"IF(ISERROR(VLOOKUP($A19+8860000,'Growth Data'!$A:$Z,7,0)),0,VLOOKUP($A19+8860000,'Growth Data'!$A:$Z,7,0))","v":0},0,null,"NO",{"$f":"IF(ISERROR(VLOOKUP($A19+8860000,'Growth Data'!$A:$F,4,0)),\"NO\",VLOOKUP($A19+8860000,'Growth Data'!$A:$F,4,0))","v":"NO"},0,null,0,{"$f":"IF(ISERROR(VLOOKUP($A19+8860000,'Growth Data'!$A:$Z,8,0)),0,VLOOKUP($A19+8860000,'Growth Data'!$A:$Z,8,0))","v":0},0,null,0,{"$f":"IF(ISERROR(VLOOKUP($A19+8860000,'Growth Data'!$A:$Z,9,0)),0,VLOOKUP($A19+8860000,'Growth Data'!$A:$Z,9,0))","v":0},0,null,"NO",{"$f":"IF(ISERROR(VLOOKUP($A19+8860000,'Growth Data'!$A:$Z,5,0)),\"NO\",VLOOKUP($A19+8860000,'Growth Data'!$A:$Z,5,0))","v":"NO"},0,null,0,{"$f":"IF(ISERROR(VLOOKUP($A19+8860000,'Growth Data'!$A:$Z,10,0)),0,VLOOKUP($A19+8860000,'Growth Data'!$A:$Z,10,0))","v":0},0,null,0,{"$f":"IF(ISERROR(VLOOKUP($A19+8860000,'Growth Data'!$A:$Z,11,0)),0,VLOOKUP($A19+8860000,'Growth Data'!$A:$Z,11,0))","v":0},0]
[2136,"Kemsing Primary School",null,"Kemsing Primary School",null,1,null,578422.79,578422.79,0,null,18941.150000000001,18941.145485264184,4.5147358177928254E-3,null,1941.94,1941.9420754716994,-2.0754716992996691E-3,null,63455.69,63455.687225806454,2.7741935482481495E-3,null,120084,120084,0,null,0,0,0,null,28808.720000000001,28808.716784144755,3.2158552457985934E-3,null,0,0,0,null,21956,21956,0,null,0,0,0,null,0,0,0,null,0,0,0,null,833610.28,833610.28157068708,-1.5706870472058654E-3,null,0,0,0,null,833610.28,833610.28157068708,-1.5706870472058654E-3,null,0,null,0,null,null,null,0,null,null,null,0,null,83884.5,83884.499002593118,0,null,5099.09,5099.08608,0,null,null,null,0,null,null,null,0,null,null,null,0,null,null,null,0,null,null,null,0,null,null,null,0,null,"YES",{"$f":"IF(ISERROR(VLOOKUP($A20+8860000,'Growth Data'!$A:$F,3,0)),\"NO\",VLOOKUP($A20+8860000,'Growth Data'!$A:$F,3,0))","v":"NO"},1,null,31,{"$f":"IF(DI20=\"YES\",IF(ISERROR(VLOOKUP($A20+8860000,'Growth Data'!$A:$F,6,0)),0,VLOOKUP($A20+8860000,'Growth Data'!$A:$F,6,0)),0)","v":0},31,null,60,{"$f":"IF(ISERROR(VLOOKUP($A20+8860000,'Growth Data'!$A:$Z,7,0)),0,VLOOKUP($A20+8860000,'Growth Data'!$A:$Z,7,0))","v":0},1,null,"YES",{"$f":"IF(ISERROR(VLOOKUP($A20+8860000,'Growth Data'!$A:$F,4,0)),\"NO\",VLOOKUP($A20+8860000,'Growth Data'!$A:$F,4,0))","v":"NO"},1,null,32,{"$f":"IF(ISERROR(VLOOKUP($A20+8860000,'Growth Data'!$A:$Z,8,0)),0,VLOOKUP($A20+8860000,'Growth Data'!$A:$Z,8,0))","v":0},1,null,60,{"$f":"IF(ISERROR(VLOOKUP($A20+8860000,'Growth Data'!$A:$Z,9,0)),0,VLOOKUP($A20+8860000,'Growth Data'!$A:$Z,9,0))","v":0},1,null,"NO",{"$f":"IF(ISERROR(VLOOKUP($A20+8860000,'Growth Data'!$A:$Z,5,0)),\"NO\",VLOOKUP($A20+8860000,'Growth Data'!$A:$Z,5,0))","v":"NO"},0,null,0,{"$f":"IF(ISERROR(VLOOKUP($A20+8860000,'Growth Data'!$A:$Z,10,0)),0,VLOOKUP($A20+8860000,'Growth Data'!$A:$Z,10,0))","v":0},0,null,0,{"$f":"IF(ISERROR(VLOOKUP($A20+8860000,'Growth Data'!$A:$Z,11,0)),0,VLOOKUP($A20+8860000,'Growth Data'!$A:$Z,11,0))","v":0},0]
[2137,"Leigh Primary School",null,"Leigh Primary School",null,1,null,510373.05,510373.05,0,null,13060.73,13060.730591715981,-5.9171598149987403E-4,null,0,0,0,null,39304.79,39304.793478260872,-3.4782608709065244E-3,null,120084,120084,0,null,0,0,0,null,25127.87,25127.870725775145,-7.2577514583826996E-4,null,0,0,0,null,12200,12200,0,null,0,0,0,null,0,0,0,null,0,0,0,null,720150.44,720150.44479575194,-4.7957520000636578E-3,null,0,0,0,null,720150.44,720150.44479575194,-4.7957520000636578E-3,null,0,null,0,null,null,null,0,null,null,null,0,null,54552.71,54552.710867658046,0,null,4499.1899999999996,4499.1935999999996,0,null,null,null,0,null,null,null,0,null,null,null,0,null,null,null,0,null,null,null,0,null,null,null,0,null,"NO",{"$f":"IF(ISERROR(VLOOKUP($A21+8860000,'Growth Data'!$A:$F,3,0)),\"NO\",VLOOKUP($A21+8860000,'Growth Data'!$A:$F,3,0))","v":"NO"},0,null,0,{"$f":"IF(DI21=\"YES\",IF(ISERROR(VLOOKUP($A21+8860000,'Growth Data'!$A:$F,6,0)),0,VLOOKUP($A21+8860000,'Growth Data'!$A:$F,6,0)),0)","v":0},0,null,0,{"$f":"IF(ISERROR(VLOOKUP($A21+8860000,'Growth Data'!$A:$Z,7,0)),0,VLOOKUP($A21+8860000,'Growth Data'!$A:$Z,7,0))","v":0},0,null,"NO",{"$f":"IF(ISERROR(VLOOKUP($A21+8860000,'Growth Data'!$A:$F,4,0)),\"NO\",VLOOKUP($A21+8860000,'Growth Data'!$A:$F,4,0))","v":"NO"},0,null,0,{"$f":"IF(ISERROR(VLOOKUP($A21+8860000,'Growth Data'!$A:$Z,8,0)),0,VLOOKUP($A21+8860000,'Growth Data'!$A:$Z,8,0))","v":0},0,null,0,{"$f":"IF(ISERROR(VLOOKUP($A21+8860000,'Growth Data'!$A:$Z,9,0)),0,VLOOKUP($A21+8860000,'Growth Data'!$A:$Z,9,0))","v":0},0,null,"NO",{"$f":"IF(ISERROR(VLOOKUP($A21+8860000,'Growth Data'!$A:$Z,5,0)),\"NO\",VLOOKUP($A21+8860000,'Growth Data'!$A:$Z,5,0))","v":"NO"},0,null,0,{"$f":"IF(ISERROR(VLOOKUP($A21+8860000,'Growth Data'!$A:$Z,10,0)),0,VLOOKUP($A21+8860000,'Growth Data'!$A:$Z,10,0))","v":0},0,null,0,{"$f":"IF(ISERROR(VLOOKUP($A21+8860000,'Growth Data'!$A:$Z,11,0)),0,VLOOKUP($A21+8860000,'Growth Data'!$A:$Z,11,0))","v":0},0]
[2138,"Otford Primary School",null,"Otford Primary School",null,1,null,1193963.6200000001,1193963.6200000001,0,null,31419.78,31419.780000000002,0,null,1891.25,1891.2510979228482,-1.0979228482028702E-3,null,57906.23,57906.226547619051,3.4523809517850168E-3,null,120084,120084,0,null,0,0,0,null,51713.75,51713.747497355951,2.5026440489455126E-3,null,0,0,0,null,29440,29440,0,null,0,0,0,null,0,0,0,null,156501.37,156501.37485710203,-4.8571020306553692E-3,null,1642920,1642920.0000000002,0,null,0,0,0,null,1642920,1642920.0000000002,0,null,0,null,0,null,null,null,0,null,null,null,0,null,240358.59,240358.58824790589,0,null,10525.39,10525.386239999998,0,null,null,null,0,null,null,null,0,null,null,null,0,null,null,null,0,null,null,null,0,null,null,null,0,null,"NO",{"$f":"IF(ISERROR(VLOOKUP($A22+8860000,'Growth Data'!$A:$F,3,0)),\"NO\",VLOOKUP($A22+8860000,'Growth Data'!$A:$F,3,0))","v":"NO"},0,null,0,{"$f":"IF(DI22=\"YES\",IF(ISERROR(VLOOKUP($A22+8860000,'Growth Data'!$A:$F,6,0)),0,VLOOKUP($A22+8860000,'Growth Data'!$A:$F,6,0)),0)","v":0},0,null,0,{"$f":"IF(ISERROR(VLOOKUP($A22+8860000,'Growth Data'!$A:$Z,7,0)),0,VLOOKUP($A22+8860000,'Growth Data'!$A:$Z,7,0))","v":0},0,null,"NO",{"$f":"IF(ISERROR(VLOOKUP($A22+8860000,'Growth Data'!$A:$F,4,0)),\"NO\",VLOOKUP($A22+8860000,'Growth Data'!$A:$F,4,0))","v":"NO"},0,null,0,{"$f":"IF(ISERROR(VLOOKUP($A22+8860000,'Growth Data'!$A:$Z,8,0)),0,VLOOKUP($A22+8860000,'Growth Data'!$A:$Z,8,0))","v":0},0,null,0,{"$f":"IF(ISERROR(VLOOKUP($A22+8860000,'Growth Data'!$A:$Z,9,0)),0,VLOOKUP($A22+8860000,'Growth Data'!$A:$Z,9,0))","v":0},0,null,"NO",{"$f":"IF(ISERROR(VLOOKUP($A22+8860000,'Growth Data'!$A:$Z,5,0)),\"NO\",VLOOKUP($A22+8860000,'Growth Data'!$A:$Z,5,0))","v":"NO"},0,null,0,{"$f":"IF(ISERROR(VLOOKUP($A22+8860000,'Growth Data'!$A:$Z,10,0)),0,VLOOKUP($A22+8860000,'Growth Data'!$A:$Z,10,0))","v":0},0,null,0,{"$f":"IF(ISERROR(VLOOKUP($A22+8860000,'Growth Data'!$A:$Z,11,0)),0,VLOOKUP($A22+8860000,'Growth Data'!$A:$Z,11,0))","v":0},0]
[2139,"Pembury School",null,"Pembury School",null,1,null,1249640.68,1249640.68,0,null,33466.26,33466.263374689843,-3.3746898407116532E-3,null,17687.53,17687.533181818173,-3.1818181741982698E-3,null,72680.63,72680.625074626863,4.9253731413045898E-3,null,120084,120084,0,null,0,0,0,null,0,0,0,null,0,0,0,null,42496,42496,0,null,0,0,0,null,0,0,0,null,195160.9,195160.89836886514,1.631134859053418E-3,null,1731216,1731216,0,null,0,0,0,null,1731216,1731216,0,null,0,null,0,null,null,null,0,null,null,null,0,null,309579.5,309579.50230700814,0,null,10625.2,10625.2,0,null,null,null,0,null,null,null,0,null,null,null,0,null,null,null,0,null,null,null,0,null,null,null,0,null,"NO",{"$f":"IF(ISERROR(VLOOKUP($A23+8860000,'Growth Data'!$A:$F,3,0)),\"NO\",VLOOKUP($A23+8860000,'Growth Data'!$A:$F,3,0))","v":"NO"},0,null,0,{"$f":"IF(DI23=\"YES\",IF(ISERROR(VLOOKUP($A23+8860000,'Growth Data'!$A:$F,6,0)),0,VLOOKUP($A23+8860000,'Growth Data'!$A:$F,6,0)),0)","v":0},0,null,0,{"$f":"IF(ISERROR(VLOOKUP($A23+8860000,'Growth Data'!$A:$Z,7,0)),0,VLOOKUP($A23+8860000,'Growth Data'!$A:$Z,7,0))","v":0},0,null,"NO",{"$f":"IF(ISERROR(VLOOKUP($A23+8860000,'Growth Data'!$A:$F,4,0)),\"NO\",VLOOKUP($A23+8860000,'Growth Data'!$A:$F,4,0))","v":"NO"},0,null,0,{"$f":"IF(ISERROR(VLOOKUP($A23+8860000,'Growth Data'!$A:$Z,8,0)),0,VLOOKUP($A23+8860000,'Growth Data'!$A:$Z,8,0))","v":0},0,null,0,{"$f":"IF(ISERROR(VLOOKUP($A23+8860000,'Growth Data'!$A:$Z,9,0)),0,VLOOKUP($A23+8860000,'Growth Data'!$A:$Z,9,0))","v":0},0,null,"NO",{"$f":"IF(ISERROR(VLOOKUP($A23+8860000,'Growth Data'!$A:$Z,5,0)),\"NO\",VLOOKUP($A23+8860000,'Growth Data'!$A:$Z,5,0))","v":"NO"},0,null,0,{"$f":"IF(ISERROR(VLOOKUP($A23+8860000,'Growth Data'!$A:$Z,10,0)),0,VLOOKUP($A23+8860000,'Growth Data'!$A:$Z,10,0))","v":0},0,null,0,{"$f":"IF(ISERROR(VLOOKUP($A23+8860000,'Growth Data'!$A:$Z,11,0)),0,VLOOKUP($A23+8860000,'Growth Data'!$A:$Z,11,0))","v":0},0]
[2142,"Sandhurst Primary School",null,"Sandhurst Primary School",null,1,null,470161.84,470161.84,0,null,32536.560000000001,32536.560000000005,0,null,1976.2,1976.2034645669301,-3.4645669300061854E-3,null,41639.26,41639.26,0,null,120084,120084,0,null,0,0,0,null,0,0,0,null,0,0,0,null,21582,21582,0,null,0,0,0,null,0,0,0,null,0,0,0,null,687979.86,687979.86346456688,-3.4645668929442763E-3,null,0,0,0,null,687979.86,687979.86346456688,-3.4645668929442763E-3,null,0,null,0,null,null,null,0,null,null,null,0,null,64894.93,64894.925771575086,0,null,3997.6,3997.6,0,null,null,null,0,null,null,null,0,null,null,null,0,null,null,null,0,null,null,null,0,null,null,null,0,null,"NO",{"$f":"IF(ISERROR(VLOOKUP($A24+8860000,'Growth Data'!$A:$F,3,0)),\"NO\",VLOOKUP($A24+8860000,'Growth Data'!$A:$F,3,0))","v":"NO"},0,null,0,{"$f":"IF(DI24=\"YES\",IF(ISERROR(VLOOKUP($A24+8860000,'Growth Data'!$A:$F,6,0)),0,VLOOKUP($A24+8860000,'Growth Data'!$A:$F,6,0)),0)","v":0},0,null,0,{"$f":"IF(ISERROR(VLOOKUP($A24+8860000,'Growth Data'!$A:$Z,7,0)),0,VLOOKUP($A24+8860000,'Growth Data'!$A:$Z,7,0))","v":0},0,null,"NO",{"$f":"IF(ISERROR(VLOOKUP($A24+8860000,'Growth Data'!$A:$F,4,0)),\"NO\",VLOOKUP($A24+8860000,'Growth Data'!$A:$F,4,0))","v":"NO"},0,null,0,{"$f":"IF(ISERROR(VLOOKUP($A24+8860000,'Growth Data'!$A:$Z,8,0)),0,VLOOKUP($A24+8860000,'Growth Data'!$A:$Z,8,0))","v":0},0,null,0,{"$f":"IF(ISERROR(VLOOKUP($A24+8860000,'Growth Data'!$A:$Z,9,0)),0,VLOOKUP($A24+8860000,'Growth Data'!$A:$Z,9,0))","v":0},0,null,"NO",{"$f":"IF(ISERROR(VLOOKUP($A24+8860000,'Growth Data'!$A:$Z,5,0)),\"NO\",VLOOKUP($A24+8860000,'Growth Data'!$A:$Z,5,0))","v":"NO"},0,null,0,{"$f":"IF(ISERROR(VLOOKUP($A24+8860000,'Growth Data'!$A:$Z,10,0)),0,VLOOKUP($A24+8860000,'Growth Data'!$A:$Z,10,0))","v":0},0,null,0,{"$f":"IF(ISERROR(VLOOKUP($A24+8860000,'Growth Data'!$A:$Z,11,0)),0,VLOOKUP($A24+8860000,'Growth Data'!$A:$Z,11,0))","v":0},0]
[2147,"Weald Community Primary School",null,"Weald Community Primary School",null,1,null,454695.99,454695.99,0,null,15649.85,15649.850000000028,-2.7284841053187847E-11,null,4978.91,4978.9126153846119,-2.615384611999616E-3,null,37635.089999999997,37635.09112149533,-1.1214953337912448E-3,null,120084,120084,0,null,1683.4,1683.4037383177513,-3.7383177511856047E-3,null,23357.96,23357.962707087278,-2.7070872783951927E-3,null,0,0,0,null,15220,15220,0,null,0,0,0,null,0,0,0,null,0,0,0,null,673305.21,673305.21018228505,-1.8228508997708559E-4,null,0,0,0,null,673305.21,673305.21018228505,-1.8228508997708559E-4,null,0,null,0,null,null,null,0,null,null,null,0,null,58281.8,58281.800186303175,0,null,4008.37,4008.3724799999995,0,null,null,null,0,null,null,null,0,null,null,null,0,null,null,null,0,null,null,null,0,null,null,null,0,null,"NO",{"$f":"IF(ISERROR(VLOOKUP($A25+8860000,'Growth Data'!$A:$F,3,0)),\"NO\",VLOOKUP($A25+8860000,'Growth Data'!$A:$F,3,0))","v":"NO"},0,null,0,{"$f":"IF(DI25=\"YES\",IF(ISERROR(VLOOKUP($A25+8860000,'Growth Data'!$A:$F,6,0)),0,VLOOKUP($A25+8860000,'Growth Data'!$A:$F,6,0)),0)","v":0},0,null,0,{"$f":"IF(ISERROR(VLOOKUP($A25+8860000,'Growth Data'!$A:$Z,7,0)),0,VLOOKUP($A25+8860000,'Growth Data'!$A:$Z,7,0))","v":0},0,null,"NO",{"$f":"IF(ISERROR(VLOOKUP($A25+8860000,'Growth Data'!$A:$F,4,0)),\"NO\",VLOOKUP($A25+8860000,'Growth Data'!$A:$F,4,0))","v":"NO"},0,null,0,{"$f":"IF(ISERROR(VLOOKUP($A25+8860000,'Growth Data'!$A:$Z,8,0)),0,VLOOKUP($A25+8860000,'Growth Data'!$A:$Z,8,0))","v":0},0,null,0,{"$f":"IF(ISERROR(VLOOKUP($A25+8860000,'Growth Data'!$A:$Z,9,0)),0,VLOOKUP($A25+8860000,'Growth Data'!$A:$Z,9,0))","v":0},0,null,"NO",{"$f":"IF(ISERROR(VLOOKUP($A25+8860000,'Growth Data'!$A:$Z,5,0)),\"NO\",VLOOKUP($A25+8860000,'Growth Data'!$A:$Z,5,0))","v":"NO"},0,null,0,{"$f":"IF(ISERROR(VLOOKUP($A25+8860000,'Growth Data'!$A:$Z,10,0)),0,VLOOKUP($A25+8860000,'Growth Data'!$A:$Z,10,0))","v":0},0,null,0,{"$f":"IF(ISERROR(VLOOKUP($A25+8860000,'Growth Data'!$A:$Z,11,0)),0,VLOOKUP($A25+8860000,'Growth Data'!$A:$Z,11,0))","v":0},0]
[2148,"Shoreham Village School",null,"Shoreham Village School",null,1,null,303130.65999999997,303130.66000000003,0,null,17573.82,17573.822929292928,-2.9292929284565616E-3,null,1254.3800000000001,1254.3772093023269,2.7906976731628674E-3,null,26846.37,26846.364999999998,5.0000000010186341E-3,null,120084,120084,0,null,0,0,0,null,17255.12,17255.123485100306,-3.4851003074436449E-3,null,0,0,0,null,14097,14097,0,null,0,0,0,null,0,0,0,null,0,0,0,null,500241.35,500241.34862369555,1.3763044262304902E-3,null,0,0,0,null,500241.35,500241.34862369555,1.3763044262304902E-3,null,0,null,0,null,null,null,0,null,null,null,0,null,45229.23,45229.225767601609,0,null,2672.25,2672.2483200000001,0,null,null,null,0,null,null,null,0,null,null,null,0,null,null,null,0,null,null,null,0,null,null,null,0,null,"NO",{"$f":"IF(ISERROR(VLOOKUP($A26+8860000,'Growth Data'!$A:$F,3,0)),\"NO\",VLOOKUP($A26+8860000,'Growth Data'!$A:$F,3,0))","v":"NO"},0,null,0,{"$f":"IF(DI26=\"YES\",IF(ISERROR(VLOOKUP($A26+8860000,'Growth Data'!$A:$F,6,0)),0,VLOOKUP($A26+8860000,'Growth Data'!$A:$F,6,0)),0)","v":0},0,null,0,{"$f":"IF(ISERROR(VLOOKUP($A26+8860000,'Growth Data'!$A:$Z,7,0)),0,VLOOKUP($A26+8860000,'Growth Data'!$A:$Z,7,0))","v":0},0,null,"NO",{"$f":"IF(ISERROR(VLOOKUP($A26+8860000,'Growth Data'!$A:$F,4,0)),\"NO\",VLOOKUP($A26+8860000,'Growth Data'!$A:$F,4,0))","v":"NO"},0,null,0,{"$f":"IF(ISERROR(VLOOKUP($A26+8860000,'Growth Data'!$A:$Z,8,0)),0,VLOOKUP($A26+8860000,'Growth Data'!$A:$Z,8,0))","v":0},0,null,0,{"$f":"IF(ISERROR(VLOOKUP($A26+8860000,'Growth Data'!$A:$Z,9,0)),0,VLOOKUP($A26+8860000,'Growth Data'!$A:$Z,9,0))","v":0},0,null,"NO",{"$f":"IF(ISERROR(VLOOKUP($A26+8860000,'Growth Data'!$A:$Z,5,0)),\"NO\",VLOOKUP($A26+8860000,'Growth Data'!$A:$Z,5,0))","v":"NO"},0,null,0,{"$f":"IF(ISERROR(VLOOKUP($A26+8860000,'Growth Data'!$A:$Z,10,0)),0,VLOOKUP($A26+8860000,'Growth Data'!$A:$Z,10,0))","v":0},0,null,0,{"$f":"IF(ISERROR(VLOOKUP($A26+8860000,'Growth Data'!$A:$Z,11,0)),0,VLOOKUP($A26+8860000,'Growth Data'!$A:$Z,11,0))","v":0},0]
[2155,"Slade Primary School and Attached Unit for Children with Hearing Impairment",null,"Slade Primary School and Attached Unit for Children with Hearing Impairment",null,1,null,1289851.8899999999,1289851.8900000001,0,null,49705.64,49705.638814814774,1.1851852250401862E-3,null,26358.59,26358.593361344505,-3.361344504810404E-3,null,128984.96000000001,128984.96234234235,-2.3423423408530653E-3,null,120084,120084,0,null,0,0,0,null,0,0,0,null,0,0,0,null,29952,29952,0,null,0,0,0,null,0,0,0,null,128074.92,128074.91548149823,4.5185017661424354E-3,null,1773012,1773012,0,null,0,0,0,null,1773012,1773012,0,null,0,null,0,null,null,null,0,null,null,null,0,null,323708.28999999998,323708.292307008,0,null,10967.1,10967.1,0,null,null,null,0,null,null,null,0,null,null,null,0,null,null,null,0,null,null,null,0,null,null,null,0,null,"NO",{"$f":"IF(ISERROR(VLOOKUP($A27+8860000,'Growth Data'!$A:$F,3,0)),\"NO\",VLOOKUP($A27+8860000,'Growth Data'!$A:$F,3,0))","v":"NO"},0,null,0,{"$f":"IF(DI27=\"YES\",IF(ISERROR(VLOOKUP($A27+8860000,'Growth Data'!$A:$F,6,0)),0,VLOOKUP($A27+8860000,'Growth Data'!$A:$F,6,0)),0)","v":0},0,null,0,{"$f":"IF(ISERROR(VLOOKUP($A27+8860000,'Growth Data'!$A:$Z,7,0)),0,VLOOKUP($A27+8860000,'Growth Data'!$A:$Z,7,0))","v":0},0,null,"NO",{"$f":"IF(ISERROR(VLOOKUP($A27+8860000,'Growth Data'!$A:$F,4,0)),\"NO\",VLOOKUP($A27+8860000,'Growth Data'!$A:$F,4,0))","v":"NO"},0,null,0,{"$f":"IF(ISERROR(VLOOKUP($A27+8860000,'Growth Data'!$A:$Z,8,0)),0,VLOOKUP($A27+8860000,'Growth Data'!$A:$Z,8,0))","v":0},0,null,0,{"$f":"IF(ISERROR(VLOOKUP($A27+8860000,'Growth Data'!$A:$Z,9,0)),0,VLOOKUP($A27+8860000,'Growth Data'!$A:$Z,9,0))","v":0},0,null,"NO",{"$f":"IF(ISERROR(VLOOKUP($A27+8860000,'Growth Data'!$A:$Z,5,0)),\"NO\",VLOOKUP($A27+8860000,'Growth Data'!$A:$Z,5,0))","v":"NO"},0,null,0,{"$f":"IF(ISERROR(VLOOKUP($A27+8860000,'Growth Data'!$A:$Z,10,0)),0,VLOOKUP($A27+8860000,'Growth Data'!$A:$Z,10,0))","v":0},0,null,0,{"$f":"IF(ISERROR(VLOOKUP($A27+8860000,'Growth Data'!$A:$Z,11,0)),0,VLOOKUP($A27+8860000,'Growth Data'!$A:$Z,11,0))","v":0},0]
[2156,"Sussex Road Community Primary School",null,"Sussex Road Community Primary School",null,1,null,1364087.97,1364087.97,0,null,58503.68,58503.679999999898,1.0186340659856796E-10,null,20386.099999999999,20386.098897637807,1.1023621918866411E-3,null,82914.240000000005,82914.242573726544,-2.5737265386851504E-3,null,120084,120084,0,null,0,0,0,null,0,0,0,null,0,0,0,null,44544,44544,0,null,0,0,0,null,0,0,0,null,197404.01,197404.00852863584,1.4713641721755266E-3,null,1887924,1887924,0,null,0,0,0,null,1887924,1887924,0,null,0,null,0,null,null,null,0,null,null,null,0,null,341966.77,341966.77230700833,0,null,11598.3,11598.3,0,null,null,null,0,null,null,null,0,null,null,null,0,null,null,null,0,null,null,null,0,null,null,null,0,null,"NO",{"$f":"IF(ISERROR(VLOOKUP($A28+8860000,'Growth Data'!$A:$F,3,0)),\"NO\",VLOOKUP($A28+8860000,'Growth Data'!$A:$F,3,0))","v":"NO"},0,null,0,{"$f":"IF(DI28=\"YES\",IF(ISERROR(VLOOKUP($A28+8860000,'Growth Data'!$A:$F,6,0)),0,VLOOKUP($A28+8860000,'Growth Data'!$A:$F,6,0)),0)","v":0},0,null,0,{"$f":"IF(ISERROR(VLOOKUP($A28+8860000,'Growth Data'!$A:$Z,7,0)),0,VLOOKUP($A28+8860000,'Growth Data'!$A:$Z,7,0))","v":0},0,null,"NO",{"$f":"IF(ISERROR(VLOOKUP($A28+8860000,'Growth Data'!$A:$F,4,0)),\"NO\",VLOOKUP($A28+8860000,'Growth Data'!$A:$F,4,0))","v":"NO"},0,null,0,{"$f":"IF(ISERROR(VLOOKUP($A28+8860000,'Growth Data'!$A:$Z,8,0)),0,VLOOKUP($A28+8860000,'Growth Data'!$A:$Z,8,0))","v":0},0,null,0,{"$f":"IF(ISERROR(VLOOKUP($A28+8860000,'Growth Data'!$A:$Z,9,0)),0,VLOOKUP($A28+8860000,'Growth Data'!$A:$Z,9,0))","v":0},0,null,"NO",{"$f":"IF(ISERROR(VLOOKUP($A28+8860000,'Growth Data'!$A:$Z,5,0)),\"NO\",VLOOKUP($A28+8860000,'Growth Data'!$A:$Z,5,0))","v":"NO"},0,null,0,{"$f":"IF(ISERROR(VLOOKUP($A28+8860000,'Growth Data'!$A:$Z,10,0)),0,VLOOKUP($A28+8860000,'Growth Data'!$A:$Z,10,0))","v":0},0,null,0,{"$f":"IF(ISERROR(VLOOKUP($A28+8860000,'Growth Data'!$A:$Z,11,0)),0,VLOOKUP($A28+8860000,'Growth Data'!$A:$Z,11,0))","v":0},0]
[2161,"Boughton Monchelsea Primary School",null,"Boughton Monchelsea Primary School",null,1,null,637193.02,637193.02,0,null,34942.269999999997,34942.27000000004,0,null,647.89,647.8876571428566,2.342857143389665E-3,null,50594.35,50594.345862068971,4.1379310277989134E-3,null,120084,120084,0,null,0,0,0,null,0,0,0,null,0,0,0,null,22580,22580,0,null,0,0,0,null,0,0,0,null,17618.48,17618.476480788115,3.5192118848499376E-3,null,883660,883659.99999999988,0,null,0,0,0,null,883660,883659.99999999988,0,null,0,null,0,null,null,null,0,null,null,null,0,null,98069.72,98069.722307008095,0,null,5417.8,5417.7999999999993,0,null,null,null,0,null,null,null,0,null,null,null,0,null,null,null,0,null,null,null,0,null,null,null,0,null,"NO",{"$f":"IF(ISERROR(VLOOKUP($A29+8860000,'Growth Data'!$A:$F,3,0)),\"NO\",VLOOKUP($A29+8860000,'Growth Data'!$A:$F,3,0))","v":"NO"},0,null,0,{"$f":"IF(DI29=\"YES\",IF(ISERROR(VLOOKUP($A29+8860000,'Growth Data'!$A:$F,6,0)),0,VLOOKUP($A29+8860000,'Growth Data'!$A:$F,6,0)),0)","v":0},0,null,0,{"$f":"IF(ISERROR(VLOOKUP($A29+8860000,'Growth Data'!$A:$Z,7,0)),0,VLOOKUP($A29+8860000,'Growth Data'!$A:$Z,7,0))","v":0},0,null,"NO",{"$f":"IF(ISERROR(VLOOKUP($A29+8860000,'Growth Data'!$A:$F,4,0)),\"NO\",VLOOKUP($A29+8860000,'Growth Data'!$A:$F,4,0))","v":"NO"},0,null,0,{"$f":"IF(ISERROR(VLOOKUP($A29+8860000,'Growth Data'!$A:$Z,8,0)),0,VLOOKUP($A29+8860000,'Growth Data'!$A:$Z,8,0))","v":0},0,null,0,{"$f":"IF(ISERROR(VLOOKUP($A29+8860000,'Growth Data'!$A:$Z,9,0)),0,VLOOKUP($A29+8860000,'Growth Data'!$A:$Z,9,0))","v":0},0,null,"NO",{"$f":"IF(ISERROR(VLOOKUP($A29+8860000,'Growth Data'!$A:$Z,5,0)),\"NO\",VLOOKUP($A29+8860000,'Growth Data'!$A:$Z,5,0))","v":"NO"},0,null,0,{"$f":"IF(ISERROR(VLOOKUP($A29+8860000,'Growth Data'!$A:$Z,10,0)),0,VLOOKUP($A29+8860000,'Growth Data'!$A:$Z,10,0))","v":0},0,null,0,{"$f":"IF(ISERROR(VLOOKUP($A29+8860000,'Growth Data'!$A:$Z,11,0)),0,VLOOKUP($A29+8860000,'Growth Data'!$A:$Z,11,0))","v":0},0]
[2163,"East Farleigh Primary School",null,"East Farleigh Primary School",null,1,null,627913.51,627913.51,0,null,22954.94,22954.940000000002,0,null,3174.12,3174.124147727272,-4.1477272720840119E-3,null,43985.57,43985.569774011296,2.2598870418732986E-4,null,120084,120084,0,null,0,0,0,null,0,0,0,null,0,0,0,null,16717,16717,0,null,0,0,0,null,0,0,0,null,30427.86,30427.856078261422,3.9217385783558711E-3,null,865257,865256.99999999988,0,null,0,0,0,null,865257,865256.99999999988,0,null,0,null,0,null,null,null,0,null,null,null,0,null,100793.39,100793.39230700814,0,null,5338.9,5338.9,0,null,null,null,0,null,null,null,0,null,null,null,0,null,null,null,0,null,null,null,0,null,null,null,0,null,"NO",{"$f":"IF(ISERROR(VLOOKUP($A30+8860000,'Growth Data'!$A:$F,3,0)),\"NO\",VLOOKUP($A30+8860000,'Growth Data'!$A:$F,3,0))","v":"NO"},0,null,0,{"$f":"IF(DI30=\"YES\",IF(ISERROR(VLOOKUP($A30+8860000,'Growth Data'!$A:$F,6,0)),0,VLOOKUP($A30+8860000,'Growth Data'!$A:$F,6,0)),0)","v":0},0,null,0,{"$f":"IF(ISERROR(VLOOKUP($A30+8860000,'Growth Data'!$A:$Z,7,0)),0,VLOOKUP($A30+8860000,'Growth Data'!$A:$Z,7,0))","v":0},0,null,"NO",{"$f":"IF(ISERROR(VLOOKUP($A30+8860000,'Growth Data'!$A:$F,4,0)),\"NO\",VLOOKUP($A30+8860000,'Growth Data'!$A:$F,4,0))","v":"NO"},0,null,0,{"$f":"IF(ISERROR(VLOOKUP($A30+8860000,'Growth Data'!$A:$Z,8,0)),0,VLOOKUP($A30+8860000,'Growth Data'!$A:$Z,8,0))","v":0},0,null,0,{"$f":"IF(ISERROR(VLOOKUP($A30+8860000,'Growth Data'!$A:$Z,9,0)),0,VLOOKUP($A30+8860000,'Growth Data'!$A:$Z,9,0))","v":0},0,null,"NO",{"$f":"IF(ISERROR(VLOOKUP($A30+8860000,'Growth Data'!$A:$Z,5,0)),\"NO\",VLOOKUP($A30+8860000,'Growth Data'!$A:$Z,5,0))","v":"NO"},0,null,0,{"$f":"IF(ISERROR(VLOOKUP($A30+8860000,'Growth Data'!$A:$Z,10,0)),0,VLOOKUP($A30+8860000,'Growth Data'!$A:$Z,10,0))","v":0},0,null,0,{"$f":"IF(ISERROR(VLOOKUP($A30+8860000,'Growth Data'!$A:$Z,11,0)),0,VLOOKUP($A30+8860000,'Growth Data'!$A:$Z,11,0))","v":0},0]
[2164,"East Peckham Primary School",null,"East Peckham Primary School",null,1,null,491814.03,491814.03,0,null,40198.93,40198.929999999986,0,null,1223.94,1223.9441958041971,-4.1958041970246995E-3,null,39597.14,39597.143181818181,-3.1818181814742275E-3,null,120084,120084,0,null,0,0,0,null,0,0,0,null,0,0,0,null,20709,20709,0,null,0,0,0,null,0,0,0,null,0,0,0,null,713627.05,713627.04737762234,2.6223777094855905E-3,null,0,0,0,null,713627.05,713627.04737762234,2.6223777094855905E-3,null,0,null,0,null,null,null,0,null,null,null,0,null,74826.44,74826.439684630517,0,null,4181.7,4181.7,0,null,null,null,0,null,null,null,0,null,null,null,0,null,null,null,0,null,null,null,0,null,null,null,0,null,"NO",{"$f":"IF(ISERROR(VLOOKUP($A31+8860000,'Growth Data'!$A:$F,3,0)),\"NO\",VLOOKUP($A31+8860000,'Growth Data'!$A:$F,3,0))","v":"NO"},0,null,0,{"$f":"IF(DI31=\"YES\",IF(ISERROR(VLOOKUP($A31+8860000,'Growth Data'!$A:$F,6,0)),0,VLOOKUP($A31+8860000,'Growth Data'!$A:$F,6,0)),0)","v":0},0,null,0,{"$f":"IF(ISERROR(VLOOKUP($A31+8860000,'Growth Data'!$A:$Z,7,0)),0,VLOOKUP($A31+8860000,'Growth Data'!$A:$Z,7,0))","v":0},0,null,"NO",{"$f":"IF(ISERROR(VLOOKUP($A31+8860000,'Growth Data'!$A:$F,4,0)),\"NO\",VLOOKUP($A31+8860000,'Growth Data'!$A:$F,4,0))","v":"NO"},0,null,0,{"$f":"IF(ISERROR(VLOOKUP($A31+8860000,'Growth Data'!$A:$Z,8,0)),0,VLOOKUP($A31+8860000,'Growth Data'!$A:$Z,8,0))","v":0},0,null,0,{"$f":"IF(ISERROR(VLOOKUP($A31+8860000,'Growth Data'!$A:$Z,9,0)),0,VLOOKUP($A31+8860000,'Growth Data'!$A:$Z,9,0))","v":0},0,null,"NO",{"$f":"IF(ISERROR(VLOOKUP($A31+8860000,'Growth Data'!$A:$Z,5,0)),\"NO\",VLOOKUP($A31+8860000,'Growth Data'!$A:$Z,5,0))","v":"NO"},0,null,0,{"$f":"IF(ISERROR(VLOOKUP($A31+8860000,'Growth Data'!$A:$Z,10,0)),0,VLOOKUP($A31+8860000,'Growth Data'!$A:$Z,10,0))","v":0},0,null,0,{"$f":"IF(ISERROR(VLOOKUP($A31+8860000,'Growth Data'!$A:$Z,11,0)),0,VLOOKUP($A31+8860000,'Growth Data'!$A:$Z,11,0))","v":0},0]
[2165,"Headcorn Primary School",null,"Headcorn Primary School",null,1,null,1008373.42,1008373.42,0,null,70803.73,70803.726204620441,3.7953795545035973E-3,null,4617.6099999999997,4617.6102205882426,-2.2058824288251344E-4,null,60660.17,60660.173207547159,-3.2075471608550288E-3,null,120084,120084,0,null,0,0,0,null,0,0,0,null,0,0,0,null,40918,40918,0,null,0,0,0,null,0,0,0,null,98141.07,98141.07036724413,-3.6724412348121405E-4,null,1403598,1403598,0,null,0,0,0,null,1403598,1403598,0,null,0,null,0,null,null,null,0,null,null,null,0,null,220203.56,220203.56230700813,0,null,8573.7999999999993,8573.7999999999993,0,null,null,null,0,null,null,null,0,null,null,null,0,null,null,null,0,null,null,null,0,null,null,null,0,null,"NO",{"$f":"IF(ISERROR(VLOOKUP($A32+8860000,'Growth Data'!$A:$F,3,0)),\"NO\",VLOOKUP($A32+8860000,'Growth Data'!$A:$F,3,0))","v":"YES"},1,null,0,{"$f":"IF(DI32=\"YES\",IF(ISERROR(VLOOKUP($A32+8860000,'Growth Data'!$A:$F,6,0)),0,VLOOKUP($A32+8860000,'Growth Data'!$A:$F,6,0)),0)","v":34},-34,null,0,{"$f":"IF(ISERROR(VLOOKUP($A32+8860000,'Growth Data'!$A:$Z,7,0)),0,VLOOKUP($A32+8860000,'Growth Data'!$A:$Z,7,0))","v":60},1,null,"NO",{"$f":"IF(ISERROR(VLOOKUP($A32+8860000,'Growth Data'!$A:$F,4,0)),\"NO\",VLOOKUP($A32+8860000,'Growth Data'!$A:$F,4,0))","v":"YES"},1,null,0,{"$f":"IF(ISERROR(VLOOKUP($A32+8860000,'Growth Data'!$A:$Z,8,0)),0,VLOOKUP($A32+8860000,'Growth Data'!$A:$Z,8,0))","v":32},1,null,0,{"$f":"IF(ISERROR(VLOOKUP($A32+8860000,'Growth Data'!$A:$Z,9,0)),0,VLOOKUP($A32+8860000,'Growth Data'!$A:$Z,9,0))","v":60},1,null,"NO",{"$f":"IF(ISERROR(VLOOKUP($A32+8860000,'Growth Data'!$A:$Z,5,0)),\"NO\",VLOOKUP($A32+8860000,'Growth Data'!$A:$Z,5,0))","v":"YES"},1,null,0,{"$f":"IF(ISERROR(VLOOKUP($A32+8860000,'Growth Data'!$A:$Z,10,0)),0,VLOOKUP($A32+8860000,'Growth Data'!$A:$Z,10,0))","v":30},1,null,0,{"$f":"IF(ISERROR(VLOOKUP($A32+8860000,'Growth Data'!$A:$Z,11,0)),0,VLOOKUP($A32+8860000,'Growth Data'!$A:$Z,11,0))","v":60},1]
[2166,"Hollingbourne Primary School",null,"Hollingbourne Primary School",null,1,null,296944.32,296944.32,0,null,12638.76,12638.76,0,null,3221.8,3221.7951219512215,4.8780487786643789E-3,null,31957.65,31957.646582278481,3.4177215202362277E-3,null,120084,120084,0,null,0,0,0,null,0,0,0,null,0,0,0,null,13723,13723,0,null,0,0,0,null,0,0,0,null,0,0,0,null,478569.52,478569.5217042297,-1.7042296822182834E-3,null,0,0,0,null,478569.52,478569.5217042297,-1.7042296822182834E-3,null,0,null,0,null,null,null,0,null,null,null,0,null,47148.46,47148.464011237855,0,null,2524.8000000000002,2524.8000000000002,0,null,null,null,0,null,null,null,0,null,null,null,0,null,null,null,0,null,null,null,0,null,null,null,0,null,"NO",{"$f":"IF(ISERROR(VLOOKUP($A33+8860000,'Growth Data'!$A:$F,3,0)),\"NO\",VLOOKUP($A33+8860000,'Growth Data'!$A:$F,3,0))","v":"NO"},0,null,0,{"$f":"IF(DI33=\"YES\",IF(ISERROR(VLOOKUP($A33+8860000,'Growth Data'!$A:$F,6,0)),0,VLOOKUP($A33+8860000,'Growth Data'!$A:$F,6,0)),0)","v":0},0,null,0,{"$f":"IF(ISERROR(VLOOKUP($A33+8860000,'Growth Data'!$A:$Z,7,0)),0,VLOOKUP($A33+8860000,'Growth Data'!$A:$Z,7,0))","v":0},0,null,"NO",{"$f":"IF(ISERROR(VLOOKUP($A33+8860000,'Growth Data'!$A:$F,4,0)),\"NO\",VLOOKUP($A33+8860000,'Growth Data'!$A:$F,4,0))","v":"NO"},0,null,0,{"$f":"IF(ISERROR(VLOOKUP($A33+8860000,'Growth Data'!$A:$Z,8,0)),0,VLOOKUP($A33+8860000,'Growth Data'!$A:$Z,8,0))","v":0},0,null,0,{"$f":"IF(ISERROR(VLOOKUP($A33+8860000,'Growth Data'!$A:$Z,9,0)),0,VLOOKUP($A33+8860000,'Growth Data'!$A:$Z,9,0))","v":0},0,null,"NO",{"$f":"IF(ISERROR(VLOOKUP($A33+8860000,'Growth Data'!$A:$Z,5,0)),\"NO\",VLOOKUP($A33+8860000,'Growth Data'!$A:$Z,5,0))","v":"NO"},0,null,0,{"$f":"IF(ISERROR(VLOOKUP($A33+8860000,'Growth Data'!$A:$Z,10,0)),0,VLOOKUP($A33+8860000,'Growth Data'!$A:$Z,10,0))","v":0},0,null,0,{"$f":"IF(ISERROR(VLOOKUP($A33+8860000,'Growth Data'!$A:$Z,11,0)),0,VLOOKUP($A33+8860000,'Growth Data'!$A:$Z,11,0))","v":0},0]
[2167,"Ightham Primary School",null,"Ightham Primary School",null,1,null,637193.02,637193.02,0,null,4814.3500000000004,4814.3499999999995,0,null,1943.66,1943.6629714285664,-2.9714285662976181E-3,null,24927.09,24927.086871165648,3.128834352537524E-3,null,120084,120084,0,null,0,0,0,null,0,0,0,null,0,0,0,null,21457,21457,0,null,0,0,0,null,0,0,0,null,72117.88,72117.880157405772,-1.5740576782263815E-4,null,882537,882537,0,null,0,0,0,null,882537,882537,0,null,0,null,0,null,null,null,0,null,null,null,0,null,109117.4,109117.40230700813,0,null,5417.8,5417.7999999999993,0,null,null,null,0,null,null,null,0,null,null,null,0,null,null,null,0,null,null,null,0,null,null,null,0,null,"NO",{"$f":"IF(ISERROR(VLOOKUP($A34+8860000,'Growth Data'!$A:$F,3,0)),\"NO\",VLOOKUP($A34+8860000,'Growth Data'!$A:$F,3,0))","v":"NO"},0,null,0,{"$f":"IF(DI34=\"YES\",IF(ISERROR(VLOOKUP($A34+8860000,'Growth Data'!$A:$F,6,0)),0,VLOOKUP($A34+8860000,'Growth Data'!$A:$F,6,0)),0)","v":0},0,null,0,{"$f":"IF(ISERROR(VLOOKUP($A34+8860000,'Growth Data'!$A:$Z,7,0)),0,VLOOKUP($A34+8860000,'Growth Data'!$A:$Z,7,0))","v":0},0,null,"NO",{"$f":"IF(ISERROR(VLOOKUP($A34+8860000,'Growth Data'!$A:$F,4,0)),\"NO\",VLOOKUP($A34+8860000,'Growth Data'!$A:$F,4,0))","v":"NO"},0,null,0,{"$f":"IF(ISERROR(VLOOKUP($A34+8860000,'Growth Data'!$A:$Z,8,0)),0,VLOOKUP($A34+8860000,'Growth Data'!$A:$Z,8,0))","v":0},0,null,0,{"$f":"IF(ISERROR(VLOOKUP($A34+8860000,'Growth Data'!$A:$Z,9,0)),0,VLOOKUP($A34+8860000,'Growth Data'!$A:$Z,9,0))","v":0},0,null,"NO",{"$f":"IF(ISERROR(VLOOKUP($A34+8860000,'Growth Data'!$A:$Z,5,0)),\"NO\",VLOOKUP($A34+8860000,'Growth Data'!$A:$Z,5,0))","v":"NO"},0,null,0,{"$f":"IF(ISERROR(VLOOKUP($A34+8860000,'Growth Data'!$A:$Z,10,0)),0,VLOOKUP($A34+8860000,'Growth Data'!$A:$Z,10,0))","v":0},0,null,0,{"$f":"IF(ISERROR(VLOOKUP($A34+8860000,'Growth Data'!$A:$Z,11,0)),0,VLOOKUP($A34+8860000,'Growth Data'!$A:$Z,11,0))","v":0},0]
[2168,"Lenham Primary School",null,"Lenham Primary School",null,1,null,634099.85,634099.85,0,null,30215.58,30215.58235294115,-2.3529411482741125E-3,null,1282.1600000000001,1282.1585227272769,1.4772727231502358E-3,null,57800.27,57800.26549707602,4.5029239772702567E-3,null,120084,120084,0,null,0,0,0,null,0,0,0,null,0,0,0,null,18837,18837,0,null,0,0,0,null,0,0,0,null,13418.14,13418.143627255573,-3.6272555735195056E-3,null,875737,875737,0,null,0,0,0,null,875737,875737,0,null,0,null,0,null,null,null,0,null,null,null,0,null,93300.33,93300.332307008197,0,null,5391.5,5391.5,0,null,null,null,0,null,null,null,0,null,null,null,0,null,null,null,0,null,null,null,0,null,null,null,0,null,"NO",{"$f":"IF(ISERROR(VLOOKUP($A35+8860000,'Growth Data'!$A:$F,3,0)),\"NO\",VLOOKUP($A35+8860000,'Growth Data'!$A:$F,3,0))","v":"NO"},0,null,0,{"$f":"IF(DI35=\"YES\",IF(ISERROR(VLOOKUP($A35+8860000,'Growth Data'!$A:$F,6,0)),0,VLOOKUP($A35+8860000,'Growth Data'!$A:$F,6,0)),0)","v":0},0,null,0,{"$f":"IF(ISERROR(VLOOKUP($A35+8860000,'Growth Data'!$A:$Z,7,0)),0,VLOOKUP($A35+8860000,'Growth Data'!$A:$Z,7,0))","v":0},0,null,"NO",{"$f":"IF(ISERROR(VLOOKUP($A35+8860000,'Growth Data'!$A:$F,4,0)),\"NO\",VLOOKUP($A35+8860000,'Growth Data'!$A:$F,4,0))","v":"NO"},0,null,0,{"$f":"IF(ISERROR(VLOOKUP($A35+8860000,'Growth Data'!$A:$Z,8,0)),0,VLOOKUP($A35+8860000,'Growth Data'!$A:$Z,8,0))","v":0},0,null,0,{"$f":"IF(ISERROR(VLOOKUP($A35+8860000,'Growth Data'!$A:$Z,9,0)),0,VLOOKUP($A35+8860000,'Growth Data'!$A:$Z,9,0))","v":0},0,null,"NO",{"$f":"IF(ISERROR(VLOOKUP($A35+8860000,'Growth Data'!$A:$Z,5,0)),\"NO\",VLOOKUP($A35+8860000,'Growth Data'!$A:$Z,5,0))","v":"NO"},0,null,0,{"$f":"IF(ISERROR(VLOOKUP($A35+8860000,'Growth Data'!$A:$Z,10,0)),0,VLOOKUP($A35+8860000,'Growth Data'!$A:$Z,10,0))","v":0},0,null,0,{"$f":"IF(ISERROR(VLOOKUP($A35+8860000,'Growth Data'!$A:$Z,11,0)),0,VLOOKUP($A35+8860000,'Growth Data'!$A:$Z,11,0))","v":0},0]
[2169,"Platts Heath Primary School",null,"Platts Heath Primary School",null,1,null,163938.01,163938.01,0,null,13449.33,13449.329999999991,0,null,0,0,0,null,16593.09,16593.088571428572,1.4285714278230444E-3,null,120084,120084,0,null,0,0,0,null,0,0,0,null,0,0,0,null,2345,2345,0,null,0,0,0,null,0,0,0,null,0,0,0,null,316409.43,316409.42857142858,1.4285714132711291E-3,null,0,0,0,null,316409.43,316409.42857142858,1.4285714132711291E-3,null,0,null,0,null,null,null,0,null,null,null,0,null,29372.68,29372.68087843672,0,null,1393.9,1393.9,0,null,null,null,0,null,null,null,0,null,null,null,0,null,null,null,0,null,null,null,0,null,null,null,0,null,"NO",{"$f":"IF(ISERROR(VLOOKUP($A36+8860000,'Growth Data'!$A:$F,3,0)),\"NO\",VLOOKUP($A36+8860000,'Growth Data'!$A:$F,3,0))","v":"NO"},0,null,0,{"$f":"IF(DI36=\"YES\",IF(ISERROR(VLOOKUP($A36+8860000,'Growth Data'!$A:$F,6,0)),0,VLOOKUP($A36+8860000,'Growth Data'!$A:$F,6,0)),0)","v":0},0,null,0,{"$f":"IF(ISERROR(VLOOKUP($A36+8860000,'Growth Data'!$A:$Z,7,0)),0,VLOOKUP($A36+8860000,'Growth Data'!$A:$Z,7,0))","v":0},0,null,"NO",{"$f":"IF(ISERROR(VLOOKUP($A36+8860000,'Growth Data'!$A:$F,4,0)),\"NO\",VLOOKUP($A36+8860000,'Growth Data'!$A:$F,4,0))","v":"NO"},0,null,0,{"$f":"IF(ISERROR(VLOOKUP($A36+8860000,'Growth Data'!$A:$Z,8,0)),0,VLOOKUP($A36+8860000,'Growth Data'!$A:$Z,8,0))","v":0},0,null,0,{"$f":"IF(ISERROR(VLOOKUP($A36+8860000,'Growth Data'!$A:$Z,9,0)),0,VLOOKUP($A36+8860000,'Growth Data'!$A:$Z,9,0))","v":0},0,null,"NO",{"$f":"IF(ISERROR(VLOOKUP($A36+8860000,'Growth Data'!$A:$Z,5,0)),\"NO\",VLOOKUP($A36+8860000,'Growth Data'!$A:$Z,5,0))","v":"NO"},0,null,0,{"$f":"IF(ISERROR(VLOOKUP($A36+8860000,'Growth Data'!$A:$Z,10,0)),0,VLOOKUP($A36+8860000,'Growth Data'!$A:$Z,10,0))","v":0},0,null,0,{"$f":"IF(ISERROR(VLOOKUP($A36+8860000,'Growth Data'!$A:$Z,11,0)),0,VLOOKUP($A36+8860000,'Growth Data'!$A:$Z,11,0))","v":0},0]
[2171,"Brunswick House Primary School",null,"Brunswick House Primary School",null,1,null,1292945.06,1292945.06,0,null,81649.55,81649.550579710034,-5.7971003116108477E-4,null,28918.54,28918.536033519467,3.9664805335632991E-3,null,94261.63,94261.629159420292,8.4057971253059804E-4,null,120084,120084,0,null,0,0,0,null,0,0,0,null,0,0,0,null,66048,66048,0,null,0,0,0,null,0,0,0,null,129381.22,129381.22422735012,-4.2273501167073846E-3,null,1813288,1813288,0,null,0,0,0,null,1813288,1813288,0,null,0,null,0,null,null,null,0,null,null,null,0,null,304541.03999999998,304541.04230700806,0,null,10993.4,10993.4,0,null,null,null,0,null,null,null,0,null,null,null,0,null,null,null,0,null,null,null,0,null,null,null,0,null,"NO",{"$f":"IF(ISERROR(VLOOKUP($A37+8860000,'Growth Data'!$A:$F,3,0)),\"NO\",VLOOKUP($A37+8860000,'Growth Data'!$A:$F,3,0))","v":"NO"},0,null,0,{"$f":"IF(DI37=\"YES\",IF(ISERROR(VLOOKUP($A37+8860000,'Growth Data'!$A:$F,6,0)),0,VLOOKUP($A37+8860000,'Growth Data'!$A:$F,6,0)),0)","v":0},0,null,0,{"$f":"IF(ISERROR(VLOOKUP($A37+8860000,'Growth Data'!$A:$Z,7,0)),0,VLOOKUP($A37+8860000,'Growth Data'!$A:$Z,7,0))","v":0},0,null,"NO",{"$f":"IF(ISERROR(VLOOKUP($A37+8860000,'Growth Data'!$A:$F,4,0)),\"NO\",VLOOKUP($A37+8860000,'Growth Data'!$A:$F,4,0))","v":"NO"},0,null,0,{"$f":"IF(ISERROR(VLOOKUP($A37+8860000,'Growth Data'!$A:$Z,8,0)),0,VLOOKUP($A37+8860000,'Growth Data'!$A:$Z,8,0))","v":0},0,null,0,{"$f":"IF(ISERROR(VLOOKUP($A37+8860000,'Growth Data'!$A:$Z,9,0)),0,VLOOKUP($A37+8860000,'Growth Data'!$A:$Z,9,0))","v":0},0,null,"NO",{"$f":"IF(ISERROR(VLOOKUP($A37+8860000,'Growth Data'!$A:$Z,5,0)),\"NO\",VLOOKUP($A37+8860000,'Growth Data'!$A:$Z,5,0))","v":"NO"},0,null,0,{"$f":"IF(ISERROR(VLOOKUP($A37+8860000,'Growth Data'!$A:$Z,10,0)),0,VLOOKUP($A37+8860000,'Growth Data'!$A:$Z,10,0))","v":0},0,null,0,{"$f":"IF(ISERROR(VLOOKUP($A37+8860000,'Growth Data'!$A:$Z,11,0)),0,VLOOKUP($A37+8860000,'Growth Data'!$A:$Z,11,0))","v":0},0]
[2175,"North Borough Junior School",null,"North Borough Junior School",null,1,null,1051677.8,1051677.8,0,null,91323.38,91323.379969970018,3.0029987101443112E-5,null,20914.82,20914.820000000011,0,null,122957.69,122957.6897689769,2.310231066076085E-4,null,120084,120084,0,null,0,0,0,null,0,0,0,null,0,0,0,null,23328,23328,0,null,0,0,0,null,0,0,0,null,14242.31,14242.310261053033,-2.6105303368240129E-4,null,1444528,1444528.0000000002,0,null,0,0,0,null,1444528,1444528.0000000002,0,null,0,null,0,null,null,null,0,null,null,null,0,null,219307.98,219307.98230700806,0,null,8942,8942,0,null,null,null,0,null,null,null,0,null,null,null,0,null,null,null,0,null,null,null,0,null,null,null,0,null,"NO",{"$f":"IF(ISERROR(VLOOKUP($A38+8860000,'Growth Data'!$A:$F,3,0)),\"NO\",VLOOKUP($A38+8860000,'Growth Data'!$A:$F,3,0))","v":"NO"},0,null,0,{"$f":"IF(DI38=\"YES\",IF(ISERROR(VLOOKUP($A38+8860000,'Growth Data'!$A:$F,6,0)),0,VLOOKUP($A38+8860000,'Growth Data'!$A:$F,6,0)),0)","v":0},0,null,0,{"$f":"IF(ISERROR(VLOOKUP($A38+8860000,'Growth Data'!$A:$Z,7,0)),0,VLOOKUP($A38+8860000,'Growth Data'!$A:$Z,7,0))","v":0},0,null,"NO",{"$f":"IF(ISERROR(VLOOKUP($A38+8860000,'Growth Data'!$A:$F,4,0)),\"NO\",VLOOKUP($A38+8860000,'Growth Data'!$A:$F,4,0))","v":"NO"},0,null,0,{"$f":"IF(ISERROR(VLOOKUP($A38+8860000,'Growth Data'!$A:$Z,8,0)),0,VLOOKUP($A38+8860000,'Growth Data'!$A:$Z,8,0))","v":0},0,null,0,{"$f":"IF(ISERROR(VLOOKUP($A38+8860000,'Growth Data'!$A:$Z,9,0)),0,VLOOKUP($A38+8860000,'Growth Data'!$A:$Z,9,0))","v":0},0,null,"NO",{"$f":"IF(ISERROR(VLOOKUP($A38+8860000,'Growth Data'!$A:$Z,5,0)),\"NO\",VLOOKUP($A38+8860000,'Growth Data'!$A:$Z,5,0))","v":"NO"},0,null,0,{"$f":"IF(ISERROR(VLOOKUP($A38+8860000,'Growth Data'!$A:$Z,10,0)),0,VLOOKUP($A38+8860000,'Growth Data'!$A:$Z,10,0))","v":0},0,null,0,{"$f":"IF(ISERROR(VLOOKUP($A38+8860000,'Growth Data'!$A:$Z,11,0)),0,VLOOKUP($A38+8860000,'Growth Data'!$A:$Z,11,0))","v":0},0]
[2176,"Park Way Primary School",null,"Park Way Primary School",null,1,null,958882.7,958882.70000000007,0,null,117104.67,117104.67460317459,-4.6031745878281072E-3,null,26397.95,26397.950566037653,-5.6603765187901445E-4,null,102762.97,102762.96806722689,1.9327731133671477E-3,null,120084,120084,0,null,0,0,0,null,0,0,0,null,0,0,0,null,28416,28416,0,null,0,0,0,null,0,0,0,null,0,0,0,null,1353648.29,1353648.2932364391,-3.2364390790462494E-3,null,0,0,0,null,1353648.29,1353648.2932364391,-3.2364390790462494E-3,null,0,null,0,null,null,null,0,null,null,null,0,null,216135.38,216135.37554344733,0,null,8153,8153,0,null,null,null,0,null,null,null,0,null,null,null,0,null,null,null,0,null,null,null,0,null,null,null,0,null,"NO",{"$f":"IF(ISERROR(VLOOKUP($A39+8860000,'Growth Data'!$A:$F,3,0)),\"NO\",VLOOKUP($A39+8860000,'Growth Data'!$A:$F,3,0))","v":"NO"},0,null,0,{"$f":"IF(DI39=\"YES\",IF(ISERROR(VLOOKUP($A39+8860000,'Growth Data'!$A:$F,6,0)),0,VLOOKUP($A39+8860000,'Growth Data'!$A:$F,6,0)),0)","v":0},0,null,0,{"$f":"IF(ISERROR(VLOOKUP($A39+8860000,'Growth Data'!$A:$Z,7,0)),0,VLOOKUP($A39+8860000,'Growth Data'!$A:$Z,7,0))","v":0},0,null,"NO",{"$f":"IF(ISERROR(VLOOKUP($A39+8860000,'Growth Data'!$A:$F,4,0)),\"NO\",VLOOKUP($A39+8860000,'Growth Data'!$A:$F,4,0))","v":"NO"},0,null,0,{"$f":"IF(ISERROR(VLOOKUP($A39+8860000,'Growth Data'!$A:$Z,8,0)),0,VLOOKUP($A39+8860000,'Growth Data'!$A:$Z,8,0))","v":0},0,null,0,{"$f":"IF(ISERROR(VLOOKUP($A39+8860000,'Growth Data'!$A:$Z,9,0)),0,VLOOKUP($A39+8860000,'Growth Data'!$A:$Z,9,0))","v":0},0,null,"NO",{"$f":"IF(ISERROR(VLOOKUP($A39+8860000,'Growth Data'!$A:$Z,5,0)),\"NO\",VLOOKUP($A39+8860000,'Growth Data'!$A:$Z,5,0))","v":"NO"},0,null,0,{"$f":"IF(ISERROR(VLOOKUP($A39+8860000,'Growth Data'!$A:$Z,10,0)),0,VLOOKUP($A39+8860000,'Growth Data'!$A:$Z,10,0))","v":0},0,null,0,{"$f":"IF(ISERROR(VLOOKUP($A39+8860000,'Growth Data'!$A:$Z,11,0)),0,VLOOKUP($A39+8860000,'Growth Data'!$A:$Z,11,0))","v":0},0]
[2185,"Mereworth Community Primary School",null,"Mereworth Community Primary School",null,1,null,637193.02,637193.02,0,null,27757.63,27757.628455595735,1.5444042655872181E-3,null,622.97,622.96890109890057,1.098901099453542E-3,null,44384.84,44384.841011235956,-1.0112359595950693E-3,null,120084,120084,0,null,0,0,0,null,0,0,0,null,0,0,0,null,26368,26368,0,null,0,0,0,null,0,0,0,null,31037.54,31037.541632069391,-1.6320693903253414E-3,null,887448,887448,0,null,0,0,0,null,887448,887448,0,null,0,null,0,null,null,null,0,null,null,null,0,null,98990.36,98990.362307008138,0,null,5417.8,5417.7999999999993,0,null,null,null,0,null,null,null,0,null,null,null,0,null,null,null,0,null,null,null,0,null,null,null,0,null,"NO",{"$f":"IF(ISERROR(VLOOKUP($A40+8860000,'Growth Data'!$A:$F,3,0)),\"NO\",VLOOKUP($A40+8860000,'Growth Data'!$A:$F,3,0))","v":"NO"},0,null,0,{"$f":"IF(DI40=\"YES\",IF(ISERROR(VLOOKUP($A40+8860000,'Growth Data'!$A:$F,6,0)),0,VLOOKUP($A40+8860000,'Growth Data'!$A:$F,6,0)),0)","v":0},0,null,0,{"$f":"IF(ISERROR(VLOOKUP($A40+8860000,'Growth Data'!$A:$Z,7,0)),0,VLOOKUP($A40+8860000,'Growth Data'!$A:$Z,7,0))","v":0},0,null,"NO",{"$f":"IF(ISERROR(VLOOKUP($A40+8860000,'Growth Data'!$A:$F,4,0)),\"NO\",VLOOKUP($A40+8860000,'Growth Data'!$A:$F,4,0))","v":"NO"},0,null,0,{"$f":"IF(ISERROR(VLOOKUP($A40+8860000,'Growth Data'!$A:$Z,8,0)),0,VLOOKUP($A40+8860000,'Growth Data'!$A:$Z,8,0))","v":0},0,null,0,{"$f":"IF(ISERROR(VLOOKUP($A40+8860000,'Growth Data'!$A:$Z,9,0)),0,VLOOKUP($A40+8860000,'Growth Data'!$A:$Z,9,0))","v":0},0,null,"NO",{"$f":"IF(ISERROR(VLOOKUP($A40+8860000,'Growth Data'!$A:$Z,5,0)),\"NO\",VLOOKUP($A40+8860000,'Growth Data'!$A:$Z,5,0))","v":"NO"},0,null,0,{"$f":"IF(ISERROR(VLOOKUP($A40+8860000,'Growth Data'!$A:$Z,10,0)),0,VLOOKUP($A40+8860000,'Growth Data'!$A:$Z,10,0))","v":0},0,null,0,{"$f":"IF(ISERROR(VLOOKUP($A40+8860000,'Growth Data'!$A:$Z,11,0)),0,VLOOKUP($A40+8860000,'Growth Data'!$A:$Z,11,0))","v":0},0]
[2187,"Offham Primary School",null,"Offham Primary School",null,1,null,646472.53,646472.53,0,null,13556.95,13556.94507246377,4.9275362307525938E-3,null,1278.1300000000001,1278.1278888888876,2.111111112526487E-3,null,31985.47,31985.465083798881,4.9162011200678535E-3,null,120084,120084,0,null,0,0,0,null,0,0,0,null,0,0,0,null,23827,23827,0,null,0,0,0,null,0,0,0,null,60242.93,60242.931954848435,-1.9548484342521988E-3,null,897447,897447,0,null,0,0,0,null,897447,897447,0,null,0,null,0,null,null,null,0,null,null,null,0,null,110076.29,110076.29230700812,0,null,5496.7,5496.7,0,null,null,null,0,null,null,null,0,null,null,null,0,null,null,null,0,null,null,null,0,null,null,null,0,null,"NO",{"$f":"IF(ISERROR(VLOOKUP($A41+8860000,'Growth Data'!$A:$F,3,0)),\"NO\",VLOOKUP($A41+8860000,'Growth Data'!$A:$F,3,0))","v":"NO"},0,null,0,{"$f":"IF(DI41=\"YES\",IF(ISERROR(VLOOKUP($A41+8860000,'Growth Data'!$A:$F,6,0)),0,VLOOKUP($A41+8860000,'Growth Data'!$A:$F,6,0)),0)","v":0},0,null,0,{"$f":"IF(ISERROR(VLOOKUP($A41+8860000,'Growth Data'!$A:$Z,7,0)),0,VLOOKUP($A41+8860000,'Growth Data'!$A:$Z,7,0))","v":0},0,null,"NO",{"$f":"IF(ISERROR(VLOOKUP($A41+8860000,'Growth Data'!$A:$F,4,0)),\"NO\",VLOOKUP($A41+8860000,'Growth Data'!$A:$F,4,0))","v":"NO"},0,null,0,{"$f":"IF(ISERROR(VLOOKUP($A41+8860000,'Growth Data'!$A:$Z,8,0)),0,VLOOKUP($A41+8860000,'Growth Data'!$A:$Z,8,0))","v":0},0,null,0,{"$f":"IF(ISERROR(VLOOKUP($A41+8860000,'Growth Data'!$A:$Z,9,0)),0,VLOOKUP($A41+8860000,'Growth Data'!$A:$Z,9,0))","v":0},0,null,"NO",{"$f":"IF(ISERROR(VLOOKUP($A41+8860000,'Growth Data'!$A:$Z,5,0)),\"NO\",VLOOKUP($A41+8860000,'Growth Data'!$A:$Z,5,0))","v":"NO"},0,null,0,{"$f":"IF(ISERROR(VLOOKUP($A41+8860000,'Growth Data'!$A:$Z,10,0)),0,VLOOKUP($A41+8860000,'Growth Data'!$A:$Z,10,0))","v":0},0,null,0,{"$f":"IF(ISERROR(VLOOKUP($A41+8860000,'Growth Data'!$A:$Z,11,0)),0,VLOOKUP($A41+8860000,'Growth Data'!$A:$Z,11,0))","v":0},0]
[2188,"Plaxtol Primary School",null,"Plaxtol Primary School",null,1,null,300037.49,300037.49,0,null,6469.28,6469.2760439560452,3.9560439545311965E-3,null,651.07000000000005,651.07109756097498,-1.0975609749266368E-3,null,13626.88,13626.883333333331,-3.3333333321934333E-3,null,120084,120084,0,null,0,0,0,null,0,0,0,null,0,0,0,null,13847,13847,0,null,0,0,0,null,0,0,0,null,0,0,0,null,454715.72,454715.72047485039,-4.7485041432082653E-4,null,0,0,0,null,454715.72,454715.72047485039,-4.7485041432082653E-4,null,0,null,0,null,null,null,0,null,null,null,0,null,24680.69,24680.692781858503,0,null,2551.1,2551.1,0,null,null,null,0,null,null,null,0,null,null,null,0,null,null,null,0,null,null,null,0,null,null,null,0,null,"NO",{"$f":"IF(ISERROR(VLOOKUP($A42+8860000,'Growth Data'!$A:$F,3,0)),\"NO\",VLOOKUP($A42+8860000,'Growth Data'!$A:$F,3,0))","v":"NO"},0,null,0,{"$f":"IF(DI42=\"YES\",IF(ISERROR(VLOOKUP($A42+8860000,'Growth Data'!$A:$F,6,0)),0,VLOOKUP($A42+8860000,'Growth Data'!$A:$F,6,0)),0)","v":0},0,null,0,{"$f":"IF(ISERROR(VLOOKUP($A42+8860000,'Growth Data'!$A:$Z,7,0)),0,VLOOKUP($A42+8860000,'Growth Data'!$A:$Z,7,0))","v":0},0,null,"NO",{"$f":"IF(ISERROR(VLOOKUP($A42+8860000,'Growth Data'!$A:$F,4,0)),\"NO\",VLOOKUP($A42+8860000,'Growth Data'!$A:$F,4,0))","v":"NO"},0,null,0,{"$f":"IF(ISERROR(VLOOKUP($A42+8860000,'Growth Data'!$A:$Z,8,0)),0,VLOOKUP($A42+8860000,'Growth Data'!$A:$Z,8,0))","v":0},0,null,0,{"$f":"IF(ISERROR(VLOOKUP($A42+8860000,'Growth Data'!$A:$Z,9,0)),0,VLOOKUP($A42+8860000,'Growth Data'!$A:$Z,9,0))","v":0},0,null,"NO",{"$f":"IF(ISERROR(VLOOKUP($A42+8860000,'Growth Data'!$A:$Z,5,0)),\"NO\",VLOOKUP($A42+8860000,'Growth Data'!$A:$Z,5,0))","v":"NO"},0,null,0,{"$f":"IF(ISERROR(VLOOKUP($A42+8860000,'Growth Data'!$A:$Z,10,0)),0,VLOOKUP($A42+8860000,'Growth Data'!$A:$Z,10,0))","v":0},0,null,0,{"$f":"IF(ISERROR(VLOOKUP($A42+8860000,'Growth Data'!$A:$Z,11,0)),0,VLOOKUP($A42+8860000,'Growth Data'!$A:$Z,11,0))","v":0},0]
[2189,"Ryarsh Primary School",null,"Ryarsh Primary School",null,1,null,652658.87,652658.87,0,null,10889.56,10889.560000000007,0,null,0,0,0,null,39819.06,39819.064277777776,-4.277777778042946E-3,null,120084,120084,0,null,0,0,0,null,0,0,0,null,0,0,0,null,17964,17964,0,null,0,0,0,null,0,0,0,null,58528.51,58528.505722222239,4.2777777634910308E-3,null,899944,899944.00000000012,0,null,0,0,0,null,899944,899944.00000000012,0,null,0,null,0,null,null,null,0,null,null,null,0,null,111329.31,111329.31230700816,0,null,5549.3,5549.2999999999993,0,null,null,null,0,null,null,null,0,null,null,null,0,null,null,null,0,null,null,null,0,null,null,null,0,null,"NO",{"$f":"IF(ISERROR(VLOOKUP($A43+8860000,'Growth Data'!$A:$F,3,0)),\"NO\",VLOOKUP($A43+8860000,'Growth Data'!$A:$F,3,0))","v":"NO"},0,null,0,{"$f":"IF(DI43=\"YES\",IF(ISERROR(VLOOKUP($A43+8860000,'Growth Data'!$A:$F,6,0)),0,VLOOKUP($A43+8860000,'Growth Data'!$A:$F,6,0)),0)","v":0},0,null,0,{"$f":"IF(ISERROR(VLOOKUP($A43+8860000,'Growth Data'!$A:$Z,7,0)),0,VLOOKUP($A43+8860000,'Growth Data'!$A:$Z,7,0))","v":0},0,null,"NO",{"$f":"IF(ISERROR(VLOOKUP($A43+8860000,'Growth Data'!$A:$F,4,0)),\"NO\",VLOOKUP($A43+8860000,'Growth Data'!$A:$F,4,0))","v":"NO"},0,null,0,{"$f":"IF(ISERROR(VLOOKUP($A43+8860000,'Growth Data'!$A:$Z,8,0)),0,VLOOKUP($A43+8860000,'Growth Data'!$A:$Z,8,0))","v":0},0,null,0,{"$f":"IF(ISERROR(VLOOKUP($A43+8860000,'Growth Data'!$A:$Z,9,0)),0,VLOOKUP($A43+8860000,'Growth Data'!$A:$Z,9,0))","v":0},0,null,"NO",{"$f":"IF(ISERROR(VLOOKUP($A43+8860000,'Growth Data'!$A:$Z,5,0)),\"NO\",VLOOKUP($A43+8860000,'Growth Data'!$A:$Z,5,0))","v":"NO"},0,null,0,{"$f":"IF(ISERROR(VLOOKUP($A43+8860000,'Growth Data'!$A:$Z,10,0)),0,VLOOKUP($A43+8860000,'Growth Data'!$A:$Z,10,0))","v":0},0,null,0,{"$f":"IF(ISERROR(VLOOKUP($A43+8860000,'Growth Data'!$A:$Z,11,0)),0,VLOOKUP($A43+8860000,'Growth Data'!$A:$Z,11,0))","v":0},0]
[2190,"Shipbourne School",null,"Shipbourne School",null,1,null,182497.03,182497.03,0,null,11938.36,11938.359285714292,7.1428570845455397E-4,null,1948.38,1948.3806,-5.9999999984938768E-4,null,6338.28,6338.2774509803921,2.5490196076134453E-3,null,120084,120084,0,null,0,0,0,null,0,0,0,null,0,0,0,null,6737,6737,0,null,0,0,0,null,0,0,0,null,0,0,0,null,329543.05,329543.04733669467,2.6633053203113377E-3,null,3647.25,3647.2468715999275,3.1284000724554062E-3,null,333190.28999999998,333190.2942082946,-4.2082946165464818E-3,null,0,null,0,null,null,null,0,null,null,null,0,null,25504.13,25504.126515302756,0,null,1551.7,1551.6999999999998,0,null,null,null,0,null,null,null,0,null,null,null,0,null,null,null,0,null,null,null,0,null,null,null,0,null,"NO",{"$f":"IF(ISERROR(VLOOKUP($A44+8860000,'Growth Data'!$A:$F,3,0)),\"NO\",VLOOKUP($A44+8860000,'Growth Data'!$A:$F,3,0))","v":"NO"},0,null,0,{"$f":"IF(DI44=\"YES\",IF(ISERROR(VLOOKUP($A44+8860000,'Growth Data'!$A:$F,6,0)),0,VLOOKUP($A44+8860000,'Growth Data'!$A:$F,6,0)),0)","v":0},0,null,0,{"$f":"IF(ISERROR(VLOOKUP($A44+8860000,'Growth Data'!$A:$Z,7,0)),0,VLOOKUP($A44+8860000,'Growth Data'!$A:$Z,7,0))","v":0},0,null,"YES",{"$f":"IF(ISERROR(VLOOKUP($A44+8860000,'Growth Data'!$A:$F,4,0)),\"NO\",VLOOKUP($A44+8860000,'Growth Data'!$A:$F,4,0))","v":"NO"},1,null,64,{"$f":"IF(ISERROR(VLOOKUP($A44+8860000,'Growth Data'!$A:$Z,8,0)),0,VLOOKUP($A44+8860000,'Growth Data'!$A:$Z,8,0))","v":0},1,null,82,{"$f":"IF(ISERROR(VLOOKUP($A44+8860000,'Growth Data'!$A:$Z,9,0)),0,VLOOKUP($A44+8860000,'Growth Data'!$A:$Z,9,0))","v":0},1,null,"YES",{"$f":"IF(ISERROR(VLOOKUP($A44+8860000,'Growth Data'!$A:$Z,5,0)),\"NO\",VLOOKUP($A44+8860000,'Growth Data'!$A:$Z,5,0))","v":"NO"},1,null,67,{"$f":"IF(ISERROR(VLOOKUP($A44+8860000,'Growth Data'!$A:$Z,10,0)),0,VLOOKUP($A44+8860000,'Growth Data'!$A:$Z,10,0))","v":0},1,null,82,{"$f":"IF(ISERROR(VLOOKUP($A44+8860000,'Growth Data'!$A:$Z,11,0)),0,VLOOKUP($A44+8860000,'Growth Data'!$A:$Z,11,0))","v":0},1]
[2192,"Staplehurst School",null,"Staplehurst School",null,1,null,1079516.33,1079516.33,0,null,50203.19,50203.186893732956,3.1062670459505171E-3,null,6402.87,6402.870333333326,-3.3333332612528466E-4,null,97530.880000000005,97530.884161073831,-4.1610738262534142E-3,null,120084,120084,0,null,0,0,0,null,0,0,0,null,0,0,0,null,37632,37632,0,null,0,0,0,null,0,0,0,null,105082.73,105082.72861185978,1.3881402119295672E-3,null,1496452,1496451.9999999998,0,null,0,0,0,null,1496452,1496451.9999999998,0,null,0,null,0,null,null,null,0,null,null,null,0,null,242438.73,242438.73230700806,0,null,9178.7000000000007,9178.7000000000007,0,null,null,null,0,null,null,null,0,null,null,null,0,null,null,null,0,null,null,null,0,null,null,null,0,null,"NO",{"$f":"IF(ISERROR(VLOOKUP($A45+8860000,'Growth Data'!$A:$F,3,0)),\"NO\",VLOOKUP($A45+8860000,'Growth Data'!$A:$F,3,0))","v":"NO"},0,null,0,{"$f":"IF(DI45=\"YES\",IF(ISERROR(VLOOKUP($A45+8860000,'Growth Data'!$A:$F,6,0)),0,VLOOKUP($A45+8860000,'Growth Data'!$A:$F,6,0)),0)","v":0},0,null,0,{"$f":"IF(ISERROR(VLOOKUP($A45+8860000,'Growth Data'!$A:$Z,7,0)),0,VLOOKUP($A45+8860000,'Growth Data'!$A:$Z,7,0))","v":0},0,null,"NO",{"$f":"IF(ISERROR(VLOOKUP($A45+8860000,'Growth Data'!$A:$F,4,0)),\"NO\",VLOOKUP($A45+8860000,'Growth Data'!$A:$F,4,0))","v":"NO"},0,null,0,{"$f":"IF(ISERROR(VLOOKUP($A45+8860000,'Growth Data'!$A:$Z,8,0)),0,VLOOKUP($A45+8860000,'Growth Data'!$A:$Z,8,0))","v":0},0,null,0,{"$f":"IF(ISERROR(VLOOKUP($A45+8860000,'Growth Data'!$A:$Z,9,0)),0,VLOOKUP($A45+8860000,'Growth Data'!$A:$Z,9,0))","v":0},0,null,"NO",{"$f":"IF(ISERROR(VLOOKUP($A45+8860000,'Growth Data'!$A:$Z,5,0)),\"NO\",VLOOKUP($A45+8860000,'Growth Data'!$A:$Z,5,0))","v":"NO"},0,null,0,{"$f":"IF(ISERROR(VLOOKUP($A45+8860000,'Growth Data'!$A:$Z,10,0)),0,VLOOKUP($A45+8860000,'Growth Data'!$A:$Z,10,0))","v":0},0,null,0,{"$f":"IF(ISERROR(VLOOKUP($A45+8860000,'Growth Data'!$A:$Z,11,0)),0,VLOOKUP($A45+8860000,'Growth Data'!$A:$Z,11,0))","v":0},0]
[2193,"Sutton Valence Primary School",null,"Sutton Valence Primary School",null,1,null,631006.68000000005,631006.68000000005,0,null,42929.83,42929.829999999922,8.0035533756017685E-11,null,5162.28,5162.278620689659,1.3793103407806484E-3,null,40122.04,40122.039999999994,0,null,120084,120084,0,null,0,0,0,null,0,0,0,null,0,0,0,null,19835,19835,0,null,0,0,0,null,0,0,0,null,13415.17,13415.17137931037,-1.3793103698844789E-3,null,872555,872555,0,null,0,0,0,null,872555,872555,0,null,0,null,0,null,null,null,0,null,null,null,0,null,91753.18,91753.18230700813,0,null,5365.2,5365.2,0,null,null,null,0,null,null,null,0,null,null,null,0,null,null,null,0,null,null,null,0,null,null,null,0,null,"NO",{"$f":"IF(ISERROR(VLOOKUP($A46+8860000,'Growth Data'!$A:$F,3,0)),\"NO\",VLOOKUP($A46+8860000,'Growth Data'!$A:$F,3,0))","v":"NO"},0,null,0,{"$f":"IF(DI46=\"YES\",IF(ISERROR(VLOOKUP($A46+8860000,'Growth Data'!$A:$F,6,0)),0,VLOOKUP($A46+8860000,'Growth Data'!$A:$F,6,0)),0)","v":0},0,null,0,{"$f":"IF(ISERROR(VLOOKUP($A46+8860000,'Growth Data'!$A:$Z,7,0)),0,VLOOKUP($A46+8860000,'Growth Data'!$A:$Z,7,0))","v":0},0,null,"NO",{"$f":"IF(ISERROR(VLOOKUP($A46+8860000,'Growth Data'!$A:$F,4,0)),\"NO\",VLOOKUP($A46+8860000,'Growth Data'!$A:$F,4,0))","v":"NO"},0,null,0,{"$f":"IF(ISERROR(VLOOKUP($A46+8860000,'Growth Data'!$A:$Z,8,0)),0,VLOOKUP($A46+8860000,'Growth Data'!$A:$Z,8,0))","v":0},0,null,0,{"$f":"IF(ISERROR(VLOOKUP($A46+8860000,'Growth Data'!$A:$Z,9,0)),0,VLOOKUP($A46+8860000,'Growth Data'!$A:$Z,9,0))","v":0},0,null,"NO",{"$f":"IF(ISERROR(VLOOKUP($A46+8860000,'Growth Data'!$A:$Z,5,0)),\"NO\",VLOOKUP($A46+8860000,'Growth Data'!$A:$Z,5,0))","v":"NO"},0,null,0,{"$f":"IF(ISERROR(VLOOKUP($A46+8860000,'Growth Data'!$A:$Z,10,0)),0,VLOOKUP($A46+8860000,'Growth Data'!$A:$Z,10,0))","v":0},0,null,0,{"$f":"IF(ISERROR(VLOOKUP($A46+8860000,'Growth Data'!$A:$Z,11,0)),0,VLOOKUP($A46+8860000,'Growth Data'!$A:$Z,11,0))","v":0},0]
[2226,"Eastling Primary School",null,"Eastling Primary School",null,1,null,272198.96000000002,272198.96000000002,0,null,20632.71,20632.71162790696,-1.6279069604934193E-3,null,672.7,672.69888888888943,1.1111111106174576E-3,null,27739.49,27739.492602739723,-2.6027397216239478E-3,null,120084,120084,0,null,37155.129999999997,37155.125367156208,4.6328437892952934E-3,null,0,0,0,null,0,0,0,null,12974,12974,0,null,0,0,0,null,0,0,0,null,0,0,0,null,491456.99,491456.98848669179,1.5133082051761448E-3,null,0,0,0,null,491456.99,491456.98848669179,1.5133082051761448E-3,null,0,null,0,null,null,null,0,null,null,null,0,null,47454.53,47454.525426543725,0,null,2314.4,2314.3999999999996,0,null,null,null,0,null,null,null,0,null,null,null,0,null,null,null,0,null,null,null,0,null,null,null,0,null,"NO",{"$f":"IF(ISERROR(VLOOKUP($A47+8860000,'Growth Data'!$A:$F,3,0)),\"NO\",VLOOKUP($A47+8860000,'Growth Data'!$A:$F,3,0))","v":"NO"},0,null,0,{"$f":"IF(DI47=\"YES\",IF(ISERROR(VLOOKUP($A47+8860000,'Growth Data'!$A:$F,6,0)),0,VLOOKUP($A47+8860000,'Growth Data'!$A:$F,6,0)),0)","v":0},0,null,0,{"$f":"IF(ISERROR(VLOOKUP($A47+8860000,'Growth Data'!$A:$Z,7,0)),0,VLOOKUP($A47+8860000,'Growth Data'!$A:$Z,7,0))","v":0},0,null,"NO",{"$f":"IF(ISERROR(VLOOKUP($A47+8860000,'Growth Data'!$A:$F,4,0)),\"NO\",VLOOKUP($A47+8860000,'Growth Data'!$A:$F,4,0))","v":"NO"},0,null,0,{"$f":"IF(ISERROR(VLOOKUP($A47+8860000,'Growth Data'!$A:$Z,8,0)),0,VLOOKUP($A47+8860000,'Growth Data'!$A:$Z,8,0))","v":0},0,null,0,{"$f":"IF(ISERROR(VLOOKUP($A47+8860000,'Growth Data'!$A:$Z,9,0)),0,VLOOKUP($A47+8860000,'Growth Data'!$A:$Z,9,0))","v":0},0,null,"NO",{"$f":"IF(ISERROR(VLOOKUP($A47+8860000,'Growth Data'!$A:$Z,5,0)),\"NO\",VLOOKUP($A47+8860000,'Growth Data'!$A:$Z,5,0))","v":"NO"},0,null,0,{"$f":"IF(ISERROR(VLOOKUP($A47+8860000,'Growth Data'!$A:$Z,10,0)),0,VLOOKUP($A47+8860000,'Growth Data'!$A:$Z,10,0))","v":0},0,null,0,{"$f":"IF(ISERROR(VLOOKUP($A47+8860000,'Growth Data'!$A:$Z,11,0)),0,VLOOKUP($A47+8860000,'Growth Data'!$A:$Z,11,0))","v":0},0]
[2227,"Ethelbert Road Primary School",null,"Ethelbert Road Primary School",null,1,null,643379.36,643379.36,0,null,20042.93,20042.929999999997,0,null,3233.93,3233.9299435028283,5.6497171499358956E-5,null,49937.56,49937.563146067419,-3.1460674217669293E-3,null,120084,120084,0,null,0,0,0,null,0,0,0,null,0,0,0,null,11477,11477,0,null,0,0,0,null,0,0,0,null,32762.22,32762.216910429765,3.0895702366251498E-3,null,880917,880917.00000000012,0,null,0,0,0,null,880917,880917.00000000012,0,null,0,null,0,null,null,null,0,null,null,null,0,null,106227.54,106227.54230700816,0,null,5470.4,5470.4,0,null,null,null,0,null,null,null,0,null,null,null,0,null,null,null,0,null,null,null,0,null,null,null,0,null,"NO",{"$f":"IF(ISERROR(VLOOKUP($A48+8860000,'Growth Data'!$A:$F,3,0)),\"NO\",VLOOKUP($A48+8860000,'Growth Data'!$A:$F,3,0))","v":"NO"},0,null,0,{"$f":"IF(DI48=\"YES\",IF(ISERROR(VLOOKUP($A48+8860000,'Growth Data'!$A:$F,6,0)),0,VLOOKUP($A48+8860000,'Growth Data'!$A:$F,6,0)),0)","v":0},0,null,0,{"$f":"IF(ISERROR(VLOOKUP($A48+8860000,'Growth Data'!$A:$Z,7,0)),0,VLOOKUP($A48+8860000,'Growth Data'!$A:$Z,7,0))","v":0},0,null,"NO",{"$f":"IF(ISERROR(VLOOKUP($A48+8860000,'Growth Data'!$A:$F,4,0)),\"NO\",VLOOKUP($A48+8860000,'Growth Data'!$A:$F,4,0))","v":"NO"},0,null,0,{"$f":"IF(ISERROR(VLOOKUP($A48+8860000,'Growth Data'!$A:$Z,8,0)),0,VLOOKUP($A48+8860000,'Growth Data'!$A:$Z,8,0))","v":0},0,null,0,{"$f":"IF(ISERROR(VLOOKUP($A48+8860000,'Growth Data'!$A:$Z,9,0)),0,VLOOKUP($A48+8860000,'Growth Data'!$A:$Z,9,0))","v":0},0,null,"NO",{"$f":"IF(ISERROR(VLOOKUP($A48+8860000,'Growth Data'!$A:$Z,5,0)),\"NO\",VLOOKUP($A48+8860000,'Growth Data'!$A:$Z,5,0))","v":"NO"},0,null,0,{"$f":"IF(ISERROR(VLOOKUP($A48+8860000,'Growth Data'!$A:$Z,10,0)),0,VLOOKUP($A48+8860000,'Growth Data'!$A:$Z,10,0))","v":0},0,null,0,{"$f":"IF(ISERROR(VLOOKUP($A48+8860000,'Growth Data'!$A:$Z,11,0)),0,VLOOKUP($A48+8860000,'Growth Data'!$A:$Z,11,0))","v":0},0]
[2228,"Davington Primary School",null,"Davington Primary School",null,1,null,1255827.02,1255827.02,0,null,148720.31,148720.31000000011,0,null,6439.72,6439.7216138328567,-1.6138328564920812E-3,null,127296.8,127296.79687315633,3.1268436723621562E-3,null,120084,120084,0,null,0,0,0,null,0,0,0,null,0,0,0,null,39424,39424,0,null,0,0,0,null,0,0,0,null,38712.15,38712.151513010671,-1.513010669441428E-3,null,1736504,1736504,0,null,0,0,0,null,1736504,1736504,0,null,0,null,0,null,null,null,0,null,null,null,0,null,297943.56,297943.56230700802,0,null,10677.8,10677.8,0,null,null,null,0,null,null,null,0,null,null,null,0,null,null,null,0,null,null,null,0,null,null,null,0,null,"NO",{"$f":"IF(ISERROR(VLOOKUP($A49+8860000,'Growth Data'!$A:$F,3,0)),\"NO\",VLOOKUP($A49+8860000,'Growth Data'!$A:$F,3,0))","v":"NO"},0,null,0,{"$f":"IF(DI49=\"YES\",IF(ISERROR(VLOOKUP($A49+8860000,'Growth Data'!$A:$F,6,0)),0,VLOOKUP($A49+8860000,'Growth Data'!$A:$F,6,0)),0)","v":0},0,null,0,{"$f":"IF(ISERROR(VLOOKUP($A49+8860000,'Growth Data'!$A:$Z,7,0)),0,VLOOKUP($A49+8860000,'Growth Data'!$A:$Z,7,0))","v":0},0,null,"NO",{"$f":"IF(ISERROR(VLOOKUP($A49+8860000,'Growth Data'!$A:$F,4,0)),\"NO\",VLOOKUP($A49+8860000,'Growth Data'!$A:$F,4,0))","v":"NO"},0,null,0,{"$f":"IF(ISERROR(VLOOKUP($A49+8860000,'Growth Data'!$A:$Z,8,0)),0,VLOOKUP($A49+8860000,'Growth Data'!$A:$Z,8,0))","v":0},0,null,0,{"$f":"IF(ISERROR(VLOOKUP($A49+8860000,'Growth Data'!$A:$Z,9,0)),0,VLOOKUP($A49+8860000,'Growth Data'!$A:$Z,9,0))","v":0},0,null,"NO",{"$f":"IF(ISERROR(VLOOKUP($A49+8860000,'Growth Data'!$A:$Z,5,0)),\"NO\",VLOOKUP($A49+8860000,'Growth Data'!$A:$Z,5,0))","v":"NO"},0,null,0,{"$f":"IF(ISERROR(VLOOKUP($A49+8860000,'Growth Data'!$A:$Z,10,0)),0,VLOOKUP($A49+8860000,'Growth Data'!$A:$Z,10,0))","v":0},0,null,0,{"$f":"IF(ISERROR(VLOOKUP($A49+8860000,'Growth Data'!$A:$Z,11,0)),0,VLOOKUP($A49+8860000,'Growth Data'!$A:$Z,11,0))","v":0},0]
[2231,"Lower Halstow Primary School",null,"Lower Halstow Primary School",null,1,null,507279.88,507279.88,0,null,27266.19,27266.191772151935,-1.7721519361657556E-3,null,658.86,658.86102189781013,-1.0218978101192988E-3,null,36256.53,36256.530175438587,-1.7543858848512173E-4,null,120084,120084,0,null,0,0,0,null,0,0,0,null,0,0,0,null,20833,20833,0,null,0,0,0,null,0,0,0,null,0,0,0,null,712378.46,712378.46296948835,-2.9694883851334453E-3,null,0,0,0,null,712378.46,712378.46296948835,-2.9694883851334453E-3,null,0,null,0,null,null,null,0,null,null,null,0,null,62130.89,62130.885276496454,0,null,4313.2,4313.2,0,null,null,null,0,null,null,null,0,null,null,null,0,null,null,null,0,null,null,null,0,null,null,null,0,null,"NO",{"$f":"IF(ISERROR(VLOOKUP($A50+8860000,'Growth Data'!$A:$F,3,0)),\"NO\",VLOOKUP($A50+8860000,'Growth Data'!$A:$F,3,0))","v":"YES"},1,null,0,{"$f":"IF(DI50=\"YES\",IF(ISERROR(VLOOKUP($A50+8860000,'Growth Data'!$A:$F,6,0)),0,VLOOKUP($A50+8860000,'Growth Data'!$A:$F,6,0)),0)","v":29},-29,null,0,{"$f":"IF(ISERROR(VLOOKUP($A50+8860000,'Growth Data'!$A:$Z,7,0)),0,VLOOKUP($A50+8860000,'Growth Data'!$A:$Z,7,0))","v":30},1,null,"NO",{"$f":"IF(ISERROR(VLOOKUP($A50+8860000,'Growth Data'!$A:$F,4,0)),\"NO\",VLOOKUP($A50+8860000,'Growth Data'!$A:$F,4,0))","v":"YES"},1,null,0,{"$f":"IF(ISERROR(VLOOKUP($A50+8860000,'Growth Data'!$A:$Z,8,0)),0,VLOOKUP($A50+8860000,'Growth Data'!$A:$Z,8,0))","v":20},1,null,0,{"$f":"IF(ISERROR(VLOOKUP($A50+8860000,'Growth Data'!$A:$Z,9,0)),0,VLOOKUP($A50+8860000,'Growth Data'!$A:$Z,9,0))","v":30},1,null,"NO",{"$f":"IF(ISERROR(VLOOKUP($A50+8860000,'Growth Data'!$A:$Z,5,0)),\"NO\",VLOOKUP($A50+8860000,'Growth Data'!$A:$Z,5,0))","v":"NO"},0,null,0,{"$f":"IF(ISERROR(VLOOKUP($A50+8860000,'Growth Data'!$A:$Z,10,0)),0,VLOOKUP($A50+8860000,'Growth Data'!$A:$Z,10,0))","v":0},0,null,0,{"$f":"IF(ISERROR(VLOOKUP($A50+8860000,'Growth Data'!$A:$Z,11,0)),0,VLOOKUP($A50+8860000,'Growth Data'!$A:$Z,11,0))","v":0},0]
[2239,"Rodmersham School",null,"Rodmersham School",null,1,null,312410.17,312410.17,0,null,10765.64,10765.641274509802,-1.2745098028972279E-3,null,669.75,669.75168674698591,-1.6867469859107587E-3,null,18445.46,18445.461666666666,-1.6666666670062114E-3,null,120084,120084,0,null,0,0,0,null,0,0,0,null,0,0,0,null,5863,5863,0,null,0,0,0,null,9907,9907,0,null,0,0,0,null,478145.02,478145.02462792344,-4.6279234229587018E-3,null,0,0,0,null,478145.02,478145.02462792344,-4.6279234229587018E-3,null,0,null,0,null,null,null,0,null,null,null,0,null,34734.959999999999,34734.956934931601,0,null,2656.3,2656.3,0,null,null,null,0,null,null,null,0,null,null,null,0,null,null,null,0,null,null,null,0,null,null,null,0,null,"NO",{"$f":"IF(ISERROR(VLOOKUP($A51+8860000,'Growth Data'!$A:$F,3,0)),\"NO\",VLOOKUP($A51+8860000,'Growth Data'!$A:$F,3,0))","v":"NO"},0,null,0,{"$f":"IF(DI51=\"YES\",IF(ISERROR(VLOOKUP($A51+8860000,'Growth Data'!$A:$F,6,0)),0,VLOOKUP($A51+8860000,'Growth Data'!$A:$F,6,0)),0)","v":0},0,null,0,{"$f":"IF(ISERROR(VLOOKUP($A51+8860000,'Growth Data'!$A:$Z,7,0)),0,VLOOKUP($A51+8860000,'Growth Data'!$A:$Z,7,0))","v":0},0,null,"NO",{"$f":"IF(ISERROR(VLOOKUP($A51+8860000,'Growth Data'!$A:$F,4,0)),\"NO\",VLOOKUP($A51+8860000,'Growth Data'!$A:$F,4,0))","v":"NO"},0,null,0,{"$f":"IF(ISERROR(VLOOKUP($A51+8860000,'Growth Data'!$A:$Z,8,0)),0,VLOOKUP($A51+8860000,'Growth Data'!$A:$Z,8,0))","v":0},0,null,0,{"$f":"IF(ISERROR(VLOOKUP($A51+8860000,'Growth Data'!$A:$Z,9,0)),0,VLOOKUP($A51+8860000,'Growth Data'!$A:$Z,9,0))","v":0},0,null,"NO",{"$f":"IF(ISERROR(VLOOKUP($A51+8860000,'Growth Data'!$A:$Z,5,0)),\"NO\",VLOOKUP($A51+8860000,'Growth Data'!$A:$Z,5,0))","v":"NO"},0,null,0,{"$f":"IF(ISERROR(VLOOKUP($A51+8860000,'Growth Data'!$A:$Z,10,0)),0,VLOOKUP($A51+8860000,'Growth Data'!$A:$Z,10,0))","v":0},0,null,0,{"$f":"IF(ISERROR(VLOOKUP($A51+8860000,'Growth Data'!$A:$Z,11,0)),0,VLOOKUP($A51+8860000,'Growth Data'!$A:$Z,11,0))","v":0},0]
[2245,"Rose Street Primary School",null,"Rose Street Primary School",null,1,null,1224895.32,1224895.32,0,null,369955.03,369955.02571428573,4.2857142980210483E-3,null,14102.93,14102.93435294118,-4.352941179604386E-3,null,138430.04,138430.03582822086,4.1717791464179754E-3,null,120084,120084,0,null,0,0,0,null,0,0,0,null,0,0,0,null,79872,79872,0,null,0,0,0,null,0,0,0,null,0,0,0,null,1947339.32,1947339.3158954477,4.1045523248612881E-3,null,0,0,0,null,1947339.32,1947339.3158954477,4.1045523248612881E-3,null,0,null,0,null,null,null,0,null,null,null,0,null,432516.18,432516.17820245581,0,null,10414.799999999999,10414.799999999999,0,null,null,null,0,null,null,null,0,null,null,null,0,null,null,null,0,null,null,null,0,null,null,null,0,null,"NO",{"$f":"IF(ISERROR(VLOOKUP($A52+8860000,'Growth Data'!$A:$F,3,0)),\"NO\",VLOOKUP($A52+8860000,'Growth Data'!$A:$F,3,0))","v":"NO"},0,null,0,{"$f":"IF(DI52=\"YES\",IF(ISERROR(VLOOKUP($A52+8860000,'Growth Data'!$A:$F,6,0)),0,VLOOKUP($A52+8860000,'Growth Data'!$A:$F,6,0)),0)","v":0},0,null,0,{"$f":"IF(ISERROR(VLOOKUP($A52+8860000,'Growth Data'!$A:$Z,7,0)),0,VLOOKUP($A52+8860000,'Growth Data'!$A:$Z,7,0))","v":0},0,null,"NO",{"$f":"IF(ISERROR(VLOOKUP($A52+8860000,'Growth Data'!$A:$F,4,0)),\"NO\",VLOOKUP($A52+8860000,'Growth Data'!$A:$F,4,0))","v":"NO"},0,null,0,{"$f":"IF(ISERROR(VLOOKUP($A52+8860000,'Growth Data'!$A:$Z,8,0)),0,VLOOKUP($A52+8860000,'Growth Data'!$A:$Z,8,0))","v":0},0,null,0,{"$f":"IF(ISERROR(VLOOKUP($A52+8860000,'Growth Data'!$A:$Z,9,0)),0,VLOOKUP($A52+8860000,'Growth Data'!$A:$Z,9,0))","v":0},0,null,"NO",{"$f":"IF(ISERROR(VLOOKUP($A52+8860000,'Growth Data'!$A:$Z,5,0)),\"NO\",VLOOKUP($A52+8860000,'Growth Data'!$A:$Z,5,0))","v":"NO"},0,null,0,{"$f":"IF(ISERROR(VLOOKUP($A52+8860000,'Growth Data'!$A:$Z,10,0)),0,VLOOKUP($A52+8860000,'Growth Data'!$A:$Z,10,0))","v":0},0,null,0,{"$f":"IF(ISERROR(VLOOKUP($A52+8860000,'Growth Data'!$A:$Z,11,0)),0,VLOOKUP($A52+8860000,'Growth Data'!$A:$Z,11,0))","v":0},0]
[2254,"Canterbury Road Primary School",null,"Canterbury Road Primary School",null,1,null,640286.18999999994,640286.19000000006,0,null,92278.12,92278.119999999893,0,null,10942.5,10942.499491525425,5.0847457532654516E-4,null,77768.36,77768.362285714291,-2.2857142903376371E-3,null,120084,120084,0,null,0,0,0,null,0,0,0,null,0,0,0,null,29952,29952,0,null,0,0,0,null,0,0,0,null,0,0,0,null,971311.17,971311.17177723965,-1.7772396095097065E-3,null,0,0,0,null,971311.17,971311.17177723965,-1.7772396095097065E-3,null,0,null,0,null,null,null,0,null,null,null,0,null,165128.68,165128.6840842478,0,null,5444.1,5444.1,0,null,null,null,0,null,null,null,0,null,null,null,0,null,null,null,0,null,null,null,0,null,null,null,0,null,"NO",{"$f":"IF(ISERROR(VLOOKUP($A53+8860000,'Growth Data'!$A:$F,3,0)),\"NO\",VLOOKUP($A53+8860000,'Growth Data'!$A:$F,3,0))","v":"NO"},0,null,0,{"$f":"IF(DI53=\"YES\",IF(ISERROR(VLOOKUP($A53+8860000,'Growth Data'!$A:$F,6,0)),0,VLOOKUP($A53+8860000,'Growth Data'!$A:$F,6,0)),0)","v":0},0,null,0,{"$f":"IF(ISERROR(VLOOKUP($A53+8860000,'Growth Data'!$A:$Z,7,0)),0,VLOOKUP($A53+8860000,'Growth Data'!$A:$Z,7,0))","v":0},0,null,"YES",{"$f":"IF(ISERROR(VLOOKUP($A53+8860000,'Growth Data'!$A:$F,4,0)),\"NO\",VLOOKUP($A53+8860000,'Growth Data'!$A:$F,4,0))","v":"NO"},1,null,30,{"$f":"IF(ISERROR(VLOOKUP($A53+8860000,'Growth Data'!$A:$Z,8,0)),0,VLOOKUP($A53+8860000,'Growth Data'!$A:$Z,8,0))","v":0},1,null,60,{"$f":"IF(ISERROR(VLOOKUP($A53+8860000,'Growth Data'!$A:$Z,9,0)),0,VLOOKUP($A53+8860000,'Growth Data'!$A:$Z,9,0))","v":0},1,null,"YES",{"$f":"IF(ISERROR(VLOOKUP($A53+8860000,'Growth Data'!$A:$Z,5,0)),\"NO\",VLOOKUP($A53+8860000,'Growth Data'!$A:$Z,5,0))","v":"NO"},1,null,30,{"$f":"IF(ISERROR(VLOOKUP($A53+8860000,'Growth Data'!$A:$Z,10,0)),0,VLOOKUP($A53+8860000,'Growth Data'!$A:$Z,10,0))","v":0},1,null,60,{"$f":"IF(ISERROR(VLOOKUP($A53+8860000,'Growth Data'!$A:$Z,11,0)),0,VLOOKUP($A53+8860000,'Growth Data'!$A:$Z,11,0))","v":0},1]
[2258,"Blean Primary School",null,"Blean Primary School",null,1,null,1330063.1000000001,1330063.1000000001,0,null,45879.97,45879.969861111109,1.3888889225199819E-4,null,28220.54,28220.538753387504,1.2466124971979298E-3,null,73704.31,73704.306145251394,3.8547486037714407E-3,null,120084,120084,0,null,0,0,0,null,0,0,0,null,0,0,0,null,37632,37632,0,null,0,0,0,null,0,0,0,null,199448.09,199448.08524024987,4.7597501252312213E-3,null,1835032,1835032,0,null,0,0,0,null,1835032,1835032,0,null,0,null,0,null,null,null,0,null,null,null,0,null,341059.32,341059.32230700803,0,null,11309,11309,0,null,null,null,0,null,null,null,0,null,null,null,0,null,null,null,0,null,null,null,0,null,null,null,0,null,"NO",{"$f":"IF(ISERROR(VLOOKUP($A54+8860000,'Growth Data'!$A:$F,3,0)),\"NO\",VLOOKUP($A54+8860000,'Growth Data'!$A:$F,3,0))","v":"NO"},0,null,0,{"$f":"IF(DI54=\"YES\",IF(ISERROR(VLOOKUP($A54+8860000,'Growth Data'!$A:$F,6,0)),0,VLOOKUP($A54+8860000,'Growth Data'!$A:$F,6,0)),0)","v":0},0,null,0,{"$f":"IF(ISERROR(VLOOKUP($A54+8860000,'Growth Data'!$A:$Z,7,0)),0,VLOOKUP($A54+8860000,'Growth Data'!$A:$Z,7,0))","v":0},0,null,"NO",{"$f":"IF(ISERROR(VLOOKUP($A54+8860000,'Growth Data'!$A:$F,4,0)),\"NO\",VLOOKUP($A54+8860000,'Growth Data'!$A:$F,4,0))","v":"NO"},0,null,0,{"$f":"IF(ISERROR(VLOOKUP($A54+8860000,'Growth Data'!$A:$Z,8,0)),0,VLOOKUP($A54+8860000,'Growth Data'!$A:$Z,8,0))","v":0},0,null,0,{"$f":"IF(ISERROR(VLOOKUP($A54+8860000,'Growth Data'!$A:$Z,9,0)),0,VLOOKUP($A54+8860000,'Growth Data'!$A:$Z,9,0))","v":0},0,null,"NO",{"$f":"IF(ISERROR(VLOOKUP($A54+8860000,'Growth Data'!$A:$Z,5,0)),\"NO\",VLOOKUP($A54+8860000,'Growth Data'!$A:$Z,5,0))","v":"NO"},0,null,0,{"$f":"IF(ISERROR(VLOOKUP($A54+8860000,'Growth Data'!$A:$Z,10,0)),0,VLOOKUP($A54+8860000,'Growth Data'!$A:$Z,10,0))","v":0},0,null,0,{"$f":"IF(ISERROR(VLOOKUP($A54+8860000,'Growth Data'!$A:$Z,11,0)),0,VLOOKUP($A54+8860000,'Growth Data'!$A:$Z,11,0))","v":0},0]
[2259,"Chartham Primary School",null,"Chartham Primary School",null,1,null,1073329.99,1073329.99,0,null,66127.850000000006,66127.850000000049,0,null,10610.3,10610.29611111112,3.8888888793735532E-3,null,98381.759999999995,98381.755454545462,4.5454545324901119E-3,null,120084,120084,0,null,0,0,0,null,0,0,0,null,0,0,0,null,32512,32512,0,null,0,0,0,null,0,0,0,null,81926.11,81926.10843434339,1.5656566101824865E-3,null,1482972,1482972,0,null,0,0,0,null,1482972,1482972,0,null,0,null,0,null,null,null,0,null,null,null,0,null,229217.39,229217.39230700812,0,null,9126.1,9126.0999999999985,0,null,null,null,0,null,null,null,0,null,null,null,0,null,null,null,0,null,null,null,0,null,null,null,0,null,"NO",{"$f":"IF(ISERROR(VLOOKUP($A55+8860000,'Growth Data'!$A:$F,3,0)),\"NO\",VLOOKUP($A55+8860000,'Growth Data'!$A:$F,3,0))","v":"YES"},1,null,0,{"$f":"IF(DI55=\"YES\",IF(ISERROR(VLOOKUP($A55+8860000,'Growth Data'!$A:$F,6,0)),0,VLOOKUP($A55+8860000,'Growth Data'!$A:$F,6,0)),0)","v":52},-52,null,0,{"$f":"IF(ISERROR(VLOOKUP($A55+8860000,'Growth Data'!$A:$Z,7,0)),0,VLOOKUP($A55+8860000,'Growth Data'!$A:$Z,7,0))","v":60},1,null,"NO",{"$f":"IF(ISERROR(VLOOKUP($A55+8860000,'Growth Data'!$A:$F,4,0)),\"NO\",VLOOKUP($A55+8860000,'Growth Data'!$A:$F,4,0))","v":"NO"},0,null,0,{"$f":"IF(ISERROR(VLOOKUP($A55+8860000,'Growth Data'!$A:$Z,8,0)),0,VLOOKUP($A55+8860000,'Growth Data'!$A:$Z,8,0))","v":0},0,null,0,{"$f":"IF(ISERROR(VLOOKUP($A55+8860000,'Growth Data'!$A:$Z,9,0)),0,VLOOKUP($A55+8860000,'Growth Data'!$A:$Z,9,0))","v":0},0,null,"NO",{"$f":"IF(ISERROR(VLOOKUP($A55+8860000,'Growth Data'!$A:$Z,5,0)),\"NO\",VLOOKUP($A55+8860000,'Growth Data'!$A:$Z,5,0))","v":"NO"},0,null,0,{"$f":"IF(ISERROR(VLOOKUP($A55+8860000,'Growth Data'!$A:$Z,10,0)),0,VLOOKUP($A55+8860000,'Growth Data'!$A:$Z,10,0))","v":0},0,null,0,{"$f":"IF(ISERROR(VLOOKUP($A55+8860000,'Growth Data'!$A:$Z,11,0)),0,VLOOKUP($A55+8860000,'Growth Data'!$A:$Z,11,0))","v":0},0]
[2263,"Herne Bay Infant School",null,"Herne Bay Infant School",null,1,null,862994.43,862994.43,0,null,119794.25,119794.2499999999,0,null,16204.7,16204.698542713602,1.4572863983630668E-3,null,94773.15,94773.147299999997,2.6999999972758815E-3,null,120084,120084,0,null,0,0,0,null,0,0,0,null,0,0,0,null,15968,15968,0,null,0,0,0,null,0,0,0,null,0,0,0,null,1229818.53,1229818.5258427137,4.1572863701730967E-3,null,0,0,0,null,1229818.53,1229818.5258427137,4.1572863701730967E-3,null,0,null,0,null,null,null,0,null,null,null,0,null,194657.72,194657.71814972168,0,null,7337.7,7337.7,0,null,null,null,0,null,null,null,0,null,null,null,0,null,null,null,0,null,null,null,0,null,null,null,0,null,"NO",{"$f":"IF(ISERROR(VLOOKUP($A56+8860000,'Growth Data'!$A:$F,3,0)),\"NO\",VLOOKUP($A56+8860000,'Growth Data'!$A:$F,3,0))","v":"NO"},0,null,0,{"$f":"IF(DI56=\"YES\",IF(ISERROR(VLOOKUP($A56+8860000,'Growth Data'!$A:$F,6,0)),0,VLOOKUP($A56+8860000,'Growth Data'!$A:$F,6,0)),0)","v":0},0,null,0,{"$f":"IF(ISERROR(VLOOKUP($A56+8860000,'Growth Data'!$A:$Z,7,0)),0,VLOOKUP($A56+8860000,'Growth Data'!$A:$Z,7,0))","v":0},0,null,"YES",{"$f":"IF(ISERROR(VLOOKUP($A56+8860000,'Growth Data'!$A:$F,4,0)),\"NO\",VLOOKUP($A56+8860000,'Growth Data'!$A:$F,4,0))","v":"NO"},1,null,44,{"$f":"IF(ISERROR(VLOOKUP($A56+8860000,'Growth Data'!$A:$Z,8,0)),0,VLOOKUP($A56+8860000,'Growth Data'!$A:$Z,8,0))","v":0},1,null,60,{"$f":"IF(ISERROR(VLOOKUP($A56+8860000,'Growth Data'!$A:$Z,9,0)),0,VLOOKUP($A56+8860000,'Growth Data'!$A:$Z,9,0))","v":0},1,null,"YES",{"$f":"IF(ISERROR(VLOOKUP($A56+8860000,'Growth Data'!$A:$Z,5,0)),\"NO\",VLOOKUP($A56+8860000,'Growth Data'!$A:$Z,5,0))","v":"NO"},1,null,31,{"$f":"IF(ISERROR(VLOOKUP($A56+8860000,'Growth Data'!$A:$Z,10,0)),0,VLOOKUP($A56+8860000,'Growth Data'!$A:$Z,10,0))","v":0},1,null,60,{"$f":"IF(ISERROR(VLOOKUP($A56+8860000,'Growth Data'!$A:$Z,11,0)),0,VLOOKUP($A56+8860000,'Growth Data'!$A:$Z,11,0))","v":0},1]
[2265,"Hoath Primary School",null,"Hoath Primary School",null,1,null,284571.64,284571.64,0,null,10815.06,10815.057272727268,2.7272727311355993E-3,null,632.95000000000005,632.94850000000008,1.4999999999645297E-3,null,19072.32,19072.321081081082,-1.081081081792945E-3,null,120084,120084,0,null,0,0,0,null,0,0,0,null,0,0,0,null,14346,14346,0,null,0,0,0,null,0,0,0,null,0,0,0,null,449521.97,449521.96685380832,3.1461916514672339E-3,null,4533.4799999999996,4533.4756440598285,4.3559401710808743E-3,null,454055.44,454055.44249786815,-2.4978681467473507E-3,null,0,null,0,null,null,null,0,null,null,null,0,null,39907.9,39907.904804876329,0,null,2419.6,2419.6,0,null,null,null,0,null,null,null,0,null,null,null,0,null,null,null,0,null,null,null,0,null,null,null,0,null,"NO",{"$f":"IF(ISERROR(VLOOKUP($A57+8860000,'Growth Data'!$A:$F,3,0)),\"NO\",VLOOKUP($A57+8860000,'Growth Data'!$A:$F,3,0))","v":"YES"},1,null,0,{"$f":"IF(DI57=\"YES\",IF(ISERROR(VLOOKUP($A57+8860000,'Growth Data'!$A:$F,6,0)),0,VLOOKUP($A57+8860000,'Growth Data'!$A:$F,6,0)),0)","v":92},-92,null,0,{"$f":"IF(ISERROR(VLOOKUP($A57+8860000,'Growth Data'!$A:$Z,7,0)),0,VLOOKUP($A57+8860000,'Growth Data'!$A:$Z,7,0))","v":99},1,null,"NO",{"$f":"IF(ISERROR(VLOOKUP($A57+8860000,'Growth Data'!$A:$F,4,0)),\"NO\",VLOOKUP($A57+8860000,'Growth Data'!$A:$F,4,0))","v":"YES"},1,null,0,{"$f":"IF(ISERROR(VLOOKUP($A57+8860000,'Growth Data'!$A:$Z,8,0)),0,VLOOKUP($A57+8860000,'Growth Data'!$A:$Z,8,0))","v":92},1,null,0,{"$f":"IF(ISERROR(VLOOKUP($A57+8860000,'Growth Data'!$A:$Z,9,0)),0,VLOOKUP($A57+8860000,'Growth Data'!$A:$Z,9,0))","v":105},1,null,"NO",{"$f":"IF(ISERROR(VLOOKUP($A57+8860000,'Growth Data'!$A:$Z,5,0)),\"NO\",VLOOKUP($A57+8860000,'Growth Data'!$A:$Z,5,0))","v":"NO"},0,null,0,{"$f":"IF(ISERROR(VLOOKUP($A57+8860000,'Growth Data'!$A:$Z,10,0)),0,VLOOKUP($A57+8860000,'Growth Data'!$A:$Z,10,0))","v":0},0,null,0,{"$f":"IF(ISERROR(VLOOKUP($A57+8860000,'Growth Data'!$A:$Z,11,0)),0,VLOOKUP($A57+8860000,'Growth Data'!$A:$Z,11,0))","v":0},0]
[2268,"Westmeads Community Infant School",null,"Westmeads Community Infant School",null,1,null,525838.9,525838.9,0,null,25830.95,25830.949999999964,3.637978807091713E-11,null,1627.24,1627.2400000000014,0,null,41044.94,41044.944067796612,-4.0677966098883189E-3,null,120084,120084,0,null,0,0,0,null,0,0,0,null,0,0,0,null,19711,19711,0,null,0,0,0,null,0,0,0,null,0,0,0,null,734137.03,734137.03406779654,-4.0677965153008699E-3,null,0,0,0,null,734137.03,734137.03406779654,-4.0677965153008699E-3,null,0,null,0,null,null,null,0,null,null,null,0,null,62769.88,62769.87637480475,0,null,4471,4471,0,null,null,null,0,null,null,null,0,null,null,null,0,null,null,null,0,null,null,null,0,null,null,null,0,null,"NO",{"$f":"IF(ISERROR(VLOOKUP($A58+8860000,'Growth Data'!$A:$F,3,0)),\"NO\",VLOOKUP($A58+8860000,'Growth Data'!$A:$F,3,0))","v":"NO"},0,null,0,{"$f":"IF(DI58=\"YES\",IF(ISERROR(VLOOKUP($A58+8860000,'Growth Data'!$A:$F,6,0)),0,VLOOKUP($A58+8860000,'Growth Data'!$A:$F,6,0)),0)","v":0},0,null,0,{"$f":"IF(ISERROR(VLOOKUP($A58+8860000,'Growth Data'!$A:$Z,7,0)),0,VLOOKUP($A58+8860000,'Growth Data'!$A:$Z,7,0))","v":0},0,null,"NO",{"$f":"IF(ISERROR(VLOOKUP($A58+8860000,'Growth Data'!$A:$F,4,0)),\"NO\",VLOOKUP($A58+8860000,'Growth Data'!$A:$F,4,0))","v":"NO"},0,null,0,{"$f":"IF(ISERROR(VLOOKUP($A58+8860000,'Growth Data'!$A:$Z,8,0)),0,VLOOKUP($A58+8860000,'Growth Data'!$A:$Z,8,0))","v":0},0,null,0,{"$f":"IF(ISERROR(VLOOKUP($A58+8860000,'Growth Data'!$A:$Z,9,0)),0,VLOOKUP($A58+8860000,'Growth Data'!$A:$Z,9,0))","v":0},0,null,"NO",{"$f":"IF(ISERROR(VLOOKUP($A58+8860000,'Growth Data'!$A:$Z,5,0)),\"NO\",VLOOKUP($A58+8860000,'Growth Data'!$A:$Z,5,0))","v":"NO"},0,null,0,{"$f":"IF(ISERROR(VLOOKUP($A58+8860000,'Growth Data'!$A:$Z,10,0)),0,VLOOKUP($A58+8860000,'Growth Data'!$A:$Z,10,0))","v":0},0,null,0,{"$f":"IF(ISERROR(VLOOKUP($A58+8860000,'Growth Data'!$A:$Z,11,0)),0,VLOOKUP($A58+8860000,'Growth Data'!$A:$Z,11,0))","v":0},0]
[2269,"Whitstable Junior School",null,"Whitstable Junior School",null,1,null,788758.35,788758.35,0,null,58115.14,58115.138124999947,1.8750000526779331E-3,null,1651.17,1651.1699999999942,5.9117155615240335E-12,null,78694.179999999993,78694.176122448975,3.8775510183768347E-3,null,120084,120084,0,null,0,0,0,null,0,0,0,null,0,0,0,null,18837,18837,0,null,0,0,0,null,0,0,0,null,18597.169999999998,18597.165752551111,4.2474488873267546E-3,null,1084737,1084737,0,null,0,0,0,null,1084737,1084737,0,null,0,null,0,null,null,null,0,null,null,null,0,null,142578.31,142578.31230700819,0,null,6706.5,6706.5,0,null,null,null,0,null,null,null,0,null,null,null,0,null,null,null,0,null,null,null,0,null,null,null,0,null,"NO",{"$f":"IF(ISERROR(VLOOKUP($A59+8860000,'Growth Data'!$A:$F,3,0)),\"NO\",VLOOKUP($A59+8860000,'Growth Data'!$A:$F,3,0))","v":"NO"},0,null,0,{"$f":"IF(DI59=\"YES\",IF(ISERROR(VLOOKUP($A59+8860000,'Growth Data'!$A:$F,6,0)),0,VLOOKUP($A59+8860000,'Growth Data'!$A:$F,6,0)),0)","v":0},0,null,0,{"$f":"IF(ISERROR(VLOOKUP($A59+8860000,'Growth Data'!$A:$Z,7,0)),0,VLOOKUP($A59+8860000,'Growth Data'!$A:$Z,7,0))","v":0},0,null,"NO",{"$f":"IF(ISERROR(VLOOKUP($A59+8860000,'Growth Data'!$A:$F,4,0)),\"NO\",VLOOKUP($A59+8860000,'Growth Data'!$A:$F,4,0))","v":"NO"},0,null,0,{"$f":"IF(ISERROR(VLOOKUP($A59+8860000,'Growth Data'!$A:$Z,8,0)),0,VLOOKUP($A59+8860000,'Growth Data'!$A:$Z,8,0))","v":0},0,null,0,{"$f":"IF(ISERROR(VLOOKUP($A59+8860000,'Growth Data'!$A:$Z,9,0)),0,VLOOKUP($A59+8860000,'Growth Data'!$A:$Z,9,0))","v":0},0,null,"NO",{"$f":"IF(ISERROR(VLOOKUP($A59+8860000,'Growth Data'!$A:$Z,5,0)),\"NO\",VLOOKUP($A59+8860000,'Growth Data'!$A:$Z,5,0))","v":"NO"},0,null,0,{"$f":"IF(ISERROR(VLOOKUP($A59+8860000,'Growth Data'!$A:$Z,10,0)),0,VLOOKUP($A59+8860000,'Growth Data'!$A:$Z,10,0))","v":0},0,null,0,{"$f":"IF(ISERROR(VLOOKUP($A59+8860000,'Growth Data'!$A:$Z,11,0)),0,VLOOKUP($A59+8860000,'Growth Data'!$A:$Z,11,0))","v":0},0]
[2270,"Aldington Primary School",null,"Aldington Primary School",null,1,null,621727.17000000004,621727.17000000004,0,null,20801.439999999999,20801.440000000006,0,null,0,0,0,null,58379.46,58379.457108433737,2.8915662624058314E-3,null,120084,120084,0,null,0,0,0,null,0,0,0,null,0,0,0,null,29952,29952,0,null,0,0,0,null,0,0,0,null,19187.93,19187.932891566219,-2.8915662187500857E-3,null,870132,870132,0,null,0,0,0,null,870132,870132,0,null,0,null,0,null,null,null,0,null,null,null,0,null,95857.81,95857.812307008106,0,null,5286.3,5286.2999999999993,0,null,null,null,0,null,null,null,0,null,null,null,0,null,null,null,0,null,null,null,0,null,null,null,0,null,"NO",{"$f":"IF(ISERROR(VLOOKUP($A60+8860000,'Growth Data'!$A:$F,3,0)),\"NO\",VLOOKUP($A60+8860000,'Growth Data'!$A:$F,3,0))","v":"NO"},0,null,0,{"$f":"IF(DI60=\"YES\",IF(ISERROR(VLOOKUP($A60+8860000,'Growth Data'!$A:$F,6,0)),0,VLOOKUP($A60+8860000,'Growth Data'!$A:$F,6,0)),0)","v":0},0,null,0,{"$f":"IF(ISERROR(VLOOKUP($A60+8860000,'Growth Data'!$A:$Z,7,0)),0,VLOOKUP($A60+8860000,'Growth Data'!$A:$Z,7,0))","v":0},0,null,"NO",{"$f":"IF(ISERROR(VLOOKUP($A60+8860000,'Growth Data'!$A:$F,4,0)),\"NO\",VLOOKUP($A60+8860000,'Growth Data'!$A:$F,4,0))","v":"NO"},0,null,0,{"$f":"IF(ISERROR(VLOOKUP($A60+8860000,'Growth Data'!$A:$Z,8,0)),0,VLOOKUP($A60+8860000,'Growth Data'!$A:$Z,8,0))","v":0},0,null,0,{"$f":"IF(ISERROR(VLOOKUP($A60+8860000,'Growth Data'!$A:$Z,9,0)),0,VLOOKUP($A60+8860000,'Growth Data'!$A:$Z,9,0))","v":0},0,null,"NO",{"$f":"IF(ISERROR(VLOOKUP($A60+8860000,'Growth Data'!$A:$Z,5,0)),\"NO\",VLOOKUP($A60+8860000,'Growth Data'!$A:$Z,5,0))","v":"NO"},0,null,0,{"$f":"IF(ISERROR(VLOOKUP($A60+8860000,'Growth Data'!$A:$Z,10,0)),0,VLOOKUP($A60+8860000,'Growth Data'!$A:$Z,10,0))","v":0},0,null,0,{"$f":"IF(ISERROR(VLOOKUP($A60+8860000,'Growth Data'!$A:$Z,11,0)),0,VLOOKUP($A60+8860000,'Growth Data'!$A:$Z,11,0))","v":0},0]
[2272,"East Stour Primary School",null,"East Stour Primary School",null,1,null,1209429.47,1209429.47,0,null,153289.49,153289.48785529705,2.1447029430419207E-3,null,19621.400000000001,19621.403500000004,-3.5000000025320332E-3,null,120191.14,120191.14174917493,-1.7491749313194305E-3,null,120084,120084,0,null,0,0,0,null,0,0,0,null,0,0,0,null,53760,53760,0,null,0,0,0,null,0,0,0,null,11764.5,11764.496895528049,3.1044719507917762E-3,null,1688140,1688140,0,null,0,0,0,null,1688140,1688140,0,null,0,null,0,null,null,null,0,null,null,null,0,null,252640.95,252640.95230700827,0,null,10283.299999999999,10283.299999999999,0,null,null,null,0,null,null,null,0,null,null,null,0,null,null,null,0,null,null,null,0,null,null,null,0,null,"NO",{"$f":"IF(ISERROR(VLOOKUP($A61+8860000,'Growth Data'!$A:$F,3,0)),\"NO\",VLOOKUP($A61+8860000,'Growth Data'!$A:$F,3,0))","v":"NO"},0,null,0,{"$f":"IF(DI61=\"YES\",IF(ISERROR(VLOOKUP($A61+8860000,'Growth Data'!$A:$F,6,0)),0,VLOOKUP($A61+8860000,'Growth Data'!$A:$F,6,0)),0)","v":0},0,null,0,{"$f":"IF(ISERROR(VLOOKUP($A61+8860000,'Growth Data'!$A:$Z,7,0)),0,VLOOKUP($A61+8860000,'Growth Data'!$A:$Z,7,0))","v":0},0,null,"NO",{"$f":"IF(ISERROR(VLOOKUP($A61+8860000,'Growth Data'!$A:$F,4,0)),\"NO\",VLOOKUP($A61+8860000,'Growth Data'!$A:$F,4,0))","v":"NO"},0,null,0,{"$f":"IF(ISERROR(VLOOKUP($A61+8860000,'Growth Data'!$A:$Z,8,0)),0,VLOOKUP($A61+8860000,'Growth Data'!$A:$Z,8,0))","v":0},0,null,0,{"$f":"IF(ISERROR(VLOOKUP($A61+8860000,'Growth Data'!$A:$Z,9,0)),0,VLOOKUP($A61+8860000,'Growth Data'!$A:$Z,9,0))","v":0},0,null,"NO",{"$f":"IF(ISERROR(VLOOKUP($A61+8860000,'Growth Data'!$A:$Z,5,0)),\"NO\",VLOOKUP($A61+8860000,'Growth Data'!$A:$Z,5,0))","v":"NO"},0,null,0,{"$f":"IF(ISERROR(VLOOKUP($A61+8860000,'Growth Data'!$A:$Z,10,0)),0,VLOOKUP($A61+8860000,'Growth Data'!$A:$Z,10,0))","v":0},0,null,0,{"$f":"IF(ISERROR(VLOOKUP($A61+8860000,'Growth Data'!$A:$Z,11,0)),0,VLOOKUP($A61+8860000,'Growth Data'!$A:$Z,11,0))","v":0},0]
[2275,"Victoria Road Primary School",null,"Victoria Road Primary School",null,1,null,634099.85,634099.85,0,null,54750.98,54750.979999999996,0,null,10960.62,10960.623714285708,-3.714285707246745E-3,null,51838.35,51838.350000000006,0,null,120084,120084,0,null,0,0,0,null,0,0,0,null,0,0,0,null,15095,15095,0,null,0,0,0,null,0,0,0,null,0,0,0,null,886828.8,886828.8037142856,-3.7142855580896139E-3,null,0,0,0,null,886828.8,886828.8037142856,-3.7142855580896139E-3,null,0,null,0,null,null,null,0,null,null,null,0,null,100308.7,100308.69602129386,0,null,5391.5,5391.5,0,null,null,null,0,null,null,null,0,null,null,null,0,null,null,null,0,null,null,null,0,null,null,null,0,null,"NO",{"$f":"IF(ISERROR(VLOOKUP($A62+8860000,'Growth Data'!$A:$F,3,0)),\"NO\",VLOOKUP($A62+8860000,'Growth Data'!$A:$F,3,0))","v":"NO"},0,null,0,{"$f":"IF(DI62=\"YES\",IF(ISERROR(VLOOKUP($A62+8860000,'Growth Data'!$A:$F,6,0)),0,VLOOKUP($A62+8860000,'Growth Data'!$A:$F,6,0)),0)","v":0},0,null,0,{"$f":"IF(ISERROR(VLOOKUP($A62+8860000,'Growth Data'!$A:$Z,7,0)),0,VLOOKUP($A62+8860000,'Growth Data'!$A:$Z,7,0))","v":0},0,null,"NO",{"$f":"IF(ISERROR(VLOOKUP($A62+8860000,'Growth Data'!$A:$F,4,0)),\"NO\",VLOOKUP($A62+8860000,'Growth Data'!$A:$F,4,0))","v":"NO"},0,null,0,{"$f":"IF(ISERROR(VLOOKUP($A62+8860000,'Growth Data'!$A:$Z,8,0)),0,VLOOKUP($A62+8860000,'Growth Data'!$A:$Z,8,0))","v":0},0,null,0,{"$f":"IF(ISERROR(VLOOKUP($A62+8860000,'Growth Data'!$A:$Z,9,0)),0,VLOOKUP($A62+8860000,'Growth Data'!$A:$Z,9,0))","v":0},0,null,"NO",{"$f":"IF(ISERROR(VLOOKUP($A62+8860000,'Growth Data'!$A:$Z,5,0)),\"NO\",VLOOKUP($A62+8860000,'Growth Data'!$A:$Z,5,0))","v":"NO"},0,null,0,{"$f":"IF(ISERROR(VLOOKUP($A62+8860000,'Growth Data'!$A:$Z,10,0)),0,VLOOKUP($A62+8860000,'Growth Data'!$A:$Z,10,0))","v":0},0,null,0,{"$f":"IF(ISERROR(VLOOKUP($A62+8860000,'Growth Data'!$A:$Z,11,0)),0,VLOOKUP($A62+8860000,'Growth Data'!$A:$Z,11,0))","v":0},0]
[2276,"Willesborough Infant School",null,"Willesborough Infant School",null,1,null,1064050.48,1064050.48,0,null,72794.5,72794.500000000116,-1.1641532182693481E-10,null,33809.67,33809.671428571506,-1.4285715078585781E-3,null,47118.11,47118.11,0,null,120084,120084,0,null,0,0,0,null,0,0,0,null,0,0,0,null,23079,23079,0,null,0,0,0,null,0,0,0,null,100063.24,100063.2385714284,1.4285716024460271E-3,null,1460999,1460999,0,null,0,0,0,null,1460999,1460999,0,null,0,null,0,null,null,null,0,null,null,null,0,null,233322.02,233322.02230700813,0,null,9047.2000000000007,9047.2000000000007,0,null,null,null,0,null,null,null,0,null,null,null,0,null,null,null,0,null,null,null,0,null,null,null,0,null,"NO",{"$f":"IF(ISERROR(VLOOKUP($A63+8860000,'Growth Data'!$A:$F,3,0)),\"NO\",VLOOKUP($A63+8860000,'Growth Data'!$A:$F,3,0))","v":"NO"},0,null,0,{"$f":"IF(DI63=\"YES\",IF(ISERROR(VLOOKUP($A63+8860000,'Growth Data'!$A:$F,6,0)),0,VLOOKUP($A63+8860000,'Growth Data'!$A:$F,6,0)),0)","v":0},0,null,0,{"$f":"IF(ISERROR(VLOOKUP($A63+8860000,'Growth Data'!$A:$Z,7,0)),0,VLOOKUP($A63+8860000,'Growth Data'!$A:$Z,7,0))","v":0},0,null,"NO",{"$f":"IF(ISERROR(VLOOKUP($A63+8860000,'Growth Data'!$A:$F,4,0)),\"NO\",VLOOKUP($A63+8860000,'Growth Data'!$A:$F,4,0))","v":"NO"},0,null,0,{"$f":"IF(ISERROR(VLOOKUP($A63+8860000,'Growth Data'!$A:$Z,8,0)),0,VLOOKUP($A63+8860000,'Growth Data'!$A:$Z,8,0))","v":0},0,null,0,{"$f":"IF(ISERROR(VLOOKUP($A63+8860000,'Growth Data'!$A:$Z,9,0)),0,VLOOKUP($A63+8860000,'Growth Data'!$A:$Z,9,0))","v":0},0,null,"NO",{"$f":"IF(ISERROR(VLOOKUP($A63+8860000,'Growth Data'!$A:$Z,5,0)),\"NO\",VLOOKUP($A63+8860000,'Growth Data'!$A:$Z,5,0))","v":"NO"},0,null,0,{"$f":"IF(ISERROR(VLOOKUP($A63+8860000,'Growth Data'!$A:$Z,10,0)),0,VLOOKUP($A63+8860000,'Growth Data'!$A:$Z,10,0))","v":0},0,null,0,{"$f":"IF(ISERROR(VLOOKUP($A63+8860000,'Growth Data'!$A:$Z,11,0)),0,VLOOKUP($A63+8860000,'Growth Data'!$A:$Z,11,0))","v":0},0]
[2278,"Bethersden Primary School",null,"Bethersden Primary School",null,1,null,377366.74,377366.74,0,null,26609.45,26609.44999999999,0,null,1342.95,1342.9515999999999,-1.5999999998257408E-3,null,25958.05,25958.046601941747,3.3980582520598546E-3,null,120084,120084,0,null,16713.79,16713.794259012018,-4.2590120174281765E-3,null,0,0,0,null,0,0,0,null,10978,10978,0,null,0,0,0,null,0,0,0,null,0,0,0,null,579052.98,579052.98246095376,-2.4609537795186043E-3,null,0,0,0,null,579052.98,579052.98246095376,-2.4609537795186043E-3,null,0,null,0,null,null,null,0,null,null,null,0,null,47716.87,47716.870508949891,0,null,3208.6,3208.6000000000004,0,null,null,null,0,null,null,null,0,null,null,null,0,null,null,null,0,null,null,null,0,null,null,null,0,null,"NO",{"$f":"IF(ISERROR(VLOOKUP($A64+8860000,'Growth Data'!$A:$F,3,0)),\"NO\",VLOOKUP($A64+8860000,'Growth Data'!$A:$F,3,0))","v":"NO"},0,null,0,{"$f":"IF(DI64=\"YES\",IF(ISERROR(VLOOKUP($A64+8860000,'Growth Data'!$A:$F,6,0)),0,VLOOKUP($A64+8860000,'Growth Data'!$A:$F,6,0)),0)","v":0},0,null,0,{"$f":"IF(ISERROR(VLOOKUP($A64+8860000,'Growth Data'!$A:$Z,7,0)),0,VLOOKUP($A64+8860000,'Growth Data'!$A:$Z,7,0))","v":0},0,null,"NO",{"$f":"IF(ISERROR(VLOOKUP($A64+8860000,'Growth Data'!$A:$F,4,0)),\"NO\",VLOOKUP($A64+8860000,'Growth Data'!$A:$F,4,0))","v":"NO"},0,null,0,{"$f":"IF(ISERROR(VLOOKUP($A64+8860000,'Growth Data'!$A:$Z,8,0)),0,VLOOKUP($A64+8860000,'Growth Data'!$A:$Z,8,0))","v":0},0,null,0,{"$f":"IF(ISERROR(VLOOKUP($A64+8860000,'Growth Data'!$A:$Z,9,0)),0,VLOOKUP($A64+8860000,'Growth Data'!$A:$Z,9,0))","v":0},0,null,"NO",{"$f":"IF(ISERROR(VLOOKUP($A64+8860000,'Growth Data'!$A:$Z,5,0)),\"NO\",VLOOKUP($A64+8860000,'Growth Data'!$A:$Z,5,0))","v":"NO"},0,null,0,{"$f":"IF(ISERROR(VLOOKUP($A64+8860000,'Growth Data'!$A:$Z,10,0)),0,VLOOKUP($A64+8860000,'Growth Data'!$A:$Z,10,0))","v":0},0,null,0,{"$f":"IF(ISERROR(VLOOKUP($A64+8860000,'Growth Data'!$A:$Z,11,0)),0,VLOOKUP($A64+8860000,'Growth Data'!$A:$Z,11,0))","v":0},0]
[2279,"Brook Community Primary School",null,"Brook Community Primary School",null,1,null,293851.15000000002,293851.15000000002,0,null,8189.42,8189.4172527472547,2.7472527453937801E-3,null,2582.08,2582.0765432098756,3.4567901243462984E-3,null,14067.32,14067.317567567568,2.4324324313056422E-3,null,120084,120084,0,null,0,0,0,null,0,0,0,null,0,0,0,null,8608,8608,0,null,0,0,0,null,0,0,0,null,0,0,0,null,447381.96,447381.96136352472,-1.3635247014462948E-3,null,4606.72,4606.7154778338736,4.5221661266623414E-3,null,451988.68,451988.6768413586,3.1586413970217109E-3,null,0,null,0,null,null,null,0,null,null,null,0,null,33839.31,33839.309148366723,0,null,2498.5,2498.5,0,null,null,null,0,null,null,null,0,null,null,null,0,null,null,null,0,null,null,null,0,null,null,null,0,null,"NO",{"$f":"IF(ISERROR(VLOOKUP($A65+8860000,'Growth Data'!$A:$F,3,0)),\"NO\",VLOOKUP($A65+8860000,'Growth Data'!$A:$F,3,0))","v":"NO"},0,null,0,{"$f":"IF(DI65=\"YES\",IF(ISERROR(VLOOKUP($A65+8860000,'Growth Data'!$A:$F,6,0)),0,VLOOKUP($A65+8860000,'Growth Data'!$A:$F,6,0)),0)","v":0},0,null,0,{"$f":"IF(ISERROR(VLOOKUP($A65+8860000,'Growth Data'!$A:$Z,7,0)),0,VLOOKUP($A65+8860000,'Growth Data'!$A:$Z,7,0))","v":0},0,null,"NO",{"$f":"IF(ISERROR(VLOOKUP($A65+8860000,'Growth Data'!$A:$F,4,0)),\"NO\",VLOOKUP($A65+8860000,'Growth Data'!$A:$F,4,0))","v":"NO"},0,null,0,{"$f":"IF(ISERROR(VLOOKUP($A65+8860000,'Growth Data'!$A:$Z,8,0)),0,VLOOKUP($A65+8860000,'Growth Data'!$A:$Z,8,0))","v":0},0,null,0,{"$f":"IF(ISERROR(VLOOKUP($A65+8860000,'Growth Data'!$A:$Z,9,0)),0,VLOOKUP($A65+8860000,'Growth Data'!$A:$Z,9,0))","v":0},0,null,"NO",{"$f":"IF(ISERROR(VLOOKUP($A65+8860000,'Growth Data'!$A:$Z,5,0)),\"NO\",VLOOKUP($A65+8860000,'Growth Data'!$A:$Z,5,0))","v":"NO"},0,null,0,{"$f":"IF(ISERROR(VLOOKUP($A65+8860000,'Growth Data'!$A:$Z,10,0)),0,VLOOKUP($A65+8860000,'Growth Data'!$A:$Z,10,0))","v":0},0,null,0,{"$f":"IF(ISERROR(VLOOKUP($A65+8860000,'Growth Data'!$A:$Z,11,0)),0,VLOOKUP($A65+8860000,'Growth Data'!$A:$Z,11,0))","v":0},0]
[2280,"Challock Primary School",null,"Challock Primary School",null,{"$f":"IF(E66=D66,0,1)","v":1},null,634099.85,634099.85,{"$f":"H66-I66","v":0},null,15437.27,15437.274019607854,{"$f":"L66-M66","v":-4.0196078534791013E-3},null,1912.37,1912.3720338983071,{"$f":"P66-Q66","v":-2.0338983072178962E-3},null,50212.05,50212.048823529418,{"$f":"T66-U66","v":1.1764705850509927E-3},null,120084,120084,{"$f":"X66-Y66","v":0},null,0,0,{"$f":"AB66-AC66","v":0},null,0,0,{"$f":"AF66-AG66","v":0},null,0,0,{"$f":"AJ66-AK66","v":0},null,19711,19711,{"$f":"AN66-AO66","v":0},null,0,0,{"$f":"AR66-AS66","v":0},null,0,0,{"$f":"AV66-AW66","v":0},null,35154.46,35154.455122964428,{"$f":"AZ66-BA66","v":4.8770355715532787E-3},null,876611,876610.99999999988,{"$f":"BD66-BE66","v":0},null,0,0,{"$f":"BH66-BI66","v":0},null,876611,876610.99999999988,{"$f":"BL66-BM66","v":0},null,0,null,{"$f":"BP66-BQ66","v":0},null,null,null,{"$f":"BT66-BU66","v":0},null,null,null,{"$f":"BX66-BY66","v":0},null,104348.01,104348.01230700815,{"$f":"ROUND(CB66-CC66,0)","v":0},null,5391.5,5391.5,{"$f":"ROUND(CF66-CG66,0)","v":0},null,null,null,{"$f":"ROUND(CJ66-CK66,0)","v":0},null,null,null,{"$f":"ROUND(CN66-CO66,0)","v":0},null,null,null,{"$f":"ROUND(CR66-CS66,0)","v":0},null,null,null,{"$f":"ROUND(CV66-CW66,0)","v":0},null,null,null,{"$f":"ROUND(CZ66-DA66,0)","v":0},null,null,null,{"$f":"ROUND(DD66-DE66,0)","v":0},null,"NO",{"$f":"IF(ISERROR(VLOOKUP($A66+8860000,'Growth Data'!$A:$F,3,0)),\"NO\",VLOOKUP($A66+8860000,'Growth Data'!$A:$F,3,0))","v":"NO"},{"$f":"IF(DH66=DI66,0,1)","v":0},null,0,{"$f":"IF(DI66=\"YES\",IF(ISERROR(VLOOKUP($A66+8860000,'Growth Data'!$A:$F,6,0)),0,VLOOKUP($A66+8860000,'Growth Data'!$A:$F,6,0)),0)","v":0},{"$f":"ROUND(DL66-DM66,0)","v":0},null,0,{"$f":"IF(ISERROR(VLOOKUP($A66+8860000,'Growth Data'!$A:$Z,7,0)),0,VLOOKUP($A66+8860000,'Growth Data'!$A:$Z,7,0))","v":0},{"$f":"IF(DP66=DQ66,0,1)","v":0},null,"NO",{"$f":"IF(ISERROR(VLOOKUP($A66+8860000,'Growth Data'!$A:$F,4,0)),\"NO\",VLOOKUP($A66+8860000,'Growth Data'!$A:$F,4,0))","v":"NO"},{"$f":"IF(DT66=DU66,0,1)","v":0},null,0,{"$f":"IF(ISERROR(VLOOKUP($A66+8860000,'Growth Data'!$A:$Z,8,0)),0,VLOOKUP($A66+8860000,'Growth Data'!$A:$Z,8,0))","v":0},{"$f":"IF(DX66=DY66,0,1)","v":0},null,0,{"$f":"IF(ISERROR(VLOOKUP($A66+8860000,'Growth Data'!$A:$Z,9,0)),0,VLOOKUP($A66+8860000,'Growth Data'!$A:$Z,9,0))","v":0},{"$f":"IF(EB66=EC66,0,1)","v":0},null,"NO",{"$f":"IF(ISERROR(VLOOKUP($A66+8860000,'Growth Data'!$A:$Z,5,0)),\"NO\",VLOOKUP($A66+8860000,'Growth Data'!$A:$Z,5,0))","v":"NO"},{"$f":"IF(EF66=EG66,0,1)","v":0},null,0,{"$f":"IF(ISERROR(VLOOKUP($A66+8860000,'Growth Data'!$A:$Z,10,0)),0,VLOOKUP($A66+8860000,'Growth Data'!$A:$Z,10,0))","v":0},{"$f":"IF(EJ66=EK66,0,1)","v":0},null,0,{"$f":"IF(ISERROR(VLOOKUP($A66+8860000,'Growth Data'!$A:$Z,11,0)),0,VLOOKUP($A66+8860000,'Growth Data'!$A:$Z,11,0))","v":0},{"$f":"IF(EN66=EO66,0,1)","v":0}]
[2282,"Great Chart Primary School",null,"Great Chart Primary School",null,1,null,1299131.3999999999,1299131.4000000001,0,null,63528.1,63528.099999999977,0,null,24400.62,24400.623333333435,-3.3333334358758293E-3,null,71503.64,71503.635593220344,4.4067796552553773E-3,null,120084,120084,0,null,0,0,0,null,0,0,0,null,0,0,0,null,38656,38656,0,null,0,0,0,null,0,0,0,null,176952.24,176952.24107344612,-1.073446124792099E-3,null,1794256,1794256,0,null,0,0,0,null,1794256,1794256,0,null,0,null,0,null,null,null,0,null,null,null,0,null,315921.09999999998,315921.10230700806,0,null,11046,11046,0,null,null,null,0,null,null,null,0,null,null,null,0,null,null,null,0,null,null,null,0,null,null,null,0,null,"YES",{"$f":"IF(ISERROR(VLOOKUP($A67+8860000,'Growth Data'!$A:$F,3,0)),\"NO\",VLOOKUP($A67+8860000,'Growth Data'!$A:$F,3,0))","v":"NO"},1,null,46,{"$f":"IF(DI67=\"YES\",IF(ISERROR(VLOOKUP($A67+8860000,'Growth Data'!$A:$F,6,0)),0,VLOOKUP($A67+8860000,'Growth Data'!$A:$F,6,0)),0)","v":0},46,null,60,{"$f":"IF(ISERROR(VLOOKUP($A67+8860000,'Growth Data'!$A:$Z,7,0)),0,VLOOKUP($A67+8860000,'Growth Data'!$A:$Z,7,0))","v":0},1,null,"YES",{"$f":"IF(ISERROR(VLOOKUP($A67+8860000,'Growth Data'!$A:$F,4,0)),\"NO\",VLOOKUP($A67+8860000,'Growth Data'!$A:$F,4,0))","v":"NO"},1,null,46,{"$f":"IF(ISERROR(VLOOKUP($A67+8860000,'Growth Data'!$A:$Z,8,0)),0,VLOOKUP($A67+8860000,'Growth Data'!$A:$Z,8,0))","v":0},1,null,60,{"$f":"IF(ISERROR(VLOOKUP($A67+8860000,'Growth Data'!$A:$Z,9,0)),0,VLOOKUP($A67+8860000,'Growth Data'!$A:$Z,9,0))","v":0},1,null,"YES",{"$f":"IF(ISERROR(VLOOKUP($A67+8860000,'Growth Data'!$A:$Z,5,0)),\"NO\",VLOOKUP($A67+8860000,'Growth Data'!$A:$Z,5,0))","v":"NO"},1,null,47,{"$f":"IF(ISERROR(VLOOKUP($A67+8860000,'Growth Data'!$A:$Z,10,0)),0,VLOOKUP($A67+8860000,'Growth Data'!$A:$Z,10,0))","v":0},1,null,60,{"$f":"IF(ISERROR(VLOOKUP($A67+8860000,'Growth Data'!$A:$Z,11,0)),0,VLOOKUP($A67+8860000,'Growth Data'!$A:$Z,11,0))","v":0},1]
[2285,"Mersham Primary School",null,"Mersham Primary School",null,1,null,581515.96,581515.96,0,null,20387.759999999998,20387.760515463924,-5.1546392569434829E-4,null,1847.74,1847.7378571428617,2.1428571383239614E-3,null,47638.6,47638.600749999998,-7.4999999924330041E-4,null,120084,120084,0,null,0,0,0,null,0,0,0,null,0,0,0,null,7859,7859,0,null,0,0,0,null,0,0,0,null,14365.94,14365.940877393237,-8.7739323680580128E-4,null,793699,793698.99999999988,0,null,0,0,0,null,793699,793698.99999999988,0,null,0,null,0,null,null,null,0,null,null,null,0,null,83109.98,83109.982307008177,0,null,4944.3999999999996,4944.3999999999996,0,null,null,null,0,null,null,null,0,null,null,null,0,null,null,null,0,null,null,null,0,null,null,null,0,null,"NO",{"$f":"IF(ISERROR(VLOOKUP($A68+8860000,'Growth Data'!$A:$F,3,0)),\"NO\",VLOOKUP($A68+8860000,'Growth Data'!$A:$F,3,0))","v":"NO"},0,null,0,{"$f":"IF(DI68=\"YES\",IF(ISERROR(VLOOKUP($A68+8860000,'Growth Data'!$A:$F,6,0)),0,VLOOKUP($A68+8860000,'Growth Data'!$A:$F,6,0)),0)","v":0},0,null,0,{"$f":"IF(ISERROR(VLOOKUP($A68+8860000,'Growth Data'!$A:$Z,7,0)),0,VLOOKUP($A68+8860000,'Growth Data'!$A:$Z,7,0))","v":0},0,null,"NO",{"$f":"IF(ISERROR(VLOOKUP($A68+8860000,'Growth Data'!$A:$F,4,0)),\"NO\",VLOOKUP($A68+8860000,'Growth Data'!$A:$F,4,0))","v":"NO"},0,null,0,{"$f":"IF(ISERROR(VLOOKUP($A68+8860000,'Growth Data'!$A:$Z,8,0)),0,VLOOKUP($A68+8860000,'Growth Data'!$A:$Z,8,0))","v":0},0,null,0,{"$f":"IF(ISERROR(VLOOKUP($A68+8860000,'Growth Data'!$A:$Z,9,0)),0,VLOOKUP($A68+8860000,'Growth Data'!$A:$Z,9,0))","v":0},0,null,"NO",{"$f":"IF(ISERROR(VLOOKUP($A68+8860000,'Growth Data'!$A:$Z,5,0)),\"NO\",VLOOKUP($A68+8860000,'Growth Data'!$A:$Z,5,0))","v":"NO"},0,null,0,{"$f":"IF(ISERROR(VLOOKUP($A68+8860000,'Growth Data'!$A:$Z,10,0)),0,VLOOKUP($A68+8860000,'Growth Data'!$A:$Z,10,0))","v":0},0,null,0,{"$f":"IF(ISERROR(VLOOKUP($A68+8860000,'Growth Data'!$A:$Z,11,0)),0,VLOOKUP($A68+8860000,'Growth Data'!$A:$Z,11,0))","v":0},0]
[2289,"Smeeth Community Primary School",null,"Smeeth Community Primary School",null,1,null,389739.42,389739.42,0,null,11836.99,11836.991417322834,-1.4173228337313049E-3,null,1296.25,1296.2456074766335,4.3925233665049745E-3,null,23708.48,23708.47818181818,1.8181818195444066E-3,null,120084,120084,0,null,0,0,0,null,0,0,0,null,0,0,0,null,14845,14845,0,null,0,0,0,null,0,0,0,null,0,0,0,null,561510.14,561510.13520661765,4.7933823661878705E-3,null,0,0,0,null,561510.14,561510.13520661765,4.7933823661878705E-3,null,0,null,0,null,null,null,0,null,null,null,0,null,39394.22,39394.217513625794,0,null,3313.8,3313.8,0,null,null,null,0,null,null,null,0,null,null,null,0,null,null,null,0,null,null,null,0,null,null,null,0,null,"NO",{"$f":"IF(ISERROR(VLOOKUP($A69+8860000,'Growth Data'!$A:$F,3,0)),\"NO\",VLOOKUP($A69+8860000,'Growth Data'!$A:$F,3,0))","v":"NO"},0,null,0,{"$f":"IF(DI69=\"YES\",IF(ISERROR(VLOOKUP($A69+8860000,'Growth Data'!$A:$F,6,0)),0,VLOOKUP($A69+8860000,'Growth Data'!$A:$F,6,0)),0)","v":0},0,null,0,{"$f":"IF(ISERROR(VLOOKUP($A69+8860000,'Growth Data'!$A:$Z,7,0)),0,VLOOKUP($A69+8860000,'Growth Data'!$A:$Z,7,0))","v":0},0,null,"NO",{"$f":"IF(ISERROR(VLOOKUP($A69+8860000,'Growth Data'!$A:$F,4,0)),\"NO\",VLOOKUP($A69+8860000,'Growth Data'!$A:$F,4,0))","v":"NO"},0,null,0,{"$f":"IF(ISERROR(VLOOKUP($A69+8860000,'Growth Data'!$A:$Z,8,0)),0,VLOOKUP($A69+8860000,'Growth Data'!$A:$Z,8,0))","v":0},0,null,0,{"$f":"IF(ISERROR(VLOOKUP($A69+8860000,'Growth Data'!$A:$Z,9,0)),0,VLOOKUP($A69+8860000,'Growth Data'!$A:$Z,9,0))","v":0},0,null,"NO",{"$f":"IF(ISERROR(VLOOKUP($A69+8860000,'Growth Data'!$A:$Z,5,0)),\"NO\",VLOOKUP($A69+8860000,'Growth Data'!$A:$Z,5,0))","v":"NO"},0,null,0,{"$f":"IF(ISERROR(VLOOKUP($A69+8860000,'Growth Data'!$A:$Z,10,0)),0,VLOOKUP($A69+8860000,'Growth Data'!$A:$Z,10,0))","v":0},0,null,0,{"$f":"IF(ISERROR(VLOOKUP($A69+8860000,'Growth Data'!$A:$Z,11,0)),0,VLOOKUP($A69+8860000,'Growth Data'!$A:$Z,11,0))","v":0},0]
[2296,"Mundella Primary School",null,"Mundella Primary School",null,1,null,578422.79,578422.79,0,null,149429.21,149429.21347826082,-3.4782608272507787E-3,null,10668.84,10668.840304878064,-3.0487806361634284E-4,null,81454.509999999995,81454.505341614902,4.6583850926253945E-3,null,120084,120084,0,null,0,0,0,null,0,0,0,null,0,0,0,null,17017,17017,0,null,0,0,0,null,0,0,0,null,0,0,0,null,957076.35,957076.34912475385,8.752461289986968E-4,null,0,0,0,null,957076.35,957076.34912475385,8.752461289986968E-4,null,0,null,0,null,null,null,0,null,null,null,0,null,206819.14,206819.14143176196,0,null,4918.1000000000004,4918.1000000000004,0,null,null,null,0,null,null,null,0,null,null,null,0,null,null,null,0,null,null,null,0,null,null,null,0,null,"NO",{"$f":"IF(ISERROR(VLOOKUP($A70+8860000,'Growth Data'!$A:$F,3,0)),\"NO\",VLOOKUP($A70+8860000,'Growth Data'!$A:$F,3,0))","v":"NO"},0,null,0,{"$f":"IF(DI70=\"YES\",IF(ISERROR(VLOOKUP($A70+8860000,'Growth Data'!$A:$F,6,0)),0,VLOOKUP($A70+8860000,'Growth Data'!$A:$F,6,0)),0)","v":0},0,null,0,{"$f":"IF(ISERROR(VLOOKUP($A70+8860000,'Growth Data'!$A:$Z,7,0)),0,VLOOKUP($A70+8860000,'Growth Data'!$A:$Z,7,0))","v":0},0,null,"NO",{"$f":"IF(ISERROR(VLOOKUP($A70+8860000,'Growth Data'!$A:$F,4,0)),\"NO\",VLOOKUP($A70+8860000,'Growth Data'!$A:$F,4,0))","v":"NO"},0,null,0,{"$f":"IF(ISERROR(VLOOKUP($A70+8860000,'Growth Data'!$A:$Z,8,0)),0,VLOOKUP($A70+8860000,'Growth Data'!$A:$Z,8,0))","v":0},0,null,0,{"$f":"IF(ISERROR(VLOOKUP($A70+8860000,'Growth Data'!$A:$Z,9,0)),0,VLOOKUP($A70+8860000,'Growth Data'!$A:$Z,9,0))","v":0},0,null,"NO",{"$f":"IF(ISERROR(VLOOKUP($A70+8860000,'Growth Data'!$A:$Z,5,0)),\"NO\",VLOOKUP($A70+8860000,'Growth Data'!$A:$Z,5,0))","v":"NO"},0,null,0,{"$f":"IF(ISERROR(VLOOKUP($A70+8860000,'Growth Data'!$A:$Z,10,0)),0,VLOOKUP($A70+8860000,'Growth Data'!$A:$Z,10,0))","v":0},0,null,0,{"$f":"IF(ISERROR(VLOOKUP($A70+8860000,'Growth Data'!$A:$Z,11,0)),0,VLOOKUP($A70+8860000,'Growth Data'!$A:$Z,11,0))","v":0},0]
[2298,"Hawkinge Primary School",null,"Hawkinge Primary School",null,1,null,1218708.98,1218708.98,0,null,97658.57,97658.572010178206,-2.0101781992707402E-3,null,3207.89,3207.89437869822,-4.3786982200799685E-3,null,128739.77,128739.77295180722,-2.9518072115024552E-3,null,120084,120084,0,null,0,0,0,null,0,0,0,null,0,0,0,null,8243,8243,0,null,0,0,0,null,0,0,0,null,78520.78,78520.78065931637,-6.59316370729357E-4,null,1655163,1655162.9999999998,0,null,0,0,0,null,1655163,1655162.9999999998,0,null,0,null,0,null,null,null,0,null,null,null,0,null,280298.40000000002,280298.40230700816,0,null,10362.200000000001,10362.200000000001,0,null,null,null,0,null,null,null,0,null,null,null,0,null,null,null,0,null,null,null,0,null,null,null,0,null,"NO",{"$f":"IF(ISERROR(VLOOKUP($A71+8860000,'Growth Data'!$A:$F,3,0)),\"NO\",VLOOKUP($A71+8860000,'Growth Data'!$A:$F,3,0))","v":"NO"},0,null,0,{"$f":"IF(DI71=\"YES\",IF(ISERROR(VLOOKUP($A71+8860000,'Growth Data'!$A:$F,6,0)),0,VLOOKUP($A71+8860000,'Growth Data'!$A:$F,6,0)),0)","v":0},0,null,0,{"$f":"IF(ISERROR(VLOOKUP($A71+8860000,'Growth Data'!$A:$Z,7,0)),0,VLOOKUP($A71+8860000,'Growth Data'!$A:$Z,7,0))","v":0},0,null,"NO",{"$f":"IF(ISERROR(VLOOKUP($A71+8860000,'Growth Data'!$A:$F,4,0)),\"NO\",VLOOKUP($A71+8860000,'Growth Data'!$A:$F,4,0))","v":"NO"},0,null,0,{"$f":"IF(ISERROR(VLOOKUP($A71+8860000,'Growth Data'!$A:$Z,8,0)),0,VLOOKUP($A71+8860000,'Growth Data'!$A:$Z,8,0))","v":0},0,null,0,{"$f":"IF(ISERROR(VLOOKUP($A71+8860000,'Growth Data'!$A:$Z,9,0)),0,VLOOKUP($A71+8860000,'Growth Data'!$A:$Z,9,0))","v":0},0,null,"NO",{"$f":"IF(ISERROR(VLOOKUP($A71+8860000,'Growth Data'!$A:$Z,5,0)),\"NO\",VLOOKUP($A71+8860000,'Growth Data'!$A:$Z,5,0))","v":"NO"},0,null,0,{"$f":"IF(ISERROR(VLOOKUP($A71+8860000,'Growth Data'!$A:$Z,10,0)),0,VLOOKUP($A71+8860000,'Growth Data'!$A:$Z,10,0))","v":0},0,null,0,{"$f":"IF(ISERROR(VLOOKUP($A71+8860000,'Growth Data'!$A:$Z,11,0)),0,VLOOKUP($A71+8860000,'Growth Data'!$A:$Z,11,0))","v":0},0]
[2300,"Sellindge Primary School",null,"Sellindge Primary School",null,1,null,340248.7,340248.7,0,null,8347.1,8347.096990291262,3.0097087383182952E-3,null,665.31,665.30659340659406,3.4065934058844505E-3,null,25166.59,25166.585714285713,4.2857142871071119E-3,null,120084,120084,0,null,0,0,0,null,0,0,0,null,0,0,0,null,17216,17216,0,null,0,0,0,null,0,0,0,null,0,0,0,null,511727.69,511727.6892979836,7.0201640482991934E-4,null,1548.6,1548.6022750718985,-2.2750718985662388E-3,null,513276.29,513276.2915730555,-1.5730555169284344E-3,null,0,null,0,null,null,null,0,null,null,null,0,null,37819.769999999997,37819.773880063614,0,null,2893,2893,0,null,null,null,0,null,null,null,0,null,null,null,0,null,null,null,0,null,null,null,0,null,null,null,0,null,"NO",{"$f":"IF(ISERROR(VLOOKUP($A72+8860000,'Growth Data'!$A:$F,3,0)),\"NO\",VLOOKUP($A72+8860000,'Growth Data'!$A:$F,3,0))","v":"NO"},0,null,0,{"$f":"IF(DI72=\"YES\",IF(ISERROR(VLOOKUP($A72+8860000,'Growth Data'!$A:$F,6,0)),0,VLOOKUP($A72+8860000,'Growth Data'!$A:$F,6,0)),0)","v":0},0,null,0,{"$f":"IF(ISERROR(VLOOKUP($A72+8860000,'Growth Data'!$A:$Z,7,0)),0,VLOOKUP($A72+8860000,'Growth Data'!$A:$Z,7,0))","v":0},0,null,"NO",{"$f":"IF(ISERROR(VLOOKUP($A72+8860000,'Growth Data'!$A:$F,4,0)),\"NO\",VLOOKUP($A72+8860000,'Growth Data'!$A:$F,4,0))","v":"NO"},0,null,0,{"$f":"IF(ISERROR(VLOOKUP($A72+8860000,'Growth Data'!$A:$Z,8,0)),0,VLOOKUP($A72+8860000,'Growth Data'!$A:$Z,8,0))","v":0},0,null,0,{"$f":"IF(ISERROR(VLOOKUP($A72+8860000,'Growth Data'!$A:$Z,9,0)),0,VLOOKUP($A72+8860000,'Growth Data'!$A:$Z,9,0))","v":0},0,null,"NO",{"$f":"IF(ISERROR(VLOOKUP($A72+8860000,'Growth Data'!$A:$Z,5,0)),\"NO\",VLOOKUP($A72+8860000,'Growth Data'!$A:$Z,5,0))","v":"NO"},0,null,0,{"$f":"IF(ISERROR(VLOOKUP($A72+8860000,'Growth Data'!$A:$Z,10,0)),0,VLOOKUP($A72+8860000,'Growth Data'!$A:$Z,10,0))","v":0},0,null,0,{"$f":"IF(ISERROR(VLOOKUP($A72+8860000,'Growth Data'!$A:$Z,11,0)),0,VLOOKUP($A72+8860000,'Growth Data'!$A:$Z,11,0))","v":0},0]
[2312,"River Primary School",null,"River Primary School",null,1,null,1271292.8700000001,1271292.8700000001,0,null,120853.65,120853.64641463407,3.5853659210260957E-3,null,2548.85,2548.848338028165,1.6619718348920287E-3,null,105892.36,105892.35696883852,3.0311614827951416E-3,null,120084,120084,0,null,0,0,0,null,0,0,0,null,0,0,0,null,40960,40960,0,null,0,0,0,null,0,0,0,null,97308.28,97308.278278499114,1.7215008847415447E-3,null,1758940,1758940,0,null,0,0,0,null,1758940,1758940,0,null,0,null,0,null,null,null,0,null,null,null,0,null,302457.07,302457.07230700809,0,null,10809.3,10809.3,0,null,null,null,0,null,null,null,0,null,null,null,0,null,null,null,0,null,null,null,0,null,null,null,0,null,"NO",{"$f":"IF(ISERROR(VLOOKUP($A73+8860000,'Growth Data'!$A:$F,3,0)),\"NO\",VLOOKUP($A73+8860000,'Growth Data'!$A:$F,3,0))","v":"NO"},0,null,0,{"$f":"IF(DI73=\"YES\",IF(ISERROR(VLOOKUP($A73+8860000,'Growth Data'!$A:$F,6,0)),0,VLOOKUP($A73+8860000,'Growth Data'!$A:$F,6,0)),0)","v":0},0,null,0,{"$f":"IF(ISERROR(VLOOKUP($A73+8860000,'Growth Data'!$A:$Z,7,0)),0,VLOOKUP($A73+8860000,'Growth Data'!$A:$Z,7,0))","v":0},0,null,"NO",{"$f":"IF(ISERROR(VLOOKUP($A73+8860000,'Growth Data'!$A:$F,4,0)),\"NO\",VLOOKUP($A73+8860000,'Growth Data'!$A:$F,4,0))","v":"NO"},0,null,0,{"$f":"IF(ISERROR(VLOOKUP($A73+8860000,'Growth Data'!$A:$Z,8,0)),0,VLOOKUP($A73+8860000,'Growth Data'!$A:$Z,8,0))","v":0},0,null,0,{"$f":"IF(ISERROR(VLOOKUP($A73+8860000,'Growth Data'!$A:$Z,9,0)),0,VLOOKUP($A73+8860000,'Growth Data'!$A:$Z,9,0))","v":0},0,null,"NO",{"$f":"IF(ISERROR(VLOOKUP($A73+8860000,'Growth Data'!$A:$Z,5,0)),\"NO\",VLOOKUP($A73+8860000,'Growth Data'!$A:$Z,5,0))","v":"NO"},0,null,0,{"$f":"IF(ISERROR(VLOOKUP($A73+8860000,'Growth Data'!$A:$Z,10,0)),0,VLOOKUP($A73+8860000,'Growth Data'!$A:$Z,10,0))","v":0},0,null,0,{"$f":"IF(ISERROR(VLOOKUP($A73+8860000,'Growth Data'!$A:$Z,11,0)),0,VLOOKUP($A73+8860000,'Growth Data'!$A:$Z,11,0))","v":0},0]
[2318,"Langdon Primary School",null,"Langdon Primary School",null,1,null,269105.78999999998,269105.78999999998,0,null,18403.78,18403.780000000028,-2.9103830456733704E-11,null,1330.11,1330.1091666666678,8.3333333213886363E-4,null,15253.12,15253.118399999999,1.6000000014173565E-3,null,120084,120084,0,null,37756.339999999997,37756.340987983982,-9.8798398539656773E-4,null,0,0,0,null,0,0,0,null,4990,4990,0,null,0,0,0,null,0,0,0,null,0,0,0,null,466923.14,466923.13855465065,1.4453493640758097E-3,null,0,0,0,null,466923.14,466923.13855465065,1.4453493640758097E-3,null,0,null,0,null,null,null,0,null,null,null,0,null,35698.230000000003,35698.229873674827,0,null,2288.1,2288.1000000000004,0,null,null,null,0,null,null,null,0,null,null,null,0,null,null,null,0,null,null,null,0,null,null,null,0,null,"NO",{"$f":"IF(ISERROR(VLOOKUP($A74+8860000,'Growth Data'!$A:$F,3,0)),\"NO\",VLOOKUP($A74+8860000,'Growth Data'!$A:$F,3,0))","v":"NO"},0,null,0,{"$f":"IF(DI74=\"YES\",IF(ISERROR(VLOOKUP($A74+8860000,'Growth Data'!$A:$F,6,0)),0,VLOOKUP($A74+8860000,'Growth Data'!$A:$F,6,0)),0)","v":0},0,null,0,{"$f":"IF(ISERROR(VLOOKUP($A74+8860000,'Growth Data'!$A:$Z,7,0)),0,VLOOKUP($A74+8860000,'Growth Data'!$A:$Z,7,0))","v":0},0,null,"NO",{"$f":"IF(ISERROR(VLOOKUP($A74+8860000,'Growth Data'!$A:$F,4,0)),\"NO\",VLOOKUP($A74+8860000,'Growth Data'!$A:$F,4,0))","v":"NO"},0,null,0,{"$f":"IF(ISERROR(VLOOKUP($A74+8860000,'Growth Data'!$A:$Z,8,0)),0,VLOOKUP($A74+8860000,'Growth Data'!$A:$Z,8,0))","v":0},0,null,0,{"$f":"IF(ISERROR(VLOOKUP($A74+8860000,'Growth Data'!$A:$Z,9,0)),0,VLOOKUP($A74+8860000,'Growth Data'!$A:$Z,9,0))","v":0},0,null,"NO",{"$f":"IF(ISERROR(VLOOKUP($A74+8860000,'Growth Data'!$A:$Z,5,0)),\"NO\",VLOOKUP($A74+8860000,'Growth Data'!$A:$Z,5,0))","v":"NO"},0,null,0,{"$f":"IF(ISERROR(VLOOKUP($A74+8860000,'Growth Data'!$A:$Z,10,0)),0,VLOOKUP($A74+8860000,'Growth Data'!$A:$Z,10,0))","v":0},0,null,0,{"$f":"IF(ISERROR(VLOOKUP($A74+8860000,'Growth Data'!$A:$Z,11,0)),0,VLOOKUP($A74+8860000,'Growth Data'!$A:$Z,11,0))","v":0},0]
[2320,"Eythorne Elvington Community Primary School",null,"Eythorne Elvington Community Primary School",null,1,null,321689.68,321689.68,0,null,59644.15,59644.148349514566,1.650485435675364E-3,null,0,0,0,null,32375.02,32375.022727272728,-2.7272727274976205E-3,null,120084,120084,0,null,0,0,0,null,0,0,0,null,0,0,0,null,17340,17340,0,null,0,0,0,null,0,0,0,null,0,0,0,null,551132.85,551132.85107678734,-1.0767873609438539E-3,null,0,0,0,null,551132.85,551132.85107678734,-1.0767873609438539E-3,null,0,null,0,null,null,null,0,null,null,null,0,null,72936.63,72936.63338379543,0,null,2735.2,2735.2,0,null,null,null,0,null,null,null,0,null,null,null,0,null,null,null,0,null,null,null,0,null,null,null,0,null,"NO",{"$f":"IF(ISERROR(VLOOKUP($A75+8860000,'Growth Data'!$A:$F,3,0)),\"NO\",VLOOKUP($A75+8860000,'Growth Data'!$A:$F,3,0))","v":"NO"},0,null,0,{"$f":"IF(DI75=\"YES\",IF(ISERROR(VLOOKUP($A75+8860000,'Growth Data'!$A:$F,6,0)),0,VLOOKUP($A75+8860000,'Growth Data'!$A:$F,6,0)),0)","v":0},0,null,0,{"$f":"IF(ISERROR(VLOOKUP($A75+8860000,'Growth Data'!$A:$Z,7,0)),0,VLOOKUP($A75+8860000,'Growth Data'!$A:$Z,7,0))","v":0},0,null,"NO",{"$f":"IF(ISERROR(VLOOKUP($A75+8860000,'Growth Data'!$A:$F,4,0)),\"NO\",VLOOKUP($A75+8860000,'Growth Data'!$A:$F,4,0))","v":"NO"},0,null,0,{"$f":"IF(ISERROR(VLOOKUP($A75+8860000,'Growth Data'!$A:$Z,8,0)),0,VLOOKUP($A75+8860000,'Growth Data'!$A:$Z,8,0))","v":0},0,null,0,{"$f":"IF(ISERROR(VLOOKUP($A75+8860000,'Growth Data'!$A:$Z,9,0)),0,VLOOKUP($A75+8860000,'Growth Data'!$A:$Z,9,0))","v":0},0,null,"NO",{"$f":"IF(ISERROR(VLOOKUP($A75+8860000,'Growth Data'!$A:$Z,5,0)),\"NO\",VLOOKUP($A75+8860000,'Growth Data'!$A:$Z,5,0))","v":"NO"},0,null,0,{"$f":"IF(ISERROR(VLOOKUP($A75+8860000,'Growth Data'!$A:$Z,10,0)),0,VLOOKUP($A75+8860000,'Growth Data'!$A:$Z,10,0))","v":0},0,null,0,{"$f":"IF(ISERROR(VLOOKUP($A75+8860000,'Growth Data'!$A:$Z,11,0)),0,VLOOKUP($A75+8860000,'Growth Data'!$A:$Z,11,0))","v":0},0]
[2321,"Lydden Primary School",null,"Lydden Primary School",null,1,null,225801.41,225801.41,0,null,18467.830000000002,18467.830000000031,-2.9103830456733704E-11,null,0,0,0,null,3691.9,3691.902,-1.9999999999527063E-3,null,120084,120084,0,null,0,0,0,null,0,0,0,null,0,0,0,null,8483,8483,0,null,0,0,0,null,0,0,0,null,0,0,0,null,376528.14,376528.14200000005,-2.0000000367872417E-3,null,0,0,0,null,376528.14,376528.14200000005,-2.0000000367872417E-3,null,0,null,0,null,null,null,0,null,null,null,0,null,21489.99,21489.994307008164,0,null,1919.9,1919.9,0,null,null,null,0,null,null,null,0,null,null,null,0,null,null,null,0,null,null,null,0,null,null,null,0,null,"NO",{"$f":"IF(ISERROR(VLOOKUP($A76+8860000,'Growth Data'!$A:$F,3,0)),\"NO\",VLOOKUP($A76+8860000,'Growth Data'!$A:$F,3,0))","v":"NO"},0,null,0,{"$f":"IF(DI76=\"YES\",IF(ISERROR(VLOOKUP($A76+8860000,'Growth Data'!$A:$F,6,0)),0,VLOOKUP($A76+8860000,'Growth Data'!$A:$F,6,0)),0)","v":0},0,null,0,{"$f":"IF(ISERROR(VLOOKUP($A76+8860000,'Growth Data'!$A:$Z,7,0)),0,VLOOKUP($A76+8860000,'Growth Data'!$A:$Z,7,0))","v":0},0,null,"NO",{"$f":"IF(ISERROR(VLOOKUP($A76+8860000,'Growth Data'!$A:$F,4,0)),\"NO\",VLOOKUP($A76+8860000,'Growth Data'!$A:$F,4,0))","v":"NO"},0,null,0,{"$f":"IF(ISERROR(VLOOKUP($A76+8860000,'Growth Data'!$A:$Z,8,0)),0,VLOOKUP($A76+8860000,'Growth Data'!$A:$Z,8,0))","v":0},0,null,0,{"$f":"IF(ISERROR(VLOOKUP($A76+8860000,'Growth Data'!$A:$Z,9,0)),0,VLOOKUP($A76+8860000,'Growth Data'!$A:$Z,9,0))","v":0},0,null,"NO",{"$f":"IF(ISERROR(VLOOKUP($A76+8860000,'Growth Data'!$A:$Z,5,0)),\"NO\",VLOOKUP($A76+8860000,'Growth Data'!$A:$Z,5,0))","v":"NO"},0,null,0,{"$f":"IF(ISERROR(VLOOKUP($A76+8860000,'Growth Data'!$A:$Z,10,0)),0,VLOOKUP($A76+8860000,'Growth Data'!$A:$Z,10,0))","v":0},0,null,0,{"$f":"IF(ISERROR(VLOOKUP($A76+8860000,'Growth Data'!$A:$Z,11,0)),0,VLOOKUP($A76+8860000,'Growth Data'!$A:$Z,11,0))","v":0},0]
[2322,"Preston Primary School",null,"Preston Primary School",null,1,null,377366.74,377366.74,0,null,15302.8,15302.798941860459,1.0581395399640314E-3,null,2558,2558.0030476190477,-3.0476190477202181E-3,null,33420.99,33420.985000000001,4.9999999973806553E-3,null,120084,120084,0,null,16713.79,16713.794259012018,-4.2590120174281765E-3,null,0,0,0,null,0,0,0,null,17964,17964,0,null,0,0,0,null,0,0,0,null,0,0,0,null,583410.31999999995,583410.32124849153,-1.2484915787354112E-3,null,0,0,0,null,583410.31999999995,583410.32124849153,-1.2484915787354112E-3,null,0,null,0,null,null,null,0,null,null,null,0,null,51993.01,51993.009296487653,0,null,3208.6,3208.6000000000004,0,null,null,null,0,null,null,null,0,null,null,null,0,null,null,null,0,null,null,null,0,null,null,null,0,null,"NO",{"$f":"IF(ISERROR(VLOOKUP($A77+8860000,'Growth Data'!$A:$F,3,0)),\"NO\",VLOOKUP($A77+8860000,'Growth Data'!$A:$F,3,0))","v":"NO"},0,null,0,{"$f":"IF(DI77=\"YES\",IF(ISERROR(VLOOKUP($A77+8860000,'Growth Data'!$A:$F,6,0)),0,VLOOKUP($A77+8860000,'Growth Data'!$A:$F,6,0)),0)","v":0},0,null,0,{"$f":"IF(ISERROR(VLOOKUP($A77+8860000,'Growth Data'!$A:$Z,7,0)),0,VLOOKUP($A77+8860000,'Growth Data'!$A:$Z,7,0))","v":0},0,null,"NO",{"$f":"IF(ISERROR(VLOOKUP($A77+8860000,'Growth Data'!$A:$F,4,0)),\"NO\",VLOOKUP($A77+8860000,'Growth Data'!$A:$F,4,0))","v":"NO"},0,null,0,{"$f":"IF(ISERROR(VLOOKUP($A77+8860000,'Growth Data'!$A:$Z,8,0)),0,VLOOKUP($A77+8860000,'Growth Data'!$A:$Z,8,0))","v":0},0,null,0,{"$f":"IF(ISERROR(VLOOKUP($A77+8860000,'Growth Data'!$A:$Z,9,0)),0,VLOOKUP($A77+8860000,'Growth Data'!$A:$Z,9,0))","v":0},0,null,"NO",{"$f":"IF(ISERROR(VLOOKUP($A77+8860000,'Growth Data'!$A:$Z,5,0)),\"NO\",VLOOKUP($A77+8860000,'Growth Data'!$A:$Z,5,0))","v":"NO"},0,null,0,{"$f":"IF(ISERROR(VLOOKUP($A77+8860000,'Growth Data'!$A:$Z,10,0)),0,VLOOKUP($A77+8860000,'Growth Data'!$A:$Z,10,0))","v":0},0,null,0,{"$f":"IF(ISERROR(VLOOKUP($A77+8860000,'Growth Data'!$A:$Z,11,0)),0,VLOOKUP($A77+8860000,'Growth Data'!$A:$Z,11,0))","v":0},0]
[2326,"Wingham Primary School",null,"Wingham Primary School",null,1,null,590795.47,590795.47,0,null,26888.66,26888.660000000014,0,null,622.04,622.03840236686403,1.5976331359297546E-3,null,46094.09,46094.086845238096,3.154761900077574E-3,null,120084,120084,0,null,0,0,0,null,0,0,0,null,0,0,0,null,31232,31232,0,null,0,0,0,null,0,0,0,null,13895.74,13895.744752395083,-4.7523950834147399E-3,null,829612,829612.00000000012,0,null,0,0,0,null,829612,829612.00000000012,0,null,0,null,0,null,null,null,0,null,null,null,0,null,82227.59,82227.592307008206,0,null,5023.3,5023.2999999999993,0,null,null,null,0,null,null,null,0,null,null,null,0,null,null,null,0,null,null,null,0,null,null,null,0,null,"NO",{"$f":"IF(ISERROR(VLOOKUP($A78+8860000,'Growth Data'!$A:$F,3,0)),\"NO\",VLOOKUP($A78+8860000,'Growth Data'!$A:$F,3,0))","v":"NO"},0,null,0,{"$f":"IF(DI78=\"YES\",IF(ISERROR(VLOOKUP($A78+8860000,'Growth Data'!$A:$F,6,0)),0,VLOOKUP($A78+8860000,'Growth Data'!$A:$F,6,0)),0)","v":0},0,null,0,{"$f":"IF(ISERROR(VLOOKUP($A78+8860000,'Growth Data'!$A:$Z,7,0)),0,VLOOKUP($A78+8860000,'Growth Data'!$A:$Z,7,0))","v":0},0,null,"NO",{"$f":"IF(ISERROR(VLOOKUP($A78+8860000,'Growth Data'!$A:$F,4,0)),\"NO\",VLOOKUP($A78+8860000,'Growth Data'!$A:$F,4,0))","v":"NO"},0,null,0,{"$f":"IF(ISERROR(VLOOKUP($A78+8860000,'Growth Data'!$A:$Z,8,0)),0,VLOOKUP($A78+8860000,'Growth Data'!$A:$Z,8,0))","v":0},0,null,0,{"$f":"IF(ISERROR(VLOOKUP($A78+8860000,'Growth Data'!$A:$Z,9,0)),0,VLOOKUP($A78+8860000,'Growth Data'!$A:$Z,9,0))","v":0},0,null,"NO",{"$f":"IF(ISERROR(VLOOKUP($A78+8860000,'Growth Data'!$A:$Z,5,0)),\"NO\",VLOOKUP($A78+8860000,'Growth Data'!$A:$Z,5,0))","v":"NO"},0,null,0,{"$f":"IF(ISERROR(VLOOKUP($A78+8860000,'Growth Data'!$A:$Z,10,0)),0,VLOOKUP($A78+8860000,'Growth Data'!$A:$Z,10,0))","v":0},0,null,0,{"$f":"IF(ISERROR(VLOOKUP($A78+8860000,'Growth Data'!$A:$Z,11,0)),0,VLOOKUP($A78+8860000,'Growth Data'!$A:$Z,11,0))","v":0},0]
[2327,"Worth Primary School",null,"Worth Primary School",null,1,null,197962.88,197962.88,0,null,14703.91,14703.912865275139,-2.8652751389017794E-3,null,0,0,0,null,14921.12,14921.123404255319,-3.404255317946081E-3,null,120084,120084,0,null,0,0,0,null,0,0,0,null,0,0,0,null,3393,3393,0,null,0,0,0,null,0,0,0,null,0,0,0,null,351064.92,351064.91626953043,3.7304695579223335E-3,null,4309.08,4309.0811722723593,-1.1722723593265982E-3,null,355374,355373.99744180276,2.5581972440704703E-3,null,0,null,0,null,null,null,0,null,null,null,0,null,34645.339999999997,34645.339748810962,0,null,1683.2,1683.1999999999998,0,null,null,null,0,null,null,null,0,null,null,null,0,null,null,null,0,null,null,null,0,null,null,null,0,null,"NO",{"$f":"IF(ISERROR(VLOOKUP($A79+8860000,'Growth Data'!$A:$F,3,0)),\"NO\",VLOOKUP($A79+8860000,'Growth Data'!$A:$F,3,0))","v":"NO"},0,null,0,{"$f":"IF(DI79=\"YES\",IF(ISERROR(VLOOKUP($A79+8860000,'Growth Data'!$A:$F,6,0)),0,VLOOKUP($A79+8860000,'Growth Data'!$A:$F,6,0)),0)","v":0},0,null,0,{"$f":"IF(ISERROR(VLOOKUP($A79+8860000,'Growth Data'!$A:$Z,7,0)),0,VLOOKUP($A79+8860000,'Growth Data'!$A:$Z,7,0))","v":0},0,null,"NO",{"$f":"IF(ISERROR(VLOOKUP($A79+8860000,'Growth Data'!$A:$F,4,0)),\"NO\",VLOOKUP($A79+8860000,'Growth Data'!$A:$F,4,0))","v":"NO"},0,null,0,{"$f":"IF(ISERROR(VLOOKUP($A79+8860000,'Growth Data'!$A:$Z,8,0)),0,VLOOKUP($A79+8860000,'Growth Data'!$A:$Z,8,0))","v":0},0,null,0,{"$f":"IF(ISERROR(VLOOKUP($A79+8860000,'Growth Data'!$A:$Z,9,0)),0,VLOOKUP($A79+8860000,'Growth Data'!$A:$Z,9,0))","v":0},0,null,"NO",{"$f":"IF(ISERROR(VLOOKUP($A79+8860000,'Growth Data'!$A:$Z,5,0)),\"NO\",VLOOKUP($A79+8860000,'Growth Data'!$A:$Z,5,0))","v":"NO"},0,null,0,{"$f":"IF(ISERROR(VLOOKUP($A79+8860000,'Growth Data'!$A:$Z,10,0)),0,VLOOKUP($A79+8860000,'Growth Data'!$A:$Z,10,0))","v":0},0,null,0,{"$f":"IF(ISERROR(VLOOKUP($A79+8860000,'Growth Data'!$A:$Z,11,0)),0,VLOOKUP($A79+8860000,'Growth Data'!$A:$Z,11,0))","v":0},0]
[2328,"St Mildred's Primary Infant School",null,"St Mildred's Primary Infant School",null,1,null,819690.05,819690.05,0,null,64863.08,64863.079999999965,0,null,15656.57,15656.574293785372,-4.2937853722833097E-3,null,90117.64,90117.636206896554,3.7931034457869828E-3,null,120084,120084,0,null,0,0,0,null,0,0,0,null,0,0,0,null,24950,24950,0,null,0,0,0,null,0,0,0,null,0,0,0,null,1135361.3400000001,1135361.3405006819,-5.006818100810051E-4,null,0,0,0,null,1135361.3400000001,1135361.3405006819,-5.006818100810051E-4,null,0,null,0,null,null,null,0,null,null,null,0,null,151094.43,151094.43280769006,0,null,6969.5,6969.5,0,null,null,null,0,null,null,null,0,null,null,null,0,null,null,null,0,null,null,null,0,null,null,null,0,null,"NO",{"$f":"IF(ISERROR(VLOOKUP($A80+8860000,'Growth Data'!$A:$F,3,0)),\"NO\",VLOOKUP($A80+8860000,'Growth Data'!$A:$F,3,0))","v":"NO"},0,null,0,{"$f":"IF(DI80=\"YES\",IF(ISERROR(VLOOKUP($A80+8860000,'Growth Data'!$A:$F,6,0)),0,VLOOKUP($A80+8860000,'Growth Data'!$A:$F,6,0)),0)","v":0},0,null,0,{"$f":"IF(ISERROR(VLOOKUP($A80+8860000,'Growth Data'!$A:$Z,7,0)),0,VLOOKUP($A80+8860000,'Growth Data'!$A:$Z,7,0))","v":0},0,null,"NO",{"$f":"IF(ISERROR(VLOOKUP($A80+8860000,'Growth Data'!$A:$F,4,0)),\"NO\",VLOOKUP($A80+8860000,'Growth Data'!$A:$F,4,0))","v":"NO"},0,null,0,{"$f":"IF(ISERROR(VLOOKUP($A80+8860000,'Growth Data'!$A:$Z,8,0)),0,VLOOKUP($A80+8860000,'Growth Data'!$A:$Z,8,0))","v":0},0,null,0,{"$f":"IF(ISERROR(VLOOKUP($A80+8860000,'Growth Data'!$A:$Z,9,0)),0,VLOOKUP($A80+8860000,'Growth Data'!$A:$Z,9,0))","v":0},0,null,"NO",{"$f":"IF(ISERROR(VLOOKUP($A80+8860000,'Growth Data'!$A:$Z,5,0)),\"NO\",VLOOKUP($A80+8860000,'Growth Data'!$A:$Z,5,0))","v":"NO"},0,null,0,{"$f":"IF(ISERROR(VLOOKUP($A80+8860000,'Growth Data'!$A:$Z,10,0)),0,VLOOKUP($A80+8860000,'Growth Data'!$A:$Z,10,0))","v":0},0,null,0,{"$f":"IF(ISERROR(VLOOKUP($A80+8860000,'Growth Data'!$A:$Z,11,0)),0,VLOOKUP($A80+8860000,'Growth Data'!$A:$Z,11,0))","v":0},0]
[2329,"Callis Grange Nursery and Infant School",null,"Callis Grange Nursery and Infant School",null,1,null,832062.73,832062.73,0,null,95557.24,95557.239999999932,0,null,5757.69,5757.6909444444473,-9.4444444766850211E-4,null,42576.75,42576.752111111105,-2.111111105477903E-3,null,120084,120084,0,null,0,0,0,null,0,0,0,null,0,0,0,null,43520,43520,0,null,0,0,0,null,0,0,0,null,28381.59,28381.586944444542,3.0555554585589562E-3,null,1167940,1167940,0,null,0,0,0,null,1167940,1167940,0,null,0,null,0,null,null,null,0,null,null,null,0,null,147666.89000000001,147666.89230700821,0,null,7074.7,7074.7000000000007,0,null,null,null,0,null,null,null,0,null,null,null,0,null,null,null,0,null,null,null,0,null,null,null,0,null,"NO",{"$f":"IF(ISERROR(VLOOKUP($A81+8860000,'Growth Data'!$A:$F,3,0)),\"NO\",VLOOKUP($A81+8860000,'Growth Data'!$A:$F,3,0))","v":"NO"},0,null,0,{"$f":"IF(DI81=\"YES\",IF(ISERROR(VLOOKUP($A81+8860000,'Growth Data'!$A:$F,6,0)),0,VLOOKUP($A81+8860000,'Growth Data'!$A:$F,6,0)),0)","v":0},0,null,0,{"$f":"IF(ISERROR(VLOOKUP($A81+8860000,'Growth Data'!$A:$Z,7,0)),0,VLOOKUP($A81+8860000,'Growth Data'!$A:$Z,7,0))","v":0},0,null,"NO",{"$f":"IF(ISERROR(VLOOKUP($A81+8860000,'Growth Data'!$A:$F,4,0)),\"NO\",VLOOKUP($A81+8860000,'Growth Data'!$A:$F,4,0))","v":"NO"},0,null,0,{"$f":"IF(ISERROR(VLOOKUP($A81+8860000,'Growth Data'!$A:$Z,8,0)),0,VLOOKUP($A81+8860000,'Growth Data'!$A:$Z,8,0))","v":0},0,null,0,{"$f":"IF(ISERROR(VLOOKUP($A81+8860000,'Growth Data'!$A:$Z,9,0)),0,VLOOKUP($A81+8860000,'Growth Data'!$A:$Z,9,0))","v":0},0,null,"NO",{"$f":"IF(ISERROR(VLOOKUP($A81+8860000,'Growth Data'!$A:$Z,5,0)),\"NO\",VLOOKUP($A81+8860000,'Growth Data'!$A:$Z,5,0))","v":"NO"},0,null,0,{"$f":"IF(ISERROR(VLOOKUP($A81+8860000,'Growth Data'!$A:$Z,10,0)),0,VLOOKUP($A81+8860000,'Growth Data'!$A:$Z,10,0))","v":0},0,null,0,{"$f":"IF(ISERROR(VLOOKUP($A81+8860000,'Growth Data'!$A:$Z,11,0)),0,VLOOKUP($A81+8860000,'Growth Data'!$A:$Z,11,0))","v":0},0]
[2337,"St Crispin's Community Primary Infant School",null,"St Crispin's Community Primary Infant School",null,1,null,807317.37,807317.37,0,null,90748.91,90748.910000000076,0,null,2448.61,2448.6100568181751,-5.6818174925865605E-5,null,74748.95,74748.946704545451,3.2954545458778739E-3,null,120084,120084,0,null,0,0,0,null,0,0,0,null,0,0,0,null,20085,20085,0,null,0,0,0,null,0,0,0,null,0,0,0,null,1115432.8400000001,1115432.8367613638,3.238636301830411E-3,null,0,0,0,null,1115432.8400000001,1115432.8367613638,3.238636301830411E-3,null,0,null,0,null,null,null,0,null,null,null,0,null,138736.89000000001,138736.88906837179,0,null,6864.3,6864.2999999999993,0,null,null,null,0,null,null,null,0,null,null,null,0,null,null,null,0,null,null,null,0,null,null,null,0,null,"NO",{"$f":"IF(ISERROR(VLOOKUP($A82+8860000,'Growth Data'!$A:$F,3,0)),\"NO\",VLOOKUP($A82+8860000,'Growth Data'!$A:$F,3,0))","v":"NO"},0,null,0,{"$f":"IF(DI82=\"YES\",IF(ISERROR(VLOOKUP($A82+8860000,'Growth Data'!$A:$F,6,0)),0,VLOOKUP($A82+8860000,'Growth Data'!$A:$F,6,0)),0)","v":0},0,null,0,{"$f":"IF(ISERROR(VLOOKUP($A82+8860000,'Growth Data'!$A:$Z,7,0)),0,VLOOKUP($A82+8860000,'Growth Data'!$A:$Z,7,0))","v":0},0,null,"NO",{"$f":"IF(ISERROR(VLOOKUP($A82+8860000,'Growth Data'!$A:$F,4,0)),\"NO\",VLOOKUP($A82+8860000,'Growth Data'!$A:$F,4,0))","v":"NO"},0,null,0,{"$f":"IF(ISERROR(VLOOKUP($A82+8860000,'Growth Data'!$A:$Z,8,0)),0,VLOOKUP($A82+8860000,'Growth Data'!$A:$Z,8,0))","v":0},0,null,0,{"$f":"IF(ISERROR(VLOOKUP($A82+8860000,'Growth Data'!$A:$Z,9,0)),0,VLOOKUP($A82+8860000,'Growth Data'!$A:$Z,9,0))","v":0},0,null,"NO",{"$f":"IF(ISERROR(VLOOKUP($A82+8860000,'Growth Data'!$A:$Z,5,0)),\"NO\",VLOOKUP($A82+8860000,'Growth Data'!$A:$Z,5,0))","v":"NO"},0,null,0,{"$f":"IF(ISERROR(VLOOKUP($A82+8860000,'Growth Data'!$A:$Z,10,0)),0,VLOOKUP($A82+8860000,'Growth Data'!$A:$Z,10,0))","v":0},0,null,0,{"$f":"IF(ISERROR(VLOOKUP($A82+8860000,'Growth Data'!$A:$Z,11,0)),0,VLOOKUP($A82+8860000,'Growth Data'!$A:$Z,11,0))","v":0},0]
[2340,"Ellington Infant School",null,"Ellington Infant School",null,1,null,352621.38,352621.38,0,null,68525.62,68525.620000000024,0,null,4481.75,4481.7471428571407,2.8571428592840675E-3,null,53536.19,53536.191428571423,-1.4285714205470867E-3,null,120084,120084,0,null,0,0,0,null,0,0,0,null,0,0,0,null,26880,26880,0,null,0,0,0,null,0,0,0,null,0,0,0,null,626128.93999999994,626128.93857142853,1.4285714132711291E-3,null,0,0,0,null,626128.93999999994,626128.93857142853,1.4285714132711291E-3,null,0,null,0,null,null,null,0,null,null,null,0,null,111603.9,111603.9008784367,0,null,2998.2,2998.2000000000003,0,null,null,null,0,null,null,null,0,null,null,null,0,null,null,null,0,null,null,null,0,null,null,null,0,null,"NO",{"$f":"IF(ISERROR(VLOOKUP($A83+8860000,'Growth Data'!$A:$F,3,0)),\"NO\",VLOOKUP($A83+8860000,'Growth Data'!$A:$F,3,0))","v":"NO"},0,null,0,{"$f":"IF(DI83=\"YES\",IF(ISERROR(VLOOKUP($A83+8860000,'Growth Data'!$A:$F,6,0)),0,VLOOKUP($A83+8860000,'Growth Data'!$A:$F,6,0)),0)","v":0},0,null,0,{"$f":"IF(ISERROR(VLOOKUP($A83+8860000,'Growth Data'!$A:$Z,7,0)),0,VLOOKUP($A83+8860000,'Growth Data'!$A:$Z,7,0))","v":0},0,null,"NO",{"$f":"IF(ISERROR(VLOOKUP($A83+8860000,'Growth Data'!$A:$F,4,0)),\"NO\",VLOOKUP($A83+8860000,'Growth Data'!$A:$F,4,0))","v":"NO"},0,null,0,{"$f":"IF(ISERROR(VLOOKUP($A83+8860000,'Growth Data'!$A:$Z,8,0)),0,VLOOKUP($A83+8860000,'Growth Data'!$A:$Z,8,0))","v":0},0,null,0,{"$f":"IF(ISERROR(VLOOKUP($A83+8860000,'Growth Data'!$A:$Z,9,0)),0,VLOOKUP($A83+8860000,'Growth Data'!$A:$Z,9,0))","v":0},0,null,"NO",{"$f":"IF(ISERROR(VLOOKUP($A83+8860000,'Growth Data'!$A:$Z,5,0)),\"NO\",VLOOKUP($A83+8860000,'Growth Data'!$A:$Z,5,0))","v":"NO"},0,null,0,{"$f":"IF(ISERROR(VLOOKUP($A83+8860000,'Growth Data'!$A:$Z,10,0)),0,VLOOKUP($A83+8860000,'Growth Data'!$A:$Z,10,0))","v":0},0,null,0,{"$f":"IF(ISERROR(VLOOKUP($A83+8860000,'Growth Data'!$A:$Z,11,0)),0,VLOOKUP($A83+8860000,'Growth Data'!$A:$Z,11,0))","v":0},0]
[2345,"Priory Infant School",null,"Priory Infant School",null,1,null,522745.73,522745.73000000004,0,null,82936.679999999993,82936.679999999964,0,null,12238.94,12238.935526315783,4.4736842173733748E-3,null,96021.92,96021.919259259244,7.4074075382668525E-4,null,120084,120084,0,null,0,0,0,null,0,0,0,null,0,0,0,null,30976,30976,0,null,0,0,0,null,0,0,0,null,0,0,0,null,865003.26,865003.2647855751,-4.7855750890448689E-3,null,0,0,0,null,865003.26,865003.2647855751,-4.7855750890448689E-3,null,0,null,0,null,null,null,0,null,null,null,0,null,175337.24,175337.23709258315,0,null,4444.7,4444.7,0,null,null,null,0,null,null,null,0,null,null,null,0,null,null,null,0,null,null,null,0,null,null,null,0,null,"NO",{"$f":"IF(ISERROR(VLOOKUP($A84+8860000,'Growth Data'!$A:$F,3,0)),\"NO\",VLOOKUP($A84+8860000,'Growth Data'!$A:$F,3,0))","v":"NO"},0,null,0,{"$f":"IF(DI84=\"YES\",IF(ISERROR(VLOOKUP($A84+8860000,'Growth Data'!$A:$F,6,0)),0,VLOOKUP($A84+8860000,'Growth Data'!$A:$F,6,0)),0)","v":0},0,null,0,{"$f":"IF(ISERROR(VLOOKUP($A84+8860000,'Growth Data'!$A:$Z,7,0)),0,VLOOKUP($A84+8860000,'Growth Data'!$A:$Z,7,0))","v":0},0,null,"NO",{"$f":"IF(ISERROR(VLOOKUP($A84+8860000,'Growth Data'!$A:$F,4,0)),\"NO\",VLOOKUP($A84+8860000,'Growth Data'!$A:$F,4,0))","v":"NO"},0,null,0,{"$f":"IF(ISERROR(VLOOKUP($A84+8860000,'Growth Data'!$A:$Z,8,0)),0,VLOOKUP($A84+8860000,'Growth Data'!$A:$Z,8,0))","v":0},0,null,0,{"$f":"IF(ISERROR(VLOOKUP($A84+8860000,'Growth Data'!$A:$Z,9,0)),0,VLOOKUP($A84+8860000,'Growth Data'!$A:$Z,9,0))","v":0},0,null,"NO",{"$f":"IF(ISERROR(VLOOKUP($A84+8860000,'Growth Data'!$A:$Z,5,0)),\"NO\",VLOOKUP($A84+8860000,'Growth Data'!$A:$Z,5,0))","v":"NO"},0,null,0,{"$f":"IF(ISERROR(VLOOKUP($A84+8860000,'Growth Data'!$A:$Z,10,0)),0,VLOOKUP($A84+8860000,'Growth Data'!$A:$Z,10,0))","v":0},0,null,0,{"$f":"IF(ISERROR(VLOOKUP($A84+8860000,'Growth Data'!$A:$Z,11,0)),0,VLOOKUP($A84+8860000,'Growth Data'!$A:$Z,11,0))","v":0},0]
[2431,"Shears Green Junior School",null,"Shears Green Junior School",null,1,null,1481628.43,1481628.43,0,null,149784.03,149784.03307053936,-3.0705393583048135E-3,null,11007.8,11007.799999999997,0,null,131218.46,131218.45749999999,2.5000000023283064E-3,null,120084,120084,0,null,0,0,0,null,0,0,0,null,0,0,0,null,21760,21760,0,null,0,0,0,null,0,0,0,null,108497.28,108497.27942946073,5.705392686650157E-4,null,2023980,2023980,0,null,0,0,0,null,2023980,2023980,0,null,0,null,0,null,null,null,0,null,null,null,0,null,358869.35,358869.35230700835,0,null,12597.7,12597.7,0,null,null,null,0,null,null,null,0,null,null,null,0,null,null,null,0,null,null,null,0,null,null,null,0,null,"NO",{"$f":"IF(ISERROR(VLOOKUP($A85+8860000,'Growth Data'!$A:$F,3,0)),\"NO\",VLOOKUP($A85+8860000,'Growth Data'!$A:$F,3,0))","v":"NO"},0,null,0,{"$f":"IF(DI85=\"YES\",IF(ISERROR(VLOOKUP($A85+8860000,'Growth Data'!$A:$F,6,0)),0,VLOOKUP($A85+8860000,'Growth Data'!$A:$F,6,0)),0)","v":0},0,null,0,{"$f":"IF(ISERROR(VLOOKUP($A85+8860000,'Growth Data'!$A:$Z,7,0)),0,VLOOKUP($A85+8860000,'Growth Data'!$A:$Z,7,0))","v":0},0,null,"NO",{"$f":"IF(ISERROR(VLOOKUP($A85+8860000,'Growth Data'!$A:$F,4,0)),\"NO\",VLOOKUP($A85+8860000,'Growth Data'!$A:$F,4,0))","v":"NO"},0,null,0,{"$f":"IF(ISERROR(VLOOKUP($A85+8860000,'Growth Data'!$A:$Z,8,0)),0,VLOOKUP($A85+8860000,'Growth Data'!$A:$Z,8,0))","v":0},0,null,0,{"$f":"IF(ISERROR(VLOOKUP($A85+8860000,'Growth Data'!$A:$Z,9,0)),0,VLOOKUP($A85+8860000,'Growth Data'!$A:$Z,9,0))","v":0},0,null,"NO",{"$f":"IF(ISERROR(VLOOKUP($A85+8860000,'Growth Data'!$A:$Z,5,0)),\"NO\",VLOOKUP($A85+8860000,'Growth Data'!$A:$Z,5,0))","v":"NO"},0,null,0,{"$f":"IF(ISERROR(VLOOKUP($A85+8860000,'Growth Data'!$A:$Z,10,0)),0,VLOOKUP($A85+8860000,'Growth Data'!$A:$Z,10,0))","v":0},0,null,0,{"$f":"IF(ISERROR(VLOOKUP($A85+8860000,'Growth Data'!$A:$Z,11,0)),0,VLOOKUP($A85+8860000,'Growth Data'!$A:$Z,11,0))","v":0},0]
[2434,"West Minster Primary School",null,"West Minster Primary School",null,1,null,1478535.26,1478535.26,0,null,409705.67,409705.67165938887,-1.6593888867646456E-3,null,5328.33,5328.3325569620192,-2.5569620192982256E-3,null,128500.22,128500.21738666666,2.613333344925195E-3,null,120084,120084,0,null,0,0,0,null,0,0,0,null,0,0,0,null,80384,80384,0,null,0,0,0,null,0,0,0,null,0,0,0,null,2222537.48,2222537.4816030175,-1.6030175611376762E-3,null,0,0,0,null,2222537.48,2222537.4816030175,-1.6030175611376762E-3,null,0,null,0,null,null,null,0,null,null,null,0,null,446197.28,446197.28391002567,0,null,12571.4,12571.400000000001,0,null,null,null,0,null,null,null,0,null,null,null,0,null,null,null,0,null,null,null,0,null,null,null,0,null,"NO",{"$f":"IF(ISERROR(VLOOKUP($A86+8860000,'Growth Data'!$A:$F,3,0)),\"NO\",VLOOKUP($A86+8860000,'Growth Data'!$A:$F,3,0))","v":"YES"},1,null,0,{"$f":"IF(DI86=\"YES\",IF(ISERROR(VLOOKUP($A86+8860000,'Growth Data'!$A:$F,6,0)),0,VLOOKUP($A86+8860000,'Growth Data'!$A:$F,6,0)),0)","v":60},-60,null,0,{"$f":"IF(ISERROR(VLOOKUP($A86+8860000,'Growth Data'!$A:$Z,7,0)),0,VLOOKUP($A86+8860000,'Growth Data'!$A:$Z,7,0))","v":90},1,null,"NO",{"$f":"IF(ISERROR(VLOOKUP($A86+8860000,'Growth Data'!$A:$F,4,0)),\"NO\",VLOOKUP($A86+8860000,'Growth Data'!$A:$F,4,0))","v":"YES"},1,null,0,{"$f":"IF(ISERROR(VLOOKUP($A86+8860000,'Growth Data'!$A:$Z,8,0)),0,VLOOKUP($A86+8860000,'Growth Data'!$A:$Z,8,0))","v":60},1,null,0,{"$f":"IF(ISERROR(VLOOKUP($A86+8860000,'Growth Data'!$A:$Z,9,0)),0,VLOOKUP($A86+8860000,'Growth Data'!$A:$Z,9,0))","v":90},1,null,"NO",{"$f":"IF(ISERROR(VLOOKUP($A86+8860000,'Growth Data'!$A:$Z,5,0)),\"NO\",VLOOKUP($A86+8860000,'Growth Data'!$A:$Z,5,0))","v":"NO"},0,null,0,{"$f":"IF(ISERROR(VLOOKUP($A86+8860000,'Growth Data'!$A:$Z,10,0)),0,VLOOKUP($A86+8860000,'Growth Data'!$A:$Z,10,0))","v":0},0,null,0,{"$f":"IF(ISERROR(VLOOKUP($A86+8860000,'Growth Data'!$A:$Z,11,0)),0,VLOOKUP($A86+8860000,'Growth Data'!$A:$Z,11,0))","v":0},0]
[2454,"Aycliffe Community Primary School",null,"Aycliffe Community Primary School",null,1,null,324782.84999999998,324782.85000000003,0,null,79377.789999999994,79377.786519230795,3.4807691990863532E-3,null,1905.2,1905.1961538461558,3.8461538442788878E-3,null,24081.46,24081.456976744186,3.0232558128773235E-3,null,120084,120084,0,null,0,0,0,null,0,0,0,null,0,0,0,null,22829,22829,0,null,0,0,0,null,0,0,0,null,0,0,0,null,573060.29,573060.28964982112,3.501789178699255E-4,null,4699.8900000000003,4699.8857985527138,4.2014472865048447E-3,null,577760.18000000005,577760.17544837389,4.5516261598095298E-3,null,0,null,0,null,null,null,0,null,null,null,0,null,95124.67,95124.667755382005,0,null,2761.5,2761.5,0,null,null,null,0,null,null,null,0,null,null,null,0,null,null,null,0,null,null,null,0,null,null,null,0,null,"NO",{"$f":"IF(ISERROR(VLOOKUP($A87+8860000,'Growth Data'!$A:$F,3,0)),\"NO\",VLOOKUP($A87+8860000,'Growth Data'!$A:$F,3,0))","v":"NO"},0,null,0,{"$f":"IF(DI87=\"YES\",IF(ISERROR(VLOOKUP($A87+8860000,'Growth Data'!$A:$F,6,0)),0,VLOOKUP($A87+8860000,'Growth Data'!$A:$F,6,0)),0)","v":0},0,null,0,{"$f":"IF(ISERROR(VLOOKUP($A87+8860000,'Growth Data'!$A:$Z,7,0)),0,VLOOKUP($A87+8860000,'Growth Data'!$A:$Z,7,0))","v":0},0,null,"NO",{"$f":"IF(ISERROR(VLOOKUP($A87+8860000,'Growth Data'!$A:$F,4,0)),\"NO\",VLOOKUP($A87+8860000,'Growth Data'!$A:$F,4,0))","v":"NO"},0,null,0,{"$f":"IF(ISERROR(VLOOKUP($A87+8860000,'Growth Data'!$A:$Z,8,0)),0,VLOOKUP($A87+8860000,'Growth Data'!$A:$Z,8,0))","v":0},0,null,0,{"$f":"IF(ISERROR(VLOOKUP($A87+8860000,'Growth Data'!$A:$Z,9,0)),0,VLOOKUP($A87+8860000,'Growth Data'!$A:$Z,9,0))","v":0},0,null,"YES",{"$f":"IF(ISERROR(VLOOKUP($A87+8860000,'Growth Data'!$A:$Z,5,0)),\"NO\",VLOOKUP($A87+8860000,'Growth Data'!$A:$Z,5,0))","v":"NO"},1,null,182,{"$f":"IF(ISERROR(VLOOKUP($A87+8860000,'Growth Data'!$A:$Z,10,0)),0,VLOOKUP($A87+8860000,'Growth Data'!$A:$Z,10,0))","v":0},1,null,205,{"$f":"IF(ISERROR(VLOOKUP($A87+8860000,'Growth Data'!$A:$Z,11,0)),0,VLOOKUP($A87+8860000,'Growth Data'!$A:$Z,11,0))","v":0},1]
[2459,"Riverhead Infants' School",null,"Riverhead Infants' School",null,1,null,832062.73,832062.73,0,null,7039.82,7039.8210486891439,-1.0486891442269552E-3,null,14061.08,14061.080837988819,-8.3798881860275287E-4,null,37702.129999999997,37702.132906976745,-2.9069767479086295E-3,null,120084,120084,0,null,0,0,0,null,37202.949999999997,37202.951344406494,-1.344406497082673E-3,null,0,0,0,null,38912,38912,0,null,0,0,0,null,0,0,0,null,76267.28,76267.283861938835,-3.8619388360530138E-3,null,1163332,1163332,0,null,0,0,0,null,1163332,1163332,0,null,0,null,0,null,null,null,0,null,null,null,0,null,139880.70000000001,139880.70472790609,0,null,7335.05,7335.0489600000001,0,null,null,null,0,null,null,null,0,null,null,null,0,null,null,null,0,null,null,null,0,null,null,null,0,null,"NO",{"$f":"IF(ISERROR(VLOOKUP($A88+8860000,'Growth Data'!$A:$F,3,0)),\"NO\",VLOOKUP($A88+8860000,'Growth Data'!$A:$F,3,0))","v":"NO"},0,null,0,{"$f":"IF(DI88=\"YES\",IF(ISERROR(VLOOKUP($A88+8860000,'Growth Data'!$A:$F,6,0)),0,VLOOKUP($A88+8860000,'Growth Data'!$A:$F,6,0)),0)","v":0},0,null,0,{"$f":"IF(ISERROR(VLOOKUP($A88+8860000,'Growth Data'!$A:$Z,7,0)),0,VLOOKUP($A88+8860000,'Growth Data'!$A:$Z,7,0))","v":0},0,null,"NO",{"$f":"IF(ISERROR(VLOOKUP($A88+8860000,'Growth Data'!$A:$F,4,0)),\"NO\",VLOOKUP($A88+8860000,'Growth Data'!$A:$F,4,0))","v":"NO"},0,null,0,{"$f":"IF(ISERROR(VLOOKUP($A88+8860000,'Growth Data'!$A:$Z,8,0)),0,VLOOKUP($A88+8860000,'Growth Data'!$A:$Z,8,0))","v":0},0,null,0,{"$f":"IF(ISERROR(VLOOKUP($A88+8860000,'Growth Data'!$A:$Z,9,0)),0,VLOOKUP($A88+8860000,'Growth Data'!$A:$Z,9,0))","v":0},0,null,"NO",{"$f":"IF(ISERROR(VLOOKUP($A88+8860000,'Growth Data'!$A:$Z,5,0)),\"NO\",VLOOKUP($A88+8860000,'Growth Data'!$A:$Z,5,0))","v":"NO"},0,null,0,{"$f":"IF(ISERROR(VLOOKUP($A88+8860000,'Growth Data'!$A:$Z,10,0)),0,VLOOKUP($A88+8860000,'Growth Data'!$A:$Z,10,0))","v":0},0,null,0,{"$f":"IF(ISERROR(VLOOKUP($A88+8860000,'Growth Data'!$A:$Z,11,0)),0,VLOOKUP($A88+8860000,'Growth Data'!$A:$Z,11,0))","v":0},0]
[2465,"Claremont Primary School",null,"Claremont Primary School",null,1,null,1330063.1000000001,1330063.1000000001,0,null,10495.12,10495.119724770646,2.7522935488377698E-4,null,37738.9,37738.903513513404,-3.5135134021402337E-3,null,71588.289999999994,71588.288674033145,1.32596684852615E-3,null,120084,120084,0,null,0,0,0,null,0,0,0,null,0,0,0,null,38656,38656,0,null,0,0,0,null,0,0,0,null,227430.59,227430.58808768273,1.912317267851904E-3,null,1836056,1836056,0,null,0,0,0,null,1836056,1836056,0,null,0,null,0,null,null,null,0,null,null,null,0,null,348884.76,348884.76230700809,0,null,11309,11309,0,null,null,null,0,null,null,null,0,null,null,null,0,null,null,null,0,null,null,null,0,null,null,null,0,null,"NO",{"$f":"IF(ISERROR(VLOOKUP($A89+8860000,'Growth Data'!$A:$F,3,0)),\"NO\",VLOOKUP($A89+8860000,'Growth Data'!$A:$F,3,0))","v":"NO"},0,null,0,{"$f":"IF(DI89=\"YES\",IF(ISERROR(VLOOKUP($A89+8860000,'Growth Data'!$A:$F,6,0)),0,VLOOKUP($A89+8860000,'Growth Data'!$A:$F,6,0)),0)","v":0},0,null,0,{"$f":"IF(ISERROR(VLOOKUP($A89+8860000,'Growth Data'!$A:$Z,7,0)),0,VLOOKUP($A89+8860000,'Growth Data'!$A:$Z,7,0))","v":0},0,null,"NO",{"$f":"IF(ISERROR(VLOOKUP($A89+8860000,'Growth Data'!$A:$F,4,0)),\"NO\",VLOOKUP($A89+8860000,'Growth Data'!$A:$F,4,0))","v":"NO"},0,null,0,{"$f":"IF(ISERROR(VLOOKUP($A89+8860000,'Growth Data'!$A:$Z,8,0)),0,VLOOKUP($A89+8860000,'Growth Data'!$A:$Z,8,0))","v":0},0,null,0,{"$f":"IF(ISERROR(VLOOKUP($A89+8860000,'Growth Data'!$A:$Z,9,0)),0,VLOOKUP($A89+8860000,'Growth Data'!$A:$Z,9,0))","v":0},0,null,"NO",{"$f":"IF(ISERROR(VLOOKUP($A89+8860000,'Growth Data'!$A:$Z,5,0)),\"NO\",VLOOKUP($A89+8860000,'Growth Data'!$A:$Z,5,0))","v":"NO"},0,null,0,{"$f":"IF(ISERROR(VLOOKUP($A89+8860000,'Growth Data'!$A:$Z,10,0)),0,VLOOKUP($A89+8860000,'Growth Data'!$A:$Z,10,0))","v":0},0,null,0,{"$f":"IF(ISERROR(VLOOKUP($A89+8860000,'Growth Data'!$A:$Z,11,0)),0,VLOOKUP($A89+8860000,'Growth Data'!$A:$Z,11,0))","v":0},0]
[2471,"Whitfield Aspen School",null,"Whitfield Aspen School",null,1,null,1571330.36,1571330.36,0,null,209988.86,209988.85999999996,0,null,5865.69,5865.6948251748317,-4.8251748321490595E-3,null,232630.34,232630.33552238805,4.4776119466405362E-3,null,120084,120084,0,null,0,0,0,null,0,0,0,null,33000,33000,0,null,65024,65024,0,null,0,0,0,null,0,0,0,null,0,0,0,null,2237923.25,2237923.2503475631,-3.4756306558847427E-4,null,0,0,0,null,2237923.25,2237923.2503475631,-3.4756306558847427E-4,null,0,null,0,null,null,null,0,null,null,null,0,null,385211.63,385211.63265457103,0,null,13360.4,13360.4,0,null,null,null,0,null,null,null,0,null,null,null,0,null,null,null,0,null,null,null,0,null,null,null,0,null,"NO",{"$f":"IF(ISERROR(VLOOKUP($A90+8860000,'Growth Data'!$A:$F,3,0)),\"NO\",VLOOKUP($A90+8860000,'Growth Data'!$A:$F,3,0))","v":"YES"},1,null,0,{"$f":"IF(DI90=\"YES\",IF(ISERROR(VLOOKUP($A90+8860000,'Growth Data'!$A:$F,6,0)),0,VLOOKUP($A90+8860000,'Growth Data'!$A:$F,6,0)),0)","v":67},-67,null,0,{"$f":"IF(ISERROR(VLOOKUP($A90+8860000,'Growth Data'!$A:$Z,7,0)),0,VLOOKUP($A90+8860000,'Growth Data'!$A:$Z,7,0))","v":82},1,null,"NO",{"$f":"IF(ISERROR(VLOOKUP($A90+8860000,'Growth Data'!$A:$F,4,0)),\"NO\",VLOOKUP($A90+8860000,'Growth Data'!$A:$F,4,0))","v":"YES"},1,null,0,{"$f":"IF(ISERROR(VLOOKUP($A90+8860000,'Growth Data'!$A:$Z,8,0)),0,VLOOKUP($A90+8860000,'Growth Data'!$A:$Z,8,0))","v":71},1,null,0,{"$f":"IF(ISERROR(VLOOKUP($A90+8860000,'Growth Data'!$A:$Z,9,0)),0,VLOOKUP($A90+8860000,'Growth Data'!$A:$Z,9,0))","v":82},1,null,"NO",{"$f":"IF(ISERROR(VLOOKUP($A90+8860000,'Growth Data'!$A:$Z,5,0)),\"NO\",VLOOKUP($A90+8860000,'Growth Data'!$A:$Z,5,0))","v":"NO"},0,null,0,{"$f":"IF(ISERROR(VLOOKUP($A90+8860000,'Growth Data'!$A:$Z,10,0)),0,VLOOKUP($A90+8860000,'Growth Data'!$A:$Z,10,0))","v":0},0,null,0,{"$f":"IF(ISERROR(VLOOKUP($A90+8860000,'Growth Data'!$A:$Z,11,0)),0,VLOOKUP($A90+8860000,'Growth Data'!$A:$Z,11,0))","v":0},0]
[2474,"St Paul's Infant School",null,"St Paul's Infant School",null,1,null,776385.67,776385.67,0,null,59398.23,59398.23000000004,0,null,50313.120000000003,50313.120432098825,-4.3209882278461009E-4,null,67817.66,67817.655616438351,4.3835616525029764E-3,null,120084,120084,0,null,0,0,0,null,0,0,0,null,0,0,0,null,11477,11477,0,null,0,0,0,null,0,0,0,null,0,0,0,null,1085475.68,1085475.6760485373,3.951462684199214E-3,null,0,0,0,null,1085475.68,1085475.6760485373,3.951462684199214E-3,null,0,null,0,null,null,null,0,null,null,null,0,null,158906.79,158906.78835554532,0,null,6601.3,6601.2999999999993,0,null,null,null,0,null,null,null,0,null,null,null,0,null,null,null,0,null,null,null,0,null,null,null,0,null,"NO",{"$f":"IF(ISERROR(VLOOKUP($A91+8860000,'Growth Data'!$A:$F,3,0)),\"NO\",VLOOKUP($A91+8860000,'Growth Data'!$A:$F,3,0))","v":"NO"},0,null,0,{"$f":"IF(DI91=\"YES\",IF(ISERROR(VLOOKUP($A91+8860000,'Growth Data'!$A:$F,6,0)),0,VLOOKUP($A91+8860000,'Growth Data'!$A:$F,6,0)),0)","v":0},0,null,0,{"$f":"IF(ISERROR(VLOOKUP($A91+8860000,'Growth Data'!$A:$Z,7,0)),0,VLOOKUP($A91+8860000,'Growth Data'!$A:$Z,7,0))","v":0},0,null,"NO",{"$f":"IF(ISERROR(VLOOKUP($A91+8860000,'Growth Data'!$A:$F,4,0)),\"NO\",VLOOKUP($A91+8860000,'Growth Data'!$A:$F,4,0))","v":"NO"},0,null,0,{"$f":"IF(ISERROR(VLOOKUP($A91+8860000,'Growth Data'!$A:$Z,8,0)),0,VLOOKUP($A91+8860000,'Growth Data'!$A:$Z,8,0))","v":0},0,null,0,{"$f":"IF(ISERROR(VLOOKUP($A91+8860000,'Growth Data'!$A:$Z,9,0)),0,VLOOKUP($A91+8860000,'Growth Data'!$A:$Z,9,0))","v":0},0,null,"NO",{"$f":"IF(ISERROR(VLOOKUP($A91+8860000,'Growth Data'!$A:$Z,5,0)),\"NO\",VLOOKUP($A91+8860000,'Growth Data'!$A:$Z,5,0))","v":"NO"},0,null,0,{"$f":"IF(ISERROR(VLOOKUP($A91+8860000,'Growth Data'!$A:$Z,10,0)),0,VLOOKUP($A91+8860000,'Growth Data'!$A:$Z,10,0))","v":0},0,null,0,{"$f":"IF(ISERROR(VLOOKUP($A91+8860000,'Growth Data'!$A:$Z,11,0)),0,VLOOKUP($A91+8860000,'Growth Data'!$A:$Z,11,0))","v":0},0]
[2482,"Langton Green Primary School",null,"Langton Green Primary School",null,1,null,1286758.72,1286758.72,0,null,17762.189999999999,17762.185680190942,4.3198090570513159E-3,null,5788.37,5788.3712359550573,-1.2359550573819433E-3,null,66063.81,66063.814492753634,-4.4927536364411935E-3,null,120084,120084,0,null,0,0,0,null,0,0,0,null,0,0,0,null,39168,39168,0,null,0,0,0,null,0,0,0,null,242422.91,242422.90859110042,1.4088995812926441E-3,null,1778048,1778048.0000000002,0,null,0,0,0,null,1778048,1778048.0000000002,0,null,0,null,0,null,null,null,0,null,null,null,0,null,331827.86,331827.86230700818,0,null,10940.8,10940.8,0,null,null,null,0,null,null,null,0,null,null,null,0,null,null,null,0,null,null,null,0,null,null,null,0,null,"NO",{"$f":"IF(ISERROR(VLOOKUP($A92+8860000,'Growth Data'!$A:$F,3,0)),\"NO\",VLOOKUP($A92+8860000,'Growth Data'!$A:$F,3,0))","v":"NO"},0,null,0,{"$f":"IF(DI92=\"YES\",IF(ISERROR(VLOOKUP($A92+8860000,'Growth Data'!$A:$F,6,0)),0,VLOOKUP($A92+8860000,'Growth Data'!$A:$F,6,0)),0)","v":0},0,null,0,{"$f":"IF(ISERROR(VLOOKUP($A92+8860000,'Growth Data'!$A:$Z,7,0)),0,VLOOKUP($A92+8860000,'Growth Data'!$A:$Z,7,0))","v":0},0,null,"NO",{"$f":"IF(ISERROR(VLOOKUP($A92+8860000,'Growth Data'!$A:$F,4,0)),\"NO\",VLOOKUP($A92+8860000,'Growth Data'!$A:$F,4,0))","v":"NO"},0,null,0,{"$f":"IF(ISERROR(VLOOKUP($A92+8860000,'Growth Data'!$A:$Z,8,0)),0,VLOOKUP($A92+8860000,'Growth Data'!$A:$Z,8,0))","v":0},0,null,0,{"$f":"IF(ISERROR(VLOOKUP($A92+8860000,'Growth Data'!$A:$Z,9,0)),0,VLOOKUP($A92+8860000,'Growth Data'!$A:$Z,9,0))","v":0},0,null,"NO",{"$f":"IF(ISERROR(VLOOKUP($A92+8860000,'Growth Data'!$A:$Z,5,0)),\"NO\",VLOOKUP($A92+8860000,'Growth Data'!$A:$Z,5,0))","v":"NO"},0,null,0,{"$f":"IF(ISERROR(VLOOKUP($A92+8860000,'Growth Data'!$A:$Z,10,0)),0,VLOOKUP($A92+8860000,'Growth Data'!$A:$Z,10,0))","v":0},0,null,0,{"$f":"IF(ISERROR(VLOOKUP($A92+8860000,'Growth Data'!$A:$Z,11,0)),0,VLOOKUP($A92+8860000,'Growth Data'!$A:$Z,11,0))","v":0},0]
[2490,"Bishops Down Primary School",null,"Bishops Down Primary School",null,1,null,640286.18999999994,640286.19000000006,0,null,33746.42,33746.418932038825,1.0679611732484773E-3,null,9062.67,9062.6717045454498,-1.704545449683792E-3,null,52143.54,52143.53793103448,2.0689655211754143E-3,null,120084,120084,0,null,0,0,0,null,0,0,0,null,0,0,0,null,31232,31232,0,null,0,0,0,null,0,0,0,null,9937.18,9937.181432381185,-1.4323811847134493E-3,null,896492,896492,0,null,0,0,0,null,896492,896492,0,null,0,null,0,null,null,null,0,null,null,null,0,null,97315.27,97315.272307008097,0,null,5444.1,5444.1,0,null,null,null,0,null,null,null,0,null,null,null,0,null,null,null,0,null,null,null,0,null,null,null,0,null,"NO",{"$f":"IF(ISERROR(VLOOKUP($A93+8860000,'Growth Data'!$A:$F,3,0)),\"NO\",VLOOKUP($A93+8860000,'Growth Data'!$A:$F,3,0))","v":"NO"},0,null,0,{"$f":"IF(DI93=\"YES\",IF(ISERROR(VLOOKUP($A93+8860000,'Growth Data'!$A:$F,6,0)),0,VLOOKUP($A93+8860000,'Growth Data'!$A:$F,6,0)),0)","v":0},0,null,0,{"$f":"IF(ISERROR(VLOOKUP($A93+8860000,'Growth Data'!$A:$Z,7,0)),0,VLOOKUP($A93+8860000,'Growth Data'!$A:$Z,7,0))","v":0},0,null,"NO",{"$f":"IF(ISERROR(VLOOKUP($A93+8860000,'Growth Data'!$A:$F,4,0)),\"NO\",VLOOKUP($A93+8860000,'Growth Data'!$A:$F,4,0))","v":"NO"},0,null,0,{"$f":"IF(ISERROR(VLOOKUP($A93+8860000,'Growth Data'!$A:$Z,8,0)),0,VLOOKUP($A93+8860000,'Growth Data'!$A:$Z,8,0))","v":0},0,null,0,{"$f":"IF(ISERROR(VLOOKUP($A93+8860000,'Growth Data'!$A:$Z,9,0)),0,VLOOKUP($A93+8860000,'Growth Data'!$A:$Z,9,0))","v":0},0,null,"YES",{"$f":"IF(ISERROR(VLOOKUP($A93+8860000,'Growth Data'!$A:$Z,5,0)),\"NO\",VLOOKUP($A93+8860000,'Growth Data'!$A:$Z,5,0))","v":"NO"},1,null,154,{"$f":"IF(ISERROR(VLOOKUP($A93+8860000,'Growth Data'!$A:$Z,10,0)),0,VLOOKUP($A93+8860000,'Growth Data'!$A:$Z,10,0))","v":0},1,null,180,{"$f":"IF(ISERROR(VLOOKUP($A93+8860000,'Growth Data'!$A:$Z,11,0)),0,VLOOKUP($A93+8860000,'Growth Data'!$A:$Z,11,0))","v":0},1]
[2509,"Singlewell Primary School",null,"Singlewell Primary School",null,1,null,1076423.1599999999,1076423.1599999999,0,null,73992.13,73992.13210374632,-2.103746315697208E-3,null,20545.349999999999,20545.354048442874,-4.0484428755007684E-3,null,96992.83,96992.826062717766,3.9372822357108817E-3,null,120084,120084,0,null,0,0,0,null,0,0,0,null,0,0,0,null,51712,51712,0,null,0,0,0,null,0,0,0,null,66602.53,66602.527785093174,2.2149068245198578E-3,null,1506352,1506352,0,null,0,0,0,null,1506352,1506352,0,null,0,null,0,null,null,null,0,null,null,null,0,null,236748.7,236748.70230700832,0,null,9152.4,9152.4000000000015,0,null,null,null,0,null,null,null,0,null,null,null,0,null,null,null,0,null,null,null,0,null,null,null,0,null,"NO",{"$f":"IF(ISERROR(VLOOKUP($A94+8860000,'Growth Data'!$A:$F,3,0)),\"NO\",VLOOKUP($A94+8860000,'Growth Data'!$A:$F,3,0))","v":"YES"},1,null,0,{"$f":"IF(DI94=\"YES\",IF(ISERROR(VLOOKUP($A94+8860000,'Growth Data'!$A:$F,6,0)),0,VLOOKUP($A94+8860000,'Growth Data'!$A:$F,6,0)),0)","v":30},-30,null,0,{"$f":"IF(ISERROR(VLOOKUP($A94+8860000,'Growth Data'!$A:$Z,7,0)),0,VLOOKUP($A94+8860000,'Growth Data'!$A:$Z,7,0))","v":60},1,null,"NO",{"$f":"IF(ISERROR(VLOOKUP($A94+8860000,'Growth Data'!$A:$F,4,0)),\"NO\",VLOOKUP($A94+8860000,'Growth Data'!$A:$F,4,0))","v":"YES"},1,null,0,{"$f":"IF(ISERROR(VLOOKUP($A94+8860000,'Growth Data'!$A:$Z,8,0)),0,VLOOKUP($A94+8860000,'Growth Data'!$A:$Z,8,0))","v":30},1,null,0,{"$f":"IF(ISERROR(VLOOKUP($A94+8860000,'Growth Data'!$A:$Z,9,0)),0,VLOOKUP($A94+8860000,'Growth Data'!$A:$Z,9,0))","v":60},1,null,"NO",{"$f":"IF(ISERROR(VLOOKUP($A94+8860000,'Growth Data'!$A:$Z,5,0)),\"NO\",VLOOKUP($A94+8860000,'Growth Data'!$A:$Z,5,0))","v":"NO"},0,null,0,{"$f":"IF(ISERROR(VLOOKUP($A94+8860000,'Growth Data'!$A:$Z,10,0)),0,VLOOKUP($A94+8860000,'Growth Data'!$A:$Z,10,0))","v":0},0,null,0,{"$f":"IF(ISERROR(VLOOKUP($A94+8860000,'Growth Data'!$A:$Z,11,0)),0,VLOOKUP($A94+8860000,'Growth Data'!$A:$Z,11,0))","v":0},0]
[2510,"Cheriton Primary School",null,"Cheriton Primary School",null,1,null,1305317.74,1305317.74,0,null,98496.99,98496.991547344151,-1.5473441453650594E-3,null,38920.01,38920.010702702799,-7.0270279684336856E-4,null,113244.48,113244.4751020408,4.8979591956594959E-3,null,120084,120084,0,null,0,0,0,null,0,0,0,null,0,0,0,null,8909,8909,0,null,0,0,0,null,0,0,0,null,87896.78,87896.782647912274,-2.6479122752789408E-3,null,1772869,1772869.0000000005,0,null,0,0,0,null,1772869,1772869.0000000005,0,null,0,null,0,null,null,null,0,null,null,null,0,null,307047.08,307047.08230700815,0,null,11098.6,11098.599999999999,0,null,null,null,0,null,null,null,0,null,null,null,0,null,null,null,0,null,null,null,0,null,null,null,0,null,"NO",{"$f":"IF(ISERROR(VLOOKUP($A95+8860000,'Growth Data'!$A:$F,3,0)),\"NO\",VLOOKUP($A95+8860000,'Growth Data'!$A:$F,3,0))","v":"NO"},0,null,0,{"$f":"IF(DI95=\"YES\",IF(ISERROR(VLOOKUP($A95+8860000,'Growth Data'!$A:$F,6,0)),0,VLOOKUP($A95+8860000,'Growth Data'!$A:$F,6,0)),0)","v":0},0,null,0,{"$f":"IF(ISERROR(VLOOKUP($A95+8860000,'Growth Data'!$A:$Z,7,0)),0,VLOOKUP($A95+8860000,'Growth Data'!$A:$Z,7,0))","v":0},0,null,"NO",{"$f":"IF(ISERROR(VLOOKUP($A95+8860000,'Growth Data'!$A:$F,4,0)),\"NO\",VLOOKUP($A95+8860000,'Growth Data'!$A:$F,4,0))","v":"NO"},0,null,0,{"$f":"IF(ISERROR(VLOOKUP($A95+8860000,'Growth Data'!$A:$Z,8,0)),0,VLOOKUP($A95+8860000,'Growth Data'!$A:$Z,8,0))","v":0},0,null,0,{"$f":"IF(ISERROR(VLOOKUP($A95+8860000,'Growth Data'!$A:$Z,9,0)),0,VLOOKUP($A95+8860000,'Growth Data'!$A:$Z,9,0))","v":0},0,null,"NO",{"$f":"IF(ISERROR(VLOOKUP($A95+8860000,'Growth Data'!$A:$Z,5,0)),\"NO\",VLOOKUP($A95+8860000,'Growth Data'!$A:$Z,5,0))","v":"NO"},0,null,0,{"$f":"IF(ISERROR(VLOOKUP($A95+8860000,'Growth Data'!$A:$Z,10,0)),0,VLOOKUP($A95+8860000,'Growth Data'!$A:$Z,10,0))","v":0},0,null,0,{"$f":"IF(ISERROR(VLOOKUP($A95+8860000,'Growth Data'!$A:$Z,11,0)),0,VLOOKUP($A95+8860000,'Growth Data'!$A:$Z,11,0))","v":0},0]
[2514,"Brookfield Infant School",null,"Brookfield Infant School",null,1,null,547491.09,547491.09,0,null,56138.96,56138.960000000014,0,null,4059.13,4059.126250000003,3.7499999971259967E-3,null,61417.91,61417.908499999998,1.5000000057625584E-3,null,120084,120084,0,null,0,0,0,null,0,0,0,null,0,0,0,null,20210,20210,0,null,0,0,0,null,0,0,0,null,0,0,0,null,809401.08,809401.08474999992,-4.7499999636784196E-3,null,0,0,0,null,809401.08,809401.08474999992,-4.7499999636784196E-3,null,0,null,0,null,null,null,0,null,null,null,0,null,107136.66,107136.65705700818,0,null,4655.1000000000004,4655.1000000000004,0,null,null,null,0,null,null,null,0,null,null,null,0,null,null,null,0,null,null,null,0,null,null,null,0,null,"NO",{"$f":"IF(ISERROR(VLOOKUP($A96+8860000,'Growth Data'!$A:$F,3,0)),\"NO\",VLOOKUP($A96+8860000,'Growth Data'!$A:$F,3,0))","v":"NO"},0,null,0,{"$f":"IF(DI96=\"YES\",IF(ISERROR(VLOOKUP($A96+8860000,'Growth Data'!$A:$F,6,0)),0,VLOOKUP($A96+8860000,'Growth Data'!$A:$F,6,0)),0)","v":0},0,null,0,{"$f":"IF(ISERROR(VLOOKUP($A96+8860000,'Growth Data'!$A:$Z,7,0)),0,VLOOKUP($A96+8860000,'Growth Data'!$A:$Z,7,0))","v":0},0,null,"NO",{"$f":"IF(ISERROR(VLOOKUP($A96+8860000,'Growth Data'!$A:$F,4,0)),\"NO\",VLOOKUP($A96+8860000,'Growth Data'!$A:$F,4,0))","v":"NO"},0,null,0,{"$f":"IF(ISERROR(VLOOKUP($A96+8860000,'Growth Data'!$A:$Z,8,0)),0,VLOOKUP($A96+8860000,'Growth Data'!$A:$Z,8,0))","v":0},0,null,0,{"$f":"IF(ISERROR(VLOOKUP($A96+8860000,'Growth Data'!$A:$Z,9,0)),0,VLOOKUP($A96+8860000,'Growth Data'!$A:$Z,9,0))","v":0},0,null,"NO",{"$f":"IF(ISERROR(VLOOKUP($A96+8860000,'Growth Data'!$A:$Z,5,0)),\"NO\",VLOOKUP($A96+8860000,'Growth Data'!$A:$Z,5,0))","v":"NO"},0,null,0,{"$f":"IF(ISERROR(VLOOKUP($A96+8860000,'Growth Data'!$A:$Z,10,0)),0,VLOOKUP($A96+8860000,'Growth Data'!$A:$Z,10,0))","v":0},0,null,0,{"$f":"IF(ISERROR(VLOOKUP($A96+8860000,'Growth Data'!$A:$Z,11,0)),0,VLOOKUP($A96+8860000,'Growth Data'!$A:$Z,11,0))","v":0},0]
[2519,"Vigo Village School",null,"Vigo Village School",null,1,null,535118.41,535118.41,0,null,22336.49,22336.489999999932,6.9121597334742546E-11,null,1212.96,1212.9614012738841,-1.4012738840847305E-3,null,48961.33,48961.325761589396,4.2384106054669246E-3,null,120084,120084,0,null,0,0,0,null,0,0,0,null,0,0,0,null,22081,22081,0,null,0,0,0,null,0,0,0,null,0,0,0,null,749794.19,749794.18716286309,2.8371368534862995E-3,null,0,0,0,null,749794.19,749794.18716286309,2.8371368534862995E-3,null,0,null,0,null,null,null,0,null,null,null,0,null,68618.8,68618.799469871403,0,null,4549.8999999999996,4549.8999999999996,0,null,null,null,0,null,null,null,0,null,null,null,0,null,null,null,0,null,null,null,0,null,null,null,0,null,"NO",{"$f":"IF(ISERROR(VLOOKUP($A97+8860000,'Growth Data'!$A:$F,3,0)),\"NO\",VLOOKUP($A97+8860000,'Growth Data'!$A:$F,3,0))","v":"NO"},0,null,0,{"$f":"IF(DI97=\"YES\",IF(ISERROR(VLOOKUP($A97+8860000,'Growth Data'!$A:$F,6,0)),0,VLOOKUP($A97+8860000,'Growth Data'!$A:$F,6,0)),0)","v":0},0,null,0,{"$f":"IF(ISERROR(VLOOKUP($A97+8860000,'Growth Data'!$A:$Z,7,0)),0,VLOOKUP($A97+8860000,'Growth Data'!$A:$Z,7,0))","v":0},0,null,"NO",{"$f":"IF(ISERROR(VLOOKUP($A97+8860000,'Growth Data'!$A:$F,4,0)),\"NO\",VLOOKUP($A97+8860000,'Growth Data'!$A:$F,4,0))","v":"NO"},0,null,0,{"$f":"IF(ISERROR(VLOOKUP($A97+8860000,'Growth Data'!$A:$Z,8,0)),0,VLOOKUP($A97+8860000,'Growth Data'!$A:$Z,8,0))","v":0},0,null,0,{"$f":"IF(ISERROR(VLOOKUP($A97+8860000,'Growth Data'!$A:$Z,9,0)),0,VLOOKUP($A97+8860000,'Growth Data'!$A:$Z,9,0))","v":0},0,null,"NO",{"$f":"IF(ISERROR(VLOOKUP($A97+8860000,'Growth Data'!$A:$Z,5,0)),\"NO\",VLOOKUP($A97+8860000,'Growth Data'!$A:$Z,5,0))","v":"NO"},0,null,0,{"$f":"IF(ISERROR(VLOOKUP($A97+8860000,'Growth Data'!$A:$Z,10,0)),0,VLOOKUP($A97+8860000,'Growth Data'!$A:$Z,10,0))","v":0},0,null,0,{"$f":"IF(ISERROR(VLOOKUP($A97+8860000,'Growth Data'!$A:$Z,11,0)),0,VLOOKUP($A97+8860000,'Growth Data'!$A:$Z,11,0))","v":0},0]
[2520,"Madginford Primary School",null,"Madginford Primary School",null,1,null,1939417.59,1939417.59,0,null,79432.7,79432.696760583058,3.2394169393228367E-3,null,19847.740000000002,19847.737346938775,2.6530612267379183E-3,null,116427.09,116427.09290502792,-2.9050279263174161E-3,null,120084,120084,0,null,0,0,0,null,0,0,0,null,0,0,0,null,58880,58880,0,null,0,0,0,null,0,0,0,null,345650.88,345650.88298745011,-2.987450105138123E-3,null,2679740,2679740,0,null,0,0,0,null,2679740,2679740,0,null,0,null,0,null,null,null,0,null,null,null,0,null,551942.59,551942.59230700799,0,null,16490.099999999999,16490.099999999999,0,null,null,null,0,null,null,null,0,null,null,null,0,null,null,null,0,null,null,null,0,null,null,null,0,null,"NO",{"$f":"IF(ISERROR(VLOOKUP($A98+8860000,'Growth Data'!$A:$F,3,0)),\"NO\",VLOOKUP($A98+8860000,'Growth Data'!$A:$F,3,0))","v":"NO"},0,null,0,{"$f":"IF(DI98=\"YES\",IF(ISERROR(VLOOKUP($A98+8860000,'Growth Data'!$A:$F,6,0)),0,VLOOKUP($A98+8860000,'Growth Data'!$A:$F,6,0)),0)","v":0},0,null,0,{"$f":"IF(ISERROR(VLOOKUP($A98+8860000,'Growth Data'!$A:$Z,7,0)),0,VLOOKUP($A98+8860000,'Growth Data'!$A:$Z,7,0))","v":0},0,null,"NO",{"$f":"IF(ISERROR(VLOOKUP($A98+8860000,'Growth Data'!$A:$F,4,0)),\"NO\",VLOOKUP($A98+8860000,'Growth Data'!$A:$F,4,0))","v":"NO"},0,null,0,{"$f":"IF(ISERROR(VLOOKUP($A98+8860000,'Growth Data'!$A:$Z,8,0)),0,VLOOKUP($A98+8860000,'Growth Data'!$A:$Z,8,0))","v":0},0,null,0,{"$f":"IF(ISERROR(VLOOKUP($A98+8860000,'Growth Data'!$A:$Z,9,0)),0,VLOOKUP($A98+8860000,'Growth Data'!$A:$Z,9,0))","v":0},0,null,"NO",{"$f":"IF(ISERROR(VLOOKUP($A98+8860000,'Growth Data'!$A:$Z,5,0)),\"NO\",VLOOKUP($A98+8860000,'Growth Data'!$A:$Z,5,0))","v":"NO"},0,null,0,{"$f":"IF(ISERROR(VLOOKUP($A98+8860000,'Growth Data'!$A:$Z,10,0)),0,VLOOKUP($A98+8860000,'Growth Data'!$A:$Z,10,0))","v":0},0,null,0,{"$f":"IF(ISERROR(VLOOKUP($A98+8860000,'Growth Data'!$A:$Z,11,0)),0,VLOOKUP($A98+8860000,'Growth Data'!$A:$Z,11,0))","v":0},0]
[2524,"Palmarsh Primary School",null,"Palmarsh Primary School",null,1,null,507279.88,507279.88,0,null,45772.86,45772.864709677444,-4.7096774433157407E-3,null,1934.23,1934.2277142857117,2.285714288291274E-3,null,50267.49,50267.490909090913,-9.0909091522917151E-4,null,120084,120084,0,null,0,0,0,null,0,0,0,null,0,0,0,null,16218,16218,0,null,0,0,0,null,0,0,0,null,0,0,0,null,741556.46,741556.4633330541,-3.3330541336908937E-3,null,0,0,0,null,741556.46,741556.4633330541,-3.3330541336908937E-3,null,0,null,0,null,null,null,0,null,null,null,0,null,86717.49,86717.485640062208,0,null,4313.2,4313.2,0,null,null,null,0,null,null,null,0,null,null,null,0,null,null,null,0,null,null,null,0,null,null,null,0,null,"YES",{"$f":"IF(ISERROR(VLOOKUP($A99+8860000,'Growth Data'!$A:$F,3,0)),\"NO\",VLOOKUP($A99+8860000,'Growth Data'!$A:$F,3,0))","v":"NO"},1,null,30,{"$f":"IF(DI99=\"YES\",IF(ISERROR(VLOOKUP($A99+8860000,'Growth Data'!$A:$F,6,0)),0,VLOOKUP($A99+8860000,'Growth Data'!$A:$F,6,0)),0)","v":0},30,null,60,{"$f":"IF(ISERROR(VLOOKUP($A99+8860000,'Growth Data'!$A:$Z,7,0)),0,VLOOKUP($A99+8860000,'Growth Data'!$A:$Z,7,0))","v":0},1,null,"YES",{"$f":"IF(ISERROR(VLOOKUP($A99+8860000,'Growth Data'!$A:$F,4,0)),\"NO\",VLOOKUP($A99+8860000,'Growth Data'!$A:$F,4,0))","v":"NO"},1,null,30,{"$f":"IF(ISERROR(VLOOKUP($A99+8860000,'Growth Data'!$A:$Z,8,0)),0,VLOOKUP($A99+8860000,'Growth Data'!$A:$Z,8,0))","v":0},1,null,60,{"$f":"IF(ISERROR(VLOOKUP($A99+8860000,'Growth Data'!$A:$Z,9,0)),0,VLOOKUP($A99+8860000,'Growth Data'!$A:$Z,9,0))","v":0},1,null,"YES",{"$f":"IF(ISERROR(VLOOKUP($A99+8860000,'Growth Data'!$A:$Z,5,0)),\"NO\",VLOOKUP($A99+8860000,'Growth Data'!$A:$Z,5,0))","v":"NO"},1,null,30,{"$f":"IF(ISERROR(VLOOKUP($A99+8860000,'Growth Data'!$A:$Z,10,0)),0,VLOOKUP($A99+8860000,'Growth Data'!$A:$Z,10,0))","v":0},1,null,60,{"$f":"IF(ISERROR(VLOOKUP($A99+8860000,'Growth Data'!$A:$Z,11,0)),0,VLOOKUP($A99+8860000,'Growth Data'!$A:$Z,11,0))","v":0},1]
[2525,"Painters Ash Primary School",null,"Painters Ash Primary School",null,1,null,1243454.3400000001,1243454.3400000001,0,null,129635.93,129635.92999999998,0,null,25727.53,25727.532558139566,-2.5581395675544627E-3,null,110124.89,110124.88499999999,5.0000000046566129E-3,null,120084,120084,0,null,0,0,0,null,0,0,0,null,0,0,0,null,41728,41728,0,null,0,0,0,null,0,0,0,null,51333.31,51333.312441860326,-2.441860327962786E-3,null,1722088,1722088,0,null,0,0,0,null,1722088,1722088,0,null,0,null,0,null,null,null,0,null,null,null,0,null,283008.88,283008.88230700803,0,null,10572.6,10572.599999999999,0,null,null,null,0,null,null,null,0,null,null,null,0,null,null,null,0,null,null,null,0,null,null,null,0,null,"NO",{"$f":"IF(ISERROR(VLOOKUP($A100+8860000,'Growth Data'!$A:$F,3,0)),\"NO\",VLOOKUP($A100+8860000,'Growth Data'!$A:$F,3,0))","v":"NO"},0,null,0,{"$f":"IF(DI100=\"YES\",IF(ISERROR(VLOOKUP($A100+8860000,'Growth Data'!$A:$F,6,0)),0,VLOOKUP($A100+8860000,'Growth Data'!$A:$F,6,0)),0)","v":0},0,null,0,{"$f":"IF(ISERROR(VLOOKUP($A100+8860000,'Growth Data'!$A:$Z,7,0)),0,VLOOKUP($A100+8860000,'Growth Data'!$A:$Z,7,0))","v":0},0,null,"YES",{"$f":"IF(ISERROR(VLOOKUP($A100+8860000,'Growth Data'!$A:$F,4,0)),\"NO\",VLOOKUP($A100+8860000,'Growth Data'!$A:$F,4,0))","v":"NO"},1,null,175,{"$f":"IF(ISERROR(VLOOKUP($A100+8860000,'Growth Data'!$A:$Z,8,0)),0,VLOOKUP($A100+8860000,'Growth Data'!$A:$Z,8,0))","v":0},1,null,200,{"$f":"IF(ISERROR(VLOOKUP($A100+8860000,'Growth Data'!$A:$Z,9,0)),0,VLOOKUP($A100+8860000,'Growth Data'!$A:$Z,9,0))","v":0},1,null,"YES",{"$f":"IF(ISERROR(VLOOKUP($A100+8860000,'Growth Data'!$A:$Z,5,0)),\"NO\",VLOOKUP($A100+8860000,'Growth Data'!$A:$Z,5,0))","v":"NO"},1,null,175,{"$f":"IF(ISERROR(VLOOKUP($A100+8860000,'Growth Data'!$A:$Z,10,0)),0,VLOOKUP($A100+8860000,'Growth Data'!$A:$Z,10,0))","v":0},1,null,200,{"$f":"IF(ISERROR(VLOOKUP($A100+8860000,'Growth Data'!$A:$Z,11,0)),0,VLOOKUP($A100+8860000,'Growth Data'!$A:$Z,11,0))","v":0},1]
[2530,"Tunbury Primary School",null,"Tunbury Primary School",null,1,null,1883740.53,1883740.53,0,null,56571.839999999997,56571.835607321118,4.3926788785029203E-3,null,3229.17,3229.1667630057791,3.2369942209697911E-3,null,103167.5,103167.49602739725,3.9726027462165803E-3,null,120084,120084,0,null,0,0,0,null,0,0,0,null,0,0,0,null,46336,46336,0,null,0,0,0,null,0,0,0,null,378826.97,378826.97160227585,-1.6022758791223168E-3,null,2591956,2591956,0,null,0,0,0,null,2591956,2591956,0,null,0,null,0,null,null,null,0,null,null,null,0,null,533760.61,533760.61230700812,0,null,16016.7,16016.7,0,null,null,null,0,null,null,null,0,null,null,null,0,null,null,null,0,null,null,null,0,null,null,null,0,null,"NO",{"$f":"IF(ISERROR(VLOOKUP($A101+8860000,'Growth Data'!$A:$F,3,0)),\"NO\",VLOOKUP($A101+8860000,'Growth Data'!$A:$F,3,0))","v":"NO"},0,null,0,{"$f":"IF(DI101=\"YES\",IF(ISERROR(VLOOKUP($A101+8860000,'Growth Data'!$A:$F,6,0)),0,VLOOKUP($A101+8860000,'Growth Data'!$A:$F,6,0)),0)","v":0},0,null,0,{"$f":"IF(ISERROR(VLOOKUP($A101+8860000,'Growth Data'!$A:$Z,7,0)),0,VLOOKUP($A101+8860000,'Growth Data'!$A:$Z,7,0))","v":0},0,null,"NO",{"$f":"IF(ISERROR(VLOOKUP($A101+8860000,'Growth Data'!$A:$F,4,0)),\"NO\",VLOOKUP($A101+8860000,'Growth Data'!$A:$F,4,0))","v":"NO"},0,null,0,{"$f":"IF(ISERROR(VLOOKUP($A101+8860000,'Growth Data'!$A:$Z,8,0)),0,VLOOKUP($A101+8860000,'Growth Data'!$A:$Z,8,0))","v":0},0,null,0,{"$f":"IF(ISERROR(VLOOKUP($A101+8860000,'Growth Data'!$A:$Z,9,0)),0,VLOOKUP($A101+8860000,'Growth Data'!$A:$Z,9,0))","v":0},0,null,"NO",{"$f":"IF(ISERROR(VLOOKUP($A101+8860000,'Growth Data'!$A:$Z,5,0)),\"NO\",VLOOKUP($A101+8860000,'Growth Data'!$A:$Z,5,0))","v":"NO"},0,null,0,{"$f":"IF(ISERROR(VLOOKUP($A101+8860000,'Growth Data'!$A:$Z,10,0)),0,VLOOKUP($A101+8860000,'Growth Data'!$A:$Z,10,0))","v":0},0,null,0,{"$f":"IF(ISERROR(VLOOKUP($A101+8860000,'Growth Data'!$A:$Z,11,0)),0,VLOOKUP($A101+8860000,'Growth Data'!$A:$Z,11,0))","v":0},0]
[2532,"St Margaret's-at-Cliffe Primary School",null,"St Margaret's-at-Cliffe Primary School",null,1,null,606261.31999999995,606261.32000000007,0,null,22502.84,22502.844329896932,-4.32989693217678E-3,null,2599.4299999999998,2599.4322891566294,-2.2891566295584198E-3,null,34049.050000000003,34049.048292682928,1.7073170747607946E-3,null,120084,120084,0,null,0,0,0,null,0,0,0,null,0,0,0,null,18713,18713,0,null,0,0,0,null,0,0,0,null,33783.360000000001,33783.355088263459,4.9117365415440872E-3,null,837993,837993,0,null,0,0,0,null,837993,837993,0,null,0,null,0,null,null,null,0,null,null,null,0,null,94106.22,94106.222307008109,0,null,5154.8,5154.8,0,null,null,null,0,null,null,null,0,null,null,null,0,null,null,null,0,null,null,null,0,null,null,null,0,null,"NO",{"$f":"IF(ISERROR(VLOOKUP($A102+8860000,'Growth Data'!$A:$F,3,0)),\"NO\",VLOOKUP($A102+8860000,'Growth Data'!$A:$F,3,0))","v":"NO"},0,null,0,{"$f":"IF(DI102=\"YES\",IF(ISERROR(VLOOKUP($A102+8860000,'Growth Data'!$A:$F,6,0)),0,VLOOKUP($A102+8860000,'Growth Data'!$A:$F,6,0)),0)","v":0},0,null,0,{"$f":"IF(ISERROR(VLOOKUP($A102+8860000,'Growth Data'!$A:$Z,7,0)),0,VLOOKUP($A102+8860000,'Growth Data'!$A:$Z,7,0))","v":0},0,null,"NO",{"$f":"IF(ISERROR(VLOOKUP($A102+8860000,'Growth Data'!$A:$F,4,0)),\"NO\",VLOOKUP($A102+8860000,'Growth Data'!$A:$F,4,0))","v":"NO"},0,null,0,{"$f":"IF(ISERROR(VLOOKUP($A102+8860000,'Growth Data'!$A:$Z,8,0)),0,VLOOKUP($A102+8860000,'Growth Data'!$A:$Z,8,0))","v":0},0,null,0,{"$f":"IF(ISERROR(VLOOKUP($A102+8860000,'Growth Data'!$A:$Z,9,0)),0,VLOOKUP($A102+8860000,'Growth Data'!$A:$Z,9,0))","v":0},0,null,"NO",{"$f":"IF(ISERROR(VLOOKUP($A102+8860000,'Growth Data'!$A:$Z,5,0)),\"NO\",VLOOKUP($A102+8860000,'Growth Data'!$A:$Z,5,0))","v":"NO"},0,null,0,{"$f":"IF(ISERROR(VLOOKUP($A102+8860000,'Growth Data'!$A:$Z,10,0)),0,VLOOKUP($A102+8860000,'Growth Data'!$A:$Z,10,0))","v":0},0,null,0,{"$f":"IF(ISERROR(VLOOKUP($A102+8860000,'Growth Data'!$A:$Z,11,0)),0,VLOOKUP($A102+8860000,'Growth Data'!$A:$Z,11,0))","v":0},0]
[2539,"Stocks Green Primary School",null,"Stocks Green Primary School",null,1,null,646472.53,646472.53,0,null,7152.97,7152.9700000000066,0,null,1927.9,1927.9024022346312,-2.4022346310630383E-3,null,30099.24,30099.236514285712,3.4857142891269177E-3,null,120084,120084,0,null,0,0,0,null,0,0,0,null,0,0,0,null,23204,23204,0,null,0,0,0,null,0,0,0,null,67883.360000000001,67883.361083479627,-1.0834796266863123E-3,null,896824,896823.99999999988,0,null,0,0,0,null,896824,896823.99999999988,0,null,0,null,0,null,null,null,0,null,null,null,0,null,110536.61,110536.61230700812,0,null,5496.7,5496.7,0,null,null,null,0,null,null,null,0,null,null,null,0,null,null,null,0,null,null,null,0,null,null,null,0,null,"NO",{"$f":"IF(ISERROR(VLOOKUP($A103+8860000,'Growth Data'!$A:$F,3,0)),\"NO\",VLOOKUP($A103+8860000,'Growth Data'!$A:$F,3,0))","v":"NO"},0,null,0,{"$f":"IF(DI103=\"YES\",IF(ISERROR(VLOOKUP($A103+8860000,'Growth Data'!$A:$F,6,0)),0,VLOOKUP($A103+8860000,'Growth Data'!$A:$F,6,0)),0)","v":0},0,null,0,{"$f":"IF(ISERROR(VLOOKUP($A103+8860000,'Growth Data'!$A:$Z,7,0)),0,VLOOKUP($A103+8860000,'Growth Data'!$A:$Z,7,0))","v":0},0,null,"NO",{"$f":"IF(ISERROR(VLOOKUP($A103+8860000,'Growth Data'!$A:$F,4,0)),\"NO\",VLOOKUP($A103+8860000,'Growth Data'!$A:$F,4,0))","v":"NO"},0,null,0,{"$f":"IF(ISERROR(VLOOKUP($A103+8860000,'Growth Data'!$A:$Z,8,0)),0,VLOOKUP($A103+8860000,'Growth Data'!$A:$Z,8,0))","v":0},0,null,0,{"$f":"IF(ISERROR(VLOOKUP($A103+8860000,'Growth Data'!$A:$Z,9,0)),0,VLOOKUP($A103+8860000,'Growth Data'!$A:$Z,9,0))","v":0},0,null,"NO",{"$f":"IF(ISERROR(VLOOKUP($A103+8860000,'Growth Data'!$A:$Z,5,0)),\"NO\",VLOOKUP($A103+8860000,'Growth Data'!$A:$Z,5,0))","v":"NO"},0,null,0,{"$f":"IF(ISERROR(VLOOKUP($A103+8860000,'Growth Data'!$A:$Z,10,0)),0,VLOOKUP($A103+8860000,'Growth Data'!$A:$Z,10,0))","v":0},0,null,0,{"$f":"IF(ISERROR(VLOOKUP($A103+8860000,'Growth Data'!$A:$Z,11,0)),0,VLOOKUP($A103+8860000,'Growth Data'!$A:$Z,11,0))","v":0},0]
[2545,"Sandgate Primary School",null,"Sandgate Primary School",null,1,null,1292945.06,1292945.06,0,null,55977.99,55977.994659404561,-4.6594045634265058E-3,null,4498.4399999999996,4498.4389385474797,1.0614525199343916E-3,null,79769.59,79769.593595505619,-3.5955056227976456E-3,null,120084,120084,0,null,0,0,0,null,0,0,0,null,0,0,0,null,46592,46592,0,null,0,0,0,null,0,0,0,null,193964.91,193964.91280654224,-2.8065422375220805E-3,null,1793832,1793832,0,null,0,0,0,null,1793832,1793832,0,null,0,null,0,null,null,null,0,null,null,null,0,null,320652.24,320652.24230700807,0,null,10993.4,10993.4,0,null,null,null,0,null,null,null,0,null,null,null,0,null,null,null,0,null,null,null,0,null,null,null,0,null,"NO",{"$f":"IF(ISERROR(VLOOKUP($A104+8860000,'Growth Data'!$A:$F,3,0)),\"NO\",VLOOKUP($A104+8860000,'Growth Data'!$A:$F,3,0))","v":"NO"},0,null,0,{"$f":"IF(DI104=\"YES\",IF(ISERROR(VLOOKUP($A104+8860000,'Growth Data'!$A:$F,6,0)),0,VLOOKUP($A104+8860000,'Growth Data'!$A:$F,6,0)),0)","v":0},0,null,0,{"$f":"IF(ISERROR(VLOOKUP($A104+8860000,'Growth Data'!$A:$Z,7,0)),0,VLOOKUP($A104+8860000,'Growth Data'!$A:$Z,7,0))","v":0},0,null,"NO",{"$f":"IF(ISERROR(VLOOKUP($A104+8860000,'Growth Data'!$A:$F,4,0)),\"NO\",VLOOKUP($A104+8860000,'Growth Data'!$A:$F,4,0))","v":"NO"},0,null,0,{"$f":"IF(ISERROR(VLOOKUP($A104+8860000,'Growth Data'!$A:$Z,8,0)),0,VLOOKUP($A104+8860000,'Growth Data'!$A:$Z,8,0))","v":0},0,null,0,{"$f":"IF(ISERROR(VLOOKUP($A104+8860000,'Growth Data'!$A:$Z,9,0)),0,VLOOKUP($A104+8860000,'Growth Data'!$A:$Z,9,0))","v":0},0,null,"NO",{"$f":"IF(ISERROR(VLOOKUP($A104+8860000,'Growth Data'!$A:$Z,5,0)),\"NO\",VLOOKUP($A104+8860000,'Growth Data'!$A:$Z,5,0))","v":"NO"},0,null,0,{"$f":"IF(ISERROR(VLOOKUP($A104+8860000,'Growth Data'!$A:$Z,10,0)),0,VLOOKUP($A104+8860000,'Growth Data'!$A:$Z,10,0))","v":0},0,null,0,{"$f":"IF(ISERROR(VLOOKUP($A104+8860000,'Growth Data'!$A:$Z,11,0)),0,VLOOKUP($A104+8860000,'Growth Data'!$A:$Z,11,0))","v":0},0]
[2552,"Sandling Primary School",null,"Sandling Primary School",null,1,null,1299131.3999999999,1299131.4000000001,0,null,24723.16,24723.160000000003,0,null,12878.21,12878.206128133696,3.8718663035979262E-3,null,87599.34,87599.340340909082,-3.409090859349817E-4,null,120084,120084,0,null,0,0,0,null,0,0,0,null,0,0,0,null,30720,30720,0,null,0,0,0,null,0,0,0,null,211183.89,211183.89353095705,-3.5309570375829935E-3,null,1786320,1786320,0,null,0,0,0,null,1786320,1786320,0,null,0,null,0,null,null,null,0,null,null,null,0,null,332492.62,332492.62230700796,0,null,11046,11046,0,null,null,null,0,null,null,null,0,null,null,null,0,null,null,null,0,null,null,null,0,null,null,null,0,null,"NO",{"$f":"IF(ISERROR(VLOOKUP($A105+8860000,'Growth Data'!$A:$F,3,0)),\"NO\",VLOOKUP($A105+8860000,'Growth Data'!$A:$F,3,0))","v":"NO"},0,null,0,{"$f":"IF(DI105=\"YES\",IF(ISERROR(VLOOKUP($A105+8860000,'Growth Data'!$A:$F,6,0)),0,VLOOKUP($A105+8860000,'Growth Data'!$A:$F,6,0)),0)","v":0},0,null,0,{"$f":"IF(ISERROR(VLOOKUP($A105+8860000,'Growth Data'!$A:$Z,7,0)),0,VLOOKUP($A105+8860000,'Growth Data'!$A:$Z,7,0))","v":0},0,null,"NO",{"$f":"IF(ISERROR(VLOOKUP($A105+8860000,'Growth Data'!$A:$F,4,0)),\"NO\",VLOOKUP($A105+8860000,'Growth Data'!$A:$F,4,0))","v":"NO"},0,null,0,{"$f":"IF(ISERROR(VLOOKUP($A105+8860000,'Growth Data'!$A:$Z,8,0)),0,VLOOKUP($A105+8860000,'Growth Data'!$A:$Z,8,0))","v":0},0,null,0,{"$f":"IF(ISERROR(VLOOKUP($A105+8860000,'Growth Data'!$A:$Z,9,0)),0,VLOOKUP($A105+8860000,'Growth Data'!$A:$Z,9,0))","v":0},0,null,"NO",{"$f":"IF(ISERROR(VLOOKUP($A105+8860000,'Growth Data'!$A:$Z,5,0)),\"NO\",VLOOKUP($A105+8860000,'Growth Data'!$A:$Z,5,0))","v":"NO"},0,null,0,{"$f":"IF(ISERROR(VLOOKUP($A105+8860000,'Growth Data'!$A:$Z,10,0)),0,VLOOKUP($A105+8860000,'Growth Data'!$A:$Z,10,0))","v":0},0,null,0,{"$f":"IF(ISERROR(VLOOKUP($A105+8860000,'Growth Data'!$A:$Z,11,0)),0,VLOOKUP($A105+8860000,'Growth Data'!$A:$Z,11,0))","v":0},0]
[2559,"Capel-le-Ferne Primary School",null,"Capel-le-Ferne Primary School",null,1,null,603168.15,603168.15,0,null,48605.83,48605.830000000031,0,null,0,0,0,null,45123.94,45123.944720496889,-4.7204968868754804E-3,null,120084,120084,0,null,0,0,0,null,0,0,0,null,0,0,0,null,19336,19336,0,null,0,0,0,null,0,0,0,null,0,0,0,null,836317.92,836317.92472049699,-4.7204969450831413E-3,null,0,0,0,null,836317.92,836317.92472049699,-4.7204969450831413E-3,null,0,null,0,null,null,null,0,null,null,null,0,null,88917.16,88917.157027505076,0,null,5128.5,5128.5,0,null,null,null,0,null,null,null,0,null,null,null,0,null,null,null,0,null,null,null,0,null,null,null,0,null,"NO",{"$f":"IF(ISERROR(VLOOKUP($A106+8860000,'Growth Data'!$A:$F,3,0)),\"NO\",VLOOKUP($A106+8860000,'Growth Data'!$A:$F,3,0))","v":"NO"},0,null,0,{"$f":"IF(DI106=\"YES\",IF(ISERROR(VLOOKUP($A106+8860000,'Growth Data'!$A:$F,6,0)),0,VLOOKUP($A106+8860000,'Growth Data'!$A:$F,6,0)),0)","v":0},0,null,0,{"$f":"IF(ISERROR(VLOOKUP($A106+8860000,'Growth Data'!$A:$Z,7,0)),0,VLOOKUP($A106+8860000,'Growth Data'!$A:$Z,7,0))","v":0},0,null,"NO",{"$f":"IF(ISERROR(VLOOKUP($A106+8860000,'Growth Data'!$A:$F,4,0)),\"NO\",VLOOKUP($A106+8860000,'Growth Data'!$A:$F,4,0))","v":"NO"},0,null,0,{"$f":"IF(ISERROR(VLOOKUP($A106+8860000,'Growth Data'!$A:$Z,8,0)),0,VLOOKUP($A106+8860000,'Growth Data'!$A:$Z,8,0))","v":0},0,null,0,{"$f":"IF(ISERROR(VLOOKUP($A106+8860000,'Growth Data'!$A:$Z,9,0)),0,VLOOKUP($A106+8860000,'Growth Data'!$A:$Z,9,0))","v":0},0,null,"NO",{"$f":"IF(ISERROR(VLOOKUP($A106+8860000,'Growth Data'!$A:$Z,5,0)),\"NO\",VLOOKUP($A106+8860000,'Growth Data'!$A:$Z,5,0))","v":"NO"},0,null,0,{"$f":"IF(ISERROR(VLOOKUP($A106+8860000,'Growth Data'!$A:$Z,10,0)),0,VLOOKUP($A106+8860000,'Growth Data'!$A:$Z,10,0))","v":0},0,null,0,{"$f":"IF(ISERROR(VLOOKUP($A106+8860000,'Growth Data'!$A:$Z,11,0)),0,VLOOKUP($A106+8860000,'Growth Data'!$A:$Z,11,0))","v":0},0]
[2562,"Lunsford Primary School",null,"Lunsford Primary School",null,1,null,634099.85,634099.85,0,null,32022.78,32022.776985645964,3.0143540352582932E-3,null,4513.2,4513.1979999999994,2.0000000004074536E-3,null,55195.5,55195.50028571429,-2.8571428993018344E-4,null,120084,120084,0,null,0,0,0,null,0,0,0,null,0,0,0,null,19087,19087,0,null,0,0,0,null,0,0,0,null,10984.67,10984.674728639773,-4.7286397730204044E-3,null,875987,875987,0,null,0,0,0,null,875987,875987,0,null,0,null,0,null,null,null,0,null,null,null,0,null,96522.57,96522.572307008159,0,null,5391.5,5391.5,0,null,null,null,0,null,null,null,0,null,null,null,0,null,null,null,0,null,null,null,0,null,null,null,0,null,"NO",{"$f":"IF(ISERROR(VLOOKUP($A107+8860000,'Growth Data'!$A:$F,3,0)),\"NO\",VLOOKUP($A107+8860000,'Growth Data'!$A:$F,3,0))","v":"NO"},0,null,0,{"$f":"IF(DI107=\"YES\",IF(ISERROR(VLOOKUP($A107+8860000,'Growth Data'!$A:$F,6,0)),0,VLOOKUP($A107+8860000,'Growth Data'!$A:$F,6,0)),0)","v":0},0,null,0,{"$f":"IF(ISERROR(VLOOKUP($A107+8860000,'Growth Data'!$A:$Z,7,0)),0,VLOOKUP($A107+8860000,'Growth Data'!$A:$Z,7,0))","v":0},0,null,"NO",{"$f":"IF(ISERROR(VLOOKUP($A107+8860000,'Growth Data'!$A:$F,4,0)),\"NO\",VLOOKUP($A107+8860000,'Growth Data'!$A:$F,4,0))","v":"NO"},0,null,0,{"$f":"IF(ISERROR(VLOOKUP($A107+8860000,'Growth Data'!$A:$Z,8,0)),0,VLOOKUP($A107+8860000,'Growth Data'!$A:$Z,8,0))","v":0},0,null,0,{"$f":"IF(ISERROR(VLOOKUP($A107+8860000,'Growth Data'!$A:$Z,9,0)),0,VLOOKUP($A107+8860000,'Growth Data'!$A:$Z,9,0))","v":0},0,null,"NO",{"$f":"IF(ISERROR(VLOOKUP($A107+8860000,'Growth Data'!$A:$Z,5,0)),\"NO\",VLOOKUP($A107+8860000,'Growth Data'!$A:$Z,5,0))","v":"NO"},0,null,0,{"$f":"IF(ISERROR(VLOOKUP($A107+8860000,'Growth Data'!$A:$Z,10,0)),0,VLOOKUP($A107+8860000,'Growth Data'!$A:$Z,10,0))","v":0},0,null,0,{"$f":"IF(ISERROR(VLOOKUP($A107+8860000,'Growth Data'!$A:$Z,11,0)),0,VLOOKUP($A107+8860000,'Growth Data'!$A:$Z,11,0))","v":0},0]
[2574,"Downs View Infant School",null,"Downs View Infant School",null,1,null,807317.37,807317.37,0,null,77614.080000000002,77614.078769230749,1.2307692522881553E-3,null,6720.55,6720.5515789473611,-1.5789473609402194E-3,null,60774.14,60774.143624999997,-3.6249999975552782E-3,null,120084,120084,0,null,0,0,0,null,0,0,0,null,0,0,0,null,27648,27648,0,null,0,0,0,null,0,0,0,null,18469.86,18469.856026821886,3.9731781143927947E-3,null,1118628,1118628,0,null,0,0,0,null,1118628,1118628,0,null,0,null,0,null,null,null,0,null,null,null,0,null,144496.09,144496.09230700816,0,null,6864.3,6864.2999999999993,0,null,null,null,0,null,null,null,0,null,null,null,0,null,null,null,0,null,null,null,0,null,null,null,0,null,"NO",{"$f":"IF(ISERROR(VLOOKUP($A108+8860000,'Growth Data'!$A:$F,3,0)),\"NO\",VLOOKUP($A108+8860000,'Growth Data'!$A:$F,3,0))","v":"NO"},0,null,0,{"$f":"IF(DI108=\"YES\",IF(ISERROR(VLOOKUP($A108+8860000,'Growth Data'!$A:$F,6,0)),0,VLOOKUP($A108+8860000,'Growth Data'!$A:$F,6,0)),0)","v":0},0,null,0,{"$f":"IF(ISERROR(VLOOKUP($A108+8860000,'Growth Data'!$A:$Z,7,0)),0,VLOOKUP($A108+8860000,'Growth Data'!$A:$Z,7,0))","v":0},0,null,"NO",{"$f":"IF(ISERROR(VLOOKUP($A108+8860000,'Growth Data'!$A:$F,4,0)),\"NO\",VLOOKUP($A108+8860000,'Growth Data'!$A:$F,4,0))","v":"NO"},0,null,0,{"$f":"IF(ISERROR(VLOOKUP($A108+8860000,'Growth Data'!$A:$Z,8,0)),0,VLOOKUP($A108+8860000,'Growth Data'!$A:$Z,8,0))","v":0},0,null,0,{"$f":"IF(ISERROR(VLOOKUP($A108+8860000,'Growth Data'!$A:$Z,9,0)),0,VLOOKUP($A108+8860000,'Growth Data'!$A:$Z,9,0))","v":0},0,null,"NO",{"$f":"IF(ISERROR(VLOOKUP($A108+8860000,'Growth Data'!$A:$Z,5,0)),\"NO\",VLOOKUP($A108+8860000,'Growth Data'!$A:$Z,5,0))","v":"NO"},0,null,0,{"$f":"IF(ISERROR(VLOOKUP($A108+8860000,'Growth Data'!$A:$Z,10,0)),0,VLOOKUP($A108+8860000,'Growth Data'!$A:$Z,10,0))","v":0},0,null,0,{"$f":"IF(ISERROR(VLOOKUP($A108+8860000,'Growth Data'!$A:$Z,11,0)),0,VLOOKUP($A108+8860000,'Growth Data'!$A:$Z,11,0))","v":0},0]
[2578,"Kingswood Primary School",null,"Kingswood Primary School",null,1,null,383553.08,383553.08,0,null,13111.38,13111.381003169348,-1.0031693491328042E-3,null,1913.51,1913.505420560748,4.5794392519837857E-3,null,28469.15,28469.148190476189,1.8095238119713031E-3,null,120084,120084,0,null,0,0,0,null,0,0,0,null,0,0,0,null,16093,16093,0,null,0,0,0,null,0,0,0,null,0,0,0,null,563224.11,563224.11461420637,-4.6142063802108169E-3,null,0,0,0,null,563224.11,563224.11461420637,-4.6142063802108169E-3,null,0,null,0,null,null,null,0,null,null,null,0,null,44665.58,44665.576921214437,0,null,3261.2,3261.2,0,null,null,null,0,null,null,null,0,null,null,null,0,null,null,null,0,null,null,null,0,null,null,null,0,null,"NO",{"$f":"IF(ISERROR(VLOOKUP($A109+8860000,'Growth Data'!$A:$F,3,0)),\"NO\",VLOOKUP($A109+8860000,'Growth Data'!$A:$F,3,0))","v":"NO"},0,null,0,{"$f":"IF(DI109=\"YES\",IF(ISERROR(VLOOKUP($A109+8860000,'Growth Data'!$A:$F,6,0)),0,VLOOKUP($A109+8860000,'Growth Data'!$A:$F,6,0)),0)","v":0},0,null,0,{"$f":"IF(ISERROR(VLOOKUP($A109+8860000,'Growth Data'!$A:$Z,7,0)),0,VLOOKUP($A109+8860000,'Growth Data'!$A:$Z,7,0))","v":0},0,null,"NO",{"$f":"IF(ISERROR(VLOOKUP($A109+8860000,'Growth Data'!$A:$F,4,0)),\"NO\",VLOOKUP($A109+8860000,'Growth Data'!$A:$F,4,0))","v":"NO"},0,null,0,{"$f":"IF(ISERROR(VLOOKUP($A109+8860000,'Growth Data'!$A:$Z,8,0)),0,VLOOKUP($A109+8860000,'Growth Data'!$A:$Z,8,0))","v":0},0,null,0,{"$f":"IF(ISERROR(VLOOKUP($A109+8860000,'Growth Data'!$A:$Z,9,0)),0,VLOOKUP($A109+8860000,'Growth Data'!$A:$Z,9,0))","v":0},0,null,"NO",{"$f":"IF(ISERROR(VLOOKUP($A109+8860000,'Growth Data'!$A:$Z,5,0)),\"NO\",VLOOKUP($A109+8860000,'Growth Data'!$A:$Z,5,0))","v":"NO"},0,null,0,{"$f":"IF(ISERROR(VLOOKUP($A109+8860000,'Growth Data'!$A:$Z,10,0)),0,VLOOKUP($A109+8860000,'Growth Data'!$A:$Z,10,0))","v":0},0,null,0,{"$f":"IF(ISERROR(VLOOKUP($A109+8860000,'Growth Data'!$A:$Z,11,0)),0,VLOOKUP($A109+8860000,'Growth Data'!$A:$Z,11,0))","v":0},0]
[2586,"Senacre Wood Primary School",null,"Senacre Wood Primary School",null,1,null,643379.36,643379.36,0,null,93048.01,93048.013033175317,-3.0331753223435953E-3,null,5788.37,5788.3712359550573,-1.2359550573819433E-3,null,67340.05,67340.047272727272,2.7272727311355993E-3,null,120084,120084,0,null,0,0,0,null,0,0,0,null,0,0,0,null,21332,21332,0,null,0,0,0,null,0,0,0,null,0,0,0,null,950971.79,950971.79154185753,-1.5418574912473559E-3,null,0,0,0,null,950971.79,950971.79154185753,-1.5418574912473559E-3,null,0,null,0,null,null,null,0,null,null,null,0,null,148474.85,148474.85384886578,0,null,5470.4,5470.4,0,null,null,null,0,null,null,null,0,null,null,null,0,null,null,null,0,null,null,null,0,null,null,null,0,null,"NO",{"$f":"IF(ISERROR(VLOOKUP($A110+8860000,'Growth Data'!$A:$F,3,0)),\"NO\",VLOOKUP($A110+8860000,'Growth Data'!$A:$F,3,0))","v":"NO"},0,null,0,{"$f":"IF(DI110=\"YES\",IF(ISERROR(VLOOKUP($A110+8860000,'Growth Data'!$A:$F,6,0)),0,VLOOKUP($A110+8860000,'Growth Data'!$A:$F,6,0)),0)","v":0},0,null,0,{"$f":"IF(ISERROR(VLOOKUP($A110+8860000,'Growth Data'!$A:$Z,7,0)),0,VLOOKUP($A110+8860000,'Growth Data'!$A:$Z,7,0))","v":0},0,null,"NO",{"$f":"IF(ISERROR(VLOOKUP($A110+8860000,'Growth Data'!$A:$F,4,0)),\"NO\",VLOOKUP($A110+8860000,'Growth Data'!$A:$F,4,0))","v":"NO"},0,null,0,{"$f":"IF(ISERROR(VLOOKUP($A110+8860000,'Growth Data'!$A:$Z,8,0)),0,VLOOKUP($A110+8860000,'Growth Data'!$A:$Z,8,0))","v":0},0,null,0,{"$f":"IF(ISERROR(VLOOKUP($A110+8860000,'Growth Data'!$A:$Z,9,0)),0,VLOOKUP($A110+8860000,'Growth Data'!$A:$Z,9,0))","v":0},0,null,"NO",{"$f":"IF(ISERROR(VLOOKUP($A110+8860000,'Growth Data'!$A:$Z,5,0)),\"NO\",VLOOKUP($A110+8860000,'Growth Data'!$A:$Z,5,0))","v":"NO"},0,null,0,{"$f":"IF(ISERROR(VLOOKUP($A110+8860000,'Growth Data'!$A:$Z,10,0)),0,VLOOKUP($A110+8860000,'Growth Data'!$A:$Z,10,0))","v":0},0,null,0,{"$f":"IF(ISERROR(VLOOKUP($A110+8860000,'Growth Data'!$A:$Z,11,0)),0,VLOOKUP($A110+8860000,'Growth Data'!$A:$Z,11,0))","v":0},0]
[2603,"Bromstone Primary School, Broadstairs",null,"Bromstone Primary School, Broadstairs",null,1,null,1370274.31,1370274.31,0,null,209520.28,209520.27543568451,4.5643154880963266E-3,null,8065.38,8065.3842493638722,-4.2493638720770832E-3,null,156752.18,156752.18135416668,-1.3541666849050671E-3,null,120084,120084,0,null,0,0,0,null,0,0,0,null,0,0,0,null,45056,45056,0,null,0,0,0,null,0,0,0,null,0,0,0,null,1909752.15,1909752.151039215,-1.0392151307314634E-3,null,0,0,0,null,1909752.15,1909752.151039215,-1.0392151307314634E-3,null,0,null,0,null,null,null,0,null,null,null,0,null,316128.09999999998,316128.1033462233,0,null,11650.9,11650.900000000001,0,null,null,null,0,null,null,null,0,null,null,null,0,null,null,null,0,null,null,null,0,null,null,null,0,null,"NO",{"$f":"IF(ISERROR(VLOOKUP($A111+8860000,'Growth Data'!$A:$F,3,0)),\"NO\",VLOOKUP($A111+8860000,'Growth Data'!$A:$F,3,0))","v":"NO"},0,null,0,{"$f":"IF(DI111=\"YES\",IF(ISERROR(VLOOKUP($A111+8860000,'Growth Data'!$A:$F,6,0)),0,VLOOKUP($A111+8860000,'Growth Data'!$A:$F,6,0)),0)","v":0},0,null,0,{"$f":"IF(ISERROR(VLOOKUP($A111+8860000,'Growth Data'!$A:$Z,7,0)),0,VLOOKUP($A111+8860000,'Growth Data'!$A:$Z,7,0))","v":0},0,null,"NO",{"$f":"IF(ISERROR(VLOOKUP($A111+8860000,'Growth Data'!$A:$F,4,0)),\"NO\",VLOOKUP($A111+8860000,'Growth Data'!$A:$F,4,0))","v":"NO"},0,null,0,{"$f":"IF(ISERROR(VLOOKUP($A111+8860000,'Growth Data'!$A:$Z,8,0)),0,VLOOKUP($A111+8860000,'Growth Data'!$A:$Z,8,0))","v":0},0,null,0,{"$f":"IF(ISERROR(VLOOKUP($A111+8860000,'Growth Data'!$A:$Z,9,0)),0,VLOOKUP($A111+8860000,'Growth Data'!$A:$Z,9,0))","v":0},0,null,"NO",{"$f":"IF(ISERROR(VLOOKUP($A111+8860000,'Growth Data'!$A:$Z,5,0)),\"NO\",VLOOKUP($A111+8860000,'Growth Data'!$A:$Z,5,0))","v":"NO"},0,null,0,{"$f":"IF(ISERROR(VLOOKUP($A111+8860000,'Growth Data'!$A:$Z,10,0)),0,VLOOKUP($A111+8860000,'Growth Data'!$A:$Z,10,0))","v":0},0,null,0,{"$f":"IF(ISERROR(VLOOKUP($A111+8860000,'Growth Data'!$A:$Z,11,0)),0,VLOOKUP($A111+8860000,'Growth Data'!$A:$Z,11,0))","v":0},0]
[2607,"Parkside Community Primary School",null,"Parkside Community Primary School",null,1,null,318596.51,318596.51,0,null,93129.14,93129.142790697661,-2.7906976611120626E-3,null,9448.36,9448.361666666684,-1.666666683377116E-3,null,62532.93,62532.928513513507,1.486486493377015E-3,null,120084,120084,0,null,0,0,0,null,0,0,0,null,0,0,0,null,20958,20958,0,null,0,0,0,null,0,0,0,null,0,0,0,null,624748.93999999994,624748.94297087786,-2.9708779184147716E-3,null,0,0,0,null,624748.93999999994,624748.94297087786,-2.9708779184147716E-3,null,0,null,0,null,null,null,0,null,null,null,0,null,141885.01999999999,141885.01527788601,0,null,2708.9,2708.8999999999996,0,null,null,null,0,null,null,null,0,null,null,null,0,null,null,null,0,null,null,null,0,null,null,null,0,null,"NO",{"$f":"IF(ISERROR(VLOOKUP($A112+8860000,'Growth Data'!$A:$F,3,0)),\"NO\",VLOOKUP($A112+8860000,'Growth Data'!$A:$F,3,0))","v":"NO"},0,null,0,{"$f":"IF(DI112=\"YES\",IF(ISERROR(VLOOKUP($A112+8860000,'Growth Data'!$A:$F,6,0)),0,VLOOKUP($A112+8860000,'Growth Data'!$A:$F,6,0)),0)","v":0},0,null,0,{"$f":"IF(ISERROR(VLOOKUP($A112+8860000,'Growth Data'!$A:$Z,7,0)),0,VLOOKUP($A112+8860000,'Growth Data'!$A:$Z,7,0))","v":0},0,null,"YES",{"$f":"IF(ISERROR(VLOOKUP($A112+8860000,'Growth Data'!$A:$F,4,0)),\"NO\",VLOOKUP($A112+8860000,'Growth Data'!$A:$F,4,0))","v":"NO"},1,null,60,{"$f":"IF(ISERROR(VLOOKUP($A112+8860000,'Growth Data'!$A:$Z,8,0)),0,VLOOKUP($A112+8860000,'Growth Data'!$A:$Z,8,0))","v":0},1,null,90,{"$f":"IF(ISERROR(VLOOKUP($A112+8860000,'Growth Data'!$A:$Z,9,0)),0,VLOOKUP($A112+8860000,'Growth Data'!$A:$Z,9,0))","v":0},1,null,"YES",{"$f":"IF(ISERROR(VLOOKUP($A112+8860000,'Growth Data'!$A:$Z,5,0)),\"NO\",VLOOKUP($A112+8860000,'Growth Data'!$A:$Z,5,0))","v":"NO"},1,null,62,{"$f":"IF(ISERROR(VLOOKUP($A112+8860000,'Growth Data'!$A:$Z,10,0)),0,VLOOKUP($A112+8860000,'Growth Data'!$A:$Z,10,0))","v":0},1,null,90,{"$f":"IF(ISERROR(VLOOKUP($A112+8860000,'Growth Data'!$A:$Z,11,0)),0,VLOOKUP($A112+8860000,'Growth Data'!$A:$Z,11,0))","v":0},1]
[2611,"St Stephen's Infant School",null,"St Stephen's Infant School",null,1,null,819690.05,819690.05,0,null,133443.60999999999,133443.61000000004,0,null,32504.46,32504.460857142876,-8.5714287706650794E-4,null,75283.460000000006,75283.45740740739,2.5925926165655255E-3,null,120084,120084,0,null,0,0,0,null,0,0,0,null,0,0,0,null,24950,24950,0,null,0,0,0,null,0,0,0,null,0,0,0,null,1205955.58,1205955.5782645505,1.7354495357722044E-3,null,0,0,0,null,1205955.58,1205955.5782645505,1.7354495357722044E-3,null,0,null,0,null,null,null,0,null,null,null,0,null,212021.95,212021.95057155844,0,null,6969.5,6969.5,0,null,null,null,0,null,null,null,0,null,null,null,0,null,null,null,0,null,null,null,0,null,null,null,0,null,"NO",{"$f":"IF(ISERROR(VLOOKUP($A113+8860000,'Growth Data'!$A:$F,3,0)),\"NO\",VLOOKUP($A113+8860000,'Growth Data'!$A:$F,3,0))","v":"NO"},0,null,0,{"$f":"IF(DI113=\"YES\",IF(ISERROR(VLOOKUP($A113+8860000,'Growth Data'!$A:$F,6,0)),0,VLOOKUP($A113+8860000,'Growth Data'!$A:$F,6,0)),0)","v":0},0,null,0,{"$f":"IF(ISERROR(VLOOKUP($A113+8860000,'Growth Data'!$A:$Z,7,0)),0,VLOOKUP($A113+8860000,'Growth Data'!$A:$Z,7,0))","v":0},0,null,"NO",{"$f":"IF(ISERROR(VLOOKUP($A113+8860000,'Growth Data'!$A:$F,4,0)),\"NO\",VLOOKUP($A113+8860000,'Growth Data'!$A:$F,4,0))","v":"NO"},0,null,0,{"$f":"IF(ISERROR(VLOOKUP($A113+8860000,'Growth Data'!$A:$Z,8,0)),0,VLOOKUP($A113+8860000,'Growth Data'!$A:$Z,8,0))","v":0},0,null,0,{"$f":"IF(ISERROR(VLOOKUP($A113+8860000,'Growth Data'!$A:$Z,9,0)),0,VLOOKUP($A113+8860000,'Growth Data'!$A:$Z,9,0))","v":0},0,null,"NO",{"$f":"IF(ISERROR(VLOOKUP($A113+8860000,'Growth Data'!$A:$Z,5,0)),\"NO\",VLOOKUP($A113+8860000,'Growth Data'!$A:$Z,5,0))","v":"NO"},0,null,0,{"$f":"IF(ISERROR(VLOOKUP($A113+8860000,'Growth Data'!$A:$Z,10,0)),0,VLOOKUP($A113+8860000,'Growth Data'!$A:$Z,10,0))","v":0},0,null,0,{"$f":"IF(ISERROR(VLOOKUP($A113+8860000,'Growth Data'!$A:$Z,11,0)),0,VLOOKUP($A113+8860000,'Growth Data'!$A:$Z,11,0))","v":0},0]
[2615,"High Firs Primary School",null,"High Firs Primary School",null,1,null,634099.85,634099.85,0,null,61228,61227.995336538443,4.6634615573566407E-3,null,8381.65,8381.6534285714297,-3.4285714300494874E-3,null,62688.24,62688.23720930233,2.7906976683880202E-3,null,120084,120084,0,null,0,0,0,null,32622.53,32622.527883858369,2.1161416298127733E-3,null,0,0,0,null,24950,24950,0,null,0,0,0,null,0,0,0,null,0,0,0,null,944054.26,944054.2638582706,-3.8582705892622471E-3,null,0,0,0,null,944054.26,944054.2638582706,-3.8582705892622471E-3,null,0,null,0,null,null,null,0,null,null,null,0,null,128835.91,128835.90772217661,0,null,5589.91,5589.9071999999996,0,null,null,null,0,null,null,null,0,null,null,null,0,null,null,null,0,null,null,null,0,null,null,null,0,null,"NO",{"$f":"IF(ISERROR(VLOOKUP($A114+8860000,'Growth Data'!$A:$F,3,0)),\"NO\",VLOOKUP($A114+8860000,'Growth Data'!$A:$F,3,0))","v":"NO"},0,null,0,{"$f":"IF(DI114=\"YES\",IF(ISERROR(VLOOKUP($A114+8860000,'Growth Data'!$A:$F,6,0)),0,VLOOKUP($A114+8860000,'Growth Data'!$A:$F,6,0)),0)","v":0},0,null,0,{"$f":"IF(ISERROR(VLOOKUP($A114+8860000,'Growth Data'!$A:$Z,7,0)),0,VLOOKUP($A114+8860000,'Growth Data'!$A:$Z,7,0))","v":0},0,null,"NO",{"$f":"IF(ISERROR(VLOOKUP($A114+8860000,'Growth Data'!$A:$F,4,0)),\"NO\",VLOOKUP($A114+8860000,'Growth Data'!$A:$F,4,0))","v":"NO"},0,null,0,{"$f":"IF(ISERROR(VLOOKUP($A114+8860000,'Growth Data'!$A:$Z,8,0)),0,VLOOKUP($A114+8860000,'Growth Data'!$A:$Z,8,0))","v":0},0,null,0,{"$f":"IF(ISERROR(VLOOKUP($A114+8860000,'Growth Data'!$A:$Z,9,0)),0,VLOOKUP($A114+8860000,'Growth Data'!$A:$Z,9,0))","v":0},0,null,"NO",{"$f":"IF(ISERROR(VLOOKUP($A114+8860000,'Growth Data'!$A:$Z,5,0)),\"NO\",VLOOKUP($A114+8860000,'Growth Data'!$A:$Z,5,0))","v":"NO"},0,null,0,{"$f":"IF(ISERROR(VLOOKUP($A114+8860000,'Growth Data'!$A:$Z,10,0)),0,VLOOKUP($A114+8860000,'Growth Data'!$A:$Z,10,0))","v":0},0,null,0,{"$f":"IF(ISERROR(VLOOKUP($A114+8860000,'Growth Data'!$A:$Z,11,0)),0,VLOOKUP($A114+8860000,'Growth Data'!$A:$Z,11,0))","v":0},0]
[2626,"Sandwich Infant School",null,"Sandwich Infant School",null,1,null,386646.25,386646.25,0,null,28688.91,28688.910000000007,0,null,7938.32,7938.3173076922812,2.6923077184619615E-3,null,35120.83,35120.833333333336,-3.3333333340124227E-3,null,120084,120084,0,null,0,0,0,null,0,0,0,null,0,0,0,null,14097,14097,0,null,0,0,0,null,0,0,0,null,0,0,0,null,592575.31000000006,592575.31064102566,-6.410256028175354E-4,null,0,0,0,null,592575.31000000006,592575.31064102566,-6.410256028175354E-4,null,0,null,0,null,null,null,0,null,null,null,0,null,65094.16,65094.162948033772,0,null,3287.5,3287.5,0,null,null,null,0,null,null,null,0,null,null,null,0,null,null,null,0,null,null,null,0,null,null,null,0,null,"NO",{"$f":"IF(ISERROR(VLOOKUP($A115+8860000,'Growth Data'!$A:$F,3,0)),\"NO\",VLOOKUP($A115+8860000,'Growth Data'!$A:$F,3,0))","v":"NO"},0,null,0,{"$f":"IF(DI115=\"YES\",IF(ISERROR(VLOOKUP($A115+8860000,'Growth Data'!$A:$F,6,0)),0,VLOOKUP($A115+8860000,'Growth Data'!$A:$F,6,0)),0)","v":0},0,null,0,{"$f":"IF(ISERROR(VLOOKUP($A115+8860000,'Growth Data'!$A:$Z,7,0)),0,VLOOKUP($A115+8860000,'Growth Data'!$A:$Z,7,0))","v":0},0,null,"NO",{"$f":"IF(ISERROR(VLOOKUP($A115+8860000,'Growth Data'!$A:$F,4,0)),\"NO\",VLOOKUP($A115+8860000,'Growth Data'!$A:$F,4,0))","v":"NO"},0,null,0,{"$f":"IF(ISERROR(VLOOKUP($A115+8860000,'Growth Data'!$A:$Z,8,0)),0,VLOOKUP($A115+8860000,'Growth Data'!$A:$Z,8,0))","v":0},0,null,0,{"$f":"IF(ISERROR(VLOOKUP($A115+8860000,'Growth Data'!$A:$Z,9,0)),0,VLOOKUP($A115+8860000,'Growth Data'!$A:$Z,9,0))","v":0},0,null,"NO",{"$f":"IF(ISERROR(VLOOKUP($A115+8860000,'Growth Data'!$A:$Z,5,0)),\"NO\",VLOOKUP($A115+8860000,'Growth Data'!$A:$Z,5,0))","v":"NO"},0,null,0,{"$f":"IF(ISERROR(VLOOKUP($A115+8860000,'Growth Data'!$A:$Z,10,0)),0,VLOOKUP($A115+8860000,'Growth Data'!$A:$Z,10,0))","v":0},0,null,0,{"$f":"IF(ISERROR(VLOOKUP($A115+8860000,'Growth Data'!$A:$Z,11,0)),0,VLOOKUP($A115+8860000,'Growth Data'!$A:$Z,11,0))","v":0},0]
[2627,"Sandwich Junior School",null,"Sandwich Junior School",null,1,null,661938.38,661938.38,0,null,47747.9,47747.898793681627,1.206318374897819E-3,null,2751.95,2751.9499999999985,0,null,56602.19,56602.18827586207,1.7241379318875261E-3,null,120084,120084,0,null,0,0,0,null,0,0,0,null,0,0,0,null,28160,28160,0,null,0,0,0,null,0,0,0,null,5395.58,5395.5829304562649,-2.9304562649485888E-3,null,922680,922679.99999999988,0,null,0,0,0,null,922680,922679.99999999988,0,null,0,null,0,null,null,null,0,null,null,null,0,null,98478.6,98478.602307008114,0,null,5628.2,5628.2000000000007,0,null,null,null,0,null,null,null,0,null,null,null,0,null,null,null,0,null,null,null,0,null,null,null,0,null,"NO",{"$f":"IF(ISERROR(VLOOKUP($A116+8860000,'Growth Data'!$A:$F,3,0)),\"NO\",VLOOKUP($A116+8860000,'Growth Data'!$A:$F,3,0))","v":"NO"},0,null,0,{"$f":"IF(DI116=\"YES\",IF(ISERROR(VLOOKUP($A116+8860000,'Growth Data'!$A:$F,6,0)),0,VLOOKUP($A116+8860000,'Growth Data'!$A:$F,6,0)),0)","v":0},0,null,0,{"$f":"IF(ISERROR(VLOOKUP($A116+8860000,'Growth Data'!$A:$Z,7,0)),0,VLOOKUP($A116+8860000,'Growth Data'!$A:$Z,7,0))","v":0},0,null,"NO",{"$f":"IF(ISERROR(VLOOKUP($A116+8860000,'Growth Data'!$A:$F,4,0)),\"NO\",VLOOKUP($A116+8860000,'Growth Data'!$A:$F,4,0))","v":"NO"},0,null,0,{"$f":"IF(ISERROR(VLOOKUP($A116+8860000,'Growth Data'!$A:$Z,8,0)),0,VLOOKUP($A116+8860000,'Growth Data'!$A:$Z,8,0))","v":0},0,null,0,{"$f":"IF(ISERROR(VLOOKUP($A116+8860000,'Growth Data'!$A:$Z,9,0)),0,VLOOKUP($A116+8860000,'Growth Data'!$A:$Z,9,0))","v":0},0,null,"NO",{"$f":"IF(ISERROR(VLOOKUP($A116+8860000,'Growth Data'!$A:$Z,5,0)),\"NO\",VLOOKUP($A116+8860000,'Growth Data'!$A:$Z,5,0))","v":"NO"},0,null,0,{"$f":"IF(ISERROR(VLOOKUP($A116+8860000,'Growth Data'!$A:$Z,10,0)),0,VLOOKUP($A116+8860000,'Growth Data'!$A:$Z,10,0))","v":0},0,null,0,{"$f":"IF(ISERROR(VLOOKUP($A116+8860000,'Growth Data'!$A:$Z,11,0)),0,VLOOKUP($A116+8860000,'Growth Data'!$A:$Z,11,0))","v":0},0]
[2632,"Sevenoaks Primary School",null,"Sevenoaks Primary School",null,1,null,1868274.68,1868274.68,0,null,42920.18,42920.177197346587,2.8026534128002822E-3,null,39072.39,39072.387591522143,2.4084778560791165E-3,null,113498.23,113498.22652892563,3.4710743639152497E-3,null,120084,120084,0,null,0,0,0,null,80365.66,80365.660544494822,-5.4449481831397861E-4,null,0,0,0,null,75264,75264,0,null,0,0,0,null,0,0,0,null,260504.87,260504.86813771084,1.8622891511768103E-3,null,2599984,2599983.9999999995,0,null,0,0,0,null,2599984,2599983.9999999995,0,null,0,null,0,null,null,null,0,null,null,null,0,null,444359.47,444359.46504790609,0,null,16469.78,16469.77536,0,null,null,null,0,null,null,null,0,null,null,null,0,null,null,null,0,null,null,null,0,null,null,null,0,null,"NO",{"$f":"IF(ISERROR(VLOOKUP($A117+8860000,'Growth Data'!$A:$F,3,0)),\"NO\",VLOOKUP($A117+8860000,'Growth Data'!$A:$F,3,0))","v":"NO"},0,null,0,{"$f":"IF(DI117=\"YES\",IF(ISERROR(VLOOKUP($A117+8860000,'Growth Data'!$A:$F,6,0)),0,VLOOKUP($A117+8860000,'Growth Data'!$A:$F,6,0)),0)","v":0},0,null,0,{"$f":"IF(ISERROR(VLOOKUP($A117+8860000,'Growth Data'!$A:$Z,7,0)),0,VLOOKUP($A117+8860000,'Growth Data'!$A:$Z,7,0))","v":0},0,null,"NO",{"$f":"IF(ISERROR(VLOOKUP($A117+8860000,'Growth Data'!$A:$F,4,0)),\"NO\",VLOOKUP($A117+8860000,'Growth Data'!$A:$F,4,0))","v":"NO"},0,null,0,{"$f":"IF(ISERROR(VLOOKUP($A117+8860000,'Growth Data'!$A:$Z,8,0)),0,VLOOKUP($A117+8860000,'Growth Data'!$A:$Z,8,0))","v":0},0,null,0,{"$f":"IF(ISERROR(VLOOKUP($A117+8860000,'Growth Data'!$A:$Z,9,0)),0,VLOOKUP($A117+8860000,'Growth Data'!$A:$Z,9,0))","v":0},0,null,"NO",{"$f":"IF(ISERROR(VLOOKUP($A117+8860000,'Growth Data'!$A:$Z,5,0)),\"NO\",VLOOKUP($A117+8860000,'Growth Data'!$A:$Z,5,0))","v":"NO"},0,null,0,{"$f":"IF(ISERROR(VLOOKUP($A117+8860000,'Growth Data'!$A:$Z,10,0)),0,VLOOKUP($A117+8860000,'Growth Data'!$A:$Z,10,0))","v":0},0,null,0,{"$f":"IF(ISERROR(VLOOKUP($A117+8860000,'Growth Data'!$A:$Z,11,0)),0,VLOOKUP($A117+8860000,'Growth Data'!$A:$Z,11,0))","v":0},0]
[2643,"Swalecliffe Community Primary School",null,"Swalecliffe Community Primary School",null,1,null,1865181.51,1865181.51,0,null,95977.11,95977.112029220763,-2.0292207627790049E-3,null,5799.94,5799.9350097087363,4.9902912633115193E-3,null,151583.67000000001,151583.66523529412,4.7647058963775635E-3,null,120084,120084,0,null,0,0,0,null,0,0,0,null,0,0,0,null,59904,59904,0,null,0,0,0,null,0,0,0,null,281913.78000000003,281913.77772577631,2.2742237197235227E-3,null,2580444,2580443.9999999995,0,null,0,0,0,null,2580444,2580443.9999999995,0,null,0,null,0,null,null,null,0,null,null,null,0,null,504223.63,504223.63230700814,0,null,15858.9,15858.900000000001,0,null,null,null,0,null,null,null,0,null,null,null,0,null,null,null,0,null,null,null,0,null,null,null,0,null,"NO",{"$f":"IF(ISERROR(VLOOKUP($A118+8860000,'Growth Data'!$A:$F,3,0)),\"NO\",VLOOKUP($A118+8860000,'Growth Data'!$A:$F,3,0))","v":"NO"},0,null,0,{"$f":"IF(DI118=\"YES\",IF(ISERROR(VLOOKUP($A118+8860000,'Growth Data'!$A:$F,6,0)),0,VLOOKUP($A118+8860000,'Growth Data'!$A:$F,6,0)),0)","v":0},0,null,0,{"$f":"IF(ISERROR(VLOOKUP($A118+8860000,'Growth Data'!$A:$Z,7,0)),0,VLOOKUP($A118+8860000,'Growth Data'!$A:$Z,7,0))","v":0},0,null,"NO",{"$f":"IF(ISERROR(VLOOKUP($A118+8860000,'Growth Data'!$A:$F,4,0)),\"NO\",VLOOKUP($A118+8860000,'Growth Data'!$A:$F,4,0))","v":"NO"},0,null,0,{"$f":"IF(ISERROR(VLOOKUP($A118+8860000,'Growth Data'!$A:$Z,8,0)),0,VLOOKUP($A118+8860000,'Growth Data'!$A:$Z,8,0))","v":0},0,null,0,{"$f":"IF(ISERROR(VLOOKUP($A118+8860000,'Growth Data'!$A:$Z,9,0)),0,VLOOKUP($A118+8860000,'Growth Data'!$A:$Z,9,0))","v":0},0,null,"NO",{"$f":"IF(ISERROR(VLOOKUP($A118+8860000,'Growth Data'!$A:$Z,5,0)),\"NO\",VLOOKUP($A118+8860000,'Growth Data'!$A:$Z,5,0))","v":"NO"},0,null,0,{"$f":"IF(ISERROR(VLOOKUP($A118+8860000,'Growth Data'!$A:$Z,10,0)),0,VLOOKUP($A118+8860000,'Growth Data'!$A:$Z,10,0))","v":0},0,null,0,{"$f":"IF(ISERROR(VLOOKUP($A118+8860000,'Growth Data'!$A:$Z,11,0)),0,VLOOKUP($A118+8860000,'Growth Data'!$A:$Z,11,0))","v":0},0]
[2648,"Aylesham Primary School",null,"Aylesham Primary School",null,1,null,1064050.48,1064050.48,0,null,172284.54,172284.5400000001,0,null,8894.89,8894.8934228187954,-3.4228187960252399E-3,null,85034.7,85034.703569023564,-3.5690235672518611E-3,null,120084,120084,0,null,0,0,0,null,0,0,0,null,0,0,0,null,27136,27136,0,null,0,0,0,null,0,0,0,null,0,0,0,null,1477484.62,1477484.6169918424,3.0081577133387327E-3,null,0,0,0,null,1477484.62,1477484.6169918424,3.0081577133387327E-3,null,0,null,0,null,null,null,0,null,null,null,0,null,214909.2,214909.19929885055,0,null,9047.2000000000007,9047.2000000000007,0,null,null,null,0,null,null,null,0,null,null,null,0,null,null,null,0,null,null,null,0,null,null,null,0,null,"NO",{"$f":"IF(ISERROR(VLOOKUP($A119+8860000,'Growth Data'!$A:$F,3,0)),\"NO\",VLOOKUP($A119+8860000,'Growth Data'!$A:$F,3,0))","v":"YES"},1,null,0,{"$f":"IF(DI119=\"YES\",IF(ISERROR(VLOOKUP($A119+8860000,'Growth Data'!$A:$F,6,0)),0,VLOOKUP($A119+8860000,'Growth Data'!$A:$F,6,0)),0)","v":47},-47,null,0,{"$f":"IF(ISERROR(VLOOKUP($A119+8860000,'Growth Data'!$A:$Z,7,0)),0,VLOOKUP($A119+8860000,'Growth Data'!$A:$Z,7,0))","v":60},1,null,"NO",{"$f":"IF(ISERROR(VLOOKUP($A119+8860000,'Growth Data'!$A:$F,4,0)),\"NO\",VLOOKUP($A119+8860000,'Growth Data'!$A:$F,4,0))","v":"YES"},1,null,0,{"$f":"IF(ISERROR(VLOOKUP($A119+8860000,'Growth Data'!$A:$Z,8,0)),0,VLOOKUP($A119+8860000,'Growth Data'!$A:$Z,8,0))","v":41},1,null,0,{"$f":"IF(ISERROR(VLOOKUP($A119+8860000,'Growth Data'!$A:$Z,9,0)),0,VLOOKUP($A119+8860000,'Growth Data'!$A:$Z,9,0))","v":60},1,null,"NO",{"$f":"IF(ISERROR(VLOOKUP($A119+8860000,'Growth Data'!$A:$Z,5,0)),\"NO\",VLOOKUP($A119+8860000,'Growth Data'!$A:$Z,5,0))","v":"NO"},0,null,0,{"$f":"IF(ISERROR(VLOOKUP($A119+8860000,'Growth Data'!$A:$Z,10,0)),0,VLOOKUP($A119+8860000,'Growth Data'!$A:$Z,10,0))","v":0},0,null,0,{"$f":"IF(ISERROR(VLOOKUP($A119+8860000,'Growth Data'!$A:$Z,11,0)),0,VLOOKUP($A119+8860000,'Growth Data'!$A:$Z,11,0))","v":0},0]
[2651,"Broadwater Down Primary School",null,"Broadwater Down Primary School",null,1,null,470161.84,470161.84,0,null,54792.24,54792.236027397223,3.9726027753204107E-3,null,14378.94,14378.938749999999,1.2500000011641532E-3,null,52307.17,52307.169586776858,4.1322314064018428E-4,null,120084,120084,0,null,0,0,0,null,0,0,0,null,0,0,0,null,18837,18837,0,null,0,0,0,null,0,0,0,null,0,0,0,null,730561.18,730561.18436417414,-4.3641740921884775E-3,null,0,0,0,null,730561.18,730561.18436417414,-4.3641740921884775E-3,null,0,null,0,null,null,null,0,null,null,null,0,null,106538.69,106538.68667118227,0,null,3997.6,3997.6,0,null,null,null,0,null,null,null,0,null,null,null,0,null,null,null,0,null,null,null,0,null,null,null,0,null,"YES",{"$f":"IF(ISERROR(VLOOKUP($A120+8860000,'Growth Data'!$A:$F,3,0)),\"NO\",VLOOKUP($A120+8860000,'Growth Data'!$A:$F,3,0))","v":"NO"},1,null,60,{"$f":"IF(DI120=\"YES\",IF(ISERROR(VLOOKUP($A120+8860000,'Growth Data'!$A:$F,6,0)),0,VLOOKUP($A120+8860000,'Growth Data'!$A:$F,6,0)),0)","v":0},60,null,90,{"$f":"IF(ISERROR(VLOOKUP($A120+8860000,'Growth Data'!$A:$Z,7,0)),0,VLOOKUP($A120+8860000,'Growth Data'!$A:$Z,7,0))","v":0},1,null,"YES",{"$f":"IF(ISERROR(VLOOKUP($A120+8860000,'Growth Data'!$A:$F,4,0)),\"NO\",VLOOKUP($A120+8860000,'Growth Data'!$A:$F,4,0))","v":"NO"},1,null,60,{"$f":"IF(ISERROR(VLOOKUP($A120+8860000,'Growth Data'!$A:$Z,8,0)),0,VLOOKUP($A120+8860000,'Growth Data'!$A:$Z,8,0))","v":0},1,null,90,{"$f":"IF(ISERROR(VLOOKUP($A120+8860000,'Growth Data'!$A:$Z,9,0)),0,VLOOKUP($A120+8860000,'Growth Data'!$A:$Z,9,0))","v":0},1,null,"NO",{"$f":"IF(ISERROR(VLOOKUP($A120+8860000,'Growth Data'!$A:$Z,5,0)),\"NO\",VLOOKUP($A120+8860000,'Growth Data'!$A:$Z,5,0))","v":"NO"},0,null,0,{"$f":"IF(ISERROR(VLOOKUP($A120+8860000,'Growth Data'!$A:$Z,10,0)),0,VLOOKUP($A120+8860000,'Growth Data'!$A:$Z,10,0))","v":0},0,null,0,{"$f":"IF(ISERROR(VLOOKUP($A120+8860000,'Growth Data'!$A:$Z,11,0)),0,VLOOKUP($A120+8860000,'Growth Data'!$A:$Z,11,0))","v":0},0]
[2653,"West Borough Primary School",null,"West Borough Primary School",null,1,null,1388833.33,1388833.33,0,null,106810.09,106810.08999999988,1.1641532182693481E-10,null,37385.589999999997,37385.593564102492,-3.564102495147381E-3,null,102389.34,102389.3411081081,-1.1081081029260531E-3,null,120084,120084,0,null,0,0,0,null,0,0,0,null,0,0,0,null,58368,58368,0,null,0,0,0,null,0,0,0,null,121317.65,121317.64532778948,4.6722105180379003E-3,null,1935188,1935188,0,null,0,0,0,null,1935188,1935188,0,null,0,null,0,null,null,null,0,null,null,null,0,null,334089.89,334089.89230700815,0,null,11808.7,11808.7,0,null,null,null,0,null,null,null,0,null,null,null,0,null,null,null,0,null,null,null,0,null,null,null,0,null,"NO",{"$f":"IF(ISERROR(VLOOKUP($A121+8860000,'Growth Data'!$A:$F,3,0)),\"NO\",VLOOKUP($A121+8860000,'Growth Data'!$A:$F,3,0))","v":"NO"},0,null,0,{"$f":"IF(DI121=\"YES\",IF(ISERROR(VLOOKUP($A121+8860000,'Growth Data'!$A:$F,6,0)),0,VLOOKUP($A121+8860000,'Growth Data'!$A:$F,6,0)),0)","v":0},0,null,0,{"$f":"IF(ISERROR(VLOOKUP($A121+8860000,'Growth Data'!$A:$Z,7,0)),0,VLOOKUP($A121+8860000,'Growth Data'!$A:$Z,7,0))","v":0},0,null,"NO",{"$f":"IF(ISERROR(VLOOKUP($A121+8860000,'Growth Data'!$A:$F,4,0)),\"NO\",VLOOKUP($A121+8860000,'Growth Data'!$A:$F,4,0))","v":"NO"},0,null,0,{"$f":"IF(ISERROR(VLOOKUP($A121+8860000,'Growth Data'!$A:$Z,8,0)),0,VLOOKUP($A121+8860000,'Growth Data'!$A:$Z,8,0))","v":0},0,null,0,{"$f":"IF(ISERROR(VLOOKUP($A121+8860000,'Growth Data'!$A:$Z,9,0)),0,VLOOKUP($A121+8860000,'Growth Data'!$A:$Z,9,0))","v":0},0,null,"NO",{"$f":"IF(ISERROR(VLOOKUP($A121+8860000,'Growth Data'!$A:$Z,5,0)),\"NO\",VLOOKUP($A121+8860000,'Growth Data'!$A:$Z,5,0))","v":"NO"},0,null,0,{"$f":"IF(ISERROR(VLOOKUP($A121+8860000,'Growth Data'!$A:$Z,10,0)),0,VLOOKUP($A121+8860000,'Growth Data'!$A:$Z,10,0))","v":0},0,null,0,{"$f":"IF(ISERROR(VLOOKUP($A121+8860000,'Growth Data'!$A:$Z,11,0)),0,VLOOKUP($A121+8860000,'Growth Data'!$A:$Z,11,0))","v":0},0]
[2662,"Long Mead Community Primary School",null,"Long Mead Community Primary School",null,1,null,380459.91,380459.91000000003,0,null,76592.38,76592.380000000019,0,null,3022.23,3022.2308035714259,-8.035714258767257E-4,null,50061.04,50061.035142857145,4.8571428560535423E-3,null,120084,120084,0,null,0,0,0,null,0,0,0,null,0,0,0,null,18463,18463,0,null,0,0,0,null,0,0,0,null,0,0,0,null,648682.56000000006,648682.55594642856,4.0535714942961931E-3,null,0,0,0,null,648682.56000000006,648682.55594642856,4.0535714942961931E-3,null,0,null,0,null,null,null,0,null,null,null,0,null,106910.55,106910.5482534367,0,null,3234.9,3234.9,0,null,null,null,0,null,null,null,0,null,null,null,0,null,null,null,0,null,null,null,0,null,null,null,0,null,"NO",{"$f":"IF(ISERROR(VLOOKUP($A122+8860000,'Growth Data'!$A:$F,3,0)),\"NO\",VLOOKUP($A122+8860000,'Growth Data'!$A:$F,3,0))","v":"NO"},0,null,0,{"$f":"IF(DI122=\"YES\",IF(ISERROR(VLOOKUP($A122+8860000,'Growth Data'!$A:$F,6,0)),0,VLOOKUP($A122+8860000,'Growth Data'!$A:$F,6,0)),0)","v":0},0,null,0,{"$f":"IF(ISERROR(VLOOKUP($A122+8860000,'Growth Data'!$A:$Z,7,0)),0,VLOOKUP($A122+8860000,'Growth Data'!$A:$Z,7,0))","v":0},0,null,"NO",{"$f":"IF(ISERROR(VLOOKUP($A122+8860000,'Growth Data'!$A:$F,4,0)),\"NO\",VLOOKUP($A122+8860000,'Growth Data'!$A:$F,4,0))","v":"NO"},0,null,0,{"$f":"IF(ISERROR(VLOOKUP($A122+8860000,'Growth Data'!$A:$Z,8,0)),0,VLOOKUP($A122+8860000,'Growth Data'!$A:$Z,8,0))","v":0},0,null,0,{"$f":"IF(ISERROR(VLOOKUP($A122+8860000,'Growth Data'!$A:$Z,9,0)),0,VLOOKUP($A122+8860000,'Growth Data'!$A:$Z,9,0))","v":0},0,null,"NO",{"$f":"IF(ISERROR(VLOOKUP($A122+8860000,'Growth Data'!$A:$Z,5,0)),\"NO\",VLOOKUP($A122+8860000,'Growth Data'!$A:$Z,5,0))","v":"NO"},0,null,0,{"$f":"IF(ISERROR(VLOOKUP($A122+8860000,'Growth Data'!$A:$Z,10,0)),0,VLOOKUP($A122+8860000,'Growth Data'!$A:$Z,10,0))","v":0},0,null,0,{"$f":"IF(ISERROR(VLOOKUP($A122+8860000,'Growth Data'!$A:$Z,11,0)),0,VLOOKUP($A122+8860000,'Growth Data'!$A:$Z,11,0))","v":0},0]
[2672,"Palm Bay Primary School",null,"Palm Bay Primary School",null,1,null,1320783.5900000001,1320783.5900000001,0,null,109832.22,109832.22000000009,0,null,6421.22,6421.2166666666662,3.3333333340124227E-3,null,116652.97,116652.97230136987,-2.3013698664726689E-3,null,120084,120084,0,null,0,0,0,null,0,0,0,null,0,0,0,null,54272,54272,0,null,0,0,0,null,0,0,0,null,111086,111086.00103196327,-1.0319632710888982E-3,null,1839132,1839131.9999999995,0,null,0,0,0,null,1839132,1839131.9999999995,0,null,0,null,0,null,null,null,0,null,null,null,0,null,317084.43,317084.43230700796,0,null,11230.1,11230.099999999999,0,null,null,null,0,null,null,null,0,null,null,null,0,null,null,null,0,null,null,null,0,null,null,null,0,null,"NO",{"$f":"IF(ISERROR(VLOOKUP($A123+8860000,'Growth Data'!$A:$F,3,0)),\"NO\",VLOOKUP($A123+8860000,'Growth Data'!$A:$F,3,0))","v":"NO"},0,null,0,{"$f":"IF(DI123=\"YES\",IF(ISERROR(VLOOKUP($A123+8860000,'Growth Data'!$A:$F,6,0)),0,VLOOKUP($A123+8860000,'Growth Data'!$A:$F,6,0)),0)","v":0},0,null,0,{"$f":"IF(ISERROR(VLOOKUP($A123+8860000,'Growth Data'!$A:$Z,7,0)),0,VLOOKUP($A123+8860000,'Growth Data'!$A:$Z,7,0))","v":0},0,null,"NO",{"$f":"IF(ISERROR(VLOOKUP($A123+8860000,'Growth Data'!$A:$F,4,0)),\"NO\",VLOOKUP($A123+8860000,'Growth Data'!$A:$F,4,0))","v":"NO"},0,null,0,{"$f":"IF(ISERROR(VLOOKUP($A123+8860000,'Growth Data'!$A:$Z,8,0)),0,VLOOKUP($A123+8860000,'Growth Data'!$A:$Z,8,0))","v":0},0,null,0,{"$f":"IF(ISERROR(VLOOKUP($A123+8860000,'Growth Data'!$A:$Z,9,0)),0,VLOOKUP($A123+8860000,'Growth Data'!$A:$Z,9,0))","v":0},0,null,"NO",{"$f":"IF(ISERROR(VLOOKUP($A123+8860000,'Growth Data'!$A:$Z,5,0)),\"NO\",VLOOKUP($A123+8860000,'Growth Data'!$A:$Z,5,0))","v":"NO"},0,null,0,{"$f":"IF(ISERROR(VLOOKUP($A123+8860000,'Growth Data'!$A:$Z,10,0)),0,VLOOKUP($A123+8860000,'Growth Data'!$A:$Z,10,0))","v":0},0,null,0,{"$f":"IF(ISERROR(VLOOKUP($A123+8860000,'Growth Data'!$A:$Z,11,0)),0,VLOOKUP($A123+8860000,'Growth Data'!$A:$Z,11,0))","v":0},0]
[2674,"King's Farm Primary School",null,"King's Farm Primary School",null,1,null,1169218.26,1169218.26,0,null,259040.73,259040.73466487942,-4.6648794086650014E-3,null,19751.34,19751.337341772152,2.6582278478599619E-3,null,144302.29999999999,144302.30477419353,-4.7741935413796455E-3,null,120084,120084,0,null,0,0,0,null,0,0,0,null,0,0,0,null,43264,43264,0,null,0,0,0,null,0,0,0,null,0,0,0,null,1755660.64,1755660.6367808452,3.2191546633839607E-3,null,239846.98,239846.98299810453,-2.9981045227032155E-3,null,1995507.62,1995507.6197789498,2.2105034440755844E-4,null,0,null,0,null,null,null,0,null,null,null,0,null,583096.57999999996,583096.58208595775,0,null,9941.4,9941.4000000000015,0,null,null,null,0,null,null,null,0,null,null,null,0,null,null,null,0,null,null,null,0,null,null,null,0,null,"NO",{"$f":"IF(ISERROR(VLOOKUP($A124+8860000,'Growth Data'!$A:$F,3,0)),\"NO\",VLOOKUP($A124+8860000,'Growth Data'!$A:$F,3,0))","v":"NO"},0,null,0,{"$f":"IF(DI124=\"YES\",IF(ISERROR(VLOOKUP($A124+8860000,'Growth Data'!$A:$F,6,0)),0,VLOOKUP($A124+8860000,'Growth Data'!$A:$F,6,0)),0)","v":0},0,null,0,{"$f":"IF(ISERROR(VLOOKUP($A124+8860000,'Growth Data'!$A:$Z,7,0)),0,VLOOKUP($A124+8860000,'Growth Data'!$A:$Z,7,0))","v":0},0,null,"NO",{"$f":"IF(ISERROR(VLOOKUP($A124+8860000,'Growth Data'!$A:$F,4,0)),\"NO\",VLOOKUP($A124+8860000,'Growth Data'!$A:$F,4,0))","v":"NO"},0,null,0,{"$f":"IF(ISERROR(VLOOKUP($A124+8860000,'Growth Data'!$A:$Z,8,0)),0,VLOOKUP($A124+8860000,'Growth Data'!$A:$Z,8,0))","v":0},0,null,0,{"$f":"IF(ISERROR(VLOOKUP($A124+8860000,'Growth Data'!$A:$Z,9,0)),0,VLOOKUP($A124+8860000,'Growth Data'!$A:$Z,9,0))","v":0},0,null,"NO",{"$f":"IF(ISERROR(VLOOKUP($A124+8860000,'Growth Data'!$A:$Z,5,0)),\"NO\",VLOOKUP($A124+8860000,'Growth Data'!$A:$Z,5,0))","v":"NO"},0,null,0,{"$f":"IF(ISERROR(VLOOKUP($A124+8860000,'Growth Data'!$A:$Z,10,0)),0,VLOOKUP($A124+8860000,'Growth Data'!$A:$Z,10,0))","v":0},0,null,0,{"$f":"IF(ISERROR(VLOOKUP($A124+8860000,'Growth Data'!$A:$Z,11,0)),0,VLOOKUP($A124+8860000,'Growth Data'!$A:$Z,11,0))","v":0},0]
[2680,"Kings Hill School",null,"Kings Hill School",null,1,null,1388833.33,1388833.33,0,null,35455.29,35455.292217573231,-2.2175732301548123E-3,null,8258.68,8258.6797686375339,2.3136246636568103E-4,null,88508.07,88508.067830687825,2.1693121816497296E-3,null,120084,120084,0,null,0,0,0,null,0,0,0,null,0,0,0,null,52224,52224,0,null,0,0,0,null,0,0,0,null,235680.63,235680.6301831014,-1.8310139421373606E-4,null,1929044,1929044,0,null,0,0,0,null,1929044,1929044,0,null,0,null,0,null,null,null,0,null,null,null,0,null,359867.81,359867.81230700813,0,null,11808.7,11808.7,0,null,null,null,0,null,null,null,0,null,null,null,0,null,null,null,0,null,null,null,0,null,null,null,0,null,"YES",{"$f":"IF(ISERROR(VLOOKUP($A125+8860000,'Growth Data'!$A:$F,3,0)),\"NO\",VLOOKUP($A125+8860000,'Growth Data'!$A:$F,3,0))","v":"NO"},1,null,92,{"$f":"IF(DI125=\"YES\",IF(ISERROR(VLOOKUP($A125+8860000,'Growth Data'!$A:$F,6,0)),0,VLOOKUP($A125+8860000,'Growth Data'!$A:$F,6,0)),0)","v":0},92,null,120,{"$f":"IF(ISERROR(VLOOKUP($A125+8860000,'Growth Data'!$A:$Z,7,0)),0,VLOOKUP($A125+8860000,'Growth Data'!$A:$Z,7,0))","v":0},1,null,"YES",{"$f":"IF(ISERROR(VLOOKUP($A125+8860000,'Growth Data'!$A:$F,4,0)),\"NO\",VLOOKUP($A125+8860000,'Growth Data'!$A:$F,4,0))","v":"NO"},1,null,90,{"$f":"IF(ISERROR(VLOOKUP($A125+8860000,'Growth Data'!$A:$Z,8,0)),0,VLOOKUP($A125+8860000,'Growth Data'!$A:$Z,8,0))","v":0},1,null,120,{"$f":"IF(ISERROR(VLOOKUP($A125+8860000,'Growth Data'!$A:$Z,9,0)),0,VLOOKUP($A125+8860000,'Growth Data'!$A:$Z,9,0))","v":0},1,null,"NO",{"$f":"IF(ISERROR(VLOOKUP($A125+8860000,'Growth Data'!$A:$Z,5,0)),\"NO\",VLOOKUP($A125+8860000,'Growth Data'!$A:$Z,5,0))","v":"NO"},0,null,0,{"$f":"IF(ISERROR(VLOOKUP($A125+8860000,'Growth Data'!$A:$Z,10,0)),0,VLOOKUP($A125+8860000,'Growth Data'!$A:$Z,10,0))","v":0},0,null,0,{"$f":"IF(ISERROR(VLOOKUP($A125+8860000,'Growth Data'!$A:$Z,11,0)),0,VLOOKUP($A125+8860000,'Growth Data'!$A:$Z,11,0))","v":0},0]
[2682,"New Ash Green Primary School",null,"New Ash Green Primary School",null,1,null,1277479.21,1277479.21,0,null,38203.57,38203.573508771915,-3.5087719152215868E-3,null,3863.64,3863.6442492917854,-4.2492917855270207E-3,null,131772.79,131772.78820588236,1.7941176483873278E-3,null,120084,120084,0,null,0,0,0,null,57827.64,57827.638347473214,1.6525267856195569E-3,null,0,0,0,null,33792,33792,0,null,0,0,0,null,0,0,0,null,97109.15,97109.145688580771,4.3114192230859771E-3,null,1760132,1760132,0,null,0,0,0,null,1760132,1760132,0,null,0,null,0,null,null,null,0,null,null,null,0,null,264720.59000000003,264720.5854319061,0,null,11261.62,11261.617919999999,0,null,null,null,0,null,null,null,0,null,null,null,0,null,null,null,0,null,null,null,0,null,null,null,0,null,"NO",{"$f":"IF(ISERROR(VLOOKUP($A126+8860000,'Growth Data'!$A:$F,3,0)),\"NO\",VLOOKUP($A126+8860000,'Growth Data'!$A:$F,3,0))","v":"NO"},0,null,0,{"$f":"IF(DI126=\"YES\",IF(ISERROR(VLOOKUP($A126+8860000,'Growth Data'!$A:$F,6,0)),0,VLOOKUP($A126+8860000,'Growth Data'!$A:$F,6,0)),0)","v":0},0,null,0,{"$f":"IF(ISERROR(VLOOKUP($A126+8860000,'Growth Data'!$A:$Z,7,0)),0,VLOOKUP($A126+8860000,'Growth Data'!$A:$Z,7,0))","v":0},0,null,"NO",{"$f":"IF(ISERROR(VLOOKUP($A126+8860000,'Growth Data'!$A:$F,4,0)),\"NO\",VLOOKUP($A126+8860000,'Growth Data'!$A:$F,4,0))","v":"NO"},0,null,0,{"$f":"IF(ISERROR(VLOOKUP($A126+8860000,'Growth Data'!$A:$Z,8,0)),0,VLOOKUP($A126+8860000,'Growth Data'!$A:$Z,8,0))","v":0},0,null,0,{"$f":"IF(ISERROR(VLOOKUP($A126+8860000,'Growth Data'!$A:$Z,9,0)),0,VLOOKUP($A126+8860000,'Growth Data'!$A:$Z,9,0))","v":0},0,null,"NO",{"$f":"IF(ISERROR(VLOOKUP($A126+8860000,'Growth Data'!$A:$Z,5,0)),\"NO\",VLOOKUP($A126+8860000,'Growth Data'!$A:$Z,5,0))","v":"NO"},0,null,0,{"$f":"IF(ISERROR(VLOOKUP($A126+8860000,'Growth Data'!$A:$Z,10,0)),0,VLOOKUP($A126+8860000,'Growth Data'!$A:$Z,10,0))","v":0},0,null,0,{"$f":"IF(ISERROR(VLOOKUP($A126+8860000,'Growth Data'!$A:$Z,11,0)),0,VLOOKUP($A126+8860000,'Growth Data'!$A:$Z,11,0))","v":0},0]
[2689,"The Craylands School",null,"The Craylands School",null,1,null,1082609.5,1082609.5,0,null,115451.09,115451.08999999981,1.8917489796876907E-10,null,10628.22,10628.220689655162,-6.8965516220487189E-4,null,109388.72,109388.72336769759,-3.367697587236762E-3,null,120084,120084,0,null,0,0,0,null,52924.34,52924.344453310572,-4.4533105756272562E-3,null,0,0,0,null,61952,61952,0,null,78074.240000000005,78074.235307111696,4.6928883093642071E-3,null,0,0,0,null,0,0,0,null,1631112.11,1631112.1138177747,-3.8177745882421732E-3,null,0,0,0,null,1631112.11,1631112.1138177747,-3.8177745882421732E-3,null,0,null,0,null,null,null,0,null,null,null,0,null,218621.37,218621.36531856924,0,null,9543.74,9543.7439999999988,0,null,null,null,0,null,null,null,0,null,null,null,0,null,null,null,0,null,null,null,0,null,null,null,0,null,"NO",{"$f":"IF(ISERROR(VLOOKUP($A127+8860000,'Growth Data'!$A:$F,3,0)),\"NO\",VLOOKUP($A127+8860000,'Growth Data'!$A:$F,3,0))","v":"YES"},1,null,0,{"$f":"IF(DI127=\"YES\",IF(ISERROR(VLOOKUP($A127+8860000,'Growth Data'!$A:$F,6,0)),0,VLOOKUP($A127+8860000,'Growth Data'!$A:$F,6,0)),0)","v":30},-30,null,0,{"$f":"IF(ISERROR(VLOOKUP($A127+8860000,'Growth Data'!$A:$Z,7,0)),0,VLOOKUP($A127+8860000,'Growth Data'!$A:$Z,7,0))","v":60},1,null,"NO",{"$f":"IF(ISERROR(VLOOKUP($A127+8860000,'Growth Data'!$A:$F,4,0)),\"NO\",VLOOKUP($A127+8860000,'Growth Data'!$A:$F,4,0))","v":"YES"},1,null,0,{"$f":"IF(ISERROR(VLOOKUP($A127+8860000,'Growth Data'!$A:$Z,8,0)),0,VLOOKUP($A127+8860000,'Growth Data'!$A:$Z,8,0))","v":30},1,null,0,{"$f":"IF(ISERROR(VLOOKUP($A127+8860000,'Growth Data'!$A:$Z,9,0)),0,VLOOKUP($A127+8860000,'Growth Data'!$A:$Z,9,0))","v":60},1,null,"NO",{"$f":"IF(ISERROR(VLOOKUP($A127+8860000,'Growth Data'!$A:$Z,5,0)),\"NO\",VLOOKUP($A127+8860000,'Growth Data'!$A:$Z,5,0))","v":"NO"},0,null,0,{"$f":"IF(ISERROR(VLOOKUP($A127+8860000,'Growth Data'!$A:$Z,10,0)),0,VLOOKUP($A127+8860000,'Growth Data'!$A:$Z,10,0))","v":0},0,null,0,{"$f":"IF(ISERROR(VLOOKUP($A127+8860000,'Growth Data'!$A:$Z,11,0)),0,VLOOKUP($A127+8860000,'Growth Data'!$A:$Z,11,0))","v":0},0]
[2692,"The Churchill School",null,"The Churchill School",null,1,null,1231081.6599999999,1231081.6599999999,0,null,94253.52,94253.520000000019,0,null,14731.78,14731.783801169593,-3.80116959240695E-3,null,82645.98,82645.976384839654,3.6151603417238221E-3,null,120084,120084,0,null,0,0,0,null,0,0,0,null,0,0,0,null,12595,12595,0,null,0,0,0,null,0,0,0,null,120843.06,120843.05981399081,1.8600918701849878E-4,null,1676235,1676235,0,null,0,0,0,null,1676235,1676235,0,null,0,null,0,null,null,null,0,null,null,null,0,null,286026.68,286026.68230700819,0,null,10467.4,10467.400000000001,0,null,null,null,0,null,null,null,0,null,null,null,0,null,null,null,0,null,null,null,0,null,null,null,0,null,"NO",{"$f":"IF(ISERROR(VLOOKUP($A128+8860000,'Growth Data'!$A:$F,3,0)),\"NO\",VLOOKUP($A128+8860000,'Growth Data'!$A:$F,3,0))","v":"NO"},0,null,0,{"$f":"IF(DI128=\"YES\",IF(ISERROR(VLOOKUP($A128+8860000,'Growth Data'!$A:$F,6,0)),0,VLOOKUP($A128+8860000,'Growth Data'!$A:$F,6,0)),0)","v":0},0,null,0,{"$f":"IF(ISERROR(VLOOKUP($A128+8860000,'Growth Data'!$A:$Z,7,0)),0,VLOOKUP($A128+8860000,'Growth Data'!$A:$Z,7,0))","v":0},0,null,"NO",{"$f":"IF(ISERROR(VLOOKUP($A128+8860000,'Growth Data'!$A:$F,4,0)),\"NO\",VLOOKUP($A128+8860000,'Growth Data'!$A:$F,4,0))","v":"NO"},0,null,0,{"$f":"IF(ISERROR(VLOOKUP($A128+8860000,'Growth Data'!$A:$Z,8,0)),0,VLOOKUP($A128+8860000,'Growth Data'!$A:$Z,8,0))","v":0},0,null,0,{"$f":"IF(ISERROR(VLOOKUP($A128+8860000,'Growth Data'!$A:$Z,9,0)),0,VLOOKUP($A128+8860000,'Growth Data'!$A:$Z,9,0))","v":0},0,null,"NO",{"$f":"IF(ISERROR(VLOOKUP($A128+8860000,'Growth Data'!$A:$Z,5,0)),\"NO\",VLOOKUP($A128+8860000,'Growth Data'!$A:$Z,5,0))","v":"NO"},0,null,0,{"$f":"IF(ISERROR(VLOOKUP($A128+8860000,'Growth Data'!$A:$Z,10,0)),0,VLOOKUP($A128+8860000,'Growth Data'!$A:$Z,10,0))","v":0},0,null,0,{"$f":"IF(ISERROR(VLOOKUP($A128+8860000,'Growth Data'!$A:$Z,11,0)),0,VLOOKUP($A128+8860000,'Growth Data'!$A:$Z,11,0))","v":0},0]
[3010,"St Pauls' Church of England Voluntary Controlled Primary School",null,"St Pauls' Church of England Voluntary Controlled Primary School",null,1,null,340248.7,340248.7,0,null,19021.2,19021.199999999997,0,null,637.29,637.2936842105272,-3.684210527239884E-3,null,20300.580000000002,20300.58105263158,-1.0526315782044549E-3,null,120084,120084,0,null,0,0,0,null,18410.740000000002,18410.737310315792,2.6896842100541107E-3,null,0,0,0,null,10729,10729,0,null,0,0,0,null,0,0,0,null,0,0,0,null,529431.51,529431.51204715786,-2.047157846391201E-3,null,0,0,0,null,529431.51,529431.51204715786,-2.047157846391201E-3,null,0,null,0,null,null,null,0,null,null,null,0,null,42644.22,42644.223751063939,0,null,2999.46,2999.4623999999999,0,null,null,null,0,null,null,null,0,null,null,null,0,null,null,null,0,null,null,null,0,null,null,null,0,null,"NO",{"$f":"IF(ISERROR(VLOOKUP($A129+8860000,'Growth Data'!$A:$F,3,0)),\"NO\",VLOOKUP($A129+8860000,'Growth Data'!$A:$F,3,0))","v":"NO"},0,null,0,{"$f":"IF(DI129=\"YES\",IF(ISERROR(VLOOKUP($A129+8860000,'Growth Data'!$A:$F,6,0)),0,VLOOKUP($A129+8860000,'Growth Data'!$A:$F,6,0)),0)","v":0},0,null,0,{"$f":"IF(ISERROR(VLOOKUP($A129+8860000,'Growth Data'!$A:$Z,7,0)),0,VLOOKUP($A129+8860000,'Growth Data'!$A:$Z,7,0))","v":0},0,null,"NO",{"$f":"IF(ISERROR(VLOOKUP($A129+8860000,'Growth Data'!$A:$F,4,0)),\"NO\",VLOOKUP($A129+8860000,'Growth Data'!$A:$F,4,0))","v":"NO"},0,null,0,{"$f":"IF(ISERROR(VLOOKUP($A129+8860000,'Growth Data'!$A:$Z,8,0)),0,VLOOKUP($A129+8860000,'Growth Data'!$A:$Z,8,0))","v":0},0,null,0,{"$f":"IF(ISERROR(VLOOKUP($A129+8860000,'Growth Data'!$A:$Z,9,0)),0,VLOOKUP($A129+8860000,'Growth Data'!$A:$Z,9,0))","v":0},0,null,"NO",{"$f":"IF(ISERROR(VLOOKUP($A129+8860000,'Growth Data'!$A:$Z,5,0)),\"NO\",VLOOKUP($A129+8860000,'Growth Data'!$A:$Z,5,0))","v":"NO"},0,null,0,{"$f":"IF(ISERROR(VLOOKUP($A129+8860000,'Growth Data'!$A:$Z,10,0)),0,VLOOKUP($A129+8860000,'Growth Data'!$A:$Z,10,0))","v":0},0,null,0,{"$f":"IF(ISERROR(VLOOKUP($A129+8860000,'Growth Data'!$A:$Z,11,0)),0,VLOOKUP($A129+8860000,'Growth Data'!$A:$Z,11,0))","v":0},0]
[3015,"Fawkham Church of England Voluntary Controlled Primary School",null,"Fawkham Church of England Voluntary Controlled Primary School",null,{"$f":"IF(E130=D130,0,1)","v":1},null,321689.68,321689.68,{"$f":"H130-I130","v":0},null,5290.69,5290.6900000000041,{"$f":"L130-M130","v":0},null,0,0,{"$f":"P130-Q130","v":0},null,20720.009999999998,20720.014545454545,{"$f":"T130-U130","v":-4.5454545470420271E-3},null,120084,120084,{"$f":"X130-Y130","v":0},null,0,0,{"$f":"AB130-AC130","v":0},null,17214.47,17214.465351272727,{"$f":"AF130-AG130","v":4.6487272738886531E-3},null,0,0,{"$f":"AJ130-AK130","v":0},null,21083,21083,{"$f":"AN130-AO130","v":0},null,0,0,{"$f":"AR130-AS130","v":0},null,0,0,{"$f":"AV130-AW130","v":0},null,0,0,{"$f":"AZ130-BA130","v":0},null,506081.85,506081.84989672725,{"$f":"BD130-BE130","v":1.0327273048460484E-4},null,0,0,{"$f":"BH130-BI130","v":0},null,506081.85,506081.84989672725,{"$f":"BL130-BM130","v":1.0327273048460484E-4},null,0,null,{"$f":"BP130-BQ130","v":0},null,null,null,{"$f":"BT130-BU130","v":0},null,null,null,{"$f":"BX130-BY130","v":0},null,31523.37,31523.371968633324,{"$f":"ROUND(CB130-CC130,0)","v":0},null,2835.86,2835.8553599999996,{"$f":"ROUND(CF130-CG130,0)","v":0},null,null,null,{"$f":"ROUND(CJ130-CK130,0)","v":0},null,null,null,{"$f":"ROUND(CN130-CO130,0)","v":0},null,null,null,{"$f":"ROUND(CR130-CS130,0)","v":0},null,null,null,{"$f":"ROUND(CV130-CW130,0)","v":0},null,null,null,{"$f":"ROUND(CZ130-DA130,0)","v":0},null,null,null,{"$f":"ROUND(DD130-DE130,0)","v":0},null,"NO",{"$f":"IF(ISERROR(VLOOKUP($A130+8860000,'Growth Data'!$A:$F,3,0)),\"NO\",VLOOKUP($A130+8860000,'Growth Data'!$A:$F,3,0))","v":"NO"},{"$f":"IF(DH130=DI130,0,1)","v":0},null,0,{"$f":"IF(DI130=\"YES\",IF(ISERROR(VLOOKUP($A130+8860000,'Growth Data'!$A:$F,6,0)),0,VLOOKUP($A130+8860000,'Growth Data'!$A:$F,6,0)),0)","v":0},{"$f":"ROUND(DL130-DM130,0)","v":0},null,0,{"$f":"IF(ISERROR(VLOOKUP($A130+8860000,'Growth Data'!$A:$Z,7,0)),0,VLOOKUP($A130+8860000,'Growth Data'!$A:$Z,7,0))","v":0},{"$f":"IF(DP130=DQ130,0,1)","v":0},null,"NO",{"$f":"IF(ISERROR(VLOOKUP($A130+8860000,'Growth Data'!$A:$F,4,0)),\"NO\",VLOOKUP($A130+8860000,'Growth Data'!$A:$F,4,0))","v":"NO"},{"$f":"IF(DT130=DU130,0,1)","v":0},null,0,{"$f":"IF(ISERROR(VLOOKUP($A130+8860000,'Growth Data'!$A:$Z,8,0)),0,VLOOKUP($A130+8860000,'Growth Data'!$A:$Z,8,0))","v":0},{"$f":"IF(DX130=DY130,0,1)","v":0},null,0,{"$f":"IF(ISERROR(VLOOKUP($A130+8860000,'Growth Data'!$A:$Z,9,0)),0,VLOOKUP($A130+8860000,'Growth Data'!$A:$Z,9,0))","v":0},{"$f":"IF(EB130=EC130,0,1)","v":0},null,"NO",{"$f":"IF(ISERROR(VLOOKUP($A130+8860000,'Growth Data'!$A:$Z,5,0)),\"NO\",VLOOKUP($A130+8860000,'Growth Data'!$A:$Z,5,0))","v":"NO"},{"$f":"IF(EF130=EG130,0,1)","v":0},null,0,{"$f":"IF(ISERROR(VLOOKUP($A130+8860000,'Growth Data'!$A:$Z,10,0)),0,VLOOKUP($A130+8860000,'Growth Data'!$A:$Z,10,0))","v":0},{"$f":"IF(EJ130=EK130,0,1)","v":0},null,0,{"$f":"IF(ISERROR(VLOOKUP($A130+8860000,'Growth Data'!$A:$Z,11,0)),0,VLOOKUP($A130+8860000,'Growth Data'!$A:$Z,11,0))","v":0},{"$f":"IF(EN130=EO130,0,1)","v":0}]
[3020,"Sedley's Church of England Voluntary Aided Primary School",null,"Sedley's Church of England Voluntary Aided Primary School",null,1,null,293851.15000000002,293851.15000000002,0,null,9490.16,9490.1617446808523,-1.7446808524255175E-3,null,0,0,0,null,25357.24,25357.241666666669,-1.6666666670062114E-3,null,120084,120084,0,null,0,0,0,null,16515.2,16515.197965537591,2.0344624099379871E-3,null,0,0,0,null,5863,5863,0,null,0,0,0,null,0,0,0,null,0,0,0,null,471160.75,471160.75137688516,-1.3768851640634239E-3,null,0,0,0,null,471160.75,471160.75137688516,-1.3768851640634239E-3,null,0,null,0,null,null,null,0,null,null,null,0,null,40685.26,40685.26135279116,0,null,2590.44,2590.4448000000002,0,null,null,null,0,null,null,null,0,null,null,null,0,null,null,null,0,null,null,null,0,null,null,null,0,null,"NO",{"$f":"IF(ISERROR(VLOOKUP($A131+8860000,'Growth Data'!$A:$F,3,0)),\"NO\",VLOOKUP($A131+8860000,'Growth Data'!$A:$F,3,0))","v":"NO"},0,null,0,{"$f":"IF(DI131=\"YES\",IF(ISERROR(VLOOKUP($A131+8860000,'Growth Data'!$A:$F,6,0)),0,VLOOKUP($A131+8860000,'Growth Data'!$A:$F,6,0)),0)","v":0},0,null,0,{"$f":"IF(ISERROR(VLOOKUP($A131+8860000,'Growth Data'!$A:$Z,7,0)),0,VLOOKUP($A131+8860000,'Growth Data'!$A:$Z,7,0))","v":0},0,null,"NO",{"$f":"IF(ISERROR(VLOOKUP($A131+8860000,'Growth Data'!$A:$F,4,0)),\"NO\",VLOOKUP($A131+8860000,'Growth Data'!$A:$F,4,0))","v":"NO"},0,null,0,{"$f":"IF(ISERROR(VLOOKUP($A131+8860000,'Growth Data'!$A:$Z,8,0)),0,VLOOKUP($A131+8860000,'Growth Data'!$A:$Z,8,0))","v":0},0,null,0,{"$f":"IF(ISERROR(VLOOKUP($A131+8860000,'Growth Data'!$A:$Z,9,0)),0,VLOOKUP($A131+8860000,'Growth Data'!$A:$Z,9,0))","v":0},0,null,"NO",{"$f":"IF(ISERROR(VLOOKUP($A131+8860000,'Growth Data'!$A:$Z,5,0)),\"NO\",VLOOKUP($A131+8860000,'Growth Data'!$A:$Z,5,0))","v":"NO"},0,null,0,{"$f":"IF(ISERROR(VLOOKUP($A131+8860000,'Growth Data'!$A:$Z,10,0)),0,VLOOKUP($A131+8860000,'Growth Data'!$A:$Z,10,0))","v":0},0,null,0,{"$f":"IF(ISERROR(VLOOKUP($A131+8860000,'Growth Data'!$A:$Z,11,0)),0,VLOOKUP($A131+8860000,'Growth Data'!$A:$Z,11,0))","v":0},0]
[3022,"Benenden Church of England Primary School",null,"Benenden Church of England Primary School",null,1,null,646472.53,646472.53,0,null,23763.67,23763.672463768125,-2.463768127199728E-3,null,642.63,642.63413407821224,-4.1340782122460951E-3,null,31955.71,31955.711162790696,-1.1627906969806645E-3,null,120084,120084,0,null,0,0,0,null,0,0,0,null,0,0,0,null,35328,35328,0,null,0,0,0,null,0,0,0,null,50701.45,50701.45223936293,-2.2393629333237186E-3,null,908948,908948,0,null,0,0,0,null,908948,908948,0,null,0,null,0,null,null,null,0,null,null,null,0,null,105473.09,105473.09230700812,0,null,5496.7,5496.7,0,null,null,null,0,null,null,null,0,null,null,null,0,null,null,null,0,null,null,null,0,null,null,null,0,null,"NO",{"$f":"IF(ISERROR(VLOOKUP($A132+8860000,'Growth Data'!$A:$F,3,0)),\"NO\",VLOOKUP($A132+8860000,'Growth Data'!$A:$F,3,0))","v":"NO"},0,null,0,{"$f":"IF(DI132=\"YES\",IF(ISERROR(VLOOKUP($A132+8860000,'Growth Data'!$A:$F,6,0)),0,VLOOKUP($A132+8860000,'Growth Data'!$A:$F,6,0)),0)","v":0},0,null,0,{"$f":"IF(ISERROR(VLOOKUP($A132+8860000,'Growth Data'!$A:$Z,7,0)),0,VLOOKUP($A132+8860000,'Growth Data'!$A:$Z,7,0))","v":0},0,null,"NO",{"$f":"IF(ISERROR(VLOOKUP($A132+8860000,'Growth Data'!$A:$F,4,0)),\"NO\",VLOOKUP($A132+8860000,'Growth Data'!$A:$F,4,0))","v":"NO"},0,null,0,{"$f":"IF(ISERROR(VLOOKUP($A132+8860000,'Growth Data'!$A:$Z,8,0)),0,VLOOKUP($A132+8860000,'Growth Data'!$A:$Z,8,0))","v":0},0,null,0,{"$f":"IF(ISERROR(VLOOKUP($A132+8860000,'Growth Data'!$A:$Z,9,0)),0,VLOOKUP($A132+8860000,'Growth Data'!$A:$Z,9,0))","v":0},0,null,"NO",{"$f":"IF(ISERROR(VLOOKUP($A132+8860000,'Growth Data'!$A:$Z,5,0)),\"NO\",VLOOKUP($A132+8860000,'Growth Data'!$A:$Z,5,0))","v":"NO"},0,null,0,{"$f":"IF(ISERROR(VLOOKUP($A132+8860000,'Growth Data'!$A:$Z,10,0)),0,VLOOKUP($A132+8860000,'Growth Data'!$A:$Z,10,0))","v":0},0,null,0,{"$f":"IF(ISERROR(VLOOKUP($A132+8860000,'Growth Data'!$A:$Z,11,0)),0,VLOOKUP($A132+8860000,'Growth Data'!$A:$Z,11,0))","v":0},0]
[3023,"Bidborough Church of England Voluntary Controlled Primary School",null,"Bidborough Church of England Voluntary Controlled Primary School",null,1,null,624820.34,624820.34,0,null,18731.009999999998,18731.010000000002,0,null,5685.28,5685.278522727268,1.4772727317904355E-3,null,41911.58,41911.581538461534,-1.5384615326183848E-3,null,120084,120084,0,null,0,0,0,null,0,0,0,null,0,0,0,null,14970,14970,0,null,0,0,0,null,0,0,0,null,33127.79,33127.789938811242,6.1188758991193026E-5,null,859330,859330,0,null,0,0,0,null,859330,859330,0,null,0,null,0,null,null,null,0,null,null,null,0,null,98325.6,98325.602307008201,0,null,5312.6,5312.6,0,null,null,null,0,null,null,null,0,null,null,null,0,null,null,null,0,null,null,null,0,null,null,null,0,null,"NO",{"$f":"IF(ISERROR(VLOOKUP($A133+8860000,'Growth Data'!$A:$F,3,0)),\"NO\",VLOOKUP($A133+8860000,'Growth Data'!$A:$F,3,0))","v":"NO"},0,null,0,{"$f":"IF(DI133=\"YES\",IF(ISERROR(VLOOKUP($A133+8860000,'Growth Data'!$A:$F,6,0)),0,VLOOKUP($A133+8860000,'Growth Data'!$A:$F,6,0)),0)","v":0},0,null,0,{"$f":"IF(ISERROR(VLOOKUP($A133+8860000,'Growth Data'!$A:$Z,7,0)),0,VLOOKUP($A133+8860000,'Growth Data'!$A:$Z,7,0))","v":0},0,null,"YES",{"$f":"IF(ISERROR(VLOOKUP($A133+8860000,'Growth Data'!$A:$F,4,0)),\"NO\",VLOOKUP($A133+8860000,'Growth Data'!$A:$F,4,0))","v":"NO"},1,null,61,{"$f":"IF(ISERROR(VLOOKUP($A133+8860000,'Growth Data'!$A:$Z,8,0)),0,VLOOKUP($A133+8860000,'Growth Data'!$A:$Z,8,0))","v":0},1,null,90,{"$f":"IF(ISERROR(VLOOKUP($A133+8860000,'Growth Data'!$A:$Z,9,0)),0,VLOOKUP($A133+8860000,'Growth Data'!$A:$Z,9,0))","v":0},1,null,"YES",{"$f":"IF(ISERROR(VLOOKUP($A133+8860000,'Growth Data'!$A:$Z,5,0)),\"NO\",VLOOKUP($A133+8860000,'Growth Data'!$A:$Z,5,0))","v":"NO"},1,null,63,{"$f":"IF(ISERROR(VLOOKUP($A133+8860000,'Growth Data'!$A:$Z,10,0)),0,VLOOKUP($A133+8860000,'Growth Data'!$A:$Z,10,0))","v":0},1,null,90,{"$f":"IF(ISERROR(VLOOKUP($A133+8860000,'Growth Data'!$A:$Z,11,0)),0,VLOOKUP($A133+8860000,'Growth Data'!$A:$Z,11,0))","v":0},1]
[3027,"Cranbrook Church of England Primary School",null,"Cranbrook Church of England Primary School",null,1,null,578422.79,578422.79,0,null,64162.34,64162.337999999974,2.0000000222353265E-3,null,4588.92,4588.9204458598724,-4.4585987234313507E-4,null,45535.33,45535.331111111103,-1.1111111016361974E-3,null,120084,120084,0,null,0,0,0,null,0,0,0,null,0,0,0,null,26112,26112,0,null,0,0,0,null,0,0,0,null,0,0,0,null,838905.38,838905.37955697102,4.4302898459136486E-4,null,0,0,0,null,838905.38,838905.37955697102,4.4302898459136486E-4,null,0,null,0,null,null,null,0,null,null,null,0,null,94743.73,94743.731863979119,0,null,4918.1000000000004,4918.1000000000004,0,null,null,null,0,null,null,null,0,null,null,null,0,null,null,null,0,null,null,null,0,null,null,null,0,null,"NO",{"$f":"IF(ISERROR(VLOOKUP($A134+8860000,'Growth Data'!$A:$F,3,0)),\"NO\",VLOOKUP($A134+8860000,'Growth Data'!$A:$F,3,0))","v":"NO"},0,null,0,{"$f":"IF(DI134=\"YES\",IF(ISERROR(VLOOKUP($A134+8860000,'Growth Data'!$A:$F,6,0)),0,VLOOKUP($A134+8860000,'Growth Data'!$A:$F,6,0)),0)","v":0},0,null,0,{"$f":"IF(ISERROR(VLOOKUP($A134+8860000,'Growth Data'!$A:$Z,7,0)),0,VLOOKUP($A134+8860000,'Growth Data'!$A:$Z,7,0))","v":0},0,null,"NO",{"$f":"IF(ISERROR(VLOOKUP($A134+8860000,'Growth Data'!$A:$F,4,0)),\"NO\",VLOOKUP($A134+8860000,'Growth Data'!$A:$F,4,0))","v":"NO"},0,null,0,{"$f":"IF(ISERROR(VLOOKUP($A134+8860000,'Growth Data'!$A:$Z,8,0)),0,VLOOKUP($A134+8860000,'Growth Data'!$A:$Z,8,0))","v":0},0,null,0,{"$f":"IF(ISERROR(VLOOKUP($A134+8860000,'Growth Data'!$A:$Z,9,0)),0,VLOOKUP($A134+8860000,'Growth Data'!$A:$Z,9,0))","v":0},0,null,"NO",{"$f":"IF(ISERROR(VLOOKUP($A134+8860000,'Growth Data'!$A:$Z,5,0)),\"NO\",VLOOKUP($A134+8860000,'Growth Data'!$A:$Z,5,0))","v":"NO"},0,null,0,{"$f":"IF(ISERROR(VLOOKUP($A134+8860000,'Growth Data'!$A:$Z,10,0)),0,VLOOKUP($A134+8860000,'Growth Data'!$A:$Z,10,0))","v":0},0,null,0,{"$f":"IF(ISERROR(VLOOKUP($A134+8860000,'Growth Data'!$A:$Z,11,0)),0,VLOOKUP($A134+8860000,'Growth Data'!$A:$Z,11,0))","v":0},0]
[3029,"Goudhurst and Kilndown Church of England Primary School",null,"Goudhurst and Kilndown Church of England Primary School",null,1,null,652658.87,652658.87,0,null,20682.34,20682.340000000004,0,null,1283.23,1283.2297237569085,2.7624309154816729E-4,null,27041.81,27041.809356725145,6.4327485597459599E-4,null,120084,120084,0,null,0,0,0,null,0,0,0,null,0,0,0,null,27904,27904,0,null,0,0,0,null,0,0,0,null,60229.75,60229.750919517974,-9.1951797367073596E-4,null,909884,909884,0,null,0,0,0,null,909884,909884,0,null,0,null,0,null,null,null,0,null,null,null,0,null,105805.47,105805.47230700818,0,null,5549.3,5549.2999999999993,0,null,null,null,0,null,null,null,0,null,null,null,0,null,null,null,0,null,null,null,0,null,null,null,0,null,"NO",{"$f":"IF(ISERROR(VLOOKUP($A135+8860000,'Growth Data'!$A:$F,3,0)),\"NO\",VLOOKUP($A135+8860000,'Growth Data'!$A:$F,3,0))","v":"NO"},0,null,0,{"$f":"IF(DI135=\"YES\",IF(ISERROR(VLOOKUP($A135+8860000,'Growth Data'!$A:$F,6,0)),0,VLOOKUP($A135+8860000,'Growth Data'!$A:$F,6,0)),0)","v":0},0,null,0,{"$f":"IF(ISERROR(VLOOKUP($A135+8860000,'Growth Data'!$A:$Z,7,0)),0,VLOOKUP($A135+8860000,'Growth Data'!$A:$Z,7,0))","v":0},0,null,"NO",{"$f":"IF(ISERROR(VLOOKUP($A135+8860000,'Growth Data'!$A:$F,4,0)),\"NO\",VLOOKUP($A135+8860000,'Growth Data'!$A:$F,4,0))","v":"NO"},0,null,0,{"$f":"IF(ISERROR(VLOOKUP($A135+8860000,'Growth Data'!$A:$Z,8,0)),0,VLOOKUP($A135+8860000,'Growth Data'!$A:$Z,8,0))","v":0},0,null,0,{"$f":"IF(ISERROR(VLOOKUP($A135+8860000,'Growth Data'!$A:$Z,9,0)),0,VLOOKUP($A135+8860000,'Growth Data'!$A:$Z,9,0))","v":0},0,null,"NO",{"$f":"IF(ISERROR(VLOOKUP($A135+8860000,'Growth Data'!$A:$Z,5,0)),\"NO\",VLOOKUP($A135+8860000,'Growth Data'!$A:$Z,5,0))","v":"NO"},0,null,0,{"$f":"IF(ISERROR(VLOOKUP($A135+8860000,'Growth Data'!$A:$Z,10,0)),0,VLOOKUP($A135+8860000,'Growth Data'!$A:$Z,10,0))","v":0},0,null,0,{"$f":"IF(ISERROR(VLOOKUP($A135+8860000,'Growth Data'!$A:$Z,11,0)),0,VLOOKUP($A135+8860000,'Growth Data'!$A:$Z,11,0))","v":0},0]
[3032,"Hawkhurst Church of England Primary School",null,"Hawkhurst Church of England Primary School",null,1,null,578422.79,578422.79,0,null,53431.27,53431.266326530596,3.6734694003826007E-3,null,3697.83,3697.8298203592763,1.7964072367249173E-4,null,47385.2,47385.203937499995,-3.9374999978463165E-3,null,120084,120084,0,null,0,0,0,null,0,0,0,null,0,0,0,null,34560,34560,0,null,0,0,0,null,0,0,0,null,0,0,0,null,837581.09,837581.0900843899,-8.4389932453632355E-5,null,0,0,0,null,837581.09,837581.0900843899,-8.4389932453632355E-5,null,0,null,0,null,null,null,0,null,null,null,0,null,81749.2,81749.202391398037,0,null,4918.1000000000004,4918.1000000000004,0,null,null,null,0,null,null,null,0,null,null,null,0,null,null,null,0,null,null,null,0,null,null,null,0,null,"NO",{"$f":"IF(ISERROR(VLOOKUP($A136+8860000,'Growth Data'!$A:$F,3,0)),\"NO\",VLOOKUP($A136+8860000,'Growth Data'!$A:$F,3,0))","v":"NO"},0,null,0,{"$f":"IF(DI136=\"YES\",IF(ISERROR(VLOOKUP($A136+8860000,'Growth Data'!$A:$F,6,0)),0,VLOOKUP($A136+8860000,'Growth Data'!$A:$F,6,0)),0)","v":0},0,null,0,{"$f":"IF(ISERROR(VLOOKUP($A136+8860000,'Growth Data'!$A:$Z,7,0)),0,VLOOKUP($A136+8860000,'Growth Data'!$A:$Z,7,0))","v":0},0,null,"NO",{"$f":"IF(ISERROR(VLOOKUP($A136+8860000,'Growth Data'!$A:$F,4,0)),\"NO\",VLOOKUP($A136+8860000,'Growth Data'!$A:$F,4,0))","v":"NO"},0,null,0,{"$f":"IF(ISERROR(VLOOKUP($A136+8860000,'Growth Data'!$A:$Z,8,0)),0,VLOOKUP($A136+8860000,'Growth Data'!$A:$Z,8,0))","v":0},0,null,0,{"$f":"IF(ISERROR(VLOOKUP($A136+8860000,'Growth Data'!$A:$Z,9,0)),0,VLOOKUP($A136+8860000,'Growth Data'!$A:$Z,9,0))","v":0},0,null,"NO",{"$f":"IF(ISERROR(VLOOKUP($A136+8860000,'Growth Data'!$A:$Z,5,0)),\"NO\",VLOOKUP($A136+8860000,'Growth Data'!$A:$Z,5,0))","v":"NO"},0,null,0,{"$f":"IF(ISERROR(VLOOKUP($A136+8860000,'Growth Data'!$A:$Z,10,0)),0,VLOOKUP($A136+8860000,'Growth Data'!$A:$Z,10,0))","v":0},0,null,0,{"$f":"IF(ISERROR(VLOOKUP($A136+8860000,'Growth Data'!$A:$Z,11,0)),0,VLOOKUP($A136+8860000,'Growth Data'!$A:$Z,11,0))","v":0},0]
[3033,"Hildenborough Church of England Primary School",null,"Hildenborough Church of England Primary School",null,1,null,621727.17000000004,621727.17000000004,0,null,19968.560000000001,19968.558399999994,1.6000000068743248E-3,null,1293.9000000000001,1293.8992982456098,7.0175439032027498E-4,null,38019.31,38019.30553571428,4.4642857174039818E-3,null,120084,120084,0,null,0,0,0,null,0,0,0,null,0,0,0,null,22580,22580,0,null,0,0,0,null,0,0,0,null,39087.07,39087.06676604008,3.2339599201804958E-3,null,862760,862759.99999999988,0,null,0,0,0,null,862760,862759.99999999988,0,null,0,null,0,null,null,null,0,null,null,null,0,null,98619.73,98619.732307008118,0,null,5286.3,5286.2999999999993,0,null,null,null,0,null,null,null,0,null,null,null,0,null,null,null,0,null,null,null,0,null,null,null,0,null,"NO",{"$f":"IF(ISERROR(VLOOKUP($A137+8860000,'Growth Data'!$A:$F,3,0)),\"NO\",VLOOKUP($A137+8860000,'Growth Data'!$A:$F,3,0))","v":"NO"},0,null,0,{"$f":"IF(DI137=\"YES\",IF(ISERROR(VLOOKUP($A137+8860000,'Growth Data'!$A:$F,6,0)),0,VLOOKUP($A137+8860000,'Growth Data'!$A:$F,6,0)),0)","v":0},0,null,0,{"$f":"IF(ISERROR(VLOOKUP($A137+8860000,'Growth Data'!$A:$Z,7,0)),0,VLOOKUP($A137+8860000,'Growth Data'!$A:$Z,7,0))","v":0},0,null,"NO",{"$f":"IF(ISERROR(VLOOKUP($A137+8860000,'Growth Data'!$A:$F,4,0)),\"NO\",VLOOKUP($A137+8860000,'Growth Data'!$A:$F,4,0))","v":"NO"},0,null,0,{"$f":"IF(ISERROR(VLOOKUP($A137+8860000,'Growth Data'!$A:$Z,8,0)),0,VLOOKUP($A137+8860000,'Growth Data'!$A:$Z,8,0))","v":0},0,null,0,{"$f":"IF(ISERROR(VLOOKUP($A137+8860000,'Growth Data'!$A:$Z,9,0)),0,VLOOKUP($A137+8860000,'Growth Data'!$A:$Z,9,0))","v":0},0,null,"NO",{"$f":"IF(ISERROR(VLOOKUP($A137+8860000,'Growth Data'!$A:$Z,5,0)),\"NO\",VLOOKUP($A137+8860000,'Growth Data'!$A:$Z,5,0))","v":"NO"},0,null,0,{"$f":"IF(ISERROR(VLOOKUP($A137+8860000,'Growth Data'!$A:$Z,10,0)),0,VLOOKUP($A137+8860000,'Growth Data'!$A:$Z,10,0))","v":0},0,null,0,{"$f":"IF(ISERROR(VLOOKUP($A137+8860000,'Growth Data'!$A:$Z,11,0)),0,VLOOKUP($A137+8860000,'Growth Data'!$A:$Z,11,0))","v":0},0]
[3034,"Lamberhurst St Mary's CofE (Voluntary Controlled) Primary School",null,"Lamberhurst St Mary's CofE (Voluntary Controlled) Primary School",null,1,null,618634,618634,0,null,9374.5,9374.5,0,null,4532.62,4532.623529411765,-3.5294117651574197E-3,null,46863.12,46863.119496855346,5.0314465624978766E-4,null,120084,120084,0,null,0,0,0,null,0,0,0,null,0,0,0,null,27904,27904,0,null,0,0,0,null,0,0,0,null,36511.760000000002,36511.756973732903,3.0262670989031903E-3,null,863904,863904,0,null,0,0,0,null,863904,863904,0,null,0,null,0,null,null,null,0,null,null,null,0,null,98453.54,98453.54230700816,0,null,5260,5260,0,null,null,null,0,null,null,null,0,null,null,null,0,null,null,null,0,null,null,null,0,null,null,null,0,null,"NO",{"$f":"IF(ISERROR(VLOOKUP($A138+8860000,'Growth Data'!$A:$F,3,0)),\"NO\",VLOOKUP($A138+8860000,'Growth Data'!$A:$F,3,0))","v":"NO"},0,null,0,{"$f":"IF(DI138=\"YES\",IF(ISERROR(VLOOKUP($A138+8860000,'Growth Data'!$A:$F,6,0)),0,VLOOKUP($A138+8860000,'Growth Data'!$A:$F,6,0)),0)","v":0},0,null,0,{"$f":"IF(ISERROR(VLOOKUP($A138+8860000,'Growth Data'!$A:$Z,7,0)),0,VLOOKUP($A138+8860000,'Growth Data'!$A:$Z,7,0))","v":0},0,null,"NO",{"$f":"IF(ISERROR(VLOOKUP($A138+8860000,'Growth Data'!$A:$F,4,0)),\"NO\",VLOOKUP($A138+8860000,'Growth Data'!$A:$F,4,0))","v":"NO"},0,null,0,{"$f":"IF(ISERROR(VLOOKUP($A138+8860000,'Growth Data'!$A:$Z,8,0)),0,VLOOKUP($A138+8860000,'Growth Data'!$A:$Z,8,0))","v":0},0,null,0,{"$f":"IF(ISERROR(VLOOKUP($A138+8860000,'Growth Data'!$A:$Z,9,0)),0,VLOOKUP($A138+8860000,'Growth Data'!$A:$Z,9,0))","v":0},0,null,"NO",{"$f":"IF(ISERROR(VLOOKUP($A138+8860000,'Growth Data'!$A:$Z,5,0)),\"NO\",VLOOKUP($A138+8860000,'Growth Data'!$A:$Z,5,0))","v":"NO"},0,null,0,{"$f":"IF(ISERROR(VLOOKUP($A138+8860000,'Growth Data'!$A:$Z,10,0)),0,VLOOKUP($A138+8860000,'Growth Data'!$A:$Z,10,0))","v":0},0,null,0,{"$f":"IF(ISERROR(VLOOKUP($A138+8860000,'Growth Data'!$A:$Z,11,0)),0,VLOOKUP($A138+8860000,'Growth Data'!$A:$Z,11,0))","v":0},0]
[3035,"Seal Church of England Voluntary Controlled Primary School",null,"Seal Church of England Voluntary Controlled Primary School",null,1,null,1045491.46,1045491.4600000001,0,null,61159.4,61159.400000000125,-1.2369127944111824E-10,null,9756.91,9756.913636363628,-3.6363636281748768E-3,null,72132.039999999994,72132.035655430707,4.3445692863315344E-3,null,120084,120084,0,null,0,0,0,null,48157.36,48157.356181938034,3.8180619667400606E-3,null,0,0,0,null,17839,17839,0,null,0,0,0,null,0,0,0,null,56058.83,56058.834526267419,-4.5262674175319262E-3,null,1430679,1430678.9999999998,0,null,0,0,0,null,1430679,1430678.9999999998,0,null,0,null,0,null,null,null,0,null,null,null,0,null,175518.65,175518.65224790588,0,null,9216.5300000000007,9216.529919999999,0,null,null,null,0,null,null,null,0,null,null,null,0,null,null,null,0,null,null,null,0,null,null,null,0,null,"YES",{"$f":"IF(ISERROR(VLOOKUP($A139+8860000,'Growth Data'!$A:$F,3,0)),\"NO\",VLOOKUP($A139+8860000,'Growth Data'!$A:$F,3,0))","v":"YES"},0,null,30,{"$f":"IF(DI139=\"YES\",IF(ISERROR(VLOOKUP($A139+8860000,'Growth Data'!$A:$F,6,0)),0,VLOOKUP($A139+8860000,'Growth Data'!$A:$F,6,0)),0)","v":33},-3,null,60,{"$f":"IF(ISERROR(VLOOKUP($A139+8860000,'Growth Data'!$A:$Z,7,0)),0,VLOOKUP($A139+8860000,'Growth Data'!$A:$Z,7,0))","v":60},0,null,"YES",{"$f":"IF(ISERROR(VLOOKUP($A139+8860000,'Growth Data'!$A:$F,4,0)),\"NO\",VLOOKUP($A139+8860000,'Growth Data'!$A:$F,4,0))","v":"NO"},1,null,30,{"$f":"IF(ISERROR(VLOOKUP($A139+8860000,'Growth Data'!$A:$Z,8,0)),0,VLOOKUP($A139+8860000,'Growth Data'!$A:$Z,8,0))","v":0},1,null,60,{"$f":"IF(ISERROR(VLOOKUP($A139+8860000,'Growth Data'!$A:$Z,9,0)),0,VLOOKUP($A139+8860000,'Growth Data'!$A:$Z,9,0))","v":0},1,null,"NO",{"$f":"IF(ISERROR(VLOOKUP($A139+8860000,'Growth Data'!$A:$Z,5,0)),\"NO\",VLOOKUP($A139+8860000,'Growth Data'!$A:$Z,5,0))","v":"NO"},0,null,0,{"$f":"IF(ISERROR(VLOOKUP($A139+8860000,'Growth Data'!$A:$Z,10,0)),0,VLOOKUP($A139+8860000,'Growth Data'!$A:$Z,10,0))","v":0},0,null,0,{"$f":"IF(ISERROR(VLOOKUP($A139+8860000,'Growth Data'!$A:$Z,11,0)),0,VLOOKUP($A139+8860000,'Growth Data'!$A:$Z,11,0))","v":0},0]
[3037,"St John's Church of England Primary School, Sevenoaks",null,"St John's Church of England Primary School, Sevenoaks",null,1,null,652658.87,652658.87,0,null,12697.79,12697.790861244019,-8.6124401786946692E-4,null,8340.99,8340.9932044198886,-3.2044198887888342E-3,null,30458.47,30458.469101796411,8.9820359062287025E-4,null,120084,120084,0,null,0,0,0,null,30332.04,30332.036532562535,3.4674374655878637E-3,null,0,0,0,null,22330,22330,0,null,0,0,0,null,0,0,0,null,27407.84,27407.840299977146,-2.9997714591445401E-4,null,904310,904309.99999999988,0,null,35517.74,35517.743543957826,-3.5439578277873807E-3,null,939827.74,939827.74354395771,-3.5439577186480165E-3,null,0,null,0,null,null,null,0,null,null,null,0,null,115623.55,115623.55188786388,0,null,5753.51,5753.5142400000004,0,null,null,null,0,null,null,null,0,null,null,null,0,null,null,null,0,null,null,null,0,null,null,null,0,null,"NO",{"$f":"IF(ISERROR(VLOOKUP($A140+8860000,'Growth Data'!$A:$F,3,0)),\"NO\",VLOOKUP($A140+8860000,'Growth Data'!$A:$F,3,0))","v":"NO"},0,null,0,{"$f":"IF(DI140=\"YES\",IF(ISERROR(VLOOKUP($A140+8860000,'Growth Data'!$A:$F,6,0)),0,VLOOKUP($A140+8860000,'Growth Data'!$A:$F,6,0)),0)","v":0},0,null,0,{"$f":"IF(ISERROR(VLOOKUP($A140+8860000,'Growth Data'!$A:$Z,7,0)),0,VLOOKUP($A140+8860000,'Growth Data'!$A:$Z,7,0))","v":0},0,null,"NO",{"$f":"IF(ISERROR(VLOOKUP($A140+8860000,'Growth Data'!$A:$F,4,0)),\"NO\",VLOOKUP($A140+8860000,'Growth Data'!$A:$F,4,0))","v":"NO"},0,null,0,{"$f":"IF(ISERROR(VLOOKUP($A140+8860000,'Growth Data'!$A:$Z,8,0)),0,VLOOKUP($A140+8860000,'Growth Data'!$A:$Z,8,0))","v":0},0,null,0,{"$f":"IF(ISERROR(VLOOKUP($A140+8860000,'Growth Data'!$A:$Z,9,0)),0,VLOOKUP($A140+8860000,'Growth Data'!$A:$Z,9,0))","v":0},0,null,"NO",{"$f":"IF(ISERROR(VLOOKUP($A140+8860000,'Growth Data'!$A:$Z,5,0)),\"NO\",VLOOKUP($A140+8860000,'Growth Data'!$A:$Z,5,0))","v":"NO"},0,null,0,{"$f":"IF(ISERROR(VLOOKUP($A140+8860000,'Growth Data'!$A:$Z,10,0)),0,VLOOKUP($A140+8860000,'Growth Data'!$A:$Z,10,0))","v":0},0,null,0,{"$f":"IF(ISERROR(VLOOKUP($A140+8860000,'Growth Data'!$A:$Z,11,0)),0,VLOOKUP($A140+8860000,'Growth Data'!$A:$Z,11,0))","v":0},0]
[3042,"Speldhurst Church of England Voluntary Aided Primary School",null,"Speldhurst Church of England Voluntary Aided Primary School",null,1,null,634099.85,634099.85,0,null,6200.3,6200.2999999999938,0,null,1934.23,1934.2277142857092,2.2857142907923844E-3,null,22323.759999999998,22323.761490683228,-1.4906832293490879E-3,null,120084,120084,0,null,0,0,0,null,0,0,0,null,0,0,0,null,3098,3098,0,null,0,0,0,null,0,0,0,null,72257.86,72257.860795031098,-7.9503109736833721E-4,null,859998,859998,0,null,0,0,0,null,859998,859998,0,null,0,null,0,null,null,null,0,null,null,null,0,null,105728.97,105728.97230700818,0,null,5391.5,5391.5,0,null,null,null,0,null,null,null,0,null,null,null,0,null,null,null,0,null,null,null,0,null,null,null,0,null,"NO",{"$f":"IF(ISERROR(VLOOKUP($A141+8860000,'Growth Data'!$A:$F,3,0)),\"NO\",VLOOKUP($A141+8860000,'Growth Data'!$A:$F,3,0))","v":"NO"},0,null,0,{"$f":"IF(DI141=\"YES\",IF(ISERROR(VLOOKUP($A141+8860000,'Growth Data'!$A:$F,6,0)),0,VLOOKUP($A141+8860000,'Growth Data'!$A:$F,6,0)),0)","v":0},0,null,0,{"$f":"IF(ISERROR(VLOOKUP($A141+8860000,'Growth Data'!$A:$Z,7,0)),0,VLOOKUP($A141+8860000,'Growth Data'!$A:$Z,7,0))","v":0},0,null,"NO",{"$f":"IF(ISERROR(VLOOKUP($A141+8860000,'Growth Data'!$A:$F,4,0)),\"NO\",VLOOKUP($A141+8860000,'Growth Data'!$A:$F,4,0))","v":"NO"},0,null,0,{"$f":"IF(ISERROR(VLOOKUP($A141+8860000,'Growth Data'!$A:$Z,8,0)),0,VLOOKUP($A141+8860000,'Growth Data'!$A:$Z,8,0))","v":0},0,null,0,{"$f":"IF(ISERROR(VLOOKUP($A141+8860000,'Growth Data'!$A:$Z,9,0)),0,VLOOKUP($A141+8860000,'Growth Data'!$A:$Z,9,0))","v":0},0,null,"YES",{"$f":"IF(ISERROR(VLOOKUP($A141+8860000,'Growth Data'!$A:$Z,5,0)),\"NO\",VLOOKUP($A141+8860000,'Growth Data'!$A:$Z,5,0))","v":"NO"},1,null,31,{"$f":"IF(ISERROR(VLOOKUP($A141+8860000,'Growth Data'!$A:$Z,10,0)),0,VLOOKUP($A141+8860000,'Growth Data'!$A:$Z,10,0))","v":0},1,null,60,{"$f":"IF(ISERROR(VLOOKUP($A141+8860000,'Growth Data'!$A:$Z,11,0)),0,VLOOKUP($A141+8860000,'Growth Data'!$A:$Z,11,0))","v":0},1]
[3043,"Sundridge and Brasted Church of England Voluntary Controlled Primary School",null,"Sundridge and Brasted Church of England Voluntary Controlled Primary School",null,1,null,222708.24,222708.24,0,null,14095.91,14095.914482758608,-4.4827586079918547E-3,null,629.02,629.01714285714388,2.8571428561008361E-3,null,12679.62,12679.624285714288,-4.2857142871071119E-3,null,120084,120084,0,null,0,0,0,null,13623.24,13623.242089536945,-2.0895369452773593E-3,null,0,0,0,null,7485,7485,0,null,0,0,0,null,0,0,0,null,0,0,0,null,391305.04,391305.038000867,1.9991329754702747E-3,null,0,0,0,null,391305.04,391305.038000867,1.9991329754702747E-3,null,0,null,0,null,null,null,0,null,null,null,0,null,28195.919999999998,28195.919304773044,0,null,1963.28,1963.2844799999998,0,null,null,null,0,null,null,null,0,null,null,null,0,null,null,null,0,null,null,null,0,null,null,null,0,null,"NO",{"$f":"IF(ISERROR(VLOOKUP($A142+8860000,'Growth Data'!$A:$F,3,0)),\"NO\",VLOOKUP($A142+8860000,'Growth Data'!$A:$F,3,0))","v":"NO"},0,null,0,{"$f":"IF(DI142=\"YES\",IF(ISERROR(VLOOKUP($A142+8860000,'Growth Data'!$A:$F,6,0)),0,VLOOKUP($A142+8860000,'Growth Data'!$A:$F,6,0)),0)","v":0},0,null,0,{"$f":"IF(ISERROR(VLOOKUP($A142+8860000,'Growth Data'!$A:$Z,7,0)),0,VLOOKUP($A142+8860000,'Growth Data'!$A:$Z,7,0))","v":0},0,null,"NO",{"$f":"IF(ISERROR(VLOOKUP($A142+8860000,'Growth Data'!$A:$F,4,0)),\"NO\",VLOOKUP($A142+8860000,'Growth Data'!$A:$F,4,0))","v":"NO"},0,null,0,{"$f":"IF(ISERROR(VLOOKUP($A142+8860000,'Growth Data'!$A:$Z,8,0)),0,VLOOKUP($A142+8860000,'Growth Data'!$A:$Z,8,0))","v":0},0,null,0,{"$f":"IF(ISERROR(VLOOKUP($A142+8860000,'Growth Data'!$A:$Z,9,0)),0,VLOOKUP($A142+8860000,'Growth Data'!$A:$Z,9,0))","v":0},0,null,"NO",{"$f":"IF(ISERROR(VLOOKUP($A142+8860000,'Growth Data'!$A:$Z,5,0)),\"NO\",VLOOKUP($A142+8860000,'Growth Data'!$A:$Z,5,0))","v":"NO"},0,null,0,{"$f":"IF(ISERROR(VLOOKUP($A142+8860000,'Growth Data'!$A:$Z,10,0)),0,VLOOKUP($A142+8860000,'Growth Data'!$A:$Z,10,0))","v":0},0,null,0,{"$f":"IF(ISERROR(VLOOKUP($A142+8860000,'Growth Data'!$A:$Z,11,0)),0,VLOOKUP($A142+8860000,'Growth Data'!$A:$Z,11,0))","v":0},0]
[3050,"St John's Church of England Primary School",null,"St John's Church of England Primary School",null,1,null,1976535.63,1976535.6300000001,0,null,62799.6,62799.600000000006,0,null,41716.15,41716.147171532706,2.8284672953304835E-3,null,169744.73,169744.73454545453,-4.5454545179381967E-3,null,120084,120084,0,null,0,0,0,null,0,0,0,null,0,0,0,null,73216,73216,0,null,0,0,0,null,0,0,0,null,300139.89,300139.88828301267,1.7169873462989926E-3,null,2744236,2744236,0,null,0,0,0,null,2744236,2744236,0,null,0,null,0,null,null,null,0,null,null,null,0,null,556698.79,556698.79230700806,0,null,16805.7,16805.7,0,null,null,null,0,null,null,null,0,null,null,null,0,null,null,null,0,null,null,null,0,null,null,null,0,null,"NO",{"$f":"IF(ISERROR(VLOOKUP($A143+8860000,'Growth Data'!$A:$F,3,0)),\"NO\",VLOOKUP($A143+8860000,'Growth Data'!$A:$F,3,0))","v":"NO"},0,null,0,{"$f":"IF(DI143=\"YES\",IF(ISERROR(VLOOKUP($A143+8860000,'Growth Data'!$A:$F,6,0)),0,VLOOKUP($A143+8860000,'Growth Data'!$A:$F,6,0)),0)","v":0},0,null,0,{"$f":"IF(ISERROR(VLOOKUP($A143+8860000,'Growth Data'!$A:$Z,7,0)),0,VLOOKUP($A143+8860000,'Growth Data'!$A:$Z,7,0))","v":0},0,null,"YES",{"$f":"IF(ISERROR(VLOOKUP($A143+8860000,'Growth Data'!$A:$F,4,0)),\"NO\",VLOOKUP($A143+8860000,'Growth Data'!$A:$F,4,0))","v":"NO"},1,null,62,{"$f":"IF(ISERROR(VLOOKUP($A143+8860000,'Growth Data'!$A:$Z,8,0)),0,VLOOKUP($A143+8860000,'Growth Data'!$A:$Z,8,0))","v":0},1,null,90,{"$f":"IF(ISERROR(VLOOKUP($A143+8860000,'Growth Data'!$A:$Z,9,0)),0,VLOOKUP($A143+8860000,'Growth Data'!$A:$Z,9,0))","v":0},1,null,"NO",{"$f":"IF(ISERROR(VLOOKUP($A143+8860000,'Growth Data'!$A:$Z,5,0)),\"NO\",VLOOKUP($A143+8860000,'Growth Data'!$A:$Z,5,0))","v":"NO"},0,null,0,{"$f":"IF(ISERROR(VLOOKUP($A143+8860000,'Growth Data'!$A:$Z,10,0)),0,VLOOKUP($A143+8860000,'Growth Data'!$A:$Z,10,0))","v":0},0,null,0,{"$f":"IF(ISERROR(VLOOKUP($A143+8860000,'Growth Data'!$A:$Z,11,0)),0,VLOOKUP($A143+8860000,'Growth Data'!$A:$Z,11,0))","v":0},0]
[3052,"St Mark's Church of England Primary School",null,"St Mark's Church of England Primary School",null,1,null,1023839.27,1023839.27,0,null,88522.45,88522.450000000128,-1.3096723705530167E-10,null,19874.080000000002,19874.08254545453,-2.5454545284446795E-3,null,101665.87,101665.87265151514,-2.6515151403145865E-3,null,120084,120084,0,null,0,0,0,null,0,0,0,null,0,0,0,null,45568,45568,0,null,0,0,0,null,0,0,0,null,29594.32,29594.324803030177,-4.8030301768449135E-3,null,1429148,1429148,0,null,0,0,0,null,1429148,1429148,0,null,0,null,0,null,null,null,0,null,null,null,0,null,208145.55,208145.55230700807,0,null,8705.2999999999993,8705.2999999999993,0,null,null,null,0,null,null,null,0,null,null,null,0,null,null,null,0,null,null,null,0,null,null,null,0,null,"NO",{"$f":"IF(ISERROR(VLOOKUP($A144+8860000,'Growth Data'!$A:$F,3,0)),\"NO\",VLOOKUP($A144+8860000,'Growth Data'!$A:$F,3,0))","v":"NO"},0,null,0,{"$f":"IF(DI144=\"YES\",IF(ISERROR(VLOOKUP($A144+8860000,'Growth Data'!$A:$F,6,0)),0,VLOOKUP($A144+8860000,'Growth Data'!$A:$F,6,0)),0)","v":0},0,null,0,{"$f":"IF(ISERROR(VLOOKUP($A144+8860000,'Growth Data'!$A:$Z,7,0)),0,VLOOKUP($A144+8860000,'Growth Data'!$A:$Z,7,0))","v":0},0,null,"NO",{"$f":"IF(ISERROR(VLOOKUP($A144+8860000,'Growth Data'!$A:$F,4,0)),\"NO\",VLOOKUP($A144+8860000,'Growth Data'!$A:$F,4,0))","v":"NO"},0,null,0,{"$f":"IF(ISERROR(VLOOKUP($A144+8860000,'Growth Data'!$A:$Z,8,0)),0,VLOOKUP($A144+8860000,'Growth Data'!$A:$Z,8,0))","v":0},0,null,0,{"$f":"IF(ISERROR(VLOOKUP($A144+8860000,'Growth Data'!$A:$Z,9,0)),0,VLOOKUP($A144+8860000,'Growth Data'!$A:$Z,9,0))","v":0},0,null,"NO",{"$f":"IF(ISERROR(VLOOKUP($A144+8860000,'Growth Data'!$A:$Z,5,0)),\"NO\",VLOOKUP($A144+8860000,'Growth Data'!$A:$Z,5,0))","v":"NO"},0,null,0,{"$f":"IF(ISERROR(VLOOKUP($A144+8860000,'Growth Data'!$A:$Z,10,0)),0,VLOOKUP($A144+8860000,'Growth Data'!$A:$Z,10,0))","v":0},0,null,0,{"$f":"IF(ISERROR(VLOOKUP($A144+8860000,'Growth Data'!$A:$Z,11,0)),0,VLOOKUP($A144+8860000,'Growth Data'!$A:$Z,11,0))","v":0},0]
[3053,"St Peter's Church of England Primary School",null,"St Peter's Church of England Primary School",null,1,null,494907.2,494907.2,0,null,16368.35,16368.35,0,null,7451.43,7451.4338461538446,-3.8461538442788878E-3,null,29466.080000000002,29466.08403361345,-4.033613447973039E-3,null,120084,120084,0,null,0,0,0,null,0,0,0,null,0,0,0,null,11477,11477,0,null,0,0,0,null,0,0,0,null,522.92999999999995,522.93212023269734,-2.120232697393476E-3,null,680277,680277,0,null,0,0,0,null,680277,680277,0,null,0,null,0,null,null,null,0,null,null,null,0,null,51297.78,51297.782307008143,0,null,4208,4208,0,null,null,null,0,null,null,null,0,null,null,null,0,null,null,null,0,null,null,null,0,null,null,null,0,null,"NO",{"$f":"IF(ISERROR(VLOOKUP($A145+8860000,'Growth Data'!$A:$F,3,0)),\"NO\",VLOOKUP($A145+8860000,'Growth Data'!$A:$F,3,0))","v":"NO"},0,null,0,{"$f":"IF(DI145=\"YES\",IF(ISERROR(VLOOKUP($A145+8860000,'Growth Data'!$A:$F,6,0)),0,VLOOKUP($A145+8860000,'Growth Data'!$A:$F,6,0)),0)","v":0},0,null,0,{"$f":"IF(ISERROR(VLOOKUP($A145+8860000,'Growth Data'!$A:$Z,7,0)),0,VLOOKUP($A145+8860000,'Growth Data'!$A:$Z,7,0))","v":0},0,null,"NO",{"$f":"IF(ISERROR(VLOOKUP($A145+8860000,'Growth Data'!$A:$F,4,0)),\"NO\",VLOOKUP($A145+8860000,'Growth Data'!$A:$F,4,0))","v":"NO"},0,null,0,{"$f":"IF(ISERROR(VLOOKUP($A145+8860000,'Growth Data'!$A:$Z,8,0)),0,VLOOKUP($A145+8860000,'Growth Data'!$A:$Z,8,0))","v":0},0,null,0,{"$f":"IF(ISERROR(VLOOKUP($A145+8860000,'Growth Data'!$A:$Z,9,0)),0,VLOOKUP($A145+8860000,'Growth Data'!$A:$Z,9,0))","v":0},0,null,"YES",{"$f":"IF(ISERROR(VLOOKUP($A145+8860000,'Growth Data'!$A:$Z,5,0)),\"NO\",VLOOKUP($A145+8860000,'Growth Data'!$A:$Z,5,0))","v":"NO"},1,null,30,{"$f":"IF(ISERROR(VLOOKUP($A145+8860000,'Growth Data'!$A:$Z,10,0)),0,VLOOKUP($A145+8860000,'Growth Data'!$A:$Z,10,0))","v":0},1,null,60,{"$f":"IF(ISERROR(VLOOKUP($A145+8860000,'Growth Data'!$A:$Z,11,0)),0,VLOOKUP($A145+8860000,'Growth Data'!$A:$Z,11,0))","v":0},1]
[3054,"Crockham Hill Church of England Voluntary Controlled Primary School",null,"Crockham Hill Church of England Voluntary Controlled Primary School",null,1,null,426857.46,426857.46,0,null,5660.17,5660.1678571428565,2.1428571435535559E-3,null,643.67999999999995,643.67644067796607,3.5593220338796527E-3,null,33161.46,33161.460526315786,-5.2631578728323802E-4,null,120084,120084,0,null,0,0,0,null,21579.77,21579.768945528227,1.0544717733864672E-3,null,0,0,0,null,17964,17964,0,null,0,0,0,null,12500,12500,0,null,0,0,0,null,638450.53,638450.53376966482,-3.7696647923439741E-3,null,0,0,0,null,638450.53,638450.53376966482,-3.7696647923439741E-3,null,0,null,0,null,null,null,0,null,null,null,0,null,46904.88,46904.880865570885,0,null,3762.96,3762.9619199999997,0,null,null,null,0,null,null,null,0,null,null,null,0,null,null,null,0,null,null,null,0,null,null,null,0,null,"YES",{"$f":"IF(ISERROR(VLOOKUP($A146+8860000,'Growth Data'!$A:$F,3,0)),\"NO\",VLOOKUP($A146+8860000,'Growth Data'!$A:$F,3,0))","v":"NO"},1,null,45,{"$f":"IF(DI146=\"YES\",IF(ISERROR(VLOOKUP($A146+8860000,'Growth Data'!$A:$F,6,0)),0,VLOOKUP($A146+8860000,'Growth Data'!$A:$F,6,0)),0)","v":0},45,null,60,{"$f":"IF(ISERROR(VLOOKUP($A146+8860000,'Growth Data'!$A:$Z,7,0)),0,VLOOKUP($A146+8860000,'Growth Data'!$A:$Z,7,0))","v":0},1,null,"NO",{"$f":"IF(ISERROR(VLOOKUP($A146+8860000,'Growth Data'!$A:$F,4,0)),\"NO\",VLOOKUP($A146+8860000,'Growth Data'!$A:$F,4,0))","v":"NO"},0,null,0,{"$f":"IF(ISERROR(VLOOKUP($A146+8860000,'Growth Data'!$A:$Z,8,0)),0,VLOOKUP($A146+8860000,'Growth Data'!$A:$Z,8,0))","v":0},0,null,0,{"$f":"IF(ISERROR(VLOOKUP($A146+8860000,'Growth Data'!$A:$Z,9,0)),0,VLOOKUP($A146+8860000,'Growth Data'!$A:$Z,9,0))","v":0},0,null,"NO",{"$f":"IF(ISERROR(VLOOKUP($A146+8860000,'Growth Data'!$A:$Z,5,0)),\"NO\",VLOOKUP($A146+8860000,'Growth Data'!$A:$Z,5,0))","v":"NO"},0,null,0,{"$f":"IF(ISERROR(VLOOKUP($A146+8860000,'Growth Data'!$A:$Z,10,0)),0,VLOOKUP($A146+8860000,'Growth Data'!$A:$Z,10,0))","v":0},0,null,0,{"$f":"IF(ISERROR(VLOOKUP($A146+8860000,'Growth Data'!$A:$Z,11,0)),0,VLOOKUP($A146+8860000,'Growth Data'!$A:$Z,11,0))","v":0},0]
[3055,"Churchill Church of England Voluntary Controlled Primary School",null,"Churchill Church of England Voluntary Controlled Primary School",null,1,null,658845.21,658845.21,0,null,66627.289999999994,66627.290000000023,0,null,4341.97,4341.965555555551,4.4444444492910407E-3,null,42436.18,42436.183636363632,-3.6363636318128556E-3,null,120084,120084,0,null,0,0,0,null,32837.919999999998,32837.915090262621,4.9097373776021414E-3,null,0,0,0,null,28928,28928,0,null,0,0,0,null,0,0,0,null,0,0,0,null,954100.56,954100.56428218179,-4.2821817332878709E-3,null,0,0,0,null,954100.56,954100.56428218179,-4.2821817332878709E-3,null,0,null,0,null,null,null,0,null,null,null,0,null,99225.76,99225.763602087885,0,null,5808.05,5808.0499199999995,0,null,null,null,0,null,null,null,0,null,null,null,0,null,null,null,0,null,null,null,0,null,null,null,0,null,"NO",{"$f":"IF(ISERROR(VLOOKUP($A147+8860000,'Growth Data'!$A:$F,3,0)),\"NO\",VLOOKUP($A147+8860000,'Growth Data'!$A:$F,3,0))","v":"NO"},0,null,0,{"$f":"IF(DI147=\"YES\",IF(ISERROR(VLOOKUP($A147+8860000,'Growth Data'!$A:$F,6,0)),0,VLOOKUP($A147+8860000,'Growth Data'!$A:$F,6,0)),0)","v":0},0,null,0,{"$f":"IF(ISERROR(VLOOKUP($A147+8860000,'Growth Data'!$A:$Z,7,0)),0,VLOOKUP($A147+8860000,'Growth Data'!$A:$Z,7,0))","v":0},0,null,"NO",{"$f":"IF(ISERROR(VLOOKUP($A147+8860000,'Growth Data'!$A:$F,4,0)),\"NO\",VLOOKUP($A147+8860000,'Growth Data'!$A:$F,4,0))","v":"NO"},0,null,0,{"$f":"IF(ISERROR(VLOOKUP($A147+8860000,'Growth Data'!$A:$Z,8,0)),0,VLOOKUP($A147+8860000,'Growth Data'!$A:$Z,8,0))","v":0},0,null,0,{"$f":"IF(ISERROR(VLOOKUP($A147+8860000,'Growth Data'!$A:$Z,9,0)),0,VLOOKUP($A147+8860000,'Growth Data'!$A:$Z,9,0))","v":0},0,null,"NO",{"$f":"IF(ISERROR(VLOOKUP($A147+8860000,'Growth Data'!$A:$Z,5,0)),\"NO\",VLOOKUP($A147+8860000,'Growth Data'!$A:$Z,5,0))","v":"NO"},0,null,0,{"$f":"IF(ISERROR(VLOOKUP($A147+8860000,'Growth Data'!$A:$Z,10,0)),0,VLOOKUP($A147+8860000,'Growth Data'!$A:$Z,10,0))","v":0},0,null,0,{"$f":"IF(ISERROR(VLOOKUP($A147+8860000,'Growth Data'!$A:$Z,11,0)),0,VLOOKUP($A147+8860000,'Growth Data'!$A:$Z,11,0))","v":0},0]
[3057,"St Peter's Church of England Primary School",null,"St Peter's Church of England Primary School",null,1,null,553677.43000000005,553677.43000000005,0,null,33417.56,33417.560517241385,-5.172413875698112E-4,null,4537.1000000000004,4537.0965131578978,3.486842102574883E-3,null,35305.71,35305.7094,5.9999999939464033E-4,null,120084,120084,0,null,0,0,0,null,0,0,0,null,0,0,0,null,16342,16342,0,null,0,0,0,null,10271,10271,0,null,1198.2,1198.2035696006787,-3.5696006787020451E-3,null,774833,774833.00000000012,0,null,0,0,0,null,774833,774833.00000000012,0,null,0,null,0,null,null,null,0,null,null,null,0,null,71947.55,71947.552307008125,0,null,4707.7,4707.7,0,null,null,null,0,null,null,null,0,null,null,null,0,null,null,null,0,null,null,null,0,null,null,null,0,null,"NO",{"$f":"IF(ISERROR(VLOOKUP($A148+8860000,'Growth Data'!$A:$F,3,0)),\"NO\",VLOOKUP($A148+8860000,'Growth Data'!$A:$F,3,0))","v":"NO"},0,null,0,{"$f":"IF(DI148=\"YES\",IF(ISERROR(VLOOKUP($A148+8860000,'Growth Data'!$A:$F,6,0)),0,VLOOKUP($A148+8860000,'Growth Data'!$A:$F,6,0)),0)","v":0},0,null,0,{"$f":"IF(ISERROR(VLOOKUP($A148+8860000,'Growth Data'!$A:$Z,7,0)),0,VLOOKUP($A148+8860000,'Growth Data'!$A:$Z,7,0))","v":0},0,null,"NO",{"$f":"IF(ISERROR(VLOOKUP($A148+8860000,'Growth Data'!$A:$F,4,0)),\"NO\",VLOOKUP($A148+8860000,'Growth Data'!$A:$F,4,0))","v":"NO"},0,null,0,{"$f":"IF(ISERROR(VLOOKUP($A148+8860000,'Growth Data'!$A:$Z,8,0)),0,VLOOKUP($A148+8860000,'Growth Data'!$A:$Z,8,0))","v":0},0,null,0,{"$f":"IF(ISERROR(VLOOKUP($A148+8860000,'Growth Data'!$A:$Z,9,0)),0,VLOOKUP($A148+8860000,'Growth Data'!$A:$Z,9,0))","v":0},0,null,"NO",{"$f":"IF(ISERROR(VLOOKUP($A148+8860000,'Growth Data'!$A:$Z,5,0)),\"NO\",VLOOKUP($A148+8860000,'Growth Data'!$A:$Z,5,0))","v":"NO"},0,null,0,{"$f":"IF(ISERROR(VLOOKUP($A148+8860000,'Growth Data'!$A:$Z,10,0)),0,VLOOKUP($A148+8860000,'Growth Data'!$A:$Z,10,0))","v":0},0,null,0,{"$f":"IF(ISERROR(VLOOKUP($A148+8860000,'Growth Data'!$A:$Z,11,0)),0,VLOOKUP($A148+8860000,'Growth Data'!$A:$Z,11,0))","v":0},0]
[3061,"Bredhurst Church of England Voluntary Controlled Primary School",null,"Bredhurst Church of England Voluntary Controlled Primary School",null,1,null,371180.4,371180.4,0,null,7396.13,7396.1299999999983,0,null,5129.8500000000004,5129.8485436893225,1.4563106778950896E-3,null,25782.82,25782.823529411762,-3.5294117624289356E-3,null,120084,120084,0,null,0,0,0,null,0,0,0,null,0,0,0,null,15220,15220,0,null,0,0,0,null,0,0,0,null,0,0,0,null,544793.19999999995,544793.20207310107,-2.0731011172756553E-3,null,0,0,0,null,544793.19999999995,544793.20207310107,-2.0731011172756553E-3,null,0,null,0,null,null,null,0,null,null,null,0,null,41321.620000000003,41321.624380109235,0,null,3156,3156,0,null,null,null,0,null,null,null,0,null,null,null,0,null,null,null,0,null,null,null,0,null,null,null,0,null,"NO",{"$f":"IF(ISERROR(VLOOKUP($A149+8860000,'Growth Data'!$A:$F,3,0)),\"NO\",VLOOKUP($A149+8860000,'Growth Data'!$A:$F,3,0))","v":"NO"},0,null,0,{"$f":"IF(DI149=\"YES\",IF(ISERROR(VLOOKUP($A149+8860000,'Growth Data'!$A:$F,6,0)),0,VLOOKUP($A149+8860000,'Growth Data'!$A:$F,6,0)),0)","v":0},0,null,0,{"$f":"IF(ISERROR(VLOOKUP($A149+8860000,'Growth Data'!$A:$Z,7,0)),0,VLOOKUP($A149+8860000,'Growth Data'!$A:$Z,7,0))","v":0},0,null,"NO",{"$f":"IF(ISERROR(VLOOKUP($A149+8860000,'Growth Data'!$A:$F,4,0)),\"NO\",VLOOKUP($A149+8860000,'Growth Data'!$A:$F,4,0))","v":"NO"},0,null,0,{"$f":"IF(ISERROR(VLOOKUP($A149+8860000,'Growth Data'!$A:$Z,8,0)),0,VLOOKUP($A149+8860000,'Growth Data'!$A:$Z,8,0))","v":0},0,null,0,{"$f":"IF(ISERROR(VLOOKUP($A149+8860000,'Growth Data'!$A:$Z,9,0)),0,VLOOKUP($A149+8860000,'Growth Data'!$A:$Z,9,0))","v":0},0,null,"NO",{"$f":"IF(ISERROR(VLOOKUP($A149+8860000,'Growth Data'!$A:$Z,5,0)),\"NO\",VLOOKUP($A149+8860000,'Growth Data'!$A:$Z,5,0))","v":"NO"},0,null,0,{"$f":"IF(ISERROR(VLOOKUP($A149+8860000,'Growth Data'!$A:$Z,10,0)),0,VLOOKUP($A149+8860000,'Growth Data'!$A:$Z,10,0))","v":0},0,null,0,{"$f":"IF(ISERROR(VLOOKUP($A149+8860000,'Growth Data'!$A:$Z,11,0)),0,VLOOKUP($A149+8860000,'Growth Data'!$A:$Z,11,0))","v":0},0]
[3062,"Burham Church of England Primary School",null,"Burham Church of England Primary School",null,1,null,448509.65,448509.65,0,null,15544.1,15544.101552795033,-1.5527950326941209E-3,null,4232.17,4232.1655303030275,4.4696969725919189E-3,null,30025.82,30025.823622047246,-3.6220472466084175E-3,null,120084,120084,0,null,0,0,0,null,0,0,0,null,0,0,0,null,22081,22081,0,null,0,0,0,null,0,0,0,null,0,0,0,null,640476.74,640476.74070514529,-7.0514529943466187E-4,null,2897.93,2897.9337245304487,-3.7245304488351394E-3,null,643374.67000000004,643374.6744296758,-4.4296757550910115E-3,null,0,null,0,null,null,null,0,null,null,null,0,null,54792.21,54792.206736683904,0,null,3813.5,3813.5,0,null,null,null,0,null,null,null,0,null,null,null,0,null,null,null,0,null,null,null,0,null,null,null,0,null,"NO",{"$f":"IF(ISERROR(VLOOKUP($A150+8860000,'Growth Data'!$A:$F,3,0)),\"NO\",VLOOKUP($A150+8860000,'Growth Data'!$A:$F,3,0))","v":"NO"},0,null,0,{"$f":"IF(DI150=\"YES\",IF(ISERROR(VLOOKUP($A150+8860000,'Growth Data'!$A:$F,6,0)),0,VLOOKUP($A150+8860000,'Growth Data'!$A:$F,6,0)),0)","v":0},0,null,0,{"$f":"IF(ISERROR(VLOOKUP($A150+8860000,'Growth Data'!$A:$Z,7,0)),0,VLOOKUP($A150+8860000,'Growth Data'!$A:$Z,7,0))","v":0},0,null,"NO",{"$f":"IF(ISERROR(VLOOKUP($A150+8860000,'Growth Data'!$A:$F,4,0)),\"NO\",VLOOKUP($A150+8860000,'Growth Data'!$A:$F,4,0))","v":"NO"},0,null,0,{"$f":"IF(ISERROR(VLOOKUP($A150+8860000,'Growth Data'!$A:$Z,8,0)),0,VLOOKUP($A150+8860000,'Growth Data'!$A:$Z,8,0))","v":0},0,null,0,{"$f":"IF(ISERROR(VLOOKUP($A150+8860000,'Growth Data'!$A:$Z,9,0)),0,VLOOKUP($A150+8860000,'Growth Data'!$A:$Z,9,0))","v":0},0,null,"NO",{"$f":"IF(ISERROR(VLOOKUP($A150+8860000,'Growth Data'!$A:$Z,5,0)),\"NO\",VLOOKUP($A150+8860000,'Growth Data'!$A:$Z,5,0))","v":"NO"},0,null,0,{"$f":"IF(ISERROR(VLOOKUP($A150+8860000,'Growth Data'!$A:$Z,10,0)),0,VLOOKUP($A150+8860000,'Growth Data'!$A:$Z,10,0))","v":0},0,null,0,{"$f":"IF(ISERROR(VLOOKUP($A150+8860000,'Growth Data'!$A:$Z,11,0)),0,VLOOKUP($A150+8860000,'Growth Data'!$A:$Z,11,0))","v":0},0]
[3067,"Harrietsham Church of England Primary School",null,"Harrietsham Church of England Primary School",null,1,null,714522.27,714522.27,0,null,30989.48,30989.480000000025,0,null,1352.55,1352.5541489361669,-4.1489361669846403E-3,null,57022.19,57022.184999999998,5.0000000046566129E-3,null,120084,120084,0,null,0,0,0,null,0,0,0,null,0,0,0,null,30976,30976,0,null,0,0,0,null,0,0,0,null,41609.51,41609.510851063766,-8.5106376354815438E-4,null,996556,996556,0,null,0,0,0,null,996556,996556,0,null,0,null,0,null,null,null,0,null,null,null,0,null,120637.27,120637.27230700808,0,null,6075.3,6075.2999999999993,0,null,null,null,0,null,null,null,0,null,null,null,0,null,null,null,0,null,null,null,0,null,null,null,0,null,"NO",{"$f":"IF(ISERROR(VLOOKUP($A151+8860000,'Growth Data'!$A:$F,3,0)),\"NO\",VLOOKUP($A151+8860000,'Growth Data'!$A:$F,3,0))","v":"NO"},0,null,0,{"$f":"IF(DI151=\"YES\",IF(ISERROR(VLOOKUP($A151+8860000,'Growth Data'!$A:$F,6,0)),0,VLOOKUP($A151+8860000,'Growth Data'!$A:$F,6,0)),0)","v":0},0,null,0,{"$f":"IF(ISERROR(VLOOKUP($A151+8860000,'Growth Data'!$A:$Z,7,0)),0,VLOOKUP($A151+8860000,'Growth Data'!$A:$Z,7,0))","v":0},0,null,"NO",{"$f":"IF(ISERROR(VLOOKUP($A151+8860000,'Growth Data'!$A:$F,4,0)),\"NO\",VLOOKUP($A151+8860000,'Growth Data'!$A:$F,4,0))","v":"NO"},0,null,0,{"$f":"IF(ISERROR(VLOOKUP($A151+8860000,'Growth Data'!$A:$Z,8,0)),0,VLOOKUP($A151+8860000,'Growth Data'!$A:$Z,8,0))","v":0},0,null,0,{"$f":"IF(ISERROR(VLOOKUP($A151+8860000,'Growth Data'!$A:$Z,9,0)),0,VLOOKUP($A151+8860000,'Growth Data'!$A:$Z,9,0))","v":0},0,null,"NO",{"$f":"IF(ISERROR(VLOOKUP($A151+8860000,'Growth Data'!$A:$Z,5,0)),\"NO\",VLOOKUP($A151+8860000,'Growth Data'!$A:$Z,5,0))","v":"NO"},0,null,0,{"$f":"IF(ISERROR(VLOOKUP($A151+8860000,'Growth Data'!$A:$Z,10,0)),0,VLOOKUP($A151+8860000,'Growth Data'!$A:$Z,10,0))","v":0},0,null,0,{"$f":"IF(ISERROR(VLOOKUP($A151+8860000,'Growth Data'!$A:$Z,11,0)),0,VLOOKUP($A151+8860000,'Growth Data'!$A:$Z,11,0))","v":0},0]
[3069,"Leeds and Broomfield Church of England Primary School",null,"Leeds and Broomfield Church of England Primary School",null,1,null,170124.35,170124.35,0,null,16396.3,16396.298113207526,1.8867924736696295E-3,null,1891.97,1891.965625,4.3749999999818101E-3,null,8437.43,8437.4290000000019,9.9999999838473741E-4,null,120084,120084,0,null,0,0,0,null,0,0,0,null,0,0,0,null,5489,5489,0,null,0,0,0,null,0,0,0,null,0,0,0,null,322423.03999999998,322423.04273820756,-2.7382075786590576E-3,null,0,0,0,null,322423.03999999998,322423.04273820756,-2.7382075786590576E-3,null,0,null,0,null,null,null,0,null,null,null,0,null,24214.68,24214.675045215688,0,null,1446.5,1446.5,0,null,null,null,0,null,null,null,0,null,null,null,0,null,null,null,0,null,null,null,0,null,null,null,0,null,"NO",{"$f":"IF(ISERROR(VLOOKUP($A152+8860000,'Growth Data'!$A:$F,3,0)),\"NO\",VLOOKUP($A152+8860000,'Growth Data'!$A:$F,3,0))","v":"NO"},0,null,0,{"$f":"IF(DI152=\"YES\",IF(ISERROR(VLOOKUP($A152+8860000,'Growth Data'!$A:$F,6,0)),0,VLOOKUP($A152+8860000,'Growth Data'!$A:$F,6,0)),0)","v":0},0,null,0,{"$f":"IF(ISERROR(VLOOKUP($A152+8860000,'Growth Data'!$A:$Z,7,0)),0,VLOOKUP($A152+8860000,'Growth Data'!$A:$Z,7,0))","v":0},0,null,"NO",{"$f":"IF(ISERROR(VLOOKUP($A152+8860000,'Growth Data'!$A:$F,4,0)),\"NO\",VLOOKUP($A152+8860000,'Growth Data'!$A:$F,4,0))","v":"NO"},0,null,0,{"$f":"IF(ISERROR(VLOOKUP($A152+8860000,'Growth Data'!$A:$Z,8,0)),0,VLOOKUP($A152+8860000,'Growth Data'!$A:$Z,8,0))","v":0},0,null,0,{"$f":"IF(ISERROR(VLOOKUP($A152+8860000,'Growth Data'!$A:$Z,9,0)),0,VLOOKUP($A152+8860000,'Growth Data'!$A:$Z,9,0))","v":0},0,null,"NO",{"$f":"IF(ISERROR(VLOOKUP($A152+8860000,'Growth Data'!$A:$Z,5,0)),\"NO\",VLOOKUP($A152+8860000,'Growth Data'!$A:$Z,5,0))","v":"NO"},0,null,0,{"$f":"IF(ISERROR(VLOOKUP($A152+8860000,'Growth Data'!$A:$Z,10,0)),0,VLOOKUP($A152+8860000,'Growth Data'!$A:$Z,10,0))","v":0},0,null,0,{"$f":"IF(ISERROR(VLOOKUP($A152+8860000,'Growth Data'!$A:$Z,11,0)),0,VLOOKUP($A152+8860000,'Growth Data'!$A:$Z,11,0))","v":0},0]
[3072,"Maidstone, St Michael's Church of England Junior School",null,"Maidstone, St Michael's Church of England Junior School",null,1,null,519652.56,519652.56,0,null,30039.83,30039.830000000027,0,null,6054.29,6054.2900000000018,0,null,44556.66,44556.660382165603,-3.821655991487205E-4,null,120084,120084,0,null,0,0,0,null,0,0,0,null,0,0,0,null,10230,10230,0,null,0,0,0,null,0,0,0,null,0,0,0,null,730617.34,730617.34038216562,-3.8216565735638142E-4,null,0,0,0,null,730617.34,730617.34038216562,-3.8216565735638142E-4,null,0,null,0,null,null,null,0,null,null,null,0,null,74457.2,74457.202689173762,0,null,4418.3999999999996,4418.3999999999996,0,null,null,null,0,null,null,null,0,null,null,null,0,null,null,null,0,null,null,null,0,null,null,null,0,null,"NO",{"$f":"IF(ISERROR(VLOOKUP($A153+8860000,'Growth Data'!$A:$F,3,0)),\"NO\",VLOOKUP($A153+8860000,'Growth Data'!$A:$F,3,0))","v":"NO"},0,null,0,{"$f":"IF(DI153=\"YES\",IF(ISERROR(VLOOKUP($A153+8860000,'Growth Data'!$A:$F,6,0)),0,VLOOKUP($A153+8860000,'Growth Data'!$A:$F,6,0)),0)","v":0},0,null,0,{"$f":"IF(ISERROR(VLOOKUP($A153+8860000,'Growth Data'!$A:$Z,7,0)),0,VLOOKUP($A153+8860000,'Growth Data'!$A:$Z,7,0))","v":0},0,null,"NO",{"$f":"IF(ISERROR(VLOOKUP($A153+8860000,'Growth Data'!$A:$F,4,0)),\"NO\",VLOOKUP($A153+8860000,'Growth Data'!$A:$F,4,0))","v":"NO"},0,null,0,{"$f":"IF(ISERROR(VLOOKUP($A153+8860000,'Growth Data'!$A:$Z,8,0)),0,VLOOKUP($A153+8860000,'Growth Data'!$A:$Z,8,0))","v":0},0,null,0,{"$f":"IF(ISERROR(VLOOKUP($A153+8860000,'Growth Data'!$A:$Z,9,0)),0,VLOOKUP($A153+8860000,'Growth Data'!$A:$Z,9,0))","v":0},0,null,"NO",{"$f":"IF(ISERROR(VLOOKUP($A153+8860000,'Growth Data'!$A:$Z,5,0)),\"NO\",VLOOKUP($A153+8860000,'Growth Data'!$A:$Z,5,0))","v":"NO"},0,null,0,{"$f":"IF(ISERROR(VLOOKUP($A153+8860000,'Growth Data'!$A:$Z,10,0)),0,VLOOKUP($A153+8860000,'Growth Data'!$A:$Z,10,0))","v":0},0,null,0,{"$f":"IF(ISERROR(VLOOKUP($A153+8860000,'Growth Data'!$A:$Z,11,0)),0,VLOOKUP($A153+8860000,'Growth Data'!$A:$Z,11,0))","v":0},0]
[3073,"St Michael's Church of England Infant School Maidstone",null,"St Michael's Church of England Infant School Maidstone",null,1,null,371180.4,371180.4,0,null,12774.86,12774.86,0,null,19814.04,19814.04,0,null,32873.1,32873.1,0,null,120084,120084,0,null,0,0,0,null,0,0,0,null,0,0,0,null,10105,10105,0,null,0,0,0,null,0,0,0,null,0,0,0,null,566831.4,566831.39999999991,0,null,0,0,0,null,566831.4,566831.39999999991,0,null,0,null,0,null,null,null,0,null,null,null,0,null,66633.539999999994,66633.542307008145,0,null,3156,3156,0,null,null,null,0,null,null,null,0,null,null,null,0,null,null,null,0,null,null,null,0,null,null,null,0,null,"NO",{"$f":"IF(ISERROR(VLOOKUP($A154+8860000,'Growth Data'!$A:$F,3,0)),\"NO\",VLOOKUP($A154+8860000,'Growth Data'!$A:$F,3,0))","v":"NO"},0,null,0,{"$f":"IF(DI154=\"YES\",IF(ISERROR(VLOOKUP($A154+8860000,'Growth Data'!$A:$F,6,0)),0,VLOOKUP($A154+8860000,'Growth Data'!$A:$F,6,0)),0)","v":0},0,null,0,{"$f":"IF(ISERROR(VLOOKUP($A154+8860000,'Growth Data'!$A:$Z,7,0)),0,VLOOKUP($A154+8860000,'Growth Data'!$A:$Z,7,0))","v":0},0,null,"NO",{"$f":"IF(ISERROR(VLOOKUP($A154+8860000,'Growth Data'!$A:$F,4,0)),\"NO\",VLOOKUP($A154+8860000,'Growth Data'!$A:$F,4,0))","v":"NO"},0,null,0,{"$f":"IF(ISERROR(VLOOKUP($A154+8860000,'Growth Data'!$A:$Z,8,0)),0,VLOOKUP($A154+8860000,'Growth Data'!$A:$Z,8,0))","v":0},0,null,0,{"$f":"IF(ISERROR(VLOOKUP($A154+8860000,'Growth Data'!$A:$Z,9,0)),0,VLOOKUP($A154+8860000,'Growth Data'!$A:$Z,9,0))","v":0},0,null,"NO",{"$f":"IF(ISERROR(VLOOKUP($A154+8860000,'Growth Data'!$A:$Z,5,0)),\"NO\",VLOOKUP($A154+8860000,'Growth Data'!$A:$Z,5,0))","v":"NO"},0,null,0,{"$f":"IF(ISERROR(VLOOKUP($A154+8860000,'Growth Data'!$A:$Z,10,0)),0,VLOOKUP($A154+8860000,'Growth Data'!$A:$Z,10,0))","v":0},0,null,0,{"$f":"IF(ISERROR(VLOOKUP($A154+8860000,'Growth Data'!$A:$Z,11,0)),0,VLOOKUP($A154+8860000,'Growth Data'!$A:$Z,11,0))","v":0},0]
[3081,"Thurnham Church of England Infant School",null,"Thurnham Church of England Infant School",null,1,null,835155.9,835155.9,0,null,4828.3500000000004,4828.3499999999949,0,null,7430.27,7430.2649999999994,5.0000000010186341E-3,null,56512.18,56512.183146067408,-3.1460674072150141E-3,null,120084,120084,0,null,0,0,0,null,0,0,0,null,0,0,0,null,26368,26368,0,null,0,0,0,null,0,0,0,null,104589.3,104589.30185393259,-1.8539325828896835E-3,null,1154968,1154968.0000000002,0,null,0,0,0,null,1154968,1154968.0000000002,0,null,0,null,0,null,null,null,0,null,null,null,0,null,177293.56,177293.56230700813,0,null,7101,7101,0,null,null,null,0,null,null,null,0,null,null,null,0,null,null,null,0,null,null,null,0,null,null,null,0,null,"YES",{"$f":"IF(ISERROR(VLOOKUP($A155+8860000,'Growth Data'!$A:$F,3,0)),\"NO\",VLOOKUP($A155+8860000,'Growth Data'!$A:$F,3,0))","v":"NO"},1,null,75,{"$f":"IF(DI155=\"YES\",IF(ISERROR(VLOOKUP($A155+8860000,'Growth Data'!$A:$F,6,0)),0,VLOOKUP($A155+8860000,'Growth Data'!$A:$F,6,0)),0)","v":0},75,null,90,{"$f":"IF(ISERROR(VLOOKUP($A155+8860000,'Growth Data'!$A:$Z,7,0)),0,VLOOKUP($A155+8860000,'Growth Data'!$A:$Z,7,0))","v":0},1,null,"NO",{"$f":"IF(ISERROR(VLOOKUP($A155+8860000,'Growth Data'!$A:$F,4,0)),\"NO\",VLOOKUP($A155+8860000,'Growth Data'!$A:$F,4,0))","v":"NO"},0,null,0,{"$f":"IF(ISERROR(VLOOKUP($A155+8860000,'Growth Data'!$A:$Z,8,0)),0,VLOOKUP($A155+8860000,'Growth Data'!$A:$Z,8,0))","v":0},0,null,0,{"$f":"IF(ISERROR(VLOOKUP($A155+8860000,'Growth Data'!$A:$Z,9,0)),0,VLOOKUP($A155+8860000,'Growth Data'!$A:$Z,9,0))","v":0},0,null,"NO",{"$f":"IF(ISERROR(VLOOKUP($A155+8860000,'Growth Data'!$A:$Z,5,0)),\"NO\",VLOOKUP($A155+8860000,'Growth Data'!$A:$Z,5,0))","v":"NO"},0,null,0,{"$f":"IF(ISERROR(VLOOKUP($A155+8860000,'Growth Data'!$A:$Z,10,0)),0,VLOOKUP($A155+8860000,'Growth Data'!$A:$Z,10,0))","v":0},0,null,0,{"$f":"IF(ISERROR(VLOOKUP($A155+8860000,'Growth Data'!$A:$Z,11,0)),0,VLOOKUP($A155+8860000,'Growth Data'!$A:$Z,11,0))","v":0},0]
[3082,"Trottiscliffe Church of England Primary School",null,"Trottiscliffe Church of England Primary School",null,1,null,235080.92,235080.92,0,null,4753.67,4753.6748275862055,-4.8275862054651952E-3,null,615.14,615.14176470588336,-1.7647058833745177E-3,null,17461.63,17461.625161290322,4.8387096794613171E-3,null,120084,120084,0,null,0,0,0,null,0,0,0,null,0,0,0,null,6362,6362,0,null,0,0,0,null,0,0,0,null,0,0,0,null,384357.36,384357.36175358243,-1.7535824445076287E-3,null,0,0,0,null,384357.36,384357.36175358243,-1.7535824445076287E-3,null,0,null,0,null,null,null,0,null,null,null,0,null,27224.22,27224.224060590561,0,null,1998.8,1998.8,0,null,null,null,0,null,null,null,0,null,null,null,0,null,null,null,0,null,null,null,0,null,null,null,0,null,"NO",{"$f":"IF(ISERROR(VLOOKUP($A156+8860000,'Growth Data'!$A:$F,3,0)),\"NO\",VLOOKUP($A156+8860000,'Growth Data'!$A:$F,3,0))","v":"NO"},0,null,0,{"$f":"IF(DI156=\"YES\",IF(ISERROR(VLOOKUP($A156+8860000,'Growth Data'!$A:$F,6,0)),0,VLOOKUP($A156+8860000,'Growth Data'!$A:$F,6,0)),0)","v":0},0,null,0,{"$f":"IF(ISERROR(VLOOKUP($A156+8860000,'Growth Data'!$A:$Z,7,0)),0,VLOOKUP($A156+8860000,'Growth Data'!$A:$Z,7,0))","v":0},0,null,"NO",{"$f":"IF(ISERROR(VLOOKUP($A156+8860000,'Growth Data'!$A:$F,4,0)),\"NO\",VLOOKUP($A156+8860000,'Growth Data'!$A:$F,4,0))","v":"NO"},0,null,0,{"$f":"IF(ISERROR(VLOOKUP($A156+8860000,'Growth Data'!$A:$Z,8,0)),0,VLOOKUP($A156+8860000,'Growth Data'!$A:$Z,8,0))","v":0},0,null,0,{"$f":"IF(ISERROR(VLOOKUP($A156+8860000,'Growth Data'!$A:$Z,9,0)),0,VLOOKUP($A156+8860000,'Growth Data'!$A:$Z,9,0))","v":0},0,null,"NO",{"$f":"IF(ISERROR(VLOOKUP($A156+8860000,'Growth Data'!$A:$Z,5,0)),\"NO\",VLOOKUP($A156+8860000,'Growth Data'!$A:$Z,5,0))","v":"NO"},0,null,0,{"$f":"IF(ISERROR(VLOOKUP($A156+8860000,'Growth Data'!$A:$Z,10,0)),0,VLOOKUP($A156+8860000,'Growth Data'!$A:$Z,10,0))","v":0},0,null,0,{"$f":"IF(ISERROR(VLOOKUP($A156+8860000,'Growth Data'!$A:$Z,11,0)),0,VLOOKUP($A156+8860000,'Growth Data'!$A:$Z,11,0))","v":0},0]
[3083,"Ulcombe Church of England Primary School",null,"Ulcombe Church of England Primary School",null,1,null,219615.07,219615.07,0,null,34036.720000000001,34036.719999999994,0,null,620.28,620.28079365079475,-7.9365079477611289E-4,null,31885.11,31885.110655737706,-6.5573770552873611E-4,null,120084,120084,0,null,0,0,0,null,0,0,0,null,0,0,0,null,7236,7236,0,null,0,0,0,null,0,0,0,null,0,0,0,null,413477.18,413477.1814493885,-1.449388510081917E-3,null,0,0,0,null,413477.18,413477.1814493885,-1.449388510081917E-3,null,0,null,0,null,null,null,0,null,null,null,0,null,58507.25,58507.253756396647,0,null,1867.3,1867.3000000000002,0,null,null,null,0,null,null,null,0,null,null,null,0,null,null,null,0,null,null,null,0,null,null,null,0,null,"NO",{"$f":"IF(ISERROR(VLOOKUP($A157+8860000,'Growth Data'!$A:$F,3,0)),\"NO\",VLOOKUP($A157+8860000,'Growth Data'!$A:$F,3,0))","v":"NO"},0,null,0,{"$f":"IF(DI157=\"YES\",IF(ISERROR(VLOOKUP($A157+8860000,'Growth Data'!$A:$F,6,0)),0,VLOOKUP($A157+8860000,'Growth Data'!$A:$F,6,0)),0)","v":0},0,null,0,{"$f":"IF(ISERROR(VLOOKUP($A157+8860000,'Growth Data'!$A:$Z,7,0)),0,VLOOKUP($A157+8860000,'Growth Data'!$A:$Z,7,0))","v":0},0,null,"NO",{"$f":"IF(ISERROR(VLOOKUP($A157+8860000,'Growth Data'!$A:$F,4,0)),\"NO\",VLOOKUP($A157+8860000,'Growth Data'!$A:$F,4,0))","v":"NO"},0,null,0,{"$f":"IF(ISERROR(VLOOKUP($A157+8860000,'Growth Data'!$A:$Z,8,0)),0,VLOOKUP($A157+8860000,'Growth Data'!$A:$Z,8,0))","v":0},0,null,0,{"$f":"IF(ISERROR(VLOOKUP($A157+8860000,'Growth Data'!$A:$Z,9,0)),0,VLOOKUP($A157+8860000,'Growth Data'!$A:$Z,9,0))","v":0},0,null,"NO",{"$f":"IF(ISERROR(VLOOKUP($A157+8860000,'Growth Data'!$A:$Z,5,0)),\"NO\",VLOOKUP($A157+8860000,'Growth Data'!$A:$Z,5,0))","v":"NO"},0,null,0,{"$f":"IF(ISERROR(VLOOKUP($A157+8860000,'Growth Data'!$A:$Z,10,0)),0,VLOOKUP($A157+8860000,'Growth Data'!$A:$Z,10,0))","v":0},0,null,0,{"$f":"IF(ISERROR(VLOOKUP($A157+8860000,'Growth Data'!$A:$Z,11,0)),0,VLOOKUP($A157+8860000,'Growth Data'!$A:$Z,11,0))","v":0},0]
[3084,"Wateringbury Church of England Primary School",null,"Wateringbury Church of England Primary School",null,1,null,562956.93999999994,562956.94000000006,0,null,25607.57,25607.568938547509,1.0614524908305611E-3,null,1890.02,1890.018490566039,1.509433961018658E-3,null,49242.01,49242.009876543212,1.2345678987912834E-4,null,120084,120084,0,null,0,0,0,null,0,0,0,null,0,0,0,null,4890,4890,0,null,0,0,0,null,0,0,0,null,979.46,979.46269434317946,-2.6943431794279604E-3,null,765650,765650,0,null,0,0,0,null,765650,765650,0,null,0,null,0,null,null,null,0,null,null,null,0,null,71065.16,71065.162307008082,0,null,4786.6000000000004,4786.6000000000004,0,null,null,null,0,null,null,null,0,null,null,null,0,null,null,null,0,null,null,null,0,null,null,null,0,null,"NO",{"$f":"IF(ISERROR(VLOOKUP($A158+8860000,'Growth Data'!$A:$F,3,0)),\"NO\",VLOOKUP($A158+8860000,'Growth Data'!$A:$F,3,0))","v":"NO"},0,null,0,{"$f":"IF(DI158=\"YES\",IF(ISERROR(VLOOKUP($A158+8860000,'Growth Data'!$A:$F,6,0)),0,VLOOKUP($A158+8860000,'Growth Data'!$A:$F,6,0)),0)","v":0},0,null,0,{"$f":"IF(ISERROR(VLOOKUP($A158+8860000,'Growth Data'!$A:$Z,7,0)),0,VLOOKUP($A158+8860000,'Growth Data'!$A:$Z,7,0))","v":0},0,null,"NO",{"$f":"IF(ISERROR(VLOOKUP($A158+8860000,'Growth Data'!$A:$F,4,0)),\"NO\",VLOOKUP($A158+8860000,'Growth Data'!$A:$F,4,0))","v":"NO"},0,null,0,{"$f":"IF(ISERROR(VLOOKUP($A158+8860000,'Growth Data'!$A:$Z,8,0)),0,VLOOKUP($A158+8860000,'Growth Data'!$A:$Z,8,0))","v":0},0,null,0,{"$f":"IF(ISERROR(VLOOKUP($A158+8860000,'Growth Data'!$A:$Z,9,0)),0,VLOOKUP($A158+8860000,'Growth Data'!$A:$Z,9,0))","v":0},0,null,"NO",{"$f":"IF(ISERROR(VLOOKUP($A158+8860000,'Growth Data'!$A:$Z,5,0)),\"NO\",VLOOKUP($A158+8860000,'Growth Data'!$A:$Z,5,0))","v":"NO"},0,null,0,{"$f":"IF(ISERROR(VLOOKUP($A158+8860000,'Growth Data'!$A:$Z,10,0)),0,VLOOKUP($A158+8860000,'Growth Data'!$A:$Z,10,0))","v":0},0,null,0,{"$f":"IF(ISERROR(VLOOKUP($A158+8860000,'Growth Data'!$A:$Z,11,0)),0,VLOOKUP($A158+8860000,'Growth Data'!$A:$Z,11,0))","v":0},0]
[3088,"Wouldham, All Saints Church of England Voluntary Controlled Primary School",null,"Wouldham, All Saints Church of England Voluntary Controlled Primary School",null,1,null,1283665.55,1283665.55,0,null,76684.25,76684.249999999927,0,null,4503.8999999999996,4503.8956338028102,4.3661971894835006E-3,null,112668.05,112668.05268656716,-2.6865671534324065E-3,null,120084,120084,0,null,0,0,0,null,0,0,0,null,0,0,0,null,70656,70656,0,null,0,0,0,null,0,0,0,null,137094.25,137094.25167963005,-1.6796300478745252E-3,null,1805356,1805356,0,null,0,0,0,null,1805356,1805356,0,null,0,null,0,null,null,null,0,null,null,null,0,null,313248.87,313248.87230700813,0,null,10914.5,10914.5,0,null,null,null,0,null,null,null,0,null,null,null,0,null,null,null,0,null,null,null,0,null,null,null,0,null,"NO",{"$f":"IF(ISERROR(VLOOKUP($A159+8860000,'Growth Data'!$A:$F,3,0)),\"NO\",VLOOKUP($A159+8860000,'Growth Data'!$A:$F,3,0))","v":"YES"},1,null,0,{"$f":"IF(DI159=\"YES\",IF(ISERROR(VLOOKUP($A159+8860000,'Growth Data'!$A:$F,6,0)),0,VLOOKUP($A159+8860000,'Growth Data'!$A:$F,6,0)),0)","v":56},-56,null,0,{"$f":"IF(ISERROR(VLOOKUP($A159+8860000,'Growth Data'!$A:$Z,7,0)),0,VLOOKUP($A159+8860000,'Growth Data'!$A:$Z,7,0))","v":60},1,null,"NO",{"$f":"IF(ISERROR(VLOOKUP($A159+8860000,'Growth Data'!$A:$F,4,0)),\"NO\",VLOOKUP($A159+8860000,'Growth Data'!$A:$F,4,0))","v":"NO"},0,null,0,{"$f":"IF(ISERROR(VLOOKUP($A159+8860000,'Growth Data'!$A:$Z,8,0)),0,VLOOKUP($A159+8860000,'Growth Data'!$A:$Z,8,0))","v":0},0,null,0,{"$f":"IF(ISERROR(VLOOKUP($A159+8860000,'Growth Data'!$A:$Z,9,0)),0,VLOOKUP($A159+8860000,'Growth Data'!$A:$Z,9,0))","v":0},0,null,"NO",{"$f":"IF(ISERROR(VLOOKUP($A159+8860000,'Growth Data'!$A:$Z,5,0)),\"NO\",VLOOKUP($A159+8860000,'Growth Data'!$A:$Z,5,0))","v":"NO"},0,null,0,{"$f":"IF(ISERROR(VLOOKUP($A159+8860000,'Growth Data'!$A:$Z,10,0)),0,VLOOKUP($A159+8860000,'Growth Data'!$A:$Z,10,0))","v":0},0,null,0,{"$f":"IF(ISERROR(VLOOKUP($A159+8860000,'Growth Data'!$A:$Z,11,0)),0,VLOOKUP($A159+8860000,'Growth Data'!$A:$Z,11,0))","v":0},0]
[3089,"St George's Church of England Voluntary Controlled Primary School",null,"St George's Church of England Voluntary Controlled Primary School",null,1,null,643379.36,643379.36,0,null,33877.370000000003,33877.36744075828,2.5592417223379016E-3,null,1918.68,1918.67798882681,2.0111731901124585E-3,null,59844.959999999999,59844.958212290505,1.787709494237788E-3,null,120084,120084,0,null,0,0,0,null,0,0,0,null,0,0,0,null,18214,18214,0,null,0,0,0,null,0,0,0,null,10335.64,10335.636358124408,3.6418755917111412E-3,null,887654,887654,0,null,0,0,0,null,887654,887654,0,null,0,null,0,null,null,null,0,null,null,null,0,null,95640.18,95640.182307008159,0,null,5470.4,5470.4,0,null,null,null,0,null,null,null,0,null,null,null,0,null,null,null,0,null,null,null,0,null,null,null,0,null,"NO",{"$f":"IF(ISERROR(VLOOKUP($A160+8860000,'Growth Data'!$A:$F,3,0)),\"NO\",VLOOKUP($A160+8860000,'Growth Data'!$A:$F,3,0))","v":"NO"},0,null,0,{"$f":"IF(DI160=\"YES\",IF(ISERROR(VLOOKUP($A160+8860000,'Growth Data'!$A:$F,6,0)),0,VLOOKUP($A160+8860000,'Growth Data'!$A:$F,6,0)),0)","v":0},0,null,0,{"$f":"IF(ISERROR(VLOOKUP($A160+8860000,'Growth Data'!$A:$Z,7,0)),0,VLOOKUP($A160+8860000,'Growth Data'!$A:$Z,7,0))","v":0},0,null,"NO",{"$f":"IF(ISERROR(VLOOKUP($A160+8860000,'Growth Data'!$A:$F,4,0)),\"NO\",VLOOKUP($A160+8860000,'Growth Data'!$A:$F,4,0))","v":"NO"},0,null,0,{"$f":"IF(ISERROR(VLOOKUP($A160+8860000,'Growth Data'!$A:$Z,8,0)),0,VLOOKUP($A160+8860000,'Growth Data'!$A:$Z,8,0))","v":0},0,null,0,{"$f":"IF(ISERROR(VLOOKUP($A160+8860000,'Growth Data'!$A:$Z,9,0)),0,VLOOKUP($A160+8860000,'Growth Data'!$A:$Z,9,0))","v":0},0,null,"NO",{"$f":"IF(ISERROR(VLOOKUP($A160+8860000,'Growth Data'!$A:$Z,5,0)),\"NO\",VLOOKUP($A160+8860000,'Growth Data'!$A:$Z,5,0))","v":"NO"},0,null,0,{"$f":"IF(ISERROR(VLOOKUP($A160+8860000,'Growth Data'!$A:$Z,10,0)),0,VLOOKUP($A160+8860000,'Growth Data'!$A:$Z,10,0))","v":0},0,null,0,{"$f":"IF(ISERROR(VLOOKUP($A160+8860000,'Growth Data'!$A:$Z,11,0)),0,VLOOKUP($A160+8860000,'Growth Data'!$A:$Z,11,0))","v":0},0]
[3090,"St Margaret's, Collier Street Church of England Voluntary Controlled School",null,"St Margaret's, Collier Street Church of England Voluntary Controlled School",null,1,null,380459.91,380459.91000000003,0,null,9769.77,9769.77,0,null,1898.07,1898.0739252336452,-3.9252336453046155E-3,null,52686.61,52686.613909090913,-3.9090909122023731E-3,null,120084,120084,0,null,0,0,0,null,0,0,0,null,0,0,0,null,13972,13972,0,null,0,0,0,null,0,0,0,null,0,0,0,null,578870.37,578870.3678343246,2.1656753960996866E-3,null,0,0,0,null,578870.37,578870.3678343246,2.1656753960996866E-3,null,0,null,0,null,null,null,0,null,null,null,0,null,67827.600000000006,67827.600141332703,0,null,3234.9,3234.9,0,null,null,null,0,null,null,null,0,null,null,null,0,null,null,null,0,null,null,null,0,null,null,null,0,null,"NO",{"$f":"IF(ISERROR(VLOOKUP($A161+8860000,'Growth Data'!$A:$F,3,0)),\"NO\",VLOOKUP($A161+8860000,'Growth Data'!$A:$F,3,0))","v":"NO"},0,null,0,{"$f":"IF(DI161=\"YES\",IF(ISERROR(VLOOKUP($A161+8860000,'Growth Data'!$A:$F,6,0)),0,VLOOKUP($A161+8860000,'Growth Data'!$A:$F,6,0)),0)","v":0},0,null,0,{"$f":"IF(ISERROR(VLOOKUP($A161+8860000,'Growth Data'!$A:$Z,7,0)),0,VLOOKUP($A161+8860000,'Growth Data'!$A:$Z,7,0))","v":0},0,null,"NO",{"$f":"IF(ISERROR(VLOOKUP($A161+8860000,'Growth Data'!$A:$F,4,0)),\"NO\",VLOOKUP($A161+8860000,'Growth Data'!$A:$F,4,0))","v":"NO"},0,null,0,{"$f":"IF(ISERROR(VLOOKUP($A161+8860000,'Growth Data'!$A:$Z,8,0)),0,VLOOKUP($A161+8860000,'Growth Data'!$A:$Z,8,0))","v":0},0,null,0,{"$f":"IF(ISERROR(VLOOKUP($A161+8860000,'Growth Data'!$A:$Z,9,0)),0,VLOOKUP($A161+8860000,'Growth Data'!$A:$Z,9,0))","v":0},0,null,"YES",{"$f":"IF(ISERROR(VLOOKUP($A161+8860000,'Growth Data'!$A:$Z,5,0)),\"NO\",VLOOKUP($A161+8860000,'Growth Data'!$A:$Z,5,0))","v":"NO"},1,null,30,{"$f":"IF(ISERROR(VLOOKUP($A161+8860000,'Growth Data'!$A:$Z,10,0)),0,VLOOKUP($A161+8860000,'Growth Data'!$A:$Z,10,0))","v":0},1,null,60,{"$f":"IF(ISERROR(VLOOKUP($A161+8860000,'Growth Data'!$A:$Z,11,0)),0,VLOOKUP($A161+8860000,'Growth Data'!$A:$Z,11,0))","v":0},1]
[3091,"Laddingford St Mary's Church of England Voluntary Controlled Primary School",null,"Laddingford St Mary's Church of England Voluntary Controlled Primary School",null,1,null,231987.75,231987.75,0,null,13203.53,13203.526249999988,3.7500000125874067E-3,null,3538.22,3538.2214285714281,-1.4285714282777917E-3,null,20545.689999999999,20545.6875,2.4999999986903276E-3,null,120084,120084,0,null,0,0,0,null,0,0,0,null,0,0,0,null,5240,5240,0,null,0,0,0,null,5427,5427,0,null,0,0,0,null,400026.19,400026.18517857138,4.8214286216534674E-3,null,0,0,0,null,400026.19,400026.18517857138,4.8214286216534674E-3,null,0,null,0,null,null,null,0,null,null,null,0,null,37538.339999999997,37538.337485579577,0,null,1972.5,1972.5,0,null,null,null,0,null,null,null,0,null,null,null,0,null,null,null,0,null,null,null,0,null,null,null,0,null,"NO",{"$f":"IF(ISERROR(VLOOKUP($A162+8860000,'Growth Data'!$A:$F,3,0)),\"NO\",VLOOKUP($A162+8860000,'Growth Data'!$A:$F,3,0))","v":"NO"},0,null,0,{"$f":"IF(DI162=\"YES\",IF(ISERROR(VLOOKUP($A162+8860000,'Growth Data'!$A:$F,6,0)),0,VLOOKUP($A162+8860000,'Growth Data'!$A:$F,6,0)),0)","v":0},0,null,0,{"$f":"IF(ISERROR(VLOOKUP($A162+8860000,'Growth Data'!$A:$Z,7,0)),0,VLOOKUP($A162+8860000,'Growth Data'!$A:$Z,7,0))","v":0},0,null,"NO",{"$f":"IF(ISERROR(VLOOKUP($A162+8860000,'Growth Data'!$A:$F,4,0)),\"NO\",VLOOKUP($A162+8860000,'Growth Data'!$A:$F,4,0))","v":"NO"},0,null,0,{"$f":"IF(ISERROR(VLOOKUP($A162+8860000,'Growth Data'!$A:$Z,8,0)),0,VLOOKUP($A162+8860000,'Growth Data'!$A:$Z,8,0))","v":0},0,null,0,{"$f":"IF(ISERROR(VLOOKUP($A162+8860000,'Growth Data'!$A:$Z,9,0)),0,VLOOKUP($A162+8860000,'Growth Data'!$A:$Z,9,0))","v":0},0,null,"NO",{"$f":"IF(ISERROR(VLOOKUP($A162+8860000,'Growth Data'!$A:$Z,5,0)),\"NO\",VLOOKUP($A162+8860000,'Growth Data'!$A:$Z,5,0))","v":"NO"},0,null,0,{"$f":"IF(ISERROR(VLOOKUP($A162+8860000,'Growth Data'!$A:$Z,10,0)),0,VLOOKUP($A162+8860000,'Growth Data'!$A:$Z,10,0))","v":0},0,null,0,{"$f":"IF(ISERROR(VLOOKUP($A162+8860000,'Growth Data'!$A:$Z,11,0)),0,VLOOKUP($A162+8860000,'Growth Data'!$A:$Z,11,0))","v":0},0]
[3092,"Yalding, St Peter and St Paul Church of England Voluntary Controlled Primary School",null,"Yalding, St Peter and St Paul Church of England Voluntary Controlled Primary School",null,1,null,507279.88,507279.88,0,null,20099.939999999999,20099.94000000005,-5.0931703299283981E-11,null,626.83000000000004,626.83305555555512,-3.0555555550790814E-3,null,45542,45542.00246575343,-2.4657534304424189E-3,null,120084,120084,0,null,0,0,0,null,0,0,0,null,0,0,0,null,14222,14222,0,null,0,0,0,null,0,0,0,null,0,0,0,null,707854.66,707854.65552130912,4.4786909129470587E-3,null,0,0,0,null,707854.66,707854.65552130912,4.4786909129470587E-3,null,0,null,0,null,null,null,0,null,null,null,0,null,62376.800000000003,62376.797828317154,0,null,4313.2,4313.2,0,null,null,null,0,null,null,null,0,null,null,null,0,null,null,null,0,null,null,null,0,null,null,null,0,null,"NO",{"$f":"IF(ISERROR(VLOOKUP($A163+8860000,'Growth Data'!$A:$F,3,0)),\"NO\",VLOOKUP($A163+8860000,'Growth Data'!$A:$F,3,0))","v":"NO"},0,null,0,{"$f":"IF(DI163=\"YES\",IF(ISERROR(VLOOKUP($A163+8860000,'Growth Data'!$A:$F,6,0)),0,VLOOKUP($A163+8860000,'Growth Data'!$A:$F,6,0)),0)","v":0},0,null,0,{"$f":"IF(ISERROR(VLOOKUP($A163+8860000,'Growth Data'!$A:$Z,7,0)),0,VLOOKUP($A163+8860000,'Growth Data'!$A:$Z,7,0))","v":0},0,null,"NO",{"$f":"IF(ISERROR(VLOOKUP($A163+8860000,'Growth Data'!$A:$F,4,0)),\"NO\",VLOOKUP($A163+8860000,'Growth Data'!$A:$F,4,0))","v":"NO"},0,null,0,{"$f":"IF(ISERROR(VLOOKUP($A163+8860000,'Growth Data'!$A:$Z,8,0)),0,VLOOKUP($A163+8860000,'Growth Data'!$A:$Z,8,0))","v":0},0,null,0,{"$f":"IF(ISERROR(VLOOKUP($A163+8860000,'Growth Data'!$A:$Z,9,0)),0,VLOOKUP($A163+8860000,'Growth Data'!$A:$Z,9,0))","v":0},0,null,"NO",{"$f":"IF(ISERROR(VLOOKUP($A163+8860000,'Growth Data'!$A:$Z,5,0)),\"NO\",VLOOKUP($A163+8860000,'Growth Data'!$A:$Z,5,0))","v":"NO"},0,null,0,{"$f":"IF(ISERROR(VLOOKUP($A163+8860000,'Growth Data'!$A:$Z,10,0)),0,VLOOKUP($A163+8860000,'Growth Data'!$A:$Z,10,0))","v":0},0,null,0,{"$f":"IF(ISERROR(VLOOKUP($A163+8860000,'Growth Data'!$A:$Z,11,0)),0,VLOOKUP($A163+8860000,'Growth Data'!$A:$Z,11,0))","v":0},0]
[3108,"Ospringe Church of England Primary School",null,"Ospringe Church of England Primary School",null,1,null,677404.23,677404.23,0,null,104955.2,104955.20000000004,0,null,4464.2700000000004,4464.2744444444406,-4.4444444401960936E-3,null,60638.5,60638.497903225805,2.0967741947970353E-3,null,120084,120084,0,null,0,0,0,null,0,0,0,null,0,0,0,null,23079,23079,0,null,0,0,0,null,0,0,0,null,0,0,0,null,990625.2,990625.20234767033,-2.3476703790947795E-3,null,0,0,0,null,990625.2,990625.20234767033,-2.3476703790947795E-3,null,0,null,0,null,null,null,0,null,null,null,0,null,144530.95000000001,144530.95465467841,0,null,5759.7,5759.7000000000007,0,null,null,null,0,null,null,null,0,null,null,null,0,null,null,null,0,null,null,null,0,null,null,null,0,null,"NO",{"$f":"IF(ISERROR(VLOOKUP($A164+8860000,'Growth Data'!$A:$F,3,0)),\"NO\",VLOOKUP($A164+8860000,'Growth Data'!$A:$F,3,0))","v":"NO"},0,null,0,{"$f":"IF(DI164=\"YES\",IF(ISERROR(VLOOKUP($A164+8860000,'Growth Data'!$A:$F,6,0)),0,VLOOKUP($A164+8860000,'Growth Data'!$A:$F,6,0)),0)","v":0},0,null,0,{"$f":"IF(ISERROR(VLOOKUP($A164+8860000,'Growth Data'!$A:$Z,7,0)),0,VLOOKUP($A164+8860000,'Growth Data'!$A:$Z,7,0))","v":0},0,null,"NO",{"$f":"IF(ISERROR(VLOOKUP($A164+8860000,'Growth Data'!$A:$F,4,0)),\"NO\",VLOOKUP($A164+8860000,'Growth Data'!$A:$F,4,0))","v":"NO"},0,null,0,{"$f":"IF(ISERROR(VLOOKUP($A164+8860000,'Growth Data'!$A:$Z,8,0)),0,VLOOKUP($A164+8860000,'Growth Data'!$A:$Z,8,0))","v":0},0,null,0,{"$f":"IF(ISERROR(VLOOKUP($A164+8860000,'Growth Data'!$A:$Z,9,0)),0,VLOOKUP($A164+8860000,'Growth Data'!$A:$Z,9,0))","v":0},0,null,"NO",{"$f":"IF(ISERROR(VLOOKUP($A164+8860000,'Growth Data'!$A:$Z,5,0)),\"NO\",VLOOKUP($A164+8860000,'Growth Data'!$A:$Z,5,0))","v":"NO"},0,null,0,{"$f":"IF(ISERROR(VLOOKUP($A164+8860000,'Growth Data'!$A:$Z,10,0)),0,VLOOKUP($A164+8860000,'Growth Data'!$A:$Z,10,0))","v":0},0,null,0,{"$f":"IF(ISERROR(VLOOKUP($A164+8860000,'Growth Data'!$A:$Z,11,0)),0,VLOOKUP($A164+8860000,'Growth Data'!$A:$Z,11,0))","v":0},0]
[3109,"Hernhill Church of England Primary School",null,"Hernhill Church of England Primary School",null,1,null,627913.51,627913.51,0,null,24997.360000000001,24997.35999999999,0,null,1291.67,1291.6667052023124,3.2947976876585017E-3,null,61640.36,61640.36301204819,-3.0120481897029094E-3,null,120084,120084,0,null,0,0,0,null,0,0,0,null,0,0,0,null,31744,31744,0,null,0,0,0,null,0,0,0,null,12613.1,12613.10028274951,-2.8274951000639703E-4,null,880284,880284,0,null,0,0,0,null,880284,880284,0,null,0,null,0,null,null,null,0,null,null,null,0,null,99872.75,99872.752307008152,0,null,5338.9,5338.9,0,null,null,null,0,null,null,null,0,null,null,null,0,null,null,null,0,null,null,null,0,null,null,null,0,null,"YES",{"$f":"IF(ISERROR(VLOOKUP($A165+8860000,'Growth Data'!$A:$F,3,0)),\"NO\",VLOOKUP($A165+8860000,'Growth Data'!$A:$F,3,0))","v":"NO"},1,null,60,{"$f":"IF(DI165=\"YES\",IF(ISERROR(VLOOKUP($A165+8860000,'Growth Data'!$A:$F,6,0)),0,VLOOKUP($A165+8860000,'Growth Data'!$A:$F,6,0)),0)","v":0},60,null,90,{"$f":"IF(ISERROR(VLOOKUP($A165+8860000,'Growth Data'!$A:$Z,7,0)),0,VLOOKUP($A165+8860000,'Growth Data'!$A:$Z,7,0))","v":0},1,null,"YES",{"$f":"IF(ISERROR(VLOOKUP($A165+8860000,'Growth Data'!$A:$F,4,0)),\"NO\",VLOOKUP($A165+8860000,'Growth Data'!$A:$F,4,0))","v":"NO"},1,null,60,{"$f":"IF(ISERROR(VLOOKUP($A165+8860000,'Growth Data'!$A:$Z,8,0)),0,VLOOKUP($A165+8860000,'Growth Data'!$A:$Z,8,0))","v":0},1,null,90,{"$f":"IF(ISERROR(VLOOKUP($A165+8860000,'Growth Data'!$A:$Z,9,0)),0,VLOOKUP($A165+8860000,'Growth Data'!$A:$Z,9,0))","v":0},1,null,"NO",{"$f":"IF(ISERROR(VLOOKUP($A165+8860000,'Growth Data'!$A:$Z,5,0)),\"NO\",VLOOKUP($A165+8860000,'Growth Data'!$A:$Z,5,0))","v":"NO"},0,null,0,{"$f":"IF(ISERROR(VLOOKUP($A165+8860000,'Growth Data'!$A:$Z,10,0)),0,VLOOKUP($A165+8860000,'Growth Data'!$A:$Z,10,0))","v":0},0,null,0,{"$f":"IF(ISERROR(VLOOKUP($A165+8860000,'Growth Data'!$A:$Z,11,0)),0,VLOOKUP($A165+8860000,'Growth Data'!$A:$Z,11,0))","v":0},0]
[3111,"Newington Church of England Primary School",null,"Newington Church of England Primary School",null,1,null,572236.44999999995,572236.45000000007,0,null,77426.720000000001,77426.720000000074,0,null,1264.8699999999999,1264.8714285714282,-1.4285714282777917E-3,null,44302.49,44302.489072847682,9.271523158531636E-4,null,120084,120084,0,null,0,0,0,null,0,0,0,null,0,0,0,null,34048,34048,0,null,0,0,0,null,0,0,0,null,0,0,0,null,849362.53,849362.53050141921,-5.014191847294569E-4,null,0,0,0,null,849362.53,849362.53050141921,-5.014191847294569E-4,null,0,null,0,null,null,0,0,null,null,null,0,null,103451.22,103451.22280842731,0,null,4865.5,4865.5,0,null,null,null,0,null,null,null,0,null,null,null,0,null,null,null,0,null,null,null,0,null,null,null,0,null,"NO",{"$f":"IF(ISERROR(VLOOKUP($A166+8860000,'Growth Data'!$A:$F,3,0)),\"NO\",VLOOKUP($A166+8860000,'Growth Data'!$A:$F,3,0))","v":"NO"},0,null,0,{"$f":"IF(DI166=\"YES\",IF(ISERROR(VLOOKUP($A166+8860000,'Growth Data'!$A:$F,6,0)),0,VLOOKUP($A166+8860000,'Growth Data'!$A:$F,6,0)),0)","v":0},0,null,0,{"$f":"IF(ISERROR(VLOOKUP($A166+8860000,'Growth Data'!$A:$Z,7,0)),0,VLOOKUP($A166+8860000,'Growth Data'!$A:$Z,7,0))","v":0},0,null,"NO",{"$f":"IF(ISERROR(VLOOKUP($A166+8860000,'Growth Data'!$A:$F,4,0)),\"NO\",VLOOKUP($A166+8860000,'Growth Data'!$A:$F,4,0))","v":"NO"},0,null,0,{"$f":"IF(ISERROR(VLOOKUP($A166+8860000,'Growth Data'!$A:$Z,8,0)),0,VLOOKUP($A166+8860000,'Growth Data'!$A:$Z,8,0))","v":0},0,null,0,{"$f":"IF(ISERROR(VLOOKUP($A166+8860000,'Growth Data'!$A:$Z,9,0)),0,VLOOKUP($A166+8860000,'Growth Data'!$A:$Z,9,0))","v":0},0,null,"NO",{"$f":"IF(ISERROR(VLOOKUP($A166+8860000,'Growth Data'!$A:$Z,5,0)),\"NO\",VLOOKUP($A166+8860000,'Growth Data'!$A:$Z,5,0))","v":"NO"},0,null,0,{"$f":"IF(ISERROR(VLOOKUP($A166+8860000,'Growth Data'!$A:$Z,10,0)),0,VLOOKUP($A166+8860000,'Growth Data'!$A:$Z,10,0))","v":0},0,null,0,{"$f":"IF(ISERROR(VLOOKUP($A166+8860000,'Growth Data'!$A:$Z,11,0)),0,VLOOKUP($A166+8860000,'Growth Data'!$A:$Z,11,0))","v":0},0]
[3117,"Teynham Parochial Church of England Primary School",null,"Teynham Parochial Church of England Primary School",null,1,null,634099.85,634099.85,0,null,80344.850000000006,80344.850000000035,0,null,7871.86,7871.8569767441841,3.0232558156058076E-3,null,70116.61,70116.612138728335,-2.1387283341027796E-3,null,120084,120084,0,null,0,0,0,null,0,0,0,null,0,0,0,null,23827,23827,0,null,0,0,0,null,0,0,0,null,0,0,0,null,936344.17,936344.16911547247,8.8452757336199284E-4,null,0,0,0,null,936344.17,936344.16911547247,8.8452757336199284E-4,null,0,null,0,null,null,null,0,null,null,null,0,null,140171.42000000001,140171.42142248066,0,null,5391.5,5391.5,0,null,null,null,0,null,null,null,0,null,null,null,0,null,null,null,0,null,null,null,0,null,null,null,0,null,"NO",{"$f":"IF(ISERROR(VLOOKUP($A167+8860000,'Growth Data'!$A:$F,3,0)),\"NO\",VLOOKUP($A167+8860000,'Growth Data'!$A:$F,3,0))","v":"NO"},0,null,0,{"$f":"IF(DI167=\"YES\",IF(ISERROR(VLOOKUP($A167+8860000,'Growth Data'!$A:$F,6,0)),0,VLOOKUP($A167+8860000,'Growth Data'!$A:$F,6,0)),0)","v":0},0,null,0,{"$f":"IF(ISERROR(VLOOKUP($A167+8860000,'Growth Data'!$A:$Z,7,0)),0,VLOOKUP($A167+8860000,'Growth Data'!$A:$Z,7,0))","v":0},0,null,"NO",{"$f":"IF(ISERROR(VLOOKUP($A167+8860000,'Growth Data'!$A:$F,4,0)),\"NO\",VLOOKUP($A167+8860000,'Growth Data'!$A:$F,4,0))","v":"NO"},0,null,0,{"$f":"IF(ISERROR(VLOOKUP($A167+8860000,'Growth Data'!$A:$Z,8,0)),0,VLOOKUP($A167+8860000,'Growth Data'!$A:$Z,8,0))","v":0},0,null,0,{"$f":"IF(ISERROR(VLOOKUP($A167+8860000,'Growth Data'!$A:$Z,9,0)),0,VLOOKUP($A167+8860000,'Growth Data'!$A:$Z,9,0))","v":0},0,null,"NO",{"$f":"IF(ISERROR(VLOOKUP($A167+8860000,'Growth Data'!$A:$Z,5,0)),\"NO\",VLOOKUP($A167+8860000,'Growth Data'!$A:$Z,5,0))","v":"NO"},0,null,0,{"$f":"IF(ISERROR(VLOOKUP($A167+8860000,'Growth Data'!$A:$Z,10,0)),0,VLOOKUP($A167+8860000,'Growth Data'!$A:$Z,10,0))","v":0},0,null,0,{"$f":"IF(ISERROR(VLOOKUP($A167+8860000,'Growth Data'!$A:$Z,11,0)),0,VLOOKUP($A167+8860000,'Growth Data'!$A:$Z,11,0))","v":0},0]
[3120,"Barham Church of England Primary School",null,"Barham Church of England Primary School",null,1,null,649565.69999999995,649565.70000000007,0,null,21533.95,21533.950000000015,0,null,6421.22,6421.2166666666717,3.3333333285554545E-3,null,39223.589999999997,39223.585227272721,4.77272727584932E-3,null,120084,120084,0,null,0,0,0,null,0,0,0,null,0,0,0,null,28672,28672,0,null,0,0,0,null,0,0,0,null,40971.550000000003,40971.548106060538,1.8939394649351016E-3,null,906472,906472,0,null,0,0,0,null,906472,906472,0,null,0,null,0,null,null,null,0,null,null,null,0,null,108401.2,108401.20230700809,0,null,5523,5523,0,null,null,null,0,null,null,null,0,null,null,null,0,null,null,null,0,null,null,null,0,null,null,null,0,null,"NO",{"$f":"IF(ISERROR(VLOOKUP($A168+8860000,'Growth Data'!$A:$F,3,0)),\"NO\",VLOOKUP($A168+8860000,'Growth Data'!$A:$F,3,0))","v":"NO"},0,null,0,{"$f":"IF(DI168=\"YES\",IF(ISERROR(VLOOKUP($A168+8860000,'Growth Data'!$A:$F,6,0)),0,VLOOKUP($A168+8860000,'Growth Data'!$A:$F,6,0)),0)","v":0},0,null,0,{"$f":"IF(ISERROR(VLOOKUP($A168+8860000,'Growth Data'!$A:$Z,7,0)),0,VLOOKUP($A168+8860000,'Growth Data'!$A:$Z,7,0))","v":0},0,null,"NO",{"$f":"IF(ISERROR(VLOOKUP($A168+8860000,'Growth Data'!$A:$F,4,0)),\"NO\",VLOOKUP($A168+8860000,'Growth Data'!$A:$F,4,0))","v":"NO"},0,null,0,{"$f":"IF(ISERROR(VLOOKUP($A168+8860000,'Growth Data'!$A:$Z,8,0)),0,VLOOKUP($A168+8860000,'Growth Data'!$A:$Z,8,0))","v":0},0,null,0,{"$f":"IF(ISERROR(VLOOKUP($A168+8860000,'Growth Data'!$A:$Z,9,0)),0,VLOOKUP($A168+8860000,'Growth Data'!$A:$Z,9,0))","v":0},0,null,"NO",{"$f":"IF(ISERROR(VLOOKUP($A168+8860000,'Growth Data'!$A:$Z,5,0)),\"NO\",VLOOKUP($A168+8860000,'Growth Data'!$A:$Z,5,0))","v":"NO"},0,null,0,{"$f":"IF(ISERROR(VLOOKUP($A168+8860000,'Growth Data'!$A:$Z,10,0)),0,VLOOKUP($A168+8860000,'Growth Data'!$A:$Z,10,0))","v":0},0,null,0,{"$f":"IF(ISERROR(VLOOKUP($A168+8860000,'Growth Data'!$A:$Z,11,0)),0,VLOOKUP($A168+8860000,'Growth Data'!$A:$Z,11,0))","v":0},0]
[3122,"Bridge and Patrixbourne Church of England Primary School",null,"Bridge and Patrixbourne Church of England Primary School",null,1,null,1299131.3999999999,1299131.4000000001,0,null,29573.22,29573.222870813395,-2.8708133941108827E-3,null,19961.22,19961.219498607239,5.0139276208938099E-4,null,39223.589999999997,39223.585227272721,4.77272727584932E-3,null,120084,120084,0,null,0,0,0,null,0,0,0,null,0,0,0,null,35072,35072,0,null,0,0,0,null,0,0,0,null,247626.57,247626.57240330655,-2.4033065419644117E-3,null,1790672,1790672.0000000002,0,null,0,0,0,null,1790672,1790672.0000000002,0,null,0,null,0,null,null,null,0,null,null,null,0,null,335254.53999999998,335254.54230700806,0,null,11046,11046,0,null,null,null,0,null,null,null,0,null,null,null,0,null,null,null,0,null,null,null,0,null,null,null,0,null,"NO",{"$f":"IF(ISERROR(VLOOKUP($A169+8860000,'Growth Data'!$A:$F,3,0)),\"NO\",VLOOKUP($A169+8860000,'Growth Data'!$A:$F,3,0))","v":"NO"},0,null,0,{"$f":"IF(DI169=\"YES\",IF(ISERROR(VLOOKUP($A169+8860000,'Growth Data'!$A:$F,6,0)),0,VLOOKUP($A169+8860000,'Growth Data'!$A:$F,6,0)),0)","v":0},0,null,0,{"$f":"IF(ISERROR(VLOOKUP($A169+8860000,'Growth Data'!$A:$Z,7,0)),0,VLOOKUP($A169+8860000,'Growth Data'!$A:$Z,7,0))","v":0},0,null,"NO",{"$f":"IF(ISERROR(VLOOKUP($A169+8860000,'Growth Data'!$A:$F,4,0)),\"NO\",VLOOKUP($A169+8860000,'Growth Data'!$A:$F,4,0))","v":"NO"},0,null,0,{"$f":"IF(ISERROR(VLOOKUP($A169+8860000,'Growth Data'!$A:$Z,8,0)),0,VLOOKUP($A169+8860000,'Growth Data'!$A:$Z,8,0))","v":0},0,null,0,{"$f":"IF(ISERROR(VLOOKUP($A169+8860000,'Growth Data'!$A:$Z,9,0)),0,VLOOKUP($A169+8860000,'Growth Data'!$A:$Z,9,0))","v":0},0,null,"NO",{"$f":"IF(ISERROR(VLOOKUP($A169+8860000,'Growth Data'!$A:$Z,5,0)),\"NO\",VLOOKUP($A169+8860000,'Growth Data'!$A:$Z,5,0))","v":"NO"},0,null,0,{"$f":"IF(ISERROR(VLOOKUP($A169+8860000,'Growth Data'!$A:$Z,10,0)),0,VLOOKUP($A169+8860000,'Growth Data'!$A:$Z,10,0))","v":0},0,null,0,{"$f":"IF(ISERROR(VLOOKUP($A169+8860000,'Growth Data'!$A:$Z,11,0)),0,VLOOKUP($A169+8860000,'Growth Data'!$A:$Z,11,0))","v":0},0]
[3123,"Chislet Church of England Primary School",null,"Chislet Church of England Primary School",null,1,null,315503.34000000003,315503.34000000003,0,null,21282.78,21282.779999999984,0,null,0,0,0,null,30482.33,30482.32909090909,9.0909091159119271E-4,null,120084,120084,0,null,0,0,0,null,0,0,0,null,0,0,0,null,6113,6113,0,null,0,0,0,null,0,0,0,null,0,0,0,null,493465.45,493465.4490909091,9.0909091522917151E-4,null,0,0,0,null,493465.45,493465.4490909091,9.0909091522917151E-4,null,0,null,0,null,null,null,0,null,null,null,0,null,50635.05,50635.051397917239,0,null,2682.6,2682.6,0,null,null,null,0,null,null,null,0,null,null,null,0,null,null,null,0,null,null,null,0,null,null,null,0,null,"NO",{"$f":"IF(ISERROR(VLOOKUP($A170+8860000,'Growth Data'!$A:$F,3,0)),\"NO\",VLOOKUP($A170+8860000,'Growth Data'!$A:$F,3,0))","v":"NO"},0,null,0,{"$f":"IF(DI170=\"YES\",IF(ISERROR(VLOOKUP($A170+8860000,'Growth Data'!$A:$F,6,0)),0,VLOOKUP($A170+8860000,'Growth Data'!$A:$F,6,0)),0)","v":0},0,null,0,{"$f":"IF(ISERROR(VLOOKUP($A170+8860000,'Growth Data'!$A:$Z,7,0)),0,VLOOKUP($A170+8860000,'Growth Data'!$A:$Z,7,0))","v":0},0,null,"NO",{"$f":"IF(ISERROR(VLOOKUP($A170+8860000,'Growth Data'!$A:$F,4,0)),\"NO\",VLOOKUP($A170+8860000,'Growth Data'!$A:$F,4,0))","v":"NO"},0,null,0,{"$f":"IF(ISERROR(VLOOKUP($A170+8860000,'Growth Data'!$A:$Z,8,0)),0,VLOOKUP($A170+8860000,'Growth Data'!$A:$Z,8,0))","v":0},0,null,0,{"$f":"IF(ISERROR(VLOOKUP($A170+8860000,'Growth Data'!$A:$Z,9,0)),0,VLOOKUP($A170+8860000,'Growth Data'!$A:$Z,9,0))","v":0},0,null,"NO",{"$f":"IF(ISERROR(VLOOKUP($A170+8860000,'Growth Data'!$A:$Z,5,0)),\"NO\",VLOOKUP($A170+8860000,'Growth Data'!$A:$Z,5,0))","v":"NO"},0,null,0,{"$f":"IF(ISERROR(VLOOKUP($A170+8860000,'Growth Data'!$A:$Z,10,0)),0,VLOOKUP($A170+8860000,'Growth Data'!$A:$Z,10,0))","v":0},0,null,0,{"$f":"IF(ISERROR(VLOOKUP($A170+8860000,'Growth Data'!$A:$Z,11,0)),0,VLOOKUP($A170+8860000,'Growth Data'!$A:$Z,11,0))","v":0},0]
[3126,"Littlebourne Church of England Primary School",null,"Littlebourne Church of England Primary School",null,1,null,324782.84999999998,324782.85000000003,0,null,35515.81,35515.81,0,null,6493.37,6493.3651685393397,4.8314606601707055E-3,null,32873.1,32873.1,0,null,120084,120084,0,null,0,0,0,null,0,0,0,null,0,0,0,null,11228,11228,0,null,0,0,0,null,0,0,0,null,0,0,0,null,530977.13,530977.12516853935,4.8314606538042426E-3,null,0,0,0,null,530977.13,530977.12516853935,4.8314606538042426E-3,null,0,null,0,null,null,null,0,null,null,null,0,null,68688.7,68688.697475547495,0,null,2761.5,2761.5,0,null,null,null,0,null,null,null,0,null,null,null,0,null,null,null,0,null,null,null,0,null,null,null,0,null,"NO",{"$f":"IF(ISERROR(VLOOKUP($A171+8860000,'Growth Data'!$A:$F,3,0)),\"NO\",VLOOKUP($A171+8860000,'Growth Data'!$A:$F,3,0))","v":"NO"},0,null,0,{"$f":"IF(DI171=\"YES\",IF(ISERROR(VLOOKUP($A171+8860000,'Growth Data'!$A:$F,6,0)),0,VLOOKUP($A171+8860000,'Growth Data'!$A:$F,6,0)),0)","v":0},0,null,0,{"$f":"IF(ISERROR(VLOOKUP($A171+8860000,'Growth Data'!$A:$Z,7,0)),0,VLOOKUP($A171+8860000,'Growth Data'!$A:$Z,7,0))","v":0},0,null,"NO",{"$f":"IF(ISERROR(VLOOKUP($A171+8860000,'Growth Data'!$A:$F,4,0)),\"NO\",VLOOKUP($A171+8860000,'Growth Data'!$A:$F,4,0))","v":"NO"},0,null,0,{"$f":"IF(ISERROR(VLOOKUP($A171+8860000,'Growth Data'!$A:$Z,8,0)),0,VLOOKUP($A171+8860000,'Growth Data'!$A:$Z,8,0))","v":0},0,null,0,{"$f":"IF(ISERROR(VLOOKUP($A171+8860000,'Growth Data'!$A:$Z,9,0)),0,VLOOKUP($A171+8860000,'Growth Data'!$A:$Z,9,0))","v":0},0,null,"NO",{"$f":"IF(ISERROR(VLOOKUP($A171+8860000,'Growth Data'!$A:$Z,5,0)),\"NO\",VLOOKUP($A171+8860000,'Growth Data'!$A:$Z,5,0))","v":"NO"},0,null,0,{"$f":"IF(ISERROR(VLOOKUP($A171+8860000,'Growth Data'!$A:$Z,10,0)),0,VLOOKUP($A171+8860000,'Growth Data'!$A:$Z,10,0))","v":0},0,null,0,{"$f":"IF(ISERROR(VLOOKUP($A171+8860000,'Growth Data'!$A:$Z,11,0)),0,VLOOKUP($A171+8860000,'Growth Data'!$A:$Z,11,0))","v":0},0]
[3129,"St Alphege Church of England Infant School",null,"St Alphege Church of England Infant School",null,1,null,498000.37,498000.37,0,null,38524.800000000003,38524.800000000039,0,null,1772.26,1772.2558000000001,4.1999999998552084E-3,null,59856.44,59856.436249999999,3.7500000034924597E-3,null,120084,120084,0,null,0,0,0,null,0,0,0,null,0,0,0,null,31488,31488,0,null,0,0,0,null,0,0,0,null,0,0,0,null,749725.86,749725.86205000011,-2.0500001264736056E-3,null,0,0,0,null,749725.86,749725.86205000011,-2.0500001264736056E-3,null,0,null,0,null,null,null,0,null,null,null,0,null,89817.03,89817.03435700816,0,null,4234.3,4234.2999999999993,0,null,null,null,0,null,null,null,0,null,null,null,0,null,null,null,0,null,null,null,0,null,null,null,0,null,"NO",{"$f":"IF(ISERROR(VLOOKUP($A172+8860000,'Growth Data'!$A:$F,3,0)),\"NO\",VLOOKUP($A172+8860000,'Growth Data'!$A:$F,3,0))","v":"NO"},0,null,0,{"$f":"IF(DI172=\"YES\",IF(ISERROR(VLOOKUP($A172+8860000,'Growth Data'!$A:$F,6,0)),0,VLOOKUP($A172+8860000,'Growth Data'!$A:$F,6,0)),0)","v":0},0,null,0,{"$f":"IF(ISERROR(VLOOKUP($A172+8860000,'Growth Data'!$A:$Z,7,0)),0,VLOOKUP($A172+8860000,'Growth Data'!$A:$Z,7,0))","v":0},0,null,"NO",{"$f":"IF(ISERROR(VLOOKUP($A172+8860000,'Growth Data'!$A:$F,4,0)),\"NO\",VLOOKUP($A172+8860000,'Growth Data'!$A:$F,4,0))","v":"NO"},0,null,0,{"$f":"IF(ISERROR(VLOOKUP($A172+8860000,'Growth Data'!$A:$Z,8,0)),0,VLOOKUP($A172+8860000,'Growth Data'!$A:$Z,8,0))","v":0},0,null,0,{"$f":"IF(ISERROR(VLOOKUP($A172+8860000,'Growth Data'!$A:$Z,9,0)),0,VLOOKUP($A172+8860000,'Growth Data'!$A:$Z,9,0))","v":0},0,null,"NO",{"$f":"IF(ISERROR(VLOOKUP($A172+8860000,'Growth Data'!$A:$Z,5,0)),\"NO\",VLOOKUP($A172+8860000,'Growth Data'!$A:$Z,5,0))","v":"NO"},0,null,0,{"$f":"IF(ISERROR(VLOOKUP($A172+8860000,'Growth Data'!$A:$Z,10,0)),0,VLOOKUP($A172+8860000,'Growth Data'!$A:$Z,10,0))","v":0},0,null,0,{"$f":"IF(ISERROR(VLOOKUP($A172+8860000,'Growth Data'!$A:$Z,11,0)),0,VLOOKUP($A172+8860000,'Growth Data'!$A:$Z,11,0))","v":0},0]
[3130,"Wickhambreaux Church of England Primary School",null,"Wickhambreaux Church of England Primary School",null,1,null,417577.95,417577.95,0,null,11592.05,11592.050000000003,0,null,8185.89,8185.8851694915456,4.8305084546882426E-3,null,6848.56,6848.5625,-2.4999999995998223E-3,null,120084,120084,0,null,0,0,0,null,0,0,0,null,0,0,0,null,8733,8733,0,null,0,0,0,null,0,0,0,null,11.55,11.552330508449813,-2.3305084498126405E-3,null,573033,573033,0,null,0,0,0,null,573033,573033,0,null,0,null,0,null,null,null,0,null,null,null,0,null,29190.55,29190.552307008147,0,null,3550.5,3550.5,0,null,null,null,0,null,null,null,0,null,null,null,0,null,null,null,0,null,null,null,0,null,null,null,0,null,"NO",{"$f":"IF(ISERROR(VLOOKUP($A173+8860000,'Growth Data'!$A:$F,3,0)),\"NO\",VLOOKUP($A173+8860000,'Growth Data'!$A:$F,3,0))","v":"NO"},0,null,0,{"$f":"IF(DI173=\"YES\",IF(ISERROR(VLOOKUP($A173+8860000,'Growth Data'!$A:$F,6,0)),0,VLOOKUP($A173+8860000,'Growth Data'!$A:$F,6,0)),0)","v":0},0,null,0,{"$f":"IF(ISERROR(VLOOKUP($A173+8860000,'Growth Data'!$A:$Z,7,0)),0,VLOOKUP($A173+8860000,'Growth Data'!$A:$Z,7,0))","v":0},0,null,"NO",{"$f":"IF(ISERROR(VLOOKUP($A173+8860000,'Growth Data'!$A:$F,4,0)),\"NO\",VLOOKUP($A173+8860000,'Growth Data'!$A:$F,4,0))","v":"NO"},0,null,0,{"$f":"IF(ISERROR(VLOOKUP($A173+8860000,'Growth Data'!$A:$Z,8,0)),0,VLOOKUP($A173+8860000,'Growth Data'!$A:$Z,8,0))","v":0},0,null,0,{"$f":"IF(ISERROR(VLOOKUP($A173+8860000,'Growth Data'!$A:$Z,9,0)),0,VLOOKUP($A173+8860000,'Growth Data'!$A:$Z,9,0))","v":0},0,null,"NO",{"$f":"IF(ISERROR(VLOOKUP($A173+8860000,'Growth Data'!$A:$Z,5,0)),\"NO\",VLOOKUP($A173+8860000,'Growth Data'!$A:$Z,5,0))","v":"NO"},0,null,0,{"$f":"IF(ISERROR(VLOOKUP($A173+8860000,'Growth Data'!$A:$Z,10,0)),0,VLOOKUP($A173+8860000,'Growth Data'!$A:$Z,10,0))","v":0},0,null,0,{"$f":"IF(ISERROR(VLOOKUP($A173+8860000,'Growth Data'!$A:$Z,11,0)),0,VLOOKUP($A173+8860000,'Growth Data'!$A:$Z,11,0))","v":0},0]
[3134,"John Mayne Church of England Primary School, Biddenden",null,"John Mayne Church of England Primary School, Biddenden",null,1,null,278385.3,278385.3,0,null,9767.58,9767.5806741573087,-6.7415730882203206E-4,null,0,0,0,null,23113.9,23113.8984375,1.5625000014551915E-3,null,120084,120084,0,null,35952.69,35952.694125500668,-4.1255006653955206E-3,null,0,0,0,null,0,0,0,null,14222,14222,0,null,0,0,0,null,0,0,0,null,0,0,0,null,481525.47,481525.47323715797,-3.2371580018661916E-3,null,0,0,0,null,481525.47,481525.47323715797,-3.2371580018661916E-3,null,0,null,0,null,null,null,0,null,null,null,0,null,36354.620000000003,36354.621418665454,0,null,2367,2367,0,null,null,null,0,null,null,null,0,null,null,null,0,null,null,null,0,null,null,null,0,null,null,null,0,null,"NO",{"$f":"IF(ISERROR(VLOOKUP($A174+8860000,'Growth Data'!$A:$F,3,0)),\"NO\",VLOOKUP($A174+8860000,'Growth Data'!$A:$F,3,0))","v":"NO"},0,null,0,{"$f":"IF(DI174=\"YES\",IF(ISERROR(VLOOKUP($A174+8860000,'Growth Data'!$A:$F,6,0)),0,VLOOKUP($A174+8860000,'Growth Data'!$A:$F,6,0)),0)","v":0},0,null,0,{"$f":"IF(ISERROR(VLOOKUP($A174+8860000,'Growth Data'!$A:$Z,7,0)),0,VLOOKUP($A174+8860000,'Growth Data'!$A:$Z,7,0))","v":0},0,null,"NO",{"$f":"IF(ISERROR(VLOOKUP($A174+8860000,'Growth Data'!$A:$F,4,0)),\"NO\",VLOOKUP($A174+8860000,'Growth Data'!$A:$F,4,0))","v":"NO"},0,null,0,{"$f":"IF(ISERROR(VLOOKUP($A174+8860000,'Growth Data'!$A:$Z,8,0)),0,VLOOKUP($A174+8860000,'Growth Data'!$A:$Z,8,0))","v":0},0,null,0,{"$f":"IF(ISERROR(VLOOKUP($A174+8860000,'Growth Data'!$A:$Z,9,0)),0,VLOOKUP($A174+8860000,'Growth Data'!$A:$Z,9,0))","v":0},0,null,"NO",{"$f":"IF(ISERROR(VLOOKUP($A174+8860000,'Growth Data'!$A:$Z,5,0)),\"NO\",VLOOKUP($A174+8860000,'Growth Data'!$A:$Z,5,0))","v":"NO"},0,null,0,{"$f":"IF(ISERROR(VLOOKUP($A174+8860000,'Growth Data'!$A:$Z,10,0)),0,VLOOKUP($A174+8860000,'Growth Data'!$A:$Z,10,0))","v":0},0,null,0,{"$f":"IF(ISERROR(VLOOKUP($A174+8860000,'Growth Data'!$A:$Z,11,0)),0,VLOOKUP($A174+8860000,'Growth Data'!$A:$Z,11,0))","v":0},0]
[3136,"Brabourne Church of England Primary School",null,"Brabourne Church of England Primary School",null,1,null,318596.51,318596.51,0,null,7254.03,7254.0300000000025,0,null,3184.84,3184.8410112359561,-1.0112359559570905E-3,null,21645.21,21645.210136986301,-1.3698630209546536E-4,null,120084,120084,0,null,0,0,0,null,0,0,0,null,0,0,0,null,5502,5502,0,null,0,0,0,null,0,0,0,null,0,0,0,null,476266.59,476266.59114822227,-1.1482222471386194E-3,null,0,0,0,null,476266.59,476266.59114822227,-1.1482222471386194E-3,null,0,null,0,null,null,null,0,null,null,null,0,null,34636.58,34636.583455230408,0,null,2708.9,2708.8999999999996,0,null,null,null,0,null,null,null,0,null,null,null,0,null,null,null,0,null,null,null,0,null,null,null,0,null,"NO",{"$f":"IF(ISERROR(VLOOKUP($A175+8860000,'Growth Data'!$A:$F,3,0)),\"NO\",VLOOKUP($A175+8860000,'Growth Data'!$A:$F,3,0))","v":"NO"},0,null,0,{"$f":"IF(DI175=\"YES\",IF(ISERROR(VLOOKUP($A175+8860000,'Growth Data'!$A:$F,6,0)),0,VLOOKUP($A175+8860000,'Growth Data'!$A:$F,6,0)),0)","v":0},0,null,0,{"$f":"IF(ISERROR(VLOOKUP($A175+8860000,'Growth Data'!$A:$Z,7,0)),0,VLOOKUP($A175+8860000,'Growth Data'!$A:$Z,7,0))","v":0},0,null,"NO",{"$f":"IF(ISERROR(VLOOKUP($A175+8860000,'Growth Data'!$A:$F,4,0)),\"NO\",VLOOKUP($A175+8860000,'Growth Data'!$A:$F,4,0))","v":"NO"},0,null,0,{"$f":"IF(ISERROR(VLOOKUP($A175+8860000,'Growth Data'!$A:$Z,8,0)),0,VLOOKUP($A175+8860000,'Growth Data'!$A:$Z,8,0))","v":0},0,null,0,{"$f":"IF(ISERROR(VLOOKUP($A175+8860000,'Growth Data'!$A:$Z,9,0)),0,VLOOKUP($A175+8860000,'Growth Data'!$A:$Z,9,0))","v":0},0,null,"NO",{"$f":"IF(ISERROR(VLOOKUP($A175+8860000,'Growth Data'!$A:$Z,5,0)),\"NO\",VLOOKUP($A175+8860000,'Growth Data'!$A:$Z,5,0))","v":"NO"},0,null,0,{"$f":"IF(ISERROR(VLOOKUP($A175+8860000,'Growth Data'!$A:$Z,10,0)),0,VLOOKUP($A175+8860000,'Growth Data'!$A:$Z,10,0))","v":0},0,null,0,{"$f":"IF(ISERROR(VLOOKUP($A175+8860000,'Growth Data'!$A:$Z,11,0)),0,VLOOKUP($A175+8860000,'Growth Data'!$A:$Z,11,0))","v":0},0]
[3137,"Brookland Church of England Primary School",null,"Brookland Church of England Primary School",null,1,null,287664.81,287664.81,0,null,30418.1,30418.098736842083,1.2631579156732187E-3,null,624.22,624.22280487804824,-2.8048780482095026E-3,null,16784.62,16784.61811764706,1.8823529389919713E-3,null,120084,120084,0,null,0,0,0,null,0,0,0,null,0,0,0,null,11976,11976,0,null,0,0,0,null,0,0,0,null,0,0,0,null,467551.75,467551.7496593672,3.4063280327245593E-4,null,0,0,0,null,467551.75,467551.7496593672,3.4063280327245593E-4,null,0,null,0,null,null,null,0,null,null,null,0,null,47617.52,47617.521966375352,0,null,2445.9,2445.8999999999996,0,null,null,null,0,null,null,null,0,null,null,null,0,null,null,null,0,null,null,null,0,null,null,null,0,null,"NO",{"$f":"IF(ISERROR(VLOOKUP($A176+8860000,'Growth Data'!$A:$F,3,0)),\"NO\",VLOOKUP($A176+8860000,'Growth Data'!$A:$F,3,0))","v":"NO"},0,null,0,{"$f":"IF(DI176=\"YES\",IF(ISERROR(VLOOKUP($A176+8860000,'Growth Data'!$A:$F,6,0)),0,VLOOKUP($A176+8860000,'Growth Data'!$A:$F,6,0)),0)","v":0},0,null,0,{"$f":"IF(ISERROR(VLOOKUP($A176+8860000,'Growth Data'!$A:$Z,7,0)),0,VLOOKUP($A176+8860000,'Growth Data'!$A:$Z,7,0))","v":0},0,null,"YES",{"$f":"IF(ISERROR(VLOOKUP($A176+8860000,'Growth Data'!$A:$F,4,0)),\"NO\",VLOOKUP($A176+8860000,'Growth Data'!$A:$F,4,0))","v":"NO"},1,null,30,{"$f":"IF(ISERROR(VLOOKUP($A176+8860000,'Growth Data'!$A:$Z,8,0)),0,VLOOKUP($A176+8860000,'Growth Data'!$A:$Z,8,0))","v":0},1,null,60,{"$f":"IF(ISERROR(VLOOKUP($A176+8860000,'Growth Data'!$A:$Z,9,0)),0,VLOOKUP($A176+8860000,'Growth Data'!$A:$Z,9,0))","v":0},1,null,"YES",{"$f":"IF(ISERROR(VLOOKUP($A176+8860000,'Growth Data'!$A:$Z,5,0)),\"NO\",VLOOKUP($A176+8860000,'Growth Data'!$A:$Z,5,0))","v":"NO"},1,null,30,{"$f":"IF(ISERROR(VLOOKUP($A176+8860000,'Growth Data'!$A:$Z,10,0)),0,VLOOKUP($A176+8860000,'Growth Data'!$A:$Z,10,0))","v":0},1,null,60,{"$f":"IF(ISERROR(VLOOKUP($A176+8860000,'Growth Data'!$A:$Z,11,0)),0,VLOOKUP($A176+8860000,'Growth Data'!$A:$Z,11,0))","v":0},1]
[3138,"Chilham, St Mary's Church of England Primary School",null,"Chilham, St Mary's Church of England Primary School",null,1,null,266012.62,266012.62,0,null,20016.16,20016.157142857126,2.8571428738359828E-3,null,2000.01,2000.0087323943676,1.2676056323925877E-3,null,19101.939999999999,19101.936486486487,3.5135135112795979E-3,null,120084,120084,0,null,0,0,0,null,0,0,0,null,0,0,0,null,8358,8358,0,null,0,0,0,null,8400,8400,0,null,0,0,0,null,443972.72,443972.72236173798,-2.3617380065843463E-3,null,0,0,0,null,443972.72,443972.72236173798,-2.3617380065843463E-3,null,0,null,0,null,null,null,0,null,null,null,0,null,36305.480000000003,36305.484668746147,0,null,2261.8000000000002,2261.8000000000002,0,null,null,null,0,null,null,null,0,null,null,null,0,null,null,null,0,null,null,null,0,null,null,null,0,null,"NO",{"$f":"IF(ISERROR(VLOOKUP($A177+8860000,'Growth Data'!$A:$F,3,0)),\"NO\",VLOOKUP($A177+8860000,'Growth Data'!$A:$F,3,0))","v":"NO"},0,null,0,{"$f":"IF(DI177=\"YES\",IF(ISERROR(VLOOKUP($A177+8860000,'Growth Data'!$A:$F,6,0)),0,VLOOKUP($A177+8860000,'Growth Data'!$A:$F,6,0)),0)","v":0},0,null,0,{"$f":"IF(ISERROR(VLOOKUP($A177+8860000,'Growth Data'!$A:$Z,7,0)),0,VLOOKUP($A177+8860000,'Growth Data'!$A:$Z,7,0))","v":0},0,null,"NO",{"$f":"IF(ISERROR(VLOOKUP($A177+8860000,'Growth Data'!$A:$F,4,0)),\"NO\",VLOOKUP($A177+8860000,'Growth Data'!$A:$F,4,0))","v":"NO"},0,null,0,{"$f":"IF(ISERROR(VLOOKUP($A177+8860000,'Growth Data'!$A:$Z,8,0)),0,VLOOKUP($A177+8860000,'Growth Data'!$A:$Z,8,0))","v":0},0,null,0,{"$f":"IF(ISERROR(VLOOKUP($A177+8860000,'Growth Data'!$A:$Z,9,0)),0,VLOOKUP($A177+8860000,'Growth Data'!$A:$Z,9,0))","v":0},0,null,"NO",{"$f":"IF(ISERROR(VLOOKUP($A177+8860000,'Growth Data'!$A:$Z,5,0)),\"NO\",VLOOKUP($A177+8860000,'Growth Data'!$A:$Z,5,0))","v":"NO"},0,null,0,{"$f":"IF(ISERROR(VLOOKUP($A177+8860000,'Growth Data'!$A:$Z,10,0)),0,VLOOKUP($A177+8860000,'Growth Data'!$A:$Z,10,0))","v":0},0,null,0,{"$f":"IF(ISERROR(VLOOKUP($A177+8860000,'Growth Data'!$A:$Z,11,0)),0,VLOOKUP($A177+8860000,'Growth Data'!$A:$Z,11,0))","v":0},0]
[3139,"High Halden Church of England Primary School",null,"High Halden Church of England Primary School",null,1,null,287664.81,287664.81,0,null,12015.79,12015.786067415724,3.9325842772086617E-3,null,0,0,0,null,21230.54,21230.543750000001,-3.7499999998544808E-3,null,120084,120084,0,null,0,0,0,null,0,0,0,null,0,0,0,null,15968,15968,0,null,0,0,0,null,0,0,0,null,0,0,0,null,456963.14,456963.13981741574,1.8258427735418081E-4,null,0,0,0,null,456963.14,456963.13981741574,1.8258427735418081E-4,null,0,null,0,null,null,null,0,null,null,null,0,null,33036.910000000003,33036.912124423878,0,null,2445.9,2445.8999999999996,0,null,null,null,0,null,null,null,0,null,null,null,0,null,null,null,0,null,null,null,0,null,null,null,0,null,"NO",{"$f":"IF(ISERROR(VLOOKUP($A178+8860000,'Growth Data'!$A:$F,3,0)),\"NO\",VLOOKUP($A178+8860000,'Growth Data'!$A:$F,3,0))","v":"NO"},0,null,0,{"$f":"IF(DI178=\"YES\",IF(ISERROR(VLOOKUP($A178+8860000,'Growth Data'!$A:$F,6,0)),0,VLOOKUP($A178+8860000,'Growth Data'!$A:$F,6,0)),0)","v":0},0,null,0,{"$f":"IF(ISERROR(VLOOKUP($A178+8860000,'Growth Data'!$A:$Z,7,0)),0,VLOOKUP($A178+8860000,'Growth Data'!$A:$Z,7,0))","v":0},0,null,"NO",{"$f":"IF(ISERROR(VLOOKUP($A178+8860000,'Growth Data'!$A:$F,4,0)),\"NO\",VLOOKUP($A178+8860000,'Growth Data'!$A:$F,4,0))","v":"NO"},0,null,0,{"$f":"IF(ISERROR(VLOOKUP($A178+8860000,'Growth Data'!$A:$Z,8,0)),0,VLOOKUP($A178+8860000,'Growth Data'!$A:$Z,8,0))","v":0},0,null,0,{"$f":"IF(ISERROR(VLOOKUP($A178+8860000,'Growth Data'!$A:$Z,9,0)),0,VLOOKUP($A178+8860000,'Growth Data'!$A:$Z,9,0))","v":0},0,null,"NO",{"$f":"IF(ISERROR(VLOOKUP($A178+8860000,'Growth Data'!$A:$Z,5,0)),\"NO\",VLOOKUP($A178+8860000,'Growth Data'!$A:$Z,5,0))","v":"NO"},0,null,0,{"$f":"IF(ISERROR(VLOOKUP($A178+8860000,'Growth Data'!$A:$Z,10,0)),0,VLOOKUP($A178+8860000,'Growth Data'!$A:$Z,10,0))","v":0},0,null,0,{"$f":"IF(ISERROR(VLOOKUP($A178+8860000,'Growth Data'!$A:$Z,11,0)),0,VLOOKUP($A178+8860000,'Growth Data'!$A:$Z,11,0))","v":0},0]
[3145,"Woodchurch Church of England Primary School",null,"Woodchurch Church of England Primary School",null,1,null,473255.01,473255.01,0,null,29863.71,29863.710000000021,0,null,623.78,623.77533333333349,4.6666666664805234E-3,null,53069.95,53069.954244604312,-4.2446043153177015E-3,null,120084,120084,0,null,0,0,0,null,0,0,0,null,0,0,0,null,12226,12226,0,null,0,0,0,null,0,0,0,null,0,0,0,null,689122.45,689122.44957793772,4.2206223588436842E-4,null,0,0,0,null,689122.45,689122.44957793772,4.2206223588436842E-4,null,0,null,0,null,null,null,0,null,null,null,0,null,73220.98,73220.98188494581,0,null,4023.9,4023.8999999999996,0,null,null,null,0,null,null,null,0,null,null,null,0,null,null,null,0,null,null,null,0,null,null,null,0,null,"NO",{"$f":"IF(ISERROR(VLOOKUP($A179+8860000,'Growth Data'!$A:$F,3,0)),\"NO\",VLOOKUP($A179+8860000,'Growth Data'!$A:$F,3,0))","v":"NO"},0,null,0,{"$f":"IF(DI179=\"YES\",IF(ISERROR(VLOOKUP($A179+8860000,'Growth Data'!$A:$F,6,0)),0,VLOOKUP($A179+8860000,'Growth Data'!$A:$F,6,0)),0)","v":0},0,null,0,{"$f":"IF(ISERROR(VLOOKUP($A179+8860000,'Growth Data'!$A:$Z,7,0)),0,VLOOKUP($A179+8860000,'Growth Data'!$A:$Z,7,0))","v":0},0,null,"NO",{"$f":"IF(ISERROR(VLOOKUP($A179+8860000,'Growth Data'!$A:$F,4,0)),\"NO\",VLOOKUP($A179+8860000,'Growth Data'!$A:$F,4,0))","v":"NO"},0,null,0,{"$f":"IF(ISERROR(VLOOKUP($A179+8860000,'Growth Data'!$A:$Z,8,0)),0,VLOOKUP($A179+8860000,'Growth Data'!$A:$Z,8,0))","v":0},0,null,0,{"$f":"IF(ISERROR(VLOOKUP($A179+8860000,'Growth Data'!$A:$Z,9,0)),0,VLOOKUP($A179+8860000,'Growth Data'!$A:$Z,9,0))","v":0},0,null,"NO",{"$f":"IF(ISERROR(VLOOKUP($A179+8860000,'Growth Data'!$A:$Z,5,0)),\"NO\",VLOOKUP($A179+8860000,'Growth Data'!$A:$Z,5,0))","v":"NO"},0,null,0,{"$f":"IF(ISERROR(VLOOKUP($A179+8860000,'Growth Data'!$A:$Z,10,0)),0,VLOOKUP($A179+8860000,'Growth Data'!$A:$Z,10,0))","v":0},0,null,0,{"$f":"IF(ISERROR(VLOOKUP($A179+8860000,'Growth Data'!$A:$Z,11,0)),0,VLOOKUP($A179+8860000,'Growth Data'!$A:$Z,11,0))","v":0},0]
[3146,"Bodsham Church of England Primary School",null,"Bodsham Church of England Primary School",null,1,null,238174.09,238174.09,0,null,2674.26,2674.2648684210526,-4.8684210523788352E-3,null,2943.06,2943.0576388888876,2.361111112350045E-3,null,8437.43,8437.4290000000001,1.0000000002037268E-3,null,120084,120084,0,null,43768.5,43768.497196261676,2.8037383235641755E-3,null,0,0,0,null,0,0,0,null,6030,6030,0,null,0,0,0,null,0,0,0,null,0,0,0,null,422111.34,422111.33870357159,1.2964284396730363E-3,null,0,0,0,null,422111.34,422111.33870357159,1.2964284396730363E-3,null,0,null,0,null,null,null,0,null,null,null,0,null,19829.490000000002,19829.493814318088,0,null,2025.1,2025.1,0,null,null,null,0,null,null,null,0,null,null,null,0,null,null,null,0,null,null,null,0,null,null,null,0,null,"NO",{"$f":"IF(ISERROR(VLOOKUP($A180+8860000,'Growth Data'!$A:$F,3,0)),\"NO\",VLOOKUP($A180+8860000,'Growth Data'!$A:$F,3,0))","v":"NO"},0,null,0,{"$f":"IF(DI180=\"YES\",IF(ISERROR(VLOOKUP($A180+8860000,'Growth Data'!$A:$F,6,0)),0,VLOOKUP($A180+8860000,'Growth Data'!$A:$F,6,0)),0)","v":0},0,null,0,{"$f":"IF(ISERROR(VLOOKUP($A180+8860000,'Growth Data'!$A:$Z,7,0)),0,VLOOKUP($A180+8860000,'Growth Data'!$A:$Z,7,0))","v":0},0,null,"NO",{"$f":"IF(ISERROR(VLOOKUP($A180+8860000,'Growth Data'!$A:$F,4,0)),\"NO\",VLOOKUP($A180+8860000,'Growth Data'!$A:$F,4,0))","v":"NO"},0,null,0,{"$f":"IF(ISERROR(VLOOKUP($A180+8860000,'Growth Data'!$A:$Z,8,0)),0,VLOOKUP($A180+8860000,'Growth Data'!$A:$Z,8,0))","v":0},0,null,0,{"$f":"IF(ISERROR(VLOOKUP($A180+8860000,'Growth Data'!$A:$Z,9,0)),0,VLOOKUP($A180+8860000,'Growth Data'!$A:$Z,9,0))","v":0},0,null,"NO",{"$f":"IF(ISERROR(VLOOKUP($A180+8860000,'Growth Data'!$A:$Z,5,0)),\"NO\",VLOOKUP($A180+8860000,'Growth Data'!$A:$Z,5,0))","v":"NO"},0,null,0,{"$f":"IF(ISERROR(VLOOKUP($A180+8860000,'Growth Data'!$A:$Z,10,0)),0,VLOOKUP($A180+8860000,'Growth Data'!$A:$Z,10,0))","v":0},0,null,0,{"$f":"IF(ISERROR(VLOOKUP($A180+8860000,'Growth Data'!$A:$Z,11,0)),0,VLOOKUP($A180+8860000,'Growth Data'!$A:$Z,11,0))","v":0},0]
[3149,"Folkestone, St Martin's Church of England Primary School",null,"Folkestone, St Martin's Church of England Primary School",null,1,null,646472.53,646472.53,0,null,36490.949999999997,36490.95442307699,-4.423076992679853E-3,null,3834.38,3834.3836666666625,-3.6666666624114441E-3,null,44494.52,44494.52354285714,-3.5428571427473798E-3,null,120084,120084,0,null,0,0,0,null,0,0,0,null,0,0,0,null,19511,19511,0,null,0,0,0,null,0,0,0,null,22243.61,22243.608367399167,1.6326008335454389E-3,null,893131,893131,0,null,0,0,0,null,893131,893131,0,null,0,null,0,null,null,null,0,null,null,null,0,null,99028.61,99028.612307008079,0,null,5496.7,5496.7,0,null,null,null,0,null,null,null,0,null,null,null,0,null,null,null,0,null,null,null,0,null,null,null,0,null,"NO",{"$f":"IF(ISERROR(VLOOKUP($A181+8860000,'Growth Data'!$A:$F,3,0)),\"NO\",VLOOKUP($A181+8860000,'Growth Data'!$A:$F,3,0))","v":"NO"},0,null,0,{"$f":"IF(DI181=\"YES\",IF(ISERROR(VLOOKUP($A181+8860000,'Growth Data'!$A:$F,6,0)),0,VLOOKUP($A181+8860000,'Growth Data'!$A:$F,6,0)),0)","v":0},0,null,0,{"$f":"IF(ISERROR(VLOOKUP($A181+8860000,'Growth Data'!$A:$Z,7,0)),0,VLOOKUP($A181+8860000,'Growth Data'!$A:$Z,7,0))","v":0},0,null,"NO",{"$f":"IF(ISERROR(VLOOKUP($A181+8860000,'Growth Data'!$A:$F,4,0)),\"NO\",VLOOKUP($A181+8860000,'Growth Data'!$A:$F,4,0))","v":"NO"},0,null,0,{"$f":"IF(ISERROR(VLOOKUP($A181+8860000,'Growth Data'!$A:$Z,8,0)),0,VLOOKUP($A181+8860000,'Growth Data'!$A:$Z,8,0))","v":0},0,null,0,{"$f":"IF(ISERROR(VLOOKUP($A181+8860000,'Growth Data'!$A:$Z,9,0)),0,VLOOKUP($A181+8860000,'Growth Data'!$A:$Z,9,0))","v":0},0,null,"NO",{"$f":"IF(ISERROR(VLOOKUP($A181+8860000,'Growth Data'!$A:$Z,5,0)),\"NO\",VLOOKUP($A181+8860000,'Growth Data'!$A:$Z,5,0))","v":"NO"},0,null,0,{"$f":"IF(ISERROR(VLOOKUP($A181+8860000,'Growth Data'!$A:$Z,10,0)),0,VLOOKUP($A181+8860000,'Growth Data'!$A:$Z,10,0))","v":0},0,null,0,{"$f":"IF(ISERROR(VLOOKUP($A181+8860000,'Growth Data'!$A:$Z,11,0)),0,VLOOKUP($A181+8860000,'Growth Data'!$A:$Z,11,0))","v":0},0]
[3150,"Folkestone, St Peter's Church of England Primary School",null,"Folkestone, St Peter's Church of England Primary School",null,1,null,324782.84999999998,324782.85000000003,0,null,80817,80816.995700934625,4.2990653746528551E-3,null,2512.65,2512.6499999999987,0,null,36122.19,36122.185465116279,4.534883722953964E-3,null,120084,120084,0,null,0,0,0,null,0,0,0,null,0,0,0,null,2138,2138,0,null,0,0,0,null,28830,28830,0,null,0,0,0,null,595286.68000000005,595286.68116605096,-1.166050904430449E-3,null,1395.08,1395.083274448989,-3.2744489890319528E-3,null,596681.76,596681.76444049994,-4.4404999352991581E-3,null,0,null,0,null,null,null,0,null,null,null,0,null,107288.22,107288.21674750802,0,null,2761.5,2761.5,0,null,null,null,0,null,null,null,0,null,null,null,0,null,null,null,0,null,null,null,0,null,null,null,0,null,"NO",{"$f":"IF(ISERROR(VLOOKUP($A182+8860000,'Growth Data'!$A:$F,3,0)),\"NO\",VLOOKUP($A182+8860000,'Growth Data'!$A:$F,3,0))","v":"NO"},0,null,0,{"$f":"IF(DI182=\"YES\",IF(ISERROR(VLOOKUP($A182+8860000,'Growth Data'!$A:$F,6,0)),0,VLOOKUP($A182+8860000,'Growth Data'!$A:$F,6,0)),0)","v":0},0,null,0,{"$f":"IF(ISERROR(VLOOKUP($A182+8860000,'Growth Data'!$A:$Z,7,0)),0,VLOOKUP($A182+8860000,'Growth Data'!$A:$Z,7,0))","v":0},0,null,"NO",{"$f":"IF(ISERROR(VLOOKUP($A182+8860000,'Growth Data'!$A:$F,4,0)),\"NO\",VLOOKUP($A182+8860000,'Growth Data'!$A:$F,4,0))","v":"NO"},0,null,0,{"$f":"IF(ISERROR(VLOOKUP($A182+8860000,'Growth Data'!$A:$Z,8,0)),0,VLOOKUP($A182+8860000,'Growth Data'!$A:$Z,8,0))","v":0},0,null,0,{"$f":"IF(ISERROR(VLOOKUP($A182+8860000,'Growth Data'!$A:$Z,9,0)),0,VLOOKUP($A182+8860000,'Growth Data'!$A:$Z,9,0))","v":0},0,null,"NO",{"$f":"IF(ISERROR(VLOOKUP($A182+8860000,'Growth Data'!$A:$Z,5,0)),\"NO\",VLOOKUP($A182+8860000,'Growth Data'!$A:$Z,5,0))","v":"NO"},0,null,0,{"$f":"IF(ISERROR(VLOOKUP($A182+8860000,'Growth Data'!$A:$Z,10,0)),0,VLOOKUP($A182+8860000,'Growth Data'!$A:$Z,10,0))","v":0},0,null,0,{"$f":"IF(ISERROR(VLOOKUP($A182+8860000,'Growth Data'!$A:$Z,11,0)),0,VLOOKUP($A182+8860000,'Growth Data'!$A:$Z,11,0))","v":0},0]
[3153,"Seabrook Church of England Primary School",null,"Seabrook Church of England Primary School",null,1,null,330969.19,330969.19,0,null,16800.5,16800.503518518522,-3.518518522469094E-3,null,640.13,640.12749999999983,2.5000000001682565E-3,null,17519.72,17519.724942528737,-4.9425287361373194E-3,null,120084,120084,0,null,0,0,0,null,0,0,0,null,0,0,0,null,509,509,0,null,0,0,0,null,0,0,0,null,0,0,0,null,486522.55,486522.54596104729,4.0389526984654367E-3,null,4479.93,4479.9273394526099,2.6605473904055543E-3,null,491002.47,491002.4733004999,-3.3004999277181923E-3,null,0,null,0,null,null,null,0,null,null,null,0,null,40611.83,40611.825607508021,0,null,2814.1,2814.1000000000004,0,null,null,null,0,null,null,null,0,null,null,null,0,null,null,null,0,null,null,null,0,null,null,null,0,null,"NO",{"$f":"IF(ISERROR(VLOOKUP($A183+8860000,'Growth Data'!$A:$F,3,0)),\"NO\",VLOOKUP($A183+8860000,'Growth Data'!$A:$F,3,0))","v":"NO"},0,null,0,{"$f":"IF(DI183=\"YES\",IF(ISERROR(VLOOKUP($A183+8860000,'Growth Data'!$A:$F,6,0)),0,VLOOKUP($A183+8860000,'Growth Data'!$A:$F,6,0)),0)","v":0},0,null,0,{"$f":"IF(ISERROR(VLOOKUP($A183+8860000,'Growth Data'!$A:$Z,7,0)),0,VLOOKUP($A183+8860000,'Growth Data'!$A:$Z,7,0))","v":0},0,null,"NO",{"$f":"IF(ISERROR(VLOOKUP($A183+8860000,'Growth Data'!$A:$F,4,0)),\"NO\",VLOOKUP($A183+8860000,'Growth Data'!$A:$F,4,0))","v":"NO"},0,null,0,{"$f":"IF(ISERROR(VLOOKUP($A183+8860000,'Growth Data'!$A:$Z,8,0)),0,VLOOKUP($A183+8860000,'Growth Data'!$A:$Z,8,0))","v":0},0,null,0,{"$f":"IF(ISERROR(VLOOKUP($A183+8860000,'Growth Data'!$A:$Z,9,0)),0,VLOOKUP($A183+8860000,'Growth Data'!$A:$Z,9,0))","v":0},0,null,"NO",{"$f":"IF(ISERROR(VLOOKUP($A183+8860000,'Growth Data'!$A:$Z,5,0)),\"NO\",VLOOKUP($A183+8860000,'Growth Data'!$A:$Z,5,0))","v":"NO"},0,null,0,{"$f":"IF(ISERROR(VLOOKUP($A183+8860000,'Growth Data'!$A:$Z,10,0)),0,VLOOKUP($A183+8860000,'Growth Data'!$A:$Z,10,0))","v":0},0,null,0,{"$f":"IF(ISERROR(VLOOKUP($A183+8860000,'Growth Data'!$A:$Z,11,0)),0,VLOOKUP($A183+8860000,'Growth Data'!$A:$Z,11,0))","v":0},0]
[3154,"Lyminge Church of England Primary School",null,"Lyminge Church of England Primary School",null,1,null,596981.81000000006,596981.81000000006,0,null,14880.94,14880.94136842105,-1.3684210498468019E-3,null,3238.58,3238.5753048780512,4.695121948770975E-3,null,30033.18,30033.175384615384,4.6153846160450485E-3,null,120084,120084,0,null,0,0,0,null,0,0,0,null,0,0,0,null,28160,28160,0,null,0,0,0,null,0,0,0,null,41521.5,41521.497942085465,2.0579145348165184E-3,null,834900,834900.00000000012,0,null,0,0,0,null,834900,834900.00000000012,0,null,0,null,0,null,null,null,0,null,null,null,0,null,89925.09,89925.092307008104,0,null,5075.8999999999996,5075.8999999999996,0,null,null,null,0,null,null,null,0,null,null,null,0,null,null,null,0,null,null,null,0,null,null,null,0,null,"NO",{"$f":"IF(ISERROR(VLOOKUP($A184+8860000,'Growth Data'!$A:$F,3,0)),\"NO\",VLOOKUP($A184+8860000,'Growth Data'!$A:$F,3,0))","v":"NO"},0,null,0,{"$f":"IF(DI184=\"YES\",IF(ISERROR(VLOOKUP($A184+8860000,'Growth Data'!$A:$F,6,0)),0,VLOOKUP($A184+8860000,'Growth Data'!$A:$F,6,0)),0)","v":0},0,null,0,{"$f":"IF(ISERROR(VLOOKUP($A184+8860000,'Growth Data'!$A:$Z,7,0)),0,VLOOKUP($A184+8860000,'Growth Data'!$A:$Z,7,0))","v":0},0,null,"NO",{"$f":"IF(ISERROR(VLOOKUP($A184+8860000,'Growth Data'!$A:$F,4,0)),\"NO\",VLOOKUP($A184+8860000,'Growth Data'!$A:$F,4,0))","v":"NO"},0,null,0,{"$f":"IF(ISERROR(VLOOKUP($A184+8860000,'Growth Data'!$A:$Z,8,0)),0,VLOOKUP($A184+8860000,'Growth Data'!$A:$Z,8,0))","v":0},0,null,0,{"$f":"IF(ISERROR(VLOOKUP($A184+8860000,'Growth Data'!$A:$Z,9,0)),0,VLOOKUP($A184+8860000,'Growth Data'!$A:$Z,9,0))","v":0},0,null,"NO",{"$f":"IF(ISERROR(VLOOKUP($A184+8860000,'Growth Data'!$A:$Z,5,0)),\"NO\",VLOOKUP($A184+8860000,'Growth Data'!$A:$Z,5,0))","v":"NO"},0,null,0,{"$f":"IF(ISERROR(VLOOKUP($A184+8860000,'Growth Data'!$A:$Z,10,0)),0,VLOOKUP($A184+8860000,'Growth Data'!$A:$Z,10,0))","v":0},0,null,0,{"$f":"IF(ISERROR(VLOOKUP($A184+8860000,'Growth Data'!$A:$Z,11,0)),0,VLOOKUP($A184+8860000,'Growth Data'!$A:$Z,11,0))","v":0},0]
[3155,"Lympne Church of England Primary School",null,"Lympne Church of England Primary School",null,1,null,621727.17000000004,621727.17000000004,0,null,17675.72,17675.718799999995,1.2000000060652383E-3,null,1293.9000000000001,1293.8992982456098,7.0175439032027498E-4,null,52059.040000000001,52059.036545454546,3.4545454545877874E-3,null,120084,120084,0,null,0,0,0,null,0,0,0,null,0,0,0,null,45824,45824,0,null,0,0,0,null,0,0,0,null,27340.18,27340.175356299791,4.6437002092716284E-3,null,886004,886004,0,null,0,0,0,null,886004,886004,0,null,0,null,0,null,null,null,0,null,null,null,0,null,100000.69,100000.6923070081,0,null,5286.3,5286.2999999999993,0,null,null,null,0,null,null,null,0,null,null,null,0,null,null,null,0,null,null,null,0,null,null,null,0,null,"NO",{"$f":"IF(ISERROR(VLOOKUP($A185+8860000,'Growth Data'!$A:$F,3,0)),\"NO\",VLOOKUP($A185+8860000,'Growth Data'!$A:$F,3,0))","v":"NO"},0,null,0,{"$f":"IF(DI185=\"YES\",IF(ISERROR(VLOOKUP($A185+8860000,'Growth Data'!$A:$F,6,0)),0,VLOOKUP($A185+8860000,'Growth Data'!$A:$F,6,0)),0)","v":0},0,null,0,{"$f":"IF(ISERROR(VLOOKUP($A185+8860000,'Growth Data'!$A:$Z,7,0)),0,VLOOKUP($A185+8860000,'Growth Data'!$A:$Z,7,0))","v":0},0,null,"NO",{"$f":"IF(ISERROR(VLOOKUP($A185+8860000,'Growth Data'!$A:$F,4,0)),\"NO\",VLOOKUP($A185+8860000,'Growth Data'!$A:$F,4,0))","v":"NO"},0,null,0,{"$f":"IF(ISERROR(VLOOKUP($A185+8860000,'Growth Data'!$A:$Z,8,0)),0,VLOOKUP($A185+8860000,'Growth Data'!$A:$Z,8,0))","v":0},0,null,0,{"$f":"IF(ISERROR(VLOOKUP($A185+8860000,'Growth Data'!$A:$Z,9,0)),0,VLOOKUP($A185+8860000,'Growth Data'!$A:$Z,9,0))","v":0},0,null,"NO",{"$f":"IF(ISERROR(VLOOKUP($A185+8860000,'Growth Data'!$A:$Z,5,0)),\"NO\",VLOOKUP($A185+8860000,'Growth Data'!$A:$Z,5,0))","v":"NO"},0,null,0,{"$f":"IF(ISERROR(VLOOKUP($A185+8860000,'Growth Data'!$A:$Z,10,0)),0,VLOOKUP($A185+8860000,'Growth Data'!$A:$Z,10,0))","v":0},0,null,0,{"$f":"IF(ISERROR(VLOOKUP($A185+8860000,'Growth Data'!$A:$Z,11,0)),0,VLOOKUP($A185+8860000,'Growth Data'!$A:$Z,11,0))","v":0},0]
[3158,"Stelling Minnis Church of England Primary School",null,"Stelling Minnis Church of England Primary School",null,1,null,235080.92,235080.92,0,null,8729.0499999999993,8729.0499999999902,0,null,643.53,643.53292307692368,-2.9230769237074128E-3,null,21915.4,21915.4,0,null,120084,120084,0,null,44369.71,44369.71281708945,-2.8170894511276856E-3,null,0,0,0,null,0,0,0,null,14097,14097,0,null,0,0,0,null,0,0,0,null,0,0,0,null,444919.62,444919.61574016639,4.259833600372076E-3,null,0,0,0,null,444919.62,444919.61574016639,4.259833600372076E-3,null,0,null,0,null,null,null,0,null,null,null,0,null,32459.53,32459.52523008507,0,null,1998.8,1998.8,0,null,null,null,0,null,null,null,0,null,null,null,0,null,null,null,0,null,null,null,0,null,null,null,0,null,"NO",{"$f":"IF(ISERROR(VLOOKUP($A186+8860000,'Growth Data'!$A:$F,3,0)),\"NO\",VLOOKUP($A186+8860000,'Growth Data'!$A:$F,3,0))","v":"NO"},0,null,0,{"$f":"IF(DI186=\"YES\",IF(ISERROR(VLOOKUP($A186+8860000,'Growth Data'!$A:$F,6,0)),0,VLOOKUP($A186+8860000,'Growth Data'!$A:$F,6,0)),0)","v":0},0,null,0,{"$f":"IF(ISERROR(VLOOKUP($A186+8860000,'Growth Data'!$A:$Z,7,0)),0,VLOOKUP($A186+8860000,'Growth Data'!$A:$Z,7,0))","v":0},0,null,"NO",{"$f":"IF(ISERROR(VLOOKUP($A186+8860000,'Growth Data'!$A:$F,4,0)),\"NO\",VLOOKUP($A186+8860000,'Growth Data'!$A:$F,4,0))","v":"NO"},0,null,0,{"$f":"IF(ISERROR(VLOOKUP($A186+8860000,'Growth Data'!$A:$Z,8,0)),0,VLOOKUP($A186+8860000,'Growth Data'!$A:$Z,8,0))","v":0},0,null,0,{"$f":"IF(ISERROR(VLOOKUP($A186+8860000,'Growth Data'!$A:$Z,9,0)),0,VLOOKUP($A186+8860000,'Growth Data'!$A:$Z,9,0))","v":0},0,null,"NO",{"$f":"IF(ISERROR(VLOOKUP($A186+8860000,'Growth Data'!$A:$Z,5,0)),\"NO\",VLOOKUP($A186+8860000,'Growth Data'!$A:$Z,5,0))","v":"NO"},0,null,0,{"$f":"IF(ISERROR(VLOOKUP($A186+8860000,'Growth Data'!$A:$Z,10,0)),0,VLOOKUP($A186+8860000,'Growth Data'!$A:$Z,10,0))","v":0},0,null,0,{"$f":"IF(ISERROR(VLOOKUP($A186+8860000,'Growth Data'!$A:$Z,11,0)),0,VLOOKUP($A186+8860000,'Growth Data'!$A:$Z,11,0))","v":0},0]
[3159,"Stowting Church of England Primary School",null,"Stowting Church of England Primary School",null,1,null,324782.84999999998,324782.85000000003,0,null,5939.12,5939.1199999999972,0,null,642.12,642.12166666666599,-1.6666666659830298E-3,null,19886.2,19886.196296296297,3.7037037036498077E-3,null,120084,120084,0,null,0,0,0,null,0,0,0,null,0,0,0,null,13972,13972,0,null,0,0,0,null,0,0,0,null,0,0,0,null,485306.29,485306.28796296299,2.0370369893498719E-3,null,0,0,0,null,485306.29,485306.28796296299,2.0370369893498719E-3,null,0,null,0,null,null,null,0,null,null,null,0,null,30400.9,30400.900269971113,0,null,2761.5,2761.5,0,null,null,null,0,null,null,null,0,null,null,null,0,null,null,null,0,null,null,null,0,null,null,null,0,null,"NO",{"$f":"IF(ISERROR(VLOOKUP($A187+8860000,'Growth Data'!$A:$F,3,0)),\"NO\",VLOOKUP($A187+8860000,'Growth Data'!$A:$F,3,0))","v":"NO"},0,null,0,{"$f":"IF(DI187=\"YES\",IF(ISERROR(VLOOKUP($A187+8860000,'Growth Data'!$A:$F,6,0)),0,VLOOKUP($A187+8860000,'Growth Data'!$A:$F,6,0)),0)","v":0},0,null,0,{"$f":"IF(ISERROR(VLOOKUP($A187+8860000,'Growth Data'!$A:$Z,7,0)),0,VLOOKUP($A187+8860000,'Growth Data'!$A:$Z,7,0))","v":0},0,null,"NO",{"$f":"IF(ISERROR(VLOOKUP($A187+8860000,'Growth Data'!$A:$F,4,0)),\"NO\",VLOOKUP($A187+8860000,'Growth Data'!$A:$F,4,0))","v":"NO"},0,null,0,{"$f":"IF(ISERROR(VLOOKUP($A187+8860000,'Growth Data'!$A:$Z,8,0)),0,VLOOKUP($A187+8860000,'Growth Data'!$A:$Z,8,0))","v":0},0,null,0,{"$f":"IF(ISERROR(VLOOKUP($A187+8860000,'Growth Data'!$A:$Z,9,0)),0,VLOOKUP($A187+8860000,'Growth Data'!$A:$Z,9,0))","v":0},0,null,"NO",{"$f":"IF(ISERROR(VLOOKUP($A187+8860000,'Growth Data'!$A:$Z,5,0)),\"NO\",VLOOKUP($A187+8860000,'Growth Data'!$A:$Z,5,0))","v":"NO"},0,null,0,{"$f":"IF(ISERROR(VLOOKUP($A187+8860000,'Growth Data'!$A:$Z,10,0)),0,VLOOKUP($A187+8860000,'Growth Data'!$A:$Z,10,0))","v":0},0,null,0,{"$f":"IF(ISERROR(VLOOKUP($A187+8860000,'Growth Data'!$A:$Z,11,0)),0,VLOOKUP($A187+8860000,'Growth Data'!$A:$Z,11,0))","v":0},0]
[3160,"Selsted Church of England Primary School",null,"Selsted Church of England Primary School",null,1,null,300037.49,300037.49,0,null,15262.62,15262.620000000008,0,null,0,0,0,null,22776.36,22776.362142857142,-2.1428571417345665E-3,null,120084,120084,0,null,31744.18,31744.184779706273,-4.7797062725294381E-3,null,0,0,0,null,0,0,0,null,10978,10978,0,null,0,0,0,null,0,0,0,null,0,0,0,null,500882.66,500882.65692256344,3.0774365295656025E-3,null,0,0,0,null,500882.66,500882.65692256344,3.0774365295656025E-3,null,0,null,0,null,null,null,0,null,null,null,0,null,40131.160000000003,40131.164449865297,0,null,2551.1,2551.1,0,null,null,null,0,null,null,null,0,null,null,null,0,null,null,null,0,null,null,null,0,null,null,null,0,null,"YES",{"$f":"IF(ISERROR(VLOOKUP($A188+8860000,'Growth Data'!$A:$F,3,0)),\"NO\",VLOOKUP($A188+8860000,'Growth Data'!$A:$F,3,0))","v":"NO"},1,null,30,{"$f":"IF(DI188=\"YES\",IF(ISERROR(VLOOKUP($A188+8860000,'Growth Data'!$A:$F,6,0)),0,VLOOKUP($A188+8860000,'Growth Data'!$A:$F,6,0)),0)","v":0},30,null,60,{"$f":"IF(ISERROR(VLOOKUP($A188+8860000,'Growth Data'!$A:$Z,7,0)),0,VLOOKUP($A188+8860000,'Growth Data'!$A:$Z,7,0))","v":0},1,null,"YES",{"$f":"IF(ISERROR(VLOOKUP($A188+8860000,'Growth Data'!$A:$F,4,0)),\"NO\",VLOOKUP($A188+8860000,'Growth Data'!$A:$F,4,0))","v":"NO"},1,null,30,{"$f":"IF(ISERROR(VLOOKUP($A188+8860000,'Growth Data'!$A:$Z,8,0)),0,VLOOKUP($A188+8860000,'Growth Data'!$A:$Z,8,0))","v":0},1,null,60,{"$f":"IF(ISERROR(VLOOKUP($A188+8860000,'Growth Data'!$A:$Z,9,0)),0,VLOOKUP($A188+8860000,'Growth Data'!$A:$Z,9,0))","v":0},1,null,"YES",{"$f":"IF(ISERROR(VLOOKUP($A188+8860000,'Growth Data'!$A:$Z,5,0)),\"NO\",VLOOKUP($A188+8860000,'Growth Data'!$A:$Z,5,0))","v":"NO"},1,null,30,{"$f":"IF(ISERROR(VLOOKUP($A188+8860000,'Growth Data'!$A:$Z,10,0)),0,VLOOKUP($A188+8860000,'Growth Data'!$A:$Z,10,0))","v":0},1,null,60,{"$f":"IF(ISERROR(VLOOKUP($A188+8860000,'Growth Data'!$A:$Z,11,0)),0,VLOOKUP($A188+8860000,'Growth Data'!$A:$Z,11,0))","v":0},1]
[3167,"Eastry Church of England Primary School",null,"Eastry Church of England Primary School",null,1,null,522745.73,522745.73000000004,0,null,30763.040000000001,30763.042857142867,-2.8571428665600251E-3,null,1951.38,1951.3827272727292,-2.7272727290892362E-3,null,57958.7,57958.704809160306,-4.8091603093780577E-3,null,120084,120084,0,null,0,0,0,null,0,0,0,null,0,0,0,null,17465,17465,0,null,0,0,0,null,0,0,0,null,0,0,0,null,750967.86,750967.86039357597,-3.9357598870992661E-4,null,0,0,0,null,750967.86,750967.86039357597,-3.9357598870992661E-4,null,0,null,0,null,null,null,0,null,null,null,0,null,82638.27,82638.272700584042,0,null,4444.7,4444.7,0,null,null,null,0,null,null,null,0,null,null,null,0,null,null,null,0,null,null,null,0,null,null,null,0,null,"YES",{"$f":"IF(ISERROR(VLOOKUP($A189+8860000,'Growth Data'!$A:$F,3,0)),\"NO\",VLOOKUP($A189+8860000,'Growth Data'!$A:$F,3,0))","v":"NO"},1,null,33,{"$f":"IF(DI189=\"YES\",IF(ISERROR(VLOOKUP($A189+8860000,'Growth Data'!$A:$F,6,0)),0,VLOOKUP($A189+8860000,'Growth Data'!$A:$F,6,0)),0)","v":0},33,null,60,{"$f":"IF(ISERROR(VLOOKUP($A189+8860000,'Growth Data'!$A:$Z,7,0)),0,VLOOKUP($A189+8860000,'Growth Data'!$A:$Z,7,0))","v":0},1,null,"NO",{"$f":"IF(ISERROR(VLOOKUP($A189+8860000,'Growth Data'!$A:$F,4,0)),\"NO\",VLOOKUP($A189+8860000,'Growth Data'!$A:$F,4,0))","v":"NO"},0,null,0,{"$f":"IF(ISERROR(VLOOKUP($A189+8860000,'Growth Data'!$A:$Z,8,0)),0,VLOOKUP($A189+8860000,'Growth Data'!$A:$Z,8,0))","v":0},0,null,0,{"$f":"IF(ISERROR(VLOOKUP($A189+8860000,'Growth Data'!$A:$Z,9,0)),0,VLOOKUP($A189+8860000,'Growth Data'!$A:$Z,9,0))","v":0},0,null,"NO",{"$f":"IF(ISERROR(VLOOKUP($A189+8860000,'Growth Data'!$A:$Z,5,0)),\"NO\",VLOOKUP($A189+8860000,'Growth Data'!$A:$Z,5,0))","v":"NO"},0,null,0,{"$f":"IF(ISERROR(VLOOKUP($A189+8860000,'Growth Data'!$A:$Z,10,0)),0,VLOOKUP($A189+8860000,'Growth Data'!$A:$Z,10,0))","v":0},0,null,0,{"$f":"IF(ISERROR(VLOOKUP($A189+8860000,'Growth Data'!$A:$Z,11,0)),0,VLOOKUP($A189+8860000,'Growth Data'!$A:$Z,11,0))","v":0},0]
[3168,"Goodnestone Church of England Primary School",null,"Goodnestone Church of England Primary School",null,1,null,157751.67000000001,157751.67000000001,0,null,14123.95,14123.950769230771,-7.6923076994717121E-4,null,1477.36,1477.3626315789465,-2.6315789466480055E-3,null,29412.77,29412.773684210526,-3.6842105255345814E-3,null,120084,120084,0,null,0,0,0,null,0,0,0,null,0,0,0,null,3443,3443,0,null,0,0,0,null,0,0,0,null,0,0,0,null,326292.76,326292.7570850203,2.9149797046557069E-3,null,5253.19,5253.188186161482,1.8138385175916483E-3,null,331545.95,331545.94527118176,4.7288182540796697E-3,null,0,null,0,null,null,null,0,null,null,null,0,null,51438.82,51438.817578189875,0,null,1341.3,1341.3,0,null,null,null,0,null,null,null,0,null,null,null,0,null,null,null,0,null,null,null,0,null,null,null,0,null,"NO",{"$f":"IF(ISERROR(VLOOKUP($A190+8860000,'Growth Data'!$A:$F,3,0)),\"NO\",VLOOKUP($A190+8860000,'Growth Data'!$A:$F,3,0))","v":"NO"},0,null,0,{"$f":"IF(DI190=\"YES\",IF(ISERROR(VLOOKUP($A190+8860000,'Growth Data'!$A:$F,6,0)),0,VLOOKUP($A190+8860000,'Growth Data'!$A:$F,6,0)),0)","v":0},0,null,0,{"$f":"IF(ISERROR(VLOOKUP($A190+8860000,'Growth Data'!$A:$Z,7,0)),0,VLOOKUP($A190+8860000,'Growth Data'!$A:$Z,7,0))","v":0},0,null,"NO",{"$f":"IF(ISERROR(VLOOKUP($A190+8860000,'Growth Data'!$A:$F,4,0)),\"NO\",VLOOKUP($A190+8860000,'Growth Data'!$A:$F,4,0))","v":"NO"},0,null,0,{"$f":"IF(ISERROR(VLOOKUP($A190+8860000,'Growth Data'!$A:$Z,8,0)),0,VLOOKUP($A190+8860000,'Growth Data'!$A:$Z,8,0))","v":0},0,null,0,{"$f":"IF(ISERROR(VLOOKUP($A190+8860000,'Growth Data'!$A:$Z,9,0)),0,VLOOKUP($A190+8860000,'Growth Data'!$A:$Z,9,0))","v":0},0,null,"NO",{"$f":"IF(ISERROR(VLOOKUP($A190+8860000,'Growth Data'!$A:$Z,5,0)),\"NO\",VLOOKUP($A190+8860000,'Growth Data'!$A:$Z,5,0))","v":"NO"},0,null,0,{"$f":"IF(ISERROR(VLOOKUP($A190+8860000,'Growth Data'!$A:$Z,10,0)),0,VLOOKUP($A190+8860000,'Growth Data'!$A:$Z,10,0))","v":0},0,null,0,{"$f":"IF(ISERROR(VLOOKUP($A190+8860000,'Growth Data'!$A:$Z,11,0)),0,VLOOKUP($A190+8860000,'Growth Data'!$A:$Z,11,0))","v":0},0]
[3169,"Guston Church of England Primary School",null,"Guston Church of England Primary School",null,1,null,470161.84,470161.84,0,null,20367.14,20367.140000000021,0,null,28934.79,28934.788571428544,1.4285714569268748E-3,null,42396.34,42396.33745454545,2.5454545466345735E-3,null,120084,120084,0,null,0,0,0,null,0,0,0,null,0,0,0,null,19461,19461,0,null,0,0,0,null,0,0,0,null,0,0,0,null,701405.11,701405.10602597403,3.974025952629745E-3,null,0,0,0,null,701405.11,701405.10602597403,3.974025952629745E-3,null,0,null,0,null,null,null,0,null,null,null,0,null,90568.21,90568.208332982162,0,null,3997.6,3997.6,0,null,null,null,0,null,null,null,0,null,null,null,0,null,null,null,0,null,null,null,0,null,null,null,0,null,"NO",{"$f":"IF(ISERROR(VLOOKUP($A191+8860000,'Growth Data'!$A:$F,3,0)),\"NO\",VLOOKUP($A191+8860000,'Growth Data'!$A:$F,3,0))","v":"NO"},0,null,0,{"$f":"IF(DI191=\"YES\",IF(ISERROR(VLOOKUP($A191+8860000,'Growth Data'!$A:$F,6,0)),0,VLOOKUP($A191+8860000,'Growth Data'!$A:$F,6,0)),0)","v":0},0,null,0,{"$f":"IF(ISERROR(VLOOKUP($A191+8860000,'Growth Data'!$A:$Z,7,0)),0,VLOOKUP($A191+8860000,'Growth Data'!$A:$Z,7,0))","v":0},0,null,"NO",{"$f":"IF(ISERROR(VLOOKUP($A191+8860000,'Growth Data'!$A:$F,4,0)),\"NO\",VLOOKUP($A191+8860000,'Growth Data'!$A:$F,4,0))","v":"NO"},0,null,0,{"$f":"IF(ISERROR(VLOOKUP($A191+8860000,'Growth Data'!$A:$Z,8,0)),0,VLOOKUP($A191+8860000,'Growth Data'!$A:$Z,8,0))","v":0},0,null,0,{"$f":"IF(ISERROR(VLOOKUP($A191+8860000,'Growth Data'!$A:$Z,9,0)),0,VLOOKUP($A191+8860000,'Growth Data'!$A:$Z,9,0))","v":0},0,null,"NO",{"$f":"IF(ISERROR(VLOOKUP($A191+8860000,'Growth Data'!$A:$Z,5,0)),\"NO\",VLOOKUP($A191+8860000,'Growth Data'!$A:$Z,5,0))","v":"NO"},0,null,0,{"$f":"IF(ISERROR(VLOOKUP($A191+8860000,'Growth Data'!$A:$Z,10,0)),0,VLOOKUP($A191+8860000,'Growth Data'!$A:$Z,10,0))","v":0},0,null,0,{"$f":"IF(ISERROR(VLOOKUP($A191+8860000,'Growth Data'!$A:$Z,11,0)),0,VLOOKUP($A191+8860000,'Growth Data'!$A:$Z,11,0))","v":0},0]
[3171,"Nonington Church of England Primary School",null,"Nonington Church of England Primary School",null,1,null,154658.5,154658.5,0,null,21625.439999999999,21625.443617021276,-3.6170212770230137E-3,null,573.32000000000005,573.32291666666572,-2.9166666656692541E-3,null,23132.92,23132.92222222222,-2.2222222214622889E-3,null,120084,120084,0,null,0,0,0,null,0,0,0,null,0,0,0,null,9606,9606,0,null,0,0,0,null,0,0,0,null,0,0,0,null,329680.19,329680.18875591015,1.2440898572094738E-3,null,0,0,0,null,329680.19,329680.18875591015,1.2440898572094738E-3,null,0,null,0,null,null,null,0,null,null,null,0,null,41900.03,41900.031062918308,0,null,1315,1315,0,null,null,null,0,null,null,null,0,null,null,null,0,null,null,null,0,null,null,null,0,null,null,null,0,null,"NO",{"$f":"IF(ISERROR(VLOOKUP($A192+8860000,'Growth Data'!$A:$F,3,0)),\"NO\",VLOOKUP($A192+8860000,'Growth Data'!$A:$F,3,0))","v":"NO"},0,null,0,{"$f":"IF(DI192=\"YES\",IF(ISERROR(VLOOKUP($A192+8860000,'Growth Data'!$A:$F,6,0)),0,VLOOKUP($A192+8860000,'Growth Data'!$A:$F,6,0)),0)","v":0},0,null,0,{"$f":"IF(ISERROR(VLOOKUP($A192+8860000,'Growth Data'!$A:$Z,7,0)),0,VLOOKUP($A192+8860000,'Growth Data'!$A:$Z,7,0))","v":0},0,null,"NO",{"$f":"IF(ISERROR(VLOOKUP($A192+8860000,'Growth Data'!$A:$F,4,0)),\"NO\",VLOOKUP($A192+8860000,'Growth Data'!$A:$F,4,0))","v":"NO"},0,null,0,{"$f":"IF(ISERROR(VLOOKUP($A192+8860000,'Growth Data'!$A:$Z,8,0)),0,VLOOKUP($A192+8860000,'Growth Data'!$A:$Z,8,0))","v":0},0,null,0,{"$f":"IF(ISERROR(VLOOKUP($A192+8860000,'Growth Data'!$A:$Z,9,0)),0,VLOOKUP($A192+8860000,'Growth Data'!$A:$Z,9,0))","v":0},0,null,"NO",{"$f":"IF(ISERROR(VLOOKUP($A192+8860000,'Growth Data'!$A:$Z,5,0)),\"NO\",VLOOKUP($A192+8860000,'Growth Data'!$A:$Z,5,0))","v":"NO"},0,null,0,{"$f":"IF(ISERROR(VLOOKUP($A192+8860000,'Growth Data'!$A:$Z,10,0)),0,VLOOKUP($A192+8860000,'Growth Data'!$A:$Z,10,0))","v":0},0,null,0,{"$f":"IF(ISERROR(VLOOKUP($A192+8860000,'Growth Data'!$A:$Z,11,0)),0,VLOOKUP($A192+8860000,'Growth Data'!$A:$Z,11,0))","v":0},0]
[3173,"Kingsdown and Ringwould CofE Primary School",null,"Kingsdown and Ringwould CofE Primary School",null,1,null,674311.06,674311.06,0,null,31622.959999999999,31622.959999999959,4.0017766878008842E-11,null,3191.09,3191.0909574468124,-9.5744681220821803E-4,null,17883.900000000001,17883.903957219249,-3.9572192472405732E-3,null,120084,120084,0,null,0,0,0,null,0,0,0,null,0,0,0,null,21707,21707,0,null,0,0,0,null,0,0,0,null,64146.99,64146.98508533393,4.9146660676342435E-3,null,932947,932947,0,null,0,0,0,null,932947,932947,0,null,0,null,0,null,null,null,0,null,null,null,0,null,110651.36,110651.36230700814,0,null,5733.4,0,5733,null,null,null,0,null,null,null,0,null,null,null,0,null,null,null,0,null,null,null,0,null,null,null,0,null,"NO",{"$f":"IF(ISERROR(VLOOKUP($A193+8860000,'Growth Data'!$A:$F,3,0)),\"NO\",VLOOKUP($A193+8860000,'Growth Data'!$A:$F,3,0))","v":"NO"},0,null,0,{"$f":"IF(DI193=\"YES\",IF(ISERROR(VLOOKUP($A193+8860000,'Growth Data'!$A:$F,6,0)),0,VLOOKUP($A193+8860000,'Growth Data'!$A:$F,6,0)),0)","v":0},0,null,0,{"$f":"IF(ISERROR(VLOOKUP($A193+8860000,'Growth Data'!$A:$Z,7,0)),0,VLOOKUP($A193+8860000,'Growth Data'!$A:$Z,7,0))","v":0},0,null,"NO",{"$f":"IF(ISERROR(VLOOKUP($A193+8860000,'Growth Data'!$A:$F,4,0)),\"NO\",VLOOKUP($A193+8860000,'Growth Data'!$A:$F,4,0))","v":"NO"},0,null,0,{"$f":"IF(ISERROR(VLOOKUP($A193+8860000,'Growth Data'!$A:$Z,8,0)),0,VLOOKUP($A193+8860000,'Growth Data'!$A:$Z,8,0))","v":0},0,null,0,{"$f":"IF(ISERROR(VLOOKUP($A193+8860000,'Growth Data'!$A:$Z,9,0)),0,VLOOKUP($A193+8860000,'Growth Data'!$A:$Z,9,0))","v":0},0,null,"NO",{"$f":"IF(ISERROR(VLOOKUP($A193+8860000,'Growth Data'!$A:$Z,5,0)),\"NO\",VLOOKUP($A193+8860000,'Growth Data'!$A:$Z,5,0))","v":"NO"},0,null,0,{"$f":"IF(ISERROR(VLOOKUP($A193+8860000,'Growth Data'!$A:$Z,10,0)),0,VLOOKUP($A193+8860000,'Growth Data'!$A:$Z,10,0))","v":0},0,null,0,{"$f":"IF(ISERROR(VLOOKUP($A193+8860000,'Growth Data'!$A:$Z,11,0)),0,VLOOKUP($A193+8860000,'Growth Data'!$A:$Z,11,0))","v":0},0]
[3175,"Sibertswold Church of England Primary School at Shepherdswell",null,"Sibertswold Church of England Primary School at Shepherdswell",null,{"$f":"IF(E194=D194,0,1)","v":1},null,615540.82999999996,615540.82999999996,{"$f":"H194-I194","v":0},null,34931.22,34931.220000000016,{"$f":"L194-M194","v":0},null,5632.85,5632.8485142857107,{"$f":"P194-Q194","v":1.4857142896289588E-3},null,17345.54,17345.541022727273,{"$f":"T194-U194","v":-1.0227272723568603E-3},null,120084,120084,{"$f":"X194-Y194","v":0},null,0,0,{"$f":"AB194-AC194","v":0},null,0,0,{"$f":"AF194-AG194","v":0},null,0,0,{"$f":"AJ194-AK194","v":0},null,27136,27136,{"$f":"AN194-AO194","v":0},null,0,0,{"$f":"AR194-AS194","v":0},null,0,0,{"$f":"AV194-AW194","v":0},null,38285.56,38285.560462987021,{"$f":"AZ194-BA194","v":-4.6298702363856137E-4},null,858956,858956,{"$f":"BD194-BE194","v":0},null,0,0,{"$f":"BH194-BI194","v":0},null,858956,858956,{"$f":"BL194-BM194","v":0},null,0,null,{"$f":"BP194-BQ194","v":0},null,null,null,{"$f":"BT194-BU194","v":0},null,null,null,{"$f":"BX194-BY194","v":0},null,93684.15,93684.15230700816,{"$f":"ROUND(CB194-CC194,0)","v":0},null,5233.7,5233.7000000000007,{"$f":"ROUND(CF194-CG194,0)","v":0},null,null,null,{"$f":"ROUND(CJ194-CK194,0)","v":0},null,null,null,{"$f":"ROUND(CN194-CO194,0)","v":0},null,null,null,{"$f":"ROUND(CR194-CS194,0)","v":0},null,null,null,{"$f":"ROUND(CV194-CW194,0)","v":0},null,null,null,{"$f":"ROUND(CZ194-DA194,0)","v":0},null,null,null,{"$f":"ROUND(DD194-DE194,0)","v":0},null,"NO",{"$f":"IF(ISERROR(VLOOKUP($A194+8860000,'Growth Data'!$A:$F,3,0)),\"NO\",VLOOKUP($A194+8860000,'Growth Data'!$A:$F,3,0))","v":"NO"},{"$f":"IF(DH194=DI194,0,1)","v":0},null,0,{"$f":"IF(DI194=\"YES\",IF(ISERROR(VLOOKUP($A194+8860000,'Growth Data'!$A:$F,6,0)),0,VLOOKUP($A194+8860000,'Growth Data'!$A:$F,6,0)),0)","v":0},{"$f":"ROUND(DL194-DM194,0)","v":0},null,0,{"$f":"IF(ISERROR(VLOOKUP($A194+8860000,'Growth Data'!$A:$Z,7,0)),0,VLOOKUP($A194+8860000,'Growth Data'!$A:$Z,7,0))","v":0},{"$f":"IF(DP194=DQ194,0,1)","v":0},null,"NO",{"$f":"IF(ISERROR(VLOOKUP($A194+8860000,'Growth Data'!$A:$F,4,0)),\"NO\",VLOOKUP($A194+8860000,'Growth Data'!$A:$F,4,0))","v":"NO"},{"$f":"IF(DT194=DU194,0,1)","v":0},null,0,{"$f":"IF(ISERROR(VLOOKUP($A194+8860000,'Growth Data'!$A:$Z,8,0)),0,VLOOKUP($A194+8860000,'Growth Data'!$A:$Z,8,0))","v":0},{"$f":"IF(DX194=DY194,0,1)","v":0},null,0,{"$f":"IF(ISERROR(VLOOKUP($A194+8860000,'Growth Data'!$A:$Z,9,0)),0,VLOOKUP($A194+8860000,'Growth Data'!$A:$Z,9,0))","v":0},{"$f":"IF(EB194=EC194,0,1)","v":0},null,"NO",{"$f":"IF(ISERROR(VLOOKUP($A194+8860000,'Growth Data'!$A:$Z,5,0)),\"NO\",VLOOKUP($A194+8860000,'Growth Data'!$A:$Z,5,0))","v":"NO"},{"$f":"IF(EF194=EG194,0,1)","v":0},null,0,{"$f":"IF(ISERROR(VLOOKUP($A194+8860000,'Growth Data'!$A:$Z,10,0)),0,VLOOKUP($A194+8860000,'Growth Data'!$A:$Z,10,0))","v":0},{"$f":"IF(EJ194=EK194,0,1)","v":0},null,0,{"$f":"IF(ISERROR(VLOOKUP($A194+8860000,'Growth Data'!$A:$Z,11,0)),0,VLOOKUP($A194+8860000,'Growth Data'!$A:$Z,11,0))","v":0},{"$f":"IF(EN194=EO194,0,1)","v":0}]
[3178,"Birchington Church of England Primary School",null,"Birchington Church of England Primary School",null,1,null,1438324.05,1438324.05,0,null,141296.21,141296.20905263149,9.4736850587651134E-4,null,7020.56,7020.5607231920094,-7.2319200899073621E-4,null,126743.15,126743.14560301507,4.3969849211862311E-3,null,120084,120084,0,null,0,0,0,null,0,0,0,null,0,0,0,null,67072,67072,0,null,0,0,0,null,0,0,0,null,110232.03,110232.03462116135,-4.621161351678893E-3,null,2010772,2010772,0,null,0,0,0,null,2010772,2010772,0,null,0,null,0,null,null,null,0,null,null,null,0,null,356082.37,356082.37230700813,0,null,12229.5,12229.5,0,null,null,null,0,null,null,null,0,null,null,null,0,null,null,null,0,null,null,null,0,null,null,null,0,null,"NO",{"$f":"IF(ISERROR(VLOOKUP($A195+8860000,'Growth Data'!$A:$F,3,0)),\"NO\",VLOOKUP($A195+8860000,'Growth Data'!$A:$F,3,0))","v":"YES"},1,null,0,{"$f":"IF(DI195=\"YES\",IF(ISERROR(VLOOKUP($A195+8860000,'Growth Data'!$A:$F,6,0)),0,VLOOKUP($A195+8860000,'Growth Data'!$A:$F,6,0)),0)","v":60},-60,null,0,{"$f":"IF(ISERROR(VLOOKUP($A195+8860000,'Growth Data'!$A:$Z,7,0)),0,VLOOKUP($A195+8860000,'Growth Data'!$A:$Z,7,0))","v":90},1,null,"NO",{"$f":"IF(ISERROR(VLOOKUP($A195+8860000,'Growth Data'!$A:$F,4,0)),\"NO\",VLOOKUP($A195+8860000,'Growth Data'!$A:$F,4,0))","v":"YES"},1,null,0,{"$f":"IF(ISERROR(VLOOKUP($A195+8860000,'Growth Data'!$A:$Z,8,0)),0,VLOOKUP($A195+8860000,'Growth Data'!$A:$Z,8,0))","v":60},1,null,0,{"$f":"IF(ISERROR(VLOOKUP($A195+8860000,'Growth Data'!$A:$Z,9,0)),0,VLOOKUP($A195+8860000,'Growth Data'!$A:$Z,9,0))","v":90},1,null,"NO",{"$f":"IF(ISERROR(VLOOKUP($A195+8860000,'Growth Data'!$A:$Z,5,0)),\"NO\",VLOOKUP($A195+8860000,'Growth Data'!$A:$Z,5,0))","v":"NO"},0,null,0,{"$f":"IF(ISERROR(VLOOKUP($A195+8860000,'Growth Data'!$A:$Z,10,0)),0,VLOOKUP($A195+8860000,'Growth Data'!$A:$Z,10,0))","v":0},0,null,0,{"$f":"IF(ISERROR(VLOOKUP($A195+8860000,'Growth Data'!$A:$Z,11,0)),0,VLOOKUP($A195+8860000,'Growth Data'!$A:$Z,11,0))","v":0},0]
[3179,"Margate, Holy Trinity and St John's Church of England Primary School",null,"Margate, Holy Trinity and St John's Church of England Primary School",null,1,null,1190870.45,1190870.45,0,null,304806.53000000003,304806.53000000003,0,null,29430.58,29430.576388888912,3.6111110894125886E-3,null,227266.23,227266.23274193547,-2.7419354591984302E-3,null,120084,120084,0,null,0,0,0,null,0,0,0,null,0,0,0,null,31488,31488,0,null,0,0,0,null,0,0,0,null,0,0,0,null,1903945.79,1903945.7891308244,8.6917565204203129E-4,null,0,0,0,null,1903945.79,1903945.7891308244,8.6917565204203129E-4,null,0,null,0,null,null,null,0,null,null,null,0,null,480277.6,480277.6014378324,0,null,10125.5,10125.5,0,null,null,null,0,null,null,null,0,null,null,null,0,null,null,null,0,null,null,null,0,null,null,null,0,null,"NO",{"$f":"IF(ISERROR(VLOOKUP($A196+8860000,'Growth Data'!$A:$F,3,0)),\"NO\",VLOOKUP($A196+8860000,'Growth Data'!$A:$F,3,0))","v":"NO"},0,null,0,{"$f":"IF(DI196=\"YES\",IF(ISERROR(VLOOKUP($A196+8860000,'Growth Data'!$A:$F,6,0)),0,VLOOKUP($A196+8860000,'Growth Data'!$A:$F,6,0)),0)","v":0},0,null,0,{"$f":"IF(ISERROR(VLOOKUP($A196+8860000,'Growth Data'!$A:$Z,7,0)),0,VLOOKUP($A196+8860000,'Growth Data'!$A:$Z,7,0))","v":0},0,null,"NO",{"$f":"IF(ISERROR(VLOOKUP($A196+8860000,'Growth Data'!$A:$F,4,0)),\"NO\",VLOOKUP($A196+8860000,'Growth Data'!$A:$F,4,0))","v":"NO"},0,null,0,{"$f":"IF(ISERROR(VLOOKUP($A196+8860000,'Growth Data'!$A:$Z,8,0)),0,VLOOKUP($A196+8860000,'Growth Data'!$A:$Z,8,0))","v":0},0,null,0,{"$f":"IF(ISERROR(VLOOKUP($A196+8860000,'Growth Data'!$A:$Z,9,0)),0,VLOOKUP($A196+8860000,'Growth Data'!$A:$Z,9,0))","v":0},0,null,"NO",{"$f":"IF(ISERROR(VLOOKUP($A196+8860000,'Growth Data'!$A:$Z,5,0)),\"NO\",VLOOKUP($A196+8860000,'Growth Data'!$A:$Z,5,0))","v":"NO"},0,null,0,{"$f":"IF(ISERROR(VLOOKUP($A196+8860000,'Growth Data'!$A:$Z,10,0)),0,VLOOKUP($A196+8860000,'Growth Data'!$A:$Z,10,0))","v":0},0,null,0,{"$f":"IF(ISERROR(VLOOKUP($A196+8860000,'Growth Data'!$A:$Z,11,0)),0,VLOOKUP($A196+8860000,'Growth Data'!$A:$Z,11,0))","v":0},0]
[3181,"St Saviour's Church of England Junior School",null,"St Saviour's Church of England Junior School",null,1,null,1172311.43,1172311.43,0,null,101516.4,101516.39999999998,0,null,3302.34,3302.34,0,null,80125.2,80125.203614130442,-3.6141304444754496E-3,null,120084,120084,0,null,0,0,0,null,0,0,0,null,0,0,0,null,50150,50150,0,null,0,0,0,null,0,0,0,null,106880.63,106880.62638586963,3.6141303717158735E-3,null,1634370,1634370,0,null,0,0,0,null,1634370,1634370,0,null,0,null,0,null,null,null,0,null,null,null,0,null,262614.99,262614.99230700819,0,null,9967.7000000000007,9967.7000000000007,0,null,null,null,0,null,null,null,0,null,null,null,0,null,null,null,0,null,null,null,0,null,null,null,0,null,"NO",{"$f":"IF(ISERROR(VLOOKUP($A197+8860000,'Growth Data'!$A:$F,3,0)),\"NO\",VLOOKUP($A197+8860000,'Growth Data'!$A:$F,3,0))","v":"NO"},0,null,0,{"$f":"IF(DI197=\"YES\",IF(ISERROR(VLOOKUP($A197+8860000,'Growth Data'!$A:$F,6,0)),0,VLOOKUP($A197+8860000,'Growth Data'!$A:$F,6,0)),0)","v":0},0,null,0,{"$f":"IF(ISERROR(VLOOKUP($A197+8860000,'Growth Data'!$A:$Z,7,0)),0,VLOOKUP($A197+8860000,'Growth Data'!$A:$Z,7,0))","v":0},0,null,"NO",{"$f":"IF(ISERROR(VLOOKUP($A197+8860000,'Growth Data'!$A:$F,4,0)),\"NO\",VLOOKUP($A197+8860000,'Growth Data'!$A:$F,4,0))","v":"NO"},0,null,0,{"$f":"IF(ISERROR(VLOOKUP($A197+8860000,'Growth Data'!$A:$Z,8,0)),0,VLOOKUP($A197+8860000,'Growth Data'!$A:$Z,8,0))","v":0},0,null,0,{"$f":"IF(ISERROR(VLOOKUP($A197+8860000,'Growth Data'!$A:$Z,9,0)),0,VLOOKUP($A197+8860000,'Growth Data'!$A:$Z,9,0))","v":0},0,null,"NO",{"$f":"IF(ISERROR(VLOOKUP($A197+8860000,'Growth Data'!$A:$Z,5,0)),\"NO\",VLOOKUP($A197+8860000,'Growth Data'!$A:$Z,5,0))","v":"NO"},0,null,0,{"$f":"IF(ISERROR(VLOOKUP($A197+8860000,'Growth Data'!$A:$Z,10,0)),0,VLOOKUP($A197+8860000,'Growth Data'!$A:$Z,10,0))","v":0},0,null,0,{"$f":"IF(ISERROR(VLOOKUP($A197+8860000,'Growth Data'!$A:$Z,11,0)),0,VLOOKUP($A197+8860000,'Growth Data'!$A:$Z,11,0))","v":0},0]
[3182,"Minster Church of England Primary School",null,"Minster Church of England Primary School",null,1,null,1212522.6399999999,1212522.6400000001,0,null,96279.8,96279.8,0,null,3135.94,3135.9430232558066,-3.0232558065108606E-3,null,126115.48,126115.48209302327,-2.0930232712998986E-3,null,120084,120084,0,null,0,0,0,null,0,0,0,null,0,0,0,null,35072,35072,0,null,0,0,0,null,0,0,0,null,80422.13,80422.134883720835,-4.8837208305485547E-3,null,1673632,1673632.0000000002,0,null,0,0,0,null,1673632,1673632.0000000002,0,null,0,null,0,null,null,null,0,null,null,null,0,null,277204.09999999998,277204.10230700811,0,null,10309.6,10309.6,0,null,null,null,0,null,null,null,0,null,null,null,0,null,null,null,0,null,null,null,0,null,null,null,0,null,"NO",{"$f":"IF(ISERROR(VLOOKUP($A198+8860000,'Growth Data'!$A:$F,3,0)),\"NO\",VLOOKUP($A198+8860000,'Growth Data'!$A:$F,3,0))","v":"NO"},0,null,0,{"$f":"IF(DI198=\"YES\",IF(ISERROR(VLOOKUP($A198+8860000,'Growth Data'!$A:$F,6,0)),0,VLOOKUP($A198+8860000,'Growth Data'!$A:$F,6,0)),0)","v":0},0,null,0,{"$f":"IF(ISERROR(VLOOKUP($A198+8860000,'Growth Data'!$A:$Z,7,0)),0,VLOOKUP($A198+8860000,'Growth Data'!$A:$Z,7,0))","v":0},0,null,"NO",{"$f":"IF(ISERROR(VLOOKUP($A198+8860000,'Growth Data'!$A:$F,4,0)),\"NO\",VLOOKUP($A198+8860000,'Growth Data'!$A:$F,4,0))","v":"NO"},0,null,0,{"$f":"IF(ISERROR(VLOOKUP($A198+8860000,'Growth Data'!$A:$Z,8,0)),0,VLOOKUP($A198+8860000,'Growth Data'!$A:$Z,8,0))","v":0},0,null,0,{"$f":"IF(ISERROR(VLOOKUP($A198+8860000,'Growth Data'!$A:$Z,9,0)),0,VLOOKUP($A198+8860000,'Growth Data'!$A:$Z,9,0))","v":0},0,null,"NO",{"$f":"IF(ISERROR(VLOOKUP($A198+8860000,'Growth Data'!$A:$Z,5,0)),\"NO\",VLOOKUP($A198+8860000,'Growth Data'!$A:$Z,5,0))","v":"NO"},0,null,0,{"$f":"IF(ISERROR(VLOOKUP($A198+8860000,'Growth Data'!$A:$Z,10,0)),0,VLOOKUP($A198+8860000,'Growth Data'!$A:$Z,10,0))","v":0},0,null,0,{"$f":"IF(ISERROR(VLOOKUP($A198+8860000,'Growth Data'!$A:$Z,11,0)),0,VLOOKUP($A198+8860000,'Growth Data'!$A:$Z,11,0))","v":0},0]
[3183,"Monkton Church of England Primary School",null,"Monkton Church of England Primary School",null,1,null,312410.17,312410.17,0,null,23605.119999999999,23605.119320388352,6.7961164677399211E-4,null,1277.92,1277.9170114942506,2.9885057494993816E-3,null,33741.699999999997,33741.69817073171,1.8292682871106081E-3,null,120084,120084,0,null,0,0,0,null,0,0,0,null,0,0,0,null,19087,19087,0,null,0,0,0,null,0,0,0,null,0,0,0,null,510205.9,510205.90450261428,-4.5026142615824938E-3,null,0,0,0,null,510205.9,510205.90450261428,-4.5026142615824938E-3,null,0,null,0,null,null,null,0,null,null,null,0,null,56113.72,56113.716809622463,0,null,2656.3,2656.3,0,null,null,null,0,null,null,null,0,null,null,null,0,null,null,null,0,null,null,null,0,null,null,null,0,null,"NO",{"$f":"IF(ISERROR(VLOOKUP($A199+8860000,'Growth Data'!$A:$F,3,0)),\"NO\",VLOOKUP($A199+8860000,'Growth Data'!$A:$F,3,0))","v":"NO"},0,null,0,{"$f":"IF(DI199=\"YES\",IF(ISERROR(VLOOKUP($A199+8860000,'Growth Data'!$A:$F,6,0)),0,VLOOKUP($A199+8860000,'Growth Data'!$A:$F,6,0)),0)","v":0},0,null,0,{"$f":"IF(ISERROR(VLOOKUP($A199+8860000,'Growth Data'!$A:$Z,7,0)),0,VLOOKUP($A199+8860000,'Growth Data'!$A:$Z,7,0))","v":0},0,null,"NO",{"$f":"IF(ISERROR(VLOOKUP($A199+8860000,'Growth Data'!$A:$F,4,0)),\"NO\",VLOOKUP($A199+8860000,'Growth Data'!$A:$F,4,0))","v":"NO"},0,null,0,{"$f":"IF(ISERROR(VLOOKUP($A199+8860000,'Growth Data'!$A:$Z,8,0)),0,VLOOKUP($A199+8860000,'Growth Data'!$A:$Z,8,0))","v":0},0,null,0,{"$f":"IF(ISERROR(VLOOKUP($A199+8860000,'Growth Data'!$A:$Z,9,0)),0,VLOOKUP($A199+8860000,'Growth Data'!$A:$Z,9,0))","v":0},0,null,"NO",{"$f":"IF(ISERROR(VLOOKUP($A199+8860000,'Growth Data'!$A:$Z,5,0)),\"NO\",VLOOKUP($A199+8860000,'Growth Data'!$A:$Z,5,0))","v":"NO"},0,null,0,{"$f":"IF(ISERROR(VLOOKUP($A199+8860000,'Growth Data'!$A:$Z,10,0)),0,VLOOKUP($A199+8860000,'Growth Data'!$A:$Z,10,0))","v":0},0,null,0,{"$f":"IF(ISERROR(VLOOKUP($A199+8860000,'Growth Data'!$A:$Z,11,0)),0,VLOOKUP($A199+8860000,'Growth Data'!$A:$Z,11,0))","v":0},0]
[3186,"St Nicholas At Wade Church of England Primary School",null,"St Nicholas At Wade Church of England Primary School",null,1,null,584609.13,584609.13,0,null,22241.25,22241.250909090901,-9.0909090067725629E-4,null,0,0,0,null,41672.67,41672.667621951223,2.3780487754265778E-3,null,120084,120084,0,null,0,0,0,null,0,0,0,null,0,0,0,null,13473,13473,0,null,0,0,0,null,0,0,0,null,21412.95,21412.95146895785,-1.4689578492834698E-3,null,803493,803492.99999999988,0,null,0,0,0,null,803493,803492.99999999988,0,null,0,null,0,null,null,null,0,null,null,null,0,null,84657.13,84657.132307008113,0,null,4970.7,4970.7000000000007,0,null,null,null,0,null,null,null,0,null,null,null,0,null,null,null,0,null,null,null,0,null,null,null,0,null,"NO",{"$f":"IF(ISERROR(VLOOKUP($A200+8860000,'Growth Data'!$A:$F,3,0)),\"NO\",VLOOKUP($A200+8860000,'Growth Data'!$A:$F,3,0))","v":"NO"},0,null,0,{"$f":"IF(DI200=\"YES\",IF(ISERROR(VLOOKUP($A200+8860000,'Growth Data'!$A:$F,6,0)),0,VLOOKUP($A200+8860000,'Growth Data'!$A:$F,6,0)),0)","v":0},0,null,0,{"$f":"IF(ISERROR(VLOOKUP($A200+8860000,'Growth Data'!$A:$Z,7,0)),0,VLOOKUP($A200+8860000,'Growth Data'!$A:$Z,7,0))","v":0},0,null,"NO",{"$f":"IF(ISERROR(VLOOKUP($A200+8860000,'Growth Data'!$A:$F,4,0)),\"NO\",VLOOKUP($A200+8860000,'Growth Data'!$A:$F,4,0))","v":"NO"},0,null,0,{"$f":"IF(ISERROR(VLOOKUP($A200+8860000,'Growth Data'!$A:$Z,8,0)),0,VLOOKUP($A200+8860000,'Growth Data'!$A:$Z,8,0))","v":0},0,null,0,{"$f":"IF(ISERROR(VLOOKUP($A200+8860000,'Growth Data'!$A:$Z,9,0)),0,VLOOKUP($A200+8860000,'Growth Data'!$A:$Z,9,0))","v":0},0,null,"NO",{"$f":"IF(ISERROR(VLOOKUP($A200+8860000,'Growth Data'!$A:$Z,5,0)),\"NO\",VLOOKUP($A200+8860000,'Growth Data'!$A:$Z,5,0))","v":"NO"},0,null,0,{"$f":"IF(ISERROR(VLOOKUP($A200+8860000,'Growth Data'!$A:$Z,10,0)),0,VLOOKUP($A200+8860000,'Growth Data'!$A:$Z,10,0))","v":0},0,null,0,{"$f":"IF(ISERROR(VLOOKUP($A200+8860000,'Growth Data'!$A:$Z,11,0)),0,VLOOKUP($A200+8860000,'Growth Data'!$A:$Z,11,0))","v":0},0]
[3198,"Frittenden Church of England Primary School",null,"Frittenden Church of England Primary School",null,1,null,296944.32,296944.32,0,null,7000.87,7000.8700000000035,0,null,652.30999999999995,652.31407407407517,-4.074074075219869E-3,null,27613.4,27613.404000000002,-4.0000000008149073E-3,null,120084,120084,0,null,32345.4,32345.400400534047,-4.0053404518403113E-4,null,0,0,0,null,0,0,0,null,12974,12974,0,null,0,0,0,null,0,0,0,null,0,0,0,null,497614.31,497614.30847460811,1.525391882751137E-3,null,0,0,0,null,497614.31,497614.30847460811,1.525391882751137E-3,null,0,null,0,null,null,null,0,null,null,null,0,null,38279.410000000003,38279.410381082227,0,null,2524.8000000000002,2524.8000000000002,0,null,null,null,0,null,null,null,0,null,null,null,0,null,null,null,0,null,null,null,0,null,null,null,0,null,"NO",{"$f":"IF(ISERROR(VLOOKUP($A201+8860000,'Growth Data'!$A:$F,3,0)),\"NO\",VLOOKUP($A201+8860000,'Growth Data'!$A:$F,3,0))","v":"NO"},0,null,0,{"$f":"IF(DI201=\"YES\",IF(ISERROR(VLOOKUP($A201+8860000,'Growth Data'!$A:$F,6,0)),0,VLOOKUP($A201+8860000,'Growth Data'!$A:$F,6,0)),0)","v":0},0,null,0,{"$f":"IF(ISERROR(VLOOKUP($A201+8860000,'Growth Data'!$A:$Z,7,0)),0,VLOOKUP($A201+8860000,'Growth Data'!$A:$Z,7,0))","v":0},0,null,"NO",{"$f":"IF(ISERROR(VLOOKUP($A201+8860000,'Growth Data'!$A:$F,4,0)),\"NO\",VLOOKUP($A201+8860000,'Growth Data'!$A:$F,4,0))","v":"NO"},0,null,0,{"$f":"IF(ISERROR(VLOOKUP($A201+8860000,'Growth Data'!$A:$Z,8,0)),0,VLOOKUP($A201+8860000,'Growth Data'!$A:$Z,8,0))","v":0},0,null,0,{"$f":"IF(ISERROR(VLOOKUP($A201+8860000,'Growth Data'!$A:$Z,9,0)),0,VLOOKUP($A201+8860000,'Growth Data'!$A:$Z,9,0))","v":0},0,null,"NO",{"$f":"IF(ISERROR(VLOOKUP($A201+8860000,'Growth Data'!$A:$Z,5,0)),\"NO\",VLOOKUP($A201+8860000,'Growth Data'!$A:$Z,5,0))","v":"NO"},0,null,0,{"$f":"IF(ISERROR(VLOOKUP($A201+8860000,'Growth Data'!$A:$Z,10,0)),0,VLOOKUP($A201+8860000,'Growth Data'!$A:$Z,10,0))","v":0},0,null,0,{"$f":"IF(ISERROR(VLOOKUP($A201+8860000,'Growth Data'!$A:$Z,11,0)),0,VLOOKUP($A201+8860000,'Growth Data'!$A:$Z,11,0))","v":0},0]
[3199,"Egerton Church of England Primary School",null,"Egerton Church of England Primary School",null,1,null,618634,618634,0,null,37135.74,37135.740000000005,0,null,1295.04,1295.0352941176425,4.70588235748437E-3,null,67538.03,67538.025157232696,4.8427673027617857E-3,null,120084,120084,0,null,0,0,0,null,0,0,0,null,0,0,0,null,11103,11103,0,null,0,0,0,null,0,0,0,null,0,0,0,null,855789.8,855789.80045135028,-4.5135023538023233E-4,null,0,0,0,null,855789.8,855789.80045135028,-4.5135023538023233E-4,null,0,null,0,null,null,null,0,null,null,null,0,null,96092.66,96092.662758358492,0,null,5260,5260,0,null,null,null,0,null,null,null,0,null,null,null,0,null,null,null,0,null,null,null,0,null,null,null,0,null,"NO",{"$f":"IF(ISERROR(VLOOKUP($A202+8860000,'Growth Data'!$A:$F,3,0)),\"NO\",VLOOKUP($A202+8860000,'Growth Data'!$A:$F,3,0))","v":"NO"},0,null,0,{"$f":"IF(DI202=\"YES\",IF(ISERROR(VLOOKUP($A202+8860000,'Growth Data'!$A:$F,6,0)),0,VLOOKUP($A202+8860000,'Growth Data'!$A:$F,6,0)),0)","v":0},0,null,0,{"$f":"IF(ISERROR(VLOOKUP($A202+8860000,'Growth Data'!$A:$Z,7,0)),0,VLOOKUP($A202+8860000,'Growth Data'!$A:$Z,7,0))","v":0},0,null,"NO",{"$f":"IF(ISERROR(VLOOKUP($A202+8860000,'Growth Data'!$A:$F,4,0)),\"NO\",VLOOKUP($A202+8860000,'Growth Data'!$A:$F,4,0))","v":"NO"},0,null,0,{"$f":"IF(ISERROR(VLOOKUP($A202+8860000,'Growth Data'!$A:$Z,8,0)),0,VLOOKUP($A202+8860000,'Growth Data'!$A:$Z,8,0))","v":0},0,null,0,{"$f":"IF(ISERROR(VLOOKUP($A202+8860000,'Growth Data'!$A:$Z,9,0)),0,VLOOKUP($A202+8860000,'Growth Data'!$A:$Z,9,0))","v":0},0,null,"NO",{"$f":"IF(ISERROR(VLOOKUP($A202+8860000,'Growth Data'!$A:$Z,5,0)),\"NO\",VLOOKUP($A202+8860000,'Growth Data'!$A:$Z,5,0))","v":"NO"},0,null,0,{"$f":"IF(ISERROR(VLOOKUP($A202+8860000,'Growth Data'!$A:$Z,10,0)),0,VLOOKUP($A202+8860000,'Growth Data'!$A:$Z,10,0))","v":0},0,null,0,{"$f":"IF(ISERROR(VLOOKUP($A202+8860000,'Growth Data'!$A:$Z,11,0)),0,VLOOKUP($A202+8860000,'Growth Data'!$A:$Z,11,0))","v":0},0]
[3201,"St Lawrence Church of England Primary School",null,"St Lawrence Church of England Primary School",null,1,null,256733.11,256733.11000000002,0,null,6984.84,6984.8400000000011,0,null,1305.21,1305.2105714285726,-5.7142857258440927E-4,null,22387.42,22387.424000000003,-4.0000000044528861E-3,null,120084,120084,0,null,0,0,0,null,14995.8,14995.800712228573,-7.1222857332031708E-4,null,0,0,0,null,6861,6861,0,null,0,0,0,null,0,0,0,null,0,0,0,null,429351.39,429351.38528365718,4.7163428389467299E-3,null,0,0,0,null,429351.39,429351.38528365718,4.7163428389467299E-3,null,0,null,0,null,null,null,0,null,null,null,0,null,34930.1,34930.099803563193,0,null,2263.23,2263.23072,0,null,null,null,0,null,null,null,0,null,null,null,0,null,null,null,0,null,null,null,0,null,null,null,0,null,"NO",{"$f":"IF(ISERROR(VLOOKUP($A203+8860000,'Growth Data'!$A:$F,3,0)),\"NO\",VLOOKUP($A203+8860000,'Growth Data'!$A:$F,3,0))","v":"NO"},0,null,0,{"$f":"IF(DI203=\"YES\",IF(ISERROR(VLOOKUP($A203+8860000,'Growth Data'!$A:$F,6,0)),0,VLOOKUP($A203+8860000,'Growth Data'!$A:$F,6,0)),0)","v":0},0,null,0,{"$f":"IF(ISERROR(VLOOKUP($A203+8860000,'Growth Data'!$A:$Z,7,0)),0,VLOOKUP($A203+8860000,'Growth Data'!$A:$Z,7,0))","v":0},0,null,"NO",{"$f":"IF(ISERROR(VLOOKUP($A203+8860000,'Growth Data'!$A:$F,4,0)),\"NO\",VLOOKUP($A203+8860000,'Growth Data'!$A:$F,4,0))","v":"NO"},0,null,0,{"$f":"IF(ISERROR(VLOOKUP($A203+8860000,'Growth Data'!$A:$Z,8,0)),0,VLOOKUP($A203+8860000,'Growth Data'!$A:$Z,8,0))","v":0},0,null,0,{"$f":"IF(ISERROR(VLOOKUP($A203+8860000,'Growth Data'!$A:$Z,9,0)),0,VLOOKUP($A203+8860000,'Growth Data'!$A:$Z,9,0))","v":0},0,null,"NO",{"$f":"IF(ISERROR(VLOOKUP($A203+8860000,'Growth Data'!$A:$Z,5,0)),\"NO\",VLOOKUP($A203+8860000,'Growth Data'!$A:$Z,5,0))","v":"NO"},0,null,0,{"$f":"IF(ISERROR(VLOOKUP($A203+8860000,'Growth Data'!$A:$Z,10,0)),0,VLOOKUP($A203+8860000,'Growth Data'!$A:$Z,10,0))","v":0},0,null,0,{"$f":"IF(ISERROR(VLOOKUP($A203+8860000,'Growth Data'!$A:$Z,11,0)),0,VLOOKUP($A203+8860000,'Growth Data'!$A:$Z,11,0))","v":0},0]
[3282,"Boughton-under-Blean and Dunkirk Primary School",null,"Boughton-under-Blean and Dunkirk Primary School",null,1,null,624820.34,624820.34,0,null,62462.18,62462.177647058837,2.3529411628260277E-3,null,1927.96,1927.9557225433473,4.2774566527441493E-3,null,49493.41,49493.412670807455,-2.670807451067958E-3,null,120084,120084,0,null,0,0,0,null,0,0,0,null,0,0,0,null,18338,18338,0,null,0,0,0,null,0,0,0,null,0,0,0,null,877125.89,877125.88604040956,3.9595904527232051E-3,null,0,0,0,null,877125.89,877125.88604040956,3.9595904527232051E-3,null,0,null,0,null,null,null,0,null,null,null,0,null,102166.13,102166.12834741779,0,null,5312.6,5312.6,0,null,null,null,0,null,null,null,0,null,null,null,0,null,null,null,0,null,null,null,0,null,null,null,0,null,"NO",{"$f":"IF(ISERROR(VLOOKUP($A204+8860000,'Growth Data'!$A:$F,3,0)),\"NO\",VLOOKUP($A204+8860000,'Growth Data'!$A:$F,3,0))","v":"NO"},0,null,0,{"$f":"IF(DI204=\"YES\",IF(ISERROR(VLOOKUP($A204+8860000,'Growth Data'!$A:$F,6,0)),0,VLOOKUP($A204+8860000,'Growth Data'!$A:$F,6,0)),0)","v":0},0,null,0,{"$f":"IF(ISERROR(VLOOKUP($A204+8860000,'Growth Data'!$A:$Z,7,0)),0,VLOOKUP($A204+8860000,'Growth Data'!$A:$Z,7,0))","v":0},0,null,"NO",{"$f":"IF(ISERROR(VLOOKUP($A204+8860000,'Growth Data'!$A:$F,4,0)),\"NO\",VLOOKUP($A204+8860000,'Growth Data'!$A:$F,4,0))","v":"NO"},0,null,0,{"$f":"IF(ISERROR(VLOOKUP($A204+8860000,'Growth Data'!$A:$Z,8,0)),0,VLOOKUP($A204+8860000,'Growth Data'!$A:$Z,8,0))","v":0},0,null,0,{"$f":"IF(ISERROR(VLOOKUP($A204+8860000,'Growth Data'!$A:$Z,9,0)),0,VLOOKUP($A204+8860000,'Growth Data'!$A:$Z,9,0))","v":0},0,null,"NO",{"$f":"IF(ISERROR(VLOOKUP($A204+8860000,'Growth Data'!$A:$Z,5,0)),\"NO\",VLOOKUP($A204+8860000,'Growth Data'!$A:$Z,5,0))","v":"NO"},0,null,0,{"$f":"IF(ISERROR(VLOOKUP($A204+8860000,'Growth Data'!$A:$Z,10,0)),0,VLOOKUP($A204+8860000,'Growth Data'!$A:$Z,10,0))","v":0},0,null,0,{"$f":"IF(ISERROR(VLOOKUP($A204+8860000,'Growth Data'!$A:$Z,11,0)),0,VLOOKUP($A204+8860000,'Growth Data'!$A:$Z,11,0))","v":0},0]
[3284,"Lady Joanna Thornhill Endowed Primary School",null,"Lady Joanna Thornhill Endowed Primary School",null,1,null,1246547.51,1246547.51,0,null,28280.22,28280.222070588239,-2.0705882379843388E-3,null,9372.1299999999992,9372.1339436619801,-3.9436619808839168E-3,null,63447.6,63447.602011494251,-2.0114942526561208E-3,null,120084,120084,0,null,0,0,0,null,0,0,0,null,0,0,0,null,42496,42496,0,null,0,0,0,null,0,0,0,null,216808.53,216808.53197425546,-1.9742554577533156E-3,null,1727036,1727036,0,null,0,0,0,null,1727036,1727036,0,null,0,null,0,null,null,null,0,null,null,null,0,null,312635.55,312635.55230700807,0,null,10598.9,10598.900000000001,0,null,null,null,0,null,null,null,0,null,null,null,0,null,null,null,0,null,null,null,0,null,null,null,0,null,"NO",{"$f":"IF(ISERROR(VLOOKUP($A205+8860000,'Growth Data'!$A:$F,3,0)),\"NO\",VLOOKUP($A205+8860000,'Growth Data'!$A:$F,3,0))","v":"NO"},0,null,0,{"$f":"IF(DI205=\"YES\",IF(ISERROR(VLOOKUP($A205+8860000,'Growth Data'!$A:$F,6,0)),0,VLOOKUP($A205+8860000,'Growth Data'!$A:$F,6,0)),0)","v":0},0,null,0,{"$f":"IF(ISERROR(VLOOKUP($A205+8860000,'Growth Data'!$A:$Z,7,0)),0,VLOOKUP($A205+8860000,'Growth Data'!$A:$Z,7,0))","v":0},0,null,"NO",{"$f":"IF(ISERROR(VLOOKUP($A205+8860000,'Growth Data'!$A:$F,4,0)),\"NO\",VLOOKUP($A205+8860000,'Growth Data'!$A:$F,4,0))","v":"NO"},0,null,0,{"$f":"IF(ISERROR(VLOOKUP($A205+8860000,'Growth Data'!$A:$Z,8,0)),0,VLOOKUP($A205+8860000,'Growth Data'!$A:$Z,8,0))","v":0},0,null,0,{"$f":"IF(ISERROR(VLOOKUP($A205+8860000,'Growth Data'!$A:$Z,9,0)),0,VLOOKUP($A205+8860000,'Growth Data'!$A:$Z,9,0))","v":0},0,null,"NO",{"$f":"IF(ISERROR(VLOOKUP($A205+8860000,'Growth Data'!$A:$Z,5,0)),\"NO\",VLOOKUP($A205+8860000,'Growth Data'!$A:$Z,5,0))","v":"NO"},0,null,0,{"$f":"IF(ISERROR(VLOOKUP($A205+8860000,'Growth Data'!$A:$Z,10,0)),0,VLOOKUP($A205+8860000,'Growth Data'!$A:$Z,10,0))","v":0},0,null,0,{"$f":"IF(ISERROR(VLOOKUP($A205+8860000,'Growth Data'!$A:$Z,11,0)),0,VLOOKUP($A205+8860000,'Growth Data'!$A:$Z,11,0))","v":0},0]
[3289,"St Peter's Methodist Primary School",null,"St Peter's Methodist Primary School",null,1,null,634099.85,634099.85,0,null,55740.84,55740.838571428612,1.4285713841672987E-3,null,26925.33,26925.328977272769,1.0227272323390935E-3,null,48135.61,48135.610714285707,-7.1428570663556457E-4,null,120084,120084,0,null,0,0,0,null,0,0,0,null,0,0,0,null,18837,18837,0,null,0,0,0,null,0,0,0,null,0,0,0,null,903822.63,903822.62826298713,1.7370128771290183E-3,null,0,0,0,null,903822.63,903822.62826298713,1.7370128771290183E-3,null,0,null,0,null,null,null,0,null,null,null,0,null,124147.88,124147.88056999519,0,null,5391.5,5391.5,0,null,null,null,0,null,null,null,0,null,null,null,0,null,null,null,0,null,null,null,0,null,null,null,0,null,"NO",{"$f":"IF(ISERROR(VLOOKUP($A206+8860000,'Growth Data'!$A:$F,3,0)),\"NO\",VLOOKUP($A206+8860000,'Growth Data'!$A:$F,3,0))","v":"NO"},0,null,0,{"$f":"IF(DI206=\"YES\",IF(ISERROR(VLOOKUP($A206+8860000,'Growth Data'!$A:$F,6,0)),0,VLOOKUP($A206+8860000,'Growth Data'!$A:$F,6,0)),0)","v":0},0,null,0,{"$f":"IF(ISERROR(VLOOKUP($A206+8860000,'Growth Data'!$A:$Z,7,0)),0,VLOOKUP($A206+8860000,'Growth Data'!$A:$Z,7,0))","v":0},0,null,"NO",{"$f":"IF(ISERROR(VLOOKUP($A206+8860000,'Growth Data'!$A:$F,4,0)),\"NO\",VLOOKUP($A206+8860000,'Growth Data'!$A:$F,4,0))","v":"NO"},0,null,0,{"$f":"IF(ISERROR(VLOOKUP($A206+8860000,'Growth Data'!$A:$Z,8,0)),0,VLOOKUP($A206+8860000,'Growth Data'!$A:$Z,8,0))","v":0},0,null,0,{"$f":"IF(ISERROR(VLOOKUP($A206+8860000,'Growth Data'!$A:$Z,9,0)),0,VLOOKUP($A206+8860000,'Growth Data'!$A:$Z,9,0))","v":0},0,null,"NO",{"$f":"IF(ISERROR(VLOOKUP($A206+8860000,'Growth Data'!$A:$Z,5,0)),\"NO\",VLOOKUP($A206+8860000,'Growth Data'!$A:$Z,5,0))","v":"NO"},0,null,0,{"$f":"IF(ISERROR(VLOOKUP($A206+8860000,'Growth Data'!$A:$Z,10,0)),0,VLOOKUP($A206+8860000,'Growth Data'!$A:$Z,10,0))","v":0},0,null,0,{"$f":"IF(ISERROR(VLOOKUP($A206+8860000,'Growth Data'!$A:$Z,11,0)),0,VLOOKUP($A206+8860000,'Growth Data'!$A:$Z,11,0))","v":0},0]
[3294,"St Matthew's High Brooms Church of England Voluntary Controlled Primary School",null,"St Matthew's High Brooms Church of England Voluntary Controlled Primary School",null,1,null,1070236.82,1070236.82,0,null,145349.91,145349.91000000006,0,null,5637.88,5637.8765131578875,3.4868421125793247E-3,null,96082.52,96082.517397260279,2.6027397252619267E-3,null,120084,120084,0,null,0,0,0,null,0,0,0,null,0,0,0,null,36864,36864,0,null,0,0,0,null,0,0,0,null,8888.8799999999992,8888.8760895817104,3.9104182887967909E-3,null,1483144,1483144.0000000002,0,null,0,0,0,null,1483144,1483144.0000000002,0,null,0,null,0,null,null,null,0,null,null,null,0,null,205574.88,205574.88230700803,0,null,9099.7999999999993,9099.7999999999993,0,null,null,null,0,null,null,null,0,null,null,null,0,null,null,null,0,null,null,null,0,null,null,null,0,null,"NO",{"$f":"IF(ISERROR(VLOOKUP($A207+8860000,'Growth Data'!$A:$F,3,0)),\"NO\",VLOOKUP($A207+8860000,'Growth Data'!$A:$F,3,0))","v":"NO"},0,null,0,{"$f":"IF(DI207=\"YES\",IF(ISERROR(VLOOKUP($A207+8860000,'Growth Data'!$A:$F,6,0)),0,VLOOKUP($A207+8860000,'Growth Data'!$A:$F,6,0)),0)","v":0},0,null,0,{"$f":"IF(ISERROR(VLOOKUP($A207+8860000,'Growth Data'!$A:$Z,7,0)),0,VLOOKUP($A207+8860000,'Growth Data'!$A:$Z,7,0))","v":0},0,null,"NO",{"$f":"IF(ISERROR(VLOOKUP($A207+8860000,'Growth Data'!$A:$F,4,0)),\"NO\",VLOOKUP($A207+8860000,'Growth Data'!$A:$F,4,0))","v":"NO"},0,null,0,{"$f":"IF(ISERROR(VLOOKUP($A207+8860000,'Growth Data'!$A:$Z,8,0)),0,VLOOKUP($A207+8860000,'Growth Data'!$A:$Z,8,0))","v":0},0,null,0,{"$f":"IF(ISERROR(VLOOKUP($A207+8860000,'Growth Data'!$A:$Z,9,0)),0,VLOOKUP($A207+8860000,'Growth Data'!$A:$Z,9,0))","v":0},0,null,"NO",{"$f":"IF(ISERROR(VLOOKUP($A207+8860000,'Growth Data'!$A:$Z,5,0)),\"NO\",VLOOKUP($A207+8860000,'Growth Data'!$A:$Z,5,0))","v":"NO"},0,null,0,{"$f":"IF(ISERROR(VLOOKUP($A207+8860000,'Growth Data'!$A:$Z,10,0)),0,VLOOKUP($A207+8860000,'Growth Data'!$A:$Z,10,0))","v":0},0,null,0,{"$f":"IF(ISERROR(VLOOKUP($A207+8860000,'Growth Data'!$A:$Z,11,0)),0,VLOOKUP($A207+8860000,'Growth Data'!$A:$Z,11,0))","v":0},0]
[3295,"Herne Church of England Infant and Nursery School",null,"Herne Church of England Infant and Nursery School",null,1,null,838249.07,838249.07000000007,0,null,18702.98,18702.980000000007,0,null,4971.8599999999997,4971.8563333333286,3.6666666710516438E-3,null,59390.73,59390.734000000004,-4.0000000008149073E-3,null,120084,120084,0,null,0,0,0,null,0,0,0,null,0,0,0,null,47360,47360,0,null,0,0,0,null,0,0,0,null,91381.36,91381.359666666656,3.3333334431517869E-4,null,1180140,1180140.0000000002,0,null,0,0,0,null,1180140,1180140.0000000002,0,null,0,null,0,null,null,null,0,null,null,null,0,null,171475.59,171475.59230700816,0,null,7127.3,7127.3,0,null,null,null,0,null,null,null,0,null,null,null,0,null,null,null,0,null,null,null,0,null,null,null,0,null,"NO",{"$f":"IF(ISERROR(VLOOKUP($A208+8860000,'Growth Data'!$A:$F,3,0)),\"NO\",VLOOKUP($A208+8860000,'Growth Data'!$A:$F,3,0))","v":"NO"},0,null,0,{"$f":"IF(DI208=\"YES\",IF(ISERROR(VLOOKUP($A208+8860000,'Growth Data'!$A:$F,6,0)),0,VLOOKUP($A208+8860000,'Growth Data'!$A:$F,6,0)),0)","v":0},0,null,0,{"$f":"IF(ISERROR(VLOOKUP($A208+8860000,'Growth Data'!$A:$Z,7,0)),0,VLOOKUP($A208+8860000,'Growth Data'!$A:$Z,7,0))","v":0},0,null,"NO",{"$f":"IF(ISERROR(VLOOKUP($A208+8860000,'Growth Data'!$A:$F,4,0)),\"NO\",VLOOKUP($A208+8860000,'Growth Data'!$A:$F,4,0))","v":"NO"},0,null,0,{"$f":"IF(ISERROR(VLOOKUP($A208+8860000,'Growth Data'!$A:$Z,8,0)),0,VLOOKUP($A208+8860000,'Growth Data'!$A:$Z,8,0))","v":0},0,null,0,{"$f":"IF(ISERROR(VLOOKUP($A208+8860000,'Growth Data'!$A:$Z,9,0)),0,VLOOKUP($A208+8860000,'Growth Data'!$A:$Z,9,0))","v":0},0,null,"NO",{"$f":"IF(ISERROR(VLOOKUP($A208+8860000,'Growth Data'!$A:$Z,5,0)),\"NO\",VLOOKUP($A208+8860000,'Growth Data'!$A:$Z,5,0))","v":"NO"},0,null,0,{"$f":"IF(ISERROR(VLOOKUP($A208+8860000,'Growth Data'!$A:$Z,10,0)),0,VLOOKUP($A208+8860000,'Growth Data'!$A:$Z,10,0))","v":0},0,null,0,{"$f":"IF(ISERROR(VLOOKUP($A208+8860000,'Growth Data'!$A:$Z,11,0)),0,VLOOKUP($A208+8860000,'Growth Data'!$A:$Z,11,0))","v":0},0]
[3296,"Langafel Church of England Voluntary Controlled Primary School",null,"Langafel Church of England Voluntary Controlled Primary School",null,1,null,1011466.59,1011466.59,0,null,104435.32,104435.32472392633,-4.7239263221854344E-3,null,5105.75,5105.7455319148876,4.4680851124212495E-3,null,102762.55,102762.55109433961,-1.0943396046059206E-3,null,120084,120084,0,null,0,0,0,null,49453.84,49453.83497768666,5.0223133366671391E-3,null,0,0,0,null,37888,37888,0,null,0,0,0,null,0,0,0,null,0,0,0,null,1431196.05,1431196.0463278675,3.6721325013786554E-3,null,0,0,0,null,1431196.05,1431196.0463278675,3.6721325013786554E-3,null,0,null,0,null,null,null,0,null,null,null,0,null,177900.41,177900.41006377354,0,null,8916.58,8916.5836799999979,0,null,null,null,0,null,null,null,0,null,null,null,0,null,null,null,0,null,null,null,0,null,null,null,0,null,"NO",{"$f":"IF(ISERROR(VLOOKUP($A209+8860000,'Growth Data'!$A:$F,3,0)),\"NO\",VLOOKUP($A209+8860000,'Growth Data'!$A:$F,3,0))","v":"NO"},0,null,0,{"$f":"IF(DI209=\"YES\",IF(ISERROR(VLOOKUP($A209+8860000,'Growth Data'!$A:$F,6,0)),0,VLOOKUP($A209+8860000,'Growth Data'!$A:$F,6,0)),0)","v":0},0,null,0,{"$f":"IF(ISERROR(VLOOKUP($A209+8860000,'Growth Data'!$A:$Z,7,0)),0,VLOOKUP($A209+8860000,'Growth Data'!$A:$Z,7,0))","v":0},0,null,"NO",{"$f":"IF(ISERROR(VLOOKUP($A209+8860000,'Growth Data'!$A:$F,4,0)),\"NO\",VLOOKUP($A209+8860000,'Growth Data'!$A:$F,4,0))","v":"NO"},0,null,0,{"$f":"IF(ISERROR(VLOOKUP($A209+8860000,'Growth Data'!$A:$Z,8,0)),0,VLOOKUP($A209+8860000,'Growth Data'!$A:$Z,8,0))","v":0},0,null,0,{"$f":"IF(ISERROR(VLOOKUP($A209+8860000,'Growth Data'!$A:$Z,9,0)),0,VLOOKUP($A209+8860000,'Growth Data'!$A:$Z,9,0))","v":0},0,null,"NO",{"$f":"IF(ISERROR(VLOOKUP($A209+8860000,'Growth Data'!$A:$Z,5,0)),\"NO\",VLOOKUP($A209+8860000,'Growth Data'!$A:$Z,5,0))","v":"NO"},0,null,0,{"$f":"IF(ISERROR(VLOOKUP($A209+8860000,'Growth Data'!$A:$Z,10,0)),0,VLOOKUP($A209+8860000,'Growth Data'!$A:$Z,10,0))","v":0},0,null,0,{"$f":"IF(ISERROR(VLOOKUP($A209+8860000,'Growth Data'!$A:$Z,11,0)),0,VLOOKUP($A209+8860000,'Growth Data'!$A:$Z,11,0))","v":0},0]
[3297,"Southborough CofE Primary School",null,"Southborough CofE Primary School",null,1,null,1865181.51,1865181.51,0,null,81820.740000000005,81820.739999999991,0,null,17768.23,17768.230898661575,-8.9866157577489503E-4,null,114686.27,114686.27076923077,-7.6923076994717121E-4,null,120084,120084,0,null,0,0,0,null,0,0,0,null,0,0,0,null,64000,64000,0,null,0,0,0,null,0,0,0,null,320999.25,320999.24833210767,1.6678923275321722E-3,null,2584540,2584540,0,null,0,0,0,null,2584540,2584540,0,null,0,null,0,null,null,null,0,null,null,null,0,null,498699.79,498699.79230700817,0,null,15858.9,15858.900000000001,0,null,null,null,0,null,null,null,0,null,null,null,0,null,null,null,0,null,null,null,0,null,null,null,0,null,"NO",{"$f":"IF(ISERROR(VLOOKUP($A210+8860000,'Growth Data'!$A:$F,3,0)),\"NO\",VLOOKUP($A210+8860000,'Growth Data'!$A:$F,3,0))","v":"NO"},0,null,0,{"$f":"IF(DI210=\"YES\",IF(ISERROR(VLOOKUP($A210+8860000,'Growth Data'!$A:$F,6,0)),0,VLOOKUP($A210+8860000,'Growth Data'!$A:$F,6,0)),0)","v":0},0,null,0,{"$f":"IF(ISERROR(VLOOKUP($A210+8860000,'Growth Data'!$A:$Z,7,0)),0,VLOOKUP($A210+8860000,'Growth Data'!$A:$Z,7,0))","v":0},0,null,"NO",{"$f":"IF(ISERROR(VLOOKUP($A210+8860000,'Growth Data'!$A:$F,4,0)),\"NO\",VLOOKUP($A210+8860000,'Growth Data'!$A:$F,4,0))","v":"NO"},0,null,0,{"$f":"IF(ISERROR(VLOOKUP($A210+8860000,'Growth Data'!$A:$Z,8,0)),0,VLOOKUP($A210+8860000,'Growth Data'!$A:$Z,8,0))","v":0},0,null,0,{"$f":"IF(ISERROR(VLOOKUP($A210+8860000,'Growth Data'!$A:$Z,9,0)),0,VLOOKUP($A210+8860000,'Growth Data'!$A:$Z,9,0))","v":0},0,null,"NO",{"$f":"IF(ISERROR(VLOOKUP($A210+8860000,'Growth Data'!$A:$Z,5,0)),\"NO\",VLOOKUP($A210+8860000,'Growth Data'!$A:$Z,5,0))","v":"NO"},0,null,0,{"$f":"IF(ISERROR(VLOOKUP($A210+8860000,'Growth Data'!$A:$Z,10,0)),0,VLOOKUP($A210+8860000,'Growth Data'!$A:$Z,10,0))","v":0},0,null,0,{"$f":"IF(ISERROR(VLOOKUP($A210+8860000,'Growth Data'!$A:$Z,11,0)),0,VLOOKUP($A210+8860000,'Growth Data'!$A:$Z,11,0))","v":0},0]
[3298,"West Kingsdown CofE VC Primary School",null,"West Kingsdown CofE VC Primary School",null,1,null,429950.63,429950.63,0,null,29627.55,29627.55000000005,-5.0931703299283981E-11,null,2571.5700000000002,2571.5700840336162,-8.4033616076339968E-5,null,33560.28,33560.277796610171,2.2033898276276886E-3,null,120084,120084,0,null,6493.13,6493.1287049399134,1.2950600867043249E-3,null,22900.17,22900.167362349483,2.6376505156804342E-3,null,0,0,0,null,30189,30189,0,null,0,0,0,null,0,0,0,null,0,0,0,null,675376.32,675376.32394793327,-3.9479333208873868E-3,null,0,0,0,null,675376.32,675376.32394793327,-3.9479333208873868E-3,null,0,null,0,null,null,null,0,null,null,null,0,null,58417.02,58417.023938557548,0,null,3790.23,3790.2297599999993,0,null,null,null,0,null,null,null,0,null,null,null,0,null,null,null,0,null,null,null,0,null,null,null,0,null,"NO",{"$f":"IF(ISERROR(VLOOKUP($A211+8860000,'Growth Data'!$A:$F,3,0)),\"NO\",VLOOKUP($A211+8860000,'Growth Data'!$A:$F,3,0))","v":"NO"},0,null,0,{"$f":"IF(DI211=\"YES\",IF(ISERROR(VLOOKUP($A211+8860000,'Growth Data'!$A:$F,6,0)),0,VLOOKUP($A211+8860000,'Growth Data'!$A:$F,6,0)),0)","v":0},0,null,0,{"$f":"IF(ISERROR(VLOOKUP($A211+8860000,'Growth Data'!$A:$Z,7,0)),0,VLOOKUP($A211+8860000,'Growth Data'!$A:$Z,7,0))","v":0},0,null,"NO",{"$f":"IF(ISERROR(VLOOKUP($A211+8860000,'Growth Data'!$A:$F,4,0)),\"NO\",VLOOKUP($A211+8860000,'Growth Data'!$A:$F,4,0))","v":"NO"},0,null,0,{"$f":"IF(ISERROR(VLOOKUP($A211+8860000,'Growth Data'!$A:$Z,8,0)),0,VLOOKUP($A211+8860000,'Growth Data'!$A:$Z,8,0))","v":0},0,null,0,{"$f":"IF(ISERROR(VLOOKUP($A211+8860000,'Growth Data'!$A:$Z,9,0)),0,VLOOKUP($A211+8860000,'Growth Data'!$A:$Z,9,0))","v":0},0,null,"NO",{"$f":"IF(ISERROR(VLOOKUP($A211+8860000,'Growth Data'!$A:$Z,5,0)),\"NO\",VLOOKUP($A211+8860000,'Growth Data'!$A:$Z,5,0))","v":"NO"},0,null,0,{"$f":"IF(ISERROR(VLOOKUP($A211+8860000,'Growth Data'!$A:$Z,10,0)),0,VLOOKUP($A211+8860000,'Growth Data'!$A:$Z,10,0))","v":0},0,null,0,{"$f":"IF(ISERROR(VLOOKUP($A211+8860000,'Growth Data'!$A:$Z,11,0)),0,VLOOKUP($A211+8860000,'Growth Data'!$A:$Z,11,0))","v":0},0]
[3299,"The John Wesley Church of England Methodist Voluntary Aided Primary School",null,"The John Wesley Church of England Methodist Voluntary Aided Primary School",null,1,null,1376460.65,1376460.6500000001,0,null,99752.43,99752.427437641949,2.5623580440878868E-3,null,22323.759999999998,22323.761067708325,-1.0677083264454268E-3,null,154192.60999999999,154192.60824324324,1.7567567410878837E-3,null,120084,120084,0,null,0,0,0,null,0,0,0,null,0,0,0,null,11571,11571,0,null,0,0,0,null,0,0,0,null,87286.55,87286.553251406353,-3.2514063495909795E-3,null,1871671,1871671,0,null,0,0,0,null,1871671,1871671,0,null,0,null,0,null,null,null,0,null,null,null,0,null,334345.77,334345.77230700792,0,null,11703.5,11703.5,0,null,null,null,0,null,null,null,0,null,null,null,0,null,null,null,0,null,null,null,0,null,null,null,0,null,"NO",{"$f":"IF(ISERROR(VLOOKUP($A212+8860000,'Growth Data'!$A:$F,3,0)),\"NO\",VLOOKUP($A212+8860000,'Growth Data'!$A:$F,3,0))","v":"NO"},0,null,0,{"$f":"IF(DI212=\"YES\",IF(ISERROR(VLOOKUP($A212+8860000,'Growth Data'!$A:$F,6,0)),0,VLOOKUP($A212+8860000,'Growth Data'!$A:$F,6,0)),0)","v":0},0,null,0,{"$f":"IF(ISERROR(VLOOKUP($A212+8860000,'Growth Data'!$A:$Z,7,0)),0,VLOOKUP($A212+8860000,'Growth Data'!$A:$Z,7,0))","v":0},0,null,"NO",{"$f":"IF(ISERROR(VLOOKUP($A212+8860000,'Growth Data'!$A:$F,4,0)),\"NO\",VLOOKUP($A212+8860000,'Growth Data'!$A:$F,4,0))","v":"NO"},0,null,0,{"$f":"IF(ISERROR(VLOOKUP($A212+8860000,'Growth Data'!$A:$Z,8,0)),0,VLOOKUP($A212+8860000,'Growth Data'!$A:$Z,8,0))","v":0},0,null,0,{"$f":"IF(ISERROR(VLOOKUP($A212+8860000,'Growth Data'!$A:$Z,9,0)),0,VLOOKUP($A212+8860000,'Growth Data'!$A:$Z,9,0))","v":0},0,null,"NO",{"$f":"IF(ISERROR(VLOOKUP($A212+8860000,'Growth Data'!$A:$Z,5,0)),\"NO\",VLOOKUP($A212+8860000,'Growth Data'!$A:$Z,5,0))","v":"NO"},0,null,0,{"$f":"IF(ISERROR(VLOOKUP($A212+8860000,'Growth Data'!$A:$Z,10,0)),0,VLOOKUP($A212+8860000,'Growth Data'!$A:$Z,10,0))","v":0},0,null,0,{"$f":"IF(ISERROR(VLOOKUP($A212+8860000,'Growth Data'!$A:$Z,11,0)),0,VLOOKUP($A212+8860000,'Growth Data'!$A:$Z,11,0))","v":0},0]
[3303,"St Katharine's Knockholt Church of England Voluntary Aided Primary School",null,"St Katharine's Knockholt Church of England Voluntary Aided Primary School",null,1,null,566050.11,566050.11,0,null,10813.5,10813.500000000002,0,null,3228.25,3228.2490384615335,9.6153846652669017E-4,null,60536.12,60536.123773584906,-3.7735849036835134E-3,null,120084,120084,0,null,0,0,0,null,27994.2,27994.200967483306,-9.6748330543050542E-4,null,0,0,0,null,4045,4045,0,null,0,0,0,null,0,0,0,null,0,0,0,null,792751.18,792751.18377952976,-3.7795297103002667E-3,null,0,0,0,null,792751.18,792751.18377952976,-3.7795297103002667E-3,null,0,null,0,null,null,null,0,null,null,null,0,null,78059.73,78059.733819435787,0,null,4990.01,4990.0147199999992,0,null,null,null,0,null,null,null,0,null,null,null,0,null,null,null,0,null,null,null,0,null,null,null,0,null,"NO",{"$f":"IF(ISERROR(VLOOKUP($A213+8860000,'Growth Data'!$A:$F,3,0)),\"NO\",VLOOKUP($A213+8860000,'Growth Data'!$A:$F,3,0))","v":"NO"},0,null,0,{"$f":"IF(DI213=\"YES\",IF(ISERROR(VLOOKUP($A213+8860000,'Growth Data'!$A:$F,6,0)),0,VLOOKUP($A213+8860000,'Growth Data'!$A:$F,6,0)),0)","v":0},0,null,0,{"$f":"IF(ISERROR(VLOOKUP($A213+8860000,'Growth Data'!$A:$Z,7,0)),0,VLOOKUP($A213+8860000,'Growth Data'!$A:$Z,7,0))","v":0},0,null,"NO",{"$f":"IF(ISERROR(VLOOKUP($A213+8860000,'Growth Data'!$A:$F,4,0)),\"NO\",VLOOKUP($A213+8860000,'Growth Data'!$A:$F,4,0))","v":"NO"},0,null,0,{"$f":"IF(ISERROR(VLOOKUP($A213+8860000,'Growth Data'!$A:$Z,8,0)),0,VLOOKUP($A213+8860000,'Growth Data'!$A:$Z,8,0))","v":0},0,null,0,{"$f":"IF(ISERROR(VLOOKUP($A213+8860000,'Growth Data'!$A:$Z,9,0)),0,VLOOKUP($A213+8860000,'Growth Data'!$A:$Z,9,0))","v":0},0,null,"NO",{"$f":"IF(ISERROR(VLOOKUP($A213+8860000,'Growth Data'!$A:$Z,5,0)),\"NO\",VLOOKUP($A213+8860000,'Growth Data'!$A:$Z,5,0))","v":"NO"},0,null,0,{"$f":"IF(ISERROR(VLOOKUP($A213+8860000,'Growth Data'!$A:$Z,10,0)),0,VLOOKUP($A213+8860000,'Growth Data'!$A:$Z,10,0))","v":0},0,null,0,{"$f":"IF(ISERROR(VLOOKUP($A213+8860000,'Growth Data'!$A:$Z,11,0)),0,VLOOKUP($A213+8860000,'Growth Data'!$A:$Z,11,0))","v":0},0]
[3307,"Chevening, St Botolph's Church of England Voluntary Aided Primary School",null,"Chevening, St Botolph's Church of England Voluntary Aided Primary School",null,1,null,603168.15,603168.15,0,null,8202.76,8202.7632500000072,-3.2500000070285751E-3,null,5715.59,5715.588461538463,1.5384615371658583E-3,null,29966.639999999999,29966.636890243906,3.1097560931812041E-3,null,120084,120084,0,null,0,0,0,null,28230.65,28230.646700545585,3.2994544162647799E-3,null,0,0,0,null,5171,5171,0,null,0,0,0,null,0,0,0,null,19732.21,19732.214697672003,-4.6976720041129738E-3,null,820271,820270.99999999988,0,null,0,0,0,null,820271,820270.99999999988,0,null,0,null,0,null,null,null,0,null,null,null,0,null,68355.87,68355.865047906016,0,null,5317.23,5317.228799999999,0,null,null,null,0,null,null,null,0,null,null,null,0,null,null,null,0,null,null,null,0,null,null,null,0,null,"NO",{"$f":"IF(ISERROR(VLOOKUP($A214+8860000,'Growth Data'!$A:$F,3,0)),\"NO\",VLOOKUP($A214+8860000,'Growth Data'!$A:$F,3,0))","v":"NO"},0,null,0,{"$f":"IF(DI214=\"YES\",IF(ISERROR(VLOOKUP($A214+8860000,'Growth Data'!$A:$F,6,0)),0,VLOOKUP($A214+8860000,'Growth Data'!$A:$F,6,0)),0)","v":0},0,null,0,{"$f":"IF(ISERROR(VLOOKUP($A214+8860000,'Growth Data'!$A:$Z,7,0)),0,VLOOKUP($A214+8860000,'Growth Data'!$A:$Z,7,0))","v":0},0,null,"NO",{"$f":"IF(ISERROR(VLOOKUP($A214+8860000,'Growth Data'!$A:$F,4,0)),\"NO\",VLOOKUP($A214+8860000,'Growth Data'!$A:$F,4,0))","v":"NO"},0,null,0,{"$f":"IF(ISERROR(VLOOKUP($A214+8860000,'Growth Data'!$A:$Z,8,0)),0,VLOOKUP($A214+8860000,'Growth Data'!$A:$Z,8,0))","v":0},0,null,0,{"$f":"IF(ISERROR(VLOOKUP($A214+8860000,'Growth Data'!$A:$Z,9,0)),0,VLOOKUP($A214+8860000,'Growth Data'!$A:$Z,9,0))","v":0},0,null,"NO",{"$f":"IF(ISERROR(VLOOKUP($A214+8860000,'Growth Data'!$A:$Z,5,0)),\"NO\",VLOOKUP($A214+8860000,'Growth Data'!$A:$Z,5,0))","v":"NO"},0,null,0,{"$f":"IF(ISERROR(VLOOKUP($A214+8860000,'Growth Data'!$A:$Z,10,0)),0,VLOOKUP($A214+8860000,'Growth Data'!$A:$Z,10,0))","v":0},0,null,0,{"$f":"IF(ISERROR(VLOOKUP($A214+8860000,'Growth Data'!$A:$Z,11,0)),0,VLOOKUP($A214+8860000,'Growth Data'!$A:$Z,11,0))","v":0},0]
[3308,"Colliers Green Church of England Primary School",null,"Colliers Green Church of England Primary School",null,1,null,327876.02,327876.02,0,null,9474.27,9474.2676363636365,2.3636363639525371E-3,null,1944.71,1944.7113333333314,-1.3333333313312323E-3,null,22186.26,22186.264494382023,-4.4943820248590782E-3,null,120084,120084,0,null,0,0,0,null,0,0,0,null,0,0,0,null,4070,4070,0,null,0,0,0,null,0,0,0,null,0,0,0,null,485635.26,485635.26346407901,-3.4640789963304996E-3,null,0,0,0,null,485635.26,485635.26346407901,-3.4640789963304996E-3,null,0,null,0,null,null,null,0,null,null,null,0,null,39379.99,39379.985771087144,0,null,2787.8,2787.8,0,null,null,null,0,null,null,null,0,null,null,null,0,null,null,null,0,null,null,null,0,null,null,null,0,null,"NO",{"$f":"IF(ISERROR(VLOOKUP($A215+8860000,'Growth Data'!$A:$F,3,0)),\"NO\",VLOOKUP($A215+8860000,'Growth Data'!$A:$F,3,0))","v":"NO"},0,null,0,{"$f":"IF(DI215=\"YES\",IF(ISERROR(VLOOKUP($A215+8860000,'Growth Data'!$A:$F,6,0)),0,VLOOKUP($A215+8860000,'Growth Data'!$A:$F,6,0)),0)","v":0},0,null,0,{"$f":"IF(ISERROR(VLOOKUP($A215+8860000,'Growth Data'!$A:$Z,7,0)),0,VLOOKUP($A215+8860000,'Growth Data'!$A:$Z,7,0))","v":0},0,null,"NO",{"$f":"IF(ISERROR(VLOOKUP($A215+8860000,'Growth Data'!$A:$F,4,0)),\"NO\",VLOOKUP($A215+8860000,'Growth Data'!$A:$F,4,0))","v":"NO"},0,null,0,{"$f":"IF(ISERROR(VLOOKUP($A215+8860000,'Growth Data'!$A:$Z,8,0)),0,VLOOKUP($A215+8860000,'Growth Data'!$A:$Z,8,0))","v":0},0,null,0,{"$f":"IF(ISERROR(VLOOKUP($A215+8860000,'Growth Data'!$A:$Z,9,0)),0,VLOOKUP($A215+8860000,'Growth Data'!$A:$Z,9,0))","v":0},0,null,"NO",{"$f":"IF(ISERROR(VLOOKUP($A215+8860000,'Growth Data'!$A:$Z,5,0)),\"NO\",VLOOKUP($A215+8860000,'Growth Data'!$A:$Z,5,0))","v":"NO"},0,null,0,{"$f":"IF(ISERROR(VLOOKUP($A215+8860000,'Growth Data'!$A:$Z,10,0)),0,VLOOKUP($A215+8860000,'Growth Data'!$A:$Z,10,0))","v":0},0,null,0,{"$f":"IF(ISERROR(VLOOKUP($A215+8860000,'Growth Data'!$A:$Z,11,0)),0,VLOOKUP($A215+8860000,'Growth Data'!$A:$Z,11,0))","v":0},0]
[3309,"Sissinghurst Voluntary Aided Church of England Primary School",null,"Sissinghurst Voluntary Aided Church of England Primary School",null,1,null,507279.88,507279.88,0,null,18409.330000000002,18409.33033742334,-3.3742333835107274E-4,null,0,0,0,null,39641.089999999997,39641.091176470582,-1.1764705850509927E-3,null,120084,120084,0,null,0,0,0,null,0,0,0,null,0,0,0,null,7987,7987,0,null,0,0,0,null,0,0,0,null,105.7,105.69848610607733,1.5138939226773118E-3,null,693507,693507.00000000012,0,null,0,0,0,null,693507,693507.00000000012,0,null,0,null,0,null,null,null,0,null,null,null,0,null,56105.42,56105.422307008121,0,null,4313.2,4313.2,0,null,null,null,0,null,null,null,0,null,null,null,0,null,null,null,0,null,null,null,0,null,null,null,0,null,"NO",{"$f":"IF(ISERROR(VLOOKUP($A216+8860000,'Growth Data'!$A:$F,3,0)),\"NO\",VLOOKUP($A216+8860000,'Growth Data'!$A:$F,3,0))","v":"NO"},0,null,0,{"$f":"IF(DI216=\"YES\",IF(ISERROR(VLOOKUP($A216+8860000,'Growth Data'!$A:$F,6,0)),0,VLOOKUP($A216+8860000,'Growth Data'!$A:$F,6,0)),0)","v":0},0,null,0,{"$f":"IF(ISERROR(VLOOKUP($A216+8860000,'Growth Data'!$A:$Z,7,0)),0,VLOOKUP($A216+8860000,'Growth Data'!$A:$Z,7,0))","v":0},0,null,"YES",{"$f":"IF(ISERROR(VLOOKUP($A216+8860000,'Growth Data'!$A:$F,4,0)),\"NO\",VLOOKUP($A216+8860000,'Growth Data'!$A:$F,4,0))","v":"NO"},1,null,45,{"$f":"IF(ISERROR(VLOOKUP($A216+8860000,'Growth Data'!$A:$Z,8,0)),0,VLOOKUP($A216+8860000,'Growth Data'!$A:$Z,8,0))","v":0},1,null,60,{"$f":"IF(ISERROR(VLOOKUP($A216+8860000,'Growth Data'!$A:$Z,9,0)),0,VLOOKUP($A216+8860000,'Growth Data'!$A:$Z,9,0))","v":0},1,null,"YES",{"$f":"IF(ISERROR(VLOOKUP($A216+8860000,'Growth Data'!$A:$Z,5,0)),\"NO\",VLOOKUP($A216+8860000,'Growth Data'!$A:$Z,5,0))","v":"NO"},1,null,53,{"$f":"IF(ISERROR(VLOOKUP($A216+8860000,'Growth Data'!$A:$Z,10,0)),0,VLOOKUP($A216+8860000,'Growth Data'!$A:$Z,10,0))","v":0},1,null,60,{"$f":"IF(ISERROR(VLOOKUP($A216+8860000,'Growth Data'!$A:$Z,11,0)),0,VLOOKUP($A216+8860000,'Growth Data'!$A:$Z,11,0))","v":0},1]
[3312,"Hever Church of England Voluntary Aided Primary School",null,"Hever Church of England Voluntary Aided Primary School",null,1,null,528932.06999999995,528932.07000000007,0,null,26483.45,26483.445555555576,4.4444444247346837E-3,null,667.49,667.49425531914858,-4.2553191485694697E-3,null,45028.5,45028.502093023257,-2.0930232567479834E-3,null,120084,120084,0,null,0,0,0,null,26539.99,26539.994838063449,-4.8380634470959194E-3,null,0,0,0,null,3661,3661,0,null,0,0,0,null,0,0,0,null,0,0,0,null,751396.51,751396.50674196158,3.2580384286120534E-3,null,0,0,0,null,751396.51,751396.50674196158,3.2580384286120534E-3,null,0,null,0,null,null,null,0,null,null,null,0,null,72709.48,72709.481997867464,0,null,4662.8,4662.8006399999986,0,null,null,null,0,null,null,null,0,null,null,null,0,null,null,null,0,null,null,null,0,null,null,null,0,null,"NO",{"$f":"IF(ISERROR(VLOOKUP($A217+8860000,'Growth Data'!$A:$F,3,0)),\"NO\",VLOOKUP($A217+8860000,'Growth Data'!$A:$F,3,0))","v":"NO"},0,null,0,{"$f":"IF(DI217=\"YES\",IF(ISERROR(VLOOKUP($A217+8860000,'Growth Data'!$A:$F,6,0)),0,VLOOKUP($A217+8860000,'Growth Data'!$A:$F,6,0)),0)","v":0},0,null,0,{"$f":"IF(ISERROR(VLOOKUP($A217+8860000,'Growth Data'!$A:$Z,7,0)),0,VLOOKUP($A217+8860000,'Growth Data'!$A:$Z,7,0))","v":0},0,null,"NO",{"$f":"IF(ISERROR(VLOOKUP($A217+8860000,'Growth Data'!$A:$F,4,0)),\"NO\",VLOOKUP($A217+8860000,'Growth Data'!$A:$F,4,0))","v":"NO"},0,null,0,{"$f":"IF(ISERROR(VLOOKUP($A217+8860000,'Growth Data'!$A:$Z,8,0)),0,VLOOKUP($A217+8860000,'Growth Data'!$A:$Z,8,0))","v":0},0,null,0,{"$f":"IF(ISERROR(VLOOKUP($A217+8860000,'Growth Data'!$A:$Z,9,0)),0,VLOOKUP($A217+8860000,'Growth Data'!$A:$Z,9,0))","v":0},0,null,"NO",{"$f":"IF(ISERROR(VLOOKUP($A217+8860000,'Growth Data'!$A:$Z,5,0)),\"NO\",VLOOKUP($A217+8860000,'Growth Data'!$A:$Z,5,0))","v":"NO"},0,null,0,{"$f":"IF(ISERROR(VLOOKUP($A217+8860000,'Growth Data'!$A:$Z,10,0)),0,VLOOKUP($A217+8860000,'Growth Data'!$A:$Z,10,0))","v":0},0,null,0,{"$f":"IF(ISERROR(VLOOKUP($A217+8860000,'Growth Data'!$A:$Z,11,0)),0,VLOOKUP($A217+8860000,'Growth Data'!$A:$Z,11,0))","v":0},0]
[3314,"Penshurst Church of England Voluntary Aided Primary School",null,"Penshurst Church of England Voluntary Aided Primary School",null,1,null,253639.94,253639.94,0,null,8567.94,8567.9400000000242,-2.3646862246096134E-11,null,618.25,618.24630136986298,3.6986301370234287E-3,null,16093.1,16093.099701492536,2.9850746432202868E-4,null,120084,120084,0,null,0,0,0,null,14683.32,14683.318716905336,1.2830946634494467E-3,null,0,0,0,null,2048,2048,0,null,0,0,0,null,0,0,0,null,0,0,0,null,415734.54,415734.5447197677,-4.7197677195072174E-3,null,0,0,0,null,415734.54,415734.5447197677,-4.7197677195072174E-3,null,0,null,0,null,null,null,0,null,null,null,0,null,28378.74,28378.738343673791,0,null,2235.96,2235.96288,0,null,null,null,0,null,null,null,0,null,null,null,0,null,null,null,0,null,null,null,0,null,null,null,0,null,"NO",{"$f":"IF(ISERROR(VLOOKUP($A218+8860000,'Growth Data'!$A:$F,3,0)),\"NO\",VLOOKUP($A218+8860000,'Growth Data'!$A:$F,3,0))","v":"NO"},0,null,0,{"$f":"IF(DI218=\"YES\",IF(ISERROR(VLOOKUP($A218+8860000,'Growth Data'!$A:$F,6,0)),0,VLOOKUP($A218+8860000,'Growth Data'!$A:$F,6,0)),0)","v":0},0,null,0,{"$f":"IF(ISERROR(VLOOKUP($A218+8860000,'Growth Data'!$A:$Z,7,0)),0,VLOOKUP($A218+8860000,'Growth Data'!$A:$Z,7,0))","v":0},0,null,"NO",{"$f":"IF(ISERROR(VLOOKUP($A218+8860000,'Growth Data'!$A:$F,4,0)),\"NO\",VLOOKUP($A218+8860000,'Growth Data'!$A:$F,4,0))","v":"NO"},0,null,0,{"$f":"IF(ISERROR(VLOOKUP($A218+8860000,'Growth Data'!$A:$Z,8,0)),0,VLOOKUP($A218+8860000,'Growth Data'!$A:$Z,8,0))","v":0},0,null,0,{"$f":"IF(ISERROR(VLOOKUP($A218+8860000,'Growth Data'!$A:$Z,9,0)),0,VLOOKUP($A218+8860000,'Growth Data'!$A:$Z,9,0))","v":0},0,null,"NO",{"$f":"IF(ISERROR(VLOOKUP($A218+8860000,'Growth Data'!$A:$Z,5,0)),\"NO\",VLOOKUP($A218+8860000,'Growth Data'!$A:$Z,5,0))","v":"NO"},0,null,0,{"$f":"IF(ISERROR(VLOOKUP($A218+8860000,'Growth Data'!$A:$Z,10,0)),0,VLOOKUP($A218+8860000,'Growth Data'!$A:$Z,10,0))","v":0},0,null,0,{"$f":"IF(ISERROR(VLOOKUP($A218+8860000,'Growth Data'!$A:$Z,11,0)),0,VLOOKUP($A218+8860000,'Growth Data'!$A:$Z,11,0))","v":0},0]
[3317,"Lady Boswell's Church of England Voluntary Aided Primary School, Sevenoaks",null,"Lady Boswell's Church of England Voluntary Aided Primary School, Sevenoaks",null,1,null,1314597.25,1314597.25,0,null,12736.02,12736.018143851499,1.8561485012469348E-3,null,19812.54,19812.536202185802,3.7978141990606673E-3,null,45369.27,45369.27363896848,-3.6389684828463942E-3,null,120084,120084,0,null,0,0,0,null,55663.65,55663.646069848219,3.9301517826970667E-3,null,0,0,0,null,9062,9062,0,null,0,0,0,null,0,0,0,null,208237.28,208237.27594514604,4.0548539545852691E-3,null,1785562,1785562.0000000002,0,null,0,0,0,null,1785562,1785562.0000000002,0,null,0,null,0,null,null,null,0,null,null,null,0,null,289282.62,289282.6155119061,0,null,11588.83,11588.832,0,null,null,null,0,null,null,null,0,null,null,null,0,null,null,null,0,null,null,null,0,null,null,null,0,null,"NO",{"$f":"IF(ISERROR(VLOOKUP($A219+8860000,'Growth Data'!$A:$F,3,0)),\"NO\",VLOOKUP($A219+8860000,'Growth Data'!$A:$F,3,0))","v":"NO"},0,null,0,{"$f":"IF(DI219=\"YES\",IF(ISERROR(VLOOKUP($A219+8860000,'Growth Data'!$A:$F,6,0)),0,VLOOKUP($A219+8860000,'Growth Data'!$A:$F,6,0)),0)","v":0},0,null,0,{"$f":"IF(ISERROR(VLOOKUP($A219+8860000,'Growth Data'!$A:$Z,7,0)),0,VLOOKUP($A219+8860000,'Growth Data'!$A:$Z,7,0))","v":0},0,null,"NO",{"$f":"IF(ISERROR(VLOOKUP($A219+8860000,'Growth Data'!$A:$F,4,0)),\"NO\",VLOOKUP($A219+8860000,'Growth Data'!$A:$F,4,0))","v":"NO"},0,null,0,{"$f":"IF(ISERROR(VLOOKUP($A219+8860000,'Growth Data'!$A:$Z,8,0)),0,VLOOKUP($A219+8860000,'Growth Data'!$A:$Z,8,0))","v":0},0,null,0,{"$f":"IF(ISERROR(VLOOKUP($A219+8860000,'Growth Data'!$A:$Z,9,0)),0,VLOOKUP($A219+8860000,'Growth Data'!$A:$Z,9,0))","v":0},0,null,"NO",{"$f":"IF(ISERROR(VLOOKUP($A219+8860000,'Growth Data'!$A:$Z,5,0)),\"NO\",VLOOKUP($A219+8860000,'Growth Data'!$A:$Z,5,0))","v":"NO"},0,null,0,{"$f":"IF(ISERROR(VLOOKUP($A219+8860000,'Growth Data'!$A:$Z,10,0)),0,VLOOKUP($A219+8860000,'Growth Data'!$A:$Z,10,0))","v":0},0,null,0,{"$f":"IF(ISERROR(VLOOKUP($A219+8860000,'Growth Data'!$A:$Z,11,0)),0,VLOOKUP($A219+8860000,'Growth Data'!$A:$Z,11,0))","v":0},0]
[3318,"Ide Hill Church of England Primary School",null,"Ide Hill Church of England Primary School",null,1,null,470161.84,470161.84,0,null,12290.56,12290.563965434034,-3.9654340343986405E-3,null,0,0,0,null,22394.22,22394.223865546217,-3.8655462158203591E-3,null,120084,120084,0,null,0,0,0,null,22997.45,22997.447104180075,2.8958199254702777E-3,null,0,0,0,null,1997,1997,0,null,0,0,0,null,0,0,0,null,0,0,0,null,649925.06999999995,649925.07493516046,-4.9351605121046305E-3,null,0,0,0,null,649925.06999999995,649925.07493516046,-4.9351605121046305E-3,null,0,null,0,null,null,null,0,null,null,null,0,null,38607.620000000003,38607.622415066369,0,null,4144.71,4144.7116799999994,0,null,null,null,0,null,null,null,0,null,null,null,0,null,null,null,0,null,null,null,0,null,null,null,0,null,"NO",{"$f":"IF(ISERROR(VLOOKUP($A220+8860000,'Growth Data'!$A:$F,3,0)),\"NO\",VLOOKUP($A220+8860000,'Growth Data'!$A:$F,3,0))","v":"NO"},0,null,0,{"$f":"IF(DI220=\"YES\",IF(ISERROR(VLOOKUP($A220+8860000,'Growth Data'!$A:$F,6,0)),0,VLOOKUP($A220+8860000,'Growth Data'!$A:$F,6,0)),0)","v":0},0,null,0,{"$f":"IF(ISERROR(VLOOKUP($A220+8860000,'Growth Data'!$A:$Z,7,0)),0,VLOOKUP($A220+8860000,'Growth Data'!$A:$Z,7,0))","v":0},0,null,"NO",{"$f":"IF(ISERROR(VLOOKUP($A220+8860000,'Growth Data'!$A:$F,4,0)),\"NO\",VLOOKUP($A220+8860000,'Growth Data'!$A:$F,4,0))","v":"NO"},0,null,0,{"$f":"IF(ISERROR(VLOOKUP($A220+8860000,'Growth Data'!$A:$Z,8,0)),0,VLOOKUP($A220+8860000,'Growth Data'!$A:$Z,8,0))","v":0},0,null,0,{"$f":"IF(ISERROR(VLOOKUP($A220+8860000,'Growth Data'!$A:$Z,9,0)),0,VLOOKUP($A220+8860000,'Growth Data'!$A:$Z,9,0))","v":0},0,null,"NO",{"$f":"IF(ISERROR(VLOOKUP($A220+8860000,'Growth Data'!$A:$Z,5,0)),\"NO\",VLOOKUP($A220+8860000,'Growth Data'!$A:$Z,5,0))","v":"NO"},0,null,0,{"$f":"IF(ISERROR(VLOOKUP($A220+8860000,'Growth Data'!$A:$Z,10,0)),0,VLOOKUP($A220+8860000,'Growth Data'!$A:$Z,10,0))","v":0},0,null,0,{"$f":"IF(ISERROR(VLOOKUP($A220+8860000,'Growth Data'!$A:$Z,11,0)),0,VLOOKUP($A220+8860000,'Growth Data'!$A:$Z,11,0))","v":0},0]
[3320,"St Barnabas CofE VA Primary School",null,"St Barnabas CofE VA Primary School",null,1,null,624820.34,624820.34,0,null,54808.01,54808.01,0,null,26836.26,26836.257241379357,2.7586206415435299E-3,null,67074.41,67074.406060606052,3.9393939514411613E-3,null,120084,120084,0,null,0,0,0,null,0,0,0,null,0,0,0,null,2970,2970,0,null,0,0,0,null,0,0,0,null,0,0,0,null,896593.01,896593.01330198534,-3.3019853290170431E-3,null,0,0,0,null,896593.01,896593.01330198534,-3.3019853290170431E-3,null,0,null,0,null,null,null,0,null,null,null,0,null,127334.54,127334.53560899357,0,null,5312.6,5312.6,0,null,null,null,0,null,null,null,0,null,null,null,0,null,null,null,0,null,null,null,0,null,null,null,0,null,"NO",{"$f":"IF(ISERROR(VLOOKUP($A221+8860000,'Growth Data'!$A:$F,3,0)),\"NO\",VLOOKUP($A221+8860000,'Growth Data'!$A:$F,3,0))","v":"NO"},0,null,0,{"$f":"IF(DI221=\"YES\",IF(ISERROR(VLOOKUP($A221+8860000,'Growth Data'!$A:$F,6,0)),0,VLOOKUP($A221+8860000,'Growth Data'!$A:$F,6,0)),0)","v":0},0,null,0,{"$f":"IF(ISERROR(VLOOKUP($A221+8860000,'Growth Data'!$A:$Z,7,0)),0,VLOOKUP($A221+8860000,'Growth Data'!$A:$Z,7,0))","v":0},0,null,"NO",{"$f":"IF(ISERROR(VLOOKUP($A221+8860000,'Growth Data'!$A:$F,4,0)),\"NO\",VLOOKUP($A221+8860000,'Growth Data'!$A:$F,4,0))","v":"NO"},0,null,0,{"$f":"IF(ISERROR(VLOOKUP($A221+8860000,'Growth Data'!$A:$Z,8,0)),0,VLOOKUP($A221+8860000,'Growth Data'!$A:$Z,8,0))","v":0},0,null,0,{"$f":"IF(ISERROR(VLOOKUP($A221+8860000,'Growth Data'!$A:$Z,9,0)),0,VLOOKUP($A221+8860000,'Growth Data'!$A:$Z,9,0))","v":0},0,null,"NO",{"$f":"IF(ISERROR(VLOOKUP($A221+8860000,'Growth Data'!$A:$Z,5,0)),\"NO\",VLOOKUP($A221+8860000,'Growth Data'!$A:$Z,5,0))","v":"NO"},0,null,0,{"$f":"IF(ISERROR(VLOOKUP($A221+8860000,'Growth Data'!$A:$Z,10,0)),0,VLOOKUP($A221+8860000,'Growth Data'!$A:$Z,10,0))","v":0},0,null,0,{"$f":"IF(ISERROR(VLOOKUP($A221+8860000,'Growth Data'!$A:$Z,11,0)),0,VLOOKUP($A221+8860000,'Growth Data'!$A:$Z,11,0))","v":0},0]
[3322,"St James' Church of England Voluntary Aided Primary School",null,"St James' Church of England Voluntary Aided Primary School",null,1,null,1942510.76,1942510.76,0,null,35626.74,35626.740000000005,0,null,50112.09,50112.088773234129,1.2267658676137216E-3,null,127041.89,127041.88799999999,2.0000000076834112E-3,null,120084,120084,0,null,0,0,0,null,0,0,0,null,0,0,0,null,11162,11162,0,null,0,0,0,null,0,0,0,null,349664.52,349664.52322676586,-3.2267658389173448E-3,null,2636202,2636202,0,null,0,0,0,null,2636202,2636202,0,null,0,null,0,null,null,null,0,null,null,null,0,null,555331.02,555331.02230700804,0,null,16516.400000000001,16516.400000000001,0,null,null,null,0,null,null,null,0,null,null,null,0,null,null,null,0,null,null,null,0,null,null,null,0,null,"NO",{"$f":"IF(ISERROR(VLOOKUP($A222+8860000,'Growth Data'!$A:$F,3,0)),\"NO\",VLOOKUP($A222+8860000,'Growth Data'!$A:$F,3,0))","v":"NO"},0,null,0,{"$f":"IF(DI222=\"YES\",IF(ISERROR(VLOOKUP($A222+8860000,'Growth Data'!$A:$F,6,0)),0,VLOOKUP($A222+8860000,'Growth Data'!$A:$F,6,0)),0)","v":0},0,null,0,{"$f":"IF(ISERROR(VLOOKUP($A222+8860000,'Growth Data'!$A:$Z,7,0)),0,VLOOKUP($A222+8860000,'Growth Data'!$A:$Z,7,0))","v":0},0,null,"NO",{"$f":"IF(ISERROR(VLOOKUP($A222+8860000,'Growth Data'!$A:$F,4,0)),\"NO\",VLOOKUP($A222+8860000,'Growth Data'!$A:$F,4,0))","v":"NO"},0,null,0,{"$f":"IF(ISERROR(VLOOKUP($A222+8860000,'Growth Data'!$A:$Z,8,0)),0,VLOOKUP($A222+8860000,'Growth Data'!$A:$Z,8,0))","v":0},0,null,0,{"$f":"IF(ISERROR(VLOOKUP($A222+8860000,'Growth Data'!$A:$Z,9,0)),0,VLOOKUP($A222+8860000,'Growth Data'!$A:$Z,9,0))","v":0},0,null,"NO",{"$f":"IF(ISERROR(VLOOKUP($A222+8860000,'Growth Data'!$A:$Z,5,0)),\"NO\",VLOOKUP($A222+8860000,'Growth Data'!$A:$Z,5,0))","v":"NO"},0,null,0,{"$f":"IF(ISERROR(VLOOKUP($A222+8860000,'Growth Data'!$A:$Z,10,0)),0,VLOOKUP($A222+8860000,'Growth Data'!$A:$Z,10,0))","v":0},0,null,0,{"$f":"IF(ISERROR(VLOOKUP($A222+8860000,'Growth Data'!$A:$Z,11,0)),0,VLOOKUP($A222+8860000,'Growth Data'!$A:$Z,11,0))","v":0},0]
[3323,"Hunton Church of England Primary School",null,"Hunton Church of England Primary School",null,1,null,269105.78999999998,269105.78999999998,0,null,11429.94,11429.939999999991,0,null,655.94,655.94424657534239,-4.2465753423357455E-3,null,20894.68,20894.682739726024,-2.7397260237194132E-3,null,120084,120084,0,null,0,0,0,null,0,0,0,null,0,0,0,null,2509,2509,0,null,0,0,0,null,0,0,0,null,0,0,0,null,424679.36,424679.35698630137,3.0136986169964075E-3,null,0,0,0,null,424679.36,424679.35698630137,3.0136986169964075E-3,null,0,null,0,null,null,null,0,null,null,null,0,null,35533.07,35533.069293309512,0,null,2288.1,2288.1000000000004,0,null,null,null,0,null,null,null,0,null,null,null,0,null,null,null,0,null,null,null,0,null,null,null,0,null,"NO",{"$f":"IF(ISERROR(VLOOKUP($A223+8860000,'Growth Data'!$A:$F,3,0)),\"NO\",VLOOKUP($A223+8860000,'Growth Data'!$A:$F,3,0))","v":"NO"},0,null,0,{"$f":"IF(DI223=\"YES\",IF(ISERROR(VLOOKUP($A223+8860000,'Growth Data'!$A:$F,6,0)),0,VLOOKUP($A223+8860000,'Growth Data'!$A:$F,6,0)),0)","v":0},0,null,0,{"$f":"IF(ISERROR(VLOOKUP($A223+8860000,'Growth Data'!$A:$Z,7,0)),0,VLOOKUP($A223+8860000,'Growth Data'!$A:$Z,7,0))","v":0},0,null,"NO",{"$f":"IF(ISERROR(VLOOKUP($A223+8860000,'Growth Data'!$A:$F,4,0)),\"NO\",VLOOKUP($A223+8860000,'Growth Data'!$A:$F,4,0))","v":"NO"},0,null,0,{"$f":"IF(ISERROR(VLOOKUP($A223+8860000,'Growth Data'!$A:$Z,8,0)),0,VLOOKUP($A223+8860000,'Growth Data'!$A:$Z,8,0))","v":0},0,null,0,{"$f":"IF(ISERROR(VLOOKUP($A223+8860000,'Growth Data'!$A:$Z,9,0)),0,VLOOKUP($A223+8860000,'Growth Data'!$A:$Z,9,0))","v":0},0,null,"NO",{"$f":"IF(ISERROR(VLOOKUP($A223+8860000,'Growth Data'!$A:$Z,5,0)),\"NO\",VLOOKUP($A223+8860000,'Growth Data'!$A:$Z,5,0))","v":"NO"},0,null,0,{"$f":"IF(ISERROR(VLOOKUP($A223+8860000,'Growth Data'!$A:$Z,10,0)),0,VLOOKUP($A223+8860000,'Growth Data'!$A:$Z,10,0))","v":0},0,null,0,{"$f":"IF(ISERROR(VLOOKUP($A223+8860000,'Growth Data'!$A:$Z,11,0)),0,VLOOKUP($A223+8860000,'Growth Data'!$A:$Z,11,0))","v":0},0]
[3325,"Platt Church of England Voluntary Aided Primary School",null,"Platt Church of England Voluntary Aided Primary School",null,1,null,445416.48,445416.48,0,null,15064.46,15064.460000000006,0,null,3071.94,3071.9441860465095,-4.1860465094032406E-3,null,29670.080000000002,29670.079999999998,0,null,120084,120084,0,null,0,0,0,null,0,0,0,null,0,0,0,null,2918,2918,0,null,0,0,0,null,0,0,0,null,0,0,0,null,616224.96,616224.96418604651,-4.1860465425997972E-3,null,0,0,0,null,616224.96,616224.96418604651,-4.1860465425997972E-3,null,0,null,0,null,null,null,0,null,null,null,0,null,48057.39,48057.386493054662,0,null,3787.2,3787.2,0,null,null,null,0,null,null,null,0,null,null,null,0,null,null,null,0,null,null,null,0,null,null,null,0,null,"NO",{"$f":"IF(ISERROR(VLOOKUP($A224+8860000,'Growth Data'!$A:$F,3,0)),\"NO\",VLOOKUP($A224+8860000,'Growth Data'!$A:$F,3,0))","v":"NO"},0,null,0,{"$f":"IF(DI224=\"YES\",IF(ISERROR(VLOOKUP($A224+8860000,'Growth Data'!$A:$F,6,0)),0,VLOOKUP($A224+8860000,'Growth Data'!$A:$F,6,0)),0)","v":0},0,null,0,{"$f":"IF(ISERROR(VLOOKUP($A224+8860000,'Growth Data'!$A:$Z,7,0)),0,VLOOKUP($A224+8860000,'Growth Data'!$A:$Z,7,0))","v":0},0,null,"NO",{"$f":"IF(ISERROR(VLOOKUP($A224+8860000,'Growth Data'!$A:$F,4,0)),\"NO\",VLOOKUP($A224+8860000,'Growth Data'!$A:$F,4,0))","v":"NO"},0,null,0,{"$f":"IF(ISERROR(VLOOKUP($A224+8860000,'Growth Data'!$A:$Z,8,0)),0,VLOOKUP($A224+8860000,'Growth Data'!$A:$Z,8,0))","v":0},0,null,0,{"$f":"IF(ISERROR(VLOOKUP($A224+8860000,'Growth Data'!$A:$Z,9,0)),0,VLOOKUP($A224+8860000,'Growth Data'!$A:$Z,9,0))","v":0},0,null,"NO",{"$f":"IF(ISERROR(VLOOKUP($A224+8860000,'Growth Data'!$A:$Z,5,0)),\"NO\",VLOOKUP($A224+8860000,'Growth Data'!$A:$Z,5,0))","v":"NO"},0,null,0,{"$f":"IF(ISERROR(VLOOKUP($A224+8860000,'Growth Data'!$A:$Z,10,0)),0,VLOOKUP($A224+8860000,'Growth Data'!$A:$Z,10,0))","v":0},0,null,0,{"$f":"IF(ISERROR(VLOOKUP($A224+8860000,'Growth Data'!$A:$Z,11,0)),0,VLOOKUP($A224+8860000,'Growth Data'!$A:$Z,11,0))","v":0},0]
[3328,"Bapchild and Tonge Church of England Primary School",null,"Bapchild and Tonge Church of England Primary School",null,1,null,631006.68000000005,631006.68000000005,0,null,48565.27,48565.268550724693,1.449275303457398E-3,null,5162.28,5162.278620689659,1.3793103407806484E-3,null,43909.07,43909.069285714286,7.1428571391152218E-4,null,120084,120084,0,null,0,0,0,null,0,0,0,null,0,0,0,null,3507,3507,0,null,0,0,0,null,0,0,0,null,3992.7,3992.7035428712989,-3.5428712990324129E-3,null,856227,856227,0,null,0,0,0,null,856227,856227,0,null,0,null,0,null,null,null,0,null,null,null,0,null,95435.74,95435.74230700804,0,null,5365.2,5365.2,0,null,null,null,0,null,null,null,0,null,null,null,0,null,null,null,0,null,null,null,0,null,null,null,0,null,"NO",{"$f":"IF(ISERROR(VLOOKUP($A225+8860000,'Growth Data'!$A:$F,3,0)),\"NO\",VLOOKUP($A225+8860000,'Growth Data'!$A:$F,3,0))","v":"NO"},0,null,0,{"$f":"IF(DI225=\"YES\",IF(ISERROR(VLOOKUP($A225+8860000,'Growth Data'!$A:$F,6,0)),0,VLOOKUP($A225+8860000,'Growth Data'!$A:$F,6,0)),0)","v":0},0,null,0,{"$f":"IF(ISERROR(VLOOKUP($A225+8860000,'Growth Data'!$A:$Z,7,0)),0,VLOOKUP($A225+8860000,'Growth Data'!$A:$Z,7,0))","v":0},0,null,"NO",{"$f":"IF(ISERROR(VLOOKUP($A225+8860000,'Growth Data'!$A:$F,4,0)),\"NO\",VLOOKUP($A225+8860000,'Growth Data'!$A:$F,4,0))","v":"NO"},0,null,0,{"$f":"IF(ISERROR(VLOOKUP($A225+8860000,'Growth Data'!$A:$Z,8,0)),0,VLOOKUP($A225+8860000,'Growth Data'!$A:$Z,8,0))","v":0},0,null,0,{"$f":"IF(ISERROR(VLOOKUP($A225+8860000,'Growth Data'!$A:$Z,9,0)),0,VLOOKUP($A225+8860000,'Growth Data'!$A:$Z,9,0))","v":0},0,null,"NO",{"$f":"IF(ISERROR(VLOOKUP($A225+8860000,'Growth Data'!$A:$Z,5,0)),\"NO\",VLOOKUP($A225+8860000,'Growth Data'!$A:$Z,5,0))","v":"NO"},0,null,0,{"$f":"IF(ISERROR(VLOOKUP($A225+8860000,'Growth Data'!$A:$Z,10,0)),0,VLOOKUP($A225+8860000,'Growth Data'!$A:$Z,10,0))","v":0},0,null,0,{"$f":"IF(ISERROR(VLOOKUP($A225+8860000,'Growth Data'!$A:$Z,11,0)),0,VLOOKUP($A225+8860000,'Growth Data'!$A:$Z,11,0))","v":0},0]
[3332,"Hartlip Endowed Church of England Primary School",null,"Hartlip Endowed Church of England Primary School",null,1,null,296944.32,296944.32,0,null,19933.849999999999,19933.850000000042,-4.3655745685100555E-11,null,0,0,0,null,20525.64,20525.64292682927,-2.9268292710185051E-3,null,120084,120084,0,null,0,0,0,null,0,0,0,null,0,0,0,null,1971,1971,0,null,0,0,0,null,0,0,0,null,0,0,0,null,459458.81,459458.81292682933,-2.926829329226166E-3,null,0,0,0,null,459458.81,459458.81292682933,-2.926829329226166E-3,null,0,null,0,null,null,null,0,null,null,null,0,null,42091.360000000001,42091.355233837443,0,null,2524.8000000000002,2524.8000000000002,0,null,null,null,0,null,null,null,0,null,null,null,0,null,null,null,0,null,null,null,0,null,null,null,0,null,"NO",{"$f":"IF(ISERROR(VLOOKUP($A226+8860000,'Growth Data'!$A:$F,3,0)),\"NO\",VLOOKUP($A226+8860000,'Growth Data'!$A:$F,3,0))","v":"NO"},0,null,0,{"$f":"IF(DI226=\"YES\",IF(ISERROR(VLOOKUP($A226+8860000,'Growth Data'!$A:$F,6,0)),0,VLOOKUP($A226+8860000,'Growth Data'!$A:$F,6,0)),0)","v":0},0,null,0,{"$f":"IF(ISERROR(VLOOKUP($A226+8860000,'Growth Data'!$A:$Z,7,0)),0,VLOOKUP($A226+8860000,'Growth Data'!$A:$Z,7,0))","v":0},0,null,"NO",{"$f":"IF(ISERROR(VLOOKUP($A226+8860000,'Growth Data'!$A:$F,4,0)),\"NO\",VLOOKUP($A226+8860000,'Growth Data'!$A:$F,4,0))","v":"NO"},0,null,0,{"$f":"IF(ISERROR(VLOOKUP($A226+8860000,'Growth Data'!$A:$Z,8,0)),0,VLOOKUP($A226+8860000,'Growth Data'!$A:$Z,8,0))","v":0},0,null,0,{"$f":"IF(ISERROR(VLOOKUP($A226+8860000,'Growth Data'!$A:$Z,9,0)),0,VLOOKUP($A226+8860000,'Growth Data'!$A:$Z,9,0))","v":0},0,null,"NO",{"$f":"IF(ISERROR(VLOOKUP($A226+8860000,'Growth Data'!$A:$Z,5,0)),\"NO\",VLOOKUP($A226+8860000,'Growth Data'!$A:$Z,5,0))","v":"NO"},0,null,0,{"$f":"IF(ISERROR(VLOOKUP($A226+8860000,'Growth Data'!$A:$Z,10,0)),0,VLOOKUP($A226+8860000,'Growth Data'!$A:$Z,10,0))","v":0},0,null,0,{"$f":"IF(ISERROR(VLOOKUP($A226+8860000,'Growth Data'!$A:$Z,11,0)),0,VLOOKUP($A226+8860000,'Growth Data'!$A:$Z,11,0))","v":0},0]
[3337,"Tunstall Church of England (Aided) Primary School",null,"Tunstall Church of England (Aided) Primary School",null,1,null,1197056.79,1197056.79,0,null,24311.67,24311.674916201122,-4.9162011237058323E-3,null,7816.55,7816.5478899082527,2.1100917474541347E-3,null,57588.800000000003,57588.801111111105,-1.1111111016361974E-3,null,120084,120084,0,null,0,0,0,null,0,0,0,null,0,0,0,null,10547,10547,0,null,0,0,0,null,0,0,0,null,210802.19,210802.18608277949,3.917220514267683E-3,null,1628207,1628207,0,null,0,0,0,null,1628207,1628207,0,null,0,null,0,null,null,null,0,null,null,null,0,null,303532.03000000003,303532.03230700811,0,null,10178.1,10178.099999999999,0,null,null,null,0,null,null,null,0,null,null,null,0,null,null,null,0,null,null,null,0,null,null,null,0,null,"NO",{"$f":"IF(ISERROR(VLOOKUP($A227+8860000,'Growth Data'!$A:$F,3,0)),\"NO\",VLOOKUP($A227+8860000,'Growth Data'!$A:$F,3,0))","v":"YES"},1,null,0,{"$f":"IF(DI227=\"YES\",IF(ISERROR(VLOOKUP($A227+8860000,'Growth Data'!$A:$F,6,0)),0,VLOOKUP($A227+8860000,'Growth Data'!$A:$F,6,0)),0)","v":30},-30,null,0,{"$f":"IF(ISERROR(VLOOKUP($A227+8860000,'Growth Data'!$A:$Z,7,0)),0,VLOOKUP($A227+8860000,'Growth Data'!$A:$Z,7,0))","v":60},1,null,"NO",{"$f":"IF(ISERROR(VLOOKUP($A227+8860000,'Growth Data'!$A:$F,4,0)),\"NO\",VLOOKUP($A227+8860000,'Growth Data'!$A:$F,4,0))","v":"NO"},0,null,0,{"$f":"IF(ISERROR(VLOOKUP($A227+8860000,'Growth Data'!$A:$Z,8,0)),0,VLOOKUP($A227+8860000,'Growth Data'!$A:$Z,8,0))","v":0},0,null,0,{"$f":"IF(ISERROR(VLOOKUP($A227+8860000,'Growth Data'!$A:$Z,9,0)),0,VLOOKUP($A227+8860000,'Growth Data'!$A:$Z,9,0))","v":0},0,null,"NO",{"$f":"IF(ISERROR(VLOOKUP($A227+8860000,'Growth Data'!$A:$Z,5,0)),\"NO\",VLOOKUP($A227+8860000,'Growth Data'!$A:$Z,5,0))","v":"NO"},0,null,0,{"$f":"IF(ISERROR(VLOOKUP($A227+8860000,'Growth Data'!$A:$Z,10,0)),0,VLOOKUP($A227+8860000,'Growth Data'!$A:$Z,10,0))","v":0},0,null,0,{"$f":"IF(ISERROR(VLOOKUP($A227+8860000,'Growth Data'!$A:$Z,11,0)),0,VLOOKUP($A227+8860000,'Growth Data'!$A:$Z,11,0))","v":0},0]
[3338,"Herne Church of England Junior School",null,"Herne Church of England Junior School",null,1,null,1132100.22,1132100.22,0,null,44543.72,44543.722027397205,-2.0273972040740773E-3,null,1100.78,1100.78,0,null,86176.42,86176.424132231405,-4.1322314064018428E-3,null,120084,120084,0,null,0,0,0,null,0,0,0,null,0,0,0,null,7834,7834,0,null,0,0,0,null,0,0,0,null,145874.85,145874.85384037142,-3.8403714133892208E-3,null,1537714,1537714,0,null,0,0,0,null,1537714,1537714,0,null,0,null,0,null,null,null,0,null,null,null,0,null,265978.36,265978.36230700824,0,null,9625.7999999999993,9625.7999999999993,0,null,null,null,0,null,null,null,0,null,null,null,0,null,null,null,0,null,null,null,0,null,null,null,0,null,"NO",{"$f":"IF(ISERROR(VLOOKUP($A228+8860000,'Growth Data'!$A:$F,3,0)),\"NO\",VLOOKUP($A228+8860000,'Growth Data'!$A:$F,3,0))","v":"NO"},0,null,0,{"$f":"IF(DI228=\"YES\",IF(ISERROR(VLOOKUP($A228+8860000,'Growth Data'!$A:$F,6,0)),0,VLOOKUP($A228+8860000,'Growth Data'!$A:$F,6,0)),0)","v":0},0,null,0,{"$f":"IF(ISERROR(VLOOKUP($A228+8860000,'Growth Data'!$A:$Z,7,0)),0,VLOOKUP($A228+8860000,'Growth Data'!$A:$Z,7,0))","v":0},0,null,"NO",{"$f":"IF(ISERROR(VLOOKUP($A228+8860000,'Growth Data'!$A:$F,4,0)),\"NO\",VLOOKUP($A228+8860000,'Growth Data'!$A:$F,4,0))","v":"NO"},0,null,0,{"$f":"IF(ISERROR(VLOOKUP($A228+8860000,'Growth Data'!$A:$Z,8,0)),0,VLOOKUP($A228+8860000,'Growth Data'!$A:$Z,8,0))","v":0},0,null,0,{"$f":"IF(ISERROR(VLOOKUP($A228+8860000,'Growth Data'!$A:$Z,9,0)),0,VLOOKUP($A228+8860000,'Growth Data'!$A:$Z,9,0))","v":0},0,null,"NO",{"$f":"IF(ISERROR(VLOOKUP($A228+8860000,'Growth Data'!$A:$Z,5,0)),\"NO\",VLOOKUP($A228+8860000,'Growth Data'!$A:$Z,5,0))","v":"NO"},0,null,0,{"$f":"IF(ISERROR(VLOOKUP($A228+8860000,'Growth Data'!$A:$Z,10,0)),0,VLOOKUP($A228+8860000,'Growth Data'!$A:$Z,10,0))","v":0},0,null,0,{"$f":"IF(ISERROR(VLOOKUP($A228+8860000,'Growth Data'!$A:$Z,11,0)),0,VLOOKUP($A228+8860000,'Growth Data'!$A:$Z,11,0))","v":0},0]
[3339,"Whitstable and Seasalter Endowed Church of England Junior School",null,"Whitstable and Seasalter Endowed Church of England Junior School",null,1,null,596981.81000000006,596981.81000000006,0,null,28422.33,28422.326041666674,3.9583333273185417E-3,null,1106.51,1106.5132291666703,-3.2291666702803923E-3,null,46368.06,46368.064224598929,-4.2245989316143095E-3,null,120084,120084,0,null,0,0,0,null,0,0,0,null,0,0,0,null,3584,3584,0,null,0,0,0,null,0,0,0,null,13777.29,13777.286504567659,3.4954323418787681E-3,null,810324,810324,0,null,0,0,0,null,810324,810324,0,null,0,null,0,null,null,null,0,null,null,null,0,null,83020.289999999994,83020.292307008072,0,null,5075.8999999999996,5075.8999999999996,0,null,null,null,0,null,null,null,0,null,null,null,0,null,null,null,0,null,null,null,0,null,null,null,0,null,"NO",{"$f":"IF(ISERROR(VLOOKUP($A229+8860000,'Growth Data'!$A:$F,3,0)),\"NO\",VLOOKUP($A229+8860000,'Growth Data'!$A:$F,3,0))","v":"NO"},0,null,0,{"$f":"IF(DI229=\"YES\",IF(ISERROR(VLOOKUP($A229+8860000,'Growth Data'!$A:$F,6,0)),0,VLOOKUP($A229+8860000,'Growth Data'!$A:$F,6,0)),0)","v":0},0,null,0,{"$f":"IF(ISERROR(VLOOKUP($A229+8860000,'Growth Data'!$A:$Z,7,0)),0,VLOOKUP($A229+8860000,'Growth Data'!$A:$Z,7,0))","v":0},0,null,"NO",{"$f":"IF(ISERROR(VLOOKUP($A229+8860000,'Growth Data'!$A:$F,4,0)),\"NO\",VLOOKUP($A229+8860000,'Growth Data'!$A:$F,4,0))","v":"NO"},0,null,0,{"$f":"IF(ISERROR(VLOOKUP($A229+8860000,'Growth Data'!$A:$Z,8,0)),0,VLOOKUP($A229+8860000,'Growth Data'!$A:$Z,8,0))","v":0},0,null,0,{"$f":"IF(ISERROR(VLOOKUP($A229+8860000,'Growth Data'!$A:$Z,9,0)),0,VLOOKUP($A229+8860000,'Growth Data'!$A:$Z,9,0))","v":0},0,null,"NO",{"$f":"IF(ISERROR(VLOOKUP($A229+8860000,'Growth Data'!$A:$Z,5,0)),\"NO\",VLOOKUP($A229+8860000,'Growth Data'!$A:$Z,5,0))","v":"NO"},0,null,0,{"$f":"IF(ISERROR(VLOOKUP($A229+8860000,'Growth Data'!$A:$Z,10,0)),0,VLOOKUP($A229+8860000,'Growth Data'!$A:$Z,10,0))","v":0},0,null,0,{"$f":"IF(ISERROR(VLOOKUP($A229+8860000,'Growth Data'!$A:$Z,11,0)),0,VLOOKUP($A229+8860000,'Growth Data'!$A:$Z,11,0))","v":0},0]
[3340,"Ashford, St Mary's Church of England Primary School",null,"Ashford, St Mary's Church of England Primary School",null,1,null,1271292.8700000001,1271292.8700000001,0,null,113148.69,113148.69245846668,-2.4584666825830936E-3,null,29645.79,29645.792991452978,-2.9914529768575449E-3,null,136433.03,136433.03355882352,-3.5588235186878592E-3,null,120084,120084,0,null,0,0,0,null,0,0,0,null,0,0,0,null,8960,8960,0,null,0,0,0,null,0,0,0,null,47375.61,47375.610991256719,-9.9125671840738505E-4,null,1726940,1726940,0,null,0,0,0,null,1726940,1726940,0,null,0,null,0,null,null,null,0,null,null,null,0,null,287726.83,287726.8323070081,0,null,10809.3,10809.3,0,null,null,null,0,null,null,null,0,null,null,null,0,null,null,null,0,null,null,null,0,null,null,null,0,null,"NO",{"$f":"IF(ISERROR(VLOOKUP($A230+8860000,'Growth Data'!$A:$F,3,0)),\"NO\",VLOOKUP($A230+8860000,'Growth Data'!$A:$F,3,0))","v":"NO"},0,null,0,{"$f":"IF(DI230=\"YES\",IF(ISERROR(VLOOKUP($A230+8860000,'Growth Data'!$A:$F,6,0)),0,VLOOKUP($A230+8860000,'Growth Data'!$A:$F,6,0)),0)","v":0},0,null,0,{"$f":"IF(ISERROR(VLOOKUP($A230+8860000,'Growth Data'!$A:$Z,7,0)),0,VLOOKUP($A230+8860000,'Growth Data'!$A:$Z,7,0))","v":0},0,null,"NO",{"$f":"IF(ISERROR(VLOOKUP($A230+8860000,'Growth Data'!$A:$F,4,0)),\"NO\",VLOOKUP($A230+8860000,'Growth Data'!$A:$F,4,0))","v":"NO"},0,null,0,{"$f":"IF(ISERROR(VLOOKUP($A230+8860000,'Growth Data'!$A:$Z,8,0)),0,VLOOKUP($A230+8860000,'Growth Data'!$A:$Z,8,0))","v":0},0,null,0,{"$f":"IF(ISERROR(VLOOKUP($A230+8860000,'Growth Data'!$A:$Z,9,0)),0,VLOOKUP($A230+8860000,'Growth Data'!$A:$Z,9,0))","v":0},0,null,"NO",{"$f":"IF(ISERROR(VLOOKUP($A230+8860000,'Growth Data'!$A:$Z,5,0)),\"NO\",VLOOKUP($A230+8860000,'Growth Data'!$A:$Z,5,0))","v":"NO"},0,null,0,{"$f":"IF(ISERROR(VLOOKUP($A230+8860000,'Growth Data'!$A:$Z,10,0)),0,VLOOKUP($A230+8860000,'Growth Data'!$A:$Z,10,0))","v":0},0,null,0,{"$f":"IF(ISERROR(VLOOKUP($A230+8860000,'Growth Data'!$A:$Z,11,0)),0,VLOOKUP($A230+8860000,'Growth Data'!$A:$Z,11,0))","v":0},0]
[3346,"Wittersham Church of England Primary School",null,"Wittersham Church of England Primary School",null,1,null,402112.1,402112.10000000003,0,null,18444.71,18444.712748091581,-2.7480915814521722E-3,null,0,0,0,null,41270.589999999997,41270.589719626165,2.8037383162882179E-4,null,120084,120084,0,null,11904.07,11904.069292389842,7.0761015740572475E-4,null,0,0,0,null,0,0,0,null,3507,3507,0,null,0,0,0,null,0,0,0,null,0,0,0,null,597322.47,597322.47176010767,-1.7601076979190111E-3,null,0,0,0,null,597322.47,597322.47176010767,-1.7601076979190111E-3,null,0,null,0,null,null,null,0,null,null,null,0,null,59045.56,59045.564774725921,0,null,3419,3419,0,null,null,null,0,null,null,null,0,null,null,null,0,null,null,null,0,null,null,null,0,null,null,null,0,null,"NO",{"$f":"IF(ISERROR(VLOOKUP($A231+8860000,'Growth Data'!$A:$F,3,0)),\"NO\",VLOOKUP($A231+8860000,'Growth Data'!$A:$F,3,0))","v":"NO"},0,null,0,{"$f":"IF(DI231=\"YES\",IF(ISERROR(VLOOKUP($A231+8860000,'Growth Data'!$A:$F,6,0)),0,VLOOKUP($A231+8860000,'Growth Data'!$A:$F,6,0)),0)","v":0},0,null,0,{"$f":"IF(ISERROR(VLOOKUP($A231+8860000,'Growth Data'!$A:$Z,7,0)),0,VLOOKUP($A231+8860000,'Growth Data'!$A:$Z,7,0))","v":0},0,null,"NO",{"$f":"IF(ISERROR(VLOOKUP($A231+8860000,'Growth Data'!$A:$F,4,0)),\"NO\",VLOOKUP($A231+8860000,'Growth Data'!$A:$F,4,0))","v":"NO"},0,null,0,{"$f":"IF(ISERROR(VLOOKUP($A231+8860000,'Growth Data'!$A:$Z,8,0)),0,VLOOKUP($A231+8860000,'Growth Data'!$A:$Z,8,0))","v":0},0,null,0,{"$f":"IF(ISERROR(VLOOKUP($A231+8860000,'Growth Data'!$A:$Z,9,0)),0,VLOOKUP($A231+8860000,'Growth Data'!$A:$Z,9,0))","v":0},0,null,"NO",{"$f":"IF(ISERROR(VLOOKUP($A231+8860000,'Growth Data'!$A:$Z,5,0)),\"NO\",VLOOKUP($A231+8860000,'Growth Data'!$A:$Z,5,0))","v":"NO"},0,null,0,{"$f":"IF(ISERROR(VLOOKUP($A231+8860000,'Growth Data'!$A:$Z,10,0)),0,VLOOKUP($A231+8860000,'Growth Data'!$A:$Z,10,0))","v":0},0,null,0,{"$f":"IF(ISERROR(VLOOKUP($A231+8860000,'Growth Data'!$A:$Z,11,0)),0,VLOOKUP($A231+8860000,'Growth Data'!$A:$Z,11,0))","v":0},0]
[3347,"Elham Church of England Primary School",null,"Elham Church of England Primary School",null,1,null,411391.61,411391.61,0,null,12730.63,12730.628106060609,1.893939390356536E-3,null,647.79999999999995,647.80415929203514,-4.1592920351831708E-3,null,27880.2,27880.200173913043,-1.739130420901347E-4,null,120084,120084,0,null,0,0,0,null,0,0,0,null,0,0,0,null,3459,3459,0,null,0,0,0,null,0,0,0,null,0,0,0,null,576193.24,576193.2424392656,-2.4392656050622463E-3,null,0,0,0,null,576193.24,576193.2424392656,-2.4392656050622463E-3,null,0,null,0,null,null,null,0,null,null,null,0,null,43350.81,43350.814746273842,0,null,3497.9,3497.8999999999996,0,null,null,null,0,null,null,null,0,null,null,null,0,null,null,null,0,null,null,null,0,null,null,null,0,null,"NO",{"$f":"IF(ISERROR(VLOOKUP($A232+8860000,'Growth Data'!$A:$F,3,0)),\"NO\",VLOOKUP($A232+8860000,'Growth Data'!$A:$F,3,0))","v":"NO"},0,null,0,{"$f":"IF(DI232=\"YES\",IF(ISERROR(VLOOKUP($A232+8860000,'Growth Data'!$A:$F,6,0)),0,VLOOKUP($A232+8860000,'Growth Data'!$A:$F,6,0)),0)","v":0},0,null,0,{"$f":"IF(ISERROR(VLOOKUP($A232+8860000,'Growth Data'!$A:$Z,7,0)),0,VLOOKUP($A232+8860000,'Growth Data'!$A:$Z,7,0))","v":0},0,null,"NO",{"$f":"IF(ISERROR(VLOOKUP($A232+8860000,'Growth Data'!$A:$F,4,0)),\"NO\",VLOOKUP($A232+8860000,'Growth Data'!$A:$F,4,0))","v":"NO"},0,null,0,{"$f":"IF(ISERROR(VLOOKUP($A232+8860000,'Growth Data'!$A:$Z,8,0)),0,VLOOKUP($A232+8860000,'Growth Data'!$A:$Z,8,0))","v":0},0,null,0,{"$f":"IF(ISERROR(VLOOKUP($A232+8860000,'Growth Data'!$A:$Z,9,0)),0,VLOOKUP($A232+8860000,'Growth Data'!$A:$Z,9,0))","v":0},0,null,"NO",{"$f":"IF(ISERROR(VLOOKUP($A232+8860000,'Growth Data'!$A:$Z,5,0)),\"NO\",VLOOKUP($A232+8860000,'Growth Data'!$A:$Z,5,0))","v":"NO"},0,null,0,{"$f":"IF(ISERROR(VLOOKUP($A232+8860000,'Growth Data'!$A:$Z,10,0)),0,VLOOKUP($A232+8860000,'Growth Data'!$A:$Z,10,0))","v":0},0,null,0,{"$f":"IF(ISERROR(VLOOKUP($A232+8860000,'Growth Data'!$A:$Z,11,0)),0,VLOOKUP($A232+8860000,'Growth Data'!$A:$Z,11,0))","v":0},0]
[3350,"Saltwood CofE Primary School",null,"Saltwood CofE Primary School",null,1,null,674311.06,674311.06,0,null,20127.03,20127.03000000001,0,null,0,0,0,null,42610.65,42610.645297297298,4.7027027030708268E-3,null,120084,120084,0,null,0,0,0,null,0,0,0,null,0,0,0,null,5222,5222,0,null,0,0,0,null,0,0,0,null,54107.26,54107.26470270264,-4.7027026375872083E-3,null,916462,916462,0,null,0,0,0,null,916462,916462,0,null,0,null,0,null,null,null,0,null,null,null,0,null,118016.48,118016.48230700809,0,null,5733.4,5733.4,0,null,null,null,0,null,null,null,0,null,null,null,0,null,null,null,0,null,null,null,0,null,null,null,0,null,"NO",{"$f":"IF(ISERROR(VLOOKUP($A233+8860000,'Growth Data'!$A:$F,3,0)),\"NO\",VLOOKUP($A233+8860000,'Growth Data'!$A:$F,3,0))","v":"NO"},0,null,0,{"$f":"IF(DI233=\"YES\",IF(ISERROR(VLOOKUP($A233+8860000,'Growth Data'!$A:$F,6,0)),0,VLOOKUP($A233+8860000,'Growth Data'!$A:$F,6,0)),0)","v":0},0,null,0,{"$f":"IF(ISERROR(VLOOKUP($A233+8860000,'Growth Data'!$A:$Z,7,0)),0,VLOOKUP($A233+8860000,'Growth Data'!$A:$Z,7,0))","v":0},0,null,"NO",{"$f":"IF(ISERROR(VLOOKUP($A233+8860000,'Growth Data'!$A:$F,4,0)),\"NO\",VLOOKUP($A233+8860000,'Growth Data'!$A:$F,4,0))","v":"NO"},0,null,0,{"$f":"IF(ISERROR(VLOOKUP($A233+8860000,'Growth Data'!$A:$Z,8,0)),0,VLOOKUP($A233+8860000,'Growth Data'!$A:$Z,8,0))","v":0},0,null,0,{"$f":"IF(ISERROR(VLOOKUP($A233+8860000,'Growth Data'!$A:$Z,9,0)),0,VLOOKUP($A233+8860000,'Growth Data'!$A:$Z,9,0))","v":0},0,null,"NO",{"$f":"IF(ISERROR(VLOOKUP($A233+8860000,'Growth Data'!$A:$Z,5,0)),\"NO\",VLOOKUP($A233+8860000,'Growth Data'!$A:$Z,5,0))","v":"NO"},0,null,0,{"$f":"IF(ISERROR(VLOOKUP($A233+8860000,'Growth Data'!$A:$Z,10,0)),0,VLOOKUP($A233+8860000,'Growth Data'!$A:$Z,10,0))","v":0},0,null,0,{"$f":"IF(ISERROR(VLOOKUP($A233+8860000,'Growth Data'!$A:$Z,11,0)),0,VLOOKUP($A233+8860000,'Growth Data'!$A:$Z,11,0))","v":0},0]
[3351,"Ash Cartwright and Kelsey Church of England Primary School",null,"Ash Cartwright and Kelsey Church of England Primary School",null,1,null,399018.93,399018.93,0,null,32396.959999999999,32396.955136986267,4.863013731664978E-3,null,657.41,657.41027777777788,-2.7777777791015978E-4,null,41228.35,41228.346250000002,3.749999996216502E-3,null,120084,120084,0,null,12505.28,12505.284913217627,-4.9132176263810834E-3,null,0,0,0,null,0,0,0,null,6912,6912,0,null,0,0,0,null,0,0,0,null,0,0,0,null,612802.93000000005,612802.92657798168,3.4220183733850718E-3,null,0,0,0,null,612802.93000000005,612802.92657798168,3.4220183733850718E-3,null,0,null,0,null,null,null,0,null,null,null,0,null,71311.37,71311.37397177222,0,null,3392.7,3392.7,0,null,null,null,0,null,null,null,0,null,null,null,0,null,null,null,0,null,null,null,0,null,null,null,0,null,"NO",{"$f":"IF(ISERROR(VLOOKUP($A234+8860000,'Growth Data'!$A:$F,3,0)),\"NO\",VLOOKUP($A234+8860000,'Growth Data'!$A:$F,3,0))","v":"NO"},0,null,0,{"$f":"IF(DI234=\"YES\",IF(ISERROR(VLOOKUP($A234+8860000,'Growth Data'!$A:$F,6,0)),0,VLOOKUP($A234+8860000,'Growth Data'!$A:$F,6,0)),0)","v":0},0,null,0,{"$f":"IF(ISERROR(VLOOKUP($A234+8860000,'Growth Data'!$A:$Z,7,0)),0,VLOOKUP($A234+8860000,'Growth Data'!$A:$Z,7,0))","v":0},0,null,"NO",{"$f":"IF(ISERROR(VLOOKUP($A234+8860000,'Growth Data'!$A:$F,4,0)),\"NO\",VLOOKUP($A234+8860000,'Growth Data'!$A:$F,4,0))","v":"NO"},0,null,0,{"$f":"IF(ISERROR(VLOOKUP($A234+8860000,'Growth Data'!$A:$Z,8,0)),0,VLOOKUP($A234+8860000,'Growth Data'!$A:$Z,8,0))","v":0},0,null,0,{"$f":"IF(ISERROR(VLOOKUP($A234+8860000,'Growth Data'!$A:$Z,9,0)),0,VLOOKUP($A234+8860000,'Growth Data'!$A:$Z,9,0))","v":0},0,null,"NO",{"$f":"IF(ISERROR(VLOOKUP($A234+8860000,'Growth Data'!$A:$Z,5,0)),\"NO\",VLOOKUP($A234+8860000,'Growth Data'!$A:$Z,5,0))","v":"NO"},0,null,0,{"$f":"IF(ISERROR(VLOOKUP($A234+8860000,'Growth Data'!$A:$Z,10,0)),0,VLOOKUP($A234+8860000,'Growth Data'!$A:$Z,10,0))","v":0},0,null,0,{"$f":"IF(ISERROR(VLOOKUP($A234+8860000,'Growth Data'!$A:$Z,11,0)),0,VLOOKUP($A234+8860000,'Growth Data'!$A:$Z,11,0))","v":0},0]
[3356,"Dover, St Mary's Church of England Primary School",null,"Dover, St Mary's Church of England Primary School",null,1,null,504186.71,504186.71,0,null,104274.46,104274.45999999996,0,null,21970.67,21970.670204081587,-2.0408158889040351E-4,null,55982.400000000001,55982.398656716417,1.3432835839921609E-3,null,120084,120084,0,null,0,0,0,null,0,0,0,null,0,0,0,null,4289,4289,0,null,0,0,0,null,0,0,0,null,0,0,0,null,810787.24,810787.23886079795,1.139202038757503E-3,null,0,0,0,null,810787.24,810787.23886079795,1.139202038757503E-3,null,0,null,0,null,null,null,0,null,null,null,0,null,161303.71,161303.71116780612,0,null,4286.8999999999996,4286.8999999999996,0,null,null,null,0,null,null,null,0,null,null,null,0,null,null,null,0,null,null,null,0,null,null,null,0,null,"NO",{"$f":"IF(ISERROR(VLOOKUP($A235+8860000,'Growth Data'!$A:$F,3,0)),\"NO\",VLOOKUP($A235+8860000,'Growth Data'!$A:$F,3,0))","v":"NO"},0,null,0,{"$f":"IF(DI235=\"YES\",IF(ISERROR(VLOOKUP($A235+8860000,'Growth Data'!$A:$F,6,0)),0,VLOOKUP($A235+8860000,'Growth Data'!$A:$F,6,0)),0)","v":0},0,null,0,{"$f":"IF(ISERROR(VLOOKUP($A235+8860000,'Growth Data'!$A:$Z,7,0)),0,VLOOKUP($A235+8860000,'Growth Data'!$A:$Z,7,0))","v":0},0,null,"NO",{"$f":"IF(ISERROR(VLOOKUP($A235+8860000,'Growth Data'!$A:$F,4,0)),\"NO\",VLOOKUP($A235+8860000,'Growth Data'!$A:$F,4,0))","v":"NO"},0,null,0,{"$f":"IF(ISERROR(VLOOKUP($A235+8860000,'Growth Data'!$A:$Z,8,0)),0,VLOOKUP($A235+8860000,'Growth Data'!$A:$Z,8,0))","v":0},0,null,0,{"$f":"IF(ISERROR(VLOOKUP($A235+8860000,'Growth Data'!$A:$Z,9,0)),0,VLOOKUP($A235+8860000,'Growth Data'!$A:$Z,9,0))","v":0},0,null,"NO",{"$f":"IF(ISERROR(VLOOKUP($A235+8860000,'Growth Data'!$A:$Z,5,0)),\"NO\",VLOOKUP($A235+8860000,'Growth Data'!$A:$Z,5,0))","v":"NO"},0,null,0,{"$f":"IF(ISERROR(VLOOKUP($A235+8860000,'Growth Data'!$A:$Z,10,0)),0,VLOOKUP($A235+8860000,'Growth Data'!$A:$Z,10,0))","v":0},0,null,0,{"$f":"IF(ISERROR(VLOOKUP($A235+8860000,'Growth Data'!$A:$Z,11,0)),0,VLOOKUP($A235+8860000,'Growth Data'!$A:$Z,11,0))","v":0},0]
[3360,"St Peter-in-Thanet CofE Junior School",null,"St Peter-in-Thanet CofE Junior School",null,1,null,1132100.22,1132100.22,0,null,125507.79,125507.79277310922,-2.7731092268368229E-3,null,1100.78,1100.78,0,null,67215.39,67215.388826815644,1.173184355138801E-3,null,120084,120084,0,null,0,0,0,null,0,0,0,null,0,0,0,null,9984,9984,0,null,0,0,0,null,0,0,0,null,83871.820000000007,83871.818400075135,1.5999248716980219E-3,null,1539864,1539864,0,null,0,0,0,null,1539864,1539864,0,null,0,null,0,null,null,null,0,null,null,null,0,null,248486.2,248486.20230700815,0,null,9625.7999999999993,9625.7999999999993,0,null,null,null,0,null,null,null,0,null,null,null,0,null,null,null,0,null,null,null,0,null,null,null,0,null,"NO",{"$f":"IF(ISERROR(VLOOKUP($A236+8860000,'Growth Data'!$A:$F,3,0)),\"NO\",VLOOKUP($A236+8860000,'Growth Data'!$A:$F,3,0))","v":"NO"},0,null,0,{"$f":"IF(DI236=\"YES\",IF(ISERROR(VLOOKUP($A236+8860000,'Growth Data'!$A:$F,6,0)),0,VLOOKUP($A236+8860000,'Growth Data'!$A:$F,6,0)),0)","v":0},0,null,0,{"$f":"IF(ISERROR(VLOOKUP($A236+8860000,'Growth Data'!$A:$Z,7,0)),0,VLOOKUP($A236+8860000,'Growth Data'!$A:$Z,7,0))","v":0},0,null,"NO",{"$f":"IF(ISERROR(VLOOKUP($A236+8860000,'Growth Data'!$A:$F,4,0)),\"NO\",VLOOKUP($A236+8860000,'Growth Data'!$A:$F,4,0))","v":"NO"},0,null,0,{"$f":"IF(ISERROR(VLOOKUP($A236+8860000,'Growth Data'!$A:$Z,8,0)),0,VLOOKUP($A236+8860000,'Growth Data'!$A:$Z,8,0))","v":0},0,null,0,{"$f":"IF(ISERROR(VLOOKUP($A236+8860000,'Growth Data'!$A:$Z,9,0)),0,VLOOKUP($A236+8860000,'Growth Data'!$A:$Z,9,0))","v":0},0,null,"NO",{"$f":"IF(ISERROR(VLOOKUP($A236+8860000,'Growth Data'!$A:$Z,5,0)),\"NO\",VLOOKUP($A236+8860000,'Growth Data'!$A:$Z,5,0))","v":"NO"},0,null,0,{"$f":"IF(ISERROR(VLOOKUP($A236+8860000,'Growth Data'!$A:$Z,10,0)),0,VLOOKUP($A236+8860000,'Growth Data'!$A:$Z,10,0))","v":0},0,null,0,{"$f":"IF(ISERROR(VLOOKUP($A236+8860000,'Growth Data'!$A:$Z,11,0)),0,VLOOKUP($A236+8860000,'Growth Data'!$A:$Z,11,0))","v":0},0]
[3364,"Ramsgate, Holy Trinity Church of England Primary School",null,"Ramsgate, Holy Trinity Church of England Primary School",null,1,null,649565.69999999995,649565.70000000007,0,null,48220.5,48220.499999999956,0,null,642.12,642.12166666666712,-1.6666666671198982E-3,null,41368.400000000001,41368.395505617977,4.4943820248590782E-3,null,120084,120084,0,null,0,0,0,null,0,0,0,null,0,0,0,null,5939,5939,0,null,0,0,0,null,0,0,0,null,17919.28,17919.282827715331,-2.8277153323870152E-3,null,883739,883739,0,null,0,0,0,null,883739,883739,0,null,0,null,0,null,null,null,0,null,null,null,0,null,103337.68,103337.68230700812,0,null,5523,5523,0,null,null,null,0,null,null,null,0,null,null,null,0,null,null,null,0,null,null,null,0,null,null,null,0,null,"NO",{"$f":"IF(ISERROR(VLOOKUP($A237+8860000,'Growth Data'!$A:$F,3,0)),\"NO\",VLOOKUP($A237+8860000,'Growth Data'!$A:$F,3,0))","v":"NO"},0,null,0,{"$f":"IF(DI237=\"YES\",IF(ISERROR(VLOOKUP($A237+8860000,'Growth Data'!$A:$F,6,0)),0,VLOOKUP($A237+8860000,'Growth Data'!$A:$F,6,0)),0)","v":0},0,null,0,{"$f":"IF(ISERROR(VLOOKUP($A237+8860000,'Growth Data'!$A:$Z,7,0)),0,VLOOKUP($A237+8860000,'Growth Data'!$A:$Z,7,0))","v":0},0,null,"NO",{"$f":"IF(ISERROR(VLOOKUP($A237+8860000,'Growth Data'!$A:$F,4,0)),\"NO\",VLOOKUP($A237+8860000,'Growth Data'!$A:$F,4,0))","v":"NO"},0,null,0,{"$f":"IF(ISERROR(VLOOKUP($A237+8860000,'Growth Data'!$A:$Z,8,0)),0,VLOOKUP($A237+8860000,'Growth Data'!$A:$Z,8,0))","v":0},0,null,0,{"$f":"IF(ISERROR(VLOOKUP($A237+8860000,'Growth Data'!$A:$Z,9,0)),0,VLOOKUP($A237+8860000,'Growth Data'!$A:$Z,9,0))","v":0},0,null,"NO",{"$f":"IF(ISERROR(VLOOKUP($A237+8860000,'Growth Data'!$A:$Z,5,0)),\"NO\",VLOOKUP($A237+8860000,'Growth Data'!$A:$Z,5,0))","v":"NO"},0,null,0,{"$f":"IF(ISERROR(VLOOKUP($A237+8860000,'Growth Data'!$A:$Z,10,0)),0,VLOOKUP($A237+8860000,'Growth Data'!$A:$Z,10,0))","v":0},0,null,0,{"$f":"IF(ISERROR(VLOOKUP($A237+8860000,'Growth Data'!$A:$Z,11,0)),0,VLOOKUP($A237+8860000,'Growth Data'!$A:$Z,11,0))","v":0},0]
[3373,"St Mary's Church of England Voluntary Aided Primary School",null,"St Mary's Church of England Voluntary Aided Primary School",null,1,null,562956.93999999994,562956.94000000006,0,null,126278.82,126278.81533333329,4.6666667185490951E-3,null,5272.16,5272.1568421052607,3.1578947391608381E-3,null,53639.83,53639.830758620687,-7.5862068479182199E-4,null,120084,120084,0,null,0,0,0,null,31950.93,31950.928139973381,1.8600266193971038E-3,null,0,0,0,null,5274,5274,0,null,0,0,0,null,0,0,0,null,0,0,0,null,905456.67,905456.67107403267,-1.0740326251834631E-3,null,0,0,0,null,905456.67,905456.67107403267,-1.0740326251834631E-3,null,0,null,0,null,null,null,0,null,null,null,0,null,166493.93,166493.93208993869,0,null,4962.75,4962.7468799999997,0,null,null,null,0,null,null,null,0,null,null,null,0,null,null,null,0,null,null,null,0,null,null,null,0,null,"NO",{"$f":"IF(ISERROR(VLOOKUP($A238+8860000,'Growth Data'!$A:$F,3,0)),\"NO\",VLOOKUP($A238+8860000,'Growth Data'!$A:$F,3,0))","v":"NO"},0,null,0,{"$f":"IF(DI238=\"YES\",IF(ISERROR(VLOOKUP($A238+8860000,'Growth Data'!$A:$F,6,0)),0,VLOOKUP($A238+8860000,'Growth Data'!$A:$F,6,0)),0)","v":0},0,null,0,{"$f":"IF(ISERROR(VLOOKUP($A238+8860000,'Growth Data'!$A:$Z,7,0)),0,VLOOKUP($A238+8860000,'Growth Data'!$A:$Z,7,0))","v":0},0,null,"NO",{"$f":"IF(ISERROR(VLOOKUP($A238+8860000,'Growth Data'!$A:$F,4,0)),\"NO\",VLOOKUP($A238+8860000,'Growth Data'!$A:$F,4,0))","v":"NO"},0,null,0,{"$f":"IF(ISERROR(VLOOKUP($A238+8860000,'Growth Data'!$A:$Z,8,0)),0,VLOOKUP($A238+8860000,'Growth Data'!$A:$Z,8,0))","v":0},0,null,0,{"$f":"IF(ISERROR(VLOOKUP($A238+8860000,'Growth Data'!$A:$Z,9,0)),0,VLOOKUP($A238+8860000,'Growth Data'!$A:$Z,9,0))","v":0},0,null,"NO",{"$f":"IF(ISERROR(VLOOKUP($A238+8860000,'Growth Data'!$A:$Z,5,0)),\"NO\",VLOOKUP($A238+8860000,'Growth Data'!$A:$Z,5,0))","v":"NO"},0,null,0,{"$f":"IF(ISERROR(VLOOKUP($A238+8860000,'Growth Data'!$A:$Z,10,0)),0,VLOOKUP($A238+8860000,'Growth Data'!$A:$Z,10,0))","v":0},0,null,0,{"$f":"IF(ISERROR(VLOOKUP($A238+8860000,'Growth Data'!$A:$Z,11,0)),0,VLOOKUP($A238+8860000,'Growth Data'!$A:$Z,11,0))","v":0},0]
[3718,"St Augustine's Catholic Primary School",null,"St Augustine's Catholic Primary School",null,1,null,609354.49,609354.49,0,null,33147.81,33147.811490384622,-1.4903846240486018E-3,null,8054.56,8054.5645142857156,-4.5142857152313809E-3,null,53316.47,53316.471626506027,-1.6265060257865116E-3,null,120084,120084,0,null,0,0,0,null,0,0,0,null,0,0,0,null,7014,7014,0,null,0,0,0,null,0,0,0,null,0,0,0,null,830971.34,830971.33763117646,2.3688235087320209E-3,null,0,0,0,null,830971.34,830971.33763117646,2.3688235087320209E-3,null,0,null,0,null,null,null,0,null,null,null,0,null,92928.47,92928.469938184513,0,null,5181.1000000000004,5181.1000000000004,0,null,null,null,0,null,null,null,0,null,null,null,0,null,null,null,0,null,null,null,0,null,null,null,0,null,"NO",{"$f":"IF(ISERROR(VLOOKUP($A239+8860000,'Growth Data'!$A:$F,3,0)),\"NO\",VLOOKUP($A239+8860000,'Growth Data'!$A:$F,3,0))","v":"NO"},0,null,0,{"$f":"IF(DI239=\"YES\",IF(ISERROR(VLOOKUP($A239+8860000,'Growth Data'!$A:$F,6,0)),0,VLOOKUP($A239+8860000,'Growth Data'!$A:$F,6,0)),0)","v":0},0,null,0,{"$f":"IF(ISERROR(VLOOKUP($A239+8860000,'Growth Data'!$A:$Z,7,0)),0,VLOOKUP($A239+8860000,'Growth Data'!$A:$Z,7,0))","v":0},0,null,"NO",{"$f":"IF(ISERROR(VLOOKUP($A239+8860000,'Growth Data'!$A:$F,4,0)),\"NO\",VLOOKUP($A239+8860000,'Growth Data'!$A:$F,4,0))","v":"NO"},0,null,0,{"$f":"IF(ISERROR(VLOOKUP($A239+8860000,'Growth Data'!$A:$Z,8,0)),0,VLOOKUP($A239+8860000,'Growth Data'!$A:$Z,8,0))","v":0},0,null,0,{"$f":"IF(ISERROR(VLOOKUP($A239+8860000,'Growth Data'!$A:$Z,9,0)),0,VLOOKUP($A239+8860000,'Growth Data'!$A:$Z,9,0))","v":0},0,null,"NO",{"$f":"IF(ISERROR(VLOOKUP($A239+8860000,'Growth Data'!$A:$Z,5,0)),\"NO\",VLOOKUP($A239+8860000,'Growth Data'!$A:$Z,5,0))","v":"NO"},0,null,0,{"$f":"IF(ISERROR(VLOOKUP($A239+8860000,'Growth Data'!$A:$Z,10,0)),0,VLOOKUP($A239+8860000,'Growth Data'!$A:$Z,10,0))","v":0},0,null,0,{"$f":"IF(ISERROR(VLOOKUP($A239+8860000,'Growth Data'!$A:$Z,11,0)),0,VLOOKUP($A239+8860000,'Growth Data'!$A:$Z,11,0))","v":0},0]
[3722,"St Ethelbert's Catholic Primary School",null,"St Ethelbert's Catholic Primary School",null,1,null,590795.47,590795.47,0,null,90130.07,90130.073465346519,-3.4653465118026361E-3,null,12179.06,12179.056768292645,3.2317073546437314E-3,null,70223,70222.997171052615,2.8289473848417401E-3,null,120084,120084,0,null,0,0,0,null,0,0,0,null,0,0,0,null,5197,5197,0,null,0,0,0,null,0,0,0,null,0,0,0,null,888608.6,888608.59740469174,2.5953082367777824E-3,null,0,0,0,null,888608.6,888608.59740469174,2.5953082367777824E-3,null,0,null,0,null,null,null,0,null,null,null,0,null,157132.15,157132.14971169998,0,null,5023.3,5023.2999999999993,0,null,null,null,0,null,null,null,0,null,null,null,0,null,null,null,0,null,null,null,0,null,null,null,0,null,"NO",{"$f":"IF(ISERROR(VLOOKUP($A240+8860000,'Growth Data'!$A:$F,3,0)),\"NO\",VLOOKUP($A240+8860000,'Growth Data'!$A:$F,3,0))","v":"NO"},0,null,0,{"$f":"IF(DI240=\"YES\",IF(ISERROR(VLOOKUP($A240+8860000,'Growth Data'!$A:$F,6,0)),0,VLOOKUP($A240+8860000,'Growth Data'!$A:$F,6,0)),0)","v":0},0,null,0,{"$f":"IF(ISERROR(VLOOKUP($A240+8860000,'Growth Data'!$A:$Z,7,0)),0,VLOOKUP($A240+8860000,'Growth Data'!$A:$Z,7,0))","v":0},0,null,"NO",{"$f":"IF(ISERROR(VLOOKUP($A240+8860000,'Growth Data'!$A:$F,4,0)),\"NO\",VLOOKUP($A240+8860000,'Growth Data'!$A:$F,4,0))","v":"NO"},0,null,0,{"$f":"IF(ISERROR(VLOOKUP($A240+8860000,'Growth Data'!$A:$Z,8,0)),0,VLOOKUP($A240+8860000,'Growth Data'!$A:$Z,8,0))","v":0},0,null,0,{"$f":"IF(ISERROR(VLOOKUP($A240+8860000,'Growth Data'!$A:$Z,9,0)),0,VLOOKUP($A240+8860000,'Growth Data'!$A:$Z,9,0))","v":0},0,null,"NO",{"$f":"IF(ISERROR(VLOOKUP($A240+8860000,'Growth Data'!$A:$Z,5,0)),\"NO\",VLOOKUP($A240+8860000,'Growth Data'!$A:$Z,5,0))","v":"NO"},0,null,0,{"$f":"IF(ISERROR(VLOOKUP($A240+8860000,'Growth Data'!$A:$Z,10,0)),0,VLOOKUP($A240+8860000,'Growth Data'!$A:$Z,10,0))","v":0},0,null,0,{"$f":"IF(ISERROR(VLOOKUP($A240+8860000,'Growth Data'!$A:$Z,11,0)),0,VLOOKUP($A240+8860000,'Growth Data'!$A:$Z,11,0))","v":0},0]
[3728,"St Anselm's Catholic Primary School",null,"St Anselm's Catholic Primary School",null,1,null,646472.53,646472.53,0,null,48430.01,48430.007857142809,2.1428571926662698E-3,null,25345.93,25345.925932203336,4.067796664458001E-3,null,39259.870000000003,39259.873714285714,-3.7142857108847238E-3,null,120084,120084,0,null,0,0,0,null,32369,32368.998020133651,1.9798663488472812E-3,null,0,0,0,null,4454,4454,0,null,0,0,0,null,0,0,0,null,0,0,0,null,916415.34,916415.33552376553,4.4762344332411885E-3,null,0,0,0,null,916415.34,916415.33552376553,4.4762344332411885E-3,null,0,null,0,null,null,null,0,null,null,null,0,null,117455.66,117455.66073167155,0,null,5698.98,5698.9785599999996,0,null,null,null,0,null,null,null,0,null,null,null,0,null,null,null,0,null,null,null,0,null,null,null,0,null,"NO",{"$f":"IF(ISERROR(VLOOKUP($A241+8860000,'Growth Data'!$A:$F,3,0)),\"NO\",VLOOKUP($A241+8860000,'Growth Data'!$A:$F,3,0))","v":"NO"},0,null,0,{"$f":"IF(DI241=\"YES\",IF(ISERROR(VLOOKUP($A241+8860000,'Growth Data'!$A:$F,6,0)),0,VLOOKUP($A241+8860000,'Growth Data'!$A:$F,6,0)),0)","v":0},0,null,0,{"$f":"IF(ISERROR(VLOOKUP($A241+8860000,'Growth Data'!$A:$Z,7,0)),0,VLOOKUP($A241+8860000,'Growth Data'!$A:$Z,7,0))","v":0},0,null,"NO",{"$f":"IF(ISERROR(VLOOKUP($A241+8860000,'Growth Data'!$A:$F,4,0)),\"NO\",VLOOKUP($A241+8860000,'Growth Data'!$A:$F,4,0))","v":"NO"},0,null,0,{"$f":"IF(ISERROR(VLOOKUP($A241+8860000,'Growth Data'!$A:$Z,8,0)),0,VLOOKUP($A241+8860000,'Growth Data'!$A:$Z,8,0))","v":0},0,null,0,{"$f":"IF(ISERROR(VLOOKUP($A241+8860000,'Growth Data'!$A:$Z,9,0)),0,VLOOKUP($A241+8860000,'Growth Data'!$A:$Z,9,0))","v":0},0,null,"NO",{"$f":"IF(ISERROR(VLOOKUP($A241+8860000,'Growth Data'!$A:$Z,5,0)),\"NO\",VLOOKUP($A241+8860000,'Growth Data'!$A:$Z,5,0))","v":"NO"},0,null,0,{"$f":"IF(ISERROR(VLOOKUP($A241+8860000,'Growth Data'!$A:$Z,10,0)),0,VLOOKUP($A241+8860000,'Growth Data'!$A:$Z,10,0))","v":0},0,null,0,{"$f":"IF(ISERROR(VLOOKUP($A241+8860000,'Growth Data'!$A:$Z,11,0)),0,VLOOKUP($A241+8860000,'Growth Data'!$A:$Z,11,0))","v":0},0]
[3733,"Our Lady's Catholic Primary School, Dartford",null,"Our Lady's Catholic Primary School, Dartford",null,1,null,677404.23,677404.23,0,null,19134.53,19134.52862385321,1.3761467889708001E-3,null,16028.64,16028.644946808474,-4.9468084744148655E-3,null,46198.13,46198.131978609621,-1.9786096236202866E-3,null,120084,120084,0,null,0,0,0,null,32341.66,32341.662908213184,-2.9082131841278169E-3,null,0,0,0,null,4096,4096,0,null,0,0,0,null,0,0,0,null,4228.8,4228.8015425155463,-1.542515546134382E-3,null,919516,919516,0,null,0,0,0,null,919516,919516,0,null,0,null,0,null,null,null,0,null,null,null,0,null,91230.64,91230.637527906074,0,null,5971.66,5971.6569599999993,0,null,null,null,0,null,null,null,0,null,null,null,0,null,null,null,0,null,null,null,0,null,null,null,0,null,"NO",{"$f":"IF(ISERROR(VLOOKUP($A242+8860000,'Growth Data'!$A:$F,3,0)),\"NO\",VLOOKUP($A242+8860000,'Growth Data'!$A:$F,3,0))","v":"NO"},0,null,0,{"$f":"IF(DI242=\"YES\",IF(ISERROR(VLOOKUP($A242+8860000,'Growth Data'!$A:$F,6,0)),0,VLOOKUP($A242+8860000,'Growth Data'!$A:$F,6,0)),0)","v":0},0,null,0,{"$f":"IF(ISERROR(VLOOKUP($A242+8860000,'Growth Data'!$A:$Z,7,0)),0,VLOOKUP($A242+8860000,'Growth Data'!$A:$Z,7,0))","v":0},0,null,"NO",{"$f":"IF(ISERROR(VLOOKUP($A242+8860000,'Growth Data'!$A:$F,4,0)),\"NO\",VLOOKUP($A242+8860000,'Growth Data'!$A:$F,4,0))","v":"NO"},0,null,0,{"$f":"IF(ISERROR(VLOOKUP($A242+8860000,'Growth Data'!$A:$Z,8,0)),0,VLOOKUP($A242+8860000,'Growth Data'!$A:$Z,8,0))","v":0},0,null,0,{"$f":"IF(ISERROR(VLOOKUP($A242+8860000,'Growth Data'!$A:$Z,9,0)),0,VLOOKUP($A242+8860000,'Growth Data'!$A:$Z,9,0))","v":0},0,null,"NO",{"$f":"IF(ISERROR(VLOOKUP($A242+8860000,'Growth Data'!$A:$Z,5,0)),\"NO\",VLOOKUP($A242+8860000,'Growth Data'!$A:$Z,5,0))","v":"NO"},0,null,0,{"$f":"IF(ISERROR(VLOOKUP($A242+8860000,'Growth Data'!$A:$Z,10,0)),0,VLOOKUP($A242+8860000,'Growth Data'!$A:$Z,10,0))","v":0},0,null,0,{"$f":"IF(ISERROR(VLOOKUP($A242+8860000,'Growth Data'!$A:$Z,11,0)),0,VLOOKUP($A242+8860000,'Growth Data'!$A:$Z,11,0))","v":0},0]
[3749,"St Thomas' Catholic Primary School, Canterbury",null,"St Thomas' Catholic Primary School, Canterbury",null,1,null,646472.53,646472.53,0,null,74755.83,74755.82533653843,4.6634615719085559E-3,null,32774.339999999997,32774.340837988777,-8.379887804039754E-4,null,59916.959999999999,59916.95843023256,1.5697674389230087E-3,null,120084,120084,0,null,0,0,0,null,0,0,0,null,0,0,0,null,5274,5274,0,null,0,0,0,null,0,0,0,null,0,0,0,null,939277.65,939277.65460475988,-4.6047598589211702E-3,null,0,0,0,null,939277.65,939277.65460475988,-4.6047598589211702E-3,null,0,null,0,null,null,null,0,null,null,null,0,null,157110.67000000001,157110.66691176791,0,null,5496.7,5496.7,0,null,null,null,0,null,null,null,0,null,null,null,0,null,null,null,0,null,null,null,0,null,null,null,0,null,"NO",{"$f":"IF(ISERROR(VLOOKUP($A243+8860000,'Growth Data'!$A:$F,3,0)),\"NO\",VLOOKUP($A243+8860000,'Growth Data'!$A:$F,3,0))","v":"NO"},0,null,0,{"$f":"IF(DI243=\"YES\",IF(ISERROR(VLOOKUP($A243+8860000,'Growth Data'!$A:$F,6,0)),0,VLOOKUP($A243+8860000,'Growth Data'!$A:$F,6,0)),0)","v":0},0,null,0,{"$f":"IF(ISERROR(VLOOKUP($A243+8860000,'Growth Data'!$A:$Z,7,0)),0,VLOOKUP($A243+8860000,'Growth Data'!$A:$Z,7,0))","v":0},0,null,"NO",{"$f":"IF(ISERROR(VLOOKUP($A243+8860000,'Growth Data'!$A:$F,4,0)),\"NO\",VLOOKUP($A243+8860000,'Growth Data'!$A:$F,4,0))","v":"NO"},0,null,0,{"$f":"IF(ISERROR(VLOOKUP($A243+8860000,'Growth Data'!$A:$Z,8,0)),0,VLOOKUP($A243+8860000,'Growth Data'!$A:$Z,8,0))","v":0},0,null,0,{"$f":"IF(ISERROR(VLOOKUP($A243+8860000,'Growth Data'!$A:$Z,9,0)),0,VLOOKUP($A243+8860000,'Growth Data'!$A:$Z,9,0))","v":0},0,null,"NO",{"$f":"IF(ISERROR(VLOOKUP($A243+8860000,'Growth Data'!$A:$Z,5,0)),\"NO\",VLOOKUP($A243+8860000,'Growth Data'!$A:$Z,5,0))","v":"NO"},0,null,0,{"$f":"IF(ISERROR(VLOOKUP($A243+8860000,'Growth Data'!$A:$Z,10,0)),0,VLOOKUP($A243+8860000,'Growth Data'!$A:$Z,10,0))","v":0},0,null,0,{"$f":"IF(ISERROR(VLOOKUP($A243+8860000,'Growth Data'!$A:$Z,11,0)),0,VLOOKUP($A243+8860000,'Growth Data'!$A:$Z,11,0))","v":0},0]
[3893,"Phoenix Community Primary School",null,"Phoenix Community Primary School",null,1,null,643379.36,643379.36,0,null,123870.28,123870.28000000007,0,null,7805.53,7805.5309090909113,-9.0909091159119271E-4,null,62874.53,62874.526896551724,3.1034482744871639E-3,null,120084,120084,0,null,0,0,0,null,0,0,0,null,0,0,0,null,53248,53248,0,null,0,0,0,null,0,0,0,null,0,0,0,null,1011261.7,1011261.6978056426,2.1943573374301195E-3,null,0,0,0,null,1011261.7,1011261.6978056426,2.1943573374301195E-3,null,0,null,0,null,null,null,0,null,null,null,0,null,162578.84,162578.84011265083,0,null,5470.4,5470.4,0,null,null,null,0,null,null,null,0,null,null,null,0,null,null,null,0,null,null,null,0,null,null,null,0,null,"NO",{"$f":"IF(ISERROR(VLOOKUP($A244+8860000,'Growth Data'!$A:$F,3,0)),\"NO\",VLOOKUP($A244+8860000,'Growth Data'!$A:$F,3,0))","v":"NO"},0,null,0,{"$f":"IF(DI244=\"YES\",IF(ISERROR(VLOOKUP($A244+8860000,'Growth Data'!$A:$F,6,0)),0,VLOOKUP($A244+8860000,'Growth Data'!$A:$F,6,0)),0)","v":0},0,null,0,{"$f":"IF(ISERROR(VLOOKUP($A244+8860000,'Growth Data'!$A:$Z,7,0)),0,VLOOKUP($A244+8860000,'Growth Data'!$A:$Z,7,0))","v":0},0,null,"NO",{"$f":"IF(ISERROR(VLOOKUP($A244+8860000,'Growth Data'!$A:$F,4,0)),\"NO\",VLOOKUP($A244+8860000,'Growth Data'!$A:$F,4,0))","v":"NO"},0,null,0,{"$f":"IF(ISERROR(VLOOKUP($A244+8860000,'Growth Data'!$A:$Z,8,0)),0,VLOOKUP($A244+8860000,'Growth Data'!$A:$Z,8,0))","v":0},0,null,0,{"$f":"IF(ISERROR(VLOOKUP($A244+8860000,'Growth Data'!$A:$Z,9,0)),0,VLOOKUP($A244+8860000,'Growth Data'!$A:$Z,9,0))","v":0},0,null,"NO",{"$f":"IF(ISERROR(VLOOKUP($A244+8860000,'Growth Data'!$A:$Z,5,0)),\"NO\",VLOOKUP($A244+8860000,'Growth Data'!$A:$Z,5,0))","v":"NO"},0,null,0,{"$f":"IF(ISERROR(VLOOKUP($A244+8860000,'Growth Data'!$A:$Z,10,0)),0,VLOOKUP($A244+8860000,'Growth Data'!$A:$Z,10,0))","v":0},0,null,0,{"$f":"IF(ISERROR(VLOOKUP($A244+8860000,'Growth Data'!$A:$Z,11,0)),0,VLOOKUP($A244+8860000,'Growth Data'!$A:$Z,11,0))","v":0},0]
[3896,"Downsview Community Primary School",null,"Downsview Community Primary School",null,1,null,578422.79,578422.79,0,null,90158.12,90158.118960928419,1.0390715760877356E-3,null,3742.65,3742.6520000000032,-2.0000000031359377E-3,null,68303,68302.996666666659,3.3333333412883803E-3,null,120084,120084,0,null,0,0,0,null,31674.15,31674.1485206955,1.4793045011174399E-3,null,0,0,0,null,20334,20334,0,null,0,0,0,null,0,0,0,null,0,0,0,null,912718.71,912718.70614829066,3.8517093053087592E-3,null,0,0,0,null,912718.71,912718.70614829066,3.8517093053087592E-3,null,0,null,0,null,null,null,0,null,null,null,0,null,148388.09,148388.09119619659,0,null,5099.09,5099.08608,0,null,null,null,0,null,null,null,0,null,null,null,0,null,null,null,0,null,null,null,0,null,null,null,0,null,"NO",{"$f":"IF(ISERROR(VLOOKUP($A245+8860000,'Growth Data'!$A:$F,3,0)),\"NO\",VLOOKUP($A245+8860000,'Growth Data'!$A:$F,3,0))","v":"NO"},0,null,0,{"$f":"IF(DI245=\"YES\",IF(ISERROR(VLOOKUP($A245+8860000,'Growth Data'!$A:$F,6,0)),0,VLOOKUP($A245+8860000,'Growth Data'!$A:$F,6,0)),0)","v":0},0,null,0,{"$f":"IF(ISERROR(VLOOKUP($A245+8860000,'Growth Data'!$A:$Z,7,0)),0,VLOOKUP($A245+8860000,'Growth Data'!$A:$Z,7,0))","v":0},0,null,"NO",{"$f":"IF(ISERROR(VLOOKUP($A245+8860000,'Growth Data'!$A:$F,4,0)),\"NO\",VLOOKUP($A245+8860000,'Growth Data'!$A:$F,4,0))","v":"NO"},0,null,0,{"$f":"IF(ISERROR(VLOOKUP($A245+8860000,'Growth Data'!$A:$Z,8,0)),0,VLOOKUP($A245+8860000,'Growth Data'!$A:$Z,8,0))","v":0},0,null,0,{"$f":"IF(ISERROR(VLOOKUP($A245+8860000,'Growth Data'!$A:$Z,9,0)),0,VLOOKUP($A245+8860000,'Growth Data'!$A:$Z,9,0))","v":0},0,null,"NO",{"$f":"IF(ISERROR(VLOOKUP($A245+8860000,'Growth Data'!$A:$Z,5,0)),\"NO\",VLOOKUP($A245+8860000,'Growth Data'!$A:$Z,5,0))","v":"NO"},0,null,0,{"$f":"IF(ISERROR(VLOOKUP($A245+8860000,'Growth Data'!$A:$Z,10,0)),0,VLOOKUP($A245+8860000,'Growth Data'!$A:$Z,10,0))","v":0},0,null,0,{"$f":"IF(ISERROR(VLOOKUP($A245+8860000,'Growth Data'!$A:$Z,11,0)),0,VLOOKUP($A245+8860000,'Growth Data'!$A:$Z,11,0))","v":0},0]
[3898,"Greenfields Community Primary School",null,"Greenfields Community Primary School",null,1,null,1017652.93,1017652.93,0,null,196226.4,196226.40000000008,0,null,12842.43,12842.433333333327,-3.3333333267364651E-3,null,78088.45,78088.446931407947,3.0685920501127839E-3,null,120084,120084,0,null,0,0,0,null,0,0,0,null,0,0,0,null,39168,39168,0,null,0,0,0,null,0,0,0,null,0,0,0,null,1464062.21,1464062.2102647414,-2.6474148035049438E-4,null,64068.85,64068.847795501933,2.204498065111693E-3,null,1528131.06,1528131.0580602433,1.9397567957639694E-3,null,0,null,0,null,null,null,0,null,null,null,0,null,293016.39,293016.39036725141,0,null,8652.7000000000007,8652.7000000000007,0,null,null,null,0,null,null,null,0,null,null,null,0,null,null,null,0,null,null,null,0,null,null,null,0,null,"NO",{"$f":"IF(ISERROR(VLOOKUP($A246+8860000,'Growth Data'!$A:$F,3,0)),\"NO\",VLOOKUP($A246+8860000,'Growth Data'!$A:$F,3,0))","v":"NO"},0,null,0,{"$f":"IF(DI246=\"YES\",IF(ISERROR(VLOOKUP($A246+8860000,'Growth Data'!$A:$F,6,0)),0,VLOOKUP($A246+8860000,'Growth Data'!$A:$F,6,0)),0)","v":0},0,null,0,{"$f":"IF(ISERROR(VLOOKUP($A246+8860000,'Growth Data'!$A:$Z,7,0)),0,VLOOKUP($A246+8860000,'Growth Data'!$A:$Z,7,0))","v":0},0,null,"NO",{"$f":"IF(ISERROR(VLOOKUP($A246+8860000,'Growth Data'!$A:$F,4,0)),\"NO\",VLOOKUP($A246+8860000,'Growth Data'!$A:$F,4,0))","v":"NO"},0,null,0,{"$f":"IF(ISERROR(VLOOKUP($A246+8860000,'Growth Data'!$A:$Z,8,0)),0,VLOOKUP($A246+8860000,'Growth Data'!$A:$Z,8,0))","v":0},0,null,0,{"$f":"IF(ISERROR(VLOOKUP($A246+8860000,'Growth Data'!$A:$Z,9,0)),0,VLOOKUP($A246+8860000,'Growth Data'!$A:$Z,9,0))","v":0},0,null,"NO",{"$f":"IF(ISERROR(VLOOKUP($A246+8860000,'Growth Data'!$A:$Z,5,0)),\"NO\",VLOOKUP($A246+8860000,'Growth Data'!$A:$Z,5,0))","v":"NO"},0,null,0,{"$f":"IF(ISERROR(VLOOKUP($A246+8860000,'Growth Data'!$A:$Z,10,0)),0,VLOOKUP($A246+8860000,'Growth Data'!$A:$Z,10,0))","v":0},0,null,0,{"$f":"IF(ISERROR(VLOOKUP($A246+8860000,'Growth Data'!$A:$Z,11,0)),0,VLOOKUP($A246+8860000,'Growth Data'!$A:$Z,11,0))","v":0},0]
[3902,"Hythe Bay CofE Primary School",null,"Hythe Bay CofE Primary School",null,1,null,1045491.46,1045491.4600000001,0,null,140883.56,140883.55585915493,4.1408450633753091E-3,null,6221.8,6221.7999999999984,0,null,121799.62,121799.61570469799,4.2953020019922405E-3,null,120084,120084,0,null,0,0,0,null,0,0,0,null,0,0,0,null,59392,59392,0,null,0,0,0,null,0,0,0,null,0,0,0,null,1493872.43,1493872.4315638531,-1.5638531185686588E-3,null,0,0,0,null,1493872.43,1493872.4315638531,-1.5638531185686588E-3,null,0,null,0,null,null,null,0,null,null,null,0,null,226346.11,226346.11387086113,0,null,8889.4,8889.4,0,null,null,null,0,null,null,null,0,null,null,null,0,null,null,null,0,null,null,null,0,null,null,null,0,null,"NO",{"$f":"IF(ISERROR(VLOOKUP($A247+8860000,'Growth Data'!$A:$F,3,0)),\"NO\",VLOOKUP($A247+8860000,'Growth Data'!$A:$F,3,0))","v":"NO"},0,null,0,{"$f":"IF(DI247=\"YES\",IF(ISERROR(VLOOKUP($A247+8860000,'Growth Data'!$A:$F,6,0)),0,VLOOKUP($A247+8860000,'Growth Data'!$A:$F,6,0)),0)","v":0},0,null,0,{"$f":"IF(ISERROR(VLOOKUP($A247+8860000,'Growth Data'!$A:$Z,7,0)),0,VLOOKUP($A247+8860000,'Growth Data'!$A:$Z,7,0))","v":0},0,null,"NO",{"$f":"IF(ISERROR(VLOOKUP($A247+8860000,'Growth Data'!$A:$F,4,0)),\"NO\",VLOOKUP($A247+8860000,'Growth Data'!$A:$F,4,0))","v":"NO"},0,null,0,{"$f":"IF(ISERROR(VLOOKUP($A247+8860000,'Growth Data'!$A:$Z,8,0)),0,VLOOKUP($A247+8860000,'Growth Data'!$A:$Z,8,0))","v":0},0,null,0,{"$f":"IF(ISERROR(VLOOKUP($A247+8860000,'Growth Data'!$A:$Z,9,0)),0,VLOOKUP($A247+8860000,'Growth Data'!$A:$Z,9,0))","v":0},0,null,"NO",{"$f":"IF(ISERROR(VLOOKUP($A247+8860000,'Growth Data'!$A:$Z,5,0)),\"NO\",VLOOKUP($A247+8860000,'Growth Data'!$A:$Z,5,0))","v":"NO"},0,null,0,{"$f":"IF(ISERROR(VLOOKUP($A247+8860000,'Growth Data'!$A:$Z,10,0)),0,VLOOKUP($A247+8860000,'Growth Data'!$A:$Z,10,0))","v":0},0,null,0,{"$f":"IF(ISERROR(VLOOKUP($A247+8860000,'Growth Data'!$A:$Z,11,0)),0,VLOOKUP($A247+8860000,'Growth Data'!$A:$Z,11,0))","v":0},0]
[3904,"Castle Hill Community Primary School",null,"Castle Hill Community Primary School",null,1,null,1153752.4099999999,1153752.4099999999,0,null,286531.99,286531.98999999987,0,null,8898.26,8898.2556656346769,4.334365323302336E-3,null,139277.95000000001,139277.95054140125,-5.4140124120749533E-4,null,120084,120084,0,null,0,0,0,null,0,0,0,null,0,0,0,null,54784,54784,0,null,0,0,0,null,0,0,0,null,0,0,0,null,1763328.61,1763328.6062070359,3.7929641548544168E-3,null,0,0,0,null,1763328.61,1763328.6062070359,3.7929641548544168E-3,null,0,null,0,null,null,null,0,null,null,null,0,null,350720.54,350720.53851404396,0,null,9809.9,9809.9000000000015,0,null,null,null,0,null,null,null,0,null,null,null,0,null,null,null,0,null,null,null,0,null,null,null,0,null,"NO",{"$f":"IF(ISERROR(VLOOKUP($A248+8860000,'Growth Data'!$A:$F,3,0)),\"NO\",VLOOKUP($A248+8860000,'Growth Data'!$A:$F,3,0))","v":"NO"},0,null,0,{"$f":"IF(DI248=\"YES\",IF(ISERROR(VLOOKUP($A248+8860000,'Growth Data'!$A:$F,6,0)),0,VLOOKUP($A248+8860000,'Growth Data'!$A:$F,6,0)),0)","v":0},0,null,0,{"$f":"IF(ISERROR(VLOOKUP($A248+8860000,'Growth Data'!$A:$Z,7,0)),0,VLOOKUP($A248+8860000,'Growth Data'!$A:$Z,7,0))","v":0},0,null,"NO",{"$f":"IF(ISERROR(VLOOKUP($A248+8860000,'Growth Data'!$A:$F,4,0)),\"NO\",VLOOKUP($A248+8860000,'Growth Data'!$A:$F,4,0))","v":"NO"},0,null,0,{"$f":"IF(ISERROR(VLOOKUP($A248+8860000,'Growth Data'!$A:$Z,8,0)),0,VLOOKUP($A248+8860000,'Growth Data'!$A:$Z,8,0))","v":0},0,null,0,{"$f":"IF(ISERROR(VLOOKUP($A248+8860000,'Growth Data'!$A:$Z,9,0)),0,VLOOKUP($A248+8860000,'Growth Data'!$A:$Z,9,0))","v":0},0,null,"NO",{"$f":"IF(ISERROR(VLOOKUP($A248+8860000,'Growth Data'!$A:$Z,5,0)),\"NO\",VLOOKUP($A248+8860000,'Growth Data'!$A:$Z,5,0))","v":"NO"},0,null,0,{"$f":"IF(ISERROR(VLOOKUP($A248+8860000,'Growth Data'!$A:$Z,10,0)),0,VLOOKUP($A248+8860000,'Growth Data'!$A:$Z,10,0))","v":0},0,null,0,{"$f":"IF(ISERROR(VLOOKUP($A248+8860000,'Growth Data'!$A:$Z,11,0)),0,VLOOKUP($A248+8860000,'Growth Data'!$A:$Z,11,0))","v":0},0]
[3906,"Palace Wood Primary School",null,"Palace Wood Primary School",null,1,null,1271292.8700000001,1271292.8700000001,0,null,83024.12,83024.118776031202,1.2239687930559739E-3,null,17351.36,17351.35747159092,2.5284090806962922E-3,null,115544.63,115544.63370262391,-3.7026239006081596E-3,null,120084,120084,0,null,0,0,0,null,0,0,0,null,0,0,0,null,34304,34304,0,null,0,0,0,null,0,0,0,null,110683.02,110683.02004975389,-4.9753885832615197E-5,null,1752284,1752284,0,null,0,0,0,null,1752284,1752284,0,null,0,null,0,null,null,null,0,null,null,null,0,null,302917.39,302917.39230700798,0,null,10809.3,10809.3,0,null,null,null,0,null,null,null,0,null,null,null,0,null,null,null,0,null,null,null,0,null,null,null,0,null,"NO",{"$f":"IF(ISERROR(VLOOKUP($A249+8860000,'Growth Data'!$A:$F,3,0)),\"NO\",VLOOKUP($A249+8860000,'Growth Data'!$A:$F,3,0))","v":"NO"},0,null,0,{"$f":"IF(DI249=\"YES\",IF(ISERROR(VLOOKUP($A249+8860000,'Growth Data'!$A:$F,6,0)),0,VLOOKUP($A249+8860000,'Growth Data'!$A:$F,6,0)),0)","v":0},0,null,0,{"$f":"IF(ISERROR(VLOOKUP($A249+8860000,'Growth Data'!$A:$Z,7,0)),0,VLOOKUP($A249+8860000,'Growth Data'!$A:$Z,7,0))","v":0},0,null,"NO",{"$f":"IF(ISERROR(VLOOKUP($A249+8860000,'Growth Data'!$A:$F,4,0)),\"NO\",VLOOKUP($A249+8860000,'Growth Data'!$A:$F,4,0))","v":"NO"},0,null,0,{"$f":"IF(ISERROR(VLOOKUP($A249+8860000,'Growth Data'!$A:$Z,8,0)),0,VLOOKUP($A249+8860000,'Growth Data'!$A:$Z,8,0))","v":0},0,null,0,{"$f":"IF(ISERROR(VLOOKUP($A249+8860000,'Growth Data'!$A:$Z,9,0)),0,VLOOKUP($A249+8860000,'Growth Data'!$A:$Z,9,0))","v":0},0,null,"NO",{"$f":"IF(ISERROR(VLOOKUP($A249+8860000,'Growth Data'!$A:$Z,5,0)),\"NO\",VLOOKUP($A249+8860000,'Growth Data'!$A:$Z,5,0))","v":"NO"},0,null,0,{"$f":"IF(ISERROR(VLOOKUP($A249+8860000,'Growth Data'!$A:$Z,10,0)),0,VLOOKUP($A249+8860000,'Growth Data'!$A:$Z,10,0))","v":0},0,null,0,{"$f":"IF(ISERROR(VLOOKUP($A249+8860000,'Growth Data'!$A:$Z,11,0)),0,VLOOKUP($A249+8860000,'Growth Data'!$A:$Z,11,0))","v":0},0]
[3907,"Hextable Primary School",null,"Hextable Primary School",null,1,null,1651752.78,1651752.78,0,null,132047.57,132047.57295307235,-2.9530723404604942E-3,null,11678.47,11678.473907284755,-3.9072847557690693E-3,null,159105.79999999999,159105.80399999997,-3.999999986262992E-3,null,120084,120084,0,null,0,0,0,null,76347.81,76347.805615661142,4.3843388557434082E-3,null,0,0,0,null,58383,58383,0,null,0,0,0,null,0,0,0,null,81103.56,81103.563523981778,-3.5239817807450891E-3,null,2290503,2290503,0,null,0,0,0,null,2290503,2290503,0,null,0,null,0,null,null,null,0,null,null,null,0,null,371476.77,371476.77320790594,0,null,14561.03,14561.02656,0,null,null,null,0,null,null,null,0,null,null,null,0,null,null,null,0,null,null,null,0,null,null,null,0,null,"NO",{"$f":"IF(ISERROR(VLOOKUP($A250+8860000,'Growth Data'!$A:$F,3,0)),\"NO\",VLOOKUP($A250+8860000,'Growth Data'!$A:$F,3,0))","v":"YES"},1,null,0,{"$f":"IF(DI250=\"YES\",IF(ISERROR(VLOOKUP($A250+8860000,'Growth Data'!$A:$F,6,0)),0,VLOOKUP($A250+8860000,'Growth Data'!$A:$F,6,0)),0)","v":61},-61,null,0,{"$f":"IF(ISERROR(VLOOKUP($A250+8860000,'Growth Data'!$A:$Z,7,0)),0,VLOOKUP($A250+8860000,'Growth Data'!$A:$Z,7,0))","v":90},1,null,"NO",{"$f":"IF(ISERROR(VLOOKUP($A250+8860000,'Growth Data'!$A:$F,4,0)),\"NO\",VLOOKUP($A250+8860000,'Growth Data'!$A:$F,4,0))","v":"NO"},0,null,0,{"$f":"IF(ISERROR(VLOOKUP($A250+8860000,'Growth Data'!$A:$Z,8,0)),0,VLOOKUP($A250+8860000,'Growth Data'!$A:$Z,8,0))","v":0},0,null,0,{"$f":"IF(ISERROR(VLOOKUP($A250+8860000,'Growth Data'!$A:$Z,9,0)),0,VLOOKUP($A250+8860000,'Growth Data'!$A:$Z,9,0))","v":0},0,null,"NO",{"$f":"IF(ISERROR(VLOOKUP($A250+8860000,'Growth Data'!$A:$Z,5,0)),\"NO\",VLOOKUP($A250+8860000,'Growth Data'!$A:$Z,5,0))","v":"NO"},0,null,0,{"$f":"IF(ISERROR(VLOOKUP($A250+8860000,'Growth Data'!$A:$Z,10,0)),0,VLOOKUP($A250+8860000,'Growth Data'!$A:$Z,10,0))","v":0},0,null,0,{"$f":"IF(ISERROR(VLOOKUP($A250+8860000,'Growth Data'!$A:$Z,11,0)),0,VLOOKUP($A250+8860000,'Growth Data'!$A:$Z,11,0))","v":0},0]
[3909,"Ashford Oaks Community Primary School",null,"Ashford Oaks Community Primary School",null,1,null,1262013.3600000001,1262013.3600000001,0,null,296083,296083.00224938855,-2.2493885480798781E-3,null,18713.259999999998,18713.259999999991,0,null,168342.74,168342.73925925925,7.4074073927477002E-4,null,120084,120084,0,null,0,0,0,null,0,0,0,null,0,0,0,null,69632,69632,0,null,0,0,0,null,0,0,0,null,0,0,0,null,1934868.36,1934868.3615086479,-1.5086478088051081E-3,null,0,0,0,null,1934868.36,1934868.3615086479,-1.5086478088051081E-3,null,0,null,0,null,null,null,0,null,null,null,0,null,393627.5,393627.503815656,0,null,10730.4,10730.4,0,null,null,null,0,null,null,null,0,null,null,null,0,null,null,null,0,null,null,null,0,null,null,null,0,null,"NO",{"$f":"IF(ISERROR(VLOOKUP($A251+8860000,'Growth Data'!$A:$F,3,0)),\"NO\",VLOOKUP($A251+8860000,'Growth Data'!$A:$F,3,0))","v":"NO"},0,null,0,{"$f":"IF(DI251=\"YES\",IF(ISERROR(VLOOKUP($A251+8860000,'Growth Data'!$A:$F,6,0)),0,VLOOKUP($A251+8860000,'Growth Data'!$A:$F,6,0)),0)","v":0},0,null,0,{"$f":"IF(ISERROR(VLOOKUP($A251+8860000,'Growth Data'!$A:$Z,7,0)),0,VLOOKUP($A251+8860000,'Growth Data'!$A:$Z,7,0))","v":0},0,null,"NO",{"$f":"IF(ISERROR(VLOOKUP($A251+8860000,'Growth Data'!$A:$F,4,0)),\"NO\",VLOOKUP($A251+8860000,'Growth Data'!$A:$F,4,0))","v":"NO"},0,null,0,{"$f":"IF(ISERROR(VLOOKUP($A251+8860000,'Growth Data'!$A:$Z,8,0)),0,VLOOKUP($A251+8860000,'Growth Data'!$A:$Z,8,0))","v":0},0,null,0,{"$f":"IF(ISERROR(VLOOKUP($A251+8860000,'Growth Data'!$A:$Z,9,0)),0,VLOOKUP($A251+8860000,'Growth Data'!$A:$Z,9,0))","v":0},0,null,"NO",{"$f":"IF(ISERROR(VLOOKUP($A251+8860000,'Growth Data'!$A:$Z,5,0)),\"NO\",VLOOKUP($A251+8860000,'Growth Data'!$A:$Z,5,0))","v":"NO"},0,null,0,{"$f":"IF(ISERROR(VLOOKUP($A251+8860000,'Growth Data'!$A:$Z,10,0)),0,VLOOKUP($A251+8860000,'Growth Data'!$A:$Z,10,0))","v":0},0,null,0,{"$f":"IF(ISERROR(VLOOKUP($A251+8860000,'Growth Data'!$A:$Z,11,0)),0,VLOOKUP($A251+8860000,'Growth Data'!$A:$Z,11,0))","v":0},0]
[3910,"Joy Lane Primary Foundation School",null,"Joy Lane Primary Foundation School",null,1,null,1744547.88,1744547.8800000001,0,null,138643.47,138643.47000000006,0,null,6912.19,6912.1853441295561,4.6558704434573883E-3,null,191571.31,191571.30547770701,4.522292991168797E-3,null,120084,120084,0,null,0,0,0,null,0,0,0,null,0,0,0,null,13005,13005,0,null,0,0,0,null,0,0,0,null,155761.16,155761.15917816322,8.2183678750880063E-4,null,2370525,2370525,0,null,0,0,0,null,2370525,2370525,0,null,0,null,0,null,null,null,0,null,null,null,0,null,448948.3,448948.30230700789,0,null,14833.2,14833.2,0,null,null,null,0,null,null,null,0,null,null,null,0,null,null,null,0,null,null,null,0,null,null,null,0,null,"NO",{"$f":"IF(ISERROR(VLOOKUP($A252+8860000,'Growth Data'!$A:$F,3,0)),\"NO\",VLOOKUP($A252+8860000,'Growth Data'!$A:$F,3,0))","v":"NO"},0,null,0,{"$f":"IF(DI252=\"YES\",IF(ISERROR(VLOOKUP($A252+8860000,'Growth Data'!$A:$F,6,0)),0,VLOOKUP($A252+8860000,'Growth Data'!$A:$F,6,0)),0)","v":0},0,null,0,{"$f":"IF(ISERROR(VLOOKUP($A252+8860000,'Growth Data'!$A:$Z,7,0)),0,VLOOKUP($A252+8860000,'Growth Data'!$A:$Z,7,0))","v":0},0,null,"NO",{"$f":"IF(ISERROR(VLOOKUP($A252+8860000,'Growth Data'!$A:$F,4,0)),\"NO\",VLOOKUP($A252+8860000,'Growth Data'!$A:$F,4,0))","v":"NO"},0,null,0,{"$f":"IF(ISERROR(VLOOKUP($A252+8860000,'Growth Data'!$A:$Z,8,0)),0,VLOOKUP($A252+8860000,'Growth Data'!$A:$Z,8,0))","v":0},0,null,0,{"$f":"IF(ISERROR(VLOOKUP($A252+8860000,'Growth Data'!$A:$Z,9,0)),0,VLOOKUP($A252+8860000,'Growth Data'!$A:$Z,9,0))","v":0},0,null,"NO",{"$f":"IF(ISERROR(VLOOKUP($A252+8860000,'Growth Data'!$A:$Z,5,0)),\"NO\",VLOOKUP($A252+8860000,'Growth Data'!$A:$Z,5,0))","v":"NO"},0,null,0,{"$f":"IF(ISERROR(VLOOKUP($A252+8860000,'Growth Data'!$A:$Z,10,0)),0,VLOOKUP($A252+8860000,'Growth Data'!$A:$Z,10,0))","v":0},0,null,0,{"$f":"IF(ISERROR(VLOOKUP($A252+8860000,'Growth Data'!$A:$Z,11,0)),0,VLOOKUP($A252+8860000,'Growth Data'!$A:$Z,11,0))","v":0},0]
[3913,"Rusthall St Paul's CofE VA Primary School",null,"Rusthall St Paul's CofE VA Primary School",null,1,null,507279.88,507279.88,0,null,40845.35,40845.349999999948,0,null,3761,3760.9983333333362,1.6666666638229799E-3,null,40618.54,40618.542739726021,-2.7397260200814344E-3,null,120084,120084,0,null,0,0,0,null,0,0,0,null,0,0,0,null,5427,5427,0,null,0,0,0,null,0,0,0,null,0,0,0,null,718015.77,718015.7710730593,-1.0730592766776681E-3,null,0,0,0,null,718015.77,718015.7710730593,-1.0730592766776681E-3,null,0,null,0,null,null,null,0,null,null,null,0,null,73507.47,73507.473380067488,0,null,4313.2,4313.2,0,null,null,null,0,null,null,null,0,null,null,null,0,null,null,null,0,null,null,null,0,null,null,null,0,null,"NO",{"$f":"IF(ISERROR(VLOOKUP($A253+8860000,'Growth Data'!$A:$F,3,0)),\"NO\",VLOOKUP($A253+8860000,'Growth Data'!$A:$F,3,0))","v":"NO"},0,null,0,{"$f":"IF(DI253=\"YES\",IF(ISERROR(VLOOKUP($A253+8860000,'Growth Data'!$A:$F,6,0)),0,VLOOKUP($A253+8860000,'Growth Data'!$A:$F,6,0)),0)","v":0},0,null,0,{"$f":"IF(ISERROR(VLOOKUP($A253+8860000,'Growth Data'!$A:$Z,7,0)),0,VLOOKUP($A253+8860000,'Growth Data'!$A:$Z,7,0))","v":0},0,null,"NO",{"$f":"IF(ISERROR(VLOOKUP($A253+8860000,'Growth Data'!$A:$F,4,0)),\"NO\",VLOOKUP($A253+8860000,'Growth Data'!$A:$F,4,0))","v":"NO"},0,null,0,{"$f":"IF(ISERROR(VLOOKUP($A253+8860000,'Growth Data'!$A:$Z,8,0)),0,VLOOKUP($A253+8860000,'Growth Data'!$A:$Z,8,0))","v":0},0,null,0,{"$f":"IF(ISERROR(VLOOKUP($A253+8860000,'Growth Data'!$A:$Z,9,0)),0,VLOOKUP($A253+8860000,'Growth Data'!$A:$Z,9,0))","v":0},0,null,"NO",{"$f":"IF(ISERROR(VLOOKUP($A253+8860000,'Growth Data'!$A:$Z,5,0)),\"NO\",VLOOKUP($A253+8860000,'Growth Data'!$A:$Z,5,0))","v":"NO"},0,null,0,{"$f":"IF(ISERROR(VLOOKUP($A253+8860000,'Growth Data'!$A:$Z,10,0)),0,VLOOKUP($A253+8860000,'Growth Data'!$A:$Z,10,0))","v":0},0,null,0,{"$f":"IF(ISERROR(VLOOKUP($A253+8860000,'Growth Data'!$A:$Z,11,0)),0,VLOOKUP($A253+8860000,'Growth Data'!$A:$Z,11,0))","v":0},0]
[3916,"Green Park Community Primary School",null,"Green Park Community Primary School",null,1,null,1209429.47,1209429.47,0,null,253462.64,253462.63822335022,1.7766497912816703E-3,null,5764.35,5764.3524107142894,-2.4107142889988609E-3,null,124262.3,124262.30429003022,-4.2900302214547992E-3,null,120084,120084,0,null,0,0,0,null,0,0,0,null,0,0,0,null,34816,34816,0,null,0,0,0,null,0,0,0,null,0,0,0,null,1747818.76,1747818.7649240948,-4.924094770103693E-3,null,0,0,0,null,1747818.76,1747818.7649240948,-4.924094770103693E-3,null,0,null,0,null,null,null,0,null,null,null,0,null,322517.64,322517.63723110291,0,null,10283.299999999999,10283.299999999999,0,null,null,null,0,null,null,null,0,null,null,null,0,null,null,null,0,null,null,null,0,null,null,null,0,null,"NO",{"$f":"IF(ISERROR(VLOOKUP($A254+8860000,'Growth Data'!$A:$F,3,0)),\"NO\",VLOOKUP($A254+8860000,'Growth Data'!$A:$F,3,0))","v":"YES"},1,null,0,{"$f":"IF(DI254=\"YES\",IF(ISERROR(VLOOKUP($A254+8860000,'Growth Data'!$A:$F,6,0)),0,VLOOKUP($A254+8860000,'Growth Data'!$A:$F,6,0)),0)","v":58},-58,null,0,{"$f":"IF(ISERROR(VLOOKUP($A254+8860000,'Growth Data'!$A:$Z,7,0)),0,VLOOKUP($A254+8860000,'Growth Data'!$A:$Z,7,0))","v":60},1,null,"NO",{"$f":"IF(ISERROR(VLOOKUP($A254+8860000,'Growth Data'!$A:$F,4,0)),\"NO\",VLOOKUP($A254+8860000,'Growth Data'!$A:$F,4,0))","v":"NO"},0,null,0,{"$f":"IF(ISERROR(VLOOKUP($A254+8860000,'Growth Data'!$A:$Z,8,0)),0,VLOOKUP($A254+8860000,'Growth Data'!$A:$Z,8,0))","v":0},0,null,0,{"$f":"IF(ISERROR(VLOOKUP($A254+8860000,'Growth Data'!$A:$Z,9,0)),0,VLOOKUP($A254+8860000,'Growth Data'!$A:$Z,9,0))","v":0},0,null,"NO",{"$f":"IF(ISERROR(VLOOKUP($A254+8860000,'Growth Data'!$A:$Z,5,0)),\"NO\",VLOOKUP($A254+8860000,'Growth Data'!$A:$Z,5,0))","v":"NO"},0,null,0,{"$f":"IF(ISERROR(VLOOKUP($A254+8860000,'Growth Data'!$A:$Z,10,0)),0,VLOOKUP($A254+8860000,'Growth Data'!$A:$Z,10,0))","v":0},0,null,0,{"$f":"IF(ISERROR(VLOOKUP($A254+8860000,'Growth Data'!$A:$Z,11,0)),0,VLOOKUP($A254+8860000,'Growth Data'!$A:$Z,11,0))","v":0},0]
[3917,"Garlinge Primary School and Nursery",null,"Garlinge Primary School and Nursery",null,1,null,2369368.2200000002,2369368.2200000002,0,null,430036.87,430036.87381014292,-3.8101429236121476E-3,null,24685.29,24685.288320493073,1.6795069277577568E-3,null,262219.61,262219.60686064319,3.1393567915074527E-3,null,120084,120084,0,null,0,0,0,null,0,0,0,null,0,0,0,null,61952,61952,0,null,0,0,0,null,0,0,0,null,0,0,0,null,3268345.99,3268345.9889912792,1.0087210685014725E-3,null,0,0,0,null,3268345.99,3268345.9889912792,1.0087210685014725E-3,null,0,null,0,null,null,null,0,null,null,null,0,null,589223.71,589223.7112982875,0,null,20145.8,20145.8,0,null,null,null,0,null,null,null,0,null,null,null,0,null,null,null,0,null,null,null,0,null,null,null,0,null,"NO",{"$f":"IF(ISERROR(VLOOKUP($A255+8860000,'Growth Data'!$A:$F,3,0)),\"NO\",VLOOKUP($A255+8860000,'Growth Data'!$A:$F,3,0))","v":"NO"},0,null,0,{"$f":"IF(DI255=\"YES\",IF(ISERROR(VLOOKUP($A255+8860000,'Growth Data'!$A:$F,6,0)),0,VLOOKUP($A255+8860000,'Growth Data'!$A:$F,6,0)),0)","v":0},0,null,0,{"$f":"IF(ISERROR(VLOOKUP($A255+8860000,'Growth Data'!$A:$Z,7,0)),0,VLOOKUP($A255+8860000,'Growth Data'!$A:$Z,7,0))","v":0},0,null,"YES",{"$f":"IF(ISERROR(VLOOKUP($A255+8860000,'Growth Data'!$A:$F,4,0)),\"NO\",VLOOKUP($A255+8860000,'Growth Data'!$A:$F,4,0))","v":"NO"},1,null,61,{"$f":"IF(ISERROR(VLOOKUP($A255+8860000,'Growth Data'!$A:$Z,8,0)),0,VLOOKUP($A255+8860000,'Growth Data'!$A:$Z,8,0))","v":0},1,null,90,{"$f":"IF(ISERROR(VLOOKUP($A255+8860000,'Growth Data'!$A:$Z,9,0)),0,VLOOKUP($A255+8860000,'Growth Data'!$A:$Z,9,0))","v":0},1,null,"YES",{"$f":"IF(ISERROR(VLOOKUP($A255+8860000,'Growth Data'!$A:$Z,5,0)),\"NO\",VLOOKUP($A255+8860000,'Growth Data'!$A:$Z,5,0))","v":"NO"},1,null,60,{"$f":"IF(ISERROR(VLOOKUP($A255+8860000,'Growth Data'!$A:$Z,10,0)),0,VLOOKUP($A255+8860000,'Growth Data'!$A:$Z,10,0))","v":0},1,null,90,{"$f":"IF(ISERROR(VLOOKUP($A255+8860000,'Growth Data'!$A:$Z,11,0)),0,VLOOKUP($A255+8860000,'Growth Data'!$A:$Z,11,0))","v":0},1]
[3918,"Newington Community Primary School",null,"Newington Community Primary School",null,1,null,2081703.41,2081703.4100000001,0,null,479821.42,479821.42165354796,-1.6535479808226228E-3,null,10235.92,10235.923177892933,-3.1778929333086126E-3,null,90192.12,90192.119208633099,7.9136689601000398E-4,null,120084,120084,0,null,0,0,0,null,0,0,0,null,0,0,0,null,9114,9114,0,null,0,0,0,null,0,0,0,null,31103.13,31103.125959925877,4.0400741236226168E-3,null,2822254,2822253.9999999995,0,null,0,0,0,null,2822254,2822253.9999999995,0,null,0,null,0,null,null,null,0,null,null,null,0,null,511714.05,511714.05230700807,0,null,17699.900000000001,17699.899999999998,0,null,null,null,0,null,null,null,0,null,null,null,0,null,null,null,0,null,null,null,0,null,null,null,0,null,"NO",{"$f":"IF(ISERROR(VLOOKUP($A256+8860000,'Growth Data'!$A:$F,3,0)),\"NO\",VLOOKUP($A256+8860000,'Growth Data'!$A:$F,3,0))","v":"NO"},0,null,0,{"$f":"IF(DI256=\"YES\",IF(ISERROR(VLOOKUP($A256+8860000,'Growth Data'!$A:$F,6,0)),0,VLOOKUP($A256+8860000,'Growth Data'!$A:$F,6,0)),0)","v":0},0,null,0,{"$f":"IF(ISERROR(VLOOKUP($A256+8860000,'Growth Data'!$A:$Z,7,0)),0,VLOOKUP($A256+8860000,'Growth Data'!$A:$Z,7,0))","v":0},0,null,"NO",{"$f":"IF(ISERROR(VLOOKUP($A256+8860000,'Growth Data'!$A:$F,4,0)),\"NO\",VLOOKUP($A256+8860000,'Growth Data'!$A:$F,4,0))","v":"NO"},0,null,0,{"$f":"IF(ISERROR(VLOOKUP($A256+8860000,'Growth Data'!$A:$Z,8,0)),0,VLOOKUP($A256+8860000,'Growth Data'!$A:$Z,8,0))","v":0},0,null,0,{"$f":"IF(ISERROR(VLOOKUP($A256+8860000,'Growth Data'!$A:$Z,9,0)),0,VLOOKUP($A256+8860000,'Growth Data'!$A:$Z,9,0))","v":0},0,null,"NO",{"$f":"IF(ISERROR(VLOOKUP($A256+8860000,'Growth Data'!$A:$Z,5,0)),\"NO\",VLOOKUP($A256+8860000,'Growth Data'!$A:$Z,5,0))","v":"NO"},0,null,0,{"$f":"IF(ISERROR(VLOOKUP($A256+8860000,'Growth Data'!$A:$Z,10,0)),0,VLOOKUP($A256+8860000,'Growth Data'!$A:$Z,10,0))","v":0},0,null,0,{"$f":"IF(ISERROR(VLOOKUP($A256+8860000,'Growth Data'!$A:$Z,11,0)),0,VLOOKUP($A256+8860000,'Growth Data'!$A:$Z,11,0))","v":0},0]
[3920,"Goat Lees Primary School",null,"Goat Lees Primary School",null,1,null,649565.69999999995,649565.70000000007,0,null,117545.63,117545.63000000009,0,null,4494.8500000000004,4494.8516666666683,-1.6666666679157061E-3,null,64638.12,64638.117977528091,2.022471911914181E-3,null,120084,120084,0,null,0,0,0,null,0,0,0,null,0,0,0,null,8806,8806,0,null,0,0,0,null,0,0,0,null,0,0,0,null,965134.3,965134.29964419501,3.558050375431776E-4,null,0,0,0,null,965134.3,965134.29964419501,3.558050375431776E-4,null,0,null,0,null,null,null,0,null,null,null,0,null,159310.29999999999,159310.30195120297,0,null,5523,5523,0,null,null,null,0,null,null,null,0,null,null,null,0,null,null,null,0,null,null,null,0,null,null,null,0,null,"YES",{"$f":"IF(ISERROR(VLOOKUP($A257+8860000,'Growth Data'!$A:$F,3,0)),\"NO\",VLOOKUP($A257+8860000,'Growth Data'!$A:$F,3,0))","v":"NO"},1,null,21,{"$f":"IF(DI257=\"YES\",IF(ISERROR(VLOOKUP($A257+8860000,'Growth Data'!$A:$F,6,0)),0,VLOOKUP($A257+8860000,'Growth Data'!$A:$F,6,0)),0)","v":0},21,null,30,{"$f":"IF(ISERROR(VLOOKUP($A257+8860000,'Growth Data'!$A:$Z,7,0)),0,VLOOKUP($A257+8860000,'Growth Data'!$A:$Z,7,0))","v":0},1,null,"NO",{"$f":"IF(ISERROR(VLOOKUP($A257+8860000,'Growth Data'!$A:$F,4,0)),\"NO\",VLOOKUP($A257+8860000,'Growth Data'!$A:$F,4,0))","v":"NO"},0,null,0,{"$f":"IF(ISERROR(VLOOKUP($A257+8860000,'Growth Data'!$A:$Z,8,0)),0,VLOOKUP($A257+8860000,'Growth Data'!$A:$Z,8,0))","v":0},0,null,0,{"$f":"IF(ISERROR(VLOOKUP($A257+8860000,'Growth Data'!$A:$Z,9,0)),0,VLOOKUP($A257+8860000,'Growth Data'!$A:$Z,9,0))","v":0},0,null,"NO",{"$f":"IF(ISERROR(VLOOKUP($A257+8860000,'Growth Data'!$A:$Z,5,0)),\"NO\",VLOOKUP($A257+8860000,'Growth Data'!$A:$Z,5,0))","v":"NO"},0,null,0,{"$f":"IF(ISERROR(VLOOKUP($A257+8860000,'Growth Data'!$A:$Z,10,0)),0,VLOOKUP($A257+8860000,'Growth Data'!$A:$Z,10,0))","v":0},0,null,0,{"$f":"IF(ISERROR(VLOOKUP($A257+8860000,'Growth Data'!$A:$Z,11,0)),0,VLOOKUP($A257+8860000,'Growth Data'!$A:$Z,11,0))","v":0},0]
[5200,"Snodland CofE Primary School",null,"Snodland CofE Primary School",null,{"$f":"IF(E258=D258,0,1)","v":1},null,1262013.3600000001,1262013.3600000001,{"$f":"H258-I258","v":0},null,141996.48000000001,141996.4800000001,{"$f":"L258-M258","v":0},null,3226.42,3226.4241379310292,{"$f":"P258-Q258","v":-4.1379310291631555E-3},null,123330.8,123330.80275862069,{"$f":"T258-U258","v":-2.7586206851992756E-3},null,120084,120084,{"$f":"X258-Y258","v":0},null,0,0,{"$f":"AB258-AC258","v":0},null,0,0,{"$f":"AF258-AG258","v":0},null,0,0,{"$f":"AJ258-AK258","v":0},null,8550,8550,{"$f":"AN258-AO258","v":0},null,0,0,{"$f":"AR258-AS258","v":0},null,0,0,{"$f":"AV258-AW258","v":0},null,54788.93,54788.933103448071,{"$f":"AZ258-BA258","v":-3.1034480707603507E-3},null,1713990,1713990,{"$f":"BD258-BE258","v":0},null,0,0,{"$f":"BH258-BI258","v":0},null,1713990,1713990,{"$f":"BL258-BM258","v":0},null,0,null,{"$f":"BP258-BQ258","v":0},null,null,null,{"$f":"BT258-BU258","v":0},null,null,null,{"$f":"BX258-BY258","v":0},null,285386.98,285386.982307008,{"$f":"ROUND(CB258-CC258,0)","v":0},null,10730.4,10730.4,{"$f":"ROUND(CF258-CG258,0)","v":0},null,null,null,{"$f":"ROUND(CJ258-CK258,0)","v":0},null,null,null,{"$f":"ROUND(CN258-CO258,0)","v":0},null,null,null,{"$f":"ROUND(CR258-CS258,0)","v":0},null,null,null,{"$f":"ROUND(CV258-CW258,0)","v":0},null,null,null,{"$f":"ROUND(CZ258-DA258,0)","v":0},null,null,null,{"$f":"ROUND(DD258-DE258,0)","v":0},null,"NO",{"$f":"IF(ISERROR(VLOOKUP($A258+8860000,'Growth Data'!$A:$F,3,0)),\"NO\",VLOOKUP($A258+8860000,'Growth Data'!$A:$F,3,0))","v":"NO"},{"$f":"IF(DH258=DI258,0,1)","v":0},null,0,{"$f":"IF(DI258=\"YES\",IF(ISERROR(VLOOKUP($A258+8860000,'Growth Data'!$A:$F,6,0)),0,VLOOKUP($A258+8860000,'Growth Data'!$A:$F,6,0)),0)","v":0},{"$f":"ROUND(DL258-DM258,0)","v":0},null,0,{"$f":"IF(ISERROR(VLOOKUP($A258+8860000,'Growth Data'!$A:$Z,7,0)),0,VLOOKUP($A258+8860000,'Growth Data'!$A:$Z,7,0))","v":0},{"$f":"IF(DP258=DQ258,0,1)","v":0},null,"NO",{"$f":"IF(ISERROR(VLOOKUP($A258+8860000,'Growth Data'!$A:$F,4,0)),\"NO\",VLOOKUP($A258+8860000,'Growth Data'!$A:$F,4,0))","v":"NO"},{"$f":"IF(DT258=DU258,0,1)","v":0},null,0,{"$f":"IF(ISERROR(VLOOKUP($A258+8860000,'Growth Data'!$A:$Z,8,0)),0,VLOOKUP($A258+8860000,'Growth Data'!$A:$Z,8,0))","v":0},{"$f":"IF(DX258=DY258,0,1)","v":0},null,0,{"$f":"IF(ISERROR(VLOOKUP($A258+8860000,'Growth Data'!$A:$Z,9,0)),0,VLOOKUP($A258+8860000,'Growth Data'!$A:$Z,9,0))","v":0},{"$f":"IF(EB258=EC258,0,1)","v":0},null,"NO",{"$f":"IF(ISERROR(VLOOKUP($A258+8860000,'Growth Data'!$A:$Z,5,0)),\"NO\",VLOOKUP($A258+8860000,'Growth Data'!$A:$Z,5,0))","v":"NO"},{"$f":"IF(EF258=EG258,0,1)","v":0},null,0,{"$f":"IF(ISERROR(VLOOKUP($A258+8860000,'Growth Data'!$A:$Z,10,0)),0,VLOOKUP($A258+8860000,'Growth Data'!$A:$Z,10,0))","v":0},{"$f":"IF(EJ258=EK258,0,1)","v":0},null,0,{"$f":"IF(ISERROR(VLOOKUP($A258+8860000,'Growth Data'!$A:$Z,11,0)),0,VLOOKUP($A258+8860000,'Growth Data'!$A:$Z,11,0))","v":0},{"$f":"IF(EN258=EO258,0,1)","v":0}]
[5201,"Borough Green Primary School",null,"Borough Green Primary School",null,1,null,866087.6,866087.6,0,null,57575.01,57575.009999999995,0,null,3119.62,3119.6194331983825,5.6680161742406199E-4,null,68038.61,68038.605857740578,4.142259422224015E-3,null,120084,120084,0,null,0,0,0,null,0,0,0,null,0,0,0,null,6451,6451,0,null,0,0,0,null,0,0,0,null,55495.16,55495.164709061035,-4.7090610314626247E-3,null,1176851,1176851,0,null,0,0,0,null,1176851,1176851,0,null,0,null,0,null,null,null,0,null,null,null,0,null,172050.66,172050.66230700811,0,null,7364,7364,0,null,null,null,0,null,null,null,0,null,null,null,0,null,null,null,0,null,null,null,0,null,null,null,0,null,"NO",{"$f":"IF(ISERROR(VLOOKUP($A259+8860000,'Growth Data'!$A:$F,3,0)),\"NO\",VLOOKUP($A259+8860000,'Growth Data'!$A:$F,3,0))","v":"NO"},0,null,0,{"$f":"IF(DI259=\"YES\",IF(ISERROR(VLOOKUP($A259+8860000,'Growth Data'!$A:$F,6,0)),0,VLOOKUP($A259+8860000,'Growth Data'!$A:$F,6,0)),0)","v":0},0,null,0,{"$f":"IF(ISERROR(VLOOKUP($A259+8860000,'Growth Data'!$A:$Z,7,0)),0,VLOOKUP($A259+8860000,'Growth Data'!$A:$Z,7,0))","v":0},0,null,"NO",{"$f":"IF(ISERROR(VLOOKUP($A259+8860000,'Growth Data'!$A:$F,4,0)),\"NO\",VLOOKUP($A259+8860000,'Growth Data'!$A:$F,4,0))","v":"NO"},0,null,0,{"$f":"IF(ISERROR(VLOOKUP($A259+8860000,'Growth Data'!$A:$Z,8,0)),0,VLOOKUP($A259+8860000,'Growth Data'!$A:$Z,8,0))","v":0},0,null,0,{"$f":"IF(ISERROR(VLOOKUP($A259+8860000,'Growth Data'!$A:$Z,9,0)),0,VLOOKUP($A259+8860000,'Growth Data'!$A:$Z,9,0))","v":0},0,null,"NO",{"$f":"IF(ISERROR(VLOOKUP($A259+8860000,'Growth Data'!$A:$Z,5,0)),\"NO\",VLOOKUP($A259+8860000,'Growth Data'!$A:$Z,5,0))","v":"NO"},0,null,0,{"$f":"IF(ISERROR(VLOOKUP($A259+8860000,'Growth Data'!$A:$Z,10,0)),0,VLOOKUP($A259+8860000,'Growth Data'!$A:$Z,10,0))","v":0},0,null,0,{"$f":"IF(ISERROR(VLOOKUP($A259+8860000,'Growth Data'!$A:$Z,11,0)),0,VLOOKUP($A259+8860000,'Growth Data'!$A:$Z,11,0))","v":0},0]
[5202,"Holy Trinity Church of England Voluntary Aided Primary School",null,"Holy Trinity Church of England Voluntary Aided Primary School",null,1,null,1289851.8899999999,1289851.8900000001,0,null,122743.18,122743.18000000001,0,null,72150.31,72150.311869918631,-1.8699186330195516E-3,null,131369.13,131369.125875,4.1250000067520887E-3,null,120084,120084,0,null,0,0,0,null,0,0,0,null,0,0,0,null,9830,9830,0,null,0,0,0,null,0,0,0,null,6861.49,6861.492255081248,-2.2550812482222682E-3,null,1752890,1752889.9999999998,0,null,0,0,0,null,1752890,1752889.9999999998,0,null,0,null,0,null,null,null,0,null,null,null,0,null,306676.45,306676.45230700797,0,null,10967.1,0,10967,null,null,null,0,null,null,null,0,null,null,null,0,null,null,null,0,null,null,null,0,null,null,null,0,null,"NO",{"$f":"IF(ISERROR(VLOOKUP($A260+8860000,'Growth Data'!$A:$F,3,0)),\"NO\",VLOOKUP($A260+8860000,'Growth Data'!$A:$F,3,0))","v":"NO"},0,null,0,{"$f":"IF(DI260=\"YES\",IF(ISERROR(VLOOKUP($A260+8860000,'Growth Data'!$A:$F,6,0)),0,VLOOKUP($A260+8860000,'Growth Data'!$A:$F,6,0)),0)","v":0},0,null,0,{"$f":"IF(ISERROR(VLOOKUP($A260+8860000,'Growth Data'!$A:$Z,7,0)),0,VLOOKUP($A260+8860000,'Growth Data'!$A:$Z,7,0))","v":0},0,null,"NO",{"$f":"IF(ISERROR(VLOOKUP($A260+8860000,'Growth Data'!$A:$F,4,0)),\"NO\",VLOOKUP($A260+8860000,'Growth Data'!$A:$F,4,0))","v":"NO"},0,null,0,{"$f":"IF(ISERROR(VLOOKUP($A260+8860000,'Growth Data'!$A:$Z,8,0)),0,VLOOKUP($A260+8860000,'Growth Data'!$A:$Z,8,0))","v":0},0,null,0,{"$f":"IF(ISERROR(VLOOKUP($A260+8860000,'Growth Data'!$A:$Z,9,0)),0,VLOOKUP($A260+8860000,'Growth Data'!$A:$Z,9,0))","v":0},0,null,"NO",{"$f":"IF(ISERROR(VLOOKUP($A260+8860000,'Growth Data'!$A:$Z,5,0)),\"NO\",VLOOKUP($A260+8860000,'Growth Data'!$A:$Z,5,0))","v":"NO"},0,null,0,{"$f":"IF(ISERROR(VLOOKUP($A260+8860000,'Growth Data'!$A:$Z,10,0)),0,VLOOKUP($A260+8860000,'Growth Data'!$A:$Z,10,0))","v":0},0,null,0,{"$f":"IF(ISERROR(VLOOKUP($A260+8860000,'Growth Data'!$A:$Z,11,0)),0,VLOOKUP($A260+8860000,'Growth Data'!$A:$Z,11,0))","v":0},0]
[5203,"Roseacre Junior School",null,"Roseacre Junior School",null,1,null,1311504.08,1311504.08,0,null,20386.73,20386.734859914039,-4.85991403911612E-3,null,2751.95,2751.9500000000048,-5.0022208597511053E-12,null,81923.360000000001,81923.364830917883,-4.8309178819181398E-3,null,120084,120084,0,null,0,0,0,null,0,0,0,null,0,0,0,null,5939,5939,0,null,0,0,0,null,0,0,0,null,235669.87,235669.87030916801,-3.0916801188141108E-4,null,1778259,1778259,0,null,0,0,0,null,1778259,1778259,0,null,0,null,0,null,null,null,0,null,null,null,0,null,340982.82,340982.82230700809,0,null,11151.2,11151.2,0,null,null,null,0,null,null,null,0,null,null,null,0,null,null,null,0,null,null,null,0,null,null,null,0,null,"NO",{"$f":"IF(ISERROR(VLOOKUP($A261+8860000,'Growth Data'!$A:$F,3,0)),\"NO\",VLOOKUP($A261+8860000,'Growth Data'!$A:$F,3,0))","v":"NO"},0,null,0,{"$f":"IF(DI261=\"YES\",IF(ISERROR(VLOOKUP($A261+8860000,'Growth Data'!$A:$F,6,0)),0,VLOOKUP($A261+8860000,'Growth Data'!$A:$F,6,0)),0)","v":0},0,null,0,{"$f":"IF(ISERROR(VLOOKUP($A261+8860000,'Growth Data'!$A:$Z,7,0)),0,VLOOKUP($A261+8860000,'Growth Data'!$A:$Z,7,0))","v":0},0,null,"NO",{"$f":"IF(ISERROR(VLOOKUP($A261+8860000,'Growth Data'!$A:$F,4,0)),\"NO\",VLOOKUP($A261+8860000,'Growth Data'!$A:$F,4,0))","v":"NO"},0,null,0,{"$f":"IF(ISERROR(VLOOKUP($A261+8860000,'Growth Data'!$A:$Z,8,0)),0,VLOOKUP($A261+8860000,'Growth Data'!$A:$Z,8,0))","v":0},0,null,0,{"$f":"IF(ISERROR(VLOOKUP($A261+8860000,'Growth Data'!$A:$Z,9,0)),0,VLOOKUP($A261+8860000,'Growth Data'!$A:$Z,9,0))","v":0},0,null,"NO",{"$f":"IF(ISERROR(VLOOKUP($A261+8860000,'Growth Data'!$A:$Z,5,0)),\"NO\",VLOOKUP($A261+8860000,'Growth Data'!$A:$Z,5,0))","v":"NO"},0,null,0,{"$f":"IF(ISERROR(VLOOKUP($A261+8860000,'Growth Data'!$A:$Z,10,0)),0,VLOOKUP($A261+8860000,'Growth Data'!$A:$Z,10,0))","v":0},0,null,0,{"$f":"IF(ISERROR(VLOOKUP($A261+8860000,'Growth Data'!$A:$Z,11,0)),0,VLOOKUP($A261+8860000,'Growth Data'!$A:$Z,11,0))","v":0},0]
[5206,"Herne Bay Junior School",null,"Herne Bay Junior School",null,1,null,1357901.63,1357901.6300000001,0,null,176165.97,176165.96614379081,3.8562091940548271E-3,null,4403.12,4403.1200000000026,0,null,131917.24,131917.23754137114,2.4586288491263986E-3,null,120084,120084,0,null,0,0,0,null,0,0,0,null,0,0,0,null,9882,9882,0,null,0,0,0,null,0,0,0,null,44548.05,44548.046314837935,3.6851620679954067E-3,null,1844902,1844902,0,null,0,0,0,null,1844902,1844902,0,null,0,null,0,null,null,null,0,null,null,null,0,null,303427.83,303427.83230700804,0,null,11545.7,11545.7,0,null,null,null,0,null,null,null,0,null,null,null,0,null,null,null,0,null,null,null,0,null,null,null,0,null,"NO",{"$f":"IF(ISERROR(VLOOKUP($A262+8860000,'Growth Data'!$A:$F,3,0)),\"NO\",VLOOKUP($A262+8860000,'Growth Data'!$A:$F,3,0))","v":"NO"},0,null,0,{"$f":"IF(DI262=\"YES\",IF(ISERROR(VLOOKUP($A262+8860000,'Growth Data'!$A:$F,6,0)),0,VLOOKUP($A262+8860000,'Growth Data'!$A:$F,6,0)),0)","v":0},0,null,0,{"$f":"IF(ISERROR(VLOOKUP($A262+8860000,'Growth Data'!$A:$Z,7,0)),0,VLOOKUP($A262+8860000,'Growth Data'!$A:$Z,7,0))","v":0},0,null,"NO",{"$f":"IF(ISERROR(VLOOKUP($A262+8860000,'Growth Data'!$A:$F,4,0)),\"NO\",VLOOKUP($A262+8860000,'Growth Data'!$A:$F,4,0))","v":"NO"},0,null,0,{"$f":"IF(ISERROR(VLOOKUP($A262+8860000,'Growth Data'!$A:$Z,8,0)),0,VLOOKUP($A262+8860000,'Growth Data'!$A:$Z,8,0))","v":0},0,null,0,{"$f":"IF(ISERROR(VLOOKUP($A262+8860000,'Growth Data'!$A:$Z,9,0)),0,VLOOKUP($A262+8860000,'Growth Data'!$A:$Z,9,0))","v":0},0,null,"NO",{"$f":"IF(ISERROR(VLOOKUP($A262+8860000,'Growth Data'!$A:$Z,5,0)),\"NO\",VLOOKUP($A262+8860000,'Growth Data'!$A:$Z,5,0))","v":"NO"},0,null,0,{"$f":"IF(ISERROR(VLOOKUP($A262+8860000,'Growth Data'!$A:$Z,10,0)),0,VLOOKUP($A262+8860000,'Growth Data'!$A:$Z,10,0))","v":0},0,null,0,{"$f":"IF(ISERROR(VLOOKUP($A262+8860000,'Growth Data'!$A:$Z,11,0)),0,VLOOKUP($A262+8860000,'Growth Data'!$A:$Z,11,0))","v":0},0]
[5207,"St Francis' Catholic Primary School, Maidstone",null,"St Francis' Catholic Primary School, Maidstone",null,1,null,1262013.3600000001,1262013.3600000001,0,null,72517.11,72517.109385749325,6.1425067542586476E-4,null,38828.67,38828.666282420862,3.7175791367189959E-3,null,103489.39,103489.38888888889,1.111111108912155E-3,null,120084,120084,0,null,0,0,0,null,0,0,0,null,0,0,0,null,11366,11366,0,null,0,0,0,null,0,0,0,null,108507.48,108507.47544294083,4.5570591610157862E-3,null,1716806,1716806,0,null,0,0,0,null,1716806,1716806,0,null,0,null,0,null,null,null,0,null,null,null,0,null,303799.78000000003,303799.78230700811,0,null,10730.4,10730.4,0,null,null,null,0,null,null,null,0,null,null,null,0,null,null,null,0,null,null,null,0,null,null,null,0,null,"NO",{"$f":"IF(ISERROR(VLOOKUP($A263+8860000,'Growth Data'!$A:$F,3,0)),\"NO\",VLOOKUP($A263+8860000,'Growth Data'!$A:$F,3,0))","v":"NO"},0,null,0,{"$f":"IF(DI263=\"YES\",IF(ISERROR(VLOOKUP($A263+8860000,'Growth Data'!$A:$F,6,0)),0,VLOOKUP($A263+8860000,'Growth Data'!$A:$F,6,0)),0)","v":0},0,null,0,{"$f":"IF(ISERROR(VLOOKUP($A263+8860000,'Growth Data'!$A:$Z,7,0)),0,VLOOKUP($A263+8860000,'Growth Data'!$A:$Z,7,0))","v":0},0,null,"NO",{"$f":"IF(ISERROR(VLOOKUP($A263+8860000,'Growth Data'!$A:$F,4,0)),\"NO\",VLOOKUP($A263+8860000,'Growth Data'!$A:$F,4,0))","v":"NO"},0,null,0,{"$f":"IF(ISERROR(VLOOKUP($A263+8860000,'Growth Data'!$A:$Z,8,0)),0,VLOOKUP($A263+8860000,'Growth Data'!$A:$Z,8,0))","v":0},0,null,0,{"$f":"IF(ISERROR(VLOOKUP($A263+8860000,'Growth Data'!$A:$Z,9,0)),0,VLOOKUP($A263+8860000,'Growth Data'!$A:$Z,9,0))","v":0},0,null,"NO",{"$f":"IF(ISERROR(VLOOKUP($A263+8860000,'Growth Data'!$A:$Z,5,0)),\"NO\",VLOOKUP($A263+8860000,'Growth Data'!$A:$Z,5,0))","v":"NO"},0,null,0,{"$f":"IF(ISERROR(VLOOKUP($A263+8860000,'Growth Data'!$A:$Z,10,0)),0,VLOOKUP($A263+8860000,'Growth Data'!$A:$Z,10,0))","v":0},0,null,0,{"$f":"IF(ISERROR(VLOOKUP($A263+8860000,'Growth Data'!$A:$Z,11,0)),0,VLOOKUP($A263+8860000,'Growth Data'!$A:$Z,11,0))","v":0},0]
[5208,"Ditton Church of England Junior School",null,"Ditton Church of England Junior School",null,1,null,655752.04,655752.04,0,null,67346.8,67346.800000000017,0,null,2201.56,2201.5600000000013,0,null,54989.66,54989.655845410627,4.1545893764123321E-3,null,120084,120084,0,null,0,0,0,null,0,0,0,null,0,0,0,null,4864,4864,0,null,0,0,0,null,0,0,0,null,0,0,0,null,905238.06,905238.0558454108,4.1545892599970102E-3,null,0,0,0,null,905238.06,905238.0558454108,4.1545892599970102E-3,null,0,null,0,null,null,null,0,null,null,null,0,null,112360.28,112360.27815241877,0,null,5575.6,5575.6,0,null,null,null,0,null,null,null,0,null,null,null,0,null,null,null,0,null,null,null,0,null,null,null,0,null,"NO",{"$f":"IF(ISERROR(VLOOKUP($A264+8860000,'Growth Data'!$A:$F,3,0)),\"NO\",VLOOKUP($A264+8860000,'Growth Data'!$A:$F,3,0))","v":"NO"},0,null,0,{"$f":"IF(DI264=\"YES\",IF(ISERROR(VLOOKUP($A264+8860000,'Growth Data'!$A:$F,6,0)),0,VLOOKUP($A264+8860000,'Growth Data'!$A:$F,6,0)),0)","v":0},0,null,0,{"$f":"IF(ISERROR(VLOOKUP($A264+8860000,'Growth Data'!$A:$Z,7,0)),0,VLOOKUP($A264+8860000,'Growth Data'!$A:$Z,7,0))","v":0},0,null,"NO",{"$f":"IF(ISERROR(VLOOKUP($A264+8860000,'Growth Data'!$A:$F,4,0)),\"NO\",VLOOKUP($A264+8860000,'Growth Data'!$A:$F,4,0))","v":"NO"},0,null,0,{"$f":"IF(ISERROR(VLOOKUP($A264+8860000,'Growth Data'!$A:$Z,8,0)),0,VLOOKUP($A264+8860000,'Growth Data'!$A:$Z,8,0))","v":0},0,null,0,{"$f":"IF(ISERROR(VLOOKUP($A264+8860000,'Growth Data'!$A:$Z,9,0)),0,VLOOKUP($A264+8860000,'Growth Data'!$A:$Z,9,0))","v":0},0,null,"NO",{"$f":"IF(ISERROR(VLOOKUP($A264+8860000,'Growth Data'!$A:$Z,5,0)),\"NO\",VLOOKUP($A264+8860000,'Growth Data'!$A:$Z,5,0))","v":"NO"},0,null,0,{"$f":"IF(ISERROR(VLOOKUP($A264+8860000,'Growth Data'!$A:$Z,10,0)),0,VLOOKUP($A264+8860000,'Growth Data'!$A:$Z,10,0))","v":0},0,null,0,{"$f":"IF(ISERROR(VLOOKUP($A264+8860000,'Growth Data'!$A:$Z,11,0)),0,VLOOKUP($A264+8860000,'Growth Data'!$A:$Z,11,0))","v":0},0]
[5212,"Ditton Infant School",null,"Ditton Infant School",null,1,null,494907.2,494907.2,0,null,43650.720000000001,43650.722531645573,-2.5316455721622333E-3,null,8806.24,8806.24,0,null,31168.57,31168.568888888891,1.111111108912155E-3,null,120084,120084,0,null,0,0,0,null,0,0,0,null,0,0,0,null,3942,3942,0,null,0,0,0,null,0,0,0,null,0,0,0,null,702558.73,702558.73142053455,-1.4205345651134849E-3,null,0,0,0,null,702558.73,702558.73142053455,-1.4205345651134849E-3,null,0,null,0,null,null,null,0,null,null,null,0,null,81114.509999999995,81114.51372754261,0,null,4208,4208,0,null,null,null,0,null,null,null,0,null,null,null,0,null,null,null,0,null,null,null,0,null,null,null,0,null,"NO",{"$f":"IF(ISERROR(VLOOKUP($A265+8860000,'Growth Data'!$A:$F,3,0)),\"NO\",VLOOKUP($A265+8860000,'Growth Data'!$A:$F,3,0))","v":"NO"},0,null,0,{"$f":"IF(DI265=\"YES\",IF(ISERROR(VLOOKUP($A265+8860000,'Growth Data'!$A:$F,6,0)),0,VLOOKUP($A265+8860000,'Growth Data'!$A:$F,6,0)),0)","v":0},0,null,0,{"$f":"IF(ISERROR(VLOOKUP($A265+8860000,'Growth Data'!$A:$Z,7,0)),0,VLOOKUP($A265+8860000,'Growth Data'!$A:$Z,7,0))","v":0},0,null,"NO",{"$f":"IF(ISERROR(VLOOKUP($A265+8860000,'Growth Data'!$A:$F,4,0)),\"NO\",VLOOKUP($A265+8860000,'Growth Data'!$A:$F,4,0))","v":"NO"},0,null,0,{"$f":"IF(ISERROR(VLOOKUP($A265+8860000,'Growth Data'!$A:$Z,8,0)),0,VLOOKUP($A265+8860000,'Growth Data'!$A:$Z,8,0))","v":0},0,null,0,{"$f":"IF(ISERROR(VLOOKUP($A265+8860000,'Growth Data'!$A:$Z,9,0)),0,VLOOKUP($A265+8860000,'Growth Data'!$A:$Z,9,0))","v":0},0,null,"NO",{"$f":"IF(ISERROR(VLOOKUP($A265+8860000,'Growth Data'!$A:$Z,5,0)),\"NO\",VLOOKUP($A265+8860000,'Growth Data'!$A:$Z,5,0))","v":"NO"},0,null,0,{"$f":"IF(ISERROR(VLOOKUP($A265+8860000,'Growth Data'!$A:$Z,10,0)),0,VLOOKUP($A265+8860000,'Growth Data'!$A:$Z,10,0))","v":0},0,null,0,{"$f":"IF(ISERROR(VLOOKUP($A265+8860000,'Growth Data'!$A:$Z,11,0)),0,VLOOKUP($A265+8860000,'Growth Data'!$A:$Z,11,0))","v":0},0]
[5213,"Holy Trinity Church of England Primary School, Dartford",null,"Holy Trinity Church of England Primary School, Dartford",null,1,null,1302224.57,1302224.57,0,null,72907.38,72907.377712264191,2.2877358132973313E-3,null,51779.71,51779.707262569835,2.737430164415855E-3,null,96218,96217.998314285709,1.6857142909429967E-3,null,120084,120084,0,null,0,0,0,null,60470.26,60470.262441039602,-2.4410395999439061E-3,null,0,0,0,null,8550,8550,0,null,0,0,0,null,0,0,0,null,56096.08,56096.084269840627,-4.2698406250565313E-3,null,1768330,1768330,0,null,0,0,0,null,1768330,1768330,0,null,0,null,0,null,null,null,0,null,null,null,0,null,267732,267731.99842390598,0,null,11479.76,11479.76064,0,null,null,null,0,null,null,null,0,null,null,null,0,null,null,null,0,null,null,null,0,null,null,null,0,null,"NO",{"$f":"IF(ISERROR(VLOOKUP($A266+8860000,'Growth Data'!$A:$F,3,0)),\"NO\",VLOOKUP($A266+8860000,'Growth Data'!$A:$F,3,0))","v":"NO"},0,null,0,{"$f":"IF(DI266=\"YES\",IF(ISERROR(VLOOKUP($A266+8860000,'Growth Data'!$A:$F,6,0)),0,VLOOKUP($A266+8860000,'Growth Data'!$A:$F,6,0)),0)","v":0},0,null,0,{"$f":"IF(ISERROR(VLOOKUP($A266+8860000,'Growth Data'!$A:$Z,7,0)),0,VLOOKUP($A266+8860000,'Growth Data'!$A:$Z,7,0))","v":0},0,null,"NO",{"$f":"IF(ISERROR(VLOOKUP($A266+8860000,'Growth Data'!$A:$F,4,0)),\"NO\",VLOOKUP($A266+8860000,'Growth Data'!$A:$F,4,0))","v":"NO"},0,null,0,{"$f":"IF(ISERROR(VLOOKUP($A266+8860000,'Growth Data'!$A:$Z,8,0)),0,VLOOKUP($A266+8860000,'Growth Data'!$A:$Z,8,0))","v":0},0,null,0,{"$f":"IF(ISERROR(VLOOKUP($A266+8860000,'Growth Data'!$A:$Z,9,0)),0,VLOOKUP($A266+8860000,'Growth Data'!$A:$Z,9,0))","v":0},0,null,"NO",{"$f":"IF(ISERROR(VLOOKUP($A266+8860000,'Growth Data'!$A:$Z,5,0)),\"NO\",VLOOKUP($A266+8860000,'Growth Data'!$A:$Z,5,0))","v":"NO"},0,null,0,{"$f":"IF(ISERROR(VLOOKUP($A266+8860000,'Growth Data'!$A:$Z,10,0)),0,VLOOKUP($A266+8860000,'Growth Data'!$A:$Z,10,0))","v":0},0,null,0,{"$f":"IF(ISERROR(VLOOKUP($A266+8860000,'Growth Data'!$A:$Z,11,0)),0,VLOOKUP($A266+8860000,'Growth Data'!$A:$Z,11,0))","v":0},0]
[5214,"St Bartholomew's Catholic Primary School, Swanley",null,"St Bartholomew's Catholic Primary School, Swanley",null,1,null,1045491.46,1045491.4600000001,0,null,139596.76,139596.75511363629,4.8863637202885002E-3,null,28225.52,28225.517517241289,2.482758711266797E-3,null,92919.75,92919.747208480563,2.791519436868839E-3,null,120084,120084,0,null,0,0,0,null,52488.480000000003,52488.483258088374,-3.2580883707851171E-3,null,0,0,0,null,6195,6195,0,null,0,0,0,null,0,0,0,null,0,0,0,null,1485000.96,1485000.9630974464,-3.0974464025348425E-3,null,0,0,0,null,1485000.96,1485000.9630974464,-3.0974464025348425E-3,null,0,null,0,null,null,null,0,null,null,null,0,null,251029.81,251029.8108653526,0,null,9216.5300000000007,9216.529919999999,0,null,null,null,0,null,null,null,0,null,null,null,0,null,null,null,0,null,null,null,0,null,null,null,0,null,"YES",{"$f":"IF(ISERROR(VLOOKUP($A267+8860000,'Growth Data'!$A:$F,3,0)),\"NO\",VLOOKUP($A267+8860000,'Growth Data'!$A:$F,3,0))","v":"NO"},1,null,20,{"$f":"IF(DI267=\"YES\",IF(ISERROR(VLOOKUP($A267+8860000,'Growth Data'!$A:$F,6,0)),0,VLOOKUP($A267+8860000,'Growth Data'!$A:$F,6,0)),0)","v":0},20,null,26,{"$f":"IF(ISERROR(VLOOKUP($A267+8860000,'Growth Data'!$A:$Z,7,0)),0,VLOOKUP($A267+8860000,'Growth Data'!$A:$Z,7,0))","v":0},1,null,"NO",{"$f":"IF(ISERROR(VLOOKUP($A267+8860000,'Growth Data'!$A:$F,4,0)),\"NO\",VLOOKUP($A267+8860000,'Growth Data'!$A:$F,4,0))","v":"NO"},0,null,0,{"$f":"IF(ISERROR(VLOOKUP($A267+8860000,'Growth Data'!$A:$Z,8,0)),0,VLOOKUP($A267+8860000,'Growth Data'!$A:$Z,8,0))","v":0},0,null,0,{"$f":"IF(ISERROR(VLOOKUP($A267+8860000,'Growth Data'!$A:$Z,9,0)),0,VLOOKUP($A267+8860000,'Growth Data'!$A:$Z,9,0))","v":0},0,null,"YES",{"$f":"IF(ISERROR(VLOOKUP($A267+8860000,'Growth Data'!$A:$Z,5,0)),\"NO\",VLOOKUP($A267+8860000,'Growth Data'!$A:$Z,5,0))","v":"NO"},1,null,21,{"$f":"IF(ISERROR(VLOOKUP($A267+8860000,'Growth Data'!$A:$Z,10,0)),0,VLOOKUP($A267+8860000,'Growth Data'!$A:$Z,10,0))","v":0},1,null,26,{"$f":"IF(ISERROR(VLOOKUP($A267+8860000,'Growth Data'!$A:$Z,11,0)),0,VLOOKUP($A267+8860000,'Growth Data'!$A:$Z,11,0))","v":0},1]
[5218,"Greatstone Primary School",null,"Greatstone Primary School",null,1,null,924857.83,924857.83000000007,0,null,87272.72,87272.719999999928,0,null,2465.42,2465.4173782771536,2.6217228464702202E-3,null,81604.31,81604.313791821551,-3.7918215530226007E-3,null,120084,120084,0,null,0,0,0,null,0,0,0,null,0,0,0,null,8346,8346,0,null,0,0,0,null,0,0,0,null,33535.72,33535.718829901307,1.170098694274202E-3,null,1258166,1258166,0,null,0,0,0,null,1258166,1258166,0,null,0,null,0,null,null,null,0,null,null,null,0,null,183954.35,183954.35230700811,0,null,7863.7,7863.7,0,null,null,null,0,null,null,null,0,null,null,null,0,null,null,null,0,null,null,null,0,null,null,null,0,null,"NO",{"$f":"IF(ISERROR(VLOOKUP($A268+8860000,'Growth Data'!$A:$F,3,0)),\"NO\",VLOOKUP($A268+8860000,'Growth Data'!$A:$F,3,0))","v":"NO"},0,null,0,{"$f":"IF(DI268=\"YES\",IF(ISERROR(VLOOKUP($A268+8860000,'Growth Data'!$A:$F,6,0)),0,VLOOKUP($A268+8860000,'Growth Data'!$A:$F,6,0)),0)","v":0},0,null,0,{"$f":"IF(ISERROR(VLOOKUP($A268+8860000,'Growth Data'!$A:$Z,7,0)),0,VLOOKUP($A268+8860000,'Growth Data'!$A:$Z,7,0))","v":0},0,null,"NO",{"$f":"IF(ISERROR(VLOOKUP($A268+8860000,'Growth Data'!$A:$F,4,0)),\"NO\",VLOOKUP($A268+8860000,'Growth Data'!$A:$F,4,0))","v":"NO"},0,null,0,{"$f":"IF(ISERROR(VLOOKUP($A268+8860000,'Growth Data'!$A:$Z,8,0)),0,VLOOKUP($A268+8860000,'Growth Data'!$A:$Z,8,0))","v":0},0,null,0,{"$f":"IF(ISERROR(VLOOKUP($A268+8860000,'Growth Data'!$A:$Z,9,0)),0,VLOOKUP($A268+8860000,'Growth Data'!$A:$Z,9,0))","v":0},0,null,"NO",{"$f":"IF(ISERROR(VLOOKUP($A268+8860000,'Growth Data'!$A:$Z,5,0)),\"NO\",VLOOKUP($A268+8860000,'Growth Data'!$A:$Z,5,0))","v":"NO"},0,null,0,{"$f":"IF(ISERROR(VLOOKUP($A268+8860000,'Growth Data'!$A:$Z,10,0)),0,VLOOKUP($A268+8860000,'Growth Data'!$A:$Z,10,0))","v":0},0,null,0,{"$f":"IF(ISERROR(VLOOKUP($A268+8860000,'Growth Data'!$A:$Z,11,0)),0,VLOOKUP($A268+8860000,'Growth Data'!$A:$Z,11,0))","v":0},0]
[5221,"Wincheap Foundation Primary School",null,"Wincheap Foundation Primary School",null,1,null,1351715.29,1351715.29,0,null,158461.22,158461.22095671971,-9.5671971212141216E-4,null,12121.72,12121.719283819633,7.1618036599829793E-4,null,126754.81,126754.80617647058,3.8235294196056202E-3,null,120084,120084,0,null,0,0,0,null,0,0,0,null,0,0,0,null,12110,12110,0,null,0,0,0,null,0,0,0,null,57522.96,57522.963582990051,-3.5829900516546331E-3,null,1838770,1838770,0,null,0,0,0,null,1838770,1838770,0,null,0,null,0,null,null,null,0,null,null,null,0,null,308619.28999999998,308619.29230700817,0,null,11493.1,11493.099999999999,0,null,null,null,0,null,null,null,0,null,null,null,0,null,null,null,0,null,null,null,0,null,null,null,0,null,"NO",{"$f":"IF(ISERROR(VLOOKUP($A269+8860000,'Growth Data'!$A:$F,3,0)),\"NO\",VLOOKUP($A269+8860000,'Growth Data'!$A:$F,3,0))","v":"NO"},0,null,0,{"$f":"IF(DI269=\"YES\",IF(ISERROR(VLOOKUP($A269+8860000,'Growth Data'!$A:$F,6,0)),0,VLOOKUP($A269+8860000,'Growth Data'!$A:$F,6,0)),0)","v":0},0,null,0,{"$f":"IF(ISERROR(VLOOKUP($A269+8860000,'Growth Data'!$A:$Z,7,0)),0,VLOOKUP($A269+8860000,'Growth Data'!$A:$Z,7,0))","v":0},0,null,"NO",{"$f":"IF(ISERROR(VLOOKUP($A269+8860000,'Growth Data'!$A:$F,4,0)),\"NO\",VLOOKUP($A269+8860000,'Growth Data'!$A:$F,4,0))","v":"NO"},0,null,0,{"$f":"IF(ISERROR(VLOOKUP($A269+8860000,'Growth Data'!$A:$Z,8,0)),0,VLOOKUP($A269+8860000,'Growth Data'!$A:$Z,8,0))","v":0},0,null,0,{"$f":"IF(ISERROR(VLOOKUP($A269+8860000,'Growth Data'!$A:$Z,9,0)),0,VLOOKUP($A269+8860000,'Growth Data'!$A:$Z,9,0))","v":0},0,null,"NO",{"$f":"IF(ISERROR(VLOOKUP($A269+8860000,'Growth Data'!$A:$Z,5,0)),\"NO\",VLOOKUP($A269+8860000,'Growth Data'!$A:$Z,5,0))","v":"NO"},0,null,0,{"$f":"IF(ISERROR(VLOOKUP($A269+8860000,'Growth Data'!$A:$Z,10,0)),0,VLOOKUP($A269+8860000,'Growth Data'!$A:$Z,10,0))","v":0},0,null,0,{"$f":"IF(ISERROR(VLOOKUP($A269+8860000,'Growth Data'!$A:$Z,11,0)),0,VLOOKUP($A269+8860000,'Growth Data'!$A:$Z,11,0))","v":0},0]
[5223,"Brookfield Junior School",null,"Brookfield Junior School",null,1,null,767106.16,767106.16,0,null,89465.06,89465.063333333368,-3.3333333703922108E-3,null,2201.56,2201.5599999999977,0,null,56800.41,56800.405573770498,4.4262295050430112E-3,null,120084,120084,0,null,0,0,0,null,0,0,0,null,0,0,0,null,25200,25200,0,null,0,0,0,null,0,0,0,null,982.81,982.81109289612505,-1.092896125101106E-3,null,1061840,1061840.0000000002,0,null,0,0,0,null,1061840,1061840.0000000002,0,null,0,null,0,null,null,null,0,null,null,null,0,null,123922.82,123922.82230700813,0,null,6522.4,6522.4,0,null,null,null,0,null,null,null,0,null,null,null,0,null,null,null,0,null,null,null,0,null,null,null,0,null,"NO",{"$f":"IF(ISERROR(VLOOKUP($A270+8860000,'Growth Data'!$A:$F,3,0)),\"NO\",VLOOKUP($A270+8860000,'Growth Data'!$A:$F,3,0))","v":"NO"},0,null,0,{"$f":"IF(DI270=\"YES\",IF(ISERROR(VLOOKUP($A270+8860000,'Growth Data'!$A:$F,6,0)),0,VLOOKUP($A270+8860000,'Growth Data'!$A:$F,6,0)),0)","v":0},0,null,0,{"$f":"IF(ISERROR(VLOOKUP($A270+8860000,'Growth Data'!$A:$Z,7,0)),0,VLOOKUP($A270+8860000,'Growth Data'!$A:$Z,7,0))","v":0},0,null,"NO",{"$f":"IF(ISERROR(VLOOKUP($A270+8860000,'Growth Data'!$A:$F,4,0)),\"NO\",VLOOKUP($A270+8860000,'Growth Data'!$A:$F,4,0))","v":"NO"},0,null,0,{"$f":"IF(ISERROR(VLOOKUP($A270+8860000,'Growth Data'!$A:$Z,8,0)),0,VLOOKUP($A270+8860000,'Growth Data'!$A:$Z,8,0))","v":0},0,null,0,{"$f":"IF(ISERROR(VLOOKUP($A270+8860000,'Growth Data'!$A:$Z,9,0)),0,VLOOKUP($A270+8860000,'Growth Data'!$A:$Z,9,0))","v":0},0,null,"NO",{"$f":"IF(ISERROR(VLOOKUP($A270+8860000,'Growth Data'!$A:$Z,5,0)),\"NO\",VLOOKUP($A270+8860000,'Growth Data'!$A:$Z,5,0))","v":"NO"},0,null,0,{"$f":"IF(ISERROR(VLOOKUP($A270+8860000,'Growth Data'!$A:$Z,10,0)),0,VLOOKUP($A270+8860000,'Growth Data'!$A:$Z,10,0))","v":0},0,null,0,{"$f":"IF(ISERROR(VLOOKUP($A270+8860000,'Growth Data'!$A:$Z,11,0)),0,VLOOKUP($A270+8860000,'Growth Data'!$A:$Z,11,0))","v":0},0]
[5225,"Harcourt Primary School",null,"Harcourt Primary School",null,1,null,556770.6,556770.6,0,null,61091.93,61091.933519553124,-3.519553123624064E-3,null,7122.69,7122.6941176470582,-4.1176470585924108E-3,null,53307.73,53307.729729729734,2.7027026953874156E-4,null,120084,120084,0,null,0,0,0,null,0,0,0,null,0,0,0,null,3507,3507,0,null,0,0,0,null,0,0,0,null,0,0,0,null,801883.96,801883.95736692986,2.6330701075494289E-3,null,0,0,0,null,801883.96,801883.95736692986,2.6330701075494289E-3,null,0,null,0,null,null,null,0,null,null,null,0,null,106582.7,106582.69967393803,0,null,4734,4734,0,null,null,null,0,null,null,null,0,null,null,null,0,null,null,null,0,null,null,null,0,null,null,null,0,null,"NO",{"$f":"IF(ISERROR(VLOOKUP($A271+8860000,'Growth Data'!$A:$F,3,0)),\"NO\",VLOOKUP($A271+8860000,'Growth Data'!$A:$F,3,0))","v":"NO"},0,null,0,{"$f":"IF(DI271=\"YES\",IF(ISERROR(VLOOKUP($A271+8860000,'Growth Data'!$A:$F,6,0)),0,VLOOKUP($A271+8860000,'Growth Data'!$A:$F,6,0)),0)","v":0},0,null,0,{"$f":"IF(ISERROR(VLOOKUP($A271+8860000,'Growth Data'!$A:$Z,7,0)),0,VLOOKUP($A271+8860000,'Growth Data'!$A:$Z,7,0))","v":0},0,null,"NO",{"$f":"IF(ISERROR(VLOOKUP($A271+8860000,'Growth Data'!$A:$F,4,0)),\"NO\",VLOOKUP($A271+8860000,'Growth Data'!$A:$F,4,0))","v":"NO"},0,null,0,{"$f":"IF(ISERROR(VLOOKUP($A271+8860000,'Growth Data'!$A:$Z,8,0)),0,VLOOKUP($A271+8860000,'Growth Data'!$A:$Z,8,0))","v":0},0,null,0,{"$f":"IF(ISERROR(VLOOKUP($A271+8860000,'Growth Data'!$A:$Z,9,0)),0,VLOOKUP($A271+8860000,'Growth Data'!$A:$Z,9,0))","v":0},0,null,"NO",{"$f":"IF(ISERROR(VLOOKUP($A271+8860000,'Growth Data'!$A:$Z,5,0)),\"NO\",VLOOKUP($A271+8860000,'Growth Data'!$A:$Z,5,0))","v":"NO"},0,null,0,{"$f":"IF(ISERROR(VLOOKUP($A271+8860000,'Growth Data'!$A:$Z,10,0)),0,VLOOKUP($A271+8860000,'Growth Data'!$A:$Z,10,0))","v":0},0,null,0,{"$f":"IF(ISERROR(VLOOKUP($A271+8860000,'Growth Data'!$A:$Z,11,0)),0,VLOOKUP($A271+8860000,'Growth Data'!$A:$Z,11,0))","v":0},0]
[5226,"Willesborough Junior School",null,"Willesborough Junior School",null,1,null,1565144.02,1565144.02,0,null,106240.64,106240.64216535439,-2.1653543954016641E-3,null,15961.31,15961.310000000005,0,null,107717.1,107717.10408997955,-4.0899795421864837E-3,null,120084,120084,0,null,0,0,0,null,0,0,0,null,0,0,0,null,10189,10189,0,null,0,0,0,null,0,0,0,null,199932.92,199932.92374466604,-3.7446660280693322E-3,null,2125269,2125269,0,null,0,0,0,null,2125269,2125269,0,null,0,null,0,null,null,null,0,null,null,null,0,null,401563.04,401563.04230700806,0,null,13307.8,13307.800000000001,0,null,null,null,0,null,null,null,0,null,null,null,0,null,null,null,0,null,null,null,0,null,null,null,0,null,"NO",{"$f":"IF(ISERROR(VLOOKUP($A272+8860000,'Growth Data'!$A:$F,3,0)),\"NO\",VLOOKUP($A272+8860000,'Growth Data'!$A:$F,3,0))","v":"NO"},0,null,0,{"$f":"IF(DI272=\"YES\",IF(ISERROR(VLOOKUP($A272+8860000,'Growth Data'!$A:$F,6,0)),0,VLOOKUP($A272+8860000,'Growth Data'!$A:$F,6,0)),0)","v":0},0,null,0,{"$f":"IF(ISERROR(VLOOKUP($A272+8860000,'Growth Data'!$A:$Z,7,0)),0,VLOOKUP($A272+8860000,'Growth Data'!$A:$Z,7,0))","v":0},0,null,"NO",{"$f":"IF(ISERROR(VLOOKUP($A272+8860000,'Growth Data'!$A:$F,4,0)),\"NO\",VLOOKUP($A272+8860000,'Growth Data'!$A:$F,4,0))","v":"NO"},0,null,0,{"$f":"IF(ISERROR(VLOOKUP($A272+8860000,'Growth Data'!$A:$Z,8,0)),0,VLOOKUP($A272+8860000,'Growth Data'!$A:$Z,8,0))","v":0},0,null,0,{"$f":"IF(ISERROR(VLOOKUP($A272+8860000,'Growth Data'!$A:$Z,9,0)),0,VLOOKUP($A272+8860000,'Growth Data'!$A:$Z,9,0))","v":0},0,null,"NO",{"$f":"IF(ISERROR(VLOOKUP($A272+8860000,'Growth Data'!$A:$Z,5,0)),\"NO\",VLOOKUP($A272+8860000,'Growth Data'!$A:$Z,5,0))","v":"NO"},0,null,0,{"$f":"IF(ISERROR(VLOOKUP($A272+8860000,'Growth Data'!$A:$Z,10,0)),0,VLOOKUP($A272+8860000,'Growth Data'!$A:$Z,10,0))","v":0},0,null,0,{"$f":"IF(ISERROR(VLOOKUP($A272+8860000,'Growth Data'!$A:$Z,11,0)),0,VLOOKUP($A272+8860000,'Growth Data'!$A:$Z,11,0))","v":0},0]
[5229,"Fleetdown Primary School",null,"Fleetdown Primary School",null,1,null,1896113.21,1896113.21,0,null,111255.23,111255.23366826163,-3.6682616337202489E-3,null,32774.94,32774.938228571409,1.7714285932015628E-3,null,142916.39000000001,142916.38510638298,4.8936170351225883E-3,null,120084,120084,0,null,0,0,0,null,84755.69,84755.690625718344,-6.2571834132540971E-4,null,0,0,0,null,50432,50432,0,null,0,0,0,null,0,0,0,null,174440.54,174440.54237106559,-2.3710655805189162E-3,null,2612772,2612772,0,null,0,0,0,null,2612772,2612772,0,null,0,null,0,null,null,null,0,null,null,null,0,null,447389.36,447389.35983190592,0,null,16715.189999999999,16715.18592,0,null,null,null,0,null,null,null,0,null,null,null,0,null,null,null,0,null,null,null,0,null,null,null,0,null,"NO",{"$f":"IF(ISERROR(VLOOKUP($A273+8860000,'Growth Data'!$A:$F,3,0)),\"NO\",VLOOKUP($A273+8860000,'Growth Data'!$A:$F,3,0))","v":"NO"},0,null,0,{"$f":"IF(DI273=\"YES\",IF(ISERROR(VLOOKUP($A273+8860000,'Growth Data'!$A:$F,6,0)),0,VLOOKUP($A273+8860000,'Growth Data'!$A:$F,6,0)),0)","v":0},0,null,0,{"$f":"IF(ISERROR(VLOOKUP($A273+8860000,'Growth Data'!$A:$Z,7,0)),0,VLOOKUP($A273+8860000,'Growth Data'!$A:$Z,7,0))","v":0},0,null,"NO",{"$f":"IF(ISERROR(VLOOKUP($A273+8860000,'Growth Data'!$A:$F,4,0)),\"NO\",VLOOKUP($A273+8860000,'Growth Data'!$A:$F,4,0))","v":"NO"},0,null,0,{"$f":"IF(ISERROR(VLOOKUP($A273+8860000,'Growth Data'!$A:$Z,8,0)),0,VLOOKUP($A273+8860000,'Growth Data'!$A:$Z,8,0))","v":0},0,null,0,{"$f":"IF(ISERROR(VLOOKUP($A273+8860000,'Growth Data'!$A:$Z,9,0)),0,VLOOKUP($A273+8860000,'Growth Data'!$A:$Z,9,0))","v":0},0,null,"NO",{"$f":"IF(ISERROR(VLOOKUP($A273+8860000,'Growth Data'!$A:$Z,5,0)),\"NO\",VLOOKUP($A273+8860000,'Growth Data'!$A:$Z,5,0))","v":"NO"},0,null,0,{"$f":"IF(ISERROR(VLOOKUP($A273+8860000,'Growth Data'!$A:$Z,10,0)),0,VLOOKUP($A273+8860000,'Growth Data'!$A:$Z,10,0))","v":0},0,null,0,{"$f":"IF(ISERROR(VLOOKUP($A273+8860000,'Growth Data'!$A:$Z,11,0)),0,VLOOKUP($A273+8860000,'Growth Data'!$A:$Z,11,0))","v":0},0]
[4026,"Dartford Science & Technology College",null,"Dartford Science & Technology College",null,1,null,3285849.58,3285849.58,0,null,239732.01,239732.00654696126,3.4530387492850423E-3,null,22290.6,22290.600000000035,-3.637978807091713E-11,null,268903.83,268903.83458291728,-4.5829172595404088E-3,null,117882.46,117882.46,0,null,0,0,0,null,144795.43,144795.43210557953,-2.1055795368738472E-3,null,0,0,0,null,131328,131328,0,null,0,0,0,null,0,0,0,null,0,0,0,null,4210781.91,4210781.9132354576,-3.2354574650526047E-3,null,0,0,0,null,4210781.91,4210781.9132354576,-3.2354574650526047E-3,null,0,null,0,null,null,null,0,null,null,null,0,null,497440.92,497440.91782909172,0,null,12610.52,12610.515456000001,0,null,null,null,0,null,null,null,0,null,null,null,0,null,null,null,0,null,null,null,0,null,null,null,0,null,"NO",{"$f":"IF(ISERROR(VLOOKUP($A274+8860000,'Growth Data'!$A:$F,3,0)),\"NO\",VLOOKUP($A274+8860000,'Growth Data'!$A:$F,3,0))","v":"NO"},0,null,0,{"$f":"IF(DI274=\"YES\",IF(ISERROR(VLOOKUP($A274+8860000,'Growth Data'!$A:$F,6,0)),0,VLOOKUP($A274+8860000,'Growth Data'!$A:$F,6,0)),0)","v":0},0,null,0,{"$f":"IF(ISERROR(VLOOKUP($A274+8860000,'Growth Data'!$A:$Z,7,0)),0,VLOOKUP($A274+8860000,'Growth Data'!$A:$Z,7,0))","v":0},0,null,"NO",{"$f":"IF(ISERROR(VLOOKUP($A274+8860000,'Growth Data'!$A:$F,4,0)),\"NO\",VLOOKUP($A274+8860000,'Growth Data'!$A:$F,4,0))","v":"NO"},0,null,0,{"$f":"IF(ISERROR(VLOOKUP($A274+8860000,'Growth Data'!$A:$Z,8,0)),0,VLOOKUP($A274+8860000,'Growth Data'!$A:$Z,8,0))","v":0},0,null,0,{"$f":"IF(ISERROR(VLOOKUP($A274+8860000,'Growth Data'!$A:$Z,9,0)),0,VLOOKUP($A274+8860000,'Growth Data'!$A:$Z,9,0))","v":0},0,null,"NO",{"$f":"IF(ISERROR(VLOOKUP($A274+8860000,'Growth Data'!$A:$Z,5,0)),\"NO\",VLOOKUP($A274+8860000,'Growth Data'!$A:$Z,5,0))","v":"NO"},0,null,0,{"$f":"IF(ISERROR(VLOOKUP($A274+8860000,'Growth Data'!$A:$Z,10,0)),0,VLOOKUP($A274+8860000,'Growth Data'!$A:$Z,10,0))","v":0},0,null,0,{"$f":"IF(ISERROR(VLOOKUP($A274+8860000,'Growth Data'!$A:$Z,11,0)),0,VLOOKUP($A274+8860000,'Growth Data'!$A:$Z,11,0))","v":0},0]
[4040,"Northfleet School for Girls",null,"Northfleet School for Girls",null,1,null,4072773.06,4072773.06,0,null,525766.73,525766.72649855714,3.5014428431168199E-3,null,44681.16,44681.157847533636,2.1524663679883815E-3,null,401044.96,401044.96203227679,-2.0322767668403685E-3,null,117882.46,117882.46,0,null,0,0,0,null,0,0,0,null,0,0,0,null,27136,27136,0,null,0,0,0,null,0,0,0,null,0,0,0,null,5189284.37,5189284.3663783679,3.6216322332620621E-3,null,0,0,0,null,5189284.37,5189284.3663783679,3.6216322332620621E-3,null,0,null,0,null,null,null,0,null,null,null,0,null,855446.12,855446.12111759733,0,null,15144.36,15144.36,0,null,null,null,0,null,null,null,0,null,null,null,0,null,null,null,0,null,null,null,0,null,null,null,0,null,"NO",{"$f":"IF(ISERROR(VLOOKUP($A275+8860000,'Growth Data'!$A:$F,3,0)),\"NO\",VLOOKUP($A275+8860000,'Growth Data'!$A:$F,3,0))","v":"NO"},0,null,0,{"$f":"IF(DI275=\"YES\",IF(ISERROR(VLOOKUP($A275+8860000,'Growth Data'!$A:$F,6,0)),0,VLOOKUP($A275+8860000,'Growth Data'!$A:$F,6,0)),0)","v":0},0,null,0,{"$f":"IF(ISERROR(VLOOKUP($A275+8860000,'Growth Data'!$A:$Z,7,0)),0,VLOOKUP($A275+8860000,'Growth Data'!$A:$Z,7,0))","v":0},0,null,"NO",{"$f":"IF(ISERROR(VLOOKUP($A275+8860000,'Growth Data'!$A:$F,4,0)),\"NO\",VLOOKUP($A275+8860000,'Growth Data'!$A:$F,4,0))","v":"NO"},0,null,0,{"$f":"IF(ISERROR(VLOOKUP($A275+8860000,'Growth Data'!$A:$Z,8,0)),0,VLOOKUP($A275+8860000,'Growth Data'!$A:$Z,8,0))","v":0},0,null,0,{"$f":"IF(ISERROR(VLOOKUP($A275+8860000,'Growth Data'!$A:$Z,9,0)),0,VLOOKUP($A275+8860000,'Growth Data'!$A:$Z,9,0))","v":0},0,null,"NO",{"$f":"IF(ISERROR(VLOOKUP($A275+8860000,'Growth Data'!$A:$Z,5,0)),\"NO\",VLOOKUP($A275+8860000,'Growth Data'!$A:$Z,5,0))","v":"NO"},0,null,0,{"$f":"IF(ISERROR(VLOOKUP($A275+8860000,'Growth Data'!$A:$Z,10,0)),0,VLOOKUP($A275+8860000,'Growth Data'!$A:$Z,10,0))","v":0},0,null,0,{"$f":"IF(ISERROR(VLOOKUP($A275+8860000,'Growth Data'!$A:$Z,11,0)),0,VLOOKUP($A275+8860000,'Growth Data'!$A:$Z,11,0))","v":0},0]
[4043,"Tunbridge Wells Girls' Grammar School",null,"Tunbridge Wells Girls' Grammar School",null,1,null,3302268.04,3302268.04,0,null,44928.93,44928.926556695245,3.4433047549100593E-3,null,7430.2,7430.2000000000007,0,null,8694.73,8694.7251723560312,4.8276439683831995E-3,null,117882.46,117882.46,0,null,0,0,0,null,0,0,0,null,0,0,0,null,42496,42496,0,null,0,0,0,null,0,0,0,null,423010.65,423010.64827094873,1.7290512914769351E-3,null,3946711,3946711.0000000005,0,null,0,0,0,null,3946711,3946711.0000000005,0,null,0,null,0,null,null,null,0,null,null,null,0,null,481716.81,481716.81473922997,0,null,12213.74,12213.74,0,null,null,null,0,null,null,null,0,null,null,null,0,null,null,null,0,null,null,null,0,null,null,null,0,null,"NO",{"$f":"IF(ISERROR(VLOOKUP($A276+8860000,'Growth Data'!$A:$F,3,0)),\"NO\",VLOOKUP($A276+8860000,'Growth Data'!$A:$F,3,0))","v":"NO"},0,null,0,{"$f":"IF(DI276=\"YES\",IF(ISERROR(VLOOKUP($A276+8860000,'Growth Data'!$A:$F,6,0)),0,VLOOKUP($A276+8860000,'Growth Data'!$A:$F,6,0)),0)","v":0},0,null,0,{"$f":"IF(ISERROR(VLOOKUP($A276+8860000,'Growth Data'!$A:$Z,7,0)),0,VLOOKUP($A276+8860000,'Growth Data'!$A:$Z,7,0))","v":0},0,null,"NO",{"$f":"IF(ISERROR(VLOOKUP($A276+8860000,'Growth Data'!$A:$F,4,0)),\"NO\",VLOOKUP($A276+8860000,'Growth Data'!$A:$F,4,0))","v":"NO"},0,null,0,{"$f":"IF(ISERROR(VLOOKUP($A276+8860000,'Growth Data'!$A:$Z,8,0)),0,VLOOKUP($A276+8860000,'Growth Data'!$A:$Z,8,0))","v":0},0,null,0,{"$f":"IF(ISERROR(VLOOKUP($A276+8860000,'Growth Data'!$A:$Z,9,0)),0,VLOOKUP($A276+8860000,'Growth Data'!$A:$Z,9,0))","v":0},0,null,"NO",{"$f":"IF(ISERROR(VLOOKUP($A276+8860000,'Growth Data'!$A:$Z,5,0)),\"NO\",VLOOKUP($A276+8860000,'Growth Data'!$A:$Z,5,0))","v":"NO"},0,null,0,{"$f":"IF(ISERROR(VLOOKUP($A276+8860000,'Growth Data'!$A:$Z,10,0)),0,VLOOKUP($A276+8860000,'Growth Data'!$A:$Z,10,0))","v":0},0,null,0,{"$f":"IF(ISERROR(VLOOKUP($A276+8860000,'Growth Data'!$A:$Z,11,0)),0,VLOOKUP($A276+8860000,'Growth Data'!$A:$Z,11,0))","v":0},0]
[4045,"Tunbridge Wells Grammar School for Boys",null,"Tunbridge Wells Grammar School for Boys",null,1,null,4998805.54,4998805.54,0,null,112849.41,112849.41233797239,-2.3379723861580715E-3,null,23776.639999999999,23776.639999999978,0,null,34009,34008.999047695746,9.5230425358749926E-4,null,117882.46,117882.46,0,null,0,0,0,null,0,0,0,null,0,0,0,null,166400,166400,0,null,0,0,0,null,0,0,0,null,636686.94999999995,636686.94861433178,1.3856681762263179E-3,null,6090410,6090410,0,null,6315.56,6315.5644265124574,-4.426512457030185E-3,null,6096725.5599999996,6096725.5644265125,-4.4265128672122955E-3,null,0,null,0,null,null,null,0,null,null,null,0,null,802543.8,802543.79916574224,0,null,18532.36,18532.36,0,null,null,null,0,null,null,null,0,null,null,null,0,null,null,null,0,null,null,null,0,null,null,null,0,null,"NO",{"$f":"IF(ISERROR(VLOOKUP($A277+8860000,'Growth Data'!$A:$F,3,0)),\"NO\",VLOOKUP($A277+8860000,'Growth Data'!$A:$F,3,0))","v":"YES"},1,null,0,{"$f":"IF(DI277=\"YES\",IF(ISERROR(VLOOKUP($A277+8860000,'Growth Data'!$A:$F,6,0)),0,VLOOKUP($A277+8860000,'Growth Data'!$A:$F,6,0)),0)","v":191},-191,null,0,{"$f":"IF(ISERROR(VLOOKUP($A277+8860000,'Growth Data'!$A:$Z,7,0)),0,VLOOKUP($A277+8860000,'Growth Data'!$A:$Z,7,0))","v":210},1,null,"NO",{"$f":"IF(ISERROR(VLOOKUP($A277+8860000,'Growth Data'!$A:$F,4,0)),\"NO\",VLOOKUP($A277+8860000,'Growth Data'!$A:$F,4,0))","v":"NO"},0,null,0,{"$f":"IF(ISERROR(VLOOKUP($A277+8860000,'Growth Data'!$A:$Z,8,0)),0,VLOOKUP($A277+8860000,'Growth Data'!$A:$Z,8,0))","v":0},0,null,0,{"$f":"IF(ISERROR(VLOOKUP($A277+8860000,'Growth Data'!$A:$Z,9,0)),0,VLOOKUP($A277+8860000,'Growth Data'!$A:$Z,9,0))","v":0},0,null,"NO",{"$f":"IF(ISERROR(VLOOKUP($A277+8860000,'Growth Data'!$A:$Z,5,0)),\"NO\",VLOOKUP($A277+8860000,'Growth Data'!$A:$Z,5,0))","v":"NO"},0,null,0,{"$f":"IF(ISERROR(VLOOKUP($A277+8860000,'Growth Data'!$A:$Z,10,0)),0,VLOOKUP($A277+8860000,'Growth Data'!$A:$Z,10,0))","v":0},0,null,0,{"$f":"IF(ISERROR(VLOOKUP($A277+8860000,'Growth Data'!$A:$Z,11,0)),0,VLOOKUP($A277+8860000,'Growth Data'!$A:$Z,11,0))","v":0},0]
[4065,"The Holmesdale School",null,"The Holmesdale School",null,1,null,2132473.56,2132473.56,0,null,238786.43,238786.42918533608,8.1466391566209495E-4,null,1486.04,1486.0399999999975,2.5011104298755527E-12,null,248333.93,248333.92907910323,9.2089676763862371E-4,null,117882.46,117882.46,0,null,0,0,0,null,0,0,0,null,0,0,0,null,36864,36864,0,null,1090919.3700000001,1090919.3735588063,-3.5588061437010765E-3,null,0,0,0,null,0,0,0,null,3866745.79,3866745.7918232456,-1.8232455477118492E-3,null,0,0,0,null,3866745.79,3866745.7918232456,-1.8232455477118492E-3,null,0,null,0,null,null,null,0,null,null,null,0,null,446671.19,446671.19300366915,0,null,7860.16,7860.16,0,null,null,null,0,null,null,null,0,null,null,null,0,null,null,null,0,null,null,null,0,null,null,null,0,null,"NO",{"$f":"IF(ISERROR(VLOOKUP($A278+8860000,'Growth Data'!$A:$F,3,0)),\"NO\",VLOOKUP($A278+8860000,'Growth Data'!$A:$F,3,0))","v":"NO"},0,null,0,{"$f":"IF(DI278=\"YES\",IF(ISERROR(VLOOKUP($A278+8860000,'Growth Data'!$A:$F,6,0)),0,VLOOKUP($A278+8860000,'Growth Data'!$A:$F,6,0)),0)","v":0},0,null,0,{"$f":"IF(ISERROR(VLOOKUP($A278+8860000,'Growth Data'!$A:$Z,7,0)),0,VLOOKUP($A278+8860000,'Growth Data'!$A:$Z,7,0))","v":0},0,null,"NO",{"$f":"IF(ISERROR(VLOOKUP($A278+8860000,'Growth Data'!$A:$F,4,0)),\"NO\",VLOOKUP($A278+8860000,'Growth Data'!$A:$F,4,0))","v":"NO"},0,null,0,{"$f":"IF(ISERROR(VLOOKUP($A278+8860000,'Growth Data'!$A:$Z,8,0)),0,VLOOKUP($A278+8860000,'Growth Data'!$A:$Z,8,0))","v":0},0,null,0,{"$f":"IF(ISERROR(VLOOKUP($A278+8860000,'Growth Data'!$A:$Z,9,0)),0,VLOOKUP($A278+8860000,'Growth Data'!$A:$Z,9,0))","v":0},0,null,"NO",{"$f":"IF(ISERROR(VLOOKUP($A278+8860000,'Growth Data'!$A:$Z,5,0)),\"NO\",VLOOKUP($A278+8860000,'Growth Data'!$A:$Z,5,0))","v":"NO"},0,null,0,{"$f":"IF(ISERROR(VLOOKUP($A278+8860000,'Growth Data'!$A:$Z,10,0)),0,VLOOKUP($A278+8860000,'Growth Data'!$A:$Z,10,0))","v":0},0,null,0,{"$f":"IF(ISERROR(VLOOKUP($A278+8860000,'Growth Data'!$A:$Z,11,0)),0,VLOOKUP($A278+8860000,'Growth Data'!$A:$Z,11,0))","v":0},0]
[4109,"Dover Grammar School for Girls",null,"Dover Grammar School for Girls",null,1,null,3158112.1,3158112.1,0,null,239991.96,239991.96487556092,-4.8755609313957393E-3,null,0,0,0,null,28851.94,28851.937089614992,2.9103850065439474E-3,null,117882.46,117882.46,0,null,0,0,0,null,0,0,0,null,0,0,0,null,79872,79872,0,null,0,0,0,null,0,0,0,null,191511.54,191511.53803482396,1.9651760521810502E-3,null,3816222,3816222,0,null,0,0,0,null,3816222,3816222,0,null,0,null,0,null,null,null,0,null,null,null,0,null,434531.43,434531.43473922985,0,null,11688.6,11688.599999999999,0,null,null,null,0,null,null,null,0,null,null,null,0,null,null,null,0,null,null,null,0,null,null,null,0,null,"NO",{"$f":"IF(ISERROR(VLOOKUP($A279+8860000,'Growth Data'!$A:$F,3,0)),\"NO\",VLOOKUP($A279+8860000,'Growth Data'!$A:$F,3,0))","v":"NO"},0,null,0,{"$f":"IF(DI279=\"YES\",IF(ISERROR(VLOOKUP($A279+8860000,'Growth Data'!$A:$F,6,0)),0,VLOOKUP($A279+8860000,'Growth Data'!$A:$F,6,0)),0)","v":0},0,null,0,{"$f":"IF(ISERROR(VLOOKUP($A279+8860000,'Growth Data'!$A:$Z,7,0)),0,VLOOKUP($A279+8860000,'Growth Data'!$A:$Z,7,0))","v":0},0,null,"NO",{"$f":"IF(ISERROR(VLOOKUP($A279+8860000,'Growth Data'!$A:$F,4,0)),\"NO\",VLOOKUP($A279+8860000,'Growth Data'!$A:$F,4,0))","v":"NO"},0,null,0,{"$f":"IF(ISERROR(VLOOKUP($A279+8860000,'Growth Data'!$A:$Z,8,0)),0,VLOOKUP($A279+8860000,'Growth Data'!$A:$Z,8,0))","v":0},0,null,0,{"$f":"IF(ISERROR(VLOOKUP($A279+8860000,'Growth Data'!$A:$Z,9,0)),0,VLOOKUP($A279+8860000,'Growth Data'!$A:$Z,9,0))","v":0},0,null,"NO",{"$f":"IF(ISERROR(VLOOKUP($A279+8860000,'Growth Data'!$A:$Z,5,0)),\"NO\",VLOOKUP($A279+8860000,'Growth Data'!$A:$Z,5,0))","v":"NO"},0,null,0,{"$f":"IF(ISERROR(VLOOKUP($A279+8860000,'Growth Data'!$A:$Z,10,0)),0,VLOOKUP($A279+8860000,'Growth Data'!$A:$Z,10,0))","v":0},0,null,0,{"$f":"IF(ISERROR(VLOOKUP($A279+8860000,'Growth Data'!$A:$Z,11,0)),0,VLOOKUP($A279+8860000,'Growth Data'!$A:$Z,11,0))","v":0},0]
[4246,"The North School",null,"The North School",null,1,null,4477251.42,4477251.42,0,null,478179.75,478179.75193223276,-1.9322327570989728E-3,null,53497.440000000002,53497.439999999944,5.8207660913467407E-11,null,496758.01,496758.0109873928,-9.8739279201254249E-4,null,117882.46,117882.46,0,null,0,0,0,null,0,0,0,null,0,0,0,null,224000,224000,0,null,1146980.0900000001,1146980.0859328506,4.0671494789421558E-3,null,0,0,0,null,0,0,0,null,6994549.1699999999,6994549.1688524764,1.1475235223770142E-3,null,0,0,0,null,6994549.1699999999,6994549.1688524764,1.1475235223770142E-3,null,0,null,0,null,null,null,0,null,null,null,0,null,927118.72,927118.71765885525,0,null,16652.02,16652.02,0,null,null,null,0,null,null,null,0,null,null,null,0,null,null,null,0,null,null,null,0,null,null,null,0,null,"NO",{"$f":"IF(ISERROR(VLOOKUP($A280+8860000,'Growth Data'!$A:$F,3,0)),\"NO\",VLOOKUP($A280+8860000,'Growth Data'!$A:$F,3,0))","v":"NO"},0,null,0,{"$f":"IF(DI280=\"YES\",IF(ISERROR(VLOOKUP($A280+8860000,'Growth Data'!$A:$F,6,0)),0,VLOOKUP($A280+8860000,'Growth Data'!$A:$F,6,0)),0)","v":0},0,null,0,{"$f":"IF(ISERROR(VLOOKUP($A280+8860000,'Growth Data'!$A:$Z,7,0)),0,VLOOKUP($A280+8860000,'Growth Data'!$A:$Z,7,0))","v":0},0,null,"NO",{"$f":"IF(ISERROR(VLOOKUP($A280+8860000,'Growth Data'!$A:$F,4,0)),\"NO\",VLOOKUP($A280+8860000,'Growth Data'!$A:$F,4,0))","v":"NO"},0,null,0,{"$f":"IF(ISERROR(VLOOKUP($A280+8860000,'Growth Data'!$A:$Z,8,0)),0,VLOOKUP($A280+8860000,'Growth Data'!$A:$Z,8,0))","v":0},0,null,0,{"$f":"IF(ISERROR(VLOOKUP($A280+8860000,'Growth Data'!$A:$Z,9,0)),0,VLOOKUP($A280+8860000,'Growth Data'!$A:$Z,9,0))","v":0},0,null,"NO",{"$f":"IF(ISERROR(VLOOKUP($A280+8860000,'Growth Data'!$A:$Z,5,0)),\"NO\",VLOOKUP($A280+8860000,'Growth Data'!$A:$Z,5,0))","v":"NO"},0,null,0,{"$f":"IF(ISERROR(VLOOKUP($A280+8860000,'Growth Data'!$A:$Z,10,0)),0,VLOOKUP($A280+8860000,'Growth Data'!$A:$Z,10,0))","v":0},0,null,0,{"$f":"IF(ISERROR(VLOOKUP($A280+8860000,'Growth Data'!$A:$Z,11,0)),0,VLOOKUP($A280+8860000,'Growth Data'!$A:$Z,11,0))","v":0},0]
[4522,"Maidstone Grammar School",null,"Maidstone Grammar School",null,1,null,4773395.5999999996,4773395.5999999996,0,null,115182.56,115182.55687128715,3.1287128513213247E-3,null,7430.2,7430.1999999999989,0,null,22970.69,22970.687327546773,2.6724532253865618E-3,null,117882.46,117882.46,0,null,0,0,0,null,0,0,0,null,0,0,0,null,35840,35840,0,null,0,0,0,null,0,0,0,null,616398.5,616398.49580116651,4.1988334851339459E-3,null,5689100,5689100.0000000009,0,null,0,0,0,null,5689100,5689100.0000000009,0,null,0,null,0,null,null,null,0,null,null,null,0,null,747665.93,747665.93473923043,0,null,17685.36,17685.36,0,null,null,null,0,null,null,null,0,null,null,null,0,null,null,null,0,null,null,null,0,null,null,null,0,null,"NO",{"$f":"IF(ISERROR(VLOOKUP($A281+8860000,'Growth Data'!$A:$F,3,0)),\"NO\",VLOOKUP($A281+8860000,'Growth Data'!$A:$F,3,0))","v":"YES"},1,null,0,{"$f":"IF(DI281=\"YES\",IF(ISERROR(VLOOKUP($A281+8860000,'Growth Data'!$A:$F,6,0)),0,VLOOKUP($A281+8860000,'Growth Data'!$A:$F,6,0)),0)","v":183},-183,null,0,{"$f":"IF(ISERROR(VLOOKUP($A281+8860000,'Growth Data'!$A:$Z,7,0)),0,VLOOKUP($A281+8860000,'Growth Data'!$A:$Z,7,0))","v":205},1,null,"NO",{"$f":"IF(ISERROR(VLOOKUP($A281+8860000,'Growth Data'!$A:$F,4,0)),\"NO\",VLOOKUP($A281+8860000,'Growth Data'!$A:$F,4,0))","v":"NO"},0,null,0,{"$f":"IF(ISERROR(VLOOKUP($A281+8860000,'Growth Data'!$A:$Z,8,0)),0,VLOOKUP($A281+8860000,'Growth Data'!$A:$Z,8,0))","v":0},0,null,0,{"$f":"IF(ISERROR(VLOOKUP($A281+8860000,'Growth Data'!$A:$Z,9,0)),0,VLOOKUP($A281+8860000,'Growth Data'!$A:$Z,9,0))","v":0},0,null,"NO",{"$f":"IF(ISERROR(VLOOKUP($A281+8860000,'Growth Data'!$A:$Z,5,0)),\"NO\",VLOOKUP($A281+8860000,'Growth Data'!$A:$Z,5,0))","v":"NO"},0,null,0,{"$f":"IF(ISERROR(VLOOKUP($A281+8860000,'Growth Data'!$A:$Z,10,0)),0,VLOOKUP($A281+8860000,'Growth Data'!$A:$Z,10,0))","v":0},0,null,0,{"$f":"IF(ISERROR(VLOOKUP($A281+8860000,'Growth Data'!$A:$Z,11,0)),0,VLOOKUP($A281+8860000,'Growth Data'!$A:$Z,11,0))","v":0},0]
[4523,"Maidstone Grammar School for Girls",null,"Maidstone Grammar School for Girls",null,1,null,4032188.28,4032188.28,0,null,134458.22,134458.22453038671,-4.5303867082111537E-3,null,1487.73,1487.7306029579108,-6.0295791081443895E-4,null,18050.87,18050.871395645794,-1.3956457951280754E-3,null,117882.46,117882.46,0,null,0,0,0,null,0,0,0,null,0,0,0,null,35328,35328,0,null,0,0,0,null,0,0,0,null,461132.43,461132.43347100978,-3.4710097825154662E-3,null,4800528,4800528,0,null,0,0,0,null,4800528,4800528,0,null,0,null,0,null,null,null,0,null,null,null,0,null,602654.53,602654.53473923018,0,null,14907.2,14907.2,0,null,null,null,0,null,null,null,0,null,null,null,0,null,null,null,0,null,null,null,0,null,null,null,0,null,"NO",{"$f":"IF(ISERROR(VLOOKUP($A282+8860000,'Growth Data'!$A:$F,3,0)),\"NO\",VLOOKUP($A282+8860000,'Growth Data'!$A:$F,3,0))","v":"NO"},0,null,0,{"$f":"IF(DI282=\"YES\",IF(ISERROR(VLOOKUP($A282+8860000,'Growth Data'!$A:$F,6,0)),0,VLOOKUP($A282+8860000,'Growth Data'!$A:$F,6,0)),0)","v":0},0,null,0,{"$f":"IF(ISERROR(VLOOKUP($A282+8860000,'Growth Data'!$A:$Z,7,0)),0,VLOOKUP($A282+8860000,'Growth Data'!$A:$Z,7,0))","v":0},0,null,"YES",{"$f":"IF(ISERROR(VLOOKUP($A282+8860000,'Growth Data'!$A:$F,4,0)),\"NO\",VLOOKUP($A282+8860000,'Growth Data'!$A:$F,4,0))","v":"NO"},1,null,31,{"$f":"IF(ISERROR(VLOOKUP($A282+8860000,'Growth Data'!$A:$Z,8,0)),0,VLOOKUP($A282+8860000,'Growth Data'!$A:$Z,8,0))","v":0},1,null,60,{"$f":"IF(ISERROR(VLOOKUP($A282+8860000,'Growth Data'!$A:$Z,9,0)),0,VLOOKUP($A282+8860000,'Growth Data'!$A:$Z,9,0))","v":0},1,null,"NO",{"$f":"IF(ISERROR(VLOOKUP($A282+8860000,'Growth Data'!$A:$Z,5,0)),\"NO\",VLOOKUP($A282+8860000,'Growth Data'!$A:$Z,5,0))","v":"NO"},0,null,0,{"$f":"IF(ISERROR(VLOOKUP($A282+8860000,'Growth Data'!$A:$Z,10,0)),0,VLOOKUP($A282+8860000,'Growth Data'!$A:$Z,10,0))","v":0},0,null,0,{"$f":"IF(ISERROR(VLOOKUP($A282+8860000,'Growth Data'!$A:$Z,11,0)),0,VLOOKUP($A282+8860000,'Growth Data'!$A:$Z,11,0))","v":0},0]
[4534,"Simon Langton Girls' Grammar School",null,"Simon Langton Girls' Grammar School",null,1,null,3978710.8,3978710.8000000003,0,null,145306.65,145306.65050730979,-5.073098000138998E-4,null,28267.33,28267.32604382934,3.9561706616950687E-3,null,22719.200000000001,22719.198242933748,1.7570662530488335E-3,null,117882.46,117882.46,0,null,0,0,0,null,0,0,0,null,0,0,0,null,165120,165120,0,null,0,0,0,null,0,0,0,null,407333.57,407333.56520592683,4.7940731747075915E-3,null,4865340,4865340.0000000009,0,null,0,0,0,null,4865340,4865340.0000000009,0,null,0,null,0,null,null,null,0,null,null,null,0,null,585167.85,585167.85473922966,0,null,14703.92,14703.92,0,null,null,null,0,null,null,null,0,null,null,null,0,null,null,null,0,null,null,null,0,null,null,null,0,null,"NO",{"$f":"IF(ISERROR(VLOOKUP($A283+8860000,'Growth Data'!$A:$F,3,0)),\"NO\",VLOOKUP($A283+8860000,'Growth Data'!$A:$F,3,0))","v":"NO"},0,null,0,{"$f":"IF(DI283=\"YES\",IF(ISERROR(VLOOKUP($A283+8860000,'Growth Data'!$A:$F,6,0)),0,VLOOKUP($A283+8860000,'Growth Data'!$A:$F,6,0)),0)","v":0},0,null,0,{"$f":"IF(ISERROR(VLOOKUP($A283+8860000,'Growth Data'!$A:$Z,7,0)),0,VLOOKUP($A283+8860000,'Growth Data'!$A:$Z,7,0))","v":0},0,null,"NO",{"$f":"IF(ISERROR(VLOOKUP($A283+8860000,'Growth Data'!$A:$F,4,0)),\"NO\",VLOOKUP($A283+8860000,'Growth Data'!$A:$F,4,0))","v":"NO"},0,null,0,{"$f":"IF(ISERROR(VLOOKUP($A283+8860000,'Growth Data'!$A:$Z,8,0)),0,VLOOKUP($A283+8860000,'Growth Data'!$A:$Z,8,0))","v":0},0,null,0,{"$f":"IF(ISERROR(VLOOKUP($A283+8860000,'Growth Data'!$A:$Z,9,0)),0,VLOOKUP($A283+8860000,'Growth Data'!$A:$Z,9,0))","v":0},0,null,"NO",{"$f":"IF(ISERROR(VLOOKUP($A283+8860000,'Growth Data'!$A:$Z,5,0)),\"NO\",VLOOKUP($A283+8860000,'Growth Data'!$A:$Z,5,0))","v":"NO"},0,null,0,{"$f":"IF(ISERROR(VLOOKUP($A283+8860000,'Growth Data'!$A:$Z,10,0)),0,VLOOKUP($A283+8860000,'Growth Data'!$A:$Z,10,0))","v":0},0,null,0,{"$f":"IF(ISERROR(VLOOKUP($A283+8860000,'Growth Data'!$A:$Z,11,0)),0,VLOOKUP($A283+8860000,'Growth Data'!$A:$Z,11,0))","v":0},0]
[4622,"The Judd School",null,"The Judd School",null,1,null,4185484.76,4185484.76,0,null,49110.559999999998,49110.561428571404,-1.4285714059951715E-3,null,31206.84,31206.839999999935,6.5483618527650833E-11,null,3700.22,3700.216758288766,3.2417112338407605E-3,null,117882.46,117882.46,0,null,0,0,0,null,0,0,0,null,0,0,0,null,51200,51200,0,null,0,0,0,null,0,0,0,null,567340.16,567340.16181314015,-1.8131401157006621E-3,null,5005925,5005924.9999999991,0,null,0,0,0,null,5005925,5005924.9999999991,0,null,0,null,0,null,null,null,0,null,null,null,0,null,646708.49,646708.49473923026,0,null,15500.1,15500.099999999999,0,null,null,null,0,null,null,null,0,null,null,null,0,null,null,null,0,null,null,null,0,null,null,null,0,null,"NO",{"$f":"IF(ISERROR(VLOOKUP($A284+8860000,'Growth Data'!$A:$F,3,0)),\"NO\",VLOOKUP($A284+8860000,'Growth Data'!$A:$F,3,0))","v":"YES"},1,null,0,{"$f":"IF(DI284=\"YES\",IF(ISERROR(VLOOKUP($A284+8860000,'Growth Data'!$A:$F,6,0)),0,VLOOKUP($A284+8860000,'Growth Data'!$A:$F,6,0)),0)","v":159},-159,null,0,{"$f":"IF(ISERROR(VLOOKUP($A284+8860000,'Growth Data'!$A:$Z,7,0)),0,VLOOKUP($A284+8860000,'Growth Data'!$A:$Z,7,0))","v":180},1,null,"NO",{"$f":"IF(ISERROR(VLOOKUP($A284+8860000,'Growth Data'!$A:$F,4,0)),\"NO\",VLOOKUP($A284+8860000,'Growth Data'!$A:$F,4,0))","v":"NO"},0,null,0,{"$f":"IF(ISERROR(VLOOKUP($A284+8860000,'Growth Data'!$A:$Z,8,0)),0,VLOOKUP($A284+8860000,'Growth Data'!$A:$Z,8,0))","v":0},0,null,0,{"$f":"IF(ISERROR(VLOOKUP($A284+8860000,'Growth Data'!$A:$Z,9,0)),0,VLOOKUP($A284+8860000,'Growth Data'!$A:$Z,9,0))","v":0},0,null,"NO",{"$f":"IF(ISERROR(VLOOKUP($A284+8860000,'Growth Data'!$A:$Z,5,0)),\"NO\",VLOOKUP($A284+8860000,'Growth Data'!$A:$Z,5,0))","v":"NO"},0,null,0,{"$f":"IF(ISERROR(VLOOKUP($A284+8860000,'Growth Data'!$A:$Z,10,0)),0,VLOOKUP($A284+8860000,'Growth Data'!$A:$Z,10,0))","v":0},0,null,0,{"$f":"IF(ISERROR(VLOOKUP($A284+8860000,'Growth Data'!$A:$Z,11,0)),0,VLOOKUP($A284+8860000,'Growth Data'!$A:$Z,11,0))","v":0},0]
[5407,"Thamesview School",null,"Thamesview School",null,1,null,3912212.12,3912212.12,0,null,527868.49,527868.49020282447,-2.0282447803765535E-4,null,27002.26,27002.262369668275,-2.369668276514858E-3,null,441016.52,441016.52216030087,-2.1603008499369025E-3,null,117882.46,117882.46,0,null,0,0,0,null,0,0,0,null,0,0,0,null,37376,37376,0,null,977651.98,977651.97682433249,3.1756674870848656E-3,null,0,0,0,null,0,0,0,null,6041009.8300000001,6041009.8315571267,-1.5571266412734985E-3,null,0,0,0,null,6041009.8300000001,6041009.8315571267,-1.5571266412734985E-3,null,0,null,0,null,null,null,0,null,null,null,0,null,884904.07,884904.0694720234,0,null,14432.88,14432.879999999997,0,null,null,null,0,null,null,null,0,null,null,null,0,null,null,null,0,null,null,null,0,null,null,null,0,null,"NO",{"$f":"IF(ISERROR(VLOOKUP($A285+8860000,'Growth Data'!$A:$F,3,0)),\"NO\",VLOOKUP($A285+8860000,'Growth Data'!$A:$F,3,0))","v":"NO"},0,null,0,{"$f":"IF(DI285=\"YES\",IF(ISERROR(VLOOKUP($A285+8860000,'Growth Data'!$A:$F,6,0)),0,VLOOKUP($A285+8860000,'Growth Data'!$A:$F,6,0)),0)","v":0},0,null,0,{"$f":"IF(ISERROR(VLOOKUP($A285+8860000,'Growth Data'!$A:$Z,7,0)),0,VLOOKUP($A285+8860000,'Growth Data'!$A:$Z,7,0))","v":0},0,null,"NO",{"$f":"IF(ISERROR(VLOOKUP($A285+8860000,'Growth Data'!$A:$F,4,0)),\"NO\",VLOOKUP($A285+8860000,'Growth Data'!$A:$F,4,0))","v":"NO"},0,null,0,{"$f":"IF(ISERROR(VLOOKUP($A285+8860000,'Growth Data'!$A:$Z,8,0)),0,VLOOKUP($A285+8860000,'Growth Data'!$A:$Z,8,0))","v":0},0,null,0,{"$f":"IF(ISERROR(VLOOKUP($A285+8860000,'Growth Data'!$A:$Z,9,0)),0,VLOOKUP($A285+8860000,'Growth Data'!$A:$Z,9,0))","v":0},0,null,"NO",{"$f":"IF(ISERROR(VLOOKUP($A285+8860000,'Growth Data'!$A:$Z,5,0)),\"NO\",VLOOKUP($A285+8860000,'Growth Data'!$A:$Z,5,0))","v":"NO"},0,null,0,{"$f":"IF(ISERROR(VLOOKUP($A285+8860000,'Growth Data'!$A:$Z,10,0)),0,VLOOKUP($A285+8860000,'Growth Data'!$A:$Z,10,0))","v":0},0,null,0,{"$f":"IF(ISERROR(VLOOKUP($A285+8860000,'Growth Data'!$A:$Z,11,0)),0,VLOOKUP($A285+8860000,'Growth Data'!$A:$Z,11,0))","v":0},0]
[5410,"Aylesford School",null,"Aylesford School",null,1,null,3048726.68,3048726.68,0,null,281334.74,281334.744940579,-4.9405790050514042E-3,null,13374.36,13374.360000000021,-2.0008883439004421E-11,null,300781.84999999998,300781.8527997972,-2.7997972210869193E-3,null,117882.46,117882.46,0,null,0,0,0,null,0,0,0,null,0,0,0,null,37888,37888,0,null,944630.79,944630.78662416141,3.3758386271074414E-3,null,0,0,0,null,0,0,0,null,4744618.88,4744618.8843645379,-4.3645380064845085E-3,null,0,0,0,null,4744618.88,4744618.8843645379,-4.3645380064845085E-3,null,0,null,0,null,null,null,0,null,null,null,0,null,536523.91,536523.91247960622,0,null,11332.86,11332.86,0,null,null,null,0,null,null,null,0,null,null,null,0,null,null,null,0,null,null,null,0,null,null,null,0,null,"NO",{"$f":"IF(ISERROR(VLOOKUP($A286+8860000,'Growth Data'!$A:$F,3,0)),\"NO\",VLOOKUP($A286+8860000,'Growth Data'!$A:$F,3,0))","v":"NO"},0,null,0,{"$f":"IF(DI286=\"YES\",IF(ISERROR(VLOOKUP($A286+8860000,'Growth Data'!$A:$F,6,0)),0,VLOOKUP($A286+8860000,'Growth Data'!$A:$F,6,0)),0)","v":0},0,null,0,{"$f":"IF(ISERROR(VLOOKUP($A286+8860000,'Growth Data'!$A:$Z,7,0)),0,VLOOKUP($A286+8860000,'Growth Data'!$A:$Z,7,0))","v":0},0,null,"NO",{"$f":"IF(ISERROR(VLOOKUP($A286+8860000,'Growth Data'!$A:$F,4,0)),\"NO\",VLOOKUP($A286+8860000,'Growth Data'!$A:$F,4,0))","v":"NO"},0,null,0,{"$f":"IF(ISERROR(VLOOKUP($A286+8860000,'Growth Data'!$A:$Z,8,0)),0,VLOOKUP($A286+8860000,'Growth Data'!$A:$Z,8,0))","v":0},0,null,0,{"$f":"IF(ISERROR(VLOOKUP($A286+8860000,'Growth Data'!$A:$Z,9,0)),0,VLOOKUP($A286+8860000,'Growth Data'!$A:$Z,9,0))","v":0},0,null,"NO",{"$f":"IF(ISERROR(VLOOKUP($A286+8860000,'Growth Data'!$A:$Z,5,0)),\"NO\",VLOOKUP($A286+8860000,'Growth Data'!$A:$Z,5,0))","v":"NO"},0,null,0,{"$f":"IF(ISERROR(VLOOKUP($A286+8860000,'Growth Data'!$A:$Z,10,0)),0,VLOOKUP($A286+8860000,'Growth Data'!$A:$Z,10,0))","v":0},0,null,0,{"$f":"IF(ISERROR(VLOOKUP($A286+8860000,'Growth Data'!$A:$Z,11,0)),0,VLOOKUP($A286+8860000,'Growth Data'!$A:$Z,11,0))","v":0},0]
[5412,"Simon Langton Grammar School for Boys",null,"Simon Langton Grammar School for Boys",null,1,null,3273240.8,3273240.8,0,null,85305.7,85305.696211825925,3.7881740718148649E-3,null,22290.6,22290.600000000039,-4.0017766878008842E-11,null,8335.35,8335.3530311579871,-3.031157986697508E-3,null,117882.46,117882.46,0,null,0,0,0,null,0,0,0,null,0,0,0,null,32256,32256,0,null,0,0,0,null,0,0,0,null,370085.09,370085.09075701621,-7.5701618334278464E-4,null,3909396,3909396,0,null,0,0,0,null,3909396,3909396,0,null,0,null,0,null,null,null,0,null,null,null,0,null,480907.13,480907.13473923004,0,null,12129.04,12129.04,0,null,null,null,0,null,null,null,0,null,null,null,0,null,null,null,0,null,null,null,0,null,null,null,0,null,"NO",{"$f":"IF(ISERROR(VLOOKUP($A287+8860000,'Growth Data'!$A:$F,3,0)),\"NO\",VLOOKUP($A287+8860000,'Growth Data'!$A:$F,3,0))","v":"NO"},0,null,0,{"$f":"IF(DI287=\"YES\",IF(ISERROR(VLOOKUP($A287+8860000,'Growth Data'!$A:$F,6,0)),0,VLOOKUP($A287+8860000,'Growth Data'!$A:$F,6,0)),0)","v":0},0,null,0,{"$f":"IF(ISERROR(VLOOKUP($A287+8860000,'Growth Data'!$A:$Z,7,0)),0,VLOOKUP($A287+8860000,'Growth Data'!$A:$Z,7,0))","v":0},0,null,"NO",{"$f":"IF(ISERROR(VLOOKUP($A287+8860000,'Growth Data'!$A:$F,4,0)),\"NO\",VLOOKUP($A287+8860000,'Growth Data'!$A:$F,4,0))","v":"NO"},0,null,0,{"$f":"IF(ISERROR(VLOOKUP($A287+8860000,'Growth Data'!$A:$Z,8,0)),0,VLOOKUP($A287+8860000,'Growth Data'!$A:$Z,8,0))","v":0},0,null,0,{"$f":"IF(ISERROR(VLOOKUP($A287+8860000,'Growth Data'!$A:$Z,9,0)),0,VLOOKUP($A287+8860000,'Growth Data'!$A:$Z,9,0))","v":0},0,null,"NO",{"$f":"IF(ISERROR(VLOOKUP($A287+8860000,'Growth Data'!$A:$Z,5,0)),\"NO\",VLOOKUP($A287+8860000,'Growth Data'!$A:$Z,5,0))","v":"NO"},0,null,0,{"$f":"IF(ISERROR(VLOOKUP($A287+8860000,'Growth Data'!$A:$Z,10,0)),0,VLOOKUP($A287+8860000,'Growth Data'!$A:$Z,10,0))","v":0},0,null,0,{"$f":"IF(ISERROR(VLOOKUP($A287+8860000,'Growth Data'!$A:$Z,11,0)),0,VLOOKUP($A287+8860000,'Growth Data'!$A:$Z,11,0))","v":0},0]
[5425,"The Malling School",null,"The Malling School",null,1,null,4184930.38,4184930.38,0,null,392444.2,392444.20474048436,-4.7404843498952687E-3,null,2972.08,2972.0800000000054,-5.4569682106375694E-12,null,418980.76,418980.75952218939,4.7781062312424183E-4,null,117882.46,117882.46,0,null,0,0,0,null,0,0,0,null,0,0,0,null,33792,33792,0,null,860920.35,860920.34994980367,5.0196307711303234E-5,null,0,0,0,null,0,0,0,null,6011922.2300000004,6011922.2342124768,-4.2124763131141663E-3,null,0,0,0,null,6011922.2300000004,6011922.2342124768,-4.2124763131141663E-3,null,0,null,0,null,null,null,0,null,null,null,0,null,739318.8,739318.79900190362,0,null,15500.1,15500.099999999999,0,null,null,null,0,null,null,null,0,null,null,null,0,null,null,null,0,null,null,null,0,null,null,null,0,null,"NO",{"$f":"IF(ISERROR(VLOOKUP($A288+8860000,'Growth Data'!$A:$F,3,0)),\"NO\",VLOOKUP($A288+8860000,'Growth Data'!$A:$F,3,0))","v":"NO"},0,null,0,{"$f":"IF(DI288=\"YES\",IF(ISERROR(VLOOKUP($A288+8860000,'Growth Data'!$A:$F,6,0)),0,VLOOKUP($A288+8860000,'Growth Data'!$A:$F,6,0)),0)","v":0},0,null,0,{"$f":"IF(ISERROR(VLOOKUP($A288+8860000,'Growth Data'!$A:$Z,7,0)),0,VLOOKUP($A288+8860000,'Growth Data'!$A:$Z,7,0))","v":0},0,null,"NO",{"$f":"IF(ISERROR(VLOOKUP($A288+8860000,'Growth Data'!$A:$F,4,0)),\"NO\",VLOOKUP($A288+8860000,'Growth Data'!$A:$F,4,0))","v":"NO"},0,null,0,{"$f":"IF(ISERROR(VLOOKUP($A288+8860000,'Growth Data'!$A:$Z,8,0)),0,VLOOKUP($A288+8860000,'Growth Data'!$A:$Z,8,0))","v":0},0,null,0,{"$f":"IF(ISERROR(VLOOKUP($A288+8860000,'Growth Data'!$A:$Z,9,0)),0,VLOOKUP($A288+8860000,'Growth Data'!$A:$Z,9,0))","v":0},0,null,"NO",{"$f":"IF(ISERROR(VLOOKUP($A288+8860000,'Growth Data'!$A:$Z,5,0)),\"NO\",VLOOKUP($A288+8860000,'Growth Data'!$A:$Z,5,0))","v":"NO"},0,null,0,{"$f":"IF(ISERROR(VLOOKUP($A288+8860000,'Growth Data'!$A:$Z,10,0)),0,VLOOKUP($A288+8860000,'Growth Data'!$A:$Z,10,0))","v":0},0,null,0,{"$f":"IF(ISERROR(VLOOKUP($A288+8860000,'Growth Data'!$A:$Z,11,0)),0,VLOOKUP($A288+8860000,'Growth Data'!$A:$Z,11,0))","v":0},0]
[5426,"The Archbishop's School",null,"The Archbishop's School",null,1,null,2479735.7400000002,2479735.7400000002,0,null,335993.21,335993.21406077227,-4.0607722476124763E-3,null,32692.880000000001,32692.879999999961,4.0017766878008842E-11,null,257759.44,257759.43562752221,4.3724777933675796E-3,null,117882.46,117882.46,0,null,0,0,0,null,0,0,0,null,0,0,0,null,19558,19558,0,null,0,0,0,null,0,0,0,null,0,0,0,null,3243621.73,3243621.7296882947,3.1170528382062912E-4,null,0,0,0,null,3243621.73,3243621.7296882947,3.1170528382062912E-4,null,0,null,0,null,null,null,0,null,null,null,0,null,555970.48,555970.48442752426,0,null,9130.66,9130.66,0,null,null,null,0,null,null,null,0,null,null,null,0,null,null,null,0,null,null,null,0,null,null,null,0,null,"NO",{"$f":"IF(ISERROR(VLOOKUP($A289+8860000,'Growth Data'!$A:$F,3,0)),\"NO\",VLOOKUP($A289+8860000,'Growth Data'!$A:$F,3,0))","v":"NO"},0,null,0,{"$f":"IF(DI289=\"YES\",IF(ISERROR(VLOOKUP($A289+8860000,'Growth Data'!$A:$F,6,0)),0,VLOOKUP($A289+8860000,'Growth Data'!$A:$F,6,0)),0)","v":0},0,null,0,{"$f":"IF(ISERROR(VLOOKUP($A289+8860000,'Growth Data'!$A:$Z,7,0)),0,VLOOKUP($A289+8860000,'Growth Data'!$A:$Z,7,0))","v":0},0,null,"NO",{"$f":"IF(ISERROR(VLOOKUP($A289+8860000,'Growth Data'!$A:$F,4,0)),\"NO\",VLOOKUP($A289+8860000,'Growth Data'!$A:$F,4,0))","v":"NO"},0,null,0,{"$f":"IF(ISERROR(VLOOKUP($A289+8860000,'Growth Data'!$A:$Z,8,0)),0,VLOOKUP($A289+8860000,'Growth Data'!$A:$Z,8,0))","v":0},0,null,0,{"$f":"IF(ISERROR(VLOOKUP($A289+8860000,'Growth Data'!$A:$Z,9,0)),0,VLOOKUP($A289+8860000,'Growth Data'!$A:$Z,9,0))","v":0},0,null,"NO",{"$f":"IF(ISERROR(VLOOKUP($A289+8860000,'Growth Data'!$A:$Z,5,0)),\"NO\",VLOOKUP($A289+8860000,'Growth Data'!$A:$Z,5,0))","v":"NO"},0,null,0,{"$f":"IF(ISERROR(VLOOKUP($A289+8860000,'Growth Data'!$A:$Z,10,0)),0,VLOOKUP($A289+8860000,'Growth Data'!$A:$Z,10,0))","v":0},0,null,0,{"$f":"IF(ISERROR(VLOOKUP($A289+8860000,'Growth Data'!$A:$Z,11,0)),0,VLOOKUP($A289+8860000,'Growth Data'!$A:$Z,11,0))","v":0},0]
[5431,"Hugh Christie School",null,"Hugh Christie School",null,1,null,3447461.76,3447461.76,0,null,348806.52,348806.5230738786,-3.0738785862922668E-3,null,16346.44,16346.439999999991,0,null,380542.77,380542.77338524652,-3.3852464985102415E-3,null,117882.46,117882.46,0,null,0,0,0,null,0,0,0,null,0,0,0,null,44544,44544,0,null,914906.67,914906.67494626658,-4.9462665338069201E-3,null,0,0,0,null,0,0,0,null,5270490.63,5270490.6314053908,-1.4053909108042717E-3,null,0,0,0,null,5270490.63,5270490.6314053908,-1.4053909108042717E-3,null,0,null,0,null,null,null,0,null,null,null,0,null,675220.69,675220.69119835494,0,null,12755.82,12755.82,0,null,null,null,0,null,null,null,0,null,null,null,0,null,null,null,0,null,null,null,0,null,null,null,0,null,"YES",{"$f":"IF(ISERROR(VLOOKUP($A290+8860000,'Growth Data'!$A:$F,3,0)),\"NO\",VLOOKUP($A290+8860000,'Growth Data'!$A:$F,3,0))","v":"NO"},1,null,32,{"$f":"IF(DI290=\"YES\",IF(ISERROR(VLOOKUP($A290+8860000,'Growth Data'!$A:$F,6,0)),0,VLOOKUP($A290+8860000,'Growth Data'!$A:$F,6,0)),0)","v":0},32,null,60,{"$f":"IF(ISERROR(VLOOKUP($A290+8860000,'Growth Data'!$A:$Z,7,0)),0,VLOOKUP($A290+8860000,'Growth Data'!$A:$Z,7,0))","v":0},1,null,"YES",{"$f":"IF(ISERROR(VLOOKUP($A290+8860000,'Growth Data'!$A:$F,4,0)),\"NO\",VLOOKUP($A290+8860000,'Growth Data'!$A:$F,4,0))","v":"NO"},1,null,32,{"$f":"IF(ISERROR(VLOOKUP($A290+8860000,'Growth Data'!$A:$Z,8,0)),0,VLOOKUP($A290+8860000,'Growth Data'!$A:$Z,8,0))","v":0},1,null,60,{"$f":"IF(ISERROR(VLOOKUP($A290+8860000,'Growth Data'!$A:$Z,9,0)),0,VLOOKUP($A290+8860000,'Growth Data'!$A:$Z,9,0))","v":0},1,null,"NO",{"$f":"IF(ISERROR(VLOOKUP($A290+8860000,'Growth Data'!$A:$Z,5,0)),\"NO\",VLOOKUP($A290+8860000,'Growth Data'!$A:$Z,5,0))","v":"NO"},0,null,0,{"$f":"IF(ISERROR(VLOOKUP($A290+8860000,'Growth Data'!$A:$Z,10,0)),0,VLOOKUP($A290+8860000,'Growth Data'!$A:$Z,10,0))","v":0},0,null,0,{"$f":"IF(ISERROR(VLOOKUP($A290+8860000,'Growth Data'!$A:$Z,11,0)),0,VLOOKUP($A290+8860000,'Growth Data'!$A:$Z,11,0))","v":0},0]
[5456,"Northfleet Technology College",null,"Northfleet Technology College",null,1,null,3616351.86,3616351.8600000003,0,null,441676.35,441676.346471667,3.5283329780213535E-3,null,43095.16,43095.15999999996,0,null,426116.67,426116.6685782501,1.4217498828656971E-3,null,117882.46,117882.46,0,null,0,0,0,null,0,0,0,null,0,0,0,null,34560,34560,0,null,889649.33,889649.33376640175,-3.766401787288487E-3,null,0,0,0,null,0,0,0,null,5569331.8300000001,5569331.8288163189,1.1836811900138855E-3,null,0,0,0,null,5569331.8300000001,5569331.8288163189,1.1836811900138855E-3,null,0,null,0,null,null,null,0,null,null,null,0,null,828444.81,828444.80978914688,0,null,13331.78,13331.779999999999,0,null,null,null,0,null,null,null,0,null,null,null,0,null,null,null,0,null,null,null,0,null,null,null,0,null,"NO",{"$f":"IF(ISERROR(VLOOKUP($A291+8860000,'Growth Data'!$A:$F,3,0)),\"NO\",VLOOKUP($A291+8860000,'Growth Data'!$A:$F,3,0))","v":"NO"},0,null,0,{"$f":"IF(DI291=\"YES\",IF(ISERROR(VLOOKUP($A291+8860000,'Growth Data'!$A:$F,6,0)),0,VLOOKUP($A291+8860000,'Growth Data'!$A:$F,6,0)),0)","v":0},0,null,0,{"$f":"IF(ISERROR(VLOOKUP($A291+8860000,'Growth Data'!$A:$Z,7,0)),0,VLOOKUP($A291+8860000,'Growth Data'!$A:$Z,7,0))","v":0},0,null,"YES",{"$f":"IF(ISERROR(VLOOKUP($A291+8860000,'Growth Data'!$A:$F,4,0)),\"NO\",VLOOKUP($A291+8860000,'Growth Data'!$A:$F,4,0))","v":"NO"},1,null,47,{"$f":"IF(ISERROR(VLOOKUP($A291+8860000,'Growth Data'!$A:$Z,8,0)),0,VLOOKUP($A291+8860000,'Growth Data'!$A:$Z,8,0))","v":0},1,null,60,{"$f":"IF(ISERROR(VLOOKUP($A291+8860000,'Growth Data'!$A:$Z,9,0)),0,VLOOKUP($A291+8860000,'Growth Data'!$A:$Z,9,0))","v":0},1,null,"YES",{"$f":"IF(ISERROR(VLOOKUP($A291+8860000,'Growth Data'!$A:$Z,5,0)),\"NO\",VLOOKUP($A291+8860000,'Growth Data'!$A:$Z,5,0))","v":"NO"},1,null,49,{"$f":"IF(ISERROR(VLOOKUP($A291+8860000,'Growth Data'!$A:$Z,10,0)),0,VLOOKUP($A291+8860000,'Growth Data'!$A:$Z,10,0))","v":0},1,null,60,{"$f":"IF(ISERROR(VLOOKUP($A291+8860000,'Growth Data'!$A:$Z,11,0)),0,VLOOKUP($A291+8860000,'Growth Data'!$A:$Z,11,0))","v":0},1]
[5459,"Dover Grammar School for Boys",null,"Dover Grammar School for Boys",null,1,null,2954522.46,2954522.46,0,null,236631.92,236631.91948256863,5.1743138465099037E-4,null,1486.04,1486.0399999999954,4.5474735088646412E-12,null,46701.16,46701.155263130335,4.7368696687044576E-3,null,117882.46,117882.46,0,null,0,0,0,null,0,0,0,null,0,0,0,null,17818,17818,0,null,0,0,0,null,0,0,0,null,135450.97,135450.96525430109,4.7456989123020321E-3,null,3510493,3510493.0000000005,0,null,0,0,0,null,3510493,3510493.0000000005,0,null,0,null,0,null,null,null,0,null,null,null,0,null,391223.83,391223.83473922999,0,null,10926.3,10926.3,0,null,null,null,0,null,null,null,0,null,null,null,0,null,null,null,0,null,null,null,0,null,null,null,0,null,"NO",{"$f":"IF(ISERROR(VLOOKUP($A292+8860000,'Growth Data'!$A:$F,3,0)),\"NO\",VLOOKUP($A292+8860000,'Growth Data'!$A:$F,3,0))","v":"NO"},0,null,0,{"$f":"IF(DI292=\"YES\",IF(ISERROR(VLOOKUP($A292+8860000,'Growth Data'!$A:$F,6,0)),0,VLOOKUP($A292+8860000,'Growth Data'!$A:$F,6,0)),0)","v":0},0,null,0,{"$f":"IF(ISERROR(VLOOKUP($A292+8860000,'Growth Data'!$A:$Z,7,0)),0,VLOOKUP($A292+8860000,'Growth Data'!$A:$Z,7,0))","v":0},0,null,"NO",{"$f":"IF(ISERROR(VLOOKUP($A292+8860000,'Growth Data'!$A:$F,4,0)),\"NO\",VLOOKUP($A292+8860000,'Growth Data'!$A:$F,4,0))","v":"NO"},0,null,0,{"$f":"IF(ISERROR(VLOOKUP($A292+8860000,'Growth Data'!$A:$Z,8,0)),0,VLOOKUP($A292+8860000,'Growth Data'!$A:$Z,8,0))","v":0},0,null,0,{"$f":"IF(ISERROR(VLOOKUP($A292+8860000,'Growth Data'!$A:$Z,9,0)),0,VLOOKUP($A292+8860000,'Growth Data'!$A:$Z,9,0))","v":0},0,null,"NO",{"$f":"IF(ISERROR(VLOOKUP($A292+8860000,'Growth Data'!$A:$Z,5,0)),\"NO\",VLOOKUP($A292+8860000,'Growth Data'!$A:$Z,5,0))","v":"NO"},0,null,0,{"$f":"IF(ISERROR(VLOOKUP($A292+8860000,'Growth Data'!$A:$Z,10,0)),0,VLOOKUP($A292+8860000,'Growth Data'!$A:$Z,10,0))","v":0},0,null,0,{"$f":"IF(ISERROR(VLOOKUP($A292+8860000,'Growth Data'!$A:$Z,11,0)),0,VLOOKUP($A292+8860000,'Growth Data'!$A:$Z,11,0))","v":0},0]
[5461,"St John's Catholic Comprehensive",null,"St John's Catholic Comprehensive",null,1,null,4405634.82,4405634.82,0,null,503212.6,503212.60469698958,-4.6969896066002548E-3,null,17832.48,17832.479999999974,0,null,446993.54,446993.54180701671,-1.8070167279802263E-3,null,117882.46,117882.46,0,null,0,0,0,null,0,0,0,null,0,0,0,null,50944,50944,0,null,1179593.5900000001,1179593.5888157438,1.1842562817037106E-3,null,0,0,0,null,0,0,0,null,6722093.5,6722093.4953197502,4.6802498400211334E-3,null,0,0,0,null,6722093.5,6722093.4953197502,4.6802498400211334E-3,null,0,null,0,null,null,null,0,null,null,null,0,null,900325.5,900325.50124323624,0,null,16279.34,16279.34,0,null,null,null,0,null,null,null,0,null,null,null,0,null,null,null,0,null,null,null,0,null,null,null,0,null,"NO",{"$f":"IF(ISERROR(VLOOKUP($A293+8860000,'Growth Data'!$A:$F,3,0)),\"NO\",VLOOKUP($A293+8860000,'Growth Data'!$A:$F,3,0))","v":"NO"},0,null,0,{"$f":"IF(DI293=\"YES\",IF(ISERROR(VLOOKUP($A293+8860000,'Growth Data'!$A:$F,6,0)),0,VLOOKUP($A293+8860000,'Growth Data'!$A:$F,6,0)),0)","v":0},0,null,0,{"$f":"IF(ISERROR(VLOOKUP($A293+8860000,'Growth Data'!$A:$Z,7,0)),0,VLOOKUP($A293+8860000,'Growth Data'!$A:$Z,7,0))","v":0},0,null,"NO",{"$f":"IF(ISERROR(VLOOKUP($A293+8860000,'Growth Data'!$A:$F,4,0)),\"NO\",VLOOKUP($A293+8860000,'Growth Data'!$A:$F,4,0))","v":"NO"},0,null,0,{"$f":"IF(ISERROR(VLOOKUP($A293+8860000,'Growth Data'!$A:$Z,8,0)),0,VLOOKUP($A293+8860000,'Growth Data'!$A:$Z,8,0))","v":0},0,null,0,{"$f":"IF(ISERROR(VLOOKUP($A293+8860000,'Growth Data'!$A:$Z,9,0)),0,VLOOKUP($A293+8860000,'Growth Data'!$A:$Z,9,0))","v":0},0,null,"NO",{"$f":"IF(ISERROR(VLOOKUP($A293+8860000,'Growth Data'!$A:$Z,5,0)),\"NO\",VLOOKUP($A293+8860000,'Growth Data'!$A:$Z,5,0))","v":"NO"},0,null,0,{"$f":"IF(ISERROR(VLOOKUP($A293+8860000,'Growth Data'!$A:$Z,10,0)),0,VLOOKUP($A293+8860000,'Growth Data'!$A:$Z,10,0))","v":0},0,null,0,{"$f":"IF(ISERROR(VLOOKUP($A293+8860000,'Growth Data'!$A:$Z,11,0)),0,VLOOKUP($A293+8860000,'Growth Data'!$A:$Z,11,0))","v":0},0]
[5468,"The Royal Harbour Academy",null,"The Royal Harbour Academy",null,1,null,3779059.34,3779059.34,0,null,899779.94,899779.93603491329,3.9650866528972983E-3,null,25293.15,25293.153679131534,-3.6791315324080642E-3,null,427564.35,427564.3545845559,-4.5845559216104448E-3,null,117882.46,117882.46,0,null,0,0,0,null,0,0,0,null,0,0,0,null,88320,88320,0,null,684415.09,684415.09075072082,-7.507208501920104E-4,null,0,0,0,null,0,0,0,null,6022314.3399999999,6022314.3350493219,4.9506779760122299E-3,null,0,0,0,null,6022314.3399999999,6022314.3350493219,4.9506779760122299E-3,null,0,null,0,null,null,null,0,null,null,null,0,null,1188717.44,1188717.4390378306,0,null,14060.2,14060.2,0,null,null,null,0,null,null,null,0,null,null,null,0,null,null,null,0,null,null,null,0,null,null,null,0,null,"NO",{"$f":"IF(ISERROR(VLOOKUP($A294+8860000,'Growth Data'!$A:$F,3,0)),\"NO\",VLOOKUP($A294+8860000,'Growth Data'!$A:$F,3,0))","v":"NO"},0,null,0,{"$f":"IF(DI294=\"YES\",IF(ISERROR(VLOOKUP($A294+8860000,'Growth Data'!$A:$F,6,0)),0,VLOOKUP($A294+8860000,'Growth Data'!$A:$F,6,0)),0)","v":0},0,null,0,{"$f":"IF(ISERROR(VLOOKUP($A294+8860000,'Growth Data'!$A:$Z,7,0)),0,VLOOKUP($A294+8860000,'Growth Data'!$A:$Z,7,0))","v":0},0,null,"NO",{"$f":"IF(ISERROR(VLOOKUP($A294+8860000,'Growth Data'!$A:$F,4,0)),\"NO\",VLOOKUP($A294+8860000,'Growth Data'!$A:$F,4,0))","v":"NO"},0,null,0,{"$f":"IF(ISERROR(VLOOKUP($A294+8860000,'Growth Data'!$A:$Z,8,0)),0,VLOOKUP($A294+8860000,'Growth Data'!$A:$Z,8,0))","v":0},0,null,0,{"$f":"IF(ISERROR(VLOOKUP($A294+8860000,'Growth Data'!$A:$Z,9,0)),0,VLOOKUP($A294+8860000,'Growth Data'!$A:$Z,9,0))","v":0},0,null,"NO",{"$f":"IF(ISERROR(VLOOKUP($A294+8860000,'Growth Data'!$A:$Z,5,0)),\"NO\",VLOOKUP($A294+8860000,'Growth Data'!$A:$Z,5,0))","v":"NO"},0,null,0,{"$f":"IF(ISERROR(VLOOKUP($A294+8860000,'Growth Data'!$A:$Z,10,0)),0,VLOOKUP($A294+8860000,'Growth Data'!$A:$Z,10,0))","v":0},0,null,0,{"$f":"IF(ISERROR(VLOOKUP($A294+8860000,'Growth Data'!$A:$Z,11,0)),0,VLOOKUP($A294+8860000,'Growth Data'!$A:$Z,11,0))","v":0},0]
[5447,"St George's Church of England Foundation School",null,"St George's Church of England Foundation School",null,1,null,6117708.2400000002,6117708.2400000002,0,null,784601.52,784601.52039855078,-3.9855076465755701E-4,null,24596.43,24596.43205298021,-2.0529802095552441E-3,null,604251.47,604251.47077803756,-7.7803758904337883E-4,null,117882.46,117882.46,0,null,0,0,0,null,0,0,0,null,0,0,0,null,69380,69380,0,null,0,0,0,null,0,0,0,null,0,0,0,null,7718420.1200000001,7718420.1232295688,-3.229568712413311E-3,null,0,0,0,null,7718420.1200000001,7718420.1232295688,-3.229568712413311E-3,null,0,null,0,null,null,null,0,null,null,null,0,null,1284513.74,1284513.7379687987,0,null,27985.200000000001,27985.200000000001,0,null,null,null,0,null,null,null,0,null,null,null,0,null,null,null,0,null,null,null,0,null,null,null,0,null,"NO",{"$f":"IF(ISERROR(VLOOKUP($A295+8860000,'Growth Data'!$A:$F,3,0)),\"NO\",VLOOKUP($A295+8860000,'Growth Data'!$A:$F,3,0))","v":"YES"},1,null,0,{"$f":"IF(DI295=\"YES\",IF(ISERROR(VLOOKUP($A295+8860000,'Growth Data'!$A:$F,6,0)),0,VLOOKUP($A295+8860000,'Growth Data'!$A:$F,6,0)),0)","v":31},-31,null,0,{"$f":"IF(ISERROR(VLOOKUP($A295+8860000,'Growth Data'!$A:$Z,7,0)),0,VLOOKUP($A295+8860000,'Growth Data'!$A:$Z,7,0))","v":60},1,null,"NO",{"$f":"IF(ISERROR(VLOOKUP($A295+8860000,'Growth Data'!$A:$F,4,0)),\"NO\",VLOOKUP($A295+8860000,'Growth Data'!$A:$F,4,0))","v":"YES"},1,null,0,{"$f":"IF(ISERROR(VLOOKUP($A295+8860000,'Growth Data'!$A:$Z,8,0)),0,VLOOKUP($A295+8860000,'Growth Data'!$A:$Z,8,0))","v":30},1,null,0,{"$f":"IF(ISERROR(VLOOKUP($A295+8860000,'Growth Data'!$A:$Z,9,0)),0,VLOOKUP($A295+8860000,'Growth Data'!$A:$Z,9,0))","v":60},1,null,"NO",{"$f":"IF(ISERROR(VLOOKUP($A295+8860000,'Growth Data'!$A:$Z,5,0)),\"NO\",VLOOKUP($A295+8860000,'Growth Data'!$A:$Z,5,0))","v":"NO"},0,null,0,{"$f":"IF(ISERROR(VLOOKUP($A295+8860000,'Growth Data'!$A:$Z,10,0)),0,VLOOKUP($A295+8860000,'Growth Data'!$A:$Z,10,0))","v":0},0,null,0,{"$f":"IF(ISERROR(VLOOKUP($A295+8860000,'Growth Data'!$A:$Z,11,0)),0,VLOOKUP($A295+8860000,'Growth Data'!$A:$Z,11,0))","v":0},0]
[2001,"Horizon Primary Academy",null,"Horizon Primary Academy",null,1,null,627913.51,627913.51,0,null,145977.4,145977.4016585366,-1.6585366101935506E-3,null,2583.33,2583.3334104046248,-3.4104046249012754E-3,null,41291.5,41291.500658682635,-6.5868263482116163E-4,null,120084,120084,0,null,0,0,0,null,34512.870000000003,34512.870642776557,-6.4277655474143103E-4,null,0,0,0,null,4889.6000000000004,4889.6000000000004,0,null,0,0,0,null,0,0,0,null,0,0,0,null,977252.22,977252.21637040051,3.6295994650572538E-3,null,0,0,0,null,977252.22,977252.21637040051,3.6295994650572538E-3,null,0,null,0,null,null,null,0,null,null,null,0,null,161304.45000000001,161304.45031430642,0,null,5535.37,0,5535,null,null,null,0,null,null,null,0,null,null,null,0,null,null,null,0,null,null,null,0,null,null,null,0,null,"NO",{"$f":"IF(ISERROR(VLOOKUP($A296+8860000,'Growth Data'!$A:$F,3,0)),\"NO\",VLOOKUP($A296+8860000,'Growth Data'!$A:$F,3,0))","v":"NO"},0,null,0,{"$f":"IF(DI296=\"YES\",IF(ISERROR(VLOOKUP($A296+8860000,'Growth Data'!$A:$F,6,0)),0,VLOOKUP($A296+8860000,'Growth Data'!$A:$F,6,0)),0)","v":0},0,null,0,{"$f":"IF(ISERROR(VLOOKUP($A296+8860000,'Growth Data'!$A:$Z,7,0)),0,VLOOKUP($A296+8860000,'Growth Data'!$A:$Z,7,0))","v":0},0,null,"NO",{"$f":"IF(ISERROR(VLOOKUP($A296+8860000,'Growth Data'!$A:$F,4,0)),\"NO\",VLOOKUP($A296+8860000,'Growth Data'!$A:$F,4,0))","v":"NO"},0,null,0,{"$f":"IF(ISERROR(VLOOKUP($A296+8860000,'Growth Data'!$A:$Z,8,0)),0,VLOOKUP($A296+8860000,'Growth Data'!$A:$Z,8,0))","v":0},0,null,0,{"$f":"IF(ISERROR(VLOOKUP($A296+8860000,'Growth Data'!$A:$Z,9,0)),0,VLOOKUP($A296+8860000,'Growth Data'!$A:$Z,9,0))","v":0},0,null,"NO",{"$f":"IF(ISERROR(VLOOKUP($A296+8860000,'Growth Data'!$A:$Z,5,0)),\"NO\",VLOOKUP($A296+8860000,'Growth Data'!$A:$Z,5,0))","v":"NO"},0,null,0,{"$f":"IF(ISERROR(VLOOKUP($A296+8860000,'Growth Data'!$A:$Z,10,0)),0,VLOOKUP($A296+8860000,'Growth Data'!$A:$Z,10,0))","v":0},0,null,0,{"$f":"IF(ISERROR(VLOOKUP($A296+8860000,'Growth Data'!$A:$Z,11,0)),0,VLOOKUP($A296+8860000,'Growth Data'!$A:$Z,11,0))","v":0},0]
[2003,"Oaks Primary Academy",null,"Oaks Primary Academy",null,1,null,535118.41,535118.41,0,null,98125.87,98125.870139256367,-1.3925637176726013E-4,null,7273.56,7273.5567361111116,3.2638888887959183E-3,null,43210.400000000001,43210.400808823528,-8.0882352631306276E-4,null,120084,120084,0,null,0,0,0,null,0,0,0,null,0,0,0,null,3891.2,3891.2,0,null,0,0,0,null,0,0,0,null,0,0,0,null,807703.44,807703.43768419093,2.3158090189099312E-3,null,20861.82,20861.821531103575,-1.5311035749618895E-3,null,828565.26,828565.2592152945,7.8470550943166018E-4,null,0,null,0,null,null,null,0,null,null,null,0,null,151770.07,151770.07152230275,0,null,4549.8999999999996,0,4550,null,null,null,0,null,null,null,0,null,null,null,0,null,null,null,0,null,null,null,0,null,null,null,0,null,"NO",{"$f":"IF(ISERROR(VLOOKUP($A297+8860000,'Growth Data'!$A:$F,3,0)),\"NO\",VLOOKUP($A297+8860000,'Growth Data'!$A:$F,3,0))","v":"NO"},0,null,0,{"$f":"IF(DI297=\"YES\",IF(ISERROR(VLOOKUP($A297+8860000,'Growth Data'!$A:$F,6,0)),0,VLOOKUP($A297+8860000,'Growth Data'!$A:$F,6,0)),0)","v":0},0,null,0,{"$f":"IF(ISERROR(VLOOKUP($A297+8860000,'Growth Data'!$A:$Z,7,0)),0,VLOOKUP($A297+8860000,'Growth Data'!$A:$Z,7,0))","v":0},0,null,"NO",{"$f":"IF(ISERROR(VLOOKUP($A297+8860000,'Growth Data'!$A:$F,4,0)),\"NO\",VLOOKUP($A297+8860000,'Growth Data'!$A:$F,4,0))","v":"NO"},0,null,0,{"$f":"IF(ISERROR(VLOOKUP($A297+8860000,'Growth Data'!$A:$Z,8,0)),0,VLOOKUP($A297+8860000,'Growth Data'!$A:$Z,8,0))","v":0},0,null,0,{"$f":"IF(ISERROR(VLOOKUP($A297+8860000,'Growth Data'!$A:$Z,9,0)),0,VLOOKUP($A297+8860000,'Growth Data'!$A:$Z,9,0))","v":0},0,null,"NO",{"$f":"IF(ISERROR(VLOOKUP($A297+8860000,'Growth Data'!$A:$Z,5,0)),\"NO\",VLOOKUP($A297+8860000,'Growth Data'!$A:$Z,5,0))","v":"NO"},0,null,0,{"$f":"IF(ISERROR(VLOOKUP($A297+8860000,'Growth Data'!$A:$Z,10,0)),0,VLOOKUP($A297+8860000,'Growth Data'!$A:$Z,10,0))","v":0},0,null,0,{"$f":"IF(ISERROR(VLOOKUP($A297+8860000,'Growth Data'!$A:$Z,11,0)),0,VLOOKUP($A297+8860000,'Growth Data'!$A:$Z,11,0))","v":0},0]
[2004,"Tree Tops Primary Academy",null,"Tree Tops Primary Academy",null,1,null,825876.39,825876.39,0,null,205276.59,205276.59189516137,-1.8951613747049123E-3,null,13359.47,13359.466363636362,3.6363636372698238E-3,null,99417.19,99417.190776699019,-7.7669901656918228E-4,null,120084,120084,0,null,0,0,0,null,0,0,0,null,0,0,0,null,6860.8,6860.8,0,null,0,0,0,null,0,0,0,null,0,0,0,null,1270874.44,1270874.4390354967,9.6450326964259148E-4,null,0,0,0,null,1270874.44,1270874.4390354967,9.6450326964259148E-4,null,0,null,0,null,null,null,0,null,null,null,0,null,258002.23,258002.23134250497,0,null,7022.1,0,7022,null,null,null,0,null,null,null,0,null,null,null,0,null,null,null,0,null,null,null,0,null,null,null,0,null,"NO",{"$f":"IF(ISERROR(VLOOKUP($A298+8860000,'Growth Data'!$A:$F,3,0)),\"NO\",VLOOKUP($A298+8860000,'Growth Data'!$A:$F,3,0))","v":"NO"},0,null,0,{"$f":"IF(DI298=\"YES\",IF(ISERROR(VLOOKUP($A298+8860000,'Growth Data'!$A:$F,6,0)),0,VLOOKUP($A298+8860000,'Growth Data'!$A:$F,6,0)),0)","v":0},0,null,0,{"$f":"IF(ISERROR(VLOOKUP($A298+8860000,'Growth Data'!$A:$Z,7,0)),0,VLOOKUP($A298+8860000,'Growth Data'!$A:$Z,7,0))","v":0},0,null,"NO",{"$f":"IF(ISERROR(VLOOKUP($A298+8860000,'Growth Data'!$A:$F,4,0)),\"NO\",VLOOKUP($A298+8860000,'Growth Data'!$A:$F,4,0))","v":"NO"},0,null,0,{"$f":"IF(ISERROR(VLOOKUP($A298+8860000,'Growth Data'!$A:$Z,8,0)),0,VLOOKUP($A298+8860000,'Growth Data'!$A:$Z,8,0))","v":0},0,null,0,{"$f":"IF(ISERROR(VLOOKUP($A298+8860000,'Growth Data'!$A:$Z,9,0)),0,VLOOKUP($A298+8860000,'Growth Data'!$A:$Z,9,0))","v":0},0,null,"NO",{"$f":"IF(ISERROR(VLOOKUP($A298+8860000,'Growth Data'!$A:$Z,5,0)),\"NO\",VLOOKUP($A298+8860000,'Growth Data'!$A:$Z,5,0))","v":"NO"},0,null,0,{"$f":"IF(ISERROR(VLOOKUP($A298+8860000,'Growth Data'!$A:$Z,10,0)),0,VLOOKUP($A298+8860000,'Growth Data'!$A:$Z,10,0))","v":0},0,null,0,{"$f":"IF(ISERROR(VLOOKUP($A298+8860000,'Growth Data'!$A:$Z,11,0)),0,VLOOKUP($A298+8860000,'Growth Data'!$A:$Z,11,0))","v":0},0]
[2006,"St James the Great Academy",null,"St James the Great Academy",null,1,null,575329.62,575329.62,0,null,126617.69,126617.69448648638,-4.4864863739348948E-3,null,1304.1099999999999,1304.1087898089158,1.2101910840556229E-3,null,61143.97,61143.965999999993,4.0000000080908649E-3,null,120084,120084,0,null,0,0,0,null,0,0,0,null,0,0,0,null,7270.4,7270.4,0,null,0,0,0,null,0,0,0,null,0,0,0,null,891749.79,891749.78927629534,7.2370469570159912E-4,null,0,0,0,null,891749.79,891749.78927629534,7.2370469570159912E-4,null,0,null,0,null,null,null,0,null,null,null,0,null,163999.07,163999.07158330345,0,null,4891.8,0,4892,null,null,null,0,null,null,null,0,null,null,null,0,null,null,null,0,null,null,null,0,null,null,null,0,null,"NO",{"$f":"IF(ISERROR(VLOOKUP($A299+8860000,'Growth Data'!$A:$F,3,0)),\"NO\",VLOOKUP($A299+8860000,'Growth Data'!$A:$F,3,0))","v":"NO"},0,null,0,{"$f":"IF(DI299=\"YES\",IF(ISERROR(VLOOKUP($A299+8860000,'Growth Data'!$A:$F,6,0)),0,VLOOKUP($A299+8860000,'Growth Data'!$A:$F,6,0)),0)","v":0},0,null,0,{"$f":"IF(ISERROR(VLOOKUP($A299+8860000,'Growth Data'!$A:$Z,7,0)),0,VLOOKUP($A299+8860000,'Growth Data'!$A:$Z,7,0))","v":0},0,null,"NO",{"$f":"IF(ISERROR(VLOOKUP($A299+8860000,'Growth Data'!$A:$F,4,0)),\"NO\",VLOOKUP($A299+8860000,'Growth Data'!$A:$F,4,0))","v":"NO"},0,null,0,{"$f":"IF(ISERROR(VLOOKUP($A299+8860000,'Growth Data'!$A:$Z,8,0)),0,VLOOKUP($A299+8860000,'Growth Data'!$A:$Z,8,0))","v":0},0,null,0,{"$f":"IF(ISERROR(VLOOKUP($A299+8860000,'Growth Data'!$A:$Z,9,0)),0,VLOOKUP($A299+8860000,'Growth Data'!$A:$Z,9,0))","v":0},0,null,"NO",{"$f":"IF(ISERROR(VLOOKUP($A299+8860000,'Growth Data'!$A:$Z,5,0)),\"NO\",VLOOKUP($A299+8860000,'Growth Data'!$A:$Z,5,0))","v":"NO"},0,null,0,{"$f":"IF(ISERROR(VLOOKUP($A299+8860000,'Growth Data'!$A:$Z,10,0)),0,VLOOKUP($A299+8860000,'Growth Data'!$A:$Z,10,0))","v":0},0,null,0,{"$f":"IF(ISERROR(VLOOKUP($A299+8860000,'Growth Data'!$A:$Z,11,0)),0,VLOOKUP($A299+8860000,'Growth Data'!$A:$Z,11,0))","v":0},0]
[2007,"Molehill Primary Academy",null,"Molehill Primary Academy",null,1,null,810410.54,810410.54,0,null,176855.46,176855.45842857135,1.5714286419097334E-3,null,17151.8,17151.801145374444,-1.1453744446043856E-3,null,88228.19,88228.193268292685,-3.268292683060281E-3,null,120084,120084,0,null,0,0,0,null,0,0,0,null,0,0,0,null,6553.6,6553.6,0,null,0,0,0,null,0,0,0,null,0,0,0,null,1219283.5900000001,1219283.5928422385,-2.8422384057193995E-3,null,0,0,0,null,1219283.5900000001,1219283.5928422385,-2.8422384057193995E-3,null,0,null,0,null,null,null,0,null,null,null,0,null,229089.24,229089.2351492467,0,null,6890.6,0,6891,null,null,null,0,null,null,null,0,null,null,null,0,null,null,null,0,null,null,null,0,null,null,null,0,null,"NO",{"$f":"IF(ISERROR(VLOOKUP($A300+8860000,'Growth Data'!$A:$F,3,0)),\"NO\",VLOOKUP($A300+8860000,'Growth Data'!$A:$F,3,0))","v":"NO"},0,null,0,{"$f":"IF(DI300=\"YES\",IF(ISERROR(VLOOKUP($A300+8860000,'Growth Data'!$A:$F,6,0)),0,VLOOKUP($A300+8860000,'Growth Data'!$A:$F,6,0)),0)","v":0},0,null,0,{"$f":"IF(ISERROR(VLOOKUP($A300+8860000,'Growth Data'!$A:$Z,7,0)),0,VLOOKUP($A300+8860000,'Growth Data'!$A:$Z,7,0))","v":0},0,null,"NO",{"$f":"IF(ISERROR(VLOOKUP($A300+8860000,'Growth Data'!$A:$F,4,0)),\"NO\",VLOOKUP($A300+8860000,'Growth Data'!$A:$F,4,0))","v":"NO"},0,null,0,{"$f":"IF(ISERROR(VLOOKUP($A300+8860000,'Growth Data'!$A:$Z,8,0)),0,VLOOKUP($A300+8860000,'Growth Data'!$A:$Z,8,0))","v":0},0,null,0,{"$f":"IF(ISERROR(VLOOKUP($A300+8860000,'Growth Data'!$A:$Z,9,0)),0,VLOOKUP($A300+8860000,'Growth Data'!$A:$Z,9,0))","v":0},0,null,"NO",{"$f":"IF(ISERROR(VLOOKUP($A300+8860000,'Growth Data'!$A:$Z,5,0)),\"NO\",VLOOKUP($A300+8860000,'Growth Data'!$A:$Z,5,0))","v":"NO"},0,null,0,{"$f":"IF(ISERROR(VLOOKUP($A300+8860000,'Growth Data'!$A:$Z,10,0)),0,VLOOKUP($A300+8860000,'Growth Data'!$A:$Z,10,0))","v":0},0,null,0,{"$f":"IF(ISERROR(VLOOKUP($A300+8860000,'Growth Data'!$A:$Z,11,0)),0,VLOOKUP($A300+8860000,'Growth Data'!$A:$Z,11,0))","v":0},0]
[2008,"Tiger Primary School",null,"Tiger Primary School",null,1,null,1305317.74,1305317.74,0,null,168133.76000000001,168133.76414489312,-4.1448931151535362E-3,null,13699.25,13699.25136729222,-1.36729221958376E-3,null,140008.97,140008.96794444442,2.0555555820465088E-3,null,120084,120084,0,null,0,0,0,null,0,0,0,null,0,0,0,null,7577.6,7577.6,0,null,0,0,0,null,0,0,0,null,16716.28,16716.276543370244,3.4566297545097768E-3,null,1771537.6,1771537.5999999999,0,null,0,0,0,null,1771537.6,1771537.5999999999,0,null,0,null,0,null,null,null,0,null,null,null,0,null,296459.71999999997,296459.72230700823,0,null,11098.6,0,11099,null,null,null,0,null,null,null,0,null,null,null,0,null,null,null,0,null,null,null,0,null,null,null,0,null,"YES",{"$f":"IF(ISERROR(VLOOKUP($A301+8860000,'Growth Data'!$A:$F,3,0)),\"NO\",VLOOKUP($A301+8860000,'Growth Data'!$A:$F,3,0))","v":"NO"},1,null,55,{"$f":"IF(DI301=\"YES\",IF(ISERROR(VLOOKUP($A301+8860000,'Growth Data'!$A:$F,6,0)),0,VLOOKUP($A301+8860000,'Growth Data'!$A:$F,6,0)),0)","v":0},55,null,60,{"$f":"IF(ISERROR(VLOOKUP($A301+8860000,'Growth Data'!$A:$Z,7,0)),0,VLOOKUP($A301+8860000,'Growth Data'!$A:$Z,7,0))","v":0},1,null,"YES",{"$f":"IF(ISERROR(VLOOKUP($A301+8860000,'Growth Data'!$A:$F,4,0)),\"NO\",VLOOKUP($A301+8860000,'Growth Data'!$A:$F,4,0))","v":"NO"},1,null,55,{"$f":"IF(ISERROR(VLOOKUP($A301+8860000,'Growth Data'!$A:$Z,8,0)),0,VLOOKUP($A301+8860000,'Growth Data'!$A:$Z,8,0))","v":0},1,null,60,{"$f":"IF(ISERROR(VLOOKUP($A301+8860000,'Growth Data'!$A:$Z,9,0)),0,VLOOKUP($A301+8860000,'Growth Data'!$A:$Z,9,0))","v":0},1,null,"NO",{"$f":"IF(ISERROR(VLOOKUP($A301+8860000,'Growth Data'!$A:$Z,5,0)),\"NO\",VLOOKUP($A301+8860000,'Growth Data'!$A:$Z,5,0))","v":"NO"},0,null,0,{"$f":"IF(ISERROR(VLOOKUP($A301+8860000,'Growth Data'!$A:$Z,10,0)),0,VLOOKUP($A301+8860000,'Growth Data'!$A:$Z,10,0))","v":0},0,null,0,{"$f":"IF(ISERROR(VLOOKUP($A301+8860000,'Growth Data'!$A:$Z,11,0)),0,VLOOKUP($A301+8860000,'Growth Data'!$A:$Z,11,0))","v":0},0]
[2009,"Northdown Primary School",null,"Northdown Primary School",null,1,null,924857.83,924857.83000000007,0,null,279654.3,279654.30188118806,-1.8811880727298558E-3,null,24684.99,24684.9915,-1.4999999984866008E-3,null,134212.01999999999,134212.02192771083,-1.9277108367532492E-3,null,120084,120084,0,null,0,0,0,null,0,0,0,null,0,0,0,null,8704,8704,0,null,0,0,0,null,0,0,0,null,0,0,0,null,1492197.15,1492197.145308899,4.691100912168622E-3,null,0,0,0,null,1492197.15,1492197.145308899,4.691100912168622E-3,null,0,null,0,null,null,null,0,null,null,null,0,null,363309.74,363309.73761590704,0,null,7863.7,0,7864,null,null,null,0,null,null,null,0,null,null,null,0,null,null,null,0,null,null,null,0,null,null,null,0,null,"NO",{"$f":"IF(ISERROR(VLOOKUP($A302+8860000,'Growth Data'!$A:$F,3,0)),\"NO\",VLOOKUP($A302+8860000,'Growth Data'!$A:$F,3,0))","v":"NO"},0,null,0,{"$f":"IF(DI302=\"YES\",IF(ISERROR(VLOOKUP($A302+8860000,'Growth Data'!$A:$F,6,0)),0,VLOOKUP($A302+8860000,'Growth Data'!$A:$F,6,0)),0)","v":0},0,null,0,{"$f":"IF(ISERROR(VLOOKUP($A302+8860000,'Growth Data'!$A:$Z,7,0)),0,VLOOKUP($A302+8860000,'Growth Data'!$A:$Z,7,0))","v":0},0,null,"NO",{"$f":"IF(ISERROR(VLOOKUP($A302+8860000,'Growth Data'!$A:$F,4,0)),\"NO\",VLOOKUP($A302+8860000,'Growth Data'!$A:$F,4,0))","v":"NO"},0,null,0,{"$f":"IF(ISERROR(VLOOKUP($A302+8860000,'Growth Data'!$A:$Z,8,0)),0,VLOOKUP($A302+8860000,'Growth Data'!$A:$Z,8,0))","v":0},0,null,0,{"$f":"IF(ISERROR(VLOOKUP($A302+8860000,'Growth Data'!$A:$Z,9,0)),0,VLOOKUP($A302+8860000,'Growth Data'!$A:$Z,9,0))","v":0},0,null,"NO",{"$f":"IF(ISERROR(VLOOKUP($A302+8860000,'Growth Data'!$A:$Z,5,0)),\"NO\",VLOOKUP($A302+8860000,'Growth Data'!$A:$Z,5,0))","v":"NO"},0,null,0,{"$f":"IF(ISERROR(VLOOKUP($A302+8860000,'Growth Data'!$A:$Z,10,0)),0,VLOOKUP($A302+8860000,'Growth Data'!$A:$Z,10,0))","v":0},0,null,0,{"$f":"IF(ISERROR(VLOOKUP($A302+8860000,'Growth Data'!$A:$Z,11,0)),0,VLOOKUP($A302+8860000,'Growth Data'!$A:$Z,11,0))","v":0},0]
[2010,"Newlands Primary School",null,"Newlands Primary School",null,1,null,999093.91,999093.91,0,null,217066.14,217066.1398224851,1.7751491395756602E-4,null,13429.12,13429.120035971217,-3.5971215766039677E-5,null,130683.22,130683.216,4.0000000008149073E-3,null,120084,120084,0,null,0,0,0,null,0,0,0,null,0,0,0,null,8243.2000000000007,8243.2000000000007,0,null,0,0,0,null,0,0,0,null,0,0,0,null,1488599.59,1488599.5858584563,4.1415437590330839E-3,null,0,0,0,null,1488599.59,1488599.5858584563,4.1415437590330839E-3,null,0,null,0,null,null,null,0,null,null,null,{"$f":"BX303-BY303","v":0},null,298365.53999999998,298365.53816546453,{"$f":"ROUND(CB303-CC303,0)","v":0},null,8494.9,0,{"$f":"ROUND(CF303-CG303,0)","v":8495},null,null,null,{"$f":"ROUND(CJ303-CK303,0)","v":0},null,null,null,{"$f":"ROUND(CN303-CO303,0)","v":0},null,null,null,{"$f":"ROUND(CR303-CS303,0)","v":0},null,null,null,{"$f":"ROUND(CV303-CW303,0)","v":0},null,null,null,{"$f":"ROUND(CZ303-DA303,0)","v":0},null,null,null,{"$f":"ROUND(DD303-DE303,0)","v":0},null,"NO",{"$f":"IF(ISERROR(VLOOKUP($A303+8860000,'Growth Data'!$A:$F,3,0)),\"NO\",VLOOKUP($A303+8860000,'Growth Data'!$A:$F,3,0))","v":"NO"},{"$f":"IF(DH303=DI303,0,1)","v":0},null,0,{"$f":"IF(DI303=\"YES\",IF(ISERROR(VLOOKUP($A303+8860000,'Growth Data'!$A:$F,6,0)),0,VLOOKUP($A303+8860000,'Growth Data'!$A:$F,6,0)),0)","v":0},{"$f":"ROUND(DL303-DM303,0)","v":0},null,0,{"$f":"IF(ISERROR(VLOOKUP($A303+8860000,'Growth Data'!$A:$Z,7,0)),0,VLOOKUP($A303+8860000,'Growth Data'!$A:$Z,7,0))","v":0},{"$f":"IF(DP303=DQ303,0,1)","v":0},null,"NO",{"$f":"IF(ISERROR(VLOOKUP($A303+8860000,'Growth Data'!$A:$F,4,0)),\"NO\",VLOOKUP($A303+8860000,'Growth Data'!$A:$F,4,0))","v":"NO"},{"$f":"IF(DT303=DU303,0,1)","v":0},null,0,{"$f":"IF(ISERROR(VLOOKUP($A303+8860000,'Growth Data'!$A:$Z,8,0)),0,VLOOKUP($A303+8860000,'Growth Data'!$A:$Z,8,0))","v":0},{"$f":"IF(DX303=DY303,0,1)","v":0},null,0,{"$f":"IF(ISERROR(VLOOKUP($A303+8860000,'Growth Data'!$A:$Z,9,0)),0,VLOOKUP($A303+8860000,'Growth Data'!$A:$Z,9,0))","v":0},{"$f":"IF(EB303=EC303,0,1)","v":0},null,"NO",{"$f":"IF(ISERROR(VLOOKUP($A303+8860000,'Growth Data'!$A:$Z,5,0)),\"NO\",VLOOKUP($A303+8860000,'Growth Data'!$A:$Z,5,0))","v":"NO"},{"$f":"IF(EF303=EG303,0,1)","v":0},null,0,{"$f":"IF(ISERROR(VLOOKUP($A303+8860000,'Growth Data'!$A:$Z,10,0)),0,VLOOKUP($A303+8860000,'Growth Data'!$A:$Z,10,0))","v":0},{"$f":"IF(EJ303=EK303,0,1)","v":0},null,0,{"$f":"IF(ISERROR(VLOOKUP($A303+8860000,'Growth Data'!$A:$Z,11,0)),0,VLOOKUP($A303+8860000,'Growth Data'!$A:$Z,11,0))","v":0},{"$f":"IF(EN303=EO303,0,1)","v":0}]
[2011,"Salmestone Primary School",null,"Salmestone Primary School",null,1,null,729988.12,729988.12,0,null,155218.54,155218.54082191776,-8.2191775436513126E-4,null,15612.02,15612.024038461577,-4.0384615767834475E-3,null,94871.64,94871.63692307692,3.0769230797886848E-3,null,120084,120084,0,null,0,0,0,null,0,0,0,null,0,0,0,null,8448,8448,0,null,0,0,0,null,0,0,0,null,0,0,0,null,1124222.32,1124222.3217834563,-1.7834561876952648E-3,null,0,0,0,null,1124222.32,1124222.3217834563,-1.7834561876952648E-3,null,0,null,0,null,null,null,0,null,null,null,0,null,229587.82,229587.82409046445,0,null,6206.8,0,6207,null,null,null,0,null,null,null,0,null,null,null,0,null,null,null,0,null,null,null,0,null,null,null,0,null,"NO",{"$f":"IF(ISERROR(VLOOKUP($A304+8860000,'Growth Data'!$A:$F,3,0)),\"NO\",VLOOKUP($A304+8860000,'Growth Data'!$A:$F,3,0))","v":"NO"},0,null,0,{"$f":"IF(DI304=\"YES\",IF(ISERROR(VLOOKUP($A304+8860000,'Growth Data'!$A:$F,6,0)),0,VLOOKUP($A304+8860000,'Growth Data'!$A:$F,6,0)),0)","v":0},0,null,0,{"$f":"IF(ISERROR(VLOOKUP($A304+8860000,'Growth Data'!$A:$Z,7,0)),0,VLOOKUP($A304+8860000,'Growth Data'!$A:$Z,7,0))","v":0},0,null,"NO",{"$f":"IF(ISERROR(VLOOKUP($A304+8860000,'Growth Data'!$A:$F,4,0)),\"NO\",VLOOKUP($A304+8860000,'Growth Data'!$A:$F,4,0))","v":"NO"},0,null,0,{"$f":"IF(ISERROR(VLOOKUP($A304+8860000,'Growth Data'!$A:$Z,8,0)),0,VLOOKUP($A304+8860000,'Growth Data'!$A:$Z,8,0))","v":0},0,null,0,{"$f":"IF(ISERROR(VLOOKUP($A304+8860000,'Growth Data'!$A:$Z,9,0)),0,VLOOKUP($A304+8860000,'Growth Data'!$A:$Z,9,0))","v":0},0,null,"NO",{"$f":"IF(ISERROR(VLOOKUP($A304+8860000,'Growth Data'!$A:$Z,5,0)),\"NO\",VLOOKUP($A304+8860000,'Growth Data'!$A:$Z,5,0))","v":"NO"},0,null,0,{"$f":"IF(ISERROR(VLOOKUP($A304+8860000,'Growth Data'!$A:$Z,10,0)),0,VLOOKUP($A304+8860000,'Growth Data'!$A:$Z,10,0))","v":0},0,null,0,{"$f":"IF(ISERROR(VLOOKUP($A304+8860000,'Growth Data'!$A:$Z,11,0)),0,VLOOKUP($A304+8860000,'Growth Data'!$A:$Z,11,0))","v":0},0]
[2013,"Water Meadows Primary School",null,"Water Meadows Primary School",null,1,null,306223.83,306223.83,0,null,53248.97,53248.969999999958,0,null,1453.03,1453.0296000000017,3.9999999830797606E-4,null,23118.95,23118.950655737703,-6.5573770189075731E-4,null,120084,120084,0,null,0,0,0,null,0,0,0,null,0,0,0,null,3865.6,3865.6,0,null,0,0,0,null,0,0,0,null,0,0,0,null,507994.38,507994.38025573769,-2.5573768652975559E-4,null,3962.36,3962.3561942116357,3.805788364388718E-3,null,511956.74,511956.73644994933,3.5500506637617946E-3,null,0,null,0,null,null,null,0,null,null,null,0,null,67764.289999999994,67764.288756957481,0,null,2603.6999999999998,0,2604,null,null,null,0,null,null,null,0,null,null,null,0,null,null,null,0,null,null,null,0,null,null,null,0,null,"NO",{"$f":"IF(ISERROR(VLOOKUP($A305+8860000,'Growth Data'!$A:$F,3,0)),\"NO\",VLOOKUP($A305+8860000,'Growth Data'!$A:$F,3,0))","v":"NO"},0,null,0,{"$f":"IF(DI305=\"YES\",IF(ISERROR(VLOOKUP($A305+8860000,'Growth Data'!$A:$F,6,0)),0,VLOOKUP($A305+8860000,'Growth Data'!$A:$F,6,0)),0)","v":0},0,null,0,{"$f":"IF(ISERROR(VLOOKUP($A305+8860000,'Growth Data'!$A:$Z,7,0)),0,VLOOKUP($A305+8860000,'Growth Data'!$A:$Z,7,0))","v":0},0,null,"NO",{"$f":"IF(ISERROR(VLOOKUP($A305+8860000,'Growth Data'!$A:$F,4,0)),\"NO\",VLOOKUP($A305+8860000,'Growth Data'!$A:$F,4,0))","v":"NO"},0,null,0,{"$f":"IF(ISERROR(VLOOKUP($A305+8860000,'Growth Data'!$A:$Z,8,0)),0,VLOOKUP($A305+8860000,'Growth Data'!$A:$Z,8,0))","v":0},0,null,0,{"$f":"IF(ISERROR(VLOOKUP($A305+8860000,'Growth Data'!$A:$Z,9,0)),0,VLOOKUP($A305+8860000,'Growth Data'!$A:$Z,9,0))","v":0},0,null,"NO",{"$f":"IF(ISERROR(VLOOKUP($A305+8860000,'Growth Data'!$A:$Z,5,0)),\"NO\",VLOOKUP($A305+8860000,'Growth Data'!$A:$Z,5,0))","v":"NO"},0,null,0,{"$f":"IF(ISERROR(VLOOKUP($A305+8860000,'Growth Data'!$A:$Z,10,0)),0,VLOOKUP($A305+8860000,'Growth Data'!$A:$Z,10,0))","v":0},0,null,0,{"$f":"IF(ISERROR(VLOOKUP($A305+8860000,'Growth Data'!$A:$Z,11,0)),0,VLOOKUP($A305+8860000,'Growth Data'!$A:$Z,11,0))","v":0},0]
[2014,"St Laurence In Thanet Church of England Junior Academy",null,"St Laurence In Thanet Church of England Junior Academy",null,1,null,627913.51,627913.51,0,null,143154.14000000001,143154.13549295763,4.5070423802826554E-3,null,1651.17,1651.1699999999989,0,null,62912.69,62912.693737373731,-3.7373737286543474E-3,null,120084,120084,0,null,0,0,0,null,0,0,0,null,0,0,0,null,4979.3,4979.3,0,null,0,0,0,null,0,0,0,null,0,0,0,null,960694.81,960694.80923033145,7.6966860797256231E-4,null,0,0,0,null,960694.81,960694.80923033145,7.6966860797256231E-4,null,0,null,0,null,null,null,0,null,null,null,0,null,168381.38,168381.38153733953,0,null,5338.9,0,5339,null,null,null,0,null,null,null,0,null,null,null,0,null,null,null,0,null,null,null,0,null,null,null,0,null,"NO",{"$f":"IF(ISERROR(VLOOKUP($A306+8860000,'Growth Data'!$A:$F,3,0)),\"NO\",VLOOKUP($A306+8860000,'Growth Data'!$A:$F,3,0))","v":"NO"},0,null,0,{"$f":"IF(DI306=\"YES\",IF(ISERROR(VLOOKUP($A306+8860000,'Growth Data'!$A:$F,6,0)),0,VLOOKUP($A306+8860000,'Growth Data'!$A:$F,6,0)),0)","v":0},0,null,0,{"$f":"IF(ISERROR(VLOOKUP($A306+8860000,'Growth Data'!$A:$Z,7,0)),0,VLOOKUP($A306+8860000,'Growth Data'!$A:$Z,7,0))","v":0},0,null,"NO",{"$f":"IF(ISERROR(VLOOKUP($A306+8860000,'Growth Data'!$A:$F,4,0)),\"NO\",VLOOKUP($A306+8860000,'Growth Data'!$A:$F,4,0))","v":"NO"},0,null,0,{"$f":"IF(ISERROR(VLOOKUP($A306+8860000,'Growth Data'!$A:$Z,8,0)),0,VLOOKUP($A306+8860000,'Growth Data'!$A:$Z,8,0))","v":0},0,null,0,{"$f":"IF(ISERROR(VLOOKUP($A306+8860000,'Growth Data'!$A:$Z,9,0)),0,VLOOKUP($A306+8860000,'Growth Data'!$A:$Z,9,0))","v":0},0,null,"NO",{"$f":"IF(ISERROR(VLOOKUP($A306+8860000,'Growth Data'!$A:$Z,5,0)),\"NO\",VLOOKUP($A306+8860000,'Growth Data'!$A:$Z,5,0))","v":"NO"},0,null,0,{"$f":"IF(ISERROR(VLOOKUP($A306+8860000,'Growth Data'!$A:$Z,10,0)),0,VLOOKUP($A306+8860000,'Growth Data'!$A:$Z,10,0))","v":0},0,null,0,{"$f":"IF(ISERROR(VLOOKUP($A306+8860000,'Growth Data'!$A:$Z,11,0)),0,VLOOKUP($A306+8860000,'Growth Data'!$A:$Z,11,0))","v":0},0]
[2015,"Dame Janet Primary Academy",null,"Dame Janet Primary Academy",null,1,null,1156845.58,1156845.58,0,null,315211.71999999997,315211.72024271853,-2.4271855363622308E-4,null,17308.36,17308.360600600605,-6.0060060422983952E-4,null,178449.27,178449.27057057057,-5.7057058438658714E-4,null,120084,120084,0,null,0,0,0,null,0,0,0,null,0,0,0,null,10342.4,10342.4,0,null,0,0,0,null,0,0,0,null,0,0,0,null,1798241.33,1798241.3314138898,-1.4138896949589252E-3,null,0,0,0,null,1798241.33,1798241.3314138898,-1.4138896949589252E-3,null,0,null,0,null,null,null,0,null,null,null,0,null,422378.49,422378.49372089788,0,null,9836.2000000000007,0,9836,null,null,null,0,null,null,null,0,null,null,null,0,null,null,null,0,null,null,null,0,null,null,null,0,null,"NO",{"$f":"IF(ISERROR(VLOOKUP($A307+8860000,'Growth Data'!$A:$F,3,0)),\"NO\",VLOOKUP($A307+8860000,'Growth Data'!$A:$F,3,0))","v":"NO"},0,null,0,{"$f":"IF(DI307=\"YES\",IF(ISERROR(VLOOKUP($A307+8860000,'Growth Data'!$A:$F,6,0)),0,VLOOKUP($A307+8860000,'Growth Data'!$A:$F,6,0)),0)","v":0},0,null,0,{"$f":"IF(ISERROR(VLOOKUP($A307+8860000,'Growth Data'!$A:$Z,7,0)),0,VLOOKUP($A307+8860000,'Growth Data'!$A:$Z,7,0))","v":0},0,null,"NO",{"$f":"IF(ISERROR(VLOOKUP($A307+8860000,'Growth Data'!$A:$F,4,0)),\"NO\",VLOOKUP($A307+8860000,'Growth Data'!$A:$F,4,0))","v":"NO"},0,null,0,{"$f":"IF(ISERROR(VLOOKUP($A307+8860000,'Growth Data'!$A:$Z,8,0)),0,VLOOKUP($A307+8860000,'Growth Data'!$A:$Z,8,0))","v":0},0,null,0,{"$f":"IF(ISERROR(VLOOKUP($A307+8860000,'Growth Data'!$A:$Z,9,0)),0,VLOOKUP($A307+8860000,'Growth Data'!$A:$Z,9,0))","v":0},0,null,"NO",{"$f":"IF(ISERROR(VLOOKUP($A307+8860000,'Growth Data'!$A:$Z,5,0)),\"NO\",VLOOKUP($A307+8860000,'Growth Data'!$A:$Z,5,0))","v":"NO"},0,null,0,{"$f":"IF(ISERROR(VLOOKUP($A307+8860000,'Growth Data'!$A:$Z,10,0)),0,VLOOKUP($A307+8860000,'Growth Data'!$A:$Z,10,0))","v":0},0,null,0,{"$f":"IF(ISERROR(VLOOKUP($A307+8860000,'Growth Data'!$A:$Z,11,0)),0,VLOOKUP($A307+8860000,'Growth Data'!$A:$Z,11,0))","v":0},0]
[2017,"Drapers Mills Primary Academy",null,"Drapers Mills Primary Academy",null,1,null,1156845.58,1156845.58,0,null,341528.04,341528.04,0,null,51461.47,51461.464999999997,5.0000000046566129E-3,null,173328.03,173328.0345519713,-4.5519713021349162E-3,null,120084,120084,0,null,0,0,0,null,0,0,0,null,0,0,0,null,11776,11776,0,null,0,0,0,null,0,0,0,null,0,0,0,null,1855023.12,1855023.1195519716,4.480285570025444E-4,null,0,0,0,null,1855023.12,1855023.1195519716,4.480285570025444E-4,null,0,null,0,null,null,null,0,null,null,null,0,null,468059.96,468059.96185897943,0,null,9836.2000000000007,0,9836,null,null,null,0,null,null,null,0,null,null,null,0,null,null,null,0,null,null,null,0,null,null,null,0,null,"NO",{"$f":"IF(ISERROR(VLOOKUP($A308+8860000,'Growth Data'!$A:$F,3,0)),\"NO\",VLOOKUP($A308+8860000,'Growth Data'!$A:$F,3,0))","v":"NO"},0,null,0,{"$f":"IF(DI308=\"YES\",IF(ISERROR(VLOOKUP($A308+8860000,'Growth Data'!$A:$F,6,0)),0,VLOOKUP($A308+8860000,'Growth Data'!$A:$F,6,0)),0)","v":0},0,null,0,{"$f":"IF(ISERROR(VLOOKUP($A308+8860000,'Growth Data'!$A:$Z,7,0)),0,VLOOKUP($A308+8860000,'Growth Data'!$A:$Z,7,0))","v":0},0,null,"NO",{"$f":"IF(ISERROR(VLOOKUP($A308+8860000,'Growth Data'!$A:$F,4,0)),\"NO\",VLOOKUP($A308+8860000,'Growth Data'!$A:$F,4,0))","v":"NO"},0,null,0,{"$f":"IF(ISERROR(VLOOKUP($A308+8860000,'Growth Data'!$A:$Z,8,0)),0,VLOOKUP($A308+8860000,'Growth Data'!$A:$Z,8,0))","v":0},0,null,0,{"$f":"IF(ISERROR(VLOOKUP($A308+8860000,'Growth Data'!$A:$Z,9,0)),0,VLOOKUP($A308+8860000,'Growth Data'!$A:$Z,9,0))","v":0},0,null,"NO",{"$f":"IF(ISERROR(VLOOKUP($A308+8860000,'Growth Data'!$A:$Z,5,0)),\"NO\",VLOOKUP($A308+8860000,'Growth Data'!$A:$Z,5,0))","v":"NO"},0,null,0,{"$f":"IF(ISERROR(VLOOKUP($A308+8860000,'Growth Data'!$A:$Z,10,0)),0,VLOOKUP($A308+8860000,'Growth Data'!$A:$Z,10,0))","v":0},0,null,0,{"$f":"IF(ISERROR(VLOOKUP($A308+8860000,'Growth Data'!$A:$Z,11,0)),0,VLOOKUP($A308+8860000,'Growth Data'!$A:$Z,11,0))","v":0},0]
[2018,"Temple Grove Academy",null,"Temple Grove Academy",null,1,null,637193.02,637193.02,0,null,107071.38,107071.38000000003,0,null,17935.87,17935.872994350255,-2.9943502559035551E-3,null,66472.23,66472.231656441727,-1.6564417310291901E-3,null,120084,120084,0,null,0,0,0,null,0,0,0,null,0,0,0,null,6689.59,6689.59,0,null,0,0,0,null,0,0,0,null,0,0,0,null,955446.09,955446.09465079196,-4.650791990570724E-3,null,0,0,0,null,955446.09,955446.09465079196,-4.650791990570724E-3,null,0,null,0,null,null,null,0,null,null,null,0,null,161349.26999999999,161349.26695780014,0,null,5417.8,0,5418,null,null,null,0,null,null,null,0,null,null,null,0,null,null,null,0,null,null,null,0,null,null,null,0,null,"NO",{"$f":"IF(ISERROR(VLOOKUP($A309+8860000,'Growth Data'!$A:$F,3,0)),\"NO\",VLOOKUP($A309+8860000,'Growth Data'!$A:$F,3,0))","v":"NO"},0,null,0,{"$f":"IF(DI309=\"YES\",IF(ISERROR(VLOOKUP($A309+8860000,'Growth Data'!$A:$F,6,0)),0,VLOOKUP($A309+8860000,'Growth Data'!$A:$F,6,0)),0)","v":0},0,null,0,{"$f":"IF(ISERROR(VLOOKUP($A309+8860000,'Growth Data'!$A:$Z,7,0)),0,VLOOKUP($A309+8860000,'Growth Data'!$A:$Z,7,0))","v":0},0,null,"NO",{"$f":"IF(ISERROR(VLOOKUP($A309+8860000,'Growth Data'!$A:$F,4,0)),\"NO\",VLOOKUP($A309+8860000,'Growth Data'!$A:$F,4,0))","v":"NO"},0,null,0,{"$f":"IF(ISERROR(VLOOKUP($A309+8860000,'Growth Data'!$A:$Z,8,0)),0,VLOOKUP($A309+8860000,'Growth Data'!$A:$Z,8,0))","v":0},0,null,0,{"$f":"IF(ISERROR(VLOOKUP($A309+8860000,'Growth Data'!$A:$Z,9,0)),0,VLOOKUP($A309+8860000,'Growth Data'!$A:$Z,9,0))","v":0},0,null,"NO",{"$f":"IF(ISERROR(VLOOKUP($A309+8860000,'Growth Data'!$A:$Z,5,0)),\"NO\",VLOOKUP($A309+8860000,'Growth Data'!$A:$Z,5,0))","v":"NO"},0,null,0,{"$f":"IF(ISERROR(VLOOKUP($A309+8860000,'Growth Data'!$A:$Z,10,0)),0,VLOOKUP($A309+8860000,'Growth Data'!$A:$Z,10,0))","v":0},0,null,0,{"$f":"IF(ISERROR(VLOOKUP($A309+8860000,'Growth Data'!$A:$Z,11,0)),0,VLOOKUP($A309+8860000,'Growth Data'!$A:$Z,11,0))","v":0},0]
[2019,"Chantry Community Academy",null,"Chantry Community Academy",null,1,null,1262013.3600000001,1262013.3600000001,0,null,212687.68,212687.67999999991,0,null,70846.820000000007,70846.820957746502,-9.5774649525992572E-4,null,156329.85,156329.85333333333,-3.3333333267364651E-3,null,120084,120084,0,null,0,0,0,null,0,0,0,null,0,0,0,null,3865.6,3865.6,0,null,0,0,0,null,0,0,0,null,0,0,0,null,1825827.31,1825827.31429108,-4.2910799384117126E-3,null,14659.64,14659.641418920131,-1.4189201319823042E-3,null,1840486.96,1840486.9557100001,4.2899998370558023E-3,null,0,null,0,null,null,null,0,null,null,null,0,null,391711.06,391711.05801700806,0,null,10730.4,0,10730,null,null,null,0,null,null,null,0,null,null,null,0,null,null,null,0,null,null,null,0,null,null,null,0,null,"NO",{"$f":"IF(ISERROR(VLOOKUP($A310+8860000,'Growth Data'!$A:$F,3,0)),\"NO\",VLOOKUP($A310+8860000,'Growth Data'!$A:$F,3,0))","v":"NO"},0,null,0,{"$f":"IF(DI310=\"YES\",IF(ISERROR(VLOOKUP($A310+8860000,'Growth Data'!$A:$F,6,0)),0,VLOOKUP($A310+8860000,'Growth Data'!$A:$F,6,0)),0)","v":0},0,null,0,{"$f":"IF(ISERROR(VLOOKUP($A310+8860000,'Growth Data'!$A:$Z,7,0)),0,VLOOKUP($A310+8860000,'Growth Data'!$A:$Z,7,0))","v":0},0,null,"NO",{"$f":"IF(ISERROR(VLOOKUP($A310+8860000,'Growth Data'!$A:$F,4,0)),\"NO\",VLOOKUP($A310+8860000,'Growth Data'!$A:$F,4,0))","v":"NO"},0,null,0,{"$f":"IF(ISERROR(VLOOKUP($A310+8860000,'Growth Data'!$A:$Z,8,0)),0,VLOOKUP($A310+8860000,'Growth Data'!$A:$Z,8,0))","v":0},0,null,0,{"$f":"IF(ISERROR(VLOOKUP($A310+8860000,'Growth Data'!$A:$Z,9,0)),0,VLOOKUP($A310+8860000,'Growth Data'!$A:$Z,9,0))","v":0},0,null,"NO",{"$f":"IF(ISERROR(VLOOKUP($A310+8860000,'Growth Data'!$A:$Z,5,0)),\"NO\",VLOOKUP($A310+8860000,'Growth Data'!$A:$Z,5,0))","v":"NO"},0,null,0,{"$f":"IF(ISERROR(VLOOKUP($A310+8860000,'Growth Data'!$A:$Z,10,0)),0,VLOOKUP($A310+8860000,'Growth Data'!$A:$Z,10,0))","v":0},0,null,0,{"$f":"IF(ISERROR(VLOOKUP($A310+8860000,'Growth Data'!$A:$Z,11,0)),0,VLOOKUP($A310+8860000,'Growth Data'!$A:$Z,11,0))","v":0},0]
[2020,"Christ Church Church of England Junior School, Ramsgate",null,"Christ Church Church of England Junior School, Ramsgate",null,1,null,612447.66,612447.66,0,null,92307.26,92307.261000000028,-1.0000000329455361E-3,null,2201.56,2201.5599999999995,0,null,72320.820000000007,72320.819999999992,0,null,120084,120084,0,null,0,0,0,null,0,0,0,null,0,0,0,null,7884.8,7884.8,0,null,0,0,0,null,0,0,0,null,0,0,0,null,907246.1,907246.10100000014,-1.0000001639127731E-3,null,0,0,0,null,907246.1,907246.10100000014,-1.0000001639127731E-3,null,0,null,0,null,null,null,0,null,null,null,0,null,147747.1,147747.10330700816,0,null,5207.3999999999996,0,5207,null,null,null,0,null,null,null,0,null,null,null,0,null,null,null,0,null,null,null,0,null,null,null,0,null,"NO",{"$f":"IF(ISERROR(VLOOKUP($A311+8860000,'Growth Data'!$A:$F,3,0)),\"NO\",VLOOKUP($A311+8860000,'Growth Data'!$A:$F,3,0))","v":"NO"},0,null,0,{"$f":"IF(DI311=\"YES\",IF(ISERROR(VLOOKUP($A311+8860000,'Growth Data'!$A:$F,6,0)),0,VLOOKUP($A311+8860000,'Growth Data'!$A:$F,6,0)),0)","v":0},0,null,0,{"$f":"IF(ISERROR(VLOOKUP($A311+8860000,'Growth Data'!$A:$Z,7,0)),0,VLOOKUP($A311+8860000,'Growth Data'!$A:$Z,7,0))","v":0},0,null,"NO",{"$f":"IF(ISERROR(VLOOKUP($A311+8860000,'Growth Data'!$A:$F,4,0)),\"NO\",VLOOKUP($A311+8860000,'Growth Data'!$A:$F,4,0))","v":"NO"},0,null,0,{"$f":"IF(ISERROR(VLOOKUP($A311+8860000,'Growth Data'!$A:$Z,8,0)),0,VLOOKUP($A311+8860000,'Growth Data'!$A:$Z,8,0))","v":0},0,null,0,{"$f":"IF(ISERROR(VLOOKUP($A311+8860000,'Growth Data'!$A:$Z,9,0)),0,VLOOKUP($A311+8860000,'Growth Data'!$A:$Z,9,0))","v":0},0,null,"NO",{"$f":"IF(ISERROR(VLOOKUP($A311+8860000,'Growth Data'!$A:$Z,5,0)),\"NO\",VLOOKUP($A311+8860000,'Growth Data'!$A:$Z,5,0))","v":"NO"},0,null,0,{"$f":"IF(ISERROR(VLOOKUP($A311+8860000,'Growth Data'!$A:$Z,10,0)),0,VLOOKUP($A311+8860000,'Growth Data'!$A:$Z,10,0))","v":0},0,null,0,{"$f":"IF(ISERROR(VLOOKUP($A311+8860000,'Growth Data'!$A:$Z,11,0)),0,VLOOKUP($A311+8860000,'Growth Data'!$A:$Z,11,0))","v":0},0]
[2021,"Kemsley Primary Academy",null,"Kemsley Primary Academy",null,1,null,649565.69999999995,649565.70000000007,0,null,76998.19,76998.190095693717,-9.5693714683875442E-5,null,9631.83,9631.8249999999953,5.0000000046566129E-3,null,57202.91,57202.908474576274,1.5254237296176143E-3,null,120084,120084,0,null,0,0,0,null,0,0,0,null,0,0,0,null,9472,9472,0,null,0,0,0,null,0,0,0,null,0,0,0,null,922954.62,922954.62357027002,-3.5702700261026621E-3,null,0,0,0,null,922954.62,922954.62357027002,-3.5702700261026621E-3,null,0,null,0,null,null,null,0,null,null,null,0,null,127512.31,127512.30587727817,0,null,5523,0,5523,null,null,null,0,null,null,null,0,null,null,null,0,null,null,null,0,null,null,null,0,null,null,null,0,null,"NO",{"$f":"IF(ISERROR(VLOOKUP($A312+8860000,'Growth Data'!$A:$F,3,0)),\"NO\",VLOOKUP($A312+8860000,'Growth Data'!$A:$F,3,0))","v":"NO"},0,null,0,{"$f":"IF(DI312=\"YES\",IF(ISERROR(VLOOKUP($A312+8860000,'Growth Data'!$A:$F,6,0)),0,VLOOKUP($A312+8860000,'Growth Data'!$A:$F,6,0)),0)","v":0},0,null,0,{"$f":"IF(ISERROR(VLOOKUP($A312+8860000,'Growth Data'!$A:$Z,7,0)),0,VLOOKUP($A312+8860000,'Growth Data'!$A:$Z,7,0))","v":0},0,null,"NO",{"$f":"IF(ISERROR(VLOOKUP($A312+8860000,'Growth Data'!$A:$F,4,0)),\"NO\",VLOOKUP($A312+8860000,'Growth Data'!$A:$F,4,0))","v":"NO"},0,null,0,{"$f":"IF(ISERROR(VLOOKUP($A312+8860000,'Growth Data'!$A:$Z,8,0)),0,VLOOKUP($A312+8860000,'Growth Data'!$A:$Z,8,0))","v":0},0,null,0,{"$f":"IF(ISERROR(VLOOKUP($A312+8860000,'Growth Data'!$A:$Z,9,0)),0,VLOOKUP($A312+8860000,'Growth Data'!$A:$Z,9,0))","v":0},0,null,"NO",{"$f":"IF(ISERROR(VLOOKUP($A312+8860000,'Growth Data'!$A:$Z,5,0)),\"NO\",VLOOKUP($A312+8860000,'Growth Data'!$A:$Z,5,0))","v":"NO"},0,null,0,{"$f":"IF(ISERROR(VLOOKUP($A312+8860000,'Growth Data'!$A:$Z,10,0)),0,VLOOKUP($A312+8860000,'Growth Data'!$A:$Z,10,0))","v":0},0,null,0,{"$f":"IF(ISERROR(VLOOKUP($A312+8860000,'Growth Data'!$A:$Z,11,0)),0,VLOOKUP($A312+8860000,'Growth Data'!$A:$Z,11,0))","v":0},0]
[2022,"Milton Court Primary Academy",null,"Milton Court Primary Academy",null,1,null,606261.31999999995,606261.32000000007,0,null,143937.1,143937.09690721656,3.0927834450267255E-3,null,7798.3,7798.2968674698759,3.1325301242759451E-3,null,75103.94,75103.941349693254,-1.3496932515408844E-3,null,120084,120084,0,null,0,0,0,null,0,0,0,null,0,0,0,null,5836.8,5836.8,0,null,0,0,0,null,0,0,0,null,0,0,0,null,959021.46,959021.45512437983,4.8756201285868883E-3,null,0,0,0,null,959021.46,959021.45512437983,4.8756201285868883E-3,null,0,null,0,null,null,null,0,null,null,null,0,null,178756.64,178756.63743138779,0,null,5154.8,0,5155,null,null,null,0,null,null,null,0,null,null,null,0,null,null,null,0,null,null,null,0,null,null,null,0,null,"NO",{"$f":"IF(ISERROR(VLOOKUP($A313+8860000,'Growth Data'!$A:$F,3,0)),\"NO\",VLOOKUP($A313+8860000,'Growth Data'!$A:$F,3,0))","v":"NO"},0,null,0,{"$f":"IF(DI313=\"YES\",IF(ISERROR(VLOOKUP($A313+8860000,'Growth Data'!$A:$F,6,0)),0,VLOOKUP($A313+8860000,'Growth Data'!$A:$F,6,0)),0)","v":0},0,null,0,{"$f":"IF(ISERROR(VLOOKUP($A313+8860000,'Growth Data'!$A:$Z,7,0)),0,VLOOKUP($A313+8860000,'Growth Data'!$A:$Z,7,0))","v":0},0,null,"NO",{"$f":"IF(ISERROR(VLOOKUP($A313+8860000,'Growth Data'!$A:$F,4,0)),\"NO\",VLOOKUP($A313+8860000,'Growth Data'!$A:$F,4,0))","v":"NO"},0,null,0,{"$f":"IF(ISERROR(VLOOKUP($A313+8860000,'Growth Data'!$A:$Z,8,0)),0,VLOOKUP($A313+8860000,'Growth Data'!$A:$Z,8,0))","v":0},0,null,0,{"$f":"IF(ISERROR(VLOOKUP($A313+8860000,'Growth Data'!$A:$Z,9,0)),0,VLOOKUP($A313+8860000,'Growth Data'!$A:$Z,9,0))","v":0},0,null,"NO",{"$f":"IF(ISERROR(VLOOKUP($A313+8860000,'Growth Data'!$A:$Z,5,0)),\"NO\",VLOOKUP($A313+8860000,'Growth Data'!$A:$Z,5,0))","v":"NO"},0,null,0,{"$f":"IF(ISERROR(VLOOKUP($A313+8860000,'Growth Data'!$A:$Z,10,0)),0,VLOOKUP($A313+8860000,'Growth Data'!$A:$Z,10,0))","v":0},0,null,0,{"$f":"IF(ISERROR(VLOOKUP($A313+8860000,'Growth Data'!$A:$Z,11,0)),0,VLOOKUP($A313+8860000,'Growth Data'!$A:$Z,11,0))","v":0},0]
[2023,"Temple Ewell Church of England Primary School",null,"Temple Ewell Church of England Primary School",null,1,null,442323.31,442323.31,0,null,38919.9,38919.895496688754,4.5033112473902293E-3,null,1935.39,1935.3877868852435,2.2131147566142317E-3,null,22767.67,22767.665555555555,4.4444444429245777E-3,null,120084,120084,0,null,0,0,0,null,0,0,0,null,0,0,0,null,1229,1229,0,null,0,0,0,null,0,0,0,null,0,0,0,null,627259.26,627259.25883912947,1.1608705390244722E-3,null,0,0,0,null,627259.26,627259.25883912947,1.1608705390244722E-3,null,0,null,0,null,null,null,0,null,null,null,0,null,56048.41,56048.411146137689,0,null,3760.9,0,3761,null,null,null,0,null,null,null,0,null,null,null,0,null,null,null,0,null,null,null,0,null,null,null,0,null,"NO",{"$f":"IF(ISERROR(VLOOKUP($A314+8860000,'Growth Data'!$A:$F,3,0)),\"NO\",VLOOKUP($A314+8860000,'Growth Data'!$A:$F,3,0))","v":"NO"},0,null,0,{"$f":"IF(DI314=\"YES\",IF(ISERROR(VLOOKUP($A314+8860000,'Growth Data'!$A:$F,6,0)),0,VLOOKUP($A314+8860000,'Growth Data'!$A:$F,6,0)),0)","v":0},0,null,0,{"$f":"IF(ISERROR(VLOOKUP($A314+8860000,'Growth Data'!$A:$Z,7,0)),0,VLOOKUP($A314+8860000,'Growth Data'!$A:$Z,7,0))","v":0},0,null,"NO",{"$f":"IF(ISERROR(VLOOKUP($A314+8860000,'Growth Data'!$A:$F,4,0)),\"NO\",VLOOKUP($A314+8860000,'Growth Data'!$A:$F,4,0))","v":"NO"},0,null,0,{"$f":"IF(ISERROR(VLOOKUP($A314+8860000,'Growth Data'!$A:$Z,8,0)),0,VLOOKUP($A314+8860000,'Growth Data'!$A:$Z,8,0))","v":0},0,null,0,{"$f":"IF(ISERROR(VLOOKUP($A314+8860000,'Growth Data'!$A:$Z,9,0)),0,VLOOKUP($A314+8860000,'Growth Data'!$A:$Z,9,0))","v":0},0,null,"NO",{"$f":"IF(ISERROR(VLOOKUP($A314+8860000,'Growth Data'!$A:$Z,5,0)),\"NO\",VLOOKUP($A314+8860000,'Growth Data'!$A:$Z,5,0))","v":"NO"},0,null,0,{"$f":"IF(ISERROR(VLOOKUP($A314+8860000,'Growth Data'!$A:$Z,10,0)),0,VLOOKUP($A314+8860000,'Growth Data'!$A:$Z,10,0))","v":0},0,null,0,{"$f":"IF(ISERROR(VLOOKUP($A314+8860000,'Growth Data'!$A:$Z,11,0)),0,VLOOKUP($A314+8860000,'Growth Data'!$A:$Z,11,0))","v":0},0]
[2024,"Copperfield Academy",null,"Copperfield Academy",null,1,null,1277479.21,1277479.21,0,null,170124.21,170124.20999999979,0,null,68437.740000000005,68437.741505376267,-1.5053762617753819E-3,null,143814.22,143814.22183673468,-1.8367346783634275E-3,null,120084,120084,0,null,0,0,0,null,0,0,0,null,0,0,0,null,7782.4,7782.4,0,null,0,0,0,null,0,0,0,null,0,0,0,null,1787721.78,1787721.7833421105,-3.3421104308217764E-3,null,0,0,0,null,1787721.78,1787721.7833421105,-3.3421104308217764E-3,null,0,null,0,null,null,null,0,null,null,null,0,null,327849,327848.99564911897,0,null,10861.9,0,10862,null,null,null,0,null,null,null,0,null,null,null,0,null,null,null,0,null,null,null,0,null,null,null,0,null,"NO",{"$f":"IF(ISERROR(VLOOKUP($A315+8860000,'Growth Data'!$A:$F,3,0)),\"NO\",VLOOKUP($A315+8860000,'Growth Data'!$A:$F,3,0))","v":"NO"},0,null,0,{"$f":"IF(DI315=\"YES\",IF(ISERROR(VLOOKUP($A315+8860000,'Growth Data'!$A:$F,6,0)),0,VLOOKUP($A315+8860000,'Growth Data'!$A:$F,6,0)),0)","v":0},0,null,0,{"$f":"IF(ISERROR(VLOOKUP($A315+8860000,'Growth Data'!$A:$Z,7,0)),0,VLOOKUP($A315+8860000,'Growth Data'!$A:$Z,7,0))","v":0},0,null,"NO",{"$f":"IF(ISERROR(VLOOKUP($A315+8860000,'Growth Data'!$A:$F,4,0)),\"NO\",VLOOKUP($A315+8860000,'Growth Data'!$A:$F,4,0))","v":"NO"},0,null,0,{"$f":"IF(ISERROR(VLOOKUP($A315+8860000,'Growth Data'!$A:$Z,8,0)),0,VLOOKUP($A315+8860000,'Growth Data'!$A:$Z,8,0))","v":0},0,null,0,{"$f":"IF(ISERROR(VLOOKUP($A315+8860000,'Growth Data'!$A:$Z,9,0)),0,VLOOKUP($A315+8860000,'Growth Data'!$A:$Z,9,0))","v":0},0,null,"NO",{"$f":"IF(ISERROR(VLOOKUP($A315+8860000,'Growth Data'!$A:$Z,5,0)),\"NO\",VLOOKUP($A315+8860000,'Growth Data'!$A:$Z,5,0))","v":"NO"},0,null,0,{"$f":"IF(ISERROR(VLOOKUP($A315+8860000,'Growth Data'!$A:$Z,10,0)),0,VLOOKUP($A315+8860000,'Growth Data'!$A:$Z,10,0))","v":0},0,null,0,{"$f":"IF(ISERROR(VLOOKUP($A315+8860000,'Growth Data'!$A:$Z,11,0)),0,VLOOKUP($A315+8860000,'Growth Data'!$A:$Z,11,0))","v":0},0]
[2025,"The Wells Free School",null,"The Wells Free School",null,1,null,538211.57999999996,538211.57999999996,0,null,18386.96,18386.956235294136,3.7647058634320274E-3,null,23622.74,23622.738800000032,1.1999999696854502E-3,null,49203.61,49203.607741935477,2.2580645236303098E-3,null,120084,120084,0,null,0,0,0,null,0,0,0,null,0,0,0,null,1258.4000000000001,1258.4000000000001,0,null,0,0,0,null,0,0,0,null,0,0,0,null,750767.28,750767.28277722967,-2.7772296452894807E-3,null,0,0,0,null,750767.28,750767.28277722967,-2.7772296452894807E-3,null,0,null,0,null,null,null,0,null,null,null,0,null,87781.65,87781.645084237782,0,null,4576.2,0,4576,null,null,null,0,null,null,null,0,null,null,null,0,null,null,null,0,null,null,null,0,null,null,null,0,null,"NO",{"$f":"IF(ISERROR(VLOOKUP($A316+8860000,'Growth Data'!$A:$F,3,0)),\"NO\",VLOOKUP($A316+8860000,'Growth Data'!$A:$F,3,0))","v":"NO"},0,null,0,{"$f":"IF(DI316=\"YES\",IF(ISERROR(VLOOKUP($A316+8860000,'Growth Data'!$A:$F,6,0)),0,VLOOKUP($A316+8860000,'Growth Data'!$A:$F,6,0)),0)","v":0},0,null,0,{"$f":"IF(ISERROR(VLOOKUP($A316+8860000,'Growth Data'!$A:$Z,7,0)),0,VLOOKUP($A316+8860000,'Growth Data'!$A:$Z,7,0))","v":0},0,null,"NO",{"$f":"IF(ISERROR(VLOOKUP($A316+8860000,'Growth Data'!$A:$F,4,0)),\"NO\",VLOOKUP($A316+8860000,'Growth Data'!$A:$F,4,0))","v":"NO"},0,null,0,{"$f":"IF(ISERROR(VLOOKUP($A316+8860000,'Growth Data'!$A:$Z,8,0)),0,VLOOKUP($A316+8860000,'Growth Data'!$A:$Z,8,0))","v":0},0,null,0,{"$f":"IF(ISERROR(VLOOKUP($A316+8860000,'Growth Data'!$A:$Z,9,0)),0,VLOOKUP($A316+8860000,'Growth Data'!$A:$Z,9,0))","v":0},0,null,"NO",{"$f":"IF(ISERROR(VLOOKUP($A316+8860000,'Growth Data'!$A:$Z,5,0)),\"NO\",VLOOKUP($A316+8860000,'Growth Data'!$A:$Z,5,0))","v":"NO"},0,null,0,{"$f":"IF(ISERROR(VLOOKUP($A316+8860000,'Growth Data'!$A:$Z,10,0)),0,VLOOKUP($A316+8860000,'Growth Data'!$A:$Z,10,0))","v":0},0,null,0,{"$f":"IF(ISERROR(VLOOKUP($A316+8860000,'Growth Data'!$A:$Z,11,0)),0,VLOOKUP($A316+8860000,'Growth Data'!$A:$Z,11,0))","v":0},0]
[2026,"Petham Primary School",null,"Petham Primary School",null,1,null,352621.38,352621.38,0,null,12764.1,12764.097499999994,2.5000000059662852E-3,null,1293.7,1293.7002061855653,-2.0618556527551846E-4,null,22821.52,22821.517499999998,2.5000000023283064E-3,null,120084,120084,0,null,21523.52,21523.51922563418,7.7436582068912685E-4,null,0,0,0,null,0,0,0,null,3452.4,3452.3999999999901,1.0004441719502211E-11,null,0,0,0,null,0,0,0,null,0,0,0,null,534560.61,534560.61443181976,-4.4318197760730982E-3,null,0,0,0,null,534560.61,534560.61443181976,-4.4318197760730982E-3,null,0,null,0,null,null,null,0,null,null,null,0,null,38511.18,38511.17751319371,0,null,2998.2,0,2998,null,null,null,0,null,null,null,0,null,null,null,0,null,null,null,0,null,null,null,0,null,null,null,0,null,"NO",{"$f":"IF(ISERROR(VLOOKUP($A317+8860000,'Growth Data'!$A:$F,3,0)),\"NO\",VLOOKUP($A317+8860000,'Growth Data'!$A:$F,3,0))","v":"NO"},0,null,0,{"$f":"IF(DI317=\"YES\",IF(ISERROR(VLOOKUP($A317+8860000,'Growth Data'!$A:$F,6,0)),0,VLOOKUP($A317+8860000,'Growth Data'!$A:$F,6,0)),0)","v":0},0,null,0,{"$f":"IF(ISERROR(VLOOKUP($A317+8860000,'Growth Data'!$A:$Z,7,0)),0,VLOOKUP($A317+8860000,'Growth Data'!$A:$Z,7,0))","v":0},0,null,"NO",{"$f":"IF(ISERROR(VLOOKUP($A317+8860000,'Growth Data'!$A:$F,4,0)),\"NO\",VLOOKUP($A317+8860000,'Growth Data'!$A:$F,4,0))","v":"NO"},0,null,0,{"$f":"IF(ISERROR(VLOOKUP($A317+8860000,'Growth Data'!$A:$Z,8,0)),0,VLOOKUP($A317+8860000,'Growth Data'!$A:$Z,8,0))","v":0},0,null,0,{"$f":"IF(ISERROR(VLOOKUP($A317+8860000,'Growth Data'!$A:$Z,9,0)),0,VLOOKUP($A317+8860000,'Growth Data'!$A:$Z,9,0))","v":0},0,null,"NO",{"$f":"IF(ISERROR(VLOOKUP($A317+8860000,'Growth Data'!$A:$Z,5,0)),\"NO\",VLOOKUP($A317+8860000,'Growth Data'!$A:$Z,5,0))","v":"NO"},0,null,0,{"$f":"IF(ISERROR(VLOOKUP($A317+8860000,'Growth Data'!$A:$Z,10,0)),0,VLOOKUP($A317+8860000,'Growth Data'!$A:$Z,10,0))","v":0},0,null,0,{"$f":"IF(ISERROR(VLOOKUP($A317+8860000,'Growth Data'!$A:$Z,11,0)),0,VLOOKUP($A317+8860000,'Growth Data'!$A:$Z,11,0))","v":0},0]
[2027,"Archbishop Courtenay Primary School",null,"Archbishop Courtenay Primary School",null,1,null,912485.15,912485.15,0,null,107084.88,107084.88266666666,-2.6666666526580229E-3,null,44031.199999999997,44031.199999999983,0,null,101205.11,101205.11238317756,-2.3831775615690276E-3,null,120084,120084,0,null,0,0,0,null,0,0,0,null,0,0,0,null,13005,13005,0,null,0,0,0,null,0,0,0,null,0,0,0,null,1297895.3500000001,1297895.3450498441,4.9501559697091579E-3,null,0,0,0,null,1297895.3500000001,1297895.3450498441,4.9501559697091579E-3,null,0,null,0,null,null,null,0,null,null,null,0,null,218968.74,218968.73735685227,0,null,7758.5,0,7759,null,null,null,0,null,null,null,0,null,null,null,0,null,null,null,0,null,null,null,0,null,null,null,0,null,"NO",{"$f":"IF(ISERROR(VLOOKUP($A318+8860000,'Growth Data'!$A:$F,3,0)),\"NO\",VLOOKUP($A318+8860000,'Growth Data'!$A:$F,3,0))","v":"NO"},0,null,0,{"$f":"IF(DI318=\"YES\",IF(ISERROR(VLOOKUP($A318+8860000,'Growth Data'!$A:$F,6,0)),0,VLOOKUP($A318+8860000,'Growth Data'!$A:$F,6,0)),0)","v":0},0,null,0,{"$f":"IF(ISERROR(VLOOKUP($A318+8860000,'Growth Data'!$A:$Z,7,0)),0,VLOOKUP($A318+8860000,'Growth Data'!$A:$Z,7,0))","v":0},0,null,"NO",{"$f":"IF(ISERROR(VLOOKUP($A318+8860000,'Growth Data'!$A:$F,4,0)),\"NO\",VLOOKUP($A318+8860000,'Growth Data'!$A:$F,4,0))","v":"NO"},0,null,0,{"$f":"IF(ISERROR(VLOOKUP($A318+8860000,'Growth Data'!$A:$Z,8,0)),0,VLOOKUP($A318+8860000,'Growth Data'!$A:$Z,8,0))","v":0},0,null,0,{"$f":"IF(ISERROR(VLOOKUP($A318+8860000,'Growth Data'!$A:$Z,9,0)),0,VLOOKUP($A318+8860000,'Growth Data'!$A:$Z,9,0))","v":0},0,null,"NO",{"$f":"IF(ISERROR(VLOOKUP($A318+8860000,'Growth Data'!$A:$Z,5,0)),\"NO\",VLOOKUP($A318+8860000,'Growth Data'!$A:$Z,5,0))","v":"NO"},0,null,0,{"$f":"IF(ISERROR(VLOOKUP($A318+8860000,'Growth Data'!$A:$Z,10,0)),0,VLOOKUP($A318+8860000,'Growth Data'!$A:$Z,10,0))","v":0},0,null,0,{"$f":"IF(ISERROR(VLOOKUP($A318+8860000,'Growth Data'!$A:$Z,11,0)),0,VLOOKUP($A318+8860000,'Growth Data'!$A:$Z,11,0))","v":0},0]
[2028,"Cliftonville Primary School",null,"Cliftonville Primary School",null,1,null,2443604.2999999998,2443604.3000000003,0,null,575610.67000000004,575610.67179282848,-1.7928284360095859E-3,null,60716.45,60716.446396396546,3.6036034507560544E-3,null,330032.23,330032.22687499999,3.1249999883584678E-3,null,120084,120084,0,null,0,0,0,null,0,0,0,null,0,0,0,null,16793.599999999999,16793.599999999999,0,null,0,0,0,null,0,0,0,null,0,0,0,null,3546841.25,3546841.2450642255,4.9357744865119457E-3,null,0,0,0,null,3546841.25,3546841.2450642255,4.9357744865119457E-3,null,0,null,0,null,null,null,0,null,null,null,0,null,813323.69,813323.68737123313,0,null,20777,0,20777,null,null,null,0,null,null,null,0,null,null,null,0,null,null,null,0,null,null,null,0,null,null,null,0,null,"NO",{"$f":"IF(ISERROR(VLOOKUP($A319+8860000,'Growth Data'!$A:$F,3,0)),\"NO\",VLOOKUP($A319+8860000,'Growth Data'!$A:$F,3,0))","v":"YES"},1,null,0,{"$f":"IF(DI319=\"YES\",IF(ISERROR(VLOOKUP($A319+8860000,'Growth Data'!$A:$F,6,0)),0,VLOOKUP($A319+8860000,'Growth Data'!$A:$F,6,0)),0)","v":90},-90,null,0,{"$f":"IF(ISERROR(VLOOKUP($A319+8860000,'Growth Data'!$A:$Z,7,0)),0,VLOOKUP($A319+8860000,'Growth Data'!$A:$Z,7,0))","v":120},1,null,"NO",{"$f":"IF(ISERROR(VLOOKUP($A319+8860000,'Growth Data'!$A:$F,4,0)),\"NO\",VLOOKUP($A319+8860000,'Growth Data'!$A:$F,4,0))","v":"NO"},0,null,0,{"$f":"IF(ISERROR(VLOOKUP($A319+8860000,'Growth Data'!$A:$Z,8,0)),0,VLOOKUP($A319+8860000,'Growth Data'!$A:$Z,8,0))","v":0},0,null,0,{"$f":"IF(ISERROR(VLOOKUP($A319+8860000,'Growth Data'!$A:$Z,9,0)),0,VLOOKUP($A319+8860000,'Growth Data'!$A:$Z,9,0))","v":0},0,null,"NO",{"$f":"IF(ISERROR(VLOOKUP($A319+8860000,'Growth Data'!$A:$Z,5,0)),\"NO\",VLOOKUP($A319+8860000,'Growth Data'!$A:$Z,5,0))","v":"NO"},0,null,0,{"$f":"IF(ISERROR(VLOOKUP($A319+8860000,'Growth Data'!$A:$Z,10,0)),0,VLOOKUP($A319+8860000,'Growth Data'!$A:$Z,10,0))","v":0},0,null,0,{"$f":"IF(ISERROR(VLOOKUP($A319+8860000,'Growth Data'!$A:$Z,11,0)),0,VLOOKUP($A319+8860000,'Growth Data'!$A:$Z,11,0))","v":0},0]
[2029,"Tymberwood Academy",null,"Tymberwood Academy",null,1,null,1110448.03,1110448.03,0,null,223109.11,223109.10778350514,2.216494845924899E-3,null,14773.08,14773.08485981308,-4.859813079747255E-3,null,117890.33,117890.33391167193,-3.9116719271987677E-3,null,120084,120084,0,null,0,0,0,null,0,0,0,null,0,0,0,null,6629.39,6629.39,0,null,0,0,0,null,0,0,0,null,0,0,0,null,1592933.95,1592933.9465549903,3.4450097009539604E-3,null,0,0,0,null,1592933.95,1592933.9465549903,3.4450097009539604E-3,null,0,null,0,null,null,null,0,null,null,null,0,null,291578.63,291578.62886199827,0,null,9441.7000000000007,0,9442,null,null,null,0,null,null,null,0,null,null,null,0,null,null,null,0,null,null,null,0,null,null,null,0,null,"NO",{"$f":"IF(ISERROR(VLOOKUP($A320+8860000,'Growth Data'!$A:$F,3,0)),\"NO\",VLOOKUP($A320+8860000,'Growth Data'!$A:$F,3,0))","v":"NO"},0,null,0,{"$f":"IF(DI320=\"YES\",IF(ISERROR(VLOOKUP($A320+8860000,'Growth Data'!$A:$F,6,0)),0,VLOOKUP($A320+8860000,'Growth Data'!$A:$F,6,0)),0)","v":0},0,null,0,{"$f":"IF(ISERROR(VLOOKUP($A320+8860000,'Growth Data'!$A:$Z,7,0)),0,VLOOKUP($A320+8860000,'Growth Data'!$A:$Z,7,0))","v":0},0,null,"NO",{"$f":"IF(ISERROR(VLOOKUP($A320+8860000,'Growth Data'!$A:$F,4,0)),\"NO\",VLOOKUP($A320+8860000,'Growth Data'!$A:$F,4,0))","v":"NO"},0,null,0,{"$f":"IF(ISERROR(VLOOKUP($A320+8860000,'Growth Data'!$A:$Z,8,0)),0,VLOOKUP($A320+8860000,'Growth Data'!$A:$Z,8,0))","v":0},0,null,0,{"$f":"IF(ISERROR(VLOOKUP($A320+8860000,'Growth Data'!$A:$Z,9,0)),0,VLOOKUP($A320+8860000,'Growth Data'!$A:$Z,9,0))","v":0},0,null,"NO",{"$f":"IF(ISERROR(VLOOKUP($A320+8860000,'Growth Data'!$A:$Z,5,0)),\"NO\",VLOOKUP($A320+8860000,'Growth Data'!$A:$Z,5,0))","v":"NO"},0,null,0,{"$f":"IF(ISERROR(VLOOKUP($A320+8860000,'Growth Data'!$A:$Z,10,0)),0,VLOOKUP($A320+8860000,'Growth Data'!$A:$Z,10,0))","v":0},0,null,0,{"$f":"IF(ISERROR(VLOOKUP($A320+8860000,'Growth Data'!$A:$Z,11,0)),0,VLOOKUP($A320+8860000,'Growth Data'!$A:$Z,11,0))","v":0},0]
[2030,"Valley Invicta Primary School At Aylesford",null,"Valley Invicta Primary School At Aylesford",null,1,null,1048584.6299999999,1048584.6300000001,0,null,98809.09,98809.094754332284,-4.7543322871206328E-3,null,4226.78,4226.7814563106804,-1.4563106806235737E-3,null,78795.820000000007,78795.824545454539,-4.5454545324901119E-3,null,120084,120084,0,null,0,0,0,null,0,0,0,null,0,0,0,null,4531.2,4531.2,0,null,0,0,0,null,0,0,0,null,66519.67,66519.669243902375,7.5609762279782444E-4,null,1421551.2,1421551.2,0,null,0,0,0,null,1421551.2,1421551.2,0,null,0,null,0,null,null,null,0,null,null,null,0,null,224205.31,224205.31230700796,0,null,8915.7000000000007,0,8916,null,null,null,0,null,null,null,0,null,null,null,0,null,null,null,0,null,null,null,0,null,null,null,0,null,"NO",{"$f":"IF(ISERROR(VLOOKUP($A321+8860000,'Growth Data'!$A:$F,3,0)),\"NO\",VLOOKUP($A321+8860000,'Growth Data'!$A:$F,3,0))","v":"NO"},0,null,0,{"$f":"IF(DI321=\"YES\",IF(ISERROR(VLOOKUP($A321+8860000,'Growth Data'!$A:$F,6,0)),0,VLOOKUP($A321+8860000,'Growth Data'!$A:$F,6,0)),0)","v":0},0,null,0,{"$f":"IF(ISERROR(VLOOKUP($A321+8860000,'Growth Data'!$A:$Z,7,0)),0,VLOOKUP($A321+8860000,'Growth Data'!$A:$Z,7,0))","v":0},0,null,"NO",{"$f":"IF(ISERROR(VLOOKUP($A321+8860000,'Growth Data'!$A:$F,4,0)),\"NO\",VLOOKUP($A321+8860000,'Growth Data'!$A:$F,4,0))","v":"NO"},0,null,0,{"$f":"IF(ISERROR(VLOOKUP($A321+8860000,'Growth Data'!$A:$Z,8,0)),0,VLOOKUP($A321+8860000,'Growth Data'!$A:$Z,8,0))","v":0},0,null,0,{"$f":"IF(ISERROR(VLOOKUP($A321+8860000,'Growth Data'!$A:$Z,9,0)),0,VLOOKUP($A321+8860000,'Growth Data'!$A:$Z,9,0))","v":0},0,null,"NO",{"$f":"IF(ISERROR(VLOOKUP($A321+8860000,'Growth Data'!$A:$Z,5,0)),\"NO\",VLOOKUP($A321+8860000,'Growth Data'!$A:$Z,5,0))","v":"NO"},0,null,0,{"$f":"IF(ISERROR(VLOOKUP($A321+8860000,'Growth Data'!$A:$Z,10,0)),0,VLOOKUP($A321+8860000,'Growth Data'!$A:$Z,10,0))","v":0},0,null,0,{"$f":"IF(ISERROR(VLOOKUP($A321+8860000,'Growth Data'!$A:$Z,11,0)),0,VLOOKUP($A321+8860000,'Growth Data'!$A:$Z,11,0))","v":0},0]
[2034,"Thistle Hill Academy",null,"Thistle Hill Academy",null,{"$f":"IF(E322=D322,0,1)","v":1},null,980534.89,980534.89,{"$f":"H322-I322","v":0},null,175829.14,175829.1400000001,{"$f":"L322-M322","v":0},null,6298.69,6298.6870036101127,{"$f":"P322-Q322","v":2.9963898869027616E-3},null,93915.61,93915.6058148148,{"$f":"T322-U322","v":4.185185200185515E-3},null,120084,120084,{"$f":"X322-Y322","v":0},null,0,0,{"$f":"AB322-AC322","v":0},null,0,0,{"$f":"AF322-AG322","v":0},null,0,0,{"$f":"AJ322-AK322","v":0},null,13004.8,13004.8,{"$f":"AN322-AO322","v":0},null,0,0,{"$f":"AR322-AS322","v":0},null,0,0,{"$f":"AV322-AW322","v":0},null,0,0,{"$f":"AZ322-BA322","v":0},null,1389667.12,1389667.1228184251,{"$f":"BD322-BE322","v":-2.818424953147769E-3},null,0,0,{"$f":"BH322-BI322","v":0},null,1389667.12,1389667.1228184251,{"$f":"BL322-BM322","v":-2.818424953147769E-3},null,0,null,{"$f":"BP322-BQ322","v":0},null,null,null,{"$f":"BT322-BU322","v":0},null,null,null,0,null,229802.02,229802.01512543316,0,null,8337.1,0,8337,null,null,null,0,null,null,null,0,null,null,null,0,null,null,null,0,null,null,null,0,null,null,null,0,null,"NO",{"$f":"IF(ISERROR(VLOOKUP($A322+8860000,'Growth Data'!$A:$F,3,0)),\"NO\",VLOOKUP($A322+8860000,'Growth Data'!$A:$F,3,0))","v":"YES"},1,null,0,{"$f":"IF(DI322=\"YES\",IF(ISERROR(VLOOKUP($A322+8860000,'Growth Data'!$A:$F,6,0)),0,VLOOKUP($A322+8860000,'Growth Data'!$A:$F,6,0)),0)","v":37},-37,null,0,{"$f":"IF(ISERROR(VLOOKUP($A322+8860000,'Growth Data'!$A:$Z,7,0)),0,VLOOKUP($A322+8860000,'Growth Data'!$A:$Z,7,0))","v":60},1,null,"NO",{"$f":"IF(ISERROR(VLOOKUP($A322+8860000,'Growth Data'!$A:$F,4,0)),\"NO\",VLOOKUP($A322+8860000,'Growth Data'!$A:$F,4,0))","v":"NO"},0,null,0,{"$f":"IF(ISERROR(VLOOKUP($A322+8860000,'Growth Data'!$A:$Z,8,0)),0,VLOOKUP($A322+8860000,'Growth Data'!$A:$Z,8,0))","v":0},0,null,0,{"$f":"IF(ISERROR(VLOOKUP($A322+8860000,'Growth Data'!$A:$Z,9,0)),0,VLOOKUP($A322+8860000,'Growth Data'!$A:$Z,9,0))","v":0},0,null,"NO",{"$f":"IF(ISERROR(VLOOKUP($A322+8860000,'Growth Data'!$A:$Z,5,0)),\"NO\",VLOOKUP($A322+8860000,'Growth Data'!$A:$Z,5,0))","v":"NO"},0,null,0,{"$f":"IF(ISERROR(VLOOKUP($A322+8860000,'Growth Data'!$A:$Z,10,0)),0,VLOOKUP($A322+8860000,'Growth Data'!$A:$Z,10,0))","v":0},0,null,0,{"$f":"IF(ISERROR(VLOOKUP($A322+8860000,'Growth Data'!$A:$Z,11,0)),0,VLOOKUP($A322+8860000,'Growth Data'!$A:$Z,11,0))","v":0},0]
[2036,"Valley Invicta Primary School At Leybourne Chase",null,"Valley Invicta Primary School At Leybourne Chase",null,1,null,621727.17000000004,621727.17000000004,0,null,25696.1,25696.095340314128,4.6596858701377641E-3,null,2572.75,2572.7532558139565,-3.255813956457132E-3,null,51435.58,51435.575029940119,4.9700598829076625E-3,null,120084,120084,0,null,0,0,0,null,0,0,0,null,0,0,0,null,8243.2000000000007,8243.2000000000007,0,null,0,0,0,null,0,0,0,null,18664.41,18664.406373931764,3.6260682354622986E-3,null,848423.2,848423.2,0,null,0,0,0,null,848423.2,848423.2,0,null,0,null,0,null,null,null,0,null,null,null,0,null,96318.13,96318.132307008127,0,null,5286.3,0,5286,null,null,null,0,null,null,null,0,null,null,null,0,null,null,null,0,null,null,null,0,null,null,null,0,null,"NO",{"$f":"IF(ISERROR(VLOOKUP($A323+8860000,'Growth Data'!$A:$F,3,0)),\"NO\",VLOOKUP($A323+8860000,'Growth Data'!$A:$F,3,0))","v":"YES"},1,null,0,{"$f":"IF(DI323=\"YES\",IF(ISERROR(VLOOKUP($A323+8860000,'Growth Data'!$A:$F,6,0)),0,VLOOKUP($A323+8860000,'Growth Data'!$A:$F,6,0)),0)","v":20},-20,null,0,{"$f":"IF(ISERROR(VLOOKUP($A323+8860000,'Growth Data'!$A:$Z,7,0)),0,VLOOKUP($A323+8860000,'Growth Data'!$A:$Z,7,0))","v":30},1,null,"NO",{"$f":"IF(ISERROR(VLOOKUP($A323+8860000,'Growth Data'!$A:$F,4,0)),\"NO\",VLOOKUP($A323+8860000,'Growth Data'!$A:$F,4,0))","v":"NO"},0,null,0,{"$f":"IF(ISERROR(VLOOKUP($A323+8860000,'Growth Data'!$A:$Z,8,0)),0,VLOOKUP($A323+8860000,'Growth Data'!$A:$Z,8,0))","v":0},0,null,0,{"$f":"IF(ISERROR(VLOOKUP($A323+8860000,'Growth Data'!$A:$Z,9,0)),0,VLOOKUP($A323+8860000,'Growth Data'!$A:$Z,9,0))","v":0},0,null,"NO",{"$f":"IF(ISERROR(VLOOKUP($A323+8860000,'Growth Data'!$A:$Z,5,0)),\"NO\",VLOOKUP($A323+8860000,'Growth Data'!$A:$Z,5,0))","v":"NO"},0,null,0,{"$f":"IF(ISERROR(VLOOKUP($A323+8860000,'Growth Data'!$A:$Z,10,0)),0,VLOOKUP($A323+8860000,'Growth Data'!$A:$Z,10,0))","v":0},0,null,0,{"$f":"IF(ISERROR(VLOOKUP($A323+8860000,'Growth Data'!$A:$Z,11,0)),0,VLOOKUP($A323+8860000,'Growth Data'!$A:$Z,11,0))","v":0},0]
[2037,"Valley Invicta Primary School at Holborough Lakes",null,"Valley Invicta Primary School at Holborough Lakes",null,1,null,615540.82999999996,615540.82999999996,0,null,62006.53,62006.525901639383,4.098360615898855E-3,null,8425.2000000000007,8425.200769230767,-7.692307663091924E-4,null,48457.38,48457.38444444444,-4.4444444429245777E-3,null,120084,120084,0,null,0,0,0,null,0,0,0,null,0,0,0,null,9420.7999999999993,9420.7999999999993,0,null,0,0,0,null,0,0,0,null,0,0,0,null,863934.74,863934.74111531454,-1.1153145460411906E-3,null,3511.84,3511.837857128121,2.1428718791867141E-3,null,867446.58,867446.57897244266,1.0275573004037142E-3,null,0,null,0,null,null,null,0,null,null,null,0,null,116207.37,116207.37127945086,0,null,5233.7,0,5234,null,null,null,0,null,null,null,0,null,null,null,0,null,null,null,0,null,null,null,0,null,null,null,0,null,"NO",{"$f":"IF(ISERROR(VLOOKUP($A324+8860000,'Growth Data'!$A:$F,3,0)),\"NO\",VLOOKUP($A324+8860000,'Growth Data'!$A:$F,3,0))","v":"YES"},1,null,0,{"$f":"IF(DI324=\"YES\",IF(ISERROR(VLOOKUP($A324+8860000,'Growth Data'!$A:$F,6,0)),0,VLOOKUP($A324+8860000,'Growth Data'!$A:$F,6,0)),0)","v":18},-18,null,0,{"$f":"IF(ISERROR(VLOOKUP($A324+8860000,'Growth Data'!$A:$Z,7,0)),0,VLOOKUP($A324+8860000,'Growth Data'!$A:$Z,7,0))","v":30},1,null,"NO",{"$f":"IF(ISERROR(VLOOKUP($A324+8860000,'Growth Data'!$A:$F,4,0)),\"NO\",VLOOKUP($A324+8860000,'Growth Data'!$A:$F,4,0))","v":"NO"},0,null,0,{"$f":"IF(ISERROR(VLOOKUP($A324+8860000,'Growth Data'!$A:$Z,8,0)),0,VLOOKUP($A324+8860000,'Growth Data'!$A:$Z,8,0))","v":0},0,null,0,{"$f":"IF(ISERROR(VLOOKUP($A324+8860000,'Growth Data'!$A:$Z,9,0)),0,VLOOKUP($A324+8860000,'Growth Data'!$A:$Z,9,0))","v":0},0,null,"NO",{"$f":"IF(ISERROR(VLOOKUP($A324+8860000,'Growth Data'!$A:$Z,5,0)),\"NO\",VLOOKUP($A324+8860000,'Growth Data'!$A:$Z,5,0))","v":"NO"},0,null,0,{"$f":"IF(ISERROR(VLOOKUP($A324+8860000,'Growth Data'!$A:$Z,10,0)),0,VLOOKUP($A324+8860000,'Growth Data'!$A:$Z,10,0))","v":0},0,null,0,{"$f":"IF(ISERROR(VLOOKUP($A324+8860000,'Growth Data'!$A:$Z,11,0)),0,VLOOKUP($A324+8860000,'Growth Data'!$A:$Z,11,0))","v":0},0]
[2038,"Valley Invicta Primary School At Kings Hill",null,"Valley Invicta Primary School At Kings Hill",null,1,null,606261.31999999995,606261.32000000007,0,null,22944.93,22944.930000000015,0,null,7148.44,7148.4387951807275,1.204819272061286E-3,null,47144.84,47144.836097560976,3.9024390207487158E-3,null,120084,120084,0,null,0,0,0,null,0,0,0,null,0,0,0,null,3891.2,3891.2,0,null,0,0,0,null,0,0,0,null,15696.48,15696.475107258215,4.8927417847153265E-3,null,823171.2,823171.2,0,null,0,0,0,null,823171.2,823171.2,0,null,0,null,0,null,null,null,0,null,null,null,0,null,90883.98,90883.982307008075,0,null,5154.8,0,5155,null,null,null,0,null,null,null,0,null,null,null,0,null,null,null,0,null,null,null,0,null,null,null,0,null,"NO",{"$f":"IF(ISERROR(VLOOKUP($A325+8860000,'Growth Data'!$A:$F,3,0)),\"NO\",VLOOKUP($A325+8860000,'Growth Data'!$A:$F,3,0))","v":"YES"},1,null,0,{"$f":"IF(DI325=\"YES\",IF(ISERROR(VLOOKUP($A325+8860000,'Growth Data'!$A:$F,6,0)),0,VLOOKUP($A325+8860000,'Growth Data'!$A:$F,6,0)),0)","v":23},-23,null,0,{"$f":"IF(ISERROR(VLOOKUP($A325+8860000,'Growth Data'!$A:$Z,7,0)),0,VLOOKUP($A325+8860000,'Growth Data'!$A:$Z,7,0))","v":30},1,null,"NO",{"$f":"IF(ISERROR(VLOOKUP($A325+8860000,'Growth Data'!$A:$F,4,0)),\"NO\",VLOOKUP($A325+8860000,'Growth Data'!$A:$F,4,0))","v":"NO"},0,null,0,{"$f":"IF(ISERROR(VLOOKUP($A325+8860000,'Growth Data'!$A:$Z,8,0)),0,VLOOKUP($A325+8860000,'Growth Data'!$A:$Z,8,0))","v":0},0,null,0,{"$f":"IF(ISERROR(VLOOKUP($A325+8860000,'Growth Data'!$A:$Z,9,0)),0,VLOOKUP($A325+8860000,'Growth Data'!$A:$Z,9,0))","v":0},0,null,"NO",{"$f":"IF(ISERROR(VLOOKUP($A325+8860000,'Growth Data'!$A:$Z,5,0)),\"NO\",VLOOKUP($A325+8860000,'Growth Data'!$A:$Z,5,0))","v":"NO"},0,null,0,{"$f":"IF(ISERROR(VLOOKUP($A325+8860000,'Growth Data'!$A:$Z,10,0)),0,VLOOKUP($A325+8860000,'Growth Data'!$A:$Z,10,0))","v":0},0,null,0,{"$f":"IF(ISERROR(VLOOKUP($A325+8860000,'Growth Data'!$A:$Z,11,0)),0,VLOOKUP($A325+8860000,'Growth Data'!$A:$Z,11,0))","v":0},0]
[2039,"Martello Primary",null,"Martello Primary",null,1,null,479441.35,479441.35000000003,0,null,126719.98,126719.98000000007,0,null,9409.24,9409.2408088235443,-8.0882354450295679E-4,null,63691.63,63691.631249999999,-1.2500000011641532E-3,null,120084,120084,0,null,0,0,0,null,0,0,0,null,0,0,0,null,8908.7999999999993,8908.7999999999993,0,null,0,0,0,null,0,0,0,null,0,0,0,null,808255,808255.00205882359,-2.0588235929608345E-3,null,0,0,0,null,808255,808255.00205882359,-2.0588235929608345E-3,null,0,null,0,null,null,null,0,null,null,null,0,null,167389.03,167389.03436583176,0,null,4076.5,0,4077,null,null,null,0,null,null,null,0,null,null,null,0,null,null,null,0,null,null,null,0,null,null,null,0,null,"NO",{"$f":"IF(ISERROR(VLOOKUP($A326+8860000,'Growth Data'!$A:$F,3,0)),\"NO\",VLOOKUP($A326+8860000,'Growth Data'!$A:$F,3,0))","v":"YES"},1,null,0,{"$f":"IF(DI326=\"YES\",IF(ISERROR(VLOOKUP($A326+8860000,'Growth Data'!$A:$F,6,0)),0,VLOOKUP($A326+8860000,'Growth Data'!$A:$F,6,0)),0)","v":27},-27,null,0,{"$f":"IF(ISERROR(VLOOKUP($A326+8860000,'Growth Data'!$A:$Z,7,0)),0,VLOOKUP($A326+8860000,'Growth Data'!$A:$Z,7,0))","v":30},1,null,"NO",{"$f":"IF(ISERROR(VLOOKUP($A326+8860000,'Growth Data'!$A:$F,4,0)),\"NO\",VLOOKUP($A326+8860000,'Growth Data'!$A:$F,4,0))","v":"NO"},0,null,0,{"$f":"IF(ISERROR(VLOOKUP($A326+8860000,'Growth Data'!$A:$Z,8,0)),0,VLOOKUP($A326+8860000,'Growth Data'!$A:$Z,8,0))","v":0},0,null,0,{"$f":"IF(ISERROR(VLOOKUP($A326+8860000,'Growth Data'!$A:$Z,9,0)),0,VLOOKUP($A326+8860000,'Growth Data'!$A:$Z,9,0))","v":0},0,null,"NO",{"$f":"IF(ISERROR(VLOOKUP($A326+8860000,'Growth Data'!$A:$Z,5,0)),\"NO\",VLOOKUP($A326+8860000,'Growth Data'!$A:$Z,5,0))","v":"NO"},0,null,0,{"$f":"IF(ISERROR(VLOOKUP($A326+8860000,'Growth Data'!$A:$Z,10,0)),0,VLOOKUP($A326+8860000,'Growth Data'!$A:$Z,10,0))","v":0},0,null,0,{"$f":"IF(ISERROR(VLOOKUP($A326+8860000,'Growth Data'!$A:$Z,11,0)),0,VLOOKUP($A326+8860000,'Growth Data'!$A:$Z,11,0))","v":0},0]
[2041,"The Holy Family Catholic Primary School",null,"The Holy Family Catholic Primary School",null,1,null,572236.44999999995,572236.45000000007,0,null,117050.34,117050.34359788362,-3.5978836240246892E-3,null,7636.66,7636.6612500000001,-1.2500000002546585E-3,null,75698.289999999994,75698.288291139237,1.708860756480135E-3,null,120084,120084,0,null,0,0,0,null,0,0,0,null,0,0,0,null,3928.96,3928.96,0,null,0,0,0,null,0,0,0,null,0,0,0,null,896634.7,896634.70313902292,-3.139022970572114E-3,null,0,0,0,null,896634.7,896634.70313902292,-3.139022970572114E-3,null,0,null,0,null,null,null,0,null,null,null,0,null,174858.28,174858.27544603101,0,null,4865.5,0,4866,null,null,null,0,null,null,null,0,null,null,null,0,null,null,null,0,null,null,null,0,null,null,null,0,null,"NO",{"$f":"IF(ISERROR(VLOOKUP($A327+8860000,'Growth Data'!$A:$F,3,0)),\"NO\",VLOOKUP($A327+8860000,'Growth Data'!$A:$F,3,0))","v":"NO"},0,null,0,{"$f":"IF(DI327=\"YES\",IF(ISERROR(VLOOKUP($A327+8860000,'Growth Data'!$A:$F,6,0)),0,VLOOKUP($A327+8860000,'Growth Data'!$A:$F,6,0)),0)","v":0},0,null,0,{"$f":"IF(ISERROR(VLOOKUP($A327+8860000,'Growth Data'!$A:$Z,7,0)),0,VLOOKUP($A327+8860000,'Growth Data'!$A:$Z,7,0))","v":0},0,null,"NO",{"$f":"IF(ISERROR(VLOOKUP($A327+8860000,'Growth Data'!$A:$F,4,0)),\"NO\",VLOOKUP($A327+8860000,'Growth Data'!$A:$F,4,0))","v":"NO"},0,null,0,{"$f":"IF(ISERROR(VLOOKUP($A327+8860000,'Growth Data'!$A:$Z,8,0)),0,VLOOKUP($A327+8860000,'Growth Data'!$A:$Z,8,0))","v":0},0,null,0,{"$f":"IF(ISERROR(VLOOKUP($A327+8860000,'Growth Data'!$A:$Z,9,0)),0,VLOOKUP($A327+8860000,'Growth Data'!$A:$Z,9,0))","v":0},0,null,"NO",{"$f":"IF(ISERROR(VLOOKUP($A327+8860000,'Growth Data'!$A:$Z,5,0)),\"NO\",VLOOKUP($A327+8860000,'Growth Data'!$A:$Z,5,0))","v":"NO"},0,null,0,{"$f":"IF(ISERROR(VLOOKUP($A327+8860000,'Growth Data'!$A:$Z,10,0)),0,VLOOKUP($A327+8860000,'Growth Data'!$A:$Z,10,0))","v":0},0,null,0,{"$f":"IF(ISERROR(VLOOKUP($A327+8860000,'Growth Data'!$A:$Z,11,0)),0,VLOOKUP($A327+8860000,'Growth Data'!$A:$Z,11,0))","v":0},0]
[2043,"Jubilee Primary School",null,"Jubilee Primary School",null,1,null,807317.37,807317.37,0,null,69112.929999999993,69112.929999999964,0,null,8368.07,8368.065436893201,4.5631067987415008E-3,null,69646.69,69646.68699481865,3.0051813519094139E-3,null,120084,120084,0,null,0,0,0,null,0,0,0,null,0,0,0,null,4736,4736,0,null,0,0,0,null,0,0,0,null,16450.95,16450.947568288189,2.4317118113685865E-3,null,1095716,1095716,0,null,0,0,0,null,1095716,1095716,0,null,0,null,0,null,null,null,0,null,null,null,0,null,142194.49,142194.49230700819,0,null,6864.3,0,6864,null,null,null,0,null,null,null,0,null,null,null,0,null,null,null,0,null,null,null,0,null,null,null,0,null,"NO",{"$f":"IF(ISERROR(VLOOKUP($A328+8860000,'Growth Data'!$A:$F,3,0)),\"NO\",VLOOKUP($A328+8860000,'Growth Data'!$A:$F,3,0))","v":"NO"},0,null,0,{"$f":"IF(DI328=\"YES\",IF(ISERROR(VLOOKUP($A328+8860000,'Growth Data'!$A:$F,6,0)),0,VLOOKUP($A328+8860000,'Growth Data'!$A:$F,6,0)),0)","v":0},0,null,0,{"$f":"IF(ISERROR(VLOOKUP($A328+8860000,'Growth Data'!$A:$Z,7,0)),0,VLOOKUP($A328+8860000,'Growth Data'!$A:$Z,7,0))","v":0},0,null,"NO",{"$f":"IF(ISERROR(VLOOKUP($A328+8860000,'Growth Data'!$A:$F,4,0)),\"NO\",VLOOKUP($A328+8860000,'Growth Data'!$A:$F,4,0))","v":"NO"},0,null,0,{"$f":"IF(ISERROR(VLOOKUP($A328+8860000,'Growth Data'!$A:$Z,8,0)),0,VLOOKUP($A328+8860000,'Growth Data'!$A:$Z,8,0))","v":0},0,null,0,{"$f":"IF(ISERROR(VLOOKUP($A328+8860000,'Growth Data'!$A:$Z,9,0)),0,VLOOKUP($A328+8860000,'Growth Data'!$A:$Z,9,0))","v":0},0,null,"NO",{"$f":"IF(ISERROR(VLOOKUP($A328+8860000,'Growth Data'!$A:$Z,5,0)),\"NO\",VLOOKUP($A328+8860000,'Growth Data'!$A:$Z,5,0))","v":"NO"},0,null,0,{"$f":"IF(ISERROR(VLOOKUP($A328+8860000,'Growth Data'!$A:$Z,10,0)),0,VLOOKUP($A328+8860000,'Growth Data'!$A:$Z,10,0))","v":0},0,null,0,{"$f":"IF(ISERROR(VLOOKUP($A328+8860000,'Growth Data'!$A:$Z,11,0)),0,VLOOKUP($A328+8860000,'Growth Data'!$A:$Z,11,0))","v":0},0]
[2044,"Loose Primary School",null,"Loose Primary School",null,1,null,2026026.35,2026026.35,0,null,99039.81,99039.809999999969,0,null,11485.13,11485.129380530969,6.1946903042553458E-4,null,142264.21,142264.21044642857,-4.4642857392318547E-4,null,120084,120084,0,null,0,0,0,null,0,0,0,null,0,0,0,null,11980.8,11980.8,0,null,0,0,0,null,0,0,0,null,339000.5,339000.50017304037,-1.7304037464782596E-4,null,2749880.8,2749880.8,0,null,0,0,0,null,2749880.8,2749880.8,0,null,0,null,0,null,null,null,0,null,null,null,0,null,570865.82999999996,570865.8323070081,0,null,17226.5,0,17227,null,null,null,0,null,null,null,0,null,null,null,0,null,null,null,0,null,null,null,0,null,null,null,0,null,"NO",{"$f":"IF(ISERROR(VLOOKUP($A329+8860000,'Growth Data'!$A:$F,3,0)),\"NO\",VLOOKUP($A329+8860000,'Growth Data'!$A:$F,3,0))","v":"NO"},0,null,0,{"$f":"IF(DI329=\"YES\",IF(ISERROR(VLOOKUP($A329+8860000,'Growth Data'!$A:$F,6,0)),0,VLOOKUP($A329+8860000,'Growth Data'!$A:$F,6,0)),0)","v":0},0,null,0,{"$f":"IF(ISERROR(VLOOKUP($A329+8860000,'Growth Data'!$A:$Z,7,0)),0,VLOOKUP($A329+8860000,'Growth Data'!$A:$Z,7,0))","v":0},0,null,"NO",{"$f":"IF(ISERROR(VLOOKUP($A329+8860000,'Growth Data'!$A:$F,4,0)),\"NO\",VLOOKUP($A329+8860000,'Growth Data'!$A:$F,4,0))","v":"NO"},0,null,0,{"$f":"IF(ISERROR(VLOOKUP($A329+8860000,'Growth Data'!$A:$Z,8,0)),0,VLOOKUP($A329+8860000,'Growth Data'!$A:$Z,8,0))","v":0},0,null,0,{"$f":"IF(ISERROR(VLOOKUP($A329+8860000,'Growth Data'!$A:$Z,9,0)),0,VLOOKUP($A329+8860000,'Growth Data'!$A:$Z,9,0))","v":0},0,null,"NO",{"$f":"IF(ISERROR(VLOOKUP($A329+8860000,'Growth Data'!$A:$Z,5,0)),\"NO\",VLOOKUP($A329+8860000,'Growth Data'!$A:$Z,5,0))","v":"NO"},0,null,0,{"$f":"IF(ISERROR(VLOOKUP($A329+8860000,'Growth Data'!$A:$Z,10,0)),0,VLOOKUP($A329+8860000,'Growth Data'!$A:$Z,10,0))","v":0},0,null,0,{"$f":"IF(ISERROR(VLOOKUP($A329+8860000,'Growth Data'!$A:$Z,11,0)),0,VLOOKUP($A329+8860000,'Growth Data'!$A:$Z,11,0))","v":0},0]
[2045,"Skinners' Kent Primary School",null,"Skinners' Kent Primary School",null,1,null,649565.69999999995,649565.70000000007,0,null,37967.46,37967.459625684009,3.7431599048431963E-4,null,12200.31,12200.311666666717,-1.6666667179379147E-3,null,56518.66,56518.663157894727,-3.1578947236994281E-3,null,120084,120084,0,null,0,0,0,null,0,0,0,null,0,0,0,null,10854.4,10854.4,0,null,0,0,0,null,0,0,0,null,1463.87,1463.8655497544823,4.4502455175461364E-3,null,888654.4,888654.4,0,null,0,0,0,null,888654.4,888654.4,0,null,0,null,0,null,null,null,0,null,null,null,0,null,102417.04,102417.04230700806,0,null,5523,0,5523,null,null,null,0,null,null,null,0,null,null,null,0,null,null,null,0,null,null,null,0,null,null,null,0,null,"NO",{"$f":"IF(ISERROR(VLOOKUP($A330+8860000,'Growth Data'!$A:$F,3,0)),\"NO\",VLOOKUP($A330+8860000,'Growth Data'!$A:$F,3,0))","v":"NO"},0,null,0,{"$f":"IF(DI330=\"YES\",IF(ISERROR(VLOOKUP($A330+8860000,'Growth Data'!$A:$F,6,0)),0,VLOOKUP($A330+8860000,'Growth Data'!$A:$F,6,0)),0)","v":0},0,null,0,{"$f":"IF(ISERROR(VLOOKUP($A330+8860000,'Growth Data'!$A:$Z,7,0)),0,VLOOKUP($A330+8860000,'Growth Data'!$A:$Z,7,0))","v":0},0,null,"NO",{"$f":"IF(ISERROR(VLOOKUP($A330+8860000,'Growth Data'!$A:$F,4,0)),\"NO\",VLOOKUP($A330+8860000,'Growth Data'!$A:$F,4,0))","v":"NO"},0,null,0,{"$f":"IF(ISERROR(VLOOKUP($A330+8860000,'Growth Data'!$A:$Z,8,0)),0,VLOOKUP($A330+8860000,'Growth Data'!$A:$Z,8,0))","v":0},0,null,0,{"$f":"IF(ISERROR(VLOOKUP($A330+8860000,'Growth Data'!$A:$Z,9,0)),0,VLOOKUP($A330+8860000,'Growth Data'!$A:$Z,9,0))","v":0},0,null,"NO",{"$f":"IF(ISERROR(VLOOKUP($A330+8860000,'Growth Data'!$A:$Z,5,0)),\"NO\",VLOOKUP($A330+8860000,'Growth Data'!$A:$Z,5,0))","v":"NO"},0,null,0,{"$f":"IF(ISERROR(VLOOKUP($A330+8860000,'Growth Data'!$A:$Z,10,0)),0,VLOOKUP($A330+8860000,'Growth Data'!$A:$Z,10,0))","v":0},0,null,0,{"$f":"IF(ISERROR(VLOOKUP($A330+8860000,'Growth Data'!$A:$Z,11,0)),0,VLOOKUP($A330+8860000,'Growth Data'!$A:$Z,11,0))","v":0},0]
[2048,"Reculver Church of England Primary School",null,"Reculver Church of England Primary School",null,1,null,1555864.51,1555864.51,0,null,98108.56,98108.561497890347,-1.4978903491282836E-3,null,1954.21,1954.208258823531,1.7411764690677956E-3,null,160547.9,160547.89763761466,2.362385333981365E-3,null,120084,120084,0,null,0,0,0,null,0,0,0,null,0,0,0,null,12595,12595,0,null,0,0,0,null,0,0,0,null,165980.82,165980.82260567148,-2.6056714705191553E-3,null,2115135,2115135,0,null,0,0,0,null,2115135,2115135,0,null,0,null,0,null,null,null,0,null,null,null,0,null,390477.11,390477.11230700812,0,null,13228.9,0,13229,null,null,null,0,null,null,null,0,null,null,null,0,null,null,null,0,null,null,null,0,null,null,null,0,null,"NO",{"$f":"IF(ISERROR(VLOOKUP($A331+8860000,'Growth Data'!$A:$F,3,0)),\"NO\",VLOOKUP($A331+8860000,'Growth Data'!$A:$F,3,0))","v":"NO"},0,null,0,{"$f":"IF(DI331=\"YES\",IF(ISERROR(VLOOKUP($A331+8860000,'Growth Data'!$A:$F,6,0)),0,VLOOKUP($A331+8860000,'Growth Data'!$A:$F,6,0)),0)","v":0},0,null,0,{"$f":"IF(ISERROR(VLOOKUP($A331+8860000,'Growth Data'!$A:$Z,7,0)),0,VLOOKUP($A331+8860000,'Growth Data'!$A:$Z,7,0))","v":0},0,null,"NO",{"$f":"IF(ISERROR(VLOOKUP($A331+8860000,'Growth Data'!$A:$F,4,0)),\"NO\",VLOOKUP($A331+8860000,'Growth Data'!$A:$F,4,0))","v":"NO"},0,null,0,{"$f":"IF(ISERROR(VLOOKUP($A331+8860000,'Growth Data'!$A:$Z,8,0)),0,VLOOKUP($A331+8860000,'Growth Data'!$A:$Z,8,0))","v":0},0,null,0,{"$f":"IF(ISERROR(VLOOKUP($A331+8860000,'Growth Data'!$A:$Z,9,0)),0,VLOOKUP($A331+8860000,'Growth Data'!$A:$Z,9,0))","v":0},0,null,"NO",{"$f":"IF(ISERROR(VLOOKUP($A331+8860000,'Growth Data'!$A:$Z,5,0)),\"NO\",VLOOKUP($A331+8860000,'Growth Data'!$A:$Z,5,0))","v":"NO"},0,null,0,{"$f":"IF(ISERROR(VLOOKUP($A331+8860000,'Growth Data'!$A:$Z,10,0)),0,VLOOKUP($A331+8860000,'Growth Data'!$A:$Z,10,0))","v":0},0,null,0,{"$f":"IF(ISERROR(VLOOKUP($A331+8860000,'Growth Data'!$A:$Z,11,0)),0,VLOOKUP($A331+8860000,'Growth Data'!$A:$Z,11,0))","v":0},0]
[2051,"St Mary of Charity CofE (Aided) Primary School",null,"St Mary of Charity CofE (Aided) Primary School",null,1,null,637193.02,637193.02,0,null,89623.64,89623.642980769291,-2.9807692917529494E-3,null,4509.45,4509.4453409090938,4.6590909059887053E-3,null,60463.02,60463.023214285706,-3.214285708963871E-3,null,120084,120084,0,null,0,0,0,null,0,0,0,null,0,0,0,null,5427.2,5427.2,0,null,0,0,0,null,0,0,0,null,0,0,0,null,917300.33,917300.33153596404,-1.5359640819951892E-3,null,2569.52,2569.515657197684,4.3428023159322038E-3,null,919869.85,919869.84719316172,2.806838252581656E-3,null,0,null,0,null,null,null,0,null,null,null,0,null,138083.09,138083.08950016991,0,null,5417.8,0,5418,null,null,null,0,null,null,null,0,null,null,null,0,null,null,null,0,null,null,null,0,null,null,null,0,null,"NO",{"$f":"IF(ISERROR(VLOOKUP($A332+8860000,'Growth Data'!$A:$F,3,0)),\"NO\",VLOOKUP($A332+8860000,'Growth Data'!$A:$F,3,0))","v":"NO"},0,null,0,{"$f":"IF(DI332=\"YES\",IF(ISERROR(VLOOKUP($A332+8860000,'Growth Data'!$A:$F,6,0)),0,VLOOKUP($A332+8860000,'Growth Data'!$A:$F,6,0)),0)","v":0},0,null,0,{"$f":"IF(ISERROR(VLOOKUP($A332+8860000,'Growth Data'!$A:$Z,7,0)),0,VLOOKUP($A332+8860000,'Growth Data'!$A:$Z,7,0))","v":0},0,null,"NO",{"$f":"IF(ISERROR(VLOOKUP($A332+8860000,'Growth Data'!$A:$F,4,0)),\"NO\",VLOOKUP($A332+8860000,'Growth Data'!$A:$F,4,0))","v":"NO"},0,null,0,{"$f":"IF(ISERROR(VLOOKUP($A332+8860000,'Growth Data'!$A:$Z,8,0)),0,VLOOKUP($A332+8860000,'Growth Data'!$A:$Z,8,0))","v":0},0,null,0,{"$f":"IF(ISERROR(VLOOKUP($A332+8860000,'Growth Data'!$A:$Z,9,0)),0,VLOOKUP($A332+8860000,'Growth Data'!$A:$Z,9,0))","v":0},0,null,"NO",{"$f":"IF(ISERROR(VLOOKUP($A332+8860000,'Growth Data'!$A:$Z,5,0)),\"NO\",VLOOKUP($A332+8860000,'Growth Data'!$A:$Z,5,0))","v":"NO"},0,null,0,{"$f":"IF(ISERROR(VLOOKUP($A332+8860000,'Growth Data'!$A:$Z,10,0)),0,VLOOKUP($A332+8860000,'Growth Data'!$A:$Z,10,0))","v":0},0,null,0,{"$f":"IF(ISERROR(VLOOKUP($A332+8860000,'Growth Data'!$A:$Z,11,0)),0,VLOOKUP($A332+8860000,'Growth Data'!$A:$Z,11,0))","v":0},0]
[2052,"Kennington Church of England Academy",null,"Kennington Church of England Academy",null,1,null,1088795.8400000001,1088795.8400000001,0,null,120663.82,120663.82366682797,-3.666827964480035E-3,null,3863.71,3863.7064387464306,3.5612535693871905E-3,null,90346.73,90346.730090090088,-9.0090092271566391E-5,null,120084,120084,0,null,0,0,0,null,0,0,0,null,0,0,0,null,5990,5990,0,null,0,0,0,null,0,0,0,null,47605.9,47605.899804335437,1.9566456467146054E-4,null,1477350,1477350,0,null,0,0,0,null,1477350,1477350,0,null,0,null,0,null,null,null,0,null,null,null,0,null,228667.38,228667.38230700808,0,null,9257.6,0,9258,null,null,null,0,null,null,null,0,null,null,null,0,null,null,null,0,null,null,null,0,null,null,null,0,null,"NO",{"$f":"IF(ISERROR(VLOOKUP($A333+8860000,'Growth Data'!$A:$F,3,0)),\"NO\",VLOOKUP($A333+8860000,'Growth Data'!$A:$F,3,0))","v":"NO"},0,null,0,{"$f":"IF(DI333=\"YES\",IF(ISERROR(VLOOKUP($A333+8860000,'Growth Data'!$A:$F,6,0)),0,VLOOKUP($A333+8860000,'Growth Data'!$A:$F,6,0)),0)","v":0},0,null,0,{"$f":"IF(ISERROR(VLOOKUP($A333+8860000,'Growth Data'!$A:$Z,7,0)),0,VLOOKUP($A333+8860000,'Growth Data'!$A:$Z,7,0))","v":0},0,null,"NO",{"$f":"IF(ISERROR(VLOOKUP($A333+8860000,'Growth Data'!$A:$F,4,0)),\"NO\",VLOOKUP($A333+8860000,'Growth Data'!$A:$F,4,0))","v":"NO"},0,null,0,{"$f":"IF(ISERROR(VLOOKUP($A333+8860000,'Growth Data'!$A:$Z,8,0)),0,VLOOKUP($A333+8860000,'Growth Data'!$A:$Z,8,0))","v":0},0,null,0,{"$f":"IF(ISERROR(VLOOKUP($A333+8860000,'Growth Data'!$A:$Z,9,0)),0,VLOOKUP($A333+8860000,'Growth Data'!$A:$Z,9,0))","v":0},0,null,"NO",{"$f":"IF(ISERROR(VLOOKUP($A333+8860000,'Growth Data'!$A:$Z,5,0)),\"NO\",VLOOKUP($A333+8860000,'Growth Data'!$A:$Z,5,0))","v":"NO"},0,null,0,{"$f":"IF(ISERROR(VLOOKUP($A333+8860000,'Growth Data'!$A:$Z,10,0)),0,VLOOKUP($A333+8860000,'Growth Data'!$A:$Z,10,0))","v":0},0,null,0,{"$f":"IF(ISERROR(VLOOKUP($A333+8860000,'Growth Data'!$A:$Z,11,0)),0,VLOOKUP($A333+8860000,'Growth Data'!$A:$Z,11,0))","v":0},0]
[2054,"St Edward's Catholic Primary School",null,"St Edward's Catholic Primary School",null,1,null,584609.13,584609.13,0,null,161911.57,161911.57219251324,-2.1925132314208895E-3,null,10526.21,10526.20874999998,1.2500000193540473E-3,null,65603.27,65603.273478260875,-3.4782608709065244E-3,null,120084,120084,0,null,0,0,0,null,0,0,0,null,0,0,0,null,4838.3999999999996,4838.3999999999996,0,null,0,0,0,null,0,0,0,null,0,0,0,null,947572.58,947572.58442077413,-4.4207741739228368E-3,null,0,0,0,null,947572.58,947572.58442077413,-4.4207741739228368E-3,null,0,null,0,null,null,null,0,null,null,null,0,null,205609.24,205609.23672778229,0,null,4970.7,0,4971,null,null,null,0,null,null,null,0,null,null,null,0,null,null,null,0,null,null,null,0,null,null,null,0,null,"NO",{"$f":"IF(ISERROR(VLOOKUP($A334+8860000,'Growth Data'!$A:$F,3,0)),\"NO\",VLOOKUP($A334+8860000,'Growth Data'!$A:$F,3,0))","v":"NO"},0,null,0,{"$f":"IF(DI334=\"YES\",IF(ISERROR(VLOOKUP($A334+8860000,'Growth Data'!$A:$F,6,0)),0,VLOOKUP($A334+8860000,'Growth Data'!$A:$F,6,0)),0)","v":0},0,null,0,{"$f":"IF(ISERROR(VLOOKUP($A334+8860000,'Growth Data'!$A:$Z,7,0)),0,VLOOKUP($A334+8860000,'Growth Data'!$A:$Z,7,0))","v":0},0,null,"NO",{"$f":"IF(ISERROR(VLOOKUP($A334+8860000,'Growth Data'!$A:$F,4,0)),\"NO\",VLOOKUP($A334+8860000,'Growth Data'!$A:$F,4,0))","v":"NO"},0,null,0,{"$f":"IF(ISERROR(VLOOKUP($A334+8860000,'Growth Data'!$A:$Z,8,0)),0,VLOOKUP($A334+8860000,'Growth Data'!$A:$Z,8,0))","v":0},0,null,0,{"$f":"IF(ISERROR(VLOOKUP($A334+8860000,'Growth Data'!$A:$Z,9,0)),0,VLOOKUP($A334+8860000,'Growth Data'!$A:$Z,9,0))","v":0},0,null,"NO",{"$f":"IF(ISERROR(VLOOKUP($A334+8860000,'Growth Data'!$A:$Z,5,0)),\"NO\",VLOOKUP($A334+8860000,'Growth Data'!$A:$Z,5,0))","v":"NO"},0,null,0,{"$f":"IF(ISERROR(VLOOKUP($A334+8860000,'Growth Data'!$A:$Z,10,0)),0,VLOOKUP($A334+8860000,'Growth Data'!$A:$Z,10,0))","v":0},0,null,0,{"$f":"IF(ISERROR(VLOOKUP($A334+8860000,'Growth Data'!$A:$Z,11,0)),0,VLOOKUP($A334+8860000,'Growth Data'!$A:$Z,11,0))","v":0},0]
[2055,"Lansdowne Primary School",null,"Lansdowne Primary School",null,1,null,1240361.17,1240361.17,0,null,180333.49,180333.4924087589,-2.4087589117698371E-3,null,27588.3,27588.298749999998,1.2500000011641532E-3,null,110191.03999999999,110191.03829721361,1.7027863796101883E-3,null,120084,120084,0,null,0,0,0,null,0,0,0,null,0,0,0,null,4608,4608,0,null,0,0,0,null,0,0,0,null,0,0,0,null,1683166,1683165.9994559726,5.440274253487587E-4,null,0,0,0,null,1683166,1683165.9994559726,5.440274253487587E-4,null,0,null,0,null,null,null,0,null,null,null,0,null,274173.01,274173.01176298072,0,null,10546.3,0,10546,null,null,null,0,null,null,null,0,null,null,null,0,null,null,null,0,null,null,null,0,null,null,null,0,null,"NO",{"$f":"IF(ISERROR(VLOOKUP($A335+8860000,'Growth Data'!$A:$F,3,0)),\"NO\",VLOOKUP($A335+8860000,'Growth Data'!$A:$F,3,0))","v":"NO"},0,null,0,{"$f":"IF(DI335=\"YES\",IF(ISERROR(VLOOKUP($A335+8860000,'Growth Data'!$A:$F,6,0)),0,VLOOKUP($A335+8860000,'Growth Data'!$A:$F,6,0)),0)","v":0},0,null,0,{"$f":"IF(ISERROR(VLOOKUP($A335+8860000,'Growth Data'!$A:$Z,7,0)),0,VLOOKUP($A335+8860000,'Growth Data'!$A:$Z,7,0))","v":0},0,null,"NO",{"$f":"IF(ISERROR(VLOOKUP($A335+8860000,'Growth Data'!$A:$F,4,0)),\"NO\",VLOOKUP($A335+8860000,'Growth Data'!$A:$F,4,0))","v":"NO"},0,null,0,{"$f":"IF(ISERROR(VLOOKUP($A335+8860000,'Growth Data'!$A:$Z,8,0)),0,VLOOKUP($A335+8860000,'Growth Data'!$A:$Z,8,0))","v":0},0,null,0,{"$f":"IF(ISERROR(VLOOKUP($A335+8860000,'Growth Data'!$A:$Z,9,0)),0,VLOOKUP($A335+8860000,'Growth Data'!$A:$Z,9,0))","v":0},0,null,"NO",{"$f":"IF(ISERROR(VLOOKUP($A335+8860000,'Growth Data'!$A:$Z,5,0)),\"NO\",VLOOKUP($A335+8860000,'Growth Data'!$A:$Z,5,0))","v":"NO"},0,null,0,{"$f":"IF(ISERROR(VLOOKUP($A335+8860000,'Growth Data'!$A:$Z,10,0)),0,VLOOKUP($A335+8860000,'Growth Data'!$A:$Z,10,0))","v":0},0,null,0,{"$f":"IF(ISERROR(VLOOKUP($A335+8860000,'Growth Data'!$A:$Z,11,0)),0,VLOOKUP($A335+8860000,'Growth Data'!$A:$Z,11,0))","v":0},0]
[2058,"Charlton Church of England Primary School",null,"Charlton Church of England Primary School",null,1,null,627913.51,627913.51,0,null,86933.59,86933.59,0,null,7750,7750.0002312138749,-2.3121387494029477E-4,null,42565.93,42565.929691358018,3.0864198197377846E-4,null,120084,120084,0,null,0,0,0,null,0,0,0,null,0,0,0,null,2304,2304,0,null,0,0,0,null,0,0,0,null,0,0,0,null,887551.03,887551.02992257185,7.7428179793059826E-5,null,0,0,0,null,887551.03,887551.02992257185,7.7428179793059826E-5,null,0,null,0,null,null,null,0,null,null,null,0,null,122309.86,122309.86222958003,0,null,5338.9,0,5339,null,null,null,0,null,null,null,0,null,null,null,0,null,null,null,0,null,null,null,0,null,null,null,0,null,"NO",{"$f":"IF(ISERROR(VLOOKUP($A336+8860000,'Growth Data'!$A:$F,3,0)),\"NO\",VLOOKUP($A336+8860000,'Growth Data'!$A:$F,3,0))","v":"NO"},0,null,0,{"$f":"IF(DI336=\"YES\",IF(ISERROR(VLOOKUP($A336+8860000,'Growth Data'!$A:$F,6,0)),0,VLOOKUP($A336+8860000,'Growth Data'!$A:$F,6,0)),0)","v":0},0,null,0,{"$f":"IF(ISERROR(VLOOKUP($A336+8860000,'Growth Data'!$A:$Z,7,0)),0,VLOOKUP($A336+8860000,'Growth Data'!$A:$Z,7,0))","v":0},0,null,"NO",{"$f":"IF(ISERROR(VLOOKUP($A336+8860000,'Growth Data'!$A:$F,4,0)),\"NO\",VLOOKUP($A336+8860000,'Growth Data'!$A:$F,4,0))","v":"NO"},0,null,0,{"$f":"IF(ISERROR(VLOOKUP($A336+8860000,'Growth Data'!$A:$Z,8,0)),0,VLOOKUP($A336+8860000,'Growth Data'!$A:$Z,8,0))","v":0},0,null,0,{"$f":"IF(ISERROR(VLOOKUP($A336+8860000,'Growth Data'!$A:$Z,9,0)),0,VLOOKUP($A336+8860000,'Growth Data'!$A:$Z,9,0))","v":0},0,null,"NO",{"$f":"IF(ISERROR(VLOOKUP($A336+8860000,'Growth Data'!$A:$Z,5,0)),\"NO\",VLOOKUP($A336+8860000,'Growth Data'!$A:$Z,5,0))","v":"NO"},0,null,0,{"$f":"IF(ISERROR(VLOOKUP($A336+8860000,'Growth Data'!$A:$Z,10,0)),0,VLOOKUP($A336+8860000,'Growth Data'!$A:$Z,10,0))","v":0},0,null,0,{"$f":"IF(ISERROR(VLOOKUP($A336+8860000,'Growth Data'!$A:$Z,11,0)),0,VLOOKUP($A336+8860000,'Growth Data'!$A:$Z,11,0))","v":0},0]
[2059,"Lydd Primary School",null,"Lydd Primary School",null,1,null,794944.69,794944.69000000006,0,null,166019.35999999999,166019.35999999996,0,null,0,0,0,null,80790.58,80790.583196721316,-3.1967213144525886E-3,null,120084,120084,0,null,0,0,0,null,0,0,0,null,0,0,0,null,5493.6,5493.5999999999904,1.0004441719502211E-11,null,0,0,0,null,0,0,0,null,0,0,0,null,1167332.23,1167332.2331967214,-3.1967214308679104E-3,null,0,0,0,null,1167332.23,1167332.2331967214,-3.1967214308679104E-3,null,0,null,0,null,null,null,0,null,null,null,0,null,203330.45,203330.44550372945,0,null,6759.1,0,6759,null,null,null,0,null,null,null,0,null,null,null,0,null,null,null,0,null,null,null,0,null,null,null,0,null,"NO",{"$f":"IF(ISERROR(VLOOKUP($A337+8860000,'Growth Data'!$A:$F,3,0)),\"NO\",VLOOKUP($A337+8860000,'Growth Data'!$A:$F,3,0))","v":"NO"},0,null,0,{"$f":"IF(DI337=\"YES\",IF(ISERROR(VLOOKUP($A337+8860000,'Growth Data'!$A:$F,6,0)),0,VLOOKUP($A337+8860000,'Growth Data'!$A:$F,6,0)),0)","v":0},0,null,0,{"$f":"IF(ISERROR(VLOOKUP($A337+8860000,'Growth Data'!$A:$Z,7,0)),0,VLOOKUP($A337+8860000,'Growth Data'!$A:$Z,7,0))","v":0},0,null,"NO",{"$f":"IF(ISERROR(VLOOKUP($A337+8860000,'Growth Data'!$A:$F,4,0)),\"NO\",VLOOKUP($A337+8860000,'Growth Data'!$A:$F,4,0))","v":"NO"},0,null,0,{"$f":"IF(ISERROR(VLOOKUP($A337+8860000,'Growth Data'!$A:$Z,8,0)),0,VLOOKUP($A337+8860000,'Growth Data'!$A:$Z,8,0))","v":0},0,null,0,{"$f":"IF(ISERROR(VLOOKUP($A337+8860000,'Growth Data'!$A:$Z,9,0)),0,VLOOKUP($A337+8860000,'Growth Data'!$A:$Z,9,0))","v":0},0,null,"NO",{"$f":"IF(ISERROR(VLOOKUP($A337+8860000,'Growth Data'!$A:$Z,5,0)),\"NO\",VLOOKUP($A337+8860000,'Growth Data'!$A:$Z,5,0))","v":"NO"},0,null,0,{"$f":"IF(ISERROR(VLOOKUP($A337+8860000,'Growth Data'!$A:$Z,10,0)),0,VLOOKUP($A337+8860000,'Growth Data'!$A:$Z,10,0))","v":0},0,null,0,{"$f":"IF(ISERROR(VLOOKUP($A337+8860000,'Growth Data'!$A:$Z,11,0)),0,VLOOKUP($A337+8860000,'Growth Data'!$A:$Z,11,0))","v":0},0]
[2060,"Beaver Green Primary School",null,"Beaver Green Primary School",null,1,null,1265106.53,1265106.53,0,null,266070.94,266070.93636012642,3.6398735828697681E-3,null,15261.66,15261.661694915249,-1.6949152486631647E-3,null,132840.79,132840.78763473054,2.3652694653719664E-3,null,120084,120084,0,null,0,0,0,null,0,0,0,null,0,0,0,null,10956.8,10956.8,0,null,0,0,0,null,0,0,0,null,0,0,0,null,1810320.72,1810320.7156897723,4.3102276977151632E-3,null,0,0,0,null,1810320.72,1810320.7156897723,4.3102276977151632E-3,null,0,null,0,null,null,null,0,null,null,null,0,null,339852.45,339852.44799678028,0,null,10756.7,0,10757,null,null,null,0,null,null,null,0,null,null,null,0,null,null,null,0,null,null,null,0,null,null,null,0,null,"NO",{"$f":"IF(ISERROR(VLOOKUP($A338+8860000,'Growth Data'!$A:$F,3,0)),\"NO\",VLOOKUP($A338+8860000,'Growth Data'!$A:$F,3,0))","v":"NO"},0,null,0,{"$f":"IF(DI338=\"YES\",IF(ISERROR(VLOOKUP($A338+8860000,'Growth Data'!$A:$F,6,0)),0,VLOOKUP($A338+8860000,'Growth Data'!$A:$F,6,0)),0)","v":0},0,null,0,{"$f":"IF(ISERROR(VLOOKUP($A338+8860000,'Growth Data'!$A:$Z,7,0)),0,VLOOKUP($A338+8860000,'Growth Data'!$A:$Z,7,0))","v":0},0,null,"NO",{"$f":"IF(ISERROR(VLOOKUP($A338+8860000,'Growth Data'!$A:$F,4,0)),\"NO\",VLOOKUP($A338+8860000,'Growth Data'!$A:$F,4,0))","v":"NO"},0,null,0,{"$f":"IF(ISERROR(VLOOKUP($A338+8860000,'Growth Data'!$A:$Z,8,0)),0,VLOOKUP($A338+8860000,'Growth Data'!$A:$Z,8,0))","v":0},0,null,0,{"$f":"IF(ISERROR(VLOOKUP($A338+8860000,'Growth Data'!$A:$Z,9,0)),0,VLOOKUP($A338+8860000,'Growth Data'!$A:$Z,9,0))","v":0},0,null,"NO",{"$f":"IF(ISERROR(VLOOKUP($A338+8860000,'Growth Data'!$A:$Z,5,0)),\"NO\",VLOOKUP($A338+8860000,'Growth Data'!$A:$Z,5,0))","v":"NO"},0,null,0,{"$f":"IF(ISERROR(VLOOKUP($A338+8860000,'Growth Data'!$A:$Z,10,0)),0,VLOOKUP($A338+8860000,'Growth Data'!$A:$Z,10,0))","v":0},0,null,0,{"$f":"IF(ISERROR(VLOOKUP($A338+8860000,'Growth Data'!$A:$Z,11,0)),0,VLOOKUP($A338+8860000,'Growth Data'!$A:$Z,11,0))","v":0},0]
[2061,"Finberry Primary School",null,"Finberry Primary School",null,1,null,677404.23,677404.23,0,null,50731.09,50731.088787878842,1.2121211548219435E-3,null,4229.3100000000004,4229.312631578945,-2.6315789446016424E-3,null,71442.53,71442.531068702287,-1.0687022877391428E-3,null,120084,120084,0,null,0,0,0,null,0,0,0,null,0,0,0,null,9881.6,9881.6,0,null,0,0,0,null,0,0,0,null,0,0,0,null,933772.76,933772.76248816017,-2.4881601566448808E-3,null,0,0,0,null,933772.76,933772.76248816017,-2.4881601566448808E-3,null,0,null,0,null,null,null,0,null,null,null,0,null,107320.39,107320.39479516818,0,null,5759.7,0,5760,null,null,null,0,null,null,null,0,null,null,null,0,null,null,null,0,null,null,null,0,null,null,null,0,null,"NO",{"$f":"IF(ISERROR(VLOOKUP($A339+8860000,'Growth Data'!$A:$F,3,0)),\"NO\",VLOOKUP($A339+8860000,'Growth Data'!$A:$F,3,0))","v":"YES"},1,null,0,{"$f":"IF(DI339=\"YES\",IF(ISERROR(VLOOKUP($A339+8860000,'Growth Data'!$A:$F,6,0)),0,VLOOKUP($A339+8860000,'Growth Data'!$A:$F,6,0)),0)","v":23},-23,null,0,{"$f":"IF(ISERROR(VLOOKUP($A339+8860000,'Growth Data'!$A:$Z,7,0)),0,VLOOKUP($A339+8860000,'Growth Data'!$A:$Z,7,0))","v":30},1,null,"NO",{"$f":"IF(ISERROR(VLOOKUP($A339+8860000,'Growth Data'!$A:$F,4,0)),\"NO\",VLOOKUP($A339+8860000,'Growth Data'!$A:$F,4,0))","v":"NO"},0,null,0,{"$f":"IF(ISERROR(VLOOKUP($A339+8860000,'Growth Data'!$A:$Z,8,0)),0,VLOOKUP($A339+8860000,'Growth Data'!$A:$Z,8,0))","v":0},0,null,0,{"$f":"IF(ISERROR(VLOOKUP($A339+8860000,'Growth Data'!$A:$Z,9,0)),0,VLOOKUP($A339+8860000,'Growth Data'!$A:$Z,9,0))","v":0},0,null,"NO",{"$f":"IF(ISERROR(VLOOKUP($A339+8860000,'Growth Data'!$A:$Z,5,0)),\"NO\",VLOOKUP($A339+8860000,'Growth Data'!$A:$Z,5,0))","v":"NO"},0,null,0,{"$f":"IF(ISERROR(VLOOKUP($A339+8860000,'Growth Data'!$A:$Z,10,0)),0,VLOOKUP($A339+8860000,'Growth Data'!$A:$Z,10,0))","v":0},0,null,0,{"$f":"IF(ISERROR(VLOOKUP($A339+8860000,'Growth Data'!$A:$Z,11,0)),0,VLOOKUP($A339+8860000,'Growth Data'!$A:$Z,11,0))","v":0},0]
[2062,"Greenlands Primary School",null,"Greenlands Primary School",null,1,null,553677.43000000005,553677.43000000005,0,null,70920,70919.99696629215,3.0337078496813774E-3,null,7037.13,7037.1292857142817,7.1428571845899569E-4,null,63539.23,63539.226619718313,3.3802816906245425E-3,null,120084,120084,0,null,0,0,0,null,30001.49,30001.486409679474,3.5903205280192196E-3,null,0,0,0,null,3174.4,3174.4,0,null,0,0,0,null,0,0,0,null,0,0,0,null,848433.67,848433.66928140435,7.1859569288790226E-4,null,0,0,0,null,848433.67,848433.66928140435,7.1859569288790226E-4,null,0,null,0,null,null,null,0,null,null,null,0,null,123100.57,123100.56536931024,0,null,4880.9399999999996,0,4881,null,null,null,0,null,null,null,0,null,null,null,0,null,null,null,0,null,null,null,0,null,null,null,0,null,"NO",{"$f":"IF(ISERROR(VLOOKUP($A340+8860000,'Growth Data'!$A:$F,3,0)),\"NO\",VLOOKUP($A340+8860000,'Growth Data'!$A:$F,3,0))","v":"NO"},0,null,0,{"$f":"IF(DI340=\"YES\",IF(ISERROR(VLOOKUP($A340+8860000,'Growth Data'!$A:$F,6,0)),0,VLOOKUP($A340+8860000,'Growth Data'!$A:$F,6,0)),0)","v":0},0,null,0,{"$f":"IF(ISERROR(VLOOKUP($A340+8860000,'Growth Data'!$A:$Z,7,0)),0,VLOOKUP($A340+8860000,'Growth Data'!$A:$Z,7,0))","v":0},0,null,"NO",{"$f":"IF(ISERROR(VLOOKUP($A340+8860000,'Growth Data'!$A:$F,4,0)),\"NO\",VLOOKUP($A340+8860000,'Growth Data'!$A:$F,4,0))","v":"NO"},0,null,0,{"$f":"IF(ISERROR(VLOOKUP($A340+8860000,'Growth Data'!$A:$Z,8,0)),0,VLOOKUP($A340+8860000,'Growth Data'!$A:$Z,8,0))","v":0},0,null,0,{"$f":"IF(ISERROR(VLOOKUP($A340+8860000,'Growth Data'!$A:$Z,9,0)),0,VLOOKUP($A340+8860000,'Growth Data'!$A:$Z,9,0))","v":0},0,null,"NO",{"$f":"IF(ISERROR(VLOOKUP($A340+8860000,'Growth Data'!$A:$Z,5,0)),\"NO\",VLOOKUP($A340+8860000,'Growth Data'!$A:$Z,5,0))","v":"NO"},0,null,0,{"$f":"IF(ISERROR(VLOOKUP($A340+8860000,'Growth Data'!$A:$Z,10,0)),0,VLOOKUP($A340+8860000,'Growth Data'!$A:$Z,10,0))","v":0},0,null,0,{"$f":"IF(ISERROR(VLOOKUP($A340+8860000,'Growth Data'!$A:$Z,11,0)),0,VLOOKUP($A340+8860000,'Growth Data'!$A:$Z,11,0))","v":0},0]
[2063,"Istead Rise Primary School",null,"Istead Rise Primary School",null,1,null,798037.86,798037.86,0,null,74848.77,74848.773541666698,-3.5416666942182928E-3,null,1868.43,1868.4292105263148,7.8947368524495687E-4,null,53169.98,53169.977339449542,2.6605504608596675E-3,null,120084,120084,0,null,0,0,0,null,0,0,0,null,0,0,0,null,5529.6,5529.6,0,null,0,0,0,null,0,0,0,null,30430.959999999999,30430.959908357472,9.1642526967916638E-5,null,1083969.6000000001,1083969.6000000001,0,null,0,0,0,null,1083969.6000000001,1083969.6000000001,0,null,0,null,0,null,null,null,0,null,null,null,0,null,138013.35999999999,138013.36230700818,0,null,6785.4,0,6785,null,null,null,0,null,null,null,0,null,null,null,0,null,null,null,0,null,null,null,0,null,null,null,0,null,"NO",{"$f":"IF(ISERROR(VLOOKUP($A341+8860000,'Growth Data'!$A:$F,3,0)),\"NO\",VLOOKUP($A341+8860000,'Growth Data'!$A:$F,3,0))","v":"NO"},0,null,0,{"$f":"IF(DI341=\"YES\",IF(ISERROR(VLOOKUP($A341+8860000,'Growth Data'!$A:$F,6,0)),0,VLOOKUP($A341+8860000,'Growth Data'!$A:$F,6,0)),0)","v":0},0,null,0,{"$f":"IF(ISERROR(VLOOKUP($A341+8860000,'Growth Data'!$A:$Z,7,0)),0,VLOOKUP($A341+8860000,'Growth Data'!$A:$Z,7,0))","v":0},0,null,"NO",{"$f":"IF(ISERROR(VLOOKUP($A341+8860000,'Growth Data'!$A:$F,4,0)),\"NO\",VLOOKUP($A341+8860000,'Growth Data'!$A:$F,4,0))","v":"NO"},0,null,0,{"$f":"IF(ISERROR(VLOOKUP($A341+8860000,'Growth Data'!$A:$Z,8,0)),0,VLOOKUP($A341+8860000,'Growth Data'!$A:$Z,8,0))","v":0},0,null,0,{"$f":"IF(ISERROR(VLOOKUP($A341+8860000,'Growth Data'!$A:$Z,9,0)),0,VLOOKUP($A341+8860000,'Growth Data'!$A:$Z,9,0))","v":0},0,null,"NO",{"$f":"IF(ISERROR(VLOOKUP($A341+8860000,'Growth Data'!$A:$Z,5,0)),\"NO\",VLOOKUP($A341+8860000,'Growth Data'!$A:$Z,5,0))","v":"NO"},0,null,0,{"$f":"IF(ISERROR(VLOOKUP($A341+8860000,'Growth Data'!$A:$Z,10,0)),0,VLOOKUP($A341+8860000,'Growth Data'!$A:$Z,10,0))","v":0},0,null,0,{"$f":"IF(ISERROR(VLOOKUP($A341+8860000,'Growth Data'!$A:$Z,11,0)),0,VLOOKUP($A341+8860000,'Growth Data'!$A:$Z,11,0))","v":0},0]
[2064,"Ramsgate Arts Primary School",null,"Ramsgate Arts Primary School",null,1,null,918671.49,918671.49,0,null,162285.81,162285.80999999982,0,null,6926.52,6926.5182203389822,1.7796610181903816E-3,null,70874.399999999994,70874.403599999991,-3.599999996367842E-3,null,120084,120084,0,null,0,0,0,null,0,0,0,null,0,0,0,null,12288,12288,0,null,0,0,0,null,0,0,0,null,0,0,0,null,1291130.22,1291130.2218203389,-1.8203388899564743E-3,null,0,0,0,null,1291130.22,1291130.2218203389,-1.8203388899564743E-3,null,0,null,0,null,null,null,0,null,null,null,0,null,204432.67,204432.67412734701,0,null,7811.1,0,7811,null,null,null,0,null,null,null,0,null,null,null,0,null,null,null,0,null,null,null,0,null,null,null,0,null,"NO",{"$f":"IF(ISERROR(VLOOKUP($A342+8860000,'Growth Data'!$A:$F,3,0)),\"NO\",VLOOKUP($A342+8860000,'Growth Data'!$A:$F,3,0))","v":"NO"},0,null,0,{"$f":"IF(DI342=\"YES\",IF(ISERROR(VLOOKUP($A342+8860000,'Growth Data'!$A:$F,6,0)),0,VLOOKUP($A342+8860000,'Growth Data'!$A:$F,6,0)),0)","v":0},0,null,0,{"$f":"IF(ISERROR(VLOOKUP($A342+8860000,'Growth Data'!$A:$Z,7,0)),0,VLOOKUP($A342+8860000,'Growth Data'!$A:$Z,7,0))","v":0},0,null,"NO",{"$f":"IF(ISERROR(VLOOKUP($A342+8860000,'Growth Data'!$A:$F,4,0)),\"NO\",VLOOKUP($A342+8860000,'Growth Data'!$A:$F,4,0))","v":"NO"},0,null,0,{"$f":"IF(ISERROR(VLOOKUP($A342+8860000,'Growth Data'!$A:$Z,8,0)),0,VLOOKUP($A342+8860000,'Growth Data'!$A:$Z,8,0))","v":0},0,null,0,{"$f":"IF(ISERROR(VLOOKUP($A342+8860000,'Growth Data'!$A:$Z,9,0)),0,VLOOKUP($A342+8860000,'Growth Data'!$A:$Z,9,0))","v":0},0,null,"NO",{"$f":"IF(ISERROR(VLOOKUP($A342+8860000,'Growth Data'!$A:$Z,5,0)),\"NO\",VLOOKUP($A342+8860000,'Growth Data'!$A:$Z,5,0))","v":"NO"},0,null,0,{"$f":"IF(ISERROR(VLOOKUP($A342+8860000,'Growth Data'!$A:$Z,10,0)),0,VLOOKUP($A342+8860000,'Growth Data'!$A:$Z,10,0))","v":0},0,null,0,{"$f":"IF(ISERROR(VLOOKUP($A342+8860000,'Growth Data'!$A:$Z,11,0)),0,VLOOKUP($A342+8860000,'Growth Data'!$A:$Z,11,0))","v":0},0]
[2069,"Dartford Primary Academy",null,"Dartford Primary Academy",null,1,null,1920858.57,1920858.57,0,null,134229.22,134229.21703821668,2.9617833206430078E-3,null,55023.360000000001,55023.36392045438,-3.9204543791129254E-3,null,177109.46,177109.45520547943,4.7945205587893724E-3,null,120084,120084,0,null,0,0,0,null,88588.81,88588.809506840757,4.9315924115944654E-4,null,33000,33000,0,null,9395.2000000000007,9395.2000000000007,0,null,0,0,0,null,0,0,0,null,99886.58,99886.584329008721,-4.3290087196510285E-3,null,2638175.2000000002,2638175.2000000002,0,null,0,0,0,null,2638175.2000000002,2638175.2000000002,0,null,0,null,0,null,null,null,0,null,null,null,0,null,437992.02,437992.01864790585,0,null,16933.330000000002,0,16933,null,null,null,0,null,null,null,0,null,null,null,0,null,null,null,0,null,null,null,0,null,null,null,0,null,"NO",{"$f":"IF(ISERROR(VLOOKUP($A343+8860000,'Growth Data'!$A:$F,3,0)),\"NO\",VLOOKUP($A343+8860000,'Growth Data'!$A:$F,3,0))","v":"NO"},0,null,0,{"$f":"IF(DI343=\"YES\",IF(ISERROR(VLOOKUP($A343+8860000,'Growth Data'!$A:$F,6,0)),0,VLOOKUP($A343+8860000,'Growth Data'!$A:$F,6,0)),0)","v":0},0,null,0,{"$f":"IF(ISERROR(VLOOKUP($A343+8860000,'Growth Data'!$A:$Z,7,0)),0,VLOOKUP($A343+8860000,'Growth Data'!$A:$Z,7,0))","v":0},0,null,"NO",{"$f":"IF(ISERROR(VLOOKUP($A343+8860000,'Growth Data'!$A:$F,4,0)),\"NO\",VLOOKUP($A343+8860000,'Growth Data'!$A:$F,4,0))","v":"NO"},0,null,0,{"$f":"IF(ISERROR(VLOOKUP($A343+8860000,'Growth Data'!$A:$Z,8,0)),0,VLOOKUP($A343+8860000,'Growth Data'!$A:$Z,8,0))","v":0},0,null,0,{"$f":"IF(ISERROR(VLOOKUP($A343+8860000,'Growth Data'!$A:$Z,9,0)),0,VLOOKUP($A343+8860000,'Growth Data'!$A:$Z,9,0))","v":0},0,null,"NO",{"$f":"IF(ISERROR(VLOOKUP($A343+8860000,'Growth Data'!$A:$Z,5,0)),\"NO\",VLOOKUP($A343+8860000,'Growth Data'!$A:$Z,5,0))","v":"NO"},0,null,0,{"$f":"IF(ISERROR(VLOOKUP($A343+8860000,'Growth Data'!$A:$Z,10,0)),0,VLOOKUP($A343+8860000,'Growth Data'!$A:$Z,10,0))","v":0},0,null,0,{"$f":"IF(ISERROR(VLOOKUP($A343+8860000,'Growth Data'!$A:$Z,11,0)),0,VLOOKUP($A343+8860000,'Growth Data'!$A:$Z,11,0))","v":0},0]
[2073,"Langley Park Primary Academy",null,"Langley Park Primary Academy",null,1,null,1098075.3500000001,1098075.3500000001,0,null,99503.72,99503.719658119779,3.4188022254966199E-4,null,20532.349999999999,20532.345593220365,4.4067796334275045E-3,null,78068.87,78068.87301038063,-3.0103806348051876E-3,null,120084,120084,0,null,0,0,0,null,0,0,0,null,0,0,0,null,10035.200000000001,10035.200000000001,0,null,0,0,0,null,0,0,0,null,67635.710000000006,67635.711738279118,-1.7382791120326146E-3,null,1493935.2,1493935.2,0,null,0,0,0,null,1493935.2,1493935.2,0,null,0,null,0,null,null,null,0,null,null,null,0,null,249420.03,249420.03230700796,0,null,9336.5,0,9337,null,null,null,0,null,null,null,0,null,null,null,0,null,null,null,0,null,null,null,0,null,null,null,0,null,"NO",{"$f":"IF(ISERROR(VLOOKUP($A344+8860000,'Growth Data'!$A:$F,3,0)),\"NO\",VLOOKUP($A344+8860000,'Growth Data'!$A:$F,3,0))","v":"NO"},0,null,0,{"$f":"IF(DI344=\"YES\",IF(ISERROR(VLOOKUP($A344+8860000,'Growth Data'!$A:$F,6,0)),0,VLOOKUP($A344+8860000,'Growth Data'!$A:$F,6,0)),0)","v":0},0,null,0,{"$f":"IF(ISERROR(VLOOKUP($A344+8860000,'Growth Data'!$A:$Z,7,0)),0,VLOOKUP($A344+8860000,'Growth Data'!$A:$Z,7,0))","v":0},0,null,"NO",{"$f":"IF(ISERROR(VLOOKUP($A344+8860000,'Growth Data'!$A:$F,4,0)),\"NO\",VLOOKUP($A344+8860000,'Growth Data'!$A:$F,4,0))","v":"NO"},0,null,0,{"$f":"IF(ISERROR(VLOOKUP($A344+8860000,'Growth Data'!$A:$Z,8,0)),0,VLOOKUP($A344+8860000,'Growth Data'!$A:$Z,8,0))","v":0},0,null,0,{"$f":"IF(ISERROR(VLOOKUP($A344+8860000,'Growth Data'!$A:$Z,9,0)),0,VLOOKUP($A344+8860000,'Growth Data'!$A:$Z,9,0))","v":0},0,null,"NO",{"$f":"IF(ISERROR(VLOOKUP($A344+8860000,'Growth Data'!$A:$Z,5,0)),\"NO\",VLOOKUP($A344+8860000,'Growth Data'!$A:$Z,5,0))","v":"NO"},0,null,0,{"$f":"IF(ISERROR(VLOOKUP($A344+8860000,'Growth Data'!$A:$Z,10,0)),0,VLOOKUP($A344+8860000,'Growth Data'!$A:$Z,10,0))","v":0},0,null,0,{"$f":"IF(ISERROR(VLOOKUP($A344+8860000,'Growth Data'!$A:$Z,11,0)),0,VLOOKUP($A344+8860000,'Growth Data'!$A:$Z,11,0))","v":0},0]
[2076,"Cherry Orchard Primary Academy",null,"Cherry Orchard Primary Academy",null,1,null,1173084.72,1173084.7224999999,-2.4999999441206455E-3,null,69430.5,69430.501107784497,-1.1077844974352047E-3,null,33788.11,33788.105530575471,4.469424529816024E-3,null,111141.02,111141.02055232557,-5.5232556769624352E-4,null,120084,120084,0,null,0,0,0,null,55477.04,55477.043268617221,-3.268617219873704E-3,null,0,0,0,null,12697.6,12697.6,0,null,0,0,0,null,0,0,0,null,22259.61,22259.607040697323,2.9593026774819009E-3,null,1597962.6,1597962.5999999999,0,null,0,0,0,null,1597962.6,1597962.5999999999,0,null,0,null,0,null,null,null,0,null,null,null,0,null,227669.69,227669.6867644091,0,null,10341.33,0,10341,null,null,null,0,null,null,null,0,null,null,null,0,null,null,null,0,null,null,null,0,null,null,null,0,null,"NO",{"$f":"IF(ISERROR(VLOOKUP($A345+8860000,'Growth Data'!$A:$F,3,0)),\"NO\",VLOOKUP($A345+8860000,'Growth Data'!$A:$F,3,0))","v":"NO"},0,null,0,{"$f":"IF(DI345=\"YES\",IF(ISERROR(VLOOKUP($A345+8860000,'Growth Data'!$A:$F,6,0)),0,VLOOKUP($A345+8860000,'Growth Data'!$A:$F,6,0)),0)","v":0},0,null,0,{"$f":"IF(ISERROR(VLOOKUP($A345+8860000,'Growth Data'!$A:$Z,7,0)),0,VLOOKUP($A345+8860000,'Growth Data'!$A:$Z,7,0))","v":0},0,null,"NO",{"$f":"IF(ISERROR(VLOOKUP($A345+8860000,'Growth Data'!$A:$F,4,0)),\"NO\",VLOOKUP($A345+8860000,'Growth Data'!$A:$F,4,0))","v":"NO"},0,null,0,{"$f":"IF(ISERROR(VLOOKUP($A345+8860000,'Growth Data'!$A:$Z,8,0)),0,VLOOKUP($A345+8860000,'Growth Data'!$A:$Z,8,0))","v":0},0,null,0,{"$f":"IF(ISERROR(VLOOKUP($A345+8860000,'Growth Data'!$A:$Z,9,0)),0,VLOOKUP($A345+8860000,'Growth Data'!$A:$Z,9,0))","v":0},0,null,"NO",{"$f":"IF(ISERROR(VLOOKUP($A345+8860000,'Growth Data'!$A:$Z,5,0)),\"NO\",VLOOKUP($A345+8860000,'Growth Data'!$A:$Z,5,0))","v":"NO"},0,null,0,{"$f":"IF(ISERROR(VLOOKUP($A345+8860000,'Growth Data'!$A:$Z,10,0)),0,VLOOKUP($A345+8860000,'Growth Data'!$A:$Z,10,0))","v":0},0,null,0,{"$f":"IF(ISERROR(VLOOKUP($A345+8860000,'Growth Data'!$A:$Z,11,0)),0,VLOOKUP($A345+8860000,'Growth Data'!$A:$Z,11,0))","v":0},0]
[2077,"Westgate Primary School",null,"Westgate Primary School",null,1,null,726894.95,726894.95000000007,0,null,68493.289999999994,68493.291324786333,-1.324786338955164E-3,null,30284.87,30284.874146341514,-4.14634151456994E-3,null,59852.73,59852.73432432433,-4.3243243271717802E-3,null,120084,120084,0,null,0,0,0,null,37006.44,37006.442472472641,-2.4724726390559226E-3,null,0,0,0,null,6297.6,6297.6,0,null,0,0,0,null,0,0,0,null,0,0,0,null,1048913.8899999999,1048913.8922679252,-2.26792530156672E-3,null,893.16,893.16064112551976,-6.4112551979178534E-4,null,1049807.05,1049807.0529090506,-2.9090505558997393E-3,null,0,null,0,null,null,null,0,null,null,null,0,null,155599.35999999999,155599.35776495637,0,null,6407.94,0,6408,null,null,null,0,null,null,null,0,null,null,null,0,null,null,null,0,null,null,null,0,null,null,null,0,null,"NO",{"$f":"IF(ISERROR(VLOOKUP($A346+8860000,'Growth Data'!$A:$F,3,0)),\"NO\",VLOOKUP($A346+8860000,'Growth Data'!$A:$F,3,0))","v":"NO"},0,null,0,{"$f":"IF(DI346=\"YES\",IF(ISERROR(VLOOKUP($A346+8860000,'Growth Data'!$A:$F,6,0)),0,VLOOKUP($A346+8860000,'Growth Data'!$A:$F,6,0)),0)","v":0},0,null,0,{"$f":"IF(ISERROR(VLOOKUP($A346+8860000,'Growth Data'!$A:$Z,7,0)),0,VLOOKUP($A346+8860000,'Growth Data'!$A:$Z,7,0))","v":0},0,null,"NO",{"$f":"IF(ISERROR(VLOOKUP($A346+8860000,'Growth Data'!$A:$F,4,0)),\"NO\",VLOOKUP($A346+8860000,'Growth Data'!$A:$F,4,0))","v":"NO"},0,null,0,{"$f":"IF(ISERROR(VLOOKUP($A346+8860000,'Growth Data'!$A:$Z,8,0)),0,VLOOKUP($A346+8860000,'Growth Data'!$A:$Z,8,0))","v":0},0,null,0,{"$f":"IF(ISERROR(VLOOKUP($A346+8860000,'Growth Data'!$A:$Z,9,0)),0,VLOOKUP($A346+8860000,'Growth Data'!$A:$Z,9,0))","v":0},0,null,"NO",{"$f":"IF(ISERROR(VLOOKUP($A346+8860000,'Growth Data'!$A:$Z,5,0)),\"NO\",VLOOKUP($A346+8860000,'Growth Data'!$A:$Z,5,0))","v":"NO"},0,null,0,{"$f":"IF(ISERROR(VLOOKUP($A346+8860000,'Growth Data'!$A:$Z,10,0)),0,VLOOKUP($A346+8860000,'Growth Data'!$A:$Z,10,0))","v":0},0,null,0,{"$f":"IF(ISERROR(VLOOKUP($A346+8860000,'Growth Data'!$A:$Z,11,0)),0,VLOOKUP($A346+8860000,'Growth Data'!$A:$Z,11,0))","v":0},0]
[2078,"St Nicholas Church of England Primary Academy",null,"St Nicholas Church of England Primary Academy",null,1,null,1064050.48,1064050.48,0,null,159026.54999999999,159026.54542521993,4.5747800613753498E-3,null,2567.2399999999998,2567.2428474576263,-2.8474576265580254E-3,null,95877.97,95877.965993031365,4.0069686365313828E-3,null,120084,120084,0,null,0,0,0,null,0,0,0,null,0,0,0,null,7219,7219,0,null,0,0,0,null,0,0,0,null,0,0,0,null,1448825.23,1448825.2342657088,-4.2657088488340378E-3,null,0,0,0,null,1448825.23,1448825.2342657088,-4.2657088488340378E-3,null,0,null,0,null,null,null,0,null,null,null,0,null,215373.22,215373.21657271706,0,null,9047.2000000000007,0,9047,null,null,null,0,null,null,null,0,null,null,null,0,null,null,null,0,null,null,null,0,null,null,null,0,null,"NO",{"$f":"IF(ISERROR(VLOOKUP($A347+8860000,'Growth Data'!$A:$F,3,0)),\"NO\",VLOOKUP($A347+8860000,'Growth Data'!$A:$F,3,0))","v":"NO"},0,null,0,{"$f":"IF(DI347=\"YES\",IF(ISERROR(VLOOKUP($A347+8860000,'Growth Data'!$A:$F,6,0)),0,VLOOKUP($A347+8860000,'Growth Data'!$A:$F,6,0)),0)","v":0},0,null,0,{"$f":"IF(ISERROR(VLOOKUP($A347+8860000,'Growth Data'!$A:$Z,7,0)),0,VLOOKUP($A347+8860000,'Growth Data'!$A:$Z,7,0))","v":0},0,null,"NO",{"$f":"IF(ISERROR(VLOOKUP($A347+8860000,'Growth Data'!$A:$F,4,0)),\"NO\",VLOOKUP($A347+8860000,'Growth Data'!$A:$F,4,0))","v":"NO"},0,null,0,{"$f":"IF(ISERROR(VLOOKUP($A347+8860000,'Growth Data'!$A:$Z,8,0)),0,VLOOKUP($A347+8860000,'Growth Data'!$A:$Z,8,0))","v":0},0,null,0,{"$f":"IF(ISERROR(VLOOKUP($A347+8860000,'Growth Data'!$A:$Z,9,0)),0,VLOOKUP($A347+8860000,'Growth Data'!$A:$Z,9,0))","v":0},0,null,"NO",{"$f":"IF(ISERROR(VLOOKUP($A347+8860000,'Growth Data'!$A:$Z,5,0)),\"NO\",VLOOKUP($A347+8860000,'Growth Data'!$A:$Z,5,0))","v":"NO"},0,null,0,{"$f":"IF(ISERROR(VLOOKUP($A347+8860000,'Growth Data'!$A:$Z,10,0)),0,VLOOKUP($A347+8860000,'Growth Data'!$A:$Z,10,0))","v":0},0,null,0,{"$f":"IF(ISERROR(VLOOKUP($A347+8860000,'Growth Data'!$A:$Z,11,0)),0,VLOOKUP($A347+8860000,'Growth Data'!$A:$Z,11,0))","v":0},0]
[2080,"Barming Primary School",null,"Barming Primary School",null,1,null,1268199.7,1268199.7,0,null,98299.43,98299.42906403949,9.3596050282940269E-4,null,15298.98,15298.976271186435,3.7288135645212606E-3,null,112647.74,112647.74188790559,-1.8879055860452354E-3,null,120084,120084,0,null,0,0,0,null,0,0,0,null,0,0,0,null,7560,7560,0,null,0,0,0,null,0,0,0,null,99270.15,99270.152776868548,-2.776868554065004E-3,null,1721360,1721360,0,null,0,0,0,null,1721360,1721360,0,null,0,null,0,null,null,null,0,null,null,null,0,null,291703.52,291703.5223070081,0,null,10783,0,10783,null,null,null,0,null,null,null,0,null,null,null,0,null,null,null,0,null,null,null,0,null,null,null,0,null,"NO",{"$f":"IF(ISERROR(VLOOKUP($A348+8860000,'Growth Data'!$A:$F,3,0)),\"NO\",VLOOKUP($A348+8860000,'Growth Data'!$A:$F,3,0))","v":"NO"},0,null,0,{"$f":"IF(DI348=\"YES\",IF(ISERROR(VLOOKUP($A348+8860000,'Growth Data'!$A:$F,6,0)),0,VLOOKUP($A348+8860000,'Growth Data'!$A:$F,6,0)),0)","v":0},0,null,0,{"$f":"IF(ISERROR(VLOOKUP($A348+8860000,'Growth Data'!$A:$Z,7,0)),0,VLOOKUP($A348+8860000,'Growth Data'!$A:$Z,7,0))","v":0},0,null,"NO",{"$f":"IF(ISERROR(VLOOKUP($A348+8860000,'Growth Data'!$A:$F,4,0)),\"NO\",VLOOKUP($A348+8860000,'Growth Data'!$A:$F,4,0))","v":"NO"},0,null,0,{"$f":"IF(ISERROR(VLOOKUP($A348+8860000,'Growth Data'!$A:$Z,8,0)),0,VLOOKUP($A348+8860000,'Growth Data'!$A:$Z,8,0))","v":0},0,null,0,{"$f":"IF(ISERROR(VLOOKUP($A348+8860000,'Growth Data'!$A:$Z,9,0)),0,VLOOKUP($A348+8860000,'Growth Data'!$A:$Z,9,0))","v":0},0,null,"NO",{"$f":"IF(ISERROR(VLOOKUP($A348+8860000,'Growth Data'!$A:$Z,5,0)),\"NO\",VLOOKUP($A348+8860000,'Growth Data'!$A:$Z,5,0))","v":"NO"},0,null,0,{"$f":"IF(ISERROR(VLOOKUP($A348+8860000,'Growth Data'!$A:$Z,10,0)),0,VLOOKUP($A348+8860000,'Growth Data'!$A:$Z,10,0))","v":0},0,null,0,{"$f":"IF(ISERROR(VLOOKUP($A348+8860000,'Growth Data'!$A:$Z,11,0)),0,VLOOKUP($A348+8860000,'Growth Data'!$A:$Z,11,0))","v":0},0]
[2081,"Brenzett Church of England Primary School",null,"Brenzett Church of England Primary School",null,1,null,293851.15000000002,293851.15000000002,0,null,51061.79,51061.793950617255,-3.9506172543042339E-3,null,0,0,0,null,34699.379999999997,34699.383333333331,-3.3333333340124227E-3,null,120084,120084,0,null,0,0,0,null,0,0,0,null,0,0,0,null,3891,3891,0,null,0,0,0,null,0,0,0,null,0,0,0,null,503587.33,503587.32728395064,2.7160493773408234E-3,null,5928.1,5928.1048185492982,-4.8185492978518596E-3,null,509515.43,509515.43210249994,-2.1024999441578984E-3,null,0,null,0,null,null,null,0,null,null,null,0,null,85495.7,85495.704409508049,0,null,2498.5,0,2499,null,null,null,0,null,null,null,0,null,null,null,0,null,null,null,0,null,null,null,0,null,null,null,0,null,"NO",{"$f":"IF(ISERROR(VLOOKUP($A349+8860000,'Growth Data'!$A:$F,3,0)),\"NO\",VLOOKUP($A349+8860000,'Growth Data'!$A:$F,3,0))","v":"NO"},0,null,0,{"$f":"IF(DI349=\"YES\",IF(ISERROR(VLOOKUP($A349+8860000,'Growth Data'!$A:$F,6,0)),0,VLOOKUP($A349+8860000,'Growth Data'!$A:$F,6,0)),0)","v":0},0,null,0,{"$f":"IF(ISERROR(VLOOKUP($A349+8860000,'Growth Data'!$A:$Z,7,0)),0,VLOOKUP($A349+8860000,'Growth Data'!$A:$Z,7,0))","v":0},0,null,"NO",{"$f":"IF(ISERROR(VLOOKUP($A349+8860000,'Growth Data'!$A:$F,4,0)),\"NO\",VLOOKUP($A349+8860000,'Growth Data'!$A:$F,4,0))","v":"NO"},0,null,0,{"$f":"IF(ISERROR(VLOOKUP($A349+8860000,'Growth Data'!$A:$Z,8,0)),0,VLOOKUP($A349+8860000,'Growth Data'!$A:$Z,8,0))","v":0},0,null,0,{"$f":"IF(ISERROR(VLOOKUP($A349+8860000,'Growth Data'!$A:$Z,9,0)),0,VLOOKUP($A349+8860000,'Growth Data'!$A:$Z,9,0))","v":0},0,null,"NO",{"$f":"IF(ISERROR(VLOOKUP($A349+8860000,'Growth Data'!$A:$Z,5,0)),\"NO\",VLOOKUP($A349+8860000,'Growth Data'!$A:$Z,5,0))","v":"NO"},0,null,0,{"$f":"IF(ISERROR(VLOOKUP($A349+8860000,'Growth Data'!$A:$Z,10,0)),0,VLOOKUP($A349+8860000,'Growth Data'!$A:$Z,10,0))","v":0},0,null,0,{"$f":"IF(ISERROR(VLOOKUP($A349+8860000,'Growth Data'!$A:$Z,11,0)),0,VLOOKUP($A349+8860000,'Growth Data'!$A:$Z,11,0))","v":0},0]
[2085,"Royal Rise Primary School",null,"Royal Rise Primary School",null,1,null,544397.92000000004,544397.92000000004,0,null,83024.399999999994,83024.400467836298,-4.6783630386926234E-4,null,11942.71,11942.709041095919,9.5890408010745887E-4,null,51227.25,51227.247499999998,2.5000000023283064E-3,null,120084,120084,0,null,0,0,0,null,0,0,0,null,0,0,0,null,4812.8,4812.8,0,null,0,0,0,null,0,0,0,null,0,0,0,null,815489.08,815489.07700893236,2.9910675948485732E-3,null,0,0,0,null,815489.08,815489.07700893236,2.9910675948485732E-3,null,0,null,0,null,null,null,0,null,null,null,0,null,125730.86,125730.85931594032,0,null,4628.8,0,4629,null,null,null,0,null,null,null,0,null,null,null,0,null,null,null,0,null,null,null,0,null,null,null,0,null,"NO",{"$f":"IF(ISERROR(VLOOKUP($A350+8860000,'Growth Data'!$A:$F,3,0)),\"NO\",VLOOKUP($A350+8860000,'Growth Data'!$A:$F,3,0))","v":"NO"},0,null,0,{"$f":"IF(DI350=\"YES\",IF(ISERROR(VLOOKUP($A350+8860000,'Growth Data'!$A:$F,6,0)),0,VLOOKUP($A350+8860000,'Growth Data'!$A:$F,6,0)),0)","v":0},0,null,0,{"$f":"IF(ISERROR(VLOOKUP($A350+8860000,'Growth Data'!$A:$Z,7,0)),0,VLOOKUP($A350+8860000,'Growth Data'!$A:$Z,7,0))","v":0},0,null,"NO",{"$f":"IF(ISERROR(VLOOKUP($A350+8860000,'Growth Data'!$A:$F,4,0)),\"NO\",VLOOKUP($A350+8860000,'Growth Data'!$A:$F,4,0))","v":"NO"},0,null,0,{"$f":"IF(ISERROR(VLOOKUP($A350+8860000,'Growth Data'!$A:$Z,8,0)),0,VLOOKUP($A350+8860000,'Growth Data'!$A:$Z,8,0))","v":0},0,null,0,{"$f":"IF(ISERROR(VLOOKUP($A350+8860000,'Growth Data'!$A:$Z,9,0)),0,VLOOKUP($A350+8860000,'Growth Data'!$A:$Z,9,0))","v":0},0,null,"NO",{"$f":"IF(ISERROR(VLOOKUP($A350+8860000,'Growth Data'!$A:$Z,5,0)),\"NO\",VLOOKUP($A350+8860000,'Growth Data'!$A:$Z,5,0))","v":"NO"},0,null,0,{"$f":"IF(ISERROR(VLOOKUP($A350+8860000,'Growth Data'!$A:$Z,10,0)),0,VLOOKUP($A350+8860000,'Growth Data'!$A:$Z,10,0))","v":0},0,null,0,{"$f":"IF(ISERROR(VLOOKUP($A350+8860000,'Growth Data'!$A:$Z,11,0)),0,VLOOKUP($A350+8860000,'Growth Data'!$A:$Z,11,0))","v":0},0]
[2086,"Bishop Chavasse Primary School",null,"Bishop Chavasse Primary School",null,1,null,788500.59,788500.58583333332,4.1666666511446238E-3,null,82156.36,82156.361161540452,-1.1615404509939253E-3,null,3551.99,3551.989472573835,5.2742616480827564E-4,null,59089.05,59089.046041666661,3.9583333418704569E-3,null,120084,120084,0,null,0,0,0,null,0,0,0,null,0,0,0,null,5734.4,5734.4,0,null,0,0,0,null,0,0,0,null,12169.68,12169.684157552256,-4.1575522554921918E-3,null,1071286.07,1071286.0666666664,3.3333336468786001E-3,null,0,0,0,null,1071286.07,1071286.0666666664,3.3333336468786001E-3,null,0,null,0,null,null,null,0,null,null,null,0,null,141031.29999999999,141031.30055969616,0,null,6704.31,0,6704,null,null,null,0,null,null,null,0,null,null,null,0,null,null,null,0,null,null,null,0,null,null,null,0,null,"NO",{"$f":"IF(ISERROR(VLOOKUP($A351+8860000,'Growth Data'!$A:$F,3,0)),\"NO\",VLOOKUP($A351+8860000,'Growth Data'!$A:$F,3,0))","v":"NO"},0,null,0,{"$f":"IF(DI351=\"YES\",IF(ISERROR(VLOOKUP($A351+8860000,'Growth Data'!$A:$F,6,0)),0,VLOOKUP($A351+8860000,'Growth Data'!$A:$F,6,0)),0)","v":0},0,null,0,{"$f":"IF(ISERROR(VLOOKUP($A351+8860000,'Growth Data'!$A:$Z,7,0)),0,VLOOKUP($A351+8860000,'Growth Data'!$A:$Z,7,0))","v":0},0,null,"NO",{"$f":"IF(ISERROR(VLOOKUP($A351+8860000,'Growth Data'!$A:$F,4,0)),\"NO\",VLOOKUP($A351+8860000,'Growth Data'!$A:$F,4,0))","v":"NO"},0,null,0,{"$f":"IF(ISERROR(VLOOKUP($A351+8860000,'Growth Data'!$A:$Z,8,0)),0,VLOOKUP($A351+8860000,'Growth Data'!$A:$Z,8,0))","v":0},0,null,0,{"$f":"IF(ISERROR(VLOOKUP($A351+8860000,'Growth Data'!$A:$Z,9,0)),0,VLOOKUP($A351+8860000,'Growth Data'!$A:$Z,9,0))","v":0},0,null,"NO",{"$f":"IF(ISERROR(VLOOKUP($A351+8860000,'Growth Data'!$A:$Z,5,0)),\"NO\",VLOOKUP($A351+8860000,'Growth Data'!$A:$Z,5,0))","v":"NO"},0,null,0,{"$f":"IF(ISERROR(VLOOKUP($A351+8860000,'Growth Data'!$A:$Z,10,0)),0,VLOOKUP($A351+8860000,'Growth Data'!$A:$Z,10,0))","v":0},0,null,0,{"$f":"IF(ISERROR(VLOOKUP($A351+8860000,'Growth Data'!$A:$Z,11,0)),0,VLOOKUP($A351+8860000,'Growth Data'!$A:$Z,11,0))","v":0},0]
[2087,"Morehall Primary",null,"Morehall Primary",null,1,null,547491.09,547491.09,0,null,77448.789999999994,77448.790000000008,0,null,4670.78,4670.7754109589077,4.5890410920037539E-3,null,39609.769999999997,39609.770492957745,-4.9295774806523696E-4,null,120084,120084,0,null,0,0,0,null,0,0,0,null,0,0,0,null,5632,5632,0,null,0,0,0,null,0,0,0,null,0,0,0,null,794936.43,794936.42590391671,4.0960833430290222E-3,null,0,0,0,null,794936.43,794936.42590391671,4.0960833430290222E-3,null,0,null,0,null,null,null,0,null,null,null,0,null,103107.12,103107.1182109248,0,null,4655.1000000000004,0,4655,null,null,null,0,null,null,null,0,null,null,null,0,null,null,null,0,null,null,null,0,null,null,null,0,null,"NO",{"$f":"IF(ISERROR(VLOOKUP($A352+8860000,'Growth Data'!$A:$F,3,0)),\"NO\",VLOOKUP($A352+8860000,'Growth Data'!$A:$F,3,0))","v":"NO"},0,null,0,{"$f":"IF(DI352=\"YES\",IF(ISERROR(VLOOKUP($A352+8860000,'Growth Data'!$A:$F,6,0)),0,VLOOKUP($A352+8860000,'Growth Data'!$A:$F,6,0)),0)","v":0},0,null,0,{"$f":"IF(ISERROR(VLOOKUP($A352+8860000,'Growth Data'!$A:$Z,7,0)),0,VLOOKUP($A352+8860000,'Growth Data'!$A:$Z,7,0))","v":0},0,null,"NO",{"$f":"IF(ISERROR(VLOOKUP($A352+8860000,'Growth Data'!$A:$F,4,0)),\"NO\",VLOOKUP($A352+8860000,'Growth Data'!$A:$F,4,0))","v":"NO"},0,null,0,{"$f":"IF(ISERROR(VLOOKUP($A352+8860000,'Growth Data'!$A:$Z,8,0)),0,VLOOKUP($A352+8860000,'Growth Data'!$A:$Z,8,0))","v":0},0,null,0,{"$f":"IF(ISERROR(VLOOKUP($A352+8860000,'Growth Data'!$A:$Z,9,0)),0,VLOOKUP($A352+8860000,'Growth Data'!$A:$Z,9,0))","v":0},0,null,"NO",{"$f":"IF(ISERROR(VLOOKUP($A352+8860000,'Growth Data'!$A:$Z,5,0)),\"NO\",VLOOKUP($A352+8860000,'Growth Data'!$A:$Z,5,0))","v":"NO"},0,null,0,{"$f":"IF(ISERROR(VLOOKUP($A352+8860000,'Growth Data'!$A:$Z,10,0)),0,VLOOKUP($A352+8860000,'Growth Data'!$A:$Z,10,0))","v":0},0,null,0,{"$f":"IF(ISERROR(VLOOKUP($A352+8860000,'Growth Data'!$A:$Z,11,0)),0,VLOOKUP($A352+8860000,'Growth Data'!$A:$Z,11,0))","v":0},0]
[2090,"Richmond Academy",null,"Richmond Academy",null,1,null,931044.17,931044.17,0,null,292064.55,292064.5500000001,0,null,15470.88,15470.8846692607,-4.6692607011209475E-3,null,119214.5,119214.49518072289,4.8192771064350381E-3,null,120084,120084,0,null,0,0,0,null,0,0,0,null,0,0,0,null,9318.4,9318.4,0,null,0,0,0,null,0,0,0,null,0,0,0,null,1487196.5,1487196.4998499835,1.5001650899648666E-4,null,0,0,0,null,1487196.5,1487196.4998499835,1.5001650899648666E-4,null,0,null,0,null,null,null,0,null,null,null,0,null,355190.91,355190.91215699178,0,null,7916.3,0,7916,null,null,null,0,null,null,null,0,null,null,null,0,null,null,null,0,null,null,null,0,null,null,null,0,null,"NO",{"$f":"IF(ISERROR(VLOOKUP($A353+8860000,'Growth Data'!$A:$F,3,0)),\"NO\",VLOOKUP($A353+8860000,'Growth Data'!$A:$F,3,0))","v":"NO"},0,null,0,{"$f":"IF(DI353=\"YES\",IF(ISERROR(VLOOKUP($A353+8860000,'Growth Data'!$A:$F,6,0)),0,VLOOKUP($A353+8860000,'Growth Data'!$A:$F,6,0)),0)","v":0},0,null,0,{"$f":"IF(ISERROR(VLOOKUP($A353+8860000,'Growth Data'!$A:$Z,7,0)),0,VLOOKUP($A353+8860000,'Growth Data'!$A:$Z,7,0))","v":0},0,null,"NO",{"$f":"IF(ISERROR(VLOOKUP($A353+8860000,'Growth Data'!$A:$F,4,0)),\"NO\",VLOOKUP($A353+8860000,'Growth Data'!$A:$F,4,0))","v":"NO"},0,null,0,{"$f":"IF(ISERROR(VLOOKUP($A353+8860000,'Growth Data'!$A:$Z,8,0)),0,VLOOKUP($A353+8860000,'Growth Data'!$A:$Z,8,0))","v":0},0,null,0,{"$f":"IF(ISERROR(VLOOKUP($A353+8860000,'Growth Data'!$A:$Z,9,0)),0,VLOOKUP($A353+8860000,'Growth Data'!$A:$Z,9,0))","v":0},0,null,"NO",{"$f":"IF(ISERROR(VLOOKUP($A353+8860000,'Growth Data'!$A:$Z,5,0)),\"NO\",VLOOKUP($A353+8860000,'Growth Data'!$A:$Z,5,0))","v":"NO"},0,null,0,{"$f":"IF(ISERROR(VLOOKUP($A353+8860000,'Growth Data'!$A:$Z,10,0)),0,VLOOKUP($A353+8860000,'Growth Data'!$A:$Z,10,0))","v":0},0,null,0,{"$f":"IF(ISERROR(VLOOKUP($A353+8860000,'Growth Data'!$A:$Z,11,0)),0,VLOOKUP($A353+8860000,'Growth Data'!$A:$Z,11,0))","v":0},0]
[2092,"Knockhall Primary School",null,"Knockhall Primary School",null,1,null,1184684.1100000001,1184684.1100000001,0,null,139266.01999999999,139266.02230414739,-2.3041474050842226E-3,null,16593.54,16593.536413994178,3.5860058233083691E-3,null,138984.91,138984.90525974025,4.7402597556356341E-3,null,120084,120084,0,null,0,0,0,null,58865.74,58865.742722386058,-2.7223860597587191E-3,null,0,0,0,null,11468.8,11468.8,0,null,0,0,0,null,0,0,0,null,0,0,0,null,1669947.12,1669947.1167002681,3.299731994047761E-3,null,0,0,0,null,1669947.12,1669947.1167002681,3.299731994047761E-3,null,0,null,0,null,null,null,0,null,null,null,0,null,253456.3,253456.30040417396,0,null,10443.58,0,10444,null,null,null,0,null,null,null,0,null,null,null,0,null,null,null,0,null,null,null,0,null,null,null,0,null,"NO",{"$f":"IF(ISERROR(VLOOKUP($A354+8860000,'Growth Data'!$A:$F,3,0)),\"NO\",VLOOKUP($A354+8860000,'Growth Data'!$A:$F,3,0))","v":"NO"},0,null,0,{"$f":"IF(DI354=\"YES\",IF(ISERROR(VLOOKUP($A354+8860000,'Growth Data'!$A:$F,6,0)),0,VLOOKUP($A354+8860000,'Growth Data'!$A:$F,6,0)),0)","v":0},0,null,0,{"$f":"IF(ISERROR(VLOOKUP($A354+8860000,'Growth Data'!$A:$Z,7,0)),0,VLOOKUP($A354+8860000,'Growth Data'!$A:$Z,7,0))","v":0},0,null,"NO",{"$f":"IF(ISERROR(VLOOKUP($A354+8860000,'Growth Data'!$A:$F,4,0)),\"NO\",VLOOKUP($A354+8860000,'Growth Data'!$A:$F,4,0))","v":"NO"},0,null,0,{"$f":"IF(ISERROR(VLOOKUP($A354+8860000,'Growth Data'!$A:$Z,8,0)),0,VLOOKUP($A354+8860000,'Growth Data'!$A:$Z,8,0))","v":0},0,null,0,{"$f":"IF(ISERROR(VLOOKUP($A354+8860000,'Growth Data'!$A:$Z,9,0)),0,VLOOKUP($A354+8860000,'Growth Data'!$A:$Z,9,0))","v":0},0,null,"NO",{"$f":"IF(ISERROR(VLOOKUP($A354+8860000,'Growth Data'!$A:$Z,5,0)),\"NO\",VLOOKUP($A354+8860000,'Growth Data'!$A:$Z,5,0))","v":"NO"},0,null,0,{"$f":"IF(ISERROR(VLOOKUP($A354+8860000,'Growth Data'!$A:$Z,10,0)),0,VLOOKUP($A354+8860000,'Growth Data'!$A:$Z,10,0))","v":0},0,null,0,{"$f":"IF(ISERROR(VLOOKUP($A354+8860000,'Growth Data'!$A:$Z,11,0)),0,VLOOKUP($A354+8860000,'Growth Data'!$A:$Z,11,0))","v":0},0]
[2093,"Chilmington Green Primary School",null,"Chilmington Green Primary School",null,1,null,312410.17,312410.17,0,null,35699.79,35699.789999999994,0,null,6176.6,6176.5988888888824,1.111111118007102E-3,null,31620.79,31620.791428571425,-1.4285714241850656E-3,null,120084,120084,0,null,0,0,0,null,0,0,0,null,0,0,0,null,2534.4,2534.4,0,null,0,0,0,null,0,0,0,null,0,0,0,null,508525.75,508525.75031746033,-3.1746033346280456E-4,null,0,0,0,null,508525.75,508525.75031746033,-3.1746033346280456E-4,null,0,null,0,null,null,null,0,null,null,null,0,null,65922.64,65922.642624468455,0,null,2656.3,0,2656,null,null,null,0,null,null,null,0,null,null,null,0,null,null,null,0,null,null,null,0,null,null,null,0,null,"NO",{"$f":"IF(ISERROR(VLOOKUP($A355+8860000,'Growth Data'!$A:$F,3,0)),\"NO\",VLOOKUP($A355+8860000,'Growth Data'!$A:$F,3,0))","v":"NO"},0,null,0,{"$f":"IF(DI355=\"YES\",IF(ISERROR(VLOOKUP($A355+8860000,'Growth Data'!$A:$F,6,0)),0,VLOOKUP($A355+8860000,'Growth Data'!$A:$F,6,0)),0)","v":0},0,null,0,{"$f":"IF(ISERROR(VLOOKUP($A355+8860000,'Growth Data'!$A:$Z,7,0)),0,VLOOKUP($A355+8860000,'Growth Data'!$A:$Z,7,0))","v":0},0,null,"NO",{"$f":"IF(ISERROR(VLOOKUP($A355+8860000,'Growth Data'!$A:$F,4,0)),\"NO\",VLOOKUP($A355+8860000,'Growth Data'!$A:$F,4,0))","v":"NO"},0,null,0,{"$f":"IF(ISERROR(VLOOKUP($A355+8860000,'Growth Data'!$A:$Z,8,0)),0,VLOOKUP($A355+8860000,'Growth Data'!$A:$Z,8,0))","v":0},0,null,0,{"$f":"IF(ISERROR(VLOOKUP($A355+8860000,'Growth Data'!$A:$Z,9,0)),0,VLOOKUP($A355+8860000,'Growth Data'!$A:$Z,9,0))","v":0},0,null,"NO",{"$f":"IF(ISERROR(VLOOKUP($A355+8860000,'Growth Data'!$A:$Z,5,0)),\"NO\",VLOOKUP($A355+8860000,'Growth Data'!$A:$Z,5,0))","v":"NO"},0,null,0,{"$f":"IF(ISERROR(VLOOKUP($A355+8860000,'Growth Data'!$A:$Z,10,0)),0,VLOOKUP($A355+8860000,'Growth Data'!$A:$Z,10,0))","v":0},0,null,0,{"$f":"IF(ISERROR(VLOOKUP($A355+8860000,'Growth Data'!$A:$Z,11,0)),0,VLOOKUP($A355+8860000,'Growth Data'!$A:$Z,11,0))","v":0},0]
[2096,"Riverview Junior School",null,"Riverview Junior School",null,1,null,1472348.92,1472348.92,0,null,120996.22,120996.22000000012,-1.1641532182693481E-10,null,9907.02,9907.0200000000077,0,null,137377.18,137377.1776445396,2.3554603976663202E-3,null,120084,120084,0,null,0,0,0,null,0,0,0,null,0,0,0,null,7321.6,7321.6,0,null,0,0,0,null,0,0,0,null,128966.66,128966.66235546037,-2.3554603685624897E-3,null,1997001.6,1997001.6000000003,0,null,0,0,0,null,1997001.6,1997001.6000000003,0,null,0,null,0,null,null,null,0,null,null,null,0,null,369418.46,369418.4623070081,0,null,12518.8,0,12519,null,null,null,0,null,null,null,0,null,null,null,0,null,null,null,0,null,null,null,0,null,null,null,0,null,"NO",{"$f":"IF(ISERROR(VLOOKUP($A356+8860000,'Growth Data'!$A:$F,3,0)),\"NO\",VLOOKUP($A356+8860000,'Growth Data'!$A:$F,3,0))","v":"NO"},0,null,0,{"$f":"IF(DI356=\"YES\",IF(ISERROR(VLOOKUP($A356+8860000,'Growth Data'!$A:$F,6,0)),0,VLOOKUP($A356+8860000,'Growth Data'!$A:$F,6,0)),0)","v":0},0,null,0,{"$f":"IF(ISERROR(VLOOKUP($A356+8860000,'Growth Data'!$A:$Z,7,0)),0,VLOOKUP($A356+8860000,'Growth Data'!$A:$Z,7,0))","v":0},0,null,"NO",{"$f":"IF(ISERROR(VLOOKUP($A356+8860000,'Growth Data'!$A:$F,4,0)),\"NO\",VLOOKUP($A356+8860000,'Growth Data'!$A:$F,4,0))","v":"NO"},0,null,0,{"$f":"IF(ISERROR(VLOOKUP($A356+8860000,'Growth Data'!$A:$Z,8,0)),0,VLOOKUP($A356+8860000,'Growth Data'!$A:$Z,8,0))","v":0},0,null,0,{"$f":"IF(ISERROR(VLOOKUP($A356+8860000,'Growth Data'!$A:$Z,9,0)),0,VLOOKUP($A356+8860000,'Growth Data'!$A:$Z,9,0))","v":0},0,null,"NO",{"$f":"IF(ISERROR(VLOOKUP($A356+8860000,'Growth Data'!$A:$Z,5,0)),\"NO\",VLOOKUP($A356+8860000,'Growth Data'!$A:$Z,5,0))","v":"NO"},0,null,0,{"$f":"IF(ISERROR(VLOOKUP($A356+8860000,'Growth Data'!$A:$Z,10,0)),0,VLOOKUP($A356+8860000,'Growth Data'!$A:$Z,10,0))","v":0},0,null,0,{"$f":"IF(ISERROR(VLOOKUP($A356+8860000,'Growth Data'!$A:$Z,11,0)),0,VLOOKUP($A356+8860000,'Growth Data'!$A:$Z,11,0))","v":0},0]
[2098,"Pilgrims' Way Primary School",null,"Pilgrims' Way Primary School",null,1,null,686683.74,686683.74,0,null,143165.76999999999,143165.76634782605,3.6521739384625107E-3,null,20784.32,20784.315154639153,4.8453608469571918E-3,null,94830.54,94830.535932203391,4.0677966026123613E-3,null,120084,120084,0,null,0,0,0,null,0,0,0,null,0,0,0,null,7493.6,7493.6,0,null,0,0,0,null,0,0,0,null,0,0,0,null,1073041.96,1073041.9574346687,2.5653312914073467E-3,null,0,0,0,null,1073041.96,1073041.9574346687,2.5653312914073467E-3,null,0,null,0,null,null,null,0,null,null,null,0,null,212539.2,212539.1997416768,0,null,5838.6,0,5839,null,null,null,0,null,null,null,0,null,null,null,0,null,null,null,0,null,null,null,0,null,null,null,0,null,"NO",{"$f":"IF(ISERROR(VLOOKUP($A357+8860000,'Growth Data'!$A:$F,3,0)),\"NO\",VLOOKUP($A357+8860000,'Growth Data'!$A:$F,3,0))","v":"NO"},0,null,0,{"$f":"IF(DI357=\"YES\",IF(ISERROR(VLOOKUP($A357+8860000,'Growth Data'!$A:$F,6,0)),0,VLOOKUP($A357+8860000,'Growth Data'!$A:$F,6,0)),0)","v":0},0,null,0,{"$f":"IF(ISERROR(VLOOKUP($A357+8860000,'Growth Data'!$A:$Z,7,0)),0,VLOOKUP($A357+8860000,'Growth Data'!$A:$Z,7,0))","v":0},0,null,"NO",{"$f":"IF(ISERROR(VLOOKUP($A357+8860000,'Growth Data'!$A:$F,4,0)),\"NO\",VLOOKUP($A357+8860000,'Growth Data'!$A:$F,4,0))","v":"NO"},0,null,0,{"$f":"IF(ISERROR(VLOOKUP($A357+8860000,'Growth Data'!$A:$Z,8,0)),0,VLOOKUP($A357+8860000,'Growth Data'!$A:$Z,8,0))","v":0},0,null,0,{"$f":"IF(ISERROR(VLOOKUP($A357+8860000,'Growth Data'!$A:$Z,9,0)),0,VLOOKUP($A357+8860000,'Growth Data'!$A:$Z,9,0))","v":0},0,null,"NO",{"$f":"IF(ISERROR(VLOOKUP($A357+8860000,'Growth Data'!$A:$Z,5,0)),\"NO\",VLOOKUP($A357+8860000,'Growth Data'!$A:$Z,5,0))","v":"NO"},0,null,0,{"$f":"IF(ISERROR(VLOOKUP($A357+8860000,'Growth Data'!$A:$Z,10,0)),0,VLOOKUP($A357+8860000,'Growth Data'!$A:$Z,10,0))","v":0},0,null,0,{"$f":"IF(ISERROR(VLOOKUP($A357+8860000,'Growth Data'!$A:$Z,11,0)),0,VLOOKUP($A357+8860000,'Growth Data'!$A:$Z,11,0))","v":0},0]
[2099,"Edenbridge Primary School",null,"Edenbridge Primary School",null,1,null,1057864.1399999999,1057864.1400000001,0,null,144347.72,144347.71749999988,2.5000001187436283E-3,null,5192.6499999999996,5192.6449655172373,5.0344827623121091E-3,null,122202.18,122202.17608695652,3.9130434743128717E-3,null,120084,120084,0,null,0,0,0,null,53348.62,53348.61697073104,3.0292689625639468E-3,null,0,0,0,null,6415.2,6415.2000000000007,0,null,0,0,0,null,0,0,0,null,0,0,0,null,1509454.5,1509454.4955232048,4.4767952058464289E-3,null,0,0,0,null,1509454.5,1509454.4955232048,4.4767952058464289E-3,null,0,null,0,null,null,null,0,null,null,null,0,null,227595.19,227595.18501911068,0,null,9325.6,0,9326,null,null,null,0,null,null,null,0,null,null,null,0,null,null,null,0,null,null,null,0,null,null,null,0,null,"NO",{"$f":"IF(ISERROR(VLOOKUP($A358+8860000,'Growth Data'!$A:$F,3,0)),\"NO\",VLOOKUP($A358+8860000,'Growth Data'!$A:$F,3,0))","v":"YES"},1,null,0,{"$f":"IF(DI358=\"YES\",IF(ISERROR(VLOOKUP($A358+8860000,'Growth Data'!$A:$F,6,0)),0,VLOOKUP($A358+8860000,'Growth Data'!$A:$F,6,0)),0)","v":60},-60,null,0,{"$f":"IF(ISERROR(VLOOKUP($A358+8860000,'Growth Data'!$A:$Z,7,0)),0,VLOOKUP($A358+8860000,'Growth Data'!$A:$Z,7,0))","v":90},1,null,"NO",{"$f":"IF(ISERROR(VLOOKUP($A358+8860000,'Growth Data'!$A:$F,4,0)),\"NO\",VLOOKUP($A358+8860000,'Growth Data'!$A:$F,4,0))","v":"NO"},0,null,0,{"$f":"IF(ISERROR(VLOOKUP($A358+8860000,'Growth Data'!$A:$Z,8,0)),0,VLOOKUP($A358+8860000,'Growth Data'!$A:$Z,8,0))","v":0},0,null,0,{"$f":"IF(ISERROR(VLOOKUP($A358+8860000,'Growth Data'!$A:$Z,9,0)),0,VLOOKUP($A358+8860000,'Growth Data'!$A:$Z,9,0))","v":0},0,null,"NO",{"$f":"IF(ISERROR(VLOOKUP($A358+8860000,'Growth Data'!$A:$Z,5,0)),\"NO\",VLOOKUP($A358+8860000,'Growth Data'!$A:$Z,5,0))","v":"NO"},0,null,0,{"$f":"IF(ISERROR(VLOOKUP($A358+8860000,'Growth Data'!$A:$Z,10,0)),0,VLOOKUP($A358+8860000,'Growth Data'!$A:$Z,10,0))","v":0},0,null,0,{"$f":"IF(ISERROR(VLOOKUP($A358+8860000,'Growth Data'!$A:$Z,11,0)),0,VLOOKUP($A358+8860000,'Growth Data'!$A:$Z,11,0))","v":0},0]
[2107,"Rosherville Church of England Academy",null,"Rosherville Church of England Academy",null,1,null,436136.97,436136.97000000003,0,null,66965.14,66965.138706293685,1.2937063147546723E-3,null,17316.82,17316.815950413253,4.0495867469871882E-3,null,48717.34,48717.341891891891,-1.8918918940471485E-3,null,120084,120084,0,null,0,0,0,null,0,0,0,null,0,0,0,null,1561.6,1561.6,0,null,0,0,0,null,0,0,0,null,0,0,0,null,690781.87,690781.86654859898,3.451401018537581E-3,null,1687.71,1687.7098972611711,1.0273882890032837E-4,null,692469.58,692469.57644586009,3.5541398683562875E-3,null,0,null,0,null,null,null,0,null,null,null,0,null,122048.95,122048.94875286812,0,null,3708.3,0,3708,null,null,null,0,null,null,null,0,null,null,null,0,null,null,null,0,null,null,null,0,null,null,null,0,null,"NO",{"$f":"IF(ISERROR(VLOOKUP($A359+8860000,'Growth Data'!$A:$F,3,0)),\"NO\",VLOOKUP($A359+8860000,'Growth Data'!$A:$F,3,0))","v":"NO"},0,null,0,{"$f":"IF(DI359=\"YES\",IF(ISERROR(VLOOKUP($A359+8860000,'Growth Data'!$A:$F,6,0)),0,VLOOKUP($A359+8860000,'Growth Data'!$A:$F,6,0)),0)","v":0},0,null,0,{"$f":"IF(ISERROR(VLOOKUP($A359+8860000,'Growth Data'!$A:$Z,7,0)),0,VLOOKUP($A359+8860000,'Growth Data'!$A:$Z,7,0))","v":0},0,null,"NO",{"$f":"IF(ISERROR(VLOOKUP($A359+8860000,'Growth Data'!$A:$F,4,0)),\"NO\",VLOOKUP($A359+8860000,'Growth Data'!$A:$F,4,0))","v":"NO"},0,null,0,{"$f":"IF(ISERROR(VLOOKUP($A359+8860000,'Growth Data'!$A:$Z,8,0)),0,VLOOKUP($A359+8860000,'Growth Data'!$A:$Z,8,0))","v":0},0,null,0,{"$f":"IF(ISERROR(VLOOKUP($A359+8860000,'Growth Data'!$A:$Z,9,0)),0,VLOOKUP($A359+8860000,'Growth Data'!$A:$Z,9,0))","v":0},0,null,"NO",{"$f":"IF(ISERROR(VLOOKUP($A359+8860000,'Growth Data'!$A:$Z,5,0)),\"NO\",VLOOKUP($A359+8860000,'Growth Data'!$A:$Z,5,0))","v":"NO"},0,null,0,{"$f":"IF(ISERROR(VLOOKUP($A359+8860000,'Growth Data'!$A:$Z,10,0)),0,VLOOKUP($A359+8860000,'Growth Data'!$A:$Z,10,0))","v":0},0,null,0,{"$f":"IF(ISERROR(VLOOKUP($A359+8860000,'Growth Data'!$A:$Z,11,0)),0,VLOOKUP($A359+8860000,'Growth Data'!$A:$Z,11,0))","v":0},0]
[2110,"Culverstone Green Primary School",null,"Culverstone Green Primary School",null,1,null,624820.34,624820.34,0,null,21253.09,21253.087864077672,2.1359223283070605E-3,null,1300.3399999999999,1300.3366081871302,3.3918128697223437E-3,null,62670.12,62670.122771084338,-2.7710843351087533E-3,null,120084,120084,0,null,0,0,0,null,0,0,0,null,0,0,0,null,7731.2,7731.2,0,null,0,0,0,null,0,0,0,null,14232.11,14232.112756650895,-2.7566508942982182E-3,null,852091.2,852091.2,0,null,0,0,0,null,852091.2,852091.2,0,null,0,null,0,null,null,null,0,null,null,null,0,null,98325.6,98325.602307008186,0,null,5312.6,0,5313,null,null,null,0,null,null,null,0,null,null,null,0,null,null,null,0,null,null,null,0,null,null,null,0,null,"NO",{"$f":"IF(ISERROR(VLOOKUP($A360+8860000,'Growth Data'!$A:$F,3,0)),\"NO\",VLOOKUP($A360+8860000,'Growth Data'!$A:$F,3,0))","v":"NO"},0,null,0,{"$f":"IF(DI360=\"YES\",IF(ISERROR(VLOOKUP($A360+8860000,'Growth Data'!$A:$F,6,0)),0,VLOOKUP($A360+8860000,'Growth Data'!$A:$F,6,0)),0)","v":0},0,null,0,{"$f":"IF(ISERROR(VLOOKUP($A360+8860000,'Growth Data'!$A:$Z,7,0)),0,VLOOKUP($A360+8860000,'Growth Data'!$A:$Z,7,0))","v":0},0,null,"NO",{"$f":"IF(ISERROR(VLOOKUP($A360+8860000,'Growth Data'!$A:$F,4,0)),\"NO\",VLOOKUP($A360+8860000,'Growth Data'!$A:$F,4,0))","v":"NO"},0,null,0,{"$f":"IF(ISERROR(VLOOKUP($A360+8860000,'Growth Data'!$A:$Z,8,0)),0,VLOOKUP($A360+8860000,'Growth Data'!$A:$Z,8,0))","v":0},0,null,0,{"$f":"IF(ISERROR(VLOOKUP($A360+8860000,'Growth Data'!$A:$Z,9,0)),0,VLOOKUP($A360+8860000,'Growth Data'!$A:$Z,9,0))","v":0},0,null,"NO",{"$f":"IF(ISERROR(VLOOKUP($A360+8860000,'Growth Data'!$A:$Z,5,0)),\"NO\",VLOOKUP($A360+8860000,'Growth Data'!$A:$Z,5,0))","v":"NO"},0,null,0,{"$f":"IF(ISERROR(VLOOKUP($A360+8860000,'Growth Data'!$A:$Z,10,0)),0,VLOOKUP($A360+8860000,'Growth Data'!$A:$Z,10,0))","v":0},0,null,0,{"$f":"IF(ISERROR(VLOOKUP($A360+8860000,'Growth Data'!$A:$Z,11,0)),0,VLOOKUP($A360+8860000,'Growth Data'!$A:$Z,11,0))","v":0},0]
[2112,"River Mill Primary School",null,"River Mill Primary School",null,1,null,440776.73,440776.72500000003,4.999999946448952E-3,null,60415.25,60415.246008403366,3.9915966335684061E-3,null,31903.96,31903.962711864395,-2.7118643956782762E-3,null,48045.3,48045.3,0,null,120084,120084,0,null,0,0,0,null,25805.09,25805.088600905859,1.3990941406518687E-3,null,0,0,0,null,0,0,0,null,0,0,0,null,0,0,0,null,0,0,0,null,727030.32,727030.32232117373,-2.3211737861856818E-3,null,0,0,0,null,727030.32,727030.32232117373,-2.3211737861856818E-3,null,0,null,0,null,null,null,0,null,null,null,0,null,146850.85999999999,146850.85824343262,0,null,3885.67,0,3886,null,null,null,0,null,null,null,0,null,null,null,0,null,null,null,0,null,null,null,0,null,null,null,0,null,"NO",{"$f":"IF(ISERROR(VLOOKUP($A361+8860000,'Growth Data'!$A:$F,3,0)),\"NO\",VLOOKUP($A361+8860000,'Growth Data'!$A:$F,3,0))","v":"NO"},0,null,0,{"$f":"IF(DI361=\"YES\",IF(ISERROR(VLOOKUP($A361+8860000,'Growth Data'!$A:$F,6,0)),0,VLOOKUP($A361+8860000,'Growth Data'!$A:$F,6,0)),0)","v":0},0,null,0,{"$f":"IF(ISERROR(VLOOKUP($A361+8860000,'Growth Data'!$A:$Z,7,0)),0,VLOOKUP($A361+8860000,'Growth Data'!$A:$Z,7,0))","v":0},0,null,"NO",{"$f":"IF(ISERROR(VLOOKUP($A361+8860000,'Growth Data'!$A:$F,4,0)),\"NO\",VLOOKUP($A361+8860000,'Growth Data'!$A:$F,4,0))","v":"NO"},0,null,0,{"$f":"IF(ISERROR(VLOOKUP($A361+8860000,'Growth Data'!$A:$Z,8,0)),0,VLOOKUP($A361+8860000,'Growth Data'!$A:$Z,8,0))","v":0},0,null,0,{"$f":"IF(ISERROR(VLOOKUP($A361+8860000,'Growth Data'!$A:$Z,9,0)),0,VLOOKUP($A361+8860000,'Growth Data'!$A:$Z,9,0))","v":0},0,null,"NO",{"$f":"IF(ISERROR(VLOOKUP($A361+8860000,'Growth Data'!$A:$Z,5,0)),\"NO\",VLOOKUP($A361+8860000,'Growth Data'!$A:$Z,5,0))","v":"NO"},0,null,0,{"$f":"IF(ISERROR(VLOOKUP($A361+8860000,'Growth Data'!$A:$Z,10,0)),0,VLOOKUP($A361+8860000,'Growth Data'!$A:$Z,10,0))","v":0},0,null,0,{"$f":"IF(ISERROR(VLOOKUP($A361+8860000,'Growth Data'!$A:$Z,11,0)),0,VLOOKUP($A361+8860000,'Growth Data'!$A:$Z,11,0))","v":0},0]
[2114,"Cage Green Primary School",null,"Cage Green Primary School",null,1,null,856808.09,856808.09,0,null,115478.25,115478.24496699056,5.0330094381934032E-3,null,5532.75,5532.7510887096832,-1.0887096832448151E-3,null,89421.2,89421.197468879676,2.5311203207820654E-3,null,120084,120084,0,null,0,0,0,null,0,0,0,null,0,0,0,null,7731.2,7731.2,0,null,0,0,0,null,0,0,0,null,0,0,0,null,1195055.48,1195055.4835245798,-3.524579806253314E-3,null,0,0,0,null,1195055.48,1195055.4835245798,-3.524579806253314E-3,null,0,null,0,null,null,null,0,null,null,null,0,null,177079.74,177079.7358315881,0,null,7285.1,0,7285,null,null,null,0,null,null,null,0,null,null,null,0,null,null,null,0,null,null,null,0,null,null,null,0,null,"NO",{"$f":"IF(ISERROR(VLOOKUP($A362+8860000,'Growth Data'!$A:$F,3,0)),\"NO\",VLOOKUP($A362+8860000,'Growth Data'!$A:$F,3,0))","v":"NO"},0,null,0,{"$f":"IF(DI362=\"YES\",IF(ISERROR(VLOOKUP($A362+8860000,'Growth Data'!$A:$F,6,0)),0,VLOOKUP($A362+8860000,'Growth Data'!$A:$F,6,0)),0)","v":0},0,null,0,{"$f":"IF(ISERROR(VLOOKUP($A362+8860000,'Growth Data'!$A:$Z,7,0)),0,VLOOKUP($A362+8860000,'Growth Data'!$A:$Z,7,0))","v":0},0,null,"NO",{"$f":"IF(ISERROR(VLOOKUP($A362+8860000,'Growth Data'!$A:$F,4,0)),\"NO\",VLOOKUP($A362+8860000,'Growth Data'!$A:$F,4,0))","v":"NO"},0,null,0,{"$f":"IF(ISERROR(VLOOKUP($A362+8860000,'Growth Data'!$A:$Z,8,0)),0,VLOOKUP($A362+8860000,'Growth Data'!$A:$Z,8,0))","v":0},0,null,0,{"$f":"IF(ISERROR(VLOOKUP($A362+8860000,'Growth Data'!$A:$Z,9,0)),0,VLOOKUP($A362+8860000,'Growth Data'!$A:$Z,9,0))","v":0},0,null,"NO",{"$f":"IF(ISERROR(VLOOKUP($A362+8860000,'Growth Data'!$A:$Z,5,0)),\"NO\",VLOOKUP($A362+8860000,'Growth Data'!$A:$Z,5,0))","v":"NO"},0,null,0,{"$f":"IF(ISERROR(VLOOKUP($A362+8860000,'Growth Data'!$A:$Z,10,0)),0,VLOOKUP($A362+8860000,'Growth Data'!$A:$Z,10,0))","v":0},0,null,0,{"$f":"IF(ISERROR(VLOOKUP($A362+8860000,'Growth Data'!$A:$Z,11,0)),0,VLOOKUP($A362+8860000,'Growth Data'!$A:$Z,11,0))","v":0},0]
[2117,"Dartford Bridge Community Primary School",null,"Dartford Bridge Community Primary School",null,1,null,1292945.06,1292945.06,0,null,54002.96,54002.961127098344,-1.1270983450231142E-3,null,49482.83,49482.828324022448,1.6759775535319932E-3,null,115824.15,115824.14850574714,1.4942528505343944E-3,null,120084,120084,0,null,0,0,0,null,60070.080000000002,60070.075124812742,4.8751872600405477E-3,null,0,0,0,null,10050.36,10050.36,0,null,0,0,0,null,0,0,0,null,54830.93,54830.92691831923,3.0816807702649385E-3,null,1757290.36,1757290.36,0,null,0,0,0,null,1757290.36,1757290.36,0,null,0,null,0,null,null,null,0,null,null,null,0,null,270062.84999999998,270062.85192790593,0,null,11397.96,0,11398,null,null,null,0,null,null,null,0,null,null,null,0,null,null,null,0,null,null,null,0,null,null,null,0,null,"NO",{"$f":"IF(ISERROR(VLOOKUP($A363+8860000,'Growth Data'!$A:$F,3,0)),\"NO\",VLOOKUP($A363+8860000,'Growth Data'!$A:$F,3,0))","v":"NO"},0,null,0,{"$f":"IF(DI363=\"YES\",IF(ISERROR(VLOOKUP($A363+8860000,'Growth Data'!$A:$F,6,0)),0,VLOOKUP($A363+8860000,'Growth Data'!$A:$F,6,0)),0)","v":0},0,null,0,{"$f":"IF(ISERROR(VLOOKUP($A363+8860000,'Growth Data'!$A:$Z,7,0)),0,VLOOKUP($A363+8860000,'Growth Data'!$A:$Z,7,0))","v":0},0,null,"NO",{"$f":"IF(ISERROR(VLOOKUP($A363+8860000,'Growth Data'!$A:$F,4,0)),\"NO\",VLOOKUP($A363+8860000,'Growth Data'!$A:$F,4,0))","v":"NO"},0,null,0,{"$f":"IF(ISERROR(VLOOKUP($A363+8860000,'Growth Data'!$A:$Z,8,0)),0,VLOOKUP($A363+8860000,'Growth Data'!$A:$Z,8,0))","v":0},0,null,0,{"$f":"IF(ISERROR(VLOOKUP($A363+8860000,'Growth Data'!$A:$Z,9,0)),0,VLOOKUP($A363+8860000,'Growth Data'!$A:$Z,9,0))","v":0},0,null,"NO",{"$f":"IF(ISERROR(VLOOKUP($A363+8860000,'Growth Data'!$A:$Z,5,0)),\"NO\",VLOOKUP($A363+8860000,'Growth Data'!$A:$Z,5,0))","v":"NO"},0,null,0,{"$f":"IF(ISERROR(VLOOKUP($A363+8860000,'Growth Data'!$A:$Z,10,0)),0,VLOOKUP($A363+8860000,'Growth Data'!$A:$Z,10,0))","v":0},0,null,0,{"$f":"IF(ISERROR(VLOOKUP($A363+8860000,'Growth Data'!$A:$Z,11,0)),0,VLOOKUP($A363+8860000,'Growth Data'!$A:$Z,11,0))","v":0},0]
[2118,"St Katherine's School & Nursery",null,"St Katherine's School & Nursery",null,1,null,1627007.42,1627007.42,0,null,170469.35,170469.35244897954,-2.4489795323461294E-3,null,3834.51,3834.505165562919,4.8344370811719273E-3,null,107994.48,107994.47743157895,2.5684210413601249E-3,null,120084,120084,0,null,0,0,0,null,0,0,0,null,0,0,0,null,14191.49,14191.49,0,null,0,0,0,null,0,0,0,null,169290.25,169290.24495387869,5.0461213104426861E-3,null,2212871.4900000002,2212871.4900000002,0,null,0,0,0,null,2212871.4900000002,2212871.4900000002,0,null,0,null,0,null,null,null,0,null,null,null,0,null,403505.88,403505.88230700832,0,null,13833.8,0,13834,null,null,null,0,null,null,null,0,null,null,null,0,null,null,null,0,null,null,null,0,null,null,null,0,null,"NO",{"$f":"IF(ISERROR(VLOOKUP($A364+8860000,'Growth Data'!$A:$F,3,0)),\"NO\",VLOOKUP($A364+8860000,'Growth Data'!$A:$F,3,0))","v":"NO"},0,null,0,{"$f":"IF(DI364=\"YES\",IF(ISERROR(VLOOKUP($A364+8860000,'Growth Data'!$A:$F,6,0)),0,VLOOKUP($A364+8860000,'Growth Data'!$A:$F,6,0)),0)","v":0},0,null,0,{"$f":"IF(ISERROR(VLOOKUP($A364+8860000,'Growth Data'!$A:$Z,7,0)),0,VLOOKUP($A364+8860000,'Growth Data'!$A:$Z,7,0))","v":0},0,null,"NO",{"$f":"IF(ISERROR(VLOOKUP($A364+8860000,'Growth Data'!$A:$F,4,0)),\"NO\",VLOOKUP($A364+8860000,'Growth Data'!$A:$F,4,0))","v":"NO"},0,null,0,{"$f":"IF(ISERROR(VLOOKUP($A364+8860000,'Growth Data'!$A:$Z,8,0)),0,VLOOKUP($A364+8860000,'Growth Data'!$A:$Z,8,0))","v":0},0,null,0,{"$f":"IF(ISERROR(VLOOKUP($A364+8860000,'Growth Data'!$A:$Z,9,0)),0,VLOOKUP($A364+8860000,'Growth Data'!$A:$Z,9,0))","v":0},0,null,"NO",{"$f":"IF(ISERROR(VLOOKUP($A364+8860000,'Growth Data'!$A:$Z,5,0)),\"NO\",VLOOKUP($A364+8860000,'Growth Data'!$A:$Z,5,0))","v":"NO"},0,null,0,{"$f":"IF(ISERROR(VLOOKUP($A364+8860000,'Growth Data'!$A:$Z,10,0)),0,VLOOKUP($A364+8860000,'Growth Data'!$A:$Z,10,0))","v":0},0,null,0,{"$f":"IF(ISERROR(VLOOKUP($A364+8860000,'Growth Data'!$A:$Z,11,0)),0,VLOOKUP($A364+8860000,'Growth Data'!$A:$Z,11,0))","v":0},0]
[2126,"Sunny Bank Primary School",null,"Sunny Bank Primary School",null,1,null,745453.97,745453.97,0,null,184155.69,184155.68999999994,0,null,12664.5,12664.50155778895,-1.5577889498672448E-3,null,97148.81,97148.810725388597,-7.2538859967608005E-4,null,120084,120084,0,null,0,0,0,null,0,0,0,null,0,0,0,null,24202,24202,0,null,0,0,0,null,0,0,0,null,0,0,0,null,1183708.97,1183708.9722831775,-2.2831775713711977E-3,null,6317.57,6317.5736285947496,-3.6285947498981841E-3,null,1190026.55,1190026.5459117722,4.0882278699427843E-3,null,0,null,0,null,null,null,0,null,null,null,0,null,246219.72,246219.71821878041,0,null,6338.3,0,6338,null,null,null,0,null,null,null,0,null,null,null,0,null,null,null,0,null,null,null,0,null,null,null,0,null,"NO",{"$f":"IF(ISERROR(VLOOKUP($A365+8860000,'Growth Data'!$A:$F,3,0)),\"NO\",VLOOKUP($A365+8860000,'Growth Data'!$A:$F,3,0))","v":"NO"},0,null,0,{"$f":"IF(DI365=\"YES\",IF(ISERROR(VLOOKUP($A365+8860000,'Growth Data'!$A:$F,6,0)),0,VLOOKUP($A365+8860000,'Growth Data'!$A:$F,6,0)),0)","v":0},0,null,0,{"$f":"IF(ISERROR(VLOOKUP($A365+8860000,'Growth Data'!$A:$Z,7,0)),0,VLOOKUP($A365+8860000,'Growth Data'!$A:$Z,7,0))","v":0},0,null,"NO",{"$f":"IF(ISERROR(VLOOKUP($A365+8860000,'Growth Data'!$A:$F,4,0)),\"NO\",VLOOKUP($A365+8860000,'Growth Data'!$A:$F,4,0))","v":"NO"},0,null,0,{"$f":"IF(ISERROR(VLOOKUP($A365+8860000,'Growth Data'!$A:$Z,8,0)),0,VLOOKUP($A365+8860000,'Growth Data'!$A:$Z,8,0))","v":0},0,null,0,{"$f":"IF(ISERROR(VLOOKUP($A365+8860000,'Growth Data'!$A:$Z,9,0)),0,VLOOKUP($A365+8860000,'Growth Data'!$A:$Z,9,0))","v":0},0,null,"NO",{"$f":"IF(ISERROR(VLOOKUP($A365+8860000,'Growth Data'!$A:$Z,5,0)),\"NO\",VLOOKUP($A365+8860000,'Growth Data'!$A:$Z,5,0))","v":"NO"},0,null,0,{"$f":"IF(ISERROR(VLOOKUP($A365+8860000,'Growth Data'!$A:$Z,10,0)),0,VLOOKUP($A365+8860000,'Growth Data'!$A:$Z,10,0))","v":0},0,null,0,{"$f":"IF(ISERROR(VLOOKUP($A365+8860000,'Growth Data'!$A:$Z,11,0)),0,VLOOKUP($A365+8860000,'Growth Data'!$A:$Z,11,0))","v":0},0]
[2127,"Paddock Wood Primary Academy",null,"Paddock Wood Primary Academy",null,1,null,1877554.19,1877554.19,0,null,98551.039999999994,98551.041877366166,-1.8773661722661927E-3,null,3767.9,3767.895451127818,4.548872182112973E-3,null,155239.63,155239.62802656548,1.9734345260076225E-3,null,120084,120084,0,null,0,0,0,null,0,0,0,null,0,0,0,null,12083.2,12083.2,0,null,0,0,0,null,0,0,0,null,282063.24,282063.24464494066,-4.6449406654573977E-3,null,2549343.2000000002,2549343.2000000002,0,null,0,0,0,null,2549343.2000000002,2549343.2000000002,0,null,0,null,0,null,null,null,0,null,null,null,0,null,503047.11,503047.11230700818,0,null,15964.1,0,15964,null,null,null,0,null,null,null,0,null,null,null,0,null,null,null,0,null,null,null,0,null,null,null,0,null,"NO",{"$f":"IF(ISERROR(VLOOKUP($A366+8860000,'Growth Data'!$A:$F,3,0)),\"NO\",VLOOKUP($A366+8860000,'Growth Data'!$A:$F,3,0))","v":"NO"},0,null,0,{"$f":"IF(DI366=\"YES\",IF(ISERROR(VLOOKUP($A366+8860000,'Growth Data'!$A:$F,6,0)),0,VLOOKUP($A366+8860000,'Growth Data'!$A:$F,6,0)),0)","v":0},0,null,0,{"$f":"IF(ISERROR(VLOOKUP($A366+8860000,'Growth Data'!$A:$Z,7,0)),0,VLOOKUP($A366+8860000,'Growth Data'!$A:$Z,7,0))","v":0},0,null,"NO",{"$f":"IF(ISERROR(VLOOKUP($A366+8860000,'Growth Data'!$A:$F,4,0)),\"NO\",VLOOKUP($A366+8860000,'Growth Data'!$A:$F,4,0))","v":"NO"},0,null,0,{"$f":"IF(ISERROR(VLOOKUP($A366+8860000,'Growth Data'!$A:$Z,8,0)),0,VLOOKUP($A366+8860000,'Growth Data'!$A:$Z,8,0))","v":0},0,null,0,{"$f":"IF(ISERROR(VLOOKUP($A366+8860000,'Growth Data'!$A:$Z,9,0)),0,VLOOKUP($A366+8860000,'Growth Data'!$A:$Z,9,0))","v":0},0,null,"NO",{"$f":"IF(ISERROR(VLOOKUP($A366+8860000,'Growth Data'!$A:$Z,5,0)),\"NO\",VLOOKUP($A366+8860000,'Growth Data'!$A:$Z,5,0))","v":"NO"},0,null,0,{"$f":"IF(ISERROR(VLOOKUP($A366+8860000,'Growth Data'!$A:$Z,10,0)),0,VLOOKUP($A366+8860000,'Growth Data'!$A:$Z,10,0))","v":0},0,null,0,{"$f":"IF(ISERROR(VLOOKUP($A366+8860000,'Growth Data'!$A:$Z,11,0)),0,VLOOKUP($A366+8860000,'Growth Data'!$A:$Z,11,0))","v":0},0]
[2129,"Springhead Park Primary School",null,"Springhead Park Primary School",null,1,null,393090.35,393090.35416666669,-4.1666667093522847E-3,null,33331.1,33331.096195652164,3.8043478343752213E-3,null,11314.7,11314.696384803925,3.6151960757706547E-3,null,27850.82,27850.820833333339,-8.3333333896007389E-4,null,120084,120084,0,null,0,0,0,null,0,0,0,null,0,0,0,null,0,0,0,null,0,0,0,null,0,0,0,null,0,0,0,null,585670.97,585670.96758045605,2.4195439182221889E-3,null,0,64188.702556686767,-64188.702556686767,null,585670.97,649859.67013714276,-64188.70013714279,null,0,null,0,null,null,null,0,null,null,null,{"$f":"BX367-BY367","v":0},null,75170.87,139359.56958183215,{"$f":"ROUND(CB367-CC367,0)","v":-64189},null,3342.29,0,{"$f":"ROUND(CF367-CG367,0)","v":3342},null,null,null,{"$f":"ROUND(CJ367-CK367,0)","v":0},null,null,null,{"$f":"ROUND(CN367-CO367,0)","v":0},null,null,null,{"$f":"ROUND(CR367-CS367,0)","v":0},null,null,null,{"$f":"ROUND(CV367-CW367,0)","v":0},null,null,null,{"$f":"ROUND(CZ367-DA367,0)","v":0},null,null,null,{"$f":"ROUND(DD367-DE367,0)","v":0},null,"NO",{"$f":"IF(ISERROR(VLOOKUP($A367+8860000,'Growth Data'!$A:$F,3,0)),\"NO\",VLOOKUP($A367+8860000,'Growth Data'!$A:$F,3,0))","v":"NO"},{"$f":"IF(DH367=DI367,0,1)","v":0},null,0,{"$f":"IF(DI367=\"YES\",IF(ISERROR(VLOOKUP($A367+8860000,'Growth Data'!$A:$F,6,0)),0,VLOOKUP($A367+8860000,'Growth Data'!$A:$F,6,0)),0)","v":0},{"$f":"ROUND(DL367-DM367,0)","v":0},null,0,{"$f":"IF(ISERROR(VLOOKUP($A367+8860000,'Growth Data'!$A:$Z,7,0)),0,VLOOKUP($A367+8860000,'Growth Data'!$A:$Z,7,0))","v":0},{"$f":"IF(DP367=DQ367,0,1)","v":0},null,"NO",{"$f":"IF(ISERROR(VLOOKUP($A367+8860000,'Growth Data'!$A:$F,4,0)),\"NO\",VLOOKUP($A367+8860000,'Growth Data'!$A:$F,4,0))","v":"NO"},{"$f":"IF(DT367=DU367,0,1)","v":0},null,0,{"$f":"IF(ISERROR(VLOOKUP($A367+8860000,'Growth Data'!$A:$Z,8,0)),0,VLOOKUP($A367+8860000,'Growth Data'!$A:$Z,8,0))","v":0},{"$f":"IF(DX367=DY367,0,1)","v":0},null,0,{"$f":"IF(ISERROR(VLOOKUP($A367+8860000,'Growth Data'!$A:$Z,9,0)),0,VLOOKUP($A367+8860000,'Growth Data'!$A:$Z,9,0))","v":0},{"$f":"IF(EB367=EC367,0,1)","v":0},null,"NO",{"$f":"IF(ISERROR(VLOOKUP($A367+8860000,'Growth Data'!$A:$Z,5,0)),\"NO\",VLOOKUP($A367+8860000,'Growth Data'!$A:$Z,5,0))","v":"NO"},{"$f":"IF(EF367=EG367,0,1)","v":0},null,0,{"$f":"IF(ISERROR(VLOOKUP($A367+8860000,'Growth Data'!$A:$Z,10,0)),0,VLOOKUP($A367+8860000,'Growth Data'!$A:$Z,10,0))","v":0},{"$f":"IF(EJ367=EK367,0,1)","v":0},null,0,{"$f":"IF(ISERROR(VLOOKUP($A367+8860000,'Growth Data'!$A:$Z,11,0)),0,VLOOKUP($A367+8860000,'Growth Data'!$A:$Z,11,0))","v":0},{"$f":"IF(EN367=EO367,0,1)","v":0}]
[2131,"Bearsted Primary Academy",null,"Bearsted Primary Academy",null,1,null,136872.76999999999,136872.77249999999,-2.5000000023283064E-3,null,8165.84,8165.8382692307832,1.7307692169197253E-3,null,0,0,0,null,0,0,0,null,120084,120084,0,null,0,0,0,null,0,0,0,null,0,0,0,null,0,0,0,null,0,0,0,null,0,0,0,null,0,0,0,null,265122.61,265122.61076923076,-7.6923076994717121E-4,null,0,29956.153139590606,-29956.153139590606,null,265122.61,295078.76390882139,-29956.153908821405,null,0,null,0,null,null,null,0,null,null,null,0,null,12311.76,42267.909100444915,-29956,null,1163.78,0,1164,null,null,null,0,null,null,null,0,null,null,null,0,null,null,null,0,null,null,null,0,null,null,null,0,null,"NO",{"$f":"IF(ISERROR(VLOOKUP($A368+8860000,'Growth Data'!$A:$F,3,0)),\"NO\",VLOOKUP($A368+8860000,'Growth Data'!$A:$F,3,0))","v":"NO"},0,null,0,{"$f":"IF(DI368=\"YES\",IF(ISERROR(VLOOKUP($A368+8860000,'Growth Data'!$A:$F,6,0)),0,VLOOKUP($A368+8860000,'Growth Data'!$A:$F,6,0)),0)","v":0},0,null,0,{"$f":"IF(ISERROR(VLOOKUP($A368+8860000,'Growth Data'!$A:$Z,7,0)),0,VLOOKUP($A368+8860000,'Growth Data'!$A:$Z,7,0))","v":0},0,null,"NO",{"$f":"IF(ISERROR(VLOOKUP($A368+8860000,'Growth Data'!$A:$F,4,0)),\"NO\",VLOOKUP($A368+8860000,'Growth Data'!$A:$F,4,0))","v":"NO"},0,null,0,{"$f":"IF(ISERROR(VLOOKUP($A368+8860000,'Growth Data'!$A:$Z,8,0)),0,VLOOKUP($A368+8860000,'Growth Data'!$A:$Z,8,0))","v":0},0,null,0,{"$f":"IF(ISERROR(VLOOKUP($A368+8860000,'Growth Data'!$A:$Z,9,0)),0,VLOOKUP($A368+8860000,'Growth Data'!$A:$Z,9,0))","v":0},0,null,"NO",{"$f":"IF(ISERROR(VLOOKUP($A368+8860000,'Growth Data'!$A:$Z,5,0)),\"NO\",VLOOKUP($A368+8860000,'Growth Data'!$A:$Z,5,0))","v":"NO"},0,null,0,{"$f":"IF(ISERROR(VLOOKUP($A368+8860000,'Growth Data'!$A:$Z,10,0)),0,VLOOKUP($A368+8860000,'Growth Data'!$A:$Z,10,0))","v":0},0,null,0,{"$f":"IF(ISERROR(VLOOKUP($A368+8860000,'Growth Data'!$A:$Z,11,0)),0,VLOOKUP($A368+8860000,'Growth Data'!$A:$Z,11,0))","v":0},0]
[2135,"Horsmonden Primary Academy",null,"Horsmonden Primary Academy",null,1,null,504186.71,504186.71,0,null,13117.33,13117.328022598867,1.9774011325353058E-3,null,3010.52,3010.522483221479,-2.4832214789967111E-3,null,35722.1,35722.101999999999,-2.0000000004074536E-3,null,120084,120084,0,null,0,0,0,null,0,0,0,null,0,0,0,null,3840,3840,0,null,0,0,0,null,0,0,0,null,5219.34,5219.337494179621,2.5058203791559208E-3,null,685180,685180,0,null,0,0,0,null,685180,685180,0,null,0,null,0,null,null,null,0,null,null,null,0,null,56399.55,56399.552307008118,0,null,4286.8999999999996,0,4287,null,null,null,0,null,null,null,0,null,null,null,0,null,null,null,0,null,null,null,0,null,null,null,0,null,"NO",{"$f":"IF(ISERROR(VLOOKUP($A369+8860000,'Growth Data'!$A:$F,3,0)),\"NO\",VLOOKUP($A369+8860000,'Growth Data'!$A:$F,3,0))","v":"NO"},0,null,0,{"$f":"IF(DI369=\"YES\",IF(ISERROR(VLOOKUP($A369+8860000,'Growth Data'!$A:$F,6,0)),0,VLOOKUP($A369+8860000,'Growth Data'!$A:$F,6,0)),0)","v":0},0,null,0,{"$f":"IF(ISERROR(VLOOKUP($A369+8860000,'Growth Data'!$A:$Z,7,0)),0,VLOOKUP($A369+8860000,'Growth Data'!$A:$Z,7,0))","v":0},0,null,"NO",{"$f":"IF(ISERROR(VLOOKUP($A369+8860000,'Growth Data'!$A:$F,4,0)),\"NO\",VLOOKUP($A369+8860000,'Growth Data'!$A:$F,4,0))","v":"NO"},0,null,0,{"$f":"IF(ISERROR(VLOOKUP($A369+8860000,'Growth Data'!$A:$Z,8,0)),0,VLOOKUP($A369+8860000,'Growth Data'!$A:$Z,8,0))","v":0},0,null,0,{"$f":"IF(ISERROR(VLOOKUP($A369+8860000,'Growth Data'!$A:$Z,9,0)),0,VLOOKUP($A369+8860000,'Growth Data'!$A:$Z,9,0))","v":0},0,null,"NO",{"$f":"IF(ISERROR(VLOOKUP($A369+8860000,'Growth Data'!$A:$Z,5,0)),\"NO\",VLOOKUP($A369+8860000,'Growth Data'!$A:$Z,5,0))","v":"NO"},0,null,0,{"$f":"IF(ISERROR(VLOOKUP($A369+8860000,'Growth Data'!$A:$Z,10,0)),0,VLOOKUP($A369+8860000,'Growth Data'!$A:$Z,10,0))","v":0},0,null,0,{"$f":"IF(ISERROR(VLOOKUP($A369+8860000,'Growth Data'!$A:$Z,11,0)),0,VLOOKUP($A369+8860000,'Growth Data'!$A:$Z,11,0))","v":0},0]
[2140,"Ebbsfleet Green Primary School",null,"Ebbsfleet Green Primary School",null,1,null,239720.68,239720.67500000002,4.9999999755527824E-3,null,3190.29,3190.2874999999949,2.5000000050567905E-3,null,0,0,0,null,33968.870000000003,33968.870000000003,0,null,120084,120084,0,null,0,0,0,null,14608.27,14608.269036,9.6400000074936543E-4,null,0,0,0,null,0,0,0,null,0,0,0,null,0,0,0,null,0,0,0,null,411572.1,411572.10153600003,-1.5360000543296337E-3,null,0,30270.767213142855,-30270.767213142855,null,411572.1,441842.86874914286,-30270.768749142881,null,0,null,0,null,null,null,0,null,null,null,0,null,44991.13,75261.894309048905,-30271,null,2113.2600000000002,0,2113,null,null,null,0,null,null,null,0,null,null,null,0,null,null,null,0,null,null,null,0,null,null,null,0,null,"NO",{"$f":"IF(ISERROR(VLOOKUP($A370+8860000,'Growth Data'!$A:$F,3,0)),\"NO\",VLOOKUP($A370+8860000,'Growth Data'!$A:$F,3,0))","v":"NO"},0,null,0,{"$f":"IF(DI370=\"YES\",IF(ISERROR(VLOOKUP($A370+8860000,'Growth Data'!$A:$F,6,0)),0,VLOOKUP($A370+8860000,'Growth Data'!$A:$F,6,0)),0)","v":0},0,null,0,{"$f":"IF(ISERROR(VLOOKUP($A370+8860000,'Growth Data'!$A:$Z,7,0)),0,VLOOKUP($A370+8860000,'Growth Data'!$A:$Z,7,0))","v":0},0,null,"NO",{"$f":"IF(ISERROR(VLOOKUP($A370+8860000,'Growth Data'!$A:$F,4,0)),\"NO\",VLOOKUP($A370+8860000,'Growth Data'!$A:$F,4,0))","v":"NO"},0,null,0,{"$f":"IF(ISERROR(VLOOKUP($A370+8860000,'Growth Data'!$A:$Z,8,0)),0,VLOOKUP($A370+8860000,'Growth Data'!$A:$Z,8,0))","v":0},0,null,0,{"$f":"IF(ISERROR(VLOOKUP($A370+8860000,'Growth Data'!$A:$Z,9,0)),0,VLOOKUP($A370+8860000,'Growth Data'!$A:$Z,9,0))","v":0},0,null,"NO",{"$f":"IF(ISERROR(VLOOKUP($A370+8860000,'Growth Data'!$A:$Z,5,0)),\"NO\",VLOOKUP($A370+8860000,'Growth Data'!$A:$Z,5,0))","v":"NO"},0,null,0,{"$f":"IF(ISERROR(VLOOKUP($A370+8860000,'Growth Data'!$A:$Z,10,0)),0,VLOOKUP($A370+8860000,'Growth Data'!$A:$Z,10,0))","v":0},0,null,0,{"$f":"IF(ISERROR(VLOOKUP($A370+8860000,'Growth Data'!$A:$Z,11,0)),0,VLOOKUP($A370+8860000,'Growth Data'!$A:$Z,11,0))","v":0},0]
[2141,"Amherst School",null,"Amherst School",null,1,null,1166125.0900000001,1166125.0900000001,0,null,9858.85,9858.8469270833248,3.0729166755918413E-3,null,6054.29,6054.28999999999,1.0004441719502211E-11,null,56980.04,56980.04,0,null,120084,120084,0,null,0,0,0,null,50014.96,50014.96342291667,-3.4229166703880765E-3,null,0,0,0,null,5580.8,5580.8,0,null,0,0,0,null,0,0,0,null,166742.76999999999,166742.76964999997,3.5000001662410796E-4,null,1581440.8,1581440.8,0,null,0,0,0,null,1581440.8,1581440.8,0,null,0,null,0,null,null,null,0,null,null,null,0,null,243533.07,243533.07055190601,0,null,10279.98,0,10280,null,null,null,0,null,null,null,0,null,null,null,0,null,null,null,0,null,null,null,0,null,null,null,0,null,"NO",{"$f":"IF(ISERROR(VLOOKUP($A371+8860000,'Growth Data'!$A:$F,3,0)),\"NO\",VLOOKUP($A371+8860000,'Growth Data'!$A:$F,3,0))","v":"NO"},0,null,0,{"$f":"IF(DI371=\"YES\",IF(ISERROR(VLOOKUP($A371+8860000,'Growth Data'!$A:$F,6,0)),0,VLOOKUP($A371+8860000,'Growth Data'!$A:$F,6,0)),0)","v":0},0,null,0,{"$f":"IF(ISERROR(VLOOKUP($A371+8860000,'Growth Data'!$A:$Z,7,0)),0,VLOOKUP($A371+8860000,'Growth Data'!$A:$Z,7,0))","v":0},0,null,"NO",{"$f":"IF(ISERROR(VLOOKUP($A371+8860000,'Growth Data'!$A:$F,4,0)),\"NO\",VLOOKUP($A371+8860000,'Growth Data'!$A:$F,4,0))","v":"NO"},0,null,0,{"$f":"IF(ISERROR(VLOOKUP($A371+8860000,'Growth Data'!$A:$Z,8,0)),0,VLOOKUP($A371+8860000,'Growth Data'!$A:$Z,8,0))","v":0},0,null,0,{"$f":"IF(ISERROR(VLOOKUP($A371+8860000,'Growth Data'!$A:$Z,9,0)),0,VLOOKUP($A371+8860000,'Growth Data'!$A:$Z,9,0))","v":0},0,null,"NO",{"$f":"IF(ISERROR(VLOOKUP($A371+8860000,'Growth Data'!$A:$Z,5,0)),\"NO\",VLOOKUP($A371+8860000,'Growth Data'!$A:$Z,5,0))","v":"NO"},0,null,0,{"$f":"IF(ISERROR(VLOOKUP($A371+8860000,'Growth Data'!$A:$Z,10,0)),0,VLOOKUP($A371+8860000,'Growth Data'!$A:$Z,10,0))","v":0},0,null,0,{"$f":"IF(ISERROR(VLOOKUP($A371+8860000,'Growth Data'!$A:$Z,11,0)),0,VLOOKUP($A371+8860000,'Growth Data'!$A:$Z,11,0))","v":0},0]
[2143,"Folkestone Primary",null,"Folkestone Primary",null,1,null,1305317.74,1305317.74,0,null,148247.06,148247.05999999979,0,null,10501.32,10501.324095744678,-4.0957446781249018E-3,null,110577.49,110577.48565217391,4.3478260922711343E-3,null,120084,120084,0,null,0,0,0,null,0,0,0,null,0,0,0,null,0,0,0,null,0,0,0,null,0,0,0,null,69232.39,69232.390252081561,-2.5208156148437411E-4,null,1763960,1763960,0,null,0,0,0,null,1763960,1763960,0,null,0,null,0,null,null,null,0,null,null,null,0,null,301983.56,301983.56230700813,0,null,11098.6,0,11099,null,null,null,0,null,null,null,0,null,null,null,0,null,null,null,0,null,null,null,0,null,null,null,0,null,"NO",{"$f":"IF(ISERROR(VLOOKUP($A372+8860000,'Growth Data'!$A:$F,3,0)),\"NO\",VLOOKUP($A372+8860000,'Growth Data'!$A:$F,3,0))","v":"NO"},0,null,0,{"$f":"IF(DI372=\"YES\",IF(ISERROR(VLOOKUP($A372+8860000,'Growth Data'!$A:$F,6,0)),0,VLOOKUP($A372+8860000,'Growth Data'!$A:$F,6,0)),0)","v":0},0,null,0,{"$f":"IF(ISERROR(VLOOKUP($A372+8860000,'Growth Data'!$A:$Z,7,0)),0,VLOOKUP($A372+8860000,'Growth Data'!$A:$Z,7,0))","v":0},0,null,"NO",{"$f":"IF(ISERROR(VLOOKUP($A372+8860000,'Growth Data'!$A:$F,4,0)),\"NO\",VLOOKUP($A372+8860000,'Growth Data'!$A:$F,4,0))","v":"NO"},0,null,0,{"$f":"IF(ISERROR(VLOOKUP($A372+8860000,'Growth Data'!$A:$Z,8,0)),0,VLOOKUP($A372+8860000,'Growth Data'!$A:$Z,8,0))","v":0},0,null,0,{"$f":"IF(ISERROR(VLOOKUP($A372+8860000,'Growth Data'!$A:$Z,9,0)),0,VLOOKUP($A372+8860000,'Growth Data'!$A:$Z,9,0))","v":0},0,null,"NO",{"$f":"IF(ISERROR(VLOOKUP($A372+8860000,'Growth Data'!$A:$Z,5,0)),\"NO\",VLOOKUP($A372+8860000,'Growth Data'!$A:$Z,5,0))","v":"NO"},0,null,0,{"$f":"IF(ISERROR(VLOOKUP($A372+8860000,'Growth Data'!$A:$Z,10,0)),0,VLOOKUP($A372+8860000,'Growth Data'!$A:$Z,10,0))","v":0},0,null,0,{"$f":"IF(ISERROR(VLOOKUP($A372+8860000,'Growth Data'!$A:$Z,11,0)),0,VLOOKUP($A372+8860000,'Growth Data'!$A:$Z,11,0))","v":0},0]
[2172,"Valley Invicta Primary School At East Borough",null,"Valley Invicta Primary School At East Borough",null,1,null,1413578.69,1413578.69,0,null,93757.39,93757.386030701688,3.969298311858438E-3,null,50685.79,50685.789420654794,5.79345207370352E-4,null,108238.68,108238.67674479168,3.2552083139307797E-3,null,120084,120084,0,null,0,0,0,null,0,0,0,null,0,0,0,null,10188.799999999999,10188.799999999999,0,null,0,0,0,null,0,0,0,null,123915.46,123915.45780385192,2.1961480815662071E-3,null,1920448.8,1920448.8,0,null,0,0,0,null,1920448.8,1920448.8,0,null,0,null,0,null,null,null,0,null,null,null,0,null,349229.01,349229.01230700826,0,null,12019.1,0,12019,null,null,null,0,null,null,null,0,null,null,null,0,null,null,null,0,null,null,null,0,null,null,null,0,null,"NO",{"$f":"IF(ISERROR(VLOOKUP($A373+8860000,'Growth Data'!$A:$F,3,0)),\"NO\",VLOOKUP($A373+8860000,'Growth Data'!$A:$F,3,0))","v":"NO"},0,null,0,{"$f":"IF(DI373=\"YES\",IF(ISERROR(VLOOKUP($A373+8860000,'Growth Data'!$A:$F,6,0)),0,VLOOKUP($A373+8860000,'Growth Data'!$A:$F,6,0)),0)","v":0},0,null,0,{"$f":"IF(ISERROR(VLOOKUP($A373+8860000,'Growth Data'!$A:$Z,7,0)),0,VLOOKUP($A373+8860000,'Growth Data'!$A:$Z,7,0))","v":0},0,null,"NO",{"$f":"IF(ISERROR(VLOOKUP($A373+8860000,'Growth Data'!$A:$F,4,0)),\"NO\",VLOOKUP($A373+8860000,'Growth Data'!$A:$F,4,0))","v":"NO"},0,null,0,{"$f":"IF(ISERROR(VLOOKUP($A373+8860000,'Growth Data'!$A:$Z,8,0)),0,VLOOKUP($A373+8860000,'Growth Data'!$A:$Z,8,0))","v":0},0,null,0,{"$f":"IF(ISERROR(VLOOKUP($A373+8860000,'Growth Data'!$A:$Z,9,0)),0,VLOOKUP($A373+8860000,'Growth Data'!$A:$Z,9,0))","v":0},0,null,"NO",{"$f":"IF(ISERROR(VLOOKUP($A373+8860000,'Growth Data'!$A:$Z,5,0)),\"NO\",VLOOKUP($A373+8860000,'Growth Data'!$A:$Z,5,0))","v":"NO"},0,null,0,{"$f":"IF(ISERROR(VLOOKUP($A373+8860000,'Growth Data'!$A:$Z,10,0)),0,VLOOKUP($A373+8860000,'Growth Data'!$A:$Z,10,0))","v":0},0,null,0,{"$f":"IF(ISERROR(VLOOKUP($A373+8860000,'Growth Data'!$A:$Z,11,0)),0,VLOOKUP($A373+8860000,'Growth Data'!$A:$Z,11,0))","v":0},0]
[2180,"South Borough Primary School",null,"South Borough Primary School",null,1,null,1360994.8,1360994.8,0,null,156811.14000000001,156811.13724373566,2.7562643517740071E-3,null,60702.64,60702.643799472251,-3.799472251557745E-3,null,124552.52,124552.52333333333,-3.3333333267364651E-3,null,120084,120084,0,null,0,0,0,null,0,0,0,null,0,0,0,null,11980.8,11980.8,0,null,0,0,0,null,0,0,0,null,16054.9,16054.895623458724,4.3765412756329169E-3,null,1851180.8,1851180.8000000003,0,null,0,0,0,null,1851180.8,1851180.8000000003,0,null,0,null,0,null,null,null,0,null,null,null,0,null,319705.21999999997,319705.22230700817,0,null,11572,0,11572,null,null,null,0,null,null,null,0,null,null,null,0,null,null,null,0,null,null,null,0,null,null,null,0,null,"NO",{"$f":"IF(ISERROR(VLOOKUP($A374+8860000,'Growth Data'!$A:$F,3,0)),\"NO\",VLOOKUP($A374+8860000,'Growth Data'!$A:$F,3,0))","v":"YES"},1,null,0,{"$f":"IF(DI374=\"YES\",IF(ISERROR(VLOOKUP($A374+8860000,'Growth Data'!$A:$F,6,0)),0,VLOOKUP($A374+8860000,'Growth Data'!$A:$F,6,0)),0)","v":30},-30,null,0,{"$f":"IF(ISERROR(VLOOKUP($A374+8860000,'Growth Data'!$A:$Z,7,0)),0,VLOOKUP($A374+8860000,'Growth Data'!$A:$Z,7,0))","v":60},1,null,"NO",{"$f":"IF(ISERROR(VLOOKUP($A374+8860000,'Growth Data'!$A:$F,4,0)),\"NO\",VLOOKUP($A374+8860000,'Growth Data'!$A:$F,4,0))","v":"NO"},0,null,0,{"$f":"IF(ISERROR(VLOOKUP($A374+8860000,'Growth Data'!$A:$Z,8,0)),0,VLOOKUP($A374+8860000,'Growth Data'!$A:$Z,8,0))","v":0},0,null,0,{"$f":"IF(ISERROR(VLOOKUP($A374+8860000,'Growth Data'!$A:$Z,9,0)),0,VLOOKUP($A374+8860000,'Growth Data'!$A:$Z,9,0))","v":0},0,null,"NO",{"$f":"IF(ISERROR(VLOOKUP($A374+8860000,'Growth Data'!$A:$Z,5,0)),\"NO\",VLOOKUP($A374+8860000,'Growth Data'!$A:$Z,5,0))","v":"NO"},0,null,0,{"$f":"IF(ISERROR(VLOOKUP($A374+8860000,'Growth Data'!$A:$Z,10,0)),0,VLOOKUP($A374+8860000,'Growth Data'!$A:$Z,10,0))","v":0},0,null,0,{"$f":"IF(ISERROR(VLOOKUP($A374+8860000,'Growth Data'!$A:$Z,11,0)),0,VLOOKUP($A374+8860000,'Growth Data'!$A:$Z,11,0))","v":0},0]
[2183,"Marden Primary Academy",null,"Marden Primary Academy",null,1,null,835155.9,835155.9,0,null,90633.3,90633.299245283008,7.5471699528861791E-4,null,5764.86,5764.8607758620747,-7.7586207498825388E-4,null,76949.59,76949.588340807168,1.6591928288107738E-3,null,120084,120084,0,null,0,0,0,null,0,0,0,null,0,0,0,null,26624,26624,0,null,0,0,0,null,0,0,0,null,12.35,12.351638047737652,-1.6380477376518598E-3,null,1155224,1155224,0,null,0,0,0,null,1155224,1155224,0,null,0,null,0,null,null,null,0,null,null,null,0,null,145531.48000000001,145531.48230700812,0,null,7101,0,7101,null,null,null,0,null,null,null,0,null,null,null,0,null,null,null,0,null,null,null,0,null,null,null,0,null,"NO",{"$f":"IF(ISERROR(VLOOKUP($A375+8860000,'Growth Data'!$A:$F,3,0)),\"NO\",VLOOKUP($A375+8860000,'Growth Data'!$A:$F,3,0))","v":"NO"},0,null,0,{"$f":"IF(DI375=\"YES\",IF(ISERROR(VLOOKUP($A375+8860000,'Growth Data'!$A:$F,6,0)),0,VLOOKUP($A375+8860000,'Growth Data'!$A:$F,6,0)),0)","v":0},0,null,0,{"$f":"IF(ISERROR(VLOOKUP($A375+8860000,'Growth Data'!$A:$Z,7,0)),0,VLOOKUP($A375+8860000,'Growth Data'!$A:$Z,7,0))","v":0},0,null,"NO",{"$f":"IF(ISERROR(VLOOKUP($A375+8860000,'Growth Data'!$A:$F,4,0)),\"NO\",VLOOKUP($A375+8860000,'Growth Data'!$A:$F,4,0))","v":"NO"},0,null,0,{"$f":"IF(ISERROR(VLOOKUP($A375+8860000,'Growth Data'!$A:$Z,8,0)),0,VLOOKUP($A375+8860000,'Growth Data'!$A:$Z,8,0))","v":0},0,null,0,{"$f":"IF(ISERROR(VLOOKUP($A375+8860000,'Growth Data'!$A:$Z,9,0)),0,VLOOKUP($A375+8860000,'Growth Data'!$A:$Z,9,0))","v":0},0,null,"NO",{"$f":"IF(ISERROR(VLOOKUP($A375+8860000,'Growth Data'!$A:$Z,5,0)),\"NO\",VLOOKUP($A375+8860000,'Growth Data'!$A:$Z,5,0))","v":"NO"},0,null,0,{"$f":"IF(ISERROR(VLOOKUP($A375+8860000,'Growth Data'!$A:$Z,10,0)),0,VLOOKUP($A375+8860000,'Growth Data'!$A:$Z,10,0))","v":0},0,null,0,{"$f":"IF(ISERROR(VLOOKUP($A375+8860000,'Growth Data'!$A:$Z,11,0)),0,VLOOKUP($A375+8860000,'Growth Data'!$A:$Z,11,0))","v":0},0]
[2223,"Bobbing Village School",null,"Bobbing Village School",null,1,null,646472.53,646472.53,0,null,33064.94,33064.941346153857,-1.3461538546835072E-3,null,5141.07,5141.0730726256979,-3.072625698223419E-3,null,37499.68,37499.684444444443,-4.4444444429245777E-3,null,120084,120084,0,null,0,0,0,null,0,0,0,null,0,0,0,null,1126.4000000000001,1126.4000000000001,0,null,0,0,0,null,0,0,0,null,31357.77,31357.771136775962,-1.1367759616405237E-3,null,874746.4,874746.4,0,null,0,0,0,null,874746.4,874746.4,0,null,0,null,0,null,null,null,0,null,null,null,0,null,105473.09,105473.09230700812,0,null,5496.7,0,5497,null,null,null,0,null,null,null,0,null,null,null,0,null,null,null,0,null,null,null,0,null,null,null,0,null,"NO",{"$f":"IF(ISERROR(VLOOKUP($A376+8860000,'Growth Data'!$A:$F,3,0)),\"NO\",VLOOKUP($A376+8860000,'Growth Data'!$A:$F,3,0))","v":"NO"},0,null,0,{"$f":"IF(DI376=\"YES\",IF(ISERROR(VLOOKUP($A376+8860000,'Growth Data'!$A:$F,6,0)),0,VLOOKUP($A376+8860000,'Growth Data'!$A:$F,6,0)),0)","v":0},0,null,0,{"$f":"IF(ISERROR(VLOOKUP($A376+8860000,'Growth Data'!$A:$Z,7,0)),0,VLOOKUP($A376+8860000,'Growth Data'!$A:$Z,7,0))","v":0},0,null,"NO",{"$f":"IF(ISERROR(VLOOKUP($A376+8860000,'Growth Data'!$A:$F,4,0)),\"NO\",VLOOKUP($A376+8860000,'Growth Data'!$A:$F,4,0))","v":"NO"},0,null,0,{"$f":"IF(ISERROR(VLOOKUP($A376+8860000,'Growth Data'!$A:$Z,8,0)),0,VLOOKUP($A376+8860000,'Growth Data'!$A:$Z,8,0))","v":0},0,null,0,{"$f":"IF(ISERROR(VLOOKUP($A376+8860000,'Growth Data'!$A:$Z,9,0)),0,VLOOKUP($A376+8860000,'Growth Data'!$A:$Z,9,0))","v":0},0,null,"NO",{"$f":"IF(ISERROR(VLOOKUP($A376+8860000,'Growth Data'!$A:$Z,5,0)),\"NO\",VLOOKUP($A376+8860000,'Growth Data'!$A:$Z,5,0))","v":"NO"},0,null,0,{"$f":"IF(ISERROR(VLOOKUP($A376+8860000,'Growth Data'!$A:$Z,10,0)),0,VLOOKUP($A376+8860000,'Growth Data'!$A:$Z,10,0))","v":0},0,null,0,{"$f":"IF(ISERROR(VLOOKUP($A376+8860000,'Growth Data'!$A:$Z,11,0)),0,VLOOKUP($A376+8860000,'Growth Data'!$A:$Z,11,0))","v":0},0]
[2229,"Graveney Primary School",null,"Graveney Primary School",null,1,null,318596.51,318596.51,0,null,25464.67,25464.669999999976,0,null,3334.72,3334.7158823529403,4.1176470595019055E-3,null,23085.88,23085.881590909092,-1.5909090907371137E-3,null,120084,120084,0,null,0,0,0,null,0,0,0,null,0,0,0,null,952.32,952.32,0,null,0,0,0,null,0,0,0,null,0,0,0,null,491518.1,491518.09747326205,2.5267379241995513E-3,null,0,0,0,null,491518.1,491518.09747326205,2.5267379241995513E-3,null,0,null,0,null,null,null,0,null,null,null,0,null,51675.85,51675.849780270175,0,null,2708.9,0,2709,null,null,null,0,null,null,null,0,null,null,null,0,null,null,null,0,null,null,null,0,null,null,null,0,null,"NO",{"$f":"IF(ISERROR(VLOOKUP($A377+8860000,'Growth Data'!$A:$F,3,0)),\"NO\",VLOOKUP($A377+8860000,'Growth Data'!$A:$F,3,0))","v":"NO"},0,null,0,{"$f":"IF(DI377=\"YES\",IF(ISERROR(VLOOKUP($A377+8860000,'Growth Data'!$A:$F,6,0)),0,VLOOKUP($A377+8860000,'Growth Data'!$A:$F,6,0)),0)","v":0},0,null,0,{"$f":"IF(ISERROR(VLOOKUP($A377+8860000,'Growth Data'!$A:$Z,7,0)),0,VLOOKUP($A377+8860000,'Growth Data'!$A:$Z,7,0))","v":0},0,null,"NO",{"$f":"IF(ISERROR(VLOOKUP($A377+8860000,'Growth Data'!$A:$F,4,0)),\"NO\",VLOOKUP($A377+8860000,'Growth Data'!$A:$F,4,0))","v":"NO"},0,null,0,{"$f":"IF(ISERROR(VLOOKUP($A377+8860000,'Growth Data'!$A:$Z,8,0)),0,VLOOKUP($A377+8860000,'Growth Data'!$A:$Z,8,0))","v":0},0,null,0,{"$f":"IF(ISERROR(VLOOKUP($A377+8860000,'Growth Data'!$A:$Z,9,0)),0,VLOOKUP($A377+8860000,'Growth Data'!$A:$Z,9,0))","v":0},0,null,"NO",{"$f":"IF(ISERROR(VLOOKUP($A377+8860000,'Growth Data'!$A:$Z,5,0)),\"NO\",VLOOKUP($A377+8860000,'Growth Data'!$A:$Z,5,0))","v":"NO"},0,null,0,{"$f":"IF(ISERROR(VLOOKUP($A377+8860000,'Growth Data'!$A:$Z,10,0)),0,VLOOKUP($A377+8860000,'Growth Data'!$A:$Z,10,0))","v":0},0,null,0,{"$f":"IF(ISERROR(VLOOKUP($A377+8860000,'Growth Data'!$A:$Z,11,0)),0,VLOOKUP($A377+8860000,'Growth Data'!$A:$Z,11,0))","v":0},0]
[2230,"Iwade School",null,"Iwade School",null,1,null,1927044.91,1927044.9100000001,0,null,92073.08,92073.083135048393,-3.1350483914138749E-3,null,3859.96,3859.9583864915403,1.6135084597408422E-3,null,150549.63,150549.63186311786,-1.8631178536452353E-3,null,120084,120084,0,null,0,0,0,null,0,0,0,null,0,0,0,null,13926.4,13926.4,0,null,0,0,0,null,0,0,0,null,310528.42,310528.41661534208,3.3846579026430845E-3,null,2618066.4,2618066.4,0,null,0,0,0,null,2618066.4,2618066.4,0,null,0,null,0,null,null,null,0,null,null,null,0,null,526880.87,526880.8723070079,0,null,16384.900000000001,0,16385,null,null,null,0,null,null,null,0,null,null,null,0,null,null,null,0,null,null,null,0,null,null,null,0,null,"NO",{"$f":"IF(ISERROR(VLOOKUP($A378+8860000,'Growth Data'!$A:$F,3,0)),\"NO\",VLOOKUP($A378+8860000,'Growth Data'!$A:$F,3,0))","v":"NO"},0,null,0,{"$f":"IF(DI378=\"YES\",IF(ISERROR(VLOOKUP($A378+8860000,'Growth Data'!$A:$F,6,0)),0,VLOOKUP($A378+8860000,'Growth Data'!$A:$F,6,0)),0)","v":0},0,null,0,{"$f":"IF(ISERROR(VLOOKUP($A378+8860000,'Growth Data'!$A:$Z,7,0)),0,VLOOKUP($A378+8860000,'Growth Data'!$A:$Z,7,0))","v":0},0,null,"NO",{"$f":"IF(ISERROR(VLOOKUP($A378+8860000,'Growth Data'!$A:$F,4,0)),\"NO\",VLOOKUP($A378+8860000,'Growth Data'!$A:$F,4,0))","v":"NO"},0,null,0,{"$f":"IF(ISERROR(VLOOKUP($A378+8860000,'Growth Data'!$A:$Z,8,0)),0,VLOOKUP($A378+8860000,'Growth Data'!$A:$Z,8,0))","v":0},0,null,0,{"$f":"IF(ISERROR(VLOOKUP($A378+8860000,'Growth Data'!$A:$Z,9,0)),0,VLOOKUP($A378+8860000,'Growth Data'!$A:$Z,9,0))","v":0},0,null,"NO",{"$f":"IF(ISERROR(VLOOKUP($A378+8860000,'Growth Data'!$A:$Z,5,0)),\"NO\",VLOOKUP($A378+8860000,'Growth Data'!$A:$Z,5,0))","v":"NO"},0,null,0,{"$f":"IF(ISERROR(VLOOKUP($A378+8860000,'Growth Data'!$A:$Z,10,0)),0,VLOOKUP($A378+8860000,'Growth Data'!$A:$Z,10,0))","v":0},0,null,0,{"$f":"IF(ISERROR(VLOOKUP($A378+8860000,'Growth Data'!$A:$Z,11,0)),0,VLOOKUP($A378+8860000,'Growth Data'!$A:$Z,11,0))","v":0},0]
[2232,"Luddenham School",null,"Luddenham School",null,1,null,593888.64,593888.64,0,null,65477.52,65477.52000000004,0,null,1981.4,1981.4039999999998,-3.9999999996780389E-3,null,65120.05,65120.045714285712,4.2857142907450907E-3,null,120084,120084,0,null,0,0,0,null,0,0,0,null,0,0,0,null,5273.6,5273.6,0,null,0,0,0,null,0,0,0,null,0,0,0,null,851825.21,851825.20971428568,2.8571428265422583E-4,null,0,0,0,null,851825.21,851825.20971428568,2.8571428265422583E-4,null,0,null,0,null,null,null,0,null,null,null,0,null,118559.95,118559.95202129388,0,null,5049.6000000000004,0,5050,null,null,null,0,null,null,null,0,null,null,null,0,null,null,null,0,null,null,null,0,null,null,null,0,null,"NO",{"$f":"IF(ISERROR(VLOOKUP($A379+8860000,'Growth Data'!$A:$F,3,0)),\"NO\",VLOOKUP($A379+8860000,'Growth Data'!$A:$F,3,0))","v":"NO"},0,null,0,{"$f":"IF(DI379=\"YES\",IF(ISERROR(VLOOKUP($A379+8860000,'Growth Data'!$A:$F,6,0)),0,VLOOKUP($A379+8860000,'Growth Data'!$A:$F,6,0)),0)","v":0},0,null,0,{"$f":"IF(ISERROR(VLOOKUP($A379+8860000,'Growth Data'!$A:$Z,7,0)),0,VLOOKUP($A379+8860000,'Growth Data'!$A:$Z,7,0))","v":0},0,null,"NO",{"$f":"IF(ISERROR(VLOOKUP($A379+8860000,'Growth Data'!$A:$F,4,0)),\"NO\",VLOOKUP($A379+8860000,'Growth Data'!$A:$F,4,0))","v":"NO"},0,null,0,{"$f":"IF(ISERROR(VLOOKUP($A379+8860000,'Growth Data'!$A:$Z,8,0)),0,VLOOKUP($A379+8860000,'Growth Data'!$A:$Z,8,0))","v":0},0,null,0,{"$f":"IF(ISERROR(VLOOKUP($A379+8860000,'Growth Data'!$A:$Z,9,0)),0,VLOOKUP($A379+8860000,'Growth Data'!$A:$Z,9,0))","v":0},0,null,"NO",{"$f":"IF(ISERROR(VLOOKUP($A379+8860000,'Growth Data'!$A:$Z,5,0)),\"NO\",VLOOKUP($A379+8860000,'Growth Data'!$A:$Z,5,0))","v":"NO"},0,null,0,{"$f":"IF(ISERROR(VLOOKUP($A379+8860000,'Growth Data'!$A:$Z,10,0)),0,VLOOKUP($A379+8860000,'Growth Data'!$A:$Z,10,0))","v":0},0,null,0,{"$f":"IF(ISERROR(VLOOKUP($A379+8860000,'Growth Data'!$A:$Z,11,0)),0,VLOOKUP($A379+8860000,'Growth Data'!$A:$Z,11,0))","v":0},0]
[2233,"Lynsted and Norton Primary School",null,"Lynsted and Norton Primary School",null,1,null,170124.35,170124.35,0,null,17553.2,17553.199999999993,0,null,2111.96,2111.9616279069764,-1.6279069764095766E-3,null,19175.98,19175.974999999999,5.0000000010186341E-3,null,120084,120084,0,null,0,0,0,null,0,0,0,null,0,0,0,null,3225.6,3225.6,0,null,0,0,0,null,0,0,0,null,0,0,0,null,332275.09000000003,332275.08662790695,3.3720930805429816E-3,null,3152.6,3152.5968577805907,3.142219409255631E-3,null,335427.68,335427.68348568754,-3.485687542706728E-3,null,0,null,0,null,null,null,0,null,null,null,0,null,42704.959999999999,42704.955792695713,0,null,1446.5,0,1447,null,null,null,0,null,null,null,0,null,null,null,0,null,null,null,0,null,null,null,0,null,null,null,0,null,"NO",{"$f":"IF(ISERROR(VLOOKUP($A380+8860000,'Growth Data'!$A:$F,3,0)),\"NO\",VLOOKUP($A380+8860000,'Growth Data'!$A:$F,3,0))","v":"NO"},0,null,0,{"$f":"IF(DI380=\"YES\",IF(ISERROR(VLOOKUP($A380+8860000,'Growth Data'!$A:$F,6,0)),0,VLOOKUP($A380+8860000,'Growth Data'!$A:$F,6,0)),0)","v":0},0,null,0,{"$f":"IF(ISERROR(VLOOKUP($A380+8860000,'Growth Data'!$A:$Z,7,0)),0,VLOOKUP($A380+8860000,'Growth Data'!$A:$Z,7,0))","v":0},0,null,"NO",{"$f":"IF(ISERROR(VLOOKUP($A380+8860000,'Growth Data'!$A:$F,4,0)),\"NO\",VLOOKUP($A380+8860000,'Growth Data'!$A:$F,4,0))","v":"NO"},0,null,0,{"$f":"IF(ISERROR(VLOOKUP($A380+8860000,'Growth Data'!$A:$Z,8,0)),0,VLOOKUP($A380+8860000,'Growth Data'!$A:$Z,8,0))","v":0},0,null,0,{"$f":"IF(ISERROR(VLOOKUP($A380+8860000,'Growth Data'!$A:$Z,9,0)),0,VLOOKUP($A380+8860000,'Growth Data'!$A:$Z,9,0))","v":0},0,null,"NO",{"$f":"IF(ISERROR(VLOOKUP($A380+8860000,'Growth Data'!$A:$Z,5,0)),\"NO\",VLOOKUP($A380+8860000,'Growth Data'!$A:$Z,5,0))","v":"NO"},0,null,0,{"$f":"IF(ISERROR(VLOOKUP($A380+8860000,'Growth Data'!$A:$Z,10,0)),0,VLOOKUP($A380+8860000,'Growth Data'!$A:$Z,10,0))","v":0},0,null,0,{"$f":"IF(ISERROR(VLOOKUP($A380+8860000,'Growth Data'!$A:$Z,11,0)),0,VLOOKUP($A380+8860000,'Growth Data'!$A:$Z,11,0))","v":0},0]
[2235,"Minster in Sheppey Primary School",null,"Minster in Sheppey Primary School",null,1,null,1698150.33,1698150.33,0,null,221713.37,221713.36617328503,3.8267149648163468E-3,null,1328.19,1328.1938901098915,-3.8901098914720933E-3,null,106557.49,106557.49029147983,-2.9147982422728091E-4,null,120084,120084,0,null,0,0,0,null,0,0,0,null,0,0,0,null,20400,20400,0,null,0,0,0,null,0,0,0,null,146986.62,146986.61964512512,3.548748791217804E-4,null,2315220,2315220,0,null,0,0,0,null,2315220,2315220,0,null,0,null,0,null,null,null,0,null,null,null,0,null,435407.77,435407.7723070081,0,null,14438.7,0,14439,null,null,null,0,null,null,null,0,null,null,null,0,null,null,null,0,null,null,null,0,null,null,null,0,null,"NO",{"$f":"IF(ISERROR(VLOOKUP($A381+8860000,'Growth Data'!$A:$F,3,0)),\"NO\",VLOOKUP($A381+8860000,'Growth Data'!$A:$F,3,0))","v":"YES"},1,null,0,{"$f":"IF(DI381=\"YES\",IF(ISERROR(VLOOKUP($A381+8860000,'Growth Data'!$A:$F,6,0)),0,VLOOKUP($A381+8860000,'Growth Data'!$A:$F,6,0)),0)","v":63},-63,null,0,{"$f":"IF(ISERROR(VLOOKUP($A381+8860000,'Growth Data'!$A:$Z,7,0)),0,VLOOKUP($A381+8860000,'Growth Data'!$A:$Z,7,0))","v":90},1,null,"NO",{"$f":"IF(ISERROR(VLOOKUP($A381+8860000,'Growth Data'!$A:$F,4,0)),\"NO\",VLOOKUP($A381+8860000,'Growth Data'!$A:$F,4,0))","v":"YES"},1,null,0,{"$f":"IF(ISERROR(VLOOKUP($A381+8860000,'Growth Data'!$A:$Z,8,0)),0,VLOOKUP($A381+8860000,'Growth Data'!$A:$Z,8,0))","v":60},1,null,0,{"$f":"IF(ISERROR(VLOOKUP($A381+8860000,'Growth Data'!$A:$Z,9,0)),0,VLOOKUP($A381+8860000,'Growth Data'!$A:$Z,9,0))","v":90},1,null,"NO",{"$f":"IF(ISERROR(VLOOKUP($A381+8860000,'Growth Data'!$A:$Z,5,0)),\"NO\",VLOOKUP($A381+8860000,'Growth Data'!$A:$Z,5,0))","v":"YES"},1,null,0,{"$f":"IF(ISERROR(VLOOKUP($A381+8860000,'Growth Data'!$A:$Z,10,0)),0,VLOOKUP($A381+8860000,'Growth Data'!$A:$Z,10,0))","v":62},1,null,0,{"$f":"IF(ISERROR(VLOOKUP($A381+8860000,'Growth Data'!$A:$Z,11,0)),0,VLOOKUP($A381+8860000,'Growth Data'!$A:$Z,11,0))","v":90},1]
[2237,"Queenborough School and Nursery",null,"Queenborough School and Nursery",null,1,null,1354808.46,1354808.46,0,null,308965.59999999998,308965.60322505806,-3.2250580843538046E-3,null,3816.42,3816.4245910290238,-4.5910290236861329E-3,null,135105.79999999999,135105.79705093836,2.9490616288967431E-3,null,120084,120084,0,null,0,0,0,null,0,0,0,null,0,0,0,null,34048,34048,0,null,0,0,0,null,0,0,0,null,0,0,0,null,1956828.28,1956828.2848670254,-4.8670254182070494E-3,null,0,0,0,null,1956828.28,1956828.2848670254,-4.8670254182070494E-3,null,0,null,0,null,null,null,0,null,null,null,0,null,384614.57,384614.56717403355,0,null,11519.4,0,11519,null,null,null,0,null,null,null,0,null,null,null,0,null,null,null,0,null,null,null,0,null,null,null,0,null,"NO",{"$f":"IF(ISERROR(VLOOKUP($A382+8860000,'Growth Data'!$A:$F,3,0)),\"NO\",VLOOKUP($A382+8860000,'Growth Data'!$A:$F,3,0))","v":"NO"},0,null,0,{"$f":"IF(DI382=\"YES\",IF(ISERROR(VLOOKUP($A382+8860000,'Growth Data'!$A:$F,6,0)),0,VLOOKUP($A382+8860000,'Growth Data'!$A:$F,6,0)),0)","v":0},0,null,0,{"$f":"IF(ISERROR(VLOOKUP($A382+8860000,'Growth Data'!$A:$Z,7,0)),0,VLOOKUP($A382+8860000,'Growth Data'!$A:$Z,7,0))","v":0},0,null,"NO",{"$f":"IF(ISERROR(VLOOKUP($A382+8860000,'Growth Data'!$A:$F,4,0)),\"NO\",VLOOKUP($A382+8860000,'Growth Data'!$A:$F,4,0))","v":"NO"},0,null,0,{"$f":"IF(ISERROR(VLOOKUP($A382+8860000,'Growth Data'!$A:$Z,8,0)),0,VLOOKUP($A382+8860000,'Growth Data'!$A:$Z,8,0))","v":0},0,null,0,{"$f":"IF(ISERROR(VLOOKUP($A382+8860000,'Growth Data'!$A:$Z,9,0)),0,VLOOKUP($A382+8860000,'Growth Data'!$A:$Z,9,0))","v":0},0,null,"NO",{"$f":"IF(ISERROR(VLOOKUP($A382+8860000,'Growth Data'!$A:$Z,5,0)),\"NO\",VLOOKUP($A382+8860000,'Growth Data'!$A:$Z,5,0))","v":"NO"},0,null,0,{"$f":"IF(ISERROR(VLOOKUP($A382+8860000,'Growth Data'!$A:$Z,10,0)),0,VLOOKUP($A382+8860000,'Growth Data'!$A:$Z,10,0))","v":0},0,null,0,{"$f":"IF(ISERROR(VLOOKUP($A382+8860000,'Growth Data'!$A:$Z,11,0)),0,VLOOKUP($A382+8860000,'Growth Data'!$A:$Z,11,0))","v":0},0]
[2246,"Sheldwich Primary School",null,"Sheldwich Primary School",null,1,null,652658.87,652658.87,0,null,20321.939999999999,20321.938356807506,1.6431924923381303E-3,null,652.42999999999995,652.42859550561832,1.4044943816315936E-3,null,47918.65,47918.64663212435,3.367875651747454E-3,null,120084,120084,0,null,0,0,0,null,0,0,0,null,0,0,0,null,4966.3999999999996,4966.3999999999996,0,null,0,0,0,null,0,0,0,null,40344.120000000003,40344.116415562516,3.5844374870066531E-3,null,886946.4,886946.39999999991,0,null,0,0,0,null,886946.4,886946.39999999991,0,null,0,null,0,null,null,null,0,null,null,null,0,null,109948.35,109948.35230700814,0,null,5549.3,0,5549,null,null,null,0,null,null,null,0,null,null,null,0,null,null,null,0,null,null,null,0,null,null,null,0,null,"NO",{"$f":"IF(ISERROR(VLOOKUP($A383+8860000,'Growth Data'!$A:$F,3,0)),\"NO\",VLOOKUP($A383+8860000,'Growth Data'!$A:$F,3,0))","v":"NO"},0,null,0,{"$f":"IF(DI383=\"YES\",IF(ISERROR(VLOOKUP($A383+8860000,'Growth Data'!$A:$F,6,0)),0,VLOOKUP($A383+8860000,'Growth Data'!$A:$F,6,0)),0)","v":0},0,null,0,{"$f":"IF(ISERROR(VLOOKUP($A383+8860000,'Growth Data'!$A:$Z,7,0)),0,VLOOKUP($A383+8860000,'Growth Data'!$A:$Z,7,0))","v":0},0,null,"NO",{"$f":"IF(ISERROR(VLOOKUP($A383+8860000,'Growth Data'!$A:$F,4,0)),\"NO\",VLOOKUP($A383+8860000,'Growth Data'!$A:$F,4,0))","v":"NO"},0,null,0,{"$f":"IF(ISERROR(VLOOKUP($A383+8860000,'Growth Data'!$A:$Z,8,0)),0,VLOOKUP($A383+8860000,'Growth Data'!$A:$Z,8,0))","v":0},0,null,0,{"$f":"IF(ISERROR(VLOOKUP($A383+8860000,'Growth Data'!$A:$Z,9,0)),0,VLOOKUP($A383+8860000,'Growth Data'!$A:$Z,9,0))","v":0},0,null,"NO",{"$f":"IF(ISERROR(VLOOKUP($A383+8860000,'Growth Data'!$A:$Z,5,0)),\"NO\",VLOOKUP($A383+8860000,'Growth Data'!$A:$Z,5,0))","v":"NO"},0,null,0,{"$f":"IF(ISERROR(VLOOKUP($A383+8860000,'Growth Data'!$A:$Z,10,0)),0,VLOOKUP($A383+8860000,'Growth Data'!$A:$Z,10,0))","v":0},0,null,0,{"$f":"IF(ISERROR(VLOOKUP($A383+8860000,'Growth Data'!$A:$Z,11,0)),0,VLOOKUP($A383+8860000,'Growth Data'!$A:$Z,11,0))","v":0},0]
[2249,"Regis Manor Primary School",null,"Regis Manor Primary School",null,1,null,1432137.71,1432137.71,0,null,190593.35,190593.34502325577,4.9767442396841943E-3,null,14990.03,14990.033529411761,-3.5294117606099462E-3,null,114771.34,114771.3441645244,-4.164524405496195E-3,null,120084,120084,0,null,0,0,0,null,0,0,0,null,0,0,0,null,6809.6,6809.6,0,null,0,0,0,null,0,0,0,null,62763.57,62763.567282808071,2.7171919282409362E-3,null,1942149.6,1942149.6,0,null,0,0,0,null,1942149.6,1942149.6,0,null,0,null,0,null,null,null,0,null,null,null,0,null,341019.75,341019.75230700814,0,null,12176.9,0,12177,null,null,null,0,null,null,null,0,null,null,null,0,null,null,null,0,null,null,null,0,null,null,null,0,null,"NO",{"$f":"IF(ISERROR(VLOOKUP($A384+8860000,'Growth Data'!$A:$F,3,0)),\"NO\",VLOOKUP($A384+8860000,'Growth Data'!$A:$F,3,0))","v":"YES"},1,null,0,{"$f":"IF(DI384=\"YES\",IF(ISERROR(VLOOKUP($A384+8860000,'Growth Data'!$A:$F,6,0)),0,VLOOKUP($A384+8860000,'Growth Data'!$A:$F,6,0)),0)","v":60},-60,null,0,{"$f":"IF(ISERROR(VLOOKUP($A384+8860000,'Growth Data'!$A:$Z,7,0)),0,VLOOKUP($A384+8860000,'Growth Data'!$A:$Z,7,0))","v":90},1,null,"NO",{"$f":"IF(ISERROR(VLOOKUP($A384+8860000,'Growth Data'!$A:$F,4,0)),\"NO\",VLOOKUP($A384+8860000,'Growth Data'!$A:$F,4,0))","v":"YES"},1,null,0,{"$f":"IF(ISERROR(VLOOKUP($A384+8860000,'Growth Data'!$A:$Z,8,0)),0,VLOOKUP($A384+8860000,'Growth Data'!$A:$Z,8,0))","v":61},1,null,0,{"$f":"IF(ISERROR(VLOOKUP($A384+8860000,'Growth Data'!$A:$Z,9,0)),0,VLOOKUP($A384+8860000,'Growth Data'!$A:$Z,9,0))","v":90},1,null,"NO",{"$f":"IF(ISERROR(VLOOKUP($A384+8860000,'Growth Data'!$A:$Z,5,0)),\"NO\",VLOOKUP($A384+8860000,'Growth Data'!$A:$Z,5,0))","v":"YES"},1,null,0,{"$f":"IF(ISERROR(VLOOKUP($A384+8860000,'Growth Data'!$A:$Z,10,0)),0,VLOOKUP($A384+8860000,'Growth Data'!$A:$Z,10,0))","v":60},1,null,0,{"$f":"IF(ISERROR(VLOOKUP($A384+8860000,'Growth Data'!$A:$Z,11,0)),0,VLOOKUP($A384+8860000,'Growth Data'!$A:$Z,11,0))","v":90},1]
[2264,"Hampton Primary School",null,"Hampton Primary School",null,1,null,2050771.71,2050771.71,0,null,254716.2,254716.19846616528,1.5338347293436527E-3,null,10826.26,10826.257748691081,2.2513089188578306E-3,null,161868.29999999999,161868.29784210527,2.1578947198577225E-3,null,120084,120084,0,null,0,0,0,null,0,0,0,null,0,0,0,null,16998.400000000001,16998.400000000001,0,null,0,0,0,null,0,0,0,null,173073.54,173073.53594303841,4.0569615957792848E-3,null,2788338.4,2788338.4,0,null,0,0,0,null,2788338.4,2788338.4,0,null,0,null,0,null,null,null,0,null,null,null,0,null,523861.75,523861.75230700825,0,null,17436.900000000001,0,17437,null,null,null,0,null,null,null,0,null,null,null,0,null,null,null,0,null,null,null,0,null,null,null,0,null,"NO",{"$f":"IF(ISERROR(VLOOKUP($A385+8860000,'Growth Data'!$A:$F,3,0)),\"NO\",VLOOKUP($A385+8860000,'Growth Data'!$A:$F,3,0))","v":"NO"},0,null,0,{"$f":"IF(DI385=\"YES\",IF(ISERROR(VLOOKUP($A385+8860000,'Growth Data'!$A:$F,6,0)),0,VLOOKUP($A385+8860000,'Growth Data'!$A:$F,6,0)),0)","v":0},0,null,0,{"$f":"IF(ISERROR(VLOOKUP($A385+8860000,'Growth Data'!$A:$Z,7,0)),0,VLOOKUP($A385+8860000,'Growth Data'!$A:$Z,7,0))","v":0},0,null,"NO",{"$f":"IF(ISERROR(VLOOKUP($A385+8860000,'Growth Data'!$A:$F,4,0)),\"NO\",VLOOKUP($A385+8860000,'Growth Data'!$A:$F,4,0))","v":"NO"},0,null,0,{"$f":"IF(ISERROR(VLOOKUP($A385+8860000,'Growth Data'!$A:$Z,8,0)),0,VLOOKUP($A385+8860000,'Growth Data'!$A:$Z,8,0))","v":0},0,null,0,{"$f":"IF(ISERROR(VLOOKUP($A385+8860000,'Growth Data'!$A:$Z,9,0)),0,VLOOKUP($A385+8860000,'Growth Data'!$A:$Z,9,0))","v":0},0,null,"NO",{"$f":"IF(ISERROR(VLOOKUP($A385+8860000,'Growth Data'!$A:$Z,5,0)),\"NO\",VLOOKUP($A385+8860000,'Growth Data'!$A:$Z,5,0))","v":"NO"},0,null,0,{"$f":"IF(ISERROR(VLOOKUP($A385+8860000,'Growth Data'!$A:$Z,10,0)),0,VLOOKUP($A385+8860000,'Growth Data'!$A:$Z,10,0))","v":0},0,null,0,{"$f":"IF(ISERROR(VLOOKUP($A385+8860000,'Growth Data'!$A:$Z,11,0)),0,VLOOKUP($A385+8860000,'Growth Data'!$A:$Z,11,0))","v":0},0]
[2286,"Hamstreet Primary Academy",null,"Hamstreet Primary Academy",null,{"$f":"IF(E386=D386,0,1)","v":1},null,927951,927951,{"$f":"H386-I386","v":0},null,40978.230000000003,40978.225051218651,{"$f":"L386-M386","v":4.9487813521409407E-3},null,3163.16,3163.1609195402361,{"$f":"P386-Q386","v":-9.1954023628204595E-4},null,98744.29,98744.29277566541,{"$f":"T386-U386","v":-2.7756654162658378E-3},null,120084,120084,{"$f":"X386-Y386","v":0},null,0,0,{"$f":"AB386-AC386","v":0},null,0,0,{"$f":"AF386-AG386","v":0},null,0,0,{"$f":"AJ386-AK386","v":0},null,5017.6000000000004,5017.6000000000004,{"$f":"AN386-AO386","v":0},null,0,0,{"$f":"AR386-AS386","v":0},null,0,0,{"$f":"AV386-AW386","v":0},null,63079.32,63079.321253575734,{"$f":"AZ386-BA386","v":-1.2535757341538556E-3},null,1259017.6000000001,1259017.6000000001,{"$f":"BD386-BE386","v":0},null,0,0,{"$f":"BH386-BI386","v":0},null,1259017.6000000001,1259017.6000000001,{"$f":"BL386-BM386","v":0},null,0,null,{"$f":"BP386-BQ386","v":0},null,null,null,{"$f":"BT386-BU386","v":0},null,null,null,0,null,195628.54,195628.54230700817,0,null,7890,0,7890,null,null,null,0,null,null,null,0,null,null,null,0,null,null,null,0,null,null,null,0,null,null,null,0,null,"NO",{"$f":"IF(ISERROR(VLOOKUP($A386+8860000,'Growth Data'!$A:$F,3,0)),\"NO\",VLOOKUP($A386+8860000,'Growth Data'!$A:$F,3,0))","v":"NO"},0,null,0,{"$f":"IF(DI386=\"YES\",IF(ISERROR(VLOOKUP($A386+8860000,'Growth Data'!$A:$F,6,0)),0,VLOOKUP($A386+8860000,'Growth Data'!$A:$F,6,0)),0)","v":0},0,null,0,{"$f":"IF(ISERROR(VLOOKUP($A386+8860000,'Growth Data'!$A:$Z,7,0)),0,VLOOKUP($A386+8860000,'Growth Data'!$A:$Z,7,0))","v":0},0,null,"NO",{"$f":"IF(ISERROR(VLOOKUP($A386+8860000,'Growth Data'!$A:$F,4,0)),\"NO\",VLOOKUP($A386+8860000,'Growth Data'!$A:$F,4,0))","v":"NO"},0,null,0,{"$f":"IF(ISERROR(VLOOKUP($A386+8860000,'Growth Data'!$A:$Z,8,0)),0,VLOOKUP($A386+8860000,'Growth Data'!$A:$Z,8,0))","v":0},0,null,0,{"$f":"IF(ISERROR(VLOOKUP($A386+8860000,'Growth Data'!$A:$Z,9,0)),0,VLOOKUP($A386+8860000,'Growth Data'!$A:$Z,9,0))","v":0},0,null,"NO",{"$f":"IF(ISERROR(VLOOKUP($A386+8860000,'Growth Data'!$A:$Z,5,0)),\"NO\",VLOOKUP($A386+8860000,'Growth Data'!$A:$Z,5,0))","v":"NO"},0,null,0,{"$f":"IF(ISERROR(VLOOKUP($A386+8860000,'Growth Data'!$A:$Z,10,0)),0,VLOOKUP($A386+8860000,'Growth Data'!$A:$Z,10,0))","v":0},0,null,0,{"$f":"IF(ISERROR(VLOOKUP($A386+8860000,'Growth Data'!$A:$Z,11,0)),0,VLOOKUP($A386+8860000,'Growth Data'!$A:$Z,11,0))","v":0},0]
[2287,"Rolvenden Primary School",null,"Rolvenden Primary School",null,1,null,290757.98,290757.98,0,null,20280.79,20280.794791666664,-4.7916666626406368E-3,null,1309.79,1309.7888607594921,1.1392405078822776E-3,null,31171.77,31171.772894736841,-2.8947368409717456E-3,null,120084,120084,0,null,33547.83,33547.831642189587,-1.6421895852545276E-3,null,0,0,0,null,0,0,0,null,2560,2560,0,null,0,0,0,null,0,0,0,null,0,0,0,null,499712.17,499712.16818935255,1.8106474308297038E-3,null,0,0,0,null,499712.17,499712.16818935255,1.8106474308297038E-3,null,0,null,0,null,null,null,0,null,null,null,0,null,54854.54,54854.538854171144,0,null,2472.1999999999998,0,2472,null,null,null,0,null,null,null,0,null,null,null,0,null,null,null,0,null,null,null,0,null,null,null,0,null,"NO",{"$f":"IF(ISERROR(VLOOKUP($A387+8860000,'Growth Data'!$A:$F,3,0)),\"NO\",VLOOKUP($A387+8860000,'Growth Data'!$A:$F,3,0))","v":"NO"},0,null,0,{"$f":"IF(DI387=\"YES\",IF(ISERROR(VLOOKUP($A387+8860000,'Growth Data'!$A:$F,6,0)),0,VLOOKUP($A387+8860000,'Growth Data'!$A:$F,6,0)),0)","v":0},0,null,0,{"$f":"IF(ISERROR(VLOOKUP($A387+8860000,'Growth Data'!$A:$Z,7,0)),0,VLOOKUP($A387+8860000,'Growth Data'!$A:$Z,7,0))","v":0},0,null,"NO",{"$f":"IF(ISERROR(VLOOKUP($A387+8860000,'Growth Data'!$A:$F,4,0)),\"NO\",VLOOKUP($A387+8860000,'Growth Data'!$A:$F,4,0))","v":"NO"},0,null,0,{"$f":"IF(ISERROR(VLOOKUP($A387+8860000,'Growth Data'!$A:$Z,8,0)),0,VLOOKUP($A387+8860000,'Growth Data'!$A:$Z,8,0))","v":0},0,null,0,{"$f":"IF(ISERROR(VLOOKUP($A387+8860000,'Growth Data'!$A:$Z,9,0)),0,VLOOKUP($A387+8860000,'Growth Data'!$A:$Z,9,0))","v":0},0,null,"NO",{"$f":"IF(ISERROR(VLOOKUP($A387+8860000,'Growth Data'!$A:$Z,5,0)),\"NO\",VLOOKUP($A387+8860000,'Growth Data'!$A:$Z,5,0))","v":"NO"},0,null,0,{"$f":"IF(ISERROR(VLOOKUP($A387+8860000,'Growth Data'!$A:$Z,10,0)),0,VLOOKUP($A387+8860000,'Growth Data'!$A:$Z,10,0))","v":0},0,null,0,{"$f":"IF(ISERROR(VLOOKUP($A387+8860000,'Growth Data'!$A:$Z,11,0)),0,VLOOKUP($A387+8860000,'Growth Data'!$A:$Z,11,0))","v":0},0]
[2288,"Smarden Primary School",null,"Smarden Primary School",null,1,null,361900.89,361900.89,0,null,11564.48,11564.478869565217,1.1304347826808225E-3,null,631.33000000000004,631.32970588235287,2.9411764717224287E-4,null,15698.58,15698.582448979592,-2.4489795923727797E-3,null,120084,120084,0,null,19719.87,19719.872363150862,-2.3631508629478049E-3,null,0,0,0,null,0,0,0,null,3953.75,3953.75,0,null,0,0,0,null,0,0,0,null,0,0,0,null,533552.9,533552.90338757809,-3.3875780645757914E-3,null,0,0,0,null,533552.9,533552.90338757809,-3.3875780645757914E-3,null,0,null,0,null,null,null,0,null,null,null,0,null,29065.93,29065.933331435313,0,null,3077.1,0,3077,null,null,null,0,null,null,null,0,null,null,null,0,null,null,null,0,null,null,null,0,null,null,null,0,null,"NO",{"$f":"IF(ISERROR(VLOOKUP($A388+8860000,'Growth Data'!$A:$F,3,0)),\"NO\",VLOOKUP($A388+8860000,'Growth Data'!$A:$F,3,0))","v":"NO"},0,null,0,{"$f":"IF(DI388=\"YES\",IF(ISERROR(VLOOKUP($A388+8860000,'Growth Data'!$A:$F,6,0)),0,VLOOKUP($A388+8860000,'Growth Data'!$A:$F,6,0)),0)","v":0},0,null,0,{"$f":"IF(ISERROR(VLOOKUP($A388+8860000,'Growth Data'!$A:$Z,7,0)),0,VLOOKUP($A388+8860000,'Growth Data'!$A:$Z,7,0))","v":0},0,null,"NO",{"$f":"IF(ISERROR(VLOOKUP($A388+8860000,'Growth Data'!$A:$F,4,0)),\"NO\",VLOOKUP($A388+8860000,'Growth Data'!$A:$F,4,0))","v":"NO"},0,null,0,{"$f":"IF(ISERROR(VLOOKUP($A388+8860000,'Growth Data'!$A:$Z,8,0)),0,VLOOKUP($A388+8860000,'Growth Data'!$A:$Z,8,0))","v":0},0,null,0,{"$f":"IF(ISERROR(VLOOKUP($A388+8860000,'Growth Data'!$A:$Z,9,0)),0,VLOOKUP($A388+8860000,'Growth Data'!$A:$Z,9,0))","v":0},0,null,"NO",{"$f":"IF(ISERROR(VLOOKUP($A388+8860000,'Growth Data'!$A:$Z,5,0)),\"NO\",VLOOKUP($A388+8860000,'Growth Data'!$A:$Z,5,0))","v":"NO"},0,null,0,{"$f":"IF(ISERROR(VLOOKUP($A388+8860000,'Growth Data'!$A:$Z,10,0)),0,VLOOKUP($A388+8860000,'Growth Data'!$A:$Z,10,0))","v":0},0,null,0,{"$f":"IF(ISERROR(VLOOKUP($A388+8860000,'Growth Data'!$A:$Z,11,0)),0,VLOOKUP($A388+8860000,'Growth Data'!$A:$Z,11,0))","v":0},0]
[2290,"Tenterden Infant School",null,"Tenterden Infant School",null,1,null,436136.97,436136.97000000003,0,null,27261.89,27261.889999999978,0,null,5600.36,5600.3601030927803,-1.0309278059139615E-4,null,52472.91,52472.910566037732,-5.660377282765694E-4,null,120084,120084,0,null,0,0,0,null,0,0,0,null,0,0,0,null,4864,4864,0,null,0,0,0,null,0,0,0,null,0,0,0,null,646420.13,646420.13066913048,-6.6913047339767218E-4,null,0,0,0,null,646420.13,646420.13066913048,-6.6913047339767218E-4,null,0,null,0,null,null,null,0,null,null,null,0,null,79601.899999999994,79601.902976138663,0,null,3708.3,0,3708,null,null,null,0,null,null,null,0,null,null,null,0,null,null,null,0,null,null,null,0,null,null,null,0,null,"NO",{"$f":"IF(ISERROR(VLOOKUP($A389+8860000,'Growth Data'!$A:$F,3,0)),\"NO\",VLOOKUP($A389+8860000,'Growth Data'!$A:$F,3,0))","v":"NO"},0,null,0,{"$f":"IF(DI389=\"YES\",IF(ISERROR(VLOOKUP($A389+8860000,'Growth Data'!$A:$F,6,0)),0,VLOOKUP($A389+8860000,'Growth Data'!$A:$F,6,0)),0)","v":0},0,null,0,{"$f":"IF(ISERROR(VLOOKUP($A389+8860000,'Growth Data'!$A:$Z,7,0)),0,VLOOKUP($A389+8860000,'Growth Data'!$A:$Z,7,0))","v":0},0,null,"NO",{"$f":"IF(ISERROR(VLOOKUP($A389+8860000,'Growth Data'!$A:$F,4,0)),\"NO\",VLOOKUP($A389+8860000,'Growth Data'!$A:$F,4,0))","v":"NO"},0,null,0,{"$f":"IF(ISERROR(VLOOKUP($A389+8860000,'Growth Data'!$A:$Z,8,0)),0,VLOOKUP($A389+8860000,'Growth Data'!$A:$Z,8,0))","v":0},0,null,0,{"$f":"IF(ISERROR(VLOOKUP($A389+8860000,'Growth Data'!$A:$Z,9,0)),0,VLOOKUP($A389+8860000,'Growth Data'!$A:$Z,9,0))","v":0},0,null,"NO",{"$f":"IF(ISERROR(VLOOKUP($A389+8860000,'Growth Data'!$A:$Z,5,0)),\"NO\",VLOOKUP($A389+8860000,'Growth Data'!$A:$Z,5,0))","v":"NO"},0,null,0,{"$f":"IF(ISERROR(VLOOKUP($A389+8860000,'Growth Data'!$A:$Z,10,0)),0,VLOOKUP($A389+8860000,'Growth Data'!$A:$Z,10,0))","v":0},0,null,0,{"$f":"IF(ISERROR(VLOOKUP($A389+8860000,'Growth Data'!$A:$Z,11,0)),0,VLOOKUP($A389+8860000,'Growth Data'!$A:$Z,11,0))","v":0},0]
[2307,"Warden House Primary School",null,"Warden House Primary School",null,1,null,1373367.48,1373367.48,0,null,241084.66,241084.65873315241,1.2668475974351168E-3,null,0,0,0,null,128972.99,128972.99181102363,-1.8110236269421875E-3,null,120084,120084,0,null,0,0,0,null,0,0,0,null,0,0,0,null,1007.6,1007.6,0,null,0,0,0,null,0,0,0,null,0,0,0,null,1864516.73,1864516.730544176,-5.4417597129940987E-4,null,0,0,0,null,1864516.73,1864516.730544176,-5.4417597129940987E-4,null,0,null,0,null,null,null,0,null,null,null,0,null,311847.90999999997,311847.91285118426,0,null,11677.2,0,11677,null,null,null,0,null,null,null,0,null,null,null,0,null,null,null,0,null,null,null,0,null,null,null,0,null,"NO",{"$f":"IF(ISERROR(VLOOKUP($A390+8860000,'Growth Data'!$A:$F,3,0)),\"NO\",VLOOKUP($A390+8860000,'Growth Data'!$A:$F,3,0))","v":"NO"},0,null,0,{"$f":"IF(DI390=\"YES\",IF(ISERROR(VLOOKUP($A390+8860000,'Growth Data'!$A:$F,6,0)),0,VLOOKUP($A390+8860000,'Growth Data'!$A:$F,6,0)),0)","v":0},0,null,0,{"$f":"IF(ISERROR(VLOOKUP($A390+8860000,'Growth Data'!$A:$Z,7,0)),0,VLOOKUP($A390+8860000,'Growth Data'!$A:$Z,7,0))","v":0},0,null,"NO",{"$f":"IF(ISERROR(VLOOKUP($A390+8860000,'Growth Data'!$A:$F,4,0)),\"NO\",VLOOKUP($A390+8860000,'Growth Data'!$A:$F,4,0))","v":"NO"},0,null,0,{"$f":"IF(ISERROR(VLOOKUP($A390+8860000,'Growth Data'!$A:$Z,8,0)),0,VLOOKUP($A390+8860000,'Growth Data'!$A:$Z,8,0))","v":0},0,null,0,{"$f":"IF(ISERROR(VLOOKUP($A390+8860000,'Growth Data'!$A:$Z,9,0)),0,VLOOKUP($A390+8860000,'Growth Data'!$A:$Z,9,0))","v":0},0,null,"NO",{"$f":"IF(ISERROR(VLOOKUP($A390+8860000,'Growth Data'!$A:$Z,5,0)),\"NO\",VLOOKUP($A390+8860000,'Growth Data'!$A:$Z,5,0))","v":"NO"},0,null,0,{"$f":"IF(ISERROR(VLOOKUP($A390+8860000,'Growth Data'!$A:$Z,10,0)),0,VLOOKUP($A390+8860000,'Growth Data'!$A:$Z,10,0))","v":0},0,null,0,{"$f":"IF(ISERROR(VLOOKUP($A390+8860000,'Growth Data'!$A:$Z,11,0)),0,VLOOKUP($A390+8860000,'Growth Data'!$A:$Z,11,0))","v":0},0]
[2309,"Priory Fields School",null,"Priory Fields School",null,1,null,1163031.92,1163031.92,0,null,274079.63,274079.62999999977,0,null,28934.79,28934.788571428508,1.4285714933066629E-3,null,105463.19,105463.18771331057,2.2866894287290052E-3,null,120084,120084,0,null,0,0,0,null,0,0,0,null,0,0,0,null,6041.6,6041.6,0,null,0,0,0,null,0,0,0,null,0,0,0,null,1697635.13,1697635.126284739,3.71526088565588E-3,null,0,0,0,null,1697635.13,1697635.126284739,3.71526088565588E-3,null,0,null,0,null,null,null,0,null,null,null,0,null,330474.11,330474.10859174706,0,null,9888.7999999999993,0,9889,null,null,null,0,null,null,null,0,null,null,null,0,null,null,null,0,null,null,null,0,null,null,null,0,null,"NO",{"$f":"IF(ISERROR(VLOOKUP($A391+8860000,'Growth Data'!$A:$F,3,0)),\"NO\",VLOOKUP($A391+8860000,'Growth Data'!$A:$F,3,0))","v":"NO"},0,null,0,{"$f":"IF(DI391=\"YES\",IF(ISERROR(VLOOKUP($A391+8860000,'Growth Data'!$A:$F,6,0)),0,VLOOKUP($A391+8860000,'Growth Data'!$A:$F,6,0)),0)","v":0},0,null,0,{"$f":"IF(ISERROR(VLOOKUP($A391+8860000,'Growth Data'!$A:$Z,7,0)),0,VLOOKUP($A391+8860000,'Growth Data'!$A:$Z,7,0))","v":0},0,null,"NO",{"$f":"IF(ISERROR(VLOOKUP($A391+8860000,'Growth Data'!$A:$F,4,0)),\"NO\",VLOOKUP($A391+8860000,'Growth Data'!$A:$F,4,0))","v":"NO"},0,null,0,{"$f":"IF(ISERROR(VLOOKUP($A391+8860000,'Growth Data'!$A:$Z,8,0)),0,VLOOKUP($A391+8860000,'Growth Data'!$A:$Z,8,0))","v":0},0,null,0,{"$f":"IF(ISERROR(VLOOKUP($A391+8860000,'Growth Data'!$A:$Z,9,0)),0,VLOOKUP($A391+8860000,'Growth Data'!$A:$Z,9,0))","v":0},0,null,"NO",{"$f":"IF(ISERROR(VLOOKUP($A391+8860000,'Growth Data'!$A:$Z,5,0)),\"NO\",VLOOKUP($A391+8860000,'Growth Data'!$A:$Z,5,0))","v":"NO"},0,null,0,{"$f":"IF(ISERROR(VLOOKUP($A391+8860000,'Growth Data'!$A:$Z,10,0)),0,VLOOKUP($A391+8860000,'Growth Data'!$A:$Z,10,0))","v":0},0,null,0,{"$f":"IF(ISERROR(VLOOKUP($A391+8860000,'Growth Data'!$A:$Z,11,0)),0,VLOOKUP($A391+8860000,'Growth Data'!$A:$Z,11,0))","v":0},0]
[2310,"Barton Junior School",null,"Barton Junior School",null,1,null,658845.21,658845.21,0,null,143166.29,143166.29150684935,-1.5068493376020342E-3,null,5503.9,5503.899999999996,0,null,56105.53,56105.53125,-1.2500000011641532E-3,null,120084,120084,0,null,0,0,0,null,0,0,0,null,0,0,0,null,3942.2,3942.2,0,null,0,0,0,null,0,0,0,null,0,0,0,null,987647.13,987647.13275684929,-2.7568492805585265E-3,null,0,0,0,null,987647.13,987647.13275684929,-2.7568492805585265E-3,null,0,null,0,null,null,null,0,null,null,null,0,null,169581.99,169581.98506385746,0,null,5601.9,0,5602,null,null,null,0,null,null,null,0,null,null,null,0,null,null,null,0,null,null,null,0,null,null,null,0,null,"NO",{"$f":"IF(ISERROR(VLOOKUP($A392+8860000,'Growth Data'!$A:$F,3,0)),\"NO\",VLOOKUP($A392+8860000,'Growth Data'!$A:$F,3,0))","v":"NO"},0,null,0,{"$f":"IF(DI392=\"YES\",IF(ISERROR(VLOOKUP($A392+8860000,'Growth Data'!$A:$F,6,0)),0,VLOOKUP($A392+8860000,'Growth Data'!$A:$F,6,0)),0)","v":0},0,null,0,{"$f":"IF(ISERROR(VLOOKUP($A392+8860000,'Growth Data'!$A:$Z,7,0)),0,VLOOKUP($A392+8860000,'Growth Data'!$A:$Z,7,0))","v":0},0,null,"NO",{"$f":"IF(ISERROR(VLOOKUP($A392+8860000,'Growth Data'!$A:$F,4,0)),\"NO\",VLOOKUP($A392+8860000,'Growth Data'!$A:$F,4,0))","v":"NO"},0,null,0,{"$f":"IF(ISERROR(VLOOKUP($A392+8860000,'Growth Data'!$A:$Z,8,0)),0,VLOOKUP($A392+8860000,'Growth Data'!$A:$Z,8,0))","v":0},0,null,0,{"$f":"IF(ISERROR(VLOOKUP($A392+8860000,'Growth Data'!$A:$Z,9,0)),0,VLOOKUP($A392+8860000,'Growth Data'!$A:$Z,9,0))","v":0},0,null,"NO",{"$f":"IF(ISERROR(VLOOKUP($A392+8860000,'Growth Data'!$A:$Z,5,0)),\"NO\",VLOOKUP($A392+8860000,'Growth Data'!$A:$Z,5,0))","v":"NO"},0,null,0,{"$f":"IF(ISERROR(VLOOKUP($A392+8860000,'Growth Data'!$A:$Z,10,0)),0,VLOOKUP($A392+8860000,'Growth Data'!$A:$Z,10,0))","v":0},0,null,0,{"$f":"IF(ISERROR(VLOOKUP($A392+8860000,'Growth Data'!$A:$Z,11,0)),0,VLOOKUP($A392+8860000,'Growth Data'!$A:$Z,11,0))","v":0},0]
[2313,"St Martin's School",null,"St Martin's School",null,1,null,680497.4,680497.4,0,null,58413.63,58413.629999999946,0,null,1274.5899999999999,1274.5873684210544,2.6315789455111371E-3,null,58985.07,58985.065957446801,4.0425531988148578E-3,null,120084,120084,0,null,0,0,0,null,0,0,0,null,0,0,0,null,4096,4096,0,null,0,0,0,null,0,0,0,null,345.32,345.31667413217656,3.3258678234346917E-3,null,923696,923696,0,null,0,0,0,null,923696,923696,0,null,0,null,0,null,null,null,0,null,null,null,0,null,110523.42,110523.42230700818,0,null,5786,0,5786,null,null,null,0,null,null,null,0,null,null,null,0,null,null,null,0,null,null,null,0,null,null,null,0,null,"NO",{"$f":"IF(ISERROR(VLOOKUP($A393+8860000,'Growth Data'!$A:$F,3,0)),\"NO\",VLOOKUP($A393+8860000,'Growth Data'!$A:$F,3,0))","v":"NO"},0,null,0,{"$f":"IF(DI393=\"YES\",IF(ISERROR(VLOOKUP($A393+8860000,'Growth Data'!$A:$F,6,0)),0,VLOOKUP($A393+8860000,'Growth Data'!$A:$F,6,0)),0)","v":0},0,null,0,{"$f":"IF(ISERROR(VLOOKUP($A393+8860000,'Growth Data'!$A:$Z,7,0)),0,VLOOKUP($A393+8860000,'Growth Data'!$A:$Z,7,0))","v":0},0,null,"NO",{"$f":"IF(ISERROR(VLOOKUP($A393+8860000,'Growth Data'!$A:$F,4,0)),\"NO\",VLOOKUP($A393+8860000,'Growth Data'!$A:$F,4,0))","v":"NO"},0,null,0,{"$f":"IF(ISERROR(VLOOKUP($A393+8860000,'Growth Data'!$A:$Z,8,0)),0,VLOOKUP($A393+8860000,'Growth Data'!$A:$Z,8,0))","v":0},0,null,0,{"$f":"IF(ISERROR(VLOOKUP($A393+8860000,'Growth Data'!$A:$Z,9,0)),0,VLOOKUP($A393+8860000,'Growth Data'!$A:$Z,9,0))","v":0},0,null,"NO",{"$f":"IF(ISERROR(VLOOKUP($A393+8860000,'Growth Data'!$A:$Z,5,0)),\"NO\",VLOOKUP($A393+8860000,'Growth Data'!$A:$Z,5,0))","v":"NO"},0,null,0,{"$f":"IF(ISERROR(VLOOKUP($A393+8860000,'Growth Data'!$A:$Z,10,0)),0,VLOOKUP($A393+8860000,'Growth Data'!$A:$Z,10,0))","v":0},0,null,0,{"$f":"IF(ISERROR(VLOOKUP($A393+8860000,'Growth Data'!$A:$Z,11,0)),0,VLOOKUP($A393+8860000,'Growth Data'!$A:$Z,11,0))","v":0},0]
[2315,"White Cliffs Primary School",null,"White Cliffs Primary School",null,1,null,1008373.42,1008373.42,0,null,283818.34999999998,283818.34999999998,0,null,11214.2,11214.196249999999,3.7500000016734703E-3,null,88316.64,88316.635940959415,4.0590405842522159E-3,null,120084,120084,0,null,0,0,0,null,0,0,0,null,0,0,0,null,5836.8,5836.8,0,null,0,0,0,null,0,0,0,null,0,0,0,null,1517643.4,1517643.4021909595,-2.1909596398472786E-3,null,0,0,0,null,1517643.4,1517643.4021909595,-2.1909596398472786E-3,null,0,null,0,null,null,null,0,null,null,null,0,null,310409.2,310409.20449796756,0,null,8573.7999999999993,0,8574,null,null,null,0,null,null,null,0,null,null,null,0,null,null,null,0,null,null,null,0,null,null,null,0,null,"NO",{"$f":"IF(ISERROR(VLOOKUP($A394+8860000,'Growth Data'!$A:$F,3,0)),\"NO\",VLOOKUP($A394+8860000,'Growth Data'!$A:$F,3,0))","v":"NO"},0,null,0,{"$f":"IF(DI394=\"YES\",IF(ISERROR(VLOOKUP($A394+8860000,'Growth Data'!$A:$F,6,0)),0,VLOOKUP($A394+8860000,'Growth Data'!$A:$F,6,0)),0)","v":0},0,null,0,{"$f":"IF(ISERROR(VLOOKUP($A394+8860000,'Growth Data'!$A:$Z,7,0)),0,VLOOKUP($A394+8860000,'Growth Data'!$A:$Z,7,0))","v":0},0,null,"NO",{"$f":"IF(ISERROR(VLOOKUP($A394+8860000,'Growth Data'!$A:$F,4,0)),\"NO\",VLOOKUP($A394+8860000,'Growth Data'!$A:$F,4,0))","v":"NO"},0,null,0,{"$f":"IF(ISERROR(VLOOKUP($A394+8860000,'Growth Data'!$A:$Z,8,0)),0,VLOOKUP($A394+8860000,'Growth Data'!$A:$Z,8,0))","v":0},0,null,0,{"$f":"IF(ISERROR(VLOOKUP($A394+8860000,'Growth Data'!$A:$Z,9,0)),0,VLOOKUP($A394+8860000,'Growth Data'!$A:$Z,9,0))","v":0},0,null,"NO",{"$f":"IF(ISERROR(VLOOKUP($A394+8860000,'Growth Data'!$A:$Z,5,0)),\"NO\",VLOOKUP($A394+8860000,'Growth Data'!$A:$Z,5,0))","v":"NO"},0,null,0,{"$f":"IF(ISERROR(VLOOKUP($A394+8860000,'Growth Data'!$A:$Z,10,0)),0,VLOOKUP($A394+8860000,'Growth Data'!$A:$Z,10,0))","v":0},0,null,0,{"$f":"IF(ISERROR(VLOOKUP($A394+8860000,'Growth Data'!$A:$Z,11,0)),0,VLOOKUP($A394+8860000,'Growth Data'!$A:$Z,11,0))","v":0},0]
[2316,"Shatterlocks Infant and Nursery School",null,"Shatterlocks Infant and Nursery School",null,1,null,513466.22,513466.22000000003,0,null,111843.98,111843.97999999997,0,null,6831.01,6831.0085981308384,1.4018691617820878E-3,null,31361.69,31361.693103448277,-3.1034482781251427E-3,null,120084,120084,0,null,0,0,0,null,0,0,0,null,0,0,0,null,6912,6912,0,null,0,0,0,null,0,0,0,null,0,0,0,null,790498.9,790498.9017015791,-1.7015790799632668E-3,null,0,0,0,null,790498.9,790498.9017015791,-1.7015790799632668E-3,null,0,null,0,null,null,null,0,null,null,null,0,null,125430.3,125430.30400858725,0,null,4365.8,0,4366,null,null,null,0,null,null,null,0,null,null,null,0,null,null,null,0,null,null,null,0,null,null,null,0,null,"NO",{"$f":"IF(ISERROR(VLOOKUP($A395+8860000,'Growth Data'!$A:$F,3,0)),\"NO\",VLOOKUP($A395+8860000,'Growth Data'!$A:$F,3,0))","v":"NO"},0,null,0,{"$f":"IF(DI395=\"YES\",IF(ISERROR(VLOOKUP($A395+8860000,'Growth Data'!$A:$F,6,0)),0,VLOOKUP($A395+8860000,'Growth Data'!$A:$F,6,0)),0)","v":0},0,null,0,{"$f":"IF(ISERROR(VLOOKUP($A395+8860000,'Growth Data'!$A:$Z,7,0)),0,VLOOKUP($A395+8860000,'Growth Data'!$A:$Z,7,0))","v":0},0,null,"NO",{"$f":"IF(ISERROR(VLOOKUP($A395+8860000,'Growth Data'!$A:$F,4,0)),\"NO\",VLOOKUP($A395+8860000,'Growth Data'!$A:$F,4,0))","v":"NO"},0,null,0,{"$f":"IF(ISERROR(VLOOKUP($A395+8860000,'Growth Data'!$A:$Z,8,0)),0,VLOOKUP($A395+8860000,'Growth Data'!$A:$Z,8,0))","v":0},0,null,0,{"$f":"IF(ISERROR(VLOOKUP($A395+8860000,'Growth Data'!$A:$Z,9,0)),0,VLOOKUP($A395+8860000,'Growth Data'!$A:$Z,9,0))","v":0},0,null,"NO",{"$f":"IF(ISERROR(VLOOKUP($A395+8860000,'Growth Data'!$A:$Z,5,0)),\"NO\",VLOOKUP($A395+8860000,'Growth Data'!$A:$Z,5,0))","v":"NO"},0,null,0,{"$f":"IF(ISERROR(VLOOKUP($A395+8860000,'Growth Data'!$A:$Z,10,0)),0,VLOOKUP($A395+8860000,'Growth Data'!$A:$Z,10,0))","v":0},0,null,0,{"$f":"IF(ISERROR(VLOOKUP($A395+8860000,'Growth Data'!$A:$Z,11,0)),0,VLOOKUP($A395+8860000,'Growth Data'!$A:$Z,11,0))","v":0},0]
[2435,"South Avenue Primary School",null,"South Avenue Primary School",null,1,null,1280572.3799999999,1280572.3800000001,0,null,180989.02,180989.02471428571,-4.714285722002387E-3,null,16091.91,16091.911016949158,-1.0169491579290479E-3,null,87845.28,87845.283988439303,-3.9884393045213073E-3,null,120084,120084,0,null,0,0,0,null,0,0,0,null,0,0,0,null,7884.8,7884.8,0,null,0,0,0,null,0,0,0,null,44937.4,44937.400280325674,-2.8032567206537351E-4,null,1738404.8,1738404.8,0,null,0,0,0,null,1738404.8,1738404.8,0,null,0,null,0,null,null,null,0,null,null,null,0,null,282701.56,282701.56230700796,0,null,10888.2,0,10888,null,null,null,0,null,null,null,0,null,null,null,0,null,null,null,0,null,null,null,0,null,null,null,0,null,"NO",{"$f":"IF(ISERROR(VLOOKUP($A396+8860000,'Growth Data'!$A:$F,3,0)),\"NO\",VLOOKUP($A396+8860000,'Growth Data'!$A:$F,3,0))","v":"NO"},0,null,0,{"$f":"IF(DI396=\"YES\",IF(ISERROR(VLOOKUP($A396+8860000,'Growth Data'!$A:$F,6,0)),0,VLOOKUP($A396+8860000,'Growth Data'!$A:$F,6,0)),0)","v":0},0,null,0,{"$f":"IF(ISERROR(VLOOKUP($A396+8860000,'Growth Data'!$A:$Z,7,0)),0,VLOOKUP($A396+8860000,'Growth Data'!$A:$Z,7,0))","v":0},0,null,"NO",{"$f":"IF(ISERROR(VLOOKUP($A396+8860000,'Growth Data'!$A:$F,4,0)),\"NO\",VLOOKUP($A396+8860000,'Growth Data'!$A:$F,4,0))","v":"NO"},0,null,0,{"$f":"IF(ISERROR(VLOOKUP($A396+8860000,'Growth Data'!$A:$Z,8,0)),0,VLOOKUP($A396+8860000,'Growth Data'!$A:$Z,8,0))","v":0},0,null,0,{"$f":"IF(ISERROR(VLOOKUP($A396+8860000,'Growth Data'!$A:$Z,9,0)),0,VLOOKUP($A396+8860000,'Growth Data'!$A:$Z,9,0))","v":0},0,null,"NO",{"$f":"IF(ISERROR(VLOOKUP($A396+8860000,'Growth Data'!$A:$Z,5,0)),\"NO\",VLOOKUP($A396+8860000,'Growth Data'!$A:$Z,5,0))","v":"NO"},0,null,0,{"$f":"IF(ISERROR(VLOOKUP($A396+8860000,'Growth Data'!$A:$Z,10,0)),0,VLOOKUP($A396+8860000,'Growth Data'!$A:$Z,10,0))","v":0},0,null,0,{"$f":"IF(ISERROR(VLOOKUP($A396+8860000,'Growth Data'!$A:$Z,11,0)),0,VLOOKUP($A396+8860000,'Growth Data'!$A:$Z,11,0))","v":0},0]
[2438,"Joydens Wood Junior School",null,"Joydens Wood Junior School",null,1,null,1026932.44,1026932.4400000001,0,null,31393.78,31393.780000000002,0,null,7176.69,7176.6865256797591,3.4743202404570184E-3,null,65123.91,65123.910864197525,-8.6419752187794074E-4,null,120084,120084,0,null,0,0,0,null,46026.16,46026.158079947476,1.9200525275664404E-3,null,0,0,0,null,2668.93,2668.9319999999998,-1.9999999999527063E-3,null,0,0,0,null,0,0,0,null,91023.02,91023.024530175127,-4.5301751233637333E-3,null,1390428.93,1390428.9319999998,-1.999999862164259E-3,null,0,0,0,null,1390428.93,1390428.9319999998,-1.999999862164259E-3,null,0,null,0,null,null,null,0,null,null,null,0,null,193543.63,193543.63298390596,0,null,9052.92,0,9053,null,null,null,0,null,null,null,0,null,null,null,0,null,null,null,0,null,null,null,0,null,null,null,0,null,"NO",{"$f":"IF(ISERROR(VLOOKUP($A397+8860000,'Growth Data'!$A:$F,3,0)),\"NO\",VLOOKUP($A397+8860000,'Growth Data'!$A:$F,3,0))","v":"NO"},0,null,0,{"$f":"IF(DI397=\"YES\",IF(ISERROR(VLOOKUP($A397+8860000,'Growth Data'!$A:$F,6,0)),0,VLOOKUP($A397+8860000,'Growth Data'!$A:$F,6,0)),0)","v":0},0,null,0,{"$f":"IF(ISERROR(VLOOKUP($A397+8860000,'Growth Data'!$A:$Z,7,0)),0,VLOOKUP($A397+8860000,'Growth Data'!$A:$Z,7,0))","v":0},0,null,"NO",{"$f":"IF(ISERROR(VLOOKUP($A397+8860000,'Growth Data'!$A:$F,4,0)),\"NO\",VLOOKUP($A397+8860000,'Growth Data'!$A:$F,4,0))","v":"NO"},0,null,0,{"$f":"IF(ISERROR(VLOOKUP($A397+8860000,'Growth Data'!$A:$Z,8,0)),0,VLOOKUP($A397+8860000,'Growth Data'!$A:$Z,8,0))","v":0},0,null,0,{"$f":"IF(ISERROR(VLOOKUP($A397+8860000,'Growth Data'!$A:$Z,9,0)),0,VLOOKUP($A397+8860000,'Growth Data'!$A:$Z,9,0))","v":0},0,null,"NO",{"$f":"IF(ISERROR(VLOOKUP($A397+8860000,'Growth Data'!$A:$Z,5,0)),\"NO\",VLOOKUP($A397+8860000,'Growth Data'!$A:$Z,5,0))","v":"NO"},0,null,0,{"$f":"IF(ISERROR(VLOOKUP($A397+8860000,'Growth Data'!$A:$Z,10,0)),0,VLOOKUP($A397+8860000,'Growth Data'!$A:$Z,10,0))","v":0},0,null,0,{"$f":"IF(ISERROR(VLOOKUP($A397+8860000,'Growth Data'!$A:$Z,11,0)),0,VLOOKUP($A397+8860000,'Growth Data'!$A:$Z,11,0))","v":0},0]
[2462,"Riverview Infant School",null,"Riverview Infant School",null,1,null,1088795.8400000001,1088795.8400000001,0,null,102652.4,102652.40000000002,0,null,30374.07,30374.065084745736,4.9152542633237317E-3,null,94793.39,94793.391186440684,-1.1864406842505559E-3,null,120084,120084,0,null,0,0,0,null,0,0,0,null,0,0,0,null,4121.6000000000004,4121.6000000000004,0,null,0,0,0,null,0,0,0,null,34660.300000000003,34660.30372881348,-3.7288134772097692E-3,null,1475481.6000000001,1475481.6000000001,0,null,0,0,0,null,1475481.6000000001,1475481.6000000001,0,null,0,null,0,null,null,null,0,null,null,null,0,null,237873.78,237873.78230700811,0,null,9257.6,0,9258,null,null,null,0,null,null,null,0,null,null,null,0,null,null,null,0,null,null,null,0,null,null,null,0,null,"NO",{"$f":"IF(ISERROR(VLOOKUP($A398+8860000,'Growth Data'!$A:$F,3,0)),\"NO\",VLOOKUP($A398+8860000,'Growth Data'!$A:$F,3,0))","v":"NO"},0,null,0,{"$f":"IF(DI398=\"YES\",IF(ISERROR(VLOOKUP($A398+8860000,'Growth Data'!$A:$F,6,0)),0,VLOOKUP($A398+8860000,'Growth Data'!$A:$F,6,0)),0)","v":0},0,null,0,{"$f":"IF(ISERROR(VLOOKUP($A398+8860000,'Growth Data'!$A:$Z,7,0)),0,VLOOKUP($A398+8860000,'Growth Data'!$A:$Z,7,0))","v":0},0,null,"NO",{"$f":"IF(ISERROR(VLOOKUP($A398+8860000,'Growth Data'!$A:$F,4,0)),\"NO\",VLOOKUP($A398+8860000,'Growth Data'!$A:$F,4,0))","v":"NO"},0,null,0,{"$f":"IF(ISERROR(VLOOKUP($A398+8860000,'Growth Data'!$A:$Z,8,0)),0,VLOOKUP($A398+8860000,'Growth Data'!$A:$Z,8,0))","v":0},0,null,0,{"$f":"IF(ISERROR(VLOOKUP($A398+8860000,'Growth Data'!$A:$Z,9,0)),0,VLOOKUP($A398+8860000,'Growth Data'!$A:$Z,9,0))","v":0},0,null,"NO",{"$f":"IF(ISERROR(VLOOKUP($A398+8860000,'Growth Data'!$A:$Z,5,0)),\"NO\",VLOOKUP($A398+8860000,'Growth Data'!$A:$Z,5,0))","v":"NO"},0,null,0,{"$f":"IF(ISERROR(VLOOKUP($A398+8860000,'Growth Data'!$A:$Z,10,0)),0,VLOOKUP($A398+8860000,'Growth Data'!$A:$Z,10,0))","v":0},0,null,0,{"$f":"IF(ISERROR(VLOOKUP($A398+8860000,'Growth Data'!$A:$Z,11,0)),0,VLOOKUP($A398+8860000,'Growth Data'!$A:$Z,11,0))","v":0},0]
[2463,"Minterne Community Junior School",null,"Minterne Community Junior School",null,1,null,1129007.05,1129007.05,0,null,77436,77436.001038960952,-1.0389609524281695E-3,null,3302.34,3302.3400000000079,-7.73070496506989E-12,null,107551.21,107551.20672268906,3.2773109414847568E-3,null,120084,120084,0,null,0,0,0,null,0,0,0,null,0,0,0,null,6246.4,6246.4,0,null,0,0,0,null,0,0,0,null,88319.4,88319.402238349925,-2.2383499308489263E-3,null,1531946.4,1531946.4,0,null,0,0,0,null,1531946.4,1531946.4,0,null,0,null,0,null,null,null,0,null,null,null,0,null,261669.29,261669.29230700809,0,null,9599.5,0,9600,null,null,null,0,null,null,null,0,null,null,null,0,null,null,null,0,null,null,null,0,null,null,null,0,null,"NO",{"$f":"IF(ISERROR(VLOOKUP($A399+8860000,'Growth Data'!$A:$F,3,0)),\"NO\",VLOOKUP($A399+8860000,'Growth Data'!$A:$F,3,0))","v":"NO"},0,null,0,{"$f":"IF(DI399=\"YES\",IF(ISERROR(VLOOKUP($A399+8860000,'Growth Data'!$A:$F,6,0)),0,VLOOKUP($A399+8860000,'Growth Data'!$A:$F,6,0)),0)","v":0},0,null,0,{"$f":"IF(ISERROR(VLOOKUP($A399+8860000,'Growth Data'!$A:$Z,7,0)),0,VLOOKUP($A399+8860000,'Growth Data'!$A:$Z,7,0))","v":0},0,null,"NO",{"$f":"IF(ISERROR(VLOOKUP($A399+8860000,'Growth Data'!$A:$F,4,0)),\"NO\",VLOOKUP($A399+8860000,'Growth Data'!$A:$F,4,0))","v":"NO"},0,null,0,{"$f":"IF(ISERROR(VLOOKUP($A399+8860000,'Growth Data'!$A:$Z,8,0)),0,VLOOKUP($A399+8860000,'Growth Data'!$A:$Z,8,0))","v":0},0,null,0,{"$f":"IF(ISERROR(VLOOKUP($A399+8860000,'Growth Data'!$A:$Z,9,0)),0,VLOOKUP($A399+8860000,'Growth Data'!$A:$Z,9,0))","v":0},0,null,"NO",{"$f":"IF(ISERROR(VLOOKUP($A399+8860000,'Growth Data'!$A:$Z,5,0)),\"NO\",VLOOKUP($A399+8860000,'Growth Data'!$A:$Z,5,0))","v":"NO"},0,null,0,{"$f":"IF(ISERROR(VLOOKUP($A399+8860000,'Growth Data'!$A:$Z,10,0)),0,VLOOKUP($A399+8860000,'Growth Data'!$A:$Z,10,0))","v":0},0,null,0,{"$f":"IF(ISERROR(VLOOKUP($A399+8860000,'Growth Data'!$A:$Z,11,0)),0,VLOOKUP($A399+8860000,'Growth Data'!$A:$Z,11,0))","v":0},0]
[2500,"Joydens Wood Infant School",null,"Joydens Wood Infant School",null,1,null,788758.35,788758.35,0,null,20091.63,20091.634560669449,-4.5606694475281984E-3,null,25518.080000000002,25518.081818181843,-1.8181818413722795E-3,null,90896.1,90896.101807228901,-1.8072288949042559E-3,null,120084,120084,0,null,0,0,0,null,38468.81,38468.812589247747,-2.5892477497109212E-3,null,0,0,0,null,2688,2688,0,null,0,0,0,null,0,0,0,null,0,0,0,null,1086504.98,1086504.9807753279,-7.753279060125351E-4,null,0,0,0,null,1086504.98,1086504.9807753279,-7.753279060125351E-4,null,0,null,0,null,null,null,0,null,null,null,0,null,144175.67000000001,144175.66668723398,0,null,6953.3,0,6953,null,null,null,0,null,null,null,0,null,null,null,0,null,null,null,0,null,null,null,0,null,null,null,0,null,"NO",{"$f":"IF(ISERROR(VLOOKUP($A400+8860000,'Growth Data'!$A:$F,3,0)),\"NO\",VLOOKUP($A400+8860000,'Growth Data'!$A:$F,3,0))","v":"NO"},0,null,0,{"$f":"IF(DI400=\"YES\",IF(ISERROR(VLOOKUP($A400+8860000,'Growth Data'!$A:$F,6,0)),0,VLOOKUP($A400+8860000,'Growth Data'!$A:$F,6,0)),0)","v":0},0,null,0,{"$f":"IF(ISERROR(VLOOKUP($A400+8860000,'Growth Data'!$A:$Z,7,0)),0,VLOOKUP($A400+8860000,'Growth Data'!$A:$Z,7,0))","v":0},0,null,"NO",{"$f":"IF(ISERROR(VLOOKUP($A400+8860000,'Growth Data'!$A:$F,4,0)),\"NO\",VLOOKUP($A400+8860000,'Growth Data'!$A:$F,4,0))","v":"NO"},0,null,0,{"$f":"IF(ISERROR(VLOOKUP($A400+8860000,'Growth Data'!$A:$Z,8,0)),0,VLOOKUP($A400+8860000,'Growth Data'!$A:$Z,8,0))","v":0},0,null,0,{"$f":"IF(ISERROR(VLOOKUP($A400+8860000,'Growth Data'!$A:$Z,9,0)),0,VLOOKUP($A400+8860000,'Growth Data'!$A:$Z,9,0))","v":0},0,null,"NO",{"$f":"IF(ISERROR(VLOOKUP($A400+8860000,'Growth Data'!$A:$Z,5,0)),\"NO\",VLOOKUP($A400+8860000,'Growth Data'!$A:$Z,5,0))","v":"NO"},0,null,0,{"$f":"IF(ISERROR(VLOOKUP($A400+8860000,'Growth Data'!$A:$Z,10,0)),0,VLOOKUP($A400+8860000,'Growth Data'!$A:$Z,10,0))","v":0},0,null,0,{"$f":"IF(ISERROR(VLOOKUP($A400+8860000,'Growth Data'!$A:$Z,11,0)),0,VLOOKUP($A400+8860000,'Growth Data'!$A:$Z,11,0))","v":0},0]
[2511,"Hartley Primary Academy",null,"Hartley Primary Academy",null,1,null,1292945.06,1292945.06,0,null,59210.46,59210.459999999963,0,null,10924.78,10924.780279329614,-2.7932961347687524E-4,null,213748.2,213748.20133333333,-1.3333333190530539E-3,null,120084,120084,0,null,0,0,0,null,62446.38,62446.380059345989,-5.9345991758164018E-5,null,0,0,0,null,6574.08,6574.08,0,null,0,0,0,null,0,0,0,null,0,0,0,null,1765932.96,1765932.961672009,-1.6720090061426163E-3,null,0,0,0,null,1765932.96,1765932.961672009,-1.6720090061426163E-3,null,0,null,0,null,null,null,0,null,null,null,0,null,285045.28999999998,285045.29225591494,0,null,11397.96,0,11398,null,null,null,0,null,null,null,0,null,null,null,0,null,null,null,0,null,null,null,0,null,null,null,0,null,"NO",{"$f":"IF(ISERROR(VLOOKUP($A401+8860000,'Growth Data'!$A:$F,3,0)),\"NO\",VLOOKUP($A401+8860000,'Growth Data'!$A:$F,3,0))","v":"NO"},0,null,0,{"$f":"IF(DI401=\"YES\",IF(ISERROR(VLOOKUP($A401+8860000,'Growth Data'!$A:$F,6,0)),0,VLOOKUP($A401+8860000,'Growth Data'!$A:$F,6,0)),0)","v":0},0,null,0,{"$f":"IF(ISERROR(VLOOKUP($A401+8860000,'Growth Data'!$A:$Z,7,0)),0,VLOOKUP($A401+8860000,'Growth Data'!$A:$Z,7,0))","v":0},0,null,"NO",{"$f":"IF(ISERROR(VLOOKUP($A401+8860000,'Growth Data'!$A:$F,4,0)),\"NO\",VLOOKUP($A401+8860000,'Growth Data'!$A:$F,4,0))","v":"NO"},0,null,0,{"$f":"IF(ISERROR(VLOOKUP($A401+8860000,'Growth Data'!$A:$Z,8,0)),0,VLOOKUP($A401+8860000,'Growth Data'!$A:$Z,8,0))","v":0},0,null,0,{"$f":"IF(ISERROR(VLOOKUP($A401+8860000,'Growth Data'!$A:$Z,9,0)),0,VLOOKUP($A401+8860000,'Growth Data'!$A:$Z,9,0))","v":0},0,null,"NO",{"$f":"IF(ISERROR(VLOOKUP($A401+8860000,'Growth Data'!$A:$Z,5,0)),\"NO\",VLOOKUP($A401+8860000,'Growth Data'!$A:$Z,5,0))","v":"NO"},0,null,0,{"$f":"IF(ISERROR(VLOOKUP($A401+8860000,'Growth Data'!$A:$Z,10,0)),0,VLOOKUP($A401+8860000,'Growth Data'!$A:$Z,10,0))","v":0},0,null,0,{"$f":"IF(ISERROR(VLOOKUP($A401+8860000,'Growth Data'!$A:$Z,11,0)),0,VLOOKUP($A401+8860000,'Growth Data'!$A:$Z,11,0))","v":0},0]
[2513,"The Oaks Community Infant School",null,"The Oaks Community Infant School",null,1,null,847528.58,847528.58000000007,0,null,59091.22,59091.219999999958,0,null,5737.22,5737.2175000000052,2.4999999950523488E-3,null,83788.179999999993,83788.180465116267,-4.6511627442669123E-4,null,120084,120084,0,null,0,0,0,null,0,0,0,null,0,0,0,null,4736,4736,0,null,0,0,0,null,0,0,0,null,29090.799999999999,29090.802034883702,-2.0348837024357636E-3,null,1150056,1150056,0,null,0,0,0,null,1150056,1150056,0,null,0,null,0,null,null,null,0,null,null,null,0,null,167831.28,167831.28230700811,0,null,7206.2,0,7206,null,null,null,0,null,null,null,0,null,null,null,0,null,null,null,0,null,null,null,0,null,null,null,0,null,"NO",{"$f":"IF(ISERROR(VLOOKUP($A402+8860000,'Growth Data'!$A:$F,3,0)),\"NO\",VLOOKUP($A402+8860000,'Growth Data'!$A:$F,3,0))","v":"NO"},0,null,0,{"$f":"IF(DI402=\"YES\",IF(ISERROR(VLOOKUP($A402+8860000,'Growth Data'!$A:$F,6,0)),0,VLOOKUP($A402+8860000,'Growth Data'!$A:$F,6,0)),0)","v":0},0,null,0,{"$f":"IF(ISERROR(VLOOKUP($A402+8860000,'Growth Data'!$A:$Z,7,0)),0,VLOOKUP($A402+8860000,'Growth Data'!$A:$Z,7,0))","v":0},0,null,"NO",{"$f":"IF(ISERROR(VLOOKUP($A402+8860000,'Growth Data'!$A:$F,4,0)),\"NO\",VLOOKUP($A402+8860000,'Growth Data'!$A:$F,4,0))","v":"NO"},0,null,0,{"$f":"IF(ISERROR(VLOOKUP($A402+8860000,'Growth Data'!$A:$Z,8,0)),0,VLOOKUP($A402+8860000,'Growth Data'!$A:$Z,8,0))","v":0},0,null,0,{"$f":"IF(ISERROR(VLOOKUP($A402+8860000,'Growth Data'!$A:$Z,9,0)),0,VLOOKUP($A402+8860000,'Growth Data'!$A:$Z,9,0))","v":0},0,null,"NO",{"$f":"IF(ISERROR(VLOOKUP($A402+8860000,'Growth Data'!$A:$Z,5,0)),\"NO\",VLOOKUP($A402+8860000,'Growth Data'!$A:$Z,5,0))","v":"NO"},0,null,0,{"$f":"IF(ISERROR(VLOOKUP($A402+8860000,'Growth Data'!$A:$Z,10,0)),0,VLOOKUP($A402+8860000,'Growth Data'!$A:$Z,10,0))","v":0},0,null,0,{"$f":"IF(ISERROR(VLOOKUP($A402+8860000,'Growth Data'!$A:$Z,11,0)),0,VLOOKUP($A402+8860000,'Growth Data'!$A:$Z,11,0))","v":0},0]
[2523,"Upton Junior School",null,"Upton Junior School",null,1,null,1583703.04,1583703.04,0,null,113163.37,113163.37432866795,-4.3286679574521258E-3,null,4403.12,4403.12,0,null,140835.76,140835.75572016463,4.279835382476449E-3,null,120084,120084,0,null,0,0,0,null,0,0,0,null,0,0,0,null,15400.96,15400.96,0,null,0,0,0,null,0,0,0,null,177970.71,177970.7099511674,4.8832589527592063E-5,null,2155560.96,2155560.96,0,null,0,0,0,null,2155560.96,2155560.96,0,null,0,null,0,null,null,null,0,null,null,null,0,null,406242.74,406242.74230700813,0,null,13465.6,0,13466,null,null,null,0,null,null,null,0,null,null,null,0,null,null,null,0,null,null,null,0,null,null,null,0,null,"NO",{"$f":"IF(ISERROR(VLOOKUP($A403+8860000,'Growth Data'!$A:$F,3,0)),\"NO\",VLOOKUP($A403+8860000,'Growth Data'!$A:$F,3,0))","v":"NO"},0,null,0,{"$f":"IF(DI403=\"YES\",IF(ISERROR(VLOOKUP($A403+8860000,'Growth Data'!$A:$F,6,0)),0,VLOOKUP($A403+8860000,'Growth Data'!$A:$F,6,0)),0)","v":0},0,null,0,{"$f":"IF(ISERROR(VLOOKUP($A403+8860000,'Growth Data'!$A:$Z,7,0)),0,VLOOKUP($A403+8860000,'Growth Data'!$A:$Z,7,0))","v":0},0,null,"NO",{"$f":"IF(ISERROR(VLOOKUP($A403+8860000,'Growth Data'!$A:$F,4,0)),\"NO\",VLOOKUP($A403+8860000,'Growth Data'!$A:$F,4,0))","v":"NO"},0,null,0,{"$f":"IF(ISERROR(VLOOKUP($A403+8860000,'Growth Data'!$A:$Z,8,0)),0,VLOOKUP($A403+8860000,'Growth Data'!$A:$Z,8,0))","v":0},0,null,0,{"$f":"IF(ISERROR(VLOOKUP($A403+8860000,'Growth Data'!$A:$Z,9,0)),0,VLOOKUP($A403+8860000,'Growth Data'!$A:$Z,9,0))","v":0},0,null,"NO",{"$f":"IF(ISERROR(VLOOKUP($A403+8860000,'Growth Data'!$A:$Z,5,0)),\"NO\",VLOOKUP($A403+8860000,'Growth Data'!$A:$Z,5,0))","v":"NO"},0,null,0,{"$f":"IF(ISERROR(VLOOKUP($A403+8860000,'Growth Data'!$A:$Z,10,0)),0,VLOOKUP($A403+8860000,'Growth Data'!$A:$Z,10,0))","v":0},0,null,0,{"$f":"IF(ISERROR(VLOOKUP($A403+8860000,'Growth Data'!$A:$Z,11,0)),0,VLOOKUP($A403+8860000,'Growth Data'!$A:$Z,11,0))","v":0},0]
[2531,"Vale View Community School",null,"Vale View Community School",null,1,null,575329.62,575329.62,0,null,126418.67,126418.6675757576,2.4242423969553784E-3,null,9718.91,9718.9120253164547,-2.0253164548194036E-3,null,68894.61,68894.609577464784,4.2253521678503603E-4,null,120084,120084,0,null,0,0,0,null,0,0,0,null,0,0,0,null,3865.6,3865.6,0,null,0,0,0,null,0,0,0,null,0,0,0,null,904311.41,904311.40917853883,8.2146120257675648E-4,null,0,0,0,null,904311.41,904311.40917853883,8.2146120257675648E-4,null,0,null,0,null,null,null,0,null,null,null,0,null,173060.69,173060.69148554699,0,null,4891.8,0,4892,null,null,null,0,null,null,null,0,null,null,null,0,null,null,null,0,null,null,null,0,null,null,null,0,null,"NO",{"$f":"IF(ISERROR(VLOOKUP($A404+8860000,'Growth Data'!$A:$F,3,0)),\"NO\",VLOOKUP($A404+8860000,'Growth Data'!$A:$F,3,0))","v":"NO"},0,null,0,{"$f":"IF(DI404=\"YES\",IF(ISERROR(VLOOKUP($A404+8860000,'Growth Data'!$A:$F,6,0)),0,VLOOKUP($A404+8860000,'Growth Data'!$A:$F,6,0)),0)","v":0},0,null,0,{"$f":"IF(ISERROR(VLOOKUP($A404+8860000,'Growth Data'!$A:$Z,7,0)),0,VLOOKUP($A404+8860000,'Growth Data'!$A:$Z,7,0))","v":0},0,null,"NO",{"$f":"IF(ISERROR(VLOOKUP($A404+8860000,'Growth Data'!$A:$F,4,0)),\"NO\",VLOOKUP($A404+8860000,'Growth Data'!$A:$F,4,0))","v":"NO"},0,null,0,{"$f":"IF(ISERROR(VLOOKUP($A404+8860000,'Growth Data'!$A:$Z,8,0)),0,VLOOKUP($A404+8860000,'Growth Data'!$A:$Z,8,0))","v":0},0,null,0,{"$f":"IF(ISERROR(VLOOKUP($A404+8860000,'Growth Data'!$A:$Z,9,0)),0,VLOOKUP($A404+8860000,'Growth Data'!$A:$Z,9,0))","v":0},0,null,"NO",{"$f":"IF(ISERROR(VLOOKUP($A404+8860000,'Growth Data'!$A:$Z,5,0)),\"NO\",VLOOKUP($A404+8860000,'Growth Data'!$A:$Z,5,0))","v":"NO"},0,null,0,{"$f":"IF(ISERROR(VLOOKUP($A404+8860000,'Growth Data'!$A:$Z,10,0)),0,VLOOKUP($A404+8860000,'Growth Data'!$A:$Z,10,0))","v":0},0,null,0,{"$f":"IF(ISERROR(VLOOKUP($A404+8860000,'Growth Data'!$A:$Z,11,0)),0,VLOOKUP($A404+8860000,'Growth Data'!$A:$Z,11,0))","v":0},0]
[2534,"Bysing Wood Primary School",null,"Bysing Wood Primary School",null,1,null,420671.12,420671.12,0,null,100685.04,100685.03999999995,0,null,3171.74,3171.7389830508473,1.0169491524720797E-3,null,63867.74,63867.737142857142,2.8571428556460887E-3,null,120084,120084,0,null,0,0,0,null,0,0,0,null,0,0,0,null,48154,48154,0,null,0,0,0,null,0,0,0,null,0,0,0,null,756633.64,756633.63612590788,3.8740921299904585E-3,null,0,0,0,null,756633.64,756633.63612590788,3.8740921299904585E-3,null,0,null,0,null,null,null,0,null,null,null,0,null,141737.18,141737.17843291612,0,null,3576.8,0,3577,null,null,null,0,null,null,null,0,null,null,null,0,null,null,null,0,null,null,null,0,null,null,null,0,null,"NO",{"$f":"IF(ISERROR(VLOOKUP($A405+8860000,'Growth Data'!$A:$F,3,0)),\"NO\",VLOOKUP($A405+8860000,'Growth Data'!$A:$F,3,0))","v":"YES"},1,null,0,{"$f":"IF(DI405=\"YES\",IF(ISERROR(VLOOKUP($A405+8860000,'Growth Data'!$A:$F,6,0)),0,VLOOKUP($A405+8860000,'Growth Data'!$A:$F,6,0)),0)","v":30},-30,null,0,{"$f":"IF(ISERROR(VLOOKUP($A405+8860000,'Growth Data'!$A:$Z,7,0)),0,VLOOKUP($A405+8860000,'Growth Data'!$A:$Z,7,0))","v":60},1,null,"NO",{"$f":"IF(ISERROR(VLOOKUP($A405+8860000,'Growth Data'!$A:$F,4,0)),\"NO\",VLOOKUP($A405+8860000,'Growth Data'!$A:$F,4,0))","v":"YES"},1,null,0,{"$f":"IF(ISERROR(VLOOKUP($A405+8860000,'Growth Data'!$A:$Z,8,0)),0,VLOOKUP($A405+8860000,'Growth Data'!$A:$Z,8,0))","v":30},1,null,0,{"$f":"IF(ISERROR(VLOOKUP($A405+8860000,'Growth Data'!$A:$Z,9,0)),0,VLOOKUP($A405+8860000,'Growth Data'!$A:$Z,9,0))","v":60},1,null,"NO",{"$f":"IF(ISERROR(VLOOKUP($A405+8860000,'Growth Data'!$A:$Z,5,0)),\"NO\",VLOOKUP($A405+8860000,'Growth Data'!$A:$Z,5,0))","v":"YES"},1,null,0,{"$f":"IF(ISERROR(VLOOKUP($A405+8860000,'Growth Data'!$A:$Z,10,0)),0,VLOOKUP($A405+8860000,'Growth Data'!$A:$Z,10,0))","v":30},1,null,0,{"$f":"IF(ISERROR(VLOOKUP($A405+8860000,'Growth Data'!$A:$Z,11,0)),0,VLOOKUP($A405+8860000,'Growth Data'!$A:$Z,11,0))","v":60},1]
[2569,"Briary Primary School",null,"Briary Primary School",null,1,null,949603.19,949603.19000000006,0,null,95416.43,95416.425567748374,4.4322516187094152E-3,null,3106.06,3106.061213235299,-1.2132352990192885E-3,null,119327.29,119327.28550943396,4.4905660324729979E-3,null,120084,120084,0,null,0,0,0,null,0,0,0,null,0,0,0,null,13308,13308,0,null,0,0,0,null,0,0,0,null,0,0,0,null,1300844.96,1300844.9622904176,-2.2904176730662584E-3,null,0,0,0,null,1300844.96,1300844.9622904176,-2.2904176730662584E-3,null,0,null,0,null,null,null,0,null,null,null,0,null,187719.55,187719.5545974258,0,null,8074.1,0,8074,null,null,null,0,null,null,null,0,null,null,null,0,null,null,null,0,null,null,null,0,null,null,null,0,null,"NO",{"$f":"IF(ISERROR(VLOOKUP($A406+8860000,'Growth Data'!$A:$F,3,0)),\"NO\",VLOOKUP($A406+8860000,'Growth Data'!$A:$F,3,0))","v":"NO"},0,null,0,{"$f":"IF(DI406=\"YES\",IF(ISERROR(VLOOKUP($A406+8860000,'Growth Data'!$A:$F,6,0)),0,VLOOKUP($A406+8860000,'Growth Data'!$A:$F,6,0)),0)","v":0},0,null,0,{"$f":"IF(ISERROR(VLOOKUP($A406+8860000,'Growth Data'!$A:$Z,7,0)),0,VLOOKUP($A406+8860000,'Growth Data'!$A:$Z,7,0))","v":0},0,null,"NO",{"$f":"IF(ISERROR(VLOOKUP($A406+8860000,'Growth Data'!$A:$F,4,0)),\"NO\",VLOOKUP($A406+8860000,'Growth Data'!$A:$F,4,0))","v":"NO"},0,null,0,{"$f":"IF(ISERROR(VLOOKUP($A406+8860000,'Growth Data'!$A:$Z,8,0)),0,VLOOKUP($A406+8860000,'Growth Data'!$A:$Z,8,0))","v":0},0,null,0,{"$f":"IF(ISERROR(VLOOKUP($A406+8860000,'Growth Data'!$A:$Z,9,0)),0,VLOOKUP($A406+8860000,'Growth Data'!$A:$Z,9,0))","v":0},0,null,"NO",{"$f":"IF(ISERROR(VLOOKUP($A406+8860000,'Growth Data'!$A:$Z,5,0)),\"NO\",VLOOKUP($A406+8860000,'Growth Data'!$A:$Z,5,0))","v":"NO"},0,null,0,{"$f":"IF(ISERROR(VLOOKUP($A406+8860000,'Growth Data'!$A:$Z,10,0)),0,VLOOKUP($A406+8860000,'Growth Data'!$A:$Z,10,0))","v":0},0,null,0,{"$f":"IF(ISERROR(VLOOKUP($A406+8860000,'Growth Data'!$A:$Z,11,0)),0,VLOOKUP($A406+8860000,'Growth Data'!$A:$Z,11,0))","v":0},0]
[2595,"Grove Park Primary School",null,"Grove Park Primary School",null,1,null,1271292.8700000001,1271292.8700000001,0,null,90515.24,90515.236666666635,3.3333333703922108E-3,null,14138.14,14138.143125000001,-3.1250000010913936E-3,null,116428.68,116428.67548295455,4.5170454395702109E-3,null,120084,120084,0,null,0,0,0,null,0,0,0,null,0,0,0,null,11366.4,11366.4,0,null,0,0,0,null,0,0,0,null,105521.07,105521.07472537871,-4.725378705188632E-3,null,1729346.4,1729346.4,0,null,0,0,0,null,1729346.4,1729346.4,0,null,0,null,0,null,null,null,0,null,null,null,0,null,306139.63,306139.63230700808,0,null,10809.3,0,10809,null,null,null,0,null,null,null,0,null,null,null,0,null,null,null,0,null,null,null,0,null,null,null,0,null,"NO",{"$f":"IF(ISERROR(VLOOKUP($A407+8860000,'Growth Data'!$A:$F,3,0)),\"NO\",VLOOKUP($A407+8860000,'Growth Data'!$A:$F,3,0))","v":"NO"},0,null,0,{"$f":"IF(DI407=\"YES\",IF(ISERROR(VLOOKUP($A407+8860000,'Growth Data'!$A:$F,6,0)),0,VLOOKUP($A407+8860000,'Growth Data'!$A:$F,6,0)),0)","v":0},0,null,0,{"$f":"IF(ISERROR(VLOOKUP($A407+8860000,'Growth Data'!$A:$Z,7,0)),0,VLOOKUP($A407+8860000,'Growth Data'!$A:$Z,7,0))","v":0},0,null,"NO",{"$f":"IF(ISERROR(VLOOKUP($A407+8860000,'Growth Data'!$A:$F,4,0)),\"NO\",VLOOKUP($A407+8860000,'Growth Data'!$A:$F,4,0))","v":"NO"},0,null,0,{"$f":"IF(ISERROR(VLOOKUP($A407+8860000,'Growth Data'!$A:$Z,8,0)),0,VLOOKUP($A407+8860000,'Growth Data'!$A:$Z,8,0))","v":0},0,null,0,{"$f":"IF(ISERROR(VLOOKUP($A407+8860000,'Growth Data'!$A:$Z,9,0)),0,VLOOKUP($A407+8860000,'Growth Data'!$A:$Z,9,0))","v":0},0,null,"NO",{"$f":"IF(ISERROR(VLOOKUP($A407+8860000,'Growth Data'!$A:$Z,5,0)),\"NO\",VLOOKUP($A407+8860000,'Growth Data'!$A:$Z,5,0))","v":"NO"},0,null,0,{"$f":"IF(ISERROR(VLOOKUP($A407+8860000,'Growth Data'!$A:$Z,10,0)),0,VLOOKUP($A407+8860000,'Growth Data'!$A:$Z,10,0))","v":0},0,null,0,{"$f":"IF(ISERROR(VLOOKUP($A407+8860000,'Growth Data'!$A:$Z,11,0)),0,VLOOKUP($A407+8860000,'Growth Data'!$A:$Z,11,0))","v":0},0]
[2596,"Chilton Primary School",null,"Chilton Primary School",null,1,null,1308410.9099999999,1308410.9099999999,0,null,121322.4,121322.39999999988,1.1641532182693481E-10,null,4489.54,4489.5448760330501,-4.8760330500954296E-3,null,95277.2,95277.201499999996,-1.4999999984866008E-3,null,120084,120084,0,null,0,0,0,null,0,0,0,null,0,0,0,null,7526.4,7526.4,0,null,0,0,0,null,0,0,0,null,118555.94,118555.94362396715,-3.6239671462681144E-3,null,1775666.4,1775666.4,0,null,0,0,0,null,1775666.4,1775666.4,0,null,0,null,0,null,null,null,0,null,null,null,0,null,315499.03000000003,315499.03230700828,0,null,11124.9,0,11125,null,null,null,0,null,null,null,0,null,null,null,0,null,null,null,0,null,null,null,0,null,null,null,0,null,"NO",{"$f":"IF(ISERROR(VLOOKUP($A408+8860000,'Growth Data'!$A:$F,3,0)),\"NO\",VLOOKUP($A408+8860000,'Growth Data'!$A:$F,3,0))","v":"NO"},0,null,0,{"$f":"IF(DI408=\"YES\",IF(ISERROR(VLOOKUP($A408+8860000,'Growth Data'!$A:$F,6,0)),0,VLOOKUP($A408+8860000,'Growth Data'!$A:$F,6,0)),0)","v":0},0,null,0,{"$f":"IF(ISERROR(VLOOKUP($A408+8860000,'Growth Data'!$A:$Z,7,0)),0,VLOOKUP($A408+8860000,'Growth Data'!$A:$Z,7,0))","v":0},0,null,"NO",{"$f":"IF(ISERROR(VLOOKUP($A408+8860000,'Growth Data'!$A:$F,4,0)),\"NO\",VLOOKUP($A408+8860000,'Growth Data'!$A:$F,4,0))","v":"NO"},0,null,0,{"$f":"IF(ISERROR(VLOOKUP($A408+8860000,'Growth Data'!$A:$Z,8,0)),0,VLOOKUP($A408+8860000,'Growth Data'!$A:$Z,8,0))","v":0},0,null,0,{"$f":"IF(ISERROR(VLOOKUP($A408+8860000,'Growth Data'!$A:$Z,9,0)),0,VLOOKUP($A408+8860000,'Growth Data'!$A:$Z,9,0))","v":0},0,null,"NO",{"$f":"IF(ISERROR(VLOOKUP($A408+8860000,'Growth Data'!$A:$Z,5,0)),\"NO\",VLOOKUP($A408+8860000,'Growth Data'!$A:$Z,5,0))","v":"NO"},0,null,0,{"$f":"IF(ISERROR(VLOOKUP($A408+8860000,'Growth Data'!$A:$Z,10,0)),0,VLOOKUP($A408+8860000,'Growth Data'!$A:$Z,10,0))","v":0},0,null,0,{"$f":"IF(ISERROR(VLOOKUP($A408+8860000,'Growth Data'!$A:$Z,11,0)),0,VLOOKUP($A408+8860000,'Growth Data'!$A:$Z,11,0))","v":0},0]
[2608,"St Stephen's Junior School",null,"St Stephen's Junior School",null,1,null,1308410.9099999999,1308410.9099999999,0,null,187073.85,187073.85000000003,0,null,19263.650000000001,19263.650000000005,0,null,115573.54,115573.53661417324,3.3858267561299726E-3,null,120084,120084,0,null,0,0,0,null,0,0,0,null,0,0,0,null,8294.4,8294.4,0,null,0,0,0,null,0,0,0,null,17734.05,17734.053385826817,-3.3858268179756124E-3,null,1776434.4,1776434.4,0,null,0,0,0,null,1776434.4,1776434.4,0,null,0,null,0,null,null,null,0,null,null,null,0,null,298467.19,298467.1923070082,0,null,11124.9,0,11125,null,null,null,0,null,null,null,0,null,null,null,0,null,null,null,0,null,null,null,0,null,null,null,0,null,"NO",{"$f":"IF(ISERROR(VLOOKUP($A409+8860000,'Growth Data'!$A:$F,3,0)),\"NO\",VLOOKUP($A409+8860000,'Growth Data'!$A:$F,3,0))","v":"NO"},0,null,0,{"$f":"IF(DI409=\"YES\",IF(ISERROR(VLOOKUP($A409+8860000,'Growth Data'!$A:$F,6,0)),0,VLOOKUP($A409+8860000,'Growth Data'!$A:$F,6,0)),0)","v":0},0,null,0,{"$f":"IF(ISERROR(VLOOKUP($A409+8860000,'Growth Data'!$A:$Z,7,0)),0,VLOOKUP($A409+8860000,'Growth Data'!$A:$Z,7,0))","v":0},0,null,"NO",{"$f":"IF(ISERROR(VLOOKUP($A409+8860000,'Growth Data'!$A:$F,4,0)),\"NO\",VLOOKUP($A409+8860000,'Growth Data'!$A:$F,4,0))","v":"NO"},0,null,0,{"$f":"IF(ISERROR(VLOOKUP($A409+8860000,'Growth Data'!$A:$Z,8,0)),0,VLOOKUP($A409+8860000,'Growth Data'!$A:$Z,8,0))","v":0},0,null,0,{"$f":"IF(ISERROR(VLOOKUP($A409+8860000,'Growth Data'!$A:$Z,9,0)),0,VLOOKUP($A409+8860000,'Growth Data'!$A:$Z,9,0))","v":0},0,null,"NO",{"$f":"IF(ISERROR(VLOOKUP($A409+8860000,'Growth Data'!$A:$Z,5,0)),\"NO\",VLOOKUP($A409+8860000,'Growth Data'!$A:$Z,5,0))","v":"NO"},0,null,0,{"$f":"IF(ISERROR(VLOOKUP($A409+8860000,'Growth Data'!$A:$Z,10,0)),0,VLOOKUP($A409+8860000,'Growth Data'!$A:$Z,10,0))","v":0},0,null,0,{"$f":"IF(ISERROR(VLOOKUP($A409+8860000,'Growth Data'!$A:$Z,11,0)),0,VLOOKUP($A409+8860000,'Growth Data'!$A:$Z,11,0))","v":0},0]
[2625,"Godinton Primary School",null,"Godinton Primary School",null,1,null,1283665.55,1283665.55,0,null,47558.3,47558.297142857133,2.8571428701980039E-3,null,10236.950000000001,10236.945658263294,4.3417367069196189E-3,null,130852.42,130852.42037037037,-3.7037036963738501E-4,null,120084,120084,0,null,0,0,0,null,0,0,0,null,0,0,0,null,10086.4,10086.4,0,null,0,0,0,null,0,0,0,null,142302.79,142302.78682850918,3.1714908254798502E-3,null,1744786.4,1744786.4,0,null,0,0,0,null,1744786.4,1744786.4,0,null,0,null,0,null,null,null,0,null,null,null,0,null,324296.55,324296.55230700813,0,null,10914.5,0,10915,null,null,null,0,null,null,null,0,null,null,null,0,null,null,null,0,null,null,null,0,null,null,null,0,null,"NO",{"$f":"IF(ISERROR(VLOOKUP($A410+8860000,'Growth Data'!$A:$F,3,0)),\"NO\",VLOOKUP($A410+8860000,'Growth Data'!$A:$F,3,0))","v":"NO"},0,null,0,{"$f":"IF(DI410=\"YES\",IF(ISERROR(VLOOKUP($A410+8860000,'Growth Data'!$A:$F,6,0)),0,VLOOKUP($A410+8860000,'Growth Data'!$A:$F,6,0)),0)","v":0},0,null,0,{"$f":"IF(ISERROR(VLOOKUP($A410+8860000,'Growth Data'!$A:$Z,7,0)),0,VLOOKUP($A410+8860000,'Growth Data'!$A:$Z,7,0))","v":0},0,null,"NO",{"$f":"IF(ISERROR(VLOOKUP($A410+8860000,'Growth Data'!$A:$F,4,0)),\"NO\",VLOOKUP($A410+8860000,'Growth Data'!$A:$F,4,0))","v":"NO"},0,null,0,{"$f":"IF(ISERROR(VLOOKUP($A410+8860000,'Growth Data'!$A:$Z,8,0)),0,VLOOKUP($A410+8860000,'Growth Data'!$A:$Z,8,0))","v":0},0,null,0,{"$f":"IF(ISERROR(VLOOKUP($A410+8860000,'Growth Data'!$A:$Z,9,0)),0,VLOOKUP($A410+8860000,'Growth Data'!$A:$Z,9,0))","v":0},0,null,"NO",{"$f":"IF(ISERROR(VLOOKUP($A410+8860000,'Growth Data'!$A:$Z,5,0)),\"NO\",VLOOKUP($A410+8860000,'Growth Data'!$A:$Z,5,0))","v":"NO"},0,null,0,{"$f":"IF(ISERROR(VLOOKUP($A410+8860000,'Growth Data'!$A:$Z,10,0)),0,VLOOKUP($A410+8860000,'Growth Data'!$A:$Z,10,0))","v":0},0,null,0,{"$f":"IF(ISERROR(VLOOKUP($A410+8860000,'Growth Data'!$A:$Z,11,0)),0,VLOOKUP($A410+8860000,'Growth Data'!$A:$Z,11,0))","v":0},0]
[2629,"Holywell Primary School",null,"Holywell Primary School",null,1,null,615540.82999999996,615540.82999999996,0,null,29247.3,29247.299999999937,6.184563972055912E-11,null,10825.4,10825.403313953491,-3.3139534916699631E-3,null,27087.98,27087.978881987576,1.1180124238308053E-3,null,120084,120084,0,null,0,0,0,null,0,0,0,null,0,0,0,null,23578,23578,0,null,0,0,0,null,0,0,0,null,29034.49,29034.487804059056,2.1959409459668677E-3,null,855398,855398.00000000012,0,null,0,0,0,null,855398,855398.00000000012,0,null,0,null,0,null,null,null,0,null,null,null,0,null,89080.95,89080.952307008236,0,null,5233.7,0,5234,null,null,null,0,null,null,null,0,null,null,null,0,null,null,null,0,null,null,null,0,null,null,null,0,null,"NO",{"$f":"IF(ISERROR(VLOOKUP($A411+8860000,'Growth Data'!$A:$F,3,0)),\"NO\",VLOOKUP($A411+8860000,'Growth Data'!$A:$F,3,0))","v":"NO"},0,null,0,{"$f":"IF(DI411=\"YES\",IF(ISERROR(VLOOKUP($A411+8860000,'Growth Data'!$A:$F,6,0)),0,VLOOKUP($A411+8860000,'Growth Data'!$A:$F,6,0)),0)","v":0},0,null,0,{"$f":"IF(ISERROR(VLOOKUP($A411+8860000,'Growth Data'!$A:$Z,7,0)),0,VLOOKUP($A411+8860000,'Growth Data'!$A:$Z,7,0))","v":0},0,null,"NO",{"$f":"IF(ISERROR(VLOOKUP($A411+8860000,'Growth Data'!$A:$F,4,0)),\"NO\",VLOOKUP($A411+8860000,'Growth Data'!$A:$F,4,0))","v":"NO"},0,null,0,{"$f":"IF(ISERROR(VLOOKUP($A411+8860000,'Growth Data'!$A:$Z,8,0)),0,VLOOKUP($A411+8860000,'Growth Data'!$A:$Z,8,0))","v":0},0,null,0,{"$f":"IF(ISERROR(VLOOKUP($A411+8860000,'Growth Data'!$A:$Z,9,0)),0,VLOOKUP($A411+8860000,'Growth Data'!$A:$Z,9,0))","v":0},0,null,"NO",{"$f":"IF(ISERROR(VLOOKUP($A411+8860000,'Growth Data'!$A:$Z,5,0)),\"NO\",VLOOKUP($A411+8860000,'Growth Data'!$A:$Z,5,0))","v":"NO"},0,null,0,{"$f":"IF(ISERROR(VLOOKUP($A411+8860000,'Growth Data'!$A:$Z,10,0)),0,VLOOKUP($A411+8860000,'Growth Data'!$A:$Z,10,0))","v":0},0,null,0,{"$f":"IF(ISERROR(VLOOKUP($A411+8860000,'Growth Data'!$A:$Z,11,0)),0,VLOOKUP($A411+8860000,'Growth Data'!$A:$Z,11,0))","v":0},0]
[2650,"Dymchurch Primary School",null,"Dymchurch Primary School",null,1,null,541304.75,541304.75,0,null,66054.95,66054.953016759799,-3.0167598015395924E-3,null,1901.02,1901.018092105267,1.907894732994464E-3,null,57914.02,57914.018456375845,1.5436241519637406E-3,null,120084,120084,0,null,0,0,0,null,0,0,0,null,0,0,0,null,4359.6000000000004,4359.6000000000004,0,null,0,0,0,null,0,0,0,null,0,0,0,null,791618.34,791618.33956524089,4.3475907295942307E-4,null,0,0,0,null,791618.34,791618.33956524089,4.3475907295942307E-4,null,0,null,0,null,null,null,0,null,null,null,0,null,110930.33,110930.33187224904,0,null,4602.5,0,4603,null,null,null,0,null,null,null,0,null,null,null,0,null,null,null,0,null,null,null,0,null,null,null,0,null,"NO",{"$f":"IF(ISERROR(VLOOKUP($A412+8860000,'Growth Data'!$A:$F,3,0)),\"NO\",VLOOKUP($A412+8860000,'Growth Data'!$A:$F,3,0))","v":"NO"},0,null,0,{"$f":"IF(DI412=\"YES\",IF(ISERROR(VLOOKUP($A412+8860000,'Growth Data'!$A:$F,6,0)),0,VLOOKUP($A412+8860000,'Growth Data'!$A:$F,6,0)),0)","v":0},0,null,0,{"$f":"IF(ISERROR(VLOOKUP($A412+8860000,'Growth Data'!$A:$Z,7,0)),0,VLOOKUP($A412+8860000,'Growth Data'!$A:$Z,7,0))","v":0},0,null,"NO",{"$f":"IF(ISERROR(VLOOKUP($A412+8860000,'Growth Data'!$A:$F,4,0)),\"NO\",VLOOKUP($A412+8860000,'Growth Data'!$A:$F,4,0))","v":"NO"},0,null,0,{"$f":"IF(ISERROR(VLOOKUP($A412+8860000,'Growth Data'!$A:$Z,8,0)),0,VLOOKUP($A412+8860000,'Growth Data'!$A:$Z,8,0))","v":0},0,null,0,{"$f":"IF(ISERROR(VLOOKUP($A412+8860000,'Growth Data'!$A:$Z,9,0)),0,VLOOKUP($A412+8860000,'Growth Data'!$A:$Z,9,0))","v":0},0,null,"NO",{"$f":"IF(ISERROR(VLOOKUP($A412+8860000,'Growth Data'!$A:$Z,5,0)),\"NO\",VLOOKUP($A412+8860000,'Growth Data'!$A:$Z,5,0))","v":"NO"},0,null,0,{"$f":"IF(ISERROR(VLOOKUP($A412+8860000,'Growth Data'!$A:$Z,10,0)),0,VLOOKUP($A412+8860000,'Growth Data'!$A:$Z,10,0))","v":0},0,null,0,{"$f":"IF(ISERROR(VLOOKUP($A412+8860000,'Growth Data'!$A:$Z,11,0)),0,VLOOKUP($A412+8860000,'Growth Data'!$A:$Z,11,0))","v":0},0]
[2654,"The Canterbury Primary School",null,"The Canterbury Primary School",null,1,null,1212522.6399999999,1212522.6400000001,0,null,195668.57,195668.56683804619,3.1619538203813136E-3,null,30643.16,30643.162666666583,-2.6666665835364256E-3,null,90786.45,90786.445678233431,4.3217665661359206E-3,null,120084,120084,0,null,0,0,0,null,0,0,0,null,0,0,0,null,16281.6,16281.6,0,null,0,0,0,null,0,0,0,null,0,0,0,null,1665986.42,1665986.4151829462,4.8170536756515503E-3,null,0,0,0,null,1665986.42,1665986.4151829462,4.8170536756515503E-3,null,0,null,0,null,null,null,0,null,null,null,0,null,265332.92,265332.91748995445,0,null,10309.6,0,10310,null,null,null,0,null,null,null,0,null,null,null,0,null,null,null,0,null,null,null,0,null,null,null,0,null,"NO",{"$f":"IF(ISERROR(VLOOKUP($A413+8860000,'Growth Data'!$A:$F,3,0)),\"NO\",VLOOKUP($A413+8860000,'Growth Data'!$A:$F,3,0))","v":"YES"},1,null,0,{"$f":"IF(DI413=\"YES\",IF(ISERROR(VLOOKUP($A413+8860000,'Growth Data'!$A:$F,6,0)),0,VLOOKUP($A413+8860000,'Growth Data'!$A:$F,6,0)),0)","v":53},-53,null,0,{"$f":"IF(ISERROR(VLOOKUP($A413+8860000,'Growth Data'!$A:$Z,7,0)),0,VLOOKUP($A413+8860000,'Growth Data'!$A:$Z,7,0))","v":60},1,null,"NO",{"$f":"IF(ISERROR(VLOOKUP($A413+8860000,'Growth Data'!$A:$F,4,0)),\"NO\",VLOOKUP($A413+8860000,'Growth Data'!$A:$F,4,0))","v":"NO"},0,null,0,{"$f":"IF(ISERROR(VLOOKUP($A413+8860000,'Growth Data'!$A:$Z,8,0)),0,VLOOKUP($A413+8860000,'Growth Data'!$A:$Z,8,0))","v":0},0,null,0,{"$f":"IF(ISERROR(VLOOKUP($A413+8860000,'Growth Data'!$A:$Z,9,0)),0,VLOOKUP($A413+8860000,'Growth Data'!$A:$Z,9,0))","v":0},0,null,"NO",{"$f":"IF(ISERROR(VLOOKUP($A413+8860000,'Growth Data'!$A:$Z,5,0)),\"NO\",VLOOKUP($A413+8860000,'Growth Data'!$A:$Z,5,0))","v":"NO"},0,null,0,{"$f":"IF(ISERROR(VLOOKUP($A413+8860000,'Growth Data'!$A:$Z,10,0)),0,VLOOKUP($A413+8860000,'Growth Data'!$A:$Z,10,0))","v":0},0,null,0,{"$f":"IF(ISERROR(VLOOKUP($A413+8860000,'Growth Data'!$A:$Z,11,0)),0,VLOOKUP($A413+8860000,'Growth Data'!$A:$Z,11,0))","v":0},0]
[2656,"Meopham Community Academy",null,"Meopham Community Academy",null,1,null,1339342.6100000001,1339342.6100000001,0,null,30071.69,30071.691129377163,-1.1293771640339401E-3,null,1277.8499999999999,1277.8491689008051,8.310991947837465E-4,null,105005.3,105005.30385245902,-3.8524590199813247E-3,null,120084,120084,0,null,0,0,0,null,0,0,0,null,0,0,0,null,6553.6,6553.6,0,null,0,0,0,null,0,0,0,null,214158.55,214158.54584926291,4.150737076997757E-3,null,1816493.6,1816493.6,0,null,0,0,0,null,1816493.6,1816493.6,0,null,0,null,0,null,null,null,0,null,null,null,0,null,343859.49,343859.49230700807,0,null,11387.9,0,11388,null,null,null,0,null,null,null,0,null,null,null,0,null,null,null,0,null,null,null,0,null,null,null,0,null,"NO",{"$f":"IF(ISERROR(VLOOKUP($A414+8860000,'Growth Data'!$A:$F,3,0)),\"NO\",VLOOKUP($A414+8860000,'Growth Data'!$A:$F,3,0))","v":"NO"},0,null,0,{"$f":"IF(DI414=\"YES\",IF(ISERROR(VLOOKUP($A414+8860000,'Growth Data'!$A:$F,6,0)),0,VLOOKUP($A414+8860000,'Growth Data'!$A:$F,6,0)),0)","v":0},0,null,0,{"$f":"IF(ISERROR(VLOOKUP($A414+8860000,'Growth Data'!$A:$Z,7,0)),0,VLOOKUP($A414+8860000,'Growth Data'!$A:$Z,7,0))","v":0},0,null,"NO",{"$f":"IF(ISERROR(VLOOKUP($A414+8860000,'Growth Data'!$A:$F,4,0)),\"NO\",VLOOKUP($A414+8860000,'Growth Data'!$A:$F,4,0))","v":"NO"},0,null,0,{"$f":"IF(ISERROR(VLOOKUP($A414+8860000,'Growth Data'!$A:$Z,8,0)),0,VLOOKUP($A414+8860000,'Growth Data'!$A:$Z,8,0))","v":0},0,null,0,{"$f":"IF(ISERROR(VLOOKUP($A414+8860000,'Growth Data'!$A:$Z,9,0)),0,VLOOKUP($A414+8860000,'Growth Data'!$A:$Z,9,0))","v":0},0,null,"NO",{"$f":"IF(ISERROR(VLOOKUP($A414+8860000,'Growth Data'!$A:$Z,5,0)),\"NO\",VLOOKUP($A414+8860000,'Growth Data'!$A:$Z,5,0))","v":"NO"},0,null,0,{"$f":"IF(ISERROR(VLOOKUP($A414+8860000,'Growth Data'!$A:$Z,10,0)),0,VLOOKUP($A414+8860000,'Growth Data'!$A:$Z,10,0))","v":0},0,null,0,{"$f":"IF(ISERROR(VLOOKUP($A414+8860000,'Growth Data'!$A:$Z,11,0)),0,VLOOKUP($A414+8860000,'Growth Data'!$A:$Z,11,0))","v":0},0]
[2657,"Temple Hill Primary Academy",null,"Temple Hill Primary Academy",null,1,null,2428138.4500000002,2428138.4500000002,0,null,401128.99,401128.99000000028,0,null,76754.960000000006,76754.960744985699,-7.4498569301795214E-4,null,284131.67,284131.67352941172,-3.5294117406010628E-3,null,120084,120084,0,null,0,0,0,null,121816.76,121816.76113329784,-1.1332978465361521E-3,null,0,0,0,null,9574.4,9574.4,0,null,0,0,0,null,0,0,0,null,0,0,0,null,3441629.24,3441629.2354076956,4.5923045836389065E-3,null,0,0,0,null,3441629.24,3441629.2354076956,4.5923045836389065E-3,null,0,null,0,null,null,null,0,null,null,null,0,null,672434.77,672434.77008760138,0,null,21405.25,0,21405,null,null,null,0,null,null,null,0,null,null,null,0,null,null,null,0,null,null,null,0,null,null,null,0,null,"NO",{"$f":"IF(ISERROR(VLOOKUP($A415+8860000,'Growth Data'!$A:$F,3,0)),\"NO\",VLOOKUP($A415+8860000,'Growth Data'!$A:$F,3,0))","v":"YES"},1,null,0,{"$f":"IF(DI415=\"YES\",IF(ISERROR(VLOOKUP($A415+8860000,'Growth Data'!$A:$F,6,0)),0,VLOOKUP($A415+8860000,'Growth Data'!$A:$F,6,0)),0)","v":117},-117,null,0,{"$f":"IF(ISERROR(VLOOKUP($A415+8860000,'Growth Data'!$A:$Z,7,0)),0,VLOOKUP($A415+8860000,'Growth Data'!$A:$Z,7,0))","v":120},1,null,"NO",{"$f":"IF(ISERROR(VLOOKUP($A415+8860000,'Growth Data'!$A:$F,4,0)),\"NO\",VLOOKUP($A415+8860000,'Growth Data'!$A:$F,4,0))","v":"YES"},1,null,0,{"$f":"IF(ISERROR(VLOOKUP($A415+8860000,'Growth Data'!$A:$Z,8,0)),0,VLOOKUP($A415+8860000,'Growth Data'!$A:$Z,8,0))","v":119},1,null,0,{"$f":"IF(ISERROR(VLOOKUP($A415+8860000,'Growth Data'!$A:$Z,9,0)),0,VLOOKUP($A415+8860000,'Growth Data'!$A:$Z,9,0))","v":120},1,null,"NO",{"$f":"IF(ISERROR(VLOOKUP($A415+8860000,'Growth Data'!$A:$Z,5,0)),\"NO\",VLOOKUP($A415+8860000,'Growth Data'!$A:$Z,5,0))","v":"NO"},0,null,0,{"$f":"IF(ISERROR(VLOOKUP($A415+8860000,'Growth Data'!$A:$Z,10,0)),0,VLOOKUP($A415+8860000,'Growth Data'!$A:$Z,10,0))","v":0},0,null,0,{"$f":"IF(ISERROR(VLOOKUP($A415+8860000,'Growth Data'!$A:$Z,11,0)),0,VLOOKUP($A415+8860000,'Growth Data'!$A:$Z,11,0))","v":0},0]
[2658,"Westcourt Primary School",null,"Westcourt Primary School",null,1,null,924857.83,924857.83000000007,0,null,180004.76,180004.76364864857,-3.6486485623754561E-3,null,22962.78,22962.782790697638,-2.7906976392841898E-3,null,69236.12,69236.1240754717,-4.0754717047093436E-3,null,120084,120084,0,null,0,0,0,null,0,0,0,null,0,0,0,null,4787.2,4787.2,0,null,0,0,0,null,0,0,0,null,0,0,0,null,1321932.7,1321932.7005148178,-5.1481788977980614E-4,null,40054.5,40054.498314575758,1.6854242421686649E-3,null,1361987.2,1361987.1988293936,1.1706063523888588E-3,null,0,null,0,null,null,null,0,null,null,null,0,null,270159.63,270159.63113640179,0,null,7863.7,0,7864,null,null,null,0,null,null,null,0,null,null,null,0,null,null,null,0,null,null,null,0,null,null,null,0,null,"NO",{"$f":"IF(ISERROR(VLOOKUP($A416+8860000,'Growth Data'!$A:$F,3,0)),\"NO\",VLOOKUP($A416+8860000,'Growth Data'!$A:$F,3,0))","v":"YES"},1,null,0,{"$f":"IF(DI416=\"YES\",IF(ISERROR(VLOOKUP($A416+8860000,'Growth Data'!$A:$F,6,0)),0,VLOOKUP($A416+8860000,'Growth Data'!$A:$F,6,0)),0)","v":30},-30,null,0,{"$f":"IF(ISERROR(VLOOKUP($A416+8860000,'Growth Data'!$A:$Z,7,0)),0,VLOOKUP($A416+8860000,'Growth Data'!$A:$Z,7,0))","v":60},1,null,"NO",{"$f":"IF(ISERROR(VLOOKUP($A416+8860000,'Growth Data'!$A:$F,4,0)),\"NO\",VLOOKUP($A416+8860000,'Growth Data'!$A:$F,4,0))","v":"YES"},1,null,0,{"$f":"IF(ISERROR(VLOOKUP($A416+8860000,'Growth Data'!$A:$Z,8,0)),0,VLOOKUP($A416+8860000,'Growth Data'!$A:$Z,8,0))","v":30},1,null,0,{"$f":"IF(ISERROR(VLOOKUP($A416+8860000,'Growth Data'!$A:$Z,9,0)),0,VLOOKUP($A416+8860000,'Growth Data'!$A:$Z,9,0))","v":60},1,null,"NO",{"$f":"IF(ISERROR(VLOOKUP($A416+8860000,'Growth Data'!$A:$Z,5,0)),\"NO\",VLOOKUP($A416+8860000,'Growth Data'!$A:$Z,5,0))","v":"NO"},0,null,0,{"$f":"IF(ISERROR(VLOOKUP($A416+8860000,'Growth Data'!$A:$Z,10,0)),0,VLOOKUP($A416+8860000,'Growth Data'!$A:$Z,10,0))","v":0},0,null,0,{"$f":"IF(ISERROR(VLOOKUP($A416+8860000,'Growth Data'!$A:$Z,11,0)),0,VLOOKUP($A416+8860000,'Growth Data'!$A:$Z,11,0))","v":0},0]
[2659,"Sandown School",null,"Sandown School",null,1,null,1193963.6200000001,1193963.6200000001,0,null,148524.15,148524.153038961,-3.0389610037673265E-3,null,3180.4,3180.3973053892169,2.6946107832372945E-3,null,79222.429999999993,79222.431682539682,-1.6825396887725219E-3,null,120084,120084,0,null,0,0,0,null,0,0,0,null,0,0,0,null,7610.4,7610.4000000000005,0,null,0,0,0,null,0,0,0,null,68505.399999999994,68505.397973109968,2.026890026172623E-3,null,1621090.4,1621090.3999999997,0,null,0,0,0,null,1621090.4,1621090.3999999997,0,null,0,null,0,null,null,null,0,null,null,null,0,null,258714.8,258714.80230700807,0,null,10151.799999999999,0,10152,null,null,null,0,null,null,null,0,null,null,null,0,null,null,null,0,null,null,null,0,null,null,null,0,null,"NO",{"$f":"IF(ISERROR(VLOOKUP($A417+8860000,'Growth Data'!$A:$F,3,0)),\"NO\",VLOOKUP($A417+8860000,'Growth Data'!$A:$F,3,0))","v":"NO"},0,null,0,{"$f":"IF(DI417=\"YES\",IF(ISERROR(VLOOKUP($A417+8860000,'Growth Data'!$A:$F,6,0)),0,VLOOKUP($A417+8860000,'Growth Data'!$A:$F,6,0)),0)","v":0},0,null,0,{"$f":"IF(ISERROR(VLOOKUP($A417+8860000,'Growth Data'!$A:$Z,7,0)),0,VLOOKUP($A417+8860000,'Growth Data'!$A:$Z,7,0))","v":0},0,null,"NO",{"$f":"IF(ISERROR(VLOOKUP($A417+8860000,'Growth Data'!$A:$F,4,0)),\"NO\",VLOOKUP($A417+8860000,'Growth Data'!$A:$F,4,0))","v":"NO"},0,null,0,{"$f":"IF(ISERROR(VLOOKUP($A417+8860000,'Growth Data'!$A:$Z,8,0)),0,VLOOKUP($A417+8860000,'Growth Data'!$A:$Z,8,0))","v":0},0,null,0,{"$f":"IF(ISERROR(VLOOKUP($A417+8860000,'Growth Data'!$A:$Z,9,0)),0,VLOOKUP($A417+8860000,'Growth Data'!$A:$Z,9,0))","v":0},0,null,"NO",{"$f":"IF(ISERROR(VLOOKUP($A417+8860000,'Growth Data'!$A:$Z,5,0)),\"NO\",VLOOKUP($A417+8860000,'Growth Data'!$A:$Z,5,0))","v":"NO"},0,null,0,{"$f":"IF(ISERROR(VLOOKUP($A417+8860000,'Growth Data'!$A:$Z,10,0)),0,VLOOKUP($A417+8860000,'Growth Data'!$A:$Z,10,0))","v":0},0,null,0,{"$f":"IF(ISERROR(VLOOKUP($A417+8860000,'Growth Data'!$A:$Z,11,0)),0,VLOOKUP($A417+8860000,'Growth Data'!$A:$Z,11,0))","v":0},0]
[2666,"Wrotham Road Primary School",null,"Wrotham Road Primary School",null,1,null,1265106.53,1265106.53,0,null,136164.38,136164.38000000009,0,null,65230.6,65230.596647727216,3.3522727826493792E-3,null,149389.98000000001,149389.97666666665,3.3333333558402956E-3,null,120084,120084,0,null,0,0,0,null,0,0,0,null,0,0,0,null,5529.6,5529.6,0,null,0,0,0,null,0,0,0,null,0,0,0,null,1741505.08,1741505.0833143941,-3.3143940381705761E-3,null,0,0,0,null,1741505.08,1741505.0833143941,-3.3143940381705761E-3,null,0,null,0,null,null,null,0,null,null,null,0,null,313289.62,313289.6156214021,0,null,10756.7,0,10757,null,null,null,0,null,null,null,0,null,null,null,0,null,null,null,0,null,null,null,0,null,null,null,0,null,"NO",{"$f":"IF(ISERROR(VLOOKUP($A418+8860000,'Growth Data'!$A:$F,3,0)),\"NO\",VLOOKUP($A418+8860000,'Growth Data'!$A:$F,3,0))","v":"NO"},0,null,0,{"$f":"IF(DI418=\"YES\",IF(ISERROR(VLOOKUP($A418+8860000,'Growth Data'!$A:$F,6,0)),0,VLOOKUP($A418+8860000,'Growth Data'!$A:$F,6,0)),0)","v":0},0,null,0,{"$f":"IF(ISERROR(VLOOKUP($A418+8860000,'Growth Data'!$A:$Z,7,0)),0,VLOOKUP($A418+8860000,'Growth Data'!$A:$Z,7,0))","v":0},0,null,"NO",{"$f":"IF(ISERROR(VLOOKUP($A418+8860000,'Growth Data'!$A:$F,4,0)),\"NO\",VLOOKUP($A418+8860000,'Growth Data'!$A:$F,4,0))","v":"NO"},0,null,0,{"$f":"IF(ISERROR(VLOOKUP($A418+8860000,'Growth Data'!$A:$Z,8,0)),0,VLOOKUP($A418+8860000,'Growth Data'!$A:$Z,8,0))","v":0},0,null,0,{"$f":"IF(ISERROR(VLOOKUP($A418+8860000,'Growth Data'!$A:$Z,9,0)),0,VLOOKUP($A418+8860000,'Growth Data'!$A:$Z,9,0))","v":0},0,null,"NO",{"$f":"IF(ISERROR(VLOOKUP($A418+8860000,'Growth Data'!$A:$Z,5,0)),\"NO\",VLOOKUP($A418+8860000,'Growth Data'!$A:$Z,5,0))","v":"NO"},0,null,0,{"$f":"IF(ISERROR(VLOOKUP($A418+8860000,'Growth Data'!$A:$Z,10,0)),0,VLOOKUP($A418+8860000,'Growth Data'!$A:$Z,10,0))","v":0},0,null,0,{"$f":"IF(ISERROR(VLOOKUP($A418+8860000,'Growth Data'!$A:$Z,11,0)),0,VLOOKUP($A418+8860000,'Growth Data'!$A:$Z,11,0))","v":0},0]
[2676,"West Hill Primary Academy",null,"West Hill Primary Academy",null,1,null,1670311.8,1670311.8,0,null,68241.36,68241.359999999826,1.7462298274040222E-10,null,50493.84,50493.843870967867,-3.8709678701707162E-3,null,136346.15,136346.14630872483,3.6912751675117761E-3,null,120084,120084,0,null,0,0,0,null,75273.56,75273.559126612687,8.7338731100317091E-4,null,0,0,0,null,5734.4,5734.4,0,null,0,0,0,null,0,0,0,null,136449.29,136449.29069369478,-6.9369477569125593E-4,null,2262934.4,2262934.4,0,null,0,0,0,null,2262934.4,2262934.4,0,null,0,null,0,null,null,null,0,null,null,null,0,null,379701.08,379701.08015190612,0,null,14724.63,0,14725,null,null,null,0,null,null,null,0,null,null,null,0,null,null,null,0,null,null,null,0,null,null,null,0,null,"NO",{"$f":"IF(ISERROR(VLOOKUP($A419+8860000,'Growth Data'!$A:$F,3,0)),\"NO\",VLOOKUP($A419+8860000,'Growth Data'!$A:$F,3,0))","v":"NO"},0,null,0,{"$f":"IF(DI419=\"YES\",IF(ISERROR(VLOOKUP($A419+8860000,'Growth Data'!$A:$F,6,0)),0,VLOOKUP($A419+8860000,'Growth Data'!$A:$F,6,0)),0)","v":0},0,null,0,{"$f":"IF(ISERROR(VLOOKUP($A419+8860000,'Growth Data'!$A:$Z,7,0)),0,VLOOKUP($A419+8860000,'Growth Data'!$A:$Z,7,0))","v":0},0,null,"NO",{"$f":"IF(ISERROR(VLOOKUP($A419+8860000,'Growth Data'!$A:$F,4,0)),\"NO\",VLOOKUP($A419+8860000,'Growth Data'!$A:$F,4,0))","v":"NO"},0,null,0,{"$f":"IF(ISERROR(VLOOKUP($A419+8860000,'Growth Data'!$A:$Z,8,0)),0,VLOOKUP($A419+8860000,'Growth Data'!$A:$Z,8,0))","v":0},0,null,0,{"$f":"IF(ISERROR(VLOOKUP($A419+8860000,'Growth Data'!$A:$Z,9,0)),0,VLOOKUP($A419+8860000,'Growth Data'!$A:$Z,9,0))","v":0},0,null,"NO",{"$f":"IF(ISERROR(VLOOKUP($A419+8860000,'Growth Data'!$A:$Z,5,0)),\"NO\",VLOOKUP($A419+8860000,'Growth Data'!$A:$Z,5,0))","v":"NO"},0,null,0,{"$f":"IF(ISERROR(VLOOKUP($A419+8860000,'Growth Data'!$A:$Z,10,0)),0,VLOOKUP($A419+8860000,'Growth Data'!$A:$Z,10,0))","v":0},0,null,0,{"$f":"IF(ISERROR(VLOOKUP($A419+8860000,'Growth Data'!$A:$Z,11,0)),0,VLOOKUP($A419+8860000,'Growth Data'!$A:$Z,11,0))","v":0},0]
[2677,"Coxheath Primary School",null,"Coxheath Primary School",null,1,null,1252733.8500000001,1252733.8500000001,0,null,106121.7,106121.69999999995,0,null,9392.19,9392.188904494391,1.0955056095554028E-3,null,121267.34,121267.33691860463,3.0813953635515645E-3,null,120084,120084,0,null,0,0,0,null,0,0,0,null,0,0,0,null,5324.8,5324.8,0,null,0,0,0,null,0,0,0,null,83300.92,83300.924176900939,-4.176900940365158E-3,null,1698224.8,1698224.7999999998,0,null,0,0,0,null,1698224.8,1698224.7999999998,0,null,0,null,0,null,null,null,0,null,null,null,0,null,291332.89,291332.89230700809,0,null,10651.5,0,10652,null,null,null,0,null,null,null,0,null,null,null,0,null,null,null,0,null,null,null,0,null,null,null,0,null,"NO",{"$f":"IF(ISERROR(VLOOKUP($A420+8860000,'Growth Data'!$A:$F,3,0)),\"NO\",VLOOKUP($A420+8860000,'Growth Data'!$A:$F,3,0))","v":"NO"},0,null,0,{"$f":"IF(DI420=\"YES\",IF(ISERROR(VLOOKUP($A420+8860000,'Growth Data'!$A:$F,6,0)),0,VLOOKUP($A420+8860000,'Growth Data'!$A:$F,6,0)),0)","v":0},0,null,0,{"$f":"IF(ISERROR(VLOOKUP($A420+8860000,'Growth Data'!$A:$Z,7,0)),0,VLOOKUP($A420+8860000,'Growth Data'!$A:$Z,7,0))","v":0},0,null,"NO",{"$f":"IF(ISERROR(VLOOKUP($A420+8860000,'Growth Data'!$A:$F,4,0)),\"NO\",VLOOKUP($A420+8860000,'Growth Data'!$A:$F,4,0))","v":"NO"},0,null,0,{"$f":"IF(ISERROR(VLOOKUP($A420+8860000,'Growth Data'!$A:$Z,8,0)),0,VLOOKUP($A420+8860000,'Growth Data'!$A:$Z,8,0))","v":0},0,null,0,{"$f":"IF(ISERROR(VLOOKUP($A420+8860000,'Growth Data'!$A:$Z,9,0)),0,VLOOKUP($A420+8860000,'Growth Data'!$A:$Z,9,0))","v":0},0,null,"NO",{"$f":"IF(ISERROR(VLOOKUP($A420+8860000,'Growth Data'!$A:$Z,5,0)),\"NO\",VLOOKUP($A420+8860000,'Growth Data'!$A:$Z,5,0))","v":"NO"},0,null,0,{"$f":"IF(ISERROR(VLOOKUP($A420+8860000,'Growth Data'!$A:$Z,10,0)),0,VLOOKUP($A420+8860000,'Growth Data'!$A:$Z,10,0))","v":0},0,null,0,{"$f":"IF(ISERROR(VLOOKUP($A420+8860000,'Growth Data'!$A:$Z,11,0)),0,VLOOKUP($A420+8860000,'Growth Data'!$A:$Z,11,0))","v":0},0]
[2679,"The Brent Primary School",null,"The Brent Primary School",null,1,null,1806411.28,1806411.28,0,null,183572.38,183572.37723132965,2.7686703542713076E-3,null,38311.589999999997,38311.591595959537,-1.5959595402819104E-3,null,170387.78,170387.78065040646,-6.5040646586567163E-4,null,120084,120084,0,null,0,0,0,null,85330.63,85330.626684779214,3.3152207906823605E-3,null,0,0,0,null,8140.8,8140.8,0,null,0,0,0,null,0,0,0,null,37022.339999999997,37022.343837525055,-3.8375250587705523E-3,null,2449260.7999999998,2449260.8000000003,0,null,0,0,0,null,2449260.7999999998,2449260.8000000003,0,null,0,null,0,null,null,null,0,null,null,null,0,null,393877.55,393877.55272790592,0,null,15924.42,0,15924,null,null,null,0,null,null,null,0,null,null,null,0,null,null,null,0,null,null,null,0,null,null,null,0,null,"NO",{"$f":"IF(ISERROR(VLOOKUP($A421+8860000,'Growth Data'!$A:$F,3,0)),\"NO\",VLOOKUP($A421+8860000,'Growth Data'!$A:$F,3,0))","v":"YES"},1,null,0,{"$f":"IF(DI421=\"YES\",IF(ISERROR(VLOOKUP($A421+8860000,'Growth Data'!$A:$F,6,0)),0,VLOOKUP($A421+8860000,'Growth Data'!$A:$F,6,0)),0)","v":63},-63,null,0,{"$f":"IF(ISERROR(VLOOKUP($A421+8860000,'Growth Data'!$A:$Z,7,0)),0,VLOOKUP($A421+8860000,'Growth Data'!$A:$Z,7,0))","v":90},1,null,"NO",{"$f":"IF(ISERROR(VLOOKUP($A421+8860000,'Growth Data'!$A:$F,4,0)),\"NO\",VLOOKUP($A421+8860000,'Growth Data'!$A:$F,4,0))","v":"YES"},1,null,0,{"$f":"IF(ISERROR(VLOOKUP($A421+8860000,'Growth Data'!$A:$Z,8,0)),0,VLOOKUP($A421+8860000,'Growth Data'!$A:$Z,8,0))","v":64},1,null,0,{"$f":"IF(ISERROR(VLOOKUP($A421+8860000,'Growth Data'!$A:$Z,9,0)),0,VLOOKUP($A421+8860000,'Growth Data'!$A:$Z,9,0))","v":90},1,null,"NO",{"$f":"IF(ISERROR(VLOOKUP($A421+8860000,'Growth Data'!$A:$Z,5,0)),\"NO\",VLOOKUP($A421+8860000,'Growth Data'!$A:$Z,5,0))","v":"NO"},0,null,0,{"$f":"IF(ISERROR(VLOOKUP($A421+8860000,'Growth Data'!$A:$Z,10,0)),0,VLOOKUP($A421+8860000,'Growth Data'!$A:$Z,10,0))","v":0},0,null,0,{"$f":"IF(ISERROR(VLOOKUP($A421+8860000,'Growth Data'!$A:$Z,11,0)),0,VLOOKUP($A421+8860000,'Growth Data'!$A:$Z,11,0))","v":0},0]
[2684,"Wentworth Primary School",null,"Wentworth Primary School",null,1,null,1874461.02,1874461.02,0,null,88823.03,88823.027959183775,2.0408162235980853E-3,null,25258.09,25258.091766990285,-1.7669902845227625E-3,null,169289.97,169289.96833992095,1.6600790550000966E-3,null,120084,120084,0,null,0,0,0,null,83827.31,83827.312776832303,-2.7768323052441701E-3,null,0,0,0,null,7680,7680,0,null,0,0,0,null,0,0,0,null,171336.58,171336.57915707264,8.4292734391056001E-4,null,2540760,2540760,0,null,0,0,0,null,2540760,2540760,0,null,0,null,0,null,null,null,0,null,null,null,0,null,438669.31,438669.31131990597,0,null,16524.310000000001,0,16524,null,null,null,0,null,null,null,0,null,null,null,0,null,null,null,0,null,null,null,0,null,null,null,0,null,"NO",{"$f":"IF(ISERROR(VLOOKUP($A422+8860000,'Growth Data'!$A:$F,3,0)),\"NO\",VLOOKUP($A422+8860000,'Growth Data'!$A:$F,3,0))","v":"YES"},1,null,0,{"$f":"IF(DI422=\"YES\",IF(ISERROR(VLOOKUP($A422+8860000,'Growth Data'!$A:$F,6,0)),0,VLOOKUP($A422+8860000,'Growth Data'!$A:$F,6,0)),0)","v":75},-75,null,0,{"$f":"IF(ISERROR(VLOOKUP($A422+8860000,'Growth Data'!$A:$Z,7,0)),0,VLOOKUP($A422+8860000,'Growth Data'!$A:$Z,7,0))","v":90},1,null,"NO",{"$f":"IF(ISERROR(VLOOKUP($A422+8860000,'Growth Data'!$A:$F,4,0)),\"NO\",VLOOKUP($A422+8860000,'Growth Data'!$A:$F,4,0))","v":"YES"},1,null,0,{"$f":"IF(ISERROR(VLOOKUP($A422+8860000,'Growth Data'!$A:$Z,8,0)),0,VLOOKUP($A422+8860000,'Growth Data'!$A:$Z,8,0))","v":83},1,null,0,{"$f":"IF(ISERROR(VLOOKUP($A422+8860000,'Growth Data'!$A:$Z,9,0)),0,VLOOKUP($A422+8860000,'Growth Data'!$A:$Z,9,0))","v":90},1,null,"NO",{"$f":"IF(ISERROR(VLOOKUP($A422+8860000,'Growth Data'!$A:$Z,5,0)),\"NO\",VLOOKUP($A422+8860000,'Growth Data'!$A:$Z,5,0))","v":"NO"},0,null,0,{"$f":"IF(ISERROR(VLOOKUP($A422+8860000,'Growth Data'!$A:$Z,10,0)),0,VLOOKUP($A422+8860000,'Growth Data'!$A:$Z,10,0))","v":0},0,null,0,{"$f":"IF(ISERROR(VLOOKUP($A422+8860000,'Growth Data'!$A:$Z,11,0)),0,VLOOKUP($A422+8860000,'Growth Data'!$A:$Z,11,0))","v":0},0]
[2685,"The Gateway Primary Academy",null,"The Gateway Primary Academy",null,1,null,646472.53,646472.53,0,null,30279.8,30279.79975358296,2.4641703930683434E-4,null,21849.56,21849.560558659188,-5.586591869359836E-4,null,50461.14,50461.137118644067,2.8813559329137206E-3,null,120084,120084,0,null,0,0,0,null,31984.61,31984.610609456609,-6.0945660879951902E-4,null,0,0,0,null,5376,5376,0,null,0,0,0,null,0,0,0,null,0,0,0,null,906507.64,906507.63804034283,1.9596571801230311E-3,null,0,0,0,null,906507.64,906507.63804034283,1.9596571801230311E-3,null,0,null,0,null,null,null,0,null,null,null,0,null,103285.14,103285.14481624888,0,null,5698.98,0,5699,null,null,null,0,null,null,null,0,null,null,null,0,null,null,null,0,null,null,null,0,null,null,null,0,null,"NO",{"$f":"IF(ISERROR(VLOOKUP($A423+8860000,'Growth Data'!$A:$F,3,0)),\"NO\",VLOOKUP($A423+8860000,'Growth Data'!$A:$F,3,0))","v":"NO"},0,null,0,{"$f":"IF(DI423=\"YES\",IF(ISERROR(VLOOKUP($A423+8860000,'Growth Data'!$A:$F,6,0)),0,VLOOKUP($A423+8860000,'Growth Data'!$A:$F,6,0)),0)","v":0},0,null,0,{"$f":"IF(ISERROR(VLOOKUP($A423+8860000,'Growth Data'!$A:$Z,7,0)),0,VLOOKUP($A423+8860000,'Growth Data'!$A:$Z,7,0))","v":0},0,null,"NO",{"$f":"IF(ISERROR(VLOOKUP($A423+8860000,'Growth Data'!$A:$F,4,0)),\"NO\",VLOOKUP($A423+8860000,'Growth Data'!$A:$F,4,0))","v":"NO"},0,null,0,{"$f":"IF(ISERROR(VLOOKUP($A423+8860000,'Growth Data'!$A:$Z,8,0)),0,VLOOKUP($A423+8860000,'Growth Data'!$A:$Z,8,0))","v":0},0,null,0,{"$f":"IF(ISERROR(VLOOKUP($A423+8860000,'Growth Data'!$A:$Z,9,0)),0,VLOOKUP($A423+8860000,'Growth Data'!$A:$Z,9,0))","v":0},0,null,"NO",{"$f":"IF(ISERROR(VLOOKUP($A423+8860000,'Growth Data'!$A:$Z,5,0)),\"NO\",VLOOKUP($A423+8860000,'Growth Data'!$A:$Z,5,0))","v":"NO"},0,null,0,{"$f":"IF(ISERROR(VLOOKUP($A423+8860000,'Growth Data'!$A:$Z,10,0)),0,VLOOKUP($A423+8860000,'Growth Data'!$A:$Z,10,0))","v":0},0,null,0,{"$f":"IF(ISERROR(VLOOKUP($A423+8860000,'Growth Data'!$A:$Z,11,0)),0,VLOOKUP($A423+8860000,'Growth Data'!$A:$Z,11,0))","v":0},0]
[2686,"Furley Park Primary Academy",null,"Furley Park Primary Academy",null,1,null,1787852.26,1787852.26,0,null,81413.27,81413.269755337533,2.4466247123200446E-4,null,28069.89,28069.890000000014,0,null,124386.36,124386.36448897795,-4.4889779528602958E-3,null,120084,120084,0,null,0,0,0,null,0,0,0,null,0,0,0,null,14363.34,14363.34,0,null,0,0,0,null,0,0,0,null,274234.21999999997,274234.21575568453,4.2443154379725456E-3,null,2430403.34,2430403.34,0,null,0,0,0,null,2430403.34,2430403.34,0,null,0,null,0,null,null,null,0,null,null,null,0,null,482576.72,482576.72230700811,0,null,15201.4,0,15201,null,null,null,0,null,null,null,0,null,null,null,0,null,null,null,0,null,null,null,0,null,null,null,0,null,"NO",{"$f":"IF(ISERROR(VLOOKUP($A424+8860000,'Growth Data'!$A:$F,3,0)),\"NO\",VLOOKUP($A424+8860000,'Growth Data'!$A:$F,3,0))","v":"NO"},0,null,0,{"$f":"IF(DI424=\"YES\",IF(ISERROR(VLOOKUP($A424+8860000,'Growth Data'!$A:$F,6,0)),0,VLOOKUP($A424+8860000,'Growth Data'!$A:$F,6,0)),0)","v":0},0,null,0,{"$f":"IF(ISERROR(VLOOKUP($A424+8860000,'Growth Data'!$A:$Z,7,0)),0,VLOOKUP($A424+8860000,'Growth Data'!$A:$Z,7,0))","v":0},0,null,"NO",{"$f":"IF(ISERROR(VLOOKUP($A424+8860000,'Growth Data'!$A:$F,4,0)),\"NO\",VLOOKUP($A424+8860000,'Growth Data'!$A:$F,4,0))","v":"NO"},0,null,0,{"$f":"IF(ISERROR(VLOOKUP($A424+8860000,'Growth Data'!$A:$Z,8,0)),0,VLOOKUP($A424+8860000,'Growth Data'!$A:$Z,8,0))","v":0},0,null,0,{"$f":"IF(ISERROR(VLOOKUP($A424+8860000,'Growth Data'!$A:$Z,9,0)),0,VLOOKUP($A424+8860000,'Growth Data'!$A:$Z,9,0))","v":0},0,null,"NO",{"$f":"IF(ISERROR(VLOOKUP($A424+8860000,'Growth Data'!$A:$Z,5,0)),\"NO\",VLOOKUP($A424+8860000,'Growth Data'!$A:$Z,5,0))","v":"NO"},0,null,0,{"$f":"IF(ISERROR(VLOOKUP($A424+8860000,'Growth Data'!$A:$Z,10,0)),0,VLOOKUP($A424+8860000,'Growth Data'!$A:$Z,10,0))","v":0},0,null,0,{"$f":"IF(ISERROR(VLOOKUP($A424+8860000,'Growth Data'!$A:$Z,11,0)),0,VLOOKUP($A424+8860000,'Growth Data'!$A:$Z,11,0))","v":0},0]
[3019,"Shorne Church of England Primary School",null,"Shorne Church of England Primary School",null,1,null,649565.69999999995,649565.70000000007,0,null,14523.14,14523.14,0,null,1284.24,1284.243333333332,-3.3333333319660596E-3,null,49857.54,49857.534999999996,5.0000000046566129E-3,null,120084,120084,0,null,0,0,0,null,0,0,0,null,0,0,0,null,4096,4096,0,null,0,0,0,null,0,0,0,null,42485.38,42485.381666666566,-1.6666665687807836E-3,null,881896,881896,0,null,0,0,0,null,881896,881896,0,null,0,null,0,null,null,null,0,null,null,null,0,null,112544.08,112544.08230700805,0,null,5523,0,5523,null,null,null,0,null,null,null,0,null,null,null,0,null,null,null,0,null,null,null,0,null,null,null,0,null,"NO",{"$f":"IF(ISERROR(VLOOKUP($A425+8860000,'Growth Data'!$A:$F,3,0)),\"NO\",VLOOKUP($A425+8860000,'Growth Data'!$A:$F,3,0))","v":"NO"},0,null,0,{"$f":"IF(DI425=\"YES\",IF(ISERROR(VLOOKUP($A425+8860000,'Growth Data'!$A:$F,6,0)),0,VLOOKUP($A425+8860000,'Growth Data'!$A:$F,6,0)),0)","v":0},0,null,0,{"$f":"IF(ISERROR(VLOOKUP($A425+8860000,'Growth Data'!$A:$Z,7,0)),0,VLOOKUP($A425+8860000,'Growth Data'!$A:$Z,7,0))","v":0},0,null,"NO",{"$f":"IF(ISERROR(VLOOKUP($A425+8860000,'Growth Data'!$A:$F,4,0)),\"NO\",VLOOKUP($A425+8860000,'Growth Data'!$A:$F,4,0))","v":"NO"},0,null,0,{"$f":"IF(ISERROR(VLOOKUP($A425+8860000,'Growth Data'!$A:$Z,8,0)),0,VLOOKUP($A425+8860000,'Growth Data'!$A:$Z,8,0))","v":0},0,null,0,{"$f":"IF(ISERROR(VLOOKUP($A425+8860000,'Growth Data'!$A:$Z,9,0)),0,VLOOKUP($A425+8860000,'Growth Data'!$A:$Z,9,0))","v":0},0,null,"NO",{"$f":"IF(ISERROR(VLOOKUP($A425+8860000,'Growth Data'!$A:$Z,5,0)),\"NO\",VLOOKUP($A425+8860000,'Growth Data'!$A:$Z,5,0))","v":"NO"},0,null,0,{"$f":"IF(ISERROR(VLOOKUP($A425+8860000,'Growth Data'!$A:$Z,10,0)),0,VLOOKUP($A425+8860000,'Growth Data'!$A:$Z,10,0))","v":0},0,null,0,{"$f":"IF(ISERROR(VLOOKUP($A425+8860000,'Growth Data'!$A:$Z,11,0)),0,VLOOKUP($A425+8860000,'Growth Data'!$A:$Z,11,0))","v":0},0]
[3021,"Stone St Mary's CofE Primary School",null,"Stone St Mary's CofE Primary School",null,1,null,1967256.12,1967256.12,0,null,139786.26,139786.26000000021,0,null,30773.45,30773.45406593406,-4.065934059326537E-3,null,193215.89,193215.88795411086,2.0458891522139311E-3,null,120084,120084,0,null,0,0,0,null,90201.06,90201.058570337671,1.4296623267000541E-3,null,0,0,0,null,11059.2,11059.2,0,null,0,0,0,null,0,0,0,null,117163.22,117163.21940961706,5.9038294421043247E-4,null,2669539.2000000002,2669539.2000000002,0,null,0,0,0,null,2669539.2000000002,2669539.2000000002,0,null,0,null,0,null,null,null,0,null,null,null,0,null,444473.62,444473.62261590577,0,null,17342.349999999999,0,17342,null,null,null,0,null,null,null,0,null,null,null,0,null,null,null,0,null,null,null,0,null,null,null,0,null,"NO",{"$f":"IF(ISERROR(VLOOKUP($A426+8860000,'Growth Data'!$A:$F,3,0)),\"NO\",VLOOKUP($A426+8860000,'Growth Data'!$A:$F,3,0))","v":"NO"},0,null,0,{"$f":"IF(DI426=\"YES\",IF(ISERROR(VLOOKUP($A426+8860000,'Growth Data'!$A:$F,6,0)),0,VLOOKUP($A426+8860000,'Growth Data'!$A:$F,6,0)),0)","v":0},0,null,0,{"$f":"IF(ISERROR(VLOOKUP($A426+8860000,'Growth Data'!$A:$Z,7,0)),0,VLOOKUP($A426+8860000,'Growth Data'!$A:$Z,7,0))","v":0},0,null,"NO",{"$f":"IF(ISERROR(VLOOKUP($A426+8860000,'Growth Data'!$A:$F,4,0)),\"NO\",VLOOKUP($A426+8860000,'Growth Data'!$A:$F,4,0))","v":"NO"},0,null,0,{"$f":"IF(ISERROR(VLOOKUP($A426+8860000,'Growth Data'!$A:$Z,8,0)),0,VLOOKUP($A426+8860000,'Growth Data'!$A:$Z,8,0))","v":0},0,null,0,{"$f":"IF(ISERROR(VLOOKUP($A426+8860000,'Growth Data'!$A:$Z,9,0)),0,VLOOKUP($A426+8860000,'Growth Data'!$A:$Z,9,0))","v":0},0,null,"NO",{"$f":"IF(ISERROR(VLOOKUP($A426+8860000,'Growth Data'!$A:$Z,5,0)),\"NO\",VLOOKUP($A426+8860000,'Growth Data'!$A:$Z,5,0))","v":"NO"},0,null,0,{"$f":"IF(ISERROR(VLOOKUP($A426+8860000,'Growth Data'!$A:$Z,10,0)),0,VLOOKUP($A426+8860000,'Growth Data'!$A:$Z,10,0))","v":0},0,null,0,{"$f":"IF(ISERROR(VLOOKUP($A426+8860000,'Growth Data'!$A:$Z,11,0)),0,VLOOKUP($A426+8860000,'Growth Data'!$A:$Z,11,0))","v":0},0]
[3025,"Chiddingstone Church of England School",null,"Chiddingstone Church of England School",null,1,null,646472.53,646472.53,0,null,11783.39,11783.392912621352,-2.9126213521522004E-3,null,642.63,642.63413407821224,-4.1340782122460951E-3,null,18321.27,18321.274399999998,-4.3999999979860149E-3,null,120084,120084,0,null,0,0,0,null,29340.78,29340.780997238544,-9.9723854509647936E-4,null,0,0,0,null,2534.4,2534.4,0,null,0,0,0,null,0,0,0,null,46975.39,46975.387556061862,2.4439381377305835E-3,null,876154.4,876154.4,0,null,0,0,0,null,876154.4,876154.4,0,null,0,null,0,null,null,null,0,null,null,null,0,null,80546.100000000006,80546.104535906023,0,null,5698.98,0,5699,null,null,null,0,null,null,null,0,null,null,null,0,null,null,null,0,null,null,null,0,null,null,null,0,null,"NO",{"$f":"IF(ISERROR(VLOOKUP($A427+8860000,'Growth Data'!$A:$F,3,0)),\"NO\",VLOOKUP($A427+8860000,'Growth Data'!$A:$F,3,0))","v":"NO"},0,null,0,{"$f":"IF(DI427=\"YES\",IF(ISERROR(VLOOKUP($A427+8860000,'Growth Data'!$A:$F,6,0)),0,VLOOKUP($A427+8860000,'Growth Data'!$A:$F,6,0)),0)","v":0},0,null,0,{"$f":"IF(ISERROR(VLOOKUP($A427+8860000,'Growth Data'!$A:$Z,7,0)),0,VLOOKUP($A427+8860000,'Growth Data'!$A:$Z,7,0))","v":0},0,null,"NO",{"$f":"IF(ISERROR(VLOOKUP($A427+8860000,'Growth Data'!$A:$F,4,0)),\"NO\",VLOOKUP($A427+8860000,'Growth Data'!$A:$F,4,0))","v":"NO"},0,null,0,{"$f":"IF(ISERROR(VLOOKUP($A427+8860000,'Growth Data'!$A:$Z,8,0)),0,VLOOKUP($A427+8860000,'Growth Data'!$A:$Z,8,0))","v":0},0,null,0,{"$f":"IF(ISERROR(VLOOKUP($A427+8860000,'Growth Data'!$A:$Z,9,0)),0,VLOOKUP($A427+8860000,'Growth Data'!$A:$Z,9,0))","v":0},0,null,"NO",{"$f":"IF(ISERROR(VLOOKUP($A427+8860000,'Growth Data'!$A:$Z,5,0)),\"NO\",VLOOKUP($A427+8860000,'Growth Data'!$A:$Z,5,0))","v":"NO"},0,null,0,{"$f":"IF(ISERROR(VLOOKUP($A427+8860000,'Growth Data'!$A:$Z,10,0)),0,VLOOKUP($A427+8860000,'Growth Data'!$A:$Z,10,0))","v":0},0,null,0,{"$f":"IF(ISERROR(VLOOKUP($A427+8860000,'Growth Data'!$A:$Z,11,0)),0,VLOOKUP($A427+8860000,'Growth Data'!$A:$Z,11,0))","v":0},0]
[3059,"St Mark's Church of England Primary School, Eccles",null,"St Mark's Church of England Primary School, Eccles",null,1,null,417577.95,417577.95,0,null,16267.28,16267.280000000006,0,null,0,0,0,null,40944.620000000003,40944.620089285716,-8.9285713329445571E-5,null,120084,120084,0,null,0,0,0,null,0,0,0,null,0,0,0,null,4582.3999999999996,4582.3999999999996,0,null,0,0,0,null,0,0,0,null,0,0,0,null,599456.25,599456.25008928578,-8.9285778813064098E-5,null,7207.96,7207.9642824662151,-4.2824662150451331E-3,null,606664.21,606664.21437175199,-4.37175203114748E-3,null,0,null,0,null,null,null,0,null,null,null,0,null,62829.49,62829.486678760077,0,null,3550.5,0,3551,null,null,null,0,null,null,null,0,null,null,null,0,null,null,null,0,null,null,null,0,null,null,null,0,null,"NO",{"$f":"IF(ISERROR(VLOOKUP($A428+8860000,'Growth Data'!$A:$F,3,0)),\"NO\",VLOOKUP($A428+8860000,'Growth Data'!$A:$F,3,0))","v":"NO"},0,null,0,{"$f":"IF(DI428=\"YES\",IF(ISERROR(VLOOKUP($A428+8860000,'Growth Data'!$A:$F,6,0)),0,VLOOKUP($A428+8860000,'Growth Data'!$A:$F,6,0)),0)","v":0},0,null,0,{"$f":"IF(ISERROR(VLOOKUP($A428+8860000,'Growth Data'!$A:$Z,7,0)),0,VLOOKUP($A428+8860000,'Growth Data'!$A:$Z,7,0))","v":0},0,null,"NO",{"$f":"IF(ISERROR(VLOOKUP($A428+8860000,'Growth Data'!$A:$F,4,0)),\"NO\",VLOOKUP($A428+8860000,'Growth Data'!$A:$F,4,0))","v":"NO"},0,null,0,{"$f":"IF(ISERROR(VLOOKUP($A428+8860000,'Growth Data'!$A:$Z,8,0)),0,VLOOKUP($A428+8860000,'Growth Data'!$A:$Z,8,0))","v":0},0,null,0,{"$f":"IF(ISERROR(VLOOKUP($A428+8860000,'Growth Data'!$A:$Z,9,0)),0,VLOOKUP($A428+8860000,'Growth Data'!$A:$Z,9,0))","v":0},0,null,"NO",{"$f":"IF(ISERROR(VLOOKUP($A428+8860000,'Growth Data'!$A:$Z,5,0)),\"NO\",VLOOKUP($A428+8860000,'Growth Data'!$A:$Z,5,0))","v":"NO"},0,null,0,{"$f":"IF(ISERROR(VLOOKUP($A428+8860000,'Growth Data'!$A:$Z,10,0)),0,VLOOKUP($A428+8860000,'Growth Data'!$A:$Z,10,0))","v":0},0,null,0,{"$f":"IF(ISERROR(VLOOKUP($A428+8860000,'Growth Data'!$A:$Z,11,0)),0,VLOOKUP($A428+8860000,'Growth Data'!$A:$Z,11,0))","v":0},0]
[3086,"West Malling Church of England Primary School and McGinty Speech and Language Centre",null,"West Malling Church of England Primary School and McGinty Speech and Language Centre",null,1,null,600074.98,600074.98,0,null,57616.02,57616.019999999982,0,null,2399.4499999999998,2399.45303370787,-3.0337078701450082E-3,null,76627.45,76627.45093023256,-9.302325634052977E-4,null,120084,120084,0,null,0,0,0,null,0,0,0,null,0,0,0,null,3777.2,3777.2,0,null,0,0,0,null,0,0,0,null,0,0,0,null,860579.1,860579.1039639404,-3.9639404276385903E-3,null,0,0,0,null,860579.1,860579.1039639404,-3.9639404276385903E-3,null,0,null,0,null,null,null,0,null,null,null,0,null,125846.15,125846.14627094856,0,null,5102.2,0,5102,null,null,null,0,null,null,null,0,null,null,null,0,null,null,null,0,null,null,null,0,null,null,null,0,null,"NO",{"$f":"IF(ISERROR(VLOOKUP($A429+8860000,'Growth Data'!$A:$F,3,0)),\"NO\",VLOOKUP($A429+8860000,'Growth Data'!$A:$F,3,0))","v":"NO"},0,null,0,{"$f":"IF(DI429=\"YES\",IF(ISERROR(VLOOKUP($A429+8860000,'Growth Data'!$A:$F,6,0)),0,VLOOKUP($A429+8860000,'Growth Data'!$A:$F,6,0)),0)","v":0},0,null,0,{"$f":"IF(ISERROR(VLOOKUP($A429+8860000,'Growth Data'!$A:$Z,7,0)),0,VLOOKUP($A429+8860000,'Growth Data'!$A:$Z,7,0))","v":0},0,null,"NO",{"$f":"IF(ISERROR(VLOOKUP($A429+8860000,'Growth Data'!$A:$F,4,0)),\"NO\",VLOOKUP($A429+8860000,'Growth Data'!$A:$F,4,0))","v":"NO"},0,null,0,{"$f":"IF(ISERROR(VLOOKUP($A429+8860000,'Growth Data'!$A:$Z,8,0)),0,VLOOKUP($A429+8860000,'Growth Data'!$A:$Z,8,0))","v":0},0,null,0,{"$f":"IF(ISERROR(VLOOKUP($A429+8860000,'Growth Data'!$A:$Z,9,0)),0,VLOOKUP($A429+8860000,'Growth Data'!$A:$Z,9,0))","v":0},0,null,"NO",{"$f":"IF(ISERROR(VLOOKUP($A429+8860000,'Growth Data'!$A:$Z,5,0)),\"NO\",VLOOKUP($A429+8860000,'Growth Data'!$A:$Z,5,0))","v":"NO"},0,null,0,{"$f":"IF(ISERROR(VLOOKUP($A429+8860000,'Growth Data'!$A:$Z,10,0)),0,VLOOKUP($A429+8860000,'Growth Data'!$A:$Z,10,0))","v":0},0,null,0,{"$f":"IF(ISERROR(VLOOKUP($A429+8860000,'Growth Data'!$A:$Z,11,0)),0,VLOOKUP($A429+8860000,'Growth Data'!$A:$Z,11,0))","v":0},0]
[3106,"Eastchurch Church of England Primary School",null,"Eastchurch Church of England Primary School",null,1,null,1153752.4099999999,1153752.4099999999,0,null,257412.81,257412.81455525599,-4.5552559895440936E-3,null,5615.99,5615.9855015197672,4.498480232541624E-3,null,139689.87,139689.86924050632,7.5949367601424456E-4,null,120084,120084,0,null,0,0,0,null,0,0,0,null,33000,33000,0,null,77824,77824,0,null,0,0,0,null,0,0,0,null,0,0,0,null,1787379.08,1787379.079297282,7.0271803997457027E-4,null,0,0,0,null,1787379.08,1787379.079297282,7.0271803997457027E-4,null,0,null,0,null,null,null,0,null,null,null,0,null,351874.05,351874.0516042902,0,null,9809.9,0,9810,null,null,null,0,null,null,null,0,null,null,null,0,null,null,null,0,null,null,null,0,null,null,null,0,null,"NO",{"$f":"IF(ISERROR(VLOOKUP($A430+8860000,'Growth Data'!$A:$F,3,0)),\"NO\",VLOOKUP($A430+8860000,'Growth Data'!$A:$F,3,0))","v":"NO"},0,null,0,{"$f":"IF(DI430=\"YES\",IF(ISERROR(VLOOKUP($A430+8860000,'Growth Data'!$A:$F,6,0)),0,VLOOKUP($A430+8860000,'Growth Data'!$A:$F,6,0)),0)","v":0},0,null,0,{"$f":"IF(ISERROR(VLOOKUP($A430+8860000,'Growth Data'!$A:$Z,7,0)),0,VLOOKUP($A430+8860000,'Growth Data'!$A:$Z,7,0))","v":0},0,null,"NO",{"$f":"IF(ISERROR(VLOOKUP($A430+8860000,'Growth Data'!$A:$F,4,0)),\"NO\",VLOOKUP($A430+8860000,'Growth Data'!$A:$F,4,0))","v":"NO"},0,null,0,{"$f":"IF(ISERROR(VLOOKUP($A430+8860000,'Growth Data'!$A:$Z,8,0)),0,VLOOKUP($A430+8860000,'Growth Data'!$A:$Z,8,0))","v":0},0,null,0,{"$f":"IF(ISERROR(VLOOKUP($A430+8860000,'Growth Data'!$A:$Z,9,0)),0,VLOOKUP($A430+8860000,'Growth Data'!$A:$Z,9,0))","v":0},0,null,"NO",{"$f":"IF(ISERROR(VLOOKUP($A430+8860000,'Growth Data'!$A:$Z,5,0)),\"NO\",VLOOKUP($A430+8860000,'Growth Data'!$A:$Z,5,0))","v":"NO"},0,null,0,{"$f":"IF(ISERROR(VLOOKUP($A430+8860000,'Growth Data'!$A:$Z,10,0)),0,VLOOKUP($A430+8860000,'Growth Data'!$A:$Z,10,0))","v":0},0,null,0,{"$f":"IF(ISERROR(VLOOKUP($A430+8860000,'Growth Data'!$A:$Z,11,0)),0,VLOOKUP($A430+8860000,'Growth Data'!$A:$Z,11,0))","v":0},0]
[3110,"Milstead and Frinsted Church of England Primary School",null,"Milstead and Frinsted Church of England Primary School",null,1,null,300037.49,300037.49,0,null,19541.560000000001,19541.559999999998,0,null,0,0,0,null,28343.919999999998,28343.917333333335,2.6666666635719594E-3,null,120084,120084,0,null,0,0,0,null,0,0,0,null,0,0,0,null,1132.44,1132.4359999999999,4.0000000001327862E-3,null,0,0,0,null,0,0,0,null,0,0,0,null,469139.4,469139.40333333332,-3.3333332976326346E-3,null,4704.2299999999996,4704.2325451666256,-2.5451666260778438E-3,null,473843.64,473843.63587849995,4.1215000674128532E-3,null,0,null,0,null,null,null,0,null,null,null,{"$f":"BX431-BY431","v":0},null,52840.61,52840.612185508107,{"$f":"ROUND(CB431-CC431,0)","v":0},null,2551.1,0,{"$f":"ROUND(CF431-CG431,0)","v":2551},null,null,null,{"$f":"ROUND(CJ431-CK431,0)","v":0},null,null,null,{"$f":"ROUND(CN431-CO431,0)","v":0},null,null,null,{"$f":"ROUND(CR431-CS431,0)","v":0},null,null,null,{"$f":"ROUND(CV431-CW431,0)","v":0},null,null,null,{"$f":"ROUND(CZ431-DA431,0)","v":0},null,null,null,{"$f":"ROUND(DD431-DE431,0)","v":0},null,"NO",{"$f":"IF(ISERROR(VLOOKUP($A431+8860000,'Growth Data'!$A:$F,3,0)),\"NO\",VLOOKUP($A431+8860000,'Growth Data'!$A:$F,3,0))","v":"NO"},{"$f":"IF(DH431=DI431,0,1)","v":0},null,0,{"$f":"IF(DI431=\"YES\",IF(ISERROR(VLOOKUP($A431+8860000,'Growth Data'!$A:$F,6,0)),0,VLOOKUP($A431+8860000,'Growth Data'!$A:$F,6,0)),0)","v":0},{"$f":"ROUND(DL431-DM431,0)","v":0},null,0,{"$f":"IF(ISERROR(VLOOKUP($A431+8860000,'Growth Data'!$A:$Z,7,0)),0,VLOOKUP($A431+8860000,'Growth Data'!$A:$Z,7,0))","v":0},{"$f":"IF(DP431=DQ431,0,1)","v":0},null,"NO",{"$f":"IF(ISERROR(VLOOKUP($A431+8860000,'Growth Data'!$A:$F,4,0)),\"NO\",VLOOKUP($A431+8860000,'Growth Data'!$A:$F,4,0))","v":"NO"},{"$f":"IF(DT431=DU431,0,1)","v":0},null,0,{"$f":"IF(ISERROR(VLOOKUP($A431+8860000,'Growth Data'!$A:$Z,8,0)),0,VLOOKUP($A431+8860000,'Growth Data'!$A:$Z,8,0))","v":0},{"$f":"IF(DX431=DY431,0,1)","v":0},null,0,{"$f":"IF(ISERROR(VLOOKUP($A431+8860000,'Growth Data'!$A:$Z,9,0)),0,VLOOKUP($A431+8860000,'Growth Data'!$A:$Z,9,0))","v":0},{"$f":"IF(EB431=EC431,0,1)","v":0},null,"NO",{"$f":"IF(ISERROR(VLOOKUP($A431+8860000,'Growth Data'!$A:$Z,5,0)),\"NO\",VLOOKUP($A431+8860000,'Growth Data'!$A:$Z,5,0))","v":"NO"},{"$f":"IF(EF431=EG431,0,1)","v":0},null,0,{"$f":"IF(ISERROR(VLOOKUP($A431+8860000,'Growth Data'!$A:$Z,10,0)),0,VLOOKUP($A431+8860000,'Growth Data'!$A:$Z,10,0))","v":0},{"$f":"IF(EJ431=EK431,0,1)","v":0},null,0,{"$f":"IF(ISERROR(VLOOKUP($A431+8860000,'Growth Data'!$A:$Z,11,0)),0,VLOOKUP($A431+8860000,'Growth Data'!$A:$Z,11,0))","v":0},{"$f":"IF(EN431=EO431,0,1)","v":0}]
[3112,"Selling Church of England Primary School",null,"Selling Church of England Primary School",null,1,null,405205.27,405205.27,0,null,20884.48,20884.480000000018,0,null,1181.99,1181.9850819672115,4.9180327885096631E-3,null,34981.769999999997,34981.766638655463,3.3613445339142345E-3,null,120084,120084,0,null,0,0,0,null,0,0,0,null,0,0,0,null,2142,2141.99999999999,1.0004441719502211E-11,null,0,0,0,null,0,0,0,null,0,0,0,null,584479.5,584479.50172062265,-1.7206226475536823E-3,null,0,0,0,null,584479.5,584479.50172062265,-1.7206226475536823E-3,null,0,null,0,null,null,null,0,null,null,null,0,null,54076.89,54076.894027630828,0,null,3445.3,0,3445,null,null,null,0,null,null,null,0,null,null,null,0,null,null,null,0,null,null,null,0,null,null,null,0,null,"NO",{"$f":"IF(ISERROR(VLOOKUP($A432+8860000,'Growth Data'!$A:$F,3,0)),\"NO\",VLOOKUP($A432+8860000,'Growth Data'!$A:$F,3,0))","v":"NO"},0,null,0,{"$f":"IF(DI432=\"YES\",IF(ISERROR(VLOOKUP($A432+8860000,'Growth Data'!$A:$F,6,0)),0,VLOOKUP($A432+8860000,'Growth Data'!$A:$F,6,0)),0)","v":0},0,null,0,{"$f":"IF(ISERROR(VLOOKUP($A432+8860000,'Growth Data'!$A:$Z,7,0)),0,VLOOKUP($A432+8860000,'Growth Data'!$A:$Z,7,0))","v":0},0,null,"NO",{"$f":"IF(ISERROR(VLOOKUP($A432+8860000,'Growth Data'!$A:$F,4,0)),\"NO\",VLOOKUP($A432+8860000,'Growth Data'!$A:$F,4,0))","v":"NO"},0,null,0,{"$f":"IF(ISERROR(VLOOKUP($A432+8860000,'Growth Data'!$A:$Z,8,0)),0,VLOOKUP($A432+8860000,'Growth Data'!$A:$Z,8,0))","v":0},0,null,0,{"$f":"IF(ISERROR(VLOOKUP($A432+8860000,'Growth Data'!$A:$Z,9,0)),0,VLOOKUP($A432+8860000,'Growth Data'!$A:$Z,9,0))","v":0},0,null,"NO",{"$f":"IF(ISERROR(VLOOKUP($A432+8860000,'Growth Data'!$A:$Z,5,0)),\"NO\",VLOOKUP($A432+8860000,'Growth Data'!$A:$Z,5,0))","v":"NO"},0,null,0,{"$f":"IF(ISERROR(VLOOKUP($A432+8860000,'Growth Data'!$A:$Z,10,0)),0,VLOOKUP($A432+8860000,'Growth Data'!$A:$Z,10,0))","v":0},0,null,0,{"$f":"IF(ISERROR(VLOOKUP($A432+8860000,'Growth Data'!$A:$Z,11,0)),0,VLOOKUP($A432+8860000,'Growth Data'!$A:$Z,11,0))","v":0},0]
[3119,"Adisham Church of England Primary School",null,"Adisham Church of England Primary School",null,1,null,327876.02,327876.02,0,null,21003.83,21003.830727272696,-7.2727269434835762E-4,null,641.11,641.11362637362697,-3.626373626957502E-3,null,12763.91,12763.914285714285,-4.2857142852881225E-3,null,120084,120084,0,null,0,0,0,null,0,0,0,null,0,0,0,null,2867.2,2867.2,0,null,0,0,0,null,0,0,0,null,0,0,0,null,485236.08,485236.07863936061,1.3606394059024751E-3,null,2693.14,2693.1414505054709,-1.4505054709843535E-3,null,487929.22,487929.22008986608,-8.9866109192371368E-5,null,0,null,0,null,null,null,0,null,null,null,0,null,37352.9,37352.90239687424,0,null,2787.8,0,2788,null,null,null,0,null,null,null,0,null,null,null,0,null,null,null,0,null,null,null,0,null,null,null,0,null,"NO",{"$f":"IF(ISERROR(VLOOKUP($A433+8860000,'Growth Data'!$A:$F,3,0)),\"NO\",VLOOKUP($A433+8860000,'Growth Data'!$A:$F,3,0))","v":"NO"},0,null,0,{"$f":"IF(DI433=\"YES\",IF(ISERROR(VLOOKUP($A433+8860000,'Growth Data'!$A:$F,6,0)),0,VLOOKUP($A433+8860000,'Growth Data'!$A:$F,6,0)),0)","v":0},0,null,0,{"$f":"IF(ISERROR(VLOOKUP($A433+8860000,'Growth Data'!$A:$Z,7,0)),0,VLOOKUP($A433+8860000,'Growth Data'!$A:$Z,7,0))","v":0},0,null,"NO",{"$f":"IF(ISERROR(VLOOKUP($A433+8860000,'Growth Data'!$A:$F,4,0)),\"NO\",VLOOKUP($A433+8860000,'Growth Data'!$A:$F,4,0))","v":"NO"},0,null,0,{"$f":"IF(ISERROR(VLOOKUP($A433+8860000,'Growth Data'!$A:$Z,8,0)),0,VLOOKUP($A433+8860000,'Growth Data'!$A:$Z,8,0))","v":0},0,null,0,{"$f":"IF(ISERROR(VLOOKUP($A433+8860000,'Growth Data'!$A:$Z,9,0)),0,VLOOKUP($A433+8860000,'Growth Data'!$A:$Z,9,0))","v":0},0,null,"NO",{"$f":"IF(ISERROR(VLOOKUP($A433+8860000,'Growth Data'!$A:$Z,5,0)),\"NO\",VLOOKUP($A433+8860000,'Growth Data'!$A:$Z,5,0))","v":"NO"},0,null,0,{"$f":"IF(ISERROR(VLOOKUP($A433+8860000,'Growth Data'!$A:$Z,10,0)),0,VLOOKUP($A433+8860000,'Growth Data'!$A:$Z,10,0))","v":0},0,null,0,{"$f":"IF(ISERROR(VLOOKUP($A433+8860000,'Growth Data'!$A:$Z,11,0)),0,VLOOKUP($A433+8860000,'Growth Data'!$A:$Z,11,0))","v":0},0]
[3128,"Sturry Church of England Primary School",null,"Sturry Church of England Primary School",null,1,null,1212522.6399999999,1212522.6400000001,0,null,140242.26,140242.26000000013,0,null,8273.7099999999991,8273.7092625368714,7.3746312773437239E-4,null,72891.95,72891.948606060614,1.393939382978715E-3,null,120084,120084,0,null,0,0,0,null,0,0,0,null,0,0,0,null,8243.2000000000007,8243.2000000000007,0,null,0,0,0,null,0,0,0,null,84545.44,84545.442131402233,-2.1314022305887192E-3,null,1646803.2,1646803.2,0,null,0,0,0,null,1646803.2,1646803.2,0,null,0,null,0,null,null,null,0,null,null,null,0,null,266156.42,266156.42230700795,0,null,10309.6,0,10310,null,null,null,0,null,null,null,0,null,null,null,0,null,null,null,0,null,null,null,0,null,null,null,0,null,"NO",{"$f":"IF(ISERROR(VLOOKUP($A434+8860000,'Growth Data'!$A:$F,3,0)),\"NO\",VLOOKUP($A434+8860000,'Growth Data'!$A:$F,3,0))","v":"NO"},0,null,0,{"$f":"IF(DI434=\"YES\",IF(ISERROR(VLOOKUP($A434+8860000,'Growth Data'!$A:$F,6,0)),0,VLOOKUP($A434+8860000,'Growth Data'!$A:$F,6,0)),0)","v":0},0,null,0,{"$f":"IF(ISERROR(VLOOKUP($A434+8860000,'Growth Data'!$A:$Z,7,0)),0,VLOOKUP($A434+8860000,'Growth Data'!$A:$Z,7,0))","v":0},0,null,"NO",{"$f":"IF(ISERROR(VLOOKUP($A434+8860000,'Growth Data'!$A:$F,4,0)),\"NO\",VLOOKUP($A434+8860000,'Growth Data'!$A:$F,4,0))","v":"NO"},0,null,0,{"$f":"IF(ISERROR(VLOOKUP($A434+8860000,'Growth Data'!$A:$Z,8,0)),0,VLOOKUP($A434+8860000,'Growth Data'!$A:$Z,8,0))","v":0},0,null,0,{"$f":"IF(ISERROR(VLOOKUP($A434+8860000,'Growth Data'!$A:$Z,9,0)),0,VLOOKUP($A434+8860000,'Growth Data'!$A:$Z,9,0))","v":0},0,null,"NO",{"$f":"IF(ISERROR(VLOOKUP($A434+8860000,'Growth Data'!$A:$Z,5,0)),\"NO\",VLOOKUP($A434+8860000,'Growth Data'!$A:$Z,5,0))","v":"NO"},0,null,0,{"$f":"IF(ISERROR(VLOOKUP($A434+8860000,'Growth Data'!$A:$Z,10,0)),0,VLOOKUP($A434+8860000,'Growth Data'!$A:$Z,10,0))","v":0},0,null,0,{"$f":"IF(ISERROR(VLOOKUP($A434+8860000,'Growth Data'!$A:$Z,11,0)),0,VLOOKUP($A434+8860000,'Growth Data'!$A:$Z,11,0))","v":0},0]
[3140,"Kingsnorth Church of England Primary School",null,"Kingsnorth Church of England Primary School",null,1,null,1292945.06,1292945.06,0,null,39166.11,39166.113525749468,-3.5257494673714973E-3,null,3195.32,3195.3197222222248,2.7777777540904935E-4,null,62867.12,62867.118039215689,1.9607843132689595E-3,null,120084,120084,0,null,0,0,0,null,0,0,0,null,0,0,0,null,8090,8090,0,null,0,0,0,null,0,0,0,null,228982.39,228982.38871281256,1.2871874496340752E-3,null,1755330,1755330,0,null,0,0,0,null,1755330,1755330,0,null,0,null,0,null,null,null,0,null,null,null,0,null,326176.08,326176.0823070081,0,null,10993.4,0,10993,null,null,null,0,null,null,null,0,null,null,null,0,null,null,null,0,null,null,null,0,null,null,null,0,null,"NO",{"$f":"IF(ISERROR(VLOOKUP($A435+8860000,'Growth Data'!$A:$F,3,0)),\"NO\",VLOOKUP($A435+8860000,'Growth Data'!$A:$F,3,0))","v":"NO"},0,null,0,{"$f":"IF(DI435=\"YES\",IF(ISERROR(VLOOKUP($A435+8860000,'Growth Data'!$A:$F,6,0)),0,VLOOKUP($A435+8860000,'Growth Data'!$A:$F,6,0)),0)","v":0},0,null,0,{"$f":"IF(ISERROR(VLOOKUP($A435+8860000,'Growth Data'!$A:$Z,7,0)),0,VLOOKUP($A435+8860000,'Growth Data'!$A:$Z,7,0))","v":0},0,null,"NO",{"$f":"IF(ISERROR(VLOOKUP($A435+8860000,'Growth Data'!$A:$F,4,0)),\"NO\",VLOOKUP($A435+8860000,'Growth Data'!$A:$F,4,0))","v":"NO"},0,null,0,{"$f":"IF(ISERROR(VLOOKUP($A435+8860000,'Growth Data'!$A:$Z,8,0)),0,VLOOKUP($A435+8860000,'Growth Data'!$A:$Z,8,0))","v":0},0,null,0,{"$f":"IF(ISERROR(VLOOKUP($A435+8860000,'Growth Data'!$A:$Z,9,0)),0,VLOOKUP($A435+8860000,'Growth Data'!$A:$Z,9,0))","v":0},0,null,"NO",{"$f":"IF(ISERROR(VLOOKUP($A435+8860000,'Growth Data'!$A:$Z,5,0)),\"NO\",VLOOKUP($A435+8860000,'Growth Data'!$A:$Z,5,0))","v":"NO"},0,null,0,{"$f":"IF(ISERROR(VLOOKUP($A435+8860000,'Growth Data'!$A:$Z,10,0)),0,VLOOKUP($A435+8860000,'Growth Data'!$A:$Z,10,0))","v":0},0,null,0,{"$f":"IF(ISERROR(VLOOKUP($A435+8860000,'Growth Data'!$A:$Z,11,0)),0,VLOOKUP($A435+8860000,'Growth Data'!$A:$Z,11,0))","v":0},0]
[3142,"Pluckley Church of England Primary School",null,"Pluckley Church of England Primary School",null,1,null,303130.65999999997,303130.66000000003,0,null,11311.61,11311.605600000006,4.3999999943480361E-3,null,1269.1300000000001,1269.134588235295,-4.5882352949320193E-3,null,15160.3,15160.300235294118,-2.3529411919298582E-4,null,120084,120084,0,null,0,0,0,null,0,0,0,null,0,0,0,null,1971.2,1971.2,0,null,0,0,0,null,0,0,0,null,0,0,0,null,452926.9,452926.90042352944,-4.2352941818535328E-4,null,0,0,0,null,452926.9,452926.90042352944,-4.2352941818535328E-4,null,0,null,0,null,null,null,0,null,null,null,0,null,29833.22,29833.222730537564,0,null,2577.4,0,2577,null,null,null,0,null,null,null,0,null,null,null,0,null,null,null,0,null,null,null,0,null,null,null,0,null,"NO",{"$f":"IF(ISERROR(VLOOKUP($A436+8860000,'Growth Data'!$A:$F,3,0)),\"NO\",VLOOKUP($A436+8860000,'Growth Data'!$A:$F,3,0))","v":"NO"},0,null,0,{"$f":"IF(DI436=\"YES\",IF(ISERROR(VLOOKUP($A436+8860000,'Growth Data'!$A:$F,6,0)),0,VLOOKUP($A436+8860000,'Growth Data'!$A:$F,6,0)),0)","v":0},0,null,0,{"$f":"IF(ISERROR(VLOOKUP($A436+8860000,'Growth Data'!$A:$Z,7,0)),0,VLOOKUP($A436+8860000,'Growth Data'!$A:$Z,7,0))","v":0},0,null,"NO",{"$f":"IF(ISERROR(VLOOKUP($A436+8860000,'Growth Data'!$A:$F,4,0)),\"NO\",VLOOKUP($A436+8860000,'Growth Data'!$A:$F,4,0))","v":"NO"},0,null,0,{"$f":"IF(ISERROR(VLOOKUP($A436+8860000,'Growth Data'!$A:$Z,8,0)),0,VLOOKUP($A436+8860000,'Growth Data'!$A:$Z,8,0))","v":0},0,null,0,{"$f":"IF(ISERROR(VLOOKUP($A436+8860000,'Growth Data'!$A:$Z,9,0)),0,VLOOKUP($A436+8860000,'Growth Data'!$A:$Z,9,0))","v":0},0,null,"NO",{"$f":"IF(ISERROR(VLOOKUP($A436+8860000,'Growth Data'!$A:$Z,5,0)),\"NO\",VLOOKUP($A436+8860000,'Growth Data'!$A:$Z,5,0))","v":"NO"},0,null,0,{"$f":"IF(ISERROR(VLOOKUP($A436+8860000,'Growth Data'!$A:$Z,10,0)),0,VLOOKUP($A436+8860000,'Growth Data'!$A:$Z,10,0))","v":0},0,null,0,{"$f":"IF(ISERROR(VLOOKUP($A436+8860000,'Growth Data'!$A:$Z,11,0)),0,VLOOKUP($A436+8860000,'Growth Data'!$A:$Z,11,0))","v":0},0]
[3143,"St Michael's Church of England Primary School",null,"St Michael's Church of England Primary School",null,1,null,476348.18,476348.18,0,null,34927.019999999997,34927.024901960758,-4.901960761344526E-3,null,4461.0600000000004,4461.0557894736821,4.2105263182747876E-3,null,43168.24,43168.241395348836,-1.3953488378319889E-3,null,120084,120084,0,null,0,0,0,null,0,0,0,null,0,0,0,null,3635.2,3635.2,0,null,0,0,0,null,0,0,0,null,0,0,0,null,682623.7,682623.70208678325,-2.0867832936346531E-3,null,0,0,0,null,682623.7,682623.70208678325,-2.0867832936346531E-3,null,0,null,0,null,null,null,0,null,null,null,0,null,70838.899999999994,70838.904393791439,0,null,4050.2,0,4050,null,null,null,0,null,null,null,0,null,null,null,0,null,null,null,0,null,null,null,0,null,null,null,0,null,"NO",{"$f":"IF(ISERROR(VLOOKUP($A437+8860000,'Growth Data'!$A:$F,3,0)),\"NO\",VLOOKUP($A437+8860000,'Growth Data'!$A:$F,3,0))","v":"NO"},0,null,0,{"$f":"IF(DI437=\"YES\",IF(ISERROR(VLOOKUP($A437+8860000,'Growth Data'!$A:$F,6,0)),0,VLOOKUP($A437+8860000,'Growth Data'!$A:$F,6,0)),0)","v":0},0,null,0,{"$f":"IF(ISERROR(VLOOKUP($A437+8860000,'Growth Data'!$A:$Z,7,0)),0,VLOOKUP($A437+8860000,'Growth Data'!$A:$Z,7,0))","v":0},0,null,"NO",{"$f":"IF(ISERROR(VLOOKUP($A437+8860000,'Growth Data'!$A:$F,4,0)),\"NO\",VLOOKUP($A437+8860000,'Growth Data'!$A:$F,4,0))","v":"NO"},0,null,0,{"$f":"IF(ISERROR(VLOOKUP($A437+8860000,'Growth Data'!$A:$Z,8,0)),0,VLOOKUP($A437+8860000,'Growth Data'!$A:$Z,8,0))","v":0},0,null,0,{"$f":"IF(ISERROR(VLOOKUP($A437+8860000,'Growth Data'!$A:$Z,9,0)),0,VLOOKUP($A437+8860000,'Growth Data'!$A:$Z,9,0))","v":0},0,null,"NO",{"$f":"IF(ISERROR(VLOOKUP($A437+8860000,'Growth Data'!$A:$Z,5,0)),\"NO\",VLOOKUP($A437+8860000,'Growth Data'!$A:$Z,5,0))","v":"NO"},0,null,0,{"$f":"IF(ISERROR(VLOOKUP($A437+8860000,'Growth Data'!$A:$Z,10,0)),0,VLOOKUP($A437+8860000,'Growth Data'!$A:$Z,10,0))","v":0},0,null,0,{"$f":"IF(ISERROR(VLOOKUP($A437+8860000,'Growth Data'!$A:$Z,11,0)),0,VLOOKUP($A437+8860000,'Growth Data'!$A:$Z,11,0))","v":0},0]
[3144,"Tenterden Church of England Junior School",null,"Tenterden Church of England Junior School",null,1,null,646472.53,646472.53,0,null,46786.720000000001,46786.720476190501,-4.7619050019420683E-4,null,1651.17,1651.1699999999962,3.865352482534945E-12,null,54690.37,54690.371343283579,-1.3432835767162032E-3,null,120084,120084,0,null,0,0,0,null,0,0,0,null,0,0,0,null,5222.3999999999996,5222.3999999999996,0,null,0,0,0,null,0,0,0,null,3935.21,3935.2081805259077,1.81947409237182E-3,null,878842.4,878842.40000000014,0,null,0,0,0,null,878842.4,878842.40000000014,0,null,0,null,0,null,null,null,0,null,null,null,0,null,94425.41,94425.412307008111,0,null,5496.7,0,5497,null,null,null,0,null,null,null,0,null,null,null,0,null,null,null,0,null,null,null,0,null,null,null,0,null,"NO",{"$f":"IF(ISERROR(VLOOKUP($A438+8860000,'Growth Data'!$A:$F,3,0)),\"NO\",VLOOKUP($A438+8860000,'Growth Data'!$A:$F,3,0))","v":"NO"},0,null,0,{"$f":"IF(DI438=\"YES\",IF(ISERROR(VLOOKUP($A438+8860000,'Growth Data'!$A:$F,6,0)),0,VLOOKUP($A438+8860000,'Growth Data'!$A:$F,6,0)),0)","v":0},0,null,0,{"$f":"IF(ISERROR(VLOOKUP($A438+8860000,'Growth Data'!$A:$Z,7,0)),0,VLOOKUP($A438+8860000,'Growth Data'!$A:$Z,7,0))","v":0},0,null,"NO",{"$f":"IF(ISERROR(VLOOKUP($A438+8860000,'Growth Data'!$A:$F,4,0)),\"NO\",VLOOKUP($A438+8860000,'Growth Data'!$A:$F,4,0))","v":"NO"},0,null,0,{"$f":"IF(ISERROR(VLOOKUP($A438+8860000,'Growth Data'!$A:$Z,8,0)),0,VLOOKUP($A438+8860000,'Growth Data'!$A:$Z,8,0))","v":0},0,null,0,{"$f":"IF(ISERROR(VLOOKUP($A438+8860000,'Growth Data'!$A:$Z,9,0)),0,VLOOKUP($A438+8860000,'Growth Data'!$A:$Z,9,0))","v":0},0,null,"NO",{"$f":"IF(ISERROR(VLOOKUP($A438+8860000,'Growth Data'!$A:$Z,5,0)),\"NO\",VLOOKUP($A438+8860000,'Growth Data'!$A:$Z,5,0))","v":"NO"},0,null,0,{"$f":"IF(ISERROR(VLOOKUP($A438+8860000,'Growth Data'!$A:$Z,10,0)),0,VLOOKUP($A438+8860000,'Growth Data'!$A:$Z,10,0))","v":0},0,null,0,{"$f":"IF(ISERROR(VLOOKUP($A438+8860000,'Growth Data'!$A:$Z,11,0)),0,VLOOKUP($A438+8860000,'Growth Data'!$A:$Z,11,0))","v":0},0]
[3148,"Christ Church Cep Academy, Folkestone",null,"Christ Church Cep Academy, Folkestone",null,1,null,1299131.3999999999,1299131.4000000001,0,null,283798.27,283798.27392344468,-3.9234446594491601E-3,null,27921.47,27921.4702247192,-2.2471919874078594E-4,null,121542.68,121542.67833827893,1.661721064010635E-3,null,120084,120084,0,null,0,0,0,null,0,0,0,null,0,0,0,null,8687.6,8687.5983606557293,1.6393442710977979E-3,null,0,0,0,null,0,0,0,null,0,0,0,null,1861165.42,1861165.420847099,-8.4709911607205868E-4,null,11253.36,11253.355498449178,4.50155082216952E-3,null,1872418.78,1872418.7763455482,3.6544518079608679E-3,null,0,null,0,null,null,null,0,null,null,null,0,null,378940.92,378940.92029190023,0,null,11046,0,11046,null,null,null,0,null,null,null,0,null,null,null,0,null,null,null,0,null,null,null,0,null,null,null,0,null,"NO",{"$f":"IF(ISERROR(VLOOKUP($A439+8860000,'Growth Data'!$A:$F,3,0)),\"NO\",VLOOKUP($A439+8860000,'Growth Data'!$A:$F,3,0))","v":"NO"},0,null,0,{"$f":"IF(DI439=\"YES\",IF(ISERROR(VLOOKUP($A439+8860000,'Growth Data'!$A:$F,6,0)),0,VLOOKUP($A439+8860000,'Growth Data'!$A:$F,6,0)),0)","v":0},0,null,0,{"$f":"IF(ISERROR(VLOOKUP($A439+8860000,'Growth Data'!$A:$Z,7,0)),0,VLOOKUP($A439+8860000,'Growth Data'!$A:$Z,7,0))","v":0},0,null,"NO",{"$f":"IF(ISERROR(VLOOKUP($A439+8860000,'Growth Data'!$A:$F,4,0)),\"NO\",VLOOKUP($A439+8860000,'Growth Data'!$A:$F,4,0))","v":"NO"},0,null,0,{"$f":"IF(ISERROR(VLOOKUP($A439+8860000,'Growth Data'!$A:$Z,8,0)),0,VLOOKUP($A439+8860000,'Growth Data'!$A:$Z,8,0))","v":0},0,null,0,{"$f":"IF(ISERROR(VLOOKUP($A439+8860000,'Growth Data'!$A:$Z,9,0)),0,VLOOKUP($A439+8860000,'Growth Data'!$A:$Z,9,0))","v":0},0,null,"NO",{"$f":"IF(ISERROR(VLOOKUP($A439+8860000,'Growth Data'!$A:$Z,5,0)),\"NO\",VLOOKUP($A439+8860000,'Growth Data'!$A:$Z,5,0))","v":"NO"},0,null,0,{"$f":"IF(ISERROR(VLOOKUP($A439+8860000,'Growth Data'!$A:$Z,10,0)),0,VLOOKUP($A439+8860000,'Growth Data'!$A:$Z,10,0))","v":0},0,null,0,{"$f":"IF(ISERROR(VLOOKUP($A439+8860000,'Growth Data'!$A:$Z,11,0)),0,VLOOKUP($A439+8860000,'Growth Data'!$A:$Z,11,0))","v":0},0]
[3163,"The Downs Church of England Primary School",null,"The Downs Church of England Primary School",null,1,null,1082609.5,1082609.5,0,null,148766.62,148766.62359249336,-3.5924933617934585E-3,null,4349.8599999999997,4349.856451612899,3.5483871006363188E-3,null,149079.67999999999,149079.68025078368,-2.5078369071707129E-4,null,120084,120084,0,null,0,0,0,null,0,0,0,null,0,0,0,null,7986.6,7986.6,0,null,0,0,0,null,0,0,0,null,0,0,0,null,1512876.26,1512876.26029489,-2.94890021905303E-4,null,0,0,0,null,1512876.26,1512876.26029489,-2.94890021905303E-4,null,0,null,0,null,null,null,0,null,null,null,0,null,258716.66,258716.66260189802,0,null,9205,0,9205,null,null,null,0,null,null,null,0,null,null,null,0,null,null,null,0,null,null,null,0,null,null,null,0,null,"NO",{"$f":"IF(ISERROR(VLOOKUP($A440+8860000,'Growth Data'!$A:$F,3,0)),\"NO\",VLOOKUP($A440+8860000,'Growth Data'!$A:$F,3,0))","v":"NO"},0,null,0,{"$f":"IF(DI440=\"YES\",IF(ISERROR(VLOOKUP($A440+8860000,'Growth Data'!$A:$F,6,0)),0,VLOOKUP($A440+8860000,'Growth Data'!$A:$F,6,0)),0)","v":0},0,null,0,{"$f":"IF(ISERROR(VLOOKUP($A440+8860000,'Growth Data'!$A:$Z,7,0)),0,VLOOKUP($A440+8860000,'Growth Data'!$A:$Z,7,0))","v":0},0,null,"NO",{"$f":"IF(ISERROR(VLOOKUP($A440+8860000,'Growth Data'!$A:$F,4,0)),\"NO\",VLOOKUP($A440+8860000,'Growth Data'!$A:$F,4,0))","v":"NO"},0,null,0,{"$f":"IF(ISERROR(VLOOKUP($A440+8860000,'Growth Data'!$A:$Z,8,0)),0,VLOOKUP($A440+8860000,'Growth Data'!$A:$Z,8,0))","v":0},0,null,0,{"$f":"IF(ISERROR(VLOOKUP($A440+8860000,'Growth Data'!$A:$Z,9,0)),0,VLOOKUP($A440+8860000,'Growth Data'!$A:$Z,9,0))","v":0},0,null,"NO",{"$f":"IF(ISERROR(VLOOKUP($A440+8860000,'Growth Data'!$A:$Z,5,0)),\"NO\",VLOOKUP($A440+8860000,'Growth Data'!$A:$Z,5,0))","v":"NO"},0,null,0,{"$f":"IF(ISERROR(VLOOKUP($A440+8860000,'Growth Data'!$A:$Z,10,0)),0,VLOOKUP($A440+8860000,'Growth Data'!$A:$Z,10,0))","v":0},0,null,0,{"$f":"IF(ISERROR(VLOOKUP($A440+8860000,'Growth Data'!$A:$Z,11,0)),0,VLOOKUP($A440+8860000,'Growth Data'!$A:$Z,11,0))","v":0},0]
[3172,"Northbourne Church of England Primary School",null,"Northbourne Church of England Primary School",null,1,null,374273.57,374273.57,0,null,17989.13,17989.133750000005,-3.7500000034924597E-3,null,0,0,0,null,12430.14,12430.1409375,-9.3750000087311491E-4,null,120084,120084,0,null,0,0,0,null,0,0,0,null,0,0,0,null,3854.4,3854.4,0,null,0,0,0,null,0,0,0,null,0,0,0,null,528631.24,528631.24468750006,-4.6875000698491931E-3,null,0,0,0,null,528631.24,528631.24468750006,-4.6875000698491931E-3,null,0,null,0,null,null,null,0,null,null,null,0,null,32051.14,32051.136994508153,0,null,3182.3,0,3182,null,null,null,0,null,null,null,0,null,null,null,0,null,null,null,0,null,null,null,0,null,null,null,0,null,"NO",{"$f":"IF(ISERROR(VLOOKUP($A441+8860000,'Growth Data'!$A:$F,3,0)),\"NO\",VLOOKUP($A441+8860000,'Growth Data'!$A:$F,3,0))","v":"NO"},0,null,0,{"$f":"IF(DI441=\"YES\",IF(ISERROR(VLOOKUP($A441+8860000,'Growth Data'!$A:$F,6,0)),0,VLOOKUP($A441+8860000,'Growth Data'!$A:$F,6,0)),0)","v":0},0,null,0,{"$f":"IF(ISERROR(VLOOKUP($A441+8860000,'Growth Data'!$A:$Z,7,0)),0,VLOOKUP($A441+8860000,'Growth Data'!$A:$Z,7,0))","v":0},0,null,"NO",{"$f":"IF(ISERROR(VLOOKUP($A441+8860000,'Growth Data'!$A:$F,4,0)),\"NO\",VLOOKUP($A441+8860000,'Growth Data'!$A:$F,4,0))","v":"NO"},0,null,0,{"$f":"IF(ISERROR(VLOOKUP($A441+8860000,'Growth Data'!$A:$Z,8,0)),0,VLOOKUP($A441+8860000,'Growth Data'!$A:$Z,8,0))","v":0},0,null,0,{"$f":"IF(ISERROR(VLOOKUP($A441+8860000,'Growth Data'!$A:$Z,9,0)),0,VLOOKUP($A441+8860000,'Growth Data'!$A:$Z,9,0))","v":0},0,null,"NO",{"$f":"IF(ISERROR(VLOOKUP($A441+8860000,'Growth Data'!$A:$Z,5,0)),\"NO\",VLOOKUP($A441+8860000,'Growth Data'!$A:$Z,5,0))","v":"NO"},0,null,0,{"$f":"IF(ISERROR(VLOOKUP($A441+8860000,'Growth Data'!$A:$Z,10,0)),0,VLOOKUP($A441+8860000,'Growth Data'!$A:$Z,10,0))","v":0},0,null,0,{"$f":"IF(ISERROR(VLOOKUP($A441+8860000,'Growth Data'!$A:$Z,11,0)),0,VLOOKUP($A441+8860000,'Growth Data'!$A:$Z,11,0))","v":0},0]
[3306,"Brenchley and Matfield Church of England Primary School",null,"Brenchley and Matfield Church of England Primary School",null,1,null,553677.43000000005,553677.43000000005,0,null,12943.11,12943.113008950677,-3.0089506763033569E-3,null,615.75,615.7488125000001,1.1874999999008651E-3,null,46762.53,46762.529006622521,9.9337747815297917E-4,null,120084,120084,0,null,0,0,0,null,0,0,0,null,0,0,0,null,4326.3999999999996,4326.3999999999996,0,null,0,0,0,null,0,0,0,null,14137.18,14137.179171926749,8.2807325088651851E-4,null,752546.4,752546.40000000014,0,null,0,0,0,null,752546.4,752546.40000000014,0,null,0,null,0,null,null,null,0,null,null,null,0,null,74249.149999999994,74249.152307008102,0,null,4707.7,0,4708,null,null,null,0,null,null,null,0,null,null,null,0,null,null,null,0,null,null,null,0,null,null,null,0,null,"NO",{"$f":"IF(ISERROR(VLOOKUP($A442+8860000,'Growth Data'!$A:$F,3,0)),\"NO\",VLOOKUP($A442+8860000,'Growth Data'!$A:$F,3,0))","v":"NO"},0,null,0,{"$f":"IF(DI442=\"YES\",IF(ISERROR(VLOOKUP($A442+8860000,'Growth Data'!$A:$F,6,0)),0,VLOOKUP($A442+8860000,'Growth Data'!$A:$F,6,0)),0)","v":0},0,null,0,{"$f":"IF(ISERROR(VLOOKUP($A442+8860000,'Growth Data'!$A:$Z,7,0)),0,VLOOKUP($A442+8860000,'Growth Data'!$A:$Z,7,0))","v":0},0,null,"NO",{"$f":"IF(ISERROR(VLOOKUP($A442+8860000,'Growth Data'!$A:$F,4,0)),\"NO\",VLOOKUP($A442+8860000,'Growth Data'!$A:$F,4,0))","v":"NO"},0,null,0,{"$f":"IF(ISERROR(VLOOKUP($A442+8860000,'Growth Data'!$A:$Z,8,0)),0,VLOOKUP($A442+8860000,'Growth Data'!$A:$Z,8,0))","v":0},0,null,0,{"$f":"IF(ISERROR(VLOOKUP($A442+8860000,'Growth Data'!$A:$Z,9,0)),0,VLOOKUP($A442+8860000,'Growth Data'!$A:$Z,9,0))","v":0},0,null,"NO",{"$f":"IF(ISERROR(VLOOKUP($A442+8860000,'Growth Data'!$A:$Z,5,0)),\"NO\",VLOOKUP($A442+8860000,'Growth Data'!$A:$Z,5,0))","v":"NO"},0,null,0,{"$f":"IF(ISERROR(VLOOKUP($A442+8860000,'Growth Data'!$A:$Z,10,0)),0,VLOOKUP($A442+8860000,'Growth Data'!$A:$Z,10,0))","v":0},0,null,0,{"$f":"IF(ISERROR(VLOOKUP($A442+8860000,'Growth Data'!$A:$Z,11,0)),0,VLOOKUP($A442+8860000,'Growth Data'!$A:$Z,11,0))","v":0},0]
[3313,"Fordcombe Church of England Primary School",null,"Fordcombe Church of England Primary School",null,1,null,287664.81,287664.81,0,null,15722.9,15722.899999999985,1.4551915228366852E-11,null,616.70000000000005,616.70204819276921,-2.0481927691662349E-3,null,21740.080000000002,21740.076799999999,3.2000000028347131E-3,null,120084,120084,0,null,0,0,0,null,16406.490000000002,16406.488389613492,1.6103865091281477E-3,null,0,0,0,null,2772,2772,0,null,0,0,0,null,0,0,0,null,0,0,0,null,465006.98,465006.97723780625,2.7621937333606184E-3,null,0,0,0,null,465006.98,465006.97723780625,2.7621937333606184E-3,null,0,null,0,null,null,null,0,null,null,null,0,null,36877.589999999997,36877.587885712303,0,null,2535.91,0,2536,null,null,null,0,null,null,null,0,null,null,null,0,null,null,null,0,null,null,null,0,null,null,null,0,null,"NO",{"$f":"IF(ISERROR(VLOOKUP($A443+8860000,'Growth Data'!$A:$F,3,0)),\"NO\",VLOOKUP($A443+8860000,'Growth Data'!$A:$F,3,0))","v":"NO"},0,null,0,{"$f":"IF(DI443=\"YES\",IF(ISERROR(VLOOKUP($A443+8860000,'Growth Data'!$A:$F,6,0)),0,VLOOKUP($A443+8860000,'Growth Data'!$A:$F,6,0)),0)","v":0},0,null,0,{"$f":"IF(ISERROR(VLOOKUP($A443+8860000,'Growth Data'!$A:$Z,7,0)),0,VLOOKUP($A443+8860000,'Growth Data'!$A:$Z,7,0))","v":0},0,null,"NO",{"$f":"IF(ISERROR(VLOOKUP($A443+8860000,'Growth Data'!$A:$F,4,0)),\"NO\",VLOOKUP($A443+8860000,'Growth Data'!$A:$F,4,0))","v":"NO"},0,null,0,{"$f":"IF(ISERROR(VLOOKUP($A443+8860000,'Growth Data'!$A:$Z,8,0)),0,VLOOKUP($A443+8860000,'Growth Data'!$A:$Z,8,0))","v":0},0,null,0,{"$f":"IF(ISERROR(VLOOKUP($A443+8860000,'Growth Data'!$A:$Z,9,0)),0,VLOOKUP($A443+8860000,'Growth Data'!$A:$Z,9,0))","v":0},0,null,"NO",{"$f":"IF(ISERROR(VLOOKUP($A443+8860000,'Growth Data'!$A:$Z,5,0)),\"NO\",VLOOKUP($A443+8860000,'Growth Data'!$A:$Z,5,0))","v":"NO"},0,null,0,{"$f":"IF(ISERROR(VLOOKUP($A443+8860000,'Growth Data'!$A:$Z,10,0)),0,VLOOKUP($A443+8860000,'Growth Data'!$A:$Z,10,0))","v":0},0,null,0,{"$f":"IF(ISERROR(VLOOKUP($A443+8860000,'Growth Data'!$A:$Z,11,0)),0,VLOOKUP($A443+8860000,'Growth Data'!$A:$Z,11,0))","v":0},0]
[3324,"Leybourne, St Peter and St Paul Church of England Primary Academy",null,"Leybourne, St Peter and St Paul Church of England Primary Academy",null,1,null,655752.04,655752.04,0,null,11382.41,11382.410758293836,-7.5829383604286704E-4,null,0,0,0,null,35936.410000000003,35936.412817679557,-2.8176795531180687E-3,null,120084,120084,0,null,0,0,0,null,0,0,0,null,0,0,0,null,4864,4864,0,null,0,0,0,null,0,0,0,null,63005.14,63005.136424026568,3.575973430997692E-3,null,891024,891024,0,null,0,0,0,null,891024,891024,0,null,0,null,0,null,null,null,0,null,null,null,0,null,111955.82,111955.82230700811,0,null,5575.6,0,5576,null,null,null,0,null,null,null,0,null,null,null,0,null,null,null,0,null,null,null,0,null,null,null,0,null,"NO",{"$f":"IF(ISERROR(VLOOKUP($A444+8860000,'Growth Data'!$A:$F,3,0)),\"NO\",VLOOKUP($A444+8860000,'Growth Data'!$A:$F,3,0))","v":"NO"},0,null,0,{"$f":"IF(DI444=\"YES\",IF(ISERROR(VLOOKUP($A444+8860000,'Growth Data'!$A:$F,6,0)),0,VLOOKUP($A444+8860000,'Growth Data'!$A:$F,6,0)),0)","v":0},0,null,0,{"$f":"IF(ISERROR(VLOOKUP($A444+8860000,'Growth Data'!$A:$Z,7,0)),0,VLOOKUP($A444+8860000,'Growth Data'!$A:$Z,7,0))","v":0},0,null,"NO",{"$f":"IF(ISERROR(VLOOKUP($A444+8860000,'Growth Data'!$A:$F,4,0)),\"NO\",VLOOKUP($A444+8860000,'Growth Data'!$A:$F,4,0))","v":"NO"},0,null,0,{"$f":"IF(ISERROR(VLOOKUP($A444+8860000,'Growth Data'!$A:$Z,8,0)),0,VLOOKUP($A444+8860000,'Growth Data'!$A:$Z,8,0))","v":0},0,null,0,{"$f":"IF(ISERROR(VLOOKUP($A444+8860000,'Growth Data'!$A:$Z,9,0)),0,VLOOKUP($A444+8860000,'Growth Data'!$A:$Z,9,0))","v":0},0,null,"NO",{"$f":"IF(ISERROR(VLOOKUP($A444+8860000,'Growth Data'!$A:$Z,5,0)),\"NO\",VLOOKUP($A444+8860000,'Growth Data'!$A:$Z,5,0))","v":"NO"},0,null,0,{"$f":"IF(ISERROR(VLOOKUP($A444+8860000,'Growth Data'!$A:$Z,10,0)),0,VLOOKUP($A444+8860000,'Growth Data'!$A:$Z,10,0))","v":0},0,null,0,{"$f":"IF(ISERROR(VLOOKUP($A444+8860000,'Growth Data'!$A:$Z,11,0)),0,VLOOKUP($A444+8860000,'Growth Data'!$A:$Z,11,0))","v":0},0]
[3329,"Borden Church of England Primary School",null,"Borden Church of England Primary School",null,1,null,420671.12,420671.12,0,null,20305.11,20305.110000000004,0,null,645.28,645.28482758620657,-4.8275862066020636E-3,null,18463.240000000002,18463.239646017701,3.5398230102146044E-4,null,120084,120084,0,null,0,0,0,null,0,0,0,null,0,0,0,null,1254.4000000000001,1254.4000000000001,0,null,0,0,0,null,0,0,0,null,0,0,0,null,581423.15,581423.15447360394,-4.4736039126291871E-3,null,0,0,0,null,581423.15,581423.15447360394,-4.4736039126291871E-3,null,0,null,0,null,null,null,0,null,null,null,0,null,40124.86,40124.856780612055,0,null,3576.8,0,3577,null,null,null,0,null,null,null,0,null,null,null,0,null,null,null,0,null,null,null,0,null,null,null,0,null,"NO",{"$f":"IF(ISERROR(VLOOKUP($A445+8860000,'Growth Data'!$A:$F,3,0)),\"NO\",VLOOKUP($A445+8860000,'Growth Data'!$A:$F,3,0))","v":"NO"},0,null,0,{"$f":"IF(DI445=\"YES\",IF(ISERROR(VLOOKUP($A445+8860000,'Growth Data'!$A:$F,6,0)),0,VLOOKUP($A445+8860000,'Growth Data'!$A:$F,6,0)),0)","v":0},0,null,0,{"$f":"IF(ISERROR(VLOOKUP($A445+8860000,'Growth Data'!$A:$Z,7,0)),0,VLOOKUP($A445+8860000,'Growth Data'!$A:$Z,7,0))","v":0},0,null,"NO",{"$f":"IF(ISERROR(VLOOKUP($A445+8860000,'Growth Data'!$A:$F,4,0)),\"NO\",VLOOKUP($A445+8860000,'Growth Data'!$A:$F,4,0))","v":"NO"},0,null,0,{"$f":"IF(ISERROR(VLOOKUP($A445+8860000,'Growth Data'!$A:$Z,8,0)),0,VLOOKUP($A445+8860000,'Growth Data'!$A:$Z,8,0))","v":0},0,null,0,{"$f":"IF(ISERROR(VLOOKUP($A445+8860000,'Growth Data'!$A:$Z,9,0)),0,VLOOKUP($A445+8860000,'Growth Data'!$A:$Z,9,0))","v":0},0,null,"NO",{"$f":"IF(ISERROR(VLOOKUP($A445+8860000,'Growth Data'!$A:$Z,5,0)),\"NO\",VLOOKUP($A445+8860000,'Growth Data'!$A:$Z,5,0))","v":"NO"},0,null,0,{"$f":"IF(ISERROR(VLOOKUP($A445+8860000,'Growth Data'!$A:$Z,10,0)),0,VLOOKUP($A445+8860000,'Growth Data'!$A:$Z,10,0))","v":0},0,null,0,{"$f":"IF(ISERROR(VLOOKUP($A445+8860000,'Growth Data'!$A:$Z,11,0)),0,VLOOKUP($A445+8860000,'Growth Data'!$A:$Z,11,0))","v":0},0]
[3330,"Bredgar Church of England Primary School",null,"Bredgar Church of England Primary School",null,1,null,321689.68,321689.68,0,null,11509,11508.999999999995,0,null,643.15,643.15235955056312,-2.3595505631419655E-3,null,12210.01,12210.008571428571,1.4285714296420338E-3,null,120084,120084,0,null,0,0,0,null,0,0,0,null,0,0,0,null,1147.42,1147.42,0,null,0,0,0,null,7940,7940,0,null,0,0,0,null,475223.26,475223.26093097916,-9.3097914941608906E-4,null,0,0,0,null,475223.26,475223.26093097916,-9.3097914941608906E-4,null,0,null,0,null,null,null,0,null,null,null,0,null,27374.98,27374.983237987275,0,null,2735.2,0,2735,null,null,null,0,null,null,null,0,null,null,null,0,null,null,null,0,null,null,null,0,null,null,null,0,null,"NO",{"$f":"IF(ISERROR(VLOOKUP($A446+8860000,'Growth Data'!$A:$F,3,0)),\"NO\",VLOOKUP($A446+8860000,'Growth Data'!$A:$F,3,0))","v":"NO"},0,null,0,{"$f":"IF(DI446=\"YES\",IF(ISERROR(VLOOKUP($A446+8860000,'Growth Data'!$A:$F,6,0)),0,VLOOKUP($A446+8860000,'Growth Data'!$A:$F,6,0)),0)","v":0},0,null,0,{"$f":"IF(ISERROR(VLOOKUP($A446+8860000,'Growth Data'!$A:$Z,7,0)),0,VLOOKUP($A446+8860000,'Growth Data'!$A:$Z,7,0))","v":0},0,null,"NO",{"$f":"IF(ISERROR(VLOOKUP($A446+8860000,'Growth Data'!$A:$F,4,0)),\"NO\",VLOOKUP($A446+8860000,'Growth Data'!$A:$F,4,0))","v":"NO"},0,null,0,{"$f":"IF(ISERROR(VLOOKUP($A446+8860000,'Growth Data'!$A:$Z,8,0)),0,VLOOKUP($A446+8860000,'Growth Data'!$A:$Z,8,0))","v":0},0,null,0,{"$f":"IF(ISERROR(VLOOKUP($A446+8860000,'Growth Data'!$A:$Z,9,0)),0,VLOOKUP($A446+8860000,'Growth Data'!$A:$Z,9,0))","v":0},0,null,"NO",{"$f":"IF(ISERROR(VLOOKUP($A446+8860000,'Growth Data'!$A:$Z,5,0)),\"NO\",VLOOKUP($A446+8860000,'Growth Data'!$A:$Z,5,0))","v":"NO"},0,null,0,{"$f":"IF(ISERROR(VLOOKUP($A446+8860000,'Growth Data'!$A:$Z,10,0)),0,VLOOKUP($A446+8860000,'Growth Data'!$A:$Z,10,0))","v":0},0,null,0,{"$f":"IF(ISERROR(VLOOKUP($A446+8860000,'Growth Data'!$A:$Z,11,0)),0,VLOOKUP($A446+8860000,'Growth Data'!$A:$Z,11,0))","v":0},0]
[3343,"Charing Church of England Primary School",null,"Charing Church of England Primary School",null,1,null,281478.46999999997,281478.47000000003,0,null,34482.239999999998,34482.237157894764,2.8421052338671871E-3,null,642.12,642.12166666666565,-1.6666666656419693E-3,null,30579.29,30579.288133333332,1.866666669229744E-3,null,120084,120084,0,null,35351.480000000003,35351.478504672894,1.4953271092963405E-3,null,0,0,0,null,0,0,0,null,3277,3277,0,null,0,0,0,null,0,0,0,null,0,0,0,null,505894.6,505894.59546256764,4.5374323381111026E-3,null,0,0,0,null,505894.6,505894.59546256764,4.5374323381111026E-3,null,0,null,0,null,null,null,0,null,null,null,0,null,59049.75,59049.749264902901,0,null,2393.3000000000002,0,2393,null,null,null,0,null,null,null,0,null,null,null,0,null,null,null,0,null,null,null,0,null,null,null,0,null,"NO",{"$f":"IF(ISERROR(VLOOKUP($A447+8860000,'Growth Data'!$A:$F,3,0)),\"NO\",VLOOKUP($A447+8860000,'Growth Data'!$A:$F,3,0))","v":"NO"},0,null,0,{"$f":"IF(DI447=\"YES\",IF(ISERROR(VLOOKUP($A447+8860000,'Growth Data'!$A:$F,6,0)),0,VLOOKUP($A447+8860000,'Growth Data'!$A:$F,6,0)),0)","v":0},0,null,0,{"$f":"IF(ISERROR(VLOOKUP($A447+8860000,'Growth Data'!$A:$Z,7,0)),0,VLOOKUP($A447+8860000,'Growth Data'!$A:$Z,7,0))","v":0},0,null,"NO",{"$f":"IF(ISERROR(VLOOKUP($A447+8860000,'Growth Data'!$A:$F,4,0)),\"NO\",VLOOKUP($A447+8860000,'Growth Data'!$A:$F,4,0))","v":"NO"},0,null,0,{"$f":"IF(ISERROR(VLOOKUP($A447+8860000,'Growth Data'!$A:$Z,8,0)),0,VLOOKUP($A447+8860000,'Growth Data'!$A:$Z,8,0))","v":0},0,null,0,{"$f":"IF(ISERROR(VLOOKUP($A447+8860000,'Growth Data'!$A:$Z,9,0)),0,VLOOKUP($A447+8860000,'Growth Data'!$A:$Z,9,0))","v":0},0,null,"NO",{"$f":"IF(ISERROR(VLOOKUP($A447+8860000,'Growth Data'!$A:$Z,5,0)),\"NO\",VLOOKUP($A447+8860000,'Growth Data'!$A:$Z,5,0))","v":"NO"},0,null,0,{"$f":"IF(ISERROR(VLOOKUP($A447+8860000,'Growth Data'!$A:$Z,10,0)),0,VLOOKUP($A447+8860000,'Growth Data'!$A:$Z,10,0))","v":0},0,null,0,{"$f":"IF(ISERROR(VLOOKUP($A447+8860000,'Growth Data'!$A:$Z,11,0)),0,VLOOKUP($A447+8860000,'Growth Data'!$A:$Z,11,0))","v":0},0]
[3348,"St Eanswythe's Church of England Primary School",null,"St Eanswythe's Church of England Primary School",null,1,null,658845.21,658845.21,0,null,108591.43,108591.42999999995,0,null,10249.89,10249.88590163934,4.0983606595546007E-3,null,59020.44,59020.439310344831,6.896551712998189E-4,null,120084,120084,0,null,0,0,0,null,0,0,0,null,0,0,0,null,4353,4353,0,null,0,0,0,null,0,0,0,null,0,0,0,null,961143.97,961143.96521198412,4.7880158526822925E-3,null,0,0,0,null,961143.97,961143.96521198412,4.7880158526822925E-3,null,0,null,0,null,null,null,0,null,null,null,0,null,160160.18,160160.17751899228,0,null,5601.9,0,5602,null,null,null,0,null,null,null,0,null,null,null,0,null,null,null,0,null,null,null,0,null,null,null,0,null,"NO",{"$f":"IF(ISERROR(VLOOKUP($A448+8860000,'Growth Data'!$A:$F,3,0)),\"NO\",VLOOKUP($A448+8860000,'Growth Data'!$A:$F,3,0))","v":"NO"},0,null,0,{"$f":"IF(DI448=\"YES\",IF(ISERROR(VLOOKUP($A448+8860000,'Growth Data'!$A:$F,6,0)),0,VLOOKUP($A448+8860000,'Growth Data'!$A:$F,6,0)),0)","v":0},0,null,0,{"$f":"IF(ISERROR(VLOOKUP($A448+8860000,'Growth Data'!$A:$Z,7,0)),0,VLOOKUP($A448+8860000,'Growth Data'!$A:$Z,7,0))","v":0},0,null,"NO",{"$f":"IF(ISERROR(VLOOKUP($A448+8860000,'Growth Data'!$A:$F,4,0)),\"NO\",VLOOKUP($A448+8860000,'Growth Data'!$A:$F,4,0))","v":"NO"},0,null,0,{"$f":"IF(ISERROR(VLOOKUP($A448+8860000,'Growth Data'!$A:$Z,8,0)),0,VLOOKUP($A448+8860000,'Growth Data'!$A:$Z,8,0))","v":0},0,null,0,{"$f":"IF(ISERROR(VLOOKUP($A448+8860000,'Growth Data'!$A:$Z,9,0)),0,VLOOKUP($A448+8860000,'Growth Data'!$A:$Z,9,0))","v":0},0,null,"NO",{"$f":"IF(ISERROR(VLOOKUP($A448+8860000,'Growth Data'!$A:$Z,5,0)),\"NO\",VLOOKUP($A448+8860000,'Growth Data'!$A:$Z,5,0))","v":"NO"},0,null,0,{"$f":"IF(ISERROR(VLOOKUP($A448+8860000,'Growth Data'!$A:$Z,10,0)),0,VLOOKUP($A448+8860000,'Growth Data'!$A:$Z,10,0))","v":0},0,null,0,{"$f":"IF(ISERROR(VLOOKUP($A448+8860000,'Growth Data'!$A:$Z,11,0)),0,VLOOKUP($A448+8860000,'Growth Data'!$A:$Z,11,0))","v":0},0]
[3349,"Folkestone St. Mary's Church of England Primary Academy",null,"Folkestone St. Mary's Church of England Primary Academy",null,1,null,1246547.51,1246547.51,0,null,226737.58,226737.58000000005,0,null,3214.6,3214.5966666666659,3.3333333340124227E-3,null,94994.34,94994.339941860468,5.8139528846368194E-5,null,120084,120084,0,null,0,0,0,null,0,0,0,null,0,0,0,null,9984,9984,0,null,0,0,0,null,0,0,0,null,0,0,0,null,1701562.03,1701562.0266085272,3.3914728555828333E-3,null,0,0,0,null,1701562.03,1701562.0266085272,3.3914728555828333E-3,null,0,null,0,null,null,null,0,null,null,null,0,null,278244.78000000003,278244.77891553525,0,null,10598.9,0,10599,null,null,null,0,null,null,null,0,null,null,null,0,null,null,null,0,null,null,null,0,null,null,null,0,null,"NO",{"$f":"IF(ISERROR(VLOOKUP($A449+8860000,'Growth Data'!$A:$F,3,0)),\"NO\",VLOOKUP($A449+8860000,'Growth Data'!$A:$F,3,0))","v":"NO"},0,null,0,{"$f":"IF(DI449=\"YES\",IF(ISERROR(VLOOKUP($A449+8860000,'Growth Data'!$A:$F,6,0)),0,VLOOKUP($A449+8860000,'Growth Data'!$A:$F,6,0)),0)","v":0},0,null,0,{"$f":"IF(ISERROR(VLOOKUP($A449+8860000,'Growth Data'!$A:$Z,7,0)),0,VLOOKUP($A449+8860000,'Growth Data'!$A:$Z,7,0))","v":0},0,null,"NO",{"$f":"IF(ISERROR(VLOOKUP($A449+8860000,'Growth Data'!$A:$F,4,0)),\"NO\",VLOOKUP($A449+8860000,'Growth Data'!$A:$F,4,0))","v":"NO"},0,null,0,{"$f":"IF(ISERROR(VLOOKUP($A449+8860000,'Growth Data'!$A:$Z,8,0)),0,VLOOKUP($A449+8860000,'Growth Data'!$A:$Z,8,0))","v":0},0,null,0,{"$f":"IF(ISERROR(VLOOKUP($A449+8860000,'Growth Data'!$A:$Z,9,0)),0,VLOOKUP($A449+8860000,'Growth Data'!$A:$Z,9,0))","v":0},0,null,"NO",{"$f":"IF(ISERROR(VLOOKUP($A449+8860000,'Growth Data'!$A:$Z,5,0)),\"NO\",VLOOKUP($A449+8860000,'Growth Data'!$A:$Z,5,0))","v":"NO"},0,null,0,{"$f":"IF(ISERROR(VLOOKUP($A449+8860000,'Growth Data'!$A:$Z,10,0)),0,VLOOKUP($A449+8860000,'Growth Data'!$A:$Z,10,0))","v":0},0,null,0,{"$f":"IF(ISERROR(VLOOKUP($A449+8860000,'Growth Data'!$A:$Z,11,0)),0,VLOOKUP($A449+8860000,'Growth Data'!$A:$Z,11,0))","v":0},0]
[3353,"Deal Parochial Church of England Primary School",null,"Deal Parochial Church of England Primary School",null,{"$f":"IF(E450=D450,0,1)","v":1},null,631006.68000000005,631006.68000000005,{"$f":"H450-I450","v":0},null,92038.84,92038.836521739038,{"$f":"L450-M450","v":3.4782609582180157E-3},null,1913.86,1913.8561363636311,{"$f":"P450-Q450","v":3.8636363688056008E-3},null,40055.78,40055.777341040462,{"$f":"T450-U450","v":2.6589595363475382E-3},null,120084,120084,{"$f":"X450-Y450","v":0},null,0,0,{"$f":"AB450-AC450","v":0},null,0,0,{"$f":"AF450-AG450","v":0},null,0,0,{"$f":"AJ450-AK450","v":0},null,1612.8,1612.8000000000002,{"$f":"AN450-AO450","v":0},null,0,0,{"$f":"AR450-AS450","v":0},null,0,0,{"$f":"AV450-AW450","v":0},null,0,0,{"$f":"AZ450-BA450","v":0},null,886711.95,886711.94999914314,{"$f":"BD450-BE450","v":8.5681676864624023E-7},null,0,0,{"$f":"BH450-BI450","v":0},null,886711.95,886711.94999914314,{"$f":"BL450-BM450","v":8.5681676864624023E-7},null,0,null,{"$f":"BP450-BQ450","v":0},null,null,null,{"$f":"BT450-BU450","v":0},null,null,null,0,null,112164.01,112164.0123061513,0,null,5365.2,0,5365,null,null,null,0,null,null,null,0,null,null,null,0,null,null,null,0,null,null,null,0,null,null,null,0,null,"NO",{"$f":"IF(ISERROR(VLOOKUP($A450+8860000,'Growth Data'!$A:$F,3,0)),\"NO\",VLOOKUP($A450+8860000,'Growth Data'!$A:$F,3,0))","v":"NO"},0,null,0,{"$f":"IF(DI450=\"YES\",IF(ISERROR(VLOOKUP($A450+8860000,'Growth Data'!$A:$F,6,0)),0,VLOOKUP($A450+8860000,'Growth Data'!$A:$F,6,0)),0)","v":0},0,null,0,{"$f":"IF(ISERROR(VLOOKUP($A450+8860000,'Growth Data'!$A:$Z,7,0)),0,VLOOKUP($A450+8860000,'Growth Data'!$A:$Z,7,0))","v":0},0,null,"NO",{"$f":"IF(ISERROR(VLOOKUP($A450+8860000,'Growth Data'!$A:$F,4,0)),\"NO\",VLOOKUP($A450+8860000,'Growth Data'!$A:$F,4,0))","v":"NO"},0,null,0,{"$f":"IF(ISERROR(VLOOKUP($A450+8860000,'Growth Data'!$A:$Z,8,0)),0,VLOOKUP($A450+8860000,'Growth Data'!$A:$Z,8,0))","v":0},0,null,0,{"$f":"IF(ISERROR(VLOOKUP($A450+8860000,'Growth Data'!$A:$Z,9,0)),0,VLOOKUP($A450+8860000,'Growth Data'!$A:$Z,9,0))","v":0},0,null,"NO",{"$f":"IF(ISERROR(VLOOKUP($A450+8860000,'Growth Data'!$A:$Z,5,0)),\"NO\",VLOOKUP($A450+8860000,'Growth Data'!$A:$Z,5,0))","v":"NO"},0,null,0,{"$f":"IF(ISERROR(VLOOKUP($A450+8860000,'Growth Data'!$A:$Z,10,0)),0,VLOOKUP($A450+8860000,'Growth Data'!$A:$Z,10,0))","v":0},0,null,0,{"$f":"IF(ISERROR(VLOOKUP($A450+8860000,'Growth Data'!$A:$Z,11,0)),0,VLOOKUP($A450+8860000,'Growth Data'!$A:$Z,11,0))","v":0},0]
[3358,"Sholden Church of England Primary School",null,"Sholden Church of England Primary School",null,1,null,324782.84999999998,324782.85000000003,0,null,42668.44,42668.444554455455,-4.5544554523075931E-3,null,642.12,642.12166666666599,-1.6666666659830298E-3,null,12783.98,12783.983333333332,-3.3333333321934333E-3,null,120084,120084,0,null,0,0,0,null,0,0,0,null,0,0,0,null,181.4,181.4,0,null,0,0,0,null,0,0,0,null,0,0,0,null,501142.8,501142.7995544555,4.4554448686540127E-4,null,0,0,0,null,501142.8,501142.7995544555,4.4554448686540127E-4,null,0,null,0,null,null,null,0,null,null,null,0,null,53123.21,53123.21186146362,0,null,2761.5,0,2762,null,null,null,0,null,null,null,0,null,null,null,0,null,null,null,0,null,null,null,0,null,null,null,0,null,"NO",{"$f":"IF(ISERROR(VLOOKUP($A451+8860000,'Growth Data'!$A:$F,3,0)),\"NO\",VLOOKUP($A451+8860000,'Growth Data'!$A:$F,3,0))","v":"NO"},0,null,0,{"$f":"IF(DI451=\"YES\",IF(ISERROR(VLOOKUP($A451+8860000,'Growth Data'!$A:$F,6,0)),0,VLOOKUP($A451+8860000,'Growth Data'!$A:$F,6,0)),0)","v":0},0,null,0,{"$f":"IF(ISERROR(VLOOKUP($A451+8860000,'Growth Data'!$A:$Z,7,0)),0,VLOOKUP($A451+8860000,'Growth Data'!$A:$Z,7,0))","v":0},0,null,"NO",{"$f":"IF(ISERROR(VLOOKUP($A451+8860000,'Growth Data'!$A:$F,4,0)),\"NO\",VLOOKUP($A451+8860000,'Growth Data'!$A:$F,4,0))","v":"NO"},0,null,0,{"$f":"IF(ISERROR(VLOOKUP($A451+8860000,'Growth Data'!$A:$Z,8,0)),0,VLOOKUP($A451+8860000,'Growth Data'!$A:$Z,8,0))","v":0},0,null,0,{"$f":"IF(ISERROR(VLOOKUP($A451+8860000,'Growth Data'!$A:$Z,9,0)),0,VLOOKUP($A451+8860000,'Growth Data'!$A:$Z,9,0))","v":0},0,null,"NO",{"$f":"IF(ISERROR(VLOOKUP($A451+8860000,'Growth Data'!$A:$Z,5,0)),\"NO\",VLOOKUP($A451+8860000,'Growth Data'!$A:$Z,5,0))","v":"NO"},0,null,0,{"$f":"IF(ISERROR(VLOOKUP($A451+8860000,'Growth Data'!$A:$Z,10,0)),0,VLOOKUP($A451+8860000,'Growth Data'!$A:$Z,10,0))","v":0},0,null,0,{"$f":"IF(ISERROR(VLOOKUP($A451+8860000,'Growth Data'!$A:$Z,11,0)),0,VLOOKUP($A451+8860000,'Growth Data'!$A:$Z,11,0))","v":0},0]
[3372,"Maidstone, St John's Church of England Primary School",null,"Maidstone, St John's Church of England Primary School",null,1,null,1354808.46,1354808.46,0,null,32591.21,32591.211144164768,-1.1441647693573032E-3,null,8290.7999999999993,8290.7953968253969,4.6031746023800224E-3,null,55627.31,55627.310458221014,-4.5822101674275473E-4,null,120084,120084,0,null,0,0,0,null,0,0,0,null,0,0,0,null,9062.4,9062.4,0,null,0,0,0,null,0,0,0,null,259438.22,259438.22300078883,-3.0007888271939009E-3,null,1839902.4,1839902.3999999997,0,null,0,0,0,null,1839902.4,1839902.3999999997,0,null,0,null,0,null,null,null,0,null,null,null,0,null,346992.04,346992.04230700817,0,null,11519.4,0,11519,null,null,null,0,null,null,null,0,null,null,null,0,null,null,null,0,null,null,null,0,null,null,null,0,null,"NO",{"$f":"IF(ISERROR(VLOOKUP($A452+8860000,'Growth Data'!$A:$F,3,0)),\"NO\",VLOOKUP($A452+8860000,'Growth Data'!$A:$F,3,0))","v":"NO"},0,null,0,{"$f":"IF(DI452=\"YES\",IF(ISERROR(VLOOKUP($A452+8860000,'Growth Data'!$A:$F,6,0)),0,VLOOKUP($A452+8860000,'Growth Data'!$A:$F,6,0)),0)","v":0},0,null,0,{"$f":"IF(ISERROR(VLOOKUP($A452+8860000,'Growth Data'!$A:$Z,7,0)),0,VLOOKUP($A452+8860000,'Growth Data'!$A:$Z,7,0))","v":0},0,null,"NO",{"$f":"IF(ISERROR(VLOOKUP($A452+8860000,'Growth Data'!$A:$F,4,0)),\"NO\",VLOOKUP($A452+8860000,'Growth Data'!$A:$F,4,0))","v":"NO"},0,null,0,{"$f":"IF(ISERROR(VLOOKUP($A452+8860000,'Growth Data'!$A:$Z,8,0)),0,VLOOKUP($A452+8860000,'Growth Data'!$A:$Z,8,0))","v":0},0,null,0,{"$f":"IF(ISERROR(VLOOKUP($A452+8860000,'Growth Data'!$A:$Z,9,0)),0,VLOOKUP($A452+8860000,'Growth Data'!$A:$Z,9,0))","v":0},0,null,"NO",{"$f":"IF(ISERROR(VLOOKUP($A452+8860000,'Growth Data'!$A:$Z,5,0)),\"NO\",VLOOKUP($A452+8860000,'Growth Data'!$A:$Z,5,0))","v":"NO"},0,null,0,{"$f":"IF(ISERROR(VLOOKUP($A452+8860000,'Growth Data'!$A:$Z,10,0)),0,VLOOKUP($A452+8860000,'Growth Data'!$A:$Z,10,0))","v":0},0,null,0,{"$f":"IF(ISERROR(VLOOKUP($A452+8860000,'Growth Data'!$A:$Z,11,0)),0,VLOOKUP($A452+8860000,'Growth Data'!$A:$Z,11,0))","v":0},0]
[3708,"St John's Catholic Primary School, Gravesend",null,"St John's Catholic Primary School, Gravesend",null,1,null,2344622.86,2344622.86,0,null,240596.64,240596.64169312199,-1.6931219724938273E-3,null,101039.56,101039.56421874999,-4.2187499930150807E-3,null,192601.43,192601.42840579711,1.5942028840072453E-3,null,120084,120084,0,null,0,0,0,null,0,0,0,null,0,0,0,null,9850.8799999999992,9850.8799999999992,0,null,0,0,0,null,0,0,0,null,169495.51,169495.50568233104,4.3176689650863409E-3,null,3178290.88,3178290.8800000004,0,null,0,0,0,null,3178290.88,3178290.8800000004,0,null,0,null,0,null,null,null,0,null,null,null,0,null,659333,659333.00230700825,0,null,19935.400000000001,0,19935,null,null,null,0,null,null,null,0,null,null,null,0,null,null,null,0,null,null,null,0,null,null,null,0,null,"NO",{"$f":"IF(ISERROR(VLOOKUP($A453+8860000,'Growth Data'!$A:$F,3,0)),\"NO\",VLOOKUP($A453+8860000,'Growth Data'!$A:$F,3,0))","v":"YES"},1,null,0,{"$f":"IF(DI453=\"YES\",IF(ISERROR(VLOOKUP($A453+8860000,'Growth Data'!$A:$F,6,0)),0,VLOOKUP($A453+8860000,'Growth Data'!$A:$F,6,0)),0)","v":90},-90,null,0,{"$f":"IF(ISERROR(VLOOKUP($A453+8860000,'Growth Data'!$A:$Z,7,0)),0,VLOOKUP($A453+8860000,'Growth Data'!$A:$Z,7,0))","v":120},1,null,"NO",{"$f":"IF(ISERROR(VLOOKUP($A453+8860000,'Growth Data'!$A:$F,4,0)),\"NO\",VLOOKUP($A453+8860000,'Growth Data'!$A:$F,4,0))","v":"YES"},1,null,0,{"$f":"IF(ISERROR(VLOOKUP($A453+8860000,'Growth Data'!$A:$Z,8,0)),0,VLOOKUP($A453+8860000,'Growth Data'!$A:$Z,8,0))","v":90},1,null,0,{"$f":"IF(ISERROR(VLOOKUP($A453+8860000,'Growth Data'!$A:$Z,9,0)),0,VLOOKUP($A453+8860000,'Growth Data'!$A:$Z,9,0))","v":120},1,null,"NO",{"$f":"IF(ISERROR(VLOOKUP($A453+8860000,'Growth Data'!$A:$Z,5,0)),\"NO\",VLOOKUP($A453+8860000,'Growth Data'!$A:$Z,5,0))","v":"NO"},0,null,0,{"$f":"IF(ISERROR(VLOOKUP($A453+8860000,'Growth Data'!$A:$Z,10,0)),0,VLOOKUP($A453+8860000,'Growth Data'!$A:$Z,10,0))","v":0},0,null,0,{"$f":"IF(ISERROR(VLOOKUP($A453+8860000,'Growth Data'!$A:$Z,11,0)),0,VLOOKUP($A453+8860000,'Growth Data'!$A:$Z,11,0))","v":0},0]
[3714,"St Peter's Catholic Primary School",null,"St Peter's Catholic Primary School",null,1,null,615540.82999999996,615540.82999999996,0,null,36163.129999999997,36163.129999999997,0,null,14767.77,14767.767640449403,2.3595505972480169E-3,null,51979,51978.996686046514,3.3139534862129949E-3,null,120084,120084,0,null,0,0,0,null,0,0,0,null,0,0,0,null,488.07,488.07,0,null,0,0,0,null,0,0,0,null,0,0,0,null,839022.79,839022.79432649584,-4.3264958076179028E-3,null,0,0,0,null,839022.79,839022.79432649584,-4.3264958076179028E-3,null,0,null,0,null,null,null,0,null,null,null,0,null,101779.84,101779.83663350406,0,null,5233.7,0,5234,null,null,null,0,null,null,null,0,null,null,null,0,null,null,null,0,null,null,null,0,null,null,null,0,null,"NO",{"$f":"IF(ISERROR(VLOOKUP($A454+8860000,'Growth Data'!$A:$F,3,0)),\"NO\",VLOOKUP($A454+8860000,'Growth Data'!$A:$F,3,0))","v":"NO"},0,null,0,{"$f":"IF(DI454=\"YES\",IF(ISERROR(VLOOKUP($A454+8860000,'Growth Data'!$A:$F,6,0)),0,VLOOKUP($A454+8860000,'Growth Data'!$A:$F,6,0)),0)","v":0},0,null,0,{"$f":"IF(ISERROR(VLOOKUP($A454+8860000,'Growth Data'!$A:$Z,7,0)),0,VLOOKUP($A454+8860000,'Growth Data'!$A:$Z,7,0))","v":0},0,null,"NO",{"$f":"IF(ISERROR(VLOOKUP($A454+8860000,'Growth Data'!$A:$F,4,0)),\"NO\",VLOOKUP($A454+8860000,'Growth Data'!$A:$F,4,0))","v":"NO"},0,null,0,{"$f":"IF(ISERROR(VLOOKUP($A454+8860000,'Growth Data'!$A:$Z,8,0)),0,VLOOKUP($A454+8860000,'Growth Data'!$A:$Z,8,0))","v":0},0,null,0,{"$f":"IF(ISERROR(VLOOKUP($A454+8860000,'Growth Data'!$A:$Z,9,0)),0,VLOOKUP($A454+8860000,'Growth Data'!$A:$Z,9,0))","v":0},0,null,"NO",{"$f":"IF(ISERROR(VLOOKUP($A454+8860000,'Growth Data'!$A:$Z,5,0)),\"NO\",VLOOKUP($A454+8860000,'Growth Data'!$A:$Z,5,0))","v":"NO"},0,null,0,{"$f":"IF(ISERROR(VLOOKUP($A454+8860000,'Growth Data'!$A:$Z,10,0)),0,VLOOKUP($A454+8860000,'Growth Data'!$A:$Z,10,0))","v":0},0,null,0,{"$f":"IF(ISERROR(VLOOKUP($A454+8860000,'Growth Data'!$A:$Z,11,0)),0,VLOOKUP($A454+8860000,'Growth Data'!$A:$Z,11,0))","v":0},0]
[3715,"St Mary's Catholic Primary School, Whitstable",null,"St Mary's Catholic Primary School, Whitstable",null,1,null,1255827.02,1255827.02,0,null,42572.63,42572.630000000012,0,null,3147.3,3147.3005633802768,-5.6338027661695378E-4,null,86320.51,86320.508358208957,1.6417910374002531E-3,null,120084,120084,0,null,0,0,0,null,0,0,0,null,0,0,0,null,8448,8448,0,null,0,0,0,null,0,0,0,null,189128.54,189128.54107841069,-1.0784106852952391E-3,null,1705528,1705528,0,null,0,0,0,null,1705528,1705528,0,null,0,null,0,null,null,null,0,null,null,null,0,null,313134.12,313134.12230700807,0,null,10677.8,0,10678,null,null,null,0,null,null,null,0,null,null,null,0,null,null,null,0,null,null,null,0,null,null,null,0,null,"NO",{"$f":"IF(ISERROR(VLOOKUP($A455+8860000,'Growth Data'!$A:$F,3,0)),\"NO\",VLOOKUP($A455+8860000,'Growth Data'!$A:$F,3,0))","v":"NO"},0,null,0,{"$f":"IF(DI455=\"YES\",IF(ISERROR(VLOOKUP($A455+8860000,'Growth Data'!$A:$F,6,0)),0,VLOOKUP($A455+8860000,'Growth Data'!$A:$F,6,0)),0)","v":0},0,null,0,{"$f":"IF(ISERROR(VLOOKUP($A455+8860000,'Growth Data'!$A:$Z,7,0)),0,VLOOKUP($A455+8860000,'Growth Data'!$A:$Z,7,0))","v":0},0,null,"NO",{"$f":"IF(ISERROR(VLOOKUP($A455+8860000,'Growth Data'!$A:$F,4,0)),\"NO\",VLOOKUP($A455+8860000,'Growth Data'!$A:$F,4,0))","v":"NO"},0,null,0,{"$f":"IF(ISERROR(VLOOKUP($A455+8860000,'Growth Data'!$A:$Z,8,0)),0,VLOOKUP($A455+8860000,'Growth Data'!$A:$Z,8,0))","v":0},0,null,0,{"$f":"IF(ISERROR(VLOOKUP($A455+8860000,'Growth Data'!$A:$Z,9,0)),0,VLOOKUP($A455+8860000,'Growth Data'!$A:$Z,9,0))","v":0},0,null,"NO",{"$f":"IF(ISERROR(VLOOKUP($A455+8860000,'Growth Data'!$A:$Z,5,0)),\"NO\",VLOOKUP($A455+8860000,'Growth Data'!$A:$Z,5,0))","v":"NO"},0,null,0,{"$f":"IF(ISERROR(VLOOKUP($A455+8860000,'Growth Data'!$A:$Z,10,0)),0,VLOOKUP($A455+8860000,'Growth Data'!$A:$Z,10,0))","v":0},0,null,0,{"$f":"IF(ISERROR(VLOOKUP($A455+8860000,'Growth Data'!$A:$Z,11,0)),0,VLOOKUP($A455+8860000,'Growth Data'!$A:$Z,11,0))","v":0},0]
[3716,"St Teresa's Catholic Primary School",null,"St Teresa's Catholic Primary School",null,1,null,665031.55000000005,665031.55000000005,0,null,40656.550000000003,40656.545280373823,4.7196261803037487E-3,null,15351.42,15351.418378378408,1.6216215917665977E-3,null,55108.9,55108.900584795316,-5.8479531435295939E-4,null,120084,120084,0,null,0,0,0,null,0,0,0,null,0,0,0,null,5040,5040,0,null,0,0,0,null,0,0,0,null,2467.59,2467.5857564524049,4.2435475952515844E-3,null,903740,903739.99999999988,0,null,0,0,0,null,903740,903739.99999999988,0,null,0,null,0,null,null,null,0,null,null,null,0,null,107390.87,107390.87230700812,0,null,5654.5,0,5655,null,null,null,0,null,null,null,0,null,null,null,0,null,null,null,0,null,null,null,0,null,null,null,0,null,"NO",{"$f":"IF(ISERROR(VLOOKUP($A456+8860000,'Growth Data'!$A:$F,3,0)),\"NO\",VLOOKUP($A456+8860000,'Growth Data'!$A:$F,3,0))","v":"NO"},0,null,0,{"$f":"IF(DI456=\"YES\",IF(ISERROR(VLOOKUP($A456+8860000,'Growth Data'!$A:$F,6,0)),0,VLOOKUP($A456+8860000,'Growth Data'!$A:$F,6,0)),0)","v":0},0,null,0,{"$f":"IF(ISERROR(VLOOKUP($A456+8860000,'Growth Data'!$A:$Z,7,0)),0,VLOOKUP($A456+8860000,'Growth Data'!$A:$Z,7,0))","v":0},0,null,"NO",{"$f":"IF(ISERROR(VLOOKUP($A456+8860000,'Growth Data'!$A:$F,4,0)),\"NO\",VLOOKUP($A456+8860000,'Growth Data'!$A:$F,4,0))","v":"NO"},0,null,0,{"$f":"IF(ISERROR(VLOOKUP($A456+8860000,'Growth Data'!$A:$Z,8,0)),0,VLOOKUP($A456+8860000,'Growth Data'!$A:$Z,8,0))","v":0},0,null,0,{"$f":"IF(ISERROR(VLOOKUP($A456+8860000,'Growth Data'!$A:$Z,9,0)),0,VLOOKUP($A456+8860000,'Growth Data'!$A:$Z,9,0))","v":0},0,null,"NO",{"$f":"IF(ISERROR(VLOOKUP($A456+8860000,'Growth Data'!$A:$Z,5,0)),\"NO\",VLOOKUP($A456+8860000,'Growth Data'!$A:$Z,5,0))","v":"NO"},0,null,0,{"$f":"IF(ISERROR(VLOOKUP($A456+8860000,'Growth Data'!$A:$Z,10,0)),0,VLOOKUP($A456+8860000,'Growth Data'!$A:$Z,10,0))","v":0},0,null,0,{"$f":"IF(ISERROR(VLOOKUP($A456+8860000,'Growth Data'!$A:$Z,11,0)),0,VLOOKUP($A456+8860000,'Growth Data'!$A:$Z,11,0))","v":0},0]
[3719,"St Joseph's Catholic Primary School, Aylesham",null,"St Joseph's Catholic Primary School, Aylesham",null,1,null,334062.36,334062.36,0,null,59269.54,59269.536399999997,3.6000000036437996E-3,null,4007.33,4007.3339325842726,-3.9325842726611882E-3,null,23668.63,23668.632000000001,-2.0000000004074536E-3,null,120084,120084,0,null,0,0,0,null,0,0,0,null,0,0,0,null,2534.4,2534.4,0,null,0,0,0,null,0,0,0,null,0,0,0,null,543626.26,543626.26233258424,-2.3325842339545488E-3,null,7665.72,7665.7204477069899,-4.4770698968932265E-4,null,551291.98,551291.98278029123,-2.7802912518382072E-3,null,0,null,0,null,null,null,0,null,null,null,0,null,81512.850000000006,81512.845087299414,0,null,2840.4,0,2840,null,null,null,0,null,null,null,0,null,null,null,0,null,null,null,0,null,null,null,0,null,null,null,0,null,"NO",{"$f":"IF(ISERROR(VLOOKUP($A457+8860000,'Growth Data'!$A:$F,3,0)),\"NO\",VLOOKUP($A457+8860000,'Growth Data'!$A:$F,3,0))","v":"NO"},0,null,0,{"$f":"IF(DI457=\"YES\",IF(ISERROR(VLOOKUP($A457+8860000,'Growth Data'!$A:$F,6,0)),0,VLOOKUP($A457+8860000,'Growth Data'!$A:$F,6,0)),0)","v":0},0,null,0,{"$f":"IF(ISERROR(VLOOKUP($A457+8860000,'Growth Data'!$A:$Z,7,0)),0,VLOOKUP($A457+8860000,'Growth Data'!$A:$Z,7,0))","v":0},0,null,"NO",{"$f":"IF(ISERROR(VLOOKUP($A457+8860000,'Growth Data'!$A:$F,4,0)),\"NO\",VLOOKUP($A457+8860000,'Growth Data'!$A:$F,4,0))","v":"NO"},0,null,0,{"$f":"IF(ISERROR(VLOOKUP($A457+8860000,'Growth Data'!$A:$Z,8,0)),0,VLOOKUP($A457+8860000,'Growth Data'!$A:$Z,8,0))","v":0},0,null,0,{"$f":"IF(ISERROR(VLOOKUP($A457+8860000,'Growth Data'!$A:$Z,9,0)),0,VLOOKUP($A457+8860000,'Growth Data'!$A:$Z,9,0))","v":0},0,null,"NO",{"$f":"IF(ISERROR(VLOOKUP($A457+8860000,'Growth Data'!$A:$Z,5,0)),\"NO\",VLOOKUP($A457+8860000,'Growth Data'!$A:$Z,5,0))","v":"NO"},0,null,0,{"$f":"IF(ISERROR(VLOOKUP($A457+8860000,'Growth Data'!$A:$Z,10,0)),0,VLOOKUP($A457+8860000,'Growth Data'!$A:$Z,10,0))","v":0},0,null,0,{"$f":"IF(ISERROR(VLOOKUP($A457+8860000,'Growth Data'!$A:$Z,11,0)),0,VLOOKUP($A457+8860000,'Growth Data'!$A:$Z,11,0))","v":0},0]
[3720,"St Mary's Catholic Primary School",null,"St Mary's Catholic Primary School",null,1,null,578422.79,578422.79,0,null,71466.61,71466.609999999957,0,null,2495.1,2495.101333333329,-1.3333333290574956E-3,null,43005.59,43005.590493827156,-4.9382715951651335E-4,null,120084,120084,0,null,0,0,0,null,0,0,0,null,0,0,0,null,2688,2688,0,null,0,0,0,null,0,0,0,null,0,0,0,null,818162.09,818162.09182716045,-1.8271604785695672E-3,null,0,0,0,null,818162.09,818162.09182716045,-1.8271604785695672E-3,null,0,null,0,null,null,null,0,null,null,null,0,null,100646.68,100646.68413416862,0,null,4918.1000000000004,0,4918,null,null,null,0,null,null,null,0,null,null,null,0,null,null,null,0,null,null,null,0,null,null,null,0,null,"NO",{"$f":"IF(ISERROR(VLOOKUP($A458+8860000,'Growth Data'!$A:$F,3,0)),\"NO\",VLOOKUP($A458+8860000,'Growth Data'!$A:$F,3,0))","v":"NO"},0,null,0,{"$f":"IF(DI458=\"YES\",IF(ISERROR(VLOOKUP($A458+8860000,'Growth Data'!$A:$F,6,0)),0,VLOOKUP($A458+8860000,'Growth Data'!$A:$F,6,0)),0)","v":0},0,null,0,{"$f":"IF(ISERROR(VLOOKUP($A458+8860000,'Growth Data'!$A:$Z,7,0)),0,VLOOKUP($A458+8860000,'Growth Data'!$A:$Z,7,0))","v":0},0,null,"NO",{"$f":"IF(ISERROR(VLOOKUP($A458+8860000,'Growth Data'!$A:$F,4,0)),\"NO\",VLOOKUP($A458+8860000,'Growth Data'!$A:$F,4,0))","v":"NO"},0,null,0,{"$f":"IF(ISERROR(VLOOKUP($A458+8860000,'Growth Data'!$A:$Z,8,0)),0,VLOOKUP($A458+8860000,'Growth Data'!$A:$Z,8,0))","v":0},0,null,0,{"$f":"IF(ISERROR(VLOOKUP($A458+8860000,'Growth Data'!$A:$Z,9,0)),0,VLOOKUP($A458+8860000,'Growth Data'!$A:$Z,9,0))","v":0},0,null,"NO",{"$f":"IF(ISERROR(VLOOKUP($A458+8860000,'Growth Data'!$A:$Z,5,0)),\"NO\",VLOOKUP($A458+8860000,'Growth Data'!$A:$Z,5,0))","v":"NO"},0,null,0,{"$f":"IF(ISERROR(VLOOKUP($A458+8860000,'Growth Data'!$A:$Z,10,0)),0,VLOOKUP($A458+8860000,'Growth Data'!$A:$Z,10,0))","v":0},0,null,0,{"$f":"IF(ISERROR(VLOOKUP($A458+8860000,'Growth Data'!$A:$Z,11,0)),0,VLOOKUP($A458+8860000,'Growth Data'!$A:$Z,11,0))","v":0},0]
[3740,"St Richard's Catholic Primary School",null,"St Richard's Catholic Primary School",null,1,null,609354.49,609354.49,0,null,91893.03,91893.02742268049,2.5773195084184408E-3,null,18179.349999999999,18179.348742515009,1.2574849897646345E-3,null,52973.42,52973.420858895704,-8.5889570618746802E-4,null,120084,120084,0,null,0,0,0,null,0,0,0,null,0,0,0,null,5478.4,5478.4,0,null,0,0,0,null,0,0,0,null,0,0,0,null,897962.69,897962.68702409125,2.9759086901322007E-3,null,0,0,0,null,897962.69,897962.68702409125,2.9759086901322007E-3,null,0,null,0,null,null,null,0,null,null,null,0,null,149026.78,149026.7793310993,0,null,5181.1000000000004,0,5181,null,null,null,0,null,null,null,0,null,null,null,0,null,null,null,0,null,null,null,0,null,null,null,0,null,"NO",{"$f":"IF(ISERROR(VLOOKUP($A459+8860000,'Growth Data'!$A:$F,3,0)),\"NO\",VLOOKUP($A459+8860000,'Growth Data'!$A:$F,3,0))","v":"NO"},0,null,0,{"$f":"IF(DI459=\"YES\",IF(ISERROR(VLOOKUP($A459+8860000,'Growth Data'!$A:$F,6,0)),0,VLOOKUP($A459+8860000,'Growth Data'!$A:$F,6,0)),0)","v":0},0,null,0,{"$f":"IF(ISERROR(VLOOKUP($A459+8860000,'Growth Data'!$A:$Z,7,0)),0,VLOOKUP($A459+8860000,'Growth Data'!$A:$Z,7,0))","v":0},0,null,"NO",{"$f":"IF(ISERROR(VLOOKUP($A459+8860000,'Growth Data'!$A:$F,4,0)),\"NO\",VLOOKUP($A459+8860000,'Growth Data'!$A:$F,4,0))","v":"NO"},0,null,0,{"$f":"IF(ISERROR(VLOOKUP($A459+8860000,'Growth Data'!$A:$Z,8,0)),0,VLOOKUP($A459+8860000,'Growth Data'!$A:$Z,8,0))","v":0},0,null,0,{"$f":"IF(ISERROR(VLOOKUP($A459+8860000,'Growth Data'!$A:$Z,9,0)),0,VLOOKUP($A459+8860000,'Growth Data'!$A:$Z,9,0))","v":0},0,null,"NO",{"$f":"IF(ISERROR(VLOOKUP($A459+8860000,'Growth Data'!$A:$Z,5,0)),\"NO\",VLOOKUP($A459+8860000,'Growth Data'!$A:$Z,5,0))","v":"NO"},0,null,0,{"$f":"IF(ISERROR(VLOOKUP($A459+8860000,'Growth Data'!$A:$Z,10,0)),0,VLOOKUP($A459+8860000,'Growth Data'!$A:$Z,10,0))","v":0},0,null,0,{"$f":"IF(ISERROR(VLOOKUP($A459+8860000,'Growth Data'!$A:$Z,11,0)),0,VLOOKUP($A459+8860000,'Growth Data'!$A:$Z,11,0))","v":0},0]
[3743,"St Simon of England Roman Catholic Primary School, Ashford",null,"St Simon of England Roman Catholic Primary School, Ashford",null,1,null,634099.85,634099.85,0,null,74163.23,74163.227524271846,2.4757281498750672E-3,null,27079.19,27079.187999999998,2.0000000004074536E-3,null,90641.33,90641.325438596483,4.5614035188918933E-3,null,120084,120084,0,null,0,0,0,null,0,0,0,null,0,0,0,null,506,506,0,null,0,0,0,null,0,0,0,null,0,0,0,null,946573.59,946573.59096286818,-9.6286821644753218E-4,null,0,0,0,null,946573.59,946573.59096286818,-9.6286821644753218E-4,null,0,null,0,null,null,null,0,null,null,null,0,null,183388.56,183388.56326987647,0,null,5391.5,0,5392,null,null,null,0,null,null,null,0,null,null,null,0,null,null,null,0,null,null,null,0,null,null,null,0,null,"NO",{"$f":"IF(ISERROR(VLOOKUP($A460+8860000,'Growth Data'!$A:$F,3,0)),\"NO\",VLOOKUP($A460+8860000,'Growth Data'!$A:$F,3,0))","v":"NO"},0,null,0,{"$f":"IF(DI460=\"YES\",IF(ISERROR(VLOOKUP($A460+8860000,'Growth Data'!$A:$F,6,0)),0,VLOOKUP($A460+8860000,'Growth Data'!$A:$F,6,0)),0)","v":0},0,null,0,{"$f":"IF(ISERROR(VLOOKUP($A460+8860000,'Growth Data'!$A:$Z,7,0)),0,VLOOKUP($A460+8860000,'Growth Data'!$A:$Z,7,0))","v":0},0,null,"NO",{"$f":"IF(ISERROR(VLOOKUP($A460+8860000,'Growth Data'!$A:$F,4,0)),\"NO\",VLOOKUP($A460+8860000,'Growth Data'!$A:$F,4,0))","v":"NO"},0,null,0,{"$f":"IF(ISERROR(VLOOKUP($A460+8860000,'Growth Data'!$A:$Z,8,0)),0,VLOOKUP($A460+8860000,'Growth Data'!$A:$Z,8,0))","v":0},0,null,0,{"$f":"IF(ISERROR(VLOOKUP($A460+8860000,'Growth Data'!$A:$Z,9,0)),0,VLOOKUP($A460+8860000,'Growth Data'!$A:$Z,9,0))","v":0},0,null,"NO",{"$f":"IF(ISERROR(VLOOKUP($A460+8860000,'Growth Data'!$A:$Z,5,0)),\"NO\",VLOOKUP($A460+8860000,'Growth Data'!$A:$Z,5,0))","v":"NO"},0,null,0,{"$f":"IF(ISERROR(VLOOKUP($A460+8860000,'Growth Data'!$A:$Z,10,0)),0,VLOOKUP($A460+8860000,'Growth Data'!$A:$Z,10,0))","v":0},0,null,0,{"$f":"IF(ISERROR(VLOOKUP($A460+8860000,'Growth Data'!$A:$Z,11,0)),0,VLOOKUP($A460+8860000,'Growth Data'!$A:$Z,11,0))","v":0},0]
[3744,"St Margaret Clitherow Catholic Primary School",null,"St Margaret Clitherow Catholic Primary School",null,1,null,1231081.6599999999,1231081.6599999999,0,null,53052.44,53052.443022670042,-3.0226700400817208E-3,null,31747.13,31747.133333333324,-3.3333333230984863E-3,null,68930.259999999995,68930.261155015192,-1.1550151975825429E-3,null,120084,120084,0,null,0,0,0,null,0,0,0,null,0,0,0,null,7577.6,7577.6,0,null,0,0,0,null,0,0,0,null,158744.5,158744.50248898152,-2.4889815249480307E-3,null,1671217.6,1671217.5999999999,0,null,0,0,0,null,1671217.6,1671217.5999999999,0,null,0,null,0,null,null,null,0,null,null,null,0,null,308582.36,308582.36230700824,0,null,10467.4,0,10467,null,null,null,0,null,null,null,0,null,null,null,0,null,null,null,0,null,null,null,0,null,null,null,0,null,"NO",{"$f":"IF(ISERROR(VLOOKUP($A461+8860000,'Growth Data'!$A:$F,3,0)),\"NO\",VLOOKUP($A461+8860000,'Growth Data'!$A:$F,3,0))","v":"NO"},0,null,0,{"$f":"IF(DI461=\"YES\",IF(ISERROR(VLOOKUP($A461+8860000,'Growth Data'!$A:$F,6,0)),0,VLOOKUP($A461+8860000,'Growth Data'!$A:$F,6,0)),0)","v":0},0,null,0,{"$f":"IF(ISERROR(VLOOKUP($A461+8860000,'Growth Data'!$A:$Z,7,0)),0,VLOOKUP($A461+8860000,'Growth Data'!$A:$Z,7,0))","v":0},0,null,"NO",{"$f":"IF(ISERROR(VLOOKUP($A461+8860000,'Growth Data'!$A:$F,4,0)),\"NO\",VLOOKUP($A461+8860000,'Growth Data'!$A:$F,4,0))","v":"NO"},0,null,0,{"$f":"IF(ISERROR(VLOOKUP($A461+8860000,'Growth Data'!$A:$Z,8,0)),0,VLOOKUP($A461+8860000,'Growth Data'!$A:$Z,8,0))","v":0},0,null,0,{"$f":"IF(ISERROR(VLOOKUP($A461+8860000,'Growth Data'!$A:$Z,9,0)),0,VLOOKUP($A461+8860000,'Growth Data'!$A:$Z,9,0))","v":0},0,null,"NO",{"$f":"IF(ISERROR(VLOOKUP($A461+8860000,'Growth Data'!$A:$Z,5,0)),\"NO\",VLOOKUP($A461+8860000,'Growth Data'!$A:$Z,5,0))","v":"NO"},0,null,0,{"$f":"IF(ISERROR(VLOOKUP($A461+8860000,'Growth Data'!$A:$Z,10,0)),0,VLOOKUP($A461+8860000,'Growth Data'!$A:$Z,10,0))","v":0},0,null,0,{"$f":"IF(ISERROR(VLOOKUP($A461+8860000,'Growth Data'!$A:$Z,11,0)),0,VLOOKUP($A461+8860000,'Growth Data'!$A:$Z,11,0))","v":0},0]
[3745,"More Park Catholic Primary School",null,"More Park Catholic Primary School",null,1,null,631006.68000000005,631006.68000000005,0,null,36995.699999999997,36995.699999999997,0,null,4516.99,4516.9937931034519,-3.7931034521534457E-3,null,31558.18,31558.175999999999,4.0000000008149073E-3,null,120084,120084,0,null,0,0,0,null,0,0,0,null,0,0,0,null,4889.6000000000004,4889.6000000000004,0,null,0,0,0,null,0,0,0,null,28558.45,28558.450206896465,-2.068964640784543E-4,null,857609.6,857609.59999999986,0,null,0,0,0,null,857609.6,857609.59999999986,0,null,0,null,0,null,null,null,0,null,null,null,0,null,98657.98,98657.98230700806,0,null,5365.2,0,5365,null,null,null,0,null,null,null,0,null,null,null,0,null,null,null,0,null,null,null,0,null,null,null,0,null,"NO",{"$f":"IF(ISERROR(VLOOKUP($A462+8860000,'Growth Data'!$A:$F,3,0)),\"NO\",VLOOKUP($A462+8860000,'Growth Data'!$A:$F,3,0))","v":"NO"},0,null,0,{"$f":"IF(DI462=\"YES\",IF(ISERROR(VLOOKUP($A462+8860000,'Growth Data'!$A:$F,6,0)),0,VLOOKUP($A462+8860000,'Growth Data'!$A:$F,6,0)),0)","v":0},0,null,0,{"$f":"IF(ISERROR(VLOOKUP($A462+8860000,'Growth Data'!$A:$Z,7,0)),0,VLOOKUP($A462+8860000,'Growth Data'!$A:$Z,7,0))","v":0},0,null,"NO",{"$f":"IF(ISERROR(VLOOKUP($A462+8860000,'Growth Data'!$A:$F,4,0)),\"NO\",VLOOKUP($A462+8860000,'Growth Data'!$A:$F,4,0))","v":"NO"},0,null,0,{"$f":"IF(ISERROR(VLOOKUP($A462+8860000,'Growth Data'!$A:$Z,8,0)),0,VLOOKUP($A462+8860000,'Growth Data'!$A:$Z,8,0))","v":0},0,null,0,{"$f":"IF(ISERROR(VLOOKUP($A462+8860000,'Growth Data'!$A:$Z,9,0)),0,VLOOKUP($A462+8860000,'Growth Data'!$A:$Z,9,0))","v":0},0,null,"NO",{"$f":"IF(ISERROR(VLOOKUP($A462+8860000,'Growth Data'!$A:$Z,5,0)),\"NO\",VLOOKUP($A462+8860000,'Growth Data'!$A:$Z,5,0))","v":"NO"},0,null,0,{"$f":"IF(ISERROR(VLOOKUP($A462+8860000,'Growth Data'!$A:$Z,10,0)),0,VLOOKUP($A462+8860000,'Growth Data'!$A:$Z,10,0))","v":0},0,null,0,{"$f":"IF(ISERROR(VLOOKUP($A462+8860000,'Growth Data'!$A:$Z,11,0)),0,VLOOKUP($A462+8860000,'Growth Data'!$A:$Z,11,0))","v":0},0]
[3751,"St Thomas' Catholic Primary School, Sevenoaks",null,"St Thomas' Catholic Primary School, Sevenoaks",null,1,null,603168.15,603168.15,0,null,8729.0499999999993,8729.0499999999993,0,null,11057.84,11057.835454545451,4.5454545488610165E-3,null,67035.34,67035.341176470582,-1.1764705850509927E-3,null,120084,120084,0,null,0,0,0,null,29810.74,29810.737060021394,2.9399786071735434E-3,null,0,0,0,null,5140.8,5140.8,0,null,0,0,0,null,0,0,0,null,0,0,0,null,845025.91,845025.91369103757,-3.6910375347360969E-3,null,0,0,0,null,845025.91,845025.91369103757,-3.6910375347360969E-3,null,0,null,0,null,null,null,0,null,null,null,0,null,91231.94,91231.939634943468,0,null,5317.23,0,5317,null,null,null,0,null,null,null,0,null,null,null,0,null,null,null,0,null,null,null,0,null,null,null,0,null,"NO",{"$f":"IF(ISERROR(VLOOKUP($A463+8860000,'Growth Data'!$A:$F,3,0)),\"NO\",VLOOKUP($A463+8860000,'Growth Data'!$A:$F,3,0))","v":"NO"},0,null,0,{"$f":"IF(DI463=\"YES\",IF(ISERROR(VLOOKUP($A463+8860000,'Growth Data'!$A:$F,6,0)),0,VLOOKUP($A463+8860000,'Growth Data'!$A:$F,6,0)),0)","v":0},0,null,0,{"$f":"IF(ISERROR(VLOOKUP($A463+8860000,'Growth Data'!$A:$Z,7,0)),0,VLOOKUP($A463+8860000,'Growth Data'!$A:$Z,7,0))","v":0},0,null,"NO",{"$f":"IF(ISERROR(VLOOKUP($A463+8860000,'Growth Data'!$A:$F,4,0)),\"NO\",VLOOKUP($A463+8860000,'Growth Data'!$A:$F,4,0))","v":"NO"},0,null,0,{"$f":"IF(ISERROR(VLOOKUP($A463+8860000,'Growth Data'!$A:$Z,8,0)),0,VLOOKUP($A463+8860000,'Growth Data'!$A:$Z,8,0))","v":0},0,null,0,{"$f":"IF(ISERROR(VLOOKUP($A463+8860000,'Growth Data'!$A:$Z,9,0)),0,VLOOKUP($A463+8860000,'Growth Data'!$A:$Z,9,0))","v":0},0,null,"NO",{"$f":"IF(ISERROR(VLOOKUP($A463+8860000,'Growth Data'!$A:$Z,5,0)),\"NO\",VLOOKUP($A463+8860000,'Growth Data'!$A:$Z,5,0))","v":"NO"},0,null,0,{"$f":"IF(ISERROR(VLOOKUP($A463+8860000,'Growth Data'!$A:$Z,10,0)),0,VLOOKUP($A463+8860000,'Growth Data'!$A:$Z,10,0))","v":0},0,null,0,{"$f":"IF(ISERROR(VLOOKUP($A463+8860000,'Growth Data'!$A:$Z,11,0)),0,VLOOKUP($A463+8860000,'Growth Data'!$A:$Z,11,0))","v":0},0]
[3754,"St Augustine's Catholic Primary School",null,"St Augustine's Catholic Primary School",null,1,null,897019.3,897019.3,0,null,55827.77,55827.770000000106,-1.0913936421275139E-10,null,47017.81,47017.812403100819,-2.4031008215388283E-3,null,74105.240000000005,74105.235968379449,4.0316205559065565E-3,null,120084,120084,0,null,0,0,0,null,0,0,0,null,0,0,0,null,5836.8,5836.8,0,null,0,0,0,null,0,0,0,null,18145.88,18145.881628519594,-1.6285195924865548E-3,null,1218036.8,1218036.8,0,null,0,0,0,null,1218036.8,1218036.8,0,null,0,null,0,null,null,null,0,null,null,null,0,null,181538,181538.00230700805,0,null,7627,0,7627,null,null,null,0,null,null,null,0,null,null,null,0,null,null,null,0,null,null,null,0,null,null,null,0,null,"NO",{"$f":"IF(ISERROR(VLOOKUP($A464+8860000,'Growth Data'!$A:$F,3,0)),\"NO\",VLOOKUP($A464+8860000,'Growth Data'!$A:$F,3,0))","v":"NO"},0,null,0,{"$f":"IF(DI464=\"YES\",IF(ISERROR(VLOOKUP($A464+8860000,'Growth Data'!$A:$F,6,0)),0,VLOOKUP($A464+8860000,'Growth Data'!$A:$F,6,0)),0)","v":0},0,null,0,{"$f":"IF(ISERROR(VLOOKUP($A464+8860000,'Growth Data'!$A:$Z,7,0)),0,VLOOKUP($A464+8860000,'Growth Data'!$A:$Z,7,0))","v":0},0,null,"NO",{"$f":"IF(ISERROR(VLOOKUP($A464+8860000,'Growth Data'!$A:$F,4,0)),\"NO\",VLOOKUP($A464+8860000,'Growth Data'!$A:$F,4,0))","v":"NO"},0,null,0,{"$f":"IF(ISERROR(VLOOKUP($A464+8860000,'Growth Data'!$A:$Z,8,0)),0,VLOOKUP($A464+8860000,'Growth Data'!$A:$Z,8,0))","v":0},0,null,0,{"$f":"IF(ISERROR(VLOOKUP($A464+8860000,'Growth Data'!$A:$Z,9,0)),0,VLOOKUP($A464+8860000,'Growth Data'!$A:$Z,9,0))","v":0},0,null,"NO",{"$f":"IF(ISERROR(VLOOKUP($A464+8860000,'Growth Data'!$A:$Z,5,0)),\"NO\",VLOOKUP($A464+8860000,'Growth Data'!$A:$Z,5,0))","v":"NO"},0,null,0,{"$f":"IF(ISERROR(VLOOKUP($A464+8860000,'Growth Data'!$A:$Z,10,0)),0,VLOOKUP($A464+8860000,'Growth Data'!$A:$Z,10,0))","v":0},0,null,0,{"$f":"IF(ISERROR(VLOOKUP($A464+8860000,'Growth Data'!$A:$Z,11,0)),0,VLOOKUP($A464+8860000,'Growth Data'!$A:$Z,11,0))","v":0},0]
[3889,"St Gregory's Catholic Primary School, Margate",null,"St Gregory's Catholic Primary School, Margate",null,1,null,782572.01,782572.01,0,null,112783.35,112783.34999999999,0,null,8265.9,8265.9027853881271,-2.7853881274495507E-3,null,58364.17,58364.170526315786,-5.2631578728323802E-4,null,120084,120084,0,null,0,0,0,null,0,0,0,null,0,0,0,null,7782.4,7782.4,0,null,0,0,0,null,0,0,0,null,0,0,0,null,1089851.83,1089851.833311704,-3.3117039129137993E-3,null,0,0,0,null,1089851.83,1089851.833311704,-3.3117039129137993E-3,null,0,null,0,null,null,null,0,null,null,null,0,null,160330.89000000001,160330.88561871205,0,null,6653.9,0,6654,null,null,null,0,null,null,null,0,null,null,null,0,null,null,null,0,null,null,null,0,null,null,null,0,null,"NO",{"$f":"IF(ISERROR(VLOOKUP($A465+8860000,'Growth Data'!$A:$F,3,0)),\"NO\",VLOOKUP($A465+8860000,'Growth Data'!$A:$F,3,0))","v":"NO"},0,null,0,{"$f":"IF(DI465=\"YES\",IF(ISERROR(VLOOKUP($A465+8860000,'Growth Data'!$A:$F,6,0)),0,VLOOKUP($A465+8860000,'Growth Data'!$A:$F,6,0)),0)","v":0},0,null,0,{"$f":"IF(ISERROR(VLOOKUP($A465+8860000,'Growth Data'!$A:$Z,7,0)),0,VLOOKUP($A465+8860000,'Growth Data'!$A:$Z,7,0))","v":0},0,null,"NO",{"$f":"IF(ISERROR(VLOOKUP($A465+8860000,'Growth Data'!$A:$F,4,0)),\"NO\",VLOOKUP($A465+8860000,'Growth Data'!$A:$F,4,0))","v":"NO"},0,null,0,{"$f":"IF(ISERROR(VLOOKUP($A465+8860000,'Growth Data'!$A:$Z,8,0)),0,VLOOKUP($A465+8860000,'Growth Data'!$A:$Z,8,0))","v":0},0,null,0,{"$f":"IF(ISERROR(VLOOKUP($A465+8860000,'Growth Data'!$A:$Z,9,0)),0,VLOOKUP($A465+8860000,'Growth Data'!$A:$Z,9,0))","v":0},0,null,"NO",{"$f":"IF(ISERROR(VLOOKUP($A465+8860000,'Growth Data'!$A:$Z,5,0)),\"NO\",VLOOKUP($A465+8860000,'Growth Data'!$A:$Z,5,0))","v":"NO"},0,null,0,{"$f":"IF(ISERROR(VLOOKUP($A465+8860000,'Growth Data'!$A:$Z,10,0)),0,VLOOKUP($A465+8860000,'Growth Data'!$A:$Z,10,0))","v":0},0,null,0,{"$f":"IF(ISERROR(VLOOKUP($A465+8860000,'Growth Data'!$A:$Z,11,0)),0,VLOOKUP($A465+8860000,'Growth Data'!$A:$Z,11,0))","v":0},0]
[3890,"St Joseph's Catholic Primary School, Broadstairs",null,"St Joseph's Catholic Primary School, Broadstairs",null,1,null,596981.81000000006,596981.81000000006,0,null,64317.66,64317.659999999909,9.4587448984384537E-11,null,5431.97,5431.9740340909048,-4.034090904497134E-3,null,65272.72,65272.719135802465,8.6419753642985597E-4,null,120084,120084,0,null,0,0,0,null,0,0,0,null,0,0,0,null,3072,3072,0,null,0,0,0,null,0,0,0,null,0,0,0,null,855160.16,855160.16316989332,-3.1698932871222496E-3,null,0,0,0,null,855160.16,855160.16316989332,-3.1698932871222496E-3,null,0,null,0,null,null,null,0,null,null,null,0,null,124685.9,124685.89547690145,0,null,5075.8999999999996,0,5076,null,null,null,0,null,null,null,0,null,null,null,0,null,null,null,0,null,null,null,0,null,null,null,0,null,"NO",{"$f":"IF(ISERROR(VLOOKUP($A466+8860000,'Growth Data'!$A:$F,3,0)),\"NO\",VLOOKUP($A466+8860000,'Growth Data'!$A:$F,3,0))","v":"NO"},0,null,0,{"$f":"IF(DI466=\"YES\",IF(ISERROR(VLOOKUP($A466+8860000,'Growth Data'!$A:$F,6,0)),0,VLOOKUP($A466+8860000,'Growth Data'!$A:$F,6,0)),0)","v":0},0,null,0,{"$f":"IF(ISERROR(VLOOKUP($A466+8860000,'Growth Data'!$A:$Z,7,0)),0,VLOOKUP($A466+8860000,'Growth Data'!$A:$Z,7,0))","v":0},0,null,"NO",{"$f":"IF(ISERROR(VLOOKUP($A466+8860000,'Growth Data'!$A:$F,4,0)),\"NO\",VLOOKUP($A466+8860000,'Growth Data'!$A:$F,4,0))","v":"NO"},0,null,0,{"$f":"IF(ISERROR(VLOOKUP($A466+8860000,'Growth Data'!$A:$Z,8,0)),0,VLOOKUP($A466+8860000,'Growth Data'!$A:$Z,8,0))","v":0},0,null,0,{"$f":"IF(ISERROR(VLOOKUP($A466+8860000,'Growth Data'!$A:$Z,9,0)),0,VLOOKUP($A466+8860000,'Growth Data'!$A:$Z,9,0))","v":0},0,null,"NO",{"$f":"IF(ISERROR(VLOOKUP($A466+8860000,'Growth Data'!$A:$Z,5,0)),\"NO\",VLOOKUP($A466+8860000,'Growth Data'!$A:$Z,5,0))","v":"NO"},0,null,0,{"$f":"IF(ISERROR(VLOOKUP($A466+8860000,'Growth Data'!$A:$Z,10,0)),0,VLOOKUP($A466+8860000,'Growth Data'!$A:$Z,10,0))","v":0},0,null,0,{"$f":"IF(ISERROR(VLOOKUP($A466+8860000,'Growth Data'!$A:$Z,11,0)),0,VLOOKUP($A466+8860000,'Growth Data'!$A:$Z,11,0))","v":0},0]
[3900,"Whitehill Primary School",null,"Whitehill Primary School",null,1,null,1942510.76,1942510.76,0,null,249124.64,249124.63992159671,7.8403303632512689E-5,null,24643.79,24643.787714808044,2.2851919566164725E-3,null,158178.38,158178.38216110019,-2.1611001866403967E-3,null,120084,120084,0,null,0,0,0,null,0,0,0,null,0,0,0,null,10649.6,10649.6,0,null,0,0,0,null,0,0,0,null,130498.43,130498.43020249504,-2.0249505178071558E-4,null,2635689.6,2635689.6,0,null,0,0,0,null,2635689.6,2635689.6,0,null,0,null,0,null,null,null,0,null,null,null,0,null,497791.02,497791.02230700804,0,null,16516.400000000001,0,16516,null,null,null,0,null,null,null,0,null,null,null,0,null,null,null,0,null,null,null,0,null,null,null,0,null,"NO",{"$f":"IF(ISERROR(VLOOKUP($A467+8860000,'Growth Data'!$A:$F,3,0)),\"NO\",VLOOKUP($A467+8860000,'Growth Data'!$A:$F,3,0))","v":"NO"},0,null,0,{"$f":"IF(DI467=\"YES\",IF(ISERROR(VLOOKUP($A467+8860000,'Growth Data'!$A:$F,6,0)),0,VLOOKUP($A467+8860000,'Growth Data'!$A:$F,6,0)),0)","v":0},0,null,0,{"$f":"IF(ISERROR(VLOOKUP($A467+8860000,'Growth Data'!$A:$Z,7,0)),0,VLOOKUP($A467+8860000,'Growth Data'!$A:$Z,7,0))","v":0},0,null,"NO",{"$f":"IF(ISERROR(VLOOKUP($A467+8860000,'Growth Data'!$A:$F,4,0)),\"NO\",VLOOKUP($A467+8860000,'Growth Data'!$A:$F,4,0))","v":"NO"},0,null,0,{"$f":"IF(ISERROR(VLOOKUP($A467+8860000,'Growth Data'!$A:$Z,8,0)),0,VLOOKUP($A467+8860000,'Growth Data'!$A:$Z,8,0))","v":0},0,null,0,{"$f":"IF(ISERROR(VLOOKUP($A467+8860000,'Growth Data'!$A:$Z,9,0)),0,VLOOKUP($A467+8860000,'Growth Data'!$A:$Z,9,0))","v":0},0,null,"NO",{"$f":"IF(ISERROR(VLOOKUP($A467+8860000,'Growth Data'!$A:$Z,5,0)),\"NO\",VLOOKUP($A467+8860000,'Growth Data'!$A:$Z,5,0))","v":"NO"},0,null,0,{"$f":"IF(ISERROR(VLOOKUP($A467+8860000,'Growth Data'!$A:$Z,10,0)),0,VLOOKUP($A467+8860000,'Growth Data'!$A:$Z,10,0))","v":0},0,null,0,{"$f":"IF(ISERROR(VLOOKUP($A467+8860000,'Growth Data'!$A:$Z,11,0)),0,VLOOKUP($A467+8860000,'Growth Data'!$A:$Z,11,0))","v":0},0]
[3911,"Hornbeam Primary School",null,"Hornbeam Primary School",null,1,null,723801.78,723801.78,0,null,91390.32,91390.316359832621,3.6401673860382289E-3,null,1893.99,1893.9891176470619,8.8235293810612347E-4,null,69230.75,69230.748600000006,1.3999999937368557E-3,null,120084,120084,0,null,0,0,0,null,0,0,0,null,0,0,0,null,4566.3999999999996,4566.4000000000005,0,null,0,0,0,null,0,0,0,null,0,0,0,null,1010967.23,1010967.2340774798,-4.0774798253551126E-3,null,0,0,0,null,1010967.23,1010967.2340774798,-4.0774798253551126E-3,null,0,null,0,null,null,null,0,null,null,null,0,null,147575.4,147575.3963844878,0,null,6154.2,0,6154,null,null,null,0,null,null,null,0,null,null,null,0,null,null,null,0,null,null,null,0,null,null,null,0,null,"NO",{"$f":"IF(ISERROR(VLOOKUP($A468+8860000,'Growth Data'!$A:$F,3,0)),\"NO\",VLOOKUP($A468+8860000,'Growth Data'!$A:$F,3,0))","v":"NO"},0,null,0,{"$f":"IF(DI468=\"YES\",IF(ISERROR(VLOOKUP($A468+8860000,'Growth Data'!$A:$F,6,0)),0,VLOOKUP($A468+8860000,'Growth Data'!$A:$F,6,0)),0)","v":0},0,null,0,{"$f":"IF(ISERROR(VLOOKUP($A468+8860000,'Growth Data'!$A:$Z,7,0)),0,VLOOKUP($A468+8860000,'Growth Data'!$A:$Z,7,0))","v":0},0,null,"NO",{"$f":"IF(ISERROR(VLOOKUP($A468+8860000,'Growth Data'!$A:$F,4,0)),\"NO\",VLOOKUP($A468+8860000,'Growth Data'!$A:$F,4,0))","v":"NO"},0,null,0,{"$f":"IF(ISERROR(VLOOKUP($A468+8860000,'Growth Data'!$A:$Z,8,0)),0,VLOOKUP($A468+8860000,'Growth Data'!$A:$Z,8,0))","v":0},0,null,0,{"$f":"IF(ISERROR(VLOOKUP($A468+8860000,'Growth Data'!$A:$Z,9,0)),0,VLOOKUP($A468+8860000,'Growth Data'!$A:$Z,9,0))","v":0},0,null,"NO",{"$f":"IF(ISERROR(VLOOKUP($A468+8860000,'Growth Data'!$A:$Z,5,0)),\"NO\",VLOOKUP($A468+8860000,'Growth Data'!$A:$Z,5,0))","v":"NO"},0,null,0,{"$f":"IF(ISERROR(VLOOKUP($A468+8860000,'Growth Data'!$A:$Z,10,0)),0,VLOOKUP($A468+8860000,'Growth Data'!$A:$Z,10,0))","v":0},0,null,0,{"$f":"IF(ISERROR(VLOOKUP($A468+8860000,'Growth Data'!$A:$Z,11,0)),0,VLOOKUP($A468+8860000,'Growth Data'!$A:$Z,11,0))","v":0},0]
[3912,"Westlands Primary School",null,"Westlands Primary School",null,1,null,1735268.37,1735268.37,0,null,205691.32,205691.32485714264,-4.8571426304988563E-3,null,20330.46,20330.455308641991,4.6913580081309192E-3,null,111029.98,111029.98136563877,-1.3656387745868415E-3,null,120084,120084,0,null,0,0,0,null,0,0,0,null,0,0,0,null,13619.2,13619.2,0,null,0,0,0,null,0,0,0,null,152575.87,152575.86846857646,1.5314235351979733E-3,null,2358599.2000000002,2358599.2000000007,0,null,0,0,0,null,2358599.2000000002,2358599.2000000007,0,null,0,null,0,null,null,null,0,null,null,null,0,null,427275.01,427275.01230700803,0,null,14754.3,0,14754,null,null,null,0,null,null,null,0,null,null,null,0,null,null,null,0,null,null,null,0,null,null,null,0,null,"NO",{"$f":"IF(ISERROR(VLOOKUP($A469+8860000,'Growth Data'!$A:$F,3,0)),\"NO\",VLOOKUP($A469+8860000,'Growth Data'!$A:$F,3,0))","v":"NO"},0,null,0,{"$f":"IF(DI469=\"YES\",IF(ISERROR(VLOOKUP($A469+8860000,'Growth Data'!$A:$F,6,0)),0,VLOOKUP($A469+8860000,'Growth Data'!$A:$F,6,0)),0)","v":0},0,null,0,{"$f":"IF(ISERROR(VLOOKUP($A469+8860000,'Growth Data'!$A:$Z,7,0)),0,VLOOKUP($A469+8860000,'Growth Data'!$A:$Z,7,0))","v":0},0,null,"NO",{"$f":"IF(ISERROR(VLOOKUP($A469+8860000,'Growth Data'!$A:$F,4,0)),\"NO\",VLOOKUP($A469+8860000,'Growth Data'!$A:$F,4,0))","v":"NO"},0,null,0,{"$f":"IF(ISERROR(VLOOKUP($A469+8860000,'Growth Data'!$A:$Z,8,0)),0,VLOOKUP($A469+8860000,'Growth Data'!$A:$Z,8,0))","v":0},0,null,0,{"$f":"IF(ISERROR(VLOOKUP($A469+8860000,'Growth Data'!$A:$Z,9,0)),0,VLOOKUP($A469+8860000,'Growth Data'!$A:$Z,9,0))","v":0},0,null,"NO",{"$f":"IF(ISERROR(VLOOKUP($A469+8860000,'Growth Data'!$A:$Z,5,0)),\"NO\",VLOOKUP($A469+8860000,'Growth Data'!$A:$Z,5,0))","v":"NO"},0,null,0,{"$f":"IF(ISERROR(VLOOKUP($A469+8860000,'Growth Data'!$A:$Z,10,0)),0,VLOOKUP($A469+8860000,'Growth Data'!$A:$Z,10,0))","v":0},0,null,0,{"$f":"IF(ISERROR(VLOOKUP($A469+8860000,'Growth Data'!$A:$Z,11,0)),0,VLOOKUP($A469+8860000,'Growth Data'!$A:$Z,11,0))","v":0},0]
[3914,"Oakfield Primary Academy",null,"Oakfield Primary Academy",null,1,null,2019840.01,2019840.01,0,null,201821.22,201821.22026315771,-2.6315770810469985E-4,null,59474.44,59474.438274021231,1.7259787709917873E-3,null,167745.13,167745.12761904762,2.3809523845557123E-3,null,120084,120084,0,null,0,0,0,null,94537.9,94537.904498549135,-4.4985491404077038E-3,null,0,0,0,null,13107.2,13107.2,0,null,0,0,0,null,0,0,0,null,66037.3,66037.299345224208,6.5477579482831061E-4,null,2742647.2,2742647.2,0,null,0,0,0,null,2742647.2,2742647.2,0,null,0,null,0,null,null,null,0,null,null,null,0,null,443833.29,443833.293527906,0,null,17805.900000000001,0,17806,null,null,null,0,null,null,null,0,null,null,null,0,null,null,null,0,null,null,null,0,null,null,null,0,null,"NO",{"$f":"IF(ISERROR(VLOOKUP($A470+8860000,'Growth Data'!$A:$F,3,0)),\"NO\",VLOOKUP($A470+8860000,'Growth Data'!$A:$F,3,0))","v":"NO"},0,null,0,{"$f":"IF(DI470=\"YES\",IF(ISERROR(VLOOKUP($A470+8860000,'Growth Data'!$A:$F,6,0)),0,VLOOKUP($A470+8860000,'Growth Data'!$A:$F,6,0)),0)","v":0},0,null,0,{"$f":"IF(ISERROR(VLOOKUP($A470+8860000,'Growth Data'!$A:$Z,7,0)),0,VLOOKUP($A470+8860000,'Growth Data'!$A:$Z,7,0))","v":0},0,null,"NO",{"$f":"IF(ISERROR(VLOOKUP($A470+8860000,'Growth Data'!$A:$F,4,0)),\"NO\",VLOOKUP($A470+8860000,'Growth Data'!$A:$F,4,0))","v":"NO"},0,null,0,{"$f":"IF(ISERROR(VLOOKUP($A470+8860000,'Growth Data'!$A:$Z,8,0)),0,VLOOKUP($A470+8860000,'Growth Data'!$A:$Z,8,0))","v":0},0,null,0,{"$f":"IF(ISERROR(VLOOKUP($A470+8860000,'Growth Data'!$A:$Z,9,0)),0,VLOOKUP($A470+8860000,'Growth Data'!$A:$Z,9,0))","v":0},0,null,"NO",{"$f":"IF(ISERROR(VLOOKUP($A470+8860000,'Growth Data'!$A:$Z,5,0)),\"NO\",VLOOKUP($A470+8860000,'Growth Data'!$A:$Z,5,0))","v":"NO"},0,null,0,{"$f":"IF(ISERROR(VLOOKUP($A470+8860000,'Growth Data'!$A:$Z,10,0)),0,VLOOKUP($A470+8860000,'Growth Data'!$A:$Z,10,0))","v":0},0,null,0,{"$f":"IF(ISERROR(VLOOKUP($A470+8860000,'Growth Data'!$A:$Z,11,0)),0,VLOOKUP($A470+8860000,'Growth Data'!$A:$Z,11,0))","v":0},0]
[3915,"Manor Community Primary School",null,"Manor Community Primary School",null,1,null,1917765.4,1917765.4000000001,0,null,242610.4,242610.39999999982,0,null,37343.440000000002,37343.442264150959,-2.2641509567620233E-3,null,181693.96,181693.95581395348,4.1860465134959668E-3,null,120084,120084,0,null,0,0,0,null,91981.5,91981.496889274233,3.1107257673284039E-3,null,0,0,0,null,21913.599999999999,21913.599999999999,0,null,0,0,0,null,0,0,0,null,121.31,121.30503262141428,4.9673785857180519E-3,null,2613513.6,2613513.6,0,null,0,0,0,null,2613513.6,2613513.6,0,null,0,null,0,null,null,null,0,null,null,null,0,null,406951.65,406951.65141590597,0,null,16906.060000000001,0,16906,null,null,null,0,null,null,null,0,null,null,null,0,null,null,null,0,null,null,null,0,null,null,null,0,null,"NO",{"$f":"IF(ISERROR(VLOOKUP($A471+8860000,'Growth Data'!$A:$F,3,0)),\"NO\",VLOOKUP($A471+8860000,'Growth Data'!$A:$F,3,0))","v":"NO"},0,null,0,{"$f":"IF(DI471=\"YES\",IF(ISERROR(VLOOKUP($A471+8860000,'Growth Data'!$A:$F,6,0)),0,VLOOKUP($A471+8860000,'Growth Data'!$A:$F,6,0)),0)","v":0},0,null,0,{"$f":"IF(ISERROR(VLOOKUP($A471+8860000,'Growth Data'!$A:$Z,7,0)),0,VLOOKUP($A471+8860000,'Growth Data'!$A:$Z,7,0))","v":0},0,null,"NO",{"$f":"IF(ISERROR(VLOOKUP($A471+8860000,'Growth Data'!$A:$F,4,0)),\"NO\",VLOOKUP($A471+8860000,'Growth Data'!$A:$F,4,0))","v":"NO"},0,null,0,{"$f":"IF(ISERROR(VLOOKUP($A471+8860000,'Growth Data'!$A:$Z,8,0)),0,VLOOKUP($A471+8860000,'Growth Data'!$A:$Z,8,0))","v":0},0,null,0,{"$f":"IF(ISERROR(VLOOKUP($A471+8860000,'Growth Data'!$A:$Z,9,0)),0,VLOOKUP($A471+8860000,'Growth Data'!$A:$Z,9,0))","v":0},0,null,"NO",{"$f":"IF(ISERROR(VLOOKUP($A471+8860000,'Growth Data'!$A:$Z,5,0)),\"NO\",VLOOKUP($A471+8860000,'Growth Data'!$A:$Z,5,0))","v":"NO"},0,null,0,{"$f":"IF(ISERROR(VLOOKUP($A471+8860000,'Growth Data'!$A:$Z,10,0)),0,VLOOKUP($A471+8860000,'Growth Data'!$A:$Z,10,0))","v":0},0,null,0,{"$f":"IF(ISERROR(VLOOKUP($A471+8860000,'Growth Data'!$A:$Z,11,0)),0,VLOOKUP($A471+8860000,'Growth Data'!$A:$Z,11,0))","v":0},0]
[5204,"Sutton-At-Hone Church of England Primary School",null,"Sutton-At-Hone Church of England Primary School",null,1,null,1265106.53,1265106.53,0,null,59776.71,59776.707794117625,2.2058823742554523E-3,null,2536.4499999999998,2536.4451830985877,4.8169014121413056E-3,null,85305.07,85305.071903409087,-1.9034090801142156E-3,null,120084,120084,0,null,0,0,0,null,56407.360000000001,56407.362179607007,-2.1796070068376139E-3,null,0,0,0,null,6092.8,6092.8,0,null,0,0,0,null,0,0,0,null,120403.88,120403.88293976765,-2.9397676407825202E-3,null,1715712.8,1715712.7999999998,0,null,0,0,0,null,1715712.8,1715712.7999999998,0,null,0,null,0,null,null,null,0,null,null,null,0,null,256533.24,256533.24207190602,0,null,11152.55,0,11153,null,null,null,0,null,null,null,0,null,null,null,0,null,null,null,0,null,null,null,0,null,null,null,0,null,"NO",{"$f":"IF(ISERROR(VLOOKUP($A472+8860000,'Growth Data'!$A:$F,3,0)),\"NO\",VLOOKUP($A472+8860000,'Growth Data'!$A:$F,3,0))","v":"NO"},0,null,0,{"$f":"IF(DI472=\"YES\",IF(ISERROR(VLOOKUP($A472+8860000,'Growth Data'!$A:$F,6,0)),0,VLOOKUP($A472+8860000,'Growth Data'!$A:$F,6,0)),0)","v":0},0,null,0,{"$f":"IF(ISERROR(VLOOKUP($A472+8860000,'Growth Data'!$A:$Z,7,0)),0,VLOOKUP($A472+8860000,'Growth Data'!$A:$Z,7,0))","v":0},0,null,"NO",{"$f":"IF(ISERROR(VLOOKUP($A472+8860000,'Growth Data'!$A:$F,4,0)),\"NO\",VLOOKUP($A472+8860000,'Growth Data'!$A:$F,4,0))","v":"NO"},0,null,0,{"$f":"IF(ISERROR(VLOOKUP($A472+8860000,'Growth Data'!$A:$Z,8,0)),0,VLOOKUP($A472+8860000,'Growth Data'!$A:$Z,8,0))","v":0},0,null,0,{"$f":"IF(ISERROR(VLOOKUP($A472+8860000,'Growth Data'!$A:$Z,9,0)),0,VLOOKUP($A472+8860000,'Growth Data'!$A:$Z,9,0))","v":0},0,null,"NO",{"$f":"IF(ISERROR(VLOOKUP($A472+8860000,'Growth Data'!$A:$Z,5,0)),\"NO\",VLOOKUP($A472+8860000,'Growth Data'!$A:$Z,5,0))","v":"NO"},0,null,0,{"$f":"IF(ISERROR(VLOOKUP($A472+8860000,'Growth Data'!$A:$Z,10,0)),0,VLOOKUP($A472+8860000,'Growth Data'!$A:$Z,10,0))","v":0},0,null,0,{"$f":"IF(ISERROR(VLOOKUP($A472+8860000,'Growth Data'!$A:$Z,11,0)),0,VLOOKUP($A472+8860000,'Growth Data'!$A:$Z,11,0))","v":0},0]
[5209,"Allington Primary School",null,"Allington Primary School",null,1,null,1438324.05,1438324.05,0,null,36676.82,36676.824676724151,-4.6767241510679014E-3,null,18957.88,18957.877777777783,2.2222222178243101E-3,null,103283.73,103283.72635135135,3.6486486496869475E-3,null,120084,120084,0,null,0,0,0,null,0,0,0,null,0,0,0,null,9324,9323.9999999999909,0,null,0,0,0,null,0,0,0,null,226373.52,226373.52119414666,-1.1941466655116528E-3,null,1953024,1953024,0,null,0,0,0,null,1953024,1953024,0,null,0,null,0,null,null,null,0,null,null,null,0,null,378177.73,378177.73230700806,0,null,12229.5,0,12230,null,null,null,0,null,null,null,0,null,null,null,0,null,null,null,0,null,null,null,0,null,null,null,0,null,"NO",{"$f":"IF(ISERROR(VLOOKUP($A473+8860000,'Growth Data'!$A:$F,3,0)),\"NO\",VLOOKUP($A473+8860000,'Growth Data'!$A:$F,3,0))","v":"NO"},0,null,0,{"$f":"IF(DI473=\"YES\",IF(ISERROR(VLOOKUP($A473+8860000,'Growth Data'!$A:$F,6,0)),0,VLOOKUP($A473+8860000,'Growth Data'!$A:$F,6,0)),0)","v":0},0,null,0,{"$f":"IF(ISERROR(VLOOKUP($A473+8860000,'Growth Data'!$A:$Z,7,0)),0,VLOOKUP($A473+8860000,'Growth Data'!$A:$Z,7,0))","v":0},0,null,"NO",{"$f":"IF(ISERROR(VLOOKUP($A473+8860000,'Growth Data'!$A:$F,4,0)),\"NO\",VLOOKUP($A473+8860000,'Growth Data'!$A:$F,4,0))","v":"NO"},0,null,0,{"$f":"IF(ISERROR(VLOOKUP($A473+8860000,'Growth Data'!$A:$Z,8,0)),0,VLOOKUP($A473+8860000,'Growth Data'!$A:$Z,8,0))","v":0},0,null,0,{"$f":"IF(ISERROR(VLOOKUP($A473+8860000,'Growth Data'!$A:$Z,9,0)),0,VLOOKUP($A473+8860000,'Growth Data'!$A:$Z,9,0))","v":0},0,null,"NO",{"$f":"IF(ISERROR(VLOOKUP($A473+8860000,'Growth Data'!$A:$Z,5,0)),\"NO\",VLOOKUP($A473+8860000,'Growth Data'!$A:$Z,5,0))","v":"NO"},0,null,0,{"$f":"IF(ISERROR(VLOOKUP($A473+8860000,'Growth Data'!$A:$Z,10,0)),0,VLOOKUP($A473+8860000,'Growth Data'!$A:$Z,10,0))","v":0},0,null,0,{"$f":"IF(ISERROR(VLOOKUP($A473+8860000,'Growth Data'!$A:$Z,11,0)),0,VLOOKUP($A473+8860000,'Growth Data'!$A:$Z,11,0))","v":0},0]
[5210,"St Botolph's Church of England Primary School",null,"St Botolph's Church of England Primary School",null,1,null,1391926.5,1391926.5,0,null,139967.03,139967.02499313946,5.0068605341948569E-3,null,32165.65,32165.649350649383,6.4935061891446821E-4,null,117403.93,117403.92857142857,1.4285714278230444E-3,null,120084,120084,0,null,0,0,0,null,0,0,0,null,0,0,0,null,7987.2,7987.2,0,null,0,0,0,null,0,0,0,null,79452.899999999994,79452.897084782599,2.915217395639047E-3,null,1888987.2,1888987.2000000002,0,null,0,0,0,null,1888987.2,1888987.2000000002,0,null,0,null,0,null,null,null,0,null,null,null,0,null,339319.6,339319.60230700823,0,null,11835,0,11835,null,null,null,0,null,null,null,0,null,null,null,0,null,null,null,0,null,null,null,0,null,null,null,0,null,"NO",{"$f":"IF(ISERROR(VLOOKUP($A474+8860000,'Growth Data'!$A:$F,3,0)),\"NO\",VLOOKUP($A474+8860000,'Growth Data'!$A:$F,3,0))","v":"NO"},0,null,0,{"$f":"IF(DI474=\"YES\",IF(ISERROR(VLOOKUP($A474+8860000,'Growth Data'!$A:$F,6,0)),0,VLOOKUP($A474+8860000,'Growth Data'!$A:$F,6,0)),0)","v":0},0,null,0,{"$f":"IF(ISERROR(VLOOKUP($A474+8860000,'Growth Data'!$A:$Z,7,0)),0,VLOOKUP($A474+8860000,'Growth Data'!$A:$Z,7,0))","v":0},0,null,"NO",{"$f":"IF(ISERROR(VLOOKUP($A474+8860000,'Growth Data'!$A:$F,4,0)),\"NO\",VLOOKUP($A474+8860000,'Growth Data'!$A:$F,4,0))","v":"NO"},0,null,0,{"$f":"IF(ISERROR(VLOOKUP($A474+8860000,'Growth Data'!$A:$Z,8,0)),0,VLOOKUP($A474+8860000,'Growth Data'!$A:$Z,8,0))","v":0},0,null,0,{"$f":"IF(ISERROR(VLOOKUP($A474+8860000,'Growth Data'!$A:$Z,9,0)),0,VLOOKUP($A474+8860000,'Growth Data'!$A:$Z,9,0))","v":0},0,null,"NO",{"$f":"IF(ISERROR(VLOOKUP($A474+8860000,'Growth Data'!$A:$Z,5,0)),\"NO\",VLOOKUP($A474+8860000,'Growth Data'!$A:$Z,5,0))","v":"NO"},0,null,0,{"$f":"IF(ISERROR(VLOOKUP($A474+8860000,'Growth Data'!$A:$Z,10,0)),0,VLOOKUP($A474+8860000,'Growth Data'!$A:$Z,10,0))","v":0},0,null,0,{"$f":"IF(ISERROR(VLOOKUP($A474+8860000,'Growth Data'!$A:$Z,11,0)),0,VLOOKUP($A474+8860000,'Growth Data'!$A:$Z,11,0))","v":0},0]
[5215,"Horton Kirby Church of England Primary School",null,"Horton Kirby Church of England Primary School",null,1,null,798037.86,798037.86,0,null,66287.19,66287.185478422412,4.52157758991234E-3,null,4340.63,4340.6303056768484,-3.0567684825655306E-4,null,75480.47,75480.467475728146,2.5242718547815457E-3,null,120084,120084,0,null,0,0,0,null,39163.67,39163.669271961655,7.2803834336809814E-4,null,0,0,0,null,5529.6,5529.6,0,null,0,0,0,null,0,0,0,null,0,0,0,null,1108923.4099999999,1108923.4125317892,-2.531789243221283E-3,null,0,0,0,null,1108923.4099999999,1108923.4125317892,-2.531789243221283E-3,null,0,null,0,null,null,null,0,null,null,null,0,null,130745.77,130745.77345169503,0,null,7035.1,0,7035,null,null,null,0,null,null,null,0,null,null,null,0,null,null,null,0,null,null,null,0,null,null,null,0,null,"NO",{"$f":"IF(ISERROR(VLOOKUP($A475+8860000,'Growth Data'!$A:$F,3,0)),\"NO\",VLOOKUP($A475+8860000,'Growth Data'!$A:$F,3,0))","v":"NO"},0,null,0,{"$f":"IF(DI475=\"YES\",IF(ISERROR(VLOOKUP($A475+8860000,'Growth Data'!$A:$F,6,0)),0,VLOOKUP($A475+8860000,'Growth Data'!$A:$F,6,0)),0)","v":0},0,null,0,{"$f":"IF(ISERROR(VLOOKUP($A475+8860000,'Growth Data'!$A:$Z,7,0)),0,VLOOKUP($A475+8860000,'Growth Data'!$A:$Z,7,0))","v":0},0,null,"NO",{"$f":"IF(ISERROR(VLOOKUP($A475+8860000,'Growth Data'!$A:$F,4,0)),\"NO\",VLOOKUP($A475+8860000,'Growth Data'!$A:$F,4,0))","v":"NO"},0,null,0,{"$f":"IF(ISERROR(VLOOKUP($A475+8860000,'Growth Data'!$A:$Z,8,0)),0,VLOOKUP($A475+8860000,'Growth Data'!$A:$Z,8,0))","v":0},0,null,0,{"$f":"IF(ISERROR(VLOOKUP($A475+8860000,'Growth Data'!$A:$Z,9,0)),0,VLOOKUP($A475+8860000,'Growth Data'!$A:$Z,9,0))","v":0},0,null,"NO",{"$f":"IF(ISERROR(VLOOKUP($A475+8860000,'Growth Data'!$A:$Z,5,0)),\"NO\",VLOOKUP($A475+8860000,'Growth Data'!$A:$Z,5,0))","v":"NO"},0,null,0,{"$f":"IF(ISERROR(VLOOKUP($A475+8860000,'Growth Data'!$A:$Z,10,0)),0,VLOOKUP($A475+8860000,'Growth Data'!$A:$Z,10,0))","v":0},0,null,0,{"$f":"IF(ISERROR(VLOOKUP($A475+8860000,'Growth Data'!$A:$Z,11,0)),0,VLOOKUP($A475+8860000,'Growth Data'!$A:$Z,11,0))","v":0},0]
[5216,"Stella Maris Catholic Primary School",null,"Stella Maris Catholic Primary School",null,1,null,658845.21,658845.21,0,null,99603.21,99603.2099629695,3.703050606418401E-5,null,8328.0300000000007,8328.0322950819645,-2.2950819638936082E-3,null,63654.28,63654.275454545452,4.5454545470420271E-3,null,120084,120084,0,null,0,0,0,null,0,0,0,null,0,0,0,null,3814.4,3814.4,0,null,0,0,0,null,0,0,0,null,0,0,0,null,954329.13,954329.12771259702,2.2874029818922281E-3,null,0,0,0,null,954329.13,954329.12771259702,2.2874029818922281E-3,null,0,null,0,null,null,null,0,null,null,null,0,null,153883.94,153883.94001960504,0,null,5601.9,0,5602,null,null,null,0,null,null,null,0,null,null,null,0,null,null,null,0,null,null,null,0,null,null,null,0,null,"NO",{"$f":"IF(ISERROR(VLOOKUP($A476+8860000,'Growth Data'!$A:$F,3,0)),\"NO\",VLOOKUP($A476+8860000,'Growth Data'!$A:$F,3,0))","v":"NO"},0,null,0,{"$f":"IF(DI476=\"YES\",IF(ISERROR(VLOOKUP($A476+8860000,'Growth Data'!$A:$F,6,0)),0,VLOOKUP($A476+8860000,'Growth Data'!$A:$F,6,0)),0)","v":0},0,null,0,{"$f":"IF(ISERROR(VLOOKUP($A476+8860000,'Growth Data'!$A:$Z,7,0)),0,VLOOKUP($A476+8860000,'Growth Data'!$A:$Z,7,0))","v":0},0,null,"NO",{"$f":"IF(ISERROR(VLOOKUP($A476+8860000,'Growth Data'!$A:$F,4,0)),\"NO\",VLOOKUP($A476+8860000,'Growth Data'!$A:$F,4,0))","v":"NO"},0,null,0,{"$f":"IF(ISERROR(VLOOKUP($A476+8860000,'Growth Data'!$A:$Z,8,0)),0,VLOOKUP($A476+8860000,'Growth Data'!$A:$Z,8,0))","v":0},0,null,0,{"$f":"IF(ISERROR(VLOOKUP($A476+8860000,'Growth Data'!$A:$Z,9,0)),0,VLOOKUP($A476+8860000,'Growth Data'!$A:$Z,9,0))","v":0},0,null,"NO",{"$f":"IF(ISERROR(VLOOKUP($A476+8860000,'Growth Data'!$A:$Z,5,0)),\"NO\",VLOOKUP($A476+8860000,'Growth Data'!$A:$Z,5,0))","v":"NO"},0,null,0,{"$f":"IF(ISERROR(VLOOKUP($A476+8860000,'Growth Data'!$A:$Z,10,0)),0,VLOOKUP($A476+8860000,'Growth Data'!$A:$Z,10,0))","v":0},0,null,0,{"$f":"IF(ISERROR(VLOOKUP($A476+8860000,'Growth Data'!$A:$Z,11,0)),0,VLOOKUP($A476+8860000,'Growth Data'!$A:$Z,11,0))","v":0},0]
[5217,"Our Lady of Hartley Catholic Primary School, Hartley, Longfield",null,"Our Lady of Hartley Catholic Primary School, Hartley, Longfield",null,1,null,668124.72,668124.72,0,null,18537.919999999998,18537.919999999998,0,null,2556.65,2556.6503225806423,-3.2258064220513916E-4,null,47854.61,47854.611147540978,-1.1475409773993306E-3,null,120084,120084,0,null,0,0,0,null,31543.41,31543.410774100474,-7.7410047379089519E-4,null,0,0,0,null,4275.2,4275.2,0,null,0,0,0,null,0,0,0,null,14178.69,14178.687755777948,2.2442220524681034E-3,null,907155.2,907155.2,0,null,0,0,0,null,907155.2,907155.2,0,null,0,null,0,null,null,null,0,null,null,null,0,null,89743.41,89743.412823906096,0,null,5889.85,0,5890,null,null,null,0,null,null,null,0,null,null,null,0,null,null,null,0,null,null,null,0,null,null,null,0,null,"NO",{"$f":"IF(ISERROR(VLOOKUP($A477+8860000,'Growth Data'!$A:$F,3,0)),\"NO\",VLOOKUP($A477+8860000,'Growth Data'!$A:$F,3,0))","v":"NO"},0,null,0,{"$f":"IF(DI477=\"YES\",IF(ISERROR(VLOOKUP($A477+8860000,'Growth Data'!$A:$F,6,0)),0,VLOOKUP($A477+8860000,'Growth Data'!$A:$F,6,0)),0)","v":0},0,null,0,{"$f":"IF(ISERROR(VLOOKUP($A477+8860000,'Growth Data'!$A:$Z,7,0)),0,VLOOKUP($A477+8860000,'Growth Data'!$A:$Z,7,0))","v":0},0,null,"NO",{"$f":"IF(ISERROR(VLOOKUP($A477+8860000,'Growth Data'!$A:$F,4,0)),\"NO\",VLOOKUP($A477+8860000,'Growth Data'!$A:$F,4,0))","v":"NO"},0,null,0,{"$f":"IF(ISERROR(VLOOKUP($A477+8860000,'Growth Data'!$A:$Z,8,0)),0,VLOOKUP($A477+8860000,'Growth Data'!$A:$Z,8,0))","v":0},0,null,0,{"$f":"IF(ISERROR(VLOOKUP($A477+8860000,'Growth Data'!$A:$Z,9,0)),0,VLOOKUP($A477+8860000,'Growth Data'!$A:$Z,9,0))","v":0},0,null,"NO",{"$f":"IF(ISERROR(VLOOKUP($A477+8860000,'Growth Data'!$A:$Z,5,0)),\"NO\",VLOOKUP($A477+8860000,'Growth Data'!$A:$Z,5,0))","v":"NO"},0,null,0,{"$f":"IF(ISERROR(VLOOKUP($A477+8860000,'Growth Data'!$A:$Z,10,0)),0,VLOOKUP($A477+8860000,'Growth Data'!$A:$Z,10,0))","v":0},0,null,0,{"$f":"IF(ISERROR(VLOOKUP($A477+8860000,'Growth Data'!$A:$Z,11,0)),0,VLOOKUP($A477+8860000,'Growth Data'!$A:$Z,11,0))","v":0},0]
[5219,"Wilmington Primary School",null,"Wilmington Primary School",null,1,null,652658.87,652658.87,0,null,18060.41,18060.410566037739,-5.6603773919050582E-4,null,638.09,638.08950549450492,4.9450549511220743E-4,null,50374.81,50374.811899441338,-1.8994413403561339E-3,null,120084,120084,0,null,0,0,0,null,30978.84,30978.835496531825,4.503468175244052E-3,null,0,0,0,null,4746,4746.0020000000004,-2.0000000004074536E-3,null,0,0,0,null,0,0,0,null,9184.98,9184.9825324945596,-2.5324945600004867E-3,null,886726,886726.00199999986,-1.999999862164259E-3,null,0,0,0,null,886726,886726.00199999986,-1.999999862164259E-3,null,0,null,0,null,null,null,0,null,null,null,0,null,80105.81,80105.808343906014,0,null,5753.51,0,5754,null,null,null,0,null,null,null,0,null,null,null,0,null,null,null,0,null,null,null,0,null,null,null,0,null,"NO",{"$f":"IF(ISERROR(VLOOKUP($A478+8860000,'Growth Data'!$A:$F,3,0)),\"NO\",VLOOKUP($A478+8860000,'Growth Data'!$A:$F,3,0))","v":"NO"},0,null,0,{"$f":"IF(DI478=\"YES\",IF(ISERROR(VLOOKUP($A478+8860000,'Growth Data'!$A:$F,6,0)),0,VLOOKUP($A478+8860000,'Growth Data'!$A:$F,6,0)),0)","v":0},0,null,0,{"$f":"IF(ISERROR(VLOOKUP($A478+8860000,'Growth Data'!$A:$Z,7,0)),0,VLOOKUP($A478+8860000,'Growth Data'!$A:$Z,7,0))","v":0},0,null,"NO",{"$f":"IF(ISERROR(VLOOKUP($A478+8860000,'Growth Data'!$A:$F,4,0)),\"NO\",VLOOKUP($A478+8860000,'Growth Data'!$A:$F,4,0))","v":"NO"},0,null,0,{"$f":"IF(ISERROR(VLOOKUP($A478+8860000,'Growth Data'!$A:$Z,8,0)),0,VLOOKUP($A478+8860000,'Growth Data'!$A:$Z,8,0))","v":0},0,null,0,{"$f":"IF(ISERROR(VLOOKUP($A478+8860000,'Growth Data'!$A:$Z,9,0)),0,VLOOKUP($A478+8860000,'Growth Data'!$A:$Z,9,0))","v":0},0,null,"NO",{"$f":"IF(ISERROR(VLOOKUP($A478+8860000,'Growth Data'!$A:$Z,5,0)),\"NO\",VLOOKUP($A478+8860000,'Growth Data'!$A:$Z,5,0))","v":"NO"},0,null,0,{"$f":"IF(ISERROR(VLOOKUP($A478+8860000,'Growth Data'!$A:$Z,10,0)),0,VLOOKUP($A478+8860000,'Growth Data'!$A:$Z,10,0))","v":0},0,null,0,{"$f":"IF(ISERROR(VLOOKUP($A478+8860000,'Growth Data'!$A:$Z,11,0)),0,VLOOKUP($A478+8860000,'Growth Data'!$A:$Z,11,0))","v":0},0]
[5220,"Halfway Houses Primary School",null,"Halfway Houses Primary School",null,1,null,1896113.21,1896113.21,0,null,301475.5,301475.49706075538,2.9392446158453822E-3,null,11394,11394.002363977503,-2.3639775026822463E-3,null,191551.43,191551.42870722435,1.2927756470162421E-3,null,120084,120084,0,null,0,0,0,null,0,0,0,null,0,0,0,null,19353.599999999999,19353.599999999999,0,null,0,0,0,null,0,0,0,null,41721.86,41721.861868042819,-1.868042818387039E-3,null,2581693.6,2581693.6,0,null,0,0,0,null,2581693.6,2581693.6,0,null,0,null,0,null,null,null,0,null,null,null,0,null,484710.81,484710.81230700808,0,null,16121.9,0,16122,null,null,null,0,null,null,null,0,null,null,null,0,null,null,null,0,null,null,null,0,null,null,null,0,null,"NO",{"$f":"IF(ISERROR(VLOOKUP($A479+8860000,'Growth Data'!$A:$F,3,0)),\"NO\",VLOOKUP($A479+8860000,'Growth Data'!$A:$F,3,0))","v":"NO"},0,null,0,{"$f":"IF(DI479=\"YES\",IF(ISERROR(VLOOKUP($A479+8860000,'Growth Data'!$A:$F,6,0)),0,VLOOKUP($A479+8860000,'Growth Data'!$A:$F,6,0)),0)","v":0},0,null,0,{"$f":"IF(ISERROR(VLOOKUP($A479+8860000,'Growth Data'!$A:$Z,7,0)),0,VLOOKUP($A479+8860000,'Growth Data'!$A:$Z,7,0))","v":0},0,null,"NO",{"$f":"IF(ISERROR(VLOOKUP($A479+8860000,'Growth Data'!$A:$F,4,0)),\"NO\",VLOOKUP($A479+8860000,'Growth Data'!$A:$F,4,0))","v":"NO"},0,null,0,{"$f":"IF(ISERROR(VLOOKUP($A479+8860000,'Growth Data'!$A:$Z,8,0)),0,VLOOKUP($A479+8860000,'Growth Data'!$A:$Z,8,0))","v":0},0,null,0,{"$f":"IF(ISERROR(VLOOKUP($A479+8860000,'Growth Data'!$A:$Z,9,0)),0,VLOOKUP($A479+8860000,'Growth Data'!$A:$Z,9,0))","v":0},0,null,"NO",{"$f":"IF(ISERROR(VLOOKUP($A479+8860000,'Growth Data'!$A:$Z,5,0)),\"NO\",VLOOKUP($A479+8860000,'Growth Data'!$A:$Z,5,0))","v":"NO"},0,null,0,{"$f":"IF(ISERROR(VLOOKUP($A479+8860000,'Growth Data'!$A:$Z,10,0)),0,VLOOKUP($A479+8860000,'Growth Data'!$A:$Z,10,0))","v":0},0,null,0,{"$f":"IF(ISERROR(VLOOKUP($A479+8860000,'Growth Data'!$A:$Z,11,0)),0,VLOOKUP($A479+8860000,'Growth Data'!$A:$Z,11,0))","v":0},0]
[5222,"St Joseph's Catholic Primary School, Northfleet",null,"St Joseph's Catholic Primary School, Northfleet",null,1,null,649565.69999999995,649565.70000000007,0,null,51072.77,51072.772944285425,-2.9442854283843189E-3,null,13636.07,13636.066853932627,3.1460673726542154E-3,null,44453.4,44453.396590909091,3.4090909102815203E-3,null,120084,120084,0,null,0,0,0,null,0,0,0,null,0,0,0,null,4586.3999999999996,4586.3999999999996,0,null,0,0,0,null,0,0,0,null,0,0,0,null,883398.34,883398.33638912719,3.6108727799728513E-3,null,0,0,0,null,883398.34,883398.33638912719,3.6108727799728513E-3,null,0,null,0,null,null,null,0,null,null,null,0,null,107571.86,107571.8586961353,0,null,5523,0,5523,null,null,null,0,null,null,null,0,null,null,null,0,null,null,null,0,null,null,null,0,null,null,null,0,null,"NO",{"$f":"IF(ISERROR(VLOOKUP($A480+8860000,'Growth Data'!$A:$F,3,0)),\"NO\",VLOOKUP($A480+8860000,'Growth Data'!$A:$F,3,0))","v":"NO"},0,null,0,{"$f":"IF(DI480=\"YES\",IF(ISERROR(VLOOKUP($A480+8860000,'Growth Data'!$A:$F,6,0)),0,VLOOKUP($A480+8860000,'Growth Data'!$A:$F,6,0)),0)","v":0},0,null,0,{"$f":"IF(ISERROR(VLOOKUP($A480+8860000,'Growth Data'!$A:$Z,7,0)),0,VLOOKUP($A480+8860000,'Growth Data'!$A:$Z,7,0))","v":0},0,null,"NO",{"$f":"IF(ISERROR(VLOOKUP($A480+8860000,'Growth Data'!$A:$F,4,0)),\"NO\",VLOOKUP($A480+8860000,'Growth Data'!$A:$F,4,0))","v":"NO"},0,null,0,{"$f":"IF(ISERROR(VLOOKUP($A480+8860000,'Growth Data'!$A:$Z,8,0)),0,VLOOKUP($A480+8860000,'Growth Data'!$A:$Z,8,0))","v":0},0,null,0,{"$f":"IF(ISERROR(VLOOKUP($A480+8860000,'Growth Data'!$A:$Z,9,0)),0,VLOOKUP($A480+8860000,'Growth Data'!$A:$Z,9,0))","v":0},0,null,"NO",{"$f":"IF(ISERROR(VLOOKUP($A480+8860000,'Growth Data'!$A:$Z,5,0)),\"NO\",VLOOKUP($A480+8860000,'Growth Data'!$A:$Z,5,0))","v":"NO"},0,null,0,{"$f":"IF(ISERROR(VLOOKUP($A480+8860000,'Growth Data'!$A:$Z,10,0)),0,VLOOKUP($A480+8860000,'Growth Data'!$A:$Z,10,0))","v":0},0,null,0,{"$f":"IF(ISERROR(VLOOKUP($A480+8860000,'Growth Data'!$A:$Z,11,0)),0,VLOOKUP($A480+8860000,'Growth Data'!$A:$Z,11,0))","v":0},0]
[5224,"All Soul's Church of England Primary School",null,"All Soul's Church of England Primary School",null,1,null,804224.2,804224.20000000007,0,null,100929.05,100929.04999999986,1.4551915228366852E-10,null,11669.21,11669.212875536479,-2.8755364801327232E-3,null,50875.040000000001,50875.035714285717,4.2857142834691331E-3,null,120084,120084,0,null,0,0,0,null,0,0,0,null,0,0,0,null,4736,4736,0,null,0,0,0,null,0,0,0,null,0,0,0,null,1092517.5,1092517.4985898221,1.4101779088377953E-3,null,0,0,0,null,1092517.5,1092517.4985898221,1.4101779088377953E-3,null,0,null,0,null,null,null,0,null,null,null,0,null,129200.2,129200.20089683025,0,null,6838,0,6838,null,null,null,0,null,null,null,0,null,null,null,0,null,null,null,0,null,null,null,0,null,null,null,0,null,"NO",{"$f":"IF(ISERROR(VLOOKUP($A481+8860000,'Growth Data'!$A:$F,3,0)),\"NO\",VLOOKUP($A481+8860000,'Growth Data'!$A:$F,3,0))","v":"NO"},0,null,0,{"$f":"IF(DI481=\"YES\",IF(ISERROR(VLOOKUP($A481+8860000,'Growth Data'!$A:$F,6,0)),0,VLOOKUP($A481+8860000,'Growth Data'!$A:$F,6,0)),0)","v":0},0,null,0,{"$f":"IF(ISERROR(VLOOKUP($A481+8860000,'Growth Data'!$A:$Z,7,0)),0,VLOOKUP($A481+8860000,'Growth Data'!$A:$Z,7,0))","v":0},0,null,"NO",{"$f":"IF(ISERROR(VLOOKUP($A481+8860000,'Growth Data'!$A:$F,4,0)),\"NO\",VLOOKUP($A481+8860000,'Growth Data'!$A:$F,4,0))","v":"NO"},0,null,0,{"$f":"IF(ISERROR(VLOOKUP($A481+8860000,'Growth Data'!$A:$Z,8,0)),0,VLOOKUP($A481+8860000,'Growth Data'!$A:$Z,8,0))","v":0},0,null,0,{"$f":"IF(ISERROR(VLOOKUP($A481+8860000,'Growth Data'!$A:$Z,9,0)),0,VLOOKUP($A481+8860000,'Growth Data'!$A:$Z,9,0))","v":0},0,null,"NO",{"$f":"IF(ISERROR(VLOOKUP($A481+8860000,'Growth Data'!$A:$Z,5,0)),\"NO\",VLOOKUP($A481+8860000,'Growth Data'!$A:$Z,5,0))","v":"NO"},0,null,0,{"$f":"IF(ISERROR(VLOOKUP($A481+8860000,'Growth Data'!$A:$Z,10,0)),0,VLOOKUP($A481+8860000,'Growth Data'!$A:$Z,10,0))","v":0},0,null,0,{"$f":"IF(ISERROR(VLOOKUP($A481+8860000,'Growth Data'!$A:$Z,11,0)),0,VLOOKUP($A481+8860000,'Growth Data'!$A:$Z,11,0))","v":0},0]
[5228,"St Georges CofE (Aided) Primary School",null,"St Georges CofE (Aided) Primary School",null,1,null,1193963.6200000001,1193963.6200000001,0,null,145619.12,145619.12107142867,-1.0714286763686687E-3,null,2492.09,2492.0884457478055,1.554252194637229E-3,null,128834.84,128834.84287356322,-2.8735632222378626E-3,null,120084,120084,0,null,0,0,0,null,0,0,0,null,0,0,0,null,15770,15770,0,null,0,0,0,null,0,0,0,null,22486.33,22486.327609260217,2.3907397844595835E-3,null,1629250,1629250,0,null,0,0,0,null,1629250,1629250,0,null,0,null,0,null,null,null,0,null,null,null,0,null,278968.88,278968.88230700808,0,null,10151.799999999999,0,10152,null,null,null,0,null,null,null,0,null,null,null,0,null,null,null,0,null,null,null,0,null,null,null,0,null,"NO",{"$f":"IF(ISERROR(VLOOKUP($A482+8860000,'Growth Data'!$A:$F,3,0)),\"NO\",VLOOKUP($A482+8860000,'Growth Data'!$A:$F,3,0))","v":"NO"},0,null,0,{"$f":"IF(DI482=\"YES\",IF(ISERROR(VLOOKUP($A482+8860000,'Growth Data'!$A:$F,6,0)),0,VLOOKUP($A482+8860000,'Growth Data'!$A:$F,6,0)),0)","v":0},0,null,0,{"$f":"IF(ISERROR(VLOOKUP($A482+8860000,'Growth Data'!$A:$Z,7,0)),0,VLOOKUP($A482+8860000,'Growth Data'!$A:$Z,7,0))","v":0},0,null,"NO",{"$f":"IF(ISERROR(VLOOKUP($A482+8860000,'Growth Data'!$A:$F,4,0)),\"NO\",VLOOKUP($A482+8860000,'Growth Data'!$A:$F,4,0))","v":"NO"},0,null,0,{"$f":"IF(ISERROR(VLOOKUP($A482+8860000,'Growth Data'!$A:$Z,8,0)),0,VLOOKUP($A482+8860000,'Growth Data'!$A:$Z,8,0))","v":0},0,null,0,{"$f":"IF(ISERROR(VLOOKUP($A482+8860000,'Growth Data'!$A:$Z,9,0)),0,VLOOKUP($A482+8860000,'Growth Data'!$A:$Z,9,0))","v":0},0,null,"NO",{"$f":"IF(ISERROR(VLOOKUP($A482+8860000,'Growth Data'!$A:$Z,5,0)),\"NO\",VLOOKUP($A482+8860000,'Growth Data'!$A:$Z,5,0))","v":"NO"},0,null,0,{"$f":"IF(ISERROR(VLOOKUP($A482+8860000,'Growth Data'!$A:$Z,10,0)),0,VLOOKUP($A482+8860000,'Growth Data'!$A:$Z,10,0))","v":0},0,null,0,{"$f":"IF(ISERROR(VLOOKUP($A482+8860000,'Growth Data'!$A:$Z,11,0)),0,VLOOKUP($A482+8860000,'Growth Data'!$A:$Z,11,0))","v":0},0]
[4000,"St Augustine Academy",null,"St Augustine Academy",null,1,null,3429451.14,3429451.14,0,null,341221.91,341221.91434192675,-4.3419267749413848E-3,null,15331.18,15331.184022038575,-4.0220385744760279E-3,null,359978.95,359978.95082209317,-8.2209316315129399E-4,null,117882.46,117882.46,0,null,0,0,0,null,0,0,0,null,0,0,0,null,34308.67,34308.67,0,null,0,0,0,null,0,0,0,null,0,0,0,null,4298174.32,4298174.3191860588,8.1394147127866745E-4,null,0,0,0,null,4298174.32,4298174.3191860588,8.1394147127866745E-4,null,0,null,0,null,null,null,0,null,null,null,0,null,642374.43999999994,642374.44392528839,0,null,12688.06,0,12688,null,null,null,0,null,null,null,0,null,null,null,0,null,null,null,0,null,null,null,0,null,null,null,0,null,"NO",{"$f":"IF(ISERROR(VLOOKUP($A483+8860000,'Growth Data'!$A:$F,3,0)),\"NO\",VLOOKUP($A483+8860000,'Growth Data'!$A:$F,3,0))","v":"NO"},0,null,0,{"$f":"IF(DI483=\"YES\",IF(ISERROR(VLOOKUP($A483+8860000,'Growth Data'!$A:$F,6,0)),0,VLOOKUP($A483+8860000,'Growth Data'!$A:$F,6,0)),0)","v":0},0,null,0,{"$f":"IF(ISERROR(VLOOKUP($A483+8860000,'Growth Data'!$A:$Z,7,0)),0,VLOOKUP($A483+8860000,'Growth Data'!$A:$Z,7,0))","v":0},0,null,"NO",{"$f":"IF(ISERROR(VLOOKUP($A483+8860000,'Growth Data'!$A:$F,4,0)),\"NO\",VLOOKUP($A483+8860000,'Growth Data'!$A:$F,4,0))","v":"NO"},0,null,0,{"$f":"IF(ISERROR(VLOOKUP($A483+8860000,'Growth Data'!$A:$Z,8,0)),0,VLOOKUP($A483+8860000,'Growth Data'!$A:$Z,8,0))","v":0},0,null,0,{"$f":"IF(ISERROR(VLOOKUP($A483+8860000,'Growth Data'!$A:$Z,9,0)),0,VLOOKUP($A483+8860000,'Growth Data'!$A:$Z,9,0))","v":0},0,null,"NO",{"$f":"IF(ISERROR(VLOOKUP($A483+8860000,'Growth Data'!$A:$Z,5,0)),\"NO\",VLOOKUP($A483+8860000,'Growth Data'!$A:$Z,5,0))","v":"NO"},0,null,0,{"$f":"IF(ISERROR(VLOOKUP($A483+8860000,'Growth Data'!$A:$Z,10,0)),0,VLOOKUP($A483+8860000,'Growth Data'!$A:$Z,10,0))","v":0},0,null,0,{"$f":"IF(ISERROR(VLOOKUP($A483+8860000,'Growth Data'!$A:$Z,11,0)),0,VLOOKUP($A483+8860000,'Growth Data'!$A:$Z,11,0))","v":0},0]
[4001,"The Ebbsfleet Academy",null,"The Ebbsfleet Academy",null,1,null,2858655.1,2858655.1,0,null,337755.64,337755.64165271551,-1.6527154948562384E-3,null,92134.48,92134.48,0,null,254538.61,254538.60586498561,4.1350143728777766E-3,null,117882.46,117882.46,0,null,0,0,0,null,134723.56,134723.55938065139,6.1934860423207283E-4,null,0,0,0,null,25088,25088,0,null,1306093.8,1306093.7971946842,2.8053158894181252E-3,null,0,0,0,null,0,0,0,null,5126871.6399999997,5126871.6440930367,-4.093036986887455E-3,null,0,0,0,null,5126871.6399999997,5126871.6440930367,-4.093036986887455E-3,null,0,null,0,null,null,null,0,null,null,null,0,null,643228.81000000006,643228.81462798594,0,null,10906.87,0,10907,null,null,null,0,null,null,null,0,null,null,null,0,null,null,null,0,null,null,null,0,null,null,null,0,null,"NO",{"$f":"IF(ISERROR(VLOOKUP($A484+8860000,'Growth Data'!$A:$F,3,0)),\"NO\",VLOOKUP($A484+8860000,'Growth Data'!$A:$F,3,0))","v":"NO"},0,null,0,{"$f":"IF(DI484=\"YES\",IF(ISERROR(VLOOKUP($A484+8860000,'Growth Data'!$A:$F,6,0)),0,VLOOKUP($A484+8860000,'Growth Data'!$A:$F,6,0)),0)","v":0},0,null,0,{"$f":"IF(ISERROR(VLOOKUP($A484+8860000,'Growth Data'!$A:$Z,7,0)),0,VLOOKUP($A484+8860000,'Growth Data'!$A:$Z,7,0))","v":0},0,null,"NO",{"$f":"IF(ISERROR(VLOOKUP($A484+8860000,'Growth Data'!$A:$F,4,0)),\"NO\",VLOOKUP($A484+8860000,'Growth Data'!$A:$F,4,0))","v":"NO"},0,null,0,{"$f":"IF(ISERROR(VLOOKUP($A484+8860000,'Growth Data'!$A:$Z,8,0)),0,VLOOKUP($A484+8860000,'Growth Data'!$A:$Z,8,0))","v":0},0,null,0,{"$f":"IF(ISERROR(VLOOKUP($A484+8860000,'Growth Data'!$A:$Z,9,0)),0,VLOOKUP($A484+8860000,'Growth Data'!$A:$Z,9,0))","v":0},0,null,"NO",{"$f":"IF(ISERROR(VLOOKUP($A484+8860000,'Growth Data'!$A:$Z,5,0)),\"NO\",VLOOKUP($A484+8860000,'Growth Data'!$A:$Z,5,0))","v":"NO"},0,null,0,{"$f":"IF(ISERROR(VLOOKUP($A484+8860000,'Growth Data'!$A:$Z,10,0)),0,VLOOKUP($A484+8860000,'Growth Data'!$A:$Z,10,0))","v":0},0,null,0,{"$f":"IF(ISERROR(VLOOKUP($A484+8860000,'Growth Data'!$A:$Z,11,0)),0,VLOOKUP($A484+8860000,'Growth Data'!$A:$Z,11,0))","v":0},0]
[4002,"The Sittingbourne School",null,"The Sittingbourne School",null,1,null,6074395.7999999998,6074395.8000000007,0,null,1083874.28,1083874.2807188886,-7.1888859383761883E-4,null,32791.72,32791.724686318943,-4.6863189418218099E-3,null,650979.18000000005,650979.1750576559,4.9423441523686051E-3,null,117882.46,117882.46,0,null,0,0,0,null,0,0,0,null,0,0,0,null,62617.599999999999,62617.599999999999,0,null,0,0,0,null,0,0,0,null,0,0,0,null,8022541.04,8022541.0404628646,-4.6286452561616898E-4,null,0,0,0,null,8022541.04,8022541.0404628646,-4.6286452561616898E-4,null,0,null,0,null,null,null,0,null,null,null,0,null,1572423.42,1572423.4152020938,0,null,22479.38,0,22479,null,null,null,0,null,null,null,0,null,null,null,0,null,null,null,0,null,null,null,0,null,null,null,0,null,"NO",{"$f":"IF(ISERROR(VLOOKUP($A485+8860000,'Growth Data'!$A:$F,3,0)),\"NO\",VLOOKUP($A485+8860000,'Growth Data'!$A:$F,3,0))","v":"YES"},1,null,0,{"$f":"IF(DI485=\"YES\",IF(ISERROR(VLOOKUP($A485+8860000,'Growth Data'!$A:$F,6,0)),0,VLOOKUP($A485+8860000,'Growth Data'!$A:$F,6,0)),0)","v":240},-240,null,0,{"$f":"IF(ISERROR(VLOOKUP($A485+8860000,'Growth Data'!$A:$Z,7,0)),0,VLOOKUP($A485+8860000,'Growth Data'!$A:$Z,7,0))","v":270},1,null,"NO",{"$f":"IF(ISERROR(VLOOKUP($A485+8860000,'Growth Data'!$A:$F,4,0)),\"NO\",VLOOKUP($A485+8860000,'Growth Data'!$A:$F,4,0))","v":"NO"},0,null,0,{"$f":"IF(ISERROR(VLOOKUP($A485+8860000,'Growth Data'!$A:$Z,8,0)),0,VLOOKUP($A485+8860000,'Growth Data'!$A:$Z,8,0))","v":0},0,null,0,{"$f":"IF(ISERROR(VLOOKUP($A485+8860000,'Growth Data'!$A:$Z,9,0)),0,VLOOKUP($A485+8860000,'Growth Data'!$A:$Z,9,0))","v":0},0,null,"NO",{"$f":"IF(ISERROR(VLOOKUP($A485+8860000,'Growth Data'!$A:$Z,5,0)),\"NO\",VLOOKUP($A485+8860000,'Growth Data'!$A:$Z,5,0))","v":"NO"},0,null,0,{"$f":"IF(ISERROR(VLOOKUP($A485+8860000,'Growth Data'!$A:$Z,10,0)),0,VLOOKUP($A485+8860000,'Growth Data'!$A:$Z,10,0))","v":0},0,null,0,{"$f":"IF(ISERROR(VLOOKUP($A485+8860000,'Growth Data'!$A:$Z,11,0)),0,VLOOKUP($A485+8860000,'Growth Data'!$A:$Z,11,0))","v":0},0]
[4003,"High Weald Academy",null,"High Weald Academy",null,1,null,1170419.8400000001,1170419.8400000001,0,null,97692.54,97692.543306772903,-3.3067729091271758E-3,null,2983.74,2983.7352156862744,4.7843137253948953E-3,null,160216.65,160216.64965737899,3.4262100234627724E-4,null,117882.46,117882.46,0,null,70048.3,70048.3,0,null,0,0,0,null,0,0,0,null,20582.400000000001,20582.400000000001,0,null,0,0,0,null,0,0,0,null,0,0,0,null,1639825.93,1639825.928179838,1.8201619386672974E-3,null,0,0,0,null,1639825.93,1639825.928179838,1.8201619386672974E-3,null,0,null,0,null,null,null,0,null,null,null,0,null,235989.56,235989.56291906812,0,null,4336.6400000000003,0,4337,null,null,null,0,null,null,null,0,null,null,null,0,null,null,null,0,null,null,null,0,null,null,null,0,null,"NO",{"$f":"IF(ISERROR(VLOOKUP($A486+8860000,'Growth Data'!$A:$F,3,0)),\"NO\",VLOOKUP($A486+8860000,'Growth Data'!$A:$F,3,0))","v":"NO"},0,null,0,{"$f":"IF(DI486=\"YES\",IF(ISERROR(VLOOKUP($A486+8860000,'Growth Data'!$A:$F,6,0)),0,VLOOKUP($A486+8860000,'Growth Data'!$A:$F,6,0)),0)","v":0},0,null,0,{"$f":"IF(ISERROR(VLOOKUP($A486+8860000,'Growth Data'!$A:$Z,7,0)),0,VLOOKUP($A486+8860000,'Growth Data'!$A:$Z,7,0))","v":0},0,null,"NO",{"$f":"IF(ISERROR(VLOOKUP($A486+8860000,'Growth Data'!$A:$F,4,0)),\"NO\",VLOOKUP($A486+8860000,'Growth Data'!$A:$F,4,0))","v":"NO"},0,null,0,{"$f":"IF(ISERROR(VLOOKUP($A486+8860000,'Growth Data'!$A:$Z,8,0)),0,VLOOKUP($A486+8860000,'Growth Data'!$A:$Z,8,0))","v":0},0,null,0,{"$f":"IF(ISERROR(VLOOKUP($A486+8860000,'Growth Data'!$A:$Z,9,0)),0,VLOOKUP($A486+8860000,'Growth Data'!$A:$Z,9,0))","v":0},0,null,"NO",{"$f":"IF(ISERROR(VLOOKUP($A486+8860000,'Growth Data'!$A:$Z,5,0)),\"NO\",VLOOKUP($A486+8860000,'Growth Data'!$A:$Z,5,0))","v":"NO"},0,null,0,{"$f":"IF(ISERROR(VLOOKUP($A486+8860000,'Growth Data'!$A:$Z,10,0)),0,VLOOKUP($A486+8860000,'Growth Data'!$A:$Z,10,0))","v":0},0,null,0,{"$f":"IF(ISERROR(VLOOKUP($A486+8860000,'Growth Data'!$A:$Z,11,0)),0,VLOOKUP($A486+8860000,'Growth Data'!$A:$Z,11,0))","v":0},0]
[4004,"Meopham School",null,"Meopham School",null,1,null,3681528.84,3681528.84,0,null,229201,229200.99553416157,4.4658384285867214E-3,null,0,0,0,null,299376.09000000003,299376.08943401324,5.659867892973125E-4,null,117882.46,117882.46,0,null,0,0,0,null,0,0,0,null,0,0,0,null,43008,43008,0,null,0,0,0,null,0,0,0,null,36501.620000000003,36501.615031825335,4.9681746677379124E-3,null,4407498,4407498,0,null,0,0,0,null,4407498,4407498,0,null,0,null,0,null,null,null,0,null,null,null,0,null,521302.21,521302.21473922994,0,null,13653.64,0,13654,null,null,null,0,null,null,null,0,null,null,null,0,null,null,null,0,null,null,null,0,null,null,null,0,null,"NO",{"$f":"IF(ISERROR(VLOOKUP($A487+8860000,'Growth Data'!$A:$F,3,0)),\"NO\",VLOOKUP($A487+8860000,'Growth Data'!$A:$F,3,0))","v":"NO"},0,null,0,{"$f":"IF(DI487=\"YES\",IF(ISERROR(VLOOKUP($A487+8860000,'Growth Data'!$A:$F,6,0)),0,VLOOKUP($A487+8860000,'Growth Data'!$A:$F,6,0)),0)","v":0},0,null,0,{"$f":"IF(ISERROR(VLOOKUP($A487+8860000,'Growth Data'!$A:$Z,7,0)),0,VLOOKUP($A487+8860000,'Growth Data'!$A:$Z,7,0))","v":0},0,null,"NO",{"$f":"IF(ISERROR(VLOOKUP($A487+8860000,'Growth Data'!$A:$F,4,0)),\"NO\",VLOOKUP($A487+8860000,'Growth Data'!$A:$F,4,0))","v":"NO"},0,null,0,{"$f":"IF(ISERROR(VLOOKUP($A487+8860000,'Growth Data'!$A:$Z,8,0)),0,VLOOKUP($A487+8860000,'Growth Data'!$A:$Z,8,0))","v":0},0,null,0,{"$f":"IF(ISERROR(VLOOKUP($A487+8860000,'Growth Data'!$A:$Z,9,0)),0,VLOOKUP($A487+8860000,'Growth Data'!$A:$Z,9,0))","v":0},0,null,"NO",{"$f":"IF(ISERROR(VLOOKUP($A487+8860000,'Growth Data'!$A:$Z,5,0)),\"NO\",VLOOKUP($A487+8860000,'Growth Data'!$A:$Z,5,0))","v":"NO"},0,null,0,{"$f":"IF(ISERROR(VLOOKUP($A487+8860000,'Growth Data'!$A:$Z,10,0)),0,VLOOKUP($A487+8860000,'Growth Data'!$A:$Z,10,0))","v":0},0,null,0,{"$f":"IF(ISERROR(VLOOKUP($A487+8860000,'Growth Data'!$A:$Z,11,0)),0,VLOOKUP($A487+8860000,'Growth Data'!$A:$Z,11,0))","v":0},0]
[4006,"Trinity School",null,"Trinity School",null,1,null,3868700.02,3868700.02,0,null,153117.39000000001,153117.38882299647,1.1770035489462316E-3,null,5944.16,5944.1599999999971,0,null,279617.99,279617.98852630559,1.4736943994648755E-3,null,117882.46,117882.46,0,null,0,0,0,null,162849.64000000001,162849.64223845431,-2.2384542971849442E-3,null,0,0,0,null,39424,39424,0,null,0,0,0,null,0,0,0,null,3808.34,3808.3404122435022,-4.1224350206903182E-4,null,4631344,4631343.9999999991,0,null,0,0,0,null,4631344,4631343.9999999991,0,null,0,null,0,null,null,null,0,null,null,null,0,null,412289.31,412289.30526563327,0,null,14893.76,0,14894,null,null,null,0,null,null,null,0,null,null,null,0,null,null,null,0,null,null,null,0,null,null,null,0,null,"NO",{"$f":"IF(ISERROR(VLOOKUP($A488+8860000,'Growth Data'!$A:$F,3,0)),\"NO\",VLOOKUP($A488+8860000,'Growth Data'!$A:$F,3,0))","v":"YES"},1,null,0,{"$f":"IF(DI488=\"YES\",IF(ISERROR(VLOOKUP($A488+8860000,'Growth Data'!$A:$F,6,0)),0,VLOOKUP($A488+8860000,'Growth Data'!$A:$F,6,0)),0)","v":122},-122,null,0,{"$f":"IF(ISERROR(VLOOKUP($A488+8860000,'Growth Data'!$A:$Z,7,0)),0,VLOOKUP($A488+8860000,'Growth Data'!$A:$Z,7,0))","v":180},1,null,"NO",{"$f":"IF(ISERROR(VLOOKUP($A488+8860000,'Growth Data'!$A:$F,4,0)),\"NO\",VLOOKUP($A488+8860000,'Growth Data'!$A:$F,4,0))","v":"NO"},0,null,0,{"$f":"IF(ISERROR(VLOOKUP($A488+8860000,'Growth Data'!$A:$Z,8,0)),0,VLOOKUP($A488+8860000,'Growth Data'!$A:$Z,8,0))","v":0},0,null,0,{"$f":"IF(ISERROR(VLOOKUP($A488+8860000,'Growth Data'!$A:$Z,9,0)),0,VLOOKUP($A488+8860000,'Growth Data'!$A:$Z,9,0))","v":0},0,null,"NO",{"$f":"IF(ISERROR(VLOOKUP($A488+8860000,'Growth Data'!$A:$Z,5,0)),\"NO\",VLOOKUP($A488+8860000,'Growth Data'!$A:$Z,5,0))","v":"NO"},0,null,0,{"$f":"IF(ISERROR(VLOOKUP($A488+8860000,'Growth Data'!$A:$Z,10,0)),0,VLOOKUP($A488+8860000,'Growth Data'!$A:$Z,10,0))","v":0},0,null,0,{"$f":"IF(ISERROR(VLOOKUP($A488+8860000,'Growth Data'!$A:$Z,11,0)),0,VLOOKUP($A488+8860000,'Growth Data'!$A:$Z,11,0))","v":0},0]
[4007,"Wye School",null,"Wye School",null,1,null,2297682.48,2297682.48,0,null,130251.36,130251.36258270913,-2.5827091303654015E-3,null,7430.2,7430.1999999999971,0,null,219870.89,219870.88896414763,1.035852386849001E-3,null,117882.46,117882.46,0,null,22648.95,22648.950333333341,-3.3333334067719989E-4,null,0,0,0,null,0,0,0,null,31197.74,31197.74,0,null,0,0,0,null,0,0,0,null,0,0,0,null,2826964.08,2826964.0818801904,-1.880190335214138E-3,null,0,0,0,null,2826964.08,2826964.0818801904,-1.880190335214138E-3,null,0,null,0,null,null,null,0,null,null,null,0,null,331268.13,331268.12628608674,0,null,8520.82,0,8521,null,null,null,0,null,null,null,0,null,null,null,0,null,null,null,0,null,null,null,0,null,null,null,0,null,"NO",{"$f":"IF(ISERROR(VLOOKUP($A489+8860000,'Growth Data'!$A:$F,3,0)),\"NO\",VLOOKUP($A489+8860000,'Growth Data'!$A:$F,3,0))","v":"NO"},0,null,0,{"$f":"IF(DI489=\"YES\",IF(ISERROR(VLOOKUP($A489+8860000,'Growth Data'!$A:$F,6,0)),0,VLOOKUP($A489+8860000,'Growth Data'!$A:$F,6,0)),0)","v":0},0,null,0,{"$f":"IF(ISERROR(VLOOKUP($A489+8860000,'Growth Data'!$A:$Z,7,0)),0,VLOOKUP($A489+8860000,'Growth Data'!$A:$Z,7,0))","v":0},0,null,"NO",{"$f":"IF(ISERROR(VLOOKUP($A489+8860000,'Growth Data'!$A:$F,4,0)),\"NO\",VLOOKUP($A489+8860000,'Growth Data'!$A:$F,4,0))","v":"NO"},0,null,0,{"$f":"IF(ISERROR(VLOOKUP($A489+8860000,'Growth Data'!$A:$Z,8,0)),0,VLOOKUP($A489+8860000,'Growth Data'!$A:$Z,8,0))","v":0},0,null,0,{"$f":"IF(ISERROR(VLOOKUP($A489+8860000,'Growth Data'!$A:$Z,9,0)),0,VLOOKUP($A489+8860000,'Growth Data'!$A:$Z,9,0))","v":0},0,null,"NO",{"$f":"IF(ISERROR(VLOOKUP($A489+8860000,'Growth Data'!$A:$Z,5,0)),\"NO\",VLOOKUP($A489+8860000,'Growth Data'!$A:$Z,5,0))","v":"NO"},0,null,0,{"$f":"IF(ISERROR(VLOOKUP($A489+8860000,'Growth Data'!$A:$Z,10,0)),0,VLOOKUP($A489+8860000,'Growth Data'!$A:$Z,10,0))","v":0},0,null,0,{"$f":"IF(ISERROR(VLOOKUP($A489+8860000,'Growth Data'!$A:$Z,11,0)),0,VLOOKUP($A489+8860000,'Growth Data'!$A:$Z,11,0))","v":0},0]
[4009,"Hadlow Rural Community School",null,"Hadlow Rural Community School",null,1,null,1783548.24,1783548.24,0,null,139630.56,139630.55626156661,3.7384333845693618E-3,null,0,0,0,null,215729.37,215729.36955915787,4.4084212277084589E-4,null,117882.46,117882.46,0,null,0,0,0,null,0,0,0,null,0,0,0,null,19555.2,19555.2,0,null,0,0,0,null,0,0,0,null,0,0,0,null,2276345.83,2276345.8258207245,4.1792755946516991E-3,null,0,0,0,null,2276345.83,2276345.8258207245,4.1792755946516991E-3,null,0,null,0,null,null,null,0,null,null,null,0,null,328615.28000000003,328615.28055995441,0,null,6589.66,0,6590,null,null,null,0,null,null,null,0,null,null,null,0,null,null,null,0,null,null,null,0,null,null,null,0,null,"NO",{"$f":"IF(ISERROR(VLOOKUP($A490+8860000,'Growth Data'!$A:$F,3,0)),\"NO\",VLOOKUP($A490+8860000,'Growth Data'!$A:$F,3,0))","v":"NO"},0,null,0,{"$f":"IF(DI490=\"YES\",IF(ISERROR(VLOOKUP($A490+8860000,'Growth Data'!$A:$F,6,0)),0,VLOOKUP($A490+8860000,'Growth Data'!$A:$F,6,0)),0)","v":0},0,null,0,{"$f":"IF(ISERROR(VLOOKUP($A490+8860000,'Growth Data'!$A:$Z,7,0)),0,VLOOKUP($A490+8860000,'Growth Data'!$A:$Z,7,0))","v":0},0,null,"NO",{"$f":"IF(ISERROR(VLOOKUP($A490+8860000,'Growth Data'!$A:$F,4,0)),\"NO\",VLOOKUP($A490+8860000,'Growth Data'!$A:$F,4,0))","v":"NO"},0,null,0,{"$f":"IF(ISERROR(VLOOKUP($A490+8860000,'Growth Data'!$A:$Z,8,0)),0,VLOOKUP($A490+8860000,'Growth Data'!$A:$Z,8,0))","v":0},0,null,0,{"$f":"IF(ISERROR(VLOOKUP($A490+8860000,'Growth Data'!$A:$Z,9,0)),0,VLOOKUP($A490+8860000,'Growth Data'!$A:$Z,9,0))","v":0},0,null,"NO",{"$f":"IF(ISERROR(VLOOKUP($A490+8860000,'Growth Data'!$A:$Z,5,0)),\"NO\",VLOOKUP($A490+8860000,'Growth Data'!$A:$Z,5,0))","v":"NO"},0,null,0,{"$f":"IF(ISERROR(VLOOKUP($A490+8860000,'Growth Data'!$A:$Z,10,0)),0,VLOOKUP($A490+8860000,'Growth Data'!$A:$Z,10,0))","v":0},0,null,0,{"$f":"IF(ISERROR(VLOOKUP($A490+8860000,'Growth Data'!$A:$Z,11,0)),0,VLOOKUP($A490+8860000,'Growth Data'!$A:$Z,11,0))","v":0},0]
[4012,"The Leigh UTC",null,"The Leigh UTC",null,1,null,2489004.7799999998,2489004.7800000003,0,null,280315.21000000002,280315.21029464802,-2.946479944512248E-4,null,10961.33,10961.327677543155,2.3224568449222716E-3,null,225670.99,225670.98832771307,1.6722869186196476E-3,null,117882.46,117882.46,0,null,0,0,0,null,114957.12,114957.11939983649,6.0016350471414626E-4,null,0,0,0,null,58368,58368,0,null,0,0,0,null,0,0,0,null,0,0,0,null,3297159.89,3297159.8856997411,4.3002590537071228E-3,null,0,0,0,null,3297159.89,3297159.8856997411,4.3002590537071228E-3,null,0,null,0,null,null,null,0,null,null,null,0,null,480084.02,480084.02027737431,0,null,9642.2999999999993,0,9642,null,null,null,0,null,null,null,0,null,null,null,0,null,null,null,0,null,null,null,0,null,null,null,0,null,"NO",{"$f":"IF(ISERROR(VLOOKUP($A491+8860000,'Growth Data'!$A:$F,3,0)),\"NO\",VLOOKUP($A491+8860000,'Growth Data'!$A:$F,3,0))","v":"NO"},0,null,0,{"$f":"IF(DI491=\"YES\",IF(ISERROR(VLOOKUP($A491+8860000,'Growth Data'!$A:$F,6,0)),0,VLOOKUP($A491+8860000,'Growth Data'!$A:$F,6,0)),0)","v":0},0,null,0,{"$f":"IF(ISERROR(VLOOKUP($A491+8860000,'Growth Data'!$A:$Z,7,0)),0,VLOOKUP($A491+8860000,'Growth Data'!$A:$Z,7,0))","v":0},0,null,"NO",{"$f":"IF(ISERROR(VLOOKUP($A491+8860000,'Growth Data'!$A:$F,4,0)),\"NO\",VLOOKUP($A491+8860000,'Growth Data'!$A:$F,4,0))","v":"NO"},0,null,0,{"$f":"IF(ISERROR(VLOOKUP($A491+8860000,'Growth Data'!$A:$Z,8,0)),0,VLOOKUP($A491+8860000,'Growth Data'!$A:$Z,8,0))","v":0},0,null,0,{"$f":"IF(ISERROR(VLOOKUP($A491+8860000,'Growth Data'!$A:$Z,9,0)),0,VLOOKUP($A491+8860000,'Growth Data'!$A:$Z,9,0))","v":0},0,null,"NO",{"$f":"IF(ISERROR(VLOOKUP($A491+8860000,'Growth Data'!$A:$Z,5,0)),\"NO\",VLOOKUP($A491+8860000,'Growth Data'!$A:$Z,5,0))","v":"NO"},0,null,0,{"$f":"IF(ISERROR(VLOOKUP($A491+8860000,'Growth Data'!$A:$Z,10,0)),0,VLOOKUP($A491+8860000,'Growth Data'!$A:$Z,10,0))","v":0},0,null,0,{"$f":"IF(ISERROR(VLOOKUP($A491+8860000,'Growth Data'!$A:$Z,11,0)),0,VLOOKUP($A491+8860000,'Growth Data'!$A:$Z,11,0))","v":0},0]
[4013,"St Edmund's Catholic School",null,"St Edmund's Catholic School",null,1,null,2504044.02,2504044.02,0,null,408167.79,408167.78801225568,1.9877442973665893E-3,null,10402.280000000001,10402.279999999979,2.1827872842550278E-11,null,277818.88,277818.88304804603,-3.04804602637887E-3,null,117882.46,117882.46,0,null,0,0,0,null,0,0,0,null,0,0,0,null,18439.68,18439.68,0,null,0,0,0,null,0,0,0,null,0,0,0,null,3336755.11,3336755.1110603013,-1.0603014379739761E-3,null,0,0,0,null,3336755.11,3336755.1110603013,-1.0603014379739761E-3,null,0,null,0,null,null,null,0,null,null,null,0,null,634199.67000000004,634199.6657995315,0,null,9283.1200000000008,0,9283,null,null,null,0,null,null,null,0,null,null,null,0,null,null,null,0,null,null,null,0,null,null,null,0,null,"NO",{"$f":"IF(ISERROR(VLOOKUP($A492+8860000,'Growth Data'!$A:$F,3,0)),\"NO\",VLOOKUP($A492+8860000,'Growth Data'!$A:$F,3,0))","v":"NO"},0,null,0,{"$f":"IF(DI492=\"YES\",IF(ISERROR(VLOOKUP($A492+8860000,'Growth Data'!$A:$F,6,0)),0,VLOOKUP($A492+8860000,'Growth Data'!$A:$F,6,0)),0)","v":0},0,null,0,{"$f":"IF(ISERROR(VLOOKUP($A492+8860000,'Growth Data'!$A:$Z,7,0)),0,VLOOKUP($A492+8860000,'Growth Data'!$A:$Z,7,0))","v":0},0,null,"NO",{"$f":"IF(ISERROR(VLOOKUP($A492+8860000,'Growth Data'!$A:$F,4,0)),\"NO\",VLOOKUP($A492+8860000,'Growth Data'!$A:$F,4,0))","v":"NO"},0,null,0,{"$f":"IF(ISERROR(VLOOKUP($A492+8860000,'Growth Data'!$A:$Z,8,0)),0,VLOOKUP($A492+8860000,'Growth Data'!$A:$Z,8,0))","v":0},0,null,0,{"$f":"IF(ISERROR(VLOOKUP($A492+8860000,'Growth Data'!$A:$Z,9,0)),0,VLOOKUP($A492+8860000,'Growth Data'!$A:$Z,9,0))","v":0},0,null,"NO",{"$f":"IF(ISERROR(VLOOKUP($A492+8860000,'Growth Data'!$A:$Z,5,0)),\"NO\",VLOOKUP($A492+8860000,'Growth Data'!$A:$Z,5,0))","v":"NO"},0,null,0,{"$f":"IF(ISERROR(VLOOKUP($A492+8860000,'Growth Data'!$A:$Z,10,0)),0,VLOOKUP($A492+8860000,'Growth Data'!$A:$Z,10,0))","v":0},0,null,0,{"$f":"IF(ISERROR(VLOOKUP($A492+8860000,'Growth Data'!$A:$Z,11,0)),0,VLOOKUP($A492+8860000,'Growth Data'!$A:$Z,11,0))","v":0},0]
[4015,"The Lenham School",null,"The Lenham School",null,1,null,2676588.38,2676588.38,0,null,176334.07999999999,176334.08139496771,-1.394967723172158E-3,null,9007.3799999999992,9007.3770357751382,2.9642248609889066E-3,null,330154.73,330154.72813023487,1.8697651103138924E-3,null,117882.46,117882.46,0,null,1634.46,1634.46033333334,-3.3333333999507886E-4,null,0,0,0,null,0,0,0,null,23859.200000000001,23859.200000000001,0,null,0,0,0,null,0,0,0,null,0,0,0,null,3335460.69,3335460.6868943111,3.1056888401508331E-3,null,0,0,0,null,3335460.69,3335460.6868943111,3.1056888401508331E-3,null,0,null,0,null,null,null,0,null,null,null,0,null,477243.54,477243.54130020767,0,null,10045.42,0,10045,null,null,null,0,null,null,null,0,null,null,null,0,null,null,null,0,null,null,null,0,null,null,null,0,null,"NO",{"$f":"IF(ISERROR(VLOOKUP($A493+8860000,'Growth Data'!$A:$F,3,0)),\"NO\",VLOOKUP($A493+8860000,'Growth Data'!$A:$F,3,0))","v":"NO"},0,null,0,{"$f":"IF(DI493=\"YES\",IF(ISERROR(VLOOKUP($A493+8860000,'Growth Data'!$A:$F,6,0)),0,VLOOKUP($A493+8860000,'Growth Data'!$A:$F,6,0)),0)","v":0},0,null,0,{"$f":"IF(ISERROR(VLOOKUP($A493+8860000,'Growth Data'!$A:$Z,7,0)),0,VLOOKUP($A493+8860000,'Growth Data'!$A:$Z,7,0))","v":0},0,null,"NO",{"$f":"IF(ISERROR(VLOOKUP($A493+8860000,'Growth Data'!$A:$F,4,0)),\"NO\",VLOOKUP($A493+8860000,'Growth Data'!$A:$F,4,0))","v":"NO"},0,null,0,{"$f":"IF(ISERROR(VLOOKUP($A493+8860000,'Growth Data'!$A:$Z,8,0)),0,VLOOKUP($A493+8860000,'Growth Data'!$A:$Z,8,0))","v":0},0,null,0,{"$f":"IF(ISERROR(VLOOKUP($A493+8860000,'Growth Data'!$A:$Z,9,0)),0,VLOOKUP($A493+8860000,'Growth Data'!$A:$Z,9,0))","v":0},0,null,"NO",{"$f":"IF(ISERROR(VLOOKUP($A493+8860000,'Growth Data'!$A:$Z,5,0)),\"NO\",VLOOKUP($A493+8860000,'Growth Data'!$A:$Z,5,0))","v":"NO"},0,null,0,{"$f":"IF(ISERROR(VLOOKUP($A493+8860000,'Growth Data'!$A:$Z,10,0)),0,VLOOKUP($A493+8860000,'Growth Data'!$A:$Z,10,0))","v":0},0,null,0,{"$f":"IF(ISERROR(VLOOKUP($A493+8860000,'Growth Data'!$A:$Z,11,0)),0,VLOOKUP($A493+8860000,'Growth Data'!$A:$Z,11,0))","v":0},0]
[4016,"The Charles Dickens School",null,"The Charles Dickens School",null,1,null,5105419.0599999996,5105419.0600000005,0,null,778315.32,778315.31611086219,3.8891377625986934E-3,null,7443.55,7443.5516621743018,-1.6621743016003165E-3,null,514505.22,514505.21814778785,1.852212124504149E-3,null,117882.46,117882.46,0,null,0,0,0,null,0,0,0,null,0,0,0,null,46082.77,46082.77,0,null,0,0,0,null,0,0,0,null,0,0,0,null,6569648.3799999999,6569648.3759208247,4.0791751816868782E-3,null,0,0,0,null,6569648.3799999999,6569648.3759208247,4.0791751816868782E-3,null,0,null,0,null,null,null,0,null,null,null,0,null,1162122,1162122.0006600542,0,null,18888.099999999999,0,18888,null,null,null,0,null,null,null,0,null,null,null,0,null,null,null,0,null,null,null,0,null,null,null,0,null,"NO",{"$f":"IF(ISERROR(VLOOKUP($A494+8860000,'Growth Data'!$A:$F,3,0)),\"NO\",VLOOKUP($A494+8860000,'Growth Data'!$A:$F,3,0))","v":"NO"},0,null,0,{"$f":"IF(DI494=\"YES\",IF(ISERROR(VLOOKUP($A494+8860000,'Growth Data'!$A:$F,6,0)),0,VLOOKUP($A494+8860000,'Growth Data'!$A:$F,6,0)),0)","v":0},0,null,0,{"$f":"IF(ISERROR(VLOOKUP($A494+8860000,'Growth Data'!$A:$Z,7,0)),0,VLOOKUP($A494+8860000,'Growth Data'!$A:$Z,7,0))","v":0},0,null,"NO",{"$f":"IF(ISERROR(VLOOKUP($A494+8860000,'Growth Data'!$A:$F,4,0)),\"NO\",VLOOKUP($A494+8860000,'Growth Data'!$A:$F,4,0))","v":"NO"},0,null,0,{"$f":"IF(ISERROR(VLOOKUP($A494+8860000,'Growth Data'!$A:$Z,8,0)),0,VLOOKUP($A494+8860000,'Growth Data'!$A:$Z,8,0))","v":0},0,null,0,{"$f":"IF(ISERROR(VLOOKUP($A494+8860000,'Growth Data'!$A:$Z,9,0)),0,VLOOKUP($A494+8860000,'Growth Data'!$A:$Z,9,0))","v":0},0,null,"NO",{"$f":"IF(ISERROR(VLOOKUP($A494+8860000,'Growth Data'!$A:$Z,5,0)),\"NO\",VLOOKUP($A494+8860000,'Growth Data'!$A:$Z,5,0))","v":"NO"},0,null,0,{"$f":"IF(ISERROR(VLOOKUP($A494+8860000,'Growth Data'!$A:$Z,10,0)),0,VLOOKUP($A494+8860000,'Growth Data'!$A:$Z,10,0))","v":0},0,null,0,{"$f":"IF(ISERROR(VLOOKUP($A494+8860000,'Growth Data'!$A:$Z,11,0)),0,VLOOKUP($A494+8860000,'Growth Data'!$A:$Z,11,0))","v":0},0]
[4019,"School of Science and Technology Maidstone",null,"School of Science and Technology Maidstone",null,1,null,1479416.34,1479416.34,0,null,44756.97,44756.969929646584,7.03534169588238E-5,null,3090.6,3090.5985276073598,1.4723926401529752E-3,null,69742.87,69742.874300957774,-4.3009577784687281E-3,null,117882.46,117882.46,0,null,0,0,0,null,0,0,0,null,0,0,0,null,0,0,0,null,0,0,0,null,0,0,0,null,52995.76,52995.757241788189,2.7582118127611466E-3,null,1767885,1767884.9999999998,0,null,0,74472.449920364423,-74472.449920364423,null,1767885,1842357.4499203642,-74472.44992036419,null,0,null,0,null,null,null,0,null,null,null,{"$f":"BX495-BY495","v":0},null,167936.43,242408.87965959427,{"$f":"ROUND(CB495-CC495,0)","v":-74472},null,5742.66,0,{"$f":"ROUND(CF495-CG495,0)","v":5743},null,null,null,{"$f":"ROUND(CJ495-CK495,0)","v":0},null,null,null,{"$f":"ROUND(CN495-CO495,0)","v":0},null,null,null,{"$f":"ROUND(CR495-CS495,0)","v":0},null,null,null,{"$f":"ROUND(CV495-CW495,0)","v":0},null,null,null,{"$f":"ROUND(CZ495-DA495,0)","v":0},null,null,null,{"$f":"ROUND(DD495-DE495,0)","v":0},null,"NO",{"$f":"IF(ISERROR(VLOOKUP($A495+8860000,'Growth Data'!$A:$F,3,0)),\"NO\",VLOOKUP($A495+8860000,'Growth Data'!$A:$F,3,0))","v":"NO"},{"$f":"IF(DH495=DI495,0,1)","v":0},null,0,{"$f":"IF(DI495=\"YES\",IF(ISERROR(VLOOKUP($A495+8860000,'Growth Data'!$A:$F,6,0)),0,VLOOKUP($A495+8860000,'Growth Data'!$A:$F,6,0)),0)","v":0},{"$f":"ROUND(DL495-DM495,0)","v":0},null,0,{"$f":"IF(ISERROR(VLOOKUP($A495+8860000,'Growth Data'!$A:$Z,7,0)),0,VLOOKUP($A495+8860000,'Growth Data'!$A:$Z,7,0))","v":0},{"$f":"IF(DP495=DQ495,0,1)","v":0},null,"NO",{"$f":"IF(ISERROR(VLOOKUP($A495+8860000,'Growth Data'!$A:$F,4,0)),\"NO\",VLOOKUP($A495+8860000,'Growth Data'!$A:$F,4,0))","v":"NO"},{"$f":"IF(DT495=DU495,0,1)","v":0},null,0,{"$f":"IF(ISERROR(VLOOKUP($A495+8860000,'Growth Data'!$A:$Z,8,0)),0,VLOOKUP($A495+8860000,'Growth Data'!$A:$Z,8,0))","v":0},{"$f":"IF(DX495=DY495,0,1)","v":0},null,0,{"$f":"IF(ISERROR(VLOOKUP($A495+8860000,'Growth Data'!$A:$Z,9,0)),0,VLOOKUP($A495+8860000,'Growth Data'!$A:$Z,9,0))","v":0},{"$f":"IF(EB495=EC495,0,1)","v":0},null,"NO",{"$f":"IF(ISERROR(VLOOKUP($A495+8860000,'Growth Data'!$A:$Z,5,0)),\"NO\",VLOOKUP($A495+8860000,'Growth Data'!$A:$Z,5,0))","v":"NO"},{"$f":"IF(EF495=EG495,0,1)","v":0},null,0,{"$f":"IF(ISERROR(VLOOKUP($A495+8860000,'Growth Data'!$A:$Z,10,0)),0,VLOOKUP($A495+8860000,'Growth Data'!$A:$Z,10,0))","v":0},{"$f":"IF(EJ495=EK495,0,1)","v":0},null,0,{"$f":"IF(ISERROR(VLOOKUP($A495+8860000,'Growth Data'!$A:$Z,11,0)),0,VLOOKUP($A495+8860000,'Growth Data'!$A:$Z,11,0))","v":0},{"$f":"IF(EN495=EO495,0,1)","v":0}]
[4021,"Turner Free School",null,"Turner Free School",null,1,null,2576547.77,2576547.7733333334,-3.3333334140479565E-3,null,374637.21,374637.21075795917,-7.5795914744958282E-4,null,5446.99,5446.9922058823513,-2.2058823515180848E-3,null,212638.49,212638.49476003685,-4.7600368561688811E-3,null,117882.46,117882.46,0,null,0,0,0,null,0,0,0,null,0,0,0,null,29902,29902,0,null,0,0,0,null,0,0,0,null,0,0,0,null,3317054.93,3317054.9310572119,-1.0572117753326893E-3,null,0,0,0,null,3317054.93,3317054.9310572119,-1.0572117753326893E-3,null,0,null,0,null,null,null,0,null,null,null,0,null,522273.04,522273.03775722603,0,null,9852.02,0,9852,null,null,null,0,null,null,null,0,null,null,null,0,null,null,null,0,null,null,null,0,null,null,null,0,null,"NO",{"$f":"IF(ISERROR(VLOOKUP($A496+8860000,'Growth Data'!$A:$F,3,0)),\"NO\",VLOOKUP($A496+8860000,'Growth Data'!$A:$F,3,0))","v":"NO"},0,null,0,{"$f":"IF(DI496=\"YES\",IF(ISERROR(VLOOKUP($A496+8860000,'Growth Data'!$A:$F,6,0)),0,VLOOKUP($A496+8860000,'Growth Data'!$A:$F,6,0)),0)","v":0},0,null,0,{"$f":"IF(ISERROR(VLOOKUP($A496+8860000,'Growth Data'!$A:$Z,7,0)),0,VLOOKUP($A496+8860000,'Growth Data'!$A:$Z,7,0))","v":0},0,null,"NO",{"$f":"IF(ISERROR(VLOOKUP($A496+8860000,'Growth Data'!$A:$F,4,0)),\"NO\",VLOOKUP($A496+8860000,'Growth Data'!$A:$F,4,0))","v":"NO"},0,null,0,{"$f":"IF(ISERROR(VLOOKUP($A496+8860000,'Growth Data'!$A:$Z,8,0)),0,VLOOKUP($A496+8860000,'Growth Data'!$A:$Z,8,0))","v":0},0,null,0,{"$f":"IF(ISERROR(VLOOKUP($A496+8860000,'Growth Data'!$A:$Z,9,0)),0,VLOOKUP($A496+8860000,'Growth Data'!$A:$Z,9,0))","v":0},0,null,"NO",{"$f":"IF(ISERROR(VLOOKUP($A496+8860000,'Growth Data'!$A:$Z,5,0)),\"NO\",VLOOKUP($A496+8860000,'Growth Data'!$A:$Z,5,0))","v":"NO"},0,null,0,{"$f":"IF(ISERROR(VLOOKUP($A496+8860000,'Growth Data'!$A:$Z,10,0)),0,VLOOKUP($A496+8860000,'Growth Data'!$A:$Z,10,0))","v":0},0,null,0,{"$f":"IF(ISERROR(VLOOKUP($A496+8860000,'Growth Data'!$A:$Z,11,0)),0,VLOOKUP($A496+8860000,'Growth Data'!$A:$Z,11,0))","v":0},0]
[4023,"Goodwin Academy",null,"Goodwin Academy",null,1,null,3396671.74,3396671.74,0,null,488621.74,488621.73837209289,1.627907098736614E-3,null,5976.03,5976.0321715817736,-2.171581773836806E-3,null,340826.95,340826.95192880684,-1.9288068288005888E-3,null,117882.46,117882.46,0,null,0,0,0,null,0,0,0,null,0,0,0,null,45056,45056,0,null,0,0,0,null,0,0,0,null,0,0,0,null,4395034.92,4395034.9224724816,-2.4724816903471947E-3,null,0,0,0,null,4395034.92,4395034.9224724816,-2.4724816903471947E-3,null,0,null,0,null,null,null,0,null,null,null,0,null,743314.64,743314.63721171126,0,null,12705,0,12705,null,null,null,0,null,null,null,0,null,null,null,0,null,null,null,0,null,null,null,0,null,null,null,0,null,"NO",{"$f":"IF(ISERROR(VLOOKUP($A497+8860000,'Growth Data'!$A:$F,3,0)),\"NO\",VLOOKUP($A497+8860000,'Growth Data'!$A:$F,3,0))","v":"NO"},0,null,0,{"$f":"IF(DI497=\"YES\",IF(ISERROR(VLOOKUP($A497+8860000,'Growth Data'!$A:$F,6,0)),0,VLOOKUP($A497+8860000,'Growth Data'!$A:$F,6,0)),0)","v":0},0,null,0,{"$f":"IF(ISERROR(VLOOKUP($A497+8860000,'Growth Data'!$A:$Z,7,0)),0,VLOOKUP($A497+8860000,'Growth Data'!$A:$Z,7,0))","v":0},0,null,"NO",{"$f":"IF(ISERROR(VLOOKUP($A497+8860000,'Growth Data'!$A:$F,4,0)),\"NO\",VLOOKUP($A497+8860000,'Growth Data'!$A:$F,4,0))","v":"NO"},0,null,0,{"$f":"IF(ISERROR(VLOOKUP($A497+8860000,'Growth Data'!$A:$Z,8,0)),0,VLOOKUP($A497+8860000,'Growth Data'!$A:$Z,8,0))","v":0},0,null,0,{"$f":"IF(ISERROR(VLOOKUP($A497+8860000,'Growth Data'!$A:$Z,9,0)),0,VLOOKUP($A497+8860000,'Growth Data'!$A:$Z,9,0))","v":0},0,null,"NO",{"$f":"IF(ISERROR(VLOOKUP($A497+8860000,'Growth Data'!$A:$Z,5,0)),\"NO\",VLOOKUP($A497+8860000,'Growth Data'!$A:$Z,5,0))","v":"NO"},0,null,0,{"$f":"IF(ISERROR(VLOOKUP($A497+8860000,'Growth Data'!$A:$Z,10,0)),0,VLOOKUP($A497+8860000,'Growth Data'!$A:$Z,10,0))","v":0},0,null,0,{"$f":"IF(ISERROR(VLOOKUP($A497+8860000,'Growth Data'!$A:$Z,11,0)),0,VLOOKUP($A497+8860000,'Growth Data'!$A:$Z,11,0))","v":0},0]
[4024,"Stone Lodge School",null,"Stone Lodge School",null,1,null,1492872.19,1492872.1916666669,-1.6666669398546219E-3,null,143403.96,143403.95597222232,4.0277776715811342E-3,null,4289.87,4289.8693389592108,6.6104078905482311E-4,null,88761.78,88761.77628396322,3.7160367792239413E-3,null,117882.46,117882.46,0,null,0,0,0,null,67977.34,67977.337320034669,2.6799653278430924E-3,null,0,0,0,null,0,0,0,null,0,0,0,null,0,0,0,null,0,0,0,null,1915187.59,1915187.5905818462,-5.8184610679745674E-4,null,0,0,0,null,1915187.59,1915187.5905818462,-5.8184610679745674E-4,null,0,null,0,null,null,null,0,null,null,null,0,null,222945.81,222945.80711147972,0,null,6008.14,0,6008,null,null,null,0,null,null,null,0,null,null,null,0,null,null,null,0,null,null,null,0,null,null,null,0,null,"NO",{"$f":"IF(ISERROR(VLOOKUP($A498+8860000,'Growth Data'!$A:$F,3,0)),\"NO\",VLOOKUP($A498+8860000,'Growth Data'!$A:$F,3,0))","v":"NO"},0,null,0,{"$f":"IF(DI498=\"YES\",IF(ISERROR(VLOOKUP($A498+8860000,'Growth Data'!$A:$F,6,0)),0,VLOOKUP($A498+8860000,'Growth Data'!$A:$F,6,0)),0)","v":0},0,null,0,{"$f":"IF(ISERROR(VLOOKUP($A498+8860000,'Growth Data'!$A:$Z,7,0)),0,VLOOKUP($A498+8860000,'Growth Data'!$A:$Z,7,0))","v":0},0,null,"NO",{"$f":"IF(ISERROR(VLOOKUP($A498+8860000,'Growth Data'!$A:$F,4,0)),\"NO\",VLOOKUP($A498+8860000,'Growth Data'!$A:$F,4,0))","v":"NO"},0,null,0,{"$f":"IF(ISERROR(VLOOKUP($A498+8860000,'Growth Data'!$A:$Z,8,0)),0,VLOOKUP($A498+8860000,'Growth Data'!$A:$Z,8,0))","v":0},0,null,0,{"$f":"IF(ISERROR(VLOOKUP($A498+8860000,'Growth Data'!$A:$Z,9,0)),0,VLOOKUP($A498+8860000,'Growth Data'!$A:$Z,9,0))","v":0},0,null,"NO",{"$f":"IF(ISERROR(VLOOKUP($A498+8860000,'Growth Data'!$A:$Z,5,0)),\"NO\",VLOOKUP($A498+8860000,'Growth Data'!$A:$Z,5,0))","v":"NO"},0,null,0,{"$f":"IF(ISERROR(VLOOKUP($A498+8860000,'Growth Data'!$A:$Z,10,0)),0,VLOOKUP($A498+8860000,'Growth Data'!$A:$Z,10,0))","v":0},0,null,0,{"$f":"IF(ISERROR(VLOOKUP($A498+8860000,'Growth Data'!$A:$Z,11,0)),0,VLOOKUP($A498+8860000,'Growth Data'!$A:$Z,11,0))","v":0},0]
[4031,"Orchards Academy",null,"Orchards Academy",null,1,null,2457972.96,2457972.96,0,null,405483.97,405483.9683271377,1.6728622722439468E-3,null,11888.32,11888.320000000023,-2.3646862246096134E-11,null,246126.61,246126.61129035588,-1.2903558963444084E-3,null,117882.46,117882.46,0,null,0,0,0,null,119208.24,119208.23896192374,1.038076268741861E-3,null,0,0,0,null,15360,15360,0,null,0,0,0,null,0,0,0,null,0,0,0,null,3373922.56,3373922.5585794169,1.4205831103026867E-3,null,0,0,0,null,3373922.56,3373922.5585794169,1.4205831103026867E-3,null,0,null,0,null,null,null,0,null,null,null,0,null,616756.17000000004,616756.17130105093,0,null,9501.7999999999993,0,9502,null,null,null,0,null,null,null,0,null,null,null,0,null,null,null,0,null,null,null,0,null,null,null,0,null,"NO",{"$f":"IF(ISERROR(VLOOKUP($A499+8860000,'Growth Data'!$A:$F,3,0)),\"NO\",VLOOKUP($A499+8860000,'Growth Data'!$A:$F,3,0))","v":"NO"},0,null,0,{"$f":"IF(DI499=\"YES\",IF(ISERROR(VLOOKUP($A499+8860000,'Growth Data'!$A:$F,6,0)),0,VLOOKUP($A499+8860000,'Growth Data'!$A:$F,6,0)),0)","v":0},0,null,0,{"$f":"IF(ISERROR(VLOOKUP($A499+8860000,'Growth Data'!$A:$Z,7,0)),0,VLOOKUP($A499+8860000,'Growth Data'!$A:$Z,7,0))","v":0},0,null,"NO",{"$f":"IF(ISERROR(VLOOKUP($A499+8860000,'Growth Data'!$A:$F,4,0)),\"NO\",VLOOKUP($A499+8860000,'Growth Data'!$A:$F,4,0))","v":"NO"},0,null,0,{"$f":"IF(ISERROR(VLOOKUP($A499+8860000,'Growth Data'!$A:$Z,8,0)),0,VLOOKUP($A499+8860000,'Growth Data'!$A:$Z,8,0))","v":0},0,null,0,{"$f":"IF(ISERROR(VLOOKUP($A499+8860000,'Growth Data'!$A:$Z,9,0)),0,VLOOKUP($A499+8860000,'Growth Data'!$A:$Z,9,0))","v":0},0,null,"NO",{"$f":"IF(ISERROR(VLOOKUP($A499+8860000,'Growth Data'!$A:$Z,5,0)),\"NO\",VLOOKUP($A499+8860000,'Growth Data'!$A:$Z,5,0))","v":"NO"},0,null,0,{"$f":"IF(ISERROR(VLOOKUP($A499+8860000,'Growth Data'!$A:$Z,10,0)),0,VLOOKUP($A499+8860000,'Growth Data'!$A:$Z,10,0))","v":0},0,null,0,{"$f":"IF(ISERROR(VLOOKUP($A499+8860000,'Growth Data'!$A:$Z,11,0)),0,VLOOKUP($A499+8860000,'Growth Data'!$A:$Z,11,0))","v":0},0]
[4046,"Weald of Kent Grammar School",null,"Weald of Kent Grammar School",null,1,null,6604735.5599999996,6604735.5600000005,0,null,113525.26,113525.2569893035,3.0106964986771345E-3,null,17906.73,17906.730437196398,-4.3719639870687388E-4,null,15061.66,15061.656024691014,3.9753089859004831E-3,null,117882.46,117882.46,0,null,0,0,0,null,0,0,0,null,0,0,0,null,89642.95,89642.95,0,null,0,0,0,null,0,0,0,null,966393.34,966393.33654880873,3.4511912381276488E-3,null,7925147.9500000002,7925147.9500000002,0,null,0,0,0,null,7925147.9500000002,7925147.9500000002,0,null,0,null,0,null,null,null,0,null,null,null,0,null,1097650.33,1097650.3347392296,0,null,24512.18,0,24512,null,null,null,0,null,null,null,0,null,null,null,0,null,null,null,0,null,null,null,0,null,null,null,0,null,"NO",{"$f":"IF(ISERROR(VLOOKUP($A500+8860000,'Growth Data'!$A:$F,3,0)),\"NO\",VLOOKUP($A500+8860000,'Growth Data'!$A:$F,3,0))","v":"YES"},1,null,0,{"$f":"IF(DI500=\"YES\",IF(ISERROR(VLOOKUP($A500+8860000,'Growth Data'!$A:$F,6,0)),0,VLOOKUP($A500+8860000,'Growth Data'!$A:$F,6,0)),0)","v":232},-232,null,0,{"$f":"IF(ISERROR(VLOOKUP($A500+8860000,'Growth Data'!$A:$Z,7,0)),0,VLOOKUP($A500+8860000,'Growth Data'!$A:$Z,7,0))","v":300},1,null,"NO",{"$f":"IF(ISERROR(VLOOKUP($A500+8860000,'Growth Data'!$A:$F,4,0)),\"NO\",VLOOKUP($A500+8860000,'Growth Data'!$A:$F,4,0))","v":"NO"},0,null,0,{"$f":"IF(ISERROR(VLOOKUP($A500+8860000,'Growth Data'!$A:$Z,8,0)),0,VLOOKUP($A500+8860000,'Growth Data'!$A:$Z,8,0))","v":0},0,null,0,{"$f":"IF(ISERROR(VLOOKUP($A500+8860000,'Growth Data'!$A:$Z,9,0)),0,VLOOKUP($A500+8860000,'Growth Data'!$A:$Z,9,0))","v":0},0,null,"NO",{"$f":"IF(ISERROR(VLOOKUP($A500+8860000,'Growth Data'!$A:$Z,5,0)),\"NO\",VLOOKUP($A500+8860000,'Growth Data'!$A:$Z,5,0))","v":"NO"},0,null,0,{"$f":"IF(ISERROR(VLOOKUP($A500+8860000,'Growth Data'!$A:$Z,10,0)),0,VLOOKUP($A500+8860000,'Growth Data'!$A:$Z,10,0))","v":0},0,null,0,{"$f":"IF(ISERROR(VLOOKUP($A500+8860000,'Growth Data'!$A:$Z,11,0)),0,VLOOKUP($A500+8860000,'Growth Data'!$A:$Z,11,0))","v":0},0]
[4058,"Invicta Grammar School",null,"Invicta Grammar School",null,1,null,5608678.6399999997,5608678.6400000006,0,null,192514.74,192514.73610461823,3.8953817565925419E-3,null,16413.38,16413.378738738742,1.2612612590601202E-3,null,13356.6,13356.603012437025,-3.012437024153769E-3,null,117882.46,117882.46,0,null,0,0,0,null,0,0,0,null,0,0,0,null,37888,37888,0,null,0,0,0,null,0,0,0,null,689944.18,689944.18214420544,-2.1442053839564323E-3,null,6676678,6676677.9999999991,0,null,0,0,0,null,6676678,6676677.9999999991,0,null,0,null,0,null,null,null,0,null,null,null,0,null,891928.73,891928.73473922943,0,null,20768.439999999999,0,20768,null,null,null,0,null,null,null,0,null,null,null,0,null,null,null,0,null,null,null,0,null,null,null,0,null,"NO",{"$f":"IF(ISERROR(VLOOKUP($A501+8860000,'Growth Data'!$A:$F,3,0)),\"NO\",VLOOKUP($A501+8860000,'Growth Data'!$A:$F,3,0))","v":"NO"},0,null,0,{"$f":"IF(DI501=\"YES\",IF(ISERROR(VLOOKUP($A501+8860000,'Growth Data'!$A:$F,6,0)),0,VLOOKUP($A501+8860000,'Growth Data'!$A:$F,6,0)),0)","v":0},0,null,0,{"$f":"IF(ISERROR(VLOOKUP($A501+8860000,'Growth Data'!$A:$Z,7,0)),0,VLOOKUP($A501+8860000,'Growth Data'!$A:$Z,7,0))","v":0},0,null,"NO",{"$f":"IF(ISERROR(VLOOKUP($A501+8860000,'Growth Data'!$A:$F,4,0)),\"NO\",VLOOKUP($A501+8860000,'Growth Data'!$A:$F,4,0))","v":"NO"},0,null,0,{"$f":"IF(ISERROR(VLOOKUP($A501+8860000,'Growth Data'!$A:$Z,8,0)),0,VLOOKUP($A501+8860000,'Growth Data'!$A:$Z,8,0))","v":0},0,null,0,{"$f":"IF(ISERROR(VLOOKUP($A501+8860000,'Growth Data'!$A:$Z,9,0)),0,VLOOKUP($A501+8860000,'Growth Data'!$A:$Z,9,0))","v":0},0,null,"NO",{"$f":"IF(ISERROR(VLOOKUP($A501+8860000,'Growth Data'!$A:$Z,5,0)),\"NO\",VLOOKUP($A501+8860000,'Growth Data'!$A:$Z,5,0))","v":"NO"},0,null,0,{"$f":"IF(ISERROR(VLOOKUP($A501+8860000,'Growth Data'!$A:$Z,10,0)),0,VLOOKUP($A501+8860000,'Growth Data'!$A:$Z,10,0))","v":0},0,null,0,{"$f":"IF(ISERROR(VLOOKUP($A501+8860000,'Growth Data'!$A:$Z,11,0)),0,VLOOKUP($A501+8860000,'Growth Data'!$A:$Z,11,0))","v":0},0]
[4080,"Highsted Grammar School",null,"Highsted Grammar School",null,1,null,3202094.14,3202094.14,0,null,222514.41,222514.41074814799,-7.4814798426814377E-4,null,1486.04,1486.0399999999968,3.1832314562052488E-12,null,16065.61,16065.612694266689,-2.6942666881950572E-3,null,117882.46,117882.46,0,null,0,0,0,null,0,0,0,null,0,0,0,null,15462.4,15462.4,0,null,0,0,0,null,0,0,0,null,246702.34,246702.33655758522,3.4424147743266076E-3,null,3822207.4,3822207.4,0,null,0,0,0,null,3822207.4,3822207.4,0,null,0,null,0,null,null,null,0,null,null,null,0,null,467388.87,467388.87473922985,0,null,11908.82,0,11909,null,null,null,0,null,null,null,0,null,null,null,0,null,null,null,0,null,null,null,0,null,null,null,0,null,"NO",{"$f":"IF(ISERROR(VLOOKUP($A502+8860000,'Growth Data'!$A:$F,3,0)),\"NO\",VLOOKUP($A502+8860000,'Growth Data'!$A:$F,3,0))","v":"NO"},0,null,0,{"$f":"IF(DI502=\"YES\",IF(ISERROR(VLOOKUP($A502+8860000,'Growth Data'!$A:$F,6,0)),0,VLOOKUP($A502+8860000,'Growth Data'!$A:$F,6,0)),0)","v":0},0,null,0,{"$f":"IF(ISERROR(VLOOKUP($A502+8860000,'Growth Data'!$A:$Z,7,0)),0,VLOOKUP($A502+8860000,'Growth Data'!$A:$Z,7,0))","v":0},0,null,"NO",{"$f":"IF(ISERROR(VLOOKUP($A502+8860000,'Growth Data'!$A:$F,4,0)),\"NO\",VLOOKUP($A502+8860000,'Growth Data'!$A:$F,4,0))","v":"NO"},0,null,0,{"$f":"IF(ISERROR(VLOOKUP($A502+8860000,'Growth Data'!$A:$Z,8,0)),0,VLOOKUP($A502+8860000,'Growth Data'!$A:$Z,8,0))","v":0},0,null,0,{"$f":"IF(ISERROR(VLOOKUP($A502+8860000,'Growth Data'!$A:$Z,9,0)),0,VLOOKUP($A502+8860000,'Growth Data'!$A:$Z,9,0))","v":0},0,null,"NO",{"$f":"IF(ISERROR(VLOOKUP($A502+8860000,'Growth Data'!$A:$Z,5,0)),\"NO\",VLOOKUP($A502+8860000,'Growth Data'!$A:$Z,5,0))","v":"NO"},0,null,0,{"$f":"IF(ISERROR(VLOOKUP($A502+8860000,'Growth Data'!$A:$Z,10,0)),0,VLOOKUP($A502+8860000,'Growth Data'!$A:$Z,10,0))","v":0},0,null,0,{"$f":"IF(ISERROR(VLOOKUP($A502+8860000,'Growth Data'!$A:$Z,11,0)),0,VLOOKUP($A502+8860000,'Growth Data'!$A:$Z,11,0))","v":0},0]
[4091,"The Whitstable School",null,"The Whitstable School",null,1,null,3896888.96,3896888.96,0,null,340168.36,340168.36227456242,-2.2745624301023781E-3,null,1486.04,1486.0399999999991,0,null,299019.88,299019.87751311343,2.4868865730240941E-3,null,117882.46,117882.46,0,null,0,0,0,null,0,0,0,null,0,0,0,null,51018.06,51018.06,0,null,0,0,0,null,0,0,0,null,0,0,0,null,4706463.76,4706463.759787675,2.1232478320598602E-4,null,0,0,0,null,4706463.76,4706463.759787675,2.1232478320598602E-4,null,0,null,0,null,null,null,0,null,null,null,0,null,566516.67000000004,566516.67452690587,0,null,14517.58,0,14518,null,null,null,0,null,null,null,0,null,null,null,0,null,null,null,0,null,null,null,0,null,null,null,0,null,"NO",{"$f":"IF(ISERROR(VLOOKUP($A503+8860000,'Growth Data'!$A:$F,3,0)),\"NO\",VLOOKUP($A503+8860000,'Growth Data'!$A:$F,3,0))","v":"NO"},0,null,0,{"$f":"IF(DI503=\"YES\",IF(ISERROR(VLOOKUP($A503+8860000,'Growth Data'!$A:$F,6,0)),0,VLOOKUP($A503+8860000,'Growth Data'!$A:$F,6,0)),0)","v":0},0,null,0,{"$f":"IF(ISERROR(VLOOKUP($A503+8860000,'Growth Data'!$A:$Z,7,0)),0,VLOOKUP($A503+8860000,'Growth Data'!$A:$Z,7,0))","v":0},0,null,"NO",{"$f":"IF(ISERROR(VLOOKUP($A503+8860000,'Growth Data'!$A:$F,4,0)),\"NO\",VLOOKUP($A503+8860000,'Growth Data'!$A:$F,4,0))","v":"NO"},0,null,0,{"$f":"IF(ISERROR(VLOOKUP($A503+8860000,'Growth Data'!$A:$Z,8,0)),0,VLOOKUP($A503+8860000,'Growth Data'!$A:$Z,8,0))","v":0},0,null,0,{"$f":"IF(ISERROR(VLOOKUP($A503+8860000,'Growth Data'!$A:$Z,9,0)),0,VLOOKUP($A503+8860000,'Growth Data'!$A:$Z,9,0))","v":0},0,null,"NO",{"$f":"IF(ISERROR(VLOOKUP($A503+8860000,'Growth Data'!$A:$Z,5,0)),\"NO\",VLOOKUP($A503+8860000,'Growth Data'!$A:$Z,5,0))","v":"NO"},0,null,0,{"$f":"IF(ISERROR(VLOOKUP($A503+8860000,'Growth Data'!$A:$Z,10,0)),0,VLOOKUP($A503+8860000,'Growth Data'!$A:$Z,10,0))","v":0},0,null,0,{"$f":"IF(ISERROR(VLOOKUP($A503+8860000,'Growth Data'!$A:$Z,11,0)),0,VLOOKUP($A503+8860000,'Growth Data'!$A:$Z,11,0))","v":0},0]
[4092,"Highworth Grammar School",null,"Highworth Grammar School",null,1,null,4847584.62,4847584.62,0,null,155560.04999999999,155560.04551498123,4.4850187550764531E-3,null,22290.6,22290.599999999937,6.184563972055912E-11,null,17279.82,17279.824014718721,-4.0147187210095581E-3,null,117882.46,117882.46,0,null,0,0,0,null,0,0,0,null,0,0,0,null,38656,38656,0,null,0,0,0,null,0,0,0,null,584717.44999999995,584717.45047029993,-4.702999722212553E-4,null,5783971,5783971,0,null,0,0,0,null,5783971,5783971,0,null,0,null,0,null,null,null,0,null,null,null,0,null,764150.95,764150.95473922975,0,null,17973.34,0,17973,null,null,null,0,null,null,null,0,null,null,null,0,null,null,null,0,null,null,null,0,null,null,null,0,null,"NO",{"$f":"IF(ISERROR(VLOOKUP($A504+8860000,'Growth Data'!$A:$F,3,0)),\"NO\",VLOOKUP($A504+8860000,'Growth Data'!$A:$F,3,0))","v":"NO"},0,null,0,{"$f":"IF(DI504=\"YES\",IF(ISERROR(VLOOKUP($A504+8860000,'Growth Data'!$A:$F,6,0)),0,VLOOKUP($A504+8860000,'Growth Data'!$A:$F,6,0)),0)","v":0},0,null,0,{"$f":"IF(ISERROR(VLOOKUP($A504+8860000,'Growth Data'!$A:$Z,7,0)),0,VLOOKUP($A504+8860000,'Growth Data'!$A:$Z,7,0))","v":0},0,null,"NO",{"$f":"IF(ISERROR(VLOOKUP($A504+8860000,'Growth Data'!$A:$F,4,0)),\"NO\",VLOOKUP($A504+8860000,'Growth Data'!$A:$F,4,0))","v":"NO"},0,null,0,{"$f":"IF(ISERROR(VLOOKUP($A504+8860000,'Growth Data'!$A:$Z,8,0)),0,VLOOKUP($A504+8860000,'Growth Data'!$A:$Z,8,0))","v":0},0,null,0,{"$f":"IF(ISERROR(VLOOKUP($A504+8860000,'Growth Data'!$A:$Z,9,0)),0,VLOOKUP($A504+8860000,'Growth Data'!$A:$Z,9,0))","v":0},0,null,"NO",{"$f":"IF(ISERROR(VLOOKUP($A504+8860000,'Growth Data'!$A:$Z,5,0)),\"NO\",VLOOKUP($A504+8860000,'Growth Data'!$A:$Z,5,0))","v":"NO"},0,null,0,{"$f":"IF(ISERROR(VLOOKUP($A504+8860000,'Growth Data'!$A:$Z,10,0)),0,VLOOKUP($A504+8860000,'Growth Data'!$A:$Z,10,0))","v":0},0,null,0,{"$f":"IF(ISERROR(VLOOKUP($A504+8860000,'Growth Data'!$A:$Z,11,0)),0,VLOOKUP($A504+8860000,'Growth Data'!$A:$Z,11,0))","v":0},0]
[4101,"The Harvey Grammar School",null,"The Harvey Grammar School",null,1,null,3574857.8,3574857.8,0,null,223065.61,223065.60703608251,2.9639174754265696E-3,null,4463.8599999999997,4463.8576061776048,2.3938223948789528E-3,null,21592.5,21592.495872096235,4.1279037650383543E-3,null,117882.46,117882.46,0,null,0,0,0,null,0,0,0,null,0,0,0,null,36198.400000000001,36198.400000000001,0,null,0,0,0,null,0,0,0,null,271007.78000000003,271007.77948564378,5.1435624482110143E-4,null,4249068.4000000004,4249068.3999999994,0,null,0,0,0,null,4249068.4000000004,4249068.3999999994,0,null,0,null,0,null,null,null,0,null,null,null,0,null,496147.01,496147.01473923004,0,null,13179.32,0,13179,null,null,null,0,null,null,null,0,null,null,null,0,null,null,null,0,null,null,null,0,null,null,null,0,null,"NO",{"$f":"IF(ISERROR(VLOOKUP($A505+8860000,'Growth Data'!$A:$F,3,0)),\"NO\",VLOOKUP($A505+8860000,'Growth Data'!$A:$F,3,0))","v":"NO"},0,null,0,{"$f":"IF(DI505=\"YES\",IF(ISERROR(VLOOKUP($A505+8860000,'Growth Data'!$A:$F,6,0)),0,VLOOKUP($A505+8860000,'Growth Data'!$A:$F,6,0)),0)","v":0},0,null,0,{"$f":"IF(ISERROR(VLOOKUP($A505+8860000,'Growth Data'!$A:$Z,7,0)),0,VLOOKUP($A505+8860000,'Growth Data'!$A:$Z,7,0))","v":0},0,null,"NO",{"$f":"IF(ISERROR(VLOOKUP($A505+8860000,'Growth Data'!$A:$F,4,0)),\"NO\",VLOOKUP($A505+8860000,'Growth Data'!$A:$F,4,0))","v":"NO"},0,null,0,{"$f":"IF(ISERROR(VLOOKUP($A505+8860000,'Growth Data'!$A:$Z,8,0)),0,VLOOKUP($A505+8860000,'Growth Data'!$A:$Z,8,0))","v":0},0,null,0,{"$f":"IF(ISERROR(VLOOKUP($A505+8860000,'Growth Data'!$A:$Z,9,0)),0,VLOOKUP($A505+8860000,'Growth Data'!$A:$Z,9,0))","v":0},0,null,"NO",{"$f":"IF(ISERROR(VLOOKUP($A505+8860000,'Growth Data'!$A:$Z,5,0)),\"NO\",VLOOKUP($A505+8860000,'Growth Data'!$A:$Z,5,0))","v":"NO"},0,null,0,{"$f":"IF(ISERROR(VLOOKUP($A505+8860000,'Growth Data'!$A:$Z,10,0)),0,VLOOKUP($A505+8860000,'Growth Data'!$A:$Z,10,0))","v":0},0,null,0,{"$f":"IF(ISERROR(VLOOKUP($A505+8860000,'Growth Data'!$A:$Z,11,0)),0,VLOOKUP($A505+8860000,'Growth Data'!$A:$Z,11,0))","v":0},0]
[4113,"Astor College (A Specialist College for the Arts)",null,"Astor College (A Specialist College for the Arts)",null,1,null,3053374.66,3053374.66,0,null,571933.07999999996,571933.07760522491,2.3947750451043248E-3,null,22357.74,22357.740361445751,-3.6144574914942496E-4,null,315949.94,315949.941978499,-1.9784989999607205E-3,null,117882.46,117882.46,0,null,0,0,0,null,0,0,0,null,0,0,0,null,37328.629999999997,37328.629999999997,0,null,0,0,0,null,0,0,0,null,0,0,0,null,4118826.51,4118826.5099451696,5.4830219596624374E-5,null,0,0,0,null,4118826.51,4118826.5099451696,5.4830219596624374E-5,null,0,null,0,null,null,null,0,null,null,null,0,null,809844.91,809844.91468439973,0,null,11282.04,0,11282,null,null,null,0,null,null,null,0,null,null,null,0,null,null,null,0,null,null,null,0,null,null,null,0,null,"NO",{"$f":"IF(ISERROR(VLOOKUP($A506+8860000,'Growth Data'!$A:$F,3,0)),\"NO\",VLOOKUP($A506+8860000,'Growth Data'!$A:$F,3,0))","v":"NO"},0,null,0,{"$f":"IF(DI506=\"YES\",IF(ISERROR(VLOOKUP($A506+8860000,'Growth Data'!$A:$F,6,0)),0,VLOOKUP($A506+8860000,'Growth Data'!$A:$F,6,0)),0)","v":0},0,null,0,{"$f":"IF(ISERROR(VLOOKUP($A506+8860000,'Growth Data'!$A:$Z,7,0)),0,VLOOKUP($A506+8860000,'Growth Data'!$A:$Z,7,0))","v":0},0,null,"NO",{"$f":"IF(ISERROR(VLOOKUP($A506+8860000,'Growth Data'!$A:$F,4,0)),\"NO\",VLOOKUP($A506+8860000,'Growth Data'!$A:$F,4,0))","v":"NO"},0,null,0,{"$f":"IF(ISERROR(VLOOKUP($A506+8860000,'Growth Data'!$A:$Z,8,0)),0,VLOOKUP($A506+8860000,'Growth Data'!$A:$Z,8,0))","v":0},0,null,0,{"$f":"IF(ISERROR(VLOOKUP($A506+8860000,'Growth Data'!$A:$Z,9,0)),0,VLOOKUP($A506+8860000,'Growth Data'!$A:$Z,9,0))","v":0},0,null,"NO",{"$f":"IF(ISERROR(VLOOKUP($A506+8860000,'Growth Data'!$A:$Z,5,0)),\"NO\",VLOOKUP($A506+8860000,'Growth Data'!$A:$Z,5,0))","v":"NO"},0,null,0,{"$f":"IF(ISERROR(VLOOKUP($A506+8860000,'Growth Data'!$A:$Z,10,0)),0,VLOOKUP($A506+8860000,'Growth Data'!$A:$Z,10,0))","v":0},0,null,0,{"$f":"IF(ISERROR(VLOOKUP($A506+8860000,'Growth Data'!$A:$Z,11,0)),0,VLOOKUP($A506+8860000,'Growth Data'!$A:$Z,11,0))","v":0},0]
[4120,"King Ethelbert School",null,"King Ethelbert School",null,1,null,3492836.48,3492836.48,0,null,361344.04,361344.04474375804,-4.7437580651603639E-3,null,14860.4,14860.400000000007,0,null,344080.24,344080.23998774553,1.2254458852112293E-5,null,117882.46,117882.46,0,null,0,0,0,null,0,0,0,null,0,0,0,null,31488,31488,0,null,0,0,0,null,0,0,0,null,0,0,0,null,4362491.62,4362491.6247315034,-4.7315033152699471E-3,null,0,0,0,null,4362491.62,4362491.6247315034,-4.7315033152699471E-3,null,0,null,0,null,null,null,0,null,null,null,0,null,661317.64,661317.63947073347,0,null,12908.28,0,12908,null,null,null,0,null,null,null,0,null,null,null,0,null,null,null,0,null,null,null,0,null,null,null,0,null,"NO",{"$f":"IF(ISERROR(VLOOKUP($A507+8860000,'Growth Data'!$A:$F,3,0)),\"NO\",VLOOKUP($A507+8860000,'Growth Data'!$A:$F,3,0))","v":"NO"},0,null,0,{"$f":"IF(DI507=\"YES\",IF(ISERROR(VLOOKUP($A507+8860000,'Growth Data'!$A:$F,6,0)),0,VLOOKUP($A507+8860000,'Growth Data'!$A:$F,6,0)),0)","v":0},0,null,0,{"$f":"IF(ISERROR(VLOOKUP($A507+8860000,'Growth Data'!$A:$Z,7,0)),0,VLOOKUP($A507+8860000,'Growth Data'!$A:$Z,7,0))","v":0},0,null,"NO",{"$f":"IF(ISERROR(VLOOKUP($A507+8860000,'Growth Data'!$A:$F,4,0)),\"NO\",VLOOKUP($A507+8860000,'Growth Data'!$A:$F,4,0))","v":"NO"},0,null,0,{"$f":"IF(ISERROR(VLOOKUP($A507+8860000,'Growth Data'!$A:$Z,8,0)),0,VLOOKUP($A507+8860000,'Growth Data'!$A:$Z,8,0))","v":0},0,null,0,{"$f":"IF(ISERROR(VLOOKUP($A507+8860000,'Growth Data'!$A:$Z,9,0)),0,VLOOKUP($A507+8860000,'Growth Data'!$A:$Z,9,0))","v":0},0,null,"NO",{"$f":"IF(ISERROR(VLOOKUP($A507+8860000,'Growth Data'!$A:$Z,5,0)),\"NO\",VLOOKUP($A507+8860000,'Growth Data'!$A:$Z,5,0))","v":"NO"},0,null,0,{"$f":"IF(ISERROR(VLOOKUP($A507+8860000,'Growth Data'!$A:$Z,10,0)),0,VLOOKUP($A507+8860000,'Growth Data'!$A:$Z,10,0))","v":0},0,null,0,{"$f":"IF(ISERROR(VLOOKUP($A507+8860000,'Growth Data'!$A:$Z,11,0)),0,VLOOKUP($A507+8860000,'Growth Data'!$A:$Z,11,0))","v":0},0]
[4172,"Hartsdown Academy",null,"Hartsdown Academy",null,1,null,2958744.56,2958744.56,0,null,743608.35,743608.35000000009,0,null,31547.63,31547.632324492981,-2.3244929798238445E-3,null,404122.49,404122.48930123303,6.9876696215942502E-4,null,117882.46,117882.46,0,null,0,0,0,null,0,0,0,null,0,0,0,null,42035.199999999997,42035.199999999997,0,null,0,0,0,null,0,0,0,null,0,0,0,null,4297940.6900000004,4297940.6916257264,-1.6257259994745255E-3,null,0,0,0,null,4297940.6900000004,4297940.6916257264,-1.6257259994745255E-3,null,0,null,0,null,null,null,0,null,null,null,0,null,1033310.95,1033310.9463649561,0,null,10977.12,0,10977,null,null,null,0,null,null,null,0,null,null,null,0,null,null,null,0,null,null,null,0,null,null,null,0,null,"NO",{"$f":"IF(ISERROR(VLOOKUP($A508+8860000,'Growth Data'!$A:$F,3,0)),\"NO\",VLOOKUP($A508+8860000,'Growth Data'!$A:$F,3,0))","v":"NO"},0,null,0,{"$f":"IF(DI508=\"YES\",IF(ISERROR(VLOOKUP($A508+8860000,'Growth Data'!$A:$F,6,0)),0,VLOOKUP($A508+8860000,'Growth Data'!$A:$F,6,0)),0)","v":0},0,null,0,{"$f":"IF(ISERROR(VLOOKUP($A508+8860000,'Growth Data'!$A:$Z,7,0)),0,VLOOKUP($A508+8860000,'Growth Data'!$A:$Z,7,0))","v":0},0,null,"NO",{"$f":"IF(ISERROR(VLOOKUP($A508+8860000,'Growth Data'!$A:$F,4,0)),\"NO\",VLOOKUP($A508+8860000,'Growth Data'!$A:$F,4,0))","v":"NO"},0,null,0,{"$f":"IF(ISERROR(VLOOKUP($A508+8860000,'Growth Data'!$A:$Z,8,0)),0,VLOOKUP($A508+8860000,'Growth Data'!$A:$Z,8,0))","v":0},0,null,0,{"$f":"IF(ISERROR(VLOOKUP($A508+8860000,'Growth Data'!$A:$Z,9,0)),0,VLOOKUP($A508+8860000,'Growth Data'!$A:$Z,9,0))","v":0},0,null,"NO",{"$f":"IF(ISERROR(VLOOKUP($A508+8860000,'Growth Data'!$A:$Z,5,0)),\"NO\",VLOOKUP($A508+8860000,'Growth Data'!$A:$Z,5,0))","v":"NO"},0,null,0,{"$f":"IF(ISERROR(VLOOKUP($A508+8860000,'Growth Data'!$A:$Z,10,0)),0,VLOOKUP($A508+8860000,'Growth Data'!$A:$Z,10,0))","v":0},0,null,0,{"$f":"IF(ISERROR(VLOOKUP($A508+8860000,'Growth Data'!$A:$Z,11,0)),0,VLOOKUP($A508+8860000,'Growth Data'!$A:$Z,11,0))","v":0},0]
[4196,"Towers School and Sixth Form Centre",null,"Towers School and Sixth Form Centre",null,1,null,5142606.58,5142606.58,0,null,500071.24,500071.23702970298,2.9702970059588552E-3,null,16404.509999999998,16404.509058614571,9.4138542772270739E-4,null,519401.19,519401.19074828998,-7.4828998185694218E-4,null,117882.46,117882.46,0,null,0,0,0,null,0,0,0,null,0,0,0,null,43520,43520,0,null,0,0,0,null,0,0,0,null,0,0,0,null,6339885.9800000004,6339885.9768366078,3.1633926555514336E-3,null,0,0,0,null,6339885.9800000004,6339885.9768366078,3.1633926555514336E-3,null,0,null,0,null,null,null,0,null,null,null,0,null,933639.81,933639.81157583755,0,null,19142.2,0,19142,null,null,null,0,null,null,null,0,null,null,null,0,null,null,null,0,null,null,null,0,null,null,null,0,null,"NO",{"$f":"IF(ISERROR(VLOOKUP($A509+8860000,'Growth Data'!$A:$F,3,0)),\"NO\",VLOOKUP($A509+8860000,'Growth Data'!$A:$F,3,0))","v":"NO"},0,null,0,{"$f":"IF(DI509=\"YES\",IF(ISERROR(VLOOKUP($A509+8860000,'Growth Data'!$A:$F,6,0)),0,VLOOKUP($A509+8860000,'Growth Data'!$A:$F,6,0)),0)","v":0},0,null,0,{"$f":"IF(ISERROR(VLOOKUP($A509+8860000,'Growth Data'!$A:$Z,7,0)),0,VLOOKUP($A509+8860000,'Growth Data'!$A:$Z,7,0))","v":0},0,null,"NO",{"$f":"IF(ISERROR(VLOOKUP($A509+8860000,'Growth Data'!$A:$F,4,0)),\"NO\",VLOOKUP($A509+8860000,'Growth Data'!$A:$F,4,0))","v":"NO"},0,null,0,{"$f":"IF(ISERROR(VLOOKUP($A509+8860000,'Growth Data'!$A:$Z,8,0)),0,VLOOKUP($A509+8860000,'Growth Data'!$A:$Z,8,0))","v":0},0,null,0,{"$f":"IF(ISERROR(VLOOKUP($A509+8860000,'Growth Data'!$A:$Z,9,0)),0,VLOOKUP($A509+8860000,'Growth Data'!$A:$Z,9,0))","v":0},0,null,"NO",{"$f":"IF(ISERROR(VLOOKUP($A509+8860000,'Growth Data'!$A:$Z,5,0)),\"NO\",VLOOKUP($A509+8860000,'Growth Data'!$A:$Z,5,0))","v":"NO"},0,null,0,{"$f":"IF(ISERROR(VLOOKUP($A509+8860000,'Growth Data'!$A:$Z,10,0)),0,VLOOKUP($A509+8860000,'Growth Data'!$A:$Z,10,0))","v":0},0,null,0,{"$f":"IF(ISERROR(VLOOKUP($A509+8860000,'Growth Data'!$A:$Z,11,0)),0,VLOOKUP($A509+8860000,'Growth Data'!$A:$Z,11,0))","v":0},0]
[4242,"The Abbey School",null,"The Abbey School",null,1,null,4643241.12,4643241.12,0,null,611290.22,611290.21659431688,3.4056830918416381E-3,null,10402.280000000001,10402.280000000001,0,null,441072.51,441072.51191165869,-1.9116586772724986E-3,null,117882.46,117882.46,0,null,0,0,0,null,0,0,0,null,0,0,0,null,42030.080000000002,42030.080000000002,0,null,0,0,0,null,0,0,0,null,0,0,0,null,5865918.6699999999,5865918.668505976,1.4940239489078522E-3,null,0,0,0,null,5865918.6699999999,5865918.668505976,1.4940239489078522E-3,null,0,null,0,null,null,null,0,null,null,null,0,null,940273.8,940273.80324520555,0,null,17126.34,0,17126,null,null,null,0,null,null,null,0,null,null,null,0,null,null,null,0,null,null,null,0,null,null,null,0,null,"NO",{"$f":"IF(ISERROR(VLOOKUP($A510+8860000,'Growth Data'!$A:$F,3,0)),\"NO\",VLOOKUP($A510+8860000,'Growth Data'!$A:$F,3,0))","v":"NO"},0,null,0,{"$f":"IF(DI510=\"YES\",IF(ISERROR(VLOOKUP($A510+8860000,'Growth Data'!$A:$F,6,0)),0,VLOOKUP($A510+8860000,'Growth Data'!$A:$F,6,0)),0)","v":0},0,null,0,{"$f":"IF(ISERROR(VLOOKUP($A510+8860000,'Growth Data'!$A:$Z,7,0)),0,VLOOKUP($A510+8860000,'Growth Data'!$A:$Z,7,0))","v":0},0,null,"NO",{"$f":"IF(ISERROR(VLOOKUP($A510+8860000,'Growth Data'!$A:$F,4,0)),\"NO\",VLOOKUP($A510+8860000,'Growth Data'!$A:$F,4,0))","v":"NO"},0,null,0,{"$f":"IF(ISERROR(VLOOKUP($A510+8860000,'Growth Data'!$A:$Z,8,0)),0,VLOOKUP($A510+8860000,'Growth Data'!$A:$Z,8,0))","v":0},0,null,0,{"$f":"IF(ISERROR(VLOOKUP($A510+8860000,'Growth Data'!$A:$Z,9,0)),0,VLOOKUP($A510+8860000,'Growth Data'!$A:$Z,9,0))","v":0},0,null,"NO",{"$f":"IF(ISERROR(VLOOKUP($A510+8860000,'Growth Data'!$A:$Z,5,0)),\"NO\",VLOOKUP($A510+8860000,'Growth Data'!$A:$Z,5,0))","v":"NO"},0,null,0,{"$f":"IF(ISERROR(VLOOKUP($A510+8860000,'Growth Data'!$A:$Z,10,0)),0,VLOOKUP($A510+8860000,'Growth Data'!$A:$Z,10,0))","v":0},0,null,0,{"$f":"IF(ISERROR(VLOOKUP($A510+8860000,'Growth Data'!$A:$Z,11,0)),0,VLOOKUP($A510+8860000,'Growth Data'!$A:$Z,11,0))","v":0},0]
[4249,"Valley Park School",null,"Valley Park School",null,1,null,6157525.8799999999,6157525.8800000008,0,null,286734.05,286734.05224610819,-2.2461081971414387E-3,null,29720.799999999999,29720.800000000047,-4.7293724492192268E-11,null,503032.15,503032.15230927215,-2.3092721239663661E-3,null,117882.46,117882.46,0,null,0,0,0,null,0,0,0,null,0,0,0,null,40192,40192,0,null,0,0,0,null,0,0,0,null,177449.66,177449.65544461878,4.5553812233265489E-3,null,7312537,7312537,0,null,0,0,0,null,7312537,7312537,0,null,0,null,0,null,null,null,0,null,null,null,0,null,936128.33,936128.33473922906,0,null,22750.42,0,22750,null,null,null,0,null,null,null,0,null,null,null,0,null,null,null,0,null,null,null,0,null,null,null,0,null,"NO",{"$f":"IF(ISERROR(VLOOKUP($A511+8860000,'Growth Data'!$A:$F,3,0)),\"NO\",VLOOKUP($A511+8860000,'Growth Data'!$A:$F,3,0))","v":"NO"},0,null,0,{"$f":"IF(DI511=\"YES\",IF(ISERROR(VLOOKUP($A511+8860000,'Growth Data'!$A:$F,6,0)),0,VLOOKUP($A511+8860000,'Growth Data'!$A:$F,6,0)),0)","v":0},0,null,0,{"$f":"IF(ISERROR(VLOOKUP($A511+8860000,'Growth Data'!$A:$Z,7,0)),0,VLOOKUP($A511+8860000,'Growth Data'!$A:$Z,7,0))","v":0},0,null,"NO",{"$f":"IF(ISERROR(VLOOKUP($A511+8860000,'Growth Data'!$A:$F,4,0)),\"NO\",VLOOKUP($A511+8860000,'Growth Data'!$A:$F,4,0))","v":"NO"},0,null,0,{"$f":"IF(ISERROR(VLOOKUP($A511+8860000,'Growth Data'!$A:$Z,8,0)),0,VLOOKUP($A511+8860000,'Growth Data'!$A:$Z,8,0))","v":0},0,null,0,{"$f":"IF(ISERROR(VLOOKUP($A511+8860000,'Growth Data'!$A:$Z,9,0)),0,VLOOKUP($A511+8860000,'Growth Data'!$A:$Z,9,0))","v":0},0,null,"NO",{"$f":"IF(ISERROR(VLOOKUP($A511+8860000,'Growth Data'!$A:$Z,5,0)),\"NO\",VLOOKUP($A511+8860000,'Growth Data'!$A:$Z,5,0))","v":"NO"},0,null,0,{"$f":"IF(ISERROR(VLOOKUP($A511+8860000,'Growth Data'!$A:$Z,10,0)),0,VLOOKUP($A511+8860000,'Growth Data'!$A:$Z,10,0))","v":0},0,null,0,{"$f":"IF(ISERROR(VLOOKUP($A511+8860000,'Growth Data'!$A:$Z,11,0)),0,VLOOKUP($A511+8860000,'Growth Data'!$A:$Z,11,0))","v":0},0]
[4527,"Borden Grammar School",null,"Borden Grammar School",null,1,null,2883034.36,2883034.36,0,null,183372.26,183372.2631653542,-3.1653541955165565E-3,null,1486.04,1486.0399999999961,3.865352482534945E-12,null,11059.07,11059.070799496951,-7.9949695100367535E-4,null,117882.46,117882.46,0,null,0,0,0,null,0,0,0,null,0,0,0,null,18432,18432,0,null,0,0,0,null,0,0,0,null,209200.81,209200.80603514897,3.9648510282859206E-3,null,3424467,3424467,0,null,0,0,0,null,3424467,3424467,0,null,0,null,0,null,null,null,0,null,null,null,0,null,391262.49,391262.49473923008,0,null,10655.26,0,10655,null,null,null,0,null,null,null,0,null,null,null,0,null,null,null,0,null,null,null,0,null,null,null,0,null,"NO",{"$f":"IF(ISERROR(VLOOKUP($A512+8860000,'Growth Data'!$A:$F,3,0)),\"NO\",VLOOKUP($A512+8860000,'Growth Data'!$A:$F,3,0))","v":"NO"},0,null,0,{"$f":"IF(DI512=\"YES\",IF(ISERROR(VLOOKUP($A512+8860000,'Growth Data'!$A:$F,6,0)),0,VLOOKUP($A512+8860000,'Growth Data'!$A:$F,6,0)),0)","v":0},0,null,0,{"$f":"IF(ISERROR(VLOOKUP($A512+8860000,'Growth Data'!$A:$Z,7,0)),0,VLOOKUP($A512+8860000,'Growth Data'!$A:$Z,7,0))","v":0},0,null,"NO",{"$f":"IF(ISERROR(VLOOKUP($A512+8860000,'Growth Data'!$A:$F,4,0)),\"NO\",VLOOKUP($A512+8860000,'Growth Data'!$A:$F,4,0))","v":"NO"},0,null,0,{"$f":"IF(ISERROR(VLOOKUP($A512+8860000,'Growth Data'!$A:$Z,8,0)),0,VLOOKUP($A512+8860000,'Growth Data'!$A:$Z,8,0))","v":0},0,null,0,{"$f":"IF(ISERROR(VLOOKUP($A512+8860000,'Growth Data'!$A:$Z,9,0)),0,VLOOKUP($A512+8860000,'Growth Data'!$A:$Z,9,0))","v":0},0,null,"NO",{"$f":"IF(ISERROR(VLOOKUP($A512+8860000,'Growth Data'!$A:$Z,5,0)),\"NO\",VLOOKUP($A512+8860000,'Growth Data'!$A:$Z,5,0))","v":"NO"},0,null,0,{"$f":"IF(ISERROR(VLOOKUP($A512+8860000,'Growth Data'!$A:$Z,10,0)),0,VLOOKUP($A512+8860000,'Growth Data'!$A:$Z,10,0))","v":0},0,null,0,{"$f":"IF(ISERROR(VLOOKUP($A512+8860000,'Growth Data'!$A:$Z,11,0)),0,VLOOKUP($A512+8860000,'Growth Data'!$A:$Z,11,0))","v":0},0]
[4528,"The Norton Knatchbull School",null,"The Norton Knatchbull School",null,1,null,4498388.84,4498388.84,0,null,141484.45000000001,141484.45277185497,-2.7718549536075443E-3,null,14860.4,14860.399999999947,5.2750692702829838E-11,null,33625.31,33625.307953400006,2.046599991444964E-3,null,117882.46,117882.46,0,null,0,0,0,null,0,0,0,null,0,0,0,null,36096,36096,0,null,0,0,0,null,0,0,0,null,511288.54,511288.53927474533,7.2525464929640293E-4,null,5353626,5353626,0,null,0,0,0,null,5353626,5353626,0,null,0,null,0,null,null,null,0,null,null,null,0,null,687863.33,687863.33473923022,0,null,16635.080000000002,0,16635,null,null,null,0,null,null,null,0,null,null,null,0,null,null,null,0,null,null,null,0,null,null,null,0,null,"NO",{"$f":"IF(ISERROR(VLOOKUP($A513+8860000,'Growth Data'!$A:$F,3,0)),\"NO\",VLOOKUP($A513+8860000,'Growth Data'!$A:$F,3,0))","v":"NO"},0,null,0,{"$f":"IF(DI513=\"YES\",IF(ISERROR(VLOOKUP($A513+8860000,'Growth Data'!$A:$F,6,0)),0,VLOOKUP($A513+8860000,'Growth Data'!$A:$F,6,0)),0)","v":0},0,null,0,{"$f":"IF(ISERROR(VLOOKUP($A513+8860000,'Growth Data'!$A:$Z,7,0)),0,VLOOKUP($A513+8860000,'Growth Data'!$A:$Z,7,0))","v":0},0,null,"NO",{"$f":"IF(ISERROR(VLOOKUP($A513+8860000,'Growth Data'!$A:$F,4,0)),\"NO\",VLOOKUP($A513+8860000,'Growth Data'!$A:$F,4,0))","v":"NO"},0,null,0,{"$f":"IF(ISERROR(VLOOKUP($A513+8860000,'Growth Data'!$A:$Z,8,0)),0,VLOOKUP($A513+8860000,'Growth Data'!$A:$Z,8,0))","v":0},0,null,0,{"$f":"IF(ISERROR(VLOOKUP($A513+8860000,'Growth Data'!$A:$Z,9,0)),0,VLOOKUP($A513+8860000,'Growth Data'!$A:$Z,9,0))","v":0},0,null,"NO",{"$f":"IF(ISERROR(VLOOKUP($A513+8860000,'Growth Data'!$A:$Z,5,0)),\"NO\",VLOOKUP($A513+8860000,'Growth Data'!$A:$Z,5,0))","v":"NO"},0,null,0,{"$f":"IF(ISERROR(VLOOKUP($A513+8860000,'Growth Data'!$A:$Z,10,0)),0,VLOOKUP($A513+8860000,'Growth Data'!$A:$Z,10,0))","v":0},0,null,0,{"$f":"IF(ISERROR(VLOOKUP($A513+8860000,'Growth Data'!$A:$Z,11,0)),0,VLOOKUP($A513+8860000,'Growth Data'!$A:$Z,11,0))","v":0},0]
[4633,"Ursuline College",null,"Ursuline College",null,{"$f":"IF(E514=D514,0,1)","v":1},null,3543187.16,3543187.16,{"$f":"H514-I514","v":0},null,426012.67,426012.6714804846,{"$f":"L514-M514","v":-1.480484614148736E-3},null,16346.44,16346.440000000002,{"$f":"P514-Q514","v":0},null,345736.41,345736.414563664,{"$f":"T514-U514","v":-4.5636640279553831E-3},null,117882.46,117882.46,{"$f":"X514-Y514","v":0},null,0,0,{"$f":"AB514-AC514","v":0},null,0,0,{"$f":"AF514-AG514","v":0},null,0,0,{"$f":"AJ514-AK514","v":0},null,34823.68,34823.68,{"$f":"AN514-AO514","v":0},null,0,0,{"$f":"AR514-AS514","v":0},null,0,0,{"$f":"AV514-AW514","v":0},null,0,0,{"$f":"AZ514-BA514","v":0},null,4483988.83,4483988.8260441488,{"$f":"BD514-BE514","v":3.9558513090014458E-3},null,0,0,{"$f":"BH514-BI514","v":0},null,4483988.83,4483988.8260441488,{"$f":"BL514-BM514","v":3.9558513090014458E-3},null,0,null,{"$f":"BP514-BQ514","v":0},null,null,null,{"$f":"BT514-BU514","v":0},null,null,null,0,null,730969.76,730969.76078337838,0,null,13196.26,0,13196,null,null,null,0,null,null,null,0,null,null,null,0,null,null,null,0,null,null,null,0,null,null,null,0,null,"NO",{"$f":"IF(ISERROR(VLOOKUP($A514+8860000,'Growth Data'!$A:$F,3,0)),\"NO\",VLOOKUP($A514+8860000,'Growth Data'!$A:$F,3,0))","v":"YES"},1,null,0,{"$f":"IF(DI514=\"YES\",IF(ISERROR(VLOOKUP($A514+8860000,'Growth Data'!$A:$F,6,0)),0,VLOOKUP($A514+8860000,'Growth Data'!$A:$F,6,0)),0)","v":120},-120,null,0,{"$f":"IF(ISERROR(VLOOKUP($A514+8860000,'Growth Data'!$A:$Z,7,0)),0,VLOOKUP($A514+8860000,'Growth Data'!$A:$Z,7,0))","v":150},1,null,"NO",{"$f":"IF(ISERROR(VLOOKUP($A514+8860000,'Growth Data'!$A:$F,4,0)),\"NO\",VLOOKUP($A514+8860000,'Growth Data'!$A:$F,4,0))","v":"NO"},0,null,0,{"$f":"IF(ISERROR(VLOOKUP($A514+8860000,'Growth Data'!$A:$Z,8,0)),0,VLOOKUP($A514+8860000,'Growth Data'!$A:$Z,8,0))","v":0},0,null,0,{"$f":"IF(ISERROR(VLOOKUP($A514+8860000,'Growth Data'!$A:$Z,9,0)),0,VLOOKUP($A514+8860000,'Growth Data'!$A:$Z,9,0))","v":0},0,null,"NO",{"$f":"IF(ISERROR(VLOOKUP($A514+8860000,'Growth Data'!$A:$Z,5,0)),\"NO\",VLOOKUP($A514+8860000,'Growth Data'!$A:$Z,5,0))","v":"NO"},0,null,0,{"$f":"IF(ISERROR(VLOOKUP($A514+8860000,'Growth Data'!$A:$Z,10,0)),0,VLOOKUP($A514+8860000,'Growth Data'!$A:$Z,10,0))","v":0},0,null,0,{"$f":"IF(ISERROR(VLOOKUP($A514+8860000,'Growth Data'!$A:$Z,11,0)),0,VLOOKUP($A514+8860000,'Growth Data'!$A:$Z,11,0))","v":0},0]
[5400,"Wilmington Grammar School for Girls",null,"Wilmington Grammar School for Girls",null,1,null,3527123.6,3527123.6,0,null,155116.67000000001,155116.67417789748,-4.1778974700719118E-3,null,2995.39,2995.3904313725488,-4.3137254897374078E-4,null,8266.0300000000007,8266.0254517297108,4.5482702898880234E-3,null,117882.46,117882.46,0,null,0,0,0,null,140258.94,140258.93672224478,3.277755226008594E-3,null,0,0,0,null,20681.349999999999,20681.349999999999,0,null,0,0,0,null,0,0,0,null,223321.91,223321.91321675532,-3.2167553144972771E-3,null,4195646.3499999996,4195646.3499999996,0,null,0,0,0,null,4195646.3499999996,4195646.3499999996,0,null,0,null,0,null,null,null,0,null,null,null,0,null,387184.26,387184.25982563343,0,null,13541.38,0,13541,null,null,null,0,null,null,null,0,null,null,null,0,null,null,null,0,null,null,null,0,null,null,null,0,null,"NO",{"$f":"IF(ISERROR(VLOOKUP($A515+8860000,'Growth Data'!$A:$F,3,0)),\"NO\",VLOOKUP($A515+8860000,'Growth Data'!$A:$F,3,0))","v":"NO"},0,null,0,{"$f":"IF(DI515=\"YES\",IF(ISERROR(VLOOKUP($A515+8860000,'Growth Data'!$A:$F,6,0)),0,VLOOKUP($A515+8860000,'Growth Data'!$A:$F,6,0)),0)","v":0},0,null,0,{"$f":"IF(ISERROR(VLOOKUP($A515+8860000,'Growth Data'!$A:$Z,7,0)),0,VLOOKUP($A515+8860000,'Growth Data'!$A:$Z,7,0))","v":0},0,null,"NO",{"$f":"IF(ISERROR(VLOOKUP($A515+8860000,'Growth Data'!$A:$F,4,0)),\"NO\",VLOOKUP($A515+8860000,'Growth Data'!$A:$F,4,0))","v":"NO"},0,null,0,{"$f":"IF(ISERROR(VLOOKUP($A515+8860000,'Growth Data'!$A:$Z,8,0)),0,VLOOKUP($A515+8860000,'Growth Data'!$A:$Z,8,0))","v":0},0,null,0,{"$f":"IF(ISERROR(VLOOKUP($A515+8860000,'Growth Data'!$A:$Z,9,0)),0,VLOOKUP($A515+8860000,'Growth Data'!$A:$Z,9,0))","v":0},0,null,"NO",{"$f":"IF(ISERROR(VLOOKUP($A515+8860000,'Growth Data'!$A:$Z,5,0)),\"NO\",VLOOKUP($A515+8860000,'Growth Data'!$A:$Z,5,0))","v":"NO"},0,null,0,{"$f":"IF(ISERROR(VLOOKUP($A515+8860000,'Growth Data'!$A:$Z,10,0)),0,VLOOKUP($A515+8860000,'Growth Data'!$A:$Z,10,0))","v":0},0,null,0,{"$f":"IF(ISERROR(VLOOKUP($A515+8860000,'Growth Data'!$A:$Z,11,0)),0,VLOOKUP($A515+8860000,'Growth Data'!$A:$Z,11,0))","v":0},0]
[5401,"The Maplesden Noakes School",null,"The Maplesden Noakes School",null,1,null,4451209.0199999996,4451209.0199999996,0,null,298778.40999999997,298778.41079365095,-7.9365097917616367E-4,null,31206.84,31206.839999999942,5.8207660913467407E-11,null,389937.17,389937.17166701076,-1.6670107725076377E-3,null,117882.46,117882.46,0,null,0,0,0,null,0,0,0,null,0,0,0,null,37548,37548,0,null,0,0,0,null,0,0,0,null,0,0,0,null,5326561.9000000004,5326561.9024606608,-2.4606604129076004E-3,null,0,0,0,null,5326561.9000000004,5326561.9024606608,-2.4606604129076004E-3,null,0,null,0,null,null,null,0,null,null,null,0,null,661876.02,661876.01719989139,0,null,16516.5,0,16517,null,null,null,0,null,null,null,0,null,null,null,0,null,null,null,0,null,null,null,0,null,null,null,0,null,"NO",{"$f":"IF(ISERROR(VLOOKUP($A516+8860000,'Growth Data'!$A:$F,3,0)),\"NO\",VLOOKUP($A516+8860000,'Growth Data'!$A:$F,3,0))","v":"NO"},0,null,0,{"$f":"IF(DI516=\"YES\",IF(ISERROR(VLOOKUP($A516+8860000,'Growth Data'!$A:$F,6,0)),0,VLOOKUP($A516+8860000,'Growth Data'!$A:$F,6,0)),0)","v":0},0,null,0,{"$f":"IF(ISERROR(VLOOKUP($A516+8860000,'Growth Data'!$A:$Z,7,0)),0,VLOOKUP($A516+8860000,'Growth Data'!$A:$Z,7,0))","v":0},0,null,"NO",{"$f":"IF(ISERROR(VLOOKUP($A516+8860000,'Growth Data'!$A:$F,4,0)),\"NO\",VLOOKUP($A516+8860000,'Growth Data'!$A:$F,4,0))","v":"NO"},0,null,0,{"$f":"IF(ISERROR(VLOOKUP($A516+8860000,'Growth Data'!$A:$Z,8,0)),0,VLOOKUP($A516+8860000,'Growth Data'!$A:$Z,8,0))","v":0},0,null,0,{"$f":"IF(ISERROR(VLOOKUP($A516+8860000,'Growth Data'!$A:$Z,9,0)),0,VLOOKUP($A516+8860000,'Growth Data'!$A:$Z,9,0))","v":0},0,null,"NO",{"$f":"IF(ISERROR(VLOOKUP($A516+8860000,'Growth Data'!$A:$Z,5,0)),\"NO\",VLOOKUP($A516+8860000,'Growth Data'!$A:$Z,5,0))","v":"NO"},0,null,0,{"$f":"IF(ISERROR(VLOOKUP($A516+8860000,'Growth Data'!$A:$Z,10,0)),0,VLOOKUP($A516+8860000,'Growth Data'!$A:$Z,10,0))","v":0},0,null,0,{"$f":"IF(ISERROR(VLOOKUP($A516+8860000,'Growth Data'!$A:$Z,11,0)),0,VLOOKUP($A516+8860000,'Growth Data'!$A:$Z,11,0))","v":0},0]
[5403,"Wilmington Grammar School for Boys",null,"Wilmington Grammar School for Boys",null,1,null,3551161.42,3551161.42,0,null,163071.1,163071.09864938614,1.3506138639058918E-3,null,4522.22,4522.2236862745094,-3.6862745091639226E-3,null,19258.07,19258.072845817271,-2.8458172710088547E-3,null,117882.46,117882.46,0,null,0,0,0,null,141896.95000000001,141896.94612667838,3.8733216351829469E-3,null,0,0,0,null,25636,25636,0,null,0,0,0,null,0,0,0,null,204247.78,204247.77869184379,1.3081562065053731E-3,null,4227676,4227676,0,null,0,0,0,null,4227676,4227676,0,null,0,null,0,null,null,null,0,null,null,null,0,null,385041.51,385041.51006563369,0,null,13629.19,0,13629,null,null,null,0,null,null,null,0,null,null,null,0,null,null,null,0,null,null,null,0,null,null,null,0,null,"NO",{"$f":"IF(ISERROR(VLOOKUP($A517+8860000,'Growth Data'!$A:$F,3,0)),\"NO\",VLOOKUP($A517+8860000,'Growth Data'!$A:$F,3,0))","v":"NO"},0,null,0,{"$f":"IF(DI517=\"YES\",IF(ISERROR(VLOOKUP($A517+8860000,'Growth Data'!$A:$F,6,0)),0,VLOOKUP($A517+8860000,'Growth Data'!$A:$F,6,0)),0)","v":0},0,null,0,{"$f":"IF(ISERROR(VLOOKUP($A517+8860000,'Growth Data'!$A:$Z,7,0)),0,VLOOKUP($A517+8860000,'Growth Data'!$A:$Z,7,0))","v":0},0,null,"NO",{"$f":"IF(ISERROR(VLOOKUP($A517+8860000,'Growth Data'!$A:$F,4,0)),\"NO\",VLOOKUP($A517+8860000,'Growth Data'!$A:$F,4,0))","v":"NO"},0,null,0,{"$f":"IF(ISERROR(VLOOKUP($A517+8860000,'Growth Data'!$A:$Z,8,0)),0,VLOOKUP($A517+8860000,'Growth Data'!$A:$Z,8,0))","v":0},0,null,0,{"$f":"IF(ISERROR(VLOOKUP($A517+8860000,'Growth Data'!$A:$Z,9,0)),0,VLOOKUP($A517+8860000,'Growth Data'!$A:$Z,9,0))","v":0},0,null,"NO",{"$f":"IF(ISERROR(VLOOKUP($A517+8860000,'Growth Data'!$A:$Z,5,0)),\"NO\",VLOOKUP($A517+8860000,'Growth Data'!$A:$Z,5,0))","v":"NO"},0,null,0,{"$f":"IF(ISERROR(VLOOKUP($A517+8860000,'Growth Data'!$A:$Z,10,0)),0,VLOOKUP($A517+8860000,'Growth Data'!$A:$Z,10,0))","v":0},0,null,0,{"$f":"IF(ISERROR(VLOOKUP($A517+8860000,'Growth Data'!$A:$Z,11,0)),0,VLOOKUP($A517+8860000,'Growth Data'!$A:$Z,11,0))","v":0},0]
[5406,"Dartford Grammar School",null,"Dartford Grammar School",null,1,null,4202528.58,4202528.58,0,null,195389.47,195389.46999999997,0,null,31620.63,31620.632353591212,-2.3535912114311941E-3,null,8057.58,8057.5812956203063,-1.2956203063367866E-3,null,117882.46,117882.46,0,null,0,0,0,null,167641.62,167641.61703029097,2.9697090212721378E-3,null,0,0,0,null,37492.06,37492.06,0,null,0,0,0,null,0,0,0,null,242434.66,242434.65932049739,6.7950261291116476E-4,null,5003047.0599999996,5003047.0599999987,0,null,0,0,0,null,5003047.0599999996,5003047.0599999987,0,null,0,null,0,null,null,null,0,null,null,null,0,null,475128.08,475128.07768163347,0,null,16105.63,0,16106,null,null,null,0,null,null,null,0,null,null,null,0,null,null,null,0,null,null,null,0,null,null,null,0,null,"NO",{"$f":"IF(ISERROR(VLOOKUP($A518+8860000,'Growth Data'!$A:$F,3,0)),\"NO\",VLOOKUP($A518+8860000,'Growth Data'!$A:$F,3,0))","v":"NO"},0,null,0,{"$f":"IF(DI518=\"YES\",IF(ISERROR(VLOOKUP($A518+8860000,'Growth Data'!$A:$F,6,0)),0,VLOOKUP($A518+8860000,'Growth Data'!$A:$F,6,0)),0)","v":0},0,null,0,{"$f":"IF(ISERROR(VLOOKUP($A518+8860000,'Growth Data'!$A:$Z,7,0)),0,VLOOKUP($A518+8860000,'Growth Data'!$A:$Z,7,0))","v":0},0,null,"NO",{"$f":"IF(ISERROR(VLOOKUP($A518+8860000,'Growth Data'!$A:$F,4,0)),\"NO\",VLOOKUP($A518+8860000,'Growth Data'!$A:$F,4,0))","v":"NO"},0,null,0,{"$f":"IF(ISERROR(VLOOKUP($A518+8860000,'Growth Data'!$A:$Z,8,0)),0,VLOOKUP($A518+8860000,'Growth Data'!$A:$Z,8,0))","v":0},0,null,0,{"$f":"IF(ISERROR(VLOOKUP($A518+8860000,'Growth Data'!$A:$Z,9,0)),0,VLOOKUP($A518+8860000,'Growth Data'!$A:$Z,9,0))","v":0},0,null,"NO",{"$f":"IF(ISERROR(VLOOKUP($A518+8860000,'Growth Data'!$A:$Z,5,0)),\"NO\",VLOOKUP($A518+8860000,'Growth Data'!$A:$Z,5,0))","v":"NO"},0,null,0,{"$f":"IF(ISERROR(VLOOKUP($A518+8860000,'Growth Data'!$A:$Z,10,0)),0,VLOOKUP($A518+8860000,'Growth Data'!$A:$Z,10,0))","v":0},0,null,0,{"$f":"IF(ISERROR(VLOOKUP($A518+8860000,'Growth Data'!$A:$Z,11,0)),0,VLOOKUP($A518+8860000,'Growth Data'!$A:$Z,11,0))","v":0},0]
[5408,"Homewood School and Sixth Form Centre",null,"Homewood School and Sixth Form Centre",null,1,null,7923746.3799999999,7923746.3800000008,0,null,583052.04,583052.04090909055,-9.0909050777554512E-4,null,4795.5200000000004,4795.5211414392088,-1.1414392083679559E-3,null,765231.25,765231.25489533704,-4.8953370423987508E-3,null,117882.46,117882.46,0,null,0,0,0,null,0,0,0,null,0,0,0,null,70051.839999999997,70051.839999999997,0,null,0,0,0,null,0,0,0,null,0,0,0,null,9464759.5,9464759.4969458692,3.0541308224201202E-3,null,0,0,0,null,9464759.5,9464759.4969458692,3.0541308224201202E-3,null,0,null,0,null,null,null,0,null,null,null,0,null,1208952.57,1208952.5716850969,0,null,29373.96,0,29374,null,null,null,0,null,null,null,0,null,null,null,0,null,null,null,0,null,null,null,0,null,null,null,0,null,"NO",{"$f":"IF(ISERROR(VLOOKUP($A519+8860000,'Growth Data'!$A:$F,3,0)),\"NO\",VLOOKUP($A519+8860000,'Growth Data'!$A:$F,3,0))","v":"NO"},0,null,0,{"$f":"IF(DI519=\"YES\",IF(ISERROR(VLOOKUP($A519+8860000,'Growth Data'!$A:$F,6,0)),0,VLOOKUP($A519+8860000,'Growth Data'!$A:$F,6,0)),0)","v":0},0,null,0,{"$f":"IF(ISERROR(VLOOKUP($A519+8860000,'Growth Data'!$A:$Z,7,0)),0,VLOOKUP($A519+8860000,'Growth Data'!$A:$Z,7,0))","v":0},0,null,"NO",{"$f":"IF(ISERROR(VLOOKUP($A519+8860000,'Growth Data'!$A:$F,4,0)),\"NO\",VLOOKUP($A519+8860000,'Growth Data'!$A:$F,4,0))","v":"NO"},0,null,0,{"$f":"IF(ISERROR(VLOOKUP($A519+8860000,'Growth Data'!$A:$Z,8,0)),0,VLOOKUP($A519+8860000,'Growth Data'!$A:$Z,8,0))","v":0},0,null,0,{"$f":"IF(ISERROR(VLOOKUP($A519+8860000,'Growth Data'!$A:$Z,9,0)),0,VLOOKUP($A519+8860000,'Growth Data'!$A:$Z,9,0))","v":0},0,null,"NO",{"$f":"IF(ISERROR(VLOOKUP($A519+8860000,'Growth Data'!$A:$Z,5,0)),\"NO\",VLOOKUP($A519+8860000,'Growth Data'!$A:$Z,5,0))","v":"NO"},0,null,0,{"$f":"IF(ISERROR(VLOOKUP($A519+8860000,'Growth Data'!$A:$Z,10,0)),0,VLOOKUP($A519+8860000,'Growth Data'!$A:$Z,10,0))","v":0},0,null,0,{"$f":"IF(ISERROR(VLOOKUP($A519+8860000,'Growth Data'!$A:$Z,11,0)),0,VLOOKUP($A519+8860000,'Growth Data'!$A:$Z,11,0))","v":0},0]
[5409,"Wrotham School",null,"Wrotham School",null,1,null,3428825.78,3428825.7800000003,0,null,167775.86,167775.8605145849,-5.1458491361699998E-4,null,2972.08,2972.080000000004,-4.0927261579781771E-12,null,296430.88,296430.87881025363,1.1897463700734079E-3,null,117882.46,117882.46,0,null,0,0,0,null,0,0,0,null,0,0,0,null,27216,27215.999999999902,9.822542779147625E-11,null,0,0,0,null,0,0,0,null,47362.94,47362.940675161153,-6.7516115086618811E-4,null,4088466,4088466,0,null,0,0,0,null,4088466,4088466,0,null,0,null,0,null,null,null,0,null,null,null,0,null,469844.63,469844.63473922969,0,null,12705,0,12705,null,null,null,0,null,null,null,0,null,null,null,0,null,null,null,0,null,null,null,0,null,null,null,0,null,"NO",{"$f":"IF(ISERROR(VLOOKUP($A520+8860000,'Growth Data'!$A:$F,3,0)),\"NO\",VLOOKUP($A520+8860000,'Growth Data'!$A:$F,3,0))","v":"NO"},0,null,0,{"$f":"IF(DI520=\"YES\",IF(ISERROR(VLOOKUP($A520+8860000,'Growth Data'!$A:$F,6,0)),0,VLOOKUP($A520+8860000,'Growth Data'!$A:$F,6,0)),0)","v":0},0,null,0,{"$f":"IF(ISERROR(VLOOKUP($A520+8860000,'Growth Data'!$A:$Z,7,0)),0,VLOOKUP($A520+8860000,'Growth Data'!$A:$Z,7,0))","v":0},0,null,"NO",{"$f":"IF(ISERROR(VLOOKUP($A520+8860000,'Growth Data'!$A:$F,4,0)),\"NO\",VLOOKUP($A520+8860000,'Growth Data'!$A:$F,4,0))","v":"NO"},0,null,0,{"$f":"IF(ISERROR(VLOOKUP($A520+8860000,'Growth Data'!$A:$Z,8,0)),0,VLOOKUP($A520+8860000,'Growth Data'!$A:$Z,8,0))","v":0},0,null,0,{"$f":"IF(ISERROR(VLOOKUP($A520+8860000,'Growth Data'!$A:$Z,9,0)),0,VLOOKUP($A520+8860000,'Growth Data'!$A:$Z,9,0))","v":0},0,null,"NO",{"$f":"IF(ISERROR(VLOOKUP($A520+8860000,'Growth Data'!$A:$Z,5,0)),\"NO\",VLOOKUP($A520+8860000,'Growth Data'!$A:$Z,5,0))","v":"NO"},0,null,0,{"$f":"IF(ISERROR(VLOOKUP($A520+8860000,'Growth Data'!$A:$Z,10,0)),0,VLOOKUP($A520+8860000,'Growth Data'!$A:$Z,10,0))","v":0},0,null,0,{"$f":"IF(ISERROR(VLOOKUP($A520+8860000,'Growth Data'!$A:$Z,11,0)),0,VLOOKUP($A520+8860000,'Growth Data'!$A:$Z,11,0))","v":0},0]
[5411,"Dartford Grammar School for Girls",null,"Dartford Grammar School for Girls",null,1,null,4097720.16,4097720.16,0,null,292341.19,292341.18887485639,1.1251436080783606E-3,null,35664.959999999999,35664.95999999997,0,null,13368.16,13368.160595032483,-5.9503248303371947E-4,null,117882.46,117882.46,0,null,0,0,0,null,167696.75,167696.7510044919,-1.0044919035863131E-3,null,0,0,0,null,36096,36096,0,null,0,0,0,null,0,0,0,null,116336.32000000001,116336.31952561907,4.7438094043172896E-4,null,4877106,4877106,0,null,0,0,0,null,4877106,4877106,0,null,0,null,0,null,null,null,0,null,null,null,0,null,429181.08,429181.08164963336,0,null,15701.67,0,15702,null,null,null,0,null,null,null,0,null,null,null,0,null,null,null,0,null,null,null,0,null,null,null,0,null,"NO",{"$f":"IF(ISERROR(VLOOKUP($A521+8860000,'Growth Data'!$A:$F,3,0)),\"NO\",VLOOKUP($A521+8860000,'Growth Data'!$A:$F,3,0))","v":"NO"},0,null,0,{"$f":"IF(DI521=\"YES\",IF(ISERROR(VLOOKUP($A521+8860000,'Growth Data'!$A:$F,6,0)),0,VLOOKUP($A521+8860000,'Growth Data'!$A:$F,6,0)),0)","v":0},0,null,0,{"$f":"IF(ISERROR(VLOOKUP($A521+8860000,'Growth Data'!$A:$Z,7,0)),0,VLOOKUP($A521+8860000,'Growth Data'!$A:$Z,7,0))","v":0},0,null,"NO",{"$f":"IF(ISERROR(VLOOKUP($A521+8860000,'Growth Data'!$A:$F,4,0)),\"NO\",VLOOKUP($A521+8860000,'Growth Data'!$A:$F,4,0))","v":"NO"},0,null,0,{"$f":"IF(ISERROR(VLOOKUP($A521+8860000,'Growth Data'!$A:$Z,8,0)),0,VLOOKUP($A521+8860000,'Growth Data'!$A:$Z,8,0))","v":0},0,null,0,{"$f":"IF(ISERROR(VLOOKUP($A521+8860000,'Growth Data'!$A:$Z,9,0)),0,VLOOKUP($A521+8860000,'Growth Data'!$A:$Z,9,0))","v":0},0,null,"NO",{"$f":"IF(ISERROR(VLOOKUP($A521+8860000,'Growth Data'!$A:$Z,5,0)),\"NO\",VLOOKUP($A521+8860000,'Growth Data'!$A:$Z,5,0))","v":"NO"},0,null,0,{"$f":"IF(ISERROR(VLOOKUP($A521+8860000,'Growth Data'!$A:$Z,10,0)),0,VLOOKUP($A521+8860000,'Growth Data'!$A:$Z,10,0))","v":0},0,null,0,{"$f":"IF(ISERROR(VLOOKUP($A521+8860000,'Growth Data'!$A:$Z,11,0)),0,VLOOKUP($A521+8860000,'Growth Data'!$A:$Z,11,0))","v":0},0]
[5414,"Fulston Manor School",null,"Fulston Manor School",null,1,null,4814548.22,4814548.2200000007,0,null,452046.9,452046.89722379611,2.7762039098888636E-3,null,1488.88,1488.8759541984737,4.0458015264448477E-3,null,365567.73,365567.72889544716,1.1045528226532042E-3,null,117882.46,117882.46,0,null,0,0,0,null,0,0,0,null,0,0,0,null,38912,38912,0,null,0,0,0,null,0,0,0,null,0,0,0,null,5790446.1799999997,5790446.1820734423,-2.0734425634145737E-3,null,0,0,0,null,5790446.1799999997,5790446.1820734423,-2.0734425634145737E-3,null,0,null,0,null,null,null,0,null,null,null,0,null,753691.98,753691.97681267152,0,null,17787,0,17787,null,null,null,0,null,null,null,0,null,null,null,0,null,null,null,0,null,null,null,0,null,null,null,0,null,"NO",{"$f":"IF(ISERROR(VLOOKUP($A522+8860000,'Growth Data'!$A:$F,3,0)),\"NO\",VLOOKUP($A522+8860000,'Growth Data'!$A:$F,3,0))","v":"NO"},0,null,0,{"$f":"IF(DI522=\"YES\",IF(ISERROR(VLOOKUP($A522+8860000,'Growth Data'!$A:$F,6,0)),0,VLOOKUP($A522+8860000,'Growth Data'!$A:$F,6,0)),0)","v":0},0,null,0,{"$f":"IF(ISERROR(VLOOKUP($A522+8860000,'Growth Data'!$A:$Z,7,0)),0,VLOOKUP($A522+8860000,'Growth Data'!$A:$Z,7,0))","v":0},0,null,"NO",{"$f":"IF(ISERROR(VLOOKUP($A522+8860000,'Growth Data'!$A:$F,4,0)),\"NO\",VLOOKUP($A522+8860000,'Growth Data'!$A:$F,4,0))","v":"NO"},0,null,0,{"$f":"IF(ISERROR(VLOOKUP($A522+8860000,'Growth Data'!$A:$Z,8,0)),0,VLOOKUP($A522+8860000,'Growth Data'!$A:$Z,8,0))","v":0},0,null,0,{"$f":"IF(ISERROR(VLOOKUP($A522+8860000,'Growth Data'!$A:$Z,9,0)),0,VLOOKUP($A522+8860000,'Growth Data'!$A:$Z,9,0))","v":0},0,null,"NO",{"$f":"IF(ISERROR(VLOOKUP($A522+8860000,'Growth Data'!$A:$Z,5,0)),\"NO\",VLOOKUP($A522+8860000,'Growth Data'!$A:$Z,5,0))","v":"NO"},0,null,0,{"$f":"IF(ISERROR(VLOOKUP($A522+8860000,'Growth Data'!$A:$Z,10,0)),0,VLOOKUP($A522+8860000,'Growth Data'!$A:$Z,10,0))","v":0},0,null,0,{"$f":"IF(ISERROR(VLOOKUP($A522+8860000,'Growth Data'!$A:$Z,11,0)),0,VLOOKUP($A522+8860000,'Growth Data'!$A:$Z,11,0))","v":0},0]
[5416,"Cranbrook School",null,"Cranbrook School",null,1,null,2666436.98,2666436.98,0,null,40124.54,40124.535972696242,4.027303759357892E-3,null,47636.56,47636.560700525362,-7.0052536466391757E-4,null,30714.400000000001,30714.398649044902,1.3509550990420394E-3,null,117882.46,117882.46,0,null,0,0,0,null,0,0,0,null,0,0,0,null,51205.13,51205.127999999902,2.0000000949949026E-3,null,0,0,0,null,0,0,0,null,194585.06,194585.06467773346,-4.6777334646321833E-3,null,3148585.13,3148585.128,1.999999862164259E-3,null,0,0,0,null,3148585.13,3148585.128,1.999999862164259E-3,null,0,null,0,null,null,null,0,null,null,null,0,null,309792.23,309792.2347392299,0,null,9689.68,0,9690,null,null,null,0,null,null,null,0,null,null,null,0,null,null,null,0,null,null,null,0,null,null,null,0,null,"NO",{"$f":"IF(ISERROR(VLOOKUP($A523+8860000,'Growth Data'!$A:$F,3,0)),\"NO\",VLOOKUP($A523+8860000,'Growth Data'!$A:$F,3,0))","v":"NO"},0,null,0,{"$f":"IF(DI523=\"YES\",IF(ISERROR(VLOOKUP($A523+8860000,'Growth Data'!$A:$F,6,0)),0,VLOOKUP($A523+8860000,'Growth Data'!$A:$F,6,0)),0)","v":0},0,null,0,{"$f":"IF(ISERROR(VLOOKUP($A523+8860000,'Growth Data'!$A:$Z,7,0)),0,VLOOKUP($A523+8860000,'Growth Data'!$A:$Z,7,0))","v":0},0,null,"NO",{"$f":"IF(ISERROR(VLOOKUP($A523+8860000,'Growth Data'!$A:$F,4,0)),\"NO\",VLOOKUP($A523+8860000,'Growth Data'!$A:$F,4,0))","v":"NO"},0,null,0,{"$f":"IF(ISERROR(VLOOKUP($A523+8860000,'Growth Data'!$A:$Z,8,0)),0,VLOOKUP($A523+8860000,'Growth Data'!$A:$Z,8,0))","v":0},0,null,0,{"$f":"IF(ISERROR(VLOOKUP($A523+8860000,'Growth Data'!$A:$Z,9,0)),0,VLOOKUP($A523+8860000,'Growth Data'!$A:$Z,9,0))","v":0},0,null,"NO",{"$f":"IF(ISERROR(VLOOKUP($A523+8860000,'Growth Data'!$A:$Z,5,0)),\"NO\",VLOOKUP($A523+8860000,'Growth Data'!$A:$Z,5,0))","v":"NO"},0,null,0,{"$f":"IF(ISERROR(VLOOKUP($A523+8860000,'Growth Data'!$A:$Z,10,0)),0,VLOOKUP($A523+8860000,'Growth Data'!$A:$Z,10,0))","v":0},0,null,0,{"$f":"IF(ISERROR(VLOOKUP($A523+8860000,'Growth Data'!$A:$Z,11,0)),0,VLOOKUP($A523+8860000,'Growth Data'!$A:$Z,11,0))","v":0},0]
[5418,"The Skinners' School",null,"The Skinners' School",null,1,null,3633666.14,3633666.14,0,null,52724.07,52724.069999999978,0,null,26986.94,26986.940152671727,-1.5267172784660943E-4,null,6618.93,6618.9261393980678,3.860601932501595E-3,null,117882.46,117882.46,0,null,0,0,0,null,0,0,0,null,0,0,0,null,27412.48,27412.48,0,null,0,0,0,null,0,0,0,null,456216.46,456216.46370793012,-3.7079300964251161E-3,null,4321507.4800000004,4321507.4799999995,0,null,0,0,0,null,4321507.4800000004,4321507.4799999995,0,null,0,null,0,null,null,null,0,null,null,null,0,null,535135.18999999994,535135.19473922986,0,null,13433.42,0,13433,null,null,null,0,null,null,null,0,null,null,null,0,null,null,null,0,null,null,null,0,null,null,null,0,null,"NO",{"$f":"IF(ISERROR(VLOOKUP($A524+8860000,'Growth Data'!$A:$F,3,0)),\"NO\",VLOOKUP($A524+8860000,'Growth Data'!$A:$F,3,0))","v":"NO"},0,null,0,{"$f":"IF(DI524=\"YES\",IF(ISERROR(VLOOKUP($A524+8860000,'Growth Data'!$A:$F,6,0)),0,VLOOKUP($A524+8860000,'Growth Data'!$A:$F,6,0)),0)","v":0},0,null,0,{"$f":"IF(ISERROR(VLOOKUP($A524+8860000,'Growth Data'!$A:$Z,7,0)),0,VLOOKUP($A524+8860000,'Growth Data'!$A:$Z,7,0))","v":0},0,null,"NO",{"$f":"IF(ISERROR(VLOOKUP($A524+8860000,'Growth Data'!$A:$F,4,0)),\"NO\",VLOOKUP($A524+8860000,'Growth Data'!$A:$F,4,0))","v":"NO"},0,null,0,{"$f":"IF(ISERROR(VLOOKUP($A524+8860000,'Growth Data'!$A:$Z,8,0)),0,VLOOKUP($A524+8860000,'Growth Data'!$A:$Z,8,0))","v":0},0,null,0,{"$f":"IF(ISERROR(VLOOKUP($A524+8860000,'Growth Data'!$A:$Z,9,0)),0,VLOOKUP($A524+8860000,'Growth Data'!$A:$Z,9,0))","v":0},0,null,"NO",{"$f":"IF(ISERROR(VLOOKUP($A524+8860000,'Growth Data'!$A:$Z,5,0)),\"NO\",VLOOKUP($A524+8860000,'Growth Data'!$A:$Z,5,0))","v":"NO"},0,null,0,{"$f":"IF(ISERROR(VLOOKUP($A524+8860000,'Growth Data'!$A:$Z,10,0)),0,VLOOKUP($A524+8860000,'Growth Data'!$A:$Z,10,0))","v":0},0,null,0,{"$f":"IF(ISERROR(VLOOKUP($A524+8860000,'Growth Data'!$A:$Z,11,0)),0,VLOOKUP($A524+8860000,'Growth Data'!$A:$Z,11,0))","v":0},0]
[5421,"The Canterbury Academy",null,"The Canterbury Academy",null,1,null,5057343.42,5057343.42,0,null,584982.46,584982.46494132234,-4.9413223750889301E-3,null,32811.660000000003,32811.655222525049,4.7774749546078965E-3,null,442139,442138.99710259511,2.8974048909731209E-3,null,117882.46,117882.46,0,null,0,0,0,null,0,0,0,null,0,0,0,null,71450.2,71450.2,0,null,0,0,0,null,0,0,0,null,0,0,0,null,6306609.2000000002,6306609.1972664427,2.7335574850440025E-3,null,0,0,0,null,6306609.2000000002,6306609.1972664427,2.7335574850440025E-3,null,0,null,0,null,null,null,0,null,null,null,0,null,947108.63,947108.63200567244,0,null,18718.7,0,18719,null,null,null,0,null,null,null,0,null,null,null,0,null,null,null,0,null,null,null,0,null,null,null,0,null,"NO",{"$f":"IF(ISERROR(VLOOKUP($A525+8860000,'Growth Data'!$A:$F,3,0)),\"NO\",VLOOKUP($A525+8860000,'Growth Data'!$A:$F,3,0))","v":"NO"},0,null,0,{"$f":"IF(DI525=\"YES\",IF(ISERROR(VLOOKUP($A525+8860000,'Growth Data'!$A:$F,6,0)),0,VLOOKUP($A525+8860000,'Growth Data'!$A:$F,6,0)),0)","v":0},0,null,0,{"$f":"IF(ISERROR(VLOOKUP($A525+8860000,'Growth Data'!$A:$Z,7,0)),0,VLOOKUP($A525+8860000,'Growth Data'!$A:$Z,7,0))","v":0},0,null,"NO",{"$f":"IF(ISERROR(VLOOKUP($A525+8860000,'Growth Data'!$A:$F,4,0)),\"NO\",VLOOKUP($A525+8860000,'Growth Data'!$A:$F,4,0))","v":"NO"},0,null,0,{"$f":"IF(ISERROR(VLOOKUP($A525+8860000,'Growth Data'!$A:$Z,8,0)),0,VLOOKUP($A525+8860000,'Growth Data'!$A:$Z,8,0))","v":0},0,null,0,{"$f":"IF(ISERROR(VLOOKUP($A525+8860000,'Growth Data'!$A:$Z,9,0)),0,VLOOKUP($A525+8860000,'Growth Data'!$A:$Z,9,0))","v":0},0,null,"NO",{"$f":"IF(ISERROR(VLOOKUP($A525+8860000,'Growth Data'!$A:$Z,5,0)),\"NO\",VLOOKUP($A525+8860000,'Growth Data'!$A:$Z,5,0))","v":"NO"},0,null,0,{"$f":"IF(ISERROR(VLOOKUP($A525+8860000,'Growth Data'!$A:$Z,10,0)),0,VLOOKUP($A525+8860000,'Growth Data'!$A:$Z,10,0))","v":0},0,null,0,{"$f":"IF(ISERROR(VLOOKUP($A525+8860000,'Growth Data'!$A:$Z,11,0)),0,VLOOKUP($A525+8860000,'Growth Data'!$A:$Z,11,0))","v":0},0]
[5422,"Oakwood Park Grammar School",null,"Oakwood Park Grammar School",null,1,null,3630481.82,3630481.8200000003,0,null,109180.8,109180.79722643817,2.7735618350561708E-3,null,10415.450000000001,10415.447443037978,2.5569620229362044E-3,null,15897.13,15897.127379057922,2.6209420775558101E-3,null,117882.46,117882.46,0,null,0,0,0,null,0,0,0,null,0,0,0,null,30408.38,30408.376,4.0000000008149073E-3,null,0,0,0,null,0,0,0,null,399407.35,399407.34795146558,2.0485343993641436E-3,null,4313673.38,4313673.3760000002,3.9999997243285179E-3,null,0,0,0,null,4313673.38,4313673.3760000002,3.9999997243285179E-3,null,0,null,0,null,null,null,0,null,null,null,0,null,524267.27,524267.27473922959,0,null,13399.54,0,13400,null,null,null,0,null,null,null,0,null,null,null,0,null,null,null,0,null,null,null,0,null,null,null,0,null,"NO",{"$f":"IF(ISERROR(VLOOKUP($A526+8860000,'Growth Data'!$A:$F,3,0)),\"NO\",VLOOKUP($A526+8860000,'Growth Data'!$A:$F,3,0))","v":"NO"},0,null,0,{"$f":"IF(DI526=\"YES\",IF(ISERROR(VLOOKUP($A526+8860000,'Growth Data'!$A:$F,6,0)),0,VLOOKUP($A526+8860000,'Growth Data'!$A:$F,6,0)),0)","v":0},0,null,0,{"$f":"IF(ISERROR(VLOOKUP($A526+8860000,'Growth Data'!$A:$Z,7,0)),0,VLOOKUP($A526+8860000,'Growth Data'!$A:$Z,7,0))","v":0},0,null,"NO",{"$f":"IF(ISERROR(VLOOKUP($A526+8860000,'Growth Data'!$A:$F,4,0)),\"NO\",VLOOKUP($A526+8860000,'Growth Data'!$A:$F,4,0))","v":"NO"},0,null,0,{"$f":"IF(ISERROR(VLOOKUP($A526+8860000,'Growth Data'!$A:$Z,8,0)),0,VLOOKUP($A526+8860000,'Growth Data'!$A:$Z,8,0))","v":0},0,null,0,{"$f":"IF(ISERROR(VLOOKUP($A526+8860000,'Growth Data'!$A:$Z,9,0)),0,VLOOKUP($A526+8860000,'Growth Data'!$A:$Z,9,0))","v":0},0,null,"NO",{"$f":"IF(ISERROR(VLOOKUP($A526+8860000,'Growth Data'!$A:$Z,5,0)),\"NO\",VLOOKUP($A526+8860000,'Growth Data'!$A:$Z,5,0))","v":"NO"},0,null,0,{"$f":"IF(ISERROR(VLOOKUP($A526+8860000,'Growth Data'!$A:$Z,10,0)),0,VLOOKUP($A526+8860000,'Growth Data'!$A:$Z,10,0))","v":0},0,null,0,{"$f":"IF(ISERROR(VLOOKUP($A526+8860000,'Growth Data'!$A:$Z,11,0)),0,VLOOKUP($A526+8860000,'Growth Data'!$A:$Z,11,0))","v":0},0]
[5428,"Sir Roger Manwood's School",null,"Sir Roger Manwood's School",null,1,null,3516319.92,3516319.92,0,null,166848.49,166848.48839385618,1.6061438072938472E-3,null,5944.16,5944.1600000000053,0,null,11069.82,11069.821794799784,-1.7947997839655727E-3,null,117882.46,117882.46,0,null,0,0,0,null,0,0,0,null,0,0,0,null,26112,26112,0,null,0,0,0,null,0,0,0,null,335240.15000000002,335240.14981134405,1.8865597667172551E-4,null,4179417,4179417.0000000005,0,null,0,0,0,null,4179417,4179417.0000000005,0,null,0,null,0,null,null,null,0,null,null,null,0,null,499723.09,499723.09473922994,0,null,12992.98,0,12993,null,null,null,0,null,null,null,0,null,null,null,0,null,null,null,0,null,null,null,0,null,null,null,0,null,"NO",{"$f":"IF(ISERROR(VLOOKUP($A527+8860000,'Growth Data'!$A:$F,3,0)),\"NO\",VLOOKUP($A527+8860000,'Growth Data'!$A:$F,3,0))","v":"NO"},0,null,0,{"$f":"IF(DI527=\"YES\",IF(ISERROR(VLOOKUP($A527+8860000,'Growth Data'!$A:$F,6,0)),0,VLOOKUP($A527+8860000,'Growth Data'!$A:$F,6,0)),0)","v":0},0,null,0,{"$f":"IF(ISERROR(VLOOKUP($A527+8860000,'Growth Data'!$A:$Z,7,0)),0,VLOOKUP($A527+8860000,'Growth Data'!$A:$Z,7,0))","v":0},0,null,"NO",{"$f":"IF(ISERROR(VLOOKUP($A527+8860000,'Growth Data'!$A:$F,4,0)),\"NO\",VLOOKUP($A527+8860000,'Growth Data'!$A:$F,4,0))","v":"NO"},0,null,0,{"$f":"IF(ISERROR(VLOOKUP($A527+8860000,'Growth Data'!$A:$Z,8,0)),0,VLOOKUP($A527+8860000,'Growth Data'!$A:$Z,8,0))","v":0},0,null,0,{"$f":"IF(ISERROR(VLOOKUP($A527+8860000,'Growth Data'!$A:$Z,9,0)),0,VLOOKUP($A527+8860000,'Growth Data'!$A:$Z,9,0))","v":0},0,null,"NO",{"$f":"IF(ISERROR(VLOOKUP($A527+8860000,'Growth Data'!$A:$Z,5,0)),\"NO\",VLOOKUP($A527+8860000,'Growth Data'!$A:$Z,5,0))","v":"NO"},0,null,0,{"$f":"IF(ISERROR(VLOOKUP($A527+8860000,'Growth Data'!$A:$Z,10,0)),0,VLOOKUP($A527+8860000,'Growth Data'!$A:$Z,10,0))","v":0},0,null,0,{"$f":"IF(ISERROR(VLOOKUP($A527+8860000,'Growth Data'!$A:$Z,11,0)),0,VLOOKUP($A527+8860000,'Growth Data'!$A:$Z,11,0))","v":0},0]
[5432,"St Simon Stock Catholic School",null,"St Simon Stock Catholic School",null,1,null,4135404.54,4135404.54,0,null,239864.17,239864.17431770271,-4.3177026964258403E-3,null,4463.07,4463.0679689234203,2.0310765794420149E-3,null,321479.84000000003,321479.84204335458,-2.0433545578271151E-3,null,117882.46,117882.46,0,null,0,0,0,null,0,0,0,null,0,0,0,null,26345,26345,0,null,0,0,0,null,0,0,0,null,65235.92,65235.91567001924,4.329980758484453E-3,null,4910675,4910675,0,null,0,0,0,null,4910675,4910675,0,null,0,null,0,null,null,null,0,null,null,null,0,null,588647.47,588647.47473922989,0,null,15279.88,0,15280,null,null,null,0,null,null,null,0,null,null,null,0,null,null,null,0,null,null,null,0,null,null,null,0,null,"NO",{"$f":"IF(ISERROR(VLOOKUP($A528+8860000,'Growth Data'!$A:$F,3,0)),\"NO\",VLOOKUP($A528+8860000,'Growth Data'!$A:$F,3,0))","v":"NO"},0,null,0,{"$f":"IF(DI528=\"YES\",IF(ISERROR(VLOOKUP($A528+8860000,'Growth Data'!$A:$F,6,0)),0,VLOOKUP($A528+8860000,'Growth Data'!$A:$F,6,0)),0)","v":0},0,null,0,{"$f":"IF(ISERROR(VLOOKUP($A528+8860000,'Growth Data'!$A:$Z,7,0)),0,VLOOKUP($A528+8860000,'Growth Data'!$A:$Z,7,0))","v":0},0,null,"NO",{"$f":"IF(ISERROR(VLOOKUP($A528+8860000,'Growth Data'!$A:$F,4,0)),\"NO\",VLOOKUP($A528+8860000,'Growth Data'!$A:$F,4,0))","v":"NO"},0,null,0,{"$f":"IF(ISERROR(VLOOKUP($A528+8860000,'Growth Data'!$A:$Z,8,0)),0,VLOOKUP($A528+8860000,'Growth Data'!$A:$Z,8,0))","v":0},0,null,0,{"$f":"IF(ISERROR(VLOOKUP($A528+8860000,'Growth Data'!$A:$Z,9,0)),0,VLOOKUP($A528+8860000,'Growth Data'!$A:$Z,9,0))","v":0},0,null,"NO",{"$f":"IF(ISERROR(VLOOKUP($A528+8860000,'Growth Data'!$A:$Z,5,0)),\"NO\",VLOOKUP($A528+8860000,'Growth Data'!$A:$Z,5,0))","v":"NO"},0,null,0,{"$f":"IF(ISERROR(VLOOKUP($A528+8860000,'Growth Data'!$A:$Z,10,0)),0,VLOOKUP($A528+8860000,'Growth Data'!$A:$Z,10,0))","v":0},0,null,0,{"$f":"IF(ISERROR(VLOOKUP($A528+8860000,'Growth Data'!$A:$Z,11,0)),0,VLOOKUP($A528+8860000,'Growth Data'!$A:$Z,11,0))","v":0},0]
[5434,"Westlands School",null,"Westlands School",null,1,null,7286722.1200000001,7286722.120000001,0,null,709146.33,709146.33123305417,-1.2330542085692286E-3,null,7439.53,7439.5344221105524,-4.4221105526958127E-3,null,686706.18,686706.17509307771,4.9069223459810019E-3,null,117882.46,117882.46,0,null,0,0,0,null,0,0,0,null,0,0,0,null,50688,50688,0,null,0,0,0,null,0,0,0,null,0,0,0,null,8858584.6199999992,8858584.6207482442,-7.4824504554271698E-4,null,0,0,0,null,8858584.6199999992,8858584.6207482442,-7.4824504554271698E-4,null,0,null,0,null,null,null,0,null,null,null,0,null,1285864.3600000001,1285864.3554874724,0,null,27002.36,0,27002,null,null,null,0,null,null,null,0,null,null,null,0,null,null,null,0,null,null,null,0,null,null,null,0,null,"NO",{"$f":"IF(ISERROR(VLOOKUP($A529+8860000,'Growth Data'!$A:$F,3,0)),\"NO\",VLOOKUP($A529+8860000,'Growth Data'!$A:$F,3,0))","v":"NO"},0,null,0,{"$f":"IF(DI529=\"YES\",IF(ISERROR(VLOOKUP($A529+8860000,'Growth Data'!$A:$F,6,0)),0,VLOOKUP($A529+8860000,'Growth Data'!$A:$F,6,0)),0)","v":0},0,null,0,{"$f":"IF(ISERROR(VLOOKUP($A529+8860000,'Growth Data'!$A:$Z,7,0)),0,VLOOKUP($A529+8860000,'Growth Data'!$A:$Z,7,0))","v":0},0,null,"NO",{"$f":"IF(ISERROR(VLOOKUP($A529+8860000,'Growth Data'!$A:$F,4,0)),\"NO\",VLOOKUP($A529+8860000,'Growth Data'!$A:$F,4,0))","v":"NO"},0,null,0,{"$f":"IF(ISERROR(VLOOKUP($A529+8860000,'Growth Data'!$A:$Z,8,0)),0,VLOOKUP($A529+8860000,'Growth Data'!$A:$Z,8,0))","v":0},0,null,0,{"$f":"IF(ISERROR(VLOOKUP($A529+8860000,'Growth Data'!$A:$Z,9,0)),0,VLOOKUP($A529+8860000,'Growth Data'!$A:$Z,9,0))","v":0},0,null,"NO",{"$f":"IF(ISERROR(VLOOKUP($A529+8860000,'Growth Data'!$A:$Z,5,0)),\"NO\",VLOOKUP($A529+8860000,'Growth Data'!$A:$Z,5,0))","v":"NO"},0,null,0,{"$f":"IF(ISERROR(VLOOKUP($A529+8860000,'Growth Data'!$A:$Z,10,0)),0,VLOOKUP($A529+8860000,'Growth Data'!$A:$Z,10,0))","v":0},0,null,0,{"$f":"IF(ISERROR(VLOOKUP($A529+8860000,'Growth Data'!$A:$Z,11,0)),0,VLOOKUP($A529+8860000,'Growth Data'!$A:$Z,11,0))","v":0},0]
[5435,"St Gregory's Catholic School",null,"St Gregory's Catholic School",null,1,null,5079092.74,5079092.74,0,null,228887.88,228887.8844495751,-4.4495750917121768E-3,null,44823.27,44823.269864253351,1.3574664626503363E-4,null,430739.67,430739.66821384482,1.7861551605165005E-3,null,117882.46,117882.46,0,null,0,0,0,null,0,0,0,null,0,0,0,null,29184,29184,0,null,0,0,0,null,0,0,0,null,114638.98,114638.9774723265,2.5276734959334135E-3,null,6045249,6045249.0000000009,0,null,0,0,0,null,6045249,6045249.0000000009,0,null,0,null,0,null,null,null,0,null,null,null,0,null,763805.31,763805.31473922951,0,null,18820.34,0,18820,null,null,null,0,null,null,null,0,null,null,null,0,null,null,null,0,null,null,null,0,null,null,null,0,null,"NO",{"$f":"IF(ISERROR(VLOOKUP($A530+8860000,'Growth Data'!$A:$F,3,0)),\"NO\",VLOOKUP($A530+8860000,'Growth Data'!$A:$F,3,0))","v":"YES"},1,null,0,{"$f":"IF(DI530=\"YES\",IF(ISERROR(VLOOKUP($A530+8860000,'Growth Data'!$A:$F,6,0)),0,VLOOKUP($A530+8860000,'Growth Data'!$A:$F,6,0)),0)","v":207},-207,null,0,{"$f":"IF(ISERROR(VLOOKUP($A530+8860000,'Growth Data'!$A:$Z,7,0)),0,VLOOKUP($A530+8860000,'Growth Data'!$A:$Z,7,0))","v":210},1,null,"NO",{"$f":"IF(ISERROR(VLOOKUP($A530+8860000,'Growth Data'!$A:$F,4,0)),\"NO\",VLOOKUP($A530+8860000,'Growth Data'!$A:$F,4,0))","v":"NO"},0,null,0,{"$f":"IF(ISERROR(VLOOKUP($A530+8860000,'Growth Data'!$A:$Z,8,0)),0,VLOOKUP($A530+8860000,'Growth Data'!$A:$Z,8,0))","v":0},0,null,0,{"$f":"IF(ISERROR(VLOOKUP($A530+8860000,'Growth Data'!$A:$Z,9,0)),0,VLOOKUP($A530+8860000,'Growth Data'!$A:$Z,9,0))","v":0},0,null,"NO",{"$f":"IF(ISERROR(VLOOKUP($A530+8860000,'Growth Data'!$A:$Z,5,0)),\"NO\",VLOOKUP($A530+8860000,'Growth Data'!$A:$Z,5,0))","v":"NO"},0,null,0,{"$f":"IF(ISERROR(VLOOKUP($A530+8860000,'Growth Data'!$A:$Z,10,0)),0,VLOOKUP($A530+8860000,'Growth Data'!$A:$Z,10,0))","v":0},0,null,0,{"$f":"IF(ISERROR(VLOOKUP($A530+8860000,'Growth Data'!$A:$Z,11,0)),0,VLOOKUP($A530+8860000,'Growth Data'!$A:$Z,11,0))","v":0},0]
[5437,"The Folkestone School for Girls",null,"The Folkestone School for Girls",null,1,null,4245131.4000000004,4245131.4000000004,0,null,246449.06,246449.06263934859,-2.6393485895823687E-3,null,4462.9399999999996,4462.9395891891845,4.108108150830958E-4,null,36466.269999999997,36466.2719777538,-1.9777538036578335E-3,null,117882.46,117882.46,0,null,0,0,0,null,0,0,0,null,0,0,0,null,27904,27904,0,null,0,0,0,null,0,0,0,null,363897.87,363897.86579370807,4.2062919237650931E-3,null,5042194,5042193.9999999991,0,null,0,0,0,null,5042194,5042193.9999999991,0,null,0,null,0,null,null,null,0,null,null,null,0,null,625452.13,625452.13473922957,0,null,15686.44,0,15686,null,null,null,0,null,null,null,0,null,null,null,0,null,null,null,0,null,null,null,0,null,null,null,0,null,"NO",{"$f":"IF(ISERROR(VLOOKUP($A531+8860000,'Growth Data'!$A:$F,3,0)),\"NO\",VLOOKUP($A531+8860000,'Growth Data'!$A:$F,3,0))","v":"NO"},0,null,0,{"$f":"IF(DI531=\"YES\",IF(ISERROR(VLOOKUP($A531+8860000,'Growth Data'!$A:$F,6,0)),0,VLOOKUP($A531+8860000,'Growth Data'!$A:$F,6,0)),0)","v":0},0,null,0,{"$f":"IF(ISERROR(VLOOKUP($A531+8860000,'Growth Data'!$A:$Z,7,0)),0,VLOOKUP($A531+8860000,'Growth Data'!$A:$Z,7,0))","v":0},0,null,"NO",{"$f":"IF(ISERROR(VLOOKUP($A531+8860000,'Growth Data'!$A:$F,4,0)),\"NO\",VLOOKUP($A531+8860000,'Growth Data'!$A:$F,4,0))","v":"NO"},0,null,0,{"$f":"IF(ISERROR(VLOOKUP($A531+8860000,'Growth Data'!$A:$Z,8,0)),0,VLOOKUP($A531+8860000,'Growth Data'!$A:$Z,8,0))","v":0},0,null,0,{"$f":"IF(ISERROR(VLOOKUP($A531+8860000,'Growth Data'!$A:$Z,9,0)),0,VLOOKUP($A531+8860000,'Growth Data'!$A:$Z,9,0))","v":0},0,null,"NO",{"$f":"IF(ISERROR(VLOOKUP($A531+8860000,'Growth Data'!$A:$Z,5,0)),\"NO\",VLOOKUP($A531+8860000,'Growth Data'!$A:$Z,5,0))","v":"NO"},0,null,0,{"$f":"IF(ISERROR(VLOOKUP($A531+8860000,'Growth Data'!$A:$Z,10,0)),0,VLOOKUP($A531+8860000,'Growth Data'!$A:$Z,10,0))","v":0},0,null,0,{"$f":"IF(ISERROR(VLOOKUP($A531+8860000,'Growth Data'!$A:$Z,11,0)),0,VLOOKUP($A531+8860000,'Growth Data'!$A:$Z,11,0))","v":0},0]
[5439,"Mascalls Academy",null,"Mascalls Academy",null,1,null,4803048.2,4803048.2,0,null,238012.52,238012.52325959306,-3.2595930679235607E-3,null,7437.3,7437.2966571155712,3.3428844290028792E-3,null,441904.65,441904.64689987549,3.1001245370134711E-3,null,117882.46,117882.46,0,null,0,0,0,null,0,0,0,null,0,0,0,null,42752,42752,0,null,0,0,0,null,0,0,0,null,66634.87,66634.873183415693,-3.1834156980039552E-3,null,5717672,5717671.9999999991,0,null,0,0,0,null,5717672,5717671.9999999991,0,null,0,null,0,null,null,null,0,null,null,null,0,null,702847.73,702847.73473923001,0,null,17753.12,0,17753,null,null,null,0,null,null,null,0,null,null,null,0,null,null,null,0,null,null,null,0,null,null,null,0,null,"NO",{"$f":"IF(ISERROR(VLOOKUP($A532+8860000,'Growth Data'!$A:$F,3,0)),\"NO\",VLOOKUP($A532+8860000,'Growth Data'!$A:$F,3,0))","v":"NO"},0,null,0,{"$f":"IF(DI532=\"YES\",IF(ISERROR(VLOOKUP($A532+8860000,'Growth Data'!$A:$F,6,0)),0,VLOOKUP($A532+8860000,'Growth Data'!$A:$F,6,0)),0)","v":0},0,null,0,{"$f":"IF(ISERROR(VLOOKUP($A532+8860000,'Growth Data'!$A:$Z,7,0)),0,VLOOKUP($A532+8860000,'Growth Data'!$A:$Z,7,0))","v":0},0,null,"NO",{"$f":"IF(ISERROR(VLOOKUP($A532+8860000,'Growth Data'!$A:$F,4,0)),\"NO\",VLOOKUP($A532+8860000,'Growth Data'!$A:$F,4,0))","v":"NO"},0,null,0,{"$f":"IF(ISERROR(VLOOKUP($A532+8860000,'Growth Data'!$A:$Z,8,0)),0,VLOOKUP($A532+8860000,'Growth Data'!$A:$Z,8,0))","v":0},0,null,0,{"$f":"IF(ISERROR(VLOOKUP($A532+8860000,'Growth Data'!$A:$Z,9,0)),0,VLOOKUP($A532+8860000,'Growth Data'!$A:$Z,9,0))","v":0},0,null,"NO",{"$f":"IF(ISERROR(VLOOKUP($A532+8860000,'Growth Data'!$A:$Z,5,0)),\"NO\",VLOOKUP($A532+8860000,'Growth Data'!$A:$Z,5,0))","v":"NO"},0,null,0,{"$f":"IF(ISERROR(VLOOKUP($A532+8860000,'Growth Data'!$A:$Z,10,0)),0,VLOOKUP($A532+8860000,'Growth Data'!$A:$Z,10,0))","v":0},0,null,0,{"$f":"IF(ISERROR(VLOOKUP($A532+8860000,'Growth Data'!$A:$Z,11,0)),0,VLOOKUP($A532+8860000,'Growth Data'!$A:$Z,11,0))","v":0},0]
[5443,"Tonbridge Grammar School",null,"Tonbridge Grammar School",null,1,null,4104301.74,4104301.74,0,null,41527.379999999997,41527.384220101616,-4.2201016185572371E-3,null,16419.82,16419.824691358051,-4.6913580517866649E-3,null,4015.21,4015.2144206981247,-4.4206981247043586E-3,null,117882.46,117882.46,0,null,0,0,0,null,0,0,0,null,0,0,0,null,43008,43008,0,null,0,0,0,null,0,0,0,null,562278.38,562278.37666784204,3.3321579685434699E-3,null,4889433,4889433,0,null,0,0,0,null,4889433,4889433,0,null,0,null,0,null,null,null,0,null,null,null,0,null,624655.03,624655.03473922971,0,null,15161.3,0,15161,null,null,null,0,null,null,null,0,null,null,null,0,null,null,null,0,null,null,null,0,null,null,null,0,null,"NO",{"$f":"IF(ISERROR(VLOOKUP($A533+8860000,'Growth Data'!$A:$F,3,0)),\"NO\",VLOOKUP($A533+8860000,'Growth Data'!$A:$F,3,0))","v":"NO"},0,null,0,{"$f":"IF(DI533=\"YES\",IF(ISERROR(VLOOKUP($A533+8860000,'Growth Data'!$A:$F,6,0)),0,VLOOKUP($A533+8860000,'Growth Data'!$A:$F,6,0)),0)","v":0},0,null,0,{"$f":"IF(ISERROR(VLOOKUP($A533+8860000,'Growth Data'!$A:$Z,7,0)),0,VLOOKUP($A533+8860000,'Growth Data'!$A:$Z,7,0))","v":0},0,null,"NO",{"$f":"IF(ISERROR(VLOOKUP($A533+8860000,'Growth Data'!$A:$F,4,0)),\"NO\",VLOOKUP($A533+8860000,'Growth Data'!$A:$F,4,0))","v":"NO"},0,null,0,{"$f":"IF(ISERROR(VLOOKUP($A533+8860000,'Growth Data'!$A:$Z,8,0)),0,VLOOKUP($A533+8860000,'Growth Data'!$A:$Z,8,0))","v":0},0,null,0,{"$f":"IF(ISERROR(VLOOKUP($A533+8860000,'Growth Data'!$A:$Z,9,0)),0,VLOOKUP($A533+8860000,'Growth Data'!$A:$Z,9,0))","v":0},0,null,"NO",{"$f":"IF(ISERROR(VLOOKUP($A533+8860000,'Growth Data'!$A:$Z,5,0)),\"NO\",VLOOKUP($A533+8860000,'Growth Data'!$A:$Z,5,0))","v":"NO"},0,null,0,{"$f":"IF(ISERROR(VLOOKUP($A533+8860000,'Growth Data'!$A:$Z,10,0)),0,VLOOKUP($A533+8860000,'Growth Data'!$A:$Z,10,0))","v":0},0,null,0,{"$f":"IF(ISERROR(VLOOKUP($A533+8860000,'Growth Data'!$A:$Z,11,0)),0,VLOOKUP($A533+8860000,'Growth Data'!$A:$Z,11,0))","v":0},0]
[5444,"Barton Court Grammar School",null,"Barton Court Grammar School",null,1,null,3444277.44,3444277.4400000004,0,null,164773.19,164773.18781886017,2.1811398328281939E-3,null,10402.280000000001,10402.279999999995,0,null,16377.02,16377.015464476495,4.5355235051829368E-3,null,117882.46,117882.46,0,null,0,0,0,null,0,0,0,null,0,0,0,null,39424,39424,0,null,0,0,0,null,0,0,0,null,312952.62,312952.61671666295,3.283337049651891E-3,null,4106089,4106088.9999999995,0,null,0,0,0,null,4106089,4106088.9999999995,0,null,0,null,0,null,null,null,0,null,null,null,0,null,486506.53,486506.53473922954,0,null,12721.94,0,12722,null,null,null,0,null,null,null,0,null,null,null,0,null,null,null,0,null,null,null,0,null,null,null,0,null,"NO",{"$f":"IF(ISERROR(VLOOKUP($A534+8860000,'Growth Data'!$A:$F,3,0)),\"NO\",VLOOKUP($A534+8860000,'Growth Data'!$A:$F,3,0))","v":"NO"},0,null,0,{"$f":"IF(DI534=\"YES\",IF(ISERROR(VLOOKUP($A534+8860000,'Growth Data'!$A:$F,6,0)),0,VLOOKUP($A534+8860000,'Growth Data'!$A:$F,6,0)),0)","v":0},0,null,0,{"$f":"IF(ISERROR(VLOOKUP($A534+8860000,'Growth Data'!$A:$Z,7,0)),0,VLOOKUP($A534+8860000,'Growth Data'!$A:$Z,7,0))","v":0},0,null,"NO",{"$f":"IF(ISERROR(VLOOKUP($A534+8860000,'Growth Data'!$A:$F,4,0)),\"NO\",VLOOKUP($A534+8860000,'Growth Data'!$A:$F,4,0))","v":"NO"},0,null,0,{"$f":"IF(ISERROR(VLOOKUP($A534+8860000,'Growth Data'!$A:$Z,8,0)),0,VLOOKUP($A534+8860000,'Growth Data'!$A:$Z,8,0))","v":0},0,null,0,{"$f":"IF(ISERROR(VLOOKUP($A534+8860000,'Growth Data'!$A:$Z,9,0)),0,VLOOKUP($A534+8860000,'Growth Data'!$A:$Z,9,0))","v":0},0,null,"NO",{"$f":"IF(ISERROR(VLOOKUP($A534+8860000,'Growth Data'!$A:$Z,5,0)),\"NO\",VLOOKUP($A534+8860000,'Growth Data'!$A:$Z,5,0))","v":"NO"},0,null,0,{"$f":"IF(ISERROR(VLOOKUP($A534+8860000,'Growth Data'!$A:$Z,10,0)),0,VLOOKUP($A534+8860000,'Growth Data'!$A:$Z,10,0))","v":0},0,null,0,{"$f":"IF(ISERROR(VLOOKUP($A534+8860000,'Growth Data'!$A:$Z,11,0)),0,VLOOKUP($A534+8860000,'Growth Data'!$A:$Z,11,0))","v":0},0]
[5446,"St Anselm's Catholic School, Canterbury",null,"St Anselm's Catholic School, Canterbury",null,1,null,4169208.26,4169208.26,0,null,341367.72,341367.7198782512,1.2174877338111401E-4,null,22315.119999999999,22315.122112211218,-2.1122112193552312E-3,null,392140.27,392140.26536849642,4.6315036015585065E-3,null,117882.46,117882.46,0,null,0,0,0,null,0,0,0,null,0,0,0,null,30720,30720,0,null,0,0,0,null,0,0,0,null,0,0,0,null,5073633.83,5073633.8273589574,2.6410426944494247E-3,null,0,0,0,null,5073633.83,5073633.8273589574,2.6410426944494247E-3,null,0,null,0,null,null,null,0,null,null,null,0,null,695935.42,695935.42209818878,0,null,15415.4,0,15415,null,null,null,0,null,null,null,0,null,null,null,0,null,null,null,0,null,null,null,0,null,null,null,0,null,"NO",{"$f":"IF(ISERROR(VLOOKUP($A535+8860000,'Growth Data'!$A:$F,3,0)),\"NO\",VLOOKUP($A535+8860000,'Growth Data'!$A:$F,3,0))","v":"NO"},0,null,0,{"$f":"IF(DI535=\"YES\",IF(ISERROR(VLOOKUP($A535+8860000,'Growth Data'!$A:$F,6,0)),0,VLOOKUP($A535+8860000,'Growth Data'!$A:$F,6,0)),0)","v":0},0,null,0,{"$f":"IF(ISERROR(VLOOKUP($A535+8860000,'Growth Data'!$A:$Z,7,0)),0,VLOOKUP($A535+8860000,'Growth Data'!$A:$Z,7,0))","v":0},0,null,"NO",{"$f":"IF(ISERROR(VLOOKUP($A535+8860000,'Growth Data'!$A:$F,4,0)),\"NO\",VLOOKUP($A535+8860000,'Growth Data'!$A:$F,4,0))","v":"NO"},0,null,0,{"$f":"IF(ISERROR(VLOOKUP($A535+8860000,'Growth Data'!$A:$Z,8,0)),0,VLOOKUP($A535+8860000,'Growth Data'!$A:$Z,8,0))","v":0},0,null,0,{"$f":"IF(ISERROR(VLOOKUP($A535+8860000,'Growth Data'!$A:$Z,9,0)),0,VLOOKUP($A535+8860000,'Growth Data'!$A:$Z,9,0))","v":0},0,null,"NO",{"$f":"IF(ISERROR(VLOOKUP($A535+8860000,'Growth Data'!$A:$Z,5,0)),\"NO\",VLOOKUP($A535+8860000,'Growth Data'!$A:$Z,5,0))","v":"NO"},0,null,0,{"$f":"IF(ISERROR(VLOOKUP($A535+8860000,'Growth Data'!$A:$Z,10,0)),0,VLOOKUP($A535+8860000,'Growth Data'!$A:$Z,10,0))","v":0},0,null,0,{"$f":"IF(ISERROR(VLOOKUP($A535+8860000,'Growth Data'!$A:$Z,11,0)),0,VLOOKUP($A535+8860000,'Growth Data'!$A:$Z,11,0))","v":0},0]
[5448,"Herne Bay High School",null,"Herne Bay High School",null,1,null,6170547.0800000001,6170547.0800000001,0,null,521913.29,521913.28551371658,4.4862834038212895E-3,null,5988.62,5988.6189379207208,1.0620792791087297E-3,null,341009.85,341009.84729090141,2.7090985677205026E-3,null,117882.46,117882.46,0,null,0,0,0,null,0,0,0,null,0,0,0,null,49896,49896,0,null,0,0,0,null,0,0,0,null,136663.71,136663.7082574612,1.7425387923140079E-3,null,7343901,7343901,0,null,0,0,0,null,7343901,7343901,0,null,0,null,0,null,null,null,0,null,null,null,0,null,898735.13,898735.13473922957,0,null,22818.18,0,22818,null,null,null,0,null,null,null,0,null,null,null,0,null,null,null,0,null,null,null,0,null,null,null,0,null,"NO",{"$f":"IF(ISERROR(VLOOKUP($A536+8860000,'Growth Data'!$A:$F,3,0)),\"NO\",VLOOKUP($A536+8860000,'Growth Data'!$A:$F,3,0))","v":"NO"},0,null,0,{"$f":"IF(DI536=\"YES\",IF(ISERROR(VLOOKUP($A536+8860000,'Growth Data'!$A:$F,6,0)),0,VLOOKUP($A536+8860000,'Growth Data'!$A:$F,6,0)),0)","v":0},0,null,0,{"$f":"IF(ISERROR(VLOOKUP($A536+8860000,'Growth Data'!$A:$Z,7,0)),0,VLOOKUP($A536+8860000,'Growth Data'!$A:$Z,7,0))","v":0},0,null,"NO",{"$f":"IF(ISERROR(VLOOKUP($A536+8860000,'Growth Data'!$A:$F,4,0)),\"NO\",VLOOKUP($A536+8860000,'Growth Data'!$A:$F,4,0))","v":"NO"},0,null,0,{"$f":"IF(ISERROR(VLOOKUP($A536+8860000,'Growth Data'!$A:$Z,8,0)),0,VLOOKUP($A536+8860000,'Growth Data'!$A:$Z,8,0))","v":0},0,null,0,{"$f":"IF(ISERROR(VLOOKUP($A536+8860000,'Growth Data'!$A:$Z,9,0)),0,VLOOKUP($A536+8860000,'Growth Data'!$A:$Z,9,0))","v":0},0,null,"NO",{"$f":"IF(ISERROR(VLOOKUP($A536+8860000,'Growth Data'!$A:$Z,5,0)),\"NO\",VLOOKUP($A536+8860000,'Growth Data'!$A:$Z,5,0))","v":"NO"},0,null,0,{"$f":"IF(ISERROR(VLOOKUP($A536+8860000,'Growth Data'!$A:$Z,10,0)),0,VLOOKUP($A536+8860000,'Growth Data'!$A:$Z,10,0))","v":0},0,null,0,{"$f":"IF(ISERROR(VLOOKUP($A536+8860000,'Growth Data'!$A:$Z,11,0)),0,VLOOKUP($A536+8860000,'Growth Data'!$A:$Z,11,0))","v":0},0]
[5449,"Queen Elizabeth's Grammar School",null,"Queen Elizabeth's Grammar School",null,1,null,3463325.84,3463325.84,0,null,144045.26999999999,144045.27158878499,-1.5887850022409111E-3,null,2991.87,2991.8674833555247,2.5166444752358075E-3,null,12525.39,12525.387012311885,2.9876881144446088E-3,null,117882.46,117882.46,0,null,0,0,0,null,0,0,0,null,0,0,0,null,30965.759999999998,30965.7599999999,9.822542779147625E-11,null,0,0,0,null,0,0,0,null,352969.17,352969.17391554773,-3.9155477425083518E-3,null,4124705.76,4124705.76,0,null,0,0,0,null,4124705.76,4124705.76,0,null,0,null,0,null,null,null,0,null,null,null,0,null,497755.37,497755.37473923009,0,null,12806.64,0,12807,null,null,null,0,null,null,null,0,null,null,null,0,null,null,null,0,null,null,null,0,null,null,null,0,null,"NO",{"$f":"IF(ISERROR(VLOOKUP($A537+8860000,'Growth Data'!$A:$F,3,0)),\"NO\",VLOOKUP($A537+8860000,'Growth Data'!$A:$F,3,0))","v":"NO"},0,null,0,{"$f":"IF(DI537=\"YES\",IF(ISERROR(VLOOKUP($A537+8860000,'Growth Data'!$A:$F,6,0)),0,VLOOKUP($A537+8860000,'Growth Data'!$A:$F,6,0)),0)","v":0},0,null,0,{"$f":"IF(ISERROR(VLOOKUP($A537+8860000,'Growth Data'!$A:$Z,7,0)),0,VLOOKUP($A537+8860000,'Growth Data'!$A:$Z,7,0))","v":0},0,null,"NO",{"$f":"IF(ISERROR(VLOOKUP($A537+8860000,'Growth Data'!$A:$F,4,0)),\"NO\",VLOOKUP($A537+8860000,'Growth Data'!$A:$F,4,0))","v":"NO"},0,null,0,{"$f":"IF(ISERROR(VLOOKUP($A537+8860000,'Growth Data'!$A:$Z,8,0)),0,VLOOKUP($A537+8860000,'Growth Data'!$A:$Z,8,0))","v":0},0,null,0,{"$f":"IF(ISERROR(VLOOKUP($A537+8860000,'Growth Data'!$A:$Z,9,0)),0,VLOOKUP($A537+8860000,'Growth Data'!$A:$Z,9,0))","v":0},0,null,"NO",{"$f":"IF(ISERROR(VLOOKUP($A537+8860000,'Growth Data'!$A:$Z,5,0)),\"NO\",VLOOKUP($A537+8860000,'Growth Data'!$A:$Z,5,0))","v":"NO"},0,null,0,{"$f":"IF(ISERROR(VLOOKUP($A537+8860000,'Growth Data'!$A:$Z,10,0)),0,VLOOKUP($A537+8860000,'Growth Data'!$A:$Z,10,0))","v":0},0,null,0,{"$f":"IF(ISERROR(VLOOKUP($A537+8860000,'Growth Data'!$A:$Z,11,0)),0,VLOOKUP($A537+8860000,'Growth Data'!$A:$Z,11,0))","v":0},0]
[5450,"Hillview School for Girls",null,"Hillview School for Girls",null,1,null,4796666.0999999996,4796666.0999999996,0,null,238008.97,238008.97105241567,-1.0524156678002328E-3,null,19318.52,19318.519999999997,0,null,364319.56,364319.56378825317,-3.7882531760260463E-3,null,117882.46,117882.46,0,null,0,0,0,null,0,0,0,null,0,0,0,null,25856,25856,0,null,0,0,0,null,0,0,0,null,160384.39000000001,160384.38515933149,4.840668523684144E-3,null,5722436,5722435.9999999991,0,null,0,0,0,null,5722436,5722435.9999999991,0,null,0,null,0,null,null,null,0,null,null,null,0,null,732270.79,732270.79473923007,0,null,17820.88,0,17821,null,null,null,0,null,null,null,0,null,null,null,0,null,null,null,0,null,null,null,0,null,null,null,0,null,"NO",{"$f":"IF(ISERROR(VLOOKUP($A538+8860000,'Growth Data'!$A:$F,3,0)),\"NO\",VLOOKUP($A538+8860000,'Growth Data'!$A:$F,3,0))","v":"NO"},0,null,0,{"$f":"IF(DI538=\"YES\",IF(ISERROR(VLOOKUP($A538+8860000,'Growth Data'!$A:$F,6,0)),0,VLOOKUP($A538+8860000,'Growth Data'!$A:$F,6,0)),0)","v":0},0,null,0,{"$f":"IF(ISERROR(VLOOKUP($A538+8860000,'Growth Data'!$A:$Z,7,0)),0,VLOOKUP($A538+8860000,'Growth Data'!$A:$Z,7,0))","v":0},0,null,"NO",{"$f":"IF(ISERROR(VLOOKUP($A538+8860000,'Growth Data'!$A:$F,4,0)),\"NO\",VLOOKUP($A538+8860000,'Growth Data'!$A:$F,4,0))","v":"NO"},0,null,0,{"$f":"IF(ISERROR(VLOOKUP($A538+8860000,'Growth Data'!$A:$Z,8,0)),0,VLOOKUP($A538+8860000,'Growth Data'!$A:$Z,8,0))","v":0},0,null,0,{"$f":"IF(ISERROR(VLOOKUP($A538+8860000,'Growth Data'!$A:$Z,9,0)),0,VLOOKUP($A538+8860000,'Growth Data'!$A:$Z,9,0))","v":0},0,null,"NO",{"$f":"IF(ISERROR(VLOOKUP($A538+8860000,'Growth Data'!$A:$Z,5,0)),\"NO\",VLOOKUP($A538+8860000,'Growth Data'!$A:$Z,5,0))","v":"NO"},0,null,0,{"$f":"IF(ISERROR(VLOOKUP($A538+8860000,'Growth Data'!$A:$Z,10,0)),0,VLOOKUP($A538+8860000,'Growth Data'!$A:$Z,10,0))","v":0},0,null,0,{"$f":"IF(ISERROR(VLOOKUP($A538+8860000,'Growth Data'!$A:$Z,11,0)),0,VLOOKUP($A538+8860000,'Growth Data'!$A:$Z,11,0))","v":0},0]
[5455,"The Hayesbrook School",null,"The Hayesbrook School",null,1,null,1688576.7,1688576.7000000002,0,null,129422.37,129422.37204081638,-2.0408163836691529E-3,null,19318.52,19318.519999999979,0,null,174451.31,174451.31240014982,-2.4001498240977526E-3,null,117882.46,117882.46,0,null,0,0,0,null,0,0,0,null,0,0,0,null,37376,37376,0,null,0,0,0,null,0,0,0,null,0,0,0,null,2167027.36,2167027.3644409664,-4.4409665279090405E-3,null,0,0,0,null,2167027.36,2167027.3644409664,-4.4409665279090405E-3,null,0,null,0,null,null,null,0,null,null,null,0,null,301971.40000000002,301971.39918019611,0,null,6233.92,0,6234,null,null,null,0,null,null,null,0,null,null,null,0,null,null,null,0,null,null,null,0,null,null,null,0,null,"NO",{"$f":"IF(ISERROR(VLOOKUP($A539+8860000,'Growth Data'!$A:$F,3,0)),\"NO\",VLOOKUP($A539+8860000,'Growth Data'!$A:$F,3,0))","v":"NO"},0,null,0,{"$f":"IF(DI539=\"YES\",IF(ISERROR(VLOOKUP($A539+8860000,'Growth Data'!$A:$F,6,0)),0,VLOOKUP($A539+8860000,'Growth Data'!$A:$F,6,0)),0)","v":0},0,null,0,{"$f":"IF(ISERROR(VLOOKUP($A539+8860000,'Growth Data'!$A:$Z,7,0)),0,VLOOKUP($A539+8860000,'Growth Data'!$A:$Z,7,0))","v":0},0,null,"NO",{"$f":"IF(ISERROR(VLOOKUP($A539+8860000,'Growth Data'!$A:$F,4,0)),\"NO\",VLOOKUP($A539+8860000,'Growth Data'!$A:$F,4,0))","v":"NO"},0,null,0,{"$f":"IF(ISERROR(VLOOKUP($A539+8860000,'Growth Data'!$A:$Z,8,0)),0,VLOOKUP($A539+8860000,'Growth Data'!$A:$Z,8,0))","v":0},0,null,0,{"$f":"IF(ISERROR(VLOOKUP($A539+8860000,'Growth Data'!$A:$Z,9,0)),0,VLOOKUP($A539+8860000,'Growth Data'!$A:$Z,9,0))","v":0},0,null,"NO",{"$f":"IF(ISERROR(VLOOKUP($A539+8860000,'Growth Data'!$A:$Z,5,0)),\"NO\",VLOOKUP($A539+8860000,'Growth Data'!$A:$Z,5,0))","v":"NO"},0,null,0,{"$f":"IF(ISERROR(VLOOKUP($A539+8860000,'Growth Data'!$A:$Z,10,0)),0,VLOOKUP($A539+8860000,'Growth Data'!$A:$Z,10,0))","v":0},0,null,0,{"$f":"IF(ISERROR(VLOOKUP($A539+8860000,'Growth Data'!$A:$Z,11,0)),0,VLOOKUP($A539+8860000,'Growth Data'!$A:$Z,11,0))","v":0},0]
[5460,"Dane Court Grammar School",null,"Dane Court Grammar School",null,1,null,4108594.82,4108594.8200000003,0,null,330728.09000000003,330728.09098305093,-9.8305090796202421E-4,null,5977.48,5977.4792825112163,7.174887832661625E-4,null,11836.97,11836.972963066468,-2.9630664685100783E-3,null,117882.46,117882.46,0,null,0,0,0,null,0,0,0,null,0,0,0,null,46336,46336,0,null,0,0,0,null,0,0,0,null,282235.18,282235.17677137104,3.2286289497278631E-3,null,4903591,4903591,0,null,0,0,0,null,4903591,4903591,0,null,0,null,0,null,null,null,0,null,null,null,0,null,589763.15,589763.15473922971,0,null,15195.18,0,15195,null,null,null,0,null,null,null,0,null,null,null,0,null,null,null,0,null,null,null,0,null,null,null,0,null,"NO",{"$f":"IF(ISERROR(VLOOKUP($A540+8860000,'Growth Data'!$A:$F,3,0)),\"NO\",VLOOKUP($A540+8860000,'Growth Data'!$A:$F,3,0))","v":"NO"},0,null,0,{"$f":"IF(DI540=\"YES\",IF(ISERROR(VLOOKUP($A540+8860000,'Growth Data'!$A:$F,6,0)),0,VLOOKUP($A540+8860000,'Growth Data'!$A:$F,6,0)),0)","v":0},0,null,0,{"$f":"IF(ISERROR(VLOOKUP($A540+8860000,'Growth Data'!$A:$Z,7,0)),0,VLOOKUP($A540+8860000,'Growth Data'!$A:$Z,7,0))","v":0},0,null,"NO",{"$f":"IF(ISERROR(VLOOKUP($A540+8860000,'Growth Data'!$A:$F,4,0)),\"NO\",VLOOKUP($A540+8860000,'Growth Data'!$A:$F,4,0))","v":"NO"},0,null,0,{"$f":"IF(ISERROR(VLOOKUP($A540+8860000,'Growth Data'!$A:$Z,8,0)),0,VLOOKUP($A540+8860000,'Growth Data'!$A:$Z,8,0))","v":0},0,null,0,{"$f":"IF(ISERROR(VLOOKUP($A540+8860000,'Growth Data'!$A:$Z,9,0)),0,VLOOKUP($A540+8860000,'Growth Data'!$A:$Z,9,0))","v":0},0,null,"NO",{"$f":"IF(ISERROR(VLOOKUP($A540+8860000,'Growth Data'!$A:$Z,5,0)),\"NO\",VLOOKUP($A540+8860000,'Growth Data'!$A:$Z,5,0))","v":"NO"},0,null,0,{"$f":"IF(ISERROR(VLOOKUP($A540+8860000,'Growth Data'!$A:$Z,10,0)),0,VLOOKUP($A540+8860000,'Growth Data'!$A:$Z,10,0))","v":0},0,null,0,{"$f":"IF(ISERROR(VLOOKUP($A540+8860000,'Growth Data'!$A:$Z,11,0)),0,VLOOKUP($A540+8860000,'Growth Data'!$A:$Z,11,0))","v":0},0]
[5462,"Chatham & Clarendon Grammar School",null,"Chatham & Clarendon Grammar School",null,1,null,4700940.7,4700940.7,0,null,350594.42,350594.42200392915,-2.0039291703142226E-3,null,4493.1499999999996,4493.1543418467609,-4.3418467612355016E-3,null,13208.41,13208.411737318957,-1.7373189566569636E-3,null,117882.46,117882.46,0,null,0,0,0,null,0,0,0,null,0,0,0,null,41190.400000000001,41190.400000000001,0,null,0,0,0,null,0,0,0,null,368670.85,368670.85191690491,-1.9169049337506294E-3,null,5596980.4000000004,5596980.4000000004,0,null,0,0,0,null,5596980.4000000004,5596980.4000000004,0,null,0,null,0,null,null,null,0,null,null,null,0,null,698253.87,698253.87473922968,0,null,17380.439999999999,0,17380,null,null,null,0,null,null,null,0,null,null,null,0,null,null,null,0,null,null,null,0,null,null,null,0,null,"NO",{"$f":"IF(ISERROR(VLOOKUP($A541+8860000,'Growth Data'!$A:$F,3,0)),\"NO\",VLOOKUP($A541+8860000,'Growth Data'!$A:$F,3,0))","v":"NO"},0,null,0,{"$f":"IF(DI541=\"YES\",IF(ISERROR(VLOOKUP($A541+8860000,'Growth Data'!$A:$F,6,0)),0,VLOOKUP($A541+8860000,'Growth Data'!$A:$F,6,0)),0)","v":0},0,null,0,{"$f":"IF(ISERROR(VLOOKUP($A541+8860000,'Growth Data'!$A:$Z,7,0)),0,VLOOKUP($A541+8860000,'Growth Data'!$A:$Z,7,0))","v":0},0,null,"NO",{"$f":"IF(ISERROR(VLOOKUP($A541+8860000,'Growth Data'!$A:$F,4,0)),\"NO\",VLOOKUP($A541+8860000,'Growth Data'!$A:$F,4,0))","v":"NO"},0,null,0,{"$f":"IF(ISERROR(VLOOKUP($A541+8860000,'Growth Data'!$A:$Z,8,0)),0,VLOOKUP($A541+8860000,'Growth Data'!$A:$Z,8,0))","v":0},0,null,0,{"$f":"IF(ISERROR(VLOOKUP($A541+8860000,'Growth Data'!$A:$Z,9,0)),0,VLOOKUP($A541+8860000,'Growth Data'!$A:$Z,9,0))","v":0},0,null,"NO",{"$f":"IF(ISERROR(VLOOKUP($A541+8860000,'Growth Data'!$A:$Z,5,0)),\"NO\",VLOOKUP($A541+8860000,'Growth Data'!$A:$Z,5,0))","v":"NO"},0,null,0,{"$f":"IF(ISERROR(VLOOKUP($A541+8860000,'Growth Data'!$A:$Z,10,0)),0,VLOOKUP($A541+8860000,'Growth Data'!$A:$Z,10,0))","v":0},0,null,0,{"$f":"IF(ISERROR(VLOOKUP($A541+8860000,'Growth Data'!$A:$Z,11,0)),0,VLOOKUP($A541+8860000,'Growth Data'!$A:$Z,11,0))","v":0},0]
[5463,"Sandwich Technology School",null,"Sandwich Technology School",null,1,null,5679825.2999999998,5679825.3000000007,0,null,540032.99,540032.9919547654,-1.9547654082998633E-3,null,4458.12,4458.1200000000026,0,null,496653,496652.99504376511,4.9562348867766559E-3,null,117882.46,117882.46,0,null,0,0,0,null,0,0,0,null,0,0,0,null,37120,37120,0,null,0,0,0,null,0,0,0,null,0,0,0,null,6875971.8700000001,6875971.8669985309,3.001469187438488E-3,null,0,0,0,null,6875971.8700000001,6875971.8669985309,3.001469187438488E-3,null,0,null,0,null,null,null,0,null,null,null,0,null,933383.14,933383.14173776039,0,null,20988.66,0,20989,null,null,null,0,null,null,null,0,null,null,null,0,null,null,null,0,null,null,null,0,null,null,null,0,null,"NO",{"$f":"IF(ISERROR(VLOOKUP($A542+8860000,'Growth Data'!$A:$F,3,0)),\"NO\",VLOOKUP($A542+8860000,'Growth Data'!$A:$F,3,0))","v":"NO"},0,null,0,{"$f":"IF(DI542=\"YES\",IF(ISERROR(VLOOKUP($A542+8860000,'Growth Data'!$A:$F,6,0)),0,VLOOKUP($A542+8860000,'Growth Data'!$A:$F,6,0)),0)","v":0},0,null,0,{"$f":"IF(ISERROR(VLOOKUP($A542+8860000,'Growth Data'!$A:$Z,7,0)),0,VLOOKUP($A542+8860000,'Growth Data'!$A:$Z,7,0))","v":0},0,null,"NO",{"$f":"IF(ISERROR(VLOOKUP($A542+8860000,'Growth Data'!$A:$F,4,0)),\"NO\",VLOOKUP($A542+8860000,'Growth Data'!$A:$F,4,0))","v":"NO"},0,null,0,{"$f":"IF(ISERROR(VLOOKUP($A542+8860000,'Growth Data'!$A:$Z,8,0)),0,VLOOKUP($A542+8860000,'Growth Data'!$A:$Z,8,0))","v":0},0,null,0,{"$f":"IF(ISERROR(VLOOKUP($A542+8860000,'Growth Data'!$A:$Z,9,0)),0,VLOOKUP($A542+8860000,'Growth Data'!$A:$Z,9,0))","v":0},0,null,"NO",{"$f":"IF(ISERROR(VLOOKUP($A542+8860000,'Growth Data'!$A:$Z,5,0)),\"NO\",VLOOKUP($A542+8860000,'Growth Data'!$A:$Z,5,0))","v":"NO"},0,null,0,{"$f":"IF(ISERROR(VLOOKUP($A542+8860000,'Growth Data'!$A:$Z,10,0)),0,VLOOKUP($A542+8860000,'Growth Data'!$A:$Z,10,0))","v":0},0,null,0,{"$f":"IF(ISERROR(VLOOKUP($A542+8860000,'Growth Data'!$A:$Z,11,0)),0,VLOOKUP($A542+8860000,'Growth Data'!$A:$Z,11,0))","v":0},0]
[5464,"Bennett Memorial Diocesan School",null,"Bennett Memorial Diocesan School",null,1,null,6351620.0800000001,6351620.0800000001,0,null,143644.5,143644.49704723788,2.9527621227316558E-3,null,14989.9,14989.902396514153,-2.396514153588214E-3,null,397652.97,397652.97180657747,-1.8065774929709733E-3,null,117882.46,117882.46,0,null,0,0,0,null,0,0,0,null,0,0,0,null,46796.800000000003,46796.800000000003,0,null,0,0,0,null,0,0,0,null,495645.09,495645.08874967037,1.2503296602517366E-3,null,7568231.7999999998,7568231.7999999998,0,null,0,0,0,null,7568231.7999999998,7568231.7999999998,0,null,0,null,0,null,null,null,0,null,null,null,0,null,1026108.45,1026108.4547392298,0,null,23529.66,0,23530,null,null,null,0,null,null,null,0,null,null,null,0,null,null,null,0,null,null,null,0,null,null,null,0,null,"NO",{"$f":"IF(ISERROR(VLOOKUP($A543+8860000,'Growth Data'!$A:$F,3,0)),\"NO\",VLOOKUP($A543+8860000,'Growth Data'!$A:$F,3,0))","v":"NO"},0,null,0,{"$f":"IF(DI543=\"YES\",IF(ISERROR(VLOOKUP($A543+8860000,'Growth Data'!$A:$F,6,0)),0,VLOOKUP($A543+8860000,'Growth Data'!$A:$F,6,0)),0)","v":0},0,null,0,{"$f":"IF(ISERROR(VLOOKUP($A543+8860000,'Growth Data'!$A:$Z,7,0)),0,VLOOKUP($A543+8860000,'Growth Data'!$A:$Z,7,0))","v":0},0,null,"NO",{"$f":"IF(ISERROR(VLOOKUP($A543+8860000,'Growth Data'!$A:$F,4,0)),\"NO\",VLOOKUP($A543+8860000,'Growth Data'!$A:$F,4,0))","v":"NO"},0,null,0,{"$f":"IF(ISERROR(VLOOKUP($A543+8860000,'Growth Data'!$A:$Z,8,0)),0,VLOOKUP($A543+8860000,'Growth Data'!$A:$Z,8,0))","v":0},0,null,0,{"$f":"IF(ISERROR(VLOOKUP($A543+8860000,'Growth Data'!$A:$Z,9,0)),0,VLOOKUP($A543+8860000,'Growth Data'!$A:$Z,9,0))","v":0},0,null,"NO",{"$f":"IF(ISERROR(VLOOKUP($A543+8860000,'Growth Data'!$A:$Z,5,0)),\"NO\",VLOOKUP($A543+8860000,'Growth Data'!$A:$Z,5,0))","v":"NO"},0,null,0,{"$f":"IF(ISERROR(VLOOKUP($A543+8860000,'Growth Data'!$A:$Z,10,0)),0,VLOOKUP($A543+8860000,'Growth Data'!$A:$Z,10,0))","v":0},0,null,0,{"$f":"IF(ISERROR(VLOOKUP($A543+8860000,'Growth Data'!$A:$Z,11,0)),0,VLOOKUP($A543+8860000,'Growth Data'!$A:$Z,11,0))","v":0},0]
[5465,"Gravesend Grammar School",null,"Gravesend Grammar School",null,1,null,4308787.2000000002,4308787.2000000002,0,null,214474.52,214474.51693415869,3.0658413015771657E-3,null,8954.2199999999993,8954.2218530351493,-1.8530351499066455E-3,null,21350.94,21350.935984782642,4.0152173569367733E-3,null,117882.46,117882.46,0,null,0,0,0,null,0,0,0,null,0,0,0,null,32000,32000,0,null,0,0,0,null,0,0,0,null,434895.67,434895.66522802325,4.7719767317175865E-3,null,5138345,5138345,0,null,0,0,0,null,5138345,5138345,0,null,0,null,0,null,null,null,0,null,null,null,0,null,663978.37,663978.37473922968,0,null,15974.42,0,15974,null,null,null,0,null,null,null,0,null,null,null,0,null,null,null,0,null,null,null,0,null,null,null,0,null,"NO",{"$f":"IF(ISERROR(VLOOKUP($A544+8860000,'Growth Data'!$A:$F,3,0)),\"NO\",VLOOKUP($A544+8860000,'Growth Data'!$A:$F,3,0))","v":"NO"},0,null,0,{"$f":"IF(DI544=\"YES\",IF(ISERROR(VLOOKUP($A544+8860000,'Growth Data'!$A:$F,6,0)),0,VLOOKUP($A544+8860000,'Growth Data'!$A:$F,6,0)),0)","v":0},0,null,0,{"$f":"IF(ISERROR(VLOOKUP($A544+8860000,'Growth Data'!$A:$Z,7,0)),0,VLOOKUP($A544+8860000,'Growth Data'!$A:$Z,7,0))","v":0},0,null,"NO",{"$f":"IF(ISERROR(VLOOKUP($A544+8860000,'Growth Data'!$A:$F,4,0)),\"NO\",VLOOKUP($A544+8860000,'Growth Data'!$A:$F,4,0))","v":"NO"},0,null,0,{"$f":"IF(ISERROR(VLOOKUP($A544+8860000,'Growth Data'!$A:$Z,8,0)),0,VLOOKUP($A544+8860000,'Growth Data'!$A:$Z,8,0))","v":0},0,null,0,{"$f":"IF(ISERROR(VLOOKUP($A544+8860000,'Growth Data'!$A:$Z,9,0)),0,VLOOKUP($A544+8860000,'Growth Data'!$A:$Z,9,0))","v":0},0,null,"NO",{"$f":"IF(ISERROR(VLOOKUP($A544+8860000,'Growth Data'!$A:$Z,5,0)),\"NO\",VLOOKUP($A544+8860000,'Growth Data'!$A:$Z,5,0))","v":"NO"},0,null,0,{"$f":"IF(ISERROR(VLOOKUP($A544+8860000,'Growth Data'!$A:$Z,10,0)),0,VLOOKUP($A544+8860000,'Growth Data'!$A:$Z,10,0))","v":0},0,null,0,{"$f":"IF(ISERROR(VLOOKUP($A544+8860000,'Growth Data'!$A:$Z,11,0)),0,VLOOKUP($A544+8860000,'Growth Data'!$A:$Z,11,0))","v":0},0]
[5466,"Brockhill Park Performing Arts College",null,"Brockhill Park Performing Arts College",null,1,null,5635701.2999999998,5635701.2999999998,0,null,530269.57999999996,530269.57866476884,1.3352311216294765E-3,null,4476.3500000000004,4476.3461651676289,3.8348323714672006E-3,null,541550.49,541550.48501736333,4.9826366594061255E-3,null,117882.46,117882.46,0,null,0,0,0,null,0,0,0,null,0,0,0,null,45568,45568,0,null,0,0,0,null,0,0,0,null,0,0,0,null,6875448.1699999999,6875448.1698472984,1.5270151197910309E-4,null,0,0,0,null,6875448.1699999999,6875448.1698472984,1.5270151197910309E-4,null,0,null,0,null,null,null,0,null,null,null,0,null,973598.96,973598.96458652953,0,null,20802.32,0,20802,null,null,null,0,null,null,null,0,null,null,null,0,null,null,null,0,null,null,null,0,null,null,null,0,null,"NO",{"$f":"IF(ISERROR(VLOOKUP($A545+8860000,'Growth Data'!$A:$F,3,0)),\"NO\",VLOOKUP($A545+8860000,'Growth Data'!$A:$F,3,0))","v":"NO"},0,null,0,{"$f":"IF(DI545=\"YES\",IF(ISERROR(VLOOKUP($A545+8860000,'Growth Data'!$A:$F,6,0)),0,VLOOKUP($A545+8860000,'Growth Data'!$A:$F,6,0)),0)","v":0},0,null,0,{"$f":"IF(ISERROR(VLOOKUP($A545+8860000,'Growth Data'!$A:$Z,7,0)),0,VLOOKUP($A545+8860000,'Growth Data'!$A:$Z,7,0))","v":0},0,null,"NO",{"$f":"IF(ISERROR(VLOOKUP($A545+8860000,'Growth Data'!$A:$F,4,0)),\"NO\",VLOOKUP($A545+8860000,'Growth Data'!$A:$F,4,0))","v":"NO"},0,null,0,{"$f":"IF(ISERROR(VLOOKUP($A545+8860000,'Growth Data'!$A:$Z,8,0)),0,VLOOKUP($A545+8860000,'Growth Data'!$A:$Z,8,0))","v":0},0,null,0,{"$f":"IF(ISERROR(VLOOKUP($A545+8860000,'Growth Data'!$A:$Z,9,0)),0,VLOOKUP($A545+8860000,'Growth Data'!$A:$Z,9,0))","v":0},0,null,"NO",{"$f":"IF(ISERROR(VLOOKUP($A545+8860000,'Growth Data'!$A:$Z,5,0)),\"NO\",VLOOKUP($A545+8860000,'Growth Data'!$A:$Z,5,0))","v":"NO"},0,null,0,{"$f":"IF(ISERROR(VLOOKUP($A545+8860000,'Growth Data'!$A:$Z,10,0)),0,VLOOKUP($A545+8860000,'Growth Data'!$A:$Z,10,0))","v":0},0,null,0,{"$f":"IF(ISERROR(VLOOKUP($A545+8860000,'Growth Data'!$A:$Z,11,0)),0,VLOOKUP($A545+8860000,'Growth Data'!$A:$Z,11,0))","v":0},0]
[5467,"Mayfield Grammar School, Gravesend",null,"Mayfield Grammar School, Gravesend",null,1,null,4301167.84,4301167.84,0,null,224452.43,224452.42983443706,1.6556293121539056E-4,null,8916.24,8916.2399999999925,0,null,16476,16475.997071081871,2.9289181293279398E-3,null,117882.46,117882.46,0,null,0,0,0,null,0,0,0,null,0,0,0,null,23705.599999999999,23705.599999999999,0,null,0,0,0,null,0,0,0,null,426620.03,426620.03309448116,-3.0944811296649277E-3,null,5119220.5999999996,5119220.5999999996,0,null,0,0,0,null,5119220.5999999996,5119220.5999999996,0,null,0,null,0,null,null,null,0,null,null,null,0,null,654323.25,654323.25473923003,0,null,15940.54,0,15941,null,null,null,0,null,null,null,0,null,null,null,0,null,null,null,0,null,null,null,0,null,null,null,0,null,"NO",{"$f":"IF(ISERROR(VLOOKUP($A546+8860000,'Growth Data'!$A:$F,3,0)),\"NO\",VLOOKUP($A546+8860000,'Growth Data'!$A:$F,3,0))","v":"NO"},0,null,0,{"$f":"IF(DI546=\"YES\",IF(ISERROR(VLOOKUP($A546+8860000,'Growth Data'!$A:$F,6,0)),0,VLOOKUP($A546+8860000,'Growth Data'!$A:$F,6,0)),0)","v":0},0,null,0,{"$f":"IF(ISERROR(VLOOKUP($A546+8860000,'Growth Data'!$A:$Z,7,0)),0,VLOOKUP($A546+8860000,'Growth Data'!$A:$Z,7,0))","v":0},0,null,"NO",{"$f":"IF(ISERROR(VLOOKUP($A546+8860000,'Growth Data'!$A:$F,4,0)),\"NO\",VLOOKUP($A546+8860000,'Growth Data'!$A:$F,4,0))","v":"NO"},0,null,0,{"$f":"IF(ISERROR(VLOOKUP($A546+8860000,'Growth Data'!$A:$Z,8,0)),0,VLOOKUP($A546+8860000,'Growth Data'!$A:$Z,8,0))","v":0},0,null,0,{"$f":"IF(ISERROR(VLOOKUP($A546+8860000,'Growth Data'!$A:$Z,9,0)),0,VLOOKUP($A546+8860000,'Growth Data'!$A:$Z,9,0))","v":0},0,null,"NO",{"$f":"IF(ISERROR(VLOOKUP($A546+8860000,'Growth Data'!$A:$Z,5,0)),\"NO\",VLOOKUP($A546+8860000,'Growth Data'!$A:$Z,5,0))","v":"NO"},0,null,0,{"$f":"IF(ISERROR(VLOOKUP($A546+8860000,'Growth Data'!$A:$Z,10,0)),0,VLOOKUP($A546+8860000,'Growth Data'!$A:$Z,10,0))","v":0},0,null,0,{"$f":"IF(ISERROR(VLOOKUP($A546+8860000,'Growth Data'!$A:$Z,11,0)),0,VLOOKUP($A546+8860000,'Growth Data'!$A:$Z,11,0))","v":0},0]
[6905,"Knole Academy",null,"Knole Academy",null,1,null,5666591.1600000001,5666591.1600000001,0,null,320550.75,320550.74898858054,1.011419459246099E-3,null,13374.36,13374.359999999997,0,null,419844.42,419844.42340790457,-3.4079045872204006E-3,null,117882.46,117882.46,0,null,0,0,0,null,240607.35,240607.34800819069,1.9918093166779727E-3,null,0,0,0,null,58149,58149,0,null,0,0,0,null,0,0,0,null,0,0,0,null,6836999.5,6836999.5004046764,-4.0467642247676849E-4,null,0,0,0,null,6836999.5,6836999.5004046764,-4.0467642247676849E-4,null,0,null,0,null,null,null,0,null,null,null,0,null,706530.69,706530.68515830953,0,null,21743.48,0,21743,null,null,null,0,null,null,null,0,null,null,null,0,null,null,null,0,null,null,null,0,null,null,null,0,null,"NO",{"$f":"IF(ISERROR(VLOOKUP($A547+8860000,'Growth Data'!$A:$F,3,0)),\"NO\",VLOOKUP($A547+8860000,'Growth Data'!$A:$F,3,0))","v":"NO"},0,null,0,{"$f":"IF(DI547=\"YES\",IF(ISERROR(VLOOKUP($A547+8860000,'Growth Data'!$A:$F,6,0)),0,VLOOKUP($A547+8860000,'Growth Data'!$A:$F,6,0)),0)","v":0},0,null,0,{"$f":"IF(ISERROR(VLOOKUP($A547+8860000,'Growth Data'!$A:$Z,7,0)),0,VLOOKUP($A547+8860000,'Growth Data'!$A:$Z,7,0))","v":0},0,null,"NO",{"$f":"IF(ISERROR(VLOOKUP($A547+8860000,'Growth Data'!$A:$F,4,0)),\"NO\",VLOOKUP($A547+8860000,'Growth Data'!$A:$F,4,0))","v":"NO"},0,null,0,{"$f":"IF(ISERROR(VLOOKUP($A547+8860000,'Growth Data'!$A:$Z,8,0)),0,VLOOKUP($A547+8860000,'Growth Data'!$A:$Z,8,0))","v":0},0,null,0,{"$f":"IF(ISERROR(VLOOKUP($A547+8860000,'Growth Data'!$A:$Z,9,0)),0,VLOOKUP($A547+8860000,'Growth Data'!$A:$Z,9,0))","v":0},0,null,"NO",{"$f":"IF(ISERROR(VLOOKUP($A547+8860000,'Growth Data'!$A:$Z,5,0)),\"NO\",VLOOKUP($A547+8860000,'Growth Data'!$A:$Z,5,0))","v":"NO"},0,null,0,{"$f":"IF(ISERROR(VLOOKUP($A547+8860000,'Growth Data'!$A:$Z,10,0)),0,VLOOKUP($A547+8860000,'Growth Data'!$A:$Z,10,0))","v":0},0,null,0,{"$f":"IF(ISERROR(VLOOKUP($A547+8860000,'Growth Data'!$A:$Z,11,0)),0,VLOOKUP($A547+8860000,'Growth Data'!$A:$Z,11,0))","v":0},0]
[6909,"The Marsh Academy",null,"The Marsh Academy",null,1,null,4014661.06,4014661.0600000005,0,null,487582.18,487582.17838672764,1.6132723540067673E-3,null,4458.12,4458.1199999999944,0,null,473974.56,473974.55764298333,2.3570166667923331E-3,null,117882.46,117882.46,0,null,0,0,0,null,0,0,0,null,0,0,0,null,54474.42,54474.42,0,null,0,0,0,null,0,0,0,null,0,0,0,null,5153032.8,5153032.7960297111,3.9702886715531349E-3,null,0,0,0,null,5153032.8,5153032.7960297111,3.9702886715531349E-3,null,0,null,0,null,null,null,0,null,null,null,0,null,881269.89,881269.89076894068,0,null,14856.38,0,14856,null,null,null,0,null,null,null,0,null,null,null,0,null,null,null,0,null,null,null,0,null,null,null,0,null,"NO",{"$f":"IF(ISERROR(VLOOKUP($A548+8860000,'Growth Data'!$A:$F,3,0)),\"NO\",VLOOKUP($A548+8860000,'Growth Data'!$A:$F,3,0))","v":"NO"},0,null,0,{"$f":"IF(DI548=\"YES\",IF(ISERROR(VLOOKUP($A548+8860000,'Growth Data'!$A:$F,6,0)),0,VLOOKUP($A548+8860000,'Growth Data'!$A:$F,6,0)),0)","v":0},0,null,0,{"$f":"IF(ISERROR(VLOOKUP($A548+8860000,'Growth Data'!$A:$Z,7,0)),0,VLOOKUP($A548+8860000,'Growth Data'!$A:$Z,7,0))","v":0},0,null,"NO",{"$f":"IF(ISERROR(VLOOKUP($A548+8860000,'Growth Data'!$A:$F,4,0)),\"NO\",VLOOKUP($A548+8860000,'Growth Data'!$A:$F,4,0))","v":"NO"},0,null,0,{"$f":"IF(ISERROR(VLOOKUP($A548+8860000,'Growth Data'!$A:$Z,8,0)),0,VLOOKUP($A548+8860000,'Growth Data'!$A:$Z,8,0))","v":0},0,null,0,{"$f":"IF(ISERROR(VLOOKUP($A548+8860000,'Growth Data'!$A:$Z,9,0)),0,VLOOKUP($A548+8860000,'Growth Data'!$A:$Z,9,0))","v":0},0,null,"NO",{"$f":"IF(ISERROR(VLOOKUP($A548+8860000,'Growth Data'!$A:$Z,5,0)),\"NO\",VLOOKUP($A548+8860000,'Growth Data'!$A:$Z,5,0))","v":"NO"},0,null,0,{"$f":"IF(ISERROR(VLOOKUP($A548+8860000,'Growth Data'!$A:$Z,10,0)),0,VLOOKUP($A548+8860000,'Growth Data'!$A:$Z,10,0))","v":0},0,null,0,{"$f":"IF(ISERROR(VLOOKUP($A548+8860000,'Growth Data'!$A:$Z,11,0)),0,VLOOKUP($A548+8860000,'Growth Data'!$A:$Z,11,0))","v":0},0]
[6910,"The Leigh Academy",null,"The Leigh Academy",null,1,null,5350019.3600000003,5350019.3599999994,0,null,478089.85,478089.84989690699,1.0309298522770405E-4,null,20876.05,20876.053333333319,-3.3333333194605075E-3,null,503949.18,503949.18244603986,-2.4460398708470166E-3,null,117882.46,117882.46,0,null,0,0,0,null,238126.06,238126.0621288871,-2.1288871066644788E-3,null,0,0,0,null,69474.960000000006,69474.960000000006,0,null,0,0,0,null,0,0,0,null,0,0,0,null,6778417.9299999997,6778417.9278051676,2.1948320791125298E-3,null,0,0,0,null,6778417.9299999997,6778417.9278051676,2.1948320791125298E-3,null,0,null,0,null,null,null,0,null,null,null,0,null,949572.48,949572.4819668011,0,null,20514.04,0,20514,null,null,null,0,null,null,null,0,null,null,null,0,null,null,null,0,null,null,null,0,null,null,null,0,null,"NO",{"$f":"IF(ISERROR(VLOOKUP($A549+8860000,'Growth Data'!$A:$F,3,0)),\"NO\",VLOOKUP($A549+8860000,'Growth Data'!$A:$F,3,0))","v":"NO"},0,null,0,{"$f":"IF(DI549=\"YES\",IF(ISERROR(VLOOKUP($A549+8860000,'Growth Data'!$A:$F,6,0)),0,VLOOKUP($A549+8860000,'Growth Data'!$A:$F,6,0)),0)","v":0},0,null,0,{"$f":"IF(ISERROR(VLOOKUP($A549+8860000,'Growth Data'!$A:$Z,7,0)),0,VLOOKUP($A549+8860000,'Growth Data'!$A:$Z,7,0))","v":0},0,null,"NO",{"$f":"IF(ISERROR(VLOOKUP($A549+8860000,'Growth Data'!$A:$F,4,0)),\"NO\",VLOOKUP($A549+8860000,'Growth Data'!$A:$F,4,0))","v":"NO"},0,null,0,{"$f":"IF(ISERROR(VLOOKUP($A549+8860000,'Growth Data'!$A:$Z,8,0)),0,VLOOKUP($A549+8860000,'Growth Data'!$A:$Z,8,0))","v":0},0,null,0,{"$f":"IF(ISERROR(VLOOKUP($A549+8860000,'Growth Data'!$A:$Z,9,0)),0,VLOOKUP($A549+8860000,'Growth Data'!$A:$Z,9,0))","v":0},0,null,"NO",{"$f":"IF(ISERROR(VLOOKUP($A549+8860000,'Growth Data'!$A:$Z,5,0)),\"NO\",VLOOKUP($A549+8860000,'Growth Data'!$A:$Z,5,0))","v":"NO"},0,null,0,{"$f":"IF(ISERROR(VLOOKUP($A549+8860000,'Growth Data'!$A:$Z,10,0)),0,VLOOKUP($A549+8860000,'Growth Data'!$A:$Z,10,0))","v":0},0,null,0,{"$f":"IF(ISERROR(VLOOKUP($A549+8860000,'Growth Data'!$A:$Z,11,0)),0,VLOOKUP($A549+8860000,'Growth Data'!$A:$Z,11,0))","v":0},0]
[6911,"Spires Academy",null,"Spires Academy",null,1,null,3108444.3,3108444.3,0,null,502749.48,502749.48140378587,-1.4037858927622437E-3,null,11888.32,11888.319999999998,0,null,295229.52,295229.5180984707,1.9015293219126761E-3,null,117882.46,117882.46,0,null,0,0,0,null,0,0,0,null,0,0,0,null,32784.5,32784.5,0,null,0,0,0,null,0,0,0,null,0,0,0,null,4068978.58,4068978.5795022561,4.9774395301938057E-4,null,0,0,0,null,4068978.58,4068978.5795022561,4.9774395301938057E-4,null,0,null,0,null,null,null,0,null,null,null,0,null,701646.03,701646.03424148634,0,null,11502.26,0,11502,null,null,null,0,null,null,null,0,null,null,null,0,null,null,null,0,null,null,null,0,null,null,null,0,null,"NO",{"$f":"IF(ISERROR(VLOOKUP($A550+8860000,'Growth Data'!$A:$F,3,0)),\"NO\",VLOOKUP($A550+8860000,'Growth Data'!$A:$F,3,0))","v":"NO"},0,null,0,{"$f":"IF(DI550=\"YES\",IF(ISERROR(VLOOKUP($A550+8860000,'Growth Data'!$A:$F,6,0)),0,VLOOKUP($A550+8860000,'Growth Data'!$A:$F,6,0)),0)","v":0},0,null,0,{"$f":"IF(ISERROR(VLOOKUP($A550+8860000,'Growth Data'!$A:$Z,7,0)),0,VLOOKUP($A550+8860000,'Growth Data'!$A:$Z,7,0))","v":0},0,null,"NO",{"$f":"IF(ISERROR(VLOOKUP($A550+8860000,'Growth Data'!$A:$F,4,0)),\"NO\",VLOOKUP($A550+8860000,'Growth Data'!$A:$F,4,0))","v":"NO"},0,null,0,{"$f":"IF(ISERROR(VLOOKUP($A550+8860000,'Growth Data'!$A:$Z,8,0)),0,VLOOKUP($A550+8860000,'Growth Data'!$A:$Z,8,0))","v":0},0,null,0,{"$f":"IF(ISERROR(VLOOKUP($A550+8860000,'Growth Data'!$A:$Z,9,0)),0,VLOOKUP($A550+8860000,'Growth Data'!$A:$Z,9,0))","v":0},0,null,"NO",{"$f":"IF(ISERROR(VLOOKUP($A550+8860000,'Growth Data'!$A:$Z,5,0)),\"NO\",VLOOKUP($A550+8860000,'Growth Data'!$A:$Z,5,0))","v":"NO"},0,null,0,{"$f":"IF(ISERROR(VLOOKUP($A550+8860000,'Growth Data'!$A:$Z,10,0)),0,VLOOKUP($A550+8860000,'Growth Data'!$A:$Z,10,0))","v":0},0,null,0,{"$f":"IF(ISERROR(VLOOKUP($A550+8860000,'Growth Data'!$A:$Z,11,0)),0,VLOOKUP($A550+8860000,'Growth Data'!$A:$Z,11,0))","v":0},0]
[6912,"New Line Learning Academy",null,"New Line Learning Academy",null,1,null,2833778.98,2833778.98,0,null,507421.18,507421.18460481113,-4.604811139870435E-3,null,49039.32,49039.32,0,null,317864.71999999997,317864.71942848654,5.7151343207806349E-4,null,117882.46,117882.46,0,null,0,0,0,null,0,0,0,null,0,0,0,null,31535.73,31535.73,0,null,0,0,0,null,0,0,0,null,0,0,0,null,3857522.39,3857522.3940332974,-4.0332973003387451E-3,null,0,0,0,null,3857522.39,3857522.3940332974,-4.0332973003387451E-3,null,0,null,0,null,null,null,0,null,null,null,0,null,772548.42,772548.4187725276,0,null,10502.8,0,10503,null,null,null,0,null,null,null,0,null,null,null,0,null,null,null,0,null,null,null,0,null,null,null,0,null,"NO",{"$f":"IF(ISERROR(VLOOKUP($A551+8860000,'Growth Data'!$A:$F,3,0)),\"NO\",VLOOKUP($A551+8860000,'Growth Data'!$A:$F,3,0))","v":"NO"},0,null,0,{"$f":"IF(DI551=\"YES\",IF(ISERROR(VLOOKUP($A551+8860000,'Growth Data'!$A:$F,6,0)),0,VLOOKUP($A551+8860000,'Growth Data'!$A:$F,6,0)),0)","v":0},0,null,0,{"$f":"IF(ISERROR(VLOOKUP($A551+8860000,'Growth Data'!$A:$Z,7,0)),0,VLOOKUP($A551+8860000,'Growth Data'!$A:$Z,7,0))","v":0},0,null,"NO",{"$f":"IF(ISERROR(VLOOKUP($A551+8860000,'Growth Data'!$A:$F,4,0)),\"NO\",VLOOKUP($A551+8860000,'Growth Data'!$A:$F,4,0))","v":"NO"},0,null,0,{"$f":"IF(ISERROR(VLOOKUP($A551+8860000,'Growth Data'!$A:$Z,8,0)),0,VLOOKUP($A551+8860000,'Growth Data'!$A:$Z,8,0))","v":0},0,null,0,{"$f":"IF(ISERROR(VLOOKUP($A551+8860000,'Growth Data'!$A:$Z,9,0)),0,VLOOKUP($A551+8860000,'Growth Data'!$A:$Z,9,0))","v":0},0,null,"NO",{"$f":"IF(ISERROR(VLOOKUP($A551+8860000,'Growth Data'!$A:$Z,5,0)),\"NO\",VLOOKUP($A551+8860000,'Growth Data'!$A:$Z,5,0))","v":"NO"},0,null,0,{"$f":"IF(ISERROR(VLOOKUP($A551+8860000,'Growth Data'!$A:$Z,10,0)),0,VLOOKUP($A551+8860000,'Growth Data'!$A:$Z,10,0))","v":0},0,null,0,{"$f":"IF(ISERROR(VLOOKUP($A551+8860000,'Growth Data'!$A:$Z,11,0)),0,VLOOKUP($A551+8860000,'Growth Data'!$A:$Z,11,0))","v":0},0]
[6913,"Cornwallis Academy",null,"Cornwallis Academy",null,1,null,4602926.8,4602926.8,0,null,472546.82,472546.81736018969,2.6398103218525648E-3,null,31206.84,31206.840000000029,-2.9103830456733704E-11,null,542719.66,542719.66490831203,-4.90831199567765E-3,null,117882.46,117882.46,0,null,0,0,0,null,0,0,0,null,0,0,0,null,67584,67584,0,null,0,0,0,null,0,0,0,null,0,0,0,null,5834866.5800000001,5834866.5822685016,-2.2685015574097633E-3,null,0,0,0,null,5834866.5800000001,5834866.5822685016,-2.2685015574097633E-3,null,0,null,0,null,null,null,0,null,null,null,0,null,950680.68,950680.67700773163,0,null,16956.939999999999,0,16957,null,null,null,0,null,null,null,0,null,null,null,0,null,null,null,0,null,null,null,0,null,null,null,0,null,"NO",{"$f":"IF(ISERROR(VLOOKUP($A552+8860000,'Growth Data'!$A:$F,3,0)),\"NO\",VLOOKUP($A552+8860000,'Growth Data'!$A:$F,3,0))","v":"NO"},0,null,0,{"$f":"IF(DI552=\"YES\",IF(ISERROR(VLOOKUP($A552+8860000,'Growth Data'!$A:$F,6,0)),0,VLOOKUP($A552+8860000,'Growth Data'!$A:$F,6,0)),0)","v":0},0,null,0,{"$f":"IF(ISERROR(VLOOKUP($A552+8860000,'Growth Data'!$A:$Z,7,0)),0,VLOOKUP($A552+8860000,'Growth Data'!$A:$Z,7,0))","v":0},0,null,"NO",{"$f":"IF(ISERROR(VLOOKUP($A552+8860000,'Growth Data'!$A:$F,4,0)),\"NO\",VLOOKUP($A552+8860000,'Growth Data'!$A:$F,4,0))","v":"NO"},0,null,0,{"$f":"IF(ISERROR(VLOOKUP($A552+8860000,'Growth Data'!$A:$Z,8,0)),0,VLOOKUP($A552+8860000,'Growth Data'!$A:$Z,8,0))","v":0},0,null,0,{"$f":"IF(ISERROR(VLOOKUP($A552+8860000,'Growth Data'!$A:$Z,9,0)),0,VLOOKUP($A552+8860000,'Growth Data'!$A:$Z,9,0))","v":0},0,null,"NO",{"$f":"IF(ISERROR(VLOOKUP($A552+8860000,'Growth Data'!$A:$Z,5,0)),\"NO\",VLOOKUP($A552+8860000,'Growth Data'!$A:$Z,5,0))","v":"NO"},0,null,0,{"$f":"IF(ISERROR(VLOOKUP($A552+8860000,'Growth Data'!$A:$Z,10,0)),0,VLOOKUP($A552+8860000,'Growth Data'!$A:$Z,10,0))","v":0},0,null,0,{"$f":"IF(ISERROR(VLOOKUP($A552+8860000,'Growth Data'!$A:$Z,11,0)),0,VLOOKUP($A552+8860000,'Growth Data'!$A:$Z,11,0))","v":0},0]
[6914,"Longfield Academy",null,"Longfield Academy",null,1,null,4015144.46,4015144.46,0,null,361674.49,361674.49398408306,-3.9840830722823739E-3,null,1489.43,1489.4327853881341,-2.7853881340433873E-3,null,393266.02,393266.01727115479,2.7288452256470919E-3,null,117882.46,117882.46,0,null,0,0,0,null,179932.01,179932.01259669501,-2.5966950051952153E-3,null,0,0,0,null,54460.31,54460.31,0,null,0,0,0,null,0,0,0,null,0,0,0,null,5123849.1900000004,5123849.1866373196,3.3626807853579521E-3,null,0,0,0,null,5123849.1900000004,5123849.1866373196,3.3626807853579521E-3,null,0,null,0,null,null,null,0,null,null,null,0,null,698789.28,698789.28487895476,0,null,15420.66,0,15421,null,null,null,0,null,null,null,0,null,null,null,0,null,null,null,0,null,null,null,0,null,null,null,0,null,"NO",{"$f":"IF(ISERROR(VLOOKUP($A553+8860000,'Growth Data'!$A:$F,3,0)),\"NO\",VLOOKUP($A553+8860000,'Growth Data'!$A:$F,3,0))","v":"NO"},0,null,0,{"$f":"IF(DI553=\"YES\",IF(ISERROR(VLOOKUP($A553+8860000,'Growth Data'!$A:$F,6,0)),0,VLOOKUP($A553+8860000,'Growth Data'!$A:$F,6,0)),0)","v":0},0,null,0,{"$f":"IF(ISERROR(VLOOKUP($A553+8860000,'Growth Data'!$A:$Z,7,0)),0,VLOOKUP($A553+8860000,'Growth Data'!$A:$Z,7,0))","v":0},0,null,"NO",{"$f":"IF(ISERROR(VLOOKUP($A553+8860000,'Growth Data'!$A:$F,4,0)),\"NO\",VLOOKUP($A553+8860000,'Growth Data'!$A:$F,4,0))","v":"NO"},0,null,0,{"$f":"IF(ISERROR(VLOOKUP($A553+8860000,'Growth Data'!$A:$Z,8,0)),0,VLOOKUP($A553+8860000,'Growth Data'!$A:$Z,8,0))","v":0},0,null,0,{"$f":"IF(ISERROR(VLOOKUP($A553+8860000,'Growth Data'!$A:$Z,9,0)),0,VLOOKUP($A553+8860000,'Growth Data'!$A:$Z,9,0))","v":0},0,null,"NO",{"$f":"IF(ISERROR(VLOOKUP($A553+8860000,'Growth Data'!$A:$Z,5,0)),\"NO\",VLOOKUP($A553+8860000,'Growth Data'!$A:$Z,5,0))","v":"NO"},0,null,0,{"$f":"IF(ISERROR(VLOOKUP($A553+8860000,'Growth Data'!$A:$Z,10,0)),0,VLOOKUP($A553+8860000,'Growth Data'!$A:$Z,10,0))","v":0},0,null,0,{"$f":"IF(ISERROR(VLOOKUP($A553+8860000,'Growth Data'!$A:$Z,11,0)),0,VLOOKUP($A553+8860000,'Growth Data'!$A:$Z,11,0))","v":0},0]
[6915,"Oasis Academy Isle of Sheppey",null,"Oasis Academy Isle of Sheppey",null,1,null,5942919.6200000001,5942919.6200000001,0,null,1398304.87,1398304.8660777581,3.922241972759366E-3,null,43228.480000000003,43228.47836040226,1.6395977436332032E-3,null,641929.31999999995,641929.32301910257,-3.0191026162356138E-3,null,117882.46,117882.46,0,null,0,0,0,null,0,0,0,null,0,0,0,null,91136,91136,0,null,0,0,0,null,0,0,0,null,0,0,0,null,8235400.75,8235400.7474572631,2.5427369400858879E-3,null,0,0,0,null,8235400.75,8235400.7474572631,2.5427369400858879E-3,null,0,null,0,null,null,null,0,null,null,null,0,null,1831621.54,1831621.5421964931,0,null,21971.18,0,21971,null,null,null,0,null,null,null,0,null,null,null,0,null,null,null,0,null,null,null,0,null,null,null,0,null,"NO",{"$f":"IF(ISERROR(VLOOKUP($A554+8860000,'Growth Data'!$A:$F,3,0)),\"NO\",VLOOKUP($A554+8860000,'Growth Data'!$A:$F,3,0))","v":"NO"},0,null,0,{"$f":"IF(DI554=\"YES\",IF(ISERROR(VLOOKUP($A554+8860000,'Growth Data'!$A:$F,6,0)),0,VLOOKUP($A554+8860000,'Growth Data'!$A:$F,6,0)),0)","v":0},0,null,0,{"$f":"IF(ISERROR(VLOOKUP($A554+8860000,'Growth Data'!$A:$Z,7,0)),0,VLOOKUP($A554+8860000,'Growth Data'!$A:$Z,7,0))","v":0},0,null,"NO",{"$f":"IF(ISERROR(VLOOKUP($A554+8860000,'Growth Data'!$A:$F,4,0)),\"NO\",VLOOKUP($A554+8860000,'Growth Data'!$A:$F,4,0))","v":"NO"},0,null,0,{"$f":"IF(ISERROR(VLOOKUP($A554+8860000,'Growth Data'!$A:$Z,8,0)),0,VLOOKUP($A554+8860000,'Growth Data'!$A:$Z,8,0))","v":0},0,null,0,{"$f":"IF(ISERROR(VLOOKUP($A554+8860000,'Growth Data'!$A:$Z,9,0)),0,VLOOKUP($A554+8860000,'Growth Data'!$A:$Z,9,0))","v":0},0,null,"NO",{"$f":"IF(ISERROR(VLOOKUP($A554+8860000,'Growth Data'!$A:$Z,5,0)),\"NO\",VLOOKUP($A554+8860000,'Growth Data'!$A:$Z,5,0))","v":"NO"},0,null,0,{"$f":"IF(ISERROR(VLOOKUP($A554+8860000,'Growth Data'!$A:$Z,10,0)),0,VLOOKUP($A554+8860000,'Growth Data'!$A:$Z,10,0))","v":0},0,null,0,{"$f":"IF(ISERROR(VLOOKUP($A554+8860000,'Growth Data'!$A:$Z,11,0)),0,VLOOKUP($A554+8860000,'Growth Data'!$A:$Z,11,0))","v":0},0]
[6916,"Skinners' Kent Academy",null,"Skinners' Kent Academy",null,1,null,4463675.84,4463675.84,0,null,360367.45,360367.44900843897,9.9156104261055589E-4,null,19377.900000000001,19377.900696721252,-6.967212502786424E-4,null,451780.65,451780.6533521071,-3.3521070727147162E-3,null,117882.46,117882.46,0,null,0,0,0,null,0,0,0,null,0,0,0,null,25497.599999999999,25497.599999999999,0,null,0,0,0,null,0,0,0,null,0,0,0,null,5438581.9000000004,5438581.903057266,-3.0572656542062759E-3,null,0,0,0,null,5438581.9000000004,5438581.903057266,-3.0572656542062759E-3,null,0,null,0,null,null,null,0,null,null,null,0,null,748622.32,748622.31779649714,0,null,16584.259999999998,0,16584,null,null,null,0,null,null,null,0,null,null,null,0,null,null,null,0,null,null,null,0,null,null,null,0,null,"NO",{"$f":"IF(ISERROR(VLOOKUP($A555+8860000,'Growth Data'!$A:$F,3,0)),\"NO\",VLOOKUP($A555+8860000,'Growth Data'!$A:$F,3,0))","v":"NO"},0,null,0,{"$f":"IF(DI555=\"YES\",IF(ISERROR(VLOOKUP($A555+8860000,'Growth Data'!$A:$F,6,0)),0,VLOOKUP($A555+8860000,'Growth Data'!$A:$F,6,0)),0)","v":0},0,null,0,{"$f":"IF(ISERROR(VLOOKUP($A555+8860000,'Growth Data'!$A:$Z,7,0)),0,VLOOKUP($A555+8860000,'Growth Data'!$A:$Z,7,0))","v":0},0,null,"NO",{"$f":"IF(ISERROR(VLOOKUP($A555+8860000,'Growth Data'!$A:$F,4,0)),\"NO\",VLOOKUP($A555+8860000,'Growth Data'!$A:$F,4,0))","v":"NO"},0,null,0,{"$f":"IF(ISERROR(VLOOKUP($A555+8860000,'Growth Data'!$A:$Z,8,0)),0,VLOOKUP($A555+8860000,'Growth Data'!$A:$Z,8,0))","v":0},0,null,0,{"$f":"IF(ISERROR(VLOOKUP($A555+8860000,'Growth Data'!$A:$Z,9,0)),0,VLOOKUP($A555+8860000,'Growth Data'!$A:$Z,9,0))","v":0},0,null,"NO",{"$f":"IF(ISERROR(VLOOKUP($A555+8860000,'Growth Data'!$A:$Z,5,0)),\"NO\",VLOOKUP($A555+8860000,'Growth Data'!$A:$Z,5,0))","v":"NO"},0,null,0,{"$f":"IF(ISERROR(VLOOKUP($A555+8860000,'Growth Data'!$A:$Z,10,0)),0,VLOOKUP($A555+8860000,'Growth Data'!$A:$Z,10,0))","v":0},0,null,0,{"$f":"IF(ISERROR(VLOOKUP($A555+8860000,'Growth Data'!$A:$Z,11,0)),0,VLOOKUP($A555+8860000,'Growth Data'!$A:$Z,11,0))","v":0},0]
[6917,"Dover Christ Church Academy",null,"Dover Christ Church Academy",null,1,null,3428967.74,3428967.74,0,null,631362.99,631362.99378223531,-3.7822353187948465E-3,null,2992.08,2992.0805383580073,-5.3835800736123929E-4,null,344315.92,344315.91846976837,1.5302316169254482E-3,null,117882.46,117882.46,0,null,0,0,0,null,0,0,0,null,0,0,0,null,33759.599999999999,33759.599999999999,0,null,0,0,0,null,0,0,0,null,0,0,0,null,4559280.79,4559280.7927903617,-2.7903616428375244E-3,null,0,0,0,null,4559280.79,4559280.7927903617,-2.7903616428375244E-3,null,0,null,0,null,null,null,0,null,null,null,0,null,852497.23,852497.22752959153,0,null,12671.12,0,12671,null,null,null,0,null,null,null,0,null,null,null,0,null,null,null,0,null,null,null,0,null,null,null,0,null,"NO",{"$f":"IF(ISERROR(VLOOKUP($A556+8860000,'Growth Data'!$A:$F,3,0)),\"NO\",VLOOKUP($A556+8860000,'Growth Data'!$A:$F,3,0))","v":"NO"},0,null,0,{"$f":"IF(DI556=\"YES\",IF(ISERROR(VLOOKUP($A556+8860000,'Growth Data'!$A:$F,6,0)),0,VLOOKUP($A556+8860000,'Growth Data'!$A:$F,6,0)),0)","v":0},0,null,0,{"$f":"IF(ISERROR(VLOOKUP($A556+8860000,'Growth Data'!$A:$Z,7,0)),0,VLOOKUP($A556+8860000,'Growth Data'!$A:$Z,7,0))","v":0},0,null,"NO",{"$f":"IF(ISERROR(VLOOKUP($A556+8860000,'Growth Data'!$A:$F,4,0)),\"NO\",VLOOKUP($A556+8860000,'Growth Data'!$A:$F,4,0))","v":"NO"},0,null,0,{"$f":"IF(ISERROR(VLOOKUP($A556+8860000,'Growth Data'!$A:$Z,8,0)),0,VLOOKUP($A556+8860000,'Growth Data'!$A:$Z,8,0))","v":0},0,null,0,{"$f":"IF(ISERROR(VLOOKUP($A556+8860000,'Growth Data'!$A:$Z,9,0)),0,VLOOKUP($A556+8860000,'Growth Data'!$A:$Z,9,0))","v":0},0,null,"NO",{"$f":"IF(ISERROR(VLOOKUP($A556+8860000,'Growth Data'!$A:$Z,5,0)),\"NO\",VLOOKUP($A556+8860000,'Growth Data'!$A:$Z,5,0))","v":"NO"},0,null,0,{"$f":"IF(ISERROR(VLOOKUP($A556+8860000,'Growth Data'!$A:$Z,10,0)),0,VLOOKUP($A556+8860000,'Growth Data'!$A:$Z,10,0))","v":0},0,null,0,{"$f":"IF(ISERROR(VLOOKUP($A556+8860000,'Growth Data'!$A:$Z,11,0)),0,VLOOKUP($A556+8860000,'Growth Data'!$A:$Z,11,0))","v":0},0]
[6918,"Duke of York's Royal Military School",null,"Duke of York's Royal Military School",null,1,null,1634757.78,1634757.78,0,null,11629.68,11629.677615176151,2.3848238488426432E-3,null,50525.36,50525.36,0,null,121209.33,121209.32898754156,1.0124584368895739E-3,null,117882.46,117882.46,0,null,0,0,0,null,0,0,0,null,0,0,0,null,59904,59904,0,null,0,0,0,null,0,0,0,null,0,0,0,null,1995908.61,1995908.6066027179,3.397282212972641E-3,null,25893.97,25893.967597071547,2.4029284541029483E-3,null,2021802.57,2021802.5741997894,-4.1997893713414669E-3,null,0,null,0,null,null,null,0,null,null,null,0,null,212434.49,212434.48893901921,0,null,5979.82,0,5980,null,null,null,0,null,null,null,0,null,null,null,0,null,null,null,0,null,null,null,0,null,null,null,0,null,"NO",{"$f":"IF(ISERROR(VLOOKUP($A557+8860000,'Growth Data'!$A:$F,3,0)),\"NO\",VLOOKUP($A557+8860000,'Growth Data'!$A:$F,3,0))","v":"NO"},0,null,0,{"$f":"IF(DI557=\"YES\",IF(ISERROR(VLOOKUP($A557+8860000,'Growth Data'!$A:$F,6,0)),0,VLOOKUP($A557+8860000,'Growth Data'!$A:$F,6,0)),0)","v":0},0,null,0,{"$f":"IF(ISERROR(VLOOKUP($A557+8860000,'Growth Data'!$A:$Z,7,0)),0,VLOOKUP($A557+8860000,'Growth Data'!$A:$Z,7,0))","v":0},0,null,"NO",{"$f":"IF(ISERROR(VLOOKUP($A557+8860000,'Growth Data'!$A:$F,4,0)),\"NO\",VLOOKUP($A557+8860000,'Growth Data'!$A:$F,4,0))","v":"NO"},0,null,0,{"$f":"IF(ISERROR(VLOOKUP($A557+8860000,'Growth Data'!$A:$Z,8,0)),0,VLOOKUP($A557+8860000,'Growth Data'!$A:$Z,8,0))","v":0},0,null,0,{"$f":"IF(ISERROR(VLOOKUP($A557+8860000,'Growth Data'!$A:$Z,9,0)),0,VLOOKUP($A557+8860000,'Growth Data'!$A:$Z,9,0))","v":0},0,null,"NO",{"$f":"IF(ISERROR(VLOOKUP($A557+8860000,'Growth Data'!$A:$Z,5,0)),\"NO\",VLOOKUP($A557+8860000,'Growth Data'!$A:$Z,5,0))","v":"NO"},0,null,0,{"$f":"IF(ISERROR(VLOOKUP($A557+8860000,'Growth Data'!$A:$Z,10,0)),0,VLOOKUP($A557+8860000,'Growth Data'!$A:$Z,10,0))","v":0},0,null,0,{"$f":"IF(ISERROR(VLOOKUP($A557+8860000,'Growth Data'!$A:$Z,11,0)),0,VLOOKUP($A557+8860000,'Growth Data'!$A:$Z,11,0))","v":0},0]
[6920,"Wilmington Academy",null,"Wilmington Academy",null,1,null,5501240.2800000003,5501240.2800000003,0,null,360265.01,360265.01152173878,-1.5217387699522078E-3,null,19383.080000000002,19383.076457811243,3.5421887587290257E-3,null,513242.26,513242.26213673834,-2.13673833059147E-3,null,117882.46,117882.46,0,null,0,0,0,null,239642.08,239642.08171627944,-1.7162794538307935E-3,null,0,0,0,null,49780.2,49780.2,0,null,0,0,0,null,0,0,0,null,0,0,0,null,6801435.3700000001,6801435.3718325691,-1.8325690180063248E-3,null,0,0,0,null,6801435.3700000001,6801435.3718325691,-1.8325690180063248E-3,null,0,null,0,null,null,null,0,null,null,null,0,null,863657.16,863657.16292220145,0,null,21093.63,0,21094,null,null,null,0,null,null,null,0,null,null,null,0,null,null,null,0,null,null,null,0,null,null,null,0,null,"NO",{"$f":"IF(ISERROR(VLOOKUP($A558+8860000,'Growth Data'!$A:$F,3,0)),\"NO\",VLOOKUP($A558+8860000,'Growth Data'!$A:$F,3,0))","v":"NO"},0,null,0,{"$f":"IF(DI558=\"YES\",IF(ISERROR(VLOOKUP($A558+8860000,'Growth Data'!$A:$F,6,0)),0,VLOOKUP($A558+8860000,'Growth Data'!$A:$F,6,0)),0)","v":0},0,null,0,{"$f":"IF(ISERROR(VLOOKUP($A558+8860000,'Growth Data'!$A:$Z,7,0)),0,VLOOKUP($A558+8860000,'Growth Data'!$A:$Z,7,0))","v":0},0,null,"NO",{"$f":"IF(ISERROR(VLOOKUP($A558+8860000,'Growth Data'!$A:$F,4,0)),\"NO\",VLOOKUP($A558+8860000,'Growth Data'!$A:$F,4,0))","v":"NO"},0,null,0,{"$f":"IF(ISERROR(VLOOKUP($A558+8860000,'Growth Data'!$A:$Z,8,0)),0,VLOOKUP($A558+8860000,'Growth Data'!$A:$Z,8,0))","v":0},0,null,0,{"$f":"IF(ISERROR(VLOOKUP($A558+8860000,'Growth Data'!$A:$Z,9,0)),0,VLOOKUP($A558+8860000,'Growth Data'!$A:$Z,9,0))","v":0},0,null,"NO",{"$f":"IF(ISERROR(VLOOKUP($A558+8860000,'Growth Data'!$A:$Z,5,0)),\"NO\",VLOOKUP($A558+8860000,'Growth Data'!$A:$Z,5,0))","v":"NO"},0,null,0,{"$f":"IF(ISERROR(VLOOKUP($A558+8860000,'Growth Data'!$A:$Z,10,0)),0,VLOOKUP($A558+8860000,'Growth Data'!$A:$Z,10,0))","v":0},0,null,0,{"$f":"IF(ISERROR(VLOOKUP($A558+8860000,'Growth Data'!$A:$Z,11,0)),0,VLOOKUP($A558+8860000,'Growth Data'!$A:$Z,11,0))","v":0},0]
[4020,"Folkestone Academy",null,"Folkestone Academy",null,1,null,5020169.3600000003,5020169.3599999994,0,null,894851.91,894851.90519658127,4.8034187639132142E-3,null,46367.21,46367.212725581427,-2.7255814275122248E-3,null,530722.02,530722.02450051892,-4.5005189022049308E-3,null,117882.46,117882.46,0,null,0,0,0,null,0,0,0,null,0,0,0,null,89088,89088,0,null,0,0,0,null,0,0,0,null,0,0,0,null,6699080.96,6699080.962422681,-2.4226810783147812E-3,null,0,0,0,null,6699080.96,6699080.962422681,-2.4226810783147812E-3,null,0,null,0,null,null,null,0,null,null,null,{"$f":"BX559-BY559","v":0},null,1298814.74,1298814.7371619116,{"$f":"ROUND(CB559-CC559,0)","v":0},null,18329.080000000002,0,{"$f":"ROUND(CF559-CG559,0)","v":18329},null,null,null,{"$f":"ROUND(CJ559-CK559,0)","v":0},null,null,null,{"$f":"ROUND(CN559-CO559,0)","v":0},null,null,null,{"$f":"ROUND(CR559-CS559,0)","v":0},null,null,null,{"$f":"ROUND(CV559-CW559,0)","v":0},null,null,null,{"$f":"ROUND(CZ559-DA559,0)","v":0},null,null,null,{"$f":"ROUND(DD559-DE559,0)","v":0},null,"NO",{"$f":"IF(ISERROR(VLOOKUP($A559+8860000,'Growth Data'!$A:$F,3,0)),\"NO\",VLOOKUP($A559+8860000,'Growth Data'!$A:$F,3,0))","v":"NO"},{"$f":"IF(DH559=DI559,0,1)","v":0},null,0,{"$f":"IF(DI559=\"YES\",IF(ISERROR(VLOOKUP($A559+8860000,'Growth Data'!$A:$F,6,0)),0,VLOOKUP($A559+8860000,'Growth Data'!$A:$F,6,0)),0)","v":0},{"$f":"ROUND(DL559-DM559,0)","v":0},null,0,{"$f":"IF(ISERROR(VLOOKUP($A559+8860000,'Growth Data'!$A:$Z,7,0)),0,VLOOKUP($A559+8860000,'Growth Data'!$A:$Z,7,0))","v":0},{"$f":"IF(DP559=DQ559,0,1)","v":0},null,"NO",{"$f":"IF(ISERROR(VLOOKUP($A559+8860000,'Growth Data'!$A:$F,4,0)),\"NO\",VLOOKUP($A559+8860000,'Growth Data'!$A:$F,4,0))","v":"NO"},{"$f":"IF(DT559=DU559,0,1)","v":0},null,0,{"$f":"IF(ISERROR(VLOOKUP($A559+8860000,'Growth Data'!$A:$Z,8,0)),0,VLOOKUP($A559+8860000,'Growth Data'!$A:$Z,8,0))","v":0},{"$f":"IF(DX559=DY559,0,1)","v":0},null,0,{"$f":"IF(ISERROR(VLOOKUP($A559+8860000,'Growth Data'!$A:$Z,9,0)),0,VLOOKUP($A559+8860000,'Growth Data'!$A:$Z,9,0))","v":0},{"$f":"IF(EB559=EC559,0,1)","v":0},null,"NO",{"$f":"IF(ISERROR(VLOOKUP($A559+8860000,'Growth Data'!$A:$Z,5,0)),\"NO\",VLOOKUP($A559+8860000,'Growth Data'!$A:$Z,5,0))","v":"NO"},{"$f":"IF(EF559=EG559,0,1)","v":0},null,0,{"$f":"IF(ISERROR(VLOOKUP($A559+8860000,'Growth Data'!$A:$Z,10,0)),0,VLOOKUP($A559+8860000,'Growth Data'!$A:$Z,10,0))","v":0},{"$f":"IF(EJ559=EK559,0,1)","v":0},null,0,{"$f":"IF(ISERROR(VLOOKUP($A559+8860000,'Growth Data'!$A:$Z,11,0)),0,VLOOKUP($A559+8860000,'Growth Data'!$A:$Z,11,0))","v":0},{"$f":"IF(EN559=EO559,0,1)","v":0}]
[5404,"Saint George's Church of England School",null,"Saint George's Church of England School",null,1,null,4621439.45,4621439.45,0,null,337332.2,337332.19812010351,1.8798965029418468E-3,null,17704.990000000002,17704.99300817342,-3.0081734184932429E-3,null,399076.43,399076.42746605183,2.5339481653645635E-3,null,117882.46,117882.46,0,null,0,0,0,null,0,0,0,null,0,0,0,null,33459.199999999997,33459.199999999997,0,null,0,0,0,null,0,0,0,null,0,0,0,null,5526894.7300000004,5526894.7285943283,1.4056721702218056E-3,null,8730.2199999999993,8730.2186629679054,1.3370320939429803E-3,null,5535624.9500000002,5535624.9472572962,2.7427040040493011E-3,null,0,null,0,null,null,null,0,null,null,null,0,null,707559.35,707559.3519965267,0,null,20044.5,0,20045,null,null,null,0,null,null,null,0,null,null,null,0,null,null,null,0,null,null,null,0,null,null,null,0,null,"NO",{"$f":"IF(ISERROR(VLOOKUP($A560+8860000,'Growth Data'!$A:$F,3,0)),\"NO\",VLOOKUP($A560+8860000,'Growth Data'!$A:$F,3,0))","v":"NO"},0,null,0,{"$f":"IF(DI560=\"YES\",IF(ISERROR(VLOOKUP($A560+8860000,'Growth Data'!$A:$F,6,0)),0,VLOOKUP($A560+8860000,'Growth Data'!$A:$F,6,0)),0)","v":0},0,null,0,{"$f":"IF(ISERROR(VLOOKUP($A560+8860000,'Growth Data'!$A:$Z,7,0)),0,VLOOKUP($A560+8860000,'Growth Data'!$A:$Z,7,0))","v":0},0,null,"NO",{"$f":"IF(ISERROR(VLOOKUP($A560+8860000,'Growth Data'!$A:$F,4,0)),\"NO\",VLOOKUP($A560+8860000,'Growth Data'!$A:$F,4,0))","v":"NO"},0,null,0,{"$f":"IF(ISERROR(VLOOKUP($A560+8860000,'Growth Data'!$A:$Z,8,0)),0,VLOOKUP($A560+8860000,'Growth Data'!$A:$Z,8,0))","v":0},0,null,0,{"$f":"IF(ISERROR(VLOOKUP($A560+8860000,'Growth Data'!$A:$Z,9,0)),0,VLOOKUP($A560+8860000,'Growth Data'!$A:$Z,9,0))","v":0},0,null,"NO",{"$f":"IF(ISERROR(VLOOKUP($A560+8860000,'Growth Data'!$A:$Z,5,0)),\"NO\",VLOOKUP($A560+8860000,'Growth Data'!$A:$Z,5,0))","v":"NO"},0,null,0,{"$f":"IF(ISERROR(VLOOKUP($A560+8860000,'Growth Data'!$A:$Z,10,0)),0,VLOOKUP($A560+8860000,'Growth Data'!$A:$Z,10,0))","v":0},0,null,0,{"$f":"IF(ISERROR(VLOOKUP($A560+8860000,'Growth Data'!$A:$Z,11,0)),0,VLOOKUP($A560+8860000,'Growth Data'!$A:$Z,11,0))","v":0},0]
[6919,"The John Wallis Church of England Academy",null,"The John Wallis Church of England Academy",null,1,null,5967339.0700000003,5967339.0700000003,0,null,923147.73,923147.72825974028,1.7402597004547715E-3,null,85519.24,85519.244425853598,-4.4258535926928744E-3,null,714751.07,714751.06569477508,4.3052248656749725E-3,null,117882.46,117882.46,0,null,0,0,0,null,0,0,0,null,0,0,0,null,77209.600000000006,77209.600000000006,0,null,0,0,0,null,0,0,0,null,0,0,0,null,7885849.1699999999,7885849.1683803694,1.6196304932236671E-3,null,0,0,0,null,7885849.1699999999,7885849.1683803694,1.6196304932236671E-3,null,0,null,0,null,null,null,0,null,null,null,0,null,1499196.11,1499196.1131195989,0,null,27252.81,0,27253,null,null,null,0,null,null,null,0,null,null,null,0,null,null,null,0,null,null,null,0,null,null,null,0,null,"NO",{"$f":"IF(ISERROR(VLOOKUP($A561+8860000,'Growth Data'!$A:$F,3,0)),\"NO\",VLOOKUP($A561+8860000,'Growth Data'!$A:$F,3,0))","v":"NO"},0,null,0,{"$f":"IF(DI561=\"YES\",IF(ISERROR(VLOOKUP($A561+8860000,'Growth Data'!$A:$F,6,0)),0,VLOOKUP($A561+8860000,'Growth Data'!$A:$F,6,0)),0)","v":0},0,null,0,{"$f":"IF(ISERROR(VLOOKUP($A561+8860000,'Growth Data'!$A:$Z,7,0)),0,VLOOKUP($A561+8860000,'Growth Data'!$A:$Z,7,0))","v":0},0,null,"NO",{"$f":"IF(ISERROR(VLOOKUP($A561+8860000,'Growth Data'!$A:$F,4,0)),\"NO\",VLOOKUP($A561+8860000,'Growth Data'!$A:$F,4,0))","v":"NO"},0,null,0,{"$f":"IF(ISERROR(VLOOKUP($A561+8860000,'Growth Data'!$A:$Z,8,0)),0,VLOOKUP($A561+8860000,'Growth Data'!$A:$Z,8,0))","v":0},0,null,0,{"$f":"IF(ISERROR(VLOOKUP($A561+8860000,'Growth Data'!$A:$Z,9,0)),0,VLOOKUP($A561+8860000,'Growth Data'!$A:$Z,9,0))","v":0},0,null,"NO",{"$f":"IF(ISERROR(VLOOKUP($A561+8860000,'Growth Data'!$A:$Z,5,0)),\"NO\",VLOOKUP($A561+8860000,'Growth Data'!$A:$Z,5,0))","v":"NO"},0,null,0,{"$f":"IF(ISERROR(VLOOKUP($A561+8860000,'Growth Data'!$A:$Z,10,0)),0,VLOOKUP($A561+8860000,'Growth Data'!$A:$Z,10,0))","v":0},0,null,0,{"$f":"IF(ISERROR(VLOOKUP($A561+8860000,'Growth Data'!$A:$Z,11,0)),0,VLOOKUP($A561+8860000,'Growth Data'!$A:$Z,11,0))","v":0},0]

{"sheet":"TestAreaY2","index":2,"n_rows":325,"n_cols":90,"rows_kept":325,"cut":false,"hidden":true,"merged":[]}
["MI DfE no","School Name",null,"Macro School Name","Data Calc",{"$f":"SUM(F2:F324)","v":0},null,"Macro Formula Factors","Data Calc SBS",{"$f":"SUM(J2:J324)","v":0},null,"Macro MFG","Data Calc",{"$f":"SUM(N2:N324)","v":0},null,"Macro SBS","Data Calc",{"$f":"SUM(R2:R324)","v":0},null,"Y2 DeDel Total","Data Calc",{"$f":"SUM(V2:V324)","v":0},null,"July UIFSM","APSA",{"$f":"SUM(Z2:Z324)","v":0},null,"Early years rate",null,{"$f":"SUM(AD2:AD324)","v":0},null,"Macro Notional SEN","Data Calc",{"$f":"SUM(AH2:AH324)","v":26725206},null,"Macro SEN top up","Data Calc",{"$f":"SUM(AL2:AL324)","v":441614},null,"SRP Element 1","Data Calc",{"$f":"SUM(AP2:AP324)","v":1161999},null,"SRP Element 2","Data Calc",{"$f":"SUM(AT2:AT324)","v":1743000},null,"SRP 1 Pre","Data Calc",{"$f":"SUM(AX2:AX324)","v":0},null,"SRP 1 Post","Data Calc",{"$f":"SUM(BB2:BB324)","v":0},null,"SRP 2 Pre","Data Calc",{"$f":"SUM(BF2:BF324)","v":0},null,"SRP 2 Post","Data Calc",{"$f":"SUM(BJ2:BJ324)","v":0},null,"Qual Year1","Data Calc",{"$f":"SUM(BN2:BN324)","v":42},null,"Orig PAN 1","Data Calc",{"$f":"SUM(BR2:BR324)","v":-351},null,"Qual Year2","Data Calc",{"$f":"SUM(BV2:BV324)","v":34},null,"Orig PAN 2","Data Calc",{"$f":"SUM(BZ2:BZ324)","v":236},null,"Qual Year3","Data Calc",{"$f":"SUM(CD2:CD324)","v":26},null,"Orig PAN 3","Data Calc",{"$f":"SUM(CH2:CH324)","v":1043},null,"SEN protect","Data Calc",{"$f":"SUM(CL2:CL324)","v":0}]
[1001,"Northfleet Nursery",null,"Northfleet Nursery","Northfleet Nursery",{"$f":"IF(E2=D2,0,1)","v":0},null,0,0,{"$f":"ROUND(H2-I2,0)","v":0},null,0,0,{"$f":"ROUND(L2-M2,0)","v":0},null,0,0,{"$f":"ROUND(P2-Q2,0)","v":0},null,0,0,{"$f":"ROUND(T2-U2,0)","v":0},null,null,null,{"$f":"ROUND(X2-Y2,0)","v":0},null,5.01,5.01,{"$f":"ROUND(AB2-AC2,0)","v":0},null,0,null,{"$f":"ROUND(AF2-AG2,0)","v":0},null,0,null,{"$f":"ROUND(AJ2-AK2,0)","v":0},null,0,null,{"$f":"ROUND(AN2-AO2,0)","v":0},null,0,null,{"$f":"ROUND(AR2-AS2,0)","v":0},null,null,null,{"$f":"ROUND(AV2-AW2,0)","v":0},null,null,null,{"$f":"ROUND(AZ2-BA2,0)","v":0},null,null,null,{"$f":"ROUND(BD2-BE2,0)","v":0},null,null,null,{"$f":"ROUND(BH2-BI2,0)","v":0},null,"NO",{"$f":"IF(ISERROR(VLOOKUP($A2+8860000,'Growth Data'!$A:$F,3,0)),\"NO\",VLOOKUP($A2+8860000,'Growth Data'!$A:$F,3,0))","v":"NO"},{"$f":"IF(BL2=BM2,0,1)","v":0},null,0,{"$f":"IF(BM2=\"YES\",IF(ISERROR(VLOOKUP($A2+8860000,'Growth Data'!$A:$F,6,0)),0,VLOOKUP($A2+8860000,'Growth Data'!$A:$F,6,0)),0)","v":0},{"$f":"ROUND(BP2-BQ2,0)","v":0},null,"NO",{"$f":"IF(ISERROR(VLOOKUP($A2+8860000,'Growth Data'!$A:$F,4,0)),\"NO\",VLOOKUP($A2+8860000,'Growth Data'!$A:$F,4,0))","v":"NO"},{"$f":"IF(BT2=BU2,0,1)","v":0},null,0,{"$f":"IF(BU2=\"YES\",IF(ISERROR(VLOOKUP($A2+8860000,'Growth Data'!$A:$Z,7,0)),0,VLOOKUP($A2+8860000,'Growth Data'!$A:$Z,7,0)),0)","v":0},{"$f":"ROUND(BX2-BY2,0)","v":0},null,"NO",{"$f":"IF(ISERROR(VLOOKUP($A2+8860000,'Growth Data'!$A:$F,5,0)),\"NO\",VLOOKUP($A2+8860000,'Growth Data'!$A:$F,5,0))","v":"NO"},{"$f":"IF(CB2=CC2,0,1)","v":0},null,0,{"$f":"IF(CC2=\"YES\",IF(ISERROR(VLOOKUP($A2+8860000,'Growth Data'!$A:$Z,8,0)),0,VLOOKUP($A2+8860000,'Growth Data'!$A:$Z,8,0)),0)","v":0},{"$f":"ROUND(CF2-CG2,0)","v":0},null,null,null,{"$f":"ROUND(CJ2-CK2,0)","v":0}]
[2000,"St Johns C of E Primary School",null,"St Johns C of E Primary School","St Johns C of E Primary School",{"$f":"IF(E3=D3,0,1)","v":0},null,1154700.31,1154700.3098665797,{"$f":"ROUND(H3-I3,0)","v":0},null,0,0,{"$f":"ROUND(L3-M3,0)","v":0},null,1154700.31,1154700.3098665797,{"$f":"ROUND(P3-Q3,0)","v":0},null,6984.34,6984.3358687999998,{"$f":"ROUND(T3-U3,0)","v":0},null,null,null,{"$f":"ROUND(X3-Y3,0)","v":0},null,5,5,{"$f":"ROUND(AB3-AC3,0)","v":0},null,177198.44,null,{"$f":"ROUND(AF3-AG3,0)","v":177198},null,0,null,{"$f":"ROUND(AJ3-AK3,0)","v":0},null,0,null,{"$f":"ROUND(AN3-AO3,0)","v":0},null,0,null,{"$f":"ROUND(AR3-AS3,0)","v":0},null,null,null,{"$f":"ROUND(AV3-AW3,0)","v":0},null,null,null,{"$f":"ROUND(AZ3-BA3,0)","v":0},null,null,null,{"$f":"ROUND(BD3-BE3,0)","v":0},null,null,null,{"$f":"ROUND(BH3-BI3,0)","v":0},null,"NO",{"$f":"IF(ISERROR(VLOOKUP($A3+8860000,'Growth Data'!$A:$F,3,0)),\"NO\",VLOOKUP($A3+8860000,'Growth Data'!$A:$F,3,0))","v":"YES"},{"$f":"IF(BL3=BM3,0,1)","v":1},null,0,{"$f":"IF(BM3=\"YES\",IF(ISERROR(VLOOKUP($A3+8860000,'Growth Data'!$A:$F,6,0)),0,VLOOKUP($A3+8860000,'Growth Data'!$A:$F,6,0)),0)","v":54},{"$f":"ROUND(BP3-BQ3,0)","v":-54},null,"NO",{"$f":"IF(ISERROR(VLOOKUP($A3+8860000,'Growth Data'!$A:$F,4,0)),\"NO\",VLOOKUP($A3+8860000,'Growth Data'!$A:$F,4,0))","v":"YES"},{"$f":"IF(BT3=BU3,0,1)","v":1},null,0,{"$f":"IF(BU3=\"YES\",IF(ISERROR(VLOOKUP($A3+8860000,'Growth Data'!$A:$Z,7,0)),0,VLOOKUP($A3+8860000,'Growth Data'!$A:$Z,7,0)),0)","v":60},{"$f":"ROUND(BX3-BY3,0)","v":-60},null,"NO",{"$f":"IF(ISERROR(VLOOKUP($A3+8860000,'Growth Data'!$A:$F,5,0)),\"NO\",VLOOKUP($A3+8860000,'Growth Data'!$A:$F,5,0))","v":"NO"},{"$f":"IF(CB3=CC3,0,1)","v":0},null,0,{"$f":"IF(CC3=\"YES\",IF(ISERROR(VLOOKUP($A3+8860000,'Growth Data'!$A:$Z,8,0)),0,VLOOKUP($A3+8860000,'Growth Data'!$A:$Z,8,0)),0)","v":0},{"$f":"ROUND(CF3-CG3,0)","v":0},null,null,null,{"$f":"ROUND(CJ3-CK3,0)","v":0}]
[2002,"Repton Manor Primary School",null,"Repton Manor Primary School","Repton Manor Primary School",0,null,1541106,1541106.0000000002,0,null,0,0,0,null,1541106,1541106.0000000002,0,null,11529.29,11529.289724599999,0,null,null,null,0,null,0,0,0,null,102895.27,null,102895,null,0,null,0,null,0,null,0,null,0,null,0,null,null,null,0,null,null,null,0,null,null,null,0,null,null,null,0,null,"YES",{"$f":"IF(ISERROR(VLOOKUP($A4+8860000,'Growth Data'!$A:$F,3,0)),\"NO\",VLOOKUP($A4+8860000,'Growth Data'!$A:$F,3,0))","v":"NO"},1,null,60,{"$f":"IF(BM4=\"YES\",IF(ISERROR(VLOOKUP($A4+8860000,'Growth Data'!$A:$F,6,0)),0,VLOOKUP($A4+8860000,'Growth Data'!$A:$F,6,0)),0)","v":0},60,null,"YES",{"$f":"IF(ISERROR(VLOOKUP($A4+8860000,'Growth Data'!$A:$F,4,0)),\"NO\",VLOOKUP($A4+8860000,'Growth Data'!$A:$F,4,0))","v":"NO"},1,null,60,{"$f":"IF(BU4=\"YES\",IF(ISERROR(VLOOKUP($A4+8860000,'Growth Data'!$A:$Z,7,0)),0,VLOOKUP($A4+8860000,'Growth Data'!$A:$Z,7,0)),0)","v":0},60,null,"NO",{"$f":"IF(ISERROR(VLOOKUP($A4+8860000,'Growth Data'!$A:$F,5,0)),\"NO\",VLOOKUP($A4+8860000,'Growth Data'!$A:$F,5,0))","v":"NO"},0,null,0,{"$f":"IF(CC4=\"YES\",IF(ISERROR(VLOOKUP($A4+8860000,'Growth Data'!$A:$Z,8,0)),0,VLOOKUP($A4+8860000,'Growth Data'!$A:$Z,8,0)),0)","v":0},0,null,null,null,0]
[2044,"Loose Primary School",null,"Loose Primary School","Loose Primary School",0,null,2274481,2274481,0,null,0,0,0,null,2274481,2274481,0,null,16741.86,16741.863920800002,0,null,null,null,0,null,0,0,0,null,149287.38,null,149287,null,0,null,0,null,0,null,0,null,0,null,0,null,null,null,0,null,null,null,0,null,null,null,0,null,null,null,0,null,"NO",{"$f":"IF(ISERROR(VLOOKUP($A5+8860000,'Growth Data'!$A:$F,3,0)),\"NO\",VLOOKUP($A5+8860000,'Growth Data'!$A:$F,3,0))","v":"NO"},0,null,0,{"$f":"IF(BM5=\"YES\",IF(ISERROR(VLOOKUP($A5+8860000,'Growth Data'!$A:$F,6,0)),0,VLOOKUP($A5+8860000,'Growth Data'!$A:$F,6,0)),0)","v":0},0,null,"NO",{"$f":"IF(ISERROR(VLOOKUP($A5+8860000,'Growth Data'!$A:$F,4,0)),\"NO\",VLOOKUP($A5+8860000,'Growth Data'!$A:$F,4,0))","v":"NO"},0,null,0,{"$f":"IF(BU5=\"YES\",IF(ISERROR(VLOOKUP($A5+8860000,'Growth Data'!$A:$Z,7,0)),0,VLOOKUP($A5+8860000,'Growth Data'!$A:$Z,7,0)),0)","v":0},0,null,"NO",{"$f":"IF(ISERROR(VLOOKUP($A5+8860000,'Growth Data'!$A:$F,5,0)),\"NO\",VLOOKUP($A5+8860000,'Growth Data'!$A:$F,5,0))","v":"NO"},0,null,0,{"$f":"IF(CC5=\"YES\",IF(ISERROR(VLOOKUP($A5+8860000,'Growth Data'!$A:$Z,8,0)),0,VLOOKUP($A5+8860000,'Growth Data'!$A:$Z,8,0)),0)","v":0},0,null,null,null,0]
[2062,"Darenth Community Primary School",null,"Darenth Community Primary School","Darenth Community Primary School",0,null,794948.12,794948.11500552902,0,null,0,0,0,null,794948.12,794948.11500552902,0,null,4923.29,4923.2891671635998,0,null,null,null,0,null,0,0,0,null,108769.02,null,108769,null,0,null,0,null,0,null,0,null,0,null,0,null,null,null,0,null,null,null,0,null,null,null,0,null,null,null,0,null,"NO",{"$f":"IF(ISERROR(VLOOKUP($A6+8860000,'Growth Data'!$A:$F,3,0)),\"NO\",VLOOKUP($A6+8860000,'Growth Data'!$A:$F,3,0))","v":"NO"},0,null,0,{"$f":"IF(BM6=\"YES\",IF(ISERROR(VLOOKUP($A6+8860000,'Growth Data'!$A:$F,6,0)),0,VLOOKUP($A6+8860000,'Growth Data'!$A:$F,6,0)),0)","v":0},0,null,"NO",{"$f":"IF(ISERROR(VLOOKUP($A6+8860000,'Growth Data'!$A:$F,4,0)),\"NO\",VLOOKUP($A6+8860000,'Growth Data'!$A:$F,4,0))","v":"NO"},0,null,0,{"$f":"IF(BU6=\"YES\",IF(ISERROR(VLOOKUP($A6+8860000,'Growth Data'!$A:$Z,7,0)),0,VLOOKUP($A6+8860000,'Growth Data'!$A:$Z,7,0)),0)","v":0},0,null,"NO",{"$f":"IF(ISERROR(VLOOKUP($A6+8860000,'Growth Data'!$A:$F,5,0)),\"NO\",VLOOKUP($A6+8860000,'Growth Data'!$A:$F,5,0))","v":"NO"},0,null,0,{"$f":"IF(CC6=\"YES\",IF(ISERROR(VLOOKUP($A6+8860000,'Growth Data'!$A:$Z,8,0)),0,VLOOKUP($A6+8860000,'Growth Data'!$A:$Z,8,0)),0)","v":0},0,null,null,null,0]
[2065,"Discovery School, The",null,"Discovery School, The","Discovery School, The",0,null,2215457,2215457,0,null,0,0,0,null,2215457,2215457,0,null,16176.95,16176.954402000001,0,null,null,null,0,null,0,0,0,null,98017.44,null,98017,null,0,null,0,null,0,null,0,null,0,null,0,null,null,null,0,null,null,null,0,null,null,null,0,null,null,null,0,null,"NO",{"$f":"IF(ISERROR(VLOOKUP($A7+8860000,'Growth Data'!$A:$F,3,0)),\"NO\",VLOOKUP($A7+8860000,'Growth Data'!$A:$F,3,0))","v":"NO"},0,null,0,{"$f":"IF(BM7=\"YES\",IF(ISERROR(VLOOKUP($A7+8860000,'Growth Data'!$A:$F,6,0)),0,VLOOKUP($A7+8860000,'Growth Data'!$A:$F,6,0)),0)","v":0},0,null,"NO",{"$f":"IF(ISERROR(VLOOKUP($A7+8860000,'Growth Data'!$A:$F,4,0)),\"NO\",VLOOKUP($A7+8860000,'Growth Data'!$A:$F,4,0))","v":"NO"},0,null,0,{"$f":"IF(BU7=\"YES\",IF(ISERROR(VLOOKUP($A7+8860000,'Growth Data'!$A:$Z,7,0)),0,VLOOKUP($A7+8860000,'Growth Data'!$A:$Z,7,0)),0)","v":0},0,null,"NO",{"$f":"IF(ISERROR(VLOOKUP($A7+8860000,'Growth Data'!$A:$F,5,0)),\"NO\",VLOOKUP($A7+8860000,'Growth Data'!$A:$F,5,0))","v":"NO"},0,null,0,{"$f":"IF(CC7=\"YES\",IF(ISERROR(VLOOKUP($A7+8860000,'Growth Data'!$A:$Z,8,0)),0,VLOOKUP($A7+8860000,'Growth Data'!$A:$Z,8,0)),0)","v":0},0,null,null,null,0]
[2066,"Maypole Primary School",null,"Maypole Primary School","Maypole Primary School",0,null,1499637.65,1499637.6495489718,0,null,0,0,0,null,1499637.65,1499637.6495489718,0,null,10911.07,10911.073289389598,0,null,null,null,0,null,0,0,0,null,119178.78,null,119179,null,0,null,0,null,0,null,0,null,0,null,0,null,null,null,0,null,null,null,0,null,null,null,0,null,null,null,0,null,"NO",{"$f":"IF(ISERROR(VLOOKUP($A8+8860000,'Growth Data'!$A:$F,3,0)),\"NO\",VLOOKUP($A8+8860000,'Growth Data'!$A:$F,3,0))","v":"NO"},0,null,0,{"$f":"IF(BM8=\"YES\",IF(ISERROR(VLOOKUP($A8+8860000,'Growth Data'!$A:$F,6,0)),0,VLOOKUP($A8+8860000,'Growth Data'!$A:$F,6,0)),0)","v":0},0,null,"NO",{"$f":"IF(ISERROR(VLOOKUP($A8+8860000,'Growth Data'!$A:$F,4,0)),\"NO\",VLOOKUP($A8+8860000,'Growth Data'!$A:$F,4,0))","v":"NO"},0,null,0,{"$f":"IF(BU8=\"YES\",IF(ISERROR(VLOOKUP($A8+8860000,'Growth Data'!$A:$Z,7,0)),0,VLOOKUP($A8+8860000,'Growth Data'!$A:$Z,7,0)),0)","v":0},0,null,"NO",{"$f":"IF(ISERROR(VLOOKUP($A8+8860000,'Growth Data'!$A:$F,5,0)),\"NO\",VLOOKUP($A8+8860000,'Growth Data'!$A:$F,5,0))","v":"NO"},0,null,0,{"$f":"IF(CC8=\"YES\",IF(ISERROR(VLOOKUP($A8+8860000,'Growth Data'!$A:$Z,8,0)),0,VLOOKUP($A8+8860000,'Growth Data'!$A:$Z,8,0)),0)","v":0},0,null,null,null,0]
[2074,"Sunny Bank Primary School",null,"Sunny Bank Primary School","Sunny Bank Primary School",0,null,1174236.55,1174236.5507490817,0,null,0,0,0,null,1174236.55,1174236.5507490817,0,null,7010.01,7010.0135742000002,0,null,null,null,0,null,5.1100000000000003,5.1100000000000003,0,null,193117.8,null,193118,null,0,null,0,null,0,null,0,null,0,null,0,null,null,null,0,null,null,null,0,null,null,null,0,null,null,null,0,null,"NO",{"$f":"IF(ISERROR(VLOOKUP($A9+8860000,'Growth Data'!$A:$F,3,0)),\"NO\",VLOOKUP($A9+8860000,'Growth Data'!$A:$F,3,0))","v":"NO"},0,null,0,{"$f":"IF(BM9=\"YES\",IF(ISERROR(VLOOKUP($A9+8860000,'Growth Data'!$A:$F,6,0)),0,VLOOKUP($A9+8860000,'Growth Data'!$A:$F,6,0)),0)","v":0},0,null,"NO",{"$f":"IF(ISERROR(VLOOKUP($A9+8860000,'Growth Data'!$A:$F,4,0)),\"NO\",VLOOKUP($A9+8860000,'Growth Data'!$A:$F,4,0))","v":"NO"},0,null,0,{"$f":"IF(BU9=\"YES\",IF(ISERROR(VLOOKUP($A9+8860000,'Growth Data'!$A:$Z,7,0)),0,VLOOKUP($A9+8860000,'Growth Data'!$A:$Z,7,0)),0)","v":0},0,null,"NO",{"$f":"IF(ISERROR(VLOOKUP($A9+8860000,'Growth Data'!$A:$F,5,0)),\"NO\",VLOOKUP($A9+8860000,'Growth Data'!$A:$F,5,0))","v":"NO"},0,null,0,{"$f":"IF(CC9=\"YES\",IF(ISERROR(VLOOKUP($A9+8860000,'Growth Data'!$A:$Z,8,0)),0,VLOOKUP($A9+8860000,'Growth Data'!$A:$Z,8,0)),0)","v":0},0,null,null,null,0]
[2079,"Woodlands Primary School",null,"Woodlands Primary School","Woodlands Primary School",0,null,2275909,2275909,0,null,0,0,0,null,2275909,2275909,0,null,16767.54,16767.5416262,0,null,null,null,0,null,0,0,0,null,142087.03,null,142087,null,0,null,0,null,0,null,0,null,0,null,0,null,null,null,0,null,null,null,0,null,null,null,0,null,null,null,0,null,"NO",{"$f":"IF(ISERROR(VLOOKUP($A10+8860000,'Growth Data'!$A:$F,3,0)),\"NO\",VLOOKUP($A10+8860000,'Growth Data'!$A:$F,3,0))","v":"NO"},0,null,0,{"$f":"IF(BM10=\"YES\",IF(ISERROR(VLOOKUP($A10+8860000,'Growth Data'!$A:$F,6,0)),0,VLOOKUP($A10+8860000,'Growth Data'!$A:$F,6,0)),0)","v":0},0,null,"NO",{"$f":"IF(ISERROR(VLOOKUP($A10+8860000,'Growth Data'!$A:$F,4,0)),\"NO\",VLOOKUP($A10+8860000,'Growth Data'!$A:$F,4,0))","v":"NO"},0,null,0,{"$f":"IF(BU10=\"YES\",IF(ISERROR(VLOOKUP($A10+8860000,'Growth Data'!$A:$Z,7,0)),0,VLOOKUP($A10+8860000,'Growth Data'!$A:$Z,7,0)),0)","v":0},0,null,"NO",{"$f":"IF(ISERROR(VLOOKUP($A10+8860000,'Growth Data'!$A:$F,5,0)),\"NO\",VLOOKUP($A10+8860000,'Growth Data'!$A:$F,5,0))","v":"NO"},0,null,0,{"$f":"IF(CC10=\"YES\",IF(ISERROR(VLOOKUP($A10+8860000,'Growth Data'!$A:$Z,8,0)),0,VLOOKUP($A10+8860000,'Growth Data'!$A:$Z,8,0)),0)","v":0},0,null,null,null,0]
[2088,"Crockenhill Primary School",null,"Crockenhill Primary School","Crockenhill Primary School",0,null,808523.32,808523.32217854587,0,null,0,0,0,null,808523.32,808523.32217854587,0,null,5508.76,5508.7613924479201,0,null,null,null,0,null,0,0,0,null,60901.599999999999,null,60902,null,0,null,0,null,0,null,0,null,0,null,0,null,null,null,0,null,null,null,0,null,null,null,0,null,null,null,0,null,"NO",{"$f":"IF(ISERROR(VLOOKUP($A11+8860000,'Growth Data'!$A:$F,3,0)),\"NO\",VLOOKUP($A11+8860000,'Growth Data'!$A:$F,3,0))","v":"NO"},0,null,0,{"$f":"IF(BM11=\"YES\",IF(ISERROR(VLOOKUP($A11+8860000,'Growth Data'!$A:$F,6,0)),0,VLOOKUP($A11+8860000,'Growth Data'!$A:$F,6,0)),0)","v":0},0,null,"NO",{"$f":"IF(ISERROR(VLOOKUP($A11+8860000,'Growth Data'!$A:$F,4,0)),\"NO\",VLOOKUP($A11+8860000,'Growth Data'!$A:$F,4,0))","v":"NO"},0,null,0,{"$f":"IF(BU11=\"YES\",IF(ISERROR(VLOOKUP($A11+8860000,'Growth Data'!$A:$Z,7,0)),0,VLOOKUP($A11+8860000,'Growth Data'!$A:$Z,7,0)),0)","v":0},0,null,"NO",{"$f":"IF(ISERROR(VLOOKUP($A11+8860000,'Growth Data'!$A:$F,5,0)),\"NO\",VLOOKUP($A11+8860000,'Growth Data'!$A:$F,5,0))","v":"NO"},0,null,0,{"$f":"IF(CC11=\"YES\",IF(ISERROR(VLOOKUP($A11+8860000,'Growth Data'!$A:$Z,8,0)),0,VLOOKUP($A11+8860000,'Growth Data'!$A:$Z,8,0)),0)","v":0},0,null,null,null,0]
[2089,"Anthony Roper Primary School, The",null,"Anthony Roper Primary School, The","Anthony Roper Primary School, The",0,null,1096372.07,1096372.0702849976,0,null,0,0,0,null,1096372.07,1096372.0702849976,0,null,8356.2900000000009,8356.2853972398389,0,null,null,null,0,null,0,0,0,null,59777.88,null,59778,null,22.21,null,22,null,0,null,0,null,0,null,0,null,null,null,0,null,null,null,0,null,null,null,0,null,null,null,0,null,"NO",{"$f":"IF(ISERROR(VLOOKUP($A12+8860000,'Growth Data'!$A:$F,3,0)),\"NO\",VLOOKUP($A12+8860000,'Growth Data'!$A:$F,3,0))","v":"NO"},0,null,0,{"$f":"IF(BM12=\"YES\",IF(ISERROR(VLOOKUP($A12+8860000,'Growth Data'!$A:$F,6,0)),0,VLOOKUP($A12+8860000,'Growth Data'!$A:$F,6,0)),0)","v":0},0,null,"NO",{"$f":"IF(ISERROR(VLOOKUP($A12+8860000,'Growth Data'!$A:$F,4,0)),\"NO\",VLOOKUP($A12+8860000,'Growth Data'!$A:$F,4,0))","v":"NO"},0,null,0,{"$f":"IF(BU12=\"YES\",IF(ISERROR(VLOOKUP($A12+8860000,'Growth Data'!$A:$Z,7,0)),0,VLOOKUP($A12+8860000,'Growth Data'!$A:$Z,7,0)),0)","v":0},0,null,"NO",{"$f":"IF(ISERROR(VLOOKUP($A12+8860000,'Growth Data'!$A:$F,5,0)),\"NO\",VLOOKUP($A12+8860000,'Growth Data'!$A:$F,5,0))","v":"NO"},0,null,0,{"$f":"IF(CC12=\"YES\",IF(ISERROR(VLOOKUP($A12+8860000,'Growth Data'!$A:$Z,8,0)),0,VLOOKUP($A12+8860000,'Growth Data'!$A:$Z,8,0)),0)","v":0},0,null,null,null,0]
[2094,"Cobham Primary School",null,"Cobham Primary School","Cobham Primary School",0,null,775017.67,775017.66946996679,0,null,0,0,0,null,775017.67,775017.66946996679,0,null,5597.74,5597.7397772000004,0,null,null,null,0,null,0,0,0,null,36479.06,null,36479,null,2352.09,null,2352,null,0,null,0,null,0,null,0,null,null,null,0,null,null,null,0,null,null,null,0,null,null,null,0,null,"NO",{"$f":"IF(ISERROR(VLOOKUP($A13+8860000,'Growth Data'!$A:$F,3,0)),\"NO\",VLOOKUP($A13+8860000,'Growth Data'!$A:$F,3,0))","v":"NO"},0,null,0,{"$f":"IF(BM13=\"YES\",IF(ISERROR(VLOOKUP($A13+8860000,'Growth Data'!$A:$F,6,0)),0,VLOOKUP($A13+8860000,'Growth Data'!$A:$F,6,0)),0)","v":0},0,null,"NO",{"$f":"IF(ISERROR(VLOOKUP($A13+8860000,'Growth Data'!$A:$F,4,0)),\"NO\",VLOOKUP($A13+8860000,'Growth Data'!$A:$F,4,0))","v":"NO"},0,null,0,{"$f":"IF(BU13=\"YES\",IF(ISERROR(VLOOKUP($A13+8860000,'Growth Data'!$A:$Z,7,0)),0,VLOOKUP($A13+8860000,'Growth Data'!$A:$Z,7,0)),0)","v":0},0,null,"NO",{"$f":"IF(ISERROR(VLOOKUP($A13+8860000,'Growth Data'!$A:$F,5,0)),\"NO\",VLOOKUP($A13+8860000,'Growth Data'!$A:$F,5,0))","v":"NO"},0,null,0,{"$f":"IF(CC13=\"YES\",IF(ISERROR(VLOOKUP($A13+8860000,'Growth Data'!$A:$Z,8,0)),0,VLOOKUP($A13+8860000,'Growth Data'!$A:$Z,8,0)),0)","v":0},0,null,null,null,0]
[2095,"Cecil Road Primary and Nursery School",null,"Cecil Road Primary and Nursery School","Cecil Road Primary and Nursery School",0,null,1405654.29,1405654.2915977519,0,null,0,0,0,null,1405654.29,1405654.2915977519,0,null,9808.8799999999992,9808.8834628000004,0,null,null,null,0,null,4.9000000000000004,4.9000000000000004,0,null,127687.21,null,127687,null,0,null,0,null,0,null,0,null,0,null,0,null,null,null,0,null,null,null,0,null,null,null,0,null,null,null,0,null,"NO",{"$f":"IF(ISERROR(VLOOKUP($A14+8860000,'Growth Data'!$A:$F,3,0)),\"NO\",VLOOKUP($A14+8860000,'Growth Data'!$A:$F,3,0))","v":"NO"},0,null,0,{"$f":"IF(BM14=\"YES\",IF(ISERROR(VLOOKUP($A14+8860000,'Growth Data'!$A:$F,6,0)),0,VLOOKUP($A14+8860000,'Growth Data'!$A:$F,6,0)),0)","v":0},0,null,"NO",{"$f":"IF(ISERROR(VLOOKUP($A14+8860000,'Growth Data'!$A:$F,4,0)),\"NO\",VLOOKUP($A14+8860000,'Growth Data'!$A:$F,4,0))","v":"NO"},0,null,0,{"$f":"IF(BU14=\"YES\",IF(ISERROR(VLOOKUP($A14+8860000,'Growth Data'!$A:$Z,7,0)),0,VLOOKUP($A14+8860000,'Growth Data'!$A:$Z,7,0)),0)","v":0},0,null,"NO",{"$f":"IF(ISERROR(VLOOKUP($A14+8860000,'Growth Data'!$A:$F,5,0)),\"NO\",VLOOKUP($A14+8860000,'Growth Data'!$A:$F,5,0))","v":"NO"},0,null,0,{"$f":"IF(CC14=\"YES\",IF(ISERROR(VLOOKUP($A14+8860000,'Growth Data'!$A:$Z,8,0)),0,VLOOKUP($A14+8860000,'Growth Data'!$A:$Z,8,0)),0)","v":0},0,null,null,null,0]
[2109,"Higham Primary School",null,"Higham Primary School","Higham Primary School",0,null,781784.36,781784.36182316369,0,null,0,0,0,null,781784.36,781784.36182316369,0,null,5546.38,5546.3843664000005,0,null,null,null,0,null,0,0,0,null,42130.03,null,42130,null,1787,null,1787,null,0,null,0,null,0,null,0,null,null,null,0,null,null,null,0,null,null,null,0,null,null,null,0,null,"NO",{"$f":"IF(ISERROR(VLOOKUP($A15+8860000,'Growth Data'!$A:$F,3,0)),\"NO\",VLOOKUP($A15+8860000,'Growth Data'!$A:$F,3,0))","v":"NO"},0,null,0,{"$f":"IF(BM15=\"YES\",IF(ISERROR(VLOOKUP($A15+8860000,'Growth Data'!$A:$F,6,0)),0,VLOOKUP($A15+8860000,'Growth Data'!$A:$F,6,0)),0)","v":0},0,null,"NO",{"$f":"IF(ISERROR(VLOOKUP($A15+8860000,'Growth Data'!$A:$F,4,0)),\"NO\",VLOOKUP($A15+8860000,'Growth Data'!$A:$F,4,0))","v":"NO"},0,null,0,{"$f":"IF(BU15=\"YES\",IF(ISERROR(VLOOKUP($A15+8860000,'Growth Data'!$A:$Z,7,0)),0,VLOOKUP($A15+8860000,'Growth Data'!$A:$Z,7,0)),0)","v":0},0,null,"NO",{"$f":"IF(ISERROR(VLOOKUP($A15+8860000,'Growth Data'!$A:$F,5,0)),\"NO\",VLOOKUP($A15+8860000,'Growth Data'!$A:$F,5,0))","v":"NO"},0,null,0,{"$f":"IF(CC15=\"YES\",IF(ISERROR(VLOOKUP($A15+8860000,'Growth Data'!$A:$Z,8,0)),0,VLOOKUP($A15+8860000,'Growth Data'!$A:$Z,8,0)),0)","v":0},0,null,null,null,0]
[2116,"Lawn Primary School",null,"Lawn Primary School","Lawn Primary School",0,null,926060.85,926060.84849564463,0,null,0,0,0,null,926060.85,926060.84849564463,0,null,5135.54,5135.5410799999991,0,null,null,null,0,null,5.52,5.52,0,null,170279.84,null,170280,null,0,null,0,null,0,null,0,null,0,null,0,null,null,null,0,null,null,null,0,null,null,null,0,null,null,null,0,null,"NO",{"$f":"IF(ISERROR(VLOOKUP($A16+8860000,'Growth Data'!$A:$F,3,0)),\"NO\",VLOOKUP($A16+8860000,'Growth Data'!$A:$F,3,0))","v":"NO"},0,null,0,{"$f":"IF(BM16=\"YES\",IF(ISERROR(VLOOKUP($A16+8860000,'Growth Data'!$A:$F,6,0)),0,VLOOKUP($A16+8860000,'Growth Data'!$A:$F,6,0)),0)","v":0},0,null,"NO",{"$f":"IF(ISERROR(VLOOKUP($A16+8860000,'Growth Data'!$A:$F,4,0)),\"NO\",VLOOKUP($A16+8860000,'Growth Data'!$A:$F,4,0))","v":"NO"},0,null,0,{"$f":"IF(BU16=\"YES\",IF(ISERROR(VLOOKUP($A16+8860000,'Growth Data'!$A:$Z,7,0)),0,VLOOKUP($A16+8860000,'Growth Data'!$A:$Z,7,0)),0)","v":0},0,null,"NO",{"$f":"IF(ISERROR(VLOOKUP($A16+8860000,'Growth Data'!$A:$F,5,0)),\"NO\",VLOOKUP($A16+8860000,'Growth Data'!$A:$F,5,0))","v":"NO"},0,null,0,{"$f":"IF(CC16=\"YES\",IF(ISERROR(VLOOKUP($A16+8860000,'Growth Data'!$A:$Z,8,0)),0,VLOOKUP($A16+8860000,'Growth Data'!$A:$Z,8,0)),0)","v":0},0,null,null,null,0]
[2119,"Shears Green Infant School",null,"Shears Green Infant School","Shears Green Infant School",0,null,1279430.33,1279430.3302759652,0,null,169.72,169.71956342295744,0,null,1279600.05,1279600.0498393881,0,null,9218.2999999999993,9218.2962385999999,0,null,null,null,0,null,0,0,0,null,109827.78,null,109828,null,0,null,0,null,0,null,0,null,0,null,0,null,null,null,0,null,null,null,0,null,null,null,0,null,null,null,0,null,"NO",{"$f":"IF(ISERROR(VLOOKUP($A17+8860000,'Growth Data'!$A:$F,3,0)),\"NO\",VLOOKUP($A17+8860000,'Growth Data'!$A:$F,3,0))","v":"NO"},0,null,0,{"$f":"IF(BM17=\"YES\",IF(ISERROR(VLOOKUP($A17+8860000,'Growth Data'!$A:$F,6,0)),0,VLOOKUP($A17+8860000,'Growth Data'!$A:$F,6,0)),0)","v":0},0,null,"NO",{"$f":"IF(ISERROR(VLOOKUP($A17+8860000,'Growth Data'!$A:$F,4,0)),\"NO\",VLOOKUP($A17+8860000,'Growth Data'!$A:$F,4,0))","v":"NO"},0,null,0,{"$f":"IF(BU17=\"YES\",IF(ISERROR(VLOOKUP($A17+8860000,'Growth Data'!$A:$Z,7,0)),0,VLOOKUP($A17+8860000,'Growth Data'!$A:$Z,7,0)),0)","v":0},0,null,"NO",{"$f":"IF(ISERROR(VLOOKUP($A17+8860000,'Growth Data'!$A:$F,5,0)),\"NO\",VLOOKUP($A17+8860000,'Growth Data'!$A:$F,5,0))","v":"NO"},0,null,0,{"$f":"IF(CC17=\"YES\",IF(ISERROR(VLOOKUP($A17+8860000,'Growth Data'!$A:$Z,8,0)),0,VLOOKUP($A17+8860000,'Growth Data'!$A:$Z,8,0)),0)","v":0},0,null,null,null,0]
[2120,"Bean Primary School",null,"Bean Primary School","Bean Primary School",0,null,824107.02,824107.02485826134,0,null,0,0,0,null,824107.02,824107.02485826134,0,null,5428.92,5428.9242708182401,0,null,null,null,0,null,0,0,0,null,87801.9,null,87802,null,0,null,0,null,0,null,0,null,0,null,0,null,null,null,0,null,null,null,0,null,null,null,0,null,null,null,0,null,"NO",{"$f":"IF(ISERROR(VLOOKUP($A18+8860000,'Growth Data'!$A:$F,3,0)),\"NO\",VLOOKUP($A18+8860000,'Growth Data'!$A:$F,3,0))","v":"NO"},0,null,0,{"$f":"IF(BM18=\"YES\",IF(ISERROR(VLOOKUP($A18+8860000,'Growth Data'!$A:$F,6,0)),0,VLOOKUP($A18+8860000,'Growth Data'!$A:$F,6,0)),0)","v":0},0,null,"NO",{"$f":"IF(ISERROR(VLOOKUP($A18+8860000,'Growth Data'!$A:$F,4,0)),\"NO\",VLOOKUP($A18+8860000,'Growth Data'!$A:$F,4,0))","v":"NO"},0,null,0,{"$f":"IF(BU18=\"YES\",IF(ISERROR(VLOOKUP($A18+8860000,'Growth Data'!$A:$Z,7,0)),0,VLOOKUP($A18+8860000,'Growth Data'!$A:$Z,7,0)),0)","v":0},0,null,"NO",{"$f":"IF(ISERROR(VLOOKUP($A18+8860000,'Growth Data'!$A:$F,5,0)),\"NO\",VLOOKUP($A18+8860000,'Growth Data'!$A:$F,5,0))","v":"NO"},0,null,0,{"$f":"IF(CC18=\"YES\",IF(ISERROR(VLOOKUP($A18+8860000,'Growth Data'!$A:$Z,8,0)),0,VLOOKUP($A18+8860000,'Growth Data'!$A:$Z,8,0)),0)","v":0},0,null,null,null,0]
[2127,"Paddock Wood Primary School",null,"Paddock Wood Primary School","Paddock Wood Primary School",0,null,2115174,2115174,0,null,0,0,0,null,2115174,2115174,0,null,15535.01,15535.011767,0,null,null,null,0,null,0,0,0,null,133290.46,null,133290,null,0,null,0,null,0,null,0,null,0,null,0,null,null,null,0,null,null,null,0,null,null,null,0,null,null,null,0,null,"NO",{"$f":"IF(ISERROR(VLOOKUP($A19+8860000,'Growth Data'!$A:$F,3,0)),\"NO\",VLOOKUP($A19+8860000,'Growth Data'!$A:$F,3,0))","v":"NO"},0,null,0,{"$f":"IF(BM19=\"YES\",IF(ISERROR(VLOOKUP($A19+8860000,'Growth Data'!$A:$F,6,0)),0,VLOOKUP($A19+8860000,'Growth Data'!$A:$F,6,0)),0)","v":0},0,null,"NO",{"$f":"IF(ISERROR(VLOOKUP($A19+8860000,'Growth Data'!$A:$F,4,0)),\"NO\",VLOOKUP($A19+8860000,'Growth Data'!$A:$F,4,0))","v":"NO"},0,null,0,{"$f":"IF(BU19=\"YES\",IF(ISERROR(VLOOKUP($A19+8860000,'Growth Data'!$A:$Z,7,0)),0,VLOOKUP($A19+8860000,'Growth Data'!$A:$Z,7,0)),0)","v":0},0,null,"NO",{"$f":"IF(ISERROR(VLOOKUP($A19+8860000,'Growth Data'!$A:$F,5,0)),\"NO\",VLOOKUP($A19+8860000,'Growth Data'!$A:$F,5,0))","v":"NO"},0,null,0,{"$f":"IF(CC19=\"YES\",IF(ISERROR(VLOOKUP($A19+8860000,'Growth Data'!$A:$Z,8,0)),0,VLOOKUP($A19+8860000,'Growth Data'!$A:$Z,8,0)),0)","v":0},0,null,null,null,0]
[2128,"Capel Primary School",null,"Capel Primary School","Capel Primary School",0,null,759926.06,759926.06037858571,0,null,0,0,0,null,759926.06,759926.06037858571,0,null,5443.67,5443.6735447999999,0,null,null,null,0,null,0,0,0,null,36677.129999999997,null,36677,null,2332.29,null,2332,null,0,null,0,null,0,null,0,null,null,null,0,null,null,null,0,null,null,null,0,null,null,null,0,null,"NO",{"$f":"IF(ISERROR(VLOOKUP($A20+8860000,'Growth Data'!$A:$F,3,0)),\"NO\",VLOOKUP($A20+8860000,'Growth Data'!$A:$F,3,0))","v":"NO"},0,null,0,{"$f":"IF(BM20=\"YES\",IF(ISERROR(VLOOKUP($A20+8860000,'Growth Data'!$A:$F,6,0)),0,VLOOKUP($A20+8860000,'Growth Data'!$A:$F,6,0)),0)","v":0},0,null,"NO",{"$f":"IF(ISERROR(VLOOKUP($A20+8860000,'Growth Data'!$A:$F,4,0)),\"NO\",VLOOKUP($A20+8860000,'Growth Data'!$A:$F,4,0))","v":"NO"},0,null,0,{"$f":"IF(BU20=\"YES\",IF(ISERROR(VLOOKUP($A20+8860000,'Growth Data'!$A:$Z,7,0)),0,VLOOKUP($A20+8860000,'Growth Data'!$A:$Z,7,0)),0)","v":0},0,null,"NO",{"$f":"IF(ISERROR(VLOOKUP($A20+8860000,'Growth Data'!$A:$F,5,0)),\"NO\",VLOOKUP($A20+8860000,'Growth Data'!$A:$F,5,0))","v":"NO"},0,null,0,{"$f":"IF(CC20=\"YES\",IF(ISERROR(VLOOKUP($A20+8860000,'Growth Data'!$A:$Z,8,0)),0,VLOOKUP($A20+8860000,'Growth Data'!$A:$Z,8,0)),0)","v":0},0,null,null,null,0]
[2130,"Dunton Green Primary School",null,"Dunton Green Primary School","Dunton Green Primary School",0,null,671024.43999999994,671024.43770723161,0,null,0,0,0,null,671024.43999999994,671024.43770723161,0,null,4311.2,4311.2045680027195,0,null,null,null,0,null,0,0,0,null,43988.5,null,43989,null,1601.15,null,1601,null,0,null,0,null,0,null,0,null,null,null,0,null,null,null,0,null,null,null,0,null,null,null,0,null,"NO",{"$f":"IF(ISERROR(VLOOKUP($A21+8860000,'Growth Data'!$A:$F,3,0)),\"NO\",VLOOKUP($A21+8860000,'Growth Data'!$A:$F,3,0))","v":"NO"},0,null,0,{"$f":"IF(BM21=\"YES\",IF(ISERROR(VLOOKUP($A21+8860000,'Growth Data'!$A:$F,6,0)),0,VLOOKUP($A21+8860000,'Growth Data'!$A:$F,6,0)),0)","v":0},0,null,"NO",{"$f":"IF(ISERROR(VLOOKUP($A21+8860000,'Growth Data'!$A:$F,4,0)),\"NO\",VLOOKUP($A21+8860000,'Growth Data'!$A:$F,4,0))","v":"NO"},0,null,0,{"$f":"IF(BU21=\"YES\",IF(ISERROR(VLOOKUP($A21+8860000,'Growth Data'!$A:$Z,7,0)),0,VLOOKUP($A21+8860000,'Growth Data'!$A:$Z,7,0)),0)","v":0},0,null,"NO",{"$f":"IF(ISERROR(VLOOKUP($A21+8860000,'Growth Data'!$A:$F,5,0)),\"NO\",VLOOKUP($A21+8860000,'Growth Data'!$A:$F,5,0))","v":"NO"},0,null,0,{"$f":"IF(CC21=\"YES\",IF(ISERROR(VLOOKUP($A21+8860000,'Growth Data'!$A:$Z,8,0)),0,VLOOKUP($A21+8860000,'Growth Data'!$A:$Z,8,0)),0)","v":0},0,null,null,null,0]
[2132,"Hadlow School",null,"Hadlow School","Hadlow School",0,null,795026.34,795026.34068316116,0,null,0,0,0,null,795026.34,795026.34068316116,0,null,5263.93,5263.9296069999991,0,null,null,null,0,null,0,0,0,null,70527.990000000005,null,70528,null,0,null,0,null,0,null,0,null,0,null,0,null,null,null,0,null,null,null,0,null,null,null,0,null,null,null,0,null,"NO",{"$f":"IF(ISERROR(VLOOKUP($A22+8860000,'Growth Data'!$A:$F,3,0)),\"NO\",VLOOKUP($A22+8860000,'Growth Data'!$A:$F,3,0))","v":"NO"},0,null,0,{"$f":"IF(BM22=\"YES\",IF(ISERROR(VLOOKUP($A22+8860000,'Growth Data'!$A:$F,6,0)),0,VLOOKUP($A22+8860000,'Growth Data'!$A:$F,6,0)),0)","v":0},0,null,"NO",{"$f":"IF(ISERROR(VLOOKUP($A22+8860000,'Growth Data'!$A:$F,4,0)),\"NO\",VLOOKUP($A22+8860000,'Growth Data'!$A:$F,4,0))","v":"NO"},0,null,0,{"$f":"IF(BU22=\"YES\",IF(ISERROR(VLOOKUP($A22+8860000,'Growth Data'!$A:$Z,7,0)),0,VLOOKUP($A22+8860000,'Growth Data'!$A:$Z,7,0)),0)","v":0},0,null,"NO",{"$f":"IF(ISERROR(VLOOKUP($A22+8860000,'Growth Data'!$A:$F,5,0)),\"NO\",VLOOKUP($A22+8860000,'Growth Data'!$A:$F,5,0))","v":"NO"},0,null,0,{"$f":"IF(CC22=\"YES\",IF(ISERROR(VLOOKUP($A22+8860000,'Growth Data'!$A:$Z,8,0)),0,VLOOKUP($A22+8860000,'Growth Data'!$A:$Z,8,0)),0)","v":0},0,null,null,null,0]
[2133,"Halstead Community Primary School",null,"Halstead Community Primary School","Halstead Community Primary School",0,null,438759.66,438759.65651731932,0,null,0,0,0,null,438759.66,438759.65651731932,0,null,2421.73,2421.7260227669599,0,null,null,null,0,null,0,0,0,null,34033.97,null,34034,null,2596.6,null,2597,null,0,null,0,null,0,null,0,null,null,null,0,null,null,null,0,null,null,null,0,null,null,null,0,null,"NO",{"$f":"IF(ISERROR(VLOOKUP($A23+8860000,'Growth Data'!$A:$F,3,0)),\"NO\",VLOOKUP($A23+8860000,'Growth Data'!$A:$F,3,0))","v":"NO"},0,null,0,{"$f":"IF(BM23=\"YES\",IF(ISERROR(VLOOKUP($A23+8860000,'Growth Data'!$A:$F,6,0)),0,VLOOKUP($A23+8860000,'Growth Data'!$A:$F,6,0)),0)","v":0},0,null,"NO",{"$f":"IF(ISERROR(VLOOKUP($A23+8860000,'Growth Data'!$A:$F,4,0)),\"NO\",VLOOKUP($A23+8860000,'Growth Data'!$A:$F,4,0))","v":"NO"},0,null,0,{"$f":"IF(BU23=\"YES\",IF(ISERROR(VLOOKUP($A23+8860000,'Growth Data'!$A:$Z,7,0)),0,VLOOKUP($A23+8860000,'Growth Data'!$A:$Z,7,0)),0)","v":0},0,null,"NO",{"$f":"IF(ISERROR(VLOOKUP($A23+8860000,'Growth Data'!$A:$F,5,0)),\"NO\",VLOOKUP($A23+8860000,'Growth Data'!$A:$F,5,0))","v":"NO"},0,null,0,{"$f":"IF(CC23=\"YES\",IF(ISERROR(VLOOKUP($A23+8860000,'Growth Data'!$A:$Z,8,0)),0,VLOOKUP($A23+8860000,'Growth Data'!$A:$Z,8,0)),0)","v":0},0,null,null,null,0]
[2134,"Four Elms Primary School",null,"Four Elms Primary School","Four Elms Primary School",0,null,491590.87,491590.87096195959,0,null,0,0,0,null,491590.87,491590.87096195959,0,null,2927.36,2927.3611264216001,0,null,null,null,0,null,0,0,0,null,37571.410000000003,null,37571,null,2242.86,null,2243,null,0,null,0,null,0,null,0,null,null,null,0,null,null,null,0,null,null,null,0,null,null,null,0,null,"NO",{"$f":"IF(ISERROR(VLOOKUP($A24+8860000,'Growth Data'!$A:$F,3,0)),\"NO\",VLOOKUP($A24+8860000,'Growth Data'!$A:$F,3,0))","v":"NO"},0,null,0,{"$f":"IF(BM24=\"YES\",IF(ISERROR(VLOOKUP($A24+8860000,'Growth Data'!$A:$F,6,0)),0,VLOOKUP($A24+8860000,'Growth Data'!$A:$F,6,0)),0)","v":0},0,null,"NO",{"$f":"IF(ISERROR(VLOOKUP($A24+8860000,'Growth Data'!$A:$F,4,0)),\"NO\",VLOOKUP($A24+8860000,'Growth Data'!$A:$F,4,0))","v":"NO"},0,null,0,{"$f":"IF(BU24=\"YES\",IF(ISERROR(VLOOKUP($A24+8860000,'Growth Data'!$A:$Z,7,0)),0,VLOOKUP($A24+8860000,'Growth Data'!$A:$Z,7,0)),0)","v":0},0,null,"NO",{"$f":"IF(ISERROR(VLOOKUP($A24+8860000,'Growth Data'!$A:$F,5,0)),\"NO\",VLOOKUP($A24+8860000,'Growth Data'!$A:$F,5,0))","v":"NO"},0,null,0,{"$f":"IF(CC24=\"YES\",IF(ISERROR(VLOOKUP($A24+8860000,'Growth Data'!$A:$Z,8,0)),0,VLOOKUP($A24+8860000,'Growth Data'!$A:$Z,8,0)),0)","v":0},0,null,null,null,0]
[2135,"Horsmonden Primary School",null,"Horsmonden Primary School","Horsmonden Primary School",0,null,710849.06,710849.05967784498,0,null,0,0,0,null,710849.06,710849.05967784498,0,null,4930.12,4930.1194368000006,0,null,null,null,0,null,0,0,0,null,37609.480000000003,null,37609,null,2239.0500000000002,null,2239,null,0,null,0,null,0,null,0,null,null,null,0,null,null,null,0,null,null,null,0,null,null,null,0,null,"NO",{"$f":"IF(ISERROR(VLOOKUP($A25+8860000,'Growth Data'!$A:$F,3,0)),\"NO\",VLOOKUP($A25+8860000,'Growth Data'!$A:$F,3,0))","v":"NO"},0,null,0,{"$f":"IF(BM25=\"YES\",IF(ISERROR(VLOOKUP($A25+8860000,'Growth Data'!$A:$F,6,0)),0,VLOOKUP($A25+8860000,'Growth Data'!$A:$F,6,0)),0)","v":0},0,null,"NO",{"$f":"IF(ISERROR(VLOOKUP($A25+8860000,'Growth Data'!$A:$F,4,0)),\"NO\",VLOOKUP($A25+8860000,'Growth Data'!$A:$F,4,0))","v":"NO"},0,null,0,{"$f":"IF(BU25=\"YES\",IF(ISERROR(VLOOKUP($A25+8860000,'Growth Data'!$A:$Z,7,0)),0,VLOOKUP($A25+8860000,'Growth Data'!$A:$Z,7,0)),0)","v":0},0,null,"NO",{"$f":"IF(ISERROR(VLOOKUP($A25+8860000,'Growth Data'!$A:$F,5,0)),\"NO\",VLOOKUP($A25+8860000,'Growth Data'!$A:$F,5,0))","v":"NO"},0,null,0,{"$f":"IF(CC25=\"YES\",IF(ISERROR(VLOOKUP($A25+8860000,'Growth Data'!$A:$Z,8,0)),0,VLOOKUP($A25+8860000,'Growth Data'!$A:$Z,8,0)),0)","v":0},0,null,null,null,0]
[2136,"Kemsing Primary School",null,"Kemsing Primary School","Kemsing Primary School",0,null,773836.74,773836.74166534317,0,null,0,0,0,null,773836.74,773836.74166534317,0,null,5322.47,5322.4747753119991,0,null,null,null,0,null,0,0,0,null,52372.2,null,52372,null,762.78,null,763,null,0,null,0,null,0,null,0,null,null,null,0,null,null,null,0,null,null,null,0,null,null,null,0,null,"NO",{"$f":"IF(ISERROR(VLOOKUP($A26+8860000,'Growth Data'!$A:$F,3,0)),\"NO\",VLOOKUP($A26+8860000,'Growth Data'!$A:$F,3,0))","v":"NO"},0,null,0,{"$f":"IF(BM26=\"YES\",IF(ISERROR(VLOOKUP($A26+8860000,'Growth Data'!$A:$F,6,0)),0,VLOOKUP($A26+8860000,'Growth Data'!$A:$F,6,0)),0)","v":0},0,null,"NO",{"$f":"IF(ISERROR(VLOOKUP($A26+8860000,'Growth Data'!$A:$F,4,0)),\"NO\",VLOOKUP($A26+8860000,'Growth Data'!$A:$F,4,0))","v":"NO"},0,null,0,{"$f":"IF(BU26=\"YES\",IF(ISERROR(VLOOKUP($A26+8860000,'Growth Data'!$A:$Z,7,0)),0,VLOOKUP($A26+8860000,'Growth Data'!$A:$Z,7,0)),0)","v":0},0,null,"NO",{"$f":"IF(ISERROR(VLOOKUP($A26+8860000,'Growth Data'!$A:$F,5,0)),\"NO\",VLOOKUP($A26+8860000,'Growth Data'!$A:$F,5,0))","v":"NO"},0,null,0,{"$f":"IF(CC26=\"YES\",IF(ISERROR(VLOOKUP($A26+8860000,'Growth Data'!$A:$Z,8,0)),0,VLOOKUP($A26+8860000,'Growth Data'!$A:$Z,8,0)),0)","v":0},0,null,null,null,0]
[2137,"Leigh Primary School",null,"Leigh Primary School","Leigh Primary School",0,null,629449.92000000004,629449.9228418516,0,null,0,0,0,null,629449.92000000004,629449.9228418516,0,null,4284.59,4284.5921941261595,0,null,null,null,0,null,0,0,0,null,34459.760000000002,null,34460,null,2554.02,null,2554,null,0,null,0,null,0,null,0,null,null,null,0,null,null,null,0,null,null,null,0,null,null,null,0,null,"NO",{"$f":"IF(ISERROR(VLOOKUP($A27+8860000,'Growth Data'!$A:$F,3,0)),\"NO\",VLOOKUP($A27+8860000,'Growth Data'!$A:$F,3,0))","v":"NO"},0,null,0,{"$f":"IF(BM27=\"YES\",IF(ISERROR(VLOOKUP($A27+8860000,'Growth Data'!$A:$F,6,0)),0,VLOOKUP($A27+8860000,'Growth Data'!$A:$F,6,0)),0)","v":0},0,null,"NO",{"$f":"IF(ISERROR(VLOOKUP($A27+8860000,'Growth Data'!$A:$F,4,0)),\"NO\",VLOOKUP($A27+8860000,'Growth Data'!$A:$F,4,0))","v":"NO"},0,null,0,{"$f":"IF(BU27=\"YES\",IF(ISERROR(VLOOKUP($A27+8860000,'Growth Data'!$A:$Z,7,0)),0,VLOOKUP($A27+8860000,'Growth Data'!$A:$Z,7,0)),0)","v":0},0,null,"NO",{"$f":"IF(ISERROR(VLOOKUP($A27+8860000,'Growth Data'!$A:$F,5,0)),\"NO\",VLOOKUP($A27+8860000,'Growth Data'!$A:$F,5,0))","v":"NO"},0,null,0,{"$f":"IF(CC27=\"YES\",IF(ISERROR(VLOOKUP($A27+8860000,'Growth Data'!$A:$Z,8,0)),0,VLOOKUP($A27+8860000,'Growth Data'!$A:$Z,8,0)),0)","v":0},0,null,null,null,0]
[2138,"Otford Primary School",null,"Otford Primary School","Otford Primary School",0,null,1371348,1371348.0000000002,0,null,0,0,0,null,1371348,1371348.0000000002,0,null,10511.89,10511.887681241198,0,null,null,null,0,null,0,0,0,null,67986.12,null,67986,null,0,null,0,null,0,null,0,null,0,null,0,null,null,null,0,null,null,null,0,null,null,null,0,null,null,null,0,null,"YES",{"$f":"IF(ISERROR(VLOOKUP($A28+8860000,'Growth Data'!$A:$F,3,0)),\"NO\",VLOOKUP($A28+8860000,'Growth Data'!$A:$F,3,0))","v":"NO"},1,null,50,{"$f":"IF(BM28=\"YES\",IF(ISERROR(VLOOKUP($A28+8860000,'Growth Data'!$A:$F,6,0)),0,VLOOKUP($A28+8860000,'Growth Data'!$A:$F,6,0)),0)","v":0},50,null,"YES",{"$f":"IF(ISERROR(VLOOKUP($A28+8860000,'Growth Data'!$A:$F,4,0)),\"NO\",VLOOKUP($A28+8860000,'Growth Data'!$A:$F,4,0))","v":"NO"},1,null,56,{"$f":"IF(BU28=\"YES\",IF(ISERROR(VLOOKUP($A28+8860000,'Growth Data'!$A:$Z,7,0)),0,VLOOKUP($A28+8860000,'Growth Data'!$A:$Z,7,0)),0)","v":0},56,null,"NO",{"$f":"IF(ISERROR(VLOOKUP($A28+8860000,'Growth Data'!$A:$F,5,0)),\"NO\",VLOOKUP($A28+8860000,'Growth Data'!$A:$F,5,0))","v":"NO"},0,null,0,{"$f":"IF(CC28=\"YES\",IF(ISERROR(VLOOKUP($A28+8860000,'Growth Data'!$A:$Z,8,0)),0,VLOOKUP($A28+8860000,'Growth Data'!$A:$Z,8,0)),0)","v":0},0,null,null,null,0]
[2139,"Pembury School",null,"Pembury School","Pembury School",0,null,1655919,1655919,0,null,0,0,0,null,1655919,1655919,0,null,12196.91,12196.910064999996,0,null,null,null,0,null,0,0,0,null,75145.899999999994,null,75146,null,0,null,0,null,0,null,0,null,0,null,0,null,null,null,0,null,null,null,0,null,null,null,0,null,null,null,0,null,"NO",{"$f":"IF(ISERROR(VLOOKUP($A29+8860000,'Growth Data'!$A:$F,3,0)),\"NO\",VLOOKUP($A29+8860000,'Growth Data'!$A:$F,3,0))","v":"NO"},0,null,0,{"$f":"IF(BM29=\"YES\",IF(ISERROR(VLOOKUP($A29+8860000,'Growth Data'!$A:$F,6,0)),0,VLOOKUP($A29+8860000,'Growth Data'!$A:$F,6,0)),0)","v":0},0,null,"NO",{"$f":"IF(ISERROR(VLOOKUP($A29+8860000,'Growth Data'!$A:$F,4,0)),\"NO\",VLOOKUP($A29+8860000,'Growth Data'!$A:$F,4,0))","v":"NO"},0,null,0,{"$f":"IF(BU29=\"YES\",IF(ISERROR(VLOOKUP($A29+8860000,'Growth Data'!$A:$Z,7,0)),0,VLOOKUP($A29+8860000,'Growth Data'!$A:$Z,7,0)),0)","v":0},0,null,"NO",{"$f":"IF(ISERROR(VLOOKUP($A29+8860000,'Growth Data'!$A:$F,5,0)),\"NO\",VLOOKUP($A29+8860000,'Growth Data'!$A:$F,5,0))","v":"NO"},0,null,0,{"$f":"IF(CC29=\"YES\",IF(ISERROR(VLOOKUP($A29+8860000,'Growth Data'!$A:$Z,8,0)),0,VLOOKUP($A29+8860000,'Growth Data'!$A:$Z,8,0)),0)","v":0},0,null,null,null,0]
[2142,"Sandhurst Primary School",null,"Sandhurst Primary School","Sandhurst Primary School",0,null,563942.84,563942.8364064201,0,null,0,0,0,null,563942.84,563942.8364064201,0,null,3543.52,3543.5233452000002,0,null,null,null,0,null,0,0,0,null,36840.21,null,36840,null,2315.98,null,2316,null,0,null,0,null,0,null,0,null,null,null,0,null,null,null,0,null,null,null,0,null,null,null,0,null,"NO",{"$f":"IF(ISERROR(VLOOKUP($A30+8860000,'Growth Data'!$A:$F,3,0)),\"NO\",VLOOKUP($A30+8860000,'Growth Data'!$A:$F,3,0))","v":"NO"},0,null,0,{"$f":"IF(BM30=\"YES\",IF(ISERROR(VLOOKUP($A30+8860000,'Growth Data'!$A:$F,6,0)),0,VLOOKUP($A30+8860000,'Growth Data'!$A:$F,6,0)),0)","v":0},0,null,"NO",{"$f":"IF(ISERROR(VLOOKUP($A30+8860000,'Growth Data'!$A:$F,4,0)),\"NO\",VLOOKUP($A30+8860000,'Growth Data'!$A:$F,4,0))","v":"NO"},0,null,0,{"$f":"IF(BU30=\"YES\",IF(ISERROR(VLOOKUP($A30+8860000,'Growth Data'!$A:$Z,7,0)),0,VLOOKUP($A30+8860000,'Growth Data'!$A:$Z,7,0)),0)","v":0},0,null,"NO",{"$f":"IF(ISERROR(VLOOKUP($A30+8860000,'Growth Data'!$A:$F,5,0)),\"NO\",VLOOKUP($A30+8860000,'Growth Data'!$A:$F,5,0))","v":"NO"},0,null,0,{"$f":"IF(CC30=\"YES\",IF(ISERROR(VLOOKUP($A30+8860000,'Growth Data'!$A:$Z,8,0)),0,VLOOKUP($A30+8860000,'Growth Data'!$A:$Z,8,0)),0)","v":0},0,null,null,null,0]
[2147,"Weald Community Primary School",null,"Weald Community Primary School","Weald Community Primary School",0,null,623731.86,623731.86471756757,0,null,0,0,0,null,623731.86,623731.86471756757,0,null,4204.76,4204.7550724964804,0,null,null,null,0,null,0,0,0,null,32227.1,null,32227,null,2777.29,null,2777,null,0,null,0,null,0,null,0,null,null,null,0,null,null,null,0,null,null,null,0,null,null,null,0,null,"NO",{"$f":"IF(ISERROR(VLOOKUP($A31+8860000,'Growth Data'!$A:$F,3,0)),\"NO\",VLOOKUP($A31+8860000,'Growth Data'!$A:$F,3,0))","v":"NO"},0,null,0,{"$f":"IF(BM31=\"YES\",IF(ISERROR(VLOOKUP($A31+8860000,'Growth Data'!$A:$F,6,0)),0,VLOOKUP($A31+8860000,'Growth Data'!$A:$F,6,0)),0)","v":0},0,null,"NO",{"$f":"IF(ISERROR(VLOOKUP($A31+8860000,'Growth Data'!$A:$F,4,0)),\"NO\",VLOOKUP($A31+8860000,'Growth Data'!$A:$F,4,0))","v":"NO"},0,null,0,{"$f":"IF(BU31=\"YES\",IF(ISERROR(VLOOKUP($A31+8860000,'Growth Data'!$A:$Z,7,0)),0,VLOOKUP($A31+8860000,'Growth Data'!$A:$Z,7,0)),0)","v":0},0,null,"NO",{"$f":"IF(ISERROR(VLOOKUP($A31+8860000,'Growth Data'!$A:$F,5,0)),\"NO\",VLOOKUP($A31+8860000,'Growth Data'!$A:$F,5,0))","v":"NO"},0,null,0,{"$f":"IF(CC31=\"YES\",IF(ISERROR(VLOOKUP($A31+8860000,'Growth Data'!$A:$Z,8,0)),0,VLOOKUP($A31+8860000,'Growth Data'!$A:$Z,8,0)),0)","v":0},0,null,null,null,0]
[2148,"Shoreham Village School",null,"Shoreham Village School","Shoreham Village School",0,null,428515.04,428515.04135797231,0,null,0,0,0,null,428515.04,428515.04135797231,0,null,2368.5,2368.5012750138399,0,null,null,null,0,null,0,0,0,null,31241.66,null,31242,null,2875.83,null,2876,null,0,null,0,null,0,null,0,null,null,null,0,null,null,null,0,null,null,null,0,null,null,null,0,null,"NO",{"$f":"IF(ISERROR(VLOOKUP($A32+8860000,'Growth Data'!$A:$F,3,0)),\"NO\",VLOOKUP($A32+8860000,'Growth Data'!$A:$F,3,0))","v":"NO"},0,null,0,{"$f":"IF(BM32=\"YES\",IF(ISERROR(VLOOKUP($A32+8860000,'Growth Data'!$A:$F,6,0)),0,VLOOKUP($A32+8860000,'Growth Data'!$A:$F,6,0)),0)","v":0},0,null,"NO",{"$f":"IF(ISERROR(VLOOKUP($A32+8860000,'Growth Data'!$A:$F,4,0)),\"NO\",VLOOKUP($A32+8860000,'Growth Data'!$A:$F,4,0))","v":"NO"},0,null,0,{"$f":"IF(BU32=\"YES\",IF(ISERROR(VLOOKUP($A32+8860000,'Growth Data'!$A:$Z,7,0)),0,VLOOKUP($A32+8860000,'Growth Data'!$A:$Z,7,0)),0)","v":0},0,null,"NO",{"$f":"IF(ISERROR(VLOOKUP($A32+8860000,'Growth Data'!$A:$F,5,0)),\"NO\",VLOOKUP($A32+8860000,'Growth Data'!$A:$F,5,0))","v":"NO"},0,null,0,{"$f":"IF(CC32=\"YES\",IF(ISERROR(VLOOKUP($A32+8860000,'Growth Data'!$A:$Z,8,0)),0,VLOOKUP($A32+8860000,'Growth Data'!$A:$Z,8,0)),0)","v":0},0,null,null,null,0]
[2155,"Slade Primary School",null,"Slade Primary School","Slade Primary School",0,null,1313054,1313054,0,null,0,0,0,null,1313054,1313054,0,null,9731.85,9731.8503466000002,0,null,null,null,0,null,0,0,0,null,86935.57,null,86936,null,0,null,0,null,0,null,0,null,0,null,0,null,null,null,0,null,null,null,0,null,null,null,0,null,null,null,0,null,"YES",{"$f":"IF(ISERROR(VLOOKUP($A33+8860000,'Growth Data'!$A:$F,3,0)),\"NO\",VLOOKUP($A33+8860000,'Growth Data'!$A:$F,3,0))","v":"NO"},1,null,45,{"$f":"IF(BM33=\"YES\",IF(ISERROR(VLOOKUP($A33+8860000,'Growth Data'!$A:$F,6,0)),0,VLOOKUP($A33+8860000,'Growth Data'!$A:$F,6,0)),0)","v":0},45,null,"YES",{"$f":"IF(ISERROR(VLOOKUP($A33+8860000,'Growth Data'!$A:$F,4,0)),\"NO\",VLOOKUP($A33+8860000,'Growth Data'!$A:$F,4,0))","v":"NO"},1,null,47,{"$f":"IF(BU33=\"YES\",IF(ISERROR(VLOOKUP($A33+8860000,'Growth Data'!$A:$Z,7,0)),0,VLOOKUP($A33+8860000,'Growth Data'!$A:$Z,7,0)),0)","v":0},47,null,"YES",{"$f":"IF(ISERROR(VLOOKUP($A33+8860000,'Growth Data'!$A:$F,5,0)),\"NO\",VLOOKUP($A33+8860000,'Growth Data'!$A:$F,5,0))","v":"NO"},1,null,45,{"$f":"IF(CC33=\"YES\",IF(ISERROR(VLOOKUP($A33+8860000,'Growth Data'!$A:$Z,8,0)),0,VLOOKUP($A33+8860000,'Growth Data'!$A:$Z,8,0)),0)","v":0},45,null,null,null,0]
[2156,"Sussex Road Community Primary School",null,"Sussex Road Community Primary School","Sussex Road Community Primary School",0,null,1545691,1545691,0,null,0,0,0,null,1545691,1545691,0,null,11349.55,11349.545786799998,0,null,null,null,0,null,0,0,0,null,68816.350000000006,null,68816,null,0,null,0,null,20000,null,20000,null,30000,null,30000,null,null,null,0,null,null,null,0,null,null,null,0,null,null,null,0,null,"NO",{"$f":"IF(ISERROR(VLOOKUP($A34+8860000,'Growth Data'!$A:$F,3,0)),\"NO\",VLOOKUP($A34+8860000,'Growth Data'!$A:$F,3,0))","v":"NO"},0,null,0,{"$f":"IF(BM34=\"YES\",IF(ISERROR(VLOOKUP($A34+8860000,'Growth Data'!$A:$F,6,0)),0,VLOOKUP($A34+8860000,'Growth Data'!$A:$F,6,0)),0)","v":0},0,null,"NO",{"$f":"IF(ISERROR(VLOOKUP($A34+8860000,'Growth Data'!$A:$F,4,0)),\"NO\",VLOOKUP($A34+8860000,'Growth Data'!$A:$F,4,0))","v":"NO"},0,null,0,{"$f":"IF(BU34=\"YES\",IF(ISERROR(VLOOKUP($A34+8860000,'Growth Data'!$A:$Z,7,0)),0,VLOOKUP($A34+8860000,'Growth Data'!$A:$Z,7,0)),0)","v":0},0,null,"NO",{"$f":"IF(ISERROR(VLOOKUP($A34+8860000,'Growth Data'!$A:$F,5,0)),\"NO\",VLOOKUP($A34+8860000,'Growth Data'!$A:$F,5,0))","v":"NO"},0,null,0,{"$f":"IF(CC34=\"YES\",IF(ISERROR(VLOOKUP($A34+8860000,'Growth Data'!$A:$Z,8,0)),0,VLOOKUP($A34+8860000,'Growth Data'!$A:$Z,8,0)),0)","v":0},0,null,null,null,0]
[2161,"Boughton Monchelsea Primary School",null,"Boughton Monchelsea Primary School","Boughton Monchelsea Primary School",0,null,787442.28,787442.27850527957,0,null,0,0,0,null,787442.28,787442.27850527957,0,null,5418,5417.9958393999996,0,null,null,null,0,null,0,0,0,null,56812.83,null,56813,null,318.72000000000003,null,319,null,0,null,0,null,0,null,0,null,null,null,0,null,null,null,0,null,null,null,0,null,null,null,0,null,"NO",{"$f":"IF(ISERROR(VLOOKUP($A35+8860000,'Growth Data'!$A:$F,3,0)),\"NO\",VLOOKUP($A35+8860000,'Growth Data'!$A:$F,3,0))","v":"NO"},0,null,0,{"$f":"IF(BM35=\"YES\",IF(ISERROR(VLOOKUP($A35+8860000,'Growth Data'!$A:$F,6,0)),0,VLOOKUP($A35+8860000,'Growth Data'!$A:$F,6,0)),0)","v":0},0,null,"NO",{"$f":"IF(ISERROR(VLOOKUP($A35+8860000,'Growth Data'!$A:$F,4,0)),\"NO\",VLOOKUP($A35+8860000,'Growth Data'!$A:$F,4,0))","v":"NO"},0,null,0,{"$f":"IF(BU35=\"YES\",IF(ISERROR(VLOOKUP($A35+8860000,'Growth Data'!$A:$Z,7,0)),0,VLOOKUP($A35+8860000,'Growth Data'!$A:$Z,7,0)),0)","v":0},0,null,"NO",{"$f":"IF(ISERROR(VLOOKUP($A35+8860000,'Growth Data'!$A:$F,5,0)),\"NO\",VLOOKUP($A35+8860000,'Growth Data'!$A:$F,5,0))","v":"NO"},0,null,0,{"$f":"IF(CC35=\"YES\",IF(ISERROR(VLOOKUP($A35+8860000,'Growth Data'!$A:$Z,8,0)),0,VLOOKUP($A35+8860000,'Growth Data'!$A:$Z,8,0)),0)","v":0},0,null,null,null,0]
[2163,"East Farleigh Primary School",null,"East Farleigh Primary School","East Farleigh Primary School",0,null,742107.89,742107.89137599966,0,null,0,0,0,null,742107.89,742107.89137599966,0,null,5212.57,5212.5741962000011,0,null,null,null,0,null,0,0,0,null,42933.120000000003,null,42933,null,1706.69,null,1707,null,0,null,0,null,0,null,0,null,null,null,0,null,null,null,0,null,null,null,0,null,null,null,0,null,"NO",{"$f":"IF(ISERROR(VLOOKUP($A36+8860000,'Growth Data'!$A:$F,3,0)),\"NO\",VLOOKUP($A36+8860000,'Growth Data'!$A:$F,3,0))","v":"NO"},0,null,0,{"$f":"IF(BM36=\"YES\",IF(ISERROR(VLOOKUP($A36+8860000,'Growth Data'!$A:$F,6,0)),0,VLOOKUP($A36+8860000,'Growth Data'!$A:$F,6,0)),0)","v":0},0,null,"NO",{"$f":"IF(ISERROR(VLOOKUP($A36+8860000,'Growth Data'!$A:$F,4,0)),\"NO\",VLOOKUP($A36+8860000,'Growth Data'!$A:$F,4,0))","v":"NO"},0,null,0,{"$f":"IF(BU36=\"YES\",IF(ISERROR(VLOOKUP($A36+8860000,'Growth Data'!$A:$Z,7,0)),0,VLOOKUP($A36+8860000,'Growth Data'!$A:$Z,7,0)),0)","v":0},0,null,"NO",{"$f":"IF(ISERROR(VLOOKUP($A36+8860000,'Growth Data'!$A:$F,5,0)),\"NO\",VLOOKUP($A36+8860000,'Growth Data'!$A:$F,5,0))","v":"NO"},0,null,0,{"$f":"IF(CC36=\"YES\",IF(ISERROR(VLOOKUP($A36+8860000,'Growth Data'!$A:$Z,8,0)),0,VLOOKUP($A36+8860000,'Growth Data'!$A:$Z,8,0)),0)","v":0},0,null,null,null,0]
[2164,"East Peckham Primary School",null,"East Peckham Primary School","East Peckham Primary School",0,null,632355.36,632355.35778366774,0,null,0,0,0,null,632355.36,632355.35778366774,0,null,4236.82,4236.8213909999995,0,null,null,null,0,null,0,0,0,null,38191.56,null,38192,null,2180.84,null,2181,null,0,null,0,null,0,null,0,null,null,null,0,null,null,null,0,null,null,null,0,null,null,null,0,null,"NO",{"$f":"IF(ISERROR(VLOOKUP($A37+8860000,'Growth Data'!$A:$F,3,0)),\"NO\",VLOOKUP($A37+8860000,'Growth Data'!$A:$F,3,0))","v":"NO"},0,null,0,{"$f":"IF(BM37=\"YES\",IF(ISERROR(VLOOKUP($A37+8860000,'Growth Data'!$A:$F,6,0)),0,VLOOKUP($A37+8860000,'Growth Data'!$A:$F,6,0)),0)","v":0},0,null,"NO",{"$f":"IF(ISERROR(VLOOKUP($A37+8860000,'Growth Data'!$A:$F,4,0)),\"NO\",VLOOKUP($A37+8860000,'Growth Data'!$A:$F,4,0))","v":"NO"},0,null,0,{"$f":"IF(BU37=\"YES\",IF(ISERROR(VLOOKUP($A37+8860000,'Growth Data'!$A:$Z,7,0)),0,VLOOKUP($A37+8860000,'Growth Data'!$A:$Z,7,0)),0)","v":0},0,null,"NO",{"$f":"IF(ISERROR(VLOOKUP($A37+8860000,'Growth Data'!$A:$F,5,0)),\"NO\",VLOOKUP($A37+8860000,'Growth Data'!$A:$F,5,0))","v":"NO"},0,null,0,{"$f":"IF(CC37=\"YES\",IF(ISERROR(VLOOKUP($A37+8860000,'Growth Data'!$A:$Z,8,0)),0,VLOOKUP($A37+8860000,'Growth Data'!$A:$Z,8,0)),0)","v":0},0,null,null,null,0]
[2165,"Headcorn Primary School",null,"Headcorn Primary School","Headcorn Primary School",0,null,786742.94,786742.94307622116,0,null,0,0,0,null,786742.94,786742.94307622116,0,null,5777.48,5777.4837149999994,0,null,null,null,0,null,0,0,0,null,24260.31,null,24260,null,3573.97,null,3574,null,0,null,0,null,0,null,0,null,null,null,0,null,null,null,0,null,null,null,0,null,null,null,0,null,"NO",{"$f":"IF(ISERROR(VLOOKUP($A38+8860000,'Growth Data'!$A:$F,3,0)),\"NO\",VLOOKUP($A38+8860000,'Growth Data'!$A:$F,3,0))","v":"YES"},1,null,0,{"$f":"IF(BM38=\"YES\",IF(ISERROR(VLOOKUP($A38+8860000,'Growth Data'!$A:$F,6,0)),0,VLOOKUP($A38+8860000,'Growth Data'!$A:$F,6,0)),0)","v":34},-34,null,"NO",{"$f":"IF(ISERROR(VLOOKUP($A38+8860000,'Growth Data'!$A:$F,4,0)),\"NO\",VLOOKUP($A38+8860000,'Growth Data'!$A:$F,4,0))","v":"YES"},1,null,0,{"$f":"IF(BU38=\"YES\",IF(ISERROR(VLOOKUP($A38+8860000,'Growth Data'!$A:$Z,7,0)),0,VLOOKUP($A38+8860000,'Growth Data'!$A:$Z,7,0)),0)","v":60},-60,null,"NO",{"$f":"IF(ISERROR(VLOOKUP($A38+8860000,'Growth Data'!$A:$F,5,0)),\"NO\",VLOOKUP($A38+8860000,'Growth Data'!$A:$F,5,0))","v":"YES"},1,null,0,{"$f":"IF(CC38=\"YES\",IF(ISERROR(VLOOKUP($A38+8860000,'Growth Data'!$A:$Z,8,0)),0,VLOOKUP($A38+8860000,'Growth Data'!$A:$Z,8,0)),0)","v":32},-32,null,null,null,0]
[2166,"Hollingbourne Primary School",null,"Hollingbourne Primary School","Hollingbourne Primary School",0,null,429685.36,429685.36260473059,0,null,0,0,0,null,429685.36,429685.36260473059,0,null,2567.77,2567.7705399999995,0,null,null,null,0,null,0,0,0,null,22011.09,null,22011,null,3798.89,null,3799,null,0,null,0,null,0,null,0,null,null,null,0,null,null,null,0,null,null,null,0,null,null,null,0,null,"NO",{"$f":"IF(ISERROR(VLOOKUP($A39+8860000,'Growth Data'!$A:$F,3,0)),\"NO\",VLOOKUP($A39+8860000,'Growth Data'!$A:$F,3,0))","v":"NO"},0,null,0,{"$f":"IF(BM39=\"YES\",IF(ISERROR(VLOOKUP($A39+8860000,'Growth Data'!$A:$F,6,0)),0,VLOOKUP($A39+8860000,'Growth Data'!$A:$F,6,0)),0)","v":0},0,null,"NO",{"$f":"IF(ISERROR(VLOOKUP($A39+8860000,'Growth Data'!$A:$F,4,0)),\"NO\",VLOOKUP($A39+8860000,'Growth Data'!$A:$F,4,0))","v":"NO"},0,null,0,{"$f":"IF(BU39=\"YES\",IF(ISERROR(VLOOKUP($A39+8860000,'Growth Data'!$A:$Z,7,0)),0,VLOOKUP($A39+8860000,'Growth Data'!$A:$Z,7,0)),0)","v":0},0,null,"NO",{"$f":"IF(ISERROR(VLOOKUP($A39+8860000,'Growth Data'!$A:$F,5,0)),\"NO\",VLOOKUP($A39+8860000,'Growth Data'!$A:$F,5,0))","v":"NO"},0,null,0,{"$f":"IF(CC39=\"YES\",IF(ISERROR(VLOOKUP($A39+8860000,'Growth Data'!$A:$Z,8,0)),0,VLOOKUP($A39+8860000,'Growth Data'!$A:$Z,8,0)),0)","v":0},0,null,null,null,0]
[2167,"Ightham Primary School",null,"Ightham Primary School","Ightham Primary School",0,null,733520.33,733520.33016684814,0,null,0,0,0,null,733520.33,733520.33016684814,0,null,5263.93,5263.9296069999991,0,null,null,null,0,null,0,0,0,null,29227.94,null,29228,null,3077.21,null,3077,null,0,null,0,null,0,null,0,null,null,null,0,null,null,null,0,null,null,null,0,null,null,null,0,null,"NO",{"$f":"IF(ISERROR(VLOOKUP($A40+8860000,'Growth Data'!$A:$F,3,0)),\"NO\",VLOOKUP($A40+8860000,'Growth Data'!$A:$F,3,0))","v":"NO"},0,null,0,{"$f":"IF(BM40=\"YES\",IF(ISERROR(VLOOKUP($A40+8860000,'Growth Data'!$A:$F,6,0)),0,VLOOKUP($A40+8860000,'Growth Data'!$A:$F,6,0)),0)","v":0},0,null,"NO",{"$f":"IF(ISERROR(VLOOKUP($A40+8860000,'Growth Data'!$A:$F,4,0)),\"NO\",VLOOKUP($A40+8860000,'Growth Data'!$A:$F,4,0))","v":"NO"},0,null,0,{"$f":"IF(BU40=\"YES\",IF(ISERROR(VLOOKUP($A40+8860000,'Growth Data'!$A:$Z,7,0)),0,VLOOKUP($A40+8860000,'Growth Data'!$A:$Z,7,0)),0)","v":0},0,null,"NO",{"$f":"IF(ISERROR(VLOOKUP($A40+8860000,'Growth Data'!$A:$F,5,0)),\"NO\",VLOOKUP($A40+8860000,'Growth Data'!$A:$F,5,0))","v":"NO"},0,null,0,{"$f":"IF(CC40=\"YES\",IF(ISERROR(VLOOKUP($A40+8860000,'Growth Data'!$A:$Z,8,0)),0,VLOOKUP($A40+8860000,'Growth Data'!$A:$Z,8,0)),0)","v":0},0,null,null,null,0]
[2168,"Lenham Primary School",null,"Lenham Primary School","Lenham Primary School",0,null,757688.92,757688.92257838824,0,null,0,0,0,null,757688.92,757688.92257838824,0,null,5340.96,5340.9627231999993,0,null,null,null,0,null,0,0,0,null,39403.269999999997,null,39403,null,2059.67,null,2060,null,0,null,0,null,0,null,0,null,null,null,0,null,null,null,0,null,null,null,0,null,null,null,0,null,"NO",{"$f":"IF(ISERROR(VLOOKUP($A41+8860000,'Growth Data'!$A:$F,3,0)),\"NO\",VLOOKUP($A41+8860000,'Growth Data'!$A:$F,3,0))","v":"NO"},0,null,0,{"$f":"IF(BM41=\"YES\",IF(ISERROR(VLOOKUP($A41+8860000,'Growth Data'!$A:$F,6,0)),0,VLOOKUP($A41+8860000,'Growth Data'!$A:$F,6,0)),0)","v":0},0,null,"NO",{"$f":"IF(ISERROR(VLOOKUP($A41+8860000,'Growth Data'!$A:$F,4,0)),\"NO\",VLOOKUP($A41+8860000,'Growth Data'!$A:$F,4,0))","v":"NO"},0,null,0,{"$f":"IF(BU41=\"YES\",IF(ISERROR(VLOOKUP($A41+8860000,'Growth Data'!$A:$Z,7,0)),0,VLOOKUP($A41+8860000,'Growth Data'!$A:$Z,7,0)),0)","v":0},0,null,"NO",{"$f":"IF(ISERROR(VLOOKUP($A41+8860000,'Growth Data'!$A:$F,5,0)),\"NO\",VLOOKUP($A41+8860000,'Growth Data'!$A:$F,5,0))","v":"NO"},0,null,0,{"$f":"IF(CC41=\"YES\",IF(ISERROR(VLOOKUP($A41+8860000,'Growth Data'!$A:$Z,8,0)),0,VLOOKUP($A41+8860000,'Growth Data'!$A:$Z,8,0)),0)","v":0},0,null,null,null,0]
[2169,"Platts Heath Primary School",null,"Platts Heath Primary School","Platts Heath Primary School",0,null,364807.72,364807.71809952916,0,null,0,0,0,null,364807.72,364807.71809952916,0,null,1977.18,1977.1833157999999,0,null,null,null,0,null,0,0,0,null,29320.52,null,29321,null,3067.95,null,3068,null,0,null,0,null,0,null,0,null,null,null,0,null,null,null,0,null,null,null,0,null,null,null,0,null,"NO",{"$f":"IF(ISERROR(VLOOKUP($A42+8860000,'Growth Data'!$A:$F,3,0)),\"NO\",VLOOKUP($A42+8860000,'Growth Data'!$A:$F,3,0))","v":"NO"},0,null,0,{"$f":"IF(BM42=\"YES\",IF(ISERROR(VLOOKUP($A42+8860000,'Growth Data'!$A:$F,6,0)),0,VLOOKUP($A42+8860000,'Growth Data'!$A:$F,6,0)),0)","v":0},0,null,"NO",{"$f":"IF(ISERROR(VLOOKUP($A42+8860000,'Growth Data'!$A:$F,4,0)),\"NO\",VLOOKUP($A42+8860000,'Growth Data'!$A:$F,4,0))","v":"NO"},0,null,0,{"$f":"IF(BU42=\"YES\",IF(ISERROR(VLOOKUP($A42+8860000,'Growth Data'!$A:$Z,7,0)),0,VLOOKUP($A42+8860000,'Growth Data'!$A:$Z,7,0)),0)","v":0},0,null,"NO",{"$f":"IF(ISERROR(VLOOKUP($A42+8860000,'Growth Data'!$A:$F,5,0)),\"NO\",VLOOKUP($A42+8860000,'Growth Data'!$A:$F,5,0))","v":"NO"},0,null,0,{"$f":"IF(CC42=\"YES\",IF(ISERROR(VLOOKUP($A42+8860000,'Growth Data'!$A:$Z,8,0)),0,VLOOKUP($A42+8860000,'Growth Data'!$A:$Z,8,0)),0)","v":0},0,null,null,null,0]
[2171,"Brunswick House Primary School",null,"Brunswick House Primary School","Brunswick House Primary School",0,null,1491597,1491597,0,null,0,0,0,null,1491597,1491597,0,null,10784.64,10784.636268,0,null,null,null,0,null,0,0,0,null,92776.71,null,92777,null,0,null,0,null,0,null,0,null,0,null,0,null,null,null,0,null,null,null,0,null,null,null,0,null,null,null,0,null,"NO",{"$f":"IF(ISERROR(VLOOKUP($A43+8860000,'Growth Data'!$A:$F,3,0)),\"NO\",VLOOKUP($A43+8860000,'Growth Data'!$A:$F,3,0))","v":"NO"},0,null,0,{"$f":"IF(BM43=\"YES\",IF(ISERROR(VLOOKUP($A43+8860000,'Growth Data'!$A:$F,6,0)),0,VLOOKUP($A43+8860000,'Growth Data'!$A:$F,6,0)),0)","v":0},0,null,"NO",{"$f":"IF(ISERROR(VLOOKUP($A43+8860000,'Growth Data'!$A:$F,4,0)),\"NO\",VLOOKUP($A43+8860000,'Growth Data'!$A:$F,4,0))","v":"NO"},0,null,0,{"$f":"IF(BU43=\"YES\",IF(ISERROR(VLOOKUP($A43+8860000,'Growth Data'!$A:$Z,7,0)),0,VLOOKUP($A43+8860000,'Growth Data'!$A:$Z,7,0)),0)","v":0},0,null,"NO",{"$f":"IF(ISERROR(VLOOKUP($A43+8860000,'Growth Data'!$A:$F,5,0)),\"NO\",VLOOKUP($A43+8860000,'Growth Data'!$A:$F,5,0))","v":"NO"},0,null,0,{"$f":"IF(CC43=\"YES\",IF(ISERROR(VLOOKUP($A43+8860000,'Growth Data'!$A:$Z,8,0)),0,VLOOKUP($A43+8860000,'Growth Data'!$A:$Z,8,0)),0)","v":0},0,null,null,null,0]
[2175,"North Borough Junior School",null,"North Borough Junior School","North Borough Junior School",0,null,1228119.3999999999,1228119.40202188,0,null,0,0,0,null,1228119.3999999999,1228119.40202188,0,null,8447.9699999999993,8447.9650765999995,0,null,null,null,0,null,0,0,0,null,5580,null,5580,null,5442,null,5442,null,0,null,0,null,0,null,0,null,null,null,0,null,null,null,0,null,null,null,0,null,null,null,0,null,"NO",{"$f":"IF(ISERROR(VLOOKUP($A44+8860000,'Growth Data'!$A:$F,3,0)),\"NO\",VLOOKUP($A44+8860000,'Growth Data'!$A:$F,3,0))","v":"NO"},0,null,0,{"$f":"IF(BM44=\"YES\",IF(ISERROR(VLOOKUP($A44+8860000,'Growth Data'!$A:$F,6,0)),0,VLOOKUP($A44+8860000,'Growth Data'!$A:$F,6,0)),0)","v":0},0,null,"NO",{"$f":"IF(ISERROR(VLOOKUP($A44+8860000,'Growth Data'!$A:$F,4,0)),\"NO\",VLOOKUP($A44+8860000,'Growth Data'!$A:$F,4,0))","v":"NO"},0,null,0,{"$f":"IF(BU44=\"YES\",IF(ISERROR(VLOOKUP($A44+8860000,'Growth Data'!$A:$Z,7,0)),0,VLOOKUP($A44+8860000,'Growth Data'!$A:$Z,7,0)),0)","v":0},0,null,"NO",{"$f":"IF(ISERROR(VLOOKUP($A44+8860000,'Growth Data'!$A:$F,5,0)),\"NO\",VLOOKUP($A44+8860000,'Growth Data'!$A:$F,5,0))","v":"NO"},0,null,0,{"$f":"IF(CC44=\"YES\",IF(ISERROR(VLOOKUP($A44+8860000,'Growth Data'!$A:$Z,8,0)),0,VLOOKUP($A44+8860000,'Growth Data'!$A:$Z,8,0)),0)","v":0},0,null,null,null,0]
[2176,"Park Way Primary School",null,"Park Way Primary School","Park Way Primary School",0,null,1210048.5,1210048.4992474101,0,null,0,0,0,null,1210048.5,1210048.4992474101,0,null,8011.44,8011.4440848000004,0,null,null,null,0,null,0,0,0,null,123982.51,null,123983,null,0,null,0,null,0,null,0,null,0,null,0,null,null,null,0,null,null,null,0,null,null,null,0,null,null,null,0,null,"YES",{"$f":"IF(ISERROR(VLOOKUP($A45+8860000,'Growth Data'!$A:$F,3,0)),\"NO\",VLOOKUP($A45+8860000,'Growth Data'!$A:$F,3,0))","v":"NO"},1,null,75,{"$f":"IF(BM45=\"YES\",IF(ISERROR(VLOOKUP($A45+8860000,'Growth Data'!$A:$F,6,0)),0,VLOOKUP($A45+8860000,'Growth Data'!$A:$F,6,0)),0)","v":0},75,null,"YES",{"$f":"IF(ISERROR(VLOOKUP($A45+8860000,'Growth Data'!$A:$F,4,0)),\"NO\",VLOOKUP($A45+8860000,'Growth Data'!$A:$F,4,0))","v":"NO"},1,null,75,{"$f":"IF(BU45=\"YES\",IF(ISERROR(VLOOKUP($A45+8860000,'Growth Data'!$A:$Z,7,0)),0,VLOOKUP($A45+8860000,'Growth Data'!$A:$Z,7,0)),0)","v":0},75,null,"NO",{"$f":"IF(ISERROR(VLOOKUP($A45+8860000,'Growth Data'!$A:$F,5,0)),\"NO\",VLOOKUP($A45+8860000,'Growth Data'!$A:$F,5,0))","v":"NO"},0,null,0,{"$f":"IF(CC45=\"YES\",IF(ISERROR(VLOOKUP($A45+8860000,'Growth Data'!$A:$Z,8,0)),0,VLOOKUP($A45+8860000,'Growth Data'!$A:$Z,8,0)),0)","v":0},0,null,null,null,0]
[2183,"Marden Primary School",null,"Marden Primary School","Marden Primary School",0,null,982451.67,982451.6667634953,0,null,0,0,0,null,982451.67,982451.6667634953,0,null,6599.17,6599.1702877999987,0,null,null,null,0,null,0,0,0,null,146702.95000000001,null,146703,null,0,null,0,null,0,null,0,null,0,null,0,null,null,null,0,null,null,null,0,null,null,null,0,null,null,null,0,null,"NO",{"$f":"IF(ISERROR(VLOOKUP($A46+8860000,'Growth Data'!$A:$F,3,0)),\"NO\",VLOOKUP($A46+8860000,'Growth Data'!$A:$F,3,0))","v":"NO"},0,null,0,{"$f":"IF(BM46=\"YES\",IF(ISERROR(VLOOKUP($A46+8860000,'Growth Data'!$A:$F,6,0)),0,VLOOKUP($A46+8860000,'Growth Data'!$A:$F,6,0)),0)","v":0},0,null,"NO",{"$f":"IF(ISERROR(VLOOKUP($A46+8860000,'Growth Data'!$A:$F,4,0)),\"NO\",VLOOKUP($A46+8860000,'Growth Data'!$A:$F,4,0))","v":"NO"},0,null,0,{"$f":"IF(BU46=\"YES\",IF(ISERROR(VLOOKUP($A46+8860000,'Growth Data'!$A:$Z,7,0)),0,VLOOKUP($A46+8860000,'Growth Data'!$A:$Z,7,0)),0)","v":0},0,null,"NO",{"$f":"IF(ISERROR(VLOOKUP($A46+8860000,'Growth Data'!$A:$F,5,0)),\"NO\",VLOOKUP($A46+8860000,'Growth Data'!$A:$F,5,0))","v":"NO"},0,null,0,{"$f":"IF(CC46=\"YES\",IF(ISERROR(VLOOKUP($A46+8860000,'Growth Data'!$A:$Z,8,0)),0,VLOOKUP($A46+8860000,'Growth Data'!$A:$Z,8,0)),0)","v":0},0,null,null,null,0]
[2185,"Mereworth Community Primary School",null,"Mereworth Community Primary School","Mereworth Community Primary School",0,null,787560.55,787560.54821482429,0,null,0,0,0,null,787560.55,787560.54821482429,0,null,5469.35,5469.3512501999994,0,null,null,null,0,null,0,0,0,null,102263.44,null,102263,null,0,null,0,null,0,null,0,null,0,null,0,null,null,null,0,null,null,null,0,null,null,null,0,null,null,null,0,null,"NO",{"$f":"IF(ISERROR(VLOOKUP($A47+8860000,'Growth Data'!$A:$F,3,0)),\"NO\",VLOOKUP($A47+8860000,'Growth Data'!$A:$F,3,0))","v":"NO"},0,null,0,{"$f":"IF(BM47=\"YES\",IF(ISERROR(VLOOKUP($A47+8860000,'Growth Data'!$A:$F,6,0)),0,VLOOKUP($A47+8860000,'Growth Data'!$A:$F,6,0)),0)","v":0},0,null,"NO",{"$f":"IF(ISERROR(VLOOKUP($A47+8860000,'Growth Data'!$A:$F,4,0)),\"NO\",VLOOKUP($A47+8860000,'Growth Data'!$A:$F,4,0))","v":"NO"},0,null,0,{"$f":"IF(BU47=\"YES\",IF(ISERROR(VLOOKUP($A47+8860000,'Growth Data'!$A:$Z,7,0)),0,VLOOKUP($A47+8860000,'Growth Data'!$A:$Z,7,0)),0)","v":0},0,null,"NO",{"$f":"IF(ISERROR(VLOOKUP($A47+8860000,'Growth Data'!$A:$F,5,0)),\"NO\",VLOOKUP($A47+8860000,'Growth Data'!$A:$F,5,0))","v":"NO"},0,null,0,{"$f":"IF(CC47=\"YES\",IF(ISERROR(VLOOKUP($A47+8860000,'Growth Data'!$A:$Z,8,0)),0,VLOOKUP($A47+8860000,'Growth Data'!$A:$Z,8,0)),0)","v":0},0,null,null,null,0]
[2187,"Offham Primary School",null,"Offham Primary School","Offham Primary School",0,null,749104.62,749104.62057808507,0,null,0,0,0,null,749104.62,749104.62057808507,0,null,5340.96,5340.9627231999993,0,null,null,null,0,null,0,0,0,null,46008.54,null,46009,null,1399.15,null,1399,null,0,null,0,null,0,null,0,null,null,null,0,null,null,null,0,null,null,null,0,null,null,null,0,null,"NO",{"$f":"IF(ISERROR(VLOOKUP($A48+8860000,'Growth Data'!$A:$F,3,0)),\"NO\",VLOOKUP($A48+8860000,'Growth Data'!$A:$F,3,0))","v":"NO"},0,null,0,{"$f":"IF(BM48=\"YES\",IF(ISERROR(VLOOKUP($A48+8860000,'Growth Data'!$A:$F,6,0)),0,VLOOKUP($A48+8860000,'Growth Data'!$A:$F,6,0)),0)","v":0},0,null,"NO",{"$f":"IF(ISERROR(VLOOKUP($A48+8860000,'Growth Data'!$A:$F,4,0)),\"NO\",VLOOKUP($A48+8860000,'Growth Data'!$A:$F,4,0))","v":"NO"},0,null,0,{"$f":"IF(BU48=\"YES\",IF(ISERROR(VLOOKUP($A48+8860000,'Growth Data'!$A:$Z,7,0)),0,VLOOKUP($A48+8860000,'Growth Data'!$A:$Z,7,0)),0)","v":0},0,null,"NO",{"$f":"IF(ISERROR(VLOOKUP($A48+8860000,'Growth Data'!$A:$F,5,0)),\"NO\",VLOOKUP($A48+8860000,'Growth Data'!$A:$F,5,0))","v":"NO"},0,null,0,{"$f":"IF(CC48=\"YES\",IF(ISERROR(VLOOKUP($A48+8860000,'Growth Data'!$A:$Z,8,0)),0,VLOOKUP($A48+8860000,'Growth Data'!$A:$Z,8,0)),0)","v":0},0,null,null,null,0]
[2188,"Plaxtol Primary School",null,"Plaxtol Primary School","Plaxtol Primary School",0,null,406021.37,406021.36963066412,0,null,0,0,0,null,406021.37,406021.36963066412,0,null,2388.0300000000002,2388.0266022000001,0,null,null,null,0,null,0,0,0,null,35490.61,null,35491,null,2450.94,null,2451,null,0,null,0,null,0,null,0,null,null,null,0,null,null,null,0,null,null,null,0,null,null,null,0,null,"NO",{"$f":"IF(ISERROR(VLOOKUP($A49+8860000,'Growth Data'!$A:$F,3,0)),\"NO\",VLOOKUP($A49+8860000,'Growth Data'!$A:$F,3,0))","v":"NO"},0,null,0,{"$f":"IF(BM49=\"YES\",IF(ISERROR(VLOOKUP($A49+8860000,'Growth Data'!$A:$F,6,0)),0,VLOOKUP($A49+8860000,'Growth Data'!$A:$F,6,0)),0)","v":0},0,null,"NO",{"$f":"IF(ISERROR(VLOOKUP($A49+8860000,'Growth Data'!$A:$F,4,0)),\"NO\",VLOOKUP($A49+8860000,'Growth Data'!$A:$F,4,0))","v":"NO"},0,null,0,{"$f":"IF(BU49=\"YES\",IF(ISERROR(VLOOKUP($A49+8860000,'Growth Data'!$A:$Z,7,0)),0,VLOOKUP($A49+8860000,'Growth Data'!$A:$Z,7,0)),0)","v":0},0,null,"NO",{"$f":"IF(ISERROR(VLOOKUP($A49+8860000,'Growth Data'!$A:$F,5,0)),\"NO\",VLOOKUP($A49+8860000,'Growth Data'!$A:$F,5,0))","v":"NO"},0,null,0,{"$f":"IF(CC49=\"YES\",IF(ISERROR(VLOOKUP($A49+8860000,'Growth Data'!$A:$Z,8,0)),0,VLOOKUP($A49+8860000,'Growth Data'!$A:$Z,8,0)),0)","v":0},0,null,null,null,0]
[2189,"Ryarsh Primary School",null,"Ryarsh Primary School","Ryarsh Primary School",0,null,750159.41,750159.41286680428,0,null,0,0,0,null,750159.41,750159.41286680428,0,null,5392.32,5392.3181340000001,0,null,null,null,0,null,0,0,0,null,20008.650000000001,null,20009,null,3999.13,null,3999,null,0,null,0,null,0,null,0,null,null,null,0,null,null,null,0,null,null,null,0,null,null,null,0,null,"NO",{"$f":"IF(ISERROR(VLOOKUP($A50+8860000,'Growth Data'!$A:$F,3,0)),\"NO\",VLOOKUP($A50+8860000,'Growth Data'!$A:$F,3,0))","v":"NO"},0,null,0,{"$f":"IF(BM50=\"YES\",IF(ISERROR(VLOOKUP($A50+8860000,'Growth Data'!$A:$F,6,0)),0,VLOOKUP($A50+8860000,'Growth Data'!$A:$F,6,0)),0)","v":0},0,null,"NO",{"$f":"IF(ISERROR(VLOOKUP($A50+8860000,'Growth Data'!$A:$F,4,0)),\"NO\",VLOOKUP($A50+8860000,'Growth Data'!$A:$F,4,0))","v":"NO"},0,null,0,{"$f":"IF(BU50=\"YES\",IF(ISERROR(VLOOKUP($A50+8860000,'Growth Data'!$A:$Z,7,0)),0,VLOOKUP($A50+8860000,'Growth Data'!$A:$Z,7,0)),0)","v":0},0,null,"NO",{"$f":"IF(ISERROR(VLOOKUP($A50+8860000,'Growth Data'!$A:$F,5,0)),\"NO\",VLOOKUP($A50+8860000,'Growth Data'!$A:$F,5,0))","v":"NO"},0,null,0,{"$f":"IF(CC50=\"YES\",IF(ISERROR(VLOOKUP($A50+8860000,'Growth Data'!$A:$Z,8,0)),0,VLOOKUP($A50+8860000,'Growth Data'!$A:$Z,8,0)),0)","v":0},0,null,null,null,0]
[2190,"Shipbourne School",null,"Shipbourne School","Shipbourne School",0,null,283001.21000000002,283001.21206590912,0,null,0,0,0,null,283001.21000000002,283001.21206590912,0,null,1309.56,1309.5629753999999,0,null,null,null,0,null,0,0,0,null,34664.14,null,34664,null,2533.59,null,2534,null,0,null,0,null,0,null,0,null,null,null,0,null,null,null,0,null,null,null,0,null,null,null,0,null,"NO",{"$f":"IF(ISERROR(VLOOKUP($A51+8860000,'Growth Data'!$A:$F,3,0)),\"NO\",VLOOKUP($A51+8860000,'Growth Data'!$A:$F,3,0))","v":"NO"},0,null,0,{"$f":"IF(BM51=\"YES\",IF(ISERROR(VLOOKUP($A51+8860000,'Growth Data'!$A:$F,6,0)),0,VLOOKUP($A51+8860000,'Growth Data'!$A:$F,6,0)),0)","v":0},0,null,"NO",{"$f":"IF(ISERROR(VLOOKUP($A51+8860000,'Growth Data'!$A:$F,4,0)),\"NO\",VLOOKUP($A51+8860000,'Growth Data'!$A:$F,4,0))","v":"NO"},0,null,0,{"$f":"IF(BU51=\"YES\",IF(ISERROR(VLOOKUP($A51+8860000,'Growth Data'!$A:$Z,7,0)),0,VLOOKUP($A51+8860000,'Growth Data'!$A:$Z,7,0)),0)","v":0},0,null,"NO",{"$f":"IF(ISERROR(VLOOKUP($A51+8860000,'Growth Data'!$A:$F,5,0)),\"NO\",VLOOKUP($A51+8860000,'Growth Data'!$A:$F,5,0))","v":"NO"},0,null,0,{"$f":"IF(CC51=\"YES\",IF(ISERROR(VLOOKUP($A51+8860000,'Growth Data'!$A:$Z,8,0)),0,VLOOKUP($A51+8860000,'Growth Data'!$A:$Z,8,0)),0)","v":0},0,null,null,null,0]
[2191,"St Katherine's School",null,"St Katherine's School","St Katherine's School",0,null,2040034,2040034,0,null,0,0,0,null,2040034,2040034,0,null,14893.07,14893.069131999997,0,null,null,null,0,null,4.9000000000000004,4.9000000000000004,0,null,16696.2,null,16696,null,4330.38,null,4330,null,0,null,0,null,0,null,0,null,null,null,0,null,null,null,0,null,null,null,0,null,null,null,0,null,"NO",{"$f":"IF(ISERROR(VLOOKUP($A52+8860000,'Growth Data'!$A:$F,3,0)),\"NO\",VLOOKUP($A52+8860000,'Growth Data'!$A:$F,3,0))","v":"NO"},0,null,0,{"$f":"IF(BM52=\"YES\",IF(ISERROR(VLOOKUP($A52+8860000,'Growth Data'!$A:$F,6,0)),0,VLOOKUP($A52+8860000,'Growth Data'!$A:$F,6,0)),0)","v":0},0,null,"NO",{"$f":"IF(ISERROR(VLOOKUP($A52+8860000,'Growth Data'!$A:$F,4,0)),\"NO\",VLOOKUP($A52+8860000,'Growth Data'!$A:$F,4,0))","v":"NO"},0,null,0,{"$f":"IF(BU52=\"YES\",IF(ISERROR(VLOOKUP($A52+8860000,'Growth Data'!$A:$Z,7,0)),0,VLOOKUP($A52+8860000,'Growth Data'!$A:$Z,7,0)),0)","v":0},0,null,"NO",{"$f":"IF(ISERROR(VLOOKUP($A52+8860000,'Growth Data'!$A:$F,5,0)),\"NO\",VLOOKUP($A52+8860000,'Growth Data'!$A:$F,5,0))","v":"NO"},0,null,0,{"$f":"IF(CC52=\"YES\",IF(ISERROR(VLOOKUP($A52+8860000,'Growth Data'!$A:$Z,8,0)),0,VLOOKUP($A52+8860000,'Growth Data'!$A:$Z,8,0)),0)","v":0},0,null,null,null,0]
[2192,"Staplehurst School",null,"Staplehurst School","Staplehurst School",0,null,1484636,1484636,0,null,0,0,0,null,1484636,1484636,0,null,10938.7,10938.702500399999,0,null,null,null,0,null,0,0,0,null,196789.88,null,196790,null,0,null,0,null,0,null,0,null,0,null,0,null,null,null,0,null,null,null,0,null,null,null,0,null,null,null,0,null,"NO",{"$f":"IF(ISERROR(VLOOKUP($A53+8860000,'Growth Data'!$A:$F,3,0)),\"NO\",VLOOKUP($A53+8860000,'Growth Data'!$A:$F,3,0))","v":"NO"},0,null,0,{"$f":"IF(BM53=\"YES\",IF(ISERROR(VLOOKUP($A53+8860000,'Growth Data'!$A:$F,6,0)),0,VLOOKUP($A53+8860000,'Growth Data'!$A:$F,6,0)),0)","v":0},0,null,"NO",{"$f":"IF(ISERROR(VLOOKUP($A53+8860000,'Growth Data'!$A:$F,4,0)),\"NO\",VLOOKUP($A53+8860000,'Growth Data'!$A:$F,4,0))","v":"NO"},0,null,0,{"$f":"IF(BU53=\"YES\",IF(ISERROR(VLOOKUP($A53+8860000,'Growth Data'!$A:$Z,7,0)),0,VLOOKUP($A53+8860000,'Growth Data'!$A:$Z,7,0)),0)","v":0},0,null,"NO",{"$f":"IF(ISERROR(VLOOKUP($A53+8860000,'Growth Data'!$A:$F,5,0)),\"NO\",VLOOKUP($A53+8860000,'Growth Data'!$A:$F,5,0))","v":"NO"},0,null,0,{"$f":"IF(CC53=\"YES\",IF(ISERROR(VLOOKUP($A53+8860000,'Growth Data'!$A:$Z,8,0)),0,VLOOKUP($A53+8860000,'Growth Data'!$A:$Z,8,0)),0)","v":0},0,null,null,null,0]
[2193,"Sutton Valence Primary School",null,"Sutton Valence Primary School","Sutton Valence Primary School",0,null,672519.92,672519.91913649172,0,null,0,0,0,null,672519.92,672519.91913649172,0,null,4467.92,4467.9207396000002,0,null,null,null,0,null,0,0,0,null,89079.27,null,89079,null,0,null,0,null,0,null,0,null,0,null,0,null,null,null,0,null,null,null,0,null,null,null,0,null,null,null,0,null,"NO",{"$f":"IF(ISERROR(VLOOKUP($A54+8860000,'Growth Data'!$A:$F,3,0)),\"NO\",VLOOKUP($A54+8860000,'Growth Data'!$A:$F,3,0))","v":"NO"},0,null,0,{"$f":"IF(BM54=\"YES\",IF(ISERROR(VLOOKUP($A54+8860000,'Growth Data'!$A:$F,6,0)),0,VLOOKUP($A54+8860000,'Growth Data'!$A:$F,6,0)),0)","v":0},0,null,"NO",{"$f":"IF(ISERROR(VLOOKUP($A54+8860000,'Growth Data'!$A:$F,4,0)),\"NO\",VLOOKUP($A54+8860000,'Growth Data'!$A:$F,4,0))","v":"NO"},0,null,0,{"$f":"IF(BU54=\"YES\",IF(ISERROR(VLOOKUP($A54+8860000,'Growth Data'!$A:$Z,7,0)),0,VLOOKUP($A54+8860000,'Growth Data'!$A:$Z,7,0)),0)","v":0},0,null,"NO",{"$f":"IF(ISERROR(VLOOKUP($A54+8860000,'Growth Data'!$A:$F,5,0)),\"NO\",VLOOKUP($A54+8860000,'Growth Data'!$A:$F,5,0))","v":"NO"},0,null,0,{"$f":"IF(CC54=\"YES\",IF(ISERROR(VLOOKUP($A54+8860000,'Growth Data'!$A:$Z,8,0)),0,VLOOKUP($A54+8860000,'Growth Data'!$A:$Z,8,0)),0)","v":0},0,null,null,null,0]
[2226,"Eastling Primary School",null,"Eastling Primary School","Eastling Primary School",0,null,467547.29,467547.29039824411,0,null,0,0,0,null,467547.29,467547.29039824411,0,null,2696.16,2696.1590670000001,0,null,null,null,0,null,0,0,0,null,44196.25,null,44196,null,1580.37,null,1580,null,0,null,0,null,0,null,0,null,null,null,0,null,null,null,0,null,null,null,0,null,null,null,0,null,"NO",{"$f":"IF(ISERROR(VLOOKUP($A55+8860000,'Growth Data'!$A:$F,3,0)),\"NO\",VLOOKUP($A55+8860000,'Growth Data'!$A:$F,3,0))","v":"NO"},0,null,0,{"$f":"IF(BM55=\"YES\",IF(ISERROR(VLOOKUP($A55+8860000,'Growth Data'!$A:$F,6,0)),0,VLOOKUP($A55+8860000,'Growth Data'!$A:$F,6,0)),0)","v":0},0,null,"NO",{"$f":"IF(ISERROR(VLOOKUP($A55+8860000,'Growth Data'!$A:$F,4,0)),\"NO\",VLOOKUP($A55+8860000,'Growth Data'!$A:$F,4,0))","v":"NO"},0,null,0,{"$f":"IF(BU55=\"YES\",IF(ISERROR(VLOOKUP($A55+8860000,'Growth Data'!$A:$Z,7,0)),0,VLOOKUP($A55+8860000,'Growth Data'!$A:$Z,7,0)),0)","v":0},0,null,"NO",{"$f":"IF(ISERROR(VLOOKUP($A55+8860000,'Growth Data'!$A:$F,5,0)),\"NO\",VLOOKUP($A55+8860000,'Growth Data'!$A:$F,5,0))","v":"NO"},0,null,0,{"$f":"IF(CC55=\"YES\",IF(ISERROR(VLOOKUP($A55+8860000,'Growth Data'!$A:$Z,8,0)),0,VLOOKUP($A55+8860000,'Growth Data'!$A:$Z,8,0)),0)","v":0},0,null,null,null,0]
[2227,"Ethelbert Road Primary School",null,"Ethelbert Road Primary School","Ethelbert Road Primary School",0,null,769388.65,769388.648285373,0,null,0,0,0,null,769388.65,769388.648285373,0,null,5392.32,5392.3181340000001,0,null,null,null,0,null,0,0,0,null,33477.870000000003,null,33478,null,2652.21,null,2652,null,0,null,0,null,0,null,0,null,null,null,0,null,null,null,0,null,null,null,0,null,null,null,0,null,"NO",{"$f":"IF(ISERROR(VLOOKUP($A56+8860000,'Growth Data'!$A:$F,3,0)),\"NO\",VLOOKUP($A56+8860000,'Growth Data'!$A:$F,3,0))","v":"NO"},0,null,0,{"$f":"IF(BM56=\"YES\",IF(ISERROR(VLOOKUP($A56+8860000,'Growth Data'!$A:$F,6,0)),0,VLOOKUP($A56+8860000,'Growth Data'!$A:$F,6,0)),0)","v":0},0,null,"NO",{"$f":"IF(ISERROR(VLOOKUP($A56+8860000,'Growth Data'!$A:$F,4,0)),\"NO\",VLOOKUP($A56+8860000,'Growth Data'!$A:$F,4,0))","v":"NO"},0,null,0,{"$f":"IF(BU56=\"YES\",IF(ISERROR(VLOOKUP($A56+8860000,'Growth Data'!$A:$Z,7,0)),0,VLOOKUP($A56+8860000,'Growth Data'!$A:$Z,7,0)),0)","v":0},0,null,"NO",{"$f":"IF(ISERROR(VLOOKUP($A56+8860000,'Growth Data'!$A:$F,5,0)),\"NO\",VLOOKUP($A56+8860000,'Growth Data'!$A:$F,5,0))","v":"NO"},0,null,0,{"$f":"IF(CC56=\"YES\",IF(ISERROR(VLOOKUP($A56+8860000,'Growth Data'!$A:$Z,8,0)),0,VLOOKUP($A56+8860000,'Growth Data'!$A:$Z,8,0)),0)","v":0},0,null,null,null,0]
[2228,"Davington Primary School",null,"Davington Primary School","Davington Primary School",0,null,1529174.43,1529174.4325844939,0,null,0,0,0,null,1529174.43,1529174.4325844939,0,null,10707.6,10707.6031518,0,null,null,null,0,null,0,0,0,null,54764.959999999999,null,54765,null,523.5,null,524,null,0,null,0,null,0,null,0,null,null,null,0,null,null,null,0,null,null,null,0,null,null,null,0,null,"NO",{"$f":"IF(ISERROR(VLOOKUP($A57+8860000,'Growth Data'!$A:$F,3,0)),\"NO\",VLOOKUP($A57+8860000,'Growth Data'!$A:$F,3,0))","v":"NO"},0,null,0,{"$f":"IF(BM57=\"YES\",IF(ISERROR(VLOOKUP($A57+8860000,'Growth Data'!$A:$F,6,0)),0,VLOOKUP($A57+8860000,'Growth Data'!$A:$F,6,0)),0)","v":0},0,null,"NO",{"$f":"IF(ISERROR(VLOOKUP($A57+8860000,'Growth Data'!$A:$F,4,0)),\"NO\",VLOOKUP($A57+8860000,'Growth Data'!$A:$F,4,0))","v":"NO"},0,null,0,{"$f":"IF(BU57=\"YES\",IF(ISERROR(VLOOKUP($A57+8860000,'Growth Data'!$A:$Z,7,0)),0,VLOOKUP($A57+8860000,'Growth Data'!$A:$Z,7,0)),0)","v":0},0,null,"NO",{"$f":"IF(ISERROR(VLOOKUP($A57+8860000,'Growth Data'!$A:$F,5,0)),\"NO\",VLOOKUP($A57+8860000,'Growth Data'!$A:$F,5,0))","v":"NO"},0,null,0,{"$f":"IF(CC57=\"YES\",IF(ISERROR(VLOOKUP($A57+8860000,'Growth Data'!$A:$Z,8,0)),0,VLOOKUP($A57+8860000,'Growth Data'!$A:$Z,8,0)),0)","v":0},0,null,null,null,0]
[2231,"Lower Halstow School",null,"Lower Halstow School","Lower Halstow School",0,null,620031.73,620031.72683125769,0,null,0,0,0,null,620031.73,620031.72683125769,0,null,4005.72,4005.7220424000002,0,null,null,null,0,null,0,0,0,null,189060.27,null,189060,null,0,null,0,null,0,null,0,null,0,null,0,null,null,null,0,null,null,null,0,null,null,null,0,null,null,null,0,null,"NO",{"$f":"IF(ISERROR(VLOOKUP($A58+8860000,'Growth Data'!$A:$F,3,0)),\"NO\",VLOOKUP($A58+8860000,'Growth Data'!$A:$F,3,0))","v":"YES"},1,null,0,{"$f":"IF(BM58=\"YES\",IF(ISERROR(VLOOKUP($A58+8860000,'Growth Data'!$A:$F,6,0)),0,VLOOKUP($A58+8860000,'Growth Data'!$A:$F,6,0)),0)","v":29},-29,null,"NO",{"$f":"IF(ISERROR(VLOOKUP($A58+8860000,'Growth Data'!$A:$F,4,0)),\"NO\",VLOOKUP($A58+8860000,'Growth Data'!$A:$F,4,0))","v":"YES"},1,null,0,{"$f":"IF(BU58=\"YES\",IF(ISERROR(VLOOKUP($A58+8860000,'Growth Data'!$A:$Z,7,0)),0,VLOOKUP($A58+8860000,'Growth Data'!$A:$Z,7,0)),0)","v":30},-30,null,"NO",{"$f":"IF(ISERROR(VLOOKUP($A58+8860000,'Growth Data'!$A:$F,5,0)),\"NO\",VLOOKUP($A58+8860000,'Growth Data'!$A:$F,5,0))","v":"NO"},0,null,0,{"$f":"IF(CC58=\"YES\",IF(ISERROR(VLOOKUP($A58+8860000,'Growth Data'!$A:$Z,8,0)),0,VLOOKUP($A58+8860000,'Growth Data'!$A:$Z,8,0)),0)","v":0},0,null,null,null,0]
[2237,"Queenborough School and Nursery",null,"Queenborough School and Nursery","Queenborough School and Nursery",0,null,1643604.65,1643604.6465239706,0,null,0,0,0,null,1643604.65,1643604.6465239706,0,null,10733.28,10733.280857199998,0,null,null,null,0,null,5.13,5.13,0,null,45967.1,null,45967,null,1403.29,null,1403,null,0,null,0,null,0,null,0,null,null,null,0,null,null,null,0,null,null,null,0,null,null,null,0,null,"NO",{"$f":"IF(ISERROR(VLOOKUP($A59+8860000,'Growth Data'!$A:$F,3,0)),\"NO\",VLOOKUP($A59+8860000,'Growth Data'!$A:$F,3,0))","v":"NO"},0,null,0,{"$f":"IF(BM59=\"YES\",IF(ISERROR(VLOOKUP($A59+8860000,'Growth Data'!$A:$F,6,0)),0,VLOOKUP($A59+8860000,'Growth Data'!$A:$F,6,0)),0)","v":0},0,null,"NO",{"$f":"IF(ISERROR(VLOOKUP($A59+8860000,'Growth Data'!$A:$F,4,0)),\"NO\",VLOOKUP($A59+8860000,'Growth Data'!$A:$F,4,0))","v":"NO"},0,null,0,{"$f":"IF(BU59=\"YES\",IF(ISERROR(VLOOKUP($A59+8860000,'Growth Data'!$A:$Z,7,0)),0,VLOOKUP($A59+8860000,'Growth Data'!$A:$Z,7,0)),0)","v":0},0,null,"NO",{"$f":"IF(ISERROR(VLOOKUP($A59+8860000,'Growth Data'!$A:$F,5,0)),\"NO\",VLOOKUP($A59+8860000,'Growth Data'!$A:$F,5,0))","v":"NO"},0,null,0,{"$f":"IF(CC59=\"YES\",IF(ISERROR(VLOOKUP($A59+8860000,'Growth Data'!$A:$Z,8,0)),0,VLOOKUP($A59+8860000,'Growth Data'!$A:$Z,8,0)),0)","v":0},0,null,null,null,0]
[2239,"Rodmersham School",null,"Rodmersham School","Rodmersham School",0,null,408258.66,408258.66467924858,0,null,0,0,0,null,408258.66,408258.66467924858,0,null,2542.09,2542.0928346000001,0,null,null,null,0,null,0,0,0,null,276461.96000000002,null,276462,null,0,null,0,null,0,null,0,null,0,null,0,null,null,null,0,null,null,null,0,null,null,null,0,null,null,null,0,null,"YES",{"$f":"IF(ISERROR(VLOOKUP($A60+8860000,'Growth Data'!$A:$F,3,0)),\"NO\",VLOOKUP($A60+8860000,'Growth Data'!$A:$F,3,0))","v":"NO"},1,null,55,{"$f":"IF(BM60=\"YES\",IF(ISERROR(VLOOKUP($A60+8860000,'Growth Data'!$A:$F,6,0)),0,VLOOKUP($A60+8860000,'Growth Data'!$A:$F,6,0)),0)","v":0},55,null,"NO",{"$f":"IF(ISERROR(VLOOKUP($A60+8860000,'Growth Data'!$A:$F,4,0)),\"NO\",VLOOKUP($A60+8860000,'Growth Data'!$A:$F,4,0))","v":"NO"},0,null,0,{"$f":"IF(BU60=\"YES\",IF(ISERROR(VLOOKUP($A60+8860000,'Growth Data'!$A:$Z,7,0)),0,VLOOKUP($A60+8860000,'Growth Data'!$A:$Z,7,0)),0)","v":0},0,null,"NO",{"$f":"IF(ISERROR(VLOOKUP($A60+8860000,'Growth Data'!$A:$F,5,0)),\"NO\",VLOOKUP($A60+8860000,'Growth Data'!$A:$F,5,0))","v":"NO"},0,null,0,{"$f":"IF(CC60=\"YES\",IF(ISERROR(VLOOKUP($A60+8860000,'Growth Data'!$A:$Z,8,0)),0,VLOOKUP($A60+8860000,'Growth Data'!$A:$Z,8,0)),0)","v":0},0,null,null,null,0]
[2245,"Rose Street School",null,"Rose Street School","Rose Street School",0,null,1353820.27,1353820.2690983273,0,null,6335.46,6335.4550541585777,0,null,1360155.72,1360155.7241524858,0,null,8268.2199999999993,8268.2211387999996,0,null,null,null,0,null,5.41,5.41,0,null,16189.06,null,16189,null,4381.09,null,4381,null,0,null,0,null,0,null,0,null,null,null,0,null,null,null,0,null,null,null,0,null,null,null,0,null,"NO",{"$f":"IF(ISERROR(VLOOKUP($A61+8860000,'Growth Data'!$A:$F,3,0)),\"NO\",VLOOKUP($A61+8860000,'Growth Data'!$A:$F,3,0))","v":"NO"},0,null,0,{"$f":"IF(BM61=\"YES\",IF(ISERROR(VLOOKUP($A61+8860000,'Growth Data'!$A:$F,6,0)),0,VLOOKUP($A61+8860000,'Growth Data'!$A:$F,6,0)),0)","v":0},0,null,"NO",{"$f":"IF(ISERROR(VLOOKUP($A61+8860000,'Growth Data'!$A:$F,4,0)),\"NO\",VLOOKUP($A61+8860000,'Growth Data'!$A:$F,4,0))","v":"NO"},0,null,0,{"$f":"IF(BU61=\"YES\",IF(ISERROR(VLOOKUP($A61+8860000,'Growth Data'!$A:$Z,7,0)),0,VLOOKUP($A61+8860000,'Growth Data'!$A:$Z,7,0)),0)","v":0},0,null,"NO",{"$f":"IF(ISERROR(VLOOKUP($A61+8860000,'Growth Data'!$A:$F,5,0)),\"NO\",VLOOKUP($A61+8860000,'Growth Data'!$A:$F,5,0))","v":"NO"},0,null,0,{"$f":"IF(CC61=\"YES\",IF(ISERROR(VLOOKUP($A61+8860000,'Growth Data'!$A:$Z,8,0)),0,VLOOKUP($A61+8860000,'Growth Data'!$A:$Z,8,0)),0)","v":0},0,null,null,null,0]
[2254,"Canterbury Road Primary School",null,"Canterbury Road Primary School","Canterbury Road Primary School",0,null,869358.81,869358.80756126565,0,null,0,0,0,null,869358.81,869358.80756126565,0,null,5366.64,5366.6404285999988,0,null,null,null,0,null,0,0,0,null,243426.63,null,243427,null,0,null,0,null,0,null,0,null,0,null,0,null,null,null,0,null,null,null,0,null,null,null,0,null,null,null,0,null,"YES",{"$f":"IF(ISERROR(VLOOKUP($A62+8860000,'Growth Data'!$A:$F,3,0)),\"NO\",VLOOKUP($A62+8860000,'Growth Data'!$A:$F,3,0))","v":"NO"},1,null,31,{"$f":"IF(BM62=\"YES\",IF(ISERROR(VLOOKUP($A62+8860000,'Growth Data'!$A:$F,6,0)),0,VLOOKUP($A62+8860000,'Growth Data'!$A:$F,6,0)),0)","v":0},31,null,"YES",{"$f":"IF(ISERROR(VLOOKUP($A62+8860000,'Growth Data'!$A:$F,4,0)),\"NO\",VLOOKUP($A62+8860000,'Growth Data'!$A:$F,4,0))","v":"NO"},1,null,30,{"$f":"IF(BU62=\"YES\",IF(ISERROR(VLOOKUP($A62+8860000,'Growth Data'!$A:$Z,7,0)),0,VLOOKUP($A62+8860000,'Growth Data'!$A:$Z,7,0)),0)","v":0},30,null,"YES",{"$f":"IF(ISERROR(VLOOKUP($A62+8860000,'Growth Data'!$A:$F,5,0)),\"NO\",VLOOKUP($A62+8860000,'Growth Data'!$A:$F,5,0))","v":"NO"},1,null,30,{"$f":"IF(CC62=\"YES\",IF(ISERROR(VLOOKUP($A62+8860000,'Growth Data'!$A:$Z,8,0)),0,VLOOKUP($A62+8860000,'Growth Data'!$A:$Z,8,0)),0)","v":0},30,null,null,null,0]
[2258,"Blean Primary School",null,"Blean Primary School","Blean Primary School",0,null,1513900,1513900,0,null,0,0,0,null,1513900,1513900,0,null,11169.8,11169.801848999999,0,null,null,null,0,null,0,0,0,null,125425.22,null,125425,null,0,null,0,null,0,null,0,null,0,null,0,null,null,null,0,null,null,null,0,null,null,null,0,null,null,null,0,null,"NO",{"$f":"IF(ISERROR(VLOOKUP($A63+8860000,'Growth Data'!$A:$F,3,0)),\"NO\",VLOOKUP($A63+8860000,'Growth Data'!$A:$F,3,0))","v":"NO"},0,null,0,{"$f":"IF(BM63=\"YES\",IF(ISERROR(VLOOKUP($A63+8860000,'Growth Data'!$A:$F,6,0)),0,VLOOKUP($A63+8860000,'Growth Data'!$A:$F,6,0)),0)","v":0},0,null,"NO",{"$f":"IF(ISERROR(VLOOKUP($A63+8860000,'Growth Data'!$A:$F,4,0)),\"NO\",VLOOKUP($A63+8860000,'Growth Data'!$A:$F,4,0))","v":"NO"},0,null,0,{"$f":"IF(BU63=\"YES\",IF(ISERROR(VLOOKUP($A63+8860000,'Growth Data'!$A:$Z,7,0)),0,VLOOKUP($A63+8860000,'Growth Data'!$A:$Z,7,0)),0)","v":0},0,null,"NO",{"$f":"IF(ISERROR(VLOOKUP($A63+8860000,'Growth Data'!$A:$F,5,0)),\"NO\",VLOOKUP($A63+8860000,'Growth Data'!$A:$F,5,0))","v":"NO"},0,null,0,{"$f":"IF(CC63=\"YES\",IF(ISERROR(VLOOKUP($A63+8860000,'Growth Data'!$A:$Z,8,0)),0,VLOOKUP($A63+8860000,'Growth Data'!$A:$Z,8,0)),0)","v":0},0,null,null,null,0]
[2259,"Chartham Primary School",null,"Chartham Primary School","Chartham Primary School",0,null,1214815.92,1214815.9154718157,0,null,0,0,0,null,1214815.92,1214815.9154718157,0,null,8987.2000000000007,8987.1968899999993,0,null,null,null,0,null,0,0,0,null,90252.51,null,90253,null,0,null,0,null,0,null,0,null,0,null,0,null,null,null,0,null,null,null,0,null,null,null,0,null,null,null,0,null,"NO",{"$f":"IF(ISERROR(VLOOKUP($A64+8860000,'Growth Data'!$A:$F,3,0)),\"NO\",VLOOKUP($A64+8860000,'Growth Data'!$A:$F,3,0))","v":"YES"},1,null,0,{"$f":"IF(BM64=\"YES\",IF(ISERROR(VLOOKUP($A64+8860000,'Growth Data'!$A:$F,6,0)),0,VLOOKUP($A64+8860000,'Growth Data'!$A:$F,6,0)),0)","v":52},-52,null,"NO",{"$f":"IF(ISERROR(VLOOKUP($A64+8860000,'Growth Data'!$A:$F,4,0)),\"NO\",VLOOKUP($A64+8860000,'Growth Data'!$A:$F,4,0))","v":"NO"},0,null,0,{"$f":"IF(BU64=\"YES\",IF(ISERROR(VLOOKUP($A64+8860000,'Growth Data'!$A:$Z,7,0)),0,VLOOKUP($A64+8860000,'Growth Data'!$A:$Z,7,0)),0)","v":0},0,null,"NO",{"$f":"IF(ISERROR(VLOOKUP($A64+8860000,'Growth Data'!$A:$F,5,0)),\"NO\",VLOOKUP($A64+8860000,'Growth Data'!$A:$F,5,0))","v":"NO"},0,null,0,{"$f":"IF(CC64=\"YES\",IF(ISERROR(VLOOKUP($A64+8860000,'Growth Data'!$A:$Z,8,0)),0,VLOOKUP($A64+8860000,'Growth Data'!$A:$Z,8,0)),0)","v":0},0,null,null,null,0]
[2263,"Herne Bay Infant School",null,"Herne Bay Infant School","Herne Bay Infant School",0,null,1274604.22,1274604.2159670133,0,null,0,0,0,null,1274604.22,1274604.2159670133,0,null,8858.81,8858.8083630000001,0,null,null,null,0,null,4.9000000000000004,4.9000000000000004,0,null,77501.27,null,77501,null,0,null,0,null,0,null,0,null,0,null,0,null,null,null,0,null,null,null,0,null,null,null,0,null,null,null,0,null,"NO",{"$f":"IF(ISERROR(VLOOKUP($A65+8860000,'Growth Data'!$A:$F,3,0)),\"NO\",VLOOKUP($A65+8860000,'Growth Data'!$A:$F,3,0))","v":"NO"},0,null,0,{"$f":"IF(BM65=\"YES\",IF(ISERROR(VLOOKUP($A65+8860000,'Growth Data'!$A:$F,6,0)),0,VLOOKUP($A65+8860000,'Growth Data'!$A:$F,6,0)),0)","v":0},0,null,"NO",{"$f":"IF(ISERROR(VLOOKUP($A65+8860000,'Growth Data'!$A:$F,4,0)),\"NO\",VLOOKUP($A65+8860000,'Growth Data'!$A:$F,4,0))","v":"NO"},0,null,0,{"$f":"IF(BU65=\"YES\",IF(ISERROR(VLOOKUP($A65+8860000,'Growth Data'!$A:$Z,7,0)),0,VLOOKUP($A65+8860000,'Growth Data'!$A:$Z,7,0)),0)","v":0},0,null,"YES",{"$f":"IF(ISERROR(VLOOKUP($A65+8860000,'Growth Data'!$A:$F,5,0)),\"NO\",VLOOKUP($A65+8860000,'Growth Data'!$A:$F,5,0))","v":"NO"},1,null,45,{"$f":"IF(CC65=\"YES\",IF(ISERROR(VLOOKUP($A65+8860000,'Growth Data'!$A:$Z,8,0)),0,VLOOKUP($A65+8860000,'Growth Data'!$A:$Z,8,0)),0)","v":0},45,null,null,null,0]
[2265,"Hoath Primary School",null,"Hoath Primary School","Hoath Primary School",0,null,398869.92,398869.92189959937,0,null,0,0,0,null,398869.92,398869.92189959937,0,null,2208.2800000000002,2208.2826643999997,0,null,null,null,0,null,0,0,0,null,154112.53,null,154113,null,0,null,0,null,0,null,0,null,0,null,0,null,null,null,0,null,null,null,0,null,null,null,0,null,null,null,0,null,"NO",{"$f":"IF(ISERROR(VLOOKUP($A66+8860000,'Growth Data'!$A:$F,3,0)),\"NO\",VLOOKUP($A66+8860000,'Growth Data'!$A:$F,3,0))","v":"YES"},1,null,0,{"$f":"IF(BM66=\"YES\",IF(ISERROR(VLOOKUP($A66+8860000,'Growth Data'!$A:$F,6,0)),0,VLOOKUP($A66+8860000,'Growth Data'!$A:$F,6,0)),0)","v":92},-92,null,"NO",{"$f":"IF(ISERROR(VLOOKUP($A66+8860000,'Growth Data'!$A:$F,4,0)),\"NO\",VLOOKUP($A66+8860000,'Growth Data'!$A:$F,4,0))","v":"YES"},1,null,0,{"$f":"IF(BU66=\"YES\",IF(ISERROR(VLOOKUP($A66+8860000,'Growth Data'!$A:$Z,7,0)),0,VLOOKUP($A66+8860000,'Growth Data'!$A:$Z,7,0)),0)","v":99},-99,null,"NO",{"$f":"IF(ISERROR(VLOOKUP($A66+8860000,'Growth Data'!$A:$F,5,0)),\"NO\",VLOOKUP($A66+8860000,'Growth Data'!$A:$F,5,0))","v":"NO"},0,null,0,{"$f":"IF(CC66=\"YES\",IF(ISERROR(VLOOKUP($A66+8860000,'Growth Data'!$A:$Z,8,0)),0,VLOOKUP($A66+8860000,'Growth Data'!$A:$Z,8,0)),0)","v":0},0,null,null,null,0]
[2268,"Westmeads Community Infant School",null,"Westmeads Community Infant School","Westmeads Community Infant School",{"$f":"IF(E67=D67,0,1)","v":0},null,681777.32,681777.31711709313,{"$f":"ROUND(H67-I67,0)","v":0},null,0,0,{"$f":"ROUND(L67-M67,0)","v":0},null,681777.32,681777.31711709313,{"$f":"ROUND(P67-Q67,0)","v":0},null,4596.3100000000004,4596.3092666000011,{"$f":"ROUND(T67-U67,0)","v":0},null,null,null,{"$f":"ROUND(X67-Y67,0)","v":0},null,0,0,{"$f":"ROUND(AB67-AC67,0)","v":0},null,28830.76,null,{"$f":"ROUND(AF67-AG67,0)","v":28831},null,3116.92,null,{"$f":"ROUND(AJ67-AK67,0)","v":3117},null,0,null,{"$f":"ROUND(AN67-AO67,0)","v":0},null,0,null,{"$f":"ROUND(AR67-AS67,0)","v":0},null,null,null,{"$f":"ROUND(AV67-AW67,0)","v":0},null,null,null,{"$f":"ROUND(AZ67-BA67,0)","v":0},null,null,null,{"$f":"ROUND(BD67-BE67,0)","v":0},null,null,null,{"$f":"ROUND(BH67-BI67,0)","v":0},null,"NO",{"$f":"IF(ISERROR(VLOOKUP($A67+8860000,'Growth Data'!$A:$F,3,0)),\"NO\",VLOOKUP($A67+8860000,'Growth Data'!$A:$F,3,0))","v":"NO"},{"$f":"IF(BL67=BM67,0,1)","v":0},null,0,{"$f":"IF(BM67=\"YES\",IF(ISERROR(VLOOKUP($A67+8860000,'Growth Data'!$A:$F,6,0)),0,VLOOKUP($A67+8860000,'Growth Data'!$A:$F,6,0)),0)","v":0},{"$f":"ROUND(BP67-BQ67,0)","v":0},null,"NO",{"$f":"IF(ISERROR(VLOOKUP($A67+8860000,'Growth Data'!$A:$F,4,0)),\"NO\",VLOOKUP($A67+8860000,'Growth Data'!$A:$F,4,0))","v":"NO"},{"$f":"IF(BT67=BU67,0,1)","v":0},null,0,{"$f":"IF(BU67=\"YES\",IF(ISERROR(VLOOKUP($A67+8860000,'Growth Data'!$A:$Z,7,0)),0,VLOOKUP($A67+8860000,'Growth Data'!$A:$Z,7,0)),0)","v":0},{"$f":"ROUND(BX67-BY67,0)","v":0},null,"NO",{"$f":"IF(ISERROR(VLOOKUP($A67+8860000,'Growth Data'!$A:$F,5,0)),\"NO\",VLOOKUP($A67+8860000,'Growth Data'!$A:$F,5,0))","v":"NO"},{"$f":"IF(CB67=CC67,0,1)","v":0},null,0,{"$f":"IF(CC67=\"YES\",IF(ISERROR(VLOOKUP($A67+8860000,'Growth Data'!$A:$Z,8,0)),0,VLOOKUP($A67+8860000,'Growth Data'!$A:$Z,8,0)),0)","v":0},{"$f":"ROUND(CF67-CG67,0)","v":0},null,null,null,{"$f":"ROUND(CJ67-CK67,0)","v":0}]
[2269,"Whitstable Junior School",null,"Whitstable Junior School","Whitstable Junior School",0,null,997161.56,997161.56150700268,0,null,0,0,0,null,997161.56,997161.56150700268,0,null,6881.63,6881.6250472000002,0,null,null,null,0,null,0,0,0,null,40555.25,null,40555,null,1944.47,null,1944,null,0,null,0,null,0,null,0,null,null,null,0,null,null,null,0,null,null,null,0,null,null,null,0,null,"NO",{"$f":"IF(ISERROR(VLOOKUP($A68+8860000,'Growth Data'!$A:$F,3,0)),\"NO\",VLOOKUP($A68+8860000,'Growth Data'!$A:$F,3,0))","v":"NO"},0,null,0,{"$f":"IF(BM68=\"YES\",IF(ISERROR(VLOOKUP($A68+8860000,'Growth Data'!$A:$F,6,0)),0,VLOOKUP($A68+8860000,'Growth Data'!$A:$F,6,0)),0)","v":0},0,null,"NO",{"$f":"IF(ISERROR(VLOOKUP($A68+8860000,'Growth Data'!$A:$F,4,0)),\"NO\",VLOOKUP($A68+8860000,'Growth Data'!$A:$F,4,0))","v":"NO"},0,null,0,{"$f":"IF(BU68=\"YES\",IF(ISERROR(VLOOKUP($A68+8860000,'Growth Data'!$A:$Z,7,0)),0,VLOOKUP($A68+8860000,'Growth Data'!$A:$Z,7,0)),0)","v":0},0,null,"NO",{"$f":"IF(ISERROR(VLOOKUP($A68+8860000,'Growth Data'!$A:$F,5,0)),\"NO\",VLOOKUP($A68+8860000,'Growth Data'!$A:$F,5,0))","v":"NO"},0,null,0,{"$f":"IF(CC68=\"YES\",IF(ISERROR(VLOOKUP($A68+8860000,'Growth Data'!$A:$Z,8,0)),0,VLOOKUP($A68+8860000,'Growth Data'!$A:$Z,8,0)),0)","v":0},0,null,null,null,0]
[2270,"Aldington Primary School",null,"Aldington Primary School","Aldington Primary School",0,null,762232.52,762232.51846664574,0,null,0,0,0,null,762232.52,762232.51846664574,0,null,5289.61,5289.6073123999995,0,null,null,null,0,null,0,0,0,null,97705.27,null,97705,null,0,null,0,null,0,null,0,null,0,null,0,null,null,null,0,null,null,null,0,null,null,null,0,null,null,null,0,null,"NO",{"$f":"IF(ISERROR(VLOOKUP($A69+8860000,'Growth Data'!$A:$F,3,0)),\"NO\",VLOOKUP($A69+8860000,'Growth Data'!$A:$F,3,0))","v":"NO"},0,null,0,{"$f":"IF(BM69=\"YES\",IF(ISERROR(VLOOKUP($A69+8860000,'Growth Data'!$A:$F,6,0)),0,VLOOKUP($A69+8860000,'Growth Data'!$A:$F,6,0)),0)","v":0},0,null,"NO",{"$f":"IF(ISERROR(VLOOKUP($A69+8860000,'Growth Data'!$A:$F,4,0)),\"NO\",VLOOKUP($A69+8860000,'Growth Data'!$A:$F,4,0))","v":"NO"},0,null,0,{"$f":"IF(BU69=\"YES\",IF(ISERROR(VLOOKUP($A69+8860000,'Growth Data'!$A:$Z,7,0)),0,VLOOKUP($A69+8860000,'Growth Data'!$A:$Z,7,0)),0)","v":0},0,null,"NO",{"$f":"IF(ISERROR(VLOOKUP($A69+8860000,'Growth Data'!$A:$F,5,0)),\"NO\",VLOOKUP($A69+8860000,'Growth Data'!$A:$F,5,0))","v":"NO"},0,null,0,{"$f":"IF(CC69=\"YES\",IF(ISERROR(VLOOKUP($A69+8860000,'Growth Data'!$A:$Z,8,0)),0,VLOOKUP($A69+8860000,'Growth Data'!$A:$Z,8,0)),0)","v":0},0,null,null,null,0]
[2272,"East Stour Primary School",null,"East Stour Primary School","East Stour Primary School",0,null,1556225.84,1556225.8360694114,0,null,0,0,0,null,1556225.84,1556225.8360694114,0,null,10476.5,10476.503803199999,0,null,null,null,0,null,4.9000000000000004,4.9000000000000004,0,null,45195.360000000001,null,45195,null,1480.46,null,1480,null,0,null,0,null,0,null,0,null,null,null,0,null,null,null,0,null,null,null,0,null,null,null,0,null,"YES",{"$f":"IF(ISERROR(VLOOKUP($A70+8860000,'Growth Data'!$A:$F,3,0)),\"NO\",VLOOKUP($A70+8860000,'Growth Data'!$A:$F,3,0))","v":"NO"},1,null,22,{"$f":"IF(BM70=\"YES\",IF(ISERROR(VLOOKUP($A70+8860000,'Growth Data'!$A:$F,6,0)),0,VLOOKUP($A70+8860000,'Growth Data'!$A:$F,6,0)),0)","v":0},22,null,"NO",{"$f":"IF(ISERROR(VLOOKUP($A70+8860000,'Growth Data'!$A:$F,4,0)),\"NO\",VLOOKUP($A70+8860000,'Growth Data'!$A:$F,4,0))","v":"NO"},0,null,0,{"$f":"IF(BU70=\"YES\",IF(ISERROR(VLOOKUP($A70+8860000,'Growth Data'!$A:$Z,7,0)),0,VLOOKUP($A70+8860000,'Growth Data'!$A:$Z,7,0)),0)","v":0},0,null,"NO",{"$f":"IF(ISERROR(VLOOKUP($A70+8860000,'Growth Data'!$A:$F,5,0)),\"NO\",VLOOKUP($A70+8860000,'Growth Data'!$A:$F,5,0))","v":"NO"},0,null,0,{"$f":"IF(CC70=\"YES\",IF(ISERROR(VLOOKUP($A70+8860000,'Growth Data'!$A:$Z,8,0)),0,VLOOKUP($A70+8860000,'Growth Data'!$A:$Z,8,0)),0)","v":0},0,null,null,null,0]
[2275,"Victoria Road Primary School",null,"Victoria Road Primary School","Victoria Road Primary School",0,null,831342.44,831342.43799014739,0,null,0,0,0,null,831342.44,831342.43799014739,0,null,5392.32,5392.3181340000001,0,null,null,null,0,null,0,0,0,null,193061.95,null,193062,null,0,null,0,null,0,null,0,null,0,null,0,null,null,null,0,null,null,null,0,null,null,null,0,null,null,null,0,null,"NO",{"$f":"IF(ISERROR(VLOOKUP($A71+8860000,'Growth Data'!$A:$F,3,0)),\"NO\",VLOOKUP($A71+8860000,'Growth Data'!$A:$F,3,0))","v":"NO"},0,null,0,{"$f":"IF(BM71=\"YES\",IF(ISERROR(VLOOKUP($A71+8860000,'Growth Data'!$A:$F,6,0)),0,VLOOKUP($A71+8860000,'Growth Data'!$A:$F,6,0)),0)","v":0},0,null,"NO",{"$f":"IF(ISERROR(VLOOKUP($A71+8860000,'Growth Data'!$A:$F,4,0)),\"NO\",VLOOKUP($A71+8860000,'Growth Data'!$A:$F,4,0))","v":"NO"},0,null,0,{"$f":"IF(BU71=\"YES\",IF(ISERROR(VLOOKUP($A71+8860000,'Growth Data'!$A:$Z,7,0)),0,VLOOKUP($A71+8860000,'Growth Data'!$A:$Z,7,0)),0)","v":0},0,null,"NO",{"$f":"IF(ISERROR(VLOOKUP($A71+8860000,'Growth Data'!$A:$F,5,0)),\"NO\",VLOOKUP($A71+8860000,'Growth Data'!$A:$F,5,0))","v":"NO"},0,null,0,{"$f":"IF(CC71=\"YES\",IF(ISERROR(VLOOKUP($A71+8860000,'Growth Data'!$A:$Z,8,0)),0,VLOOKUP($A71+8860000,'Growth Data'!$A:$Z,8,0)),0)","v":0},0,null,null,null,0]
[2276,"Willesborough Infant School",null,"Willesborough Infant School","Willesborough Infant School",0,null,1351227.25,1351227.2506524283,0,null,0,0,0,null,1351227.25,1351227.2506524283,0,null,9731.85,9731.8503466000002,0,null,null,null,0,null,0,0,0,null,92834.99,null,92835,null,0,null,0,null,0,null,0,null,0,null,0,null,null,null,0,null,null,null,0,null,null,null,0,null,null,null,0,null,"NO",{"$f":"IF(ISERROR(VLOOKUP($A72+8860000,'Growth Data'!$A:$F,3,0)),\"NO\",VLOOKUP($A72+8860000,'Growth Data'!$A:$F,3,0))","v":"NO"},0,null,0,{"$f":"IF(BM72=\"YES\",IF(ISERROR(VLOOKUP($A72+8860000,'Growth Data'!$A:$F,6,0)),0,VLOOKUP($A72+8860000,'Growth Data'!$A:$F,6,0)),0)","v":0},0,null,"NO",{"$f":"IF(ISERROR(VLOOKUP($A72+8860000,'Growth Data'!$A:$F,4,0)),\"NO\",VLOOKUP($A72+8860000,'Growth Data'!$A:$F,4,0))","v":"NO"},0,null,0,{"$f":"IF(BU72=\"YES\",IF(ISERROR(VLOOKUP($A72+8860000,'Growth Data'!$A:$Z,7,0)),0,VLOOKUP($A72+8860000,'Growth Data'!$A:$Z,7,0)),0)","v":0},0,null,"NO",{"$f":"IF(ISERROR(VLOOKUP($A72+8860000,'Growth Data'!$A:$F,5,0)),\"NO\",VLOOKUP($A72+8860000,'Growth Data'!$A:$F,5,0))","v":"NO"},0,null,0,{"$f":"IF(CC72=\"YES\",IF(ISERROR(VLOOKUP($A72+8860000,'Growth Data'!$A:$Z,8,0)),0,VLOOKUP($A72+8860000,'Growth Data'!$A:$Z,8,0)),0)","v":0},0,null,null,null,0]
[2278,"Bethersden Primary School",null,"Bethersden Primary School","Bethersden Primary School",0,null,531884.25,531884.2475939492,0,null,0,0,0,null,531884.25,531884.2475939492,0,null,3209.71,3209.7131750000003,0,null,null,null,0,null,0,0,0,null,107180.29,null,107180,null,0,null,0,null,0,null,0,null,0,null,0,null,null,null,0,null,null,null,0,null,null,null,0,null,null,null,0,null,"NO",{"$f":"IF(ISERROR(VLOOKUP($A73+8860000,'Growth Data'!$A:$F,3,0)),\"NO\",VLOOKUP($A73+8860000,'Growth Data'!$A:$F,3,0))","v":"NO"},0,null,0,{"$f":"IF(BM73=\"YES\",IF(ISERROR(VLOOKUP($A73+8860000,'Growth Data'!$A:$F,6,0)),0,VLOOKUP($A73+8860000,'Growth Data'!$A:$F,6,0)),0)","v":0},0,null,"NO",{"$f":"IF(ISERROR(VLOOKUP($A73+8860000,'Growth Data'!$A:$F,4,0)),\"NO\",VLOOKUP($A73+8860000,'Growth Data'!$A:$F,4,0))","v":"NO"},0,null,0,{"$f":"IF(BU73=\"YES\",IF(ISERROR(VLOOKUP($A73+8860000,'Growth Data'!$A:$Z,7,0)),0,VLOOKUP($A73+8860000,'Growth Data'!$A:$Z,7,0)),0)","v":0},0,null,"NO",{"$f":"IF(ISERROR(VLOOKUP($A73+8860000,'Growth Data'!$A:$F,5,0)),\"NO\",VLOOKUP($A73+8860000,'Growth Data'!$A:$F,5,0))","v":"NO"},0,null,0,{"$f":"IF(CC73=\"YES\",IF(ISERROR(VLOOKUP($A73+8860000,'Growth Data'!$A:$Z,8,0)),0,VLOOKUP($A73+8860000,'Growth Data'!$A:$Z,8,0)),0)","v":0},0,null,null,null,0]
[2279,"Brook Community Primary School",null,"Brook Community Primary School","Brook Community Primary School",0,null,403499.67,403499.66739442095,0,null,0,0,0,null,403499.67,403499.66739442095,0,null,2259.64,2259.6380752000005,0,null,null,null,0,null,0,0,0,null,39780.879999999997,null,39781,null,2021.91,null,2022,null,0,null,0,null,0,null,0,null,null,null,0,null,null,null,0,null,null,null,0,null,null,null,0,null,"NO",{"$f":"IF(ISERROR(VLOOKUP($A74+8860000,'Growth Data'!$A:$F,3,0)),\"NO\",VLOOKUP($A74+8860000,'Growth Data'!$A:$F,3,0))","v":"NO"},0,null,0,{"$f":"IF(BM74=\"YES\",IF(ISERROR(VLOOKUP($A74+8860000,'Growth Data'!$A:$F,6,0)),0,VLOOKUP($A74+8860000,'Growth Data'!$A:$F,6,0)),0)","v":0},0,null,"NO",{"$f":"IF(ISERROR(VLOOKUP($A74+8860000,'Growth Data'!$A:$F,4,0)),\"NO\",VLOOKUP($A74+8860000,'Growth Data'!$A:$F,4,0))","v":"NO"},0,null,0,{"$f":"IF(BU74=\"YES\",IF(ISERROR(VLOOKUP($A74+8860000,'Growth Data'!$A:$Z,7,0)),0,VLOOKUP($A74+8860000,'Growth Data'!$A:$Z,7,0)),0)","v":0},0,null,"NO",{"$f":"IF(ISERROR(VLOOKUP($A74+8860000,'Growth Data'!$A:$F,5,0)),\"NO\",VLOOKUP($A74+8860000,'Growth Data'!$A:$F,5,0))","v":"NO"},0,null,0,{"$f":"IF(CC74=\"YES\",IF(ISERROR(VLOOKUP($A74+8860000,'Growth Data'!$A:$Z,8,0)),0,VLOOKUP($A74+8860000,'Growth Data'!$A:$Z,8,0)),0)","v":0},0,null,null,null,0]
[2280,"Challock Primary School",null,"Challock Primary School","Challock Primary School",0,null,761997.03,761997.02937557525,0,null,0,0,0,null,761997.03,761997.02937557525,0,null,5418,5417.9958393999996,0,null,null,null,0,null,0,0,0,null,29958.71,null,29959,null,3004.13,null,3004,null,0,null,0,null,0,null,0,null,null,null,0,null,null,null,0,null,null,null,0,null,null,null,0,null,"NO",{"$f":"IF(ISERROR(VLOOKUP($A75+8860000,'Growth Data'!$A:$F,3,0)),\"NO\",VLOOKUP($A75+8860000,'Growth Data'!$A:$F,3,0))","v":"NO"},0,null,0,{"$f":"IF(BM75=\"YES\",IF(ISERROR(VLOOKUP($A75+8860000,'Growth Data'!$A:$F,6,0)),0,VLOOKUP($A75+8860000,'Growth Data'!$A:$F,6,0)),0)","v":0},0,null,"NO",{"$f":"IF(ISERROR(VLOOKUP($A75+8860000,'Growth Data'!$A:$F,4,0)),\"NO\",VLOOKUP($A75+8860000,'Growth Data'!$A:$F,4,0))","v":"NO"},0,null,0,{"$f":"IF(BU75=\"YES\",IF(ISERROR(VLOOKUP($A75+8860000,'Growth Data'!$A:$Z,7,0)),0,VLOOKUP($A75+8860000,'Growth Data'!$A:$Z,7,0)),0)","v":0},0,null,"NO",{"$f":"IF(ISERROR(VLOOKUP($A75+8860000,'Growth Data'!$A:$F,5,0)),\"NO\",VLOOKUP($A75+8860000,'Growth Data'!$A:$F,5,0))","v":"NO"},0,null,0,{"$f":"IF(CC75=\"YES\",IF(ISERROR(VLOOKUP($A75+8860000,'Growth Data'!$A:$Z,8,0)),0,VLOOKUP($A75+8860000,'Growth Data'!$A:$Z,8,0)),0)","v":0},0,null,null,null,0]
[2282,"Great Chart Primary School",null,"Great Chart Primary School","Great Chart Primary School",0,null,1679422,1679422,0,null,0,0,0,null,1679422,1679422,0,null,12402.33,12402.331708199999,0,null,null,null,0,null,0,0,0,null,40596.03,null,40596,null,1940.4,null,1940,null,0,null,0,null,0,null,0,null,null,null,0,null,null,null,0,null,null,null,0,null,null,null,0,null,"NO",{"$f":"IF(ISERROR(VLOOKUP($A76+8860000,'Growth Data'!$A:$F,3,0)),\"NO\",VLOOKUP($A76+8860000,'Growth Data'!$A:$F,3,0))","v":"NO"},0,null,0,{"$f":"IF(BM76=\"YES\",IF(ISERROR(VLOOKUP($A76+8860000,'Growth Data'!$A:$F,6,0)),0,VLOOKUP($A76+8860000,'Growth Data'!$A:$F,6,0)),0)","v":0},0,null,"NO",{"$f":"IF(ISERROR(VLOOKUP($A76+8860000,'Growth Data'!$A:$F,4,0)),\"NO\",VLOOKUP($A76+8860000,'Growth Data'!$A:$F,4,0))","v":"NO"},0,null,0,{"$f":"IF(BU76=\"YES\",IF(ISERROR(VLOOKUP($A76+8860000,'Growth Data'!$A:$Z,7,0)),0,VLOOKUP($A76+8860000,'Growth Data'!$A:$Z,7,0)),0)","v":0},0,null,"NO",{"$f":"IF(ISERROR(VLOOKUP($A76+8860000,'Growth Data'!$A:$F,5,0)),\"NO\",VLOOKUP($A76+8860000,'Growth Data'!$A:$F,5,0))","v":"NO"},0,null,0,{"$f":"IF(CC76=\"YES\",IF(ISERROR(VLOOKUP($A76+8860000,'Growth Data'!$A:$Z,8,0)),0,VLOOKUP($A76+8860000,'Growth Data'!$A:$Z,8,0)),0)","v":0},0,null,null,null,0]
[2285,"Mersham Primary School",null,"Mersham Primary School","Mersham Primary School",0,null,717710.11,717710.11067558755,0,null,0,0,0,null,717710.11,717710.11067558755,0,null,5109.8599999999997,5109.8633746000005,0,null,null,null,0,null,0,0,0,null,102641.56,null,102642,null,0,null,0,null,0,null,0,null,0,null,0,null,null,null,0,null,null,null,0,null,null,null,0,null,null,null,0,null,"NO",{"$f":"IF(ISERROR(VLOOKUP($A77+8860000,'Growth Data'!$A:$F,3,0)),\"NO\",VLOOKUP($A77+8860000,'Growth Data'!$A:$F,3,0))","v":"NO"},0,null,0,{"$f":"IF(BM77=\"YES\",IF(ISERROR(VLOOKUP($A77+8860000,'Growth Data'!$A:$F,6,0)),0,VLOOKUP($A77+8860000,'Growth Data'!$A:$F,6,0)),0)","v":0},0,null,"NO",{"$f":"IF(ISERROR(VLOOKUP($A77+8860000,'Growth Data'!$A:$F,4,0)),\"NO\",VLOOKUP($A77+8860000,'Growth Data'!$A:$F,4,0))","v":"NO"},0,null,0,{"$f":"IF(BU77=\"YES\",IF(ISERROR(VLOOKUP($A77+8860000,'Growth Data'!$A:$Z,7,0)),0,VLOOKUP($A77+8860000,'Growth Data'!$A:$Z,7,0)),0)","v":0},0,null,"NO",{"$f":"IF(ISERROR(VLOOKUP($A77+8860000,'Growth Data'!$A:$F,5,0)),\"NO\",VLOOKUP($A77+8860000,'Growth Data'!$A:$F,5,0))","v":"NO"},0,null,0,{"$f":"IF(CC77=\"YES\",IF(ISERROR(VLOOKUP($A77+8860000,'Growth Data'!$A:$Z,8,0)),0,VLOOKUP($A77+8860000,'Growth Data'!$A:$Z,8,0)),0)","v":0},0,null,null,null,0]
[2287,"Rolvenden Primary School",null,"Rolvenden Primary School","Rolvenden Primary School",0,null,484230.77,484230.77297699515,0,null,0,0,0,null,484230.77,484230.77297699515,0,null,2721.84,2721.8367724,0,null,null,null,0,null,0,0,0,null,40134,null,40134,null,1986.6,null,1987,null,0,null,0,null,0,null,0,null,null,null,0,null,null,null,0,null,null,null,0,null,null,null,0,null,"NO",{"$f":"IF(ISERROR(VLOOKUP($A78+8860000,'Growth Data'!$A:$F,3,0)),\"NO\",VLOOKUP($A78+8860000,'Growth Data'!$A:$F,3,0))","v":"NO"},0,null,0,{"$f":"IF(BM78=\"YES\",IF(ISERROR(VLOOKUP($A78+8860000,'Growth Data'!$A:$F,6,0)),0,VLOOKUP($A78+8860000,'Growth Data'!$A:$F,6,0)),0)","v":0},0,null,"NO",{"$f":"IF(ISERROR(VLOOKUP($A78+8860000,'Growth Data'!$A:$F,4,0)),\"NO\",VLOOKUP($A78+8860000,'Growth Data'!$A:$F,4,0))","v":"NO"},0,null,0,{"$f":"IF(BU78=\"YES\",IF(ISERROR(VLOOKUP($A78+8860000,'Growth Data'!$A:$Z,7,0)),0,VLOOKUP($A78+8860000,'Growth Data'!$A:$Z,7,0)),0)","v":0},0,null,"NO",{"$f":"IF(ISERROR(VLOOKUP($A78+8860000,'Growth Data'!$A:$F,5,0)),\"NO\",VLOOKUP($A78+8860000,'Growth Data'!$A:$F,5,0))","v":"NO"},0,null,0,{"$f":"IF(CC78=\"YES\",IF(ISERROR(VLOOKUP($A78+8860000,'Growth Data'!$A:$Z,8,0)),0,VLOOKUP($A78+8860000,'Growth Data'!$A:$Z,8,0)),0)","v":0},0,null,null,null,0]
[2289,"Smeeth Community Primary School",null,"Smeeth Community Primary School","Smeeth Community Primary School",0,null,546433.64,546433.64467871003,0,null,0,0,0,null,546433.64,546433.64467871003,0,null,3543.52,3543.5233452000002,0,null,null,null,0,null,0,0,0,null,42401.9,null,42402,null,1759.81,null,1760,null,0,null,0,null,0,null,0,null,null,null,0,null,null,null,0,null,null,null,0,null,null,null,0,null,"NO",{"$f":"IF(ISERROR(VLOOKUP($A79+8860000,'Growth Data'!$A:$F,3,0)),\"NO\",VLOOKUP($A79+8860000,'Growth Data'!$A:$F,3,0))","v":"NO"},0,null,0,{"$f":"IF(BM79=\"YES\",IF(ISERROR(VLOOKUP($A79+8860000,'Growth Data'!$A:$F,6,0)),0,VLOOKUP($A79+8860000,'Growth Data'!$A:$F,6,0)),0)","v":0},0,null,"NO",{"$f":"IF(ISERROR(VLOOKUP($A79+8860000,'Growth Data'!$A:$F,4,0)),\"NO\",VLOOKUP($A79+8860000,'Growth Data'!$A:$F,4,0))","v":"NO"},0,null,0,{"$f":"IF(BU79=\"YES\",IF(ISERROR(VLOOKUP($A79+8860000,'Growth Data'!$A:$Z,7,0)),0,VLOOKUP($A79+8860000,'Growth Data'!$A:$Z,7,0)),0)","v":0},0,null,"NO",{"$f":"IF(ISERROR(VLOOKUP($A79+8860000,'Growth Data'!$A:$F,5,0)),\"NO\",VLOOKUP($A79+8860000,'Growth Data'!$A:$F,5,0))","v":"NO"},0,null,0,{"$f":"IF(CC79=\"YES\",IF(ISERROR(VLOOKUP($A79+8860000,'Growth Data'!$A:$Z,8,0)),0,VLOOKUP($A79+8860000,'Growth Data'!$A:$Z,8,0)),0)","v":0},0,null,null,null,0]
[2296,"Mundella Primary School",null,"Mundella Primary School","Mundella Primary School",0,null,868622.5,868622.50211785024,0,null,0,0,0,null,868622.5,868622.50211785024,0,null,4981.47,4981.4748475999986,0,null,null,null,0,null,0,0,0,null,33598.42,null,33598,null,2640.16,null,2640,null,0,null,0,null,0,null,0,null,null,null,0,null,null,null,0,null,null,null,0,null,null,null,0,null,"NO",{"$f":"IF(ISERROR(VLOOKUP($A80+8860000,'Growth Data'!$A:$F,3,0)),\"NO\",VLOOKUP($A80+8860000,'Growth Data'!$A:$F,3,0))","v":"NO"},0,null,0,{"$f":"IF(BM80=\"YES\",IF(ISERROR(VLOOKUP($A80+8860000,'Growth Data'!$A:$F,6,0)),0,VLOOKUP($A80+8860000,'Growth Data'!$A:$F,6,0)),0)","v":0},0,null,"NO",{"$f":"IF(ISERROR(VLOOKUP($A80+8860000,'Growth Data'!$A:$F,4,0)),\"NO\",VLOOKUP($A80+8860000,'Growth Data'!$A:$F,4,0))","v":"NO"},0,null,0,{"$f":"IF(BU80=\"YES\",IF(ISERROR(VLOOKUP($A80+8860000,'Growth Data'!$A:$Z,7,0)),0,VLOOKUP($A80+8860000,'Growth Data'!$A:$Z,7,0)),0)","v":0},0,null,"NO",{"$f":"IF(ISERROR(VLOOKUP($A80+8860000,'Growth Data'!$A:$F,5,0)),\"NO\",VLOOKUP($A80+8860000,'Growth Data'!$A:$F,5,0))","v":"NO"},0,null,0,{"$f":"IF(CC80=\"YES\",IF(ISERROR(VLOOKUP($A80+8860000,'Growth Data'!$A:$Z,8,0)),0,VLOOKUP($A80+8860000,'Growth Data'!$A:$Z,8,0)),0)","v":0},0,null,null,null,0]
[2298,"Hawkinge Primary School",null,"Hawkinge Primary School","Hawkinge Primary School",0,null,1323165.77,1323165.7688930249,0,null,0,0,0,null,1323165.77,1323165.7688930249,0,null,9526.43,9526.4287034000008,0,null,null,null,0,null,0,0,0,null,153876.04,null,153876,null,0,null,0,null,0,null,0,null,0,null,0,null,null,null,0,null,null,null,0,null,null,null,0,null,null,null,0,null,"NO",{"$f":"IF(ISERROR(VLOOKUP($A81+8860000,'Growth Data'!$A:$F,3,0)),\"NO\",VLOOKUP($A81+8860000,'Growth Data'!$A:$F,3,0))","v":"NO"},0,null,0,{"$f":"IF(BM81=\"YES\",IF(ISERROR(VLOOKUP($A81+8860000,'Growth Data'!$A:$F,6,0)),0,VLOOKUP($A81+8860000,'Growth Data'!$A:$F,6,0)),0)","v":0},0,null,"NO",{"$f":"IF(ISERROR(VLOOKUP($A81+8860000,'Growth Data'!$A:$F,4,0)),\"NO\",VLOOKUP($A81+8860000,'Growth Data'!$A:$F,4,0))","v":"NO"},0,null,0,{"$f":"IF(BU81=\"YES\",IF(ISERROR(VLOOKUP($A81+8860000,'Growth Data'!$A:$Z,7,0)),0,VLOOKUP($A81+8860000,'Growth Data'!$A:$Z,7,0)),0)","v":0},0,null,"NO",{"$f":"IF(ISERROR(VLOOKUP($A81+8860000,'Growth Data'!$A:$F,5,0)),\"NO\",VLOOKUP($A81+8860000,'Growth Data'!$A:$F,5,0))","v":"NO"},0,null,0,{"$f":"IF(CC81=\"YES\",IF(ISERROR(VLOOKUP($A81+8860000,'Growth Data'!$A:$Z,8,0)),0,VLOOKUP($A81+8860000,'Growth Data'!$A:$Z,8,0)),0)","v":0},0,null,null,null,0]
[2300,"Sellindge Primary School",null,"Sellindge Primary School","Sellindge Primary School",0,null,465876.38,465876.37942039763,0,null,0,0,0,null,465876.38,465876.37942039763,0,null,2850.23,2850.2252994,0,null,null,null,0,null,0,0,0,null,133182.31,null,133182,null,0,null,0,null,0,null,0,null,0,null,0,null,null,null,0,null,null,null,0,null,null,null,0,null,null,null,0,null,"YES",{"$f":"IF(ISERROR(VLOOKUP($A82+8860000,'Growth Data'!$A:$F,3,0)),\"NO\",VLOOKUP($A82+8860000,'Growth Data'!$A:$F,3,0))","v":"NO"},1,null,45,{"$f":"IF(BM82=\"YES\",IF(ISERROR(VLOOKUP($A82+8860000,'Growth Data'!$A:$F,6,0)),0,VLOOKUP($A82+8860000,'Growth Data'!$A:$F,6,0)),0)","v":0},45,null,"YES",{"$f":"IF(ISERROR(VLOOKUP($A82+8860000,'Growth Data'!$A:$F,4,0)),\"NO\",VLOOKUP($A82+8860000,'Growth Data'!$A:$F,4,0))","v":"NO"},1,null,45,{"$f":"IF(BU82=\"YES\",IF(ISERROR(VLOOKUP($A82+8860000,'Growth Data'!$A:$Z,7,0)),0,VLOOKUP($A82+8860000,'Growth Data'!$A:$Z,7,0)),0)","v":0},45,null,"NO",{"$f":"IF(ISERROR(VLOOKUP($A82+8860000,'Growth Data'!$A:$F,5,0)),\"NO\",VLOOKUP($A82+8860000,'Growth Data'!$A:$F,5,0))","v":"NO"},0,null,0,{"$f":"IF(CC82=\"YES\",IF(ISERROR(VLOOKUP($A82+8860000,'Growth Data'!$A:$Z,8,0)),0,VLOOKUP($A82+8860000,'Growth Data'!$A:$Z,8,0)),0)","v":0},0,null,null,null,0]
[2312,"River Primary School",null,"River Primary School","River Primary School",0,null,1495169.47,1495169.4659156231,0,null,0,0,0,null,1495169.47,1495169.4659156231,0,null,10990.06,10990.057911200001,0,null,null,null,0,null,0,0,0,null,23722.01,null,23722,null,3627.8,null,3628,null,0,null,0,null,0,null,0,null,null,null,0,null,null,null,0,null,null,null,0,null,null,null,0,null,"NO",{"$f":"IF(ISERROR(VLOOKUP($A83+8860000,'Growth Data'!$A:$F,3,0)),\"NO\",VLOOKUP($A83+8860000,'Growth Data'!$A:$F,3,0))","v":"NO"},0,null,0,{"$f":"IF(BM83=\"YES\",IF(ISERROR(VLOOKUP($A83+8860000,'Growth Data'!$A:$F,6,0)),0,VLOOKUP($A83+8860000,'Growth Data'!$A:$F,6,0)),0)","v":0},0,null,"NO",{"$f":"IF(ISERROR(VLOOKUP($A83+8860000,'Growth Data'!$A:$F,4,0)),\"NO\",VLOOKUP($A83+8860000,'Growth Data'!$A:$F,4,0))","v":"NO"},0,null,0,{"$f":"IF(BU83=\"YES\",IF(ISERROR(VLOOKUP($A83+8860000,'Growth Data'!$A:$Z,7,0)),0,VLOOKUP($A83+8860000,'Growth Data'!$A:$Z,7,0)),0)","v":0},0,null,"NO",{"$f":"IF(ISERROR(VLOOKUP($A83+8860000,'Growth Data'!$A:$F,5,0)),\"NO\",VLOOKUP($A83+8860000,'Growth Data'!$A:$F,5,0))","v":"NO"},0,null,0,{"$f":"IF(CC83=\"YES\",IF(ISERROR(VLOOKUP($A83+8860000,'Growth Data'!$A:$Z,8,0)),0,VLOOKUP($A83+8860000,'Growth Data'!$A:$Z,8,0)),0)","v":0},0,null,null,null,0]
[2318,"Langdon Primary School",null,"Langdon Primary School","Langdon Primary School",0,null,377042.56,377042.56450084626,0,null,0,0,0,null,377042.56,377042.56450084626,0,null,2105.5700000000002,2105.5718428000005,0,null,null,null,0,null,0,0,0,null,136965.84,null,136966,null,0,null,0,null,0,null,0,null,0,null,0,null,null,null,0,null,null,null,0,null,null,null,0,null,null,null,0,null,"NO",{"$f":"IF(ISERROR(VLOOKUP($A84+8860000,'Growth Data'!$A:$F,3,0)),\"NO\",VLOOKUP($A84+8860000,'Growth Data'!$A:$F,3,0))","v":"NO"},0,null,0,{"$f":"IF(BM84=\"YES\",IF(ISERROR(VLOOKUP($A84+8860000,'Growth Data'!$A:$F,6,0)),0,VLOOKUP($A84+8860000,'Growth Data'!$A:$F,6,0)),0)","v":0},0,null,"NO",{"$f":"IF(ISERROR(VLOOKUP($A84+8860000,'Growth Data'!$A:$F,4,0)),\"NO\",VLOOKUP($A84+8860000,'Growth Data'!$A:$F,4,0))","v":"NO"},0,null,0,{"$f":"IF(BU84=\"YES\",IF(ISERROR(VLOOKUP($A84+8860000,'Growth Data'!$A:$Z,7,0)),0,VLOOKUP($A84+8860000,'Growth Data'!$A:$Z,7,0)),0)","v":0},0,null,"NO",{"$f":"IF(ISERROR(VLOOKUP($A84+8860000,'Growth Data'!$A:$F,5,0)),\"NO\",VLOOKUP($A84+8860000,'Growth Data'!$A:$F,5,0))","v":"NO"},0,null,0,{"$f":"IF(CC84=\"YES\",IF(ISERROR(VLOOKUP($A84+8860000,'Growth Data'!$A:$Z,8,0)),0,VLOOKUP($A84+8860000,'Growth Data'!$A:$Z,8,0)),0)","v":0},0,null,null,null,0]
[2320,"Eythorne Elvington Community Primary School",null,"Eythorne Elvington Community Primary School","Eythorne Elvington Community Primary School",0,null,496016.76,496016.7557554355,0,null,0,0,0,null,496016.76,496016.7557554355,0,null,2644.8,2644.8036561999998,0,null,null,null,0,null,0,0,0,null,25287.16,null,25287,null,3471.28,null,3471,null,0,null,0,null,0,null,0,null,null,null,0,null,null,null,0,null,null,null,0,null,null,null,0,null,"NO",{"$f":"IF(ISERROR(VLOOKUP($A85+8860000,'Growth Data'!$A:$F,3,0)),\"NO\",VLOOKUP($A85+8860000,'Growth Data'!$A:$F,3,0))","v":"NO"},0,null,0,{"$f":"IF(BM85=\"YES\",IF(ISERROR(VLOOKUP($A85+8860000,'Growth Data'!$A:$F,6,0)),0,VLOOKUP($A85+8860000,'Growth Data'!$A:$F,6,0)),0)","v":0},0,null,"NO",{"$f":"IF(ISERROR(VLOOKUP($A85+8860000,'Growth Data'!$A:$F,4,0)),\"NO\",VLOOKUP($A85+8860000,'Growth Data'!$A:$F,4,0))","v":"NO"},0,null,0,{"$f":"IF(BU85=\"YES\",IF(ISERROR(VLOOKUP($A85+8860000,'Growth Data'!$A:$Z,7,0)),0,VLOOKUP($A85+8860000,'Growth Data'!$A:$Z,7,0)),0)","v":0},0,null,"NO",{"$f":"IF(ISERROR(VLOOKUP($A85+8860000,'Growth Data'!$A:$F,5,0)),\"NO\",VLOOKUP($A85+8860000,'Growth Data'!$A:$F,5,0))","v":"NO"},0,null,0,{"$f":"IF(CC85=\"YES\",IF(ISERROR(VLOOKUP($A85+8860000,'Growth Data'!$A:$Z,8,0)),0,VLOOKUP($A85+8860000,'Growth Data'!$A:$Z,8,0)),0)","v":0},0,null,null,null,0]
[2321,"Lydden Primary School",null,"Lydden Primary School","Lydden Primary School",0,null,394742.47,394742.46671796223,0,null,0,0,0,null,394742.47,394742.46671796223,0,null,2310.9899999999998,2310.9934859999998,0,null,null,null,0,null,0,0,0,null,55151.72,null,55152,null,484.83,null,485,null,48000,null,48000,null,72000,null,72000,null,null,null,0,null,null,null,0,null,null,null,0,null,null,null,0,null,"NO",{"$f":"IF(ISERROR(VLOOKUP($A86+8860000,'Growth Data'!$A:$F,3,0)),\"NO\",VLOOKUP($A86+8860000,'Growth Data'!$A:$F,3,0))","v":"NO"},0,null,0,{"$f":"IF(BM86=\"YES\",IF(ISERROR(VLOOKUP($A86+8860000,'Growth Data'!$A:$F,6,0)),0,VLOOKUP($A86+8860000,'Growth Data'!$A:$F,6,0)),0)","v":0},0,null,"NO",{"$f":"IF(ISERROR(VLOOKUP($A86+8860000,'Growth Data'!$A:$F,4,0)),\"NO\",VLOOKUP($A86+8860000,'Growth Data'!$A:$F,4,0))","v":"NO"},0,null,0,{"$f":"IF(BU86=\"YES\",IF(ISERROR(VLOOKUP($A86+8860000,'Growth Data'!$A:$Z,7,0)),0,VLOOKUP($A86+8860000,'Growth Data'!$A:$Z,7,0)),0)","v":0},0,null,"NO",{"$f":"IF(ISERROR(VLOOKUP($A86+8860000,'Growth Data'!$A:$F,5,0)),\"NO\",VLOOKUP($A86+8860000,'Growth Data'!$A:$F,5,0))","v":"NO"},0,null,0,{"$f":"IF(CC86=\"YES\",IF(ISERROR(VLOOKUP($A86+8860000,'Growth Data'!$A:$Z,8,0)),0,VLOOKUP($A86+8860000,'Growth Data'!$A:$Z,8,0)),0)","v":0},0,null,null,null,0]
[2322,"Preston Primary School",null,"Preston Primary School","Preston Primary School",0,null,506871.58,506871.57956617628,0,null,0,0,0,null,506871.58,506871.57956617628,0,null,3107,3107.0023534000002,0,null,null,null,0,null,0,0,0,null,22481.62,null,22482,null,3751.84,null,3752,null,0,null,0,null,0,null,0,null,null,null,0,null,null,null,0,null,null,null,0,null,null,null,0,null,"NO",{"$f":"IF(ISERROR(VLOOKUP($A87+8860000,'Growth Data'!$A:$F,3,0)),\"NO\",VLOOKUP($A87+8860000,'Growth Data'!$A:$F,3,0))","v":"NO"},0,null,0,{"$f":"IF(BM87=\"YES\",IF(ISERROR(VLOOKUP($A87+8860000,'Growth Data'!$A:$F,6,0)),0,VLOOKUP($A87+8860000,'Growth Data'!$A:$F,6,0)),0)","v":0},0,null,"NO",{"$f":"IF(ISERROR(VLOOKUP($A87+8860000,'Growth Data'!$A:$F,4,0)),\"NO\",VLOOKUP($A87+8860000,'Growth Data'!$A:$F,4,0))","v":"NO"},0,null,0,{"$f":"IF(BU87=\"YES\",IF(ISERROR(VLOOKUP($A87+8860000,'Growth Data'!$A:$Z,7,0)),0,VLOOKUP($A87+8860000,'Growth Data'!$A:$Z,7,0)),0)","v":0},0,null,"NO",{"$f":"IF(ISERROR(VLOOKUP($A87+8860000,'Growth Data'!$A:$F,5,0)),\"NO\",VLOOKUP($A87+8860000,'Growth Data'!$A:$F,5,0))","v":"NO"},0,null,0,{"$f":"IF(CC87=\"YES\",IF(ISERROR(VLOOKUP($A87+8860000,'Growth Data'!$A:$Z,8,0)),0,VLOOKUP($A87+8860000,'Growth Data'!$A:$Z,8,0)),0)","v":0},0,null,null,null,0]
[2326,"Wingham Primary School",null,"Wingham Primary School","Wingham Primary School",0,null,749443.94,749443.93760281312,0,null,0,0,0,null,749443.94,749443.93760281312,0,null,5084.1899999999996,5084.1856692000001,0,null,null,null,0,null,0,0,0,null,34040.18,null,34040,null,2595.98,null,2596,null,0,null,0,null,0,null,0,null,null,null,0,null,null,null,0,null,null,null,0,null,null,null,0,null,"NO",{"$f":"IF(ISERROR(VLOOKUP($A88+8860000,'Growth Data'!$A:$F,3,0)),\"NO\",VLOOKUP($A88+8860000,'Growth Data'!$A:$F,3,0))","v":"NO"},0,null,0,{"$f":"IF(BM88=\"YES\",IF(ISERROR(VLOOKUP($A88+8860000,'Growth Data'!$A:$F,6,0)),0,VLOOKUP($A88+8860000,'Growth Data'!$A:$F,6,0)),0)","v":0},0,null,"NO",{"$f":"IF(ISERROR(VLOOKUP($A88+8860000,'Growth Data'!$A:$F,4,0)),\"NO\",VLOOKUP($A88+8860000,'Growth Data'!$A:$F,4,0))","v":"NO"},0,null,0,{"$f":"IF(BU88=\"YES\",IF(ISERROR(VLOOKUP($A88+8860000,'Growth Data'!$A:$Z,7,0)),0,VLOOKUP($A88+8860000,'Growth Data'!$A:$Z,7,0)),0)","v":0},0,null,"NO",{"$f":"IF(ISERROR(VLOOKUP($A88+8860000,'Growth Data'!$A:$F,5,0)),\"NO\",VLOOKUP($A88+8860000,'Growth Data'!$A:$F,5,0))","v":"NO"},0,null,0,{"$f":"IF(CC88=\"YES\",IF(ISERROR(VLOOKUP($A88+8860000,'Growth Data'!$A:$Z,8,0)),0,VLOOKUP($A88+8860000,'Growth Data'!$A:$Z,8,0)),0)","v":0},0,null,null,null,0]
[2327,"Worth Primary School",null,"Worth Primary School","Worth Primary School",0,null,331137.38,331137.37618963287,0,null,0,0,0,null,331137.38,331137.37618963287,0,null,1694.73,1694.7285563999997,0,null,null,null,0,null,0,0,0,null,43991.02,null,43991,null,1600.9,null,1601,null,0,null,0,null,0,null,0,null,null,null,0,null,null,null,0,null,null,null,0,null,null,null,0,null,"NO",{"$f":"IF(ISERROR(VLOOKUP($A89+8860000,'Growth Data'!$A:$F,3,0)),\"NO\",VLOOKUP($A89+8860000,'Growth Data'!$A:$F,3,0))","v":"NO"},0,null,0,{"$f":"IF(BM89=\"YES\",IF(ISERROR(VLOOKUP($A89+8860000,'Growth Data'!$A:$F,6,0)),0,VLOOKUP($A89+8860000,'Growth Data'!$A:$F,6,0)),0)","v":0},0,null,"NO",{"$f":"IF(ISERROR(VLOOKUP($A89+8860000,'Growth Data'!$A:$F,4,0)),\"NO\",VLOOKUP($A89+8860000,'Growth Data'!$A:$F,4,0))","v":"NO"},0,null,0,{"$f":"IF(BU89=\"YES\",IF(ISERROR(VLOOKUP($A89+8860000,'Growth Data'!$A:$Z,7,0)),0,VLOOKUP($A89+8860000,'Growth Data'!$A:$Z,7,0)),0)","v":0},0,null,"NO",{"$f":"IF(ISERROR(VLOOKUP($A89+8860000,'Growth Data'!$A:$F,5,0)),\"NO\",VLOOKUP($A89+8860000,'Growth Data'!$A:$F,5,0))","v":"NO"},0,null,0,{"$f":"IF(CC89=\"YES\",IF(ISERROR(VLOOKUP($A89+8860000,'Growth Data'!$A:$Z,8,0)),0,VLOOKUP($A89+8860000,'Growth Data'!$A:$Z,8,0)),0)","v":0},0,null,null,null,0]
[2328,"St Mildred's Primary Infant School",null,"St Mildred's Primary Infant School","St Mildred's Primary Infant School",0,null,989941.46,989941.45705560292,0,null,0,0,0,null,989941.46,989941.45705560292,0,null,6932.98,6932.980458,0,null,null,null,0,null,0,0,0,null,23554.17,null,23554,null,3644.58,null,3645,null,0,null,0,null,0,null,0,null,null,null,0,null,null,null,0,null,null,null,0,null,null,null,0,null,"NO",{"$f":"IF(ISERROR(VLOOKUP($A90+8860000,'Growth Data'!$A:$F,3,0)),\"NO\",VLOOKUP($A90+8860000,'Growth Data'!$A:$F,3,0))","v":"NO"},0,null,0,{"$f":"IF(BM90=\"YES\",IF(ISERROR(VLOOKUP($A90+8860000,'Growth Data'!$A:$F,6,0)),0,VLOOKUP($A90+8860000,'Growth Data'!$A:$F,6,0)),0)","v":0},0,null,"NO",{"$f":"IF(ISERROR(VLOOKUP($A90+8860000,'Growth Data'!$A:$F,4,0)),\"NO\",VLOOKUP($A90+8860000,'Growth Data'!$A:$F,4,0))","v":"NO"},0,null,0,{"$f":"IF(BU90=\"YES\",IF(ISERROR(VLOOKUP($A90+8860000,'Growth Data'!$A:$Z,7,0)),0,VLOOKUP($A90+8860000,'Growth Data'!$A:$Z,7,0)),0)","v":0},0,null,"NO",{"$f":"IF(ISERROR(VLOOKUP($A90+8860000,'Growth Data'!$A:$F,5,0)),\"NO\",VLOOKUP($A90+8860000,'Growth Data'!$A:$F,5,0))","v":"NO"},0,null,0,{"$f":"IF(CC90=\"YES\",IF(ISERROR(VLOOKUP($A90+8860000,'Growth Data'!$A:$Z,8,0)),0,VLOOKUP($A90+8860000,'Growth Data'!$A:$Z,8,0)),0)","v":0},0,null,null,null,0]
[2329,"Callis Grange Nursery & Infant School",null,"Callis Grange Nursery & Infant School","Callis Grange Nursery & Infant School",0,null,1013391.05,1013391.0493283081,0,null,0,0,0,null,1013391.05,1013391.0493283081,0,null,6855.95,6855.9473417999998,0,null,null,null,0,null,4.9000000000000004,4.9000000000000004,0,null,79570.81,null,79571,null,0,null,0,null,0,null,0,null,0,null,0,null,null,null,0,null,null,null,0,null,null,null,0,null,null,null,0,null,"NO",{"$f":"IF(ISERROR(VLOOKUP($A91+8860000,'Growth Data'!$A:$F,3,0)),\"NO\",VLOOKUP($A91+8860000,'Growth Data'!$A:$F,3,0))","v":"NO"},0,null,0,{"$f":"IF(BM91=\"YES\",IF(ISERROR(VLOOKUP($A91+8860000,'Growth Data'!$A:$F,6,0)),0,VLOOKUP($A91+8860000,'Growth Data'!$A:$F,6,0)),0)","v":0},0,null,"NO",{"$f":"IF(ISERROR(VLOOKUP($A91+8860000,'Growth Data'!$A:$F,4,0)),\"NO\",VLOOKUP($A91+8860000,'Growth Data'!$A:$F,4,0))","v":"NO"},0,null,0,{"$f":"IF(BU91=\"YES\",IF(ISERROR(VLOOKUP($A91+8860000,'Growth Data'!$A:$Z,7,0)),0,VLOOKUP($A91+8860000,'Growth Data'!$A:$Z,7,0)),0)","v":0},0,null,"NO",{"$f":"IF(ISERROR(VLOOKUP($A91+8860000,'Growth Data'!$A:$F,5,0)),\"NO\",VLOOKUP($A91+8860000,'Growth Data'!$A:$F,5,0))","v":"NO"},0,null,0,{"$f":"IF(CC91=\"YES\",IF(ISERROR(VLOOKUP($A91+8860000,'Growth Data'!$A:$Z,8,0)),0,VLOOKUP($A91+8860000,'Growth Data'!$A:$Z,8,0)),0)","v":0},0,null,null,null,0]
[2337,"St Crispin's Community Primary Infant School",null,"St Crispin's Community Primary Infant School","St Crispin's Community Primary Infant School",0,null,961038.34,961038.33787233464,0,null,0,0,0,null,961038.34,961038.33787233464,0,null,6881.63,6881.6250472000002,0,null,null,null,0,null,0,0,0,null,92366.26,null,92366,null,0,null,0,null,0,null,0,null,0,null,0,null,null,null,0,null,null,null,0,null,null,null,0,null,null,null,0,null,"NO",{"$f":"IF(ISERROR(VLOOKUP($A92+8860000,'Growth Data'!$A:$F,3,0)),\"NO\",VLOOKUP($A92+8860000,'Growth Data'!$A:$F,3,0))","v":"NO"},0,null,0,{"$f":"IF(BM92=\"YES\",IF(ISERROR(VLOOKUP($A92+8860000,'Growth Data'!$A:$F,6,0)),0,VLOOKUP($A92+8860000,'Growth Data'!$A:$F,6,0)),0)","v":0},0,null,"NO",{"$f":"IF(ISERROR(VLOOKUP($A92+8860000,'Growth Data'!$A:$F,4,0)),\"NO\",VLOOKUP($A92+8860000,'Growth Data'!$A:$F,4,0))","v":"NO"},0,null,0,{"$f":"IF(BU92=\"YES\",IF(ISERROR(VLOOKUP($A92+8860000,'Growth Data'!$A:$Z,7,0)),0,VLOOKUP($A92+8860000,'Growth Data'!$A:$Z,7,0)),0)","v":0},0,null,"NO",{"$f":"IF(ISERROR(VLOOKUP($A92+8860000,'Growth Data'!$A:$F,5,0)),\"NO\",VLOOKUP($A92+8860000,'Growth Data'!$A:$F,5,0))","v":"NO"},0,null,0,{"$f":"IF(CC92=\"YES\",IF(ISERROR(VLOOKUP($A92+8860000,'Growth Data'!$A:$Z,8,0)),0,VLOOKUP($A92+8860000,'Growth Data'!$A:$Z,8,0)),0)","v":0},0,null,null,null,0]
[2340,"Ellington Infant School",null,"Ellington Infant School","Ellington Infant School",0,null,850195.46,850195.46229299437,0,null,0,0,0,null,850195.46,850195.46229299437,0,null,5212.57,5212.5741962000011,0,null,null,null,0,null,0,0,0,null,69898.52,null,69899,null,0,null,0,null,0,null,0,null,0,null,0,null,null,null,0,null,null,null,0,null,null,null,0,null,null,null,0,null,"NO",{"$f":"IF(ISERROR(VLOOKUP($A93+8860000,'Growth Data'!$A:$F,3,0)),\"NO\",VLOOKUP($A93+8860000,'Growth Data'!$A:$F,3,0))","v":"NO"},0,null,0,{"$f":"IF(BM93=\"YES\",IF(ISERROR(VLOOKUP($A93+8860000,'Growth Data'!$A:$F,6,0)),0,VLOOKUP($A93+8860000,'Growth Data'!$A:$F,6,0)),0)","v":0},0,null,"NO",{"$f":"IF(ISERROR(VLOOKUP($A93+8860000,'Growth Data'!$A:$F,4,0)),\"NO\",VLOOKUP($A93+8860000,'Growth Data'!$A:$F,4,0))","v":"NO"},0,null,0,{"$f":"IF(BU93=\"YES\",IF(ISERROR(VLOOKUP($A93+8860000,'Growth Data'!$A:$Z,7,0)),0,VLOOKUP($A93+8860000,'Growth Data'!$A:$Z,7,0)),0)","v":0},0,null,"NO",{"$f":"IF(ISERROR(VLOOKUP($A93+8860000,'Growth Data'!$A:$F,5,0)),\"NO\",VLOOKUP($A93+8860000,'Growth Data'!$A:$F,5,0))","v":"NO"},0,null,0,{"$f":"IF(CC93=\"YES\",IF(ISERROR(VLOOKUP($A93+8860000,'Growth Data'!$A:$Z,8,0)),0,VLOOKUP($A93+8860000,'Growth Data'!$A:$Z,8,0)),0)","v":0},0,null,null,null,0]
[2345,"Priory Infant School",null,"Priory Infant School","Priory Infant School",0,null,756762.3,756762.30335076037,0,null,0,0,0,null,756762.3,756762.30335076037,0,null,4596.3100000000004,4596.3092666000011,0,null,null,null,0,null,0,0,0,null,113224.37,null,113224,null,0,null,0,null,0,null,0,null,0,null,0,null,null,null,0,null,null,null,0,null,null,null,0,null,null,null,0,null,"NO",{"$f":"IF(ISERROR(VLOOKUP($A94+8860000,'Growth Data'!$A:$F,3,0)),\"NO\",VLOOKUP($A94+8860000,'Growth Data'!$A:$F,3,0))","v":"NO"},0,null,0,{"$f":"IF(BM94=\"YES\",IF(ISERROR(VLOOKUP($A94+8860000,'Growth Data'!$A:$F,6,0)),0,VLOOKUP($A94+8860000,'Growth Data'!$A:$F,6,0)),0)","v":0},0,null,"NO",{"$f":"IF(ISERROR(VLOOKUP($A94+8860000,'Growth Data'!$A:$F,4,0)),\"NO\",VLOOKUP($A94+8860000,'Growth Data'!$A:$F,4,0))","v":"NO"},0,null,0,{"$f":"IF(BU94=\"YES\",IF(ISERROR(VLOOKUP($A94+8860000,'Growth Data'!$A:$Z,7,0)),0,VLOOKUP($A94+8860000,'Growth Data'!$A:$Z,7,0)),0)","v":0},0,null,"NO",{"$f":"IF(ISERROR(VLOOKUP($A94+8860000,'Growth Data'!$A:$F,5,0)),\"NO\",VLOOKUP($A94+8860000,'Growth Data'!$A:$F,5,0))","v":"NO"},0,null,0,{"$f":"IF(CC94=\"YES\",IF(ISERROR(VLOOKUP($A94+8860000,'Growth Data'!$A:$Z,8,0)),0,VLOOKUP($A94+8860000,'Growth Data'!$A:$Z,8,0)),0)","v":0},0,null,null,null,0]
[2431,"Shears Green Junior School",null,"Shears Green Junior School","Shears Green Junior School",0,null,1678178.13,1678178.1322888494,0,null,0,0,0,null,1678178.13,1678178.1322888494,0,null,12299.62,12299.620886599996,0,null,null,null,0,null,0,0,0,null,92397.42,null,92397,null,0,null,0,null,0,null,0,null,0,null,0,null,null,null,0,null,null,null,0,null,null,null,0,null,null,null,0,null,"NO",{"$f":"IF(ISERROR(VLOOKUP($A95+8860000,'Growth Data'!$A:$F,3,0)),\"NO\",VLOOKUP($A95+8860000,'Growth Data'!$A:$F,3,0))","v":"NO"},0,null,0,{"$f":"IF(BM95=\"YES\",IF(ISERROR(VLOOKUP($A95+8860000,'Growth Data'!$A:$F,6,0)),0,VLOOKUP($A95+8860000,'Growth Data'!$A:$F,6,0)),0)","v":0},0,null,"NO",{"$f":"IF(ISERROR(VLOOKUP($A95+8860000,'Growth Data'!$A:$F,4,0)),\"NO\",VLOOKUP($A95+8860000,'Growth Data'!$A:$F,4,0))","v":"NO"},0,null,0,{"$f":"IF(BU95=\"YES\",IF(ISERROR(VLOOKUP($A95+8860000,'Growth Data'!$A:$Z,7,0)),0,VLOOKUP($A95+8860000,'Growth Data'!$A:$Z,7,0)),0)","v":0},0,null,"NO",{"$f":"IF(ISERROR(VLOOKUP($A95+8860000,'Growth Data'!$A:$F,5,0)),\"NO\",VLOOKUP($A95+8860000,'Growth Data'!$A:$F,5,0))","v":"NO"},0,null,0,{"$f":"IF(CC95=\"YES\",IF(ISERROR(VLOOKUP($A95+8860000,'Growth Data'!$A:$Z,8,0)),0,VLOOKUP($A95+8860000,'Growth Data'!$A:$Z,8,0)),0)","v":0},0,null,null,null,0]
[2434,"West Minster Primary School",null,"West Minster Primary School","West Minster Primary School",0,null,1797729.34,1797729.3427273666,0,null,0,0,0,null,1797729.34,1797729.3427273666,0,null,11323.87,11323.8680814,0,null,null,null,0,null,5.51,5.51,0,null,164462.01,null,164462,null,0,null,0,null,0,null,0,null,0,null,0,null,null,null,0,null,null,null,0,null,null,null,0,null,null,null,0,null,"NO",{"$f":"IF(ISERROR(VLOOKUP($A96+8860000,'Growth Data'!$A:$F,3,0)),\"NO\",VLOOKUP($A96+8860000,'Growth Data'!$A:$F,3,0))","v":"YES"},1,null,0,{"$f":"IF(BM96=\"YES\",IF(ISERROR(VLOOKUP($A96+8860000,'Growth Data'!$A:$F,6,0)),0,VLOOKUP($A96+8860000,'Growth Data'!$A:$F,6,0)),0)","v":60},-60,null,"NO",{"$f":"IF(ISERROR(VLOOKUP($A96+8860000,'Growth Data'!$A:$F,4,0)),\"NO\",VLOOKUP($A96+8860000,'Growth Data'!$A:$F,4,0))","v":"YES"},1,null,0,{"$f":"IF(BU96=\"YES\",IF(ISERROR(VLOOKUP($A96+8860000,'Growth Data'!$A:$Z,7,0)),0,VLOOKUP($A96+8860000,'Growth Data'!$A:$Z,7,0)),0)","v":90},-90,null,"NO",{"$f":"IF(ISERROR(VLOOKUP($A96+8860000,'Growth Data'!$A:$F,5,0)),\"NO\",VLOOKUP($A96+8860000,'Growth Data'!$A:$F,5,0))","v":"NO"},0,null,0,{"$f":"IF(CC96=\"YES\",IF(ISERROR(VLOOKUP($A96+8860000,'Growth Data'!$A:$Z,8,0)),0,VLOOKUP($A96+8860000,'Growth Data'!$A:$Z,8,0)),0)","v":0},0,null,null,null,0]
[2454,"Aycliffe Community Primary School",null,"Aycliffe Community Primary School","Aycliffe Community Primary School",0,null,612913.06000000006,612913.0640998024,0,null,0,0,0,null,612913.06000000006,612913.0640998024,0,null,3261.07,3261.0685858000006,0,null,null,null,0,null,0,0,0,null,317536.88,null,317537,null,0,null,0,null,0,null,0,null,0,null,0,null,null,null,0,null,null,null,0,null,null,null,0,null,null,null,0,null,"NO",{"$f":"IF(ISERROR(VLOOKUP($A97+8860000,'Growth Data'!$A:$F,3,0)),\"NO\",VLOOKUP($A97+8860000,'Growth Data'!$A:$F,3,0))","v":"NO"},0,null,0,{"$f":"IF(BM97=\"YES\",IF(ISERROR(VLOOKUP($A97+8860000,'Growth Data'!$A:$F,6,0)),0,VLOOKUP($A97+8860000,'Growth Data'!$A:$F,6,0)),0)","v":0},0,null,"NO",{"$f":"IF(ISERROR(VLOOKUP($A97+8860000,'Growth Data'!$A:$F,4,0)),\"NO\",VLOOKUP($A97+8860000,'Growth Data'!$A:$F,4,0))","v":"NO"},0,null,0,{"$f":"IF(BU97=\"YES\",IF(ISERROR(VLOOKUP($A97+8860000,'Growth Data'!$A:$Z,7,0)),0,VLOOKUP($A97+8860000,'Growth Data'!$A:$Z,7,0)),0)","v":0},0,null,"YES",{"$f":"IF(ISERROR(VLOOKUP($A97+8860000,'Growth Data'!$A:$F,5,0)),\"NO\",VLOOKUP($A97+8860000,'Growth Data'!$A:$F,5,0))","v":"NO"},1,null,60,{"$f":"IF(CC97=\"YES\",IF(ISERROR(VLOOKUP($A97+8860000,'Growth Data'!$A:$Z,8,0)),0,VLOOKUP($A97+8860000,'Growth Data'!$A:$Z,8,0)),0)","v":0},60,null,null,null,0]
[2459,"Riverhead Infant School",null,"Riverhead Infant School","Riverhead Infant School",0,null,960427.37,960427.36543086008,0,null,0,0,0,null,960427.37,960427.36543086008,0,null,7052.28,7052.2790772884,0,null,null,null,0,null,0,0,0,null,5580,null,5580,null,5442,null,5442,null,0,null,0,null,0,null,0,null,null,null,0,null,null,null,0,null,null,null,0,null,null,null,0,null,"NO",{"$f":"IF(ISERROR(VLOOKUP($A98+8860000,'Growth Data'!$A:$F,3,0)),\"NO\",VLOOKUP($A98+8860000,'Growth Data'!$A:$F,3,0))","v":"NO"},0,null,0,{"$f":"IF(BM98=\"YES\",IF(ISERROR(VLOOKUP($A98+8860000,'Growth Data'!$A:$F,6,0)),0,VLOOKUP($A98+8860000,'Growth Data'!$A:$F,6,0)),0)","v":0},0,null,"NO",{"$f":"IF(ISERROR(VLOOKUP($A98+8860000,'Growth Data'!$A:$F,4,0)),\"NO\",VLOOKUP($A98+8860000,'Growth Data'!$A:$F,4,0))","v":"NO"},0,null,0,{"$f":"IF(BU98=\"YES\",IF(ISERROR(VLOOKUP($A98+8860000,'Growth Data'!$A:$Z,7,0)),0,VLOOKUP($A98+8860000,'Growth Data'!$A:$Z,7,0)),0)","v":0},0,null,"NO",{"$f":"IF(ISERROR(VLOOKUP($A98+8860000,'Growth Data'!$A:$F,5,0)),\"NO\",VLOOKUP($A98+8860000,'Growth Data'!$A:$F,5,0))","v":"NO"},0,null,0,{"$f":"IF(CC98=\"YES\",IF(ISERROR(VLOOKUP($A98+8860000,'Growth Data'!$A:$Z,8,0)),0,VLOOKUP($A98+8860000,'Growth Data'!$A:$Z,8,0)),0)","v":0},0,null,null,null,0]
[2465,"Claremont Primary School",null,"Claremont Primary School","Claremont Primary School",0,null,1732534,1732534,0,null,0,0,0,null,1732534,1732534,0,null,12813.18,12813.174994599998,0,null,null,null,0,null,0,0,0,null,94477.49,null,94477,null,0,null,0,null,0,null,0,null,0,null,0,null,null,null,0,null,null,null,0,null,null,null,0,null,null,null,0,null,"NO",{"$f":"IF(ISERROR(VLOOKUP($A99+8860000,'Growth Data'!$A:$F,3,0)),\"NO\",VLOOKUP($A99+8860000,'Growth Data'!$A:$F,3,0))","v":"NO"},0,null,0,{"$f":"IF(BM99=\"YES\",IF(ISERROR(VLOOKUP($A99+8860000,'Growth Data'!$A:$F,6,0)),0,VLOOKUP($A99+8860000,'Growth Data'!$A:$F,6,0)),0)","v":0},0,null,"NO",{"$f":"IF(ISERROR(VLOOKUP($A99+8860000,'Growth Data'!$A:$F,4,0)),\"NO\",VLOOKUP($A99+8860000,'Growth Data'!$A:$F,4,0))","v":"NO"},0,null,0,{"$f":"IF(BU99=\"YES\",IF(ISERROR(VLOOKUP($A99+8860000,'Growth Data'!$A:$Z,7,0)),0,VLOOKUP($A99+8860000,'Growth Data'!$A:$Z,7,0)),0)","v":0},0,null,"NO",{"$f":"IF(ISERROR(VLOOKUP($A99+8860000,'Growth Data'!$A:$F,5,0)),\"NO\",VLOOKUP($A99+8860000,'Growth Data'!$A:$F,5,0))","v":"NO"},0,null,0,{"$f":"IF(CC99=\"YES\",IF(ISERROR(VLOOKUP($A99+8860000,'Growth Data'!$A:$Z,8,0)),0,VLOOKUP($A99+8860000,'Growth Data'!$A:$Z,8,0)),0)","v":0},0,null,null,null,0]
[2471,"Whitfield Aspen School",null,"Whitfield Aspen School","Whitfield Aspen School",0,null,1780277.66,1780277.661240191,0,null,0,0,0,null,1780277.66,1780277.661240191,0,null,12171.23,12171.232359599999,0,null,null,null,0,null,0,0,0,null,29861.74,null,29862,null,3013.83,null,3014,null,32000,null,32000,null,48000,null,48000,null,null,null,0,null,null,null,0,null,null,null,0,null,null,null,0,null,"NO",{"$f":"IF(ISERROR(VLOOKUP($A100+8860000,'Growth Data'!$A:$F,3,0)),\"NO\",VLOOKUP($A100+8860000,'Growth Data'!$A:$F,3,0))","v":"YES"},1,null,0,{"$f":"IF(BM100=\"YES\",IF(ISERROR(VLOOKUP($A100+8860000,'Growth Data'!$A:$F,6,0)),0,VLOOKUP($A100+8860000,'Growth Data'!$A:$F,6,0)),0)","v":67},-67,null,"NO",{"$f":"IF(ISERROR(VLOOKUP($A100+8860000,'Growth Data'!$A:$F,4,0)),\"NO\",VLOOKUP($A100+8860000,'Growth Data'!$A:$F,4,0))","v":"YES"},1,null,0,{"$f":"IF(BU100=\"YES\",IF(ISERROR(VLOOKUP($A100+8860000,'Growth Data'!$A:$Z,7,0)),0,VLOOKUP($A100+8860000,'Growth Data'!$A:$Z,7,0)),0)","v":82},-82,null,"NO",{"$f":"IF(ISERROR(VLOOKUP($A100+8860000,'Growth Data'!$A:$F,5,0)),\"NO\",VLOOKUP($A100+8860000,'Growth Data'!$A:$F,5,0))","v":"NO"},0,null,0,{"$f":"IF(CC100=\"YES\",IF(ISERROR(VLOOKUP($A100+8860000,'Growth Data'!$A:$Z,8,0)),0,VLOOKUP($A100+8860000,'Growth Data'!$A:$Z,8,0)),0)","v":0},0,null,null,null,0]
[2474,"St Paul's Infant School",null,"St Paul's Infant School","St Paul's Infant School",0,null,1034904.55,1034904.5535487607,0,null,10691.06,10691.058507435839,0,null,1045595.61,1045595.6120561966,0,null,6932.98,6932.980458,0,null,null,null,0,null,0,0,0,null,5580,null,5580,null,5442,null,5442,null,0,null,0,null,0,null,0,null,null,null,0,null,null,null,0,null,null,null,0,null,null,null,0,null,"NO",{"$f":"IF(ISERROR(VLOOKUP($A101+8860000,'Growth Data'!$A:$F,3,0)),\"NO\",VLOOKUP($A101+8860000,'Growth Data'!$A:$F,3,0))","v":"NO"},0,null,0,{"$f":"IF(BM101=\"YES\",IF(ISERROR(VLOOKUP($A101+8860000,'Growth Data'!$A:$F,6,0)),0,VLOOKUP($A101+8860000,'Growth Data'!$A:$F,6,0)),0)","v":0},0,null,"NO",{"$f":"IF(ISERROR(VLOOKUP($A101+8860000,'Growth Data'!$A:$F,4,0)),\"NO\",VLOOKUP($A101+8860000,'Growth Data'!$A:$F,4,0))","v":"NO"},0,null,0,{"$f":"IF(BU101=\"YES\",IF(ISERROR(VLOOKUP($A101+8860000,'Growth Data'!$A:$Z,7,0)),0,VLOOKUP($A101+8860000,'Growth Data'!$A:$Z,7,0)),0)","v":0},0,null,"NO",{"$f":"IF(ISERROR(VLOOKUP($A101+8860000,'Growth Data'!$A:$F,5,0)),\"NO\",VLOOKUP($A101+8860000,'Growth Data'!$A:$F,5,0))","v":"NO"},0,null,0,{"$f":"IF(CC101=\"YES\",IF(ISERROR(VLOOKUP($A101+8860000,'Growth Data'!$A:$Z,8,0)),0,VLOOKUP($A101+8860000,'Growth Data'!$A:$Z,8,0)),0)","v":0},0,null,null,null,0]
[2482,"Langton Green Primary School",null,"Langton Green Primary School","Langton Green Primary School",0,null,1367115,1367115,0,null,0,0,0,null,1367115,1367115,0,null,10039.98,10039.982811400001,0,null,null,null,0,null,0,0,0,null,63518.13,null,63518,null,0,null,0,null,0,null,0,null,0,null,0,null,null,null,0,null,null,null,0,null,null,null,0,null,null,null,0,null,"NO",{"$f":"IF(ISERROR(VLOOKUP($A102+8860000,'Growth Data'!$A:$F,3,0)),\"NO\",VLOOKUP($A102+8860000,'Growth Data'!$A:$F,3,0))","v":"NO"},0,null,0,{"$f":"IF(BM102=\"YES\",IF(ISERROR(VLOOKUP($A102+8860000,'Growth Data'!$A:$F,6,0)),0,VLOOKUP($A102+8860000,'Growth Data'!$A:$F,6,0)),0)","v":0},0,null,"NO",{"$f":"IF(ISERROR(VLOOKUP($A102+8860000,'Growth Data'!$A:$F,4,0)),\"NO\",VLOOKUP($A102+8860000,'Growth Data'!$A:$F,4,0))","v":"NO"},0,null,0,{"$f":"IF(BU102=\"YES\",IF(ISERROR(VLOOKUP($A102+8860000,'Growth Data'!$A:$Z,7,0)),0,VLOOKUP($A102+8860000,'Growth Data'!$A:$Z,7,0)),0)","v":0},0,null,"NO",{"$f":"IF(ISERROR(VLOOKUP($A102+8860000,'Growth Data'!$A:$F,5,0)),\"NO\",VLOOKUP($A102+8860000,'Growth Data'!$A:$F,5,0))","v":"NO"},0,null,0,{"$f":"IF(CC102=\"YES\",IF(ISERROR(VLOOKUP($A102+8860000,'Growth Data'!$A:$Z,8,0)),0,VLOOKUP($A102+8860000,'Growth Data'!$A:$Z,8,0)),0)","v":0},0,null,null,null,0]
[2490,"Bishops Down Primary School",null,"Bishops Down Primary School","Bishops Down Primary School",0,null,1048484.13,1048484.1282754833,0,null,0,0,0,null,1048484.13,1048484.1282754833,0,null,7651.96,7651.9562091999996,0,null,null,null,0,null,4.9000000000000004,4.9000000000000004,0,null,231689.29,null,231689,null,0,null,0,null,0,null,0,null,0,null,0,null,null,null,0,null,null,null,0,null,null,null,0,null,null,null,0,null,"NO",{"$f":"IF(ISERROR(VLOOKUP($A103+8860000,'Growth Data'!$A:$F,3,0)),\"NO\",VLOOKUP($A103+8860000,'Growth Data'!$A:$F,3,0))","v":"NO"},0,null,0,{"$f":"IF(BM103=\"YES\",IF(ISERROR(VLOOKUP($A103+8860000,'Growth Data'!$A:$F,6,0)),0,VLOOKUP($A103+8860000,'Growth Data'!$A:$F,6,0)),0)","v":0},0,null,"NO",{"$f":"IF(ISERROR(VLOOKUP($A103+8860000,'Growth Data'!$A:$F,4,0)),\"NO\",VLOOKUP($A103+8860000,'Growth Data'!$A:$F,4,0))","v":"NO"},0,null,0,{"$f":"IF(BU103=\"YES\",IF(ISERROR(VLOOKUP($A103+8860000,'Growth Data'!$A:$Z,7,0)),0,VLOOKUP($A103+8860000,'Growth Data'!$A:$Z,7,0)),0)","v":0},0,null,"YES",{"$f":"IF(ISERROR(VLOOKUP($A103+8860000,'Growth Data'!$A:$F,5,0)),\"NO\",VLOOKUP($A103+8860000,'Growth Data'!$A:$F,5,0))","v":"NO"},1,null,62,{"$f":"IF(CC103=\"YES\",IF(ISERROR(VLOOKUP($A103+8860000,'Growth Data'!$A:$Z,8,0)),0,VLOOKUP($A103+8860000,'Growth Data'!$A:$Z,8,0)),0)","v":0},62,null,null,null,0]
[2509,"Singlewell Primary School",null,"Singlewell Primary School","Singlewell Primary School",0,null,989906.17,989906.16529900744,0,null,0,0,0,null,989906.17,989906.16529900744,0,null,6599.17,6599.1702877999987,0,null,null,null,0,null,0,0,0,null,87466.35,null,87466,null,0,null,0,null,0,null,0,null,0,null,0,null,null,null,0,null,null,null,0,null,null,null,0,null,null,null,0,null,"NO",{"$f":"IF(ISERROR(VLOOKUP($A104+8860000,'Growth Data'!$A:$F,3,0)),\"NO\",VLOOKUP($A104+8860000,'Growth Data'!$A:$F,3,0))","v":"YES"},1,null,0,{"$f":"IF(BM104=\"YES\",IF(ISERROR(VLOOKUP($A104+8860000,'Growth Data'!$A:$F,6,0)),0,VLOOKUP($A104+8860000,'Growth Data'!$A:$F,6,0)),0)","v":30},-30,null,"NO",{"$f":"IF(ISERROR(VLOOKUP($A104+8860000,'Growth Data'!$A:$F,4,0)),\"NO\",VLOOKUP($A104+8860000,'Growth Data'!$A:$F,4,0))","v":"YES"},1,null,0,{"$f":"IF(BU104=\"YES\",IF(ISERROR(VLOOKUP($A104+8860000,'Growth Data'!$A:$Z,7,0)),0,VLOOKUP($A104+8860000,'Growth Data'!$A:$Z,7,0)),0)","v":60},-60,null,"NO",{"$f":"IF(ISERROR(VLOOKUP($A104+8860000,'Growth Data'!$A:$F,5,0)),\"NO\",VLOOKUP($A104+8860000,'Growth Data'!$A:$F,5,0))","v":"NO"},0,null,0,{"$f":"IF(CC104=\"YES\",IF(ISERROR(VLOOKUP($A104+8860000,'Growth Data'!$A:$Z,8,0)),0,VLOOKUP($A104+8860000,'Growth Data'!$A:$Z,8,0)),0)","v":0},0,null,null,null,0]
[2510,"Cheriton Primary School",null,"Cheriton Primary School","Cheriton Primary School",0,null,1621316.88,1621316.8755767778,0,null,0,0,0,null,1621316.88,1621316.8755767778,0,null,11632,11632.000546199999,0,null,null,null,0,null,0,0,0,null,53016.06,null,53016,null,698.39,null,698,null,103333.33,null,103333,null,155000,null,155000,null,null,null,0,null,null,null,0,null,null,null,0,null,null,null,0,null,"YES",{"$f":"IF(ISERROR(VLOOKUP($A105+8860000,'Growth Data'!$A:$F,3,0)),\"NO\",VLOOKUP($A105+8860000,'Growth Data'!$A:$F,3,0))","v":"NO"},1,null,32,{"$f":"IF(BM105=\"YES\",IF(ISERROR(VLOOKUP($A105+8860000,'Growth Data'!$A:$F,6,0)),0,VLOOKUP($A105+8860000,'Growth Data'!$A:$F,6,0)),0)","v":0},32,null,"YES",{"$f":"IF(ISERROR(VLOOKUP($A105+8860000,'Growth Data'!$A:$F,4,0)),\"NO\",VLOOKUP($A105+8860000,'Growth Data'!$A:$F,4,0))","v":"NO"},1,null,60,{"$f":"IF(BU105=\"YES\",IF(ISERROR(VLOOKUP($A105+8860000,'Growth Data'!$A:$Z,7,0)),0,VLOOKUP($A105+8860000,'Growth Data'!$A:$Z,7,0)),0)","v":0},60,null,"YES",{"$f":"IF(ISERROR(VLOOKUP($A105+8860000,'Growth Data'!$A:$F,5,0)),\"NO\",VLOOKUP($A105+8860000,'Growth Data'!$A:$F,5,0))","v":"NO"},1,null,31,{"$f":"IF(CC105=\"YES\",IF(ISERROR(VLOOKUP($A105+8860000,'Growth Data'!$A:$Z,8,0)),0,VLOOKUP($A105+8860000,'Growth Data'!$A:$Z,8,0)),0)","v":0},31,null,null,null,0]
[2514,"Brookfield Infant School",null,"Brookfield Infant School","Brookfield Infant School",0,null,696895.11,696895.11061833892,0,null,0,0,0,null,696895.11,696895.11061833892,0,null,4570.63,4570.6315611999999,0,null,null,null,0,null,0,0,0,null,66253.789999999994,null,66254,null,0,null,0,null,0,null,0,null,0,null,0,null,null,null,0,null,null,null,0,null,null,null,0,null,null,null,0,null,"NO",{"$f":"IF(ISERROR(VLOOKUP($A106+8860000,'Growth Data'!$A:$F,3,0)),\"NO\",VLOOKUP($A106+8860000,'Growth Data'!$A:$F,3,0))","v":"NO"},0,null,0,{"$f":"IF(BM106=\"YES\",IF(ISERROR(VLOOKUP($A106+8860000,'Growth Data'!$A:$F,6,0)),0,VLOOKUP($A106+8860000,'Growth Data'!$A:$F,6,0)),0)","v":0},0,null,"NO",{"$f":"IF(ISERROR(VLOOKUP($A106+8860000,'Growth Data'!$A:$F,4,0)),\"NO\",VLOOKUP($A106+8860000,'Growth Data'!$A:$F,4,0))","v":"NO"},0,null,0,{"$f":"IF(BU106=\"YES\",IF(ISERROR(VLOOKUP($A106+8860000,'Growth Data'!$A:$Z,7,0)),0,VLOOKUP($A106+8860000,'Growth Data'!$A:$Z,7,0)),0)","v":0},0,null,"NO",{"$f":"IF(ISERROR(VLOOKUP($A106+8860000,'Growth Data'!$A:$F,5,0)),\"NO\",VLOOKUP($A106+8860000,'Growth Data'!$A:$F,5,0))","v":"NO"},0,null,0,{"$f":"IF(CC106=\"YES\",IF(ISERROR(VLOOKUP($A106+8860000,'Growth Data'!$A:$Z,8,0)),0,VLOOKUP($A106+8860000,'Growth Data'!$A:$Z,8,0)),0)","v":0},0,null,null,null,0]
[2519,"Vigo Village School",null,"Vigo Village School","Vigo Village School",0,null,734053.66,734053.66223423451,0,null,0,0,0,null,734053.66,734053.66223423451,0,null,5007.1499999999996,5007.1525529999999,0,null,null,null,0,null,0,0,0,null,83160.13,null,83160,null,0,null,0,null,360000,null,360000,null,540000,null,540000,null,null,null,0,null,null,null,0,null,null,null,0,null,null,null,0,null,"NO",{"$f":"IF(ISERROR(VLOOKUP($A107+8860000,'Growth Data'!$A:$F,3,0)),\"NO\",VLOOKUP($A107+8860000,'Growth Data'!$A:$F,3,0))","v":"NO"},0,null,0,{"$f":"IF(BM107=\"YES\",IF(ISERROR(VLOOKUP($A107+8860000,'Growth Data'!$A:$F,6,0)),0,VLOOKUP($A107+8860000,'Growth Data'!$A:$F,6,0)),0)","v":0},0,null,"NO",{"$f":"IF(ISERROR(VLOOKUP($A107+8860000,'Growth Data'!$A:$F,4,0)),\"NO\",VLOOKUP($A107+8860000,'Growth Data'!$A:$F,4,0))","v":"NO"},0,null,0,{"$f":"IF(BU107=\"YES\",IF(ISERROR(VLOOKUP($A107+8860000,'Growth Data'!$A:$Z,7,0)),0,VLOOKUP($A107+8860000,'Growth Data'!$A:$Z,7,0)),0)","v":0},0,null,"YES",{"$f":"IF(ISERROR(VLOOKUP($A107+8860000,'Growth Data'!$A:$F,5,0)),\"NO\",VLOOKUP($A107+8860000,'Growth Data'!$A:$F,5,0))","v":"NO"},1,null,30,{"$f":"IF(CC107=\"YES\",IF(ISERROR(VLOOKUP($A107+8860000,'Growth Data'!$A:$Z,8,0)),0,VLOOKUP($A107+8860000,'Growth Data'!$A:$Z,8,0)),0)","v":0},30,null,null,null,0]
[2520,"Madginford Primary School",null,"Madginford Primary School","Madginford Primary School",0,null,2225895,2225895,0,null,0,0,0,null,2225895,2225895,0,null,16382.38,16382.376045200001,0,null,null,null,0,null,0,0,0,null,161861.15,null,161861,null,0,null,0,null,0,null,0,null,0,null,0,null,null,null,0,null,null,null,0,null,null,null,0,null,null,null,0,null,"NO",{"$f":"IF(ISERROR(VLOOKUP($A108+8860000,'Growth Data'!$A:$F,3,0)),\"NO\",VLOOKUP($A108+8860000,'Growth Data'!$A:$F,3,0))","v":"NO"},0,null,0,{"$f":"IF(BM108=\"YES\",IF(ISERROR(VLOOKUP($A108+8860000,'Growth Data'!$A:$F,6,0)),0,VLOOKUP($A108+8860000,'Growth Data'!$A:$F,6,0)),0)","v":0},0,null,"NO",{"$f":"IF(ISERROR(VLOOKUP($A108+8860000,'Growth Data'!$A:$F,4,0)),\"NO\",VLOOKUP($A108+8860000,'Growth Data'!$A:$F,4,0))","v":"NO"},0,null,0,{"$f":"IF(BU108=\"YES\",IF(ISERROR(VLOOKUP($A108+8860000,'Growth Data'!$A:$Z,7,0)),0,VLOOKUP($A108+8860000,'Growth Data'!$A:$Z,7,0)),0)","v":0},0,null,"NO",{"$f":"IF(ISERROR(VLOOKUP($A108+8860000,'Growth Data'!$A:$F,5,0)),\"NO\",VLOOKUP($A108+8860000,'Growth Data'!$A:$F,5,0))","v":"NO"},0,null,0,{"$f":"IF(CC108=\"YES\",IF(ISERROR(VLOOKUP($A108+8860000,'Growth Data'!$A:$Z,8,0)),0,VLOOKUP($A108+8860000,'Growth Data'!$A:$Z,8,0)),0)","v":0},0,null,null,null,0]
[2524,"Palmarsh Primary School",null,"Palmarsh Primary School","Palmarsh Primary School",0,null,571066.25,571066.24780282727,0,null,0,0,0,null,571066.25,571066.24780282727,0,null,3415.13,3415.1348181999992,0,null,null,null,0,null,0,0,0,null,5580,null,5580,null,5442,null,5442,null,0,null,0,null,0,null,0,null,null,null,0,null,null,null,0,null,null,null,0,null,null,null,0,null,"NO",{"$f":"IF(ISERROR(VLOOKUP($A109+8860000,'Growth Data'!$A:$F,3,0)),\"NO\",VLOOKUP($A109+8860000,'Growth Data'!$A:$F,3,0))","v":"NO"},0,null,0,{"$f":"IF(BM109=\"YES\",IF(ISERROR(VLOOKUP($A109+8860000,'Growth Data'!$A:$F,6,0)),0,VLOOKUP($A109+8860000,'Growth Data'!$A:$F,6,0)),0)","v":0},0,null,"NO",{"$f":"IF(ISERROR(VLOOKUP($A109+8860000,'Growth Data'!$A:$F,4,0)),\"NO\",VLOOKUP($A109+8860000,'Growth Data'!$A:$F,4,0))","v":"NO"},0,null,0,{"$f":"IF(BU109=\"YES\",IF(ISERROR(VLOOKUP($A109+8860000,'Growth Data'!$A:$Z,7,0)),0,VLOOKUP($A109+8860000,'Growth Data'!$A:$Z,7,0)),0)","v":0},0,null,"NO",{"$f":"IF(ISERROR(VLOOKUP($A109+8860000,'Growth Data'!$A:$F,5,0)),\"NO\",VLOOKUP($A109+8860000,'Growth Data'!$A:$F,5,0))","v":"NO"},0,null,0,{"$f":"IF(CC109=\"YES\",IF(ISERROR(VLOOKUP($A109+8860000,'Growth Data'!$A:$Z,8,0)),0,VLOOKUP($A109+8860000,'Growth Data'!$A:$Z,8,0)),0)","v":0},0,null,null,null,0]
[2525,"Painters Ash Primary School",null,"Painters Ash Primary School","Painters Ash Primary School",0,null,1510053.23,1510053.2258614693,0,null,0,0,0,null,1510053.23,1510053.2258614693,0,null,10656.25,10656.247741000003,0,null,null,null,0,null,0,0,0,null,52618.35,null,52618,null,738.17,null,738,null,0,null,0,null,0,null,0,null,null,null,0,null,null,null,0,null,null,null,0,null,null,null,0,null,"NO",{"$f":"IF(ISERROR(VLOOKUP($A110+8860000,'Growth Data'!$A:$F,3,0)),\"NO\",VLOOKUP($A110+8860000,'Growth Data'!$A:$F,3,0))","v":"NO"},0,null,0,{"$f":"IF(BM110=\"YES\",IF(ISERROR(VLOOKUP($A110+8860000,'Growth Data'!$A:$F,6,0)),0,VLOOKUP($A110+8860000,'Growth Data'!$A:$F,6,0)),0)","v":0},0,null,"NO",{"$f":"IF(ISERROR(VLOOKUP($A110+8860000,'Growth Data'!$A:$F,4,0)),\"NO\",VLOOKUP($A110+8860000,'Growth Data'!$A:$F,4,0))","v":"NO"},0,null,0,{"$f":"IF(BU110=\"YES\",IF(ISERROR(VLOOKUP($A110+8860000,'Growth Data'!$A:$Z,7,0)),0,VLOOKUP($A110+8860000,'Growth Data'!$A:$Z,7,0)),0)","v":0},0,null,"NO",{"$f":"IF(ISERROR(VLOOKUP($A110+8860000,'Growth Data'!$A:$F,5,0)),\"NO\",VLOOKUP($A110+8860000,'Growth Data'!$A:$F,5,0))","v":"NO"},0,null,0,{"$f":"IF(CC110=\"YES\",IF(ISERROR(VLOOKUP($A110+8860000,'Growth Data'!$A:$Z,8,0)),0,VLOOKUP($A110+8860000,'Growth Data'!$A:$Z,8,0)),0)","v":0},0,null,null,null,0]
[2530,"Tunbury Primary School",null,"Tunbury Primary School","Tunbury Primary School",0,null,2108370,2108370,0,null,0,0,0,null,2108370,2108370,0,null,15612.04,15612.044883199998,0,null,null,null,0,null,0,0,0,null,50014.86,null,50015,null,998.51,null,999,null,20000,null,20000,null,30000,null,30000,null,null,null,0,null,null,null,0,null,null,null,0,null,null,null,0,null,"NO",{"$f":"IF(ISERROR(VLOOKUP($A111+8860000,'Growth Data'!$A:$F,3,0)),\"NO\",VLOOKUP($A111+8860000,'Growth Data'!$A:$F,3,0))","v":"NO"},0,null,0,{"$f":"IF(BM111=\"YES\",IF(ISERROR(VLOOKUP($A111+8860000,'Growth Data'!$A:$F,6,0)),0,VLOOKUP($A111+8860000,'Growth Data'!$A:$F,6,0)),0)","v":0},0,null,"NO",{"$f":"IF(ISERROR(VLOOKUP($A111+8860000,'Growth Data'!$A:$F,4,0)),\"NO\",VLOOKUP($A111+8860000,'Growth Data'!$A:$F,4,0))","v":"NO"},0,null,0,{"$f":"IF(BU111=\"YES\",IF(ISERROR(VLOOKUP($A111+8860000,'Growth Data'!$A:$Z,7,0)),0,VLOOKUP($A111+8860000,'Growth Data'!$A:$Z,7,0)),0)","v":0},0,null,"NO",{"$f":"IF(ISERROR(VLOOKUP($A111+8860000,'Growth Data'!$A:$F,5,0)),\"NO\",VLOOKUP($A111+8860000,'Growth Data'!$A:$F,5,0))","v":"NO"},0,null,0,{"$f":"IF(CC111=\"YES\",IF(ISERROR(VLOOKUP($A111+8860000,'Growth Data'!$A:$Z,8,0)),0,VLOOKUP($A111+8860000,'Growth Data'!$A:$Z,8,0)),0)","v":0},0,null,null,null,0]
[2532,"St Margaret's-at-Cliffe Primary School",null,"St Margaret's-at-Cliffe Primary School","St Margaret's-at-Cliffe Primary School",0,null,697359.07,697359.06503411336,0,null,0,0,0,null,697359.07,697359.06503411336,0,null,4878.76,4878.7640259999998,0,null,null,null,0,null,0,0,0,null,130088.8,null,130089,null,0,null,0,null,0,null,0,null,0,null,0,null,null,null,0,null,null,null,0,null,null,null,0,null,null,null,0,null,"NO",{"$f":"IF(ISERROR(VLOOKUP($A112+8860000,'Growth Data'!$A:$F,3,0)),\"NO\",VLOOKUP($A112+8860000,'Growth Data'!$A:$F,3,0))","v":"NO"},0,null,0,{"$f":"IF(BM112=\"YES\",IF(ISERROR(VLOOKUP($A112+8860000,'Growth Data'!$A:$F,6,0)),0,VLOOKUP($A112+8860000,'Growth Data'!$A:$F,6,0)),0)","v":0},0,null,"NO",{"$f":"IF(ISERROR(VLOOKUP($A112+8860000,'Growth Data'!$A:$F,4,0)),\"NO\",VLOOKUP($A112+8860000,'Growth Data'!$A:$F,4,0))","v":"NO"},0,null,0,{"$f":"IF(BU112=\"YES\",IF(ISERROR(VLOOKUP($A112+8860000,'Growth Data'!$A:$Z,7,0)),0,VLOOKUP($A112+8860000,'Growth Data'!$A:$Z,7,0)),0)","v":0},0,null,"NO",{"$f":"IF(ISERROR(VLOOKUP($A112+8860000,'Growth Data'!$A:$F,5,0)),\"NO\",VLOOKUP($A112+8860000,'Growth Data'!$A:$F,5,0))","v":"NO"},0,null,0,{"$f":"IF(CC112=\"YES\",IF(ISERROR(VLOOKUP($A112+8860000,'Growth Data'!$A:$Z,8,0)),0,VLOOKUP($A112+8860000,'Growth Data'!$A:$Z,8,0)),0)","v":0},0,null,null,null,0]
[2534,"Bysing Wood Primary School",null,"Bysing Wood Primary School","Bysing Wood Primary School",0,null,719028.36,719028.36379898922,0,null,0,0,0,null,719028.36,719028.36379898922,0,null,3980.04,3980.0443369999998,0,null,null,null,0,null,0,0,0,null,61164.46,null,61164,null,0,null,0,null,0,null,0,null,0,null,0,null,null,null,0,null,null,null,0,null,null,null,0,null,null,null,0,null,"NO",{"$f":"IF(ISERROR(VLOOKUP($A113+8860000,'Growth Data'!$A:$F,3,0)),\"NO\",VLOOKUP($A113+8860000,'Growth Data'!$A:$F,3,0))","v":"YES"},1,null,0,{"$f":"IF(BM113=\"YES\",IF(ISERROR(VLOOKUP($A113+8860000,'Growth Data'!$A:$F,6,0)),0,VLOOKUP($A113+8860000,'Growth Data'!$A:$F,6,0)),0)","v":30},-30,null,"NO",{"$f":"IF(ISERROR(VLOOKUP($A113+8860000,'Growth Data'!$A:$F,4,0)),\"NO\",VLOOKUP($A113+8860000,'Growth Data'!$A:$F,4,0))","v":"YES"},1,null,0,{"$f":"IF(BU113=\"YES\",IF(ISERROR(VLOOKUP($A113+8860000,'Growth Data'!$A:$Z,7,0)),0,VLOOKUP($A113+8860000,'Growth Data'!$A:$Z,7,0)),0)","v":60},-60,null,"NO",{"$f":"IF(ISERROR(VLOOKUP($A113+8860000,'Growth Data'!$A:$F,5,0)),\"NO\",VLOOKUP($A113+8860000,'Growth Data'!$A:$F,5,0))","v":"YES"},1,null,0,{"$f":"IF(CC113=\"YES\",IF(ISERROR(VLOOKUP($A113+8860000,'Growth Data'!$A:$Z,8,0)),0,VLOOKUP($A113+8860000,'Growth Data'!$A:$Z,8,0)),0)","v":30},-30,null,null,null,0]
[2539,"Stocks Green Primary School",null,"Stocks Green Primary School","Stocks Green Primary School",0,null,760062.49,760062.48632655165,0,null,0,0,0,null,760062.49,760062.48632655165,0,null,5597.74,5597.7397772000004,0,null,null,null,0,null,0,0,0,null,153857.60000000001,null,153858,null,0,null,0,null,46333.33,null,46333,null,69500,null,69500,null,null,null,0,null,null,null,0,null,null,null,0,null,null,null,0,null,"NO",{"$f":"IF(ISERROR(VLOOKUP($A114+8860000,'Growth Data'!$A:$F,3,0)),\"NO\",VLOOKUP($A114+8860000,'Growth Data'!$A:$F,3,0))","v":"NO"},0,null,0,{"$f":"IF(BM114=\"YES\",IF(ISERROR(VLOOKUP($A114+8860000,'Growth Data'!$A:$F,6,0)),0,VLOOKUP($A114+8860000,'Growth Data'!$A:$F,6,0)),0)","v":0},0,null,"NO",{"$f":"IF(ISERROR(VLOOKUP($A114+8860000,'Growth Data'!$A:$F,4,0)),\"NO\",VLOOKUP($A114+8860000,'Growth Data'!$A:$F,4,0))","v":"NO"},0,null,0,{"$f":"IF(BU114=\"YES\",IF(ISERROR(VLOOKUP($A114+8860000,'Growth Data'!$A:$Z,7,0)),0,VLOOKUP($A114+8860000,'Growth Data'!$A:$Z,7,0)),0)","v":0},0,null,"NO",{"$f":"IF(ISERROR(VLOOKUP($A114+8860000,'Growth Data'!$A:$F,5,0)),\"NO\",VLOOKUP($A114+8860000,'Growth Data'!$A:$F,5,0))","v":"NO"},0,null,0,{"$f":"IF(CC114=\"YES\",IF(ISERROR(VLOOKUP($A114+8860000,'Growth Data'!$A:$Z,8,0)),0,VLOOKUP($A114+8860000,'Growth Data'!$A:$Z,8,0)),0)","v":0},0,null,null,null,0]
[2545,"Sandgate Primary School",null,"Sandgate Primary School","Sandgate Primary School",0,null,1478456,1478456.0000000002,0,null,0,0,0,null,1478456,1478456.0000000002,0,null,10835.99,10835.991678799999,0,null,null,null,0,null,0,0,0,null,95076.86,null,95077,null,0,null,0,null,0,null,0,null,0,null,0,null,null,null,0,null,null,null,0,null,null,null,0,null,null,null,0,null,"NO",{"$f":"IF(ISERROR(VLOOKUP($A115+8860000,'Growth Data'!$A:$F,3,0)),\"NO\",VLOOKUP($A115+8860000,'Growth Data'!$A:$F,3,0))","v":"NO"},0,null,0,{"$f":"IF(BM115=\"YES\",IF(ISERROR(VLOOKUP($A115+8860000,'Growth Data'!$A:$F,6,0)),0,VLOOKUP($A115+8860000,'Growth Data'!$A:$F,6,0)),0)","v":0},0,null,"NO",{"$f":"IF(ISERROR(VLOOKUP($A115+8860000,'Growth Data'!$A:$F,4,0)),\"NO\",VLOOKUP($A115+8860000,'Growth Data'!$A:$F,4,0))","v":"NO"},0,null,0,{"$f":"IF(BU115=\"YES\",IF(ISERROR(VLOOKUP($A115+8860000,'Growth Data'!$A:$Z,7,0)),0,VLOOKUP($A115+8860000,'Growth Data'!$A:$Z,7,0)),0)","v":0},0,null,"NO",{"$f":"IF(ISERROR(VLOOKUP($A115+8860000,'Growth Data'!$A:$F,5,0)),\"NO\",VLOOKUP($A115+8860000,'Growth Data'!$A:$F,5,0))","v":"NO"},0,null,0,{"$f":"IF(CC115=\"YES\",IF(ISERROR(VLOOKUP($A115+8860000,'Growth Data'!$A:$Z,8,0)),0,VLOOKUP($A115+8860000,'Growth Data'!$A:$Z,8,0)),0)","v":0},0,null,null,null,0]
[2552,"Sandling Primary School",null,"Sandling Primary School","Sandling Primary School",0,null,1455802,1455802,0,null,0,0,0,null,1455802,1455802,0,null,10810.31,10810.3139734,0,null,null,null,0,null,0,0,0,null,5580,null,5580,null,5442,null,5442,null,0,null,0,null,0,null,0,null,null,null,0,null,null,null,0,null,null,null,0,null,null,null,0,null,"NO",{"$f":"IF(ISERROR(VLOOKUP($A116+8860000,'Growth Data'!$A:$F,3,0)),\"NO\",VLOOKUP($A116+8860000,'Growth Data'!$A:$F,3,0))","v":"NO"},0,null,0,{"$f":"IF(BM116=\"YES\",IF(ISERROR(VLOOKUP($A116+8860000,'Growth Data'!$A:$F,6,0)),0,VLOOKUP($A116+8860000,'Growth Data'!$A:$F,6,0)),0)","v":0},0,null,"NO",{"$f":"IF(ISERROR(VLOOKUP($A116+8860000,'Growth Data'!$A:$F,4,0)),\"NO\",VLOOKUP($A116+8860000,'Growth Data'!$A:$F,4,0))","v":"NO"},0,null,0,{"$f":"IF(BU116=\"YES\",IF(ISERROR(VLOOKUP($A116+8860000,'Growth Data'!$A:$Z,7,0)),0,VLOOKUP($A116+8860000,'Growth Data'!$A:$Z,7,0)),0)","v":0},0,null,"NO",{"$f":"IF(ISERROR(VLOOKUP($A116+8860000,'Growth Data'!$A:$F,5,0)),\"NO\",VLOOKUP($A116+8860000,'Growth Data'!$A:$F,5,0))","v":"NO"},0,null,0,{"$f":"IF(CC116=\"YES\",IF(ISERROR(VLOOKUP($A116+8860000,'Growth Data'!$A:$Z,8,0)),0,VLOOKUP($A116+8860000,'Growth Data'!$A:$Z,8,0)),0)","v":0},0,null,null,null,0]
[2559,"Capel-le-Ferne Primary School",null,"Capel-le-Ferne Primary School","Capel-le-Ferne Primary School",0,null,782131.29,782131.28808722121,0,null,0,0,0,null,782131.29,782131.28808722121,0,null,5289.61,5289.6073123999995,0,null,null,null,0,null,0,0,0,null,38318.58,null,38319,null,2168.14,null,2168,null,0,null,0,null,0,null,0,null,null,null,0,null,null,null,0,null,null,null,0,null,null,null,0,null,"NO",{"$f":"IF(ISERROR(VLOOKUP($A117+8860000,'Growth Data'!$A:$F,3,0)),\"NO\",VLOOKUP($A117+8860000,'Growth Data'!$A:$F,3,0))","v":"NO"},0,null,0,{"$f":"IF(BM117=\"YES\",IF(ISERROR(VLOOKUP($A117+8860000,'Growth Data'!$A:$F,6,0)),0,VLOOKUP($A117+8860000,'Growth Data'!$A:$F,6,0)),0)","v":0},0,null,"NO",{"$f":"IF(ISERROR(VLOOKUP($A117+8860000,'Growth Data'!$A:$F,4,0)),\"NO\",VLOOKUP($A117+8860000,'Growth Data'!$A:$F,4,0))","v":"NO"},0,null,0,{"$f":"IF(BU117=\"YES\",IF(ISERROR(VLOOKUP($A117+8860000,'Growth Data'!$A:$Z,7,0)),0,VLOOKUP($A117+8860000,'Growth Data'!$A:$Z,7,0)),0)","v":0},0,null,"NO",{"$f":"IF(ISERROR(VLOOKUP($A117+8860000,'Growth Data'!$A:$F,5,0)),\"NO\",VLOOKUP($A117+8860000,'Growth Data'!$A:$F,5,0))","v":"NO"},0,null,0,{"$f":"IF(CC117=\"YES\",IF(ISERROR(VLOOKUP($A117+8860000,'Growth Data'!$A:$Z,8,0)),0,VLOOKUP($A117+8860000,'Growth Data'!$A:$Z,8,0)),0)","v":0},0,null,null,null,0]
[2562,"Lunsford Primary School",null,"Lunsford Primary School","Lunsford Primary School",0,null,767558.67,767558.67073565477,0,null,0,0,0,null,767558.67,767558.67073565477,0,null,5392.32,5392.3181340000001,0,null,null,null,0,null,0,0,0,null,117872.01,null,117872,null,0,null,0,null,0,null,0,null,0,null,0,null,null,null,0,null,null,null,0,null,null,null,0,null,null,null,0,null,"YES",{"$f":"IF(ISERROR(VLOOKUP($A118+8860000,'Growth Data'!$A:$F,3,0)),\"NO\",VLOOKUP($A118+8860000,'Growth Data'!$A:$F,3,0))","v":"NO"},1,null,49,{"$f":"IF(BM118=\"YES\",IF(ISERROR(VLOOKUP($A118+8860000,'Growth Data'!$A:$F,6,0)),0,VLOOKUP($A118+8860000,'Growth Data'!$A:$F,6,0)),0)","v":0},49,null,"NO",{"$f":"IF(ISERROR(VLOOKUP($A118+8860000,'Growth Data'!$A:$F,4,0)),\"NO\",VLOOKUP($A118+8860000,'Growth Data'!$A:$F,4,0))","v":"NO"},0,null,0,{"$f":"IF(BU118=\"YES\",IF(ISERROR(VLOOKUP($A118+8860000,'Growth Data'!$A:$Z,7,0)),0,VLOOKUP($A118+8860000,'Growth Data'!$A:$Z,7,0)),0)","v":0},0,null,"NO",{"$f":"IF(ISERROR(VLOOKUP($A118+8860000,'Growth Data'!$A:$F,5,0)),\"NO\",VLOOKUP($A118+8860000,'Growth Data'!$A:$F,5,0))","v":"NO"},0,null,0,{"$f":"IF(CC118=\"YES\",IF(ISERROR(VLOOKUP($A118+8860000,'Growth Data'!$A:$Z,8,0)),0,VLOOKUP($A118+8860000,'Growth Data'!$A:$Z,8,0)),0)","v":0},0,null,null,null,0]
[2569,"Briary Primary School",null,"Briary Primary School","Briary Primary School",0,null,1402234.16,1402234.1560184399,0,null,0,0,0,null,1402234.16,1402234.1560184399,0,null,9860.24,9860.2388736000012,0,null,null,null,0,null,0,0,0,null,21899.040000000001,null,21899,null,3810.1,null,3810,null,0,null,0,null,0,null,0,null,null,null,0,null,null,null,0,null,null,null,0,null,null,null,0,null,"NO",{"$f":"IF(ISERROR(VLOOKUP($A119+8860000,'Growth Data'!$A:$F,3,0)),\"NO\",VLOOKUP($A119+8860000,'Growth Data'!$A:$F,3,0))","v":"NO"},0,null,0,{"$f":"IF(BM119=\"YES\",IF(ISERROR(VLOOKUP($A119+8860000,'Growth Data'!$A:$F,6,0)),0,VLOOKUP($A119+8860000,'Growth Data'!$A:$F,6,0)),0)","v":0},0,null,"NO",{"$f":"IF(ISERROR(VLOOKUP($A119+8860000,'Growth Data'!$A:$F,4,0)),\"NO\",VLOOKUP($A119+8860000,'Growth Data'!$A:$F,4,0))","v":"NO"},0,null,0,{"$f":"IF(BU119=\"YES\",IF(ISERROR(VLOOKUP($A119+8860000,'Growth Data'!$A:$Z,7,0)),0,VLOOKUP($A119+8860000,'Growth Data'!$A:$Z,7,0)),0)","v":0},0,null,"NO",{"$f":"IF(ISERROR(VLOOKUP($A119+8860000,'Growth Data'!$A:$F,5,0)),\"NO\",VLOOKUP($A119+8860000,'Growth Data'!$A:$F,5,0))","v":"NO"},0,null,0,{"$f":"IF(CC119=\"YES\",IF(ISERROR(VLOOKUP($A119+8860000,'Growth Data'!$A:$Z,8,0)),0,VLOOKUP($A119+8860000,'Growth Data'!$A:$Z,8,0)),0)","v":0},0,null,null,null,0]
[2574,"Downs View Infant School",null,"Downs View Infant School","Downs View Infant School",0,null,982423.65,982423.64616967994,0,null,0,0,0,null,982423.65,982423.64616967994,0,null,6727.56,6727.5588147999997,0,null,null,null,0,null,0,0,0,null,76812.38,null,76812,null,0,null,0,null,0,null,0,null,0,null,0,null,null,null,0,null,null,null,0,null,null,null,0,null,null,null,0,null,"NO",{"$f":"IF(ISERROR(VLOOKUP($A120+8860000,'Growth Data'!$A:$F,3,0)),\"NO\",VLOOKUP($A120+8860000,'Growth Data'!$A:$F,3,0))","v":"NO"},0,null,0,{"$f":"IF(BM120=\"YES\",IF(ISERROR(VLOOKUP($A120+8860000,'Growth Data'!$A:$F,6,0)),0,VLOOKUP($A120+8860000,'Growth Data'!$A:$F,6,0)),0)","v":0},0,null,"NO",{"$f":"IF(ISERROR(VLOOKUP($A120+8860000,'Growth Data'!$A:$F,4,0)),\"NO\",VLOOKUP($A120+8860000,'Growth Data'!$A:$F,4,0))","v":"NO"},0,null,0,{"$f":"IF(BU120=\"YES\",IF(ISERROR(VLOOKUP($A120+8860000,'Growth Data'!$A:$Z,7,0)),0,VLOOKUP($A120+8860000,'Growth Data'!$A:$Z,7,0)),0)","v":0},0,null,"NO",{"$f":"IF(ISERROR(VLOOKUP($A120+8860000,'Growth Data'!$A:$F,5,0)),\"NO\",VLOOKUP($A120+8860000,'Growth Data'!$A:$F,5,0))","v":"NO"},0,null,0,{"$f":"IF(CC120=\"YES\",IF(ISERROR(VLOOKUP($A120+8860000,'Growth Data'!$A:$Z,8,0)),0,VLOOKUP($A120+8860000,'Growth Data'!$A:$Z,8,0)),0)","v":0},0,null,null,null,0]
[2578,"Kingswood Primary School",null,"Kingswood Primary School","Kingswood Primary School",0,null,478766.76,478766.76480031165,0,null,0,0,0,null,478766.76,478766.76480031165,0,null,3055.65,3055.6469426000003,0,null,null,null,0,null,0,0,0,null,70083.44,null,70083,null,0,null,0,null,0,null,0,null,0,null,0,null,null,null,0,null,null,null,0,null,null,null,0,null,null,null,0,null,"NO",{"$f":"IF(ISERROR(VLOOKUP($A121+8860000,'Growth Data'!$A:$F,3,0)),\"NO\",VLOOKUP($A121+8860000,'Growth Data'!$A:$F,3,0))","v":"NO"},0,null,0,{"$f":"IF(BM121=\"YES\",IF(ISERROR(VLOOKUP($A121+8860000,'Growth Data'!$A:$F,6,0)),0,VLOOKUP($A121+8860000,'Growth Data'!$A:$F,6,0)),0)","v":0},0,null,"NO",{"$f":"IF(ISERROR(VLOOKUP($A121+8860000,'Growth Data'!$A:$F,4,0)),\"NO\",VLOOKUP($A121+8860000,'Growth Data'!$A:$F,4,0))","v":"NO"},0,null,0,{"$f":"IF(BU121=\"YES\",IF(ISERROR(VLOOKUP($A121+8860000,'Growth Data'!$A:$Z,7,0)),0,VLOOKUP($A121+8860000,'Growth Data'!$A:$Z,7,0)),0)","v":0},0,null,"NO",{"$f":"IF(ISERROR(VLOOKUP($A121+8860000,'Growth Data'!$A:$F,5,0)),\"NO\",VLOOKUP($A121+8860000,'Growth Data'!$A:$F,5,0))","v":"NO"},0,null,0,{"$f":"IF(CC121=\"YES\",IF(ISERROR(VLOOKUP($A121+8860000,'Growth Data'!$A:$Z,8,0)),0,VLOOKUP($A121+8860000,'Growth Data'!$A:$Z,8,0)),0)","v":0},0,null,null,null,0]
[2586,"Senacre Wood Primary School",null,"Senacre Wood Primary School","Senacre Wood Primary School",0,null,839105.11,839105.11150569213,0,null,0,0,0,null,839105.11,839105.11150569213,0,null,5315.29,5315.2850177999999,0,null,null,null,0,null,0,0,0,null,72242.59,null,72243,null,0,null,0,null,0,null,0,null,0,null,0,null,null,null,0,null,null,null,0,null,null,null,0,null,null,null,0,null,"NO",{"$f":"IF(ISERROR(VLOOKUP($A122+8860000,'Growth Data'!$A:$F,3,0)),\"NO\",VLOOKUP($A122+8860000,'Growth Data'!$A:$F,3,0))","v":"NO"},0,null,0,{"$f":"IF(BM122=\"YES\",IF(ISERROR(VLOOKUP($A122+8860000,'Growth Data'!$A:$F,6,0)),0,VLOOKUP($A122+8860000,'Growth Data'!$A:$F,6,0)),0)","v":0},0,null,"NO",{"$f":"IF(ISERROR(VLOOKUP($A122+8860000,'Growth Data'!$A:$F,4,0)),\"NO\",VLOOKUP($A122+8860000,'Growth Data'!$A:$F,4,0))","v":"NO"},0,null,0,{"$f":"IF(BU122=\"YES\",IF(ISERROR(VLOOKUP($A122+8860000,'Growth Data'!$A:$Z,7,0)),0,VLOOKUP($A122+8860000,'Growth Data'!$A:$Z,7,0)),0)","v":0},0,null,"NO",{"$f":"IF(ISERROR(VLOOKUP($A122+8860000,'Growth Data'!$A:$F,5,0)),\"NO\",VLOOKUP($A122+8860000,'Growth Data'!$A:$F,5,0))","v":"NO"},0,null,0,{"$f":"IF(CC122=\"YES\",IF(ISERROR(VLOOKUP($A122+8860000,'Growth Data'!$A:$Z,8,0)),0,VLOOKUP($A122+8860000,'Growth Data'!$A:$Z,8,0)),0)","v":0},0,null,null,null,0]
[2603,"Bromstone Primary School, Broadstairs",null,"Bromstone Primary School, Broadstairs","Bromstone Primary School, Broadstairs",0,null,1836069.85,1836069.8468247659,0,null,0,0,0,null,1836069.85,1836069.8468247659,0,null,12633.43,12633.431056800002,0,null,null,null,0,null,0,0,0,null,44855.27,null,44855,null,1514.47,null,1514,null,0,null,0,null,0,null,0,null,null,null,0,null,null,null,0,null,null,null,0,null,null,null,0,null,"NO",{"$f":"IF(ISERROR(VLOOKUP($A123+8860000,'Growth Data'!$A:$F,3,0)),\"NO\",VLOOKUP($A123+8860000,'Growth Data'!$A:$F,3,0))","v":"NO"},0,null,0,{"$f":"IF(BM123=\"YES\",IF(ISERROR(VLOOKUP($A123+8860000,'Growth Data'!$A:$F,6,0)),0,VLOOKUP($A123+8860000,'Growth Data'!$A:$F,6,0)),0)","v":0},0,null,"NO",{"$f":"IF(ISERROR(VLOOKUP($A123+8860000,'Growth Data'!$A:$F,4,0)),\"NO\",VLOOKUP($A123+8860000,'Growth Data'!$A:$F,4,0))","v":"NO"},0,null,0,{"$f":"IF(BU123=\"YES\",IF(ISERROR(VLOOKUP($A123+8860000,'Growth Data'!$A:$Z,7,0)),0,VLOOKUP($A123+8860000,'Growth Data'!$A:$Z,7,0)),0)","v":0},0,null,"NO",{"$f":"IF(ISERROR(VLOOKUP($A123+8860000,'Growth Data'!$A:$F,5,0)),\"NO\",VLOOKUP($A123+8860000,'Growth Data'!$A:$F,5,0))","v":"NO"},0,null,0,{"$f":"IF(CC123=\"YES\",IF(ISERROR(VLOOKUP($A123+8860000,'Growth Data'!$A:$Z,8,0)),0,VLOOKUP($A123+8860000,'Growth Data'!$A:$Z,8,0)),0)","v":0},0,null,null,null,0]
[2607,"Parkside Community Primary School",null,"Parkside Community Primary School","Parkside Community Primary School",0,null,572902.23,572902.23350121966,0,null,42660.81,42660.807761153905,0,null,615563.04,615563.04126237356,0,null,2824.55,2824.5475939999992,0,null,null,null,0,null,4.9000000000000004,4.9000000000000004,0,null,138988.67000000001,null,138989,null,0,null,0,null,0,null,0,null,0,null,0,null,null,null,0,null,null,null,0,null,null,null,0,null,null,null,0,null,"NO",{"$f":"IF(ISERROR(VLOOKUP($A124+8860000,'Growth Data'!$A:$F,3,0)),\"NO\",VLOOKUP($A124+8860000,'Growth Data'!$A:$F,3,0))","v":"NO"},0,null,0,{"$f":"IF(BM124=\"YES\",IF(ISERROR(VLOOKUP($A124+8860000,'Growth Data'!$A:$F,6,0)),0,VLOOKUP($A124+8860000,'Growth Data'!$A:$F,6,0)),0)","v":0},0,null,"NO",{"$f":"IF(ISERROR(VLOOKUP($A124+8860000,'Growth Data'!$A:$F,4,0)),\"NO\",VLOOKUP($A124+8860000,'Growth Data'!$A:$F,4,0))","v":"NO"},0,null,0,{"$f":"IF(BU124=\"YES\",IF(ISERROR(VLOOKUP($A124+8860000,'Growth Data'!$A:$Z,7,0)),0,VLOOKUP($A124+8860000,'Growth Data'!$A:$Z,7,0)),0)","v":0},0,null,"NO",{"$f":"IF(ISERROR(VLOOKUP($A124+8860000,'Growth Data'!$A:$F,5,0)),\"NO\",VLOOKUP($A124+8860000,'Growth Data'!$A:$F,5,0))","v":"NO"},0,null,0,{"$f":"IF(CC124=\"YES\",IF(ISERROR(VLOOKUP($A124+8860000,'Growth Data'!$A:$Z,8,0)),0,VLOOKUP($A124+8860000,'Growth Data'!$A:$Z,8,0)),0)","v":0},0,null,null,null,0]
[2611,"St Stephen's Infant School",null,"St Stephen's Infant School","St Stephen's Infant School",0,null,1065694.8899999999,1065694.890298774,0,null,0,0,0,null,1065694.8899999999,1065694.890298774,0,null,6932.98,6932.980458,0,null,null,null,0,null,0,0,0,null,89259.27,null,89259,null,0,null,0,null,0,null,0,null,0,null,0,null,null,null,0,null,null,null,0,null,null,null,0,null,null,null,0,null,"NO",{"$f":"IF(ISERROR(VLOOKUP($A125+8860000,'Growth Data'!$A:$F,3,0)),\"NO\",VLOOKUP($A125+8860000,'Growth Data'!$A:$F,3,0))","v":"NO"},0,null,0,{"$f":"IF(BM125=\"YES\",IF(ISERROR(VLOOKUP($A125+8860000,'Growth Data'!$A:$F,6,0)),0,VLOOKUP($A125+8860000,'Growth Data'!$A:$F,6,0)),0)","v":0},0,null,"NO",{"$f":"IF(ISERROR(VLOOKUP($A125+8860000,'Growth Data'!$A:$F,4,0)),\"NO\",VLOOKUP($A125+8860000,'Growth Data'!$A:$F,4,0))","v":"NO"},0,null,0,{"$f":"IF(BU125=\"YES\",IF(ISERROR(VLOOKUP($A125+8860000,'Growth Data'!$A:$Z,7,0)),0,VLOOKUP($A125+8860000,'Growth Data'!$A:$Z,7,0)),0)","v":0},0,null,"NO",{"$f":"IF(ISERROR(VLOOKUP($A125+8860000,'Growth Data'!$A:$F,5,0)),\"NO\",VLOOKUP($A125+8860000,'Growth Data'!$A:$F,5,0))","v":"NO"},0,null,0,{"$f":"IF(CC125=\"YES\",IF(ISERROR(VLOOKUP($A125+8860000,'Growth Data'!$A:$Z,8,0)),0,VLOOKUP($A125+8860000,'Growth Data'!$A:$Z,8,0)),0)","v":0},0,null,null,null,0]
[2615,"High Firs Primary School",null,"High Firs Primary School","High Firs Primary School",0,null,820825.06,820825.06437850546,0,null,0,0,0,null,820825.06,820825.06437850546,0,null,5428.92,5428.9242708182401,0,null,null,null,0,null,0,0,0,null,22908.19,null,22908,null,3709.18,null,3709,null,0,null,0,null,0,null,0,null,null,null,0,null,null,null,0,null,null,null,0,null,null,null,0,null,"NO",{"$f":"IF(ISERROR(VLOOKUP($A126+8860000,'Growth Data'!$A:$F,3,0)),\"NO\",VLOOKUP($A126+8860000,'Growth Data'!$A:$F,3,0))","v":"NO"},0,null,0,{"$f":"IF(BM126=\"YES\",IF(ISERROR(VLOOKUP($A126+8860000,'Growth Data'!$A:$F,6,0)),0,VLOOKUP($A126+8860000,'Growth Data'!$A:$F,6,0)),0)","v":0},0,null,"NO",{"$f":"IF(ISERROR(VLOOKUP($A126+8860000,'Growth Data'!$A:$F,4,0)),\"NO\",VLOOKUP($A126+8860000,'Growth Data'!$A:$F,4,0))","v":"NO"},0,null,0,{"$f":"IF(BU126=\"YES\",IF(ISERROR(VLOOKUP($A126+8860000,'Growth Data'!$A:$Z,7,0)),0,VLOOKUP($A126+8860000,'Growth Data'!$A:$Z,7,0)),0)","v":0},0,null,"NO",{"$f":"IF(ISERROR(VLOOKUP($A126+8860000,'Growth Data'!$A:$F,5,0)),\"NO\",VLOOKUP($A126+8860000,'Growth Data'!$A:$F,5,0))","v":"NO"},0,null,0,{"$f":"IF(CC126=\"YES\",IF(ISERROR(VLOOKUP($A126+8860000,'Growth Data'!$A:$Z,8,0)),0,VLOOKUP($A126+8860000,'Growth Data'!$A:$Z,8,0)),0)","v":0},0,null,null,null,0]
[2626,"Sandwich Infant School",null,"Sandwich Infant School","Sandwich Infant School",0,null,574807.16,574807.16465321463,0,null,0,0,0,null,574807.16,574807.16465321463,0,null,3594.88,3594.8787560000001,0,null,null,null,0,null,0,0,0,null,108372.61,null,108373,null,0,null,0,null,0,null,0,null,0,null,0,null,null,null,0,null,null,null,0,null,null,null,0,null,null,null,0,null,"NO",{"$f":"IF(ISERROR(VLOOKUP($A127+8860000,'Growth Data'!$A:$F,3,0)),\"NO\",VLOOKUP($A127+8860000,'Growth Data'!$A:$F,3,0))","v":"NO"},0,null,0,{"$f":"IF(BM127=\"YES\",IF(ISERROR(VLOOKUP($A127+8860000,'Growth Data'!$A:$F,6,0)),0,VLOOKUP($A127+8860000,'Growth Data'!$A:$F,6,0)),0)","v":0},0,null,"NO",{"$f":"IF(ISERROR(VLOOKUP($A127+8860000,'Growth Data'!$A:$F,4,0)),\"NO\",VLOOKUP($A127+8860000,'Growth Data'!$A:$F,4,0))","v":"NO"},0,null,0,{"$f":"IF(BU127=\"YES\",IF(ISERROR(VLOOKUP($A127+8860000,'Growth Data'!$A:$Z,7,0)),0,VLOOKUP($A127+8860000,'Growth Data'!$A:$Z,7,0)),0)","v":0},0,null,"NO",{"$f":"IF(ISERROR(VLOOKUP($A127+8860000,'Growth Data'!$A:$F,5,0)),\"NO\",VLOOKUP($A127+8860000,'Growth Data'!$A:$F,5,0))","v":"NO"},0,null,0,{"$f":"IF(CC127=\"YES\",IF(ISERROR(VLOOKUP($A127+8860000,'Growth Data'!$A:$Z,8,0)),0,VLOOKUP($A127+8860000,'Growth Data'!$A:$Z,8,0)),0)","v":0},0,null,null,null,0]
[2627,"Sandwich Junior School",null,"Sandwich Junior School","Sandwich Junior School",0,null,837285.22,837285.22071902524,0,null,0,0,0,null,837285.22,837285.22071902524,0,null,5777.48,5777.4837149999994,0,null,null,null,0,null,0,0,0,null,250789.2,null,250789,null,0,null,0,null,0,null,0,null,0,null,0,null,null,null,0,null,null,null,0,null,null,null,0,null,null,null,0,null,"NO",{"$f":"IF(ISERROR(VLOOKUP($A128+8860000,'Growth Data'!$A:$F,3,0)),\"NO\",VLOOKUP($A128+8860000,'Growth Data'!$A:$F,3,0))","v":"NO"},0,null,0,{"$f":"IF(BM128=\"YES\",IF(ISERROR(VLOOKUP($A128+8860000,'Growth Data'!$A:$F,6,0)),0,VLOOKUP($A128+8860000,'Growth Data'!$A:$F,6,0)),0)","v":0},0,null,"NO",{"$f":"IF(ISERROR(VLOOKUP($A128+8860000,'Growth Data'!$A:$F,4,0)),\"NO\",VLOOKUP($A128+8860000,'Growth Data'!$A:$F,4,0))","v":"NO"},0,null,0,{"$f":"IF(BU128=\"YES\",IF(ISERROR(VLOOKUP($A128+8860000,'Growth Data'!$A:$Z,7,0)),0,VLOOKUP($A128+8860000,'Growth Data'!$A:$Z,7,0)),0)","v":0},0,null,"NO",{"$f":"IF(ISERROR(VLOOKUP($A128+8860000,'Growth Data'!$A:$F,5,0)),\"NO\",VLOOKUP($A128+8860000,'Growth Data'!$A:$F,5,0))","v":"NO"},0,null,0,{"$f":"IF(CC128=\"YES\",IF(ISERROR(VLOOKUP($A128+8860000,'Growth Data'!$A:$Z,8,0)),0,VLOOKUP($A128+8860000,'Growth Data'!$A:$Z,8,0)),0)","v":0},0,null,null,null,0]
[2629,"Holywell Primary School Upchurch",null,"Holywell Primary School Upchurch","Holywell Primary School Upchurch",0,null,736419.56,736419.55513364449,0,null,0,0,0,null,736419.56,736419.55513364449,0,null,5161.22,5161.2187854000003,0,null,null,null,0,null,0,0,0,null,96179.54,null,96180,null,0,null,0,null,0,null,0,null,0,null,0,null,null,null,0,null,null,null,0,null,null,null,0,null,null,null,0,null,"NO",{"$f":"IF(ISERROR(VLOOKUP($A129+8860000,'Growth Data'!$A:$F,3,0)),\"NO\",VLOOKUP($A129+8860000,'Growth Data'!$A:$F,3,0))","v":"NO"},0,null,0,{"$f":"IF(BM129=\"YES\",IF(ISERROR(VLOOKUP($A129+8860000,'Growth Data'!$A:$F,6,0)),0,VLOOKUP($A129+8860000,'Growth Data'!$A:$F,6,0)),0)","v":0},0,null,"NO",{"$f":"IF(ISERROR(VLOOKUP($A129+8860000,'Growth Data'!$A:$F,4,0)),\"NO\",VLOOKUP($A129+8860000,'Growth Data'!$A:$F,4,0))","v":"NO"},0,null,0,{"$f":"IF(BU129=\"YES\",IF(ISERROR(VLOOKUP($A129+8860000,'Growth Data'!$A:$Z,7,0)),0,VLOOKUP($A129+8860000,'Growth Data'!$A:$Z,7,0)),0)","v":0},0,null,"NO",{"$f":"IF(ISERROR(VLOOKUP($A129+8860000,'Growth Data'!$A:$F,5,0)),\"NO\",VLOOKUP($A129+8860000,'Growth Data'!$A:$F,5,0))","v":"NO"},0,null,0,{"$f":"IF(CC129=\"YES\",IF(ISERROR(VLOOKUP($A129+8860000,'Growth Data'!$A:$Z,8,0)),0,VLOOKUP($A129+8860000,'Growth Data'!$A:$Z,8,0)),0)","v":0},0,null,null,null,0]
[2632,"Sevenoaks Primary School",null,"Sevenoaks Primary School","Sevenoaks Primary School",0,null,2107150,2107150,0,null,0,0,0,null,2107150,2107150,0,null,15914.2,15914.199578182881,0,null,null,null,0,null,0,0,0,null,126283.68,null,126284,null,0,null,0,null,0,null,0,null,0,null,0,null,null,null,0,null,null,null,0,null,null,null,0,null,null,null,0,null,"NO",{"$f":"IF(ISERROR(VLOOKUP($A130+8860000,'Growth Data'!$A:$F,3,0)),\"NO\",VLOOKUP($A130+8860000,'Growth Data'!$A:$F,3,0))","v":"NO"},0,null,0,{"$f":"IF(BM130=\"YES\",IF(ISERROR(VLOOKUP($A130+8860000,'Growth Data'!$A:$F,6,0)),0,VLOOKUP($A130+8860000,'Growth Data'!$A:$F,6,0)),0)","v":0},0,null,"NO",{"$f":"IF(ISERROR(VLOOKUP($A130+8860000,'Growth Data'!$A:$F,4,0)),\"NO\",VLOOKUP($A130+8860000,'Growth Data'!$A:$F,4,0))","v":"NO"},0,null,0,{"$f":"IF(BU130=\"YES\",IF(ISERROR(VLOOKUP($A130+8860000,'Growth Data'!$A:$Z,7,0)),0,VLOOKUP($A130+8860000,'Growth Data'!$A:$Z,7,0)),0)","v":0},0,null,"NO",{"$f":"IF(ISERROR(VLOOKUP($A130+8860000,'Growth Data'!$A:$F,5,0)),\"NO\",VLOOKUP($A130+8860000,'Growth Data'!$A:$F,5,0))","v":"NO"},0,null,0,{"$f":"IF(CC130=\"YES\",IF(ISERROR(VLOOKUP($A130+8860000,'Growth Data'!$A:$Z,8,0)),0,VLOOKUP($A130+8860000,'Growth Data'!$A:$Z,8,0)),0)","v":0},0,null,null,null,0]
[2636,"Edenbridge Primary School",null,"Edenbridge Primary School","Edenbridge Primary School",{"$f":"IF(E131=D131,0,1)","v":0},null,1524891.25,1524891.2534374609,{"$f":"ROUND(H131-I131,0)","v":0},null,0,0,{"$f":"ROUND(L131-M131,0)","v":0},null,1524891.25,1524891.2534374609,{"$f":"ROUND(P131-Q131,0)","v":0},null,10591.72,10591.72480287088,{"$f":"ROUND(T131-U131,0)","v":0},null,null,null,{"$f":"ROUND(X131-Y131,0)","v":0},null,4.9000000000000004,4.9000000000000004,{"$f":"ROUND(AB131-AC131,0)","v":0},null,77024.14,null,{"$f":"ROUND(AF131-AG131,0)","v":77024},null,0,null,{"$f":"ROUND(AJ131-AK131,0)","v":0},null,0,null,{"$f":"ROUND(AN131-AO131,0)","v":0},null,0,null,{"$f":"ROUND(AR131-AS131,0)","v":0},null,null,null,{"$f":"ROUND(AV131-AW131,0)","v":0},null,null,null,{"$f":"ROUND(AZ131-BA131,0)","v":0},null,null,null,{"$f":"ROUND(BD131-BE131,0)","v":0},null,null,null,{"$f":"ROUND(BH131-BI131,0)","v":0},null,"NO",{"$f":"IF(ISERROR(VLOOKUP($A131+8860000,'Growth Data'!$A:$F,3,0)),\"NO\",VLOOKUP($A131+8860000,'Growth Data'!$A:$F,3,0))","v":"NO"},{"$f":"IF(BL131=BM131,0,1)","v":0},null,0,{"$f":"IF(BM131=\"YES\",IF(ISERROR(VLOOKUP($A131+8860000,'Growth Data'!$A:$F,6,0)),0,VLOOKUP($A131+8860000,'Growth Data'!$A:$F,6,0)),0)","v":0},{"$f":"ROUND(BP131-BQ131,0)","v":0},null,"NO",{"$f":"IF(ISERROR(VLOOKUP($A131+8860000,'Growth Data'!$A:$F,4,0)),\"NO\",VLOOKUP($A131+8860000,'Growth Data'!$A:$F,4,0))","v":"NO"},{"$f":"IF(BT131=BU131,0,1)","v":0},null,0,{"$f":"IF(BU131=\"YES\",IF(ISERROR(VLOOKUP($A131+8860000,'Growth Data'!$A:$Z,7,0)),0,VLOOKUP($A131+8860000,'Growth Data'!$A:$Z,7,0)),0)","v":0},{"$f":"ROUND(BX131-BY131,0)","v":0},null,"NO",{"$f":"IF(ISERROR(VLOOKUP($A131+8860000,'Growth Data'!$A:$F,5,0)),\"NO\",VLOOKUP($A131+8860000,'Growth Data'!$A:$F,5,0))","v":"NO"},{"$f":"IF(CB131=CC131,0,1)","v":0},null,0,{"$f":"IF(CC131=\"YES\",IF(ISERROR(VLOOKUP($A131+8860000,'Growth Data'!$A:$Z,8,0)),0,VLOOKUP($A131+8860000,'Growth Data'!$A:$Z,8,0)),0)","v":0},{"$f":"ROUND(CF131-CG131,0)","v":0},null,null,null,{"$f":"ROUND(CJ131-CK131,0)","v":0}]
[2643,"Swalecliffe Community Primary School",null,"Swalecliffe Community Primary School","Swalecliffe Community Primary School",0,null,2213281,2213281,0,null,0,0,0,null,2213281,2213281,0,null,16279.67,16279.665223599999,0,null,null,null,0,null,0,0,0,null,49098.48,null,49098,null,1090.1500000000001,null,1090,null,0,null,0,null,0,null,0,null,null,null,0,null,null,null,0,null,null,null,0,null,null,null,0,null,"NO",{"$f":"IF(ISERROR(VLOOKUP($A132+8860000,'Growth Data'!$A:$F,3,0)),\"NO\",VLOOKUP($A132+8860000,'Growth Data'!$A:$F,3,0))","v":"NO"},0,null,0,{"$f":"IF(BM132=\"YES\",IF(ISERROR(VLOOKUP($A132+8860000,'Growth Data'!$A:$F,6,0)),0,VLOOKUP($A132+8860000,'Growth Data'!$A:$F,6,0)),0)","v":0},0,null,"NO",{"$f":"IF(ISERROR(VLOOKUP($A132+8860000,'Growth Data'!$A:$F,4,0)),\"NO\",VLOOKUP($A132+8860000,'Growth Data'!$A:$F,4,0))","v":"NO"},0,null,0,{"$f":"IF(BU132=\"YES\",IF(ISERROR(VLOOKUP($A132+8860000,'Growth Data'!$A:$Z,7,0)),0,VLOOKUP($A132+8860000,'Growth Data'!$A:$Z,7,0)),0)","v":0},0,null,"NO",{"$f":"IF(ISERROR(VLOOKUP($A132+8860000,'Growth Data'!$A:$F,5,0)),\"NO\",VLOOKUP($A132+8860000,'Growth Data'!$A:$F,5,0))","v":"NO"},0,null,0,{"$f":"IF(CC132=\"YES\",IF(ISERROR(VLOOKUP($A132+8860000,'Growth Data'!$A:$Z,8,0)),0,VLOOKUP($A132+8860000,'Growth Data'!$A:$Z,8,0)),0)","v":0},0,null,null,null,0]
[2648,"Aylesham Primary School",null,"Aylesham Primary School","Aylesham Primary School",0,null,930979.26,930979.26401220495,0,null,0,0,0,null,930979.26,930979.26401220495,0,null,5905.87,5905.8722420000013,0,null,null,null,0,null,0,0,0,null,66167.5,null,66168,null,0,null,0,null,0,null,0,null,0,null,0,null,null,null,0,null,null,null,0,null,null,null,0,null,null,null,0,null,"NO",{"$f":"IF(ISERROR(VLOOKUP($A133+8860000,'Growth Data'!$A:$F,3,0)),\"NO\",VLOOKUP($A133+8860000,'Growth Data'!$A:$F,3,0))","v":"YES"},1,null,0,{"$f":"IF(BM133=\"YES\",IF(ISERROR(VLOOKUP($A133+8860000,'Growth Data'!$A:$F,6,0)),0,VLOOKUP($A133+8860000,'Growth Data'!$A:$F,6,0)),0)","v":47},-47,null,"NO",{"$f":"IF(ISERROR(VLOOKUP($A133+8860000,'Growth Data'!$A:$F,4,0)),\"NO\",VLOOKUP($A133+8860000,'Growth Data'!$A:$F,4,0))","v":"YES"},1,null,0,{"$f":"IF(BU133=\"YES\",IF(ISERROR(VLOOKUP($A133+8860000,'Growth Data'!$A:$Z,7,0)),0,VLOOKUP($A133+8860000,'Growth Data'!$A:$Z,7,0)),0)","v":60},-60,null,"NO",{"$f":"IF(ISERROR(VLOOKUP($A133+8860000,'Growth Data'!$A:$F,5,0)),\"NO\",VLOOKUP($A133+8860000,'Growth Data'!$A:$F,5,0))","v":"NO"},0,null,0,{"$f":"IF(CC133=\"YES\",IF(ISERROR(VLOOKUP($A133+8860000,'Growth Data'!$A:$Z,8,0)),0,VLOOKUP($A133+8860000,'Growth Data'!$A:$Z,8,0)),0)","v":0},0,null,null,null,0]
[2651,"Broadwater Primary School",null,"Broadwater Primary School","Broadwater Primary School",0,null,773541.51,773541.50737390586,0,null,0,0,0,null,773541.51,773541.50737390586,0,null,4827.41,4827.4086152,0,null,null,null,0,null,0,0,0,null,35678.199999999997,null,35678,null,2432.1799999999998,null,2432,null,75000,null,75000,null,112500,null,112500,null,null,null,0,null,null,null,0,null,null,null,0,null,null,null,0,null,"NO",{"$f":"IF(ISERROR(VLOOKUP($A134+8860000,'Growth Data'!$A:$F,3,0)),\"NO\",VLOOKUP($A134+8860000,'Growth Data'!$A:$F,3,0))","v":"NO"},0,null,0,{"$f":"IF(BM134=\"YES\",IF(ISERROR(VLOOKUP($A134+8860000,'Growth Data'!$A:$F,6,0)),0,VLOOKUP($A134+8860000,'Growth Data'!$A:$F,6,0)),0)","v":0},0,null,"NO",{"$f":"IF(ISERROR(VLOOKUP($A134+8860000,'Growth Data'!$A:$F,4,0)),\"NO\",VLOOKUP($A134+8860000,'Growth Data'!$A:$F,4,0))","v":"NO"},0,null,0,{"$f":"IF(BU134=\"YES\",IF(ISERROR(VLOOKUP($A134+8860000,'Growth Data'!$A:$Z,7,0)),0,VLOOKUP($A134+8860000,'Growth Data'!$A:$Z,7,0)),0)","v":0},0,null,"NO",{"$f":"IF(ISERROR(VLOOKUP($A134+8860000,'Growth Data'!$A:$F,5,0)),\"NO\",VLOOKUP($A134+8860000,'Growth Data'!$A:$F,5,0))","v":"NO"},0,null,0,{"$f":"IF(CC134=\"YES\",IF(ISERROR(VLOOKUP($A134+8860000,'Growth Data'!$A:$Z,8,0)),0,VLOOKUP($A134+8860000,'Growth Data'!$A:$Z,8,0)),0)","v":0},0,null,null,null,0]
[2653,"West Borough Primary School",null,"West Borough Primary School","West Borough Primary School",0,null,1620069.04,1620069.0362003618,0,null,0,0,0,null,1620069.04,1620069.0362003618,0,null,11503.61,11503.612019199998,0,null,null,null,0,null,4.9000000000000004,4.9000000000000004,0,null,80569.06,null,80569,null,0,null,0,null,0,null,0,null,0,null,0,null,null,null,0,null,null,null,0,null,null,null,0,null,null,null,0,null,"YES",{"$f":"IF(ISERROR(VLOOKUP($A135+8860000,'Growth Data'!$A:$F,3,0)),\"NO\",VLOOKUP($A135+8860000,'Growth Data'!$A:$F,3,0))","v":"NO"},1,null,60,{"$f":"IF(BM135=\"YES\",IF(ISERROR(VLOOKUP($A135+8860000,'Growth Data'!$A:$F,6,0)),0,VLOOKUP($A135+8860000,'Growth Data'!$A:$F,6,0)),0)","v":0},60,null,"NO",{"$f":"IF(ISERROR(VLOOKUP($A135+8860000,'Growth Data'!$A:$F,4,0)),\"NO\",VLOOKUP($A135+8860000,'Growth Data'!$A:$F,4,0))","v":"NO"},0,null,0,{"$f":"IF(BU135=\"YES\",IF(ISERROR(VLOOKUP($A135+8860000,'Growth Data'!$A:$Z,7,0)),0,VLOOKUP($A135+8860000,'Growth Data'!$A:$Z,7,0)),0)","v":0},0,null,"YES",{"$f":"IF(ISERROR(VLOOKUP($A135+8860000,'Growth Data'!$A:$F,5,0)),\"NO\",VLOOKUP($A135+8860000,'Growth Data'!$A:$F,5,0))","v":"NO"},1,null,60,{"$f":"IF(CC135=\"YES\",IF(ISERROR(VLOOKUP($A135+8860000,'Growth Data'!$A:$Z,8,0)),0,VLOOKUP($A135+8860000,'Growth Data'!$A:$Z,8,0)),0)","v":0},60,null,null,null,0]
[2659,"Sandown School",null,"Sandown School","Sandown School",0,null,1371153.59,1371153.5871800603,0,null,0,0,0,null,1371153.59,1371153.5871800603,0,null,9731.85,9731.8503466000002,0,null,null,null,0,null,0,0,0,null,167719,null,167719,null,0,null,0,null,0,null,0,null,0,null,0,null,null,null,0,null,null,null,0,null,null,null,0,null,null,null,0,null,"NO",{"$f":"IF(ISERROR(VLOOKUP($A136+8860000,'Growth Data'!$A:$F,3,0)),\"NO\",VLOOKUP($A136+8860000,'Growth Data'!$A:$F,3,0))","v":"NO"},0,null,0,{"$f":"IF(BM136=\"YES\",IF(ISERROR(VLOOKUP($A136+8860000,'Growth Data'!$A:$F,6,0)),0,VLOOKUP($A136+8860000,'Growth Data'!$A:$F,6,0)),0)","v":0},0,null,"YES",{"$f":"IF(ISERROR(VLOOKUP($A136+8860000,'Growth Data'!$A:$F,4,0)),\"NO\",VLOOKUP($A136+8860000,'Growth Data'!$A:$F,4,0))","v":"NO"},1,null,60,{"$f":"IF(BU136=\"YES\",IF(ISERROR(VLOOKUP($A136+8860000,'Growth Data'!$A:$Z,7,0)),0,VLOOKUP($A136+8860000,'Growth Data'!$A:$Z,7,0)),0)","v":0},60,null,"YES",{"$f":"IF(ISERROR(VLOOKUP($A136+8860000,'Growth Data'!$A:$F,5,0)),\"NO\",VLOOKUP($A136+8860000,'Growth Data'!$A:$F,5,0))","v":"NO"},1,null,60,{"$f":"IF(CC136=\"YES\",IF(ISERROR(VLOOKUP($A136+8860000,'Growth Data'!$A:$Z,8,0)),0,VLOOKUP($A136+8860000,'Growth Data'!$A:$Z,8,0)),0)","v":0},60,null,null,null,0]
[2661,"Cage Green Primary School",null,"Cage Green Primary School","Cage Green Primary School",0,null,1514146,1514146.0014892553,0,null,0,0,0,null,1514146,1514146.0014892553,0,null,10656.25,10656.247741000003,0,null,null,null,0,null,0,0,0,null,144405.29999999999,null,144405,null,0,null,0,null,0,null,0,null,0,null,0,null,null,null,0,null,null,null,0,null,null,null,0,null,null,null,0,null,"NO",{"$f":"IF(ISERROR(VLOOKUP($A137+8860000,'Growth Data'!$A:$F,3,0)),\"NO\",VLOOKUP($A137+8860000,'Growth Data'!$A:$F,3,0))","v":"NO"},0,null,0,{"$f":"IF(BM137=\"YES\",IF(ISERROR(VLOOKUP($A137+8860000,'Growth Data'!$A:$F,6,0)),0,VLOOKUP($A137+8860000,'Growth Data'!$A:$F,6,0)),0)","v":0},0,null,"NO",{"$f":"IF(ISERROR(VLOOKUP($A137+8860000,'Growth Data'!$A:$F,4,0)),\"NO\",VLOOKUP($A137+8860000,'Growth Data'!$A:$F,4,0))","v":"NO"},0,null,0,{"$f":"IF(BU137=\"YES\",IF(ISERROR(VLOOKUP($A137+8860000,'Growth Data'!$A:$Z,7,0)),0,VLOOKUP($A137+8860000,'Growth Data'!$A:$Z,7,0)),0)","v":0},0,null,"NO",{"$f":"IF(ISERROR(VLOOKUP($A137+8860000,'Growth Data'!$A:$F,5,0)),\"NO\",VLOOKUP($A137+8860000,'Growth Data'!$A:$F,5,0))","v":"NO"},0,null,0,{"$f":"IF(CC137=\"YES\",IF(ISERROR(VLOOKUP($A137+8860000,'Growth Data'!$A:$Z,8,0)),0,VLOOKUP($A137+8860000,'Growth Data'!$A:$Z,8,0)),0)","v":0},0,null,null,null,0]
[2662,"Long Mead Community Primary School",null,"Long Mead Community Primary School","Long Mead Community Primary School",0,null,643136.23,643136.23185896524,0,null,0,0,0,null,643136.23,643136.23185896524,0,null,3800.3,3800.3003991999994,0,null,null,null,0,null,5.04,5.04,0,null,129233.12,null,129233,null,0,null,0,null,0,null,0,null,0,null,0,null,null,null,0,null,null,null,0,null,null,null,0,null,null,null,0,null,"NO",{"$f":"IF(ISERROR(VLOOKUP($A138+8860000,'Growth Data'!$A:$F,3,0)),\"NO\",VLOOKUP($A138+8860000,'Growth Data'!$A:$F,3,0))","v":"NO"},0,null,0,{"$f":"IF(BM138=\"YES\",IF(ISERROR(VLOOKUP($A138+8860000,'Growth Data'!$A:$F,6,0)),0,VLOOKUP($A138+8860000,'Growth Data'!$A:$F,6,0)),0)","v":0},0,null,"NO",{"$f":"IF(ISERROR(VLOOKUP($A138+8860000,'Growth Data'!$A:$F,4,0)),\"NO\",VLOOKUP($A138+8860000,'Growth Data'!$A:$F,4,0))","v":"NO"},0,null,0,{"$f":"IF(BU138=\"YES\",IF(ISERROR(VLOOKUP($A138+8860000,'Growth Data'!$A:$Z,7,0)),0,VLOOKUP($A138+8860000,'Growth Data'!$A:$Z,7,0)),0)","v":0},0,null,"NO",{"$f":"IF(ISERROR(VLOOKUP($A138+8860000,'Growth Data'!$A:$F,5,0)),\"NO\",VLOOKUP($A138+8860000,'Growth Data'!$A:$F,5,0))","v":"NO"},0,null,0,{"$f":"IF(CC138=\"YES\",IF(ISERROR(VLOOKUP($A138+8860000,'Growth Data'!$A:$Z,8,0)),0,VLOOKUP($A138+8860000,'Growth Data'!$A:$Z,8,0)),0)","v":0},0,null,null,null,0]
[2666,"Wrotham Road Primary School",null,"Wrotham Road Primary School","Wrotham Road Primary School",0,null,1559503.86,1559503.8556324823,0,null,0,0,0,null,1559503.86,1559503.8556324823,0,null,10553.54,10553.536919400001,0,null,null,null,0,null,5.12,5.12,0,null,91122.91,null,91123,null,0,null,0,null,0,null,0,null,0,null,0,null,null,null,0,null,null,null,0,null,null,null,0,null,null,null,0,null,"NO",{"$f":"IF(ISERROR(VLOOKUP($A139+8860000,'Growth Data'!$A:$F,3,0)),\"NO\",VLOOKUP($A139+8860000,'Growth Data'!$A:$F,3,0))","v":"NO"},0,null,0,{"$f":"IF(BM139=\"YES\",IF(ISERROR(VLOOKUP($A139+8860000,'Growth Data'!$A:$F,6,0)),0,VLOOKUP($A139+8860000,'Growth Data'!$A:$F,6,0)),0)","v":0},0,null,"NO",{"$f":"IF(ISERROR(VLOOKUP($A139+8860000,'Growth Data'!$A:$F,4,0)),\"NO\",VLOOKUP($A139+8860000,'Growth Data'!$A:$F,4,0))","v":"NO"},0,null,0,{"$f":"IF(BU139=\"YES\",IF(ISERROR(VLOOKUP($A139+8860000,'Growth Data'!$A:$Z,7,0)),0,VLOOKUP($A139+8860000,'Growth Data'!$A:$Z,7,0)),0)","v":0},0,null,"NO",{"$f":"IF(ISERROR(VLOOKUP($A139+8860000,'Growth Data'!$A:$F,5,0)),\"NO\",VLOOKUP($A139+8860000,'Growth Data'!$A:$F,5,0))","v":"NO"},0,null,0,{"$f":"IF(CC139=\"YES\",IF(ISERROR(VLOOKUP($A139+8860000,'Growth Data'!$A:$Z,8,0)),0,VLOOKUP($A139+8860000,'Growth Data'!$A:$Z,8,0)),0)","v":0},0,null,null,null,0]
[2672,"Palm Bay Primary School",null,"Palm Bay Primary School","Palm Bay Primary School",0,null,1501855.79,1501855.7945308334,0,null,0,0,0,null,1501855.79,1501855.7945308334,0,null,10835.99,10835.991678799999,0,null,null,null,0,null,0,0,0,null,129857.22,null,129857,null,0,null,0,null,0,null,0,null,0,null,0,null,null,null,0,null,null,null,0,null,null,null,0,null,null,null,0,null,"NO",{"$f":"IF(ISERROR(VLOOKUP($A140+8860000,'Growth Data'!$A:$F,3,0)),\"NO\",VLOOKUP($A140+8860000,'Growth Data'!$A:$F,3,0))","v":"NO"},0,null,0,{"$f":"IF(BM140=\"YES\",IF(ISERROR(VLOOKUP($A140+8860000,'Growth Data'!$A:$F,6,0)),0,VLOOKUP($A140+8860000,'Growth Data'!$A:$F,6,0)),0)","v":0},0,null,"NO",{"$f":"IF(ISERROR(VLOOKUP($A140+8860000,'Growth Data'!$A:$F,4,0)),\"NO\",VLOOKUP($A140+8860000,'Growth Data'!$A:$F,4,0))","v":"NO"},0,null,0,{"$f":"IF(BU140=\"YES\",IF(ISERROR(VLOOKUP($A140+8860000,'Growth Data'!$A:$Z,7,0)),0,VLOOKUP($A140+8860000,'Growth Data'!$A:$Z,7,0)),0)","v":0},0,null,"NO",{"$f":"IF(ISERROR(VLOOKUP($A140+8860000,'Growth Data'!$A:$F,5,0)),\"NO\",VLOOKUP($A140+8860000,'Growth Data'!$A:$F,5,0))","v":"NO"},0,null,0,{"$f":"IF(CC140=\"YES\",IF(ISERROR(VLOOKUP($A140+8860000,'Growth Data'!$A:$Z,8,0)),0,VLOOKUP($A140+8860000,'Growth Data'!$A:$Z,8,0)),0)","v":0},0,null,null,null,0]
[2674,"King's Farm Primary School",null,"King's Farm Primary School","King's Farm Primary School",0,null,1424072.34,1424072.3376881867,0,null,299991.69,299991.68948705238,0,null,1724064.03,1724064.0271752391,0,null,8833.1299999999992,8833.1306575999988,0,null,null,null,0,null,5.17,5.17,0,null,133033.44,null,133033,null,0,null,0,null,0,null,0,null,0,null,0,null,null,null,0,null,null,null,0,null,null,null,0,null,null,null,0,null,"NO",{"$f":"IF(ISERROR(VLOOKUP($A141+8860000,'Growth Data'!$A:$F,3,0)),\"NO\",VLOOKUP($A141+8860000,'Growth Data'!$A:$F,3,0))","v":"NO"},0,null,0,{"$f":"IF(BM141=\"YES\",IF(ISERROR(VLOOKUP($A141+8860000,'Growth Data'!$A:$F,6,0)),0,VLOOKUP($A141+8860000,'Growth Data'!$A:$F,6,0)),0)","v":0},0,null,"NO",{"$f":"IF(ISERROR(VLOOKUP($A141+8860000,'Growth Data'!$A:$F,4,0)),\"NO\",VLOOKUP($A141+8860000,'Growth Data'!$A:$F,4,0))","v":"NO"},0,null,0,{"$f":"IF(BU141=\"YES\",IF(ISERROR(VLOOKUP($A141+8860000,'Growth Data'!$A:$Z,7,0)),0,VLOOKUP($A141+8860000,'Growth Data'!$A:$Z,7,0)),0)","v":0},0,null,"NO",{"$f":"IF(ISERROR(VLOOKUP($A141+8860000,'Growth Data'!$A:$F,5,0)),\"NO\",VLOOKUP($A141+8860000,'Growth Data'!$A:$F,5,0))","v":"NO"},0,null,0,{"$f":"IF(CC141=\"YES\",IF(ISERROR(VLOOKUP($A141+8860000,'Growth Data'!$A:$Z,8,0)),0,VLOOKUP($A141+8860000,'Growth Data'!$A:$Z,8,0)),0)","v":0},0,null,null,null,0]
[2677,"Coxheath Primary School",null,"Coxheath Primary School","Coxheath Primary School",0,null,1273741.29,1273741.2877359982,0,null,0,0,0,null,1273741.29,1273741.2877359982,0,null,9089.91,9089.9077116000008,0,null,null,null,0,null,0,0,0,null,159695.35,null,159695,null,0,null,0,null,0,null,0,null,0,null,0,null,null,null,0,null,null,null,0,null,null,null,0,null,null,null,0,null,"NO",{"$f":"IF(ISERROR(VLOOKUP($A142+8860000,'Growth Data'!$A:$F,3,0)),\"NO\",VLOOKUP($A142+8860000,'Growth Data'!$A:$F,3,0))","v":"NO"},0,null,0,{"$f":"IF(BM142=\"YES\",IF(ISERROR(VLOOKUP($A142+8860000,'Growth Data'!$A:$F,6,0)),0,VLOOKUP($A142+8860000,'Growth Data'!$A:$F,6,0)),0)","v":0},0,null,"NO",{"$f":"IF(ISERROR(VLOOKUP($A142+8860000,'Growth Data'!$A:$F,4,0)),\"NO\",VLOOKUP($A142+8860000,'Growth Data'!$A:$F,4,0))","v":"NO"},0,null,0,{"$f":"IF(BU142=\"YES\",IF(ISERROR(VLOOKUP($A142+8860000,'Growth Data'!$A:$Z,7,0)),0,VLOOKUP($A142+8860000,'Growth Data'!$A:$Z,7,0)),0)","v":0},0,null,"NO",{"$f":"IF(ISERROR(VLOOKUP($A142+8860000,'Growth Data'!$A:$F,5,0)),\"NO\",VLOOKUP($A142+8860000,'Growth Data'!$A:$F,5,0))","v":"NO"},0,null,0,{"$f":"IF(CC142=\"YES\",IF(ISERROR(VLOOKUP($A142+8860000,'Growth Data'!$A:$Z,8,0)),0,VLOOKUP($A142+8860000,'Growth Data'!$A:$Z,8,0)),0)","v":0},0,null,null,null,0]
[2680,"Kings Hill School",null,"Kings Hill School","Kings Hill School",0,null,1665286,1665286,0,null,0,0,0,null,1665286,1665286,0,null,12196.91,12196.910064999996,0,null,null,null,0,null,0,0,0,null,74048.11,null,74048,null,0,null,0,null,0,null,0,null,0,null,0,null,null,null,0,null,null,null,0,null,null,null,0,null,null,null,0,null,"NO",{"$f":"IF(ISERROR(VLOOKUP($A143+8860000,'Growth Data'!$A:$F,3,0)),\"NO\",VLOOKUP($A143+8860000,'Growth Data'!$A:$F,3,0))","v":"NO"},0,null,0,{"$f":"IF(BM143=\"YES\",IF(ISERROR(VLOOKUP($A143+8860000,'Growth Data'!$A:$F,6,0)),0,VLOOKUP($A143+8860000,'Growth Data'!$A:$F,6,0)),0)","v":0},0,null,"NO",{"$f":"IF(ISERROR(VLOOKUP($A143+8860000,'Growth Data'!$A:$F,4,0)),\"NO\",VLOOKUP($A143+8860000,'Growth Data'!$A:$F,4,0))","v":"NO"},0,null,0,{"$f":"IF(BU143=\"YES\",IF(ISERROR(VLOOKUP($A143+8860000,'Growth Data'!$A:$Z,7,0)),0,VLOOKUP($A143+8860000,'Growth Data'!$A:$Z,7,0)),0)","v":0},0,null,"NO",{"$f":"IF(ISERROR(VLOOKUP($A143+8860000,'Growth Data'!$A:$F,5,0)),\"NO\",VLOOKUP($A143+8860000,'Growth Data'!$A:$F,5,0))","v":"NO"},0,null,0,{"$f":"IF(CC143=\"YES\",IF(ISERROR(VLOOKUP($A143+8860000,'Growth Data'!$A:$Z,8,0)),0,VLOOKUP($A143+8860000,'Growth Data'!$A:$Z,8,0)),0)","v":0},0,null,null,null,0]
[2682,"New Ash Green Primary School",null,"New Ash Green Primary School","New Ash Green Primary School",0,null,1350150.23,1350150.2300240088,0,null,0,0,0,null,1350150.23,1350150.2300240088,0,null,10032.870000000001,10032.86495146312,0,null,null,null,0,null,0,0,0,null,183049.93,null,183050,null,0,null,0,null,0,null,0,null,0,null,0,null,null,null,0,null,null,null,0,null,null,null,0,null,null,null,0,null,"NO",{"$f":"IF(ISERROR(VLOOKUP($A144+8860000,'Growth Data'!$A:$F,3,0)),\"NO\",VLOOKUP($A144+8860000,'Growth Data'!$A:$F,3,0))","v":"NO"},0,null,0,{"$f":"IF(BM144=\"YES\",IF(ISERROR(VLOOKUP($A144+8860000,'Growth Data'!$A:$F,6,0)),0,VLOOKUP($A144+8860000,'Growth Data'!$A:$F,6,0)),0)","v":0},0,null,"NO",{"$f":"IF(ISERROR(VLOOKUP($A144+8860000,'Growth Data'!$A:$F,4,0)),\"NO\",VLOOKUP($A144+8860000,'Growth Data'!$A:$F,4,0))","v":"NO"},0,null,0,{"$f":"IF(BU144=\"YES\",IF(ISERROR(VLOOKUP($A144+8860000,'Growth Data'!$A:$Z,7,0)),0,VLOOKUP($A144+8860000,'Growth Data'!$A:$Z,7,0)),0)","v":0},0,null,"NO",{"$f":"IF(ISERROR(VLOOKUP($A144+8860000,'Growth Data'!$A:$F,5,0)),\"NO\",VLOOKUP($A144+8860000,'Growth Data'!$A:$F,5,0))","v":"NO"},0,null,0,{"$f":"IF(CC144=\"YES\",IF(ISERROR(VLOOKUP($A144+8860000,'Growth Data'!$A:$Z,8,0)),0,VLOOKUP($A144+8860000,'Growth Data'!$A:$Z,8,0)),0)","v":0},0,null,null,null,0]
[2689,"Craylands School, The",null,"Craylands School, The","Craylands School, The",0,null,1147388.56,1147388.5579946938,0,null,0,0,0,null,1147388.56,1147388.5579946938,0,null,7078.89,7078.89145116496,0,null,null,null,0,null,0,0,0,null,5580,null,5580,null,5442,null,5442,null,0,null,0,null,0,null,0,null,null,null,0,null,null,null,0,null,null,null,0,null,null,null,0,null,"NO",{"$f":"IF(ISERROR(VLOOKUP($A145+8860000,'Growth Data'!$A:$F,3,0)),\"NO\",VLOOKUP($A145+8860000,'Growth Data'!$A:$F,3,0))","v":"YES"},1,null,0,{"$f":"IF(BM145=\"YES\",IF(ISERROR(VLOOKUP($A145+8860000,'Growth Data'!$A:$F,6,0)),0,VLOOKUP($A145+8860000,'Growth Data'!$A:$F,6,0)),0)","v":30},-30,null,"NO",{"$f":"IF(ISERROR(VLOOKUP($A145+8860000,'Growth Data'!$A:$F,4,0)),\"NO\",VLOOKUP($A145+8860000,'Growth Data'!$A:$F,4,0))","v":"YES"},1,null,0,{"$f":"IF(BU145=\"YES\",IF(ISERROR(VLOOKUP($A145+8860000,'Growth Data'!$A:$Z,7,0)),0,VLOOKUP($A145+8860000,'Growth Data'!$A:$Z,7,0)),0)","v":60},-60,null,"NO",{"$f":"IF(ISERROR(VLOOKUP($A145+8860000,'Growth Data'!$A:$F,5,0)),\"NO\",VLOOKUP($A145+8860000,'Growth Data'!$A:$F,5,0))","v":"NO"},0,null,0,{"$f":"IF(CC145=\"YES\",IF(ISERROR(VLOOKUP($A145+8860000,'Growth Data'!$A:$Z,8,0)),0,VLOOKUP($A145+8860000,'Growth Data'!$A:$Z,8,0)),0)","v":0},0,null,null,null,0]
[2692,"Churchill School, The",null,"Churchill School, The","Churchill School, The",0,null,1426528,1426528,0,null,0,0,0,null,1426528,1426528,0,null,10681.93,10681.925446399999,0,null,null,null,0,null,0,0,0,null,137248.78,null,137249,null,0,null,0,null,0,null,0,null,0,null,0,null,null,null,0,null,null,null,0,null,null,null,0,null,null,null,0,null,"NO",{"$f":"IF(ISERROR(VLOOKUP($A146+8860000,'Growth Data'!$A:$F,3,0)),\"NO\",VLOOKUP($A146+8860000,'Growth Data'!$A:$F,3,0))","v":"NO"},0,null,0,{"$f":"IF(BM146=\"YES\",IF(ISERROR(VLOOKUP($A146+8860000,'Growth Data'!$A:$F,6,0)),0,VLOOKUP($A146+8860000,'Growth Data'!$A:$F,6,0)),0)","v":0},0,null,"NO",{"$f":"IF(ISERROR(VLOOKUP($A146+8860000,'Growth Data'!$A:$F,4,0)),\"NO\",VLOOKUP($A146+8860000,'Growth Data'!$A:$F,4,0))","v":"NO"},0,null,0,{"$f":"IF(BU146=\"YES\",IF(ISERROR(VLOOKUP($A146+8860000,'Growth Data'!$A:$Z,7,0)),0,VLOOKUP($A146+8860000,'Growth Data'!$A:$Z,7,0)),0)","v":0},0,null,"NO",{"$f":"IF(ISERROR(VLOOKUP($A146+8860000,'Growth Data'!$A:$F,5,0)),\"NO\",VLOOKUP($A146+8860000,'Growth Data'!$A:$F,5,0))","v":"NO"},0,null,0,{"$f":"IF(CC146=\"YES\",IF(ISERROR(VLOOKUP($A146+8860000,'Growth Data'!$A:$Z,8,0)),0,VLOOKUP($A146+8860000,'Growth Data'!$A:$Z,8,0)),0)","v":0},0,null,null,null,0]
[3010,"St Paul's CEP School",null,"St Paul's CEP School","St Paul's CEP School",0,null,475348.2,475348.19927142555,0,null,0,0,0,null,475348.2,475348.19927142555,0,null,2874.14,2874.1363786684797,0,null,null,null,0,null,0,0,0,null,226854.47,null,226854,null,0,null,0,null,0,null,0,null,0,null,0,null,null,null,0,null,null,null,0,null,null,null,0,null,null,null,0,null,"NO",{"$f":"IF(ISERROR(VLOOKUP($A147+8860000,'Growth Data'!$A:$F,3,0)),\"NO\",VLOOKUP($A147+8860000,'Growth Data'!$A:$F,3,0))","v":"NO"},0,null,0,{"$f":"IF(BM147=\"YES\",IF(ISERROR(VLOOKUP($A147+8860000,'Growth Data'!$A:$F,6,0)),0,VLOOKUP($A147+8860000,'Growth Data'!$A:$F,6,0)),0)","v":0},0,null,"NO",{"$f":"IF(ISERROR(VLOOKUP($A147+8860000,'Growth Data'!$A:$F,4,0)),\"NO\",VLOOKUP($A147+8860000,'Growth Data'!$A:$F,4,0))","v":"NO"},0,null,0,{"$f":"IF(BU147=\"YES\",IF(ISERROR(VLOOKUP($A147+8860000,'Growth Data'!$A:$Z,7,0)),0,VLOOKUP($A147+8860000,'Growth Data'!$A:$Z,7,0)),0)","v":0},0,null,"NO",{"$f":"IF(ISERROR(VLOOKUP($A147+8860000,'Growth Data'!$A:$F,5,0)),\"NO\",VLOOKUP($A147+8860000,'Growth Data'!$A:$F,5,0))","v":"NO"},0,null,0,{"$f":"IF(CC147=\"YES\",IF(ISERROR(VLOOKUP($A147+8860000,'Growth Data'!$A:$Z,8,0)),0,VLOOKUP($A147+8860000,'Growth Data'!$A:$Z,8,0)),0)","v":0},0,null,null,null,0]
[3015,"Fawkham CEP School",null,"Fawkham CEP School","Fawkham CEP School",0,null,452373.13,452373.12560984795,0,null,0,0,0,null,452373.13,452373.12560984795,0,null,2714.46,2714.46213540912,0,null,null,null,0,null,0,0,0,null,5580,null,5580,null,5442,null,5442,null,0,null,0,null,0,null,0,null,null,null,0,null,null,null,0,null,null,null,0,null,null,null,0,null,"NO",{"$f":"IF(ISERROR(VLOOKUP($A148+8860000,'Growth Data'!$A:$F,3,0)),\"NO\",VLOOKUP($A148+8860000,'Growth Data'!$A:$F,3,0))","v":"NO"},0,null,0,{"$f":"IF(BM148=\"YES\",IF(ISERROR(VLOOKUP($A148+8860000,'Growth Data'!$A:$F,6,0)),0,VLOOKUP($A148+8860000,'Growth Data'!$A:$F,6,0)),0)","v":0},0,null,"NO",{"$f":"IF(ISERROR(VLOOKUP($A148+8860000,'Growth Data'!$A:$F,4,0)),\"NO\",VLOOKUP($A148+8860000,'Growth Data'!$A:$F,4,0))","v":"NO"},0,null,0,{"$f":"IF(BU148=\"YES\",IF(ISERROR(VLOOKUP($A148+8860000,'Growth Data'!$A:$Z,7,0)),0,VLOOKUP($A148+8860000,'Growth Data'!$A:$Z,7,0)),0)","v":0},0,null,"NO",{"$f":"IF(ISERROR(VLOOKUP($A148+8860000,'Growth Data'!$A:$F,5,0)),\"NO\",VLOOKUP($A148+8860000,'Growth Data'!$A:$F,5,0))","v":"NO"},0,null,0,{"$f":"IF(CC148=\"YES\",IF(ISERROR(VLOOKUP($A148+8860000,'Growth Data'!$A:$Z,8,0)),0,VLOOKUP($A148+8860000,'Growth Data'!$A:$Z,8,0)),0)","v":0},0,null,null,null,0]
[3020,"Sedley's CEP School",null,"Sedley's CEP School","Sedley's CEP School",0,null,443128.86,443128.85522466962,0,null,0,0,0,null,443128.86,443128.85522466962,0,null,2687.85,2687.84976153256,0,null,null,null,0,null,0,0,0,null,121066.27,null,121066,null,0,null,0,null,0,null,0,null,0,null,0,null,null,null,0,null,null,null,0,null,null,null,0,null,null,null,0,null,"NO",{"$f":"IF(ISERROR(VLOOKUP($A149+8860000,'Growth Data'!$A:$F,3,0)),\"NO\",VLOOKUP($A149+8860000,'Growth Data'!$A:$F,3,0))","v":"NO"},0,null,0,{"$f":"IF(BM149=\"YES\",IF(ISERROR(VLOOKUP($A149+8860000,'Growth Data'!$A:$F,6,0)),0,VLOOKUP($A149+8860000,'Growth Data'!$A:$F,6,0)),0)","v":0},0,null,"NO",{"$f":"IF(ISERROR(VLOOKUP($A149+8860000,'Growth Data'!$A:$F,4,0)),\"NO\",VLOOKUP($A149+8860000,'Growth Data'!$A:$F,4,0))","v":"NO"},0,null,0,{"$f":"IF(BU149=\"YES\",IF(ISERROR(VLOOKUP($A149+8860000,'Growth Data'!$A:$Z,7,0)),0,VLOOKUP($A149+8860000,'Growth Data'!$A:$Z,7,0)),0)","v":0},0,null,"NO",{"$f":"IF(ISERROR(VLOOKUP($A149+8860000,'Growth Data'!$A:$F,5,0)),\"NO\",VLOOKUP($A149+8860000,'Growth Data'!$A:$F,5,0))","v":"NO"},0,null,0,{"$f":"IF(CC149=\"YES\",IF(ISERROR(VLOOKUP($A149+8860000,'Growth Data'!$A:$Z,8,0)),0,VLOOKUP($A149+8860000,'Growth Data'!$A:$Z,8,0)),0)","v":0},0,null,null,null,0]
[3022,"Benenden CEP School",null,"Benenden CEP School","Benenden CEP School",0,null,617046.31999999995,617046.32300493203,0,null,0,0,0,null,617046.31999999995,617046.32300493203,0,null,4159.79,4159.7882748000002,0,null,null,null,0,null,0,0,0,null,78328.08,null,78328,null,0,null,0,null,120000,null,120000,null,180000,null,180000,null,null,null,0,null,null,null,0,null,null,null,0,null,null,null,0,null,"NO",{"$f":"IF(ISERROR(VLOOKUP($A150+8860000,'Growth Data'!$A:$F,3,0)),\"NO\",VLOOKUP($A150+8860000,'Growth Data'!$A:$F,3,0))","v":"NO"},0,null,0,{"$f":"IF(BM150=\"YES\",IF(ISERROR(VLOOKUP($A150+8860000,'Growth Data'!$A:$F,6,0)),0,VLOOKUP($A150+8860000,'Growth Data'!$A:$F,6,0)),0)","v":0},0,null,"NO",{"$f":"IF(ISERROR(VLOOKUP($A150+8860000,'Growth Data'!$A:$F,4,0)),\"NO\",VLOOKUP($A150+8860000,'Growth Data'!$A:$F,4,0))","v":"NO"},0,null,0,{"$f":"IF(BU150=\"YES\",IF(ISERROR(VLOOKUP($A150+8860000,'Growth Data'!$A:$Z,7,0)),0,VLOOKUP($A150+8860000,'Growth Data'!$A:$Z,7,0)),0)","v":0},0,null,"NO",{"$f":"IF(ISERROR(VLOOKUP($A150+8860000,'Growth Data'!$A:$F,5,0)),\"NO\",VLOOKUP($A150+8860000,'Growth Data'!$A:$F,5,0))","v":"NO"},0,null,0,{"$f":"IF(CC150=\"YES\",IF(ISERROR(VLOOKUP($A150+8860000,'Growth Data'!$A:$Z,8,0)),0,VLOOKUP($A150+8860000,'Growth Data'!$A:$Z,8,0)),0)","v":0},0,null,null,null,0]
[3023,"Bidborough CEP School",null,"Bidborough CEP School","Bidborough CEP School",0,null,738028.42,738028.41974978044,0,null,0,0,0,null,738028.42,738028.41974978044,0,null,5289.61,5289.6073123999995,0,null,null,null,0,null,0,0,0,null,102771.63,null,102772,null,0,null,0,null,0,null,0,null,0,null,0,null,null,null,0,null,null,null,0,null,null,null,0,null,null,null,0,null,"NO",{"$f":"IF(ISERROR(VLOOKUP($A151+8860000,'Growth Data'!$A:$F,3,0)),\"NO\",VLOOKUP($A151+8860000,'Growth Data'!$A:$F,3,0))","v":"NO"},0,null,0,{"$f":"IF(BM151=\"YES\",IF(ISERROR(VLOOKUP($A151+8860000,'Growth Data'!$A:$F,6,0)),0,VLOOKUP($A151+8860000,'Growth Data'!$A:$F,6,0)),0)","v":0},0,null,"NO",{"$f":"IF(ISERROR(VLOOKUP($A151+8860000,'Growth Data'!$A:$F,4,0)),\"NO\",VLOOKUP($A151+8860000,'Growth Data'!$A:$F,4,0))","v":"NO"},0,null,0,{"$f":"IF(BU151=\"YES\",IF(ISERROR(VLOOKUP($A151+8860000,'Growth Data'!$A:$Z,7,0)),0,VLOOKUP($A151+8860000,'Growth Data'!$A:$Z,7,0)),0)","v":0},0,null,"NO",{"$f":"IF(ISERROR(VLOOKUP($A151+8860000,'Growth Data'!$A:$F,5,0)),\"NO\",VLOOKUP($A151+8860000,'Growth Data'!$A:$F,5,0))","v":"NO"},0,null,0,{"$f":"IF(CC151=\"YES\",IF(ISERROR(VLOOKUP($A151+8860000,'Growth Data'!$A:$Z,8,0)),0,VLOOKUP($A151+8860000,'Growth Data'!$A:$Z,8,0)),0)","v":0},0,null,null,null,0]
[3027,"Cranbrook CEP School",null,"Cranbrook CEP School","Cranbrook CEP School",0,null,632199.13,632199.13053242804,0,null,0,0,0,null,632199.13,632199.13053242804,0,null,3851.66,3851.6558099999997,0,null,null,null,0,null,0,0,0,null,123519.05,null,123519,null,0,null,0,null,0,null,0,null,0,null,0,null,null,null,0,null,null,null,0,null,null,null,0,null,null,null,0,null,"NO",{"$f":"IF(ISERROR(VLOOKUP($A152+8860000,'Growth Data'!$A:$F,3,0)),\"NO\",VLOOKUP($A152+8860000,'Growth Data'!$A:$F,3,0))","v":"NO"},0,null,0,{"$f":"IF(BM152=\"YES\",IF(ISERROR(VLOOKUP($A152+8860000,'Growth Data'!$A:$F,6,0)),0,VLOOKUP($A152+8860000,'Growth Data'!$A:$F,6,0)),0)","v":0},0,null,"NO",{"$f":"IF(ISERROR(VLOOKUP($A152+8860000,'Growth Data'!$A:$F,4,0)),\"NO\",VLOOKUP($A152+8860000,'Growth Data'!$A:$F,4,0))","v":"NO"},0,null,0,{"$f":"IF(BU152=\"YES\",IF(ISERROR(VLOOKUP($A152+8860000,'Growth Data'!$A:$Z,7,0)),0,VLOOKUP($A152+8860000,'Growth Data'!$A:$Z,7,0)),0)","v":0},0,null,"YES",{"$f":"IF(ISERROR(VLOOKUP($A152+8860000,'Growth Data'!$A:$F,5,0)),\"NO\",VLOOKUP($A152+8860000,'Growth Data'!$A:$F,5,0))","v":"NO"},1,null,30,{"$f":"IF(CC152=\"YES\",IF(ISERROR(VLOOKUP($A152+8860000,'Growth Data'!$A:$Z,8,0)),0,VLOOKUP($A152+8860000,'Growth Data'!$A:$Z,8,0)),0)","v":0},30,null,null,null,0]
[3029,"Goudhurst & Kilndown CEP School",null,"Goudhurst & Kilndown CEP School","Goudhurst & Kilndown CEP School",0,null,759523.32,759523.32203536516,0,null,0,0,0,null,759523.32,759523.32203536516,0,null,5418,5417.9958393999996,0,null,null,null,0,null,0,0,0,null,112839.79,null,112840,null,0,null,0,null,0,null,0,null,0,null,0,null,null,null,0,null,null,null,0,null,null,null,0,null,null,null,0,null,"NO",{"$f":"IF(ISERROR(VLOOKUP($A153+8860000,'Growth Data'!$A:$F,3,0)),\"NO\",VLOOKUP($A153+8860000,'Growth Data'!$A:$F,3,0))","v":"NO"},0,null,0,{"$f":"IF(BM153=\"YES\",IF(ISERROR(VLOOKUP($A153+8860000,'Growth Data'!$A:$F,6,0)),0,VLOOKUP($A153+8860000,'Growth Data'!$A:$F,6,0)),0)","v":0},0,null,"NO",{"$f":"IF(ISERROR(VLOOKUP($A153+8860000,'Growth Data'!$A:$F,4,0)),\"NO\",VLOOKUP($A153+8860000,'Growth Data'!$A:$F,4,0))","v":"NO"},0,null,0,{"$f":"IF(BU153=\"YES\",IF(ISERROR(VLOOKUP($A153+8860000,'Growth Data'!$A:$Z,7,0)),0,VLOOKUP($A153+8860000,'Growth Data'!$A:$Z,7,0)),0)","v":0},0,null,"NO",{"$f":"IF(ISERROR(VLOOKUP($A153+8860000,'Growth Data'!$A:$F,5,0)),\"NO\",VLOOKUP($A153+8860000,'Growth Data'!$A:$F,5,0))","v":"NO"},0,null,0,{"$f":"IF(CC153=\"YES\",IF(ISERROR(VLOOKUP($A153+8860000,'Growth Data'!$A:$Z,8,0)),0,VLOOKUP($A153+8860000,'Growth Data'!$A:$Z,8,0)),0)","v":0},0,null,null,null,0]
[3032,"Hawkhurst CEP School",null,"Hawkhurst CEP School","Hawkhurst CEP School",0,null,786218.33,786218.33125416748,0,null,0,0,0,null,786218.33,786218.33125416748,0,null,5032.83,5032.8302583999994,0,null,null,null,0,null,0,0,0,null,33023.96,null,33024,null,2697.6,null,2698,null,0,null,0,null,0,null,0,null,null,null,0,null,null,null,0,null,null,null,0,null,null,null,0,null,"NO",{"$f":"IF(ISERROR(VLOOKUP($A154+8860000,'Growth Data'!$A:$F,3,0)),\"NO\",VLOOKUP($A154+8860000,'Growth Data'!$A:$F,3,0))","v":"NO"},0,null,0,{"$f":"IF(BM154=\"YES\",IF(ISERROR(VLOOKUP($A154+8860000,'Growth Data'!$A:$F,6,0)),0,VLOOKUP($A154+8860000,'Growth Data'!$A:$F,6,0)),0)","v":0},0,null,"NO",{"$f":"IF(ISERROR(VLOOKUP($A154+8860000,'Growth Data'!$A:$F,4,0)),\"NO\",VLOOKUP($A154+8860000,'Growth Data'!$A:$F,4,0))","v":"NO"},0,null,0,{"$f":"IF(BU154=\"YES\",IF(ISERROR(VLOOKUP($A154+8860000,'Growth Data'!$A:$Z,7,0)),0,VLOOKUP($A154+8860000,'Growth Data'!$A:$Z,7,0)),0)","v":0},0,null,"NO",{"$f":"IF(ISERROR(VLOOKUP($A154+8860000,'Growth Data'!$A:$F,5,0)),\"NO\",VLOOKUP($A154+8860000,'Growth Data'!$A:$F,5,0))","v":"NO"},0,null,0,{"$f":"IF(CC154=\"YES\",IF(ISERROR(VLOOKUP($A154+8860000,'Growth Data'!$A:$Z,8,0)),0,VLOOKUP($A154+8860000,'Growth Data'!$A:$Z,8,0)),0)","v":0},0,null,null,null,0]
[3033,"Hildenborough CEP School",null,"Hildenborough CEP School","Hildenborough CEP School",0,null,732146.87,732146.86867745896,0,null,0,0,0,null,732146.87,732146.86867745896,0,null,5084.1899999999996,5084.1856692000001,0,null,null,null,0,null,0,0,0,null,18906.14,null,18906,null,4109.3900000000003,null,4109,null,0,null,0,null,0,null,0,null,null,null,0,null,null,null,0,null,null,null,0,null,null,null,0,null,"NO",{"$f":"IF(ISERROR(VLOOKUP($A155+8860000,'Growth Data'!$A:$F,3,0)),\"NO\",VLOOKUP($A155+8860000,'Growth Data'!$A:$F,3,0))","v":"NO"},0,null,0,{"$f":"IF(BM155=\"YES\",IF(ISERROR(VLOOKUP($A155+8860000,'Growth Data'!$A:$F,6,0)),0,VLOOKUP($A155+8860000,'Growth Data'!$A:$F,6,0)),0)","v":0},0,null,"NO",{"$f":"IF(ISERROR(VLOOKUP($A155+8860000,'Growth Data'!$A:$F,4,0)),\"NO\",VLOOKUP($A155+8860000,'Growth Data'!$A:$F,4,0))","v":"NO"},0,null,0,{"$f":"IF(BU155=\"YES\",IF(ISERROR(VLOOKUP($A155+8860000,'Growth Data'!$A:$Z,7,0)),0,VLOOKUP($A155+8860000,'Growth Data'!$A:$Z,7,0)),0)","v":0},0,null,"NO",{"$f":"IF(ISERROR(VLOOKUP($A155+8860000,'Growth Data'!$A:$F,5,0)),\"NO\",VLOOKUP($A155+8860000,'Growth Data'!$A:$F,5,0))","v":"NO"},0,null,0,{"$f":"IF(CC155=\"YES\",IF(ISERROR(VLOOKUP($A155+8860000,'Growth Data'!$A:$Z,8,0)),0,VLOOKUP($A155+8860000,'Growth Data'!$A:$Z,8,0)),0)","v":0},0,null,null,null,0]
[3034,"Lamberhurst St Mary's CEP School",null,"Lamberhurst St Mary's CEP School","Lamberhurst St Mary's CEP School",0,null,722431.51,722431.5102413845,0,null,0,0,0,null,722431.51,722431.5102413845,0,null,5084.1899999999996,5084.1856692000001,0,null,null,null,0,null,0,0,0,null,27864.65,null,27865,null,3213.54,null,3214,null,0,null,0,null,0,null,0,null,null,null,0,null,null,null,0,null,null,null,0,null,null,null,0,null,"NO",{"$f":"IF(ISERROR(VLOOKUP($A156+8860000,'Growth Data'!$A:$F,3,0)),\"NO\",VLOOKUP($A156+8860000,'Growth Data'!$A:$F,3,0))","v":"NO"},0,null,0,{"$f":"IF(BM156=\"YES\",IF(ISERROR(VLOOKUP($A156+8860000,'Growth Data'!$A:$F,6,0)),0,VLOOKUP($A156+8860000,'Growth Data'!$A:$F,6,0)),0)","v":0},0,null,"NO",{"$f":"IF(ISERROR(VLOOKUP($A156+8860000,'Growth Data'!$A:$F,4,0)),\"NO\",VLOOKUP($A156+8860000,'Growth Data'!$A:$F,4,0))","v":"NO"},0,null,0,{"$f":"IF(BU156=\"YES\",IF(ISERROR(VLOOKUP($A156+8860000,'Growth Data'!$A:$Z,7,0)),0,VLOOKUP($A156+8860000,'Growth Data'!$A:$Z,7,0)),0)","v":0},0,null,"NO",{"$f":"IF(ISERROR(VLOOKUP($A156+8860000,'Growth Data'!$A:$F,5,0)),\"NO\",VLOOKUP($A156+8860000,'Growth Data'!$A:$F,5,0))","v":"NO"},0,null,0,{"$f":"IF(CC156=\"YES\",IF(ISERROR(VLOOKUP($A156+8860000,'Growth Data'!$A:$Z,8,0)),0,VLOOKUP($A156+8860000,'Growth Data'!$A:$Z,8,0)),0)","v":0},0,null,null,null,0]
[3035,"Seal CEP School",null,"Seal CEP School","Seal CEP School",0,null,993997.32,993997.32455857156,0,null,0,0,0,null,993997.32,993997.32455857156,0,null,6999.05,6999.05432953528,0,null,null,null,0,null,0,0,0,null,5580,null,5580,null,5442,null,5442,null,0,null,0,null,0,null,0,null,null,null,0,null,null,null,0,null,null,null,0,null,null,null,0,null,"YES",{"$f":"IF(ISERROR(VLOOKUP($A157+8860000,'Growth Data'!$A:$F,3,0)),\"NO\",VLOOKUP($A157+8860000,'Growth Data'!$A:$F,3,0))","v":"YES"},0,null,60,{"$f":"IF(BM157=\"YES\",IF(ISERROR(VLOOKUP($A157+8860000,'Growth Data'!$A:$F,6,0)),0,VLOOKUP($A157+8860000,'Growth Data'!$A:$F,6,0)),0)","v":33},27,null,"YES",{"$f":"IF(ISERROR(VLOOKUP($A157+8860000,'Growth Data'!$A:$F,4,0)),\"NO\",VLOOKUP($A157+8860000,'Growth Data'!$A:$F,4,0))","v":"NO"},1,null,62,{"$f":"IF(BU157=\"YES\",IF(ISERROR(VLOOKUP($A157+8860000,'Growth Data'!$A:$Z,7,0)),0,VLOOKUP($A157+8860000,'Growth Data'!$A:$Z,7,0)),0)","v":0},62,null,"YES",{"$f":"IF(ISERROR(VLOOKUP($A157+8860000,'Growth Data'!$A:$F,5,0)),\"NO\",VLOOKUP($A157+8860000,'Growth Data'!$A:$F,5,0))","v":"NO"},1,null,61,{"$f":"IF(CC157=\"YES\",IF(ISERROR(VLOOKUP($A157+8860000,'Growth Data'!$A:$Z,8,0)),0,VLOOKUP($A157+8860000,'Growth Data'!$A:$Z,8,0)),0)","v":0},61,null,null,null,0]
[3037,"St John's CEP School, Sevenoaks",null,"St John's CEP School, Sevenoaks","St John's CEP School, Sevenoaks",0,null,898784.94,898784.93775298796,0,null,103968.35,103968.34714865801,0,null,1002753.28,1002753.284901646,0,null,6440.19,6440.1944781275206,0,null,null,null,0,null,0,0,0,null,30217.360000000001,null,30217,null,2978.26,null,2978,null,0,null,0,null,0,null,0,null,null,null,0,null,null,null,0,null,null,null,0,null,null,null,0,null,"NO",{"$f":"IF(ISERROR(VLOOKUP($A158+8860000,'Growth Data'!$A:$F,3,0)),\"NO\",VLOOKUP($A158+8860000,'Growth Data'!$A:$F,3,0))","v":"NO"},0,null,0,{"$f":"IF(BM158=\"YES\",IF(ISERROR(VLOOKUP($A158+8860000,'Growth Data'!$A:$F,6,0)),0,VLOOKUP($A158+8860000,'Growth Data'!$A:$F,6,0)),0)","v":0},0,null,"NO",{"$f":"IF(ISERROR(VLOOKUP($A158+8860000,'Growth Data'!$A:$F,4,0)),\"NO\",VLOOKUP($A158+8860000,'Growth Data'!$A:$F,4,0))","v":"NO"},0,null,0,{"$f":"IF(BU158=\"YES\",IF(ISERROR(VLOOKUP($A158+8860000,'Growth Data'!$A:$Z,7,0)),0,VLOOKUP($A158+8860000,'Growth Data'!$A:$Z,7,0)),0)","v":0},0,null,"NO",{"$f":"IF(ISERROR(VLOOKUP($A158+8860000,'Growth Data'!$A:$F,5,0)),\"NO\",VLOOKUP($A158+8860000,'Growth Data'!$A:$F,5,0))","v":"NO"},0,null,0,{"$f":"IF(CC158=\"YES\",IF(ISERROR(VLOOKUP($A158+8860000,'Growth Data'!$A:$Z,8,0)),0,VLOOKUP($A158+8860000,'Growth Data'!$A:$Z,8,0)),0)","v":0},0,null,null,null,0]
[3042,"Speldhurst CEP School",null,"Speldhurst CEP School","Speldhurst CEP School",0,null,541530.62,541530.61656375614,0,null,0,0,0,null,541530.62,541530.61656375614,0,null,3723.27,3723.2672829999992,0,null,null,null,0,null,0,0,0,null,35214.11,null,35214,null,2478.59,null,2479,null,0,null,0,null,0,null,0,null,null,null,0,null,null,null,0,null,null,null,0,null,null,null,0,null,"NO",{"$f":"IF(ISERROR(VLOOKUP($A159+8860000,'Growth Data'!$A:$F,3,0)),\"NO\",VLOOKUP($A159+8860000,'Growth Data'!$A:$F,3,0))","v":"NO"},0,null,0,{"$f":"IF(BM159=\"YES\",IF(ISERROR(VLOOKUP($A159+8860000,'Growth Data'!$A:$F,6,0)),0,VLOOKUP($A159+8860000,'Growth Data'!$A:$F,6,0)),0)","v":0},0,null,"NO",{"$f":"IF(ISERROR(VLOOKUP($A159+8860000,'Growth Data'!$A:$F,4,0)),\"NO\",VLOOKUP($A159+8860000,'Growth Data'!$A:$F,4,0))","v":"NO"},0,null,0,{"$f":"IF(BU159=\"YES\",IF(ISERROR(VLOOKUP($A159+8860000,'Growth Data'!$A:$Z,7,0)),0,VLOOKUP($A159+8860000,'Growth Data'!$A:$Z,7,0)),0)","v":0},0,null,"NO",{"$f":"IF(ISERROR(VLOOKUP($A159+8860000,'Growth Data'!$A:$F,5,0)),\"NO\",VLOOKUP($A159+8860000,'Growth Data'!$A:$F,5,0))","v":"NO"},0,null,0,{"$f":"IF(CC159=\"YES\",IF(ISERROR(VLOOKUP($A159+8860000,'Growth Data'!$A:$Z,8,0)),0,VLOOKUP($A159+8860000,'Growth Data'!$A:$Z,8,0)),0)","v":0},0,null,null,null,0]
[3043,"Sundridge & Brasted CEP School",null,"Sundridge & Brasted CEP School","Sundridge & Brasted CEP School",0,null,431815.47,431815.47423331806,0,null,0,0,0,null,431815.47,431815.47423331806,0,null,2554.79,2554.78789214976,0,null,null,null,0,null,0,0,0,null,52911.46,null,52911,null,708.85,null,709,null,0,null,0,null,0,null,0,null,null,null,0,null,null,null,0,null,null,null,0,null,null,null,0,null,"NO",{"$f":"IF(ISERROR(VLOOKUP($A160+8860000,'Growth Data'!$A:$F,3,0)),\"NO\",VLOOKUP($A160+8860000,'Growth Data'!$A:$F,3,0))","v":"NO"},0,null,0,{"$f":"IF(BM160=\"YES\",IF(ISERROR(VLOOKUP($A160+8860000,'Growth Data'!$A:$F,6,0)),0,VLOOKUP($A160+8860000,'Growth Data'!$A:$F,6,0)),0)","v":0},0,null,"NO",{"$f":"IF(ISERROR(VLOOKUP($A160+8860000,'Growth Data'!$A:$F,4,0)),\"NO\",VLOOKUP($A160+8860000,'Growth Data'!$A:$F,4,0))","v":"NO"},0,null,0,{"$f":"IF(BU160=\"YES\",IF(ISERROR(VLOOKUP($A160+8860000,'Growth Data'!$A:$Z,7,0)),0,VLOOKUP($A160+8860000,'Growth Data'!$A:$Z,7,0)),0)","v":0},0,null,"NO",{"$f":"IF(ISERROR(VLOOKUP($A160+8860000,'Growth Data'!$A:$F,5,0)),\"NO\",VLOOKUP($A160+8860000,'Growth Data'!$A:$F,5,0))","v":"NO"},0,null,0,{"$f":"IF(CC160=\"YES\",IF(ISERROR(VLOOKUP($A160+8860000,'Growth Data'!$A:$Z,8,0)),0,VLOOKUP($A160+8860000,'Growth Data'!$A:$Z,8,0)),0)","v":0},0,null,null,null,0]
[3049,"St James' CEJ School",null,"St James' CEJ School","St James' CEJ School",0,null,1261417,1261417,0,null,0,0,0,null,1261417,1261417,0,null,9269.65,9269.6516494000007,0,null,null,null,0,null,0,0,0,null,27005.74,null,27006,null,3299.43,null,3299,null,0,null,0,null,0,null,0,null,null,null,0,null,null,null,0,null,null,null,0,null,null,null,0,null,"NO",{"$f":"IF(ISERROR(VLOOKUP($A161+8860000,'Growth Data'!$A:$F,3,0)),\"NO\",VLOOKUP($A161+8860000,'Growth Data'!$A:$F,3,0))","v":"NO"},0,null,0,{"$f":"IF(BM161=\"YES\",IF(ISERROR(VLOOKUP($A161+8860000,'Growth Data'!$A:$F,6,0)),0,VLOOKUP($A161+8860000,'Growth Data'!$A:$F,6,0)),0)","v":0},0,null,"NO",{"$f":"IF(ISERROR(VLOOKUP($A161+8860000,'Growth Data'!$A:$F,4,0)),\"NO\",VLOOKUP($A161+8860000,'Growth Data'!$A:$F,4,0))","v":"NO"},0,null,0,{"$f":"IF(BU161=\"YES\",IF(ISERROR(VLOOKUP($A161+8860000,'Growth Data'!$A:$Z,7,0)),0,VLOOKUP($A161+8860000,'Growth Data'!$A:$Z,7,0)),0)","v":0},0,null,"NO",{"$f":"IF(ISERROR(VLOOKUP($A161+8860000,'Growth Data'!$A:$F,5,0)),\"NO\",VLOOKUP($A161+8860000,'Growth Data'!$A:$F,5,0))","v":"NO"},0,null,0,{"$f":"IF(CC161=\"YES\",IF(ISERROR(VLOOKUP($A161+8860000,'Growth Data'!$A:$Z,8,0)),0,VLOOKUP($A161+8860000,'Growth Data'!$A:$Z,8,0)),0)","v":0},0,null,null,null,0]
[3050,"St John's CEP School",null,"St John's CEP School","St John's CEP School",0,null,2219299,2219299,0,null,0,0,0,null,2219299,2219299,0,null,16228.31,16228.3098128,0,null,null,null,0,null,0,0,0,null,68732.460000000006,null,68732,null,0,null,0,null,0,null,0,null,0,null,0,null,null,null,0,null,null,null,0,null,null,null,0,null,null,null,0,null,"NO",{"$f":"IF(ISERROR(VLOOKUP($A162+8860000,'Growth Data'!$A:$F,3,0)),\"NO\",VLOOKUP($A162+8860000,'Growth Data'!$A:$F,3,0))","v":"NO"},0,null,0,{"$f":"IF(BM162=\"YES\",IF(ISERROR(VLOOKUP($A162+8860000,'Growth Data'!$A:$F,6,0)),0,VLOOKUP($A162+8860000,'Growth Data'!$A:$F,6,0)),0)","v":0},0,null,"NO",{"$f":"IF(ISERROR(VLOOKUP($A162+8860000,'Growth Data'!$A:$F,4,0)),\"NO\",VLOOKUP($A162+8860000,'Growth Data'!$A:$F,4,0))","v":"NO"},0,null,0,{"$f":"IF(BU162=\"YES\",IF(ISERROR(VLOOKUP($A162+8860000,'Growth Data'!$A:$Z,7,0)),0,VLOOKUP($A162+8860000,'Growth Data'!$A:$Z,7,0)),0)","v":0},0,null,"NO",{"$f":"IF(ISERROR(VLOOKUP($A162+8860000,'Growth Data'!$A:$F,5,0)),\"NO\",VLOOKUP($A162+8860000,'Growth Data'!$A:$F,5,0))","v":"NO"},0,null,0,{"$f":"IF(CC162=\"YES\",IF(ISERROR(VLOOKUP($A162+8860000,'Growth Data'!$A:$Z,8,0)),0,VLOOKUP($A162+8860000,'Growth Data'!$A:$Z,8,0)),0)","v":0},0,null,null,null,0]
[3052,"St Mark's CEP School",null,"St Mark's CEP School","St Mark's CEP School",0,null,1172943.08,1172943.0803358208,0,null,0,0,0,null,1172943.08,1172943.0803358208,0,null,7960.09,7960.0886739999996,0,null,null,null,0,null,0,0,0,null,37780.519999999997,null,37781,null,2221.9499999999998,null,2222,null,0,null,0,null,0,null,0,null,null,null,0,null,null,null,0,null,null,null,0,null,null,null,0,null,"NO",{"$f":"IF(ISERROR(VLOOKUP($A163+8860000,'Growth Data'!$A:$F,3,0)),\"NO\",VLOOKUP($A163+8860000,'Growth Data'!$A:$F,3,0))","v":"NO"},0,null,0,{"$f":"IF(BM163=\"YES\",IF(ISERROR(VLOOKUP($A163+8860000,'Growth Data'!$A:$F,6,0)),0,VLOOKUP($A163+8860000,'Growth Data'!$A:$F,6,0)),0)","v":0},0,null,"NO",{"$f":"IF(ISERROR(VLOOKUP($A163+8860000,'Growth Data'!$A:$F,4,0)),\"NO\",VLOOKUP($A163+8860000,'Growth Data'!$A:$F,4,0))","v":"NO"},0,null,0,{"$f":"IF(BU163=\"YES\",IF(ISERROR(VLOOKUP($A163+8860000,'Growth Data'!$A:$Z,7,0)),0,VLOOKUP($A163+8860000,'Growth Data'!$A:$Z,7,0)),0)","v":0},0,null,"NO",{"$f":"IF(ISERROR(VLOOKUP($A163+8860000,'Growth Data'!$A:$F,5,0)),\"NO\",VLOOKUP($A163+8860000,'Growth Data'!$A:$F,5,0))","v":"NO"},0,null,0,{"$f":"IF(CC163=\"YES\",IF(ISERROR(VLOOKUP($A163+8860000,'Growth Data'!$A:$Z,8,0)),0,VLOOKUP($A163+8860000,'Growth Data'!$A:$Z,8,0)),0)","v":0},0,null,null,null,0]
[3053,"St Peter's CEP School",null,"St Peter's CEP School","St Peter's CEP School",0,null,556912.73,556912.72886477842,0,null,0,0,0,null,556912.73,556912.72886477842,0,null,3569.2,3569.2010506000001,0,null,null,null,0,null,0,0,0,null,31147.78,null,31148,null,2885.22,null,2885,null,0,null,0,null,0,null,0,null,null,null,0,null,null,null,0,null,null,null,0,null,null,null,0,null,"YES",{"$f":"IF(ISERROR(VLOOKUP($A164+8860000,'Growth Data'!$A:$F,3,0)),\"NO\",VLOOKUP($A164+8860000,'Growth Data'!$A:$F,3,0))","v":"NO"},1,null,29,{"$f":"IF(BM164=\"YES\",IF(ISERROR(VLOOKUP($A164+8860000,'Growth Data'!$A:$F,6,0)),0,VLOOKUP($A164+8860000,'Growth Data'!$A:$F,6,0)),0)","v":0},29,null,"YES",{"$f":"IF(ISERROR(VLOOKUP($A164+8860000,'Growth Data'!$A:$F,4,0)),\"NO\",VLOOKUP($A164+8860000,'Growth Data'!$A:$F,4,0))","v":"NO"},1,null,20,{"$f":"IF(BU164=\"YES\",IF(ISERROR(VLOOKUP($A164+8860000,'Growth Data'!$A:$Z,7,0)),0,VLOOKUP($A164+8860000,'Growth Data'!$A:$Z,7,0)),0)","v":0},20,null,"NO",{"$f":"IF(ISERROR(VLOOKUP($A164+8860000,'Growth Data'!$A:$F,5,0)),\"NO\",VLOOKUP($A164+8860000,'Growth Data'!$A:$F,5,0))","v":"NO"},0,null,0,{"$f":"IF(CC164=\"YES\",IF(ISERROR(VLOOKUP($A164+8860000,'Growth Data'!$A:$Z,8,0)),0,VLOOKUP($A164+8860000,'Growth Data'!$A:$Z,8,0)),0)","v":0},0,null,null,null,0]
[3054,"Crockham Hill CEP School",null,"Crockham Hill CEP School","Crockham Hill CEP School",0,null,575386.89,575386.88965827634,0,null,0,0,0,null,575386.89,575386.88965827634,0,null,3645.9,3645.8952210887201,0,null,null,null,0,null,0,0,0,null,68946.33,null,68946,null,0,null,0,null,0,null,0,null,0,null,0,null,null,null,0,null,null,null,0,null,null,null,0,null,null,null,0,null,"NO",{"$f":"IF(ISERROR(VLOOKUP($A165+8860000,'Growth Data'!$A:$F,3,0)),\"NO\",VLOOKUP($A165+8860000,'Growth Data'!$A:$F,3,0))","v":"NO"},0,null,0,{"$f":"IF(BM165=\"YES\",IF(ISERROR(VLOOKUP($A165+8860000,'Growth Data'!$A:$F,6,0)),0,VLOOKUP($A165+8860000,'Growth Data'!$A:$F,6,0)),0)","v":0},0,null,"YES",{"$f":"IF(ISERROR(VLOOKUP($A165+8860000,'Growth Data'!$A:$F,4,0)),\"NO\",VLOOKUP($A165+8860000,'Growth Data'!$A:$F,4,0))","v":"NO"},1,null,30,{"$f":"IF(BU165=\"YES\",IF(ISERROR(VLOOKUP($A165+8860000,'Growth Data'!$A:$Z,7,0)),0,VLOOKUP($A165+8860000,'Growth Data'!$A:$Z,7,0)),0)","v":0},30,null,"YES",{"$f":"IF(ISERROR(VLOOKUP($A165+8860000,'Growth Data'!$A:$F,5,0)),\"NO\",VLOOKUP($A165+8860000,'Growth Data'!$A:$F,5,0))","v":"NO"},1,null,42,{"$f":"IF(CC165=\"YES\",IF(ISERROR(VLOOKUP($A165+8860000,'Growth Data'!$A:$Z,8,0)),0,VLOOKUP($A165+8860000,'Growth Data'!$A:$Z,8,0)),0)","v":0},42,null,null,null,0]
[3055,"Churchill CEP School",null,"Churchill CEP School","Churchill CEP School",0,null,1050077.81,1050077.8072642668,0,null,0,0,0,null,1050077.81,1050077.8072642668,0,null,7824.04,7824.0379197086395,0,null,null,null,0,null,0,0,0,null,48370.64,null,48371,null,1162.94,null,1163,null,0,null,0,null,0,null,0,null,null,null,0,null,null,null,0,null,null,null,0,null,null,null,0,null,"NO",{"$f":"IF(ISERROR(VLOOKUP($A166+8860000,'Growth Data'!$A:$F,3,0)),\"NO\",VLOOKUP($A166+8860000,'Growth Data'!$A:$F,3,0))","v":"NO"},0,null,0,{"$f":"IF(BM166=\"YES\",IF(ISERROR(VLOOKUP($A166+8860000,'Growth Data'!$A:$F,6,0)),0,VLOOKUP($A166+8860000,'Growth Data'!$A:$F,6,0)),0)","v":0},0,null,"NO",{"$f":"IF(ISERROR(VLOOKUP($A166+8860000,'Growth Data'!$A:$F,4,0)),\"NO\",VLOOKUP($A166+8860000,'Growth Data'!$A:$F,4,0))","v":"NO"},0,null,0,{"$f":"IF(BU166=\"YES\",IF(ISERROR(VLOOKUP($A166+8860000,'Growth Data'!$A:$Z,7,0)),0,VLOOKUP($A166+8860000,'Growth Data'!$A:$Z,7,0)),0)","v":0},0,null,"NO",{"$f":"IF(ISERROR(VLOOKUP($A166+8860000,'Growth Data'!$A:$F,5,0)),\"NO\",VLOOKUP($A166+8860000,'Growth Data'!$A:$F,5,0))","v":"NO"},0,null,0,{"$f":"IF(CC166=\"YES\",IF(ISERROR(VLOOKUP($A166+8860000,'Growth Data'!$A:$Z,8,0)),0,VLOOKUP($A166+8860000,'Growth Data'!$A:$Z,8,0)),0)","v":0},0,null,null,null,0]
[3057,"St Peter's CEP School",null,"St Peter's CEP School","St Peter's CEP School",0,null,643836.52,643836.51963994582,0,null,0,0,0,null,643836.52,643836.51963994582,0,null,4236.82,4236.8213909999995,0,null,null,null,0,null,0,0,0,null,20471.84,null,20472,null,3952.82,null,3953,null,0,null,0,null,0,null,0,null,null,null,0,null,null,null,0,null,null,null,0,null,null,null,0,null,"NO",{"$f":"IF(ISERROR(VLOOKUP($A167+8860000,'Growth Data'!$A:$F,3,0)),\"NO\",VLOOKUP($A167+8860000,'Growth Data'!$A:$F,3,0))","v":"NO"},0,null,0,{"$f":"IF(BM167=\"YES\",IF(ISERROR(VLOOKUP($A167+8860000,'Growth Data'!$A:$F,6,0)),0,VLOOKUP($A167+8860000,'Growth Data'!$A:$F,6,0)),0)","v":0},0,null,"NO",{"$f":"IF(ISERROR(VLOOKUP($A167+8860000,'Growth Data'!$A:$F,4,0)),\"NO\",VLOOKUP($A167+8860000,'Growth Data'!$A:$F,4,0))","v":"NO"},0,null,0,{"$f":"IF(BU167=\"YES\",IF(ISERROR(VLOOKUP($A167+8860000,'Growth Data'!$A:$Z,7,0)),0,VLOOKUP($A167+8860000,'Growth Data'!$A:$Z,7,0)),0)","v":0},0,null,"NO",{"$f":"IF(ISERROR(VLOOKUP($A167+8860000,'Growth Data'!$A:$F,5,0)),\"NO\",VLOOKUP($A167+8860000,'Growth Data'!$A:$F,5,0))","v":"NO"},0,null,0,{"$f":"IF(CC167=\"YES\",IF(ISERROR(VLOOKUP($A167+8860000,'Growth Data'!$A:$Z,8,0)),0,VLOOKUP($A167+8860000,'Growth Data'!$A:$Z,8,0)),0)","v":0},0,null,null,null,0]
[3061,"Bredhurst CEP School",null,"Bredhurst CEP School","Bredhurst CEP School",0,null,493733.46,493733.46340221929,0,null,0,0,0,null,493733.46,493733.46340221929,0,null,3081.32,3081.3246479999998,0,null,null,null,0,null,0,0,0,null,26057.89,null,26058,null,3394.21,null,3394,null,0,null,0,null,0,null,0,null,null,null,0,null,null,null,0,null,null,null,0,null,null,null,0,null,"NO",{"$f":"IF(ISERROR(VLOOKUP($A168+8860000,'Growth Data'!$A:$F,3,0)),\"NO\",VLOOKUP($A168+8860000,'Growth Data'!$A:$F,3,0))","v":"NO"},0,null,0,{"$f":"IF(BM168=\"YES\",IF(ISERROR(VLOOKUP($A168+8860000,'Growth Data'!$A:$F,6,0)),0,VLOOKUP($A168+8860000,'Growth Data'!$A:$F,6,0)),0)","v":0},0,null,"NO",{"$f":"IF(ISERROR(VLOOKUP($A168+8860000,'Growth Data'!$A:$F,4,0)),\"NO\",VLOOKUP($A168+8860000,'Growth Data'!$A:$F,4,0))","v":"NO"},0,null,0,{"$f":"IF(BU168=\"YES\",IF(ISERROR(VLOOKUP($A168+8860000,'Growth Data'!$A:$Z,7,0)),0,VLOOKUP($A168+8860000,'Growth Data'!$A:$Z,7,0)),0)","v":0},0,null,"NO",{"$f":"IF(ISERROR(VLOOKUP($A168+8860000,'Growth Data'!$A:$F,5,0)),\"NO\",VLOOKUP($A168+8860000,'Growth Data'!$A:$F,5,0))","v":"NO"},0,null,0,{"$f":"IF(CC168=\"YES\",IF(ISERROR(VLOOKUP($A168+8860000,'Growth Data'!$A:$Z,8,0)),0,VLOOKUP($A168+8860000,'Growth Data'!$A:$Z,8,0)),0)","v":0},0,null,null,null,0]
[3062,"Burham CEP School",null,"Burham CEP School","Burham CEP School",0,null,609000.57999999996,609000.57603415707,0,null,0,0,0,null,609000.57999999996,609000.57603415707,0,null,3851.66,3851.6558099999997,0,null,null,null,0,null,0,0,0,null,64710.12,null,64710,null,0,null,0,null,0,null,0,null,0,null,0,null,null,null,0,null,null,null,0,null,null,null,0,null,null,null,0,null,"NO",{"$f":"IF(ISERROR(VLOOKUP($A169+8860000,'Growth Data'!$A:$F,3,0)),\"NO\",VLOOKUP($A169+8860000,'Growth Data'!$A:$F,3,0))","v":"NO"},0,null,0,{"$f":"IF(BM169=\"YES\",IF(ISERROR(VLOOKUP($A169+8860000,'Growth Data'!$A:$F,6,0)),0,VLOOKUP($A169+8860000,'Growth Data'!$A:$F,6,0)),0)","v":0},0,null,"NO",{"$f":"IF(ISERROR(VLOOKUP($A169+8860000,'Growth Data'!$A:$F,4,0)),\"NO\",VLOOKUP($A169+8860000,'Growth Data'!$A:$F,4,0))","v":"NO"},0,null,0,{"$f":"IF(BU169=\"YES\",IF(ISERROR(VLOOKUP($A169+8860000,'Growth Data'!$A:$Z,7,0)),0,VLOOKUP($A169+8860000,'Growth Data'!$A:$Z,7,0)),0)","v":0},0,null,"NO",{"$f":"IF(ISERROR(VLOOKUP($A169+8860000,'Growth Data'!$A:$F,5,0)),\"NO\",VLOOKUP($A169+8860000,'Growth Data'!$A:$F,5,0))","v":"NO"},0,null,0,{"$f":"IF(CC169=\"YES\",IF(ISERROR(VLOOKUP($A169+8860000,'Growth Data'!$A:$Z,8,0)),0,VLOOKUP($A169+8860000,'Growth Data'!$A:$Z,8,0)),0)","v":0},0,null,null,null,0]
[3067,"Harrietsham CEP School",null,"Harrietsham CEP School","Harrietsham CEP School",0,null,733605.67,733605.66670987825,0,null,0,0,0,null,733605.67,733605.66670987825,0,null,4981.47,4981.4748475999986,0,null,null,null,0,null,0,0,0,null,129566.65,null,129567,null,0,null,0,null,0,null,0,null,0,null,0,null,null,null,0,null,null,null,0,null,null,null,0,null,null,null,0,null,"NO",{"$f":"IF(ISERROR(VLOOKUP($A170+8860000,'Growth Data'!$A:$F,3,0)),\"NO\",VLOOKUP($A170+8860000,'Growth Data'!$A:$F,3,0))","v":"NO"},0,null,0,{"$f":"IF(BM170=\"YES\",IF(ISERROR(VLOOKUP($A170+8860000,'Growth Data'!$A:$F,6,0)),0,VLOOKUP($A170+8860000,'Growth Data'!$A:$F,6,0)),0)","v":0},0,null,"NO",{"$f":"IF(ISERROR(VLOOKUP($A170+8860000,'Growth Data'!$A:$F,4,0)),\"NO\",VLOOKUP($A170+8860000,'Growth Data'!$A:$F,4,0))","v":"NO"},0,null,0,{"$f":"IF(BU170=\"YES\",IF(ISERROR(VLOOKUP($A170+8860000,'Growth Data'!$A:$Z,7,0)),0,VLOOKUP($A170+8860000,'Growth Data'!$A:$Z,7,0)),0)","v":0},0,null,"NO",{"$f":"IF(ISERROR(VLOOKUP($A170+8860000,'Growth Data'!$A:$F,5,0)),\"NO\",VLOOKUP($A170+8860000,'Growth Data'!$A:$F,5,0))","v":"NO"},0,null,0,{"$f":"IF(CC170=\"YES\",IF(ISERROR(VLOOKUP($A170+8860000,'Growth Data'!$A:$Z,8,0)),0,VLOOKUP($A170+8860000,'Growth Data'!$A:$Z,8,0)),0)","v":0},0,null,null,null,0]
[3069,"Leeds & Broomfield CEP School",null,"Leeds & Broomfield CEP School","Leeds & Broomfield CEP School",0,null,370920.82,370920.8154138379,0,null,0,0,0,null,370920.82,370920.8154138379,0,null,2028.54,2028.5387266,0,null,null,null,0,null,0,0,0,null,112585.35,null,112585,null,0,null,0,null,0,null,0,null,0,null,0,null,null,null,0,null,null,null,0,null,null,null,0,null,null,null,0,null,"YES",{"$f":"IF(ISERROR(VLOOKUP($A171+8860000,'Growth Data'!$A:$F,3,0)),\"NO\",VLOOKUP($A171+8860000,'Growth Data'!$A:$F,3,0))","v":"NO"},1,null,30,{"$f":"IF(BM171=\"YES\",IF(ISERROR(VLOOKUP($A171+8860000,'Growth Data'!$A:$F,6,0)),0,VLOOKUP($A171+8860000,'Growth Data'!$A:$F,6,0)),0)","v":0},30,null,"YES",{"$f":"IF(ISERROR(VLOOKUP($A171+8860000,'Growth Data'!$A:$F,4,0)),\"NO\",VLOOKUP($A171+8860000,'Growth Data'!$A:$F,4,0))","v":"NO"},1,null,30,{"$f":"IF(BU171=\"YES\",IF(ISERROR(VLOOKUP($A171+8860000,'Growth Data'!$A:$Z,7,0)),0,VLOOKUP($A171+8860000,'Growth Data'!$A:$Z,7,0)),0)","v":0},30,null,"YES",{"$f":"IF(ISERROR(VLOOKUP($A171+8860000,'Growth Data'!$A:$F,5,0)),\"NO\",VLOOKUP($A171+8860000,'Growth Data'!$A:$F,5,0))","v":"NO"},1,null,30,{"$f":"IF(CC171=\"YES\",IF(ISERROR(VLOOKUP($A171+8860000,'Growth Data'!$A:$Z,8,0)),0,VLOOKUP($A171+8860000,'Growth Data'!$A:$Z,8,0)),0)","v":0},30,null,null,null,0]
[3072,"St Michael's CEJ School, Maidstone",null,"St Michael's CEJ School, Maidstone","St Michael's CEJ School, Maidstone",0,null,644191.5,644191.49863776751,0,null,0,0,0,null,644191.5,644191.49863776751,0,null,4185.47,4185.4659802000006,0,null,null,null,0,null,0,0,0,null,31915.62,null,31916,null,2808.44,null,2808,null,0,null,0,null,0,null,0,null,null,null,0,null,null,null,0,null,null,null,0,null,null,null,0,null,"NO",{"$f":"IF(ISERROR(VLOOKUP($A172+8860000,'Growth Data'!$A:$F,3,0)),\"NO\",VLOOKUP($A172+8860000,'Growth Data'!$A:$F,3,0))","v":"NO"},0,null,0,{"$f":"IF(BM172=\"YES\",IF(ISERROR(VLOOKUP($A172+8860000,'Growth Data'!$A:$F,6,0)),0,VLOOKUP($A172+8860000,'Growth Data'!$A:$F,6,0)),0)","v":0},0,null,"NO",{"$f":"IF(ISERROR(VLOOKUP($A172+8860000,'Growth Data'!$A:$F,4,0)),\"NO\",VLOOKUP($A172+8860000,'Growth Data'!$A:$F,4,0))","v":"NO"},0,null,0,{"$f":"IF(BU172=\"YES\",IF(ISERROR(VLOOKUP($A172+8860000,'Growth Data'!$A:$Z,7,0)),0,VLOOKUP($A172+8860000,'Growth Data'!$A:$Z,7,0)),0)","v":0},0,null,"NO",{"$f":"IF(ISERROR(VLOOKUP($A172+8860000,'Growth Data'!$A:$F,5,0)),\"NO\",VLOOKUP($A172+8860000,'Growth Data'!$A:$F,5,0))","v":"NO"},0,null,0,{"$f":"IF(CC172=\"YES\",IF(ISERROR(VLOOKUP($A172+8860000,'Growth Data'!$A:$Z,8,0)),0,VLOOKUP($A172+8860000,'Growth Data'!$A:$Z,8,0)),0)","v":0},0,null,null,null,0]
[3073,"St Michael's CEI School, Maidstone",null,"St Michael's CEI School, Maidstone","St Michael's CEI School, Maidstone",0,null,519211.2,519211.19880819443,0,null,0,0,0,null,519211.2,519211.19880819443,0,null,3107,3107.0023534000002,0,null,null,null,0,null,0,0,0,null,21621.7,null,21622,null,3837.83,null,3838,null,0,null,0,null,0,null,0,null,null,null,0,null,null,null,0,null,null,null,0,null,null,null,0,null,"NO",{"$f":"IF(ISERROR(VLOOKUP($A173+8860000,'Growth Data'!$A:$F,3,0)),\"NO\",VLOOKUP($A173+8860000,'Growth Data'!$A:$F,3,0))","v":"NO"},0,null,0,{"$f":"IF(BM173=\"YES\",IF(ISERROR(VLOOKUP($A173+8860000,'Growth Data'!$A:$F,6,0)),0,VLOOKUP($A173+8860000,'Growth Data'!$A:$F,6,0)),0)","v":0},0,null,"NO",{"$f":"IF(ISERROR(VLOOKUP($A173+8860000,'Growth Data'!$A:$F,4,0)),\"NO\",VLOOKUP($A173+8860000,'Growth Data'!$A:$F,4,0))","v":"NO"},0,null,0,{"$f":"IF(BU173=\"YES\",IF(ISERROR(VLOOKUP($A173+8860000,'Growth Data'!$A:$Z,7,0)),0,VLOOKUP($A173+8860000,'Growth Data'!$A:$Z,7,0)),0)","v":0},0,null,"NO",{"$f":"IF(ISERROR(VLOOKUP($A173+8860000,'Growth Data'!$A:$F,5,0)),\"NO\",VLOOKUP($A173+8860000,'Growth Data'!$A:$F,5,0))","v":"NO"},0,null,0,{"$f":"IF(CC173=\"YES\",IF(ISERROR(VLOOKUP($A173+8860000,'Growth Data'!$A:$Z,8,0)),0,VLOOKUP($A173+8860000,'Growth Data'!$A:$Z,8,0)),0)","v":0},0,null,null,null,0]
[3081,"Thurnham CEI School",null,"Thurnham CEI School","Thurnham CEI School",0,null,953590,953590,0,null,0,0,0,null,953590,953590,0,null,7010.01,7010.0135742000002,0,null,null,null,0,null,0,0,0,null,49721.67,null,49722,null,1027.83,null,1028,null,0,null,0,null,0,null,0,null,null,null,0,null,null,null,0,null,null,null,0,null,null,null,0,null,"NO",{"$f":"IF(ISERROR(VLOOKUP($A174+8860000,'Growth Data'!$A:$F,3,0)),\"NO\",VLOOKUP($A174+8860000,'Growth Data'!$A:$F,3,0))","v":"NO"},0,null,0,{"$f":"IF(BM174=\"YES\",IF(ISERROR(VLOOKUP($A174+8860000,'Growth Data'!$A:$F,6,0)),0,VLOOKUP($A174+8860000,'Growth Data'!$A:$F,6,0)),0)","v":0},0,null,"NO",{"$f":"IF(ISERROR(VLOOKUP($A174+8860000,'Growth Data'!$A:$F,4,0)),\"NO\",VLOOKUP($A174+8860000,'Growth Data'!$A:$F,4,0))","v":"NO"},0,null,0,{"$f":"IF(BU174=\"YES\",IF(ISERROR(VLOOKUP($A174+8860000,'Growth Data'!$A:$Z,7,0)),0,VLOOKUP($A174+8860000,'Growth Data'!$A:$Z,7,0)),0)","v":0},0,null,"NO",{"$f":"IF(ISERROR(VLOOKUP($A174+8860000,'Growth Data'!$A:$F,5,0)),\"NO\",VLOOKUP($A174+8860000,'Growth Data'!$A:$F,5,0))","v":"NO"},0,null,0,{"$f":"IF(CC174=\"YES\",IF(ISERROR(VLOOKUP($A174+8860000,'Growth Data'!$A:$Z,8,0)),0,VLOOKUP($A174+8860000,'Growth Data'!$A:$Z,8,0)),0)","v":0},0,null,null,null,0]
[3082,"Trottiscliffe CEP School",null,"Trottiscliffe CEP School","Trottiscliffe CEP School",0,null,322585.31,322585.30653361621,0,null,0,0,0,null,322585.31,322585.30653361621,0,null,1694.73,1694.7285563999997,0,null,null,null,0,null,0,0,0,null,40483.9,null,40484,null,1951.61,null,1952,null,0,null,0,null,0,null,0,null,null,null,0,null,null,null,0,null,null,null,0,null,null,null,0,null,"NO",{"$f":"IF(ISERROR(VLOOKUP($A175+8860000,'Growth Data'!$A:$F,3,0)),\"NO\",VLOOKUP($A175+8860000,'Growth Data'!$A:$F,3,0))","v":"NO"},0,null,0,{"$f":"IF(BM175=\"YES\",IF(ISERROR(VLOOKUP($A175+8860000,'Growth Data'!$A:$F,6,0)),0,VLOOKUP($A175+8860000,'Growth Data'!$A:$F,6,0)),0)","v":0},0,null,"NO",{"$f":"IF(ISERROR(VLOOKUP($A175+8860000,'Growth Data'!$A:$F,4,0)),\"NO\",VLOOKUP($A175+8860000,'Growth Data'!$A:$F,4,0))","v":"NO"},0,null,0,{"$f":"IF(BU175=\"YES\",IF(ISERROR(VLOOKUP($A175+8860000,'Growth Data'!$A:$Z,7,0)),0,VLOOKUP($A175+8860000,'Growth Data'!$A:$Z,7,0)),0)","v":0},0,null,"NO",{"$f":"IF(ISERROR(VLOOKUP($A175+8860000,'Growth Data'!$A:$F,5,0)),\"NO\",VLOOKUP($A175+8860000,'Growth Data'!$A:$F,5,0))","v":"NO"},0,null,0,{"$f":"IF(CC175=\"YES\",IF(ISERROR(VLOOKUP($A175+8860000,'Growth Data'!$A:$Z,8,0)),0,VLOOKUP($A175+8860000,'Growth Data'!$A:$Z,8,0)),0)","v":0},0,null,null,null,0]
[3083,"Ulcombe CEP School",null,"Ulcombe CEP School","Ulcombe CEP School",0,null,354896.68,354896.68255705963,0,null,0,0,0,null,354896.68,354896.68255705963,0,null,1823.12,1823.1170834,0,null,null,null,0,null,0,0,0,null,5580,null,5580,null,5442,null,5442,null,0,null,0,null,0,null,0,null,null,null,0,null,null,null,0,null,null,null,0,null,null,null,0,null,"NO",{"$f":"IF(ISERROR(VLOOKUP($A176+8860000,'Growth Data'!$A:$F,3,0)),\"NO\",VLOOKUP($A176+8860000,'Growth Data'!$A:$F,3,0))","v":"NO"},0,null,0,{"$f":"IF(BM176=\"YES\",IF(ISERROR(VLOOKUP($A176+8860000,'Growth Data'!$A:$F,6,0)),0,VLOOKUP($A176+8860000,'Growth Data'!$A:$F,6,0)),0)","v":0},0,null,"NO",{"$f":"IF(ISERROR(VLOOKUP($A176+8860000,'Growth Data'!$A:$F,4,0)),\"NO\",VLOOKUP($A176+8860000,'Growth Data'!$A:$F,4,0))","v":"NO"},0,null,0,{"$f":"IF(BU176=\"YES\",IF(ISERROR(VLOOKUP($A176+8860000,'Growth Data'!$A:$Z,7,0)),0,VLOOKUP($A176+8860000,'Growth Data'!$A:$Z,7,0)),0)","v":0},0,null,"NO",{"$f":"IF(ISERROR(VLOOKUP($A176+8860000,'Growth Data'!$A:$F,5,0)),\"NO\",VLOOKUP($A176+8860000,'Growth Data'!$A:$F,5,0))","v":"NO"},0,null,0,{"$f":"IF(CC176=\"YES\",IF(ISERROR(VLOOKUP($A176+8860000,'Growth Data'!$A:$Z,8,0)),0,VLOOKUP($A176+8860000,'Growth Data'!$A:$Z,8,0)),0)","v":0},0,null,null,null,0]
[3084,"Wateringbury CEP School",null,"Wateringbury CEP School","Wateringbury CEP School",0,null,720358.87,720358.87071298459,0,null,0,0,0,null,720358.87,720358.87071298459,0,null,5109.8599999999997,5109.8633746000005,0,null,null,null,0,null,0,0,0,null,29098.639999999999,null,29099,null,3090.14,null,3090,null,0,null,0,null,0,null,0,null,null,null,0,null,null,null,0,null,null,null,0,null,null,null,0,null,"NO",{"$f":"IF(ISERROR(VLOOKUP($A177+8860000,'Growth Data'!$A:$F,3,0)),\"NO\",VLOOKUP($A177+8860000,'Growth Data'!$A:$F,3,0))","v":"NO"},0,null,0,{"$f":"IF(BM177=\"YES\",IF(ISERROR(VLOOKUP($A177+8860000,'Growth Data'!$A:$F,6,0)),0,VLOOKUP($A177+8860000,'Growth Data'!$A:$F,6,0)),0)","v":0},0,null,"NO",{"$f":"IF(ISERROR(VLOOKUP($A177+8860000,'Growth Data'!$A:$F,4,0)),\"NO\",VLOOKUP($A177+8860000,'Growth Data'!$A:$F,4,0))","v":"NO"},0,null,0,{"$f":"IF(BU177=\"YES\",IF(ISERROR(VLOOKUP($A177+8860000,'Growth Data'!$A:$Z,7,0)),0,VLOOKUP($A177+8860000,'Growth Data'!$A:$Z,7,0)),0)","v":0},0,null,"NO",{"$f":"IF(ISERROR(VLOOKUP($A177+8860000,'Growth Data'!$A:$F,5,0)),\"NO\",VLOOKUP($A177+8860000,'Growth Data'!$A:$F,5,0))","v":"NO"},0,null,0,{"$f":"IF(CC177=\"YES\",IF(ISERROR(VLOOKUP($A177+8860000,'Growth Data'!$A:$Z,8,0)),0,VLOOKUP($A177+8860000,'Growth Data'!$A:$Z,8,0)),0)","v":0},0,null,null,null,0]
[3088,"Wouldham, All Saint's CEP School",null,"Wouldham, All Saint's CEP School","Wouldham, All Saint's CEP School",0,null,796902.03,796902.03237016243,0,null,0,0,0,null,796902.03,796902.03237016243,0,null,5520.71,5520.7066610000002,0,null,null,null,0,null,0,0,0,null,48793.22,null,48793,null,1120.68,null,1121,null,0,null,0,null,0,null,0,null,null,null,0,null,null,null,0,null,null,null,0,null,null,null,0,null,"NO",{"$f":"IF(ISERROR(VLOOKUP($A178+8860000,'Growth Data'!$A:$F,3,0)),\"NO\",VLOOKUP($A178+8860000,'Growth Data'!$A:$F,3,0))","v":"YES"},1,null,0,{"$f":"IF(BM178=\"YES\",IF(ISERROR(VLOOKUP($A178+8860000,'Growth Data'!$A:$F,6,0)),0,VLOOKUP($A178+8860000,'Growth Data'!$A:$F,6,0)),0)","v":56},-56,null,"NO",{"$f":"IF(ISERROR(VLOOKUP($A178+8860000,'Growth Data'!$A:$F,4,0)),\"NO\",VLOOKUP($A178+8860000,'Growth Data'!$A:$F,4,0))","v":"NO"},0,null,0,{"$f":"IF(BU178=\"YES\",IF(ISERROR(VLOOKUP($A178+8860000,'Growth Data'!$A:$Z,7,0)),0,VLOOKUP($A178+8860000,'Growth Data'!$A:$Z,7,0)),0)","v":0},0,null,"NO",{"$f":"IF(ISERROR(VLOOKUP($A178+8860000,'Growth Data'!$A:$F,5,0)),\"NO\",VLOOKUP($A178+8860000,'Growth Data'!$A:$F,5,0))","v":"NO"},0,null,0,{"$f":"IF(CC178=\"YES\",IF(ISERROR(VLOOKUP($A178+8860000,'Growth Data'!$A:$Z,8,0)),0,VLOOKUP($A178+8860000,'Growth Data'!$A:$Z,8,0)),0)","v":0},0,null,null,null,0]
[3089,"St George's CEP School",null,"St George's CEP School","St George's CEP School",0,null,804718.68,804718.6820235193,0,null,0,0,0,null,804718.68,804718.6820235193,0,null,5392.32,5392.3181340000001,0,null,null,null,0,null,0,0,0,null,42482.21,null,42482,null,1751.78,null,1752,null,0,null,0,null,0,null,0,null,null,null,0,null,null,null,0,null,null,null,0,null,null,null,0,null,"NO",{"$f":"IF(ISERROR(VLOOKUP($A179+8860000,'Growth Data'!$A:$F,3,0)),\"NO\",VLOOKUP($A179+8860000,'Growth Data'!$A:$F,3,0))","v":"NO"},0,null,0,{"$f":"IF(BM179=\"YES\",IF(ISERROR(VLOOKUP($A179+8860000,'Growth Data'!$A:$F,6,0)),0,VLOOKUP($A179+8860000,'Growth Data'!$A:$F,6,0)),0)","v":0},0,null,"YES",{"$f":"IF(ISERROR(VLOOKUP($A179+8860000,'Growth Data'!$A:$F,4,0)),\"NO\",VLOOKUP($A179+8860000,'Growth Data'!$A:$F,4,0))","v":"NO"},1,null,26,{"$f":"IF(BU179=\"YES\",IF(ISERROR(VLOOKUP($A179+8860000,'Growth Data'!$A:$Z,7,0)),0,VLOOKUP($A179+8860000,'Growth Data'!$A:$Z,7,0)),0)","v":0},26,null,"YES",{"$f":"IF(ISERROR(VLOOKUP($A179+8860000,'Growth Data'!$A:$F,5,0)),\"NO\",VLOOKUP($A179+8860000,'Growth Data'!$A:$F,5,0))","v":"NO"},1,null,25,{"$f":"IF(CC179=\"YES\",IF(ISERROR(VLOOKUP($A179+8860000,'Growth Data'!$A:$Z,8,0)),0,VLOOKUP($A179+8860000,'Growth Data'!$A:$Z,8,0)),0)","v":0},25,null,null,null,0]
[3090,"St Margaret's CEP School, Collier Street",null,"St Margaret's CEP School, Collier Street","St Margaret's CEP School, Collier Street",0,null,508691.99,508691.98623359756,0,null,0,0,0,null,508691.99,508691.98623359756,0,null,3081.32,3081.3246479999998,0,null,null,null,0,null,0,0,0,null,28406.47,null,28406,null,3159.35,null,3159,null,0,null,0,null,0,null,0,null,null,null,0,null,null,null,0,null,null,null,0,null,null,null,0,null,"NO",{"$f":"IF(ISERROR(VLOOKUP($A180+8860000,'Growth Data'!$A:$F,3,0)),\"NO\",VLOOKUP($A180+8860000,'Growth Data'!$A:$F,3,0))","v":"NO"},0,null,0,{"$f":"IF(BM180=\"YES\",IF(ISERROR(VLOOKUP($A180+8860000,'Growth Data'!$A:$F,6,0)),0,VLOOKUP($A180+8860000,'Growth Data'!$A:$F,6,0)),0)","v":0},0,null,"NO",{"$f":"IF(ISERROR(VLOOKUP($A180+8860000,'Growth Data'!$A:$F,4,0)),\"NO\",VLOOKUP($A180+8860000,'Growth Data'!$A:$F,4,0))","v":"NO"},0,null,0,{"$f":"IF(BU180=\"YES\",IF(ISERROR(VLOOKUP($A180+8860000,'Growth Data'!$A:$Z,7,0)),0,VLOOKUP($A180+8860000,'Growth Data'!$A:$Z,7,0)),0)","v":0},0,null,"NO",{"$f":"IF(ISERROR(VLOOKUP($A180+8860000,'Growth Data'!$A:$F,5,0)),\"NO\",VLOOKUP($A180+8860000,'Growth Data'!$A:$F,5,0))","v":"NO"},0,null,0,{"$f":"IF(CC180=\"YES\",IF(ISERROR(VLOOKUP($A180+8860000,'Growth Data'!$A:$Z,8,0)),0,VLOOKUP($A180+8860000,'Growth Data'!$A:$Z,8,0)),0)","v":0},0,null,null,null,0]
[3091,"Laddingford St Mary's CEP School",null,"Laddingford St Mary's CEP School","Laddingford St Mary's CEP School",0,null,372409.56,372409.55781155889,0,null,0,0,0,null,372409.56,372409.55781155889,0,null,2002.86,2002.8610212000001,0,null,null,null,0,null,0,0,0,null,53711.01,null,53711,null,628.9,null,629,null,0,null,0,null,0,null,0,null,null,null,0,null,null,null,0,null,null,null,0,null,null,null,0,null,"NO",{"$f":"IF(ISERROR(VLOOKUP($A181+8860000,'Growth Data'!$A:$F,3,0)),\"NO\",VLOOKUP($A181+8860000,'Growth Data'!$A:$F,3,0))","v":"NO"},0,null,0,{"$f":"IF(BM181=\"YES\",IF(ISERROR(VLOOKUP($A181+8860000,'Growth Data'!$A:$F,6,0)),0,VLOOKUP($A181+8860000,'Growth Data'!$A:$F,6,0)),0)","v":0},0,null,"NO",{"$f":"IF(ISERROR(VLOOKUP($A181+8860000,'Growth Data'!$A:$F,4,0)),\"NO\",VLOOKUP($A181+8860000,'Growth Data'!$A:$F,4,0))","v":"NO"},0,null,0,{"$f":"IF(BU181=\"YES\",IF(ISERROR(VLOOKUP($A181+8860000,'Growth Data'!$A:$Z,7,0)),0,VLOOKUP($A181+8860000,'Growth Data'!$A:$Z,7,0)),0)","v":0},0,null,"NO",{"$f":"IF(ISERROR(VLOOKUP($A181+8860000,'Growth Data'!$A:$F,5,0)),\"NO\",VLOOKUP($A181+8860000,'Growth Data'!$A:$F,5,0))","v":"NO"},0,null,0,{"$f":"IF(CC181=\"YES\",IF(ISERROR(VLOOKUP($A181+8860000,'Growth Data'!$A:$Z,8,0)),0,VLOOKUP($A181+8860000,'Growth Data'!$A:$Z,8,0)),0)","v":0},0,null,null,null,0]
[3092,"Yalding St Peter & St Paul CEP School",null,"Yalding St Peter & St Paul CEP School","Yalding St Peter & St Paul CEP School",0,null,595722.46,595722.45708601631,0,null,0,0,0,null,595722.46,595722.45708601631,0,null,4005.72,4005.7220424000002,0,null,null,null,0,null,0,0,0,null,35978.71,null,35979,null,2402.13,null,2402,null,0,null,0,null,0,null,0,null,null,null,0,null,null,null,0,null,null,null,0,null,null,null,0,null,"NO",{"$f":"IF(ISERROR(VLOOKUP($A182+8860000,'Growth Data'!$A:$F,3,0)),\"NO\",VLOOKUP($A182+8860000,'Growth Data'!$A:$F,3,0))","v":"NO"},0,null,0,{"$f":"IF(BM182=\"YES\",IF(ISERROR(VLOOKUP($A182+8860000,'Growth Data'!$A:$F,6,0)),0,VLOOKUP($A182+8860000,'Growth Data'!$A:$F,6,0)),0)","v":0},0,null,"NO",{"$f":"IF(ISERROR(VLOOKUP($A182+8860000,'Growth Data'!$A:$F,4,0)),\"NO\",VLOOKUP($A182+8860000,'Growth Data'!$A:$F,4,0))","v":"NO"},0,null,0,{"$f":"IF(BU182=\"YES\",IF(ISERROR(VLOOKUP($A182+8860000,'Growth Data'!$A:$Z,7,0)),0,VLOOKUP($A182+8860000,'Growth Data'!$A:$Z,7,0)),0)","v":0},0,null,"NO",{"$f":"IF(ISERROR(VLOOKUP($A182+8860000,'Growth Data'!$A:$F,5,0)),\"NO\",VLOOKUP($A182+8860000,'Growth Data'!$A:$F,5,0))","v":"NO"},0,null,0,{"$f":"IF(CC182=\"YES\",IF(ISERROR(VLOOKUP($A182+8860000,'Growth Data'!$A:$Z,8,0)),0,VLOOKUP($A182+8860000,'Growth Data'!$A:$Z,8,0)),0)","v":0},0,null,null,null,0]
[3106,"Eastchurch CEP School",null,"Eastchurch CEP School","Eastchurch CEP School",0,null,1852620.77,1852620.7665678812,0,null,0,0,0,null,1852620.77,1852620.7665678812,0,null,11991.49,11991.488421800001,0,null,null,null,0,null,4.9000000000000004,4.9000000000000004,0,null,40361.39,null,40361,null,1963.86,null,1964,null,0,null,0,null,0,null,0,null,null,null,0,null,null,null,0,null,null,null,0,null,null,null,0,null,"NO",{"$f":"IF(ISERROR(VLOOKUP($A183+8860000,'Growth Data'!$A:$F,3,0)),\"NO\",VLOOKUP($A183+8860000,'Growth Data'!$A:$F,3,0))","v":"NO"},0,null,0,{"$f":"IF(BM183=\"YES\",IF(ISERROR(VLOOKUP($A183+8860000,'Growth Data'!$A:$F,6,0)),0,VLOOKUP($A183+8860000,'Growth Data'!$A:$F,6,0)),0)","v":0},0,null,"NO",{"$f":"IF(ISERROR(VLOOKUP($A183+8860000,'Growth Data'!$A:$F,4,0)),\"NO\",VLOOKUP($A183+8860000,'Growth Data'!$A:$F,4,0))","v":"NO"},0,null,0,{"$f":"IF(BU183=\"YES\",IF(ISERROR(VLOOKUP($A183+8860000,'Growth Data'!$A:$Z,7,0)),0,VLOOKUP($A183+8860000,'Growth Data'!$A:$Z,7,0)),0)","v":0},0,null,"NO",{"$f":"IF(ISERROR(VLOOKUP($A183+8860000,'Growth Data'!$A:$F,5,0)),\"NO\",VLOOKUP($A183+8860000,'Growth Data'!$A:$F,5,0))","v":"NO"},0,null,0,{"$f":"IF(CC183=\"YES\",IF(ISERROR(VLOOKUP($A183+8860000,'Growth Data'!$A:$Z,8,0)),0,VLOOKUP($A183+8860000,'Growth Data'!$A:$Z,8,0)),0)","v":0},0,null,null,null,0]
[3108,"Ospringe CEP School",null,"Ospringe CEP School","Ospringe CEP School",0,null,943179.99,943179.99381897389,0,null,0,0,0,null,943179.99,943179.99381897389,0,null,6316.72,6316.7155284000009,0,null,null,null,0,null,0,0,0,null,18786.09,null,18786,null,4121.3900000000003,null,4121,null,0,null,0,null,0,null,0,null,null,null,0,null,null,null,0,null,null,null,0,null,null,null,0,null,"NO",{"$f":"IF(ISERROR(VLOOKUP($A184+8860000,'Growth Data'!$A:$F,3,0)),\"NO\",VLOOKUP($A184+8860000,'Growth Data'!$A:$F,3,0))","v":"NO"},0,null,0,{"$f":"IF(BM184=\"YES\",IF(ISERROR(VLOOKUP($A184+8860000,'Growth Data'!$A:$F,6,0)),0,VLOOKUP($A184+8860000,'Growth Data'!$A:$F,6,0)),0)","v":0},0,null,"NO",{"$f":"IF(ISERROR(VLOOKUP($A184+8860000,'Growth Data'!$A:$F,4,0)),\"NO\",VLOOKUP($A184+8860000,'Growth Data'!$A:$F,4,0))","v":"NO"},0,null,0,{"$f":"IF(BU184=\"YES\",IF(ISERROR(VLOOKUP($A184+8860000,'Growth Data'!$A:$Z,7,0)),0,VLOOKUP($A184+8860000,'Growth Data'!$A:$Z,7,0)),0)","v":0},0,null,"NO",{"$f":"IF(ISERROR(VLOOKUP($A184+8860000,'Growth Data'!$A:$F,5,0)),\"NO\",VLOOKUP($A184+8860000,'Growth Data'!$A:$F,5,0))","v":"NO"},0,null,0,{"$f":"IF(CC184=\"YES\",IF(ISERROR(VLOOKUP($A184+8860000,'Growth Data'!$A:$Z,8,0)),0,VLOOKUP($A184+8860000,'Growth Data'!$A:$Z,8,0)),0)","v":0},0,null,null,null,0]
[3109,"Hernhill CEP School",null,"Hernhill CEP School","Hernhill CEP School",0,null,762123.23,762123.22862540476,0,null,0,0,0,null,762123.23,762123.22862540476,0,null,5263.93,5263.9296069999991,0,null,null,null,0,null,0,0,0,null,30068.83,null,30069,null,2993.12,null,2993,null,0,null,0,null,0,null,0,null,null,null,0,null,null,null,0,null,null,null,0,null,null,null,0,null,"NO",{"$f":"IF(ISERROR(VLOOKUP($A185+8860000,'Growth Data'!$A:$F,3,0)),\"NO\",VLOOKUP($A185+8860000,'Growth Data'!$A:$F,3,0))","v":"NO"},0,null,0,{"$f":"IF(BM185=\"YES\",IF(ISERROR(VLOOKUP($A185+8860000,'Growth Data'!$A:$F,6,0)),0,VLOOKUP($A185+8860000,'Growth Data'!$A:$F,6,0)),0)","v":0},0,null,"NO",{"$f":"IF(ISERROR(VLOOKUP($A185+8860000,'Growth Data'!$A:$F,4,0)),\"NO\",VLOOKUP($A185+8860000,'Growth Data'!$A:$F,4,0))","v":"NO"},0,null,0,{"$f":"IF(BU185=\"YES\",IF(ISERROR(VLOOKUP($A185+8860000,'Growth Data'!$A:$Z,7,0)),0,VLOOKUP($A185+8860000,'Growth Data'!$A:$Z,7,0)),0)","v":0},0,null,"NO",{"$f":"IF(ISERROR(VLOOKUP($A185+8860000,'Growth Data'!$A:$F,5,0)),\"NO\",VLOOKUP($A185+8860000,'Growth Data'!$A:$F,5,0))","v":"NO"},0,null,0,{"$f":"IF(CC185=\"YES\",IF(ISERROR(VLOOKUP($A185+8860000,'Growth Data'!$A:$Z,8,0)),0,VLOOKUP($A185+8860000,'Growth Data'!$A:$Z,8,0)),0)","v":0},0,null,null,null,0]
[3111,"Newington CEP School",null,"Newington CEP School","Newington CEP School",0,null,701627.68,701627.67902485142,0,null,0,0,0,null,701627.68,701627.67902485142,0,null,4390.8900000000003,4390.8876233999999,0,null,null,null,0,null,0,0,0,null,41775.39,null,41775,null,1822.46,null,1822,null,0,null,0,null,0,null,0,null,null,null,0,null,null,null,0,null,null,null,0,null,null,null,0,null,"NO",{"$f":"IF(ISERROR(VLOOKUP($A186+8860000,'Growth Data'!$A:$F,3,0)),\"NO\",VLOOKUP($A186+8860000,'Growth Data'!$A:$F,3,0))","v":"NO"},0,null,0,{"$f":"IF(BM186=\"YES\",IF(ISERROR(VLOOKUP($A186+8860000,'Growth Data'!$A:$F,6,0)),0,VLOOKUP($A186+8860000,'Growth Data'!$A:$F,6,0)),0)","v":0},0,null,"NO",{"$f":"IF(ISERROR(VLOOKUP($A186+8860000,'Growth Data'!$A:$F,4,0)),\"NO\",VLOOKUP($A186+8860000,'Growth Data'!$A:$F,4,0))","v":"NO"},0,null,0,{"$f":"IF(BU186=\"YES\",IF(ISERROR(VLOOKUP($A186+8860000,'Growth Data'!$A:$Z,7,0)),0,VLOOKUP($A186+8860000,'Growth Data'!$A:$Z,7,0)),0)","v":0},0,null,"NO",{"$f":"IF(ISERROR(VLOOKUP($A186+8860000,'Growth Data'!$A:$F,5,0)),\"NO\",VLOOKUP($A186+8860000,'Growth Data'!$A:$F,5,0))","v":"NO"},0,null,0,{"$f":"IF(CC186=\"YES\",IF(ISERROR(VLOOKUP($A186+8860000,'Growth Data'!$A:$Z,8,0)),0,VLOOKUP($A186+8860000,'Growth Data'!$A:$Z,8,0)),0)","v":0},0,null,null,null,0]
[3117,"Teynham Parochial CEP School",null,"Teynham Parochial CEP School","Teynham Parochial CEP School",0,null,800947.16,800947.16189293377,0,null,0,0,0,null,800947.16,800947.16189293377,0,null,5186.8999999999996,5186.8964907999998,0,null,null,null,0,null,0,0,0,null,63768.99,null,63769,null,0,null,0,null,0,null,0,null,0,null,0,null,null,null,0,null,null,null,0,null,null,null,0,null,null,null,0,null,"NO",{"$f":"IF(ISERROR(VLOOKUP($A187+8860000,'Growth Data'!$A:$F,3,0)),\"NO\",VLOOKUP($A187+8860000,'Growth Data'!$A:$F,3,0))","v":"NO"},0,null,0,{"$f":"IF(BM187=\"YES\",IF(ISERROR(VLOOKUP($A187+8860000,'Growth Data'!$A:$F,6,0)),0,VLOOKUP($A187+8860000,'Growth Data'!$A:$F,6,0)),0)","v":0},0,null,"NO",{"$f":"IF(ISERROR(VLOOKUP($A187+8860000,'Growth Data'!$A:$F,4,0)),\"NO\",VLOOKUP($A187+8860000,'Growth Data'!$A:$F,4,0))","v":"NO"},0,null,0,{"$f":"IF(BU187=\"YES\",IF(ISERROR(VLOOKUP($A187+8860000,'Growth Data'!$A:$Z,7,0)),0,VLOOKUP($A187+8860000,'Growth Data'!$A:$Z,7,0)),0)","v":0},0,null,"NO",{"$f":"IF(ISERROR(VLOOKUP($A187+8860000,'Growth Data'!$A:$F,5,0)),\"NO\",VLOOKUP($A187+8860000,'Growth Data'!$A:$F,5,0))","v":"NO"},0,null,0,{"$f":"IF(CC187=\"YES\",IF(ISERROR(VLOOKUP($A187+8860000,'Growth Data'!$A:$Z,8,0)),0,VLOOKUP($A187+8860000,'Growth Data'!$A:$Z,8,0)),0)","v":0},0,null,null,null,0]
[3120,"Barham CEP School",null,"Barham CEP School","Barham CEP School",0,null,740319.47,740319.46659774263,0,null,0,0,0,null,740319.47,740319.46659774263,0,null,5186.8999999999996,5186.8964907999998,0,null,null,null,0,null,0,0,0,null,80483.92,null,80484,null,0,null,0,null,0,null,0,null,0,null,0,null,null,null,0,null,null,null,0,null,null,null,0,null,null,null,0,null,"NO",{"$f":"IF(ISERROR(VLOOKUP($A188+8860000,'Growth Data'!$A:$F,3,0)),\"NO\",VLOOKUP($A188+8860000,'Growth Data'!$A:$F,3,0))","v":"NO"},0,null,0,{"$f":"IF(BM188=\"YES\",IF(ISERROR(VLOOKUP($A188+8860000,'Growth Data'!$A:$F,6,0)),0,VLOOKUP($A188+8860000,'Growth Data'!$A:$F,6,0)),0)","v":0},0,null,"NO",{"$f":"IF(ISERROR(VLOOKUP($A188+8860000,'Growth Data'!$A:$F,4,0)),\"NO\",VLOOKUP($A188+8860000,'Growth Data'!$A:$F,4,0))","v":"NO"},0,null,0,{"$f":"IF(BU188=\"YES\",IF(ISERROR(VLOOKUP($A188+8860000,'Growth Data'!$A:$Z,7,0)),0,VLOOKUP($A188+8860000,'Growth Data'!$A:$Z,7,0)),0)","v":0},0,null,"NO",{"$f":"IF(ISERROR(VLOOKUP($A188+8860000,'Growth Data'!$A:$F,5,0)),\"NO\",VLOOKUP($A188+8860000,'Growth Data'!$A:$F,5,0))","v":"NO"},0,null,0,{"$f":"IF(CC188=\"YES\",IF(ISERROR(VLOOKUP($A188+8860000,'Growth Data'!$A:$Z,8,0)),0,VLOOKUP($A188+8860000,'Growth Data'!$A:$Z,8,0)),0)","v":0},0,null,null,null,0]
[3122,"Bridge & Patrixbourne CEP School",null,"Bridge & Patrixbourne CEP School","Bridge & Patrixbourne CEP School",0,null,1437971,1437971,0,null,0,0,0,null,1437971,1437971,0,null,10604.89,10604.892330199998,0,null,null,null,0,null,0,0,0,null,41378.559999999998,null,41379,null,1862.14,null,1862,null,0,null,0,null,0,null,0,null,null,null,0,null,null,null,0,null,null,null,0,null,null,null,0,null,"NO",{"$f":"IF(ISERROR(VLOOKUP($A189+8860000,'Growth Data'!$A:$F,3,0)),\"NO\",VLOOKUP($A189+8860000,'Growth Data'!$A:$F,3,0))","v":"NO"},0,null,0,{"$f":"IF(BM189=\"YES\",IF(ISERROR(VLOOKUP($A189+8860000,'Growth Data'!$A:$F,6,0)),0,VLOOKUP($A189+8860000,'Growth Data'!$A:$F,6,0)),0)","v":0},0,null,"NO",{"$f":"IF(ISERROR(VLOOKUP($A189+8860000,'Growth Data'!$A:$F,4,0)),\"NO\",VLOOKUP($A189+8860000,'Growth Data'!$A:$F,4,0))","v":"NO"},0,null,0,{"$f":"IF(BU189=\"YES\",IF(ISERROR(VLOOKUP($A189+8860000,'Growth Data'!$A:$Z,7,0)),0,VLOOKUP($A189+8860000,'Growth Data'!$A:$Z,7,0)),0)","v":0},0,null,"NO",{"$f":"IF(ISERROR(VLOOKUP($A189+8860000,'Growth Data'!$A:$F,5,0)),\"NO\",VLOOKUP($A189+8860000,'Growth Data'!$A:$F,5,0))","v":"NO"},0,null,0,{"$f":"IF(CC189=\"YES\",IF(ISERROR(VLOOKUP($A189+8860000,'Growth Data'!$A:$Z,8,0)),0,VLOOKUP($A189+8860000,'Growth Data'!$A:$Z,8,0)),0)","v":0},0,null,null,null,0]
[3123,"Chislet CEP School",null,"Chislet CEP School","Chislet CEP School",0,null,412508.67,412508.66967558267,0,null,0,0,0,null,412508.67,412508.66967558267,0,null,2439.38,2439.3820129999999,0,null,null,null,0,null,0,0,0,null,27116.3,null,27116,null,3288.37,null,3288,null,0,null,0,null,0,null,0,null,null,null,0,null,null,null,0,null,null,null,0,null,null,null,0,null,"NO",{"$f":"IF(ISERROR(VLOOKUP($A190+8860000,'Growth Data'!$A:$F,3,0)),\"NO\",VLOOKUP($A190+8860000,'Growth Data'!$A:$F,3,0))","v":"NO"},0,null,0,{"$f":"IF(BM190=\"YES\",IF(ISERROR(VLOOKUP($A190+8860000,'Growth Data'!$A:$F,6,0)),0,VLOOKUP($A190+8860000,'Growth Data'!$A:$F,6,0)),0)","v":0},0,null,"NO",{"$f":"IF(ISERROR(VLOOKUP($A190+8860000,'Growth Data'!$A:$F,4,0)),\"NO\",VLOOKUP($A190+8860000,'Growth Data'!$A:$F,4,0))","v":"NO"},0,null,0,{"$f":"IF(BU190=\"YES\",IF(ISERROR(VLOOKUP($A190+8860000,'Growth Data'!$A:$Z,7,0)),0,VLOOKUP($A190+8860000,'Growth Data'!$A:$Z,7,0)),0)","v":0},0,null,"NO",{"$f":"IF(ISERROR(VLOOKUP($A190+8860000,'Growth Data'!$A:$F,5,0)),\"NO\",VLOOKUP($A190+8860000,'Growth Data'!$A:$F,5,0))","v":"NO"},0,null,0,{"$f":"IF(CC190=\"YES\",IF(ISERROR(VLOOKUP($A190+8860000,'Growth Data'!$A:$Z,8,0)),0,VLOOKUP($A190+8860000,'Growth Data'!$A:$Z,8,0)),0)","v":0},0,null,null,null,0]
[3126,"Littlebourne CEP School",null,"Littlebourne CEP School","Littlebourne CEP School",0,null,415569.3,415569.29761906288,0,null,0,0,0,null,415569.3,415569.29761906288,0,null,2259.64,2259.6380752000005,0,null,null,null,0,null,0,0,0,null,32442.16,null,32442,null,2755.78,null,2756,null,0,null,0,null,0,null,0,null,null,null,0,null,null,null,0,null,null,null,0,null,null,null,0,null,"NO",{"$f":"IF(ISERROR(VLOOKUP($A191+8860000,'Growth Data'!$A:$F,3,0)),\"NO\",VLOOKUP($A191+8860000,'Growth Data'!$A:$F,3,0))","v":"NO"},0,null,0,{"$f":"IF(BM191=\"YES\",IF(ISERROR(VLOOKUP($A191+8860000,'Growth Data'!$A:$F,6,0)),0,VLOOKUP($A191+8860000,'Growth Data'!$A:$F,6,0)),0)","v":0},0,null,"NO",{"$f":"IF(ISERROR(VLOOKUP($A191+8860000,'Growth Data'!$A:$F,4,0)),\"NO\",VLOOKUP($A191+8860000,'Growth Data'!$A:$F,4,0))","v":"NO"},0,null,0,{"$f":"IF(BU191=\"YES\",IF(ISERROR(VLOOKUP($A191+8860000,'Growth Data'!$A:$Z,7,0)),0,VLOOKUP($A191+8860000,'Growth Data'!$A:$Z,7,0)),0)","v":0},0,null,"NO",{"$f":"IF(ISERROR(VLOOKUP($A191+8860000,'Growth Data'!$A:$F,5,0)),\"NO\",VLOOKUP($A191+8860000,'Growth Data'!$A:$F,5,0))","v":"NO"},0,null,0,{"$f":"IF(CC191=\"YES\",IF(ISERROR(VLOOKUP($A191+8860000,'Growth Data'!$A:$Z,8,0)),0,VLOOKUP($A191+8860000,'Growth Data'!$A:$Z,8,0)),0)","v":0},0,null,null,null,0]
[3129,"St Alphege CEI School",null,"St Alphege CEI School","St Alphege CEI School",0,null,666619.56000000006,666619.56408065581,0,null,0,0,0,null,666619.56000000006,666619.56408065581,0,null,4211.1400000000003,4211.1436856000009,0,null,null,null,0,null,4.9000000000000004,4.9000000000000004,0,null,292682,null,292682,null,0,null,0,null,0,null,0,null,0,null,0,null,null,null,0,null,null,null,0,null,null,null,0,null,null,null,0,null,"NO",{"$f":"IF(ISERROR(VLOOKUP($A192+8860000,'Growth Data'!$A:$F,3,0)),\"NO\",VLOOKUP($A192+8860000,'Growth Data'!$A:$F,3,0))","v":"NO"},0,null,0,{"$f":"IF(BM192=\"YES\",IF(ISERROR(VLOOKUP($A192+8860000,'Growth Data'!$A:$F,6,0)),0,VLOOKUP($A192+8860000,'Growth Data'!$A:$F,6,0)),0)","v":0},0,null,"NO",{"$f":"IF(ISERROR(VLOOKUP($A192+8860000,'Growth Data'!$A:$F,4,0)),\"NO\",VLOOKUP($A192+8860000,'Growth Data'!$A:$F,4,0))","v":"NO"},0,null,0,{"$f":"IF(BU192=\"YES\",IF(ISERROR(VLOOKUP($A192+8860000,'Growth Data'!$A:$Z,7,0)),0,VLOOKUP($A192+8860000,'Growth Data'!$A:$Z,7,0)),0)","v":0},0,null,"NO",{"$f":"IF(ISERROR(VLOOKUP($A192+8860000,'Growth Data'!$A:$F,5,0)),\"NO\",VLOOKUP($A192+8860000,'Growth Data'!$A:$F,5,0))","v":"NO"},0,null,0,{"$f":"IF(CC192=\"YES\",IF(ISERROR(VLOOKUP($A192+8860000,'Growth Data'!$A:$Z,8,0)),0,VLOOKUP($A192+8860000,'Growth Data'!$A:$Z,8,0)),0)","v":0},0,null,null,null,0]
[3130,"Wickhambreaux CEP School",null,"Wickhambreaux CEP School","Wickhambreaux CEP School",0,null,493038.44,493038.4350651186,0,null,6452.65,6452.6455293217441,0,null,499491.08,499491.08059444034,0,null,3209.71,3209.7131750000003,0,null,null,null,0,null,0,0,0,null,102719.75,null,102720,null,0,null,0,null,0,null,0,null,0,null,0,null,null,null,0,null,null,null,0,null,null,null,0,null,null,null,0,null,"NO",{"$f":"IF(ISERROR(VLOOKUP($A193+8860000,'Growth Data'!$A:$F,3,0)),\"NO\",VLOOKUP($A193+8860000,'Growth Data'!$A:$F,3,0))","v":"NO"},0,null,0,{"$f":"IF(BM193=\"YES\",IF(ISERROR(VLOOKUP($A193+8860000,'Growth Data'!$A:$F,6,0)),0,VLOOKUP($A193+8860000,'Growth Data'!$A:$F,6,0)),0)","v":0},0,null,"NO",{"$f":"IF(ISERROR(VLOOKUP($A193+8860000,'Growth Data'!$A:$F,4,0)),\"NO\",VLOOKUP($A193+8860000,'Growth Data'!$A:$F,4,0))","v":"NO"},0,null,0,{"$f":"IF(BU193=\"YES\",IF(ISERROR(VLOOKUP($A193+8860000,'Growth Data'!$A:$Z,7,0)),0,VLOOKUP($A193+8860000,'Growth Data'!$A:$Z,7,0)),0)","v":0},0,null,"NO",{"$f":"IF(ISERROR(VLOOKUP($A193+8860000,'Growth Data'!$A:$F,5,0)),\"NO\",VLOOKUP($A193+8860000,'Growth Data'!$A:$F,5,0))","v":"NO"},0,null,0,{"$f":"IF(CC193=\"YES\",IF(ISERROR(VLOOKUP($A193+8860000,'Growth Data'!$A:$Z,8,0)),0,VLOOKUP($A193+8860000,'Growth Data'!$A:$Z,8,0)),0)","v":0},0,null,null,null,0]
[3134,"John Mayne CEP School",null,"John Mayne CEP School","John Mayne CEP School",0,null,493211.22,493211.2241907554,0,null,0,0,0,null,493211.22,493211.2241907554,0,null,2978.61,2978.6138264000001,0,null,null,null,0,null,0,0,0,null,45735.39,null,45735,null,1426.46,null,1426,null,0,null,0,null,0,null,0,null,null,null,0,null,null,null,0,null,null,null,0,null,null,null,0,null,"NO",{"$f":"IF(ISERROR(VLOOKUP($A194+8860000,'Growth Data'!$A:$F,3,0)),\"NO\",VLOOKUP($A194+8860000,'Growth Data'!$A:$F,3,0))","v":"NO"},0,null,0,{"$f":"IF(BM194=\"YES\",IF(ISERROR(VLOOKUP($A194+8860000,'Growth Data'!$A:$F,6,0)),0,VLOOKUP($A194+8860000,'Growth Data'!$A:$F,6,0)),0)","v":0},0,null,"NO",{"$f":"IF(ISERROR(VLOOKUP($A194+8860000,'Growth Data'!$A:$F,4,0)),\"NO\",VLOOKUP($A194+8860000,'Growth Data'!$A:$F,4,0))","v":"NO"},0,null,0,{"$f":"IF(BU194=\"YES\",IF(ISERROR(VLOOKUP($A194+8860000,'Growth Data'!$A:$Z,7,0)),0,VLOOKUP($A194+8860000,'Growth Data'!$A:$Z,7,0)),0)","v":0},0,null,"NO",{"$f":"IF(ISERROR(VLOOKUP($A194+8860000,'Growth Data'!$A:$F,5,0)),\"NO\",VLOOKUP($A194+8860000,'Growth Data'!$A:$F,5,0))","v":"NO"},0,null,0,{"$f":"IF(CC194=\"YES\",IF(ISERROR(VLOOKUP($A194+8860000,'Growth Data'!$A:$Z,8,0)),0,VLOOKUP($A194+8860000,'Growth Data'!$A:$Z,8,0)),0)","v":0},0,null,null,null,0]
[3136,"Brabourne CEP School",null,"Brabourne CEP School","Brabourne CEP School",{"$f":"IF(E195=D195,0,1)","v":0},null,412402.82,412402.82117432146,{"$f":"ROUND(H195-I195,0)","v":0},null,0,0,{"$f":"ROUND(L195-M195,0)","v":0},null,412402.82,412402.82117432146,{"$f":"ROUND(P195-Q195,0)","v":0},null,2465.06,2465.0597184000003,{"$f":"ROUND(T195-U195,0)","v":0},null,null,null,{"$f":"ROUND(X195-Y195,0)","v":0},null,0,0,{"$f":"ROUND(AB195-AC195,0)","v":0},null,59472.34,null,{"$f":"ROUND(AF195-AG195,0)","v":59472},null,52.77,null,{"$f":"ROUND(AJ195-AK195,0)","v":53},null,0,null,{"$f":"ROUND(AN195-AO195,0)","v":0},null,0,null,{"$f":"ROUND(AR195-AS195,0)","v":0},null,null,null,{"$f":"ROUND(AV195-AW195,0)","v":0},null,null,null,{"$f":"ROUND(AZ195-BA195,0)","v":0},null,null,null,{"$f":"ROUND(BD195-BE195,0)","v":0},null,null,null,{"$f":"ROUND(BH195-BI195,0)","v":0},null,"NO",{"$f":"IF(ISERROR(VLOOKUP($A195+8860000,'Growth Data'!$A:$F,3,0)),\"NO\",VLOOKUP($A195+8860000,'Growth Data'!$A:$F,3,0))","v":"NO"},{"$f":"IF(BL195=BM195,0,1)","v":0},null,0,{"$f":"IF(BM195=\"YES\",IF(ISERROR(VLOOKUP($A195+8860000,'Growth Data'!$A:$F,6,0)),0,VLOOKUP($A195+8860000,'Growth Data'!$A:$F,6,0)),0)","v":0},{"$f":"ROUND(BP195-BQ195,0)","v":0},null,"NO",{"$f":"IF(ISERROR(VLOOKUP($A195+8860000,'Growth Data'!$A:$F,4,0)),\"NO\",VLOOKUP($A195+8860000,'Growth Data'!$A:$F,4,0))","v":"NO"},{"$f":"IF(BT195=BU195,0,1)","v":0},null,0,{"$f":"IF(BU195=\"YES\",IF(ISERROR(VLOOKUP($A195+8860000,'Growth Data'!$A:$Z,7,0)),0,VLOOKUP($A195+8860000,'Growth Data'!$A:$Z,7,0)),0)","v":0},{"$f":"ROUND(BX195-BY195,0)","v":0},null,"NO",{"$f":"IF(ISERROR(VLOOKUP($A195+8860000,'Growth Data'!$A:$F,5,0)),\"NO\",VLOOKUP($A195+8860000,'Growth Data'!$A:$F,5,0))","v":"NO"},{"$f":"IF(CB195=CC195,0,1)","v":0},null,0,{"$f":"IF(CC195=\"YES\",IF(ISERROR(VLOOKUP($A195+8860000,'Growth Data'!$A:$Z,8,0)),0,VLOOKUP($A195+8860000,'Growth Data'!$A:$Z,8,0)),0)","v":0},{"$f":"ROUND(CF195-CG195,0)","v":0},null,null,null,{"$f":"ROUND(CJ195-CK195,0)","v":0}]
[3137,"Brookland CEP School",null,"Brookland CEP School","Brookland CEP School",0,null,450706.84,450706.84091767634,0,null,0,0,0,null,450706.84,450706.84091767634,0,null,2619.13,2619.1259507999998,0,null,null,null,0,null,0,0,0,null,90042.14,null,90042,null,0,null,0,null,0,null,0,null,0,null,0,null,null,null,0,null,null,null,0,null,null,null,0,null,null,null,0,null,"NO",{"$f":"IF(ISERROR(VLOOKUP($A196+8860000,'Growth Data'!$A:$F,3,0)),\"NO\",VLOOKUP($A196+8860000,'Growth Data'!$A:$F,3,0))","v":"NO"},0,null,0,{"$f":"IF(BM196=\"YES\",IF(ISERROR(VLOOKUP($A196+8860000,'Growth Data'!$A:$F,6,0)),0,VLOOKUP($A196+8860000,'Growth Data'!$A:$F,6,0)),0)","v":0},0,null,"NO",{"$f":"IF(ISERROR(VLOOKUP($A196+8860000,'Growth Data'!$A:$F,4,0)),\"NO\",VLOOKUP($A196+8860000,'Growth Data'!$A:$F,4,0))","v":"NO"},0,null,0,{"$f":"IF(BU196=\"YES\",IF(ISERROR(VLOOKUP($A196+8860000,'Growth Data'!$A:$Z,7,0)),0,VLOOKUP($A196+8860000,'Growth Data'!$A:$Z,7,0)),0)","v":0},0,null,"NO",{"$f":"IF(ISERROR(VLOOKUP($A196+8860000,'Growth Data'!$A:$F,5,0)),\"NO\",VLOOKUP($A196+8860000,'Growth Data'!$A:$F,5,0))","v":"NO"},0,null,0,{"$f":"IF(CC196=\"YES\",IF(ISERROR(VLOOKUP($A196+8860000,'Growth Data'!$A:$Z,8,0)),0,VLOOKUP($A196+8860000,'Growth Data'!$A:$Z,8,0)),0)","v":0},0,null,null,null,0]
[3138,"Chilham St Mary's CEP School",null,"Chilham St Mary's CEP School","Chilham St Mary's CEP School",0,null,423364.33,423364.33423268457,0,null,0,0,0,null,423364.33,423364.33423268457,0,null,2336.67,2336.6711914000002,0,null,null,null,0,null,0,0,0,null,36573.480000000003,null,36573,null,2342.65,null,2343,null,0,null,0,null,0,null,0,null,null,null,0,null,null,null,0,null,null,null,0,null,null,null,0,null,"NO",{"$f":"IF(ISERROR(VLOOKUP($A197+8860000,'Growth Data'!$A:$F,3,0)),\"NO\",VLOOKUP($A197+8860000,'Growth Data'!$A:$F,3,0))","v":"NO"},0,null,0,{"$f":"IF(BM197=\"YES\",IF(ISERROR(VLOOKUP($A197+8860000,'Growth Data'!$A:$F,6,0)),0,VLOOKUP($A197+8860000,'Growth Data'!$A:$F,6,0)),0)","v":0},0,null,"NO",{"$f":"IF(ISERROR(VLOOKUP($A197+8860000,'Growth Data'!$A:$F,4,0)),\"NO\",VLOOKUP($A197+8860000,'Growth Data'!$A:$F,4,0))","v":"NO"},0,null,0,{"$f":"IF(BU197=\"YES\",IF(ISERROR(VLOOKUP($A197+8860000,'Growth Data'!$A:$Z,7,0)),0,VLOOKUP($A197+8860000,'Growth Data'!$A:$Z,7,0)),0)","v":0},0,null,"NO",{"$f":"IF(ISERROR(VLOOKUP($A197+8860000,'Growth Data'!$A:$F,5,0)),\"NO\",VLOOKUP($A197+8860000,'Growth Data'!$A:$F,5,0))","v":"NO"},0,null,0,{"$f":"IF(CC197=\"YES\",IF(ISERROR(VLOOKUP($A197+8860000,'Growth Data'!$A:$Z,8,0)),0,VLOOKUP($A197+8860000,'Growth Data'!$A:$Z,8,0)),0)","v":0},0,null,null,null,0]
[3139,"High Halden CEP School",null,"High Halden CEP School","High Halden CEP School",0,null,413877.87,413877.86872208177,0,null,0,0,0,null,413877.87,413877.86872208177,0,null,2362.35,2362.3488968000001,0,null,null,null,0,null,0,0,0,null,57767.24,null,57767,null,223.28,null,223,null,0,null,0,null,0,null,0,null,null,null,0,null,null,null,0,null,null,null,0,null,null,null,0,null,"NO",{"$f":"IF(ISERROR(VLOOKUP($A198+8860000,'Growth Data'!$A:$F,3,0)),\"NO\",VLOOKUP($A198+8860000,'Growth Data'!$A:$F,3,0))","v":"NO"},0,null,0,{"$f":"IF(BM198=\"YES\",IF(ISERROR(VLOOKUP($A198+8860000,'Growth Data'!$A:$F,6,0)),0,VLOOKUP($A198+8860000,'Growth Data'!$A:$F,6,0)),0)","v":0},0,null,"NO",{"$f":"IF(ISERROR(VLOOKUP($A198+8860000,'Growth Data'!$A:$F,4,0)),\"NO\",VLOOKUP($A198+8860000,'Growth Data'!$A:$F,4,0))","v":"NO"},0,null,0,{"$f":"IF(BU198=\"YES\",IF(ISERROR(VLOOKUP($A198+8860000,'Growth Data'!$A:$Z,7,0)),0,VLOOKUP($A198+8860000,'Growth Data'!$A:$Z,7,0)),0)","v":0},0,null,"NO",{"$f":"IF(ISERROR(VLOOKUP($A198+8860000,'Growth Data'!$A:$F,5,0)),\"NO\",VLOOKUP($A198+8860000,'Growth Data'!$A:$F,5,0))","v":"NO"},0,null,0,{"$f":"IF(CC198=\"YES\",IF(ISERROR(VLOOKUP($A198+8860000,'Growth Data'!$A:$Z,8,0)),0,VLOOKUP($A198+8860000,'Growth Data'!$A:$Z,8,0)),0)","v":0},0,null,null,null,0]
[3145,"Woodchurch CEP School",null,"Woodchurch CEP School","Woodchurch CEP School",0,null,629651.89,629651.8917879482,0,null,0,0,0,null,629651.89,629651.8917879482,0,null,4185.47,4185.4659802000006,0,null,null,null,0,null,0,0,0,null,28865.87,null,28866,null,3113.41,null,3113,null,0,null,0,null,0,null,0,null,null,null,0,null,null,null,0,null,null,null,0,null,null,null,0,null,"NO",{"$f":"IF(ISERROR(VLOOKUP($A199+8860000,'Growth Data'!$A:$F,3,0)),\"NO\",VLOOKUP($A199+8860000,'Growth Data'!$A:$F,3,0))","v":"NO"},0,null,0,{"$f":"IF(BM199=\"YES\",IF(ISERROR(VLOOKUP($A199+8860000,'Growth Data'!$A:$F,6,0)),0,VLOOKUP($A199+8860000,'Growth Data'!$A:$F,6,0)),0)","v":0},0,null,"NO",{"$f":"IF(ISERROR(VLOOKUP($A199+8860000,'Growth Data'!$A:$F,4,0)),\"NO\",VLOOKUP($A199+8860000,'Growth Data'!$A:$F,4,0))","v":"NO"},0,null,0,{"$f":"IF(BU199=\"YES\",IF(ISERROR(VLOOKUP($A199+8860000,'Growth Data'!$A:$Z,7,0)),0,VLOOKUP($A199+8860000,'Growth Data'!$A:$Z,7,0)),0)","v":0},0,null,"NO",{"$f":"IF(ISERROR(VLOOKUP($A199+8860000,'Growth Data'!$A:$F,5,0)),\"NO\",VLOOKUP($A199+8860000,'Growth Data'!$A:$F,5,0))","v":"NO"},0,null,0,{"$f":"IF(CC199=\"YES\",IF(ISERROR(VLOOKUP($A199+8860000,'Growth Data'!$A:$Z,8,0)),0,VLOOKUP($A199+8860000,'Growth Data'!$A:$Z,8,0)),0)","v":0},0,null,null,null,0]
[3146,"Bodsham CEP School",null,"Bodsham CEP School","Bodsham CEP School",0,null,411609.71,411609.70978936384,0,null,0,0,0,null,411609.71,411609.70978936384,0,null,2388.0300000000002,2388.0266022000001,0,null,null,null,0,null,0,0,0,null,33500.629999999997,null,33501,null,2649.94,null,2650,null,0,null,0,null,0,null,0,null,null,null,0,null,null,null,0,null,null,null,0,null,null,null,0,null,"NO",{"$f":"IF(ISERROR(VLOOKUP($A200+8860000,'Growth Data'!$A:$F,3,0)),\"NO\",VLOOKUP($A200+8860000,'Growth Data'!$A:$F,3,0))","v":"NO"},0,null,0,{"$f":"IF(BM200=\"YES\",IF(ISERROR(VLOOKUP($A200+8860000,'Growth Data'!$A:$F,6,0)),0,VLOOKUP($A200+8860000,'Growth Data'!$A:$F,6,0)),0)","v":0},0,null,"NO",{"$f":"IF(ISERROR(VLOOKUP($A200+8860000,'Growth Data'!$A:$F,4,0)),\"NO\",VLOOKUP($A200+8860000,'Growth Data'!$A:$F,4,0))","v":"NO"},0,null,0,{"$f":"IF(BU200=\"YES\",IF(ISERROR(VLOOKUP($A200+8860000,'Growth Data'!$A:$Z,7,0)),0,VLOOKUP($A200+8860000,'Growth Data'!$A:$Z,7,0)),0)","v":0},0,null,"NO",{"$f":"IF(ISERROR(VLOOKUP($A200+8860000,'Growth Data'!$A:$F,5,0)),\"NO\",VLOOKUP($A200+8860000,'Growth Data'!$A:$F,5,0))","v":"NO"},0,null,0,{"$f":"IF(CC200=\"YES\",IF(ISERROR(VLOOKUP($A200+8860000,'Growth Data'!$A:$Z,8,0)),0,VLOOKUP($A200+8860000,'Growth Data'!$A:$Z,8,0)),0)","v":0},0,null,null,null,0]
[3149,"St Martin's CEP School, Folkestone",null,"St Martin's CEP School, Folkestone","St Martin's CEP School, Folkestone",0,null,770017.92,770017.91694077326,0,null,0,0,0,null,770017.92,770017.91694077326,0,null,5315.29,5315.2850177999999,0,null,null,null,0,null,0,0,0,null,56164.79,null,56165,null,383.52,null,384,null,0,null,0,null,0,null,0,null,null,null,0,null,null,null,0,null,null,null,0,null,null,null,0,null,"NO",{"$f":"IF(ISERROR(VLOOKUP($A201+8860000,'Growth Data'!$A:$F,3,0)),\"NO\",VLOOKUP($A201+8860000,'Growth Data'!$A:$F,3,0))","v":"NO"},0,null,0,{"$f":"IF(BM201=\"YES\",IF(ISERROR(VLOOKUP($A201+8860000,'Growth Data'!$A:$F,6,0)),0,VLOOKUP($A201+8860000,'Growth Data'!$A:$F,6,0)),0)","v":0},0,null,"NO",{"$f":"IF(ISERROR(VLOOKUP($A201+8860000,'Growth Data'!$A:$F,4,0)),\"NO\",VLOOKUP($A201+8860000,'Growth Data'!$A:$F,4,0))","v":"NO"},0,null,0,{"$f":"IF(BU201=\"YES\",IF(ISERROR(VLOOKUP($A201+8860000,'Growth Data'!$A:$Z,7,0)),0,VLOOKUP($A201+8860000,'Growth Data'!$A:$Z,7,0)),0)","v":0},0,null,"NO",{"$f":"IF(ISERROR(VLOOKUP($A201+8860000,'Growth Data'!$A:$F,5,0)),\"NO\",VLOOKUP($A201+8860000,'Growth Data'!$A:$F,5,0))","v":"NO"},0,null,0,{"$f":"IF(CC201=\"YES\",IF(ISERROR(VLOOKUP($A201+8860000,'Growth Data'!$A:$Z,8,0)),0,VLOOKUP($A201+8860000,'Growth Data'!$A:$Z,8,0)),0)","v":0},0,null,null,null,0]
[3150,"St Peter's CEP School, Folkestone",null,"St Peter's CEP School, Folkestone","St Peter's CEP School, Folkestone",0,null,539877.59,539877.58516257768,0,null,0,0,0,null,539877.59,539877.58516257768,0,null,2670.48,2670.4813615999997,0,null,null,null,0,null,0,0,0,null,19720.43,null,19720,null,4027.96,null,4028,null,0,null,0,null,0,null,0,null,null,null,0,null,null,null,0,null,null,null,0,null,null,null,0,null,"NO",{"$f":"IF(ISERROR(VLOOKUP($A202+8860000,'Growth Data'!$A:$F,3,0)),\"NO\",VLOOKUP($A202+8860000,'Growth Data'!$A:$F,3,0))","v":"NO"},0,null,0,{"$f":"IF(BM202=\"YES\",IF(ISERROR(VLOOKUP($A202+8860000,'Growth Data'!$A:$F,6,0)),0,VLOOKUP($A202+8860000,'Growth Data'!$A:$F,6,0)),0)","v":0},0,null,"NO",{"$f":"IF(ISERROR(VLOOKUP($A202+8860000,'Growth Data'!$A:$F,4,0)),\"NO\",VLOOKUP($A202+8860000,'Growth Data'!$A:$F,4,0))","v":"NO"},0,null,0,{"$f":"IF(BU202=\"YES\",IF(ISERROR(VLOOKUP($A202+8860000,'Growth Data'!$A:$Z,7,0)),0,VLOOKUP($A202+8860000,'Growth Data'!$A:$Z,7,0)),0)","v":0},0,null,"NO",{"$f":"IF(ISERROR(VLOOKUP($A202+8860000,'Growth Data'!$A:$F,5,0)),\"NO\",VLOOKUP($A202+8860000,'Growth Data'!$A:$F,5,0))","v":"NO"},0,null,0,{"$f":"IF(CC202=\"YES\",IF(ISERROR(VLOOKUP($A202+8860000,'Growth Data'!$A:$Z,8,0)),0,VLOOKUP($A202+8860000,'Growth Data'!$A:$Z,8,0)),0)","v":0},0,null,null,null,0]
[3153,"Seabrook CEP School",null,"Seabrook CEP School","Seabrook CEP School",0,null,452875.85,452875.84500757448,0,null,0,0,0,null,452875.85,452875.84500757448,0,null,2747.51,2747.5144778000003,0,null,null,null,0,null,0,0,0,null,29259.62,null,29260,null,3074.04,null,3074,null,0,null,0,null,0,null,0,null,null,null,0,null,null,null,0,null,null,null,0,null,null,null,0,null,"NO",{"$f":"IF(ISERROR(VLOOKUP($A203+8860000,'Growth Data'!$A:$F,3,0)),\"NO\",VLOOKUP($A203+8860000,'Growth Data'!$A:$F,3,0))","v":"NO"},0,null,0,{"$f":"IF(BM203=\"YES\",IF(ISERROR(VLOOKUP($A203+8860000,'Growth Data'!$A:$F,6,0)),0,VLOOKUP($A203+8860000,'Growth Data'!$A:$F,6,0)),0)","v":0},0,null,"NO",{"$f":"IF(ISERROR(VLOOKUP($A203+8860000,'Growth Data'!$A:$F,4,0)),\"NO\",VLOOKUP($A203+8860000,'Growth Data'!$A:$F,4,0))","v":"NO"},0,null,0,{"$f":"IF(BU203=\"YES\",IF(ISERROR(VLOOKUP($A203+8860000,'Growth Data'!$A:$Z,7,0)),0,VLOOKUP($A203+8860000,'Growth Data'!$A:$Z,7,0)),0)","v":0},0,null,"NO",{"$f":"IF(ISERROR(VLOOKUP($A203+8860000,'Growth Data'!$A:$F,5,0)),\"NO\",VLOOKUP($A203+8860000,'Growth Data'!$A:$F,5,0))","v":"NO"},0,null,0,{"$f":"IF(CC203=\"YES\",IF(ISERROR(VLOOKUP($A203+8860000,'Growth Data'!$A:$Z,8,0)),0,VLOOKUP($A203+8860000,'Growth Data'!$A:$Z,8,0)),0)","v":0},0,null,null,null,0]
[3154,"Lyminge CEP School",null,"Lyminge CEP School","Lyminge CEP School",0,null,721905.67,721905.66690269276,0,null,0,0,0,null,721905.67,721905.66690269276,0,null,5109.8599999999997,5109.8633746000005,0,null,null,null,0,null,0,0,0,null,23345.89,null,23346,null,3665.41,null,3665,null,0,null,0,null,0,null,0,null,null,null,0,null,null,null,0,null,null,null,0,null,null,null,0,null,"NO",{"$f":"IF(ISERROR(VLOOKUP($A204+8860000,'Growth Data'!$A:$F,3,0)),\"NO\",VLOOKUP($A204+8860000,'Growth Data'!$A:$F,3,0))","v":"NO"},0,null,0,{"$f":"IF(BM204=\"YES\",IF(ISERROR(VLOOKUP($A204+8860000,'Growth Data'!$A:$F,6,0)),0,VLOOKUP($A204+8860000,'Growth Data'!$A:$F,6,0)),0)","v":0},0,null,"NO",{"$f":"IF(ISERROR(VLOOKUP($A204+8860000,'Growth Data'!$A:$F,4,0)),\"NO\",VLOOKUP($A204+8860000,'Growth Data'!$A:$F,4,0))","v":"NO"},0,null,0,{"$f":"IF(BU204=\"YES\",IF(ISERROR(VLOOKUP($A204+8860000,'Growth Data'!$A:$Z,7,0)),0,VLOOKUP($A204+8860000,'Growth Data'!$A:$Z,7,0)),0)","v":0},0,null,"NO",{"$f":"IF(ISERROR(VLOOKUP($A204+8860000,'Growth Data'!$A:$F,5,0)),\"NO\",VLOOKUP($A204+8860000,'Growth Data'!$A:$F,5,0))","v":"NO"},0,null,0,{"$f":"IF(CC204=\"YES\",IF(ISERROR(VLOOKUP($A204+8860000,'Growth Data'!$A:$Z,8,0)),0,VLOOKUP($A204+8860000,'Growth Data'!$A:$Z,8,0)),0)","v":0},0,null,null,null,0]
[3155,"Lympne CEP School",null,"Lympne CEP School","Lympne CEP School",0,null,822036.78,822036.77604477282,0,null,0,0,0,null,822036.78,822036.77604477282,0,null,5546.38,5546.3843664000005,0,null,null,null,0,null,0,0,0,null,36914.660000000003,null,36915,null,2308.5300000000002,null,2309,null,0,null,0,null,0,null,0,null,null,null,0,null,null,null,0,null,null,null,0,null,null,null,0,null,"NO",{"$f":"IF(ISERROR(VLOOKUP($A205+8860000,'Growth Data'!$A:$F,3,0)),\"NO\",VLOOKUP($A205+8860000,'Growth Data'!$A:$F,3,0))","v":"NO"},0,null,0,{"$f":"IF(BM205=\"YES\",IF(ISERROR(VLOOKUP($A205+8860000,'Growth Data'!$A:$F,6,0)),0,VLOOKUP($A205+8860000,'Growth Data'!$A:$F,6,0)),0)","v":0},0,null,"NO",{"$f":"IF(ISERROR(VLOOKUP($A205+8860000,'Growth Data'!$A:$F,4,0)),\"NO\",VLOOKUP($A205+8860000,'Growth Data'!$A:$F,4,0))","v":"NO"},0,null,0,{"$f":"IF(BU205=\"YES\",IF(ISERROR(VLOOKUP($A205+8860000,'Growth Data'!$A:$Z,7,0)),0,VLOOKUP($A205+8860000,'Growth Data'!$A:$Z,7,0)),0)","v":0},0,null,"NO",{"$f":"IF(ISERROR(VLOOKUP($A205+8860000,'Growth Data'!$A:$F,5,0)),\"NO\",VLOOKUP($A205+8860000,'Growth Data'!$A:$F,5,0))","v":"NO"},0,null,0,{"$f":"IF(CC205=\"YES\",IF(ISERROR(VLOOKUP($A205+8860000,'Growth Data'!$A:$Z,8,0)),0,VLOOKUP($A205+8860000,'Growth Data'!$A:$Z,8,0)),0)","v":0},0,null,null,null,0]
[3158,"Stelling Minnis CEP School",null,"Stelling Minnis CEP School","Stelling Minnis CEP School",0,null,440662.45,440662.449860472,0,null,0,0,0,null,440662.45,440662.449860472,0,null,2516.42,2516.4151291999997,0,null,null,null,0,null,0,0,0,null,29855.16,null,29855,null,3014.48,null,3014,null,0,null,0,null,0,null,0,null,null,null,0,null,null,null,0,null,null,null,0,null,null,null,0,null,"NO",{"$f":"IF(ISERROR(VLOOKUP($A206+8860000,'Growth Data'!$A:$F,3,0)),\"NO\",VLOOKUP($A206+8860000,'Growth Data'!$A:$F,3,0))","v":"NO"},0,null,0,{"$f":"IF(BM206=\"YES\",IF(ISERROR(VLOOKUP($A206+8860000,'Growth Data'!$A:$F,6,0)),0,VLOOKUP($A206+8860000,'Growth Data'!$A:$F,6,0)),0)","v":0},0,null,"NO",{"$f":"IF(ISERROR(VLOOKUP($A206+8860000,'Growth Data'!$A:$F,4,0)),\"NO\",VLOOKUP($A206+8860000,'Growth Data'!$A:$F,4,0))","v":"NO"},0,null,0,{"$f":"IF(BU206=\"YES\",IF(ISERROR(VLOOKUP($A206+8860000,'Growth Data'!$A:$Z,7,0)),0,VLOOKUP($A206+8860000,'Growth Data'!$A:$Z,7,0)),0)","v":0},0,null,"NO",{"$f":"IF(ISERROR(VLOOKUP($A206+8860000,'Growth Data'!$A:$F,5,0)),\"NO\",VLOOKUP($A206+8860000,'Growth Data'!$A:$F,5,0))","v":"NO"},0,null,0,{"$f":"IF(CC206=\"YES\",IF(ISERROR(VLOOKUP($A206+8860000,'Growth Data'!$A:$Z,8,0)),0,VLOOKUP($A206+8860000,'Growth Data'!$A:$Z,8,0)),0)","v":0},0,null,null,null,0]
[3159,"Stowting CEP School",null,"Stowting CEP School","Stowting CEP School",0,null,415626.8,415626.7952188967,0,null,0,0,0,null,415626.8,415626.7952188967,0,null,2439.38,2439.3820129999999,0,null,null,null,0,null,0,0,0,null,25013.360000000001,null,25013,null,3498.66,null,3499,null,0,null,0,null,0,null,0,null,null,null,0,null,null,null,0,null,null,null,0,null,null,null,0,null,"NO",{"$f":"IF(ISERROR(VLOOKUP($A207+8860000,'Growth Data'!$A:$F,3,0)),\"NO\",VLOOKUP($A207+8860000,'Growth Data'!$A:$F,3,0))","v":"NO"},0,null,0,{"$f":"IF(BM207=\"YES\",IF(ISERROR(VLOOKUP($A207+8860000,'Growth Data'!$A:$F,6,0)),0,VLOOKUP($A207+8860000,'Growth Data'!$A:$F,6,0)),0)","v":0},0,null,"NO",{"$f":"IF(ISERROR(VLOOKUP($A207+8860000,'Growth Data'!$A:$F,4,0)),\"NO\",VLOOKUP($A207+8860000,'Growth Data'!$A:$F,4,0))","v":"NO"},0,null,0,{"$f":"IF(BU207=\"YES\",IF(ISERROR(VLOOKUP($A207+8860000,'Growth Data'!$A:$Z,7,0)),0,VLOOKUP($A207+8860000,'Growth Data'!$A:$Z,7,0)),0)","v":0},0,null,"NO",{"$f":"IF(ISERROR(VLOOKUP($A207+8860000,'Growth Data'!$A:$F,5,0)),\"NO\",VLOOKUP($A207+8860000,'Growth Data'!$A:$F,5,0))","v":"NO"},0,null,0,{"$f":"IF(CC207=\"YES\",IF(ISERROR(VLOOKUP($A207+8860000,'Growth Data'!$A:$Z,8,0)),0,VLOOKUP($A207+8860000,'Growth Data'!$A:$Z,8,0)),0)","v":0},0,null,null,null,0]
[3160,"Selsted CEP School",null,"Selsted CEP School","Selsted CEP School",0,null,440941.79,440941.78603267774,0,null,0,0,0,null,440941.79,440941.78603267774,0,null,2465.06,2465.0597184000003,0,null,null,null,0,null,0,0,0,null,42831.27,null,42831,null,1716.87,null,1717,null,0,null,0,null,0,null,0,null,null,null,0,null,null,null,0,null,null,null,0,null,null,null,0,null,"YES",{"$f":"IF(ISERROR(VLOOKUP($A208+8860000,'Growth Data'!$A:$F,3,0)),\"NO\",VLOOKUP($A208+8860000,'Growth Data'!$A:$F,3,0))","v":"NO"},1,null,21,{"$f":"IF(BM208=\"YES\",IF(ISERROR(VLOOKUP($A208+8860000,'Growth Data'!$A:$F,6,0)),0,VLOOKUP($A208+8860000,'Growth Data'!$A:$F,6,0)),0)","v":0},21,null,"YES",{"$f":"IF(ISERROR(VLOOKUP($A208+8860000,'Growth Data'!$A:$F,4,0)),\"NO\",VLOOKUP($A208+8860000,'Growth Data'!$A:$F,4,0))","v":"NO"},1,null,23,{"$f":"IF(BU208=\"YES\",IF(ISERROR(VLOOKUP($A208+8860000,'Growth Data'!$A:$Z,7,0)),0,VLOOKUP($A208+8860000,'Growth Data'!$A:$Z,7,0)),0)","v":0},23,null,"YES",{"$f":"IF(ISERROR(VLOOKUP($A208+8860000,'Growth Data'!$A:$F,5,0)),\"NO\",VLOOKUP($A208+8860000,'Growth Data'!$A:$F,5,0))","v":"NO"},1,null,24,{"$f":"IF(CC208=\"YES\",IF(ISERROR(VLOOKUP($A208+8860000,'Growth Data'!$A:$Z,8,0)),0,VLOOKUP($A208+8860000,'Growth Data'!$A:$Z,8,0)),0)","v":0},24,null,null,null,0]
[3163,"Downs CEP School, The",null,"Downs CEP School, The","Downs CEP School, The",0,null,1446296.1,1446296.0977838933,0,null,0,0,0,null,1446296.1,1446296.0977838933,0,null,10194.049999999999,10194.049043799996,0,null,null,null,0,null,0,0,0,null,13693.05,null,13693,null,4630.7,null,4631,null,0,null,0,null,0,null,0,null,null,null,0,null,null,null,0,null,null,null,0,null,null,null,0,null,"NO",{"$f":"IF(ISERROR(VLOOKUP($A209+8860000,'Growth Data'!$A:$F,3,0)),\"NO\",VLOOKUP($A209+8860000,'Growth Data'!$A:$F,3,0))","v":"NO"},0,null,0,{"$f":"IF(BM209=\"YES\",IF(ISERROR(VLOOKUP($A209+8860000,'Growth Data'!$A:$F,6,0)),0,VLOOKUP($A209+8860000,'Growth Data'!$A:$F,6,0)),0)","v":0},0,null,"NO",{"$f":"IF(ISERROR(VLOOKUP($A209+8860000,'Growth Data'!$A:$F,4,0)),\"NO\",VLOOKUP($A209+8860000,'Growth Data'!$A:$F,4,0))","v":"NO"},0,null,0,{"$f":"IF(BU209=\"YES\",IF(ISERROR(VLOOKUP($A209+8860000,'Growth Data'!$A:$Z,7,0)),0,VLOOKUP($A209+8860000,'Growth Data'!$A:$Z,7,0)),0)","v":0},0,null,"NO",{"$f":"IF(ISERROR(VLOOKUP($A209+8860000,'Growth Data'!$A:$F,5,0)),\"NO\",VLOOKUP($A209+8860000,'Growth Data'!$A:$F,5,0))","v":"NO"},0,null,0,{"$f":"IF(CC209=\"YES\",IF(ISERROR(VLOOKUP($A209+8860000,'Growth Data'!$A:$Z,8,0)),0,VLOOKUP($A209+8860000,'Growth Data'!$A:$Z,8,0)),0)","v":0},0,null,null,null,0]
[3167,"Eastry CEP School",null,"Eastry CEP School","Eastry CEP School",0,null,788123.64,788123.64113605546,0,null,0,0,0,null,788123.64,788123.64113605546,0,null,5495.03,5495.0289556000007,0,null,null,null,0,null,0,0,0,null,54190.26,null,54190,null,580.97,null,581,null,0,null,0,null,0,null,0,null,null,null,0,null,null,null,0,null,null,null,0,null,null,null,0,null,"NO",{"$f":"IF(ISERROR(VLOOKUP($A210+8860000,'Growth Data'!$A:$F,3,0)),\"NO\",VLOOKUP($A210+8860000,'Growth Data'!$A:$F,3,0))","v":"NO"},0,null,0,{"$f":"IF(BM210=\"YES\",IF(ISERROR(VLOOKUP($A210+8860000,'Growth Data'!$A:$F,6,0)),0,VLOOKUP($A210+8860000,'Growth Data'!$A:$F,6,0)),0)","v":0},0,null,"NO",{"$f":"IF(ISERROR(VLOOKUP($A210+8860000,'Growth Data'!$A:$F,4,0)),\"NO\",VLOOKUP($A210+8860000,'Growth Data'!$A:$F,4,0))","v":"NO"},0,null,0,{"$f":"IF(BU210=\"YES\",IF(ISERROR(VLOOKUP($A210+8860000,'Growth Data'!$A:$Z,7,0)),0,VLOOKUP($A210+8860000,'Growth Data'!$A:$Z,7,0)),0)","v":0},0,null,"NO",{"$f":"IF(ISERROR(VLOOKUP($A210+8860000,'Growth Data'!$A:$F,5,0)),\"NO\",VLOOKUP($A210+8860000,'Growth Data'!$A:$F,5,0))","v":"NO"},0,null,0,{"$f":"IF(CC210=\"YES\",IF(ISERROR(VLOOKUP($A210+8860000,'Growth Data'!$A:$Z,8,0)),0,VLOOKUP($A210+8860000,'Growth Data'!$A:$Z,8,0)),0)","v":0},0,null,null,null,0]
[3168,"Goodnestone CEP School",null,"Goodnestone CEP School","Goodnestone CEP School",0,null,308008.46999999997,308008.4688255529,0,null,0,0,0,null,308008.46999999997,308008.4688255529,0,null,1489.31,1489.3069132000001,0,null,null,null,0,null,0,0,0,null,86973.68,null,86974,null,0,null,0,null,0,null,0,null,0,null,0,null,null,null,0,null,null,null,0,null,null,null,0,null,null,null,0,null,"NO",{"$f":"IF(ISERROR(VLOOKUP($A211+8860000,'Growth Data'!$A:$F,3,0)),\"NO\",VLOOKUP($A211+8860000,'Growth Data'!$A:$F,3,0))","v":"NO"},0,null,0,{"$f":"IF(BM211=\"YES\",IF(ISERROR(VLOOKUP($A211+8860000,'Growth Data'!$A:$F,6,0)),0,VLOOKUP($A211+8860000,'Growth Data'!$A:$F,6,0)),0)","v":0},0,null,"NO",{"$f":"IF(ISERROR(VLOOKUP($A211+8860000,'Growth Data'!$A:$F,4,0)),\"NO\",VLOOKUP($A211+8860000,'Growth Data'!$A:$F,4,0))","v":"NO"},0,null,0,{"$f":"IF(BU211=\"YES\",IF(ISERROR(VLOOKUP($A211+8860000,'Growth Data'!$A:$Z,7,0)),0,VLOOKUP($A211+8860000,'Growth Data'!$A:$Z,7,0)),0)","v":0},0,null,"NO",{"$f":"IF(ISERROR(VLOOKUP($A211+8860000,'Growth Data'!$A:$F,5,0)),\"NO\",VLOOKUP($A211+8860000,'Growth Data'!$A:$F,5,0))","v":"NO"},0,null,0,{"$f":"IF(CC211=\"YES\",IF(ISERROR(VLOOKUP($A211+8860000,'Growth Data'!$A:$Z,8,0)),0,VLOOKUP($A211+8860000,'Growth Data'!$A:$Z,8,0)),0)","v":0},0,null,null,null,0]
[3169,"Guston CEP School",null,"Guston CEP School","Guston CEP School",0,null,616862.76,616862.76006401889,0,null,15326.73,15326.730778417434,0,null,632189.49,632189.49084243632,0,null,3800.3,3800.3003991999994,0,null,null,null,0,null,0,0,0,null,34662.65,null,34663,null,2533.7399999999998,null,2534,null,0,null,0,null,0,null,0,null,null,null,0,null,null,null,0,null,null,null,0,null,null,null,0,null,"NO",{"$f":"IF(ISERROR(VLOOKUP($A212+8860000,'Growth Data'!$A:$F,3,0)),\"NO\",VLOOKUP($A212+8860000,'Growth Data'!$A:$F,3,0))","v":"NO"},0,null,0,{"$f":"IF(BM212=\"YES\",IF(ISERROR(VLOOKUP($A212+8860000,'Growth Data'!$A:$F,6,0)),0,VLOOKUP($A212+8860000,'Growth Data'!$A:$F,6,0)),0)","v":0},0,null,"NO",{"$f":"IF(ISERROR(VLOOKUP($A212+8860000,'Growth Data'!$A:$F,4,0)),\"NO\",VLOOKUP($A212+8860000,'Growth Data'!$A:$F,4,0))","v":"NO"},0,null,0,{"$f":"IF(BU212=\"YES\",IF(ISERROR(VLOOKUP($A212+8860000,'Growth Data'!$A:$Z,7,0)),0,VLOOKUP($A212+8860000,'Growth Data'!$A:$Z,7,0)),0)","v":0},0,null,"NO",{"$f":"IF(ISERROR(VLOOKUP($A212+8860000,'Growth Data'!$A:$F,5,0)),\"NO\",VLOOKUP($A212+8860000,'Growth Data'!$A:$F,5,0))","v":"NO"},0,null,0,{"$f":"IF(CC212=\"YES\",IF(ISERROR(VLOOKUP($A212+8860000,'Growth Data'!$A:$Z,8,0)),0,VLOOKUP($A212+8860000,'Growth Data'!$A:$Z,8,0)),0)","v":0},0,null,null,null,0]
[3171,"Nonington CEP School",null,"Nonington CEP School","Nonington CEP School",0,null,355507.02,355507.02436647442,0,null,0,0,0,null,355507.02,355507.02436647442,0,null,1720.41,1720.4062618,0,null,null,null,0,null,0,0,0,null,25278.79,null,25279,null,3472.12,null,3472,null,0,null,0,null,0,null,0,null,null,null,0,null,null,null,0,null,null,null,0,null,null,null,0,null,"NO",{"$f":"IF(ISERROR(VLOOKUP($A213+8860000,'Growth Data'!$A:$F,3,0)),\"NO\",VLOOKUP($A213+8860000,'Growth Data'!$A:$F,3,0))","v":"NO"},0,null,0,{"$f":"IF(BM213=\"YES\",IF(ISERROR(VLOOKUP($A213+8860000,'Growth Data'!$A:$F,6,0)),0,VLOOKUP($A213+8860000,'Growth Data'!$A:$F,6,0)),0)","v":0},0,null,"NO",{"$f":"IF(ISERROR(VLOOKUP($A213+8860000,'Growth Data'!$A:$F,4,0)),\"NO\",VLOOKUP($A213+8860000,'Growth Data'!$A:$F,4,0))","v":"NO"},0,null,0,{"$f":"IF(BU213=\"YES\",IF(ISERROR(VLOOKUP($A213+8860000,'Growth Data'!$A:$Z,7,0)),0,VLOOKUP($A213+8860000,'Growth Data'!$A:$Z,7,0)),0)","v":0},0,null,"NO",{"$f":"IF(ISERROR(VLOOKUP($A213+8860000,'Growth Data'!$A:$F,5,0)),\"NO\",VLOOKUP($A213+8860000,'Growth Data'!$A:$F,5,0))","v":"NO"},0,null,0,{"$f":"IF(CC213=\"YES\",IF(ISERROR(VLOOKUP($A213+8860000,'Growth Data'!$A:$Z,8,0)),0,VLOOKUP($A213+8860000,'Growth Data'!$A:$Z,8,0)),0)","v":0},0,null,null,null,0]
[3172,"Northbourne CEP School",null,"Northbourne CEP School","Northbourne CEP School",0,null,496051.98,496051.98051162547,0,null,0,0,0,null,496051.98,496051.98051162547,0,null,3132.68,3132.6800587999996,0,null,null,null,0,null,0,0,0,null,56591.63,null,56592,null,340.84,null,341,null,0,null,0,null,0,null,0,null,null,null,0,null,null,null,0,null,null,null,0,null,null,null,0,null,"NO",{"$f":"IF(ISERROR(VLOOKUP($A214+8860000,'Growth Data'!$A:$F,3,0)),\"NO\",VLOOKUP($A214+8860000,'Growth Data'!$A:$F,3,0))","v":"NO"},0,null,0,{"$f":"IF(BM214=\"YES\",IF(ISERROR(VLOOKUP($A214+8860000,'Growth Data'!$A:$F,6,0)),0,VLOOKUP($A214+8860000,'Growth Data'!$A:$F,6,0)),0)","v":0},0,null,"NO",{"$f":"IF(ISERROR(VLOOKUP($A214+8860000,'Growth Data'!$A:$F,4,0)),\"NO\",VLOOKUP($A214+8860000,'Growth Data'!$A:$F,4,0))","v":"NO"},0,null,0,{"$f":"IF(BU214=\"YES\",IF(ISERROR(VLOOKUP($A214+8860000,'Growth Data'!$A:$Z,7,0)),0,VLOOKUP($A214+8860000,'Growth Data'!$A:$Z,7,0)),0)","v":0},0,null,"NO",{"$f":"IF(ISERROR(VLOOKUP($A214+8860000,'Growth Data'!$A:$F,5,0)),\"NO\",VLOOKUP($A214+8860000,'Growth Data'!$A:$F,5,0))","v":"NO"},0,null,0,{"$f":"IF(CC214=\"YES\",IF(ISERROR(VLOOKUP($A214+8860000,'Growth Data'!$A:$Z,8,0)),0,VLOOKUP($A214+8860000,'Growth Data'!$A:$Z,8,0)),0)","v":0},0,null,null,null,0]
[3173,"Kingsdown & Ringwould CEP School",null,"Kingsdown & Ringwould CEP School","Kingsdown & Ringwould CEP School",0,null,790807.52,790807.52191960788,0,null,0,0,0,null,790807.52,790807.52191960788,0,null,5623.42,5623.4174826000008,0,null,null,null,0,null,0,0,0,null,20618.240000000002,null,20618,null,3938.18,null,3938,null,0,null,0,null,0,null,0,null,null,null,0,null,null,null,0,null,null,null,0,null,null,null,0,null,"NO",{"$f":"IF(ISERROR(VLOOKUP($A215+8860000,'Growth Data'!$A:$F,3,0)),\"NO\",VLOOKUP($A215+8860000,'Growth Data'!$A:$F,3,0))","v":"NO"},0,null,0,{"$f":"IF(BM215=\"YES\",IF(ISERROR(VLOOKUP($A215+8860000,'Growth Data'!$A:$F,6,0)),0,VLOOKUP($A215+8860000,'Growth Data'!$A:$F,6,0)),0)","v":0},0,null,"NO",{"$f":"IF(ISERROR(VLOOKUP($A215+8860000,'Growth Data'!$A:$F,4,0)),\"NO\",VLOOKUP($A215+8860000,'Growth Data'!$A:$F,4,0))","v":"NO"},0,null,0,{"$f":"IF(BU215=\"YES\",IF(ISERROR(VLOOKUP($A215+8860000,'Growth Data'!$A:$Z,7,0)),0,VLOOKUP($A215+8860000,'Growth Data'!$A:$Z,7,0)),0)","v":0},0,null,"NO",{"$f":"IF(ISERROR(VLOOKUP($A215+8860000,'Growth Data'!$A:$F,5,0)),\"NO\",VLOOKUP($A215+8860000,'Growth Data'!$A:$F,5,0))","v":"NO"},0,null,0,{"$f":"IF(CC215=\"YES\",IF(ISERROR(VLOOKUP($A215+8860000,'Growth Data'!$A:$Z,8,0)),0,VLOOKUP($A215+8860000,'Growth Data'!$A:$Z,8,0)),0)","v":0},0,null,null,null,0]
[3175,"Sibertswold CEP School",null,"Sibertswold CEP School","Sibertswold CEP School",0,null,765200.99,765200.99142208486,0,null,0,0,0,null,765200.99,765200.99142208486,0,null,5340.96,5340.9627231999993,0,null,null,null,0,null,0,0,0,null,22755.32,null,22755,null,3724.47,null,3724,null,0,null,0,null,0,null,0,null,null,null,0,null,null,null,0,null,null,null,0,null,null,null,0,null,"NO",{"$f":"IF(ISERROR(VLOOKUP($A216+8860000,'Growth Data'!$A:$F,3,0)),\"NO\",VLOOKUP($A216+8860000,'Growth Data'!$A:$F,3,0))","v":"NO"},0,null,0,{"$f":"IF(BM216=\"YES\",IF(ISERROR(VLOOKUP($A216+8860000,'Growth Data'!$A:$F,6,0)),0,VLOOKUP($A216+8860000,'Growth Data'!$A:$F,6,0)),0)","v":0},0,null,"NO",{"$f":"IF(ISERROR(VLOOKUP($A216+8860000,'Growth Data'!$A:$F,4,0)),\"NO\",VLOOKUP($A216+8860000,'Growth Data'!$A:$F,4,0))","v":"NO"},0,null,0,{"$f":"IF(BU216=\"YES\",IF(ISERROR(VLOOKUP($A216+8860000,'Growth Data'!$A:$Z,7,0)),0,VLOOKUP($A216+8860000,'Growth Data'!$A:$Z,7,0)),0)","v":0},0,null,"NO",{"$f":"IF(ISERROR(VLOOKUP($A216+8860000,'Growth Data'!$A:$F,5,0)),\"NO\",VLOOKUP($A216+8860000,'Growth Data'!$A:$F,5,0))","v":"NO"},0,null,0,{"$f":"IF(CC216=\"YES\",IF(ISERROR(VLOOKUP($A216+8860000,'Growth Data'!$A:$Z,8,0)),0,VLOOKUP($A216+8860000,'Growth Data'!$A:$Z,8,0)),0)","v":0},0,null,null,null,0]
[3178,"Birchington CEP School",null,"Birchington CEP School","Birchington CEP School",0,null,1623684.15,1623684.148993111,0,null,0,0,0,null,1623684.15,1623684.148993111,0,null,11709.03,11709.033662400001,0,null,null,null,0,null,0,0,0,null,29165.63,null,29166,null,3083.44,null,3083,null,0,null,0,null,0,null,0,null,null,null,0,null,null,null,0,null,null,null,0,null,null,null,0,null,"NO",{"$f":"IF(ISERROR(VLOOKUP($A217+8860000,'Growth Data'!$A:$F,3,0)),\"NO\",VLOOKUP($A217+8860000,'Growth Data'!$A:$F,3,0))","v":"YES"},1,null,0,{"$f":"IF(BM217=\"YES\",IF(ISERROR(VLOOKUP($A217+8860000,'Growth Data'!$A:$F,6,0)),0,VLOOKUP($A217+8860000,'Growth Data'!$A:$F,6,0)),0)","v":60},-60,null,"NO",{"$f":"IF(ISERROR(VLOOKUP($A217+8860000,'Growth Data'!$A:$F,4,0)),\"NO\",VLOOKUP($A217+8860000,'Growth Data'!$A:$F,4,0))","v":"YES"},1,null,0,{"$f":"IF(BU217=\"YES\",IF(ISERROR(VLOOKUP($A217+8860000,'Growth Data'!$A:$Z,7,0)),0,VLOOKUP($A217+8860000,'Growth Data'!$A:$Z,7,0)),0)","v":90},-90,null,"NO",{"$f":"IF(ISERROR(VLOOKUP($A217+8860000,'Growth Data'!$A:$F,5,0)),\"NO\",VLOOKUP($A217+8860000,'Growth Data'!$A:$F,5,0))","v":"NO"},0,null,0,{"$f":"IF(CC217=\"YES\",IF(ISERROR(VLOOKUP($A217+8860000,'Growth Data'!$A:$Z,8,0)),0,VLOOKUP($A217+8860000,'Growth Data'!$A:$Z,8,0)),0)","v":0},0,null,null,null,0]
[3179,"Holy Trinity & St John's CEP School, Margate",null,"Holy Trinity & St John's CEP School, Margate","Holy Trinity & St John's CEP School, Margate",0,null,1684940.08,1684940.0798396859,0,null,0,0,0,null,1684940.08,1684940.0798396859,0,null,10425.15,10425.148392400002,0,null,null,null,0,null,4.9000000000000004,4.9000000000000004,0,null,157583.16,null,157583,null,0,null,0,null,0,null,0,null,0,null,0,null,null,null,0,null,null,null,0,null,null,null,0,null,null,null,0,null,"NO",{"$f":"IF(ISERROR(VLOOKUP($A218+8860000,'Growth Data'!$A:$F,3,0)),\"NO\",VLOOKUP($A218+8860000,'Growth Data'!$A:$F,3,0))","v":"NO"},0,null,0,{"$f":"IF(BM218=\"YES\",IF(ISERROR(VLOOKUP($A218+8860000,'Growth Data'!$A:$F,6,0)),0,VLOOKUP($A218+8860000,'Growth Data'!$A:$F,6,0)),0)","v":0},0,null,"NO",{"$f":"IF(ISERROR(VLOOKUP($A218+8860000,'Growth Data'!$A:$F,4,0)),\"NO\",VLOOKUP($A218+8860000,'Growth Data'!$A:$F,4,0))","v":"NO"},0,null,0,{"$f":"IF(BU218=\"YES\",IF(ISERROR(VLOOKUP($A218+8860000,'Growth Data'!$A:$Z,7,0)),0,VLOOKUP($A218+8860000,'Growth Data'!$A:$Z,7,0)),0)","v":0},0,null,"NO",{"$f":"IF(ISERROR(VLOOKUP($A218+8860000,'Growth Data'!$A:$F,5,0)),\"NO\",VLOOKUP($A218+8860000,'Growth Data'!$A:$F,5,0))","v":"NO"},0,null,0,{"$f":"IF(CC218=\"YES\",IF(ISERROR(VLOOKUP($A218+8860000,'Growth Data'!$A:$Z,8,0)),0,VLOOKUP($A218+8860000,'Growth Data'!$A:$Z,8,0)),0)","v":0},0,null,null,null,0]
[3181,"St Saviour's CEJ School",null,"St Saviour's CEJ School","St Saviour's CEJ School",0,null,1378275.96,1378275.9595458526,0,null,0,0,0,null,1378275.96,1378275.9595458526,0,null,9860.24,9860.2388736000012,0,null,null,null,0,null,0,0,0,null,56084.04,null,56084,null,391.6,null,392,null,0,null,0,null,0,null,0,null,null,null,0,null,null,null,0,null,null,null,0,null,null,null,0,null,"NO",{"$f":"IF(ISERROR(VLOOKUP($A219+8860000,'Growth Data'!$A:$F,3,0)),\"NO\",VLOOKUP($A219+8860000,'Growth Data'!$A:$F,3,0))","v":"NO"},0,null,0,{"$f":"IF(BM219=\"YES\",IF(ISERROR(VLOOKUP($A219+8860000,'Growth Data'!$A:$F,6,0)),0,VLOOKUP($A219+8860000,'Growth Data'!$A:$F,6,0)),0)","v":0},0,null,"NO",{"$f":"IF(ISERROR(VLOOKUP($A219+8860000,'Growth Data'!$A:$F,4,0)),\"NO\",VLOOKUP($A219+8860000,'Growth Data'!$A:$F,4,0))","v":"NO"},0,null,0,{"$f":"IF(BU219=\"YES\",IF(ISERROR(VLOOKUP($A219+8860000,'Growth Data'!$A:$Z,7,0)),0,VLOOKUP($A219+8860000,'Growth Data'!$A:$Z,7,0)),0)","v":0},0,null,"NO",{"$f":"IF(ISERROR(VLOOKUP($A219+8860000,'Growth Data'!$A:$F,5,0)),\"NO\",VLOOKUP($A219+8860000,'Growth Data'!$A:$F,5,0))","v":"NO"},0,null,0,{"$f":"IF(CC219=\"YES\",IF(ISERROR(VLOOKUP($A219+8860000,'Growth Data'!$A:$Z,8,0)),0,VLOOKUP($A219+8860000,'Growth Data'!$A:$Z,8,0)),0)","v":0},0,null,null,null,0]
[3182,"Minster CEP School",null,"Minster CEP School","Minster CEP School",0,null,1417571,1417571,0,null,0,0,0,null,1417571,1417571,0,null,10450.83,10450.826097800002,0,null,null,null,0,null,0,0,0,null,27669.24,null,27669,null,3233.08,null,3233,null,0,null,0,null,0,null,0,null,null,null,0,null,null,null,0,null,null,null,0,null,null,null,0,null,"NO",{"$f":"IF(ISERROR(VLOOKUP($A220+8860000,'Growth Data'!$A:$F,3,0)),\"NO\",VLOOKUP($A220+8860000,'Growth Data'!$A:$F,3,0))","v":"NO"},0,null,0,{"$f":"IF(BM220=\"YES\",IF(ISERROR(VLOOKUP($A220+8860000,'Growth Data'!$A:$F,6,0)),0,VLOOKUP($A220+8860000,'Growth Data'!$A:$F,6,0)),0)","v":0},0,null,"NO",{"$f":"IF(ISERROR(VLOOKUP($A220+8860000,'Growth Data'!$A:$F,4,0)),\"NO\",VLOOKUP($A220+8860000,'Growth Data'!$A:$F,4,0))","v":"NO"},0,null,0,{"$f":"IF(BU220=\"YES\",IF(ISERROR(VLOOKUP($A220+8860000,'Growth Data'!$A:$Z,7,0)),0,VLOOKUP($A220+8860000,'Growth Data'!$A:$Z,7,0)),0)","v":0},0,null,"NO",{"$f":"IF(ISERROR(VLOOKUP($A220+8860000,'Growth Data'!$A:$F,5,0)),\"NO\",VLOOKUP($A220+8860000,'Growth Data'!$A:$F,5,0))","v":"NO"},0,null,0,{"$f":"IF(CC220=\"YES\",IF(ISERROR(VLOOKUP($A220+8860000,'Growth Data'!$A:$Z,8,0)),0,VLOOKUP($A220+8860000,'Growth Data'!$A:$Z,8,0)),0)","v":0},0,null,null,null,0]
[3183,"Monkton CEP School",null,"Monkton CEP School","Monkton CEP School",0,null,462595.69,462595.69400050136,0,null,0,0,0,null,462595.69,462595.69400050136,0,null,2721.84,2721.8367724,0,null,null,null,0,null,0,0,0,null,41287.919999999998,null,41288,null,1871.21,null,1871,null,0,null,0,null,0,null,0,null,null,null,0,null,null,null,0,null,null,null,0,null,null,null,0,null,"NO",{"$f":"IF(ISERROR(VLOOKUP($A221+8860000,'Growth Data'!$A:$F,3,0)),\"NO\",VLOOKUP($A221+8860000,'Growth Data'!$A:$F,3,0))","v":"NO"},0,null,0,{"$f":"IF(BM221=\"YES\",IF(ISERROR(VLOOKUP($A221+8860000,'Growth Data'!$A:$F,6,0)),0,VLOOKUP($A221+8860000,'Growth Data'!$A:$F,6,0)),0)","v":0},0,null,"NO",{"$f":"IF(ISERROR(VLOOKUP($A221+8860000,'Growth Data'!$A:$F,4,0)),\"NO\",VLOOKUP($A221+8860000,'Growth Data'!$A:$F,4,0))","v":"NO"},0,null,0,{"$f":"IF(BU221=\"YES\",IF(ISERROR(VLOOKUP($A221+8860000,'Growth Data'!$A:$Z,7,0)),0,VLOOKUP($A221+8860000,'Growth Data'!$A:$Z,7,0)),0)","v":0},0,null,"NO",{"$f":"IF(ISERROR(VLOOKUP($A221+8860000,'Growth Data'!$A:$F,5,0)),\"NO\",VLOOKUP($A221+8860000,'Growth Data'!$A:$F,5,0))","v":"NO"},0,null,0,{"$f":"IF(CC221=\"YES\",IF(ISERROR(VLOOKUP($A221+8860000,'Growth Data'!$A:$Z,8,0)),0,VLOOKUP($A221+8860000,'Growth Data'!$A:$Z,8,0)),0)","v":0},0,null,null,null,0]
[3186,"St Nicholas at Wade CEP School",null,"St Nicholas at Wade CEP School","St Nicholas at Wade CEP School",0,null,754188.43,754188.43409203645,0,null,0,0,0,null,754188.43,754188.43409203645,0,null,5366.64,5366.6404285999988,0,null,null,null,0,null,0,0,0,null,40907.79,null,40908,null,1909.22,null,1909,null,0,null,0,null,0,null,0,null,null,null,0,null,null,null,0,null,null,null,0,null,null,null,0,null,"NO",{"$f":"IF(ISERROR(VLOOKUP($A222+8860000,'Growth Data'!$A:$F,3,0)),\"NO\",VLOOKUP($A222+8860000,'Growth Data'!$A:$F,3,0))","v":"NO"},0,null,0,{"$f":"IF(BM222=\"YES\",IF(ISERROR(VLOOKUP($A222+8860000,'Growth Data'!$A:$F,6,0)),0,VLOOKUP($A222+8860000,'Growth Data'!$A:$F,6,0)),0)","v":0},0,null,"NO",{"$f":"IF(ISERROR(VLOOKUP($A222+8860000,'Growth Data'!$A:$F,4,0)),\"NO\",VLOOKUP($A222+8860000,'Growth Data'!$A:$F,4,0))","v":"NO"},0,null,0,{"$f":"IF(BU222=\"YES\",IF(ISERROR(VLOOKUP($A222+8860000,'Growth Data'!$A:$Z,7,0)),0,VLOOKUP($A222+8860000,'Growth Data'!$A:$Z,7,0)),0)","v":0},0,null,"NO",{"$f":"IF(ISERROR(VLOOKUP($A222+8860000,'Growth Data'!$A:$F,5,0)),\"NO\",VLOOKUP($A222+8860000,'Growth Data'!$A:$F,5,0))","v":"NO"},0,null,0,{"$f":"IF(CC222=\"YES\",IF(ISERROR(VLOOKUP($A222+8860000,'Growth Data'!$A:$Z,8,0)),0,VLOOKUP($A222+8860000,'Growth Data'!$A:$Z,8,0)),0)","v":0},0,null,null,null,0]
[3198,"Frittenden CEP School",null,"Frittenden CEP School","Frittenden CEP School",0,null,409151.16,409151.15532367019,0,null,0,0,0,null,409151.16,409151.15532367019,0,null,2439.38,2439.3820129999999,0,null,null,null,0,null,0,0,0,null,23737.02,null,23737,null,3626.3,null,3626,null,0,null,0,null,0,null,0,null,null,null,0,null,null,null,0,null,null,null,0,null,null,null,0,null,"NO",{"$f":"IF(ISERROR(VLOOKUP($A223+8860000,'Growth Data'!$A:$F,3,0)),\"NO\",VLOOKUP($A223+8860000,'Growth Data'!$A:$F,3,0))","v":"NO"},0,null,0,{"$f":"IF(BM223=\"YES\",IF(ISERROR(VLOOKUP($A223+8860000,'Growth Data'!$A:$F,6,0)),0,VLOOKUP($A223+8860000,'Growth Data'!$A:$F,6,0)),0)","v":0},0,null,"NO",{"$f":"IF(ISERROR(VLOOKUP($A223+8860000,'Growth Data'!$A:$F,4,0)),\"NO\",VLOOKUP($A223+8860000,'Growth Data'!$A:$F,4,0))","v":"NO"},0,null,0,{"$f":"IF(BU223=\"YES\",IF(ISERROR(VLOOKUP($A223+8860000,'Growth Data'!$A:$Z,7,0)),0,VLOOKUP($A223+8860000,'Growth Data'!$A:$Z,7,0)),0)","v":0},0,null,"NO",{"$f":"IF(ISERROR(VLOOKUP($A223+8860000,'Growth Data'!$A:$F,5,0)),\"NO\",VLOOKUP($A223+8860000,'Growth Data'!$A:$F,5,0))","v":"NO"},0,null,0,{"$f":"IF(CC223=\"YES\",IF(ISERROR(VLOOKUP($A223+8860000,'Growth Data'!$A:$Z,8,0)),0,VLOOKUP($A223+8860000,'Growth Data'!$A:$Z,8,0)),0)","v":0},0,null,null,null,0]
[3199,"Egerton CEP School",null,"Egerton CEP School","Egerton CEP School",0,null,749451.93,749451.92519613239,0,null,0,0,0,null,749451.93,749451.92519613239,0,null,5289.61,5289.6073123999995,0,null,null,null,0,null,0,0,0,null,38061.410000000003,null,38061,null,2193.86,null,2194,null,0,null,0,null,0,null,0,null,null,null,0,null,null,null,0,null,null,null,0,null,null,null,0,null,"NO",{"$f":"IF(ISERROR(VLOOKUP($A224+8860000,'Growth Data'!$A:$F,3,0)),\"NO\",VLOOKUP($A224+8860000,'Growth Data'!$A:$F,3,0))","v":"NO"},0,null,0,{"$f":"IF(BM224=\"YES\",IF(ISERROR(VLOOKUP($A224+8860000,'Growth Data'!$A:$F,6,0)),0,VLOOKUP($A224+8860000,'Growth Data'!$A:$F,6,0)),0)","v":0},0,null,"NO",{"$f":"IF(ISERROR(VLOOKUP($A224+8860000,'Growth Data'!$A:$F,4,0)),\"NO\",VLOOKUP($A224+8860000,'Growth Data'!$A:$F,4,0))","v":"NO"},0,null,0,{"$f":"IF(BU224=\"YES\",IF(ISERROR(VLOOKUP($A224+8860000,'Growth Data'!$A:$Z,7,0)),0,VLOOKUP($A224+8860000,'Growth Data'!$A:$Z,7,0)),0)","v":0},0,null,"NO",{"$f":"IF(ISERROR(VLOOKUP($A224+8860000,'Growth Data'!$A:$F,5,0)),\"NO\",VLOOKUP($A224+8860000,'Growth Data'!$A:$F,5,0))","v":"NO"},0,null,0,{"$f":"IF(CC224=\"YES\",IF(ISERROR(VLOOKUP($A224+8860000,'Growth Data'!$A:$Z,8,0)),0,VLOOKUP($A224+8860000,'Growth Data'!$A:$Z,8,0)),0)","v":0},0,null,null,null,0]
[3201,"St Lawrence CEP School",null,"St Lawrence CEP School","St Lawrence CEP School",0,null,398025.24,398025.23556199,0,null,0,0,0,null,398025.24,398025.23556199,0,null,2288.66,2288.6641533841603,0,null,null,null,0,null,0,0,0,null,42489.17,null,42489,null,1751.08,null,1751,null,0,null,0,null,0,null,0,null,null,null,0,null,null,null,0,null,null,null,0,null,null,null,0,null,"NO",{"$f":"IF(ISERROR(VLOOKUP($A225+8860000,'Growth Data'!$A:$F,3,0)),\"NO\",VLOOKUP($A225+8860000,'Growth Data'!$A:$F,3,0))","v":"NO"},0,null,0,{"$f":"IF(BM225=\"YES\",IF(ISERROR(VLOOKUP($A225+8860000,'Growth Data'!$A:$F,6,0)),0,VLOOKUP($A225+8860000,'Growth Data'!$A:$F,6,0)),0)","v":0},0,null,"NO",{"$f":"IF(ISERROR(VLOOKUP($A225+8860000,'Growth Data'!$A:$F,4,0)),\"NO\",VLOOKUP($A225+8860000,'Growth Data'!$A:$F,4,0))","v":"NO"},0,null,0,{"$f":"IF(BU225=\"YES\",IF(ISERROR(VLOOKUP($A225+8860000,'Growth Data'!$A:$Z,7,0)),0,VLOOKUP($A225+8860000,'Growth Data'!$A:$Z,7,0)),0)","v":0},0,null,"NO",{"$f":"IF(ISERROR(VLOOKUP($A225+8860000,'Growth Data'!$A:$F,5,0)),\"NO\",VLOOKUP($A225+8860000,'Growth Data'!$A:$F,5,0))","v":"NO"},0,null,0,{"$f":"IF(CC225=\"YES\",IF(ISERROR(VLOOKUP($A225+8860000,'Growth Data'!$A:$Z,8,0)),0,VLOOKUP($A225+8860000,'Growth Data'!$A:$Z,8,0)),0)","v":0},0,null,null,null,0]
[3282,"Boughton-under-Blean & Dunkirk Primary School",null,"Boughton-under-Blean & Dunkirk Primary School","Boughton-under-Blean & Dunkirk Primary School",0,null,857202.27,857202.26914721797,0,null,0,0,0,null,857202.27,857202.26914721797,0,null,5803.16,5803.1614204000016,0,null,null,null,0,null,0,0,0,null,160788.26999999999,null,160788,null,0,null,0,null,0,null,0,null,0,null,0,null,null,null,0,null,null,null,0,null,null,null,0,null,null,null,0,null,"NO",{"$f":"IF(ISERROR(VLOOKUP($A226+8860000,'Growth Data'!$A:$F,3,0)),\"NO\",VLOOKUP($A226+8860000,'Growth Data'!$A:$F,3,0))","v":"NO"},0,null,0,{"$f":"IF(BM226=\"YES\",IF(ISERROR(VLOOKUP($A226+8860000,'Growth Data'!$A:$F,6,0)),0,VLOOKUP($A226+8860000,'Growth Data'!$A:$F,6,0)),0)","v":0},0,null,"NO",{"$f":"IF(ISERROR(VLOOKUP($A226+8860000,'Growth Data'!$A:$F,4,0)),\"NO\",VLOOKUP($A226+8860000,'Growth Data'!$A:$F,4,0))","v":"NO"},0,null,0,{"$f":"IF(BU226=\"YES\",IF(ISERROR(VLOOKUP($A226+8860000,'Growth Data'!$A:$Z,7,0)),0,VLOOKUP($A226+8860000,'Growth Data'!$A:$Z,7,0)),0)","v":0},0,null,"YES",{"$f":"IF(ISERROR(VLOOKUP($A226+8860000,'Growth Data'!$A:$F,5,0)),\"NO\",VLOOKUP($A226+8860000,'Growth Data'!$A:$F,5,0))","v":"NO"},1,null,61,{"$f":"IF(CC226=\"YES\",IF(ISERROR(VLOOKUP($A226+8860000,'Growth Data'!$A:$Z,8,0)),0,VLOOKUP($A226+8860000,'Growth Data'!$A:$Z,8,0)),0)","v":0},61,null,null,null,0]
[3284,"Lady Joanna Thornhill (Endowed) Primary School",null,"Lady Joanna Thornhill (Endowed) Primary School","Lady Joanna Thornhill (Endowed) Primary School",0,null,1462119,1462119,0,null,0,0,0,null,1462119,1462119,0,null,10733.28,10733.280857199998,0,null,null,null,0,null,0,0,0,null,317855.87,null,317856,null,0,null,0,null,0,null,0,null,0,null,0,null,null,null,0,null,null,null,0,null,null,null,0,null,null,null,0,null,"NO",{"$f":"IF(ISERROR(VLOOKUP($A227+8860000,'Growth Data'!$A:$F,3,0)),\"NO\",VLOOKUP($A227+8860000,'Growth Data'!$A:$F,3,0))","v":"NO"},0,null,0,{"$f":"IF(BM227=\"YES\",IF(ISERROR(VLOOKUP($A227+8860000,'Growth Data'!$A:$F,6,0)),0,VLOOKUP($A227+8860000,'Growth Data'!$A:$F,6,0)),0)","v":0},0,null,"NO",{"$f":"IF(ISERROR(VLOOKUP($A227+8860000,'Growth Data'!$A:$F,4,0)),\"NO\",VLOOKUP($A227+8860000,'Growth Data'!$A:$F,4,0))","v":"NO"},0,null,0,{"$f":"IF(BU227=\"YES\",IF(ISERROR(VLOOKUP($A227+8860000,'Growth Data'!$A:$Z,7,0)),0,VLOOKUP($A227+8860000,'Growth Data'!$A:$Z,7,0)),0)","v":0},0,null,"NO",{"$f":"IF(ISERROR(VLOOKUP($A227+8860000,'Growth Data'!$A:$F,5,0)),\"NO\",VLOOKUP($A227+8860000,'Growth Data'!$A:$F,5,0))","v":"NO"},0,null,0,{"$f":"IF(CC227=\"YES\",IF(ISERROR(VLOOKUP($A227+8860000,'Growth Data'!$A:$Z,8,0)),0,VLOOKUP($A227+8860000,'Growth Data'!$A:$Z,8,0)),0)","v":0},0,null,null,null,0]
[3289,"St Peter's Methodist Primary School, Canterbury",null,"St Peter's Methodist Primary School, Canterbury","St Peter's Methodist Primary School, Canterbury",0,null,792532.98,792532.97919164656,0,null,0,0,0,null,792532.98,792532.97919164656,0,null,5135.54,5135.5410799999991,0,null,null,null,0,null,0,0,0,null,129079.35,null,129079,null,0,null,0,null,0,null,0,null,0,null,0,null,null,null,0,null,null,null,0,null,null,null,0,null,null,null,0,null,"NO",{"$f":"IF(ISERROR(VLOOKUP($A228+8860000,'Growth Data'!$A:$F,3,0)),\"NO\",VLOOKUP($A228+8860000,'Growth Data'!$A:$F,3,0))","v":"NO"},0,null,0,{"$f":"IF(BM228=\"YES\",IF(ISERROR(VLOOKUP($A228+8860000,'Growth Data'!$A:$F,6,0)),0,VLOOKUP($A228+8860000,'Growth Data'!$A:$F,6,0)),0)","v":0},0,null,"NO",{"$f":"IF(ISERROR(VLOOKUP($A228+8860000,'Growth Data'!$A:$F,4,0)),\"NO\",VLOOKUP($A228+8860000,'Growth Data'!$A:$F,4,0))","v":"NO"},0,null,0,{"$f":"IF(BU228=\"YES\",IF(ISERROR(VLOOKUP($A228+8860000,'Growth Data'!$A:$Z,7,0)),0,VLOOKUP($A228+8860000,'Growth Data'!$A:$Z,7,0)),0)","v":0},0,null,"NO",{"$f":"IF(ISERROR(VLOOKUP($A228+8860000,'Growth Data'!$A:$F,5,0)),\"NO\",VLOOKUP($A228+8860000,'Growth Data'!$A:$F,5,0))","v":"NO"},0,null,0,{"$f":"IF(CC228=\"YES\",IF(ISERROR(VLOOKUP($A228+8860000,'Growth Data'!$A:$Z,8,0)),0,VLOOKUP($A228+8860000,'Growth Data'!$A:$Z,8,0)),0)","v":0},0,null,null,null,0]
[3294,"St Matthew's High Brooms CEP School",null,"St Matthew's High Brooms CEP School","St Matthew's High Brooms CEP School",0,null,1622632.75,1622632.745111133,0,null,0,0,0,null,1622632.75,1622632.745111133,0,null,11349.55,11349.545786799998,0,null,null,null,0,null,0,0,0,null,104426.51,null,104427,null,0,null,0,null,0,null,0,null,0,null,0,null,null,null,0,null,null,null,0,null,null,null,0,null,null,null,0,null,"NO",{"$f":"IF(ISERROR(VLOOKUP($A229+8860000,'Growth Data'!$A:$F,3,0)),\"NO\",VLOOKUP($A229+8860000,'Growth Data'!$A:$F,3,0))","v":"NO"},0,null,0,{"$f":"IF(BM229=\"YES\",IF(ISERROR(VLOOKUP($A229+8860000,'Growth Data'!$A:$F,6,0)),0,VLOOKUP($A229+8860000,'Growth Data'!$A:$F,6,0)),0)","v":0},0,null,"NO",{"$f":"IF(ISERROR(VLOOKUP($A229+8860000,'Growth Data'!$A:$F,4,0)),\"NO\",VLOOKUP($A229+8860000,'Growth Data'!$A:$F,4,0))","v":"NO"},0,null,0,{"$f":"IF(BU229=\"YES\",IF(ISERROR(VLOOKUP($A229+8860000,'Growth Data'!$A:$Z,7,0)),0,VLOOKUP($A229+8860000,'Growth Data'!$A:$Z,7,0)),0)","v":0},0,null,"NO",{"$f":"IF(ISERROR(VLOOKUP($A229+8860000,'Growth Data'!$A:$F,5,0)),\"NO\",VLOOKUP($A229+8860000,'Growth Data'!$A:$F,5,0))","v":"NO"},0,null,0,{"$f":"IF(CC229=\"YES\",IF(ISERROR(VLOOKUP($A229+8860000,'Growth Data'!$A:$Z,8,0)),0,VLOOKUP($A229+8860000,'Growth Data'!$A:$Z,8,0)),0)","v":0},0,null,null,null,0]
[3295,"Herne CEI School",null,"Herne CEI School","Herne CEI School",0,null,965684.5,965684.50087081641,0,null,0,0,0,null,965684.5,965684.50087081641,0,null,6881.63,6881.6250472000002,0,null,null,null,0,null,4.9000000000000004,4.9000000000000004,0,null,28307.9,null,28308,null,3169.21,null,3169,null,0,null,0,null,0,null,0,null,null,null,0,null,null,null,0,null,null,null,0,null,null,null,0,null,"NO",{"$f":"IF(ISERROR(VLOOKUP($A230+8860000,'Growth Data'!$A:$F,3,0)),\"NO\",VLOOKUP($A230+8860000,'Growth Data'!$A:$F,3,0))","v":"NO"},0,null,0,{"$f":"IF(BM230=\"YES\",IF(ISERROR(VLOOKUP($A230+8860000,'Growth Data'!$A:$F,6,0)),0,VLOOKUP($A230+8860000,'Growth Data'!$A:$F,6,0)),0)","v":0},0,null,"NO",{"$f":"IF(ISERROR(VLOOKUP($A230+8860000,'Growth Data'!$A:$F,4,0)),\"NO\",VLOOKUP($A230+8860000,'Growth Data'!$A:$F,4,0))","v":"NO"},0,null,0,{"$f":"IF(BU230=\"YES\",IF(ISERROR(VLOOKUP($A230+8860000,'Growth Data'!$A:$Z,7,0)),0,VLOOKUP($A230+8860000,'Growth Data'!$A:$Z,7,0)),0)","v":0},0,null,"NO",{"$f":"IF(ISERROR(VLOOKUP($A230+8860000,'Growth Data'!$A:$F,5,0)),\"NO\",VLOOKUP($A230+8860000,'Growth Data'!$A:$F,5,0))","v":"NO"},0,null,0,{"$f":"IF(CC230=\"YES\",IF(ISERROR(VLOOKUP($A230+8860000,'Growth Data'!$A:$Z,8,0)),0,VLOOKUP($A230+8860000,'Growth Data'!$A:$Z,8,0)),0)","v":0},0,null,null,null,0]
[3296,"Langafel CEP School",null,"Langafel CEP School","Langafel CEP School",0,null,1249141.8799999999,1249141.8766398334,0,null,0,0,0,null,1249141.8799999999,1249141.8766398334,0,null,8702.25,8702.2462576351209,0,null,null,null,0,null,0,0,0,null,42084.89,null,42085,null,1791.51,null,1792,null,0,null,0,null,0,null,0,null,null,null,0,null,null,null,0,null,null,null,0,null,null,null,0,null,"NO",{"$f":"IF(ISERROR(VLOOKUP($A231+8860000,'Growth Data'!$A:$F,3,0)),\"NO\",VLOOKUP($A231+8860000,'Growth Data'!$A:$F,3,0))","v":"NO"},0,null,0,{"$f":"IF(BM231=\"YES\",IF(ISERROR(VLOOKUP($A231+8860000,'Growth Data'!$A:$F,6,0)),0,VLOOKUP($A231+8860000,'Growth Data'!$A:$F,6,0)),0)","v":0},0,null,"NO",{"$f":"IF(ISERROR(VLOOKUP($A231+8860000,'Growth Data'!$A:$F,4,0)),\"NO\",VLOOKUP($A231+8860000,'Growth Data'!$A:$F,4,0))","v":"NO"},0,null,0,{"$f":"IF(BU231=\"YES\",IF(ISERROR(VLOOKUP($A231+8860000,'Growth Data'!$A:$Z,7,0)),0,VLOOKUP($A231+8860000,'Growth Data'!$A:$Z,7,0)),0)","v":0},0,null,"NO",{"$f":"IF(ISERROR(VLOOKUP($A231+8860000,'Growth Data'!$A:$F,5,0)),\"NO\",VLOOKUP($A231+8860000,'Growth Data'!$A:$F,5,0))","v":"NO"},0,null,0,{"$f":"IF(CC231=\"YES\",IF(ISERROR(VLOOKUP($A231+8860000,'Growth Data'!$A:$Z,8,0)),0,VLOOKUP($A231+8860000,'Growth Data'!$A:$Z,8,0)),0)","v":0},0,null,null,null,0]
[3297,"Southborough CEP School",null,"Southborough CEP School","Southborough CEP School",0,null,1901365,1901365,0,null,0,0,0,null,1901365,1901365,0,null,13968.67,13968.6717376,0,null,null,null,0,null,0,0,0,null,17624.61,null,17625,null,4237.54,null,4238,null,0,null,0,null,0,null,0,null,null,null,0,null,null,null,0,null,null,null,0,null,null,null,0,null,"NO",{"$f":"IF(ISERROR(VLOOKUP($A232+8860000,'Growth Data'!$A:$F,3,0)),\"NO\",VLOOKUP($A232+8860000,'Growth Data'!$A:$F,3,0))","v":"NO"},0,null,0,{"$f":"IF(BM232=\"YES\",IF(ISERROR(VLOOKUP($A232+8860000,'Growth Data'!$A:$F,6,0)),0,VLOOKUP($A232+8860000,'Growth Data'!$A:$F,6,0)),0)","v":0},0,null,"NO",{"$f":"IF(ISERROR(VLOOKUP($A232+8860000,'Growth Data'!$A:$F,4,0)),\"NO\",VLOOKUP($A232+8860000,'Growth Data'!$A:$F,4,0))","v":"NO"},0,null,0,{"$f":"IF(BU232=\"YES\",IF(ISERROR(VLOOKUP($A232+8860000,'Growth Data'!$A:$Z,7,0)),0,VLOOKUP($A232+8860000,'Growth Data'!$A:$Z,7,0)),0)","v":0},0,null,"NO",{"$f":"IF(ISERROR(VLOOKUP($A232+8860000,'Growth Data'!$A:$F,5,0)),\"NO\",VLOOKUP($A232+8860000,'Growth Data'!$A:$F,5,0))","v":"NO"},0,null,0,{"$f":"IF(CC232=\"YES\",IF(ISERROR(VLOOKUP($A232+8860000,'Growth Data'!$A:$Z,8,0)),0,VLOOKUP($A232+8860000,'Growth Data'!$A:$Z,8,0)),0)","v":0},0,null,null,null,0]
[3298,"West Kingsdown C.E. (V.C.) Primary School",null,"West Kingsdown C.E. (V.C.) Primary School","West Kingsdown C.E. (V.C.) Primary School",0,null,631395.99,631395.99428764998,0,null,0,0,0,null,631395.99,631395.99428764998,0,null,4098.3100000000004,4098.3055769902403,0,null,null,null,0,null,0,0,0,null,43476.43,null,43476,null,1652.36,null,1652,null,0,null,0,null,0,null,0,null,null,null,0,null,null,null,0,null,null,null,0,null,null,null,0,null,"NO",{"$f":"IF(ISERROR(VLOOKUP($A233+8860000,'Growth Data'!$A:$F,3,0)),\"NO\",VLOOKUP($A233+8860000,'Growth Data'!$A:$F,3,0))","v":"NO"},0,null,0,{"$f":"IF(BM233=\"YES\",IF(ISERROR(VLOOKUP($A233+8860000,'Growth Data'!$A:$F,6,0)),0,VLOOKUP($A233+8860000,'Growth Data'!$A:$F,6,0)),0)","v":0},0,null,"NO",{"$f":"IF(ISERROR(VLOOKUP($A233+8860000,'Growth Data'!$A:$F,4,0)),\"NO\",VLOOKUP($A233+8860000,'Growth Data'!$A:$F,4,0))","v":"NO"},0,null,0,{"$f":"IF(BU233=\"YES\",IF(ISERROR(VLOOKUP($A233+8860000,'Growth Data'!$A:$Z,7,0)),0,VLOOKUP($A233+8860000,'Growth Data'!$A:$Z,7,0)),0)","v":0},0,null,"NO",{"$f":"IF(ISERROR(VLOOKUP($A233+8860000,'Growth Data'!$A:$F,5,0)),\"NO\",VLOOKUP($A233+8860000,'Growth Data'!$A:$F,5,0))","v":"NO"},0,null,0,{"$f":"IF(CC233=\"YES\",IF(ISERROR(VLOOKUP($A233+8860000,'Growth Data'!$A:$Z,8,0)),0,VLOOKUP($A233+8860000,'Growth Data'!$A:$Z,8,0)),0)","v":0},0,null,null,null,0]
[3299,"John Wesley Primary School",null,"John Wesley Primary School","John Wesley Primary School",0,null,1522076.9,1522076.9004068666,0,null,0,0,0,null,1522076.9,1522076.9004068666,0,null,11144.12,11144.124143599998,0,null,null,null,0,null,0,0,0,null,21826.37,null,21826,null,3817.36,null,3817,null,0,null,0,null,0,null,0,null,null,null,0,null,null,null,0,null,null,null,0,null,null,null,0,null,"NO",{"$f":"IF(ISERROR(VLOOKUP($A234+8860000,'Growth Data'!$A:$F,3,0)),\"NO\",VLOOKUP($A234+8860000,'Growth Data'!$A:$F,3,0))","v":"NO"},0,null,0,{"$f":"IF(BM234=\"YES\",IF(ISERROR(VLOOKUP($A234+8860000,'Growth Data'!$A:$F,6,0)),0,VLOOKUP($A234+8860000,'Growth Data'!$A:$F,6,0)),0)","v":0},0,null,"NO",{"$f":"IF(ISERROR(VLOOKUP($A234+8860000,'Growth Data'!$A:$F,4,0)),\"NO\",VLOOKUP($A234+8860000,'Growth Data'!$A:$F,4,0))","v":"NO"},0,null,0,{"$f":"IF(BU234=\"YES\",IF(ISERROR(VLOOKUP($A234+8860000,'Growth Data'!$A:$Z,7,0)),0,VLOOKUP($A234+8860000,'Growth Data'!$A:$Z,7,0)),0)","v":0},0,null,"NO",{"$f":"IF(ISERROR(VLOOKUP($A234+8860000,'Growth Data'!$A:$F,5,0)),\"NO\",VLOOKUP($A234+8860000,'Growth Data'!$A:$F,5,0))","v":"NO"},0,null,0,{"$f":"IF(CC234=\"YES\",IF(ISERROR(VLOOKUP($A234+8860000,'Growth Data'!$A:$Z,8,0)),0,VLOOKUP($A234+8860000,'Growth Data'!$A:$Z,8,0)),0)","v":0},0,null,null,null,0]
[3303,"St Katharine's Knockholt CEP School",null,"St Katharine's Knockholt CEP School","St Katharine's Knockholt CEP School",0,null,745807.97,745807.9705848922,0,null,0,0,0,null,745807.97,745807.9705848922,0,null,5269.25,5269.25002755888,0,null,null,null,0,null,0,0,0,null,81748.14,null,81748,null,0,null,0,null,0,null,0,null,0,null,0,null,null,null,0,null,null,null,0,null,null,null,0,null,null,null,0,null,"NO",{"$f":"IF(ISERROR(VLOOKUP($A235+8860000,'Growth Data'!$A:$F,3,0)),\"NO\",VLOOKUP($A235+8860000,'Growth Data'!$A:$F,3,0))","v":"NO"},0,null,0,{"$f":"IF(BM235=\"YES\",IF(ISERROR(VLOOKUP($A235+8860000,'Growth Data'!$A:$F,6,0)),0,VLOOKUP($A235+8860000,'Growth Data'!$A:$F,6,0)),0)","v":0},0,null,"NO",{"$f":"IF(ISERROR(VLOOKUP($A235+8860000,'Growth Data'!$A:$F,4,0)),\"NO\",VLOOKUP($A235+8860000,'Growth Data'!$A:$F,4,0))","v":"NO"},0,null,0,{"$f":"IF(BU235=\"YES\",IF(ISERROR(VLOOKUP($A235+8860000,'Growth Data'!$A:$Z,7,0)),0,VLOOKUP($A235+8860000,'Growth Data'!$A:$Z,7,0)),0)","v":0},0,null,"NO",{"$f":"IF(ISERROR(VLOOKUP($A235+8860000,'Growth Data'!$A:$F,5,0)),\"NO\",VLOOKUP($A235+8860000,'Growth Data'!$A:$F,5,0))","v":"NO"},0,null,0,{"$f":"IF(CC235=\"YES\",IF(ISERROR(VLOOKUP($A235+8860000,'Growth Data'!$A:$Z,8,0)),0,VLOOKUP($A235+8860000,'Growth Data'!$A:$Z,8,0)),0)","v":0},0,null,null,null,0]
[3307,"Chevening (St Botolph's) CEP School",null,"Chevening (St Botolph's) CEP School","Chevening (St Botolph's) CEP School",0,null,756056.47,756056.47095980204,0,null,0,0,0,null,756056.47,756056.47095980204,0,null,5508.76,5508.7613924479201,0,null,null,null,0,null,0,0,0,null,63107.05,null,63107,null,0,null,0,null,0,null,0,null,0,null,0,null,null,null,0,null,null,null,0,null,null,null,0,null,null,null,0,null,"NO",{"$f":"IF(ISERROR(VLOOKUP($A236+8860000,'Growth Data'!$A:$F,3,0)),\"NO\",VLOOKUP($A236+8860000,'Growth Data'!$A:$F,3,0))","v":"NO"},0,null,0,{"$f":"IF(BM236=\"YES\",IF(ISERROR(VLOOKUP($A236+8860000,'Growth Data'!$A:$F,6,0)),0,VLOOKUP($A236+8860000,'Growth Data'!$A:$F,6,0)),0)","v":0},0,null,"NO",{"$f":"IF(ISERROR(VLOOKUP($A236+8860000,'Growth Data'!$A:$F,4,0)),\"NO\",VLOOKUP($A236+8860000,'Growth Data'!$A:$F,4,0))","v":"NO"},0,null,0,{"$f":"IF(BU236=\"YES\",IF(ISERROR(VLOOKUP($A236+8860000,'Growth Data'!$A:$Z,7,0)),0,VLOOKUP($A236+8860000,'Growth Data'!$A:$Z,7,0)),0)","v":0},0,null,"NO",{"$f":"IF(ISERROR(VLOOKUP($A236+8860000,'Growth Data'!$A:$F,5,0)),\"NO\",VLOOKUP($A236+8860000,'Growth Data'!$A:$F,5,0))","v":"NO"},0,null,0,{"$f":"IF(CC236=\"YES\",IF(ISERROR(VLOOKUP($A236+8860000,'Growth Data'!$A:$Z,8,0)),0,VLOOKUP($A236+8860000,'Growth Data'!$A:$Z,8,0)),0)","v":0},0,null,null,null,0]
[3308,"Colliers Green CEP School",null,"Colliers Green CEP School","Colliers Green CEP School",0,null,454982.91,454982.91088644095,0,null,0,0,0,null,454982.91,454982.91088644095,0,null,2901.58,2901.5807102000008,0,null,null,null,0,null,0,0,0,null,69939.67,null,69940,null,0,null,0,null,0,null,0,null,0,null,0,null,null,null,0,null,null,null,0,null,null,null,0,null,null,null,0,null,"NO",{"$f":"IF(ISERROR(VLOOKUP($A237+8860000,'Growth Data'!$A:$F,3,0)),\"NO\",VLOOKUP($A237+8860000,'Growth Data'!$A:$F,3,0))","v":"NO"},0,null,0,{"$f":"IF(BM237=\"YES\",IF(ISERROR(VLOOKUP($A237+8860000,'Growth Data'!$A:$F,6,0)),0,VLOOKUP($A237+8860000,'Growth Data'!$A:$F,6,0)),0)","v":0},0,null,"NO",{"$f":"IF(ISERROR(VLOOKUP($A237+8860000,'Growth Data'!$A:$F,4,0)),\"NO\",VLOOKUP($A237+8860000,'Growth Data'!$A:$F,4,0))","v":"NO"},0,null,0,{"$f":"IF(BU237=\"YES\",IF(ISERROR(VLOOKUP($A237+8860000,'Growth Data'!$A:$Z,7,0)),0,VLOOKUP($A237+8860000,'Growth Data'!$A:$Z,7,0)),0)","v":0},0,null,"NO",{"$f":"IF(ISERROR(VLOOKUP($A237+8860000,'Growth Data'!$A:$F,5,0)),\"NO\",VLOOKUP($A237+8860000,'Growth Data'!$A:$F,5,0))","v":"NO"},0,null,0,{"$f":"IF(CC237=\"YES\",IF(ISERROR(VLOOKUP($A237+8860000,'Growth Data'!$A:$Z,8,0)),0,VLOOKUP($A237+8860000,'Growth Data'!$A:$Z,8,0)),0)","v":0},0,null,null,null,0]
[3309,"Sissinghurst CEP School",null,"Sissinghurst CEP School","Sissinghurst CEP School",0,null,618789.17000000004,618789.17045375763,0,null,0,0,0,null,618789.17000000004,618789.17045375763,0,null,4159.79,4159.7882748000002,0,null,null,null,0,null,0,0,0,null,179354.07,null,179354,null,0,null,0,null,0,null,0,null,0,null,0,null,null,null,0,null,null,null,0,null,null,null,0,null,null,null,0,null,"NO",{"$f":"IF(ISERROR(VLOOKUP($A238+8860000,'Growth Data'!$A:$F,3,0)),\"NO\",VLOOKUP($A238+8860000,'Growth Data'!$A:$F,3,0))","v":"NO"},0,null,0,{"$f":"IF(BM238=\"YES\",IF(ISERROR(VLOOKUP($A238+8860000,'Growth Data'!$A:$F,6,0)),0,VLOOKUP($A238+8860000,'Growth Data'!$A:$F,6,0)),0)","v":0},0,null,"NO",{"$f":"IF(ISERROR(VLOOKUP($A238+8860000,'Growth Data'!$A:$F,4,0)),\"NO\",VLOOKUP($A238+8860000,'Growth Data'!$A:$F,4,0))","v":"NO"},0,null,0,{"$f":"IF(BU238=\"YES\",IF(ISERROR(VLOOKUP($A238+8860000,'Growth Data'!$A:$Z,7,0)),0,VLOOKUP($A238+8860000,'Growth Data'!$A:$Z,7,0)),0)","v":0},0,null,"NO",{"$f":"IF(ISERROR(VLOOKUP($A238+8860000,'Growth Data'!$A:$F,5,0)),\"NO\",VLOOKUP($A238+8860000,'Growth Data'!$A:$F,5,0))","v":"NO"},0,null,0,{"$f":"IF(CC238=\"YES\",IF(ISERROR(VLOOKUP($A238+8860000,'Growth Data'!$A:$Z,8,0)),0,VLOOKUP($A238+8860000,'Growth Data'!$A:$Z,8,0)),0)","v":0},0,null,null,null,0]
[3312,"Hever CEP School",null,"Hever CEP School","Hever CEP School",0,null,547078.25,547078.25054012239,0,null,0,0,0,null,547078.25,547078.25054012239,0,null,3486.22,3486.22097782936,0,null,null,null,0,null,0,0,0,null,54402.1,null,54402,null,559.79,null,560,null,0,null,0,null,0,null,0,null,null,null,0,null,null,null,0,null,null,null,0,null,null,null,0,null,"NO",{"$f":"IF(ISERROR(VLOOKUP($A239+8860000,'Growth Data'!$A:$F,3,0)),\"NO\",VLOOKUP($A239+8860000,'Growth Data'!$A:$F,3,0))","v":"NO"},0,null,0,{"$f":"IF(BM239=\"YES\",IF(ISERROR(VLOOKUP($A239+8860000,'Growth Data'!$A:$F,6,0)),0,VLOOKUP($A239+8860000,'Growth Data'!$A:$F,6,0)),0)","v":0},0,null,"NO",{"$f":"IF(ISERROR(VLOOKUP($A239+8860000,'Growth Data'!$A:$F,4,0)),\"NO\",VLOOKUP($A239+8860000,'Growth Data'!$A:$F,4,0))","v":"NO"},0,null,0,{"$f":"IF(BU239=\"YES\",IF(ISERROR(VLOOKUP($A239+8860000,'Growth Data'!$A:$Z,7,0)),0,VLOOKUP($A239+8860000,'Growth Data'!$A:$Z,7,0)),0)","v":0},0,null,"NO",{"$f":"IF(ISERROR(VLOOKUP($A239+8860000,'Growth Data'!$A:$F,5,0)),\"NO\",VLOOKUP($A239+8860000,'Growth Data'!$A:$F,5,0))","v":"NO"},0,null,0,{"$f":"IF(CC239=\"YES\",IF(ISERROR(VLOOKUP($A239+8860000,'Growth Data'!$A:$Z,8,0)),0,VLOOKUP($A239+8860000,'Growth Data'!$A:$Z,8,0)),0)","v":0},0,null,null,null,0]
[3313,"Fordcombe CEP School",null,"Fordcombe CEP School","Fordcombe CEP School",0,null,432491.94,432491.94478023256,0,null,0,0,0,null,432491.94,432491.94478023256,0,null,2608.0100000000002,2608.01263990288,0,null,null,null,0,null,0,0,0,null,117103.81,null,117104,null,0,null,0,null,0,null,0,null,0,null,0,null,null,null,0,null,null,null,0,null,null,null,0,null,null,null,0,null,"NO",{"$f":"IF(ISERROR(VLOOKUP($A240+8860000,'Growth Data'!$A:$F,3,0)),\"NO\",VLOOKUP($A240+8860000,'Growth Data'!$A:$F,3,0))","v":"NO"},0,null,0,{"$f":"IF(BM240=\"YES\",IF(ISERROR(VLOOKUP($A240+8860000,'Growth Data'!$A:$F,6,0)),0,VLOOKUP($A240+8860000,'Growth Data'!$A:$F,6,0)),0)","v":0},0,null,"NO",{"$f":"IF(ISERROR(VLOOKUP($A240+8860000,'Growth Data'!$A:$F,4,0)),\"NO\",VLOOKUP($A240+8860000,'Growth Data'!$A:$F,4,0))","v":"NO"},0,null,0,{"$f":"IF(BU240=\"YES\",IF(ISERROR(VLOOKUP($A240+8860000,'Growth Data'!$A:$Z,7,0)),0,VLOOKUP($A240+8860000,'Growth Data'!$A:$Z,7,0)),0)","v":0},0,null,"NO",{"$f":"IF(ISERROR(VLOOKUP($A240+8860000,'Growth Data'!$A:$F,5,0)),\"NO\",VLOOKUP($A240+8860000,'Growth Data'!$A:$F,5,0))","v":"NO"},0,null,0,{"$f":"IF(CC240=\"YES\",IF(ISERROR(VLOOKUP($A240+8860000,'Growth Data'!$A:$Z,8,0)),0,VLOOKUP($A240+8860000,'Growth Data'!$A:$Z,8,0)),0)","v":0},0,null,null,null,0]
[3314,"Penshurst CEP School",null,"Penshurst CEP School","Penshurst CEP School",0,null,434231.82,434231.81796168489,0,null,0,0,0,null,434231.82,434231.81796168489,0,null,2661.24,2661.2373876559996,0,null,null,null,0,null,0,0,0,null,98884.66,null,98885,null,0,null,0,null,0,null,0,null,0,null,0,null,null,null,0,null,null,null,0,null,null,null,0,null,null,null,0,null,"YES",{"$f":"IF(ISERROR(VLOOKUP($A241+8860000,'Growth Data'!$A:$F,3,0)),\"NO\",VLOOKUP($A241+8860000,'Growth Data'!$A:$F,3,0))","v":"NO"},1,null,60,{"$f":"IF(BM241=\"YES\",IF(ISERROR(VLOOKUP($A241+8860000,'Growth Data'!$A:$F,6,0)),0,VLOOKUP($A241+8860000,'Growth Data'!$A:$F,6,0)),0)","v":0},60,null,"YES",{"$f":"IF(ISERROR(VLOOKUP($A241+8860000,'Growth Data'!$A:$F,4,0)),\"NO\",VLOOKUP($A241+8860000,'Growth Data'!$A:$F,4,0))","v":"NO"},1,null,63,{"$f":"IF(BU241=\"YES\",IF(ISERROR(VLOOKUP($A241+8860000,'Growth Data'!$A:$Z,7,0)),0,VLOOKUP($A241+8860000,'Growth Data'!$A:$Z,7,0)),0)","v":0},63,null,"YES",{"$f":"IF(ISERROR(VLOOKUP($A241+8860000,'Growth Data'!$A:$F,5,0)),\"NO\",VLOOKUP($A241+8860000,'Growth Data'!$A:$F,5,0))","v":"NO"},1,null,60,{"$f":"IF(CC241=\"YES\",IF(ISERROR(VLOOKUP($A241+8860000,'Growth Data'!$A:$Z,8,0)),0,VLOOKUP($A241+8860000,'Growth Data'!$A:$Z,8,0)),0)","v":0},60,null,null,null,0]
[3317,"Lady Boswell's CEP School, Sevenoaks",null,"Lady Boswell's CEP School, Sevenoaks","Lady Boswell's CEP School, Sevenoaks",0,null,1273230,1273230,0,null,0,0,0,null,1273230,1273230,0,null,9899.7999999999993,9899.8030820803178,0,null,null,null,0,null,0,0,0,null,35158.79,null,35159,null,2484.12,null,2484,null,0,null,0,null,0,null,0,null,null,null,0,null,null,null,0,null,null,null,0,null,null,null,0,null,"NO",{"$f":"IF(ISERROR(VLOOKUP($A242+8860000,'Growth Data'!$A:$F,3,0)),\"NO\",VLOOKUP($A242+8860000,'Growth Data'!$A:$F,3,0))","v":"NO"},0,null,0,{"$f":"IF(BM242=\"YES\",IF(ISERROR(VLOOKUP($A242+8860000,'Growth Data'!$A:$F,6,0)),0,VLOOKUP($A242+8860000,'Growth Data'!$A:$F,6,0)),0)","v":0},0,null,"NO",{"$f":"IF(ISERROR(VLOOKUP($A242+8860000,'Growth Data'!$A:$F,4,0)),\"NO\",VLOOKUP($A242+8860000,'Growth Data'!$A:$F,4,0))","v":"NO"},0,null,0,{"$f":"IF(BU242=\"YES\",IF(ISERROR(VLOOKUP($A242+8860000,'Growth Data'!$A:$Z,7,0)),0,VLOOKUP($A242+8860000,'Growth Data'!$A:$Z,7,0)),0)","v":0},0,null,"NO",{"$f":"IF(ISERROR(VLOOKUP($A242+8860000,'Growth Data'!$A:$F,5,0)),\"NO\",VLOOKUP($A242+8860000,'Growth Data'!$A:$F,5,0))","v":"NO"},0,null,0,{"$f":"IF(CC242=\"YES\",IF(ISERROR(VLOOKUP($A242+8860000,'Growth Data'!$A:$Z,8,0)),0,VLOOKUP($A242+8860000,'Growth Data'!$A:$Z,8,0)),0)","v":0},0,null,null,null,0]
[3318,"Ide Hill CEP School",null,"Ide Hill CEP School","Ide Hill CEP School",0,null,542679.48,542679.47788890149,0,null,0,0,0,null,542679.48,542679.47788890149,0,null,3645.9,3645.8952210887201,0,null,null,null,0,null,0,0,0,null,161983.31,null,161983,null,0,null,0,null,0,null,0,null,0,null,0,null,null,null,0,null,null,null,0,null,null,null,0,null,null,null,0,null,"YES",{"$f":"IF(ISERROR(VLOOKUP($A243+8860000,'Growth Data'!$A:$F,3,0)),\"NO\",VLOOKUP($A243+8860000,'Growth Data'!$A:$F,3,0))","v":"NO"},1,null,30,{"$f":"IF(BM243=\"YES\",IF(ISERROR(VLOOKUP($A243+8860000,'Growth Data'!$A:$F,6,0)),0,VLOOKUP($A243+8860000,'Growth Data'!$A:$F,6,0)),0)","v":0},30,null,"NO",{"$f":"IF(ISERROR(VLOOKUP($A243+8860000,'Growth Data'!$A:$F,4,0)),\"NO\",VLOOKUP($A243+8860000,'Growth Data'!$A:$F,4,0))","v":"NO"},0,null,0,{"$f":"IF(BU243=\"YES\",IF(ISERROR(VLOOKUP($A243+8860000,'Growth Data'!$A:$Z,7,0)),0,VLOOKUP($A243+8860000,'Growth Data'!$A:$Z,7,0)),0)","v":0},0,null,"NO",{"$f":"IF(ISERROR(VLOOKUP($A243+8860000,'Growth Data'!$A:$F,5,0)),\"NO\",VLOOKUP($A243+8860000,'Growth Data'!$A:$F,5,0))","v":"NO"},0,null,0,{"$f":"IF(CC243=\"YES\",IF(ISERROR(VLOOKUP($A243+8860000,'Growth Data'!$A:$Z,8,0)),0,VLOOKUP($A243+8860000,'Growth Data'!$A:$Z,8,0)),0)","v":0},0,null,null,null,0]
[3320,"St Barnabas CEP School",null,"St Barnabas CEP School","St Barnabas CEP School",0,null,753772.36,753772.35712786438,0,null,64727.11,64727.111618378316,0,null,818499.47,818499.4687462427,0,null,5109.8599999999997,5109.8633746000005,0,null,null,null,0,null,0,0,0,null,49253.03,null,49253,null,1074.7,null,1075,null,0,null,0,null,0,null,0,null,null,null,0,null,null,null,0,null,null,null,0,null,null,null,0,null,"YES",{"$f":"IF(ISERROR(VLOOKUP($A244+8860000,'Growth Data'!$A:$F,3,0)),\"NO\",VLOOKUP($A244+8860000,'Growth Data'!$A:$F,3,0))","v":"NO"},1,null,27,{"$f":"IF(BM244=\"YES\",IF(ISERROR(VLOOKUP($A244+8860000,'Growth Data'!$A:$F,6,0)),0,VLOOKUP($A244+8860000,'Growth Data'!$A:$F,6,0)),0)","v":0},27,null,"NO",{"$f":"IF(ISERROR(VLOOKUP($A244+8860000,'Growth Data'!$A:$F,4,0)),\"NO\",VLOOKUP($A244+8860000,'Growth Data'!$A:$F,4,0))","v":"NO"},0,null,0,{"$f":"IF(BU244=\"YES\",IF(ISERROR(VLOOKUP($A244+8860000,'Growth Data'!$A:$Z,7,0)),0,VLOOKUP($A244+8860000,'Growth Data'!$A:$Z,7,0)),0)","v":0},0,null,"NO",{"$f":"IF(ISERROR(VLOOKUP($A244+8860000,'Growth Data'!$A:$F,5,0)),\"NO\",VLOOKUP($A244+8860000,'Growth Data'!$A:$F,5,0))","v":"NO"},0,null,0,{"$f":"IF(CC244=\"YES\",IF(ISERROR(VLOOKUP($A244+8860000,'Growth Data'!$A:$Z,8,0)),0,VLOOKUP($A244+8860000,'Growth Data'!$A:$Z,8,0)),0)","v":0},0,null,null,null,0]
[3322,"St James' CEI School",null,"St James' CEI School","St James' CEI School",0,null,962703.76,962703.75514640636,0,null,0,0,0,null,962703.76,962703.75514640636,0,null,6932.98,6932.980458,0,null,null,null,0,null,0,0,0,null,33604.58,null,33605,null,2639.54,null,2640,null,0,null,0,null,0,null,0,null,null,null,0,null,null,null,0,null,null,null,0,null,null,null,0,null,"NO",{"$f":"IF(ISERROR(VLOOKUP($A245+8860000,'Growth Data'!$A:$F,3,0)),\"NO\",VLOOKUP($A245+8860000,'Growth Data'!$A:$F,3,0))","v":"NO"},0,null,0,{"$f":"IF(BM245=\"YES\",IF(ISERROR(VLOOKUP($A245+8860000,'Growth Data'!$A:$F,6,0)),0,VLOOKUP($A245+8860000,'Growth Data'!$A:$F,6,0)),0)","v":0},0,null,"NO",{"$f":"IF(ISERROR(VLOOKUP($A245+8860000,'Growth Data'!$A:$F,4,0)),\"NO\",VLOOKUP($A245+8860000,'Growth Data'!$A:$F,4,0))","v":"NO"},0,null,0,{"$f":"IF(BU245=\"YES\",IF(ISERROR(VLOOKUP($A245+8860000,'Growth Data'!$A:$Z,7,0)),0,VLOOKUP($A245+8860000,'Growth Data'!$A:$Z,7,0)),0)","v":0},0,null,"NO",{"$f":"IF(ISERROR(VLOOKUP($A245+8860000,'Growth Data'!$A:$F,5,0)),\"NO\",VLOOKUP($A245+8860000,'Growth Data'!$A:$F,5,0))","v":"NO"},0,null,0,{"$f":"IF(CC245=\"YES\",IF(ISERROR(VLOOKUP($A245+8860000,'Growth Data'!$A:$Z,8,0)),0,VLOOKUP($A245+8860000,'Growth Data'!$A:$Z,8,0)),0)","v":0},0,null,null,null,0]
[3323,"Hunton CEP School",null,"Hunton CEP School","Hunton CEP School",0,null,405938.83,405938.83260569535,0,null,0,0,0,null,405938.83,405938.83260569535,0,null,2439.38,2439.3820129999999,0,null,null,null,0,null,0,0,0,null,23011.66,null,23012,null,3698.83,null,3699,null,0,null,0,null,0,null,0,null,null,null,0,null,null,null,0,null,null,null,0,null,null,null,0,null,"NO",{"$f":"IF(ISERROR(VLOOKUP($A246+8860000,'Growth Data'!$A:$F,3,0)),\"NO\",VLOOKUP($A246+8860000,'Growth Data'!$A:$F,3,0))","v":"NO"},0,null,0,{"$f":"IF(BM246=\"YES\",IF(ISERROR(VLOOKUP($A246+8860000,'Growth Data'!$A:$F,6,0)),0,VLOOKUP($A246+8860000,'Growth Data'!$A:$F,6,0)),0)","v":0},0,null,"NO",{"$f":"IF(ISERROR(VLOOKUP($A246+8860000,'Growth Data'!$A:$F,4,0)),\"NO\",VLOOKUP($A246+8860000,'Growth Data'!$A:$F,4,0))","v":"NO"},0,null,0,{"$f":"IF(BU246=\"YES\",IF(ISERROR(VLOOKUP($A246+8860000,'Growth Data'!$A:$Z,7,0)),0,VLOOKUP($A246+8860000,'Growth Data'!$A:$Z,7,0)),0)","v":0},0,null,"NO",{"$f":"IF(ISERROR(VLOOKUP($A246+8860000,'Growth Data'!$A:$F,5,0)),\"NO\",VLOOKUP($A246+8860000,'Growth Data'!$A:$F,5,0))","v":"NO"},0,null,0,{"$f":"IF(CC246=\"YES\",IF(ISERROR(VLOOKUP($A246+8860000,'Growth Data'!$A:$Z,8,0)),0,VLOOKUP($A246+8860000,'Growth Data'!$A:$Z,8,0)),0)","v":0},0,null,null,null,0]
[3325,"Platt CEP School",null,"Platt CEP School","Platt CEP School",0,null,563234.65,563234.64854615717,0,null,0,0,0,null,563234.65,563234.64854615717,0,null,3748.95,3748.9449883999996,0,null,null,null,0,null,0,0,0,null,40510.230000000003,null,40510,null,1948.98,null,1949,null,0,null,0,null,0,null,0,null,null,null,0,null,null,null,0,null,null,null,0,null,null,null,0,null,"NO",{"$f":"IF(ISERROR(VLOOKUP($A247+8860000,'Growth Data'!$A:$F,3,0)),\"NO\",VLOOKUP($A247+8860000,'Growth Data'!$A:$F,3,0))","v":"NO"},0,null,0,{"$f":"IF(BM247=\"YES\",IF(ISERROR(VLOOKUP($A247+8860000,'Growth Data'!$A:$F,6,0)),0,VLOOKUP($A247+8860000,'Growth Data'!$A:$F,6,0)),0)","v":0},0,null,"NO",{"$f":"IF(ISERROR(VLOOKUP($A247+8860000,'Growth Data'!$A:$F,4,0)),\"NO\",VLOOKUP($A247+8860000,'Growth Data'!$A:$F,4,0))","v":"NO"},0,null,0,{"$f":"IF(BU247=\"YES\",IF(ISERROR(VLOOKUP($A247+8860000,'Growth Data'!$A:$Z,7,0)),0,VLOOKUP($A247+8860000,'Growth Data'!$A:$Z,7,0)),0)","v":0},0,null,"NO",{"$f":"IF(ISERROR(VLOOKUP($A247+8860000,'Growth Data'!$A:$F,5,0)),\"NO\",VLOOKUP($A247+8860000,'Growth Data'!$A:$F,5,0))","v":"NO"},0,null,0,{"$f":"IF(CC247=\"YES\",IF(ISERROR(VLOOKUP($A247+8860000,'Growth Data'!$A:$Z,8,0)),0,VLOOKUP($A247+8860000,'Growth Data'!$A:$Z,8,0)),0)","v":0},0,null,null,null,0]
[3328,"Bapchild & Tonge CEP School",null,"Bapchild & Tonge CEP School","Bapchild & Tonge CEP School",0,null,756102.18,756102.18020719686,0,null,0,0,0,null,756102.18,756102.18020719686,0,null,5186.8999999999996,5186.8964907999998,0,null,null,null,0,null,0,0,0,null,39404.81,null,39405,null,2059.52,null,2060,null,0,null,0,null,0,null,0,null,null,null,0,null,null,null,0,null,null,null,0,null,null,null,0,null,"NO",{"$f":"IF(ISERROR(VLOOKUP($A248+8860000,'Growth Data'!$A:$F,3,0)),\"NO\",VLOOKUP($A248+8860000,'Growth Data'!$A:$F,3,0))","v":"NO"},0,null,0,{"$f":"IF(BM248=\"YES\",IF(ISERROR(VLOOKUP($A248+8860000,'Growth Data'!$A:$F,6,0)),0,VLOOKUP($A248+8860000,'Growth Data'!$A:$F,6,0)),0)","v":0},0,null,"NO",{"$f":"IF(ISERROR(VLOOKUP($A248+8860000,'Growth Data'!$A:$F,4,0)),\"NO\",VLOOKUP($A248+8860000,'Growth Data'!$A:$F,4,0))","v":"NO"},0,null,0,{"$f":"IF(BU248=\"YES\",IF(ISERROR(VLOOKUP($A248+8860000,'Growth Data'!$A:$Z,7,0)),0,VLOOKUP($A248+8860000,'Growth Data'!$A:$Z,7,0)),0)","v":0},0,null,"NO",{"$f":"IF(ISERROR(VLOOKUP($A248+8860000,'Growth Data'!$A:$F,5,0)),\"NO\",VLOOKUP($A248+8860000,'Growth Data'!$A:$F,5,0))","v":"NO"},0,null,0,{"$f":"IF(CC248=\"YES\",IF(ISERROR(VLOOKUP($A248+8860000,'Growth Data'!$A:$Z,8,0)),0,VLOOKUP($A248+8860000,'Growth Data'!$A:$Z,8,0)),0)","v":0},0,null,null,null,0]
[3332,"Hartlip Endowed CEP School",null,"Hartlip Endowed CEP School","Hartlip Endowed CEP School",0,null,437473.83,437473.83047884161,0,null,0,0,0,null,437473.83,437473.83047884161,0,null,2670.48,2670.4813615999997,0,null,null,null,0,null,0,0,0,null,25255.89,null,25256,null,3474.41,null,3474,null,0,null,0,null,0,null,0,null,null,null,0,null,null,null,0,null,null,null,0,null,null,null,0,null,"NO",{"$f":"IF(ISERROR(VLOOKUP($A249+8860000,'Growth Data'!$A:$F,3,0)),\"NO\",VLOOKUP($A249+8860000,'Growth Data'!$A:$F,3,0))","v":"NO"},0,null,0,{"$f":"IF(BM249=\"YES\",IF(ISERROR(VLOOKUP($A249+8860000,'Growth Data'!$A:$F,6,0)),0,VLOOKUP($A249+8860000,'Growth Data'!$A:$F,6,0)),0)","v":0},0,null,"NO",{"$f":"IF(ISERROR(VLOOKUP($A249+8860000,'Growth Data'!$A:$F,4,0)),\"NO\",VLOOKUP($A249+8860000,'Growth Data'!$A:$F,4,0))","v":"NO"},0,null,0,{"$f":"IF(BU249=\"YES\",IF(ISERROR(VLOOKUP($A249+8860000,'Growth Data'!$A:$Z,7,0)),0,VLOOKUP($A249+8860000,'Growth Data'!$A:$Z,7,0)),0)","v":0},0,null,"NO",{"$f":"IF(ISERROR(VLOOKUP($A249+8860000,'Growth Data'!$A:$F,5,0)),\"NO\",VLOOKUP($A249+8860000,'Growth Data'!$A:$F,5,0))","v":"NO"},0,null,0,{"$f":"IF(CC249=\"YES\",IF(ISERROR(VLOOKUP($A249+8860000,'Growth Data'!$A:$Z,8,0)),0,VLOOKUP($A249+8860000,'Growth Data'!$A:$Z,8,0)),0)","v":0},0,null,null,null,0]
[3337,"Tunstall CEP School",null,"Tunstall CEP School","Tunstall CEP School",0,null,1017833,1017833,0,null,0,0,0,null,1017833,1017833,0,null,7600.6,7600.6007983999989,0,null,null,null,0,null,0,0,0,null,22371.84,null,22372,null,3762.82,null,3763,null,75000,null,75000,null,112500,null,112500,null,null,null,0,null,null,null,0,null,null,null,0,null,null,null,0,null,"NO",{"$f":"IF(ISERROR(VLOOKUP($A250+8860000,'Growth Data'!$A:$F,3,0)),\"NO\",VLOOKUP($A250+8860000,'Growth Data'!$A:$F,3,0))","v":"YES"},1,null,0,{"$f":"IF(BM250=\"YES\",IF(ISERROR(VLOOKUP($A250+8860000,'Growth Data'!$A:$F,6,0)),0,VLOOKUP($A250+8860000,'Growth Data'!$A:$F,6,0)),0)","v":30},-30,null,"NO",{"$f":"IF(ISERROR(VLOOKUP($A250+8860000,'Growth Data'!$A:$F,4,0)),\"NO\",VLOOKUP($A250+8860000,'Growth Data'!$A:$F,4,0))","v":"NO"},0,null,0,{"$f":"IF(BU250=\"YES\",IF(ISERROR(VLOOKUP($A250+8860000,'Growth Data'!$A:$Z,7,0)),0,VLOOKUP($A250+8860000,'Growth Data'!$A:$Z,7,0)),0)","v":0},0,null,"NO",{"$f":"IF(ISERROR(VLOOKUP($A250+8860000,'Growth Data'!$A:$F,5,0)),\"NO\",VLOOKUP($A250+8860000,'Growth Data'!$A:$F,5,0))","v":"NO"},0,null,0,{"$f":"IF(CC250=\"YES\",IF(ISERROR(VLOOKUP($A250+8860000,'Growth Data'!$A:$Z,8,0)),0,VLOOKUP($A250+8860000,'Growth Data'!$A:$Z,8,0)),0)","v":0},0,null,null,null,0]
[3338,"Herne CEJ School",null,"Herne CEJ School","Herne CEJ School",0,null,1241743,1241743,0,null,0,0,0,null,1241743,1241743,0,null,9321.01,9321.0070601999996,0,null,null,null,0,null,0,0,0,null,40421.279999999999,null,40421,null,1957.87,null,1958,null,0,null,0,null,0,null,0,null,null,null,0,null,null,null,0,null,null,null,0,null,null,null,0,null,"YES",{"$f":"IF(ISERROR(VLOOKUP($A251+8860000,'Growth Data'!$A:$F,3,0)),\"NO\",VLOOKUP($A251+8860000,'Growth Data'!$A:$F,3,0))","v":"NO"},1,null,32,{"$f":"IF(BM251=\"YES\",IF(ISERROR(VLOOKUP($A251+8860000,'Growth Data'!$A:$F,6,0)),0,VLOOKUP($A251+8860000,'Growth Data'!$A:$F,6,0)),0)","v":0},32,null,"YES",{"$f":"IF(ISERROR(VLOOKUP($A251+8860000,'Growth Data'!$A:$F,4,0)),\"NO\",VLOOKUP($A251+8860000,'Growth Data'!$A:$F,4,0))","v":"NO"},1,null,32,{"$f":"IF(BU251=\"YES\",IF(ISERROR(VLOOKUP($A251+8860000,'Growth Data'!$A:$Z,7,0)),0,VLOOKUP($A251+8860000,'Growth Data'!$A:$Z,7,0)),0)","v":0},32,null,"YES",{"$f":"IF(ISERROR(VLOOKUP($A251+8860000,'Growth Data'!$A:$F,5,0)),\"NO\",VLOOKUP($A251+8860000,'Growth Data'!$A:$F,5,0))","v":"NO"},1,null,32,{"$f":"IF(CC251=\"YES\",IF(ISERROR(VLOOKUP($A251+8860000,'Growth Data'!$A:$Z,8,0)),0,VLOOKUP($A251+8860000,'Growth Data'!$A:$Z,8,0)),0)","v":0},32,null,null,null,0]
[3339,"Whitstable & Seasalter Endowed CEJ School",null,"Whitstable & Seasalter Endowed CEJ School","Whitstable & Seasalter Endowed CEJ School",0,null,707260.31,707260.30836920452,0,null,0,0,0,null,707260.31,707260.30836920452,0,null,4981.47,4981.4748475999986,0,null,null,null,0,null,0,0,0,null,26455.599999999999,null,26456,null,3354.44,null,3354,null,0,null,0,null,0,null,0,null,null,null,0,null,null,null,0,null,null,null,0,null,null,null,0,null,"NO",{"$f":"IF(ISERROR(VLOOKUP($A252+8860000,'Growth Data'!$A:$F,3,0)),\"NO\",VLOOKUP($A252+8860000,'Growth Data'!$A:$F,3,0))","v":"NO"},0,null,0,{"$f":"IF(BM252=\"YES\",IF(ISERROR(VLOOKUP($A252+8860000,'Growth Data'!$A:$F,6,0)),0,VLOOKUP($A252+8860000,'Growth Data'!$A:$F,6,0)),0)","v":0},0,null,"NO",{"$f":"IF(ISERROR(VLOOKUP($A252+8860000,'Growth Data'!$A:$F,4,0)),\"NO\",VLOOKUP($A252+8860000,'Growth Data'!$A:$F,4,0))","v":"NO"},0,null,0,{"$f":"IF(BU252=\"YES\",IF(ISERROR(VLOOKUP($A252+8860000,'Growth Data'!$A:$Z,7,0)),0,VLOOKUP($A252+8860000,'Growth Data'!$A:$Z,7,0)),0)","v":0},0,null,"NO",{"$f":"IF(ISERROR(VLOOKUP($A252+8860000,'Growth Data'!$A:$F,5,0)),\"NO\",VLOOKUP($A252+8860000,'Growth Data'!$A:$F,5,0))","v":"NO"},0,null,0,{"$f":"IF(CC252=\"YES\",IF(ISERROR(VLOOKUP($A252+8860000,'Growth Data'!$A:$Z,8,0)),0,VLOOKUP($A252+8860000,'Growth Data'!$A:$Z,8,0)),0)","v":0},0,null,null,null,0]
[3340,"St Mary's CEP School, Ashford",null,"St Mary's CEP School, Ashford","St Mary's CEP School, Ashford",0,null,1508636.76,1508636.7626552125,0,null,0,0,0,null,1508636.76,1508636.7626552125,0,null,10784.64,10784.636268,0,null,null,null,0,null,0,0,0,null,53722.02,null,53722,null,627.79999999999995,null,628,null,0,null,0,null,0,null,0,null,null,null,0,null,null,null,0,null,null,null,0,null,null,null,0,null,"NO",{"$f":"IF(ISERROR(VLOOKUP($A253+8860000,'Growth Data'!$A:$F,3,0)),\"NO\",VLOOKUP($A253+8860000,'Growth Data'!$A:$F,3,0))","v":"NO"},0,null,0,{"$f":"IF(BM253=\"YES\",IF(ISERROR(VLOOKUP($A253+8860000,'Growth Data'!$A:$F,6,0)),0,VLOOKUP($A253+8860000,'Growth Data'!$A:$F,6,0)),0)","v":0},0,null,"NO",{"$f":"IF(ISERROR(VLOOKUP($A253+8860000,'Growth Data'!$A:$F,4,0)),\"NO\",VLOOKUP($A253+8860000,'Growth Data'!$A:$F,4,0))","v":"NO"},0,null,0,{"$f":"IF(BU253=\"YES\",IF(ISERROR(VLOOKUP($A253+8860000,'Growth Data'!$A:$Z,7,0)),0,VLOOKUP($A253+8860000,'Growth Data'!$A:$Z,7,0)),0)","v":0},0,null,"NO",{"$f":"IF(ISERROR(VLOOKUP($A253+8860000,'Growth Data'!$A:$F,5,0)),\"NO\",VLOOKUP($A253+8860000,'Growth Data'!$A:$F,5,0))","v":"NO"},0,null,0,{"$f":"IF(CC253=\"YES\",IF(ISERROR(VLOOKUP($A253+8860000,'Growth Data'!$A:$Z,8,0)),0,VLOOKUP($A253+8860000,'Growth Data'!$A:$Z,8,0)),0)","v":0},0,null,null,null,0]
[3346,"Wittersham CEP School",null,"Wittersham CEP School","Wittersham CEP School",0,null,523040.98,523040.98122937884,0,null,0,0,0,null,523040.98,523040.98122937884,0,null,3209.71,3209.7131750000003,0,null,null,null,0,null,0,0,0,null,55348.4,null,55348,null,465.16,null,465,null,0,null,0,null,0,null,0,null,null,null,0,null,null,null,0,null,null,null,0,null,null,null,0,null,"NO",{"$f":"IF(ISERROR(VLOOKUP($A254+8860000,'Growth Data'!$A:$F,3,0)),\"NO\",VLOOKUP($A254+8860000,'Growth Data'!$A:$F,3,0))","v":"NO"},0,null,0,{"$f":"IF(BM254=\"YES\",IF(ISERROR(VLOOKUP($A254+8860000,'Growth Data'!$A:$F,6,0)),0,VLOOKUP($A254+8860000,'Growth Data'!$A:$F,6,0)),0)","v":0},0,null,"NO",{"$f":"IF(ISERROR(VLOOKUP($A254+8860000,'Growth Data'!$A:$F,4,0)),\"NO\",VLOOKUP($A254+8860000,'Growth Data'!$A:$F,4,0))","v":"NO"},0,null,0,{"$f":"IF(BU254=\"YES\",IF(ISERROR(VLOOKUP($A254+8860000,'Growth Data'!$A:$Z,7,0)),0,VLOOKUP($A254+8860000,'Growth Data'!$A:$Z,7,0)),0)","v":0},0,null,"NO",{"$f":"IF(ISERROR(VLOOKUP($A254+8860000,'Growth Data'!$A:$F,5,0)),\"NO\",VLOOKUP($A254+8860000,'Growth Data'!$A:$F,5,0))","v":"NO"},0,null,0,{"$f":"IF(CC254=\"YES\",IF(ISERROR(VLOOKUP($A254+8860000,'Growth Data'!$A:$Z,8,0)),0,VLOOKUP($A254+8860000,'Growth Data'!$A:$Z,8,0)),0)","v":0},0,null,null,null,0]
[3347,"Elham CEP School",null,"Elham CEP School","Elham CEP School",0,null,522764.79,522764.790397587,0,null,0,0,0,null,522764.79,522764.790397587,0,null,3415.13,3415.1348181999992,0,null,null,null,0,null,0,0,0,null,24617.18,null,24617,null,3538.28,null,3538,null,0,null,0,null,0,null,0,null,null,null,0,null,null,null,0,null,null,null,0,null,null,null,0,null,"NO",{"$f":"IF(ISERROR(VLOOKUP($A255+8860000,'Growth Data'!$A:$F,3,0)),\"NO\",VLOOKUP($A255+8860000,'Growth Data'!$A:$F,3,0))","v":"NO"},0,null,0,{"$f":"IF(BM255=\"YES\",IF(ISERROR(VLOOKUP($A255+8860000,'Growth Data'!$A:$F,6,0)),0,VLOOKUP($A255+8860000,'Growth Data'!$A:$F,6,0)),0)","v":0},0,null,"NO",{"$f":"IF(ISERROR(VLOOKUP($A255+8860000,'Growth Data'!$A:$F,4,0)),\"NO\",VLOOKUP($A255+8860000,'Growth Data'!$A:$F,4,0))","v":"NO"},0,null,0,{"$f":"IF(BU255=\"YES\",IF(ISERROR(VLOOKUP($A255+8860000,'Growth Data'!$A:$Z,7,0)),0,VLOOKUP($A255+8860000,'Growth Data'!$A:$Z,7,0)),0)","v":0},0,null,"NO",{"$f":"IF(ISERROR(VLOOKUP($A255+8860000,'Growth Data'!$A:$F,5,0)),\"NO\",VLOOKUP($A255+8860000,'Growth Data'!$A:$F,5,0))","v":"NO"},0,null,0,{"$f":"IF(CC255=\"YES\",IF(ISERROR(VLOOKUP($A255+8860000,'Growth Data'!$A:$Z,8,0)),0,VLOOKUP($A255+8860000,'Growth Data'!$A:$Z,8,0)),0)","v":0},0,null,null,null,0]
[3350,"Saltwood CEP School",null,"Saltwood CEP School","Saltwood CEP School",0,null,773267.18,773267.17678625858,0,null,0,0,0,null,773267.18,773267.17678625858,0,null,5649.1,5649.0951879999984,0,null,null,null,0,null,0,0,0,null,5580,null,5580,null,5442,null,5442,null,0,null,0,null,0,null,0,null,null,null,0,null,null,null,0,null,null,null,0,null,null,null,0,null,"NO",{"$f":"IF(ISERROR(VLOOKUP($A256+8860000,'Growth Data'!$A:$F,3,0)),\"NO\",VLOOKUP($A256+8860000,'Growth Data'!$A:$F,3,0))","v":"NO"},0,null,0,{"$f":"IF(BM256=\"YES\",IF(ISERROR(VLOOKUP($A256+8860000,'Growth Data'!$A:$F,6,0)),0,VLOOKUP($A256+8860000,'Growth Data'!$A:$F,6,0)),0)","v":0},0,null,"NO",{"$f":"IF(ISERROR(VLOOKUP($A256+8860000,'Growth Data'!$A:$F,4,0)),\"NO\",VLOOKUP($A256+8860000,'Growth Data'!$A:$F,4,0))","v":"NO"},0,null,0,{"$f":"IF(BU256=\"YES\",IF(ISERROR(VLOOKUP($A256+8860000,'Growth Data'!$A:$Z,7,0)),0,VLOOKUP($A256+8860000,'Growth Data'!$A:$Z,7,0)),0)","v":0},0,null,"NO",{"$f":"IF(ISERROR(VLOOKUP($A256+8860000,'Growth Data'!$A:$F,5,0)),\"NO\",VLOOKUP($A256+8860000,'Growth Data'!$A:$F,5,0))","v":"NO"},0,null,0,{"$f":"IF(CC256=\"YES\",IF(ISERROR(VLOOKUP($A256+8860000,'Growth Data'!$A:$Z,8,0)),0,VLOOKUP($A256+8860000,'Growth Data'!$A:$Z,8,0)),0)","v":0},0,null,null,null,0]
[3351,"Ash Cartwright and Kelsey CEP School",null,"Ash Cartwright and Kelsey CEP School","Ash Cartwright and Kelsey CEP School",0,null,625833.09,625833.09488971438,0,null,0,0,0,null,625833.09,625833.09488971438,0,null,4211.1400000000003,4211.1436856000009,0,null,null,null,0,null,4.9000000000000004,4.9000000000000004,0,null,36697.35,null,36697,null,2330.2600000000002,null,2330,null,0,null,0,null,0,null,0,null,null,null,0,null,null,null,0,null,null,null,0,null,null,null,0,null,"NO",{"$f":"IF(ISERROR(VLOOKUP($A257+8860000,'Growth Data'!$A:$F,3,0)),\"NO\",VLOOKUP($A257+8860000,'Growth Data'!$A:$F,3,0))","v":"NO"},0,null,0,{"$f":"IF(BM257=\"YES\",IF(ISERROR(VLOOKUP($A257+8860000,'Growth Data'!$A:$F,6,0)),0,VLOOKUP($A257+8860000,'Growth Data'!$A:$F,6,0)),0)","v":0},0,null,"NO",{"$f":"IF(ISERROR(VLOOKUP($A257+8860000,'Growth Data'!$A:$F,4,0)),\"NO\",VLOOKUP($A257+8860000,'Growth Data'!$A:$F,4,0))","v":"NO"},0,null,0,{"$f":"IF(BU257=\"YES\",IF(ISERROR(VLOOKUP($A257+8860000,'Growth Data'!$A:$Z,7,0)),0,VLOOKUP($A257+8860000,'Growth Data'!$A:$Z,7,0)),0)","v":0},0,null,"NO",{"$f":"IF(ISERROR(VLOOKUP($A257+8860000,'Growth Data'!$A:$F,5,0)),\"NO\",VLOOKUP($A257+8860000,'Growth Data'!$A:$F,5,0))","v":"NO"},0,null,0,{"$f":"IF(CC257=\"YES\",IF(ISERROR(VLOOKUP($A257+8860000,'Growth Data'!$A:$Z,8,0)),0,VLOOKUP($A257+8860000,'Growth Data'!$A:$Z,8,0)),0)","v":0},0,null,null,null,0]
[3353,"Deal Parochial CEP School",null,"Deal Parochial CEP School","Deal Parochial CEP School",0,null,781598.08,781598.0777630657,0,null,0,0,0,null,781598.08,781598.0777630657,0,null,5263.93,5263.9296069999991,0,null,null,null,0,null,0,0,0,null,70988.77,null,70989,null,0,null,0,null,0,null,0,null,0,null,0,null,null,null,0,null,null,null,0,null,null,null,0,null,null,null,0,null,"NO",{"$f":"IF(ISERROR(VLOOKUP($A258+8860000,'Growth Data'!$A:$F,3,0)),\"NO\",VLOOKUP($A258+8860000,'Growth Data'!$A:$F,3,0))","v":"NO"},0,null,0,{"$f":"IF(BM258=\"YES\",IF(ISERROR(VLOOKUP($A258+8860000,'Growth Data'!$A:$F,6,0)),0,VLOOKUP($A258+8860000,'Growth Data'!$A:$F,6,0)),0)","v":0},0,null,"NO",{"$f":"IF(ISERROR(VLOOKUP($A258+8860000,'Growth Data'!$A:$F,4,0)),\"NO\",VLOOKUP($A258+8860000,'Growth Data'!$A:$F,4,0))","v":"NO"},0,null,0,{"$f":"IF(BU258=\"YES\",IF(ISERROR(VLOOKUP($A258+8860000,'Growth Data'!$A:$Z,7,0)),0,VLOOKUP($A258+8860000,'Growth Data'!$A:$Z,7,0)),0)","v":0},0,null,"NO",{"$f":"IF(ISERROR(VLOOKUP($A258+8860000,'Growth Data'!$A:$F,5,0)),\"NO\",VLOOKUP($A258+8860000,'Growth Data'!$A:$F,5,0))","v":"NO"},0,null,0,{"$f":"IF(CC258=\"YES\",IF(ISERROR(VLOOKUP($A258+8860000,'Growth Data'!$A:$Z,8,0)),0,VLOOKUP($A258+8860000,'Growth Data'!$A:$Z,8,0)),0)","v":0},0,null,null,null,0]
[3356,"St Mary's CEP School, Dover",null,"St Mary's CEP School, Dover","St Mary's CEP School, Dover",{"$f":"IF(E259=D259,0,1)","v":0},null,893411.85,893411.85001536366,{"$f":"ROUND(H259-I259,0)","v":0},null,0,0,{"$f":"ROUND(L259-M259,0)","v":0},null,893411.85,893411.85001536366,{"$f":"ROUND(P259-Q259,0)","v":0},null,5520.71,5520.7066610000002,{"$f":"ROUND(T259-U259,0)","v":0},null,null,null,{"$f":"ROUND(X259-Y259,0)","v":0},null,0,0,{"$f":"ROUND(AB259-AC259,0)","v":0},null,5580,null,{"$f":"ROUND(AF259-AG259,0)","v":5580},null,5442,null,{"$f":"ROUND(AJ259-AK259,0)","v":5442},null,0,null,{"$f":"ROUND(AN259-AO259,0)","v":0},null,0,null,{"$f":"ROUND(AR259-AS259,0)","v":0},null,null,null,{"$f":"ROUND(AV259-AW259,0)","v":0},null,null,null,{"$f":"ROUND(AZ259-BA259,0)","v":0},null,null,null,{"$f":"ROUND(BD259-BE259,0)","v":0},null,null,null,{"$f":"ROUND(BH259-BI259,0)","v":0},null,"NO",{"$f":"IF(ISERROR(VLOOKUP($A259+8860000,'Growth Data'!$A:$F,3,0)),\"NO\",VLOOKUP($A259+8860000,'Growth Data'!$A:$F,3,0))","v":"NO"},{"$f":"IF(BL259=BM259,0,1)","v":0},null,0,{"$f":"IF(BM259=\"YES\",IF(ISERROR(VLOOKUP($A259+8860000,'Growth Data'!$A:$F,6,0)),0,VLOOKUP($A259+8860000,'Growth Data'!$A:$F,6,0)),0)","v":0},{"$f":"ROUND(BP259-BQ259,0)","v":0},null,"NO",{"$f":"IF(ISERROR(VLOOKUP($A259+8860000,'Growth Data'!$A:$F,4,0)),\"NO\",VLOOKUP($A259+8860000,'Growth Data'!$A:$F,4,0))","v":"NO"},{"$f":"IF(BT259=BU259,0,1)","v":0},null,0,{"$f":"IF(BU259=\"YES\",IF(ISERROR(VLOOKUP($A259+8860000,'Growth Data'!$A:$Z,7,0)),0,VLOOKUP($A259+8860000,'Growth Data'!$A:$Z,7,0)),0)","v":0},{"$f":"ROUND(BX259-BY259,0)","v":0},null,"NO",{"$f":"IF(ISERROR(VLOOKUP($A259+8860000,'Growth Data'!$A:$F,5,0)),\"NO\",VLOOKUP($A259+8860000,'Growth Data'!$A:$F,5,0))","v":"NO"},{"$f":"IF(CB259=CC259,0,1)","v":0},null,0,{"$f":"IF(CC259=\"YES\",IF(ISERROR(VLOOKUP($A259+8860000,'Growth Data'!$A:$Z,8,0)),0,VLOOKUP($A259+8860000,'Growth Data'!$A:$Z,8,0)),0)","v":0},{"$f":"ROUND(CF259-CG259,0)","v":0},null,null,null,{"$f":"ROUND(CJ259-CK259,0)","v":0}]
[3358,"Sholden CEP School",null,"Sholden CEP School","Sholden CEP School",0,null,447011.47,447011.46925779578,0,null,0,0,0,null,447011.47,447011.46925779578,0,null,2721.84,2721.8367724,0,null,null,null,0,null,0,0,0,null,5580,null,5580,null,5442,null,5442,null,0,null,0,null,0,null,0,null,null,null,0,null,null,null,0,null,null,null,0,null,null,null,0,null,"NO",{"$f":"IF(ISERROR(VLOOKUP($A260+8860000,'Growth Data'!$A:$F,3,0)),\"NO\",VLOOKUP($A260+8860000,'Growth Data'!$A:$F,3,0))","v":"NO"},0,null,0,{"$f":"IF(BM260=\"YES\",IF(ISERROR(VLOOKUP($A260+8860000,'Growth Data'!$A:$F,6,0)),0,VLOOKUP($A260+8860000,'Growth Data'!$A:$F,6,0)),0)","v":0},0,null,"NO",{"$f":"IF(ISERROR(VLOOKUP($A260+8860000,'Growth Data'!$A:$F,4,0)),\"NO\",VLOOKUP($A260+8860000,'Growth Data'!$A:$F,4,0))","v":"NO"},0,null,0,{"$f":"IF(BU260=\"YES\",IF(ISERROR(VLOOKUP($A260+8860000,'Growth Data'!$A:$Z,7,0)),0,VLOOKUP($A260+8860000,'Growth Data'!$A:$Z,7,0)),0)","v":0},0,null,"NO",{"$f":"IF(ISERROR(VLOOKUP($A260+8860000,'Growth Data'!$A:$F,5,0)),\"NO\",VLOOKUP($A260+8860000,'Growth Data'!$A:$F,5,0))","v":"NO"},0,null,0,{"$f":"IF(CC260=\"YES\",IF(ISERROR(VLOOKUP($A260+8860000,'Growth Data'!$A:$Z,8,0)),0,VLOOKUP($A260+8860000,'Growth Data'!$A:$Z,8,0)),0)","v":0},0,null,null,null,0]
[3360,"St Peter-in-Thanet CEJ School",null,"St Peter-in-Thanet CEJ School","St Peter-in-Thanet CEJ School",0,null,1336049.71,1336049.7119691852,0,null,0,0,0,null,1336049.71,1336049.7119691852,0,null,9577.7800000000007,9577.7841141999997,0,null,null,null,0,null,0,0,0,null,31458.26,null,31458,null,2854.17,null,2854,null,0,null,0,null,0,null,0,null,null,null,0,null,null,null,0,null,null,null,0,null,null,null,0,null,"NO",{"$f":"IF(ISERROR(VLOOKUP($A261+8860000,'Growth Data'!$A:$F,3,0)),\"NO\",VLOOKUP($A261+8860000,'Growth Data'!$A:$F,3,0))","v":"NO"},0,null,0,{"$f":"IF(BM261=\"YES\",IF(ISERROR(VLOOKUP($A261+8860000,'Growth Data'!$A:$F,6,0)),0,VLOOKUP($A261+8860000,'Growth Data'!$A:$F,6,0)),0)","v":0},0,null,"NO",{"$f":"IF(ISERROR(VLOOKUP($A261+8860000,'Growth Data'!$A:$F,4,0)),\"NO\",VLOOKUP($A261+8860000,'Growth Data'!$A:$F,4,0))","v":"NO"},0,null,0,{"$f":"IF(BU261=\"YES\",IF(ISERROR(VLOOKUP($A261+8860000,'Growth Data'!$A:$Z,7,0)),0,VLOOKUP($A261+8860000,'Growth Data'!$A:$Z,7,0)),0)","v":0},0,null,"NO",{"$f":"IF(ISERROR(VLOOKUP($A261+8860000,'Growth Data'!$A:$F,5,0)),\"NO\",VLOOKUP($A261+8860000,'Growth Data'!$A:$F,5,0))","v":"NO"},0,null,0,{"$f":"IF(CC261=\"YES\",IF(ISERROR(VLOOKUP($A261+8860000,'Growth Data'!$A:$Z,8,0)),0,VLOOKUP($A261+8860000,'Growth Data'!$A:$Z,8,0)),0)","v":0},0,null,null,null,0]
[3364,"Ramsgate, Holy Trinity CEP School",null,"Ramsgate, Holy Trinity CEP School","Ramsgate, Holy Trinity CEP School",0,null,775371.75,775371.75429207576,0,null,0,0,0,null,775371.75,775371.75429207576,0,null,5392.32,5392.3181340000001,0,null,null,null,0,null,0,0,0,null,53581.73,null,53582,null,641.83000000000004,null,642,null,0,null,0,null,0,null,0,null,null,null,0,null,null,null,0,null,null,null,0,null,null,null,0,null,"NO",{"$f":"IF(ISERROR(VLOOKUP($A262+8860000,'Growth Data'!$A:$F,3,0)),\"NO\",VLOOKUP($A262+8860000,'Growth Data'!$A:$F,3,0))","v":"NO"},0,null,0,{"$f":"IF(BM262=\"YES\",IF(ISERROR(VLOOKUP($A262+8860000,'Growth Data'!$A:$F,6,0)),0,VLOOKUP($A262+8860000,'Growth Data'!$A:$F,6,0)),0)","v":0},0,null,"YES",{"$f":"IF(ISERROR(VLOOKUP($A262+8860000,'Growth Data'!$A:$F,4,0)),\"NO\",VLOOKUP($A262+8860000,'Growth Data'!$A:$F,4,0))","v":"NO"},1,null,30,{"$f":"IF(BU262=\"YES\",IF(ISERROR(VLOOKUP($A262+8860000,'Growth Data'!$A:$Z,7,0)),0,VLOOKUP($A262+8860000,'Growth Data'!$A:$Z,7,0)),0)","v":0},30,null,"YES",{"$f":"IF(ISERROR(VLOOKUP($A262+8860000,'Growth Data'!$A:$F,5,0)),\"NO\",VLOOKUP($A262+8860000,'Growth Data'!$A:$F,5,0))","v":"NO"},1,null,30,{"$f":"IF(CC262=\"YES\",IF(ISERROR(VLOOKUP($A262+8860000,'Growth Data'!$A:$Z,8,0)),0,VLOOKUP($A262+8860000,'Growth Data'!$A:$Z,8,0)),0)","v":0},30,null,null,null,0]
[3373,"St Mary's CEP School",null,"St Mary's CEP School","St Mary's CEP School",0,null,866657.33,866657.32513030386,0,null,0,0,0,null,866657.33,866657.32513030386,0,null,5295.86,5295.86240143544,0,null,null,null,0,null,4.91,4.91,0,null,70243.12,null,70243,null,0,null,0,null,0,null,0,null,0,null,0,null,null,null,0,null,null,null,0,null,null,null,0,null,null,null,0,null,"NO",{"$f":"IF(ISERROR(VLOOKUP($A263+8860000,'Growth Data'!$A:$F,3,0)),\"NO\",VLOOKUP($A263+8860000,'Growth Data'!$A:$F,3,0))","v":"NO"},0,null,0,{"$f":"IF(BM263=\"YES\",IF(ISERROR(VLOOKUP($A263+8860000,'Growth Data'!$A:$F,6,0)),0,VLOOKUP($A263+8860000,'Growth Data'!$A:$F,6,0)),0)","v":0},0,null,"NO",{"$f":"IF(ISERROR(VLOOKUP($A263+8860000,'Growth Data'!$A:$F,4,0)),\"NO\",VLOOKUP($A263+8860000,'Growth Data'!$A:$F,4,0))","v":"NO"},0,null,0,{"$f":"IF(BU263=\"YES\",IF(ISERROR(VLOOKUP($A263+8860000,'Growth Data'!$A:$Z,7,0)),0,VLOOKUP($A263+8860000,'Growth Data'!$A:$Z,7,0)),0)","v":0},0,null,"NO",{"$f":"IF(ISERROR(VLOOKUP($A263+8860000,'Growth Data'!$A:$F,5,0)),\"NO\",VLOOKUP($A263+8860000,'Growth Data'!$A:$F,5,0))","v":"NO"},0,null,0,{"$f":"IF(CC263=\"YES\",IF(ISERROR(VLOOKUP($A263+8860000,'Growth Data'!$A:$Z,8,0)),0,VLOOKUP($A263+8860000,'Growth Data'!$A:$Z,8,0)),0)","v":0},0,null,null,null,0]
[3718,"St Augustine's Catholic Primary School, Hythe",null,"St Augustine's Catholic Primary School, Hythe","St Augustine's Catholic Primary School, Hythe",0,null,769373.04,769373.03572807042,0,null,0,0,0,null,769373.04,769373.03572807042,0,null,5263.93,5263.9296069999991,0,null,null,null,0,null,0,0,0,null,46425.85,null,46426,null,1357.42,null,1357,null,0,null,0,null,0,null,0,null,null,null,0,null,null,null,0,null,null,null,0,null,null,null,0,null,"NO",{"$f":"IF(ISERROR(VLOOKUP($A264+8860000,'Growth Data'!$A:$F,3,0)),\"NO\",VLOOKUP($A264+8860000,'Growth Data'!$A:$F,3,0))","v":"NO"},0,null,0,{"$f":"IF(BM264=\"YES\",IF(ISERROR(VLOOKUP($A264+8860000,'Growth Data'!$A:$F,6,0)),0,VLOOKUP($A264+8860000,'Growth Data'!$A:$F,6,0)),0)","v":0},0,null,"NO",{"$f":"IF(ISERROR(VLOOKUP($A264+8860000,'Growth Data'!$A:$F,4,0)),\"NO\",VLOOKUP($A264+8860000,'Growth Data'!$A:$F,4,0))","v":"NO"},0,null,0,{"$f":"IF(BU264=\"YES\",IF(ISERROR(VLOOKUP($A264+8860000,'Growth Data'!$A:$Z,7,0)),0,VLOOKUP($A264+8860000,'Growth Data'!$A:$Z,7,0)),0)","v":0},0,null,"NO",{"$f":"IF(ISERROR(VLOOKUP($A264+8860000,'Growth Data'!$A:$F,5,0)),\"NO\",VLOOKUP($A264+8860000,'Growth Data'!$A:$F,5,0))","v":"NO"},0,null,0,{"$f":"IF(CC264=\"YES\",IF(ISERROR(VLOOKUP($A264+8860000,'Growth Data'!$A:$Z,8,0)),0,VLOOKUP($A264+8860000,'Growth Data'!$A:$Z,8,0)),0)","v":0},0,null,null,null,0]
[3722,"St Ethelbert's Catholic Primary School, Ramsgate",null,"St Ethelbert's Catholic Primary School, Ramsgate","St Ethelbert's Catholic Primary School, Ramsgate",0,null,825756.41,825756.40827610134,0,null,0,0,0,null,825756.41,825756.40827610134,0,null,5418,5417.9958393999996,0,null,null,null,0,null,0,0,0,null,168291.81,null,168292,null,0,null,0,null,0,null,0,null,0,null,0,null,null,null,0,null,null,null,0,null,null,null,0,null,null,null,0,null,"NO",{"$f":"IF(ISERROR(VLOOKUP($A265+8860000,'Growth Data'!$A:$F,3,0)),\"NO\",VLOOKUP($A265+8860000,'Growth Data'!$A:$F,3,0))","v":"NO"},0,null,0,{"$f":"IF(BM265=\"YES\",IF(ISERROR(VLOOKUP($A265+8860000,'Growth Data'!$A:$F,6,0)),0,VLOOKUP($A265+8860000,'Growth Data'!$A:$F,6,0)),0)","v":0},0,null,"NO",{"$f":"IF(ISERROR(VLOOKUP($A265+8860000,'Growth Data'!$A:$F,4,0)),\"NO\",VLOOKUP($A265+8860000,'Growth Data'!$A:$F,4,0))","v":"NO"},0,null,0,{"$f":"IF(BU265=\"YES\",IF(ISERROR(VLOOKUP($A265+8860000,'Growth Data'!$A:$Z,7,0)),0,VLOOKUP($A265+8860000,'Growth Data'!$A:$Z,7,0)),0)","v":0},0,null,"NO",{"$f":"IF(ISERROR(VLOOKUP($A265+8860000,'Growth Data'!$A:$F,5,0)),\"NO\",VLOOKUP($A265+8860000,'Growth Data'!$A:$F,5,0))","v":"NO"},0,null,0,{"$f":"IF(CC265=\"YES\",IF(ISERROR(VLOOKUP($A265+8860000,'Growth Data'!$A:$Z,8,0)),0,VLOOKUP($A265+8860000,'Growth Data'!$A:$Z,8,0)),0)","v":0},0,null,null,null,0]
[3728,"St Anselm's Catholic Primary School, Dartford",null,"St Anselm's Catholic Primary School, Dartford","St Anselm's Catholic Primary School, Dartford",0,null,848439.37,848439.36696426885,0,null,0,0,0,null,848439.37,848439.36696426885,0,null,5615.21,5615.2108879541593,0,null,null,null,0,null,0,0,0,null,5580,null,5580,null,5442,null,5442,null,0,null,0,null,0,null,0,null,null,null,0,null,null,null,0,null,null,null,0,null,null,null,0,null,"NO",{"$f":"IF(ISERROR(VLOOKUP($A266+8860000,'Growth Data'!$A:$F,3,0)),\"NO\",VLOOKUP($A266+8860000,'Growth Data'!$A:$F,3,0))","v":"NO"},0,null,0,{"$f":"IF(BM266=\"YES\",IF(ISERROR(VLOOKUP($A266+8860000,'Growth Data'!$A:$F,6,0)),0,VLOOKUP($A266+8860000,'Growth Data'!$A:$F,6,0)),0)","v":0},0,null,"NO",{"$f":"IF(ISERROR(VLOOKUP($A266+8860000,'Growth Data'!$A:$F,4,0)),\"NO\",VLOOKUP($A266+8860000,'Growth Data'!$A:$F,4,0))","v":"NO"},0,null,0,{"$f":"IF(BU266=\"YES\",IF(ISERROR(VLOOKUP($A266+8860000,'Growth Data'!$A:$Z,7,0)),0,VLOOKUP($A266+8860000,'Growth Data'!$A:$Z,7,0)),0)","v":0},0,null,"NO",{"$f":"IF(ISERROR(VLOOKUP($A266+8860000,'Growth Data'!$A:$F,5,0)),\"NO\",VLOOKUP($A266+8860000,'Growth Data'!$A:$F,5,0))","v":"NO"},0,null,0,{"$f":"IF(CC266=\"YES\",IF(ISERROR(VLOOKUP($A266+8860000,'Growth Data'!$A:$Z,8,0)),0,VLOOKUP($A266+8860000,'Growth Data'!$A:$Z,8,0)),0)","v":0},0,null,null,null,0]
[3733,"Our Lady's Catholic Primary School, Dartford",null,"Our Lady's Catholic Primary School, Dartford","Our Lady's Catholic Primary School, Dartford",0,null,819670.61,819670.61230458401,0,null,0,0,0,null,819670.61,819670.61230458401,0,null,5748.27,5748.2727573369593,0,null,null,null,0,null,0,0,0,null,40902.68,null,40903,null,1909.73,null,1910,null,0,null,0,null,0,null,0,null,null,null,0,null,null,null,0,null,null,null,0,null,null,null,0,null,"NO",{"$f":"IF(ISERROR(VLOOKUP($A267+8860000,'Growth Data'!$A:$F,3,0)),\"NO\",VLOOKUP($A267+8860000,'Growth Data'!$A:$F,3,0))","v":"NO"},0,null,0,{"$f":"IF(BM267=\"YES\",IF(ISERROR(VLOOKUP($A267+8860000,'Growth Data'!$A:$F,6,0)),0,VLOOKUP($A267+8860000,'Growth Data'!$A:$F,6,0)),0)","v":0},0,null,"NO",{"$f":"IF(ISERROR(VLOOKUP($A267+8860000,'Growth Data'!$A:$F,4,0)),\"NO\",VLOOKUP($A267+8860000,'Growth Data'!$A:$F,4,0))","v":"NO"},0,null,0,{"$f":"IF(BU267=\"YES\",IF(ISERROR(VLOOKUP($A267+8860000,'Growth Data'!$A:$Z,7,0)),0,VLOOKUP($A267+8860000,'Growth Data'!$A:$Z,7,0)),0)","v":0},0,null,"NO",{"$f":"IF(ISERROR(VLOOKUP($A267+8860000,'Growth Data'!$A:$F,5,0)),\"NO\",VLOOKUP($A267+8860000,'Growth Data'!$A:$F,5,0))","v":"NO"},0,null,0,{"$f":"IF(CC267=\"YES\",IF(ISERROR(VLOOKUP($A267+8860000,'Growth Data'!$A:$Z,8,0)),0,VLOOKUP($A267+8860000,'Growth Data'!$A:$Z,8,0)),0)","v":0},0,null,null,null,0]
[3749,"St Thomas' Catholic Primary School, Canterbury",null,"St Thomas' Catholic Primary School, Canterbury","St Thomas' Catholic Primary School, Canterbury",0,null,810765.95,810765.94518769451,0,null,0,0,0,null,810765.95,810765.94518769451,0,null,5315.29,5315.2850177999999,0,null,null,null,0,null,0,0,0,null,33992.51,null,33993,null,2600.75,null,2601,null,0,null,0,null,0,null,0,null,null,null,0,null,null,null,0,null,null,null,0,null,null,null,0,null,"NO",{"$f":"IF(ISERROR(VLOOKUP($A268+8860000,'Growth Data'!$A:$F,3,0)),\"NO\",VLOOKUP($A268+8860000,'Growth Data'!$A:$F,3,0))","v":"NO"},0,null,0,{"$f":"IF(BM268=\"YES\",IF(ISERROR(VLOOKUP($A268+8860000,'Growth Data'!$A:$F,6,0)),0,VLOOKUP($A268+8860000,'Growth Data'!$A:$F,6,0)),0)","v":0},0,null,"NO",{"$f":"IF(ISERROR(VLOOKUP($A268+8860000,'Growth Data'!$A:$F,4,0)),\"NO\",VLOOKUP($A268+8860000,'Growth Data'!$A:$F,4,0))","v":"NO"},0,null,0,{"$f":"IF(BU268=\"YES\",IF(ISERROR(VLOOKUP($A268+8860000,'Growth Data'!$A:$Z,7,0)),0,VLOOKUP($A268+8860000,'Growth Data'!$A:$Z,7,0)),0)","v":0},0,null,"NO",{"$f":"IF(ISERROR(VLOOKUP($A268+8860000,'Growth Data'!$A:$F,5,0)),\"NO\",VLOOKUP($A268+8860000,'Growth Data'!$A:$F,5,0))","v":"NO"},0,null,0,{"$f":"IF(CC268=\"YES\",IF(ISERROR(VLOOKUP($A268+8860000,'Growth Data'!$A:$Z,8,0)),0,VLOOKUP($A268+8860000,'Growth Data'!$A:$Z,8,0)),0)","v":0},0,null,null,null,0]
[3893,"Phoenix Community Primary School",null,"Phoenix Community Primary School","Phoenix Community Primary School",0,null,892271.8,892271.80286878627,0,null,0,0,0,null,892271.8,892271.80286878627,0,null,5263.93,5263.9296069999991,0,null,null,null,0,null,0,0,0,null,40131.379999999997,null,40131,null,1986.86,null,1987,null,0,null,0,null,0,null,0,null,null,null,0,null,null,null,0,null,null,null,0,null,null,null,0,null,"NO",{"$f":"IF(ISERROR(VLOOKUP($A269+8860000,'Growth Data'!$A:$F,3,0)),\"NO\",VLOOKUP($A269+8860000,'Growth Data'!$A:$F,3,0))","v":"NO"},0,null,0,{"$f":"IF(BM269=\"YES\",IF(ISERROR(VLOOKUP($A269+8860000,'Growth Data'!$A:$F,6,0)),0,VLOOKUP($A269+8860000,'Growth Data'!$A:$F,6,0)),0)","v":0},0,null,"NO",{"$f":"IF(ISERROR(VLOOKUP($A269+8860000,'Growth Data'!$A:$F,4,0)),\"NO\",VLOOKUP($A269+8860000,'Growth Data'!$A:$F,4,0))","v":"NO"},0,null,0,{"$f":"IF(BU269=\"YES\",IF(ISERROR(VLOOKUP($A269+8860000,'Growth Data'!$A:$Z,7,0)),0,VLOOKUP($A269+8860000,'Growth Data'!$A:$Z,7,0)),0)","v":0},0,null,"NO",{"$f":"IF(ISERROR(VLOOKUP($A269+8860000,'Growth Data'!$A:$F,5,0)),\"NO\",VLOOKUP($A269+8860000,'Growth Data'!$A:$F,5,0))","v":"NO"},0,null,0,{"$f":"IF(CC269=\"YES\",IF(ISERROR(VLOOKUP($A269+8860000,'Growth Data'!$A:$Z,8,0)),0,VLOOKUP($A269+8860000,'Growth Data'!$A:$Z,8,0)),0)","v":0},0,null,null,null,0]
[3896,"Downsview Primary",null,"Downsview Primary","Downsview Primary",0,null,850881.38,850881.38166219252,0,null,0,0,0,null,850881.38,850881.38166219252,0,null,5482.15,5482.1490185713592,0,null,null,null,0,null,0,0,0,null,40834.959999999999,null,40835,null,1916.5,null,1917,null,0,null,0,null,0,null,0,null,null,null,0,null,null,null,0,null,null,null,0,null,null,null,0,null,"NO",{"$f":"IF(ISERROR(VLOOKUP($A270+8860000,'Growth Data'!$A:$F,3,0)),\"NO\",VLOOKUP($A270+8860000,'Growth Data'!$A:$F,3,0))","v":"NO"},0,null,0,{"$f":"IF(BM270=\"YES\",IF(ISERROR(VLOOKUP($A270+8860000,'Growth Data'!$A:$F,6,0)),0,VLOOKUP($A270+8860000,'Growth Data'!$A:$F,6,0)),0)","v":0},0,null,"NO",{"$f":"IF(ISERROR(VLOOKUP($A270+8860000,'Growth Data'!$A:$F,4,0)),\"NO\",VLOOKUP($A270+8860000,'Growth Data'!$A:$F,4,0))","v":"NO"},0,null,0,{"$f":"IF(BU270=\"YES\",IF(ISERROR(VLOOKUP($A270+8860000,'Growth Data'!$A:$Z,7,0)),0,VLOOKUP($A270+8860000,'Growth Data'!$A:$Z,7,0)),0)","v":0},0,null,"NO",{"$f":"IF(ISERROR(VLOOKUP($A270+8860000,'Growth Data'!$A:$F,5,0)),\"NO\",VLOOKUP($A270+8860000,'Growth Data'!$A:$F,5,0))","v":"NO"},0,null,0,{"$f":"IF(CC270=\"YES\",IF(ISERROR(VLOOKUP($A270+8860000,'Growth Data'!$A:$Z,8,0)),0,VLOOKUP($A270+8860000,'Growth Data'!$A:$Z,8,0)),0)","v":0},0,null,null,null,0]
[3898,"Greenfields Community Primary School",null,"Greenfields Community Primary School","Greenfields Community Primary School",0,null,1248924.56,1248924.5616480687,0,null,163164.13,163164.12635916122,0,null,1412088.69,1412088.6880072299,0,null,8191.19,8191.1880226000003,0,null,null,null,0,null,5.0599999999999996,5.0599999999999996,0,null,67415.179999999993,null,67415,null,0,null,0,null,0,null,0,null,0,null,0,null,null,null,0,null,null,null,0,null,null,null,0,null,null,null,0,null,"NO",{"$f":"IF(ISERROR(VLOOKUP($A271+8860000,'Growth Data'!$A:$F,3,0)),\"NO\",VLOOKUP($A271+8860000,'Growth Data'!$A:$F,3,0))","v":"NO"},0,null,0,{"$f":"IF(BM271=\"YES\",IF(ISERROR(VLOOKUP($A271+8860000,'Growth Data'!$A:$F,6,0)),0,VLOOKUP($A271+8860000,'Growth Data'!$A:$F,6,0)),0)","v":0},0,null,"NO",{"$f":"IF(ISERROR(VLOOKUP($A271+8860000,'Growth Data'!$A:$F,4,0)),\"NO\",VLOOKUP($A271+8860000,'Growth Data'!$A:$F,4,0))","v":"NO"},0,null,0,{"$f":"IF(BU271=\"YES\",IF(ISERROR(VLOOKUP($A271+8860000,'Growth Data'!$A:$Z,7,0)),0,VLOOKUP($A271+8860000,'Growth Data'!$A:$Z,7,0)),0)","v":0},0,null,"NO",{"$f":"IF(ISERROR(VLOOKUP($A271+8860000,'Growth Data'!$A:$F,5,0)),\"NO\",VLOOKUP($A271+8860000,'Growth Data'!$A:$F,5,0))","v":"NO"},0,null,0,{"$f":"IF(CC271=\"YES\",IF(ISERROR(VLOOKUP($A271+8860000,'Growth Data'!$A:$Z,8,0)),0,VLOOKUP($A271+8860000,'Growth Data'!$A:$Z,8,0)),0)","v":0},0,null,null,null,0]
[3902,"Hythe Bay C of E Primary School",null,"Hythe Bay C of E Primary School","Hythe Bay C of E Primary School",0,null,1515098.56,1515098.5550908349,0,null,0,0,0,null,1515098.56,1515098.5550908349,0,null,10245.4,10245.4044546,0,null,null,null,0,null,0,0,0,null,128504.24,null,128504,null,0,null,0,null,0,null,0,null,0,null,0,null,null,null,0,null,null,null,0,null,null,null,0,null,null,null,0,null,"NO",{"$f":"IF(ISERROR(VLOOKUP($A272+8860000,'Growth Data'!$A:$F,3,0)),\"NO\",VLOOKUP($A272+8860000,'Growth Data'!$A:$F,3,0))","v":"NO"},0,null,0,{"$f":"IF(BM272=\"YES\",IF(ISERROR(VLOOKUP($A272+8860000,'Growth Data'!$A:$F,6,0)),0,VLOOKUP($A272+8860000,'Growth Data'!$A:$F,6,0)),0)","v":0},0,null,"NO",{"$f":"IF(ISERROR(VLOOKUP($A272+8860000,'Growth Data'!$A:$F,4,0)),\"NO\",VLOOKUP($A272+8860000,'Growth Data'!$A:$F,4,0))","v":"NO"},0,null,0,{"$f":"IF(BU272=\"YES\",IF(ISERROR(VLOOKUP($A272+8860000,'Growth Data'!$A:$Z,7,0)),0,VLOOKUP($A272+8860000,'Growth Data'!$A:$Z,7,0)),0)","v":0},0,null,"NO",{"$f":"IF(ISERROR(VLOOKUP($A272+8860000,'Growth Data'!$A:$F,5,0)),\"NO\",VLOOKUP($A272+8860000,'Growth Data'!$A:$F,5,0))","v":"NO"},0,null,0,{"$f":"IF(CC272=\"YES\",IF(ISERROR(VLOOKUP($A272+8860000,'Growth Data'!$A:$Z,8,0)),0,VLOOKUP($A272+8860000,'Growth Data'!$A:$Z,8,0)),0)","v":0},0,null,null,null,0]
[3904,"Castle Hill Community Primary School",null,"Castle Hill Community Primary School","Castle Hill Community Primary School",0,null,1641362.11,1641362.1113175887,0,null,0,0,0,null,1641362.11,1641362.1113175887,0,null,9860.24,9860.2388736000012,0,null,null,null,0,null,5.19,5.19,0,null,33752.639999999999,null,33753,null,2624.74,null,2625,null,0,null,0,null,0,null,0,null,null,null,0,null,null,null,0,null,null,null,0,null,null,null,0,null,"NO",{"$f":"IF(ISERROR(VLOOKUP($A273+8860000,'Growth Data'!$A:$F,3,0)),\"NO\",VLOOKUP($A273+8860000,'Growth Data'!$A:$F,3,0))","v":"NO"},0,null,0,{"$f":"IF(BM273=\"YES\",IF(ISERROR(VLOOKUP($A273+8860000,'Growth Data'!$A:$F,6,0)),0,VLOOKUP($A273+8860000,'Growth Data'!$A:$F,6,0)),0)","v":0},0,null,"NO",{"$f":"IF(ISERROR(VLOOKUP($A273+8860000,'Growth Data'!$A:$F,4,0)),\"NO\",VLOOKUP($A273+8860000,'Growth Data'!$A:$F,4,0))","v":"NO"},0,null,0,{"$f":"IF(BU273=\"YES\",IF(ISERROR(VLOOKUP($A273+8860000,'Growth Data'!$A:$Z,7,0)),0,VLOOKUP($A273+8860000,'Growth Data'!$A:$Z,7,0)),0)","v":0},0,null,"NO",{"$f":"IF(ISERROR(VLOOKUP($A273+8860000,'Growth Data'!$A:$F,5,0)),\"NO\",VLOOKUP($A273+8860000,'Growth Data'!$A:$F,5,0))","v":"NO"},0,null,0,{"$f":"IF(CC273=\"YES\",IF(ISERROR(VLOOKUP($A273+8860000,'Growth Data'!$A:$Z,8,0)),0,VLOOKUP($A273+8860000,'Growth Data'!$A:$Z,8,0)),0)","v":0},0,null,null,null,0]
[3906,"Palace Wood Primary School",null,"Palace Wood Primary School","Palace Wood Primary School",0,null,1445241,1445240.9999999998,0,null,0,0,0,null,1445241,1445240.9999999998,0,null,10707.6,10707.6031518,0,null,null,null,0,null,0,0,0,null,150598.69,null,150599,null,0,null,0,null,0,null,0,null,0,null,0,null,null,null,0,null,null,null,0,null,null,null,0,null,null,null,0,null,"NO",{"$f":"IF(ISERROR(VLOOKUP($A274+8860000,'Growth Data'!$A:$F,3,0)),\"NO\",VLOOKUP($A274+8860000,'Growth Data'!$A:$F,3,0))","v":"NO"},0,null,0,{"$f":"IF(BM274=\"YES\",IF(ISERROR(VLOOKUP($A274+8860000,'Growth Data'!$A:$F,6,0)),0,VLOOKUP($A274+8860000,'Growth Data'!$A:$F,6,0)),0)","v":0},0,null,"NO",{"$f":"IF(ISERROR(VLOOKUP($A274+8860000,'Growth Data'!$A:$F,4,0)),\"NO\",VLOOKUP($A274+8860000,'Growth Data'!$A:$F,4,0))","v":"NO"},0,null,0,{"$f":"IF(BU274=\"YES\",IF(ISERROR(VLOOKUP($A274+8860000,'Growth Data'!$A:$Z,7,0)),0,VLOOKUP($A274+8860000,'Growth Data'!$A:$Z,7,0)),0)","v":0},0,null,"NO",{"$f":"IF(ISERROR(VLOOKUP($A274+8860000,'Growth Data'!$A:$F,5,0)),\"NO\",VLOOKUP($A274+8860000,'Growth Data'!$A:$F,5,0))","v":"NO"},0,null,0,{"$f":"IF(CC274=\"YES\",IF(ISERROR(VLOOKUP($A274+8860000,'Growth Data'!$A:$Z,8,0)),0,VLOOKUP($A274+8860000,'Growth Data'!$A:$Z,8,0)),0)","v":0},0,null,null,null,0]
[3907,"Hextable Primary School",null,"Hextable Primary School","Hextable Primary School",0,null,1579475.11,1579475.1095841317,0,null,0,0,0,null,1579475.11,1579475.1095841317,0,null,11842.51,11842.506375069197,0,null,null,null,0,null,0,0,0,null,66013.929999999993,null,66014,null,0,null,0,null,0,null,0,null,0,null,0,null,null,null,0,null,null,null,0,null,null,null,0,null,null,null,0,null,"NO",{"$f":"IF(ISERROR(VLOOKUP($A275+8860000,'Growth Data'!$A:$F,3,0)),\"NO\",VLOOKUP($A275+8860000,'Growth Data'!$A:$F,3,0))","v":"YES"},1,null,0,{"$f":"IF(BM275=\"YES\",IF(ISERROR(VLOOKUP($A275+8860000,'Growth Data'!$A:$F,6,0)),0,VLOOKUP($A275+8860000,'Growth Data'!$A:$F,6,0)),0)","v":61},-61,null,"NO",{"$f":"IF(ISERROR(VLOOKUP($A275+8860000,'Growth Data'!$A:$F,4,0)),\"NO\",VLOOKUP($A275+8860000,'Growth Data'!$A:$F,4,0))","v":"NO"},0,null,0,{"$f":"IF(BU275=\"YES\",IF(ISERROR(VLOOKUP($A275+8860000,'Growth Data'!$A:$Z,7,0)),0,VLOOKUP($A275+8860000,'Growth Data'!$A:$Z,7,0)),0)","v":0},0,null,"NO",{"$f":"IF(ISERROR(VLOOKUP($A275+8860000,'Growth Data'!$A:$F,5,0)),\"NO\",VLOOKUP($A275+8860000,'Growth Data'!$A:$F,5,0))","v":"NO"},0,null,0,{"$f":"IF(CC275=\"YES\",IF(ISERROR(VLOOKUP($A275+8860000,'Growth Data'!$A:$Z,8,0)),0,VLOOKUP($A275+8860000,'Growth Data'!$A:$Z,8,0)),0)","v":0},0,null,null,null,0]
[3909,"Ashford Oaks Community Primary School",null,"Ashford Oaks Community Primary School","Ashford Oaks Community Primary School",0,null,1729150.65,1729150.6528756265,0,null,0,0,0,null,1729150.65,1729150.6528756265,0,null,10733.28,10733.280857199998,0,null,null,null,0,null,5.31,5.31,0,null,126017.52,null,126018,null,0,null,0,null,0,null,0,null,0,null,0,null,null,null,0,null,null,null,0,null,null,null,0,null,null,null,0,null,"NO",{"$f":"IF(ISERROR(VLOOKUP($A276+8860000,'Growth Data'!$A:$F,3,0)),\"NO\",VLOOKUP($A276+8860000,'Growth Data'!$A:$F,3,0))","v":"NO"},0,null,0,{"$f":"IF(BM276=\"YES\",IF(ISERROR(VLOOKUP($A276+8860000,'Growth Data'!$A:$F,6,0)),0,VLOOKUP($A276+8860000,'Growth Data'!$A:$F,6,0)),0)","v":0},0,null,"NO",{"$f":"IF(ISERROR(VLOOKUP($A276+8860000,'Growth Data'!$A:$F,4,0)),\"NO\",VLOOKUP($A276+8860000,'Growth Data'!$A:$F,4,0))","v":"NO"},0,null,0,{"$f":"IF(BU276=\"YES\",IF(ISERROR(VLOOKUP($A276+8860000,'Growth Data'!$A:$Z,7,0)),0,VLOOKUP($A276+8860000,'Growth Data'!$A:$Z,7,0)),0)","v":0},0,null,"NO",{"$f":"IF(ISERROR(VLOOKUP($A276+8860000,'Growth Data'!$A:$F,5,0)),\"NO\",VLOOKUP($A276+8860000,'Growth Data'!$A:$F,5,0))","v":"NO"},0,null,0,{"$f":"IF(CC276=\"YES\",IF(ISERROR(VLOOKUP($A276+8860000,'Growth Data'!$A:$Z,8,0)),0,VLOOKUP($A276+8860000,'Growth Data'!$A:$Z,8,0)),0)","v":0},0,null,null,null,0]
[3910,"Joy Lane Primary School",null,"Joy Lane Primary School","Joy Lane Primary School",0,null,1928720,1928720,0,null,0,0,0,null,1928720,1928720,0,null,14148.42,14148.4156754,0,null,null,null,0,null,0,0,0,null,5580,null,5580,null,5442,null,5442,null,0,null,0,null,0,null,0,null,null,null,0,null,null,null,0,null,null,null,0,null,null,null,0,null,"NO",{"$f":"IF(ISERROR(VLOOKUP($A277+8860000,'Growth Data'!$A:$F,3,0)),\"NO\",VLOOKUP($A277+8860000,'Growth Data'!$A:$F,3,0))","v":"NO"},0,null,0,{"$f":"IF(BM277=\"YES\",IF(ISERROR(VLOOKUP($A277+8860000,'Growth Data'!$A:$F,6,0)),0,VLOOKUP($A277+8860000,'Growth Data'!$A:$F,6,0)),0)","v":0},0,null,"NO",{"$f":"IF(ISERROR(VLOOKUP($A277+8860000,'Growth Data'!$A:$F,4,0)),\"NO\",VLOOKUP($A277+8860000,'Growth Data'!$A:$F,4,0))","v":"NO"},0,null,0,{"$f":"IF(BU277=\"YES\",IF(ISERROR(VLOOKUP($A277+8860000,'Growth Data'!$A:$Z,7,0)),0,VLOOKUP($A277+8860000,'Growth Data'!$A:$Z,7,0)),0)","v":0},0,null,"NO",{"$f":"IF(ISERROR(VLOOKUP($A277+8860000,'Growth Data'!$A:$F,5,0)),\"NO\",VLOOKUP($A277+8860000,'Growth Data'!$A:$F,5,0))","v":"NO"},0,null,0,{"$f":"IF(CC277=\"YES\",IF(ISERROR(VLOOKUP($A277+8860000,'Growth Data'!$A:$Z,8,0)),0,VLOOKUP($A277+8860000,'Growth Data'!$A:$Z,8,0)),0)","v":0},0,null,null,null,0]
[3911,"Hornbeam Primary School",null,"Hornbeam Primary School","Hornbeam Primary School",0,null,967775.39,967775.38783004961,0,null,0,0,0,null,967775.39,967775.38783004961,0,null,6547.81,6547.8148770000007,0,null,null,null,0,null,0,0,0,null,70043.63,null,70044,null,0,null,0,null,0,null,0,null,0,null,0,null,null,null,0,null,null,null,0,null,null,null,0,null,null,null,0,null,"NO",{"$f":"IF(ISERROR(VLOOKUP($A278+8860000,'Growth Data'!$A:$F,3,0)),\"NO\",VLOOKUP($A278+8860000,'Growth Data'!$A:$F,3,0))","v":"NO"},0,null,0,{"$f":"IF(BM278=\"YES\",IF(ISERROR(VLOOKUP($A278+8860000,'Growth Data'!$A:$F,6,0)),0,VLOOKUP($A278+8860000,'Growth Data'!$A:$F,6,0)),0)","v":0},0,null,"NO",{"$f":"IF(ISERROR(VLOOKUP($A278+8860000,'Growth Data'!$A:$F,4,0)),\"NO\",VLOOKUP($A278+8860000,'Growth Data'!$A:$F,4,0))","v":"NO"},0,null,0,{"$f":"IF(BU278=\"YES\",IF(ISERROR(VLOOKUP($A278+8860000,'Growth Data'!$A:$Z,7,0)),0,VLOOKUP($A278+8860000,'Growth Data'!$A:$Z,7,0)),0)","v":0},0,null,"NO",{"$f":"IF(ISERROR(VLOOKUP($A278+8860000,'Growth Data'!$A:$F,5,0)),\"NO\",VLOOKUP($A278+8860000,'Growth Data'!$A:$F,5,0))","v":"NO"},0,null,0,{"$f":"IF(CC278=\"YES\",IF(ISERROR(VLOOKUP($A278+8860000,'Growth Data'!$A:$Z,8,0)),0,VLOOKUP($A278+8860000,'Growth Data'!$A:$Z,8,0)),0)","v":0},0,null,null,null,0]
[3913,"Rusthall, St Paul's CE VA School",null,"Rusthall, St Paul's CE VA School","Rusthall, St Paul's CE VA School",0,null,813367.42,813367.42357664846,0,null,0,0,0,null,813367.42,813367.42357664846,0,null,5623.42,5623.4174826000008,0,null,null,null,0,null,0,0,0,null,95725.88,null,95726,null,0,null,0,null,0,null,0,null,0,null,0,null,null,null,0,null,null,null,0,null,null,null,0,null,null,null,0,null,"NO",{"$f":"IF(ISERROR(VLOOKUP($A279+8860000,'Growth Data'!$A:$F,3,0)),\"NO\",VLOOKUP($A279+8860000,'Growth Data'!$A:$F,3,0))","v":"NO"},0,null,0,{"$f":"IF(BM279=\"YES\",IF(ISERROR(VLOOKUP($A279+8860000,'Growth Data'!$A:$F,6,0)),0,VLOOKUP($A279+8860000,'Growth Data'!$A:$F,6,0)),0)","v":0},0,null,"NO",{"$f":"IF(ISERROR(VLOOKUP($A279+8860000,'Growth Data'!$A:$F,4,0)),\"NO\",VLOOKUP($A279+8860000,'Growth Data'!$A:$F,4,0))","v":"NO"},0,null,0,{"$f":"IF(BU279=\"YES\",IF(ISERROR(VLOOKUP($A279+8860000,'Growth Data'!$A:$Z,7,0)),0,VLOOKUP($A279+8860000,'Growth Data'!$A:$Z,7,0)),0)","v":0},0,null,"NO",{"$f":"IF(ISERROR(VLOOKUP($A279+8860000,'Growth Data'!$A:$F,5,0)),\"NO\",VLOOKUP($A279+8860000,'Growth Data'!$A:$F,5,0))","v":"NO"},0,null,0,{"$f":"IF(CC279=\"YES\",IF(ISERROR(VLOOKUP($A279+8860000,'Growth Data'!$A:$Z,8,0)),0,VLOOKUP($A279+8860000,'Growth Data'!$A:$Z,8,0)),0)","v":0},0,null,null,null,0]
[3916,"Green Park Community Primary School",null,"Green Park Community Primary School","Green Park Community Primary School",0,null,1411253.24,1411253.2431387079,0,null,5535.95,5535.9452785300091,0,null,1416789.19,1416789.188417238,0,null,9064.23,9064.2300061999995,0,null,null,null,0,null,0,0,0,null,80963.990000000005,null,80964,null,0,null,0,null,0,null,0,null,0,null,0,null,null,null,0,null,null,null,0,null,null,null,0,null,null,null,0,null,"NO",{"$f":"IF(ISERROR(VLOOKUP($A280+8860000,'Growth Data'!$A:$F,3,0)),\"NO\",VLOOKUP($A280+8860000,'Growth Data'!$A:$F,3,0))","v":"YES"},1,null,0,{"$f":"IF(BM280=\"YES\",IF(ISERROR(VLOOKUP($A280+8860000,'Growth Data'!$A:$F,6,0)),0,VLOOKUP($A280+8860000,'Growth Data'!$A:$F,6,0)),0)","v":58},-58,null,"NO",{"$f":"IF(ISERROR(VLOOKUP($A280+8860000,'Growth Data'!$A:$F,4,0)),\"NO\",VLOOKUP($A280+8860000,'Growth Data'!$A:$F,4,0))","v":"NO"},0,null,0,{"$f":"IF(BU280=\"YES\",IF(ISERROR(VLOOKUP($A280+8860000,'Growth Data'!$A:$Z,7,0)),0,VLOOKUP($A280+8860000,'Growth Data'!$A:$Z,7,0)),0)","v":0},0,null,"NO",{"$f":"IF(ISERROR(VLOOKUP($A280+8860000,'Growth Data'!$A:$F,5,0)),\"NO\",VLOOKUP($A280+8860000,'Growth Data'!$A:$F,5,0))","v":"NO"},0,null,0,{"$f":"IF(CC280=\"YES\",IF(ISERROR(VLOOKUP($A280+8860000,'Growth Data'!$A:$Z,8,0)),0,VLOOKUP($A280+8860000,'Growth Data'!$A:$Z,8,0)),0)","v":0},0,null,null,null,0]
[3917,"Garlinge Primary School",null,"Garlinge Primary School","Garlinge Primary School",0,null,2702156.09,2702156.0878491998,0,null,0,0,0,null,2702156.09,2702156.0878491998,0,null,18744.72,18744.724941999997,0,null,null,null,0,null,5.13,5.13,0,null,63340.44,null,63340,null,0,null,0,null,0,null,0,null,0,null,0,null,null,null,0,null,null,null,0,null,null,null,0,null,null,null,0,null,"NO",{"$f":"IF(ISERROR(VLOOKUP($A281+8860000,'Growth Data'!$A:$F,3,0)),\"NO\",VLOOKUP($A281+8860000,'Growth Data'!$A:$F,3,0))","v":"NO"},0,null,0,{"$f":"IF(BM281=\"YES\",IF(ISERROR(VLOOKUP($A281+8860000,'Growth Data'!$A:$F,6,0)),0,VLOOKUP($A281+8860000,'Growth Data'!$A:$F,6,0)),0)","v":0},0,null,"NO",{"$f":"IF(ISERROR(VLOOKUP($A281+8860000,'Growth Data'!$A:$F,4,0)),\"NO\",VLOOKUP($A281+8860000,'Growth Data'!$A:$F,4,0))","v":"NO"},0,null,0,{"$f":"IF(BU281=\"YES\",IF(ISERROR(VLOOKUP($A281+8860000,'Growth Data'!$A:$Z,7,0)),0,VLOOKUP($A281+8860000,'Growth Data'!$A:$Z,7,0)),0)","v":0},0,null,"NO",{"$f":"IF(ISERROR(VLOOKUP($A281+8860000,'Growth Data'!$A:$F,5,0)),\"NO\",VLOOKUP($A281+8860000,'Growth Data'!$A:$F,5,0))","v":"NO"},0,null,0,{"$f":"IF(CC281=\"YES\",IF(ISERROR(VLOOKUP($A281+8860000,'Growth Data'!$A:$Z,8,0)),0,VLOOKUP($A281+8860000,'Growth Data'!$A:$Z,8,0)),0)","v":0},0,null,null,null,0]
[3918,"Newington Community Primary School and Nursery",null,"Newington Community Primary School and Nursery","Newington Community Primary School and Nursery",0,null,2359832.75,2359832.7513161292,0,null,144637.79,144637.78820624063,0,null,2504470.54,2504470.5395223699,0,null,16536.439999999999,16536.442277599999,0,null,null,null,0,null,5.21,5.21,0,null,84125.75,null,84126,null,0,null,0,null,0,null,0,null,0,null,0,null,null,null,0,null,null,null,0,null,null,null,0,null,null,null,0,null,"NO",{"$f":"IF(ISERROR(VLOOKUP($A282+8860000,'Growth Data'!$A:$F,3,0)),\"NO\",VLOOKUP($A282+8860000,'Growth Data'!$A:$F,3,0))","v":"NO"},0,null,0,{"$f":"IF(BM282=\"YES\",IF(ISERROR(VLOOKUP($A282+8860000,'Growth Data'!$A:$F,6,0)),0,VLOOKUP($A282+8860000,'Growth Data'!$A:$F,6,0)),0)","v":0},0,null,"NO",{"$f":"IF(ISERROR(VLOOKUP($A282+8860000,'Growth Data'!$A:$F,4,0)),\"NO\",VLOOKUP($A282+8860000,'Growth Data'!$A:$F,4,0))","v":"NO"},0,null,0,{"$f":"IF(BU282=\"YES\",IF(ISERROR(VLOOKUP($A282+8860000,'Growth Data'!$A:$Z,7,0)),0,VLOOKUP($A282+8860000,'Growth Data'!$A:$Z,7,0)),0)","v":0},0,null,"NO",{"$f":"IF(ISERROR(VLOOKUP($A282+8860000,'Growth Data'!$A:$F,5,0)),\"NO\",VLOOKUP($A282+8860000,'Growth Data'!$A:$F,5,0))","v":"NO"},0,null,0,{"$f":"IF(CC282=\"YES\",IF(ISERROR(VLOOKUP($A282+8860000,'Growth Data'!$A:$Z,8,0)),0,VLOOKUP($A282+8860000,'Growth Data'!$A:$Z,8,0)),0)","v":0},0,null,null,null,0]
[3919,"Dartford Bridge Community Primary School, The",null,"Dartford Bridge Community Primary School, The","Dartford Bridge Community Primary School, The",0,null,1393411.72,1393411.7155291608,0,null,50363.01,50363.007846270455,0,null,1443774.72,1443774.7233754313,0,null,9633.68,9633.6793433147195,0,null,null,null,0,null,4.9000000000000004,4.9000000000000004,0,null,5580,null,5580,null,5442,null,5442,null,0,null,0,null,0,null,0,null,null,null,0,null,null,null,0,null,null,null,0,null,null,null,0,null,"NO",{"$f":"IF(ISERROR(VLOOKUP($A283+8860000,'Growth Data'!$A:$F,3,0)),\"NO\",VLOOKUP($A283+8860000,'Growth Data'!$A:$F,3,0))","v":"NO"},0,null,0,{"$f":"IF(BM283=\"YES\",IF(ISERROR(VLOOKUP($A283+8860000,'Growth Data'!$A:$F,6,0)),0,VLOOKUP($A283+8860000,'Growth Data'!$A:$F,6,0)),0)","v":0},0,null,"NO",{"$f":"IF(ISERROR(VLOOKUP($A283+8860000,'Growth Data'!$A:$F,4,0)),\"NO\",VLOOKUP($A283+8860000,'Growth Data'!$A:$F,4,0))","v":"NO"},0,null,0,{"$f":"IF(BU283=\"YES\",IF(ISERROR(VLOOKUP($A283+8860000,'Growth Data'!$A:$Z,7,0)),0,VLOOKUP($A283+8860000,'Growth Data'!$A:$Z,7,0)),0)","v":0},0,null,"NO",{"$f":"IF(ISERROR(VLOOKUP($A283+8860000,'Growth Data'!$A:$F,5,0)),\"NO\",VLOOKUP($A283+8860000,'Growth Data'!$A:$F,5,0))","v":"NO"},0,null,0,{"$f":"IF(CC283=\"YES\",IF(ISERROR(VLOOKUP($A283+8860000,'Growth Data'!$A:$Z,8,0)),0,VLOOKUP($A283+8860000,'Growth Data'!$A:$Z,8,0)),0)","v":0},0,null,null,null,0]
[3920,"Goat Lees Primary School",null,"Goat Lees Primary School","Goat Lees Primary School",0,null,823754.42,823754.41796337871,0,null,0,0,0,null,823754.42,823754.41796337871,0,null,5315.29,5315.2850177999999,0,null,null,null,0,null,0,0,0,null,108344.42,null,108344,null,0,null,0,null,0,null,0,null,0,null,0,null,null,null,0,null,null,null,0,null,null,null,0,null,null,null,0,null,"NO",{"$f":"IF(ISERROR(VLOOKUP($A284+8860000,'Growth Data'!$A:$F,3,0)),\"NO\",VLOOKUP($A284+8860000,'Growth Data'!$A:$F,3,0))","v":"NO"},0,null,0,{"$f":"IF(BM284=\"YES\",IF(ISERROR(VLOOKUP($A284+8860000,'Growth Data'!$A:$F,6,0)),0,VLOOKUP($A284+8860000,'Growth Data'!$A:$F,6,0)),0)","v":0},0,null,"NO",{"$f":"IF(ISERROR(VLOOKUP($A284+8860000,'Growth Data'!$A:$F,4,0)),\"NO\",VLOOKUP($A284+8860000,'Growth Data'!$A:$F,4,0))","v":"NO"},0,null,0,{"$f":"IF(BU284=\"YES\",IF(ISERROR(VLOOKUP($A284+8860000,'Growth Data'!$A:$Z,7,0)),0,VLOOKUP($A284+8860000,'Growth Data'!$A:$Z,7,0)),0)","v":0},0,null,"NO",{"$f":"IF(ISERROR(VLOOKUP($A284+8860000,'Growth Data'!$A:$F,5,0)),\"NO\",VLOOKUP($A284+8860000,'Growth Data'!$A:$F,5,0))","v":"NO"},0,null,0,{"$f":"IF(CC284=\"YES\",IF(ISERROR(VLOOKUP($A284+8860000,'Growth Data'!$A:$Z,8,0)),0,VLOOKUP($A284+8860000,'Growth Data'!$A:$Z,8,0)),0)","v":0},0,null,null,null,0]
[5200,"Snodland CEP School",null,"Snodland CEP School","Snodland CEP School",0,null,1346019.58,1346019.5759345023,0,null,0,0,0,null,1346019.58,1346019.5759345023,0,null,9706.17,9706.1726411999989,0,null,null,null,0,null,0,0,0,null,98414.28,null,98414,null,0,null,0,null,0,null,0,null,0,null,0,null,null,null,0,null,null,null,0,null,null,null,0,null,null,null,0,null,"NO",{"$f":"IF(ISERROR(VLOOKUP($A285+8860000,'Growth Data'!$A:$F,3,0)),\"NO\",VLOOKUP($A285+8860000,'Growth Data'!$A:$F,3,0))","v":"NO"},0,null,0,{"$f":"IF(BM285=\"YES\",IF(ISERROR(VLOOKUP($A285+8860000,'Growth Data'!$A:$F,6,0)),0,VLOOKUP($A285+8860000,'Growth Data'!$A:$F,6,0)),0)","v":0},0,null,"NO",{"$f":"IF(ISERROR(VLOOKUP($A285+8860000,'Growth Data'!$A:$F,4,0)),\"NO\",VLOOKUP($A285+8860000,'Growth Data'!$A:$F,4,0))","v":"NO"},0,null,0,{"$f":"IF(BU285=\"YES\",IF(ISERROR(VLOOKUP($A285+8860000,'Growth Data'!$A:$Z,7,0)),0,VLOOKUP($A285+8860000,'Growth Data'!$A:$Z,7,0)),0)","v":0},0,null,"NO",{"$f":"IF(ISERROR(VLOOKUP($A285+8860000,'Growth Data'!$A:$F,5,0)),\"NO\",VLOOKUP($A285+8860000,'Growth Data'!$A:$F,5,0))","v":"NO"},0,null,0,{"$f":"IF(CC285=\"YES\",IF(ISERROR(VLOOKUP($A285+8860000,'Growth Data'!$A:$Z,8,0)),0,VLOOKUP($A285+8860000,'Growth Data'!$A:$Z,8,0)),0)","v":0},0,null,null,null,0]
[5201,"Borough Green Primary School",null,"Borough Green Primary School","Borough Green Primary School",0,null,1008819.54,1008819.5390837023,0,null,0,0,0,null,1008819.54,1008819.5390837023,0,null,7472.21,7472.2122714000006,0,null,null,null,0,null,0,0,0,null,158512.09,null,158512,null,0,null,0,null,0,null,0,null,0,null,0,null,null,null,0,null,null,null,0,null,null,null,0,null,null,null,0,null,"NO",{"$f":"IF(ISERROR(VLOOKUP($A286+8860000,'Growth Data'!$A:$F,3,0)),\"NO\",VLOOKUP($A286+8860000,'Growth Data'!$A:$F,3,0))","v":"NO"},0,null,0,{"$f":"IF(BM286=\"YES\",IF(ISERROR(VLOOKUP($A286+8860000,'Growth Data'!$A:$F,6,0)),0,VLOOKUP($A286+8860000,'Growth Data'!$A:$F,6,0)),0)","v":0},0,null,"NO",{"$f":"IF(ISERROR(VLOOKUP($A286+8860000,'Growth Data'!$A:$F,4,0)),\"NO\",VLOOKUP($A286+8860000,'Growth Data'!$A:$F,4,0))","v":"NO"},0,null,0,{"$f":"IF(BU286=\"YES\",IF(ISERROR(VLOOKUP($A286+8860000,'Growth Data'!$A:$Z,7,0)),0,VLOOKUP($A286+8860000,'Growth Data'!$A:$Z,7,0)),0)","v":0},0,null,"NO",{"$f":"IF(ISERROR(VLOOKUP($A286+8860000,'Growth Data'!$A:$F,5,0)),\"NO\",VLOOKUP($A286+8860000,'Growth Data'!$A:$F,5,0))","v":"NO"},0,null,0,{"$f":"IF(CC286=\"YES\",IF(ISERROR(VLOOKUP($A286+8860000,'Growth Data'!$A:$Z,8,0)),0,VLOOKUP($A286+8860000,'Growth Data'!$A:$Z,8,0)),0)","v":0},0,null,null,null,0]
[5202,"Holy Trinity CEP School",null,"Holy Trinity CEP School","Holy Trinity CEP School",0,null,1576306.54,1576306.5402654912,0,null,0,0,0,null,1576306.54,1576306.5402654912,0,null,10990.06,10990.057911200001,0,null,null,null,0,null,5.14,5.14,0,null,180573.61,null,180574,null,0,null,0,null,0,null,0,null,0,null,0,null,null,null,0,null,null,null,0,null,null,null,0,null,null,null,0,null,"NO",{"$f":"IF(ISERROR(VLOOKUP($A287+8860000,'Growth Data'!$A:$F,3,0)),\"NO\",VLOOKUP($A287+8860000,'Growth Data'!$A:$F,3,0))","v":"NO"},0,null,0,{"$f":"IF(BM287=\"YES\",IF(ISERROR(VLOOKUP($A287+8860000,'Growth Data'!$A:$F,6,0)),0,VLOOKUP($A287+8860000,'Growth Data'!$A:$F,6,0)),0)","v":0},0,null,"NO",{"$f":"IF(ISERROR(VLOOKUP($A287+8860000,'Growth Data'!$A:$F,4,0)),\"NO\",VLOOKUP($A287+8860000,'Growth Data'!$A:$F,4,0))","v":"NO"},0,null,0,{"$f":"IF(BU287=\"YES\",IF(ISERROR(VLOOKUP($A287+8860000,'Growth Data'!$A:$Z,7,0)),0,VLOOKUP($A287+8860000,'Growth Data'!$A:$Z,7,0)),0)","v":0},0,null,"NO",{"$f":"IF(ISERROR(VLOOKUP($A287+8860000,'Growth Data'!$A:$F,5,0)),\"NO\",VLOOKUP($A287+8860000,'Growth Data'!$A:$F,5,0))","v":"NO"},0,null,0,{"$f":"IF(CC287=\"YES\",IF(ISERROR(VLOOKUP($A287+8860000,'Growth Data'!$A:$Z,8,0)),0,VLOOKUP($A287+8860000,'Growth Data'!$A:$Z,8,0)),0)","v":0},0,null,null,null,0]
[5203,"Roseacre Junior School",null,"Roseacre Junior School","Roseacre Junior School",0,null,1437063,1437063,0,null,0,0,0,null,1437063,1437063,0,null,10810.31,10810.3139734,0,null,null,null,0,null,0,0,0,null,301814.15999999997,null,301814,null,0,null,0,null,0,null,0,null,0,null,0,null,null,null,0,null,null,null,0,null,null,null,0,null,null,null,0,null,"NO",{"$f":"IF(ISERROR(VLOOKUP($A288+8860000,'Growth Data'!$A:$F,3,0)),\"NO\",VLOOKUP($A288+8860000,'Growth Data'!$A:$F,3,0))","v":"NO"},0,null,0,{"$f":"IF(BM288=\"YES\",IF(ISERROR(VLOOKUP($A288+8860000,'Growth Data'!$A:$F,6,0)),0,VLOOKUP($A288+8860000,'Growth Data'!$A:$F,6,0)),0)","v":0},0,null,"NO",{"$f":"IF(ISERROR(VLOOKUP($A288+8860000,'Growth Data'!$A:$F,4,0)),\"NO\",VLOOKUP($A288+8860000,'Growth Data'!$A:$F,4,0))","v":"NO"},0,null,0,{"$f":"IF(BU288=\"YES\",IF(ISERROR(VLOOKUP($A288+8860000,'Growth Data'!$A:$Z,7,0)),0,VLOOKUP($A288+8860000,'Growth Data'!$A:$Z,7,0)),0)","v":0},0,null,"NO",{"$f":"IF(ISERROR(VLOOKUP($A288+8860000,'Growth Data'!$A:$F,5,0)),\"NO\",VLOOKUP($A288+8860000,'Growth Data'!$A:$F,5,0))","v":"NO"},0,null,0,{"$f":"IF(CC288=\"YES\",IF(ISERROR(VLOOKUP($A288+8860000,'Growth Data'!$A:$Z,8,0)),0,VLOOKUP($A288+8860000,'Growth Data'!$A:$Z,8,0)),0)","v":0},0,null,null,null,0]
[5206,"Herne Bay Junior School",null,"Herne Bay Junior School","Herne Bay Junior School",0,null,1725613.75,1725613.7468964278,0,null,0,0,0,null,1725613.75,1725613.7468964278,0,null,12428.01,12428.009413600001,0,null,null,null,0,null,0,0,0,null,96157.3,null,96157,null,0,null,0,null,0,null,0,null,0,null,0,null,null,null,0,null,null,null,0,null,null,null,0,null,null,null,0,null,"NO",{"$f":"IF(ISERROR(VLOOKUP($A289+8860000,'Growth Data'!$A:$F,3,0)),\"NO\",VLOOKUP($A289+8860000,'Growth Data'!$A:$F,3,0))","v":"NO"},0,null,0,{"$f":"IF(BM289=\"YES\",IF(ISERROR(VLOOKUP($A289+8860000,'Growth Data'!$A:$F,6,0)),0,VLOOKUP($A289+8860000,'Growth Data'!$A:$F,6,0)),0)","v":0},0,null,"NO",{"$f":"IF(ISERROR(VLOOKUP($A289+8860000,'Growth Data'!$A:$F,4,0)),\"NO\",VLOOKUP($A289+8860000,'Growth Data'!$A:$F,4,0))","v":"NO"},0,null,0,{"$f":"IF(BU289=\"YES\",IF(ISERROR(VLOOKUP($A289+8860000,'Growth Data'!$A:$Z,7,0)),0,VLOOKUP($A289+8860000,'Growth Data'!$A:$Z,7,0)),0)","v":0},0,null,"NO",{"$f":"IF(ISERROR(VLOOKUP($A289+8860000,'Growth Data'!$A:$F,5,0)),\"NO\",VLOOKUP($A289+8860000,'Growth Data'!$A:$F,5,0))","v":"NO"},0,null,0,{"$f":"IF(CC289=\"YES\",IF(ISERROR(VLOOKUP($A289+8860000,'Growth Data'!$A:$Z,8,0)),0,VLOOKUP($A289+8860000,'Growth Data'!$A:$Z,8,0)),0)","v":0},0,null,null,null,0]
[5207,"St Francis' Catholic Primary School, Maidstone",null,"St Francis' Catholic Primary School, Maidstone","St Francis' Catholic Primary School, Maidstone",0,null,1417609.42,1417609.4231880412,0,null,0,0,0,null,1417609.42,1417609.4231880412,0,null,10502.18,10502.181508599999,0,null,null,null,0,null,0,0,0,null,138202.25,null,138202,null,0,null,0,null,0,null,0,null,0,null,0,null,null,null,0,null,null,null,0,null,null,null,0,null,null,null,0,null,"NO",{"$f":"IF(ISERROR(VLOOKUP($A290+8860000,'Growth Data'!$A:$F,3,0)),\"NO\",VLOOKUP($A290+8860000,'Growth Data'!$A:$F,3,0))","v":"NO"},0,null,0,{"$f":"IF(BM290=\"YES\",IF(ISERROR(VLOOKUP($A290+8860000,'Growth Data'!$A:$F,6,0)),0,VLOOKUP($A290+8860000,'Growth Data'!$A:$F,6,0)),0)","v":0},0,null,"YES",{"$f":"IF(ISERROR(VLOOKUP($A290+8860000,'Growth Data'!$A:$F,4,0)),\"NO\",VLOOKUP($A290+8860000,'Growth Data'!$A:$F,4,0))","v":"NO"},1,null,60,{"$f":"IF(BU290=\"YES\",IF(ISERROR(VLOOKUP($A290+8860000,'Growth Data'!$A:$Z,7,0)),0,VLOOKUP($A290+8860000,'Growth Data'!$A:$Z,7,0)),0)","v":0},60,null,"YES",{"$f":"IF(ISERROR(VLOOKUP($A290+8860000,'Growth Data'!$A:$F,5,0)),\"NO\",VLOOKUP($A290+8860000,'Growth Data'!$A:$F,5,0))","v":"NO"},1,null,60,{"$f":"IF(CC290=\"YES\",IF(ISERROR(VLOOKUP($A290+8860000,'Growth Data'!$A:$Z,8,0)),0,VLOOKUP($A290+8860000,'Growth Data'!$A:$Z,8,0)),0)","v":0},60,null,null,null,0]
[5208,"Ditton CEJ School",null,"Ditton CEJ School","Ditton CEJ School",0,null,902437.95,902437.94923167746,0,null,0,0,0,null,902437.95,902437.94923167746,0,null,6368.07,6368.0709391999999,0,null,null,null,0,null,0,0,0,null,278035.34000000003,null,278035,null,0,null,0,null,0,null,0,null,0,null,0,null,null,null,0,null,null,null,0,null,null,null,0,null,null,null,0,null,"NO",{"$f":"IF(ISERROR(VLOOKUP($A291+8860000,'Growth Data'!$A:$F,3,0)),\"NO\",VLOOKUP($A291+8860000,'Growth Data'!$A:$F,3,0))","v":"NO"},0,null,0,{"$f":"IF(BM291=\"YES\",IF(ISERROR(VLOOKUP($A291+8860000,'Growth Data'!$A:$F,6,0)),0,VLOOKUP($A291+8860000,'Growth Data'!$A:$F,6,0)),0)","v":0},0,null,"NO",{"$f":"IF(ISERROR(VLOOKUP($A291+8860000,'Growth Data'!$A:$F,4,0)),\"NO\",VLOOKUP($A291+8860000,'Growth Data'!$A:$F,4,0))","v":"NO"},0,null,0,{"$f":"IF(BU291=\"YES\",IF(ISERROR(VLOOKUP($A291+8860000,'Growth Data'!$A:$Z,7,0)),0,VLOOKUP($A291+8860000,'Growth Data'!$A:$Z,7,0)),0)","v":0},0,null,"NO",{"$f":"IF(ISERROR(VLOOKUP($A291+8860000,'Growth Data'!$A:$F,5,0)),\"NO\",VLOOKUP($A291+8860000,'Growth Data'!$A:$F,5,0))","v":"NO"},0,null,0,{"$f":"IF(CC291=\"YES\",IF(ISERROR(VLOOKUP($A291+8860000,'Growth Data'!$A:$Z,8,0)),0,VLOOKUP($A291+8860000,'Growth Data'!$A:$Z,8,0)),0)","v":0},0,null,null,null,0]
[5212,"Ditton Infant School",null,"Ditton Infant School","Ditton Infant School",0,null,665904.99,665904.99006629584,0,null,0,0,0,null,665904.99,665904.99006629584,0,null,4493.6000000000004,4493.5984449999996,0,null,null,null,0,null,0,0,0,null,173990.95,null,173991,null,0,null,0,null,0,null,0,null,0,null,0,null,null,null,0,null,null,null,0,null,null,null,0,null,null,null,0,null,"YES",{"$f":"IF(ISERROR(VLOOKUP($A292+8860000,'Growth Data'!$A:$F,3,0)),\"NO\",VLOOKUP($A292+8860000,'Growth Data'!$A:$F,3,0))","v":"NO"},1,null,61,{"$f":"IF(BM292=\"YES\",IF(ISERROR(VLOOKUP($A292+8860000,'Growth Data'!$A:$F,6,0)),0,VLOOKUP($A292+8860000,'Growth Data'!$A:$F,6,0)),0)","v":0},61,null,"YES",{"$f":"IF(ISERROR(VLOOKUP($A292+8860000,'Growth Data'!$A:$F,4,0)),\"NO\",VLOOKUP($A292+8860000,'Growth Data'!$A:$F,4,0))","v":"NO"},1,null,60,{"$f":"IF(BU292=\"YES\",IF(ISERROR(VLOOKUP($A292+8860000,'Growth Data'!$A:$Z,7,0)),0,VLOOKUP($A292+8860000,'Growth Data'!$A:$Z,7,0)),0)","v":0},60,null,"YES",{"$f":"IF(ISERROR(VLOOKUP($A292+8860000,'Growth Data'!$A:$F,5,0)),\"NO\",VLOOKUP($A292+8860000,'Growth Data'!$A:$F,5,0))","v":"NO"},1,null,61,{"$f":"IF(CC292=\"YES\",IF(ISERROR(VLOOKUP($A292+8860000,'Growth Data'!$A:$Z,8,0)),0,VLOOKUP($A292+8860000,'Growth Data'!$A:$Z,8,0)),0)","v":0},61,null,null,null,0]
[5213,"Holy Trinity CEP School, Dartford",null,"Holy Trinity CEP School, Dartford","Holy Trinity CEP School, Dartford",0,null,1520700.59,1520700.5935493261,0,null,22261.51,22261.508873457322,0,null,1542962.1,1542962.1024227834,0,null,11230.42,11230.421775908319,0,null,null,null,0,null,0,0,0,null,103309.94,null,103310,null,0,null,0,null,0,null,0,null,0,null,0,null,null,null,0,null,null,null,0,null,null,null,0,null,null,null,0,null,"NO",{"$f":"IF(ISERROR(VLOOKUP($A293+8860000,'Growth Data'!$A:$F,3,0)),\"NO\",VLOOKUP($A293+8860000,'Growth Data'!$A:$F,3,0))","v":"NO"},0,null,0,{"$f":"IF(BM293=\"YES\",IF(ISERROR(VLOOKUP($A293+8860000,'Growth Data'!$A:$F,6,0)),0,VLOOKUP($A293+8860000,'Growth Data'!$A:$F,6,0)),0)","v":0},0,null,"NO",{"$f":"IF(ISERROR(VLOOKUP($A293+8860000,'Growth Data'!$A:$F,4,0)),\"NO\",VLOOKUP($A293+8860000,'Growth Data'!$A:$F,4,0))","v":"NO"},0,null,0,{"$f":"IF(BU293=\"YES\",IF(ISERROR(VLOOKUP($A293+8860000,'Growth Data'!$A:$Z,7,0)),0,VLOOKUP($A293+8860000,'Growth Data'!$A:$Z,7,0)),0)","v":0},0,null,"NO",{"$f":"IF(ISERROR(VLOOKUP($A293+8860000,'Growth Data'!$A:$F,5,0)),\"NO\",VLOOKUP($A293+8860000,'Growth Data'!$A:$F,5,0))","v":"NO"},0,null,0,{"$f":"IF(CC293=\"YES\",IF(ISERROR(VLOOKUP($A293+8860000,'Growth Data'!$A:$Z,8,0)),0,VLOOKUP($A293+8860000,'Growth Data'!$A:$Z,8,0)),0)","v":0},0,null,null,null,0]
[5214,"St Bartholomew's Catholic Primary School",null,"St Bartholomew's Catholic Primary School","St Bartholomew's Catholic Primary School",0,null,1340567.29,1340567.2938495991,0,null,0,0,0,null,1340567.29,1340567.2938495991,0,null,9314.33,9314.3308567960012,0,null,null,null,0,null,0,0,0,null,64468.82,null,64469,null,0,null,0,null,0,null,0,null,0,null,0,null,null,null,0,null,null,null,0,null,null,null,0,null,null,null,0,null,"NO",{"$f":"IF(ISERROR(VLOOKUP($A294+8860000,'Growth Data'!$A:$F,3,0)),\"NO\",VLOOKUP($A294+8860000,'Growth Data'!$A:$F,3,0))","v":"NO"},0,null,0,{"$f":"IF(BM294=\"YES\",IF(ISERROR(VLOOKUP($A294+8860000,'Growth Data'!$A:$F,6,0)),0,VLOOKUP($A294+8860000,'Growth Data'!$A:$F,6,0)),0)","v":0},0,null,"NO",{"$f":"IF(ISERROR(VLOOKUP($A294+8860000,'Growth Data'!$A:$F,4,0)),\"NO\",VLOOKUP($A294+8860000,'Growth Data'!$A:$F,4,0))","v":"NO"},0,null,0,{"$f":"IF(BU294=\"YES\",IF(ISERROR(VLOOKUP($A294+8860000,'Growth Data'!$A:$Z,7,0)),0,VLOOKUP($A294+8860000,'Growth Data'!$A:$Z,7,0)),0)","v":0},0,null,"NO",{"$f":"IF(ISERROR(VLOOKUP($A294+8860000,'Growth Data'!$A:$F,5,0)),\"NO\",VLOOKUP($A294+8860000,'Growth Data'!$A:$F,5,0))","v":"NO"},0,null,0,{"$f":"IF(CC294=\"YES\",IF(ISERROR(VLOOKUP($A294+8860000,'Growth Data'!$A:$Z,8,0)),0,VLOOKUP($A294+8860000,'Growth Data'!$A:$Z,8,0)),0)","v":0},0,null,null,null,0]
[5218,"Greatstone Primary School",null,"Greatstone Primary School","Greatstone Primary School",0,null,1247170.8899999999,1247170.8870423958,0,null,9284.5499999999993,9284.5473478336353,0,null,1256455.43,1256455.4343902294,0,null,9192.6200000000008,9192.6185332000023,0,null,null,null,0,null,4.9000000000000004,4.9000000000000004,0,null,224148.72,null,224149,null,0,null,0,null,0,null,0,null,0,null,0,null,null,null,0,null,null,null,0,null,null,null,0,null,null,null,0,null,"NO",{"$f":"IF(ISERROR(VLOOKUP($A295+8860000,'Growth Data'!$A:$F,3,0)),\"NO\",VLOOKUP($A295+8860000,'Growth Data'!$A:$F,3,0))","v":"NO"},0,null,0,{"$f":"IF(BM295=\"YES\",IF(ISERROR(VLOOKUP($A295+8860000,'Growth Data'!$A:$F,6,0)),0,VLOOKUP($A295+8860000,'Growth Data'!$A:$F,6,0)),0)","v":0},0,null,"NO",{"$f":"IF(ISERROR(VLOOKUP($A295+8860000,'Growth Data'!$A:$F,4,0)),\"NO\",VLOOKUP($A295+8860000,'Growth Data'!$A:$F,4,0))","v":"NO"},0,null,0,{"$f":"IF(BU295=\"YES\",IF(ISERROR(VLOOKUP($A295+8860000,'Growth Data'!$A:$Z,7,0)),0,VLOOKUP($A295+8860000,'Growth Data'!$A:$Z,7,0)),0)","v":0},0,null,"YES",{"$f":"IF(ISERROR(VLOOKUP($A295+8860000,'Growth Data'!$A:$F,5,0)),\"NO\",VLOOKUP($A295+8860000,'Growth Data'!$A:$F,5,0))","v":"NO"},1,null,45,{"$f":"IF(CC295=\"YES\",IF(ISERROR(VLOOKUP($A295+8860000,'Growth Data'!$A:$Z,8,0)),0,VLOOKUP($A295+8860000,'Growth Data'!$A:$Z,8,0)),0)","v":0},45,null,null,null,0]
[5221,"Wincheap Foundation Primary School",null,"Wincheap Foundation Primary School","Wincheap Foundation Primary School",0,null,1608600.56,1608600.5590336742,0,null,0,0,0,null,1608600.56,1608600.5590336742,0,null,11375.22,11375.223492200001,0,null,null,null,0,null,0,0,0,null,381224.93,null,381225,null,0,null,0,null,0,null,0,null,0,null,0,null,null,null,0,null,null,null,0,null,null,null,0,null,null,null,0,null,"YES",{"$f":"IF(ISERROR(VLOOKUP($A296+8860000,'Growth Data'!$A:$F,3,0)),\"NO\",VLOOKUP($A296+8860000,'Growth Data'!$A:$F,3,0))","v":"NO"},1,null,60,{"$f":"IF(BM296=\"YES\",IF(ISERROR(VLOOKUP($A296+8860000,'Growth Data'!$A:$F,6,0)),0,VLOOKUP($A296+8860000,'Growth Data'!$A:$F,6,0)),0)","v":0},60,null,"YES",{"$f":"IF(ISERROR(VLOOKUP($A296+8860000,'Growth Data'!$A:$F,4,0)),\"NO\",VLOOKUP($A296+8860000,'Growth Data'!$A:$F,4,0))","v":"NO"},1,null,91,{"$f":"IF(BU296=\"YES\",IF(ISERROR(VLOOKUP($A296+8860000,'Growth Data'!$A:$Z,7,0)),0,VLOOKUP($A296+8860000,'Growth Data'!$A:$Z,7,0)),0)","v":0},91,null,"YES",{"$f":"IF(ISERROR(VLOOKUP($A296+8860000,'Growth Data'!$A:$F,5,0)),\"NO\",VLOOKUP($A296+8860000,'Growth Data'!$A:$F,5,0))","v":"NO"},1,null,90,{"$f":"IF(CC296=\"YES\",IF(ISERROR(VLOOKUP($A296+8860000,'Growth Data'!$A:$Z,8,0)),0,VLOOKUP($A296+8860000,'Growth Data'!$A:$Z,8,0)),0)","v":0},90,null,null,null,0]
[5223,"Brookfield Junior School, Larkfield",null,"Brookfield Junior School, Larkfield","Brookfield Junior School, Larkfield",0,null,908011.92,908011.9249267315,0,null,0,0,0,null,908011.92,908011.9249267315,0,null,6034.26,6034.2607689999995,0,null,null,null,0,null,0,0,0,null,352413.75,null,352414,null,0,null,0,null,0,null,0,null,0,null,0,null,null,null,0,null,null,null,0,null,null,null,0,null,null,null,0,null,"YES",{"$f":"IF(ISERROR(VLOOKUP($A297+8860000,'Growth Data'!$A:$F,3,0)),\"NO\",VLOOKUP($A297+8860000,'Growth Data'!$A:$F,3,0))","v":"NO"},1,null,72,{"$f":"IF(BM297=\"YES\",IF(ISERROR(VLOOKUP($A297+8860000,'Growth Data'!$A:$F,6,0)),0,VLOOKUP($A297+8860000,'Growth Data'!$A:$F,6,0)),0)","v":0},72,null,"NO",{"$f":"IF(ISERROR(VLOOKUP($A297+8860000,'Growth Data'!$A:$F,4,0)),\"NO\",VLOOKUP($A297+8860000,'Growth Data'!$A:$F,4,0))","v":"NO"},0,null,0,{"$f":"IF(BU297=\"YES\",IF(ISERROR(VLOOKUP($A297+8860000,'Growth Data'!$A:$Z,7,0)),0,VLOOKUP($A297+8860000,'Growth Data'!$A:$Z,7,0)),0)","v":0},0,null,"NO",{"$f":"IF(ISERROR(VLOOKUP($A297+8860000,'Growth Data'!$A:$F,5,0)),\"NO\",VLOOKUP($A297+8860000,'Growth Data'!$A:$F,5,0))","v":"NO"},0,null,0,{"$f":"IF(CC297=\"YES\",IF(ISERROR(VLOOKUP($A297+8860000,'Growth Data'!$A:$Z,8,0)),0,VLOOKUP($A297+8860000,'Growth Data'!$A:$Z,8,0)),0)","v":0},0,null,null,null,0]
[5224,"All Souls' CEP School",null,"All Souls' CEP School","All Souls' CEP School",0,null,1042844.82,1042844.822498057,0,null,0,0,0,null,1042844.82,1042844.822498057,0,null,7395.18,7395.1791552000004,0,null,null,null,0,null,0,0,0,null,155381.49,null,155381,null,0,null,0,null,0,null,0,null,0,null,0,null,null,null,0,null,null,null,0,null,null,null,0,null,null,null,0,null,"YES",{"$f":"IF(ISERROR(VLOOKUP($A298+8860000,'Growth Data'!$A:$F,3,0)),\"NO\",VLOOKUP($A298+8860000,'Growth Data'!$A:$F,3,0))","v":"NO"},1,null,30,{"$f":"IF(BM298=\"YES\",IF(ISERROR(VLOOKUP($A298+8860000,'Growth Data'!$A:$F,6,0)),0,VLOOKUP($A298+8860000,'Growth Data'!$A:$F,6,0)),0)","v":0},30,null,"YES",{"$f":"IF(ISERROR(VLOOKUP($A298+8860000,'Growth Data'!$A:$F,4,0)),\"NO\",VLOOKUP($A298+8860000,'Growth Data'!$A:$F,4,0))","v":"NO"},1,null,31,{"$f":"IF(BU298=\"YES\",IF(ISERROR(VLOOKUP($A298+8860000,'Growth Data'!$A:$Z,7,0)),0,VLOOKUP($A298+8860000,'Growth Data'!$A:$Z,7,0)),0)","v":0},31,null,"YES",{"$f":"IF(ISERROR(VLOOKUP($A298+8860000,'Growth Data'!$A:$F,5,0)),\"NO\",VLOOKUP($A298+8860000,'Growth Data'!$A:$F,5,0))","v":"NO"},1,null,31,{"$f":"IF(CC298=\"YES\",IF(ISERROR(VLOOKUP($A298+8860000,'Growth Data'!$A:$Z,8,0)),0,VLOOKUP($A298+8860000,'Growth Data'!$A:$Z,8,0)),0)","v":0},31,null,null,null,0]
[5225,"Harcourt Primary School",null,"Harcourt Primary School","Harcourt Primary School",0,null,658490.94999999995,658490.94956813892,0,null,26761.23,26761.231152498629,0,null,685252.18,685252.18072063755,0,null,4288.18,4288.1768018000002,0,null,null,null,0,null,0,0,0,null,94929.89,null,94930,null,0,null,0,null,0,null,0,null,0,null,0,null,null,null,0,null,null,null,0,null,null,null,0,null,null,null,0,null,"NO",{"$f":"IF(ISERROR(VLOOKUP($A299+8860000,'Growth Data'!$A:$F,3,0)),\"NO\",VLOOKUP($A299+8860000,'Growth Data'!$A:$F,3,0))","v":"NO"},0,null,0,{"$f":"IF(BM299=\"YES\",IF(ISERROR(VLOOKUP($A299+8860000,'Growth Data'!$A:$F,6,0)),0,VLOOKUP($A299+8860000,'Growth Data'!$A:$F,6,0)),0)","v":0},0,null,"NO",{"$f":"IF(ISERROR(VLOOKUP($A299+8860000,'Growth Data'!$A:$F,4,0)),\"NO\",VLOOKUP($A299+8860000,'Growth Data'!$A:$F,4,0))","v":"NO"},0,null,0,{"$f":"IF(BU299=\"YES\",IF(ISERROR(VLOOKUP($A299+8860000,'Growth Data'!$A:$Z,7,0)),0,VLOOKUP($A299+8860000,'Growth Data'!$A:$Z,7,0)),0)","v":0},0,null,"NO",{"$f":"IF(ISERROR(VLOOKUP($A299+8860000,'Growth Data'!$A:$F,5,0)),\"NO\",VLOOKUP($A299+8860000,'Growth Data'!$A:$F,5,0))","v":"NO"},0,null,0,{"$f":"IF(CC299=\"YES\",IF(ISERROR(VLOOKUP($A299+8860000,'Growth Data'!$A:$Z,8,0)),0,VLOOKUP($A299+8860000,'Growth Data'!$A:$Z,8,0)),0)","v":0},0,null,null,null,0]
[5226,"Willesborough Junior School",null,"Willesborough Junior School","Willesborough Junior School",0,null,1660380.5,1660380.5039947438,0,null,0,0,0,null,1660380.5,1660380.5039947438,0,null,12196.91,12196.910064999996,0,null,null,null,0,null,0,0,0,null,327986.53000000003,null,327987,null,0,null,0,null,0,null,0,null,0,null,0,null,null,null,0,null,null,null,0,null,null,null,0,null,null,null,0,null,"NO",{"$f":"IF(ISERROR(VLOOKUP($A300+8860000,'Growth Data'!$A:$F,3,0)),\"NO\",VLOOKUP($A300+8860000,'Growth Data'!$A:$F,3,0))","v":"NO"},0,null,0,{"$f":"IF(BM300=\"YES\",IF(ISERROR(VLOOKUP($A300+8860000,'Growth Data'!$A:$F,6,0)),0,VLOOKUP($A300+8860000,'Growth Data'!$A:$F,6,0)),0)","v":0},0,null,"NO",{"$f":"IF(ISERROR(VLOOKUP($A300+8860000,'Growth Data'!$A:$F,4,0)),\"NO\",VLOOKUP($A300+8860000,'Growth Data'!$A:$F,4,0))","v":"NO"},0,null,0,{"$f":"IF(BU300=\"YES\",IF(ISERROR(VLOOKUP($A300+8860000,'Growth Data'!$A:$Z,7,0)),0,VLOOKUP($A300+8860000,'Growth Data'!$A:$Z,7,0)),0)","v":0},0,null,"NO",{"$f":"IF(ISERROR(VLOOKUP($A300+8860000,'Growth Data'!$A:$F,5,0)),\"NO\",VLOOKUP($A300+8860000,'Growth Data'!$A:$F,5,0))","v":"NO"},0,null,0,{"$f":"IF(CC300=\"YES\",IF(ISERROR(VLOOKUP($A300+8860000,'Growth Data'!$A:$Z,8,0)),0,VLOOKUP($A300+8860000,'Growth Data'!$A:$Z,8,0)),0)","v":0},0,null,null,null,0]
[5229,"Fleetdown Primary School",null,"Fleetdown Primary School","Fleetdown Primary School",0,null,2086769,2086769,0,null,0,0,0,null,2086769,2086769,0,null,16047.26,16047.261447565679,0,null,null,null,0,null,0,0,0,null,464031.63,null,464032,null,0,null,0,null,0,null,0,null,0,null,0,null,null,null,0,null,null,null,0,null,null,null,0,null,null,null,0,null,"NO",{"$f":"IF(ISERROR(VLOOKUP($A301+8860000,'Growth Data'!$A:$F,3,0)),\"NO\",VLOOKUP($A301+8860000,'Growth Data'!$A:$F,3,0))","v":"NO"},0,null,0,{"$f":"IF(BM301=\"YES\",IF(ISERROR(VLOOKUP($A301+8860000,'Growth Data'!$A:$F,6,0)),0,VLOOKUP($A301+8860000,'Growth Data'!$A:$F,6,0)),0)","v":0},0,null,"NO",{"$f":"IF(ISERROR(VLOOKUP($A301+8860000,'Growth Data'!$A:$F,4,0)),\"NO\",VLOOKUP($A301+8860000,'Growth Data'!$A:$F,4,0))","v":"NO"},0,null,0,{"$f":"IF(BU301=\"YES\",IF(ISERROR(VLOOKUP($A301+8860000,'Growth Data'!$A:$Z,7,0)),0,VLOOKUP($A301+8860000,'Growth Data'!$A:$Z,7,0)),0)","v":0},0,null,"NO",{"$f":"IF(ISERROR(VLOOKUP($A301+8860000,'Growth Data'!$A:$F,5,0)),\"NO\",VLOOKUP($A301+8860000,'Growth Data'!$A:$F,5,0))","v":"NO"},0,null,0,{"$f":"IF(CC301=\"YES\",IF(ISERROR(VLOOKUP($A301+8860000,'Growth Data'!$A:$Z,8,0)),0,VLOOKUP($A301+8860000,'Growth Data'!$A:$Z,8,0)),0)","v":0},0,null,null,null,0]
[4026,"Dartford Science and Technology College",null,"Dartford Science and Technology College","Dartford Science and Technology College",0,null,3361770.94,3361770.9413225688,0,null,0,0,0,null,3361770.94,3361770.9413225688,0,null,10819.18,10819.184890112001,0,null,null,null,0,null,0,0,0,null,33608.370000000003,null,33608,null,2639.16,null,2639,null,0,null,0,null,0,null,0,null,null,null,0,null,null,null,0,null,null,null,0,null,null,null,0,null,"NO",{"$f":"IF(ISERROR(VLOOKUP($A302+8860000,'Growth Data'!$A:$F,3,0)),\"NO\",VLOOKUP($A302+8860000,'Growth Data'!$A:$F,3,0))","v":"NO"},0,null,0,{"$f":"IF(BM302=\"YES\",IF(ISERROR(VLOOKUP($A302+8860000,'Growth Data'!$A:$F,6,0)),0,VLOOKUP($A302+8860000,'Growth Data'!$A:$F,6,0)),0)","v":0},0,null,"NO",{"$f":"IF(ISERROR(VLOOKUP($A302+8860000,'Growth Data'!$A:$F,4,0)),\"NO\",VLOOKUP($A302+8860000,'Growth Data'!$A:$F,4,0))","v":"NO"},0,null,0,{"$f":"IF(BU302=\"YES\",IF(ISERROR(VLOOKUP($A302+8860000,'Growth Data'!$A:$Z,7,0)),0,VLOOKUP($A302+8860000,'Growth Data'!$A:$Z,7,0)),0)","v":0},0,null,"NO",{"$f":"IF(ISERROR(VLOOKUP($A302+8860000,'Growth Data'!$A:$F,5,0)),\"NO\",VLOOKUP($A302+8860000,'Growth Data'!$A:$F,5,0))","v":"NO"},0,null,0,{"$f":"IF(CC302=\"YES\",IF(ISERROR(VLOOKUP($A302+8860000,'Growth Data'!$A:$Z,8,0)),0,VLOOKUP($A302+8860000,'Growth Data'!$A:$Z,8,0)),0)","v":0},0,null,null,null,0]
[4040,"Northfleet School for Girls",null,"Northfleet School for Girls","Northfleet School for Girls",0,null,3726189.54,3726189.5440137754,0,null,0,0,0,null,3726189.54,3726189.5440137754,0,null,11907.21,11907.210310000002,0,null,null,null,0,null,0,0,0,null,60125.42,null,60125,null,0,null,0,null,73666.67,null,73667,null,110500,null,110500,null,null,null,0,null,null,null,0,null,null,null,0,null,null,null,0,null,"NO",{"$f":"IF(ISERROR(VLOOKUP($A303+8860000,'Growth Data'!$A:$F,3,0)),\"NO\",VLOOKUP($A303+8860000,'Growth Data'!$A:$F,3,0))","v":"NO"},0,null,0,{"$f":"IF(BM303=\"YES\",IF(ISERROR(VLOOKUP($A303+8860000,'Growth Data'!$A:$F,6,0)),0,VLOOKUP($A303+8860000,'Growth Data'!$A:$F,6,0)),0)","v":0},0,null,"NO",{"$f":"IF(ISERROR(VLOOKUP($A303+8860000,'Growth Data'!$A:$F,4,0)),\"NO\",VLOOKUP($A303+8860000,'Growth Data'!$A:$F,4,0))","v":"NO"},0,null,0,{"$f":"IF(BU303=\"YES\",IF(ISERROR(VLOOKUP($A303+8860000,'Growth Data'!$A:$Z,7,0)),0,VLOOKUP($A303+8860000,'Growth Data'!$A:$Z,7,0)),0)","v":0},0,null,"NO",{"$f":"IF(ISERROR(VLOOKUP($A303+8860000,'Growth Data'!$A:$F,5,0)),\"NO\",VLOOKUP($A303+8860000,'Growth Data'!$A:$F,5,0))","v":"NO"},0,null,0,{"$f":"IF(CC303=\"YES\",IF(ISERROR(VLOOKUP($A303+8860000,'Growth Data'!$A:$Z,8,0)),0,VLOOKUP($A303+8860000,'Growth Data'!$A:$Z,8,0)),0)","v":0},0,null,null,null,0]
[4043,"Tunbridge Wells Girls' Grammar School",null,"Tunbridge Wells Girls' Grammar School","Tunbridge Wells Girls' Grammar School",0,null,3481857,3481857,0,null,0,0,0,null,3481857,3481857,0,null,11907.21,11907.210310000002,0,null,null,null,0,null,0,0,0,null,5580,null,5580,null,5442,null,5442,null,0,null,0,null,0,null,0,null,null,null,0,null,null,null,0,null,null,null,0,null,null,null,0,null,"NO",{"$f":"IF(ISERROR(VLOOKUP($A304+8860000,'Growth Data'!$A:$F,3,0)),\"NO\",VLOOKUP($A304+8860000,'Growth Data'!$A:$F,3,0))","v":"NO"},0,null,0,{"$f":"IF(BM304=\"YES\",IF(ISERROR(VLOOKUP($A304+8860000,'Growth Data'!$A:$F,6,0)),0,VLOOKUP($A304+8860000,'Growth Data'!$A:$F,6,0)),0)","v":0},0,null,"NO",{"$f":"IF(ISERROR(VLOOKUP($A304+8860000,'Growth Data'!$A:$F,4,0)),\"NO\",VLOOKUP($A304+8860000,'Growth Data'!$A:$F,4,0))","v":"NO"},0,null,0,{"$f":"IF(BU304=\"YES\",IF(ISERROR(VLOOKUP($A304+8860000,'Growth Data'!$A:$Z,7,0)),0,VLOOKUP($A304+8860000,'Growth Data'!$A:$Z,7,0)),0)","v":0},0,null,"NO",{"$f":"IF(ISERROR(VLOOKUP($A304+8860000,'Growth Data'!$A:$F,5,0)),\"NO\",VLOOKUP($A304+8860000,'Growth Data'!$A:$F,5,0))","v":"NO"},0,null,0,{"$f":"IF(CC304=\"YES\",IF(ISERROR(VLOOKUP($A304+8860000,'Growth Data'!$A:$Z,8,0)),0,VLOOKUP($A304+8860000,'Growth Data'!$A:$Z,8,0)),0)","v":0},0,null,null,null,0]
[4045,"Tunbridge Wells Grammar School for Boys",null,"Tunbridge Wells Grammar School for Boys","Tunbridge Wells Grammar School for Boys",0,null,4629925,4629925,0,null,0,0,0,null,4629925,4629925,0,null,15512,15511.995897000003,0,null,null,null,0,null,0,0,0,null,325938.23,null,325938,null,0,null,0,null,14333.33,null,14333,null,21500,null,21500,null,null,null,0,null,null,null,0,null,null,null,0,null,null,null,0,null,"NO",{"$f":"IF(ISERROR(VLOOKUP($A305+8860000,'Growth Data'!$A:$F,3,0)),\"NO\",VLOOKUP($A305+8860000,'Growth Data'!$A:$F,3,0))","v":"YES"},1,null,0,{"$f":"IF(BM305=\"YES\",IF(ISERROR(VLOOKUP($A305+8860000,'Growth Data'!$A:$F,6,0)),0,VLOOKUP($A305+8860000,'Growth Data'!$A:$F,6,0)),0)","v":191},-191,null,"NO",{"$f":"IF(ISERROR(VLOOKUP($A305+8860000,'Growth Data'!$A:$F,4,0)),\"NO\",VLOOKUP($A305+8860000,'Growth Data'!$A:$F,4,0))","v":"NO"},0,null,0,{"$f":"IF(BU305=\"YES\",IF(ISERROR(VLOOKUP($A305+8860000,'Growth Data'!$A:$Z,7,0)),0,VLOOKUP($A305+8860000,'Growth Data'!$A:$Z,7,0)),0)","v":0},0,null,"NO",{"$f":"IF(ISERROR(VLOOKUP($A305+8860000,'Growth Data'!$A:$F,5,0)),\"NO\",VLOOKUP($A305+8860000,'Growth Data'!$A:$F,5,0))","v":"NO"},0,null,0,{"$f":"IF(CC305=\"YES\",IF(ISERROR(VLOOKUP($A305+8860000,'Growth Data'!$A:$Z,8,0)),0,VLOOKUP($A305+8860000,'Growth Data'!$A:$Z,8,0)),0)","v":0},0,null,null,null,0]
[4065,"Holmesdale School, The",null,"Holmesdale School, The","Holmesdale School, The",0,null,3844856.84,3844856.8443619343,0,null,0,0,0,null,3844856.84,3844856.8443619343,0,null,8775.4500000000007,8775.4508860000005,0,null,null,null,0,null,0,0,0,null,337582.82,null,337583,null,0,null,0,null,0,null,0,null,0,null,0,null,null,null,0,null,null,null,0,null,null,null,0,null,null,null,0,null,"NO",{"$f":"IF(ISERROR(VLOOKUP($A306+8860000,'Growth Data'!$A:$F,3,0)),\"NO\",VLOOKUP($A306+8860000,'Growth Data'!$A:$F,3,0))","v":"NO"},0,null,0,{"$f":"IF(BM306=\"YES\",IF(ISERROR(VLOOKUP($A306+8860000,'Growth Data'!$A:$F,6,0)),0,VLOOKUP($A306+8860000,'Growth Data'!$A:$F,6,0)),0)","v":0},0,null,"NO",{"$f":"IF(ISERROR(VLOOKUP($A306+8860000,'Growth Data'!$A:$F,4,0)),\"NO\",VLOOKUP($A306+8860000,'Growth Data'!$A:$F,4,0))","v":"NO"},0,null,0,{"$f":"IF(BU306=\"YES\",IF(ISERROR(VLOOKUP($A306+8860000,'Growth Data'!$A:$Z,7,0)),0,VLOOKUP($A306+8860000,'Growth Data'!$A:$Z,7,0)),0)","v":0},0,null,"NO",{"$f":"IF(ISERROR(VLOOKUP($A306+8860000,'Growth Data'!$A:$F,5,0)),\"NO\",VLOOKUP($A306+8860000,'Growth Data'!$A:$F,5,0))","v":"NO"},0,null,0,{"$f":"IF(CC306=\"YES\",IF(ISERROR(VLOOKUP($A306+8860000,'Growth Data'!$A:$Z,8,0)),0,VLOOKUP($A306+8860000,'Growth Data'!$A:$Z,8,0)),0)","v":0},0,null,null,null,0]
[4091,"Community College Whitstable, The",null,"Community College Whitstable, The","Community College Whitstable, The",0,null,3623113.08,3623113.0833255546,0,null,0,0,0,null,3623113.08,3623113.0833255546,0,null,11124.27,11124.270454000001,0,null,null,null,0,null,0,0,0,null,172253.96,null,172254,null,0,null,0,null,0,null,0,null,0,null,0,null,null,null,0,null,null,null,0,null,null,null,0,null,null,null,0,null,"NO",{"$f":"IF(ISERROR(VLOOKUP($A307+8860000,'Growth Data'!$A:$F,3,0)),\"NO\",VLOOKUP($A307+8860000,'Growth Data'!$A:$F,3,0))","v":"NO"},0,null,0,{"$f":"IF(BM307=\"YES\",IF(ISERROR(VLOOKUP($A307+8860000,'Growth Data'!$A:$F,6,0)),0,VLOOKUP($A307+8860000,'Growth Data'!$A:$F,6,0)),0)","v":0},0,null,"NO",{"$f":"IF(ISERROR(VLOOKUP($A307+8860000,'Growth Data'!$A:$F,4,0)),\"NO\",VLOOKUP($A307+8860000,'Growth Data'!$A:$F,4,0))","v":"NO"},0,null,0,{"$f":"IF(BU307=\"YES\",IF(ISERROR(VLOOKUP($A307+8860000,'Growth Data'!$A:$Z,7,0)),0,VLOOKUP($A307+8860000,'Growth Data'!$A:$Z,7,0)),0)","v":0},0,null,"NO",{"$f":"IF(ISERROR(VLOOKUP($A307+8860000,'Growth Data'!$A:$F,5,0)),\"NO\",VLOOKUP($A307+8860000,'Growth Data'!$A:$F,5,0))","v":"NO"},0,null,0,{"$f":"IF(CC307=\"YES\",IF(ISERROR(VLOOKUP($A307+8860000,'Growth Data'!$A:$Z,8,0)),0,VLOOKUP($A307+8860000,'Growth Data'!$A:$Z,8,0)),0)","v":0},0,null,null,null,0]
[4109,"Dover Grammar School for Girls",null,"Dover Grammar School for Girls","Dover Grammar School for Girls",0,null,3187848,3187848,0,null,0,0,0,null,3187848,3187848,0,null,10830.67,10830.668008000001,0,null,null,null,0,null,0,0,0,null,549811.92000000004,null,549812,null,0,null,0,null,20000,null,20000,null,30000,null,30000,null,null,null,0,null,null,null,0,null,null,null,0,null,null,null,0,null,"NO",{"$f":"IF(ISERROR(VLOOKUP($A308+8860000,'Growth Data'!$A:$F,3,0)),\"NO\",VLOOKUP($A308+8860000,'Growth Data'!$A:$F,3,0))","v":"NO"},0,null,0,{"$f":"IF(BM308=\"YES\",IF(ISERROR(VLOOKUP($A308+8860000,'Growth Data'!$A:$F,6,0)),0,VLOOKUP($A308+8860000,'Growth Data'!$A:$F,6,0)),0)","v":0},0,null,"NO",{"$f":"IF(ISERROR(VLOOKUP($A308+8860000,'Growth Data'!$A:$F,4,0)),\"NO\",VLOOKUP($A308+8860000,'Growth Data'!$A:$F,4,0))","v":"NO"},0,null,0,{"$f":"IF(BU308=\"YES\",IF(ISERROR(VLOOKUP($A308+8860000,'Growth Data'!$A:$Z,7,0)),0,VLOOKUP($A308+8860000,'Growth Data'!$A:$Z,7,0)),0)","v":0},0,null,"NO",{"$f":"IF(ISERROR(VLOOKUP($A308+8860000,'Growth Data'!$A:$F,5,0)),\"NO\",VLOOKUP($A308+8860000,'Growth Data'!$A:$F,5,0))","v":"NO"},0,null,0,{"$f":"IF(CC308=\"YES\",IF(ISERROR(VLOOKUP($A308+8860000,'Growth Data'!$A:$Z,8,0)),0,VLOOKUP($A308+8860000,'Growth Data'!$A:$Z,8,0)),0)","v":0},0,null,null,null,0]
[4246,"North School, The",null,"North School, The","North School, The",0,null,5857668.8600000003,5857668.8628246821,0,null,0,0,0,null,5857668.8600000003,5857668.8628246821,0,null,14337.59,14337.586113000003,0,null,null,null,0,null,0,0,0,null,74368.39,null,74368,null,0,null,0,null,114333.33,null,114333,null,171500,null,171500,null,null,null,0,null,null,null,0,null,null,null,0,null,null,null,0,null,"NO",{"$f":"IF(ISERROR(VLOOKUP($A309+8860000,'Growth Data'!$A:$F,3,0)),\"NO\",VLOOKUP($A309+8860000,'Growth Data'!$A:$F,3,0))","v":"NO"},0,null,0,{"$f":"IF(BM309=\"YES\",IF(ISERROR(VLOOKUP($A309+8860000,'Growth Data'!$A:$F,6,0)),0,VLOOKUP($A309+8860000,'Growth Data'!$A:$F,6,0)),0)","v":0},0,null,"NO",{"$f":"IF(ISERROR(VLOOKUP($A309+8860000,'Growth Data'!$A:$F,4,0)),\"NO\",VLOOKUP($A309+8860000,'Growth Data'!$A:$F,4,0))","v":"NO"},0,null,0,{"$f":"IF(BU309=\"YES\",IF(ISERROR(VLOOKUP($A309+8860000,'Growth Data'!$A:$Z,7,0)),0,VLOOKUP($A309+8860000,'Growth Data'!$A:$Z,7,0)),0)","v":0},0,null,"NO",{"$f":"IF(ISERROR(VLOOKUP($A309+8860000,'Growth Data'!$A:$F,5,0)),\"NO\",VLOOKUP($A309+8860000,'Growth Data'!$A:$F,5,0))","v":"NO"},0,null,0,{"$f":"IF(CC309=\"YES\",IF(ISERROR(VLOOKUP($A309+8860000,'Growth Data'!$A:$Z,8,0)),0,VLOOKUP($A309+8860000,'Growth Data'!$A:$Z,8,0)),0)","v":0},0,null,null,null,0]
[4522,"Maidstone Grammar School",null,"Maidstone Grammar School","Maidstone Grammar School",0,null,4402059,4402059,0,null,0,0,0,null,4402059,4402059,0,null,15169.46,15169.459710000003,0,null,null,null,0,null,0,0,0,null,89047.75,null,89048,null,0,null,0,null,0,null,0,null,0,null,0,null,null,null,0,null,null,null,0,null,null,null,0,null,null,null,0,null,"NO",{"$f":"IF(ISERROR(VLOOKUP($A310+8860000,'Growth Data'!$A:$F,3,0)),\"NO\",VLOOKUP($A310+8860000,'Growth Data'!$A:$F,3,0))","v":"YES"},1,null,0,{"$f":"IF(BM310=\"YES\",IF(ISERROR(VLOOKUP($A310+8860000,'Growth Data'!$A:$F,6,0)),0,VLOOKUP($A310+8860000,'Growth Data'!$A:$F,6,0)),0)","v":183},-183,null,"NO",{"$f":"IF(ISERROR(VLOOKUP($A310+8860000,'Growth Data'!$A:$F,4,0)),\"NO\",VLOOKUP($A310+8860000,'Growth Data'!$A:$F,4,0))","v":"NO"},0,null,0,{"$f":"IF(BU310=\"YES\",IF(ISERROR(VLOOKUP($A310+8860000,'Growth Data'!$A:$Z,7,0)),0,VLOOKUP($A310+8860000,'Growth Data'!$A:$Z,7,0)),0)","v":0},0,null,"NO",{"$f":"IF(ISERROR(VLOOKUP($A310+8860000,'Growth Data'!$A:$F,5,0)),\"NO\",VLOOKUP($A310+8860000,'Growth Data'!$A:$F,5,0))","v":"NO"},0,null,0,{"$f":"IF(CC310=\"YES\",IF(ISERROR(VLOOKUP($A310+8860000,'Growth Data'!$A:$Z,8,0)),0,VLOOKUP($A310+8860000,'Growth Data'!$A:$Z,8,0)),0)","v":0},0,null,null,null,0]
[4523,"Maidstone Grammar School for Girls",null,"Maidstone Grammar School for Girls","Maidstone Grammar School for Girls",0,null,4162359,4162359,0,null,0,0,0,null,4162359,4162359,0,null,14337.59,14337.586113000003,0,null,null,null,0,null,0,0,0,null,88185.91,null,88186,null,0,null,0,null,0,null,0,null,0,null,0,null,null,null,0,null,null,null,0,null,null,null,0,null,null,null,0,null,"NO",{"$f":"IF(ISERROR(VLOOKUP($A311+8860000,'Growth Data'!$A:$F,3,0)),\"NO\",VLOOKUP($A311+8860000,'Growth Data'!$A:$F,3,0))","v":"NO"},0,null,0,{"$f":"IF(BM311=\"YES\",IF(ISERROR(VLOOKUP($A311+8860000,'Growth Data'!$A:$F,6,0)),0,VLOOKUP($A311+8860000,'Growth Data'!$A:$F,6,0)),0)","v":0},0,null,"NO",{"$f":"IF(ISERROR(VLOOKUP($A311+8860000,'Growth Data'!$A:$F,4,0)),\"NO\",VLOOKUP($A311+8860000,'Growth Data'!$A:$F,4,0))","v":"NO"},0,null,0,{"$f":"IF(BU311=\"YES\",IF(ISERROR(VLOOKUP($A311+8860000,'Growth Data'!$A:$Z,7,0)),0,VLOOKUP($A311+8860000,'Growth Data'!$A:$Z,7,0)),0)","v":0},0,null,"NO",{"$f":"IF(ISERROR(VLOOKUP($A311+8860000,'Growth Data'!$A:$F,5,0)),\"NO\",VLOOKUP($A311+8860000,'Growth Data'!$A:$F,5,0))","v":"NO"},0,null,0,{"$f":"IF(CC311=\"YES\",IF(ISERROR(VLOOKUP($A311+8860000,'Growth Data'!$A:$Z,8,0)),0,VLOOKUP($A311+8860000,'Growth Data'!$A:$Z,8,0)),0)","v":0},0,null,null,null,0]
[4534,"Simon Langton Girls' Grammar School",null,"Simon Langton Girls' Grammar School","Simon Langton Girls' Grammar School",0,null,4059993,4059993,0,null,0,0,0,null,4059993,4059993,0,null,13538.34,13538.335010000003,0,null,null,null,0,null,0,0,0,null,35063.050000000003,null,35063,null,2493.69,null,2494,null,0,null,0,null,0,null,0,null,null,null,0,null,null,null,0,null,null,null,0,null,null,null,0,null,"NO",{"$f":"IF(ISERROR(VLOOKUP($A312+8860000,'Growth Data'!$A:$F,3,0)),\"NO\",VLOOKUP($A312+8860000,'Growth Data'!$A:$F,3,0))","v":"NO"},0,null,0,{"$f":"IF(BM312=\"YES\",IF(ISERROR(VLOOKUP($A312+8860000,'Growth Data'!$A:$F,6,0)),0,VLOOKUP($A312+8860000,'Growth Data'!$A:$F,6,0)),0)","v":0},0,null,"NO",{"$f":"IF(ISERROR(VLOOKUP($A312+8860000,'Growth Data'!$A:$F,4,0)),\"NO\",VLOOKUP($A312+8860000,'Growth Data'!$A:$F,4,0))","v":"NO"},0,null,0,{"$f":"IF(BU312=\"YES\",IF(ISERROR(VLOOKUP($A312+8860000,'Growth Data'!$A:$Z,7,0)),0,VLOOKUP($A312+8860000,'Growth Data'!$A:$Z,7,0)),0)","v":0},0,null,"NO",{"$f":"IF(ISERROR(VLOOKUP($A312+8860000,'Growth Data'!$A:$F,5,0)),\"NO\",VLOOKUP($A312+8860000,'Growth Data'!$A:$F,5,0))","v":"NO"},0,null,0,{"$f":"IF(CC312=\"YES\",IF(ISERROR(VLOOKUP($A312+8860000,'Growth Data'!$A:$Z,8,0)),0,VLOOKUP($A312+8860000,'Growth Data'!$A:$Z,8,0)),0)","v":0},0,null,null,null,0]
[4622,"Judd School, The",null,"Judd School, The","Judd School, The",0,null,3861789,3861789,0,null,0,0,0,null,3861789,3861789,0,null,13277.36,13277.355058000001,0,null,null,null,0,null,0,0,0,null,141317.09,null,141317,null,0,null,0,null,19333.330000000002,null,19333,null,29000,null,29000,null,null,null,0,null,null,null,0,null,null,null,0,null,null,null,0,null,"NO",{"$f":"IF(ISERROR(VLOOKUP($A313+8860000,'Growth Data'!$A:$F,3,0)),\"NO\",VLOOKUP($A313+8860000,'Growth Data'!$A:$F,3,0))","v":"YES"},1,null,0,{"$f":"IF(BM313=\"YES\",IF(ISERROR(VLOOKUP($A313+8860000,'Growth Data'!$A:$F,6,0)),0,VLOOKUP($A313+8860000,'Growth Data'!$A:$F,6,0)),0)","v":159},-159,null,"NO",{"$f":"IF(ISERROR(VLOOKUP($A313+8860000,'Growth Data'!$A:$F,4,0)),\"NO\",VLOOKUP($A313+8860000,'Growth Data'!$A:$F,4,0))","v":"NO"},0,null,0,{"$f":"IF(BU313=\"YES\",IF(ISERROR(VLOOKUP($A313+8860000,'Growth Data'!$A:$Z,7,0)),0,VLOOKUP($A313+8860000,'Growth Data'!$A:$Z,7,0)),0)","v":0},0,null,"NO",{"$f":"IF(ISERROR(VLOOKUP($A313+8860000,'Growth Data'!$A:$F,5,0)),\"NO\",VLOOKUP($A313+8860000,'Growth Data'!$A:$F,5,0))","v":"NO"},0,null,0,{"$f":"IF(CC313=\"YES\",IF(ISERROR(VLOOKUP($A313+8860000,'Growth Data'!$A:$Z,8,0)),0,VLOOKUP($A313+8860000,'Growth Data'!$A:$Z,8,0)),0)","v":0},0,null,null,null,0]
[5407,"Thamesview School",null,"Thamesview School","Thamesview School",0,null,5046291.3099999996,5046291.306685403,0,null,0,0,0,null,5046291.3099999996,5046291.306685403,0,null,12706.46,12706.461413000003,0,null,null,null,0,null,0,0,0,null,69671.28,null,69671,null,0,null,0,null,0,null,0,null,0,null,0,null,null,null,0,null,null,null,0,null,null,null,0,null,null,null,0,null,"NO",{"$f":"IF(ISERROR(VLOOKUP($A314+8860000,'Growth Data'!$A:$F,3,0)),\"NO\",VLOOKUP($A314+8860000,'Growth Data'!$A:$F,3,0))","v":"NO"},0,null,0,{"$f":"IF(BM314=\"YES\",IF(ISERROR(VLOOKUP($A314+8860000,'Growth Data'!$A:$F,6,0)),0,VLOOKUP($A314+8860000,'Growth Data'!$A:$F,6,0)),0)","v":0},0,null,"NO",{"$f":"IF(ISERROR(VLOOKUP($A314+8860000,'Growth Data'!$A:$F,4,0)),\"NO\",VLOOKUP($A314+8860000,'Growth Data'!$A:$F,4,0))","v":"NO"},0,null,0,{"$f":"IF(BU314=\"YES\",IF(ISERROR(VLOOKUP($A314+8860000,'Growth Data'!$A:$Z,7,0)),0,VLOOKUP($A314+8860000,'Growth Data'!$A:$Z,7,0)),0)","v":0},0,null,"NO",{"$f":"IF(ISERROR(VLOOKUP($A314+8860000,'Growth Data'!$A:$F,5,0)),\"NO\",VLOOKUP($A314+8860000,'Growth Data'!$A:$F,5,0))","v":"NO"},0,null,0,{"$f":"IF(CC314=\"YES\",IF(ISERROR(VLOOKUP($A314+8860000,'Growth Data'!$A:$Z,8,0)),0,VLOOKUP($A314+8860000,'Growth Data'!$A:$Z,8,0)),0)","v":0},0,null,null,null,0]
[5410,"Aylesford School - Sports College",null,"Aylesford School - Sports College","Aylesford School - Sports College",0,null,4334126.49,4334126.4855860285,0,null,0,0,0,null,4334126.49,4334126.4855860285,0,null,11140.58,11140.581701000001,0,null,null,null,0,null,0,0,0,null,193252.74,null,193253,null,0,null,0,null,0,null,0,null,0,null,0,null,null,null,0,null,null,null,0,null,null,null,0,null,null,null,0,null,"NO",{"$f":"IF(ISERROR(VLOOKUP($A315+8860000,'Growth Data'!$A:$F,3,0)),\"NO\",VLOOKUP($A315+8860000,'Growth Data'!$A:$F,3,0))","v":"NO"},0,null,0,{"$f":"IF(BM315=\"YES\",IF(ISERROR(VLOOKUP($A315+8860000,'Growth Data'!$A:$F,6,0)),0,VLOOKUP($A315+8860000,'Growth Data'!$A:$F,6,0)),0)","v":0},0,null,"NO",{"$f":"IF(ISERROR(VLOOKUP($A315+8860000,'Growth Data'!$A:$F,4,0)),\"NO\",VLOOKUP($A315+8860000,'Growth Data'!$A:$F,4,0))","v":"NO"},0,null,0,{"$f":"IF(BU315=\"YES\",IF(ISERROR(VLOOKUP($A315+8860000,'Growth Data'!$A:$Z,7,0)),0,VLOOKUP($A315+8860000,'Growth Data'!$A:$Z,7,0)),0)","v":0},0,null,"NO",{"$f":"IF(ISERROR(VLOOKUP($A315+8860000,'Growth Data'!$A:$F,5,0)),\"NO\",VLOOKUP($A315+8860000,'Growth Data'!$A:$F,5,0))","v":"NO"},0,null,0,{"$f":"IF(CC315=\"YES\",IF(ISERROR(VLOOKUP($A315+8860000,'Growth Data'!$A:$Z,8,0)),0,VLOOKUP($A315+8860000,'Growth Data'!$A:$Z,8,0)),0)","v":0},0,null,null,null,0]
[5412,"Simon Langton Grammar School for Boys",null,"Simon Langton Grammar School for Boys","Simon Langton Grammar School for Boys",0,null,3097201,3097201,0,null,0,0,0,null,3097201,3097201,0,null,10651.24,10651.244291000001,0,null,null,null,0,null,0,0,0,null,63836,null,63836,null,0,null,0,null,0,null,0,null,0,null,0,null,null,null,0,null,null,null,0,null,null,null,0,null,null,null,0,null,"NO",{"$f":"IF(ISERROR(VLOOKUP($A316+8860000,'Growth Data'!$A:$F,3,0)),\"NO\",VLOOKUP($A316+8860000,'Growth Data'!$A:$F,3,0))","v":"NO"},0,null,0,{"$f":"IF(BM316=\"YES\",IF(ISERROR(VLOOKUP($A316+8860000,'Growth Data'!$A:$F,6,0)),0,VLOOKUP($A316+8860000,'Growth Data'!$A:$F,6,0)),0)","v":0},0,null,"NO",{"$f":"IF(ISERROR(VLOOKUP($A316+8860000,'Growth Data'!$A:$F,4,0)),\"NO\",VLOOKUP($A316+8860000,'Growth Data'!$A:$F,4,0))","v":"NO"},0,null,0,{"$f":"IF(BU316=\"YES\",IF(ISERROR(VLOOKUP($A316+8860000,'Growth Data'!$A:$Z,7,0)),0,VLOOKUP($A316+8860000,'Growth Data'!$A:$Z,7,0)),0)","v":0},0,null,"NO",{"$f":"IF(ISERROR(VLOOKUP($A316+8860000,'Growth Data'!$A:$F,5,0)),\"NO\",VLOOKUP($A316+8860000,'Growth Data'!$A:$F,5,0))","v":"NO"},0,null,0,{"$f":"IF(CC316=\"YES\",IF(ISERROR(VLOOKUP($A316+8860000,'Growth Data'!$A:$Z,8,0)),0,VLOOKUP($A316+8860000,'Growth Data'!$A:$Z,8,0)),0)","v":0},0,null,null,null,0]
[5425,"Malling School, The",null,"Malling School, The","Malling School, The",0,null,4454686.41,4454686.4148486676,0,null,0,0,0,null,4454686.41,4454686.4148486676,0,null,11760.41,11760.409087000002,0,null,null,null,0,null,0,0,0,null,5580,null,5580,null,5442,null,5442,null,0,null,0,null,0,null,0,null,null,null,0,null,null,null,0,null,null,null,0,null,null,null,0,null,"NO",{"$f":"IF(ISERROR(VLOOKUP($A317+8860000,'Growth Data'!$A:$F,3,0)),\"NO\",VLOOKUP($A317+8860000,'Growth Data'!$A:$F,3,0))","v":"NO"},0,null,0,{"$f":"IF(BM317=\"YES\",IF(ISERROR(VLOOKUP($A317+8860000,'Growth Data'!$A:$F,6,0)),0,VLOOKUP($A317+8860000,'Growth Data'!$A:$F,6,0)),0)","v":0},0,null,"YES",{"$f":"IF(ISERROR(VLOOKUP($A317+8860000,'Growth Data'!$A:$F,4,0)),\"NO\",VLOOKUP($A317+8860000,'Growth Data'!$A:$F,4,0))","v":"NO"},1,null,56,{"$f":"IF(BU317=\"YES\",IF(ISERROR(VLOOKUP($A317+8860000,'Growth Data'!$A:$Z,7,0)),0,VLOOKUP($A317+8860000,'Growth Data'!$A:$Z,7,0)),0)","v":0},56,null,"NO",{"$f":"IF(ISERROR(VLOOKUP($A317+8860000,'Growth Data'!$A:$F,5,0)),\"NO\",VLOOKUP($A317+8860000,'Growth Data'!$A:$F,5,0))","v":"NO"},0,null,0,{"$f":"IF(CC317=\"YES\",IF(ISERROR(VLOOKUP($A317+8860000,'Growth Data'!$A:$Z,8,0)),0,VLOOKUP($A317+8860000,'Growth Data'!$A:$Z,8,0)),0)","v":0},0,null,null,null,0]
[5426,"Archbishop's School, The",null,"Archbishop's School, The","Archbishop's School, The",0,null,3464345.72,3464345.7203482143,0,null,0,0,0,null,3464345.72,3464345.7203482143,0,null,11515.74,11515.740382,0,null,null,null,0,null,0,0,0,null,207612.34,null,207612,null,0,null,0,null,0,null,0,null,0,null,0,null,null,null,0,null,null,null,0,null,null,null,0,null,null,null,0,null,"NO",{"$f":"IF(ISERROR(VLOOKUP($A318+8860000,'Growth Data'!$A:$F,3,0)),\"NO\",VLOOKUP($A318+8860000,'Growth Data'!$A:$F,3,0))","v":"NO"},0,null,0,{"$f":"IF(BM318=\"YES\",IF(ISERROR(VLOOKUP($A318+8860000,'Growth Data'!$A:$F,6,0)),0,VLOOKUP($A318+8860000,'Growth Data'!$A:$F,6,0)),0)","v":0},0,null,"NO",{"$f":"IF(ISERROR(VLOOKUP($A318+8860000,'Growth Data'!$A:$F,4,0)),\"NO\",VLOOKUP($A318+8860000,'Growth Data'!$A:$F,4,0))","v":"NO"},0,null,0,{"$f":"IF(BU318=\"YES\",IF(ISERROR(VLOOKUP($A318+8860000,'Growth Data'!$A:$Z,7,0)),0,VLOOKUP($A318+8860000,'Growth Data'!$A:$Z,7,0)),0)","v":0},0,null,"NO",{"$f":"IF(ISERROR(VLOOKUP($A318+8860000,'Growth Data'!$A:$F,5,0)),\"NO\",VLOOKUP($A318+8860000,'Growth Data'!$A:$F,5,0))","v":"NO"},0,null,0,{"$f":"IF(CC318=\"YES\",IF(ISERROR(VLOOKUP($A318+8860000,'Growth Data'!$A:$Z,8,0)),0,VLOOKUP($A318+8860000,'Growth Data'!$A:$Z,8,0)),0)","v":0},0,null,null,null,0]
[5431,"Hugh Christie Technology College",null,"Hugh Christie Technology College","Hugh Christie Technology College",0,null,4460424.0199999996,4460424.0183366071,0,null,0,0,0,null,4460424.0199999996,4460424.0183366071,0,null,11450.5,11450.495394000001,0,null,null,null,0,null,0,0,0,null,99631.679999999993,null,99632,null,0,null,0,null,0,null,0,null,0,null,0,null,null,null,0,null,null,null,0,null,null,null,0,null,null,null,0,null,"NO",{"$f":"IF(ISERROR(VLOOKUP($A319+8860000,'Growth Data'!$A:$F,3,0)),\"NO\",VLOOKUP($A319+8860000,'Growth Data'!$A:$F,3,0))","v":"NO"},0,null,0,{"$f":"IF(BM319=\"YES\",IF(ISERROR(VLOOKUP($A319+8860000,'Growth Data'!$A:$F,6,0)),0,VLOOKUP($A319+8860000,'Growth Data'!$A:$F,6,0)),0)","v":0},0,null,"NO",{"$f":"IF(ISERROR(VLOOKUP($A319+8860000,'Growth Data'!$A:$F,4,0)),\"NO\",VLOOKUP($A319+8860000,'Growth Data'!$A:$F,4,0))","v":"NO"},0,null,0,{"$f":"IF(BU319=\"YES\",IF(ISERROR(VLOOKUP($A319+8860000,'Growth Data'!$A:$Z,7,0)),0,VLOOKUP($A319+8860000,'Growth Data'!$A:$Z,7,0)),0)","v":0},0,null,"NO",{"$f":"IF(ISERROR(VLOOKUP($A319+8860000,'Growth Data'!$A:$F,5,0)),\"NO\",VLOOKUP($A319+8860000,'Growth Data'!$A:$F,5,0))","v":"NO"},0,null,0,{"$f":"IF(CC319=\"YES\",IF(ISERROR(VLOOKUP($A319+8860000,'Growth Data'!$A:$Z,8,0)),0,VLOOKUP($A319+8860000,'Growth Data'!$A:$Z,8,0)),0)","v":0},0,null,null,null,0]
[5456,"Northfleet Technology College",null,"Northfleet Technology College","Northfleet Technology College",0,null,5175449.59,5175449.5893096207,0,null,0,0,0,null,5175449.59,5175449.5893096207,0,null,13603.58,13603.579998000003,0,null,null,null,0,null,0,0,0,null,81812.509999999995,null,81813,null,0,null,0,null,0,null,0,null,0,null,0,null,null,null,0,null,null,null,0,null,null,null,0,null,null,null,0,null,"NO",{"$f":"IF(ISERROR(VLOOKUP($A320+8860000,'Growth Data'!$A:$F,3,0)),\"NO\",VLOOKUP($A320+8860000,'Growth Data'!$A:$F,3,0))","v":"NO"},0,null,0,{"$f":"IF(BM320=\"YES\",IF(ISERROR(VLOOKUP($A320+8860000,'Growth Data'!$A:$F,6,0)),0,VLOOKUP($A320+8860000,'Growth Data'!$A:$F,6,0)),0)","v":0},0,null,"NO",{"$f":"IF(ISERROR(VLOOKUP($A320+8860000,'Growth Data'!$A:$F,4,0)),\"NO\",VLOOKUP($A320+8860000,'Growth Data'!$A:$F,4,0))","v":"NO"},0,null,0,{"$f":"IF(BU320=\"YES\",IF(ISERROR(VLOOKUP($A320+8860000,'Growth Data'!$A:$Z,7,0)),0,VLOOKUP($A320+8860000,'Growth Data'!$A:$Z,7,0)),0)","v":0},0,null,"NO",{"$f":"IF(ISERROR(VLOOKUP($A320+8860000,'Growth Data'!$A:$F,5,0)),\"NO\",VLOOKUP($A320+8860000,'Growth Data'!$A:$F,5,0))","v":"NO"},0,null,0,{"$f":"IF(CC320=\"YES\",IF(ISERROR(VLOOKUP($A320+8860000,'Growth Data'!$A:$Z,8,0)),0,VLOOKUP($A320+8860000,'Growth Data'!$A:$Z,8,0)),0)","v":0},0,null,null,null,0]
[5459,"Dover Grammar School for Boys",null,"Dover Grammar School for Boys","Dover Grammar School for Boys",0,null,2973456,2973456,0,null,0,0,0,null,2973456,2973456,0,null,10259.77,10259.774363,0,null,null,null,0,null,0,0,0,null,52202.35,null,52202,null,779.76,null,780,null,0,null,0,null,0,null,0,null,null,null,0,null,null,null,0,null,null,null,0,null,null,null,0,null,"NO",{"$f":"IF(ISERROR(VLOOKUP($A321+8860000,'Growth Data'!$A:$F,3,0)),\"NO\",VLOOKUP($A321+8860000,'Growth Data'!$A:$F,3,0))","v":"NO"},0,null,0,{"$f":"IF(BM321=\"YES\",IF(ISERROR(VLOOKUP($A321+8860000,'Growth Data'!$A:$F,6,0)),0,VLOOKUP($A321+8860000,'Growth Data'!$A:$F,6,0)),0)","v":0},0,null,"NO",{"$f":"IF(ISERROR(VLOOKUP($A321+8860000,'Growth Data'!$A:$F,4,0)),\"NO\",VLOOKUP($A321+8860000,'Growth Data'!$A:$F,4,0))","v":"NO"},0,null,0,{"$f":"IF(BU321=\"YES\",IF(ISERROR(VLOOKUP($A321+8860000,'Growth Data'!$A:$Z,7,0)),0,VLOOKUP($A321+8860000,'Growth Data'!$A:$Z,7,0)),0)","v":0},0,null,"NO",{"$f":"IF(ISERROR(VLOOKUP($A321+8860000,'Growth Data'!$A:$F,5,0)),\"NO\",VLOOKUP($A321+8860000,'Growth Data'!$A:$F,5,0))","v":"NO"},0,null,0,{"$f":"IF(CC321=\"YES\",IF(ISERROR(VLOOKUP($A321+8860000,'Growth Data'!$A:$Z,8,0)),0,VLOOKUP($A321+8860000,'Growth Data'!$A:$Z,8,0)),0)","v":0},0,null,null,null,0]
[5461,"St John's Catholic Comprehensive School",null,"St John's Catholic Comprehensive School","St John's Catholic Comprehensive School",0,null,5981075.9100000001,5981075.9094741503,0,null,0,0,0,null,5981075.9100000001,5981075.9094741503,0,null,15120.53,15120.525969,0,null,null,null,0,null,0,0,0,null,114196.92,null,114197,null,0,null,0,null,0,null,0,null,0,null,0,null,null,null,0,null,null,null,0,null,null,null,0,null,null,null,0,null,"NO",{"$f":"IF(ISERROR(VLOOKUP($A322+8860000,'Growth Data'!$A:$F,3,0)),\"NO\",VLOOKUP($A322+8860000,'Growth Data'!$A:$F,3,0))","v":"NO"},0,null,0,{"$f":"IF(BM322=\"YES\",IF(ISERROR(VLOOKUP($A322+8860000,'Growth Data'!$A:$F,6,0)),0,VLOOKUP($A322+8860000,'Growth Data'!$A:$F,6,0)),0)","v":0},0,null,"NO",{"$f":"IF(ISERROR(VLOOKUP($A322+8860000,'Growth Data'!$A:$F,4,0)),\"NO\",VLOOKUP($A322+8860000,'Growth Data'!$A:$F,4,0))","v":"NO"},0,null,0,{"$f":"IF(BU322=\"YES\",IF(ISERROR(VLOOKUP($A322+8860000,'Growth Data'!$A:$Z,7,0)),0,VLOOKUP($A322+8860000,'Growth Data'!$A:$Z,7,0)),0)","v":0},0,null,"NO",{"$f":"IF(ISERROR(VLOOKUP($A322+8860000,'Growth Data'!$A:$F,5,0)),\"NO\",VLOOKUP($A322+8860000,'Growth Data'!$A:$F,5,0))","v":"NO"},0,null,0,{"$f":"IF(CC322=\"YES\",IF(ISERROR(VLOOKUP($A322+8860000,'Growth Data'!$A:$Z,8,0)),0,VLOOKUP($A322+8860000,'Growth Data'!$A:$Z,8,0)),0)","v":0},0,null,null,null,0]
[5468,"Royal Harbour Academy, The",null,"Royal Harbour Academy, The","Royal Harbour Academy, The",{"$f":"IF(E323=D323,0,1)","v":0},null,5097220.09,5097220.0914763175,{"$f":"ROUND(H323-I323,0)","v":0},null,0,0,{"$f":"ROUND(L323-M323,0)","v":0},null,5097220.09,5097220.0914763175,{"$f":"ROUND(P323-Q323,0)","v":0},null,12983.75,12983.752612000002,{"$f":"ROUND(T323-U323,0)","v":0},null,null,null,{"$f":"ROUND(X323-Y323,0)","v":0},null,0,0,{"$f":"ROUND(AB323-AC323,0)","v":0},null,166887.41,null,{"$f":"ROUND(AF323-AG323,0)","v":166887},null,0,null,{"$f":"ROUND(AJ323-AK323,0)","v":0},null,20666.669999999998,null,{"$f":"ROUND(AN323-AO323,0)","v":20667},null,31000,null,{"$f":"ROUND(AR323-AS323,0)","v":31000},null,null,null,{"$f":"ROUND(AV323-AW323,0)","v":0},null,null,null,{"$f":"ROUND(AZ323-BA323,0)","v":0},null,null,null,{"$f":"ROUND(BD323-BE323,0)","v":0},null,null,null,{"$f":"ROUND(BH323-BI323,0)","v":0},null,"NO",{"$f":"IF(ISERROR(VLOOKUP($A323+8860000,'Growth Data'!$A:$F,3,0)),\"NO\",VLOOKUP($A323+8860000,'Growth Data'!$A:$F,3,0))","v":"NO"},{"$f":"IF(BL323=BM323,0,1)","v":0},null,0,{"$f":"IF(BM323=\"YES\",IF(ISERROR(VLOOKUP($A323+8860000,'Growth Data'!$A:$F,6,0)),0,VLOOKUP($A323+8860000,'Growth Data'!$A:$F,6,0)),0)","v":0},{"$f":"ROUND(BP323-BQ323,0)","v":0},null,"NO",{"$f":"IF(ISERROR(VLOOKUP($A323+8860000,'Growth Data'!$A:$F,4,0)),\"NO\",VLOOKUP($A323+8860000,'Growth Data'!$A:$F,4,0))","v":"NO"},{"$f":"IF(BT323=BU323,0,1)","v":0},null,0,{"$f":"IF(BU323=\"YES\",IF(ISERROR(VLOOKUP($A323+8860000,'Growth Data'!$A:$Z,7,0)),0,VLOOKUP($A323+8860000,'Growth Data'!$A:$Z,7,0)),0)","v":0},{"$f":"ROUND(BX323-BY323,0)","v":0},null,"NO",{"$f":"IF(ISERROR(VLOOKUP($A323+8860000,'Growth Data'!$A:$F,5,0)),\"NO\",VLOOKUP($A323+8860000,'Growth Data'!$A:$F,5,0))","v":"NO"},{"$f":"IF(CB323=CC323,0,1)","v":0},null,0,{"$f":"IF(CC323=\"YES\",IF(ISERROR(VLOOKUP($A323+8860000,'Growth Data'!$A:$Z,8,0)),0,VLOOKUP($A323+8860000,'Growth Data'!$A:$Z,8,0)),0)","v":0},{"$f":"ROUND(CF323-CG323,0)","v":0},null,null,null,{"$f":"ROUND(CJ323-CK323,0)","v":0}]
[5447,"St George's CE Foundation School",null,"St George's CE Foundation School","St George's CE Foundation School",0,null,6012712.3200000003,6012712.3202141291,0,null,0,0,0,null,6012712.3200000003,6012712.3202141291,0,null,21984.1,21984.098568599999,0,null,null,null,0,null,0,0,0,null,5580,null,5580,null,5442,null,5442,null,0,null,0,null,0,null,0,null,null,null,0,null,null,null,0,null,null,null,0,null,null,null,0,null,"NO",{"$f":"IF(ISERROR(VLOOKUP($A324+8860000,'Growth Data'!$A:$F,3,0)),\"NO\",VLOOKUP($A324+8860000,'Growth Data'!$A:$F,3,0))","v":"YES"},1,null,0,{"$f":"IF(BM324=\"YES\",IF(ISERROR(VLOOKUP($A324+8860000,'Growth Data'!$A:$F,6,0)),0,VLOOKUP($A324+8860000,'Growth Data'!$A:$F,6,0)),0)","v":31},-31,null,"NO",{"$f":"IF(ISERROR(VLOOKUP($A324+8860000,'Growth Data'!$A:$F,4,0)),\"NO\",VLOOKUP($A324+8860000,'Growth Data'!$A:$F,4,0))","v":"YES"},1,null,0,{"$f":"IF(BU324=\"YES\",IF(ISERROR(VLOOKUP($A324+8860000,'Growth Data'!$A:$Z,7,0)),0,VLOOKUP($A324+8860000,'Growth Data'!$A:$Z,7,0)),0)","v":60},-60,null,"NO",{"$f":"IF(ISERROR(VLOOKUP($A324+8860000,'Growth Data'!$A:$F,5,0)),\"NO\",VLOOKUP($A324+8860000,'Growth Data'!$A:$F,5,0))","v":"NO"},0,null,0,{"$f":"IF(CC324=\"YES\",IF(ISERROR(VLOOKUP($A324+8860000,'Growth Data'!$A:$Z,8,0)),0,VLOOKUP($A324+8860000,'Growth Data'!$A:$Z,8,0)),0)","v":0},0,null,null,null,0]
[null,null,null,null,null,null,null,0,null,null,null,0,null,null,null,0,null,null,null,0,null,null,null,null,null,null,null,0]

{"sheet":"Growth Data","index":3,"n_rows":47,"n_cols":18,"rows_kept":47,"cut":false,"hidden":true,"merged":[[2,7,2,8],[2,9,2,10]]}
["LA "]
[]
[null,null,null,null,null,"2021-22",null,"2022-23",null,"2023-24"]
[null,null,"2020-21","2021-22","2022-23","Lower","Higher","Lower","Higher","Lower","Higher","2021-22","2022-23","2023-24",null,"2021-22","2022-23","2023-24"]
[8862000,"St Johns Church of England Primary School","YES","YES","NO",54,60,54,60,null,null,{"$f":"Home!#REF!","v":{"$error":"#REF!"}},{"$f":"Home!#REF!","v":{"$error":"#REF!"}},{"$f":"Home!#REF!","v":{"$error":"#REF!"}},null,{"$f":"IF(C5=\"NO\",0,IF(L5<F5,0,IF(L5>G5,G5-F5,L5-F5)))","v":{"$error":"#REF!"}},{"$f":"IF(D5=\"NO\",0,IF(M5<H5,0,IF(M5>I5,I5-H5,M5-H5)))","v":{"$error":"#REF!"}},{"$f":"IF(E5=\"NO\",0,IF(N5<J5,0,IF(N5>K5,K5-J5,N5-J5)))","v":0}]
[8862028,"Cliftonville Primary School","YES","NO","NO",90,120,null,null,null,null,{"$f":"Home!#REF!","v":{"$error":"#REF!"}},{"$f":"Home!#REF!","v":{"$error":"#REF!"}},{"$f":"Home!#REF!","v":{"$error":"#REF!"}},null,{"$error":"#REF!"},0,0]
[8862034,"Thistle Hill Primary School - Sponsor Lilac Sky","YES","NO","NO",37,60,null,null,null,null,{"$f":"Home!#REF!","v":{"$error":"#REF!"}},{"$f":"Home!#REF!","v":{"$error":"#REF!"}},{"$f":"Home!#REF!","v":{"$error":"#REF!"}},null,{"$error":"#REF!"},0,0]
[8862036,"Leybourne Chase - sponsored Valley park","YES","NO","NO",20,30,null,null,null,null,{"$f":"Home!#REF!","v":{"$error":"#REF!"}},{"$f":"Home!#REF!","v":{"$error":"#REF!"}},{"$f":"Home!#REF!","v":{"$error":"#REF!"}},null,{"$error":"#REF!"},0,0]
[8862037,"Holborough Lakes Primary School -sponsored Invicta Park","YES","NO","NO",18,30,null,null,null,null,{"$f":"Home!#REF!","v":{"$error":"#REF!"}},{"$f":"Home!#REF!","v":{"$error":"#REF!"}},{"$f":"Home!#REF!","v":{"$error":"#REF!"}},null,{"$error":"#REF!"},0,0]
[8862038,"Kings Hill New Primary School - sponsored Invicta Park","YES","NO","NO",23,30,null,null,null,null,{"$f":"Home!#REF!","v":{"$error":"#REF!"}},{"$f":"Home!#REF!","v":{"$error":"#REF!"}},{"$f":"Home!#REF!","v":{"$error":"#REF!"}},null,{"$error":"#REF!"},0,0]
[8862039,"Martello Grove Primary School - Sponsor Lilac Sky","YES","NO","NO",27,30,null,null,null,null,{"$f":"Home!#REF!","v":{"$error":"#REF!"}},{"$f":"Home!#REF!","v":{"$error":"#REF!"}},{"$f":"Home!#REF!","v":{"$error":"#REF!"}},null,{"$error":"#REF!"},0,0]
[8862061,"Finberry (Cheeseman's Green)","YES","NO","NO",23,30,null,null,null,null,{"$f":"Home!#REF!","v":{"$error":"#REF!"}},{"$f":"Home!#REF!","v":{"$error":"#REF!"}},{"$f":"Home!#REF!","v":{"$error":"#REF!"}},null,{"$error":"#REF!"},0,0]
[8862099,"Edenbridge Primary School","YES","NO","NO",60,90,null,null,null,null,{"$f":"Home!#REF!","v":{"$error":"#REF!"}},{"$f":"Home!#REF!","v":{"$error":"#REF!"}},{"$f":"Home!#REF!","v":{"$error":"#REF!"}},null,{"$error":"#REF!"},0,0]
[8862165,"Headcorn Primary School","YES","YES","YES",34,60,32,60,30,60,{"$f":"Home!#REF!","v":{"$error":"#REF!"}},{"$f":"Home!#REF!","v":{"$error":"#REF!"}},{"$f":"Home!#REF!","v":{"$error":"#REF!"}},null,{"$error":"#REF!"},{"$error":"#REF!"},{"$error":"#REF!"}]
[8862180,"South Borough Primary School","YES","NO","NO",30,60,null,null,null,null,{"$f":"Home!#REF!","v":{"$error":"#REF!"}},{"$f":"Home!#REF!","v":{"$error":"#REF!"}},{"$f":"Home!#REF!","v":{"$error":"#REF!"}},null,{"$error":"#REF!"},0,0]
[8862231,"Lower Halstow School","YES","YES","NO",29,30,20,30,null,null,{"$f":"Home!#REF!","v":{"$error":"#REF!"}},{"$f":"Home!#REF!","v":{"$error":"#REF!"}},{"$f":"Home!#REF!","v":{"$error":"#REF!"}},null,{"$error":"#REF!"},{"$error":"#REF!"},0]
[8862235,"Minster in Sheppey Primary School","YES","YES","YES",63,90,60,90,62,90,{"$f":"Home!#REF!","v":{"$error":"#REF!"}},{"$f":"Home!#REF!","v":{"$error":"#REF!"}},{"$f":"Home!#REF!","v":{"$error":"#REF!"}},null,{"$error":"#REF!"},{"$error":"#REF!"},{"$error":"#REF!"}]
[8862249,"Regis Manor School","YES","YES","YES",60,90,61,90,60,90,{"$f":"Home!#REF!","v":{"$error":"#REF!"}},{"$f":"Home!#REF!","v":{"$error":"#REF!"}},{"$f":"Home!#REF!","v":{"$error":"#REF!"}},null,{"$error":"#REF!"},{"$error":"#REF!"},{"$error":"#REF!"}]
[8862259,"Chartham Primary School","YES","NO","NO",52,60,null,null,null,null,{"$f":"Home!#REF!","v":{"$error":"#REF!"}},{"$f":"Home!#REF!","v":{"$error":"#REF!"}},{"$f":"Home!#REF!","v":{"$error":"#REF!"}},null,{"$error":"#REF!"},0,0]
[8862265,"Hoath Primary School","YES","YES","NO",92,99,92,105,null,null,{"$f":"Home!#REF!","v":{"$error":"#REF!"}},{"$f":"Home!#REF!","v":{"$error":"#REF!"}},{"$f":"Home!#REF!","v":{"$error":"#REF!"}},null,{"$error":"#REF!"},{"$error":"#REF!"},0]
[8862434,"West Minster Primary School","YES","YES","NO",60,90,60,90,null,null,{"$f":"Home!#REF!","v":{"$error":"#REF!"}},{"$f":"Home!#REF!","v":{"$error":"#REF!"}},{"$f":"Home!#REF!","v":{"$error":"#REF!"}},null,{"$error":"#REF!"},{"$error":"#REF!"},0]
[8862471,"Whitfield and Aspen School","YES","YES","NO",67,82,71,82,null,null,{"$f":"Home!#REF!","v":{"$error":"#REF!"}},{"$f":"Home!#REF!","v":{"$error":"#REF!"}},{"$f":"Home!#REF!","v":{"$error":"#REF!"}},null,{"$error":"#REF!"},{"$error":"#REF!"},0]
[8862509,"Singlewell Primary School","YES","YES","NO",30,60,30,60,null,null,{"$f":"Home!#REF!","v":{"$error":"#REF!"}},{"$f":"Home!#REF!","v":{"$error":"#REF!"}},{"$f":"Home!#REF!","v":{"$error":"#REF!"}},null,{"$error":"#REF!"},{"$error":"#REF!"},0]
[8862534,"Bysing Wood Primary School","YES","YES","YES",30,60,30,60,30,60,{"$f":"Home!#REF!","v":{"$error":"#REF!"}},{"$f":"Home!#REF!","v":{"$error":"#REF!"}},{"$f":"Home!#REF!","v":{"$error":"#REF!"}},null,{"$error":"#REF!"},{"$error":"#REF!"},{"$error":"#REF!"}]
[8862648,"Aylesham Primary School","YES","YES","NO",47,60,41,60,null,null,{"$f":"Home!#REF!","v":{"$error":"#REF!"}},{"$f":"Home!#REF!","v":{"$error":"#REF!"}},{"$f":"Home!#REF!","v":{"$error":"#REF!"}},null,{"$error":"#REF!"},{"$error":"#REF!"},0]
[8862654,"Canterbury Primary School, The","YES","NO","NO",53,60,null,null,null,null,{"$f":"Home!#REF!","v":{"$error":"#REF!"}},{"$f":"Home!#REF!","v":{"$error":"#REF!"}},{"$f":"Home!#REF!","v":{"$error":"#REF!"}},null,{"$error":"#REF!"},0,0]
[8862657,"Temple Hill Community Primary and Nursery School","YES","YES","NO",117,120,119,120,null,null,{"$f":"Home!#REF!","v":{"$error":"#REF!"}},{"$f":"Home!#REF!","v":{"$error":"#REF!"}},{"$f":"Home!#REF!","v":{"$error":"#REF!"}},null,{"$error":"#REF!"},{"$error":"#REF!"},0]
[8862658,"Westcourt School","YES","YES","NO",30,60,30,60,null,null,{"$f":"Home!#REF!","v":{"$error":"#REF!"}},{"$f":"Home!#REF!","v":{"$error":"#REF!"}},{"$f":"Home!#REF!","v":{"$error":"#REF!"}},null,{"$error":"#REF!"},{"$error":"#REF!"},0]
[8862679,"Brent Primary School, The","YES","YES","NO",63,90,64,90,null,null,{"$f":"Home!#REF!","v":{"$error":"#REF!"}},{"$f":"Home!#REF!","v":{"$error":"#REF!"}},{"$f":"Home!#REF!","v":{"$error":"#REF!"}},null,{"$error":"#REF!"},{"$error":"#REF!"},0]
[8862684,"Wentworth Primary School","YES","YES","NO",75,90,83,90,null,null,{"$f":"Home!#REF!","v":{"$error":"#REF!"}},{"$f":"Home!#REF!","v":{"$error":"#REF!"}},{"$f":"Home!#REF!","v":{"$error":"#REF!"}},null,{"$error":"#REF!"},{"$error":"#REF!"},0]
[8862689,"Craylands School, The","YES","YES","NO",30,60,30,60,null,null,{"$f":"Home!#REF!","v":{"$error":"#REF!"}},{"$f":"Home!#REF!","v":{"$error":"#REF!"}},{"$f":"Home!#REF!","v":{"$error":"#REF!"}},null,{"$error":"#REF!"},{"$error":"#REF!"},0]
[8863035,"Seal CEP School","YES","NO","NO",33,60,null,null,null,null,{"$f":"Home!#REF!","v":{"$error":"#REF!"}},{"$f":"Home!#REF!","v":{"$error":"#REF!"}},{"$f":"Home!#REF!","v":{"$error":"#REF!"}},null,{"$error":"#REF!"},0,0]
[8863088,"Wouldham, All Saint's CEP School","YES","NO","NO",56,60,null,null,null,null,{"$f":"Home!#REF!","v":{"$error":"#REF!"}},{"$f":"Home!#REF!","v":{"$error":"#REF!"}},{"$f":"Home!#REF!","v":{"$error":"#REF!"}},null,{"$error":"#REF!"},0,0]
[8863178,"Birchington CEP School","YES","YES","NO",60,90,60,90,null,null,{"$f":"Home!#REF!","v":{"$error":"#REF!"}},{"$f":"Home!#REF!","v":{"$error":"#REF!"}},{"$f":"Home!#REF!","v":{"$error":"#REF!"}},null,{"$error":"#REF!"},{"$error":"#REF!"},0]
[8863337,"Tunstall CEP School","YES","NO","NO",30,60,null,null,null,null,{"$f":"Home!#REF!","v":{"$error":"#REF!"}},{"$f":"Home!#REF!","v":{"$error":"#REF!"}},{"$f":"Home!#REF!","v":{"$error":"#REF!"}},null,{"$error":"#REF!"},0,0]
[8863708,"St John's Catholic Primary School, Gravesend","YES","YES","NO",90,120,90,120,null,null,{"$f":"Home!#REF!","v":{"$error":"#REF!"}},{"$f":"Home!#REF!","v":{"$error":"#REF!"}},{"$f":"Home!#REF!","v":{"$error":"#REF!"}},null,{"$error":"#REF!"},{"$error":"#REF!"},0]
[8863907,"Hextable Primary School","YES","NO","NO",61,90,null,null,null,null,{"$f":"Home!#REF!","v":{"$error":"#REF!"}},{"$f":"Home!#REF!","v":{"$error":"#REF!"}},{"$f":"Home!#REF!","v":{"$error":"#REF!"}},null,{"$error":"#REF!"},0,0]
[8863916,"Green Park Community Primary School","YES","NO","NO",58,60,null,null,null,null,{"$f":"Home!#REF!","v":{"$error":"#REF!"}},{"$f":"Home!#REF!","v":{"$error":"#REF!"}},{"$f":"Home!#REF!","v":{"$error":"#REF!"}},null,{"$error":"#REF!"},0,0]
[8864002,"Sittingbourne Community College","YES","NO","NO",240,270,null,null,null,null,{"$f":"Home!#REF!","v":{"$error":"#REF!"}},{"$f":"Home!#REF!","v":{"$error":"#REF!"}},{"$f":"Home!#REF!","v":{"$error":"#REF!"}},null,{"$error":"#REF!"},0,0]
[8864006,"Trinity Free School","YES","NO","NO",122,180,null,null,null,null,{"$f":"Home!#REF!","v":{"$error":"#REF!"}},{"$f":"Home!#REF!","v":{"$error":"#REF!"}},{"$f":"Home!#REF!","v":{"$error":"#REF!"}},null,{"$error":"#REF!"},0,0]
[8864045,"Tunbridge Wells Grammar School for Boys","YES","NO","NO",191,210,null,null,null,null,{"$f":"Home!#REF!","v":{"$error":"#REF!"}},{"$f":"Home!#REF!","v":{"$error":"#REF!"}},{"$f":"Home!#REF!","v":{"$error":"#REF!"}},null,{"$error":"#REF!"},0,0]
[8864046,"Weald of Kent Grammar School Annex","YES","NO","NO",232,300,null,null,null,null,{"$f":"Home!#REF!","v":{"$error":"#REF!"}},{"$f":"Home!#REF!","v":{"$error":"#REF!"}},{"$f":"Home!#REF!","v":{"$error":"#REF!"}},null,{"$error":"#REF!"},0,0]
[8864522,"Maidstone Grammar School","YES","NO","NO",183,205,null,null,null,null,{"$f":"Home!#REF!","v":{"$error":"#REF!"}},{"$f":"Home!#REF!","v":{"$error":"#REF!"}},{"$f":"Home!#REF!","v":{"$error":"#REF!"}},null,{"$error":"#REF!"},0,0]
[8864622,"Judd School, The","YES","NO","NO",159,180,null,null,null,null,{"$f":"Home!#REF!","v":{"$error":"#REF!"}},{"$f":"Home!#REF!","v":{"$error":"#REF!"}},{"$f":"Home!#REF!","v":{"$error":"#REF!"}},null,{"$error":"#REF!"},0,0]
[8864633,"Ursuline College, Westgate on Sea","YES","NO","NO",120,150,null,null,null,null,{"$f":"Home!#REF!","v":{"$error":"#REF!"}},{"$f":"Home!#REF!","v":{"$error":"#REF!"}},{"$f":"Home!#REF!","v":{"$error":"#REF!"}},null,{"$error":"#REF!"},0,0]
[8865435,"St Gregory's Catholic Comprehensive School","YES","NO","NO",207,210,null,null,null,null,{"$f":"Home!#REF!","v":{"$error":"#REF!"}},{"$f":"Home!#REF!","v":{"$error":"#REF!"}},{"$f":"Home!#REF!","v":{"$error":"#REF!"}},null,{"$error":"#REF!"},0,0]
[8865447,"St George's Church of England Foundation School","YES","YES","NO",31,60,30,60,null,null,{"$f":"Home!#REF!","v":{"$error":"#REF!"}},{"$f":"Home!#REF!","v":{"$error":"#REF!"}},{"$f":"Home!#REF!","v":{"$error":"#REF!"}},null,{"$error":"#REF!"},{"$error":"#REF!"},0]

{"sheet":"Contents","index":4,"n_rows":6,"n_cols":2,"rows_kept":6,"cut":false,"hidden":false,"merged":[]}
["Contents"]
["Guidance","Guidance has been written to aid the user in populating this template, to access this guidance click on this link"]
["Early Years","This is the input sheet to calculate your Early Years 3 & 4 years olds free entitlement, Early Years Pupil Premium and 2 Year old funding, Special Education Needs Inclusion Fund (SENIF) and Disability Access Fund (DAF). Please note that the funding rates are compliant with Dedicated School Grant Financial year that runs from April 2021 to March 2022."]
["High Needs Mainstream","The purpose of this template is to calculate your High Needs mainstream funding for 2021-22. Please note that the funding rates are compliant with Dedicated School Grant Financial year that runs from April 2021 to March 2022."]
["Specialist Resource Provision","The purpose of this template is to calculate your Specialist Resource Provision (SRP) Funding for 2021-22. We have not extended the forecast period in the same way as Early Years and Mainstream High Needs due to complications around place funding. Academies will therefore need to do their own calculations to estimate funding for the period April 2022 to August 2022."]
["SRP Rates","This tabs provides a breakdown of how the SRP rate has been calculated for each SRP."]

{"sheet":"Home","index":5,"n_rows":8,"n_cols":7,"rows_kept":8,"cut":false,"hidden":false,"merged":[]}
[null,null,null,null,null,"Phase",{"$f":"IFERROR(VLOOKUP(DFENUMBER,dataslate,3,0),\"\")","v":""}]
[null,null,"DfE Number"]
[{"$f":"IF(ISERROR(VLOOKUP(DFENUMBER,dataslate,2,0)),\"\",VLOOKUP(DFENUMBER,dataslate,2,0))","v":""}]
[]
[]
["The templates in this file are intended to provide a means to forecast and reconcile funding due from Kent County Council."]
["All funding due from Kent County Council to academies is paid on the Dedicated Schools Grant financial year April 2021 to March 2022"]
["If you have any queries about funding due from Kent County Council, please refer to the guidance documents provided on KELSI in the first instance (documents - funding guidance, input guidance)."]

{"sheet":"Early Years","index":6,"n_rows":126,"n_cols":6,"rows_kept":126,"cut":false,"hidden":false,"merged":[]}
[]
[null,null,null,null,null,{"$f":"DFENUMBER","v":0}]
[]
[]
[null,{"$f":"schoolname","v":""}]
[]
[null,"2021/22 Early Years Budget Estimation"]
[]
[null,null,"Summer ","Autumn","Spring"]
[null,"Hourly Rate","Term","Term","Term"]
[null,"Base rate",{"$f":"IFERROR(VLOOKUP(DFENUMBER,dataslate,44,0),0)","v":0},{"$f":"C11","v":0},{"$f":"D11","v":0}]
[null,"Qualified Teacher Supplement",{"$f":"IFERROR(VLOOKUP(DFENUMBER,dataslate,45,0),0)","v":0},{"$f":"C12","v":0},{"$f":"D12","v":0}]
[null,"Disadvantage supplement",{"$f":"IFERROR(VLOOKUP(DFENUMBER,dataslate,46,0),0)","v":0},{"$f":"IFERROR(VLOOKUP(DFENUMBER,dataslate,46,0),0)","v":0},{"$f":"IFERROR(VLOOKUP(DFENUMBER,dataslate,46,0),0)","v":0}]
[null,null,{"$f":"SUM(C11:C13)","v":0},{"$f":"SUM(D11:D13)","v":0},{"$f":"SUM(E11:E13)","v":0}]
[]
[null,"Please Enter your Pupil Numbers"]
[]
[null,"Please only enter qualifying pupils (follow link for guidance)"]
[null,null,"2021/22"]
[null,"Pupils Early Years Hours","Summer","Autumn","Spring"]
[null,1]
[null,2]
[null,3]
[null,4]
[null,5]
[null,6]
[null,7]
[null,8]
[null,9]
[null,10]
[null,11]
[null,12]
[null,13]
[null,14]
[null,15]
[null,16]
[null,17]
[null,18]
[null,19]
[null,20]
[null,21]
[null,22]
[null,23]
[null,24]
[null,25]
[null,26]
[null,27]
[null,28]
[null,29]
[null,30]
[null,"Total pupils:",{"$f":"SUM(C21:C50)","v":0},0,0]
[null,"Total Weekly Hours:",{"$f":"SUMPRODUCT(C21:C50,$B$21:$B$50)","v":0},{"$f":"SUMPRODUCT(D21:D50,$B$21:$B$50)","v":0},0]
[null,"Total Hours for Term:",{"$f":"C52*$E$56","v":0},{"$f":"D52*$E$57","v":0},{"$f":"E52*$E$58","v":0}]
[]
[null,null,"Hourly Rate","Weekly Hours","Weeks"]
[null,"Summer term 2021",{"$f":"littleones","v":0},{"$f":"C52","v":0},13,{"$f":"SUM(D56*E56)*C56","v":0}]
[null,"Autumn term 2021",{"$f":"D14","v":0},{"$f":"D52","v":0},14,{"$f":"SUM(D57*E57)*C57","v":0}]
[null,"Spring term 2022",{"$f":"E14","v":0},{"$f":"E52","v":0},11,{"$f":"SUM(D58*E58)*C58","v":0}]
[null,"Total 2021/22 Estimated Budget:",null,null,null,{"$f":"SUM(F56:F58)","v":0}]
[]
[]
[null,"Early Years Pupil Premium (EYPP)"]
[]
[null,"Please only enter pupils who qualify for the Early Years Pupil Premium"]
[]
[null,null,"2021/22"]
[null,"Pupils Early Years Hours","Summer","Autumn","Spring"]
[null,1]
[null,2]
[null,3]
[null,4]
[null,5]
[null,6]
[null,7]
[null,8]
[null,9]
[null,10]
[null,11]
[null,12]
[null,13]
[null,14]
[null,15]
[null,"Total pupils:",{"$f":"SUM(C68:C82)","v":0},{"$f":"SUM(D68:D82)","v":0},{"$f":"SUM(E68:E82)","v":0}]
[null,"Total Weekly Hours:",{"$f":"SUMPRODUCT(C68:C82,$B$68:$B$82)","v":0},{"$f":"SUMPRODUCT(D68:D82,$B$68:$B$82)","v":0},0]
[null,"Total Hours for Term:",{"$f":"C84*13","v":0},{"$f":"D84*14","v":0},{"$f":"E84*11","v":0}]
[null,"Rate per funded hour:",0.53,0.53,0.53]
[null,"Estimated Pupil Premium Funding:",{"$f":"C85*C86","v":0},{"$f":"D85*D86","v":0},0]
[]
[]
[]
[null,"2 Year old funding"]
[]
[null,"Please only enter pupils who qualify for the 2 Year old funding"]
[]
[null,null,"2021/22"]
[null,"Pupils Early Years Hours","Summer","Autumn","Spring"]
[null,1]
[null,2]
[null,3]
[null,4]
[null,5]
[null,6]
[null,7]
[null,8]
[null,9]
[null,10]
[null,11]
[null,12]
[null,13]
[null,14]
[null,15]
[null,"Total pupils:",{"$f":"SUM(C97:C111)","v":0},{"$f":"SUM(D97:D111)","v":0},{"$f":"SUM(E97:E111)","v":0}]
[null,"Total Weekly Hours:",{"$f":"SUMPRODUCT(C97:C111,$B$97:$B$111)","v":0},{"$f":"SUMPRODUCT(D97:D111,$B$97:$B$111)","v":0},0]
[null,"Total Hours for Term:",{"$f":"C113*13","v":0},{"$f":"D113*14","v":0},{"$f":"E113*11","v":0}]
[null,"Rate per funded hour:",5.18,5.18,5.18]
[null,"Estimated 2 Year old Funding:",{"$f":"C114*C115","v":0},{"$f":"D114*D115","v":0},0]
[]
[]
[]
[null,null,"2021/22"]
[null,"Special Educational Needs Inclusion Fund (SENIF)"]
[null,"Disability Access Fund (DAF)"]
[]
[null,"Please only enter funding for pupils who qualify for the SENIF funding"]
[]
[null,"Please only enter funding for pupils who qualify for the DAF funding"]

{"sheet":"High Needs Mainstream","index":7,"n_rows":96,"n_cols":56,"rows_kept":96,"cut":false,"hidden":false,"merged":[]}
[null,null,null,null,null,null,null,null,null,null,null,null,null,null,null,"Notional SEN budget top up rate working"]
[null,null,null,{"$f":"DFENUMBER","v":0},null,null,null,null,null,null,null,null,null,null,null,"Notional AEN/SEN Budget"]
[null,null,null,null,null,null,null,null,null,null,null,null,null,null,null,null,null,null,"IDACI",null,null,{"$f":"IFERROR(VLOOKUP($D$2,dataslate,61,0),0)","v":0}]
[null,null,null,{"$f":"schoolname","v":""},null,null,null,null,null,null,null,null,null,null,null,null,null,null,"Ever 6 FSM",null,null,{"$f":"IFERROR(VLOOKUP($D$2,dataslate,62,0),0)","v":0}]
[null,null,null,"2021/22",null,null,null,null,null,null,null,null,null,null,null,null,null,null,"Low Cost, high Incidence SEN",null,null,{"$f":"IFERROR(VLOOKUP($D$2,dataslate,63,0),0)","v":0},null,null,null,null,null,null,null,"Extra top up due to 28% rule",null,null,null,null,null,null,null,null,null,null,null,"Total"]
[null,null,null,null,null,null,null,null,null,null,null,null,null,null,null,null,null,null,"English as an additional language",null,null,{"$f":"IFERROR(VLOOKUP($D$2,dataslate,64,0),0)","v":0},null,null,null,null,null,null,null,{"$f":"AD96","v":0},0,0,0,0,0,0,0,0,0,0,0,{"$f":"SUM(AD6:AO6)","v":0}]
[null,null,null,null,null,null,null,null,null,null,null,null,null,null,null,null,null,null,"Element of Lump Sum",null,null,{"$f":"IF(D2=0,0,IF(Phase=1,0.0519225068036387*VLOOKUP($D$2,dataslate,65,0),0.0464679371233849*VLOOKUP($D$2,dataslate,65,0)))","v":0}]
[null,null,null,null,null,null,null,null,null,null,null,null,null,null,null,null,null,null,"Area Cost Adjustment-London Fringe",null,null,{"$f":"IFERROR(SUM(V3:V7)*SUM(VLOOKUP($D$2,dataslate,30,0)-1),0)","v":0}]
[null,null,null,null,null,null,null,null,null,null,null,null,null,null,null,null,null,null,"Minimum Per-Pupil Level Funding (MPPL)",null,null,{"$f":"IFERROR(VLOOKUP($D$2,dataslate,67,0),0)","v":0}]
[null,null,null,null,null,null,null,"Year 1",null,null,null,null,null,null,null,null,null,null,"Minimum Funding Guarantee (MFG)",null,null,{"$f":"IFERROR(VLOOKUP($D$2,dataslate,68,0),0)","v":0}]
[null,null,"High Needs Mainstream Funding  - Element 3 Top Up",null,null,null,null,{"$f":"AB85","v":0},null,null,null,null,null,null,null,"Total (with Area Cost Adjustment if applicable)",null,null,null,null,null,null,null,{"$f":"SUM(V3:V10)","v":0}]
[null,null,"High Needs Mainstream Funding - Notional SEN Top Up 10%",null,null,null,null,{"$f":"AP85","v":0},null,null,null,null,null,null,null,"School Contribution per Pre-16 Pupil",null,null,null,null,null,null,null,6000]
[null,null,"High Needs Mainstream Funding - Notional SEN Top Up 28%",null,null,null,null,{"$f":"AP6","v":0},null,null,null,null,null,null,null,"Notional AEN/SEN Top Up per Pre-16 Pupil (10%)",null,null,null,null,null,null,null,{"$f":"IF(X11>=60000,0,6000-(X11*0.1))","v":6000}]
[null,null,"High Needs Mainstream Funding - Element 2 Post 16",null,null,null,null,{"$f":"BD85","v":0},null,null,null,null,null,null,null,"Maximum Contribution for all Pre-16 Pupils (28%)",null,null,null,null,null,null,null,{"$f":"X11*0.28","v":0}]
[null,null,null,null,null,null,null,{"$f":"SUM(H11:H14)","v":0}]
[]
[null,null,"Pupil Data",null,null,null,null,null,null,null,null,null,null,null,null,"Element 3 top up",null,null,null,null,null,null,null,null,null,null,null,null,null,"Notional SEN budget top up",null,null,null,null,null,null,null,null,null,null,null,null,null,"Post 16 Element 2"]
[null,null,"Name","Date of Birth","Year Group (Academic Year Sept 20 - Aug 21)","Year Group (Academic Year Sept 21 - Aug 22)","Start Date","End Date","Year 1 - Period 1 - (Apr to Aug)\nMonthly top up rate","Year 1 - Period 2 - (Sep to Dec)\nMonthly top up rate","Year 1 - Period 3 - (Jan to Mar)\nMonthly top up rate","Year 2 Monthly top up rate","Year 3 Monthly top up rate","Year 1 Total Funding linked to this Pupil",null,"April","May","June","July","August","September","October","November","December","January","February","March","Total",null,"April","May","June","July","August","September","October","November","December","January","February","March","Total",null,"April","May","June","July","August","September","October","November","December","January","February","March","Total"]
[null,null,null,null,{"$f":"IF(D19=\"\",\"\",IF(SUM(DATEDIF(D19,DATE(YEAR($E$90)+(MONTH($E$90)>8),8,31),\"Y\")-5)=0,\"R\",IF(SUM(DATEDIF(D19,DATE(YEAR($E$90)+(MONTH($E$90)>8),8,31),\"Y\")-5)<0,\"\",DATEDIF(D19,DATE(YEAR($E$90)+(MONTH($E$90)>8),8,31),\"Y\")-5)))","v":""},{"$f":"IF(D19=\"\",\"\",IF(SUM(DATEDIF(D19,DATE(YEAR($F$90)+(MONTH($F$90)>8),8,31),\"Y\")-5)=0,\"R\",DATEDIF(D19,DATE(YEAR($F$90)+(MONTH($F$90)>8),8,31),\"Y\")-5))","v":""},null,null,null,null,null,null,null,{"$f":"AB19+AP19+BD19","v":0},null,{"$f":"IF(D19=0,0,IF(AND($G19<DATE(2021,5,1),$H19>=DATE(2021,4,1)),$I19,0))","v":0},{"$f":"IF(D19=0,0,IF(AND($G19<DATE(2021,6,1),$H19>=DATE(2021,4,1)),$I19,0))","v":0},{"$f":"IF(D19=0,0,IF(AND($G19<DATE(2021,7,1),$H19>=DATE(2021,4,1)),$I19,0))","v":0},{"$f":"IF(D19=0,0,IF(AND($G19<DATE(2021,8,1),$H19>=DATE(2021,4,1)),$I19,0))","v":0},{"$f":"IF(D19=0,0,IF(AND($G19<DATE(2021,9,1),$H19>=DATE(2021,4,1)),$I19,0))","v":0},{"$f":"IF(D19=0,0,IF(AND($G19<DATE(2021,10,1),$H19>=DATE(2021,9,1)),$J19,0))","v":0},{"$f":"IF(D19=0,0,IF(AND($G19<DATE(2021,11,1),$H19>=DATE(2021,9,1)),$J19,0))","v":0},{"$f":"IF(D19=0,0,IF(AND($G19<DATE(2021,12,1),$H19>=DATE(2021,9,1)),$J19,0))","v":0},{"$f":"IF(D19=0,0,IF(AND($G19<DATE(2022,1,1),$H19>=DATE(2021,9,1)),$J19,0))","v":0},{"$f":"IF(D19=0,0,IF(AND($G19<DATE(2022,2,1),$H19>=DATE(2022,1,1)),$K19,0))","v":0},{"$f":"IF(D19=0,0,IF(AND($G19<DATE(2022,3,1),$H19>=DATE(2022,1,1)),$K19,0))","v":0},{"$f":"IF(D19=0,0,IF(AND($G19<DATE(2022,4,1),$H19>=DATE(2022,1,1)),$K19,0))","v":0},{"$f":"SUM(P19:AA19)","v":0},null,{"$f":"IF(AND(P19>0,$D19>DATE(2004,8,31),$D19>1),sentopup/12,0)","v":0},{"$f":"IF(AND(Q19>0,$D19>DATE(2004,8,31),$D19>1),sentopup/12,0)","v":0},{"$f":"IF(AND(R19>0,$D19>DATE(2004,8,31),$D19>1),sentopup/12,0)","v":0},{"$f":"IF(AND(S19>0,$D19>DATE(2004,8,31),$D19>1),sentopup/12,0)","v":0},{"$f":"IF(AND(T19>0,$D19>DATE(2004,8,31),$D19>1),sentopup/12,0)","v":0},{"$f":"IF(AND(U19>0,$D19>DATE(2005,8,31),$D19>1),sentopup/12,0)","v":0},{"$f":"IF(AND(V19>0,$D19>DATE(2005,8,31),$D19>1),sentopup/12,0)","v":0},{"$f":"IF(AND(W19>0,$D19>DATE(2005,8,31),$D19>1),sentopup/12,0)","v":0},{"$f":"IF(AND(X19>0,$D19>DATE(2005,8,31),$D19>1),sentopup/12,0)","v":0},{"$f":"IF(AND(Y19>0,$D19>DATE(2005,8,31),$D19>1),sentopup/12,0)","v":0},{"$f":"IF(AND(Z19>0,$D19>DATE(2005,8,31),$D19>1),sentopup/12,0)","v":0},{"$f":"IF(AND(AA19>0,$D19>DATE(2005,8,31),$D19>1),sentopup/12,0)","v":0},{"$f":"SUM(AD19:AO19)","v":0},null,{"$f":"IF(AND(P19>0,$D19<DATE(2004,9,1),$D19>1),500,0)","v":0},{"$f":"IF(AND(Q19>0,$D19<DATE(2004,9,1),$D19>1),500,0)","v":0},{"$f":"IF(AND(R19>0,$D19<DATE(2004,9,1),$D19>1),500,0)","v":0},{"$f":"IF(AND(S19>0,$D19<DATE(2004,9,1),$D19>1),500,0)","v":0},{"$f":"IF(AND(T19>0,$D19<DATE(2004,9,1),$D19>1),500,0)","v":0},{"$f":"IF(AND(U19>0,$D19<DATE(2005,9,1),$D19>1),500,0)","v":0},0,0,0,0,0,0,{"$f":"SUM(AR19:BC19)","v":0}]
[null,null,null,null,{"$f":"IF(D20=\"\",\"\",IF(SUM(DATEDIF(D20,DATE(YEAR($E$90)+(MONTH($E$90)>8),8,31),\"Y\")-5)=0,\"R\",IF(SUM(DATEDIF(D20,DATE(YEAR($E$90)+(MONTH($E$90)>8),8,31),\"Y\")-5)<0,\"\",DATEDIF(D20,DATE(YEAR($E$90)+(MONTH($E$90)>8),8,31),\"Y\")-5)))","v":""},"",null,null,null,null,null,null,null,{"$f":"AB20+AP20+BD20","v":0},null,{"$f":"IF(D20=0,0,IF(AND($G20<DATE(2021,5,1),$H20>=DATE(2021,4,1)),$I20,0))","v":0},{"$f":"IF(D20=0,0,IF(AND($G20<DATE(2021,6,1),$H20>=DATE(2021,4,1)),$I20,0))","v":0},{"$f":"IF(D20=0,0,IF(AND($G20<DATE(2021,7,1),$H20>=DATE(2021,4,1)),$I20,0))","v":0},{"$f":"IF(D20=0,0,IF(AND($G20<DATE(2021,8,1),$H20>=DATE(2021,4,1)),$I20,0))","v":0},{"$f":"IF(D20=0,0,IF(AND($G20<DATE(2021,9,1),$H20>=DATE(2021,4,1)),$I20,0))","v":0},{"$f":"IF(D20=0,0,IF(AND($G20<DATE(2021,10,1),$H20>=DATE(2021,9,1)),$J20,0))","v":0},{"$f":"IF(D20=0,0,IF(AND($G20<DATE(2021,11,1),$H20>=DATE(2021,9,1)),$J20,0))","v":0},{"$f":"IF(D20=0,0,IF(AND($G20<DATE(2021,12,1),$H20>=DATE(2021,9,1)),$J20,0))","v":0},{"$f":"IF(D20=0,0,IF(AND($G20<DATE(2022,1,1),$H20>=DATE(2021,9,1)),$J20,0))","v":0},{"$f":"IF(D20=0,0,IF(AND($G20<DATE(2022,2,1),$H20>=DATE(2022,1,1)),$K20,0))","v":0},{"$f":"IF(D20=0,0,IF(AND($G20<DATE(2022,3,1),$H20>=DATE(2022,1,1)),$K20,0))","v":0},{"$f":"IF(D20=0,0,IF(AND($G20<DATE(2022,4,1),$H20>=DATE(2022,1,1)),$K20,0))","v":0},{"$f":"SUM(P20:AA20)","v":0},null,0,0,0,0,0,0,0,0,0,0,0,0,{"$f":"SUM(AD20:AO20)","v":0},null,{"$f":"IF(AND(P20>0,$D20<DATE(2004,9,1),$D20>1),500,0)","v":0},{"$f":"IF(AND(Q20>0,$D20<DATE(2004,9,1),$D20>1),500,0)","v":0},{"$f":"IF(AND(R20>0,$D20<DATE(2004,9,1),$D20>1),500,0)","v":0},{"$f":"IF(AND(S20>0,$D20<DATE(2004,9,1),$D20>1),500,0)","v":0},{"$f":"IF(AND(T20>0,$D20<DATE(2004,9,1),$D20>1),500,0)","v":0},{"$f":"IF(AND(U20>0,$D20<DATE(2005,9,1),$D20>1),500,0)","v":0},{"$f":"IF(AND(V20>0,$D20<DATE(2005,9,1),$D20>1),500,0)","v":0},{"$f":"IF(AND(W20>0,$D20<DATE(2005,9,1),$D20>1),500,0)","v":0},{"$f":"IF(AND(X20>0,$D20<DATE(2005,9,1),$D20>1),500,0)","v":0},{"$f":"IF(AND(Y20>0,$D20<DATE(2005,9,1),$D20>1),500,0)","v":0},{"$f":"IF(AND(Z20>0,$D20<DATE(2005,9,1),$D20>1),500,0)","v":0},{"$f":"IF(AND(AA20>0,$D20<DATE(2005,9,1),$D20>1),500,0)","v":0},{"$f":"SUM(AR20:BC20)","v":0}]
[null,null,null,null,"","",null,null,null,null,null,null,null,0,null,0,0,0,0,0,0,0,0,0,0,0,0,0,null,0,0,0,0,0,0,0,0,0,0,0,0,0,null,0,0,0,0,0,0,0,0,0,0,0,0,0]
[null,null,null,null,"","",null,null,null,null,null,null,null,0,null,0,0,0,0,0,0,0,0,0,0,0,0,0,null,0,0,0,0,0,0,0,0,0,0,0,0,0,null,0,0,0,0,0,0,0,0,0,0,0,0,0]
[null,null,null,null,"","",null,null,null,null,null,null,null,0,null,0,0,0,0,0,0,0,0,0,0,0,0,0,null,0,0,0,0,0,0,0,0,0,0,0,0,0,null,0,0,0,0,0,0,0,0,0,0,0,0,0]
[null,null,null,null,"","",null,null,null,null,null,null,null,0,null,0,0,0,0,0,0,0,0,0,0,0,0,0,null,0,0,0,0,0,0,0,0,0,0,0,0,0,null,0,0,0,0,0,0,0,0,0,0,0,0,0]
[null,null,null,null,"","",null,null,null,null,null,null,null,0,null,0,0,0,0,0,0,0,0,0,0,0,0,0,null,0,0,0,0,0,0,0,0,0,0,0,0,0,null,0,0,0,0,0,0,0,0,0,0,0,0,0]
[null,null,null,null,"","",null,null,null,null,null,null,null,0,null,0,0,0,0,0,0,0,0,0,0,0,0,0,null,0,0,0,0,0,0,0,0,0,0,0,0,0,null,0,0,0,0,0,0,0,0,0,0,0,0,0]
[null,null,null,null,"","",null,null,null,null,null,null,null,0,null,0,0,0,0,0,0,0,0,0,0,0,0,0,null,0,0,0,0,0,0,0,0,0,0,0,0,0,null,0,0,0,0,0,0,0,0,0,0,0,0,0]
[null,null,null,null,"","",null,null,null,null,null,null,null,0,null,0,0,0,0,0,0,0,0,0,0,0,0,0,null,0,0,0,0,0,0,0,0,0,0,0,0,0,null,0,0,0,0,0,0,0,0,0,0,0,0,0]
[null,null,null,null,"","",null,null,null,null,null,null,null,0,null,0,0,0,0,0,0,0,0,0,0,0,0,0,null,0,0,0,0,0,0,0,0,0,0,0,0,0,null,0,0,0,0,0,0,0,0,0,0,0,0,0]
[null,null,null,null,"","",null,null,null,null,null,null,null,0,null,0,0,0,0,0,0,0,0,0,0,0,0,0,null,0,0,0,0,0,0,0,0,0,0,0,0,0,null,0,0,0,0,0,0,0,0,0,0,0,0,0]
[null,null,null,null,"","",null,null,null,null,null,null,null,0,null,0,0,0,0,0,0,0,0,0,0,0,0,0,null,0,0,0,0,0,0,0,0,0,0,0,0,0,null,0,0,0,0,0,0,0,0,0,0,0,0,0]
[null,null,null,null,"","",null,null,null,null,null,null,null,0,null,0,0,0,0,0,0,0,0,0,0,0,0,0,null,0,0,0,0,0,0,0,0,0,0,0,0,0,null,0,0,0,0,0,0,0,0,0,0,0,0,0]
[null,null,null,null,"","",null,null,null,null,null,null,null,0,null,0,0,0,0,0,0,0,0,0,0,0,0,0,null,0,0,0,0,0,0,0,0,0,0,0,0,0,null,0,0,0,0,0,0,0,0,0,0,0,0,0]
[null,null,null,null,"","",null,null,null,null,null,null,null,0,null,0,0,0,0,0,0,0,0,0,0,0,0,0,null,0,0,0,0,0,0,0,0,0,0,0,0,0,null,0,0,0,0,0,0,0,0,0,0,0,0,0]
[null,null,null,null,"","",null,null,null,null,null,null,null,0,null,0,0,0,0,0,0,0,0,0,0,0,0,0,null,0,0,0,0,0,0,0,0,0,0,0,0,0,null,0,0,0,0,0,0,0,0,0,0,0,0,0]
[null,null,null,null,"","",null,null,null,null,null,null,null,0,null,0,0,0,0,0,0,0,0,0,0,0,0,0,null,0,0,0,0,0,0,0,0,0,0,0,0,0,null,0,0,0,0,0,0,0,0,0,0,0,0,0]
[null,null,null,null,"","",null,null,null,null,null,null,null,0,null,0,0,0,0,0,0,0,0,0,0,0,0,0,null,0,0,0,0,0,0,0,0,0,0,0,0,0,null,0,0,0,0,0,0,0,0,0,0,0,0,0]
[null,null,null,null,"","",null,null,null,null,null,null,null,0,null,0,0,0,0,0,0,0,0,0,0,0,0,0,null,0,0,0,0,0,0,0,0,0,0,0,0,0,null,0,0,0,0,0,0,0,0,0,0,0,0,0]
[null,null,null,null,"","",null,null,null,null,null,null,null,0,null,0,0,0,0,0,0,0,0,0,0,0,0,0,null,0,0,0,0,0,0,0,0,0,0,0,0,0,null,0,0,0,0,0,0,0,0,0,0,0,0,0]
[null,null,null,null,"","",null,null,null,null,null,null,null,0,null,0,0,0,0,0,0,0,0,0,0,0,0,0,null,0,0,0,0,0,0,0,0,0,0,0,0,0,null,0,0,0,0,0,0,0,0,0,0,0,0,0]
[null,null,null,null,"","",null,null,null,null,null,null,null,0,null,0,0,0,0,0,0,0,0,0,0,0,0,0,null,0,0,0,0,0,0,0,0,0,0,0,0,0,null,0,0,0,0,0,0,0,0,0,0,0,0,0]
[null,null,null,null,"","",null,null,null,null,null,null,null,0,null,0,0,0,0,0,0,0,0,0,0,0,0,0,null,0,0,0,0,0,0,0,0,0,0,0,0,0,null,0,0,0,0,0,0,0,0,0,0,0,0,0]
[null,null,null,null,"","",null,null,null,null,null,null,null,0,null,0,0,0,0,0,0,0,0,0,0,0,0,0,null,0,0,0,0,0,0,0,0,0,0,0,0,0,null,0,0,0,0,0,0,0,0,0,0,0,0,0]
[null,null,null,null,"","",null,null,null,null,null,null,null,0,null,0,0,0,0,0,0,0,0,0,0,0,0,0,null,0,0,0,0,0,0,0,0,0,0,0,0,0,null,0,0,0,0,0,0,0,0,0,0,0,0,0]
[null,null,null,null,"","",null,null,null,null,null,null,null,0,null,0,0,0,0,0,0,0,0,0,0,0,0,0,null,0,0,0,0,0,0,0,0,0,0,0,0,0,null,0,0,0,0,0,0,0,0,0,0,0,0,0]
[null,null,null,null,"","",null,null,null,null,null,null,null,0,null,0,0,0,0,0,0,0,0,0,0,0,0,0,null,0,0,0,0,0,0,0,0,0,0,0,0,0,null,0,0,0,0,0,0,0,0,0,0,0,0,0]
[null,null,null,null,"","",null,null,null,null,null,null,null,0,null,0,0,0,0,0,0,0,0,0,0,0,0,0,null,0,0,0,0,0,0,0,0,0,0,0,0,0,null,0,0,0,0,0,0,0,0,0,0,0,0,0]
[null,null,null,null,"","",null,null,null,null,null,null,null,0,null,0,0,0,0,0,0,0,0,0,0,0,0,0,null,0,0,0,0,0,0,0,0,0,0,0,0,0,null,0,0,0,0,0,0,0,0,0,0,0,0,0]
[null,null,null,null,"","",null,null,null,null,null,null,null,0,null,0,0,0,0,0,0,0,0,0,0,0,0,0,null,0,0,0,0,0,0,0,0,0,0,0,0,0,null,0,0,0,0,0,0,0,0,0,0,0,0,0]
[null,null,null,null,"","",null,null,null,null,null,null,null,0,null,0,0,0,0,0,0,0,0,0,0,0,0,0,null,0,0,0,0,0,0,0,0,0,0,0,0,0,null,0,0,0,0,0,0,0,0,0,0,0,0,0]
[null,null,null,null,{"$f":"IF(D51=\"\",\"\",IF(SUM(DATEDIF(D51,DATE(YEAR($E$90)+(MONTH($E$90)>8),8,31),\"Y\")-5)=0,\"R\",IF(SUM(DATEDIF(D51,DATE(YEAR($E$90)+(MONTH($E$90)>8),8,31),\"Y\")-5)<0,\"\",DATEDIF(D51,DATE(YEAR($E$90)+(MONTH($E$90)>8),8,31),\"Y\")-5)))","v":""},{"$f":"IF(D51=\"\",\"\",IF(SUM(DATEDIF(D51,DATE(YEAR($F$90)+(MONTH($F$90)>8),8,31),\"Y\")-5)=0,\"R\",DATEDIF(D51,DATE(YEAR($F$90)+(MONTH($F$90)>8),8,31),\"Y\")-5))","v":""},null,null,null,null,null,null,null,0,null,0,0,0,0,0,0,0,0,0,0,0,0,0,null,{"$f":"IF(AND(P51>0,$D51>DATE(2004,8,31),$D51>1),sentopup/12,0)","v":0},{"$f":"IF(AND(Q51>0,$D51>DATE(2004,8,31),$D51>1),sentopup/12,0)","v":0},{"$f":"IF(AND(R51>0,$D51>DATE(2004,8,31),$D51>1),sentopup/12,0)","v":0},{"$f":"IF(AND(S51>0,$D51>DATE(2004,8,31),$D51>1),sentopup/12,0)","v":0},{"$f":"IF(AND(T51>0,$D51>DATE(2004,8,31),$D51>1),sentopup/12,0)","v":0},{"$f":"IF(AND(U51>0,$D51>DATE(2005,8,31),$D51>1),sentopup/12,0)","v":0},{"$f":"IF(AND(V51>0,$D51>DATE(2005,8,31),$D51>1),sentopup/12,0)","v":0},{"$f":"IF(AND(W51>0,$D51>DATE(2005,8,31),$D51>1),sentopup/12,0)","v":0},{"$f":"IF(AND(X51>0,$D51>DATE(2005,8,31),$D51>1),sentopup/12,0)","v":0},{"$f":"IF(AND(Y51>0,$D51>DATE(2005,8,31),$D51>1),sentopup/12,0)","v":0},{"$f":"IF(AND(Z51>0,$D51>DATE(2005,8,31),$D51>1),sentopup/12,0)","v":0},{"$f":"IF(AND(AA51>0,$D51>DATE(2005,8,31),$D51>1),sentopup/12,0)","v":0},0,null,0,0,0,0,0,0,0,0,0,0,0,0,0]
[null,null,null,null,"","",null,null,null,null,null,null,null,0,null,0,0,0,0,0,0,0,0,0,0,0,0,0,null,0,0,0,0,0,0,0,0,0,0,0,0,0,null,0,0,0,0,0,0,0,0,0,0,0,0,0]
[null,null,null,null,"","",null,null,null,null,null,null,null,0,null,0,0,0,0,0,0,0,0,0,0,0,0,0,null,0,0,0,0,0,0,0,0,0,0,0,0,0,null,0,0,0,0,0,0,0,0,0,0,0,0,0]
[null,null,null,null,"","",null,null,null,null,null,null,null,0,null,0,0,0,0,0,0,0,0,0,0,0,0,0,null,0,0,0,0,0,0,0,0,0,0,0,0,0,null,0,0,0,0,0,0,0,0,0,0,0,0,0]
[null,null,null,null,"","",null,null,null,null,null,null,null,0,null,0,0,0,0,0,0,0,0,0,0,0,0,0,null,0,0,0,0,0,0,0,0,0,0,0,0,0,null,0,0,0,0,0,0,0,0,0,0,0,0,0]
[null,null,null,null,"","",null,null,null,null,null,null,null,0,null,0,0,0,0,0,0,0,0,0,0,0,0,0,null,0,0,0,0,0,0,0,0,0,0,0,0,0,null,0,0,0,0,0,0,0,0,0,0,0,0,0]
[null,null,null,null,"","",null,null,null,null,null,null,null,0,null,0,0,0,0,0,0,0,0,0,0,0,0,0,null,0,0,0,0,0,0,0,0,0,0,0,0,0,null,0,0,0,0,0,0,0,0,0,0,0,0,0]
[null,null,null,null,"","",null,null,null,null,null,null,null,0,null,0,0,0,0,0,0,0,0,0,0,0,0,0,null,0,0,0,0,0,0,0,0,0,0,0,0,0,null,0,0,0,0,0,0,0,0,0,0,0,0,0]
[null,null,null,null,"","",null,null,null,null,null,null,null,0,null,0,0,0,0,0,0,0,0,0,0,0,0,0,null,0,0,0,0,0,0,0,0,0,0,0,0,0,null,0,0,0,0,0,0,0,0,0,0,0,0,0]
[null,null,null,null,"","",null,null,null,null,null,null,null,0,null,0,0,0,0,0,0,0,0,0,0,0,0,0,null,0,0,0,0,0,0,0,0,0,0,0,0,0,null,0,0,0,0,0,0,0,0,0,0,0,0,0]
[null,null,null,null,"","",null,null,null,null,null,null,null,0,null,0,0,0,0,0,0,0,0,0,0,0,0,0,null,0,0,0,0,0,0,0,0,0,0,0,0,0,null,0,0,0,0,0,0,0,0,0,0,0,0,0]
[null,null,null,null,"","",null,null,null,null,null,null,null,0,null,0,0,0,0,0,0,0,0,0,0,0,0,0,null,0,0,0,0,0,0,0,0,0,0,0,0,0,null,0,0,0,0,0,0,0,0,0,0,0,0,0]
[null,null,null,null,"","",null,null,null,null,null,null,null,0,null,0,0,0,0,0,0,0,0,0,0,0,0,0,null,0,0,0,0,0,0,0,0,0,0,0,0,0,null,0,0,0,0,0,0,0,0,0,0,0,0,0]
[null,null,null,null,"","",null,null,null,null,null,null,null,0,null,0,0,0,0,0,0,0,0,0,0,0,0,0,null,0,0,0,0,0,0,0,0,0,0,0,0,0,null,0,0,0,0,0,0,0,0,0,0,0,0,0]
[null,null,null,null,"","",null,null,null,null,null,null,null,0,null,0,0,0,0,0,0,0,0,0,0,0,0,0,null,0,0,0,0,0,0,0,0,0,0,0,0,0,null,0,0,0,0,0,0,0,0,0,0,0,0,0]
[null,null,null,null,"","",null,null,null,null,null,null,null,0,null,0,0,0,0,0,0,0,0,0,0,0,0,0,null,0,0,0,0,0,0,0,0,0,0,0,0,0,null,0,0,0,0,0,0,0,0,0,0,0,0,0]
[null,null,null,null,"","",null,null,null,null,null,null,null,0,null,0,0,0,0,0,0,0,0,0,0,0,0,0,null,0,0,0,0,0,0,0,0,0,0,0,0,0,null,0,0,0,0,0,0,0,0,0,0,0,0,0]
[null,null,null,null,"","",null,null,null,null,null,null,null,0,null,0,0,0,0,0,0,0,0,0,0,0,0,0,null,0,0,0,0,0,0,0,0,0,0,0,0,0,null,0,0,0,0,0,0,0,0,0,0,0,0,0]
[null,null,null,null,"","",null,null,null,null,null,null,null,0,null,0,0,0,0,0,0,0,0,0,0,0,0,0,null,0,0,0,0,0,0,0,0,0,0,0,0,0,null,0,0,0,0,0,0,0,0,0,0,0,0,0]
[null,null,null,null,"","",null,null,null,null,null,null,null,0,null,0,0,0,0,0,0,0,0,0,0,0,0,0,null,0,0,0,0,0,0,0,0,0,0,0,0,0,null,0,0,0,0,0,0,0,0,0,0,0,0,0]
[null,null,null,null,"","",null,null,null,null,null,null,null,0,null,0,0,0,0,0,0,0,0,0,0,0,0,0,null,0,0,0,0,0,0,0,0,0,0,0,0,0,null,0,0,0,0,0,0,0,0,0,0,0,0,0]
[null,null,null,null,"","",null,null,null,null,null,null,null,0,null,0,0,0,0,0,0,0,0,0,0,0,0,0,null,0,0,0,0,0,0,0,0,0,0,0,0,0,null,0,0,0,0,0,0,0,0,0,0,0,0,0]
[null,null,null,null,"","",null,null,null,null,null,null,null,0,null,0,0,0,0,0,0,0,0,0,0,0,0,0,null,0,0,0,0,0,0,0,0,0,0,0,0,0,null,0,0,0,0,0,0,0,0,0,0,0,0,0]
[null,null,null,null,"","",null,null,null,null,null,null,null,0,null,0,0,0,0,0,0,0,0,0,0,0,0,0,null,0,0,0,0,0,0,0,0,0,0,0,0,0,null,0,0,0,0,0,0,0,0,0,0,0,0,0]
[null,null,null,null,"","",null,null,null,null,null,null,null,0,null,0,0,0,0,0,0,0,0,0,0,0,0,0,null,0,0,0,0,0,0,0,0,0,0,0,0,0,null,0,0,0,0,0,0,0,0,0,0,0,0,0]
[null,null,null,null,"","",null,null,null,null,null,null,null,0,null,0,0,0,0,0,0,0,0,0,0,0,0,0,null,0,0,0,0,0,0,0,0,0,0,0,0,0,null,0,0,0,0,0,0,0,0,0,0,0,0,0]
[null,null,null,null,"","",null,null,null,null,null,null,null,0,null,0,0,0,0,0,0,0,0,0,0,0,0,0,null,0,0,0,0,0,0,0,0,0,0,0,0,0,null,0,0,0,0,0,0,0,0,0,0,0,0,0]
[null,null,null,null,"","",null,null,null,null,null,null,null,0,null,0,0,0,0,0,0,0,0,0,0,0,0,0,null,0,0,0,0,0,0,0,0,0,0,0,0,0,null,0,0,0,0,0,0,0,0,0,0,0,0,0]
[null,null,null,null,"","",null,null,null,null,null,null,null,0,null,0,0,0,0,0,0,0,0,0,0,0,0,0,null,0,0,0,0,0,0,0,0,0,0,0,0,0,null,0,0,0,0,0,0,0,0,0,0,0,0,0]
[null,null,null,null,"","",null,null,null,null,null,null,null,0,null,0,0,0,0,0,0,0,0,0,0,0,0,0,null,0,0,0,0,0,0,0,0,0,0,0,0,0,null,0,0,0,0,0,0,0,0,0,0,0,0,0]
[null,null,null,null,"","",null,null,null,null,null,null,null,0,null,0,0,0,0,0,0,0,0,0,0,0,0,0,null,0,0,0,0,0,0,0,0,0,0,0,0,0,null,0,0,0,0,0,0,0,0,0,0,0,0,0]
[null,null,null,null,"","",null,null,null,null,null,null,null,0,null,0,0,0,0,0,0,0,0,0,0,0,0,0,null,0,0,0,0,0,0,0,0,0,0,0,0,0,null,0,0,0,0,0,0,0,0,0,0,0,0,0]
[null,null,null,null,{"$f":"IF(D83=\"\",\"\",IF(SUM(DATEDIF(D83,DATE(YEAR($E$90)+(MONTH($E$90)>8),8,31),\"Y\")-5)=0,\"R\",IF(SUM(DATEDIF(D83,DATE(YEAR($E$90)+(MONTH($E$90)>8),8,31),\"Y\")-5)<0,\"\",DATEDIF(D83,DATE(YEAR($E$90)+(MONTH($E$90)>8),8,31),\"Y\")-5)))","v":""},"",null,null,null,null,null,null,null,0,null,0,0,0,0,0,0,0,0,0,0,0,0,0,null,0,0,0,0,0,0,0,0,0,0,0,0,0,null,0,0,0,0,0,0,0,0,0,0,0,0,0]
[]
[null,null,null,null,null,null,null,null,null,null,null,null,null,{"$f":"SUM(N19:N83)","v":0},null,null,null,null,null,null,null,null,null,null,null,null,null,{"$f":"SUM(AB19:AB83)","v":0},null,null,null,null,null,null,null,null,null,null,null,null,null,{"$f":"SUM(AP19:AP83)","v":0},null,null,null,null,null,null,null,null,null,null,null,null,null,{"$f":"SUM(BD19:BD83)","v":0}]
[null,null,null,null,null,null,null,null,null,null,null,null,null,null,null,null,null,null,null,null,null,null,null,null,null,null,null,null,null,null,null,null,null,null,null,null,null,null,null,null,"28% rule",{"$f":"AP6","v":0}]
[null,null,null,null,null,null,null,null,null,null,null,null,null,null,null,null,null,null,null,null,null,null,null,null,null,null,null,null,null,null,null,null,null,null,null,null,null,null,null,null,"Grand total",{"$f":"AP86+AP85","v":0}]
[]
[]
[null,null,null,null,"2020-09-01","2021-09-01",null,null,null,null,null,null,null,null,null,null,null,null,null,null,null,null,null,null,null,null,null,null,"Pupil Months",{"$f":"COUNTIF(P19:P83,\">0\")","v":0},0,0,0,0,0,0,0,0,0,0,0]
[null,null,null,null,null,null,null,null,null,null,null,null,null,null,null,null,null,null,null,null,null,null,null,null,null,null,null,null,"Sixth Form Months",{"$f":"COUNTIF(AR19:AR83,\">0\")","v":0},0,0,0,0,0,0,0,0,0,0,0]
[null,null,null,null,null,null,null,null,null,null,null,null,null,null,null,null,null,null,null,null,null,null,null,null,null,null,null,null,"School Funded Months",{"$f":"AD90-AD91","v":0},{"$f":"AE90-AE91","v":0},0,0,0,0,0,0,0,0,0,0]
[null,null,null,null,null,null,null,null,null,null,null,null,null,null,null,null,null,null,null,null,null,null,null,null,null,null,null,null,"School Funded",{"$f":"AD92*(500-(sentopup/12))","v":0},0,0,0,0,0,0,0,0,0,0,0]
[null,null,null,null,null,null,null,null,null,null,null,null,null,null,null,null,null,null,null,null,null,null,null,null,null,null,null,null,"Cumulative funded",{"$f":"AD93","v":0},{"$f":"AD94+AE93","v":0},{"$f":"AE94+AF93","v":0},{"$f":"AF94+AG93","v":0},{"$f":"AG94+AH93","v":0},0,0,0,0,0,0,0]
[null,null,null,null,null,null,null,null,null,null,null,null,null,null,null,null,null,null,null,null,null,null,null,null,null,null,null,null,"Excess over threshold",{"$f":"IF(AD94-senmax<0,0,AD94-senmax)","v":0},0,0,0,0,0,0,0,0,0,0,0]
[null,null,null,null,null,null,null,null,null,null,null,null,null,null,null,null,null,null,null,null,null,null,null,null,null,null,null,null,"Less payments to date",{"$f":"AD95","v":0},{"$f":"AE95-AD96","v":0},{"$f":"AF95-SUM($AD96:AE96)","v":0},{"$f":"AG95-SUM($AD96:AF96)","v":0},{"$f":"AH95-SUM($AD96:AG96)","v":0},{"$f":"AI95-SUM($AD96:AH96)","v":0},{"$f":"AJ95-SUM($AD96:AI96)","v":0},{"$f":"AK95-SUM($AD96:AJ96)","v":0},{"$f":"AL95-SUM($AD96:AK96)","v":0},{"$f":"AM95-SUM($AD96:AL96)","v":0},{"$f":"AN95-SUM($AD96:AM96)","v":0},{"$f":"AO95-SUM($AD96:AN96)","v":0}]

{"sheet":"Firing Range","index":8,"n_rows":303,"n_cols":5,"rows_kept":303,"cut":false,"hidden":true,"merged":[]}
["DFE","School Name","Notional SEN","Data Calc","Check"]
[1001,"Northfleet Nursery",0,0,{"$f":"ROUND(D2-C2,0)","v":0}]
[2000,"St Johns C of E Primary School",322352.49,322352.49275174824,{"$f":"ROUND(D3-C3,0)","v":0}]
[2002,"Repton Manor Primary School",179442.2,179442.20087459055,0]
[2065,"Discovery School, The",154575.37,154575.37040402662,0]
[2066,"Maypole Primary School",186214.8,186214.80360659171,0]
[2074,"Sunny Bank Primary School",255701.24,255701.24159456056,0]
[2079,"Woodlands Primary School",227120.49,227120.48909531173,0]
[2088,"Crockenhill Primary School",71260.92,71260.921122468397,0]
[2089,"Anthony Roper Primary School, The",85820.7,85820.700337249291,0]
[2094,"Cobham Primary School",47947.03,47947.029712350079,0]
[2095,"Cecil Road Primary and Nursery School",228476.01,228476.01081693682,0]
[2109,"Higham Primary School",67063.95,67063.945745037796,0]
[2116,"Lawn Primary School",242507.11,242507.1098876929,0]
[2119,"Shears Green Infant School",149638.96,149638.96417529948,0]
[2120,"Bean Primary School",116300.79,116300.78787319137,0]
[2128,"Capel Primary School",59839.91,59839.905480976362,0]
[2130,"Dunton Green Primary School",74306.44,74306.438594781954,0]
[2132,"Hadlow Primary School",99509.49,99509.493681705368,0]
[2133,"Halstead Community Primary School",45088.88,45088.884196296356,0]
[2134,"Four Elms Primary School",50280.43,50280.428533290651,0]
[2136,"Kemsing Primary School",86414.44,86414.443638579673,0]
[2137,"Leigh Primary School",51020.75,51020.748772261017,0]
[2138,"Otford Primary School",85459.35,85459.348915554103,0]
[2139,"Pembury School",116788.11,116788.10576348031,0]
[2142,"Sandhurst Primary School",61687.4,61687.397243371779,0]
[2147,"Weald Community Primary School",62298.22,62298.219404205054,0]
[2148,"Shoreham Village School",47574.59,47574.587823221693,0]
[2155,"Slade Primary School",163580.29,163580.29436859459,0]
[2156,"Sussex Road Community Primary School",126076.87,126076.87382429829,0]
[2161,"Boughton Monchelsea Primary School",70324.460000000006,70324.458715908797,0]
[2163,"East Farleigh Primary School",65261.26,65261.261133288848,0]
[2164,"East Peckham Primary School",62540.37,62540.373220060676,0]
[2165,"Headcorn Primary School",66982.66,66982.662375775282,0]
[2166,"Hollingbourne Primary School",36652.589999999997,36652.594799064711,0]
[2167,"Ightham Primary School",39042.720000000001,39042.715877638737,0]
[2168,"Lenham Primary School",73078.98,73078.981450477382,0]
[2169,"Platts Heath Primary School",33112,33112.003356130932,0]
[2171,"Brunswick House Primary School",168316.16,168316.15552091898,0]
[2175,"North Borough Junior School",201793.33,201793.33275262441,0]
[2176,"Park Way Primary School",210055.93,210055.93021614949,0]
[2183,"Marden Primary School",152465.15,152465.15486707946,0]
[2185,"Mereworth Community Primary School",73376.479999999996,73376.482752549957,0]
[2187,"Offham Primary School",53013.36,53013.361554529816,0]
[2188,"Plaxtol Primary School",26270.240000000002,26270.235012271278,0]
[2189,"Ryarsh Primary School",47520.55,47520.553492080464,0]
[2190,"Shipbourne School",20128.8,20128.799484925279,0]
[2192,"Staplehurst School",135298.91,135298.91336046177,0]
[2193,"Sutton Valence Primary School",65782.149999999994,65782.146339446699,0]
[2226,"Eastling Primary School",46024.800000000003,46024.801392940251,0]
[2227,"Ethelbert Road Primary School",78396.789999999994,78396.786507121098,0]
[2228,"Davington Primary School",247946.23,247946.2332018512,0]
[2231,"Lower Halstow School",55478,55477.995891653671,0]
[2237,"Queenborough School and Nursery",360888.94,360888.93811612512,0]
[2239,"Rodmersham School",32958.870000000003,32958.866119531398,0]
[2245,"Rose Street School",368959.76,368959.76440457557,0]
[2254,"Canterbury Road Primary School",171026.29,171026.29149930342,0]
[2258,"Blean Primary School",157761.26,157761.25804252527,0]
[2259,"Chartham Primary School",134279.57,134279.56925834564,0]
[2263,"Herne Bay Infant School",183569.3,183569.30069781863,0]
[2265,"Hoath Primary School",40428.67,40428.667258638678,0]
[2268,"Westmeads Community Infant School",58111.27,58111.274916940631,0]
[2269,"Whitstable Junior School",140508.95000000001,140508.95314958066,0]
[2270,"Aldington Primary School",65823.5,65823.495032008097,0]
[2272,"East Stour Primary School",254486.97,254486.966002253,0]
[2275,"Victoria Road Primary School",112419.32,112419.31990820826,0]
[2276,"Willesborough Infant School",158452.98000000001,158452.98070799006,{"$f":"ROUND(D67-C67,0)","v":0}]
[2278,"Bethersden Primary School",45251.199999999997,45251.201822115661,0]
[2279,"Brook Community Primary School",35914.99,35914.989106398447,0]
[2280,"Challock Primary School",66606.039999999994,66606.040733051341,0]
[2282,"Great Chart Primary School",155741.23000000001,155741.23083667364,0]
[2285,"Mersham Primary School",64812.04,64812.037163075925,0]
[2289,"Smeeth Community Primary School",43870.92,43870.918115969143,0]
[2296,"Mundella Primary School",202718.52,202718.5154751371,0]
[2298,"Hawkinge Primary School",202395.08,202395.07589838948,0]
[2300,"Sellindge Primary School",40568.949999999997,40568.947346568617,0]
[2312,"River Primary School",193228.38,193228.37963948338,0]
[2318,"Langdon Primary School",37785.199999999997,37785.19774253443,0]
[2320,"Eythorne Elvington Community Primary School",75620.77,75620.76843509193,0]
[2321,"Lydden Primary School",24338.73,24338.726007008143,0]
[2322,"Preston Primary School",49954.89,49954.892029791161,0]
[2326,"Wingham Primary School",70896.25,70896.247536140727,0]
[2327,"Worth Primary School",36826.519999999997,36826.524569651869,0]
[2328,"St Mildred's Primary Infant School",129162.84,129162.83744627766,0]
[2329,"Callis Grange Nursery & Infant School",123701.97,123701.96905337671,0]
[2337,"St Crispin's Community Primary Infant School",113541.46,113541.46360636437,0]
[2340,"Ellington Infant School",116161.74,116161.73824515601,0]
[2345,"Priory Infant School",169521.22,169521.2228921052,0]
[2431,"Shears Green Junior School",237971.31,237971.31065970406,0]
[2434,"West Minster Primary School",407052.42,407052.41576223,0]
[2454,"Aycliffe Community Primary School",95093.99,95093.990800189102,0]
[2459,"Riverhead Infant School",60775.32,60775.320476664398,0]
[2465,"Claremont Primary School",105723.23,105723.2275266222,0]
[2471,"Whitfield Aspen School",367275.94,367275.93558929831,0]
[2474,"St Paul's Infant School",172192.88,172192.87940673923,0]
[2482,"Langton Green Primary School",91688.26,91688.256500795935,0]
[2490,"Bishops Down Primary School",85343.28,85343.28184363847,0]
[2509,"Singlewell Primary School",175474.91,175474.91132957936,0]
[2510,"Cheriton Primary School",235002.73,235002.73222704924,0]
[2514,"Brookfield Infant School",89051.81,89051.813705884619,0]
[2519,"Vigo Village School",72658.759999999995,72658.762545067497,0]
[2520,"Madginford Primary School",202753.14,202753.13864788826,0]
[2524,"Palmarsh Primary School",91278.23,91278.230757790167,0]
[2525,"Painters Ash Primary School",221832.55,221832.55041247729,0]
[2530,"Tunbury Primary School",154287.53,154287.53478112922,0]
[2532,"St Margaret's-at-Cliffe Primary School",62593.37,62593.367048373926,0]
[2534,"Bysing Wood Primary School",155688.85,155688.84702126635,0]
[2539,"Stocks Green Primary School",42763.99,42763.991082794557,0]
[2545,"Sandgate Primary School",136348.75,136348.75190820405,0]
[2552,"Sandling Primary School",119323.06,119323.05625597724,0]
[2559,"Capel-le-Ferne Primary School",94394.85,94394.851870744358,0]
[2562,"Lunsford Primary School",73860.479999999996,73860.479345210304,0]
[2569,"Briary Primary School",195400.28,195400.27722014344,0]
[2574,"Downs View Infant School",121990.54,121990.53500010466,0]
[2578,"Kingswood Primary School",34593.800000000003,34593.804097202606,0]
[2586,"Senacre Wood Primary School",150437.96,150437.96436730798,0]
[2603,"Bromstone Primary School, Broadstairs",349120.1,349120.10449443699,0]
[2607,"Parkside Community Primary School",113767.19,113767.19475900117,0]
[2611,"St Stephen's Infant School",212184.76,212184.76248020428,0]
[2615,"High Firs Primary School",114763.25,114763.24700195191,0]
[2626,"Sandwich Infant School",70509.53,70509.529009629056,0]
[2627,"Sandwich Junior School",92819.23,92819.233119143668,0]
[2629,"Holywell Primary School Upchurch",65814.78,65814.775070079952,0]
[2632,"Sevenoaks Primary School",186834.09,186834.08912885768,0]
[2643,"Swalecliffe Community Primary School",209430.34,209430.33673426392,0]
[2648,"Aylesham Primary School",221879.62,221879.6154942562,0]
[2651,"Broadwater Down Primary School",103828.66,103828.66276730958,0]
[2653,"West Borough Primary School",216585.02,216585.02450429654,0]
[2662,"Long Mead Community Primary School",99859.06,99859.058813768206,0]
[2672,"Palm Bay Primary School",201684.15,201684.14635092355,0]
[2674,"King's Farm Primary School",336881.75,336881.75019788434,{"$f":"ROUND(D131-C131,0)","v":0}]
[2680,"Kings Hill School",136525.1,136525.10279688225,0]
[2682,"New Ash Green Primary School",185365.07,185365.06656771939,0]
[2689,"Craylands School, The",198717.26,198717.25832953383,0]
[2692,"Churchill School, The",171000.7,171000.70462432702,0]
[3010,"St Paul's CEP School",40212.480000000003,40212.480046855788,0]
[3015,"Fawkham CEP School",29161.11,29161.109922517542,0]
[3020,"Sedley's CEP School",45275.8,45275.802620128627,0]
[3022,"Benenden CEP School",62130.98,62130.975246301532,0]
[3023,"Bidborough CEP School",73654.66,73654.655791259429,0]
[3027,"Cranbrook CEP School",73236.149999999994,73236.151391354913,0]
[3029,"Goudhurst & Kilndown CEP School",44180.4,44180.395330627143,0]
[3032,"Hawkhurst CEP School",98520.99,98520.99049762603,0]
[3033,"Hildenborough CEP School",59220.14,59220.138322695835,0]
[3034,"Lamberhurst St Mary's CEP School",55660.28,55660.276158276778,0]
[3035,"Seal CEP School",110550.31,110550.30833706552,0]
[3037,"St John's CEP School, Sevenoaks",65991.149999999994,65991.144957276541,0]
[3042,"Speldhurst CEP School",31583.79,31583.788200842315,0]
[3043,"Sundridge & Brasted CEP School",32994.97,32994.972316493695,0]
[3050,"St John's CEP School",258242.24,258242.24437349901,0]
[3052,"St Mark's CEP School",181595.16,181595.15625745809,0]
[3053,"St Peter's CEP School",50325.18,50325.178274665486,0]
[3054,"Crockham Hill CEP School",51056.24,51056.23677912524,0]
[3055,"Churchill CEP School",69943.5,69943.503700412621,0]
[3057,"St Peter's CEP School",72162.720000000001,72162.722286224656,0]
[3061,"Bredhurst CEP School",46929.23,46929.227791604048,0]
[3062,"Burham CEP School",67657.61,67657.614821400333,0]
[3067,"Harrietsham CEP School",82252.67,82252.672622292317,0]
[3069,"Leeds & Broomfield CEP School",27072.37,27072.367882845454,0]
[3072,"St Michael's CEJ School, Maidstone",76656.649999999994,76656.652254799235,0]
[3073,"St Michael's CEI School, Maidstone",61931.12,61931.123543716967,0]
[3081,"Thurnham CEI School",69187.600000000006,69187.598257008169,0]
[3082,"Trottiscliffe CEP School",28209.24,28209.238807726568,0]
[3083,"Ulcombe CEP School",50157.14,50157.144624135937,0]
[3084,"Wateringbury CEP School",74058.89,74058.894480776798,0]
[3088,"Wouldham, All Saint's CEP School",168886.77,168886.76504506089,0]
[3089,"St George's CEP School",90923.71,90923.714427466184,0]
[3090,"St Margaret's CEP School, Collier Street",68158.759999999995,68158.75958925522,0]
[3091,"Laddingford St Mary's CEP School",36591.760000000002,36591.758668546645,0]
[3092,"Yalding St Peter & St Paul CEP School",50875.44,50875.438136893172,0]
[3106,"Eastchurch CEP School",348980.17,348980.17181751115,0]
[3108,"Ospringe CEP School",136202.21,136202.21411908272,0]
[3109,"Hernhill CEP School",73740.17,73740.173999876119,0]
[3111,"Newington CEP School",90699.51,90699.510802849181,0]
[3117,"Teynham Parochial CEP School",135561.26,135561.26204957312,0]
[3120,"Barham CEP School",71122.399999999994,71122.396156737028,0]
[3122,"Bridge & Patrixbourne CEP School",100335.12,100335.12279940186,0]
[3123,"Chislet CEP School",45257.26,45257.25873700816,0]
[3126,"Littlebourne CEP School",60219.01,60219.012138258113,0]
[3129,"St Alphege CEI School",76235.429999999993,76235.434451336638,0]
[3130,"Wickhambreaux CEP School",28575.88,28575.884239390867,0]
[3134,"John Mayne CEP School",37845.26,37845.259940039869,0]
[3136,"Brabourne CEP School",34623.089999999997,34623.089752064545,0]
[3137,"Brookland CEP School",44130.76,44130.764264067991,0]
[3138,"Chilham St Mary's CEP School",37916.53,37916.533412761593,0]
[3139,"High Halden CEP School",34307.4,34307.397238508638,0]
[3145,"Woodchurch CEP School",71322.100000000006,71322.100169920654,0]
[3146,"Bodsham CEP School",17432.32,17432.318554539728,0]
[3149,"St Martin's CEP School, Folkestone",79355.22,79355.218532663319,0]
[3150,"St Peter's CEP School, Folkestone",107713.36,107713.35680743096,0]
[3153,"Seabrook CEP School",39737.79,39737.785915530563,0]
[3154,"Lyminge CEP School",43631.63,43631.633728710898,0]
[3155,"Lympne CEP School",77277.850000000006,77277.852204681607,0]
[3158,"Stelling Minnis CEP School",34500.410000000003,34500.406250449021,0]
[3159,"Stowting CEP School",29970.240000000002,29970.236735579532,{"$f":"ROUND(D195-C195,0)","v":0}]
[3160,"Selsted CEP School",37491.89,37491.894104393788,0]
[3167,"Eastry CEP School",86143.51,86143.513867005138,0]
[3168,"Goodnestone CEP School",26249.43,26249.426847722432,0]
[3169,"Guston CEP School",89530.33,89530.328207008148,0]
[3171,"Nonington CEP School",38800.15,38800.151326205734,0]
[3173,"Kingsdown & Ringwould CEP School",44428.76,44428.76407176059,0]
[3175,"Sibertswold CEP School",62910.13,62910.134048894251,0]
[3178,"Birchington CEP School",229935.03,229935.02814365341,0]
[3179,"Holy Trinity & St John's CEP School, Margate",473533.85,473533.84680202458,0]
[3181,"St Saviour's CEJ School",166706.39000000001,166706.38631418196,0]
[3182,"Minster CEP School",167470.15,167470.14990521094,0]
[3183,"Monkton CEP School",46010.080000000002,46010.075107287259,0]
[3186,"St Nicholas at Wade CEP School",68705.73,68705.731532909587,0]
[3198,"Frittenden CEP School",35799.81,35799.807352452088,0]
[3199,"Egerton CEP School",68682.52,68682.517657360935,0]
[3201,"St Lawrence CEP School",35650.9,35650.904441063773,0]
[3282,"Boughton-under-Blean & Dunkirk Primary School",97035.93,97035.928790011967,0]
[3284,"Lady Joanna Thornhill (Endowed) Primary School",100842.43,100842.4313946308,0]
[3289,"St Peter's Methodist Primary School, Canterbury",131074.43,131074.43379349174,0]
[3294,"St Matthew's High Brooms CEP School",211808.27,211808.27173033939,0]
[3295,"Herne CEI School",82197.259999999995,82197.257307287466,0]
[3296,"Langafel CEP School",168038.21,168038.21485545198,0]
[3297,"Southborough CEP School",172188.5,172188.50421946374,0]
[3298,"West Kingsdown C.E. (V.C.) Primary School",50265.01,50265.00816363452,0]
[3299,"John Wesley Primary School",270886.11,270886.10573352524,0]
[3303,"St Katharine's Knockholt CEP School",74086.22,74086.222373024837,0]
[3307,"Chevening (St Botolph's) CEP School",51227.87,51227.866576342785,0]
[3308,"Colliers Green CEP School",29179.89,29179.890229230394,0]
[3309,"Sissinghurst CEP School",56329.66,56329.65600071261,0]
[3312,"Hever CEP School",62657.99,62657.989003387585,0]
[3314,"Penshurst CEP School",27390.58,27390.577793309119,0]
[3317,"Lady Boswell's CEP School, Sevenoaks",78516.44,78516.442447404203,0]
[3318,"Ide Hill CEP School",40097.4,40097.397392626983,0]
[3320,"St Barnabas CEP School",115595.9,115595.90110852734,0]
[3322,"St James' Church of England Voluntary Aided Primary School",208904.72,208904.7213596245,0]
[3323,"Hunton CEP School",29800.49,29800.492023371789,0]
[3325,"Platt CEP School",52964.72,52964.718885920491,0]
[3328,"Bapchild & Tonge CEP School",94914.84,94914.84359152602,0]
[3332,"Hartlip Endowed CEP School",38885.82,38885.823412414145,0]
[3337,"Tunstall CEP School",93706.03,93706.02856339053,0]
[3338,"Herne CEJ School",119279.26,119279.26053877232,0]
[3339,"Whitstable & Seasalter Endowed CEJ School",71645.850000000006,71645.85273835792,0]
[3340,"St Mary's CEP School, Ashford",243961.55,243961.54748881049,0]
[3346,"Wittersham CEP School",60489.89,60489.891063883864,0]
[3347,"Elham CEP School",46963.91,46963.905845886868,0]
[3350,"Saltwood CEP School",63704.37,63704.367102129021,0]
[3351,"Ash Cartwright and Kelsey CEP School",60001.71,60001.710764136486,0]
[3356,"St Mary's CEP School, Dover",170100.55,170100.54846046914,0]
[3360,"St Peter-in-Thanet CEJ School",167570.17000000001,167570.17031369029,0]
[3364,"Ramsgate, Holy Trinity CEP School",84927.32,84927.316093441186,0]
[3373,"St Mary's CEP School",173217.07,173217.06894030853,0]
[3718,"St Augustine's Catholic Primary School, Hythe",96783.46,96783.45507512831,0]
[3722,"St Ethelbert's Catholic Primary School, Ramsgate",146314.63,146314.63479831218,0]
[3728,"St Anselm's Catholic Primary School, Dartford",115642.12,115642.11925129659,0]
[3733,"Our Lady's Catholic Primary School, Dartford",100019.63,100019.63122293593,0]
[3749,"St Thomas' Catholic Primary School, Canterbury",146384.10999999999,146384.10678507833,0]
[3893,"Phoenix Community Primary School",156235.79999999999,156235.80328748561,0]
[3896,"Downsview Primary",139055.79999999999,139055.79951140092,0]
[3898,"Greenfields Community Primary School",224432.54,224432.53756730224,0]
[3902,"Hythe Bay C of E Primary School",228702.92,228702.92033114418,0]
[3904,"Castle Hill Community Primary School",372768.12,372768.1180623385,0]
[3906,"Palace Wood Primary School",168769.74,168769.73758854065,0]
[3907,"Hextable Primary School",231041.18,231041.17660628576,0]
[3909,"Ashford Oaks Community Primary School",388301.72,388301.71889029979,{"$f":"ROUND(D259-C259,0)","v":0}]
[3910,"Joy Lane Primary School",289762.64,289762.64125981386,0]
[3913,"Rusthall, St Paul's CE VA School",76326.100000000006,76326.103499769131,0]
[3916,"Green Park Community Primary School",322587.75,322587.74944824952,0]
[3917,"Garlinge Primary School",558604.18000000005,558604.18477569474,0]
[3918,"Newington Community Primary School and Nursery",415284.23,415284.23294038023,0]
[3920,"Goat Lees Primary School",136794.17000000001,136794.17241939987,0]
[4026,"Dartford Science and Technology College",523664.62,523664.61877891008,0]
[4040,"Northfleet School for Girls",802119.6,802119.59799616924,0]
[4043,"Tunbridge Wells Girls' Grammar School",48950.34,48950.33712320734,0]
[4045,"Tunbridge Wells Grammar School for Boys",119563.94,119563.93548401659,0]
[4065,"Holmesdale School, The",456219.25,456219.24883483566,0]
[4109,"Dover Grammar School for Girls",229577.1,229577.09805045373,0]
[4246,"North School, The",879338.81,879338.80694674142,0]
[4522,"Maidstone Grammar School",114684.21,114684.21036241317,0]
[4523,"Maidstone Grammar School for Girls",139219.47,139219.4701268569,0]
[4534,"Simon Langton Girls' Grammar School",140777.64000000001,140777.64042877185,0]
[4622,"Judd School, The",63181.9,63181.901913648879,0]
[5200,"Snodland CEP School",214883.28,214883.27672060757,0]
[5201,"Borough Green Primary School",113091.09,113091.08702881374,0]
[5202,"Holy Trinity CEP School",335763.72,335763.72338917915,0]
[5203,"Roseacre Junior School",115173.7,115173.6971327029,0]
[5206,"Herne Bay Junior School",294069.90999999997,294069.90519589157,0]
[5207,"St Francis' Catholic Primary School, Maidstone",188493.98,188493.98036101076,0]
[5208,"Ditton CEJ School",112818.23,112818.22721271648,0]
[5212,"Ditton Infant School",71794.19,71794.194675085033,0]
[5213,"Holy Trinity CEP School, Dartford",205810.37,205810.37134387589,0]
[5214,"St Bartholomew's Catholic Primary School",233873.69,233873.68927762785,0]
[5218,"Greatstone Primary School",141601.81,141601.80516693273,0]
[5221,"Wincheap Foundation Primary School",262332.31,262332.31023294397,0]
[5223,"Brookfield Junior School, Larkfield",114740.71,114740.71400567025,0]
[5225,"Harcourt Primary School",109604.54,109604.54006149282,0]
[5226,"Willesborough Junior School",258410.76,258410.76461075194,0]
[5229,"Fleetdown Primary School",235478.24,235478.23969006207,0]
[5407,"Thamesview School",892247.16,892247.16489790985,0]
[5410,"Aylesford School - Sports College",508985.29,508985.29333416367,0]
[5412,"Simon Langton Grammar School for Boys",92761.2,92761.197412994603,0]
[5425,"Malling School, The",691940.56,691940.55705765216,0]
[5426,"Archbishop's School, The",522643.57,522643.56839024468,0]
[5431,"Hugh Christie School",651964.04,651964.04038194194,0]
[5447,"St George's CE Foundation School",1183439.53,1183439.5312211725,0]
[5456,"Northfleet Technology College",813617.78,813617.78006134194,0]
[5459,"Dover Grammar School for Boys",254625.35,254625.35303668043,0]
[5461,"St John's Catholic Comprehensive School",945427.68,945427.67911249539,0]
[5468,"Royal Harbour Academy, The",1118594,1118594.0039759823,0]

{"sheet":"Specialist Resourced Provision","index":9,"n_rows":195,"n_cols":32,"rows_kept":195,"cut":false,"hidden":false,"merged":[]}
[]
[null,null,null,null,null,null,null,{"$f":"DFENUMBER","v":0}]
[]
[]
[]
[null,null,{"$f":"schoolname","v":""}]
[]
[null,null,"High Needs funding in a Specialist Resourced Provision (SRP) - Place Plus "]
[]
[null,"2021/22 Place Funding",null,null,null,null,null,null,null,null,"2021/22 Element 3 Input (top-up funding)"]
[]
[null,"Excess Place Funding (Elements 1 & 2)",null,null,null,null,null,null,null,null,"Pupils should only be recorded on this sheet where the School is named on the pupils Education Health Care Plan (EHCP)"]
[null,"Place funding is guaranteed for your commissioned number of places, no place funding will be deducted. Excess Place",null,null,null,null,null,null,null,null,"SRP funding agreed with other local authorities for pupils they have placed should be entered on Budget Preparation"]
[null,"funding is only relevant where you exceed your commissioned places and will only ever be a positive amount.",null,null,null,null,null,null,null,null,"A designation must always be selected."]
[]
[null,"Excess Element 1",null,null,null,"Pre-16 Excess","Pre-16",null,null,null,"Designation","Pupil Surname","Pupil Forename","D.O.B","Pre/Post 16\nSUMMER","Pre/Post 16 WINTER","Placement START Date","Placement END Date","Monthly Rate","April\n(March Pupils)","May\n(April Pupils)","June\n(May Pupils)","July\n(June Pupils)","August\n(July Pupils)","September\n(July Pupils)","October\n(September Pupils)","November\n(October Pupils)","December\n(November Pupils)","January\n(December Pupils)","February\n(January Pupils)","March\n(February Pupils)","Total For Pupil"]
[null,null,null,null,null,"Pupil Numbers","Rate","Total Funding",null,null,null,null,null,null,{"$f":"IF(N17=0,\"\",IF(N17<DATE(2004,9,1),\"Post-16\",\"Pre-16\"))","v":""},{"$f":"IF(N17=0,\"\",IF(N17<DATE(2005,9,1),\"Post-16\",\"Pre-16\"))","v":""},null,null,{"$f":"IFERROR(IF(K17=\"Designation 2\",VLOOKUP($H$2&\"B\",'SRP Rates'!A:AH,34,0),IF(K17=\"designation 1\",VLOOKUP($H$2&\"A\",'SRP Rates'!A:AH,34,0),0)),0)","v":0},{"$f":"IF(OR(Q17>DATE(2021,3,31),R17<DATE(2021,3,1)),0,S17)","v":0},{"$f":"IF(OR(Q17>DATE(2021,4,30),R17<DATE(2021,4,1)),0,S17)","v":0},{"$f":"IF(OR(Q17>DATE(2021,5,31),R17<DATE(2021,5,1)),0,S17)","v":0},{"$f":"IF(OR(Q17>DATE(2021,6,30),R17<DATE(2021,6,1)),0,S17)","v":0},{"$f":"IF(OR(Q17>DATE(2021,7,31),R17<DATE(2021,7,1)),0,S17)","v":0},{"$f":"IF(OR(Q17>DATE(2021,7,31),R17<DATE(2021,7,1)),0,S17)","v":0},{"$f":"IF(OR(Q17>DATE(2021,9,30),R17<DATE(2021,9,1)),0,S17)","v":0},{"$f":"IF(OR(Q17>DATE(2021,10,31),R17<DATE(2021,10,1)),0,S17)","v":0},{"$f":"IF(OR(Q17>DATE(2021,11,30),R17<DATE(2021,11,1)),0,S17)","v":0},{"$f":"IF(OR(Q17>DATE(2021,12,31),R17<DATE(2021,12,1)),0,S17)","v":0},{"$f":"IF(OR(Q17>DATE(2022,1,31),R17<DATE(2022,1,1)),0,S17)","v":0},{"$f":"IF(OR(Q17>DATE(2022,2,28),R17<DATE(2022,2,1)),0,S17)","v":0},{"$f":"SUM(T17:AE17)","v":0}]
[null,"April",null,null,null,{"$f":"$T$194","v":0},{"$f":"4000/12","v":333.33333333333331},{"$f":"F18*G18","v":0},null,null,null,null,null,null,{"$f":"IF(N18=0,\"\",IF(N18<DATE(2004,9,1),\"Post-16\",\"Pre-16\"))","v":""},{"$f":"IF(N18=0,\"\",IF(N18<DATE(2005,9,1),\"Post-16\",\"Pre-16\"))","v":""},null,null,{"$f":"IFERROR(IF(K18=\"Designation 2\",VLOOKUP($H$2&\"B\",'SRP Rates'!A:AH,34,0),IF(K18=\"designation 1\",VLOOKUP($H$2&\"A\",'SRP Rates'!A:AH,34,0),0)),0)","v":0},{"$f":"IF(OR(Q18>DATE(2021,3,31),R18<DATE(2021,3,1)),0,S18)","v":0},{"$f":"IF(OR(Q18>DATE(2021,4,30),R18<DATE(2021,4,1)),0,S18)","v":0},{"$f":"IF(OR(Q18>DATE(2021,5,31),R18<DATE(2021,5,1)),0,S18)","v":0},{"$f":"IF(OR(Q18>DATE(2021,6,30),R18<DATE(2021,6,1)),0,S18)","v":0},{"$f":"IF(OR(Q18>DATE(2021,7,31),R18<DATE(2021,7,1)),0,S18)","v":0},{"$f":"IF(OR(Q18>DATE(2021,7,31),R18<DATE(2021,7,1)),0,S18)","v":0},{"$f":"IF(OR(Q18>DATE(2021,9,30),R18<DATE(2021,9,1)),0,S18)","v":0},{"$f":"IF(OR(Q18>DATE(2021,10,31),R18<DATE(2021,10,1)),0,S18)","v":0},{"$f":"IF(OR(Q18>DATE(2021,11,30),R18<DATE(2021,11,1)),0,S18)","v":0},{"$f":"IF(OR(Q18>DATE(2021,12,31),R18<DATE(2021,12,1)),0,S18)","v":0},{"$f":"IF(OR(Q18>DATE(2022,1,31),R18<DATE(2022,1,1)),0,S18)","v":0},{"$f":"IF(OR(Q18>DATE(2022,2,28),R18<DATE(2022,2,1)),0,S18)","v":0},{"$f":"SUM(T18:AE18)","v":0}]
[null,"May",null,null,null,{"$f":"$U$194","v":0},{"$f":"4000/12","v":333.33333333333331},0,null,null,null,null,null,null,"","",null,null,{"$f":"IFERROR(IF(K19=\"Designation 2\",VLOOKUP($H$2&\"B\",'SRP Rates'!A:AH,34,0),IF(K19=\"designation 1\",VLOOKUP($H$2&\"A\",'SRP Rates'!A:AH,34,0),0)),0)","v":0},0,0,0,0,0,0,0,0,0,0,0,0,0]
[null,"June",null,null,null,{"$f":"$V$194","v":0},333.33333333333331,0,null,null,null,null,null,null,"","",null,null,{"$f":"IFERROR(IF(K20=\"Designation 2\",VLOOKUP($H$2&\"B\",'SRP Rates'!A:AH,34,0),IF(K20=\"designation 1\",VLOOKUP($H$2&\"A\",'SRP Rates'!A:AH,34,0),0)),0)","v":0},0,0,0,0,0,0,0,0,0,0,0,0,0]
[null,"July",null,null,null,{"$f":"$W$194","v":0},333.33333333333331,0,null,null,null,null,null,null,"","",null,null,{"$f":"IFERROR(IF(K21=\"Designation 2\",VLOOKUP($H$2&\"B\",'SRP Rates'!A:AH,34,0),IF(K21=\"designation 1\",VLOOKUP($H$2&\"A\",'SRP Rates'!A:AH,34,0),0)),0)","v":0},0,0,0,0,0,0,0,0,0,0,0,0,0]
[null,"August",null,null,null,{"$f":"$X$194","v":0},333.33333333333331,0,null,null,null,null,null,null,"","",null,null,{"$f":"IFERROR(IF(K22=\"Designation 2\",VLOOKUP($H$2&\"B\",'SRP Rates'!A:AH,34,0),IF(K22=\"designation 1\",VLOOKUP($H$2&\"A\",'SRP Rates'!A:AH,34,0),0)),0)","v":0},0,0,0,0,0,0,0,0,0,0,0,0,0]
[null,"September",null,null,null,{"$f":"$Y$194","v":0},333.33333333333331,0,null,null,null,null,null,null,"","",null,null,{"$f":"IFERROR(IF(K23=\"Designation 2\",VLOOKUP($H$2&\"B\",'SRP Rates'!A:AH,34,0),IF(K23=\"designation 1\",VLOOKUP($H$2&\"A\",'SRP Rates'!A:AH,34,0),0)),0)","v":0},0,0,0,0,0,0,0,0,0,0,0,0,0]
[null,"October",null,null,null,{"$f":"$Z$194","v":0},333.33333333333331,0,null,null,null,null,null,null,"","",null,null,{"$f":"IFERROR(IF(K24=\"Designation 2\",VLOOKUP($H$2&\"B\",'SRP Rates'!A:AH,34,0),IF(K24=\"designation 1\",VLOOKUP($H$2&\"A\",'SRP Rates'!A:AH,34,0),0)),0)","v":0},0,0,0,0,0,0,0,0,0,0,0,0,0]
[null,"November",null,null,null,{"$f":"$AA$194","v":0},333.33333333333331,0,null,null,null,null,null,null,"","",null,null,{"$f":"IFERROR(IF(K25=\"Designation 2\",VLOOKUP($H$2&\"B\",'SRP Rates'!A:AH,34,0),IF(K25=\"designation 1\",VLOOKUP($H$2&\"A\",'SRP Rates'!A:AH,34,0),0)),0)","v":0},0,0,0,0,0,0,0,0,0,0,0,0,0]
[null,"December",null,null,null,{"$f":"$AB$194","v":0},333.33333333333331,0,null,null,null,null,null,null,"","",null,null,{"$f":"IFERROR(IF(K26=\"Designation 2\",VLOOKUP($H$2&\"B\",'SRP Rates'!A:AH,34,0),IF(K26=\"designation 1\",VLOOKUP($H$2&\"A\",'SRP Rates'!A:AH,34,0),0)),0)","v":0},0,0,0,0,0,0,0,0,0,0,0,0,0]
[null,"January",null,null,null,{"$f":"$AC$194","v":0},333.33333333333331,0,null,null,null,null,null,null,"","",null,null,{"$f":"IFERROR(IF(K27=\"Designation 2\",VLOOKUP($H$2&\"B\",'SRP Rates'!A:AH,34,0),IF(K27=\"designation 1\",VLOOKUP($H$2&\"A\",'SRP Rates'!A:AH,34,0),0)),0)","v":0},0,0,0,0,0,0,0,0,0,0,0,0,0]
[null,"February",null,null,null,{"$f":"$AD$194","v":0},333.33333333333331,0,null,null,null,null,null,null,"","",null,null,{"$f":"IFERROR(IF(K28=\"Designation 2\",VLOOKUP($H$2&\"B\",'SRP Rates'!A:AH,34,0),IF(K28=\"designation 1\",VLOOKUP($H$2&\"A\",'SRP Rates'!A:AH,34,0),0)),0)","v":0},0,0,0,0,0,0,0,0,0,0,0,0,0]
[null,"March",null,null,null,{"$f":"$AE$194","v":0},333.33333333333331,0,null,null,null,null,null,null,"","",null,null,{"$f":"IFERROR(IF(K29=\"Designation 2\",VLOOKUP($H$2&\"B\",'SRP Rates'!A:AH,34,0),IF(K29=\"designation 1\",VLOOKUP($H$2&\"A\",'SRP Rates'!A:AH,34,0),0)),0)","v":0},0,0,0,0,0,0,0,0,0,0,0,0,0]
[null,null,null,null,null,null,null,{"$f":"SUM(H18:H29)","v":0},null,null,null,null,null,null,"","",null,null,{"$f":"IFERROR(IF(K30=\"Designation 2\",VLOOKUP($H$2&\"B\",'SRP Rates'!A:AH,34,0),IF(K30=\"designation 1\",VLOOKUP($H$2&\"A\",'SRP Rates'!A:AH,34,0),0)),0)","v":0},0,0,0,0,0,0,0,0,0,0,0,0,0]
[null,null,null,null,null,null,null,null,null,null,null,null,null,null,"","",null,null,{"$f":"IFERROR(IF(K31=\"Designation 2\",VLOOKUP($H$2&\"B\",'SRP Rates'!A:AH,34,0),IF(K31=\"designation 1\",VLOOKUP($H$2&\"A\",'SRP Rates'!A:AH,34,0),0)),0)","v":0},0,0,0,0,0,0,0,0,0,0,0,0,0]
[null,null,null,null,null,null,null,null,null,null,null,null,null,null,"","",null,null,{"$f":"IFERROR(IF(K32=\"Designation 2\",VLOOKUP($H$2&\"B\",'SRP Rates'!A:AH,34,0),IF(K32=\"designation 1\",VLOOKUP($H$2&\"A\",'SRP Rates'!A:AH,34,0),0)),0)","v":0},0,0,0,0,0,0,0,0,0,0,0,0,0]
[null,null,null,null,null,null,null,null,null,null,null,null,null,null,"","",null,null,{"$f":"IFERROR(IF(K33=\"Designation 2\",VLOOKUP($H$2&\"B\",'SRP Rates'!A:AH,34,0),IF(K33=\"designation 1\",VLOOKUP($H$2&\"A\",'SRP Rates'!A:AH,34,0),0)),0)","v":0},0,0,0,0,0,0,0,0,0,0,0,0,0]
[null,null,null,null,null,null,null,null,null,null,null,null,null,null,"","",null,null,{"$f":"IFERROR(IF(K34=\"Designation 2\",VLOOKUP($H$2&\"B\",'SRP Rates'!A:AH,34,0),IF(K34=\"designation 1\",VLOOKUP($H$2&\"A\",'SRP Rates'!A:AH,34,0),0)),0)","v":0},0,0,0,0,0,0,0,0,0,0,0,0,0]
[null,"Excess Element 2",null,null,null,null,null,null,null,null,null,null,null,null,"","",null,null,{"$f":"IFERROR(IF(K35=\"Designation 2\",VLOOKUP($H$2&\"B\",'SRP Rates'!A:AH,34,0),IF(K35=\"designation 1\",VLOOKUP($H$2&\"A\",'SRP Rates'!A:AH,34,0),0)),0)","v":0},0,0,0,0,0,0,0,0,0,0,0,0,0]
[null,null,null,null,null,"Excess Pupils","Rate","Total Funding",null,null,null,null,null,null,"","",null,null,{"$f":"IFERROR(IF(K36=\"Designation 2\",VLOOKUP($H$2&\"B\",'SRP Rates'!A:AH,34,0),IF(K36=\"designation 1\",VLOOKUP($H$2&\"A\",'SRP Rates'!A:AH,34,0),0)),0)","v":0},0,0,0,0,0,0,0,0,0,0,0,0,0]
[null,"April",null,null,null,{"$f":"$T$195","v":0},{"$f":"6000/12","v":500},{"$f":"F37*G37","v":0},null,null,null,null,null,null,"","",null,null,{"$f":"IFERROR(IF(K37=\"Designation 2\",VLOOKUP($H$2&\"B\",'SRP Rates'!A:AH,34,0),IF(K37=\"designation 1\",VLOOKUP($H$2&\"A\",'SRP Rates'!A:AH,34,0),0)),0)","v":0},0,0,0,0,0,0,0,0,0,0,0,0,0]
[null,"May",null,null,null,{"$f":"$U$195","v":0},{"$f":"6000/12","v":500},0,null,null,null,null,null,null,"","",null,null,{"$f":"IFERROR(IF(K38=\"Designation 2\",VLOOKUP($H$2&\"B\",'SRP Rates'!A:AH,34,0),IF(K38=\"designation 1\",VLOOKUP($H$2&\"A\",'SRP Rates'!A:AH,34,0),0)),0)","v":0},0,0,0,0,0,0,0,0,0,0,0,0,0]
[null,"June",null,null,null,{"$f":"$V$195","v":0},500,0,null,null,null,null,null,null,"","",null,null,{"$f":"IFERROR(IF(K39=\"Designation 2\",VLOOKUP($H$2&\"B\",'SRP Rates'!A:AH,34,0),IF(K39=\"designation 1\",VLOOKUP($H$2&\"A\",'SRP Rates'!A:AH,34,0),0)),0)","v":0},0,0,0,0,0,0,0,0,0,0,0,0,0]
[null,"July",null,null,null,{"$f":"$W$195","v":0},500,0,null,null,null,null,null,null,"","",null,null,{"$f":"IFERROR(IF(K40=\"Designation 2\",VLOOKUP($H$2&\"B\",'SRP Rates'!A:AH,34,0),IF(K40=\"designation 1\",VLOOKUP($H$2&\"A\",'SRP Rates'!A:AH,34,0),0)),0)","v":0},0,0,0,0,0,0,0,0,0,0,0,0,0]
[null,"August",null,null,null,{"$f":"$X$195","v":0},500,0,null,null,null,null,null,null,"","",null,null,{"$f":"IFERROR(IF(K41=\"Designation 2\",VLOOKUP($H$2&\"B\",'SRP Rates'!A:AH,34,0),IF(K41=\"designation 1\",VLOOKUP($H$2&\"A\",'SRP Rates'!A:AH,34,0),0)),0)","v":0},0,0,0,0,0,0,0,0,0,0,0,0,0]
[null,"September",null,null,null,{"$f":"$Y$195","v":0},500,0,null,null,null,null,null,null,"","",null,null,{"$f":"IFERROR(IF(K42=\"Designation 2\",VLOOKUP($H$2&\"B\",'SRP Rates'!A:AH,34,0),IF(K42=\"designation 1\",VLOOKUP($H$2&\"A\",'SRP Rates'!A:AH,34,0),0)),0)","v":0},0,0,0,0,0,0,0,0,0,0,0,0,0]
[null,"October",null,null,null,{"$f":"$Z$195","v":0},500,0,null,null,null,null,null,null,"","",null,null,{"$f":"IFERROR(IF(K43=\"Designation 2\",VLOOKUP($H$2&\"B\",'SRP Rates'!A:AH,34,0),IF(K43=\"designation 1\",VLOOKUP($H$2&\"A\",'SRP Rates'!A:AH,34,0),0)),0)","v":0},0,0,0,0,0,0,0,0,0,0,0,0,0]
[null,"November",null,null,null,{"$f":"$AA$195","v":0},500,0,null,null,null,null,null,null,"","",null,null,{"$f":"IFERROR(IF(K44=\"Designation 2\",VLOOKUP($H$2&\"B\",'SRP Rates'!A:AH,34,0),IF(K44=\"designation 1\",VLOOKUP($H$2&\"A\",'SRP Rates'!A:AH,34,0),0)),0)","v":0},0,0,0,0,0,0,0,0,0,0,0,0,0]
[null,"December",null,null,null,{"$f":"$AB$195","v":0},500,0,null,null,null,null,null,null,"","",null,null,{"$f":"IFERROR(IF(K45=\"Designation 2\",VLOOKUP($H$2&\"B\",'SRP Rates'!A:AH,34,0),IF(K45=\"designation 1\",VLOOKUP($H$2&\"A\",'SRP Rates'!A:AH,34,0),0)),0)","v":0},0,0,0,0,0,0,0,0,0,0,0,0,0]
[null,"January",null,null,null,{"$f":"$AC$195","v":0},500,0,null,null,null,null,null,null,"","",null,null,{"$f":"IFERROR(IF(K46=\"Designation 2\",VLOOKUP($H$2&\"B\",'SRP Rates'!A:AH,34,0),IF(K46=\"designation 1\",VLOOKUP($H$2&\"A\",'SRP Rates'!A:AH,34,0),0)),0)","v":0},0,0,0,0,0,0,0,0,0,0,0,0,0]
[null,"February",null,null,null,{"$f":"$AD$195","v":0},500,0,null,null,null,null,null,null,"","",null,null,{"$f":"IFERROR(IF(K47=\"Designation 2\",VLOOKUP($H$2&\"B\",'SRP Rates'!A:AH,34,0),IF(K47=\"designation 1\",VLOOKUP($H$2&\"A\",'SRP Rates'!A:AH,34,0),0)),0)","v":0},0,0,0,0,0,0,0,0,0,0,0,0,0]
[null,"March",null,null,null,{"$f":"$AE$195","v":0},500,0,null,null,null,null,null,null,"","",null,null,{"$f":"IFERROR(IF(K48=\"Designation 2\",VLOOKUP($H$2&\"B\",'SRP Rates'!A:AH,34,0),IF(K48=\"designation 1\",VLOOKUP($H$2&\"A\",'SRP Rates'!A:AH,34,0),0)),0)","v":0},0,0,0,0,0,0,0,0,0,0,0,0,0]
[null,null,null,null,null,null,null,{"$f":"SUM(H37:H48)","v":0},null,null,null,null,null,null,"","",null,null,{"$f":"IFERROR(IF(K49=\"Designation 2\",VLOOKUP($H$2&\"B\",'SRP Rates'!A:AH,34,0),IF(K49=\"designation 1\",VLOOKUP($H$2&\"A\",'SRP Rates'!A:AH,34,0),0)),0)","v":0},0,0,0,0,0,0,0,0,0,0,0,0,0]
[null,null,null,null,null,null,null,null,null,null,null,null,null,null,"","",null,null,{"$f":"IFERROR(IF(K50=\"Designation 2\",VLOOKUP($H$2&\"B\",'SRP Rates'!A:AH,34,0),IF(K50=\"designation 1\",VLOOKUP($H$2&\"A\",'SRP Rates'!A:AH,34,0),0)),0)","v":0},0,0,0,0,0,0,0,0,0,0,0,0,0]
[null,null,null,null,null,null,null,null,null,null,null,null,null,null,"","",null,null,{"$f":"IFERROR(IF(K51=\"Designation 2\",VLOOKUP($H$2&\"B\",'SRP Rates'!A:AH,34,0),IF(K51=\"designation 1\",VLOOKUP($H$2&\"A\",'SRP Rates'!A:AH,34,0),0)),0)","v":0},0,0,0,0,0,0,0,0,0,0,0,0,0]
[null,null,null,null,null,null,null,null,null,null,null,null,null,null,"","",null,null,{"$f":"IFERROR(IF(K52=\"Designation 2\",VLOOKUP($H$2&\"B\",'SRP Rates'!A:AH,34,0),IF(K52=\"designation 1\",VLOOKUP($H$2&\"A\",'SRP Rates'!A:AH,34,0),0)),0)","v":0},0,0,0,0,0,0,0,0,0,0,0,0,0]
[null,"Element 3 Top-up Funding",null,null,null,"Summary",null,null,null,null,null,null,null,null,"","",null,null,{"$f":"IFERROR(IF(K53=\"Designation 2\",VLOOKUP($H$2&\"B\",'SRP Rates'!A:AH,34,0),IF(K53=\"designation 1\",VLOOKUP($H$2&\"A\",'SRP Rates'!A:AH,34,0),0)),0)","v":0},0,0,0,0,0,0,0,0,0,0,0,0,0]
[null,null,null,null,null,null,null,null,null,null,null,null,null,null,"","",null,null,{"$f":"IFERROR(IF(K54=\"Designation 2\",VLOOKUP($H$2&\"B\",'SRP Rates'!A:AH,34,0),IF(K54=\"designation 1\",VLOOKUP($H$2&\"A\",'SRP Rates'!A:AH,34,0),0)),0)","v":0},0,0,0,0,0,0,0,0,0,0,0,0,0]
[null,"April",{"$f":"SUM($T$17:$T$188)","v":0},null,null,"Excess place funding - E1",null,{"$f":"H30","v":0},null,null,null,null,null,null,"","",null,null,{"$f":"IFERROR(IF(K55=\"Designation 2\",VLOOKUP($H$2&\"B\",'SRP Rates'!A:AH,34,0),IF(K55=\"designation 1\",VLOOKUP($H$2&\"A\",'SRP Rates'!A:AH,34,0),0)),0)","v":0},0,0,0,0,0,0,0,0,0,0,0,0,0]
[null,"May",{"$f":"SUM($U$17:$U$188)","v":0},null,null,"Excess place funding - E2",null,{"$f":"H49","v":0},null,null,null,null,null,null,"","",null,null,{"$f":"IFERROR(IF(K56=\"Designation 2\",VLOOKUP($H$2&\"B\",'SRP Rates'!A:AH,34,0),IF(K56=\"designation 1\",VLOOKUP($H$2&\"A\",'SRP Rates'!A:AH,34,0),0)),0)","v":0},0,0,0,0,0,0,0,0,0,0,0,0,0]
[null,"June",{"$f":"SUM($V$17:$V$188)","v":0},null,null,"Element 3 top-up funding",null,{"$f":"srpelement3","v":0},null,null,null,null,null,null,"","",null,null,{"$f":"IFERROR(IF(K57=\"Designation 2\",VLOOKUP($H$2&\"B\",'SRP Rates'!A:AH,34,0),IF(K57=\"designation 1\",VLOOKUP($H$2&\"A\",'SRP Rates'!A:AH,34,0),0)),0)","v":0},0,0,0,0,0,0,0,0,0,0,0,0,0]
[null,"July",{"$f":"SUM($W$17:$W$188)","v":0},null,null,null,null,null,null,null,null,null,null,null,"","",null,null,{"$f":"IFERROR(IF(K58=\"Designation 2\",VLOOKUP($H$2&\"B\",'SRP Rates'!A:AH,34,0),IF(K58=\"designation 1\",VLOOKUP($H$2&\"A\",'SRP Rates'!A:AH,34,0),0)),0)","v":0},0,0,0,0,0,0,0,0,0,0,0,0,0]
[null,"August",{"$f":"SUM($X$17:$X$188)","v":0},null,null,"Total SRP funding 2021/22",null,{"$f":"SUM(H55:H57)","v":0},null,null,null,null,null,null,"","",null,null,{"$f":"IFERROR(IF(K59=\"Designation 2\",VLOOKUP($H$2&\"B\",'SRP Rates'!A:AH,34,0),IF(K59=\"designation 1\",VLOOKUP($H$2&\"A\",'SRP Rates'!A:AH,34,0),0)),0)","v":0},0,0,0,0,0,0,0,0,0,0,0,0,0]
[null,"September",{"$f":"SUM($Y$17:$Y$188)","v":0},null,null,null,null,null,null,null,null,null,null,null,"","",null,null,{"$f":"IFERROR(IF(K60=\"Designation 2\",VLOOKUP($H$2&\"B\",'SRP Rates'!A:AH,34,0),IF(K60=\"designation 1\",VLOOKUP($H$2&\"A\",'SRP Rates'!A:AH,34,0),0)),0)","v":0},0,0,0,0,0,0,0,0,0,0,0,0,0]
[null,"October",{"$f":"SUM($Z$17:$Z$188)","v":0},null,null,null,null,null,null,null,null,null,null,null,"","",null,null,{"$f":"IFERROR(IF(K61=\"Designation 2\",VLOOKUP($H$2&\"B\",'SRP Rates'!A:AH,34,0),IF(K61=\"designation 1\",VLOOKUP($H$2&\"A\",'SRP Rates'!A:AH,34,0),0)),0)","v":0},0,0,0,0,0,0,0,0,0,0,0,0,0]
[null,"November",{"$f":"SUM($AA$17:$AA$188)","v":0},null,null,null,null,null,null,null,null,null,null,null,"","",null,null,{"$f":"IFERROR(IF(K62=\"Designation 2\",VLOOKUP($H$2&\"B\",'SRP Rates'!A:AH,34,0),IF(K62=\"designation 1\",VLOOKUP($H$2&\"A\",'SRP Rates'!A:AH,34,0),0)),0)","v":0},0,0,0,0,0,0,0,0,0,0,0,0,0]
[null,"December",{"$f":"SUM($AB$17:$AB$188)","v":0},null,null,null,null,null,null,null,null,null,null,null,"","",null,null,{"$f":"IFERROR(IF(K63=\"Designation 2\",VLOOKUP($H$2&\"B\",'SRP Rates'!A:AH,34,0),IF(K63=\"designation 1\",VLOOKUP($H$2&\"A\",'SRP Rates'!A:AH,34,0),0)),0)","v":0},0,0,0,0,0,0,0,0,0,0,0,0,0]
[null,"January",{"$f":"SUM($AC$17:$AC$188)","v":0},null,null,null,null,null,null,null,null,null,null,null,"","",null,null,{"$f":"IFERROR(IF(K64=\"Designation 2\",VLOOKUP($H$2&\"B\",'SRP Rates'!A:AH,34,0),IF(K64=\"designation 1\",VLOOKUP($H$2&\"A\",'SRP Rates'!A:AH,34,0),0)),0)","v":0},0,0,0,0,0,0,0,0,0,0,0,0,0]
[null,"February",{"$f":"SUM($AD$17:$AD$188)","v":0},null,null,null,null,null,null,null,null,null,null,null,"","",null,null,{"$f":"IFERROR(IF(K65=\"Designation 2\",VLOOKUP($H$2&\"B\",'SRP Rates'!A:AH,34,0),IF(K65=\"designation 1\",VLOOKUP($H$2&\"A\",'SRP Rates'!A:AH,34,0),0)),0)","v":0},0,0,0,0,0,0,0,0,0,0,0,0,0]
[null,"March",{"$f":"SUM($AE$17:$AE$188)","v":0},null,null,null,null,null,null,null,null,null,null,null,"","",null,null,{"$f":"IFERROR(IF(K66=\"Designation 2\",VLOOKUP($H$2&\"B\",'SRP Rates'!A:AH,34,0),IF(K66=\"designation 1\",VLOOKUP($H$2&\"A\",'SRP Rates'!A:AH,34,0),0)),0)","v":0},0,0,0,0,0,0,0,0,0,0,0,0,0]
[null,null,{"$f":"SUM(C55:C66)","v":0},null,null,null,null,null,null,null,null,null,null,null,"","",null,null,{"$f":"IFERROR(IF(K67=\"Designation 2\",VLOOKUP($H$2&\"B\",'SRP Rates'!A:AH,34,0),IF(K67=\"designation 1\",VLOOKUP($H$2&\"A\",'SRP Rates'!A:AH,34,0),0)),0)","v":0},0,0,0,0,0,0,0,0,0,0,0,0,0]
[null,null,null,null,null,null,null,null,null,null,null,null,null,null,"","",null,null,{"$f":"IFERROR(IF(K68=\"Designation 2\",VLOOKUP($H$2&\"B\",'SRP Rates'!A:AH,34,0),IF(K68=\"designation 1\",VLOOKUP($H$2&\"A\",'SRP Rates'!A:AH,34,0),0)),0)","v":0},0,0,0,0,0,0,0,0,0,0,0,0,0]
[null,null,null,null,null,null,null,null,null,null,null,null,null,null,"","",null,null,{"$f":"IFERROR(IF(K69=\"Designation 2\",VLOOKUP($H$2&\"B\",'SRP Rates'!A:AH,34,0),IF(K69=\"designation 1\",VLOOKUP($H$2&\"A\",'SRP Rates'!A:AH,34,0),0)),0)","v":0},0,0,0,0,0,0,0,0,0,0,0,0,0]
[null,null,null,null,null,null,null,null,null,null,null,null,null,null,"","",null,null,{"$f":"IFERROR(IF(K70=\"Designation 2\",VLOOKUP($H$2&\"B\",'SRP Rates'!A:AH,34,0),IF(K70=\"designation 1\",VLOOKUP($H$2&\"A\",'SRP Rates'!A:AH,34,0),0)),0)","v":0},0,0,0,0,0,0,0,0,0,0,0,0,0]
[null,null,null,null,null,null,null,null,null,null,null,null,null,null,"","",null,null,{"$f":"IFERROR(IF(K71=\"Designation 2\",VLOOKUP($H$2&\"B\",'SRP Rates'!A:AH,34,0),IF(K71=\"designation 1\",VLOOKUP($H$2&\"A\",'SRP Rates'!A:AH,34,0),0)),0)","v":0},0,0,0,0,0,0,0,0,0,0,0,0,0]
[null,null,null,null,null,null,null,null,null,null,null,null,null,null,"","",null,null,{"$f":"IFERROR(IF(K72=\"Designation 2\",VLOOKUP($H$2&\"B\",'SRP Rates'!A:AH,34,0),IF(K72=\"designation 1\",VLOOKUP($H$2&\"A\",'SRP Rates'!A:AH,34,0),0)),0)","v":0},0,0,0,0,0,0,0,0,0,0,0,0,0]
[null,null,null,null,null,null,null,null,null,null,null,null,null,null,"","",null,null,{"$f":"IFERROR(IF(K73=\"Designation 2\",VLOOKUP($H$2&\"B\",'SRP Rates'!A:AH,34,0),IF(K73=\"designation 1\",VLOOKUP($H$2&\"A\",'SRP Rates'!A:AH,34,0),0)),0)","v":0},0,0,0,0,0,0,0,0,0,0,0,0,0]
[null,null,null,null,null,null,null,null,null,null,null,null,null,null,"","",null,null,{"$f":"IFERROR(IF(K74=\"Designation 2\",VLOOKUP($H$2&\"B\",'SRP Rates'!A:AH,34,0),IF(K74=\"designation 1\",VLOOKUP($H$2&\"A\",'SRP Rates'!A:AH,34,0),0)),0)","v":0},0,0,0,0,0,0,0,0,0,0,0,0,0]
[null,null,null,null,null,null,null,null,null,null,null,null,null,null,"","",null,null,{"$f":"IFERROR(IF(K75=\"Designation 2\",VLOOKUP($H$2&\"B\",'SRP Rates'!A:AH,34,0),IF(K75=\"designation 1\",VLOOKUP($H$2&\"A\",'SRP Rates'!A:AH,34,0),0)),0)","v":0},0,0,0,0,0,0,0,0,0,0,0,0,0]
[null,null,null,null,null,null,null,null,null,null,null,null,null,null,"","",null,null,{"$f":"IFERROR(IF(K76=\"Designation 2\",VLOOKUP($H$2&\"B\",'SRP Rates'!A:AH,34,0),IF(K76=\"designation 1\",VLOOKUP($H$2&\"A\",'SRP Rates'!A:AH,34,0),0)),0)","v":0},0,0,0,0,0,0,0,0,0,0,0,0,0]
[null,null,null,null,null,null,null,null,null,null,null,null,null,null,"","",null,null,{"$f":"IFERROR(IF(K77=\"Designation 2\",VLOOKUP($H$2&\"B\",'SRP Rates'!A:AH,34,0),IF(K77=\"designation 1\",VLOOKUP($H$2&\"A\",'SRP Rates'!A:AH,34,0),0)),0)","v":0},0,0,0,0,0,0,0,0,0,0,0,0,0]
[null,null,null,null,null,null,null,null,null,null,null,null,null,null,"","",null,null,{"$f":"IFERROR(IF(K78=\"Designation 2\",VLOOKUP($H$2&\"B\",'SRP Rates'!A:AH,34,0),IF(K78=\"designation 1\",VLOOKUP($H$2&\"A\",'SRP Rates'!A:AH,34,0),0)),0)","v":0},0,0,0,0,0,0,0,0,0,0,0,0,0]
[null,null,null,null,null,null,null,null,null,null,null,null,null,null,"","",null,null,{"$f":"IFERROR(IF(K79=\"Designation 2\",VLOOKUP($H$2&\"B\",'SRP Rates'!A:AH,34,0),IF(K79=\"designation 1\",VLOOKUP($H$2&\"A\",'SRP Rates'!A:AH,34,0),0)),0)","v":0},0,0,0,0,0,0,0,0,0,0,0,0,0]
[null,null,null,null,null,null,null,null,null,null,null,null,null,null,"","",null,null,{"$f":"IFERROR(IF(K80=\"Designation 2\",VLOOKUP($H$2&\"B\",'SRP Rates'!A:AH,34,0),IF(K80=\"designation 1\",VLOOKUP($H$2&\"A\",'SRP Rates'!A:AH,34,0),0)),0)","v":0},0,0,0,0,0,0,0,0,0,0,0,0,0]
[null,null,null,null,null,null,null,null,null,null,null,null,null,null,"","",null,null,{"$f":"IFERROR(IF(K81=\"Designation 2\",VLOOKUP($H$2&\"B\",'SRP Rates'!A:AH,34,0),IF(K81=\"designation 1\",VLOOKUP($H$2&\"A\",'SRP Rates'!A:AH,34,0),0)),0)","v":0},0,0,0,0,0,0,0,0,0,0,0,0,0]
[null,null,null,null,null,null,null,null,null,null,null,null,null,null,{"$f":"IF(N82=0,\"\",IF(N82<DATE(2004,9,1),\"Post-16\",\"Pre-16\"))","v":""},{"$f":"IF(N82=0,\"\",IF(N82<DATE(2005,9,1),\"Post-16\",\"Pre-16\"))","v":""},null,null,{"$f":"IFERROR(IF(K82=\"Designation 2\",VLOOKUP($H$2&\"B\",'SRP Rates'!A:AH,34,0),IF(K82=\"designation 1\",VLOOKUP($H$2&\"A\",'SRP Rates'!A:AH,34,0),0)),0)","v":0},{"$f":"IF(OR(Q82>DATE(2021,3,31),R82<DATE(2021,3,1)),0,S82)","v":0},{"$f":"IF(OR(Q82>DATE(2021,4,30),R82<DATE(2021,4,1)),0,S82)","v":0},{"$f":"IF(OR(Q82>DATE(2021,5,31),R82<DATE(2021,5,1)),0,S82)","v":0},{"$f":"IF(OR(Q82>DATE(2021,6,30),R82<DATE(2021,6,1)),0,S82)","v":0},{"$f":"IF(OR(Q82>DATE(2021,7,31),R82<DATE(2021,7,1)),0,S82)","v":0},{"$f":"IF(OR(Q82>DATE(2021,7,31),R82<DATE(2021,7,1)),0,S82)","v":0},{"$f":"IF(OR(Q82>DATE(2021,9,30),R82<DATE(2021,9,1)),0,S82)","v":0},{"$f":"IF(OR(Q82>DATE(2021,10,31),R82<DATE(2021,10,1)),0,S82)","v":0},{"$f":"IF(OR(Q82>DATE(2021,11,30),R82<DATE(2021,11,1)),0,S82)","v":0},{"$f":"IF(OR(Q82>DATE(2021,12,31),R82<DATE(2021,12,1)),0,S82)","v":0},{"$f":"IF(OR(Q82>DATE(2022,1,31),R82<DATE(2022,1,1)),0,S82)","v":0},{"$f":"IF(OR(Q82>DATE(2022,2,28),R82<DATE(2022,2,1)),0,S82)","v":0},{"$f":"SUM(T82:AE82)","v":0}]
[null,null,null,null,null,null,null,null,null,null,null,null,null,null,"","",null,null,{"$f":"IFERROR(IF(K83=\"Designation 2\",VLOOKUP($H$2&\"B\",'SRP Rates'!A:AH,34,0),IF(K83=\"designation 1\",VLOOKUP($H$2&\"A\",'SRP Rates'!A:AH,34,0),0)),0)","v":0},0,0,0,0,0,0,0,0,0,0,0,0,0]
[null,null,null,null,null,null,null,null,null,null,null,null,null,null,"","",null,null,{"$f":"IFERROR(IF(K84=\"Designation 2\",VLOOKUP($H$2&\"B\",'SRP Rates'!A:AH,34,0),IF(K84=\"designation 1\",VLOOKUP($H$2&\"A\",'SRP Rates'!A:AH,34,0),0)),0)","v":0},0,0,0,0,0,0,0,0,0,0,0,0,0]
[null,null,null,null,null,null,null,null,null,null,null,null,null,null,"","",null,null,{"$f":"IFERROR(IF(K85=\"Designation 2\",VLOOKUP($H$2&\"B\",'SRP Rates'!A:AH,34,0),IF(K85=\"designation 1\",VLOOKUP($H$2&\"A\",'SRP Rates'!A:AH,34,0),0)),0)","v":0},0,0,0,0,0,0,0,0,0,0,0,0,0]
[null,null,null,null,null,null,null,null,null,null,null,null,null,null,"","",null,null,{"$f":"IFERROR(IF(K86=\"Designation 2\",VLOOKUP($H$2&\"B\",'SRP Rates'!A:AH,34,0),IF(K86=\"designation 1\",VLOOKUP($H$2&\"A\",'SRP Rates'!A:AH,34,0),0)),0)","v":0},0,0,0,0,0,0,0,0,0,0,0,0,0]
[null,null,null,null,null,null,null,null,null,null,null,null,null,null,"","",null,null,{"$f":"IFERROR(IF(K87=\"Designation 2\",VLOOKUP($H$2&\"B\",'SRP Rates'!A:AH,34,0),IF(K87=\"designation 1\",VLOOKUP($H$2&\"A\",'SRP Rates'!A:AH,34,0),0)),0)","v":0},0,0,0,0,0,0,0,0,0,0,0,0,0]
[null,null,null,null,null,null,null,null,null,null,null,null,null,null,"","",null,null,{"$f":"IFERROR(IF(K88=\"Designation 2\",VLOOKUP($H$2&\"B\",'SRP Rates'!A:AH,34,0),IF(K88=\"designation 1\",VLOOKUP($H$2&\"A\",'SRP Rates'!A:AH,34,0),0)),0)","v":0},0,0,0,0,0,0,0,0,0,0,0,0,0]
[null,null,null,null,null,null,null,null,null,null,null,null,null,null,"","",null,null,{"$f":"IFERROR(IF(K89=\"Designation 2\",VLOOKUP($H$2&\"B\",'SRP Rates'!A:AH,34,0),IF(K89=\"designation 1\",VLOOKUP($H$2&\"A\",'SRP Rates'!A:AH,34,0),0)),0)","v":0},0,0,0,0,0,0,0,0,0,0,0,0,0]
[null,null,null,null,null,null,null,null,null,null,null,null,null,null,"","",null,null,{"$f":"IFERROR(IF(K90=\"Designation 2\",VLOOKUP($H$2&\"B\",'SRP Rates'!A:AH,34,0),IF(K90=\"designation 1\",VLOOKUP($H$2&\"A\",'SRP Rates'!A:AH,34,0),0)),0)","v":0},0,0,0,0,0,0,0,0,0,0,0,0,0]
[null,null,null,null,null,null,null,null,null,null,null,null,null,null,"","",null,null,{"$f":"IFERROR(IF(K91=\"Designation 2\",VLOOKUP($H$2&\"B\",'SRP Rates'!A:AH,34,0),IF(K91=\"designation 1\",VLOOKUP($H$2&\"A\",'SRP Rates'!A:AH,34,0),0)),0)","v":0},0,0,0,0,0,0,0,0,0,0,0,0,0]
[null,null,null,null,null,null,null,null,null,null,null,null,null,null,"","",null,null,{"$f":"IFERROR(IF(K92=\"Designation 2\",VLOOKUP($H$2&\"B\",'SRP Rates'!A:AH,34,0),IF(K92=\"designation 1\",VLOOKUP($H$2&\"A\",'SRP Rates'!A:AH,34,0),0)),0)","v":0},0,0,0,0,0,0,0,0,0,0,0,0,0]
[null,null,null,null,null,null,null,null,null,null,null,null,null,null,"","",null,null,{"$f":"IFERROR(IF(K93=\"Designation 2\",VLOOKUP($H$2&\"B\",'SRP Rates'!A:AH,34,0),IF(K93=\"designation 1\",VLOOKUP($H$2&\"A\",'SRP Rates'!A:AH,34,0),0)),0)","v":0},0,0,0,0,0,0,0,0,0,0,0,0,0]
[null,null,null,null,null,null,null,null,null,null,null,null,null,null,"","",null,null,{"$f":"IFERROR(IF(K94=\"Designation 2\",VLOOKUP($H$2&\"B\",'SRP Rates'!A:AH,34,0),IF(K94=\"designation 1\",VLOOKUP($H$2&\"A\",'SRP Rates'!A:AH,34,0),0)),0)","v":0},0,0,0,0,0,0,0,0,0,0,0,0,0]
[null,null,null,null,null,null,null,null,null,null,null,null,null,null,"","",null,null,{"$f":"IFERROR(IF(K95=\"Designation 2\",VLOOKUP($H$2&\"B\",'SRP Rates'!A:AH,34,0),IF(K95=\"designation 1\",VLOOKUP($H$2&\"A\",'SRP Rates'!A:AH,34,0),0)),0)","v":0},0,0,0,0,0,0,0,0,0,0,0,0,0]
[null,null,null,null,null,null,null,null,null,null,null,null,null,null,"","",null,null,{"$f":"IFERROR(IF(K96=\"Designation 2\",VLOOKUP($H$2&\"B\",'SRP Rates'!A:AH,34,0),IF(K96=\"designation 1\",VLOOKUP($H$2&\"A\",'SRP Rates'!A:AH,34,0),0)),0)","v":0},0,0,0,0,0,0,0,0,0,0,0,0,0]
[null,null,null,null,null,null,null,null,null,null,null,null,null,null,"","",null,null,{"$f":"IFERROR(IF(K97=\"Designation 2\",VLOOKUP($H$2&\"B\",'SRP Rates'!A:AH,34,0),IF(K97=\"designation 1\",VLOOKUP($H$2&\"A\",'SRP Rates'!A:AH,34,0),0)),0)","v":0},0,0,0,0,0,0,0,0,0,0,0,0,0]
[null,null,null,null,null,null,null,null,null,null,null,null,null,null,"","",null,null,{"$f":"IFERROR(IF(K98=\"Designation 2\",VLOOKUP($H$2&\"B\",'SRP Rates'!A:AH,34,0),IF(K98=\"designation 1\",VLOOKUP($H$2&\"A\",'SRP Rates'!A:AH,34,0),0)),0)","v":0},0,0,0,0,0,0,0,0,0,0,0,0,0]
[null,null,null,null,null,null,null,null,null,null,null,null,null,null,"","",null,null,{"$f":"IFERROR(IF(K99=\"Designation 2\",VLOOKUP($H$2&\"B\",'SRP Rates'!A:AH,34,0),IF(K99=\"designation 1\",VLOOKUP($H$2&\"A\",'SRP Rates'!A:AH,34,0),0)),0)","v":0},0,0,0,0,0,0,0,0,0,0,0,0,0]
[null,null,null,null,null,null,null,null,null,null,null,null,null,null,"","",null,null,{"$f":"IFERROR(IF(K100=\"Designation 2\",VLOOKUP($H$2&\"B\",'SRP Rates'!A:AH,34,0),IF(K100=\"designation 1\",VLOOKUP($H$2&\"A\",'SRP Rates'!A:AH,34,0),0)),0)","v":0},0,0,0,0,0,0,0,0,0,0,0,0,0]
[null,null,null,null,null,null,null,null,null,null,null,null,null,null,"","",null,null,{"$f":"IFERROR(IF(K101=\"Designation 2\",VLOOKUP($H$2&\"B\",'SRP Rates'!A:AH,34,0),IF(K101=\"designation 1\",VLOOKUP($H$2&\"A\",'SRP Rates'!A:AH,34,0),0)),0)","v":0},0,0,0,0,0,0,0,0,0,0,0,0,0]
[null,null,null,null,null,null,null,null,null,null,null,null,null,null,"","",null,null,{"$f":"IFERROR(IF(K102=\"Designation 2\",VLOOKUP($H$2&\"B\",'SRP Rates'!A:AH,34,0),IF(K102=\"designation 1\",VLOOKUP($H$2&\"A\",'SRP Rates'!A:AH,34,0),0)),0)","v":0},0,0,0,0,0,0,0,0,0,0,0,0,0]
[null,null,null,null,null,null,null,null,null,null,null,null,null,null,"","",null,null,{"$f":"IFERROR(IF(K103=\"Designation 2\",VLOOKUP($H$2&\"B\",'SRP Rates'!A:AH,34,0),IF(K103=\"designation 1\",VLOOKUP($H$2&\"A\",'SRP Rates'!A:AH,34,0),0)),0)","v":0},0,0,0,0,0,0,0,0,0,0,0,0,0]
[null,null,null,null,null,null,null,null,null,null,null,null,null,null,"","",null,null,{"$f":"IFERROR(IF(K104=\"Designation 2\",VLOOKUP($H$2&\"B\",'SRP Rates'!A:AH,34,0),IF(K104=\"designation 1\",VLOOKUP($H$2&\"A\",'SRP Rates'!A:AH,34,0),0)),0)","v":0},0,0,0,0,0,0,0,0,0,0,0,0,0]
[null,null,null,null,null,null,null,null,null,null,null,null,null,null,"","",null,null,{"$f":"IFERROR(IF(K105=\"Designation 2\",VLOOKUP($H$2&\"B\",'SRP Rates'!A:AH,34,0),IF(K105=\"designation 1\",VLOOKUP($H$2&\"A\",'SRP Rates'!A:AH,34,0),0)),0)","v":0},0,0,0,0,0,0,0,0,0,0,0,0,0]
[null,null,null,null,null,null,null,null,null,null,null,null,null,null,"","",null,null,{"$f":"IFERROR(IF(K106=\"Designation 2\",VLOOKUP($H$2&\"B\",'SRP Rates'!A:AH,34,0),IF(K106=\"designation 1\",VLOOKUP($H$2&\"A\",'SRP Rates'!A:AH,34,0),0)),0)","v":0},0,0,0,0,0,0,0,0,0,0,0,0,0]
[null,null,null,null,null,null,null,null,null,null,null,null,null,null,"","",null,null,{"$f":"IFERROR(IF(K107=\"Designation 2\",VLOOKUP($H$2&\"B\",'SRP Rates'!A:AH,34,0),IF(K107=\"designation 1\",VLOOKUP($H$2&\"A\",'SRP Rates'!A:AH,34,0),0)),0)","v":0},0,0,0,0,0,0,0,0,0,0,0,0,0]
[null,null,null,null,null,null,null,null,null,null,null,null,null,null,"","",null,null,{"$f":"IFERROR(IF(K108=\"Designation 2\",VLOOKUP($H$2&\"B\",'SRP Rates'!A:AH,34,0),IF(K108=\"designation 1\",VLOOKUP($H$2&\"A\",'SRP Rates'!A:AH,34,0),0)),0)","v":0},0,0,0,0,0,0,0,0,0,0,0,0,0]
[null,null,null,null,null,null,null,null,null,null,null,null,null,null,"","",null,null,{"$f":"IFERROR(IF(K109=\"Designation 2\",VLOOKUP($H$2&\"B\",'SRP Rates'!A:AH,34,0),IF(K109=\"designation 1\",VLOOKUP($H$2&\"A\",'SRP Rates'!A:AH,34,0),0)),0)","v":0},0,0,0,0,0,0,0,0,0,0,0,0,0]
[null,null,null,null,null,null,null,null,null,null,null,null,null,null,"","",null,null,{"$f":"IFERROR(IF(K110=\"Designation 2\",VLOOKUP($H$2&\"B\",'SRP Rates'!A:AH,34,0),IF(K110=\"designation 1\",VLOOKUP($H$2&\"A\",'SRP Rates'!A:AH,34,0),0)),0)","v":0},0,0,0,0,0,0,0,0,0,0,0,0,0]
[null,null,null,null,null,null,null,null,null,null,null,null,null,null,"","",null,null,{"$f":"IFERROR(IF(K111=\"Designation 2\",VLOOKUP($H$2&\"B\",'SRP Rates'!A:AH,34,0),IF(K111=\"designation 1\",VLOOKUP($H$2&\"A\",'SRP Rates'!A:AH,34,0),0)),0)","v":0},0,0,0,0,0,0,0,0,0,0,0,0,0]
[null,null,null,null,null,null,null,null,null,null,null,null,null,null,"","",null,null,{"$f":"IFERROR(IF(K112=\"Designation 2\",VLOOKUP($H$2&\"B\",'SRP Rates'!A:AH,34,0),IF(K112=\"designation 1\",VLOOKUP($H$2&\"A\",'SRP Rates'!A:AH,34,0),0)),0)","v":0},0,0,0,0,0,0,0,0,0,0,0,0,0]
[null,null,null,null,null,null,null,null,null,null,null,null,null,null,"","",null,null,{"$f":"IFERROR(IF(K113=\"Designation 2\",VLOOKUP($H$2&\"B\",'SRP Rates'!A:AH,34,0),IF(K113=\"designation 1\",VLOOKUP($H$2&\"A\",'SRP Rates'!A:AH,34,0),0)),0)","v":0},0,0,0,0,0,0,0,0,0,0,0,0,0]
[null,null,null,null,null,null,null,null,null,null,null,null,null,null,"","",null,null,{"$f":"IFERROR(IF(K114=\"Designation 2\",VLOOKUP($H$2&\"B\",'SRP Rates'!A:AH,34,0),IF(K114=\"designation 1\",VLOOKUP($H$2&\"A\",'SRP Rates'!A:AH,34,0),0)),0)","v":0},0,0,0,0,0,0,0,0,0,0,0,0,0]
[null,null,null,null,null,null,null,null,null,null,null,null,null,null,"","",null,null,{"$f":"IFERROR(IF(K115=\"Designation 2\",VLOOKUP($H$2&\"B\",'SRP Rates'!A:AH,34,0),IF(K115=\"designation 1\",VLOOKUP($H$2&\"A\",'SRP Rates'!A:AH,34,0),0)),0)","v":0},0,0,0,0,0,0,0,0,0,0,0,0,0]
[null,null,null,null,null,null,null,null,null,null,null,null,null,null,"","",null,null,{"$f":"IFERROR(IF(K116=\"Designation 2\",VLOOKUP($H$2&\"B\",'SRP Rates'!A:AH,34,0),IF(K116=\"designation 1\",VLOOKUP($H$2&\"A\",'SRP Rates'!A:AH,34,0),0)),0)","v":0},0,0,0,0,0,0,0,0,0,0,0,0,0]
[null,null,null,null,null,null,null,null,null,null,null,null,null,null,"","",null,null,{"$f":"IFERROR(IF(K117=\"Designation 2\",VLOOKUP($H$2&\"B\",'SRP Rates'!A:AH,34,0),IF(K117=\"designation 1\",VLOOKUP($H$2&\"A\",'SRP Rates'!A:AH,34,0),0)),0)","v":0},0,0,0,0,0,0,0,0,0,0,0,0,0]
[null,null,null,null,null,null,null,null,null,null,null,null,null,null,"","",null,null,{"$f":"IFERROR(IF(K118=\"Designation 2\",VLOOKUP($H$2&\"B\",'SRP Rates'!A:AH,34,0),IF(K118=\"designation 1\",VLOOKUP($H$2&\"A\",'SRP Rates'!A:AH,34,0),0)),0)","v":0},0,0,0,0,0,0,0,0,0,0,0,0,0]
[null,null,null,null,null,null,null,null,null,null,null,null,null,null,"","",null,null,{"$f":"IFERROR(IF(K119=\"Designation 2\",VLOOKUP($H$2&\"B\",'SRP Rates'!A:AH,34,0),IF(K119=\"designation 1\",VLOOKUP($H$2&\"A\",'SRP Rates'!A:AH,34,0),0)),0)","v":0},0,0,0,0,0,0,0,0,0,0,0,0,0]
[null,null,null,null,null,null,null,null,null,null,null,null,null,null,"","",null,null,{"$f":"IFERROR(IF(K120=\"Designation 2\",VLOOKUP($H$2&\"B\",'SRP Rates'!A:AH,34,0),IF(K120=\"designation 1\",VLOOKUP($H$2&\"A\",'SRP Rates'!A:AH,34,0),0)),0)","v":0},0,0,0,0,0,0,0,0,0,0,0,0,0]
[null,null,null,null,null,null,null,null,null,null,null,null,null,null,"","",null,null,{"$f":"IFERROR(IF(K121=\"Designation 2\",VLOOKUP($H$2&\"B\",'SRP Rates'!A:AH,34,0),IF(K121=\"designation 1\",VLOOKUP($H$2&\"A\",'SRP Rates'!A:AH,34,0),0)),0)","v":0},0,0,0,0,0,0,0,0,0,0,0,0,0]
[null,null,null,null,null,null,null,null,null,null,null,null,null,null,"","",null,null,{"$f":"IFERROR(IF(K122=\"Designation 2\",VLOOKUP($H$2&\"B\",'SRP Rates'!A:AH,34,0),IF(K122=\"designation 1\",VLOOKUP($H$2&\"A\",'SRP Rates'!A:AH,34,0),0)),0)","v":0},0,0,0,0,0,0,0,0,0,0,0,0,0]
[null,null,null,null,null,null,null,null,null,null,null,null,null,null,"","",null,null,{"$f":"IFERROR(IF(K123=\"Designation 2\",VLOOKUP($H$2&\"B\",'SRP Rates'!A:AH,34,0),IF(K123=\"designation 1\",VLOOKUP($H$2&\"A\",'SRP Rates'!A:AH,34,0),0)),0)","v":0},0,0,0,0,0,0,0,0,0,0,0,0,0]
[null,null,null,null,null,null,null,null,null,null,null,null,null,null,"","",null,null,{"$f":"IFERROR(IF(K124=\"Designation 2\",VLOOKUP($H$2&\"B\",'SRP Rates'!A:AH,34,0),IF(K124=\"designation 1\",VLOOKUP($H$2&\"A\",'SRP Rates'!A:AH,34,0),0)),0)","v":0},0,0,0,0,0,0,0,0,0,0,0,0,0]
[null,null,null,null,null,null,null,null,null,null,null,null,null,null,"","",null,null,{"$f":"IFERROR(IF(K125=\"Designation 2\",VLOOKUP($H$2&\"B\",'SRP Rates'!A:AH,34,0),IF(K125=\"designation 1\",VLOOKUP($H$2&\"A\",'SRP Rates'!A:AH,34,0),0)),0)","v":0},0,0,0,0,0,0,0,0,0,0,0,0,0]
[null,null,null,null,null,null,null,null,null,null,null,null,null,null,"","",null,null,{"$f":"IFERROR(IF(K126=\"Designation 2\",VLOOKUP($H$2&\"B\",'SRP Rates'!A:AH,34,0),IF(K126=\"designation 1\",VLOOKUP($H$2&\"A\",'SRP Rates'!A:AH,34,0),0)),0)","v":0},0,0,0,0,0,0,0,0,0,0,0,0,0]
[null,null,null,null,null,null,null,null,null,null,null,null,null,null,"","",null,null,{"$f":"IFERROR(IF(K127=\"Designation 2\",VLOOKUP($H$2&\"B\",'SRP Rates'!A:AH,34,0),IF(K127=\"designation 1\",VLOOKUP($H$2&\"A\",'SRP Rates'!A:AH,34,0),0)),0)","v":0},0,0,0,0,0,0,0,0,0,0,0,0,0]
[null,null,null,null,null,null,null,null,null,null,null,null,null,null,"","",null,null,{"$f":"IFERROR(IF(K128=\"Designation 2\",VLOOKUP($H$2&\"B\",'SRP Rates'!A:AH,34,0),IF(K128=\"designation 1\",VLOOKUP($H$2&\"A\",'SRP Rates'!A:AH,34,0),0)),0)","v":0},0,0,0,0,0,0,0,0,0,0,0,0,0]
[null,null,null,null,null,null,null,null,null,null,null,null,null,null,"","",null,null,{"$f":"IFERROR(IF(K129=\"Designation 2\",VLOOKUP($H$2&\"B\",'SRP Rates'!A:AH,34,0),IF(K129=\"designation 1\",VLOOKUP($H$2&\"A\",'SRP Rates'!A:AH,34,0),0)),0)","v":0},0,0,0,0,0,0,0,0,0,0,0,0,0]
[null,null,null,null,null,null,null,null,null,null,null,null,null,null,"","",null,null,{"$f":"IFERROR(IF(K130=\"Designation 2\",VLOOKUP($H$2&\"B\",'SRP Rates'!A:AH,34,0),IF(K130=\"designation 1\",VLOOKUP($H$2&\"A\",'SRP Rates'!A:AH,34,0),0)),0)","v":0},0,0,0,0,0,0,0,0,0,0,0,0,0]
[null,null,null,null,null,null,null,null,null,null,null,null,null,null,"","",null,null,{"$f":"IFERROR(IF(K131=\"Designation 2\",VLOOKUP($H$2&\"B\",'SRP Rates'!A:AH,34,0),IF(K131=\"designation 1\",VLOOKUP($H$2&\"A\",'SRP Rates'!A:AH,34,0),0)),0)","v":0},0,0,0,0,0,0,0,0,0,0,0,0,0]
[null,null,null,null,null,null,null,null,null,null,null,null,null,null,"","",null,null,{"$f":"IFERROR(IF(K132=\"Designation 2\",VLOOKUP($H$2&\"B\",'SRP Rates'!A:AH,34,0),IF(K132=\"designation 1\",VLOOKUP($H$2&\"A\",'SRP Rates'!A:AH,34,0),0)),0)","v":0},0,0,0,0,0,0,0,0,0,0,0,0,0]
[null,null,null,null,null,null,null,null,null,null,null,null,null,null,"","",null,null,{"$f":"IFERROR(IF(K133=\"Designation 2\",VLOOKUP($H$2&\"B\",'SRP Rates'!A:AH,34,0),IF(K133=\"designation 1\",VLOOKUP($H$2&\"A\",'SRP Rates'!A:AH,34,0),0)),0)","v":0},0,0,0,0,0,0,0,0,0,0,0,0,0]
[null,null,null,null,null,null,null,null,null,null,null,null,null,null,"","",null,null,{"$f":"IFERROR(IF(K134=\"Designation 2\",VLOOKUP($H$2&\"B\",'SRP Rates'!A:AH,34,0),IF(K134=\"designation 1\",VLOOKUP($H$2&\"A\",'SRP Rates'!A:AH,34,0),0)),0)","v":0},0,0,0,0,0,0,0,0,0,0,0,0,0]
[null,null,null,null,null,null,null,null,null,null,null,null,null,null,"","",null,null,{"$f":"IFERROR(IF(K135=\"Designation 2\",VLOOKUP($H$2&\"B\",'SRP Rates'!A:AH,34,0),IF(K135=\"designation 1\",VLOOKUP($H$2&\"A\",'SRP Rates'!A:AH,34,0),0)),0)","v":0},0,0,0,0,0,0,0,0,0,0,0,0,0]
[null,null,null,null,null,null,null,null,null,null,null,null,null,null,"","",null,null,{"$f":"IFERROR(IF(K136=\"Designation 2\",VLOOKUP($H$2&\"B\",'SRP Rates'!A:AH,34,0),IF(K136=\"designation 1\",VLOOKUP($H$2&\"A\",'SRP Rates'!A:AH,34,0),0)),0)","v":0},0,0,0,0,0,0,0,0,0,0,0,0,0]
[null,null,null,null,null,null,null,null,null,null,null,null,null,null,"","",null,null,{"$f":"IFERROR(IF(K137=\"Designation 2\",VLOOKUP($H$2&\"B\",'SRP Rates'!A:AH,34,0),IF(K137=\"designation 1\",VLOOKUP($H$2&\"A\",'SRP Rates'!A:AH,34,0),0)),0)","v":0},0,0,0,0,0,0,0,0,0,0,0,0,0]
[null,null,null,null,null,null,null,null,null,null,null,null,null,null,"","",null,null,{"$f":"IFERROR(IF(K138=\"Designation 2\",VLOOKUP($H$2&\"B\",'SRP Rates'!A:AH,34,0),IF(K138=\"designation 1\",VLOOKUP($H$2&\"A\",'SRP Rates'!A:AH,34,0),0)),0)","v":0},0,0,0,0,0,0,0,0,0,0,0,0,0]
[null,null,null,null,null,null,null,null,null,null,null,null,null,null,"","",null,null,{"$f":"IFERROR(IF(K139=\"Designation 2\",VLOOKUP($H$2&\"B\",'SRP Rates'!A:AH,34,0),IF(K139=\"designation 1\",VLOOKUP($H$2&\"A\",'SRP Rates'!A:AH,34,0),0)),0)","v":0},0,0,0,0,0,0,0,0,0,0,0,0,0]
[null,null,null,null,null,null,null,null,null,null,null,null,null,null,"","",null,null,{"$f":"IFERROR(IF(K140=\"Designation 2\",VLOOKUP($H$2&\"B\",'SRP Rates'!A:AH,34,0),IF(K140=\"designation 1\",VLOOKUP($H$2&\"A\",'SRP Rates'!A:AH,34,0),0)),0)","v":0},0,0,0,0,0,0,0,0,0,0,0,0,0]
[null,null,null,null,null,null,null,null,null,null,null,null,null,null,"","",null,null,{"$f":"IFERROR(IF(K141=\"Designation 2\",VLOOKUP($H$2&\"B\",'SRP Rates'!A:AH,34,0),IF(K141=\"designation 1\",VLOOKUP($H$2&\"A\",'SRP Rates'!A:AH,34,0),0)),0)","v":0},0,0,0,0,0,0,0,0,0,0,0,0,0]
[null,null,null,null,null,null,null,null,null,null,null,null,null,null,"","",null,null,{"$f":"IFERROR(IF(K142=\"Designation 2\",VLOOKUP($H$2&\"B\",'SRP Rates'!A:AH,34,0),IF(K142=\"designation 1\",VLOOKUP($H$2&\"A\",'SRP Rates'!A:AH,34,0),0)),0)","v":0},0,0,0,0,0,0,0,0,0,0,0,0,0]
[null,null,null,null,null,null,null,null,null,null,null,null,null,null,"","",null,null,{"$f":"IFERROR(IF(K143=\"Designation 2\",VLOOKUP($H$2&\"B\",'SRP Rates'!A:AH,34,0),IF(K143=\"designation 1\",VLOOKUP($H$2&\"A\",'SRP Rates'!A:AH,34,0),0)),0)","v":0},0,0,0,0,0,0,0,0,0,0,0,0,0]
[null,null,null,null,null,null,null,null,null,null,null,null,null,null,"","",null,null,{"$f":"IFERROR(IF(K144=\"Designation 2\",VLOOKUP($H$2&\"B\",'SRP Rates'!A:AH,34,0),IF(K144=\"designation 1\",VLOOKUP($H$2&\"A\",'SRP Rates'!A:AH,34,0),0)),0)","v":0},0,0,0,0,0,0,0,0,0,0,0,0,0]
[null,null,null,null,null,null,null,null,null,null,null,null,null,null,"","",null,null,{"$f":"IFERROR(IF(K145=\"Designation 2\",VLOOKUP($H$2&\"B\",'SRP Rates'!A:AH,34,0),IF(K145=\"designation 1\",VLOOKUP($H$2&\"A\",'SRP Rates'!A:AH,34,0),0)),0)","v":0},0,0,0,0,0,0,0,0,0,0,0,0,0]
[null,null,null,null,null,null,null,null,null,null,null,null,null,null,{"$f":"IF(N146=0,\"\",IF(N146<DATE(2004,9,1),\"Post-16\",\"Pre-16\"))","v":""},{"$f":"IF(N146=0,\"\",IF(N146<DATE(2005,9,1),\"Post-16\",\"Pre-16\"))","v":""},null,null,{"$f":"IFERROR(IF(K146=\"Designation 2\",VLOOKUP($H$2&\"B\",'SRP Rates'!A:AH,34,0),IF(K146=\"designation 1\",VLOOKUP($H$2&\"A\",'SRP Rates'!A:AH,34,0),0)),0)","v":0},{"$f":"IF(OR(Q146>DATE(2021,3,31),R146<DATE(2021,3,1)),0,S146)","v":0},{"$f":"IF(OR(Q146>DATE(2021,4,30),R146<DATE(2021,4,1)),0,S146)","v":0},{"$f":"IF(OR(Q146>DATE(2021,5,31),R146<DATE(2021,5,1)),0,S146)","v":0},{"$f":"IF(OR(Q146>DATE(2021,6,30),R146<DATE(2021,6,1)),0,S146)","v":0},{"$f":"IF(OR(Q146>DATE(2021,7,31),R146<DATE(2021,7,1)),0,S146)","v":0},{"$f":"IF(OR(Q146>DATE(2021,7,31),R146<DATE(2021,7,1)),0,S146)","v":0},{"$f":"IF(OR(Q146>DATE(2021,9,30),R146<DATE(2021,9,1)),0,S146)","v":0},{"$f":"IF(OR(Q146>DATE(2021,10,31),R146<DATE(2021,10,1)),0,S146)","v":0},{"$f":"IF(OR(Q146>DATE(2021,11,30),R146<DATE(2021,11,1)),0,S146)","v":0},{"$f":"IF(OR(Q146>DATE(2021,12,31),R146<DATE(2021,12,1)),0,S146)","v":0},{"$f":"IF(OR(Q146>DATE(2022,1,31),R146<DATE(2022,1,1)),0,S146)","v":0},{"$f":"IF(OR(Q146>DATE(2022,2,28),R146<DATE(2022,2,1)),0,S146)","v":0},{"$f":"SUM(T146:AE146)","v":0}]
[null,null,null,null,null,null,null,null,null,null,null,null,null,null,"","",null,null,{"$f":"IFERROR(IF(K147=\"Designation 2\",VLOOKUP($H$2&\"B\",'SRP Rates'!A:AH,34,0),IF(K147=\"designation 1\",VLOOKUP($H$2&\"A\",'SRP Rates'!A:AH,34,0),0)),0)","v":0},0,0,0,0,0,0,0,0,0,0,0,0,0]
[null,null,null,null,null,null,null,null,null,null,null,null,null,null,"","",null,null,{"$f":"IFERROR(IF(K148=\"Designation 2\",VLOOKUP($H$2&\"B\",'SRP Rates'!A:AH,34,0),IF(K148=\"designation 1\",VLOOKUP($H$2&\"A\",'SRP Rates'!A:AH,34,0),0)),0)","v":0},0,0,0,0,0,0,0,0,0,0,0,0,0]
[null,null,null,null,null,null,null,null,null,null,null,null,null,null,"","",null,null,{"$f":"IFERROR(IF(K149=\"Designation 2\",VLOOKUP($H$2&\"B\",'SRP Rates'!A:AH,34,0),IF(K149=\"designation 1\",VLOOKUP($H$2&\"A\",'SRP Rates'!A:AH,34,0),0)),0)","v":0},0,0,0,0,0,0,0,0,0,0,0,0,0]
[null,null,null,null,null,null,null,null,null,null,null,null,null,null,"","",null,null,{"$f":"IFERROR(IF(K150=\"Designation 2\",VLOOKUP($H$2&\"B\",'SRP Rates'!A:AH,34,0),IF(K150=\"designation 1\",VLOOKUP($H$2&\"A\",'SRP Rates'!A:AH,34,0),0)),0)","v":0},0,0,0,0,0,0,0,0,0,0,0,0,0]
[null,null,null,null,null,null,null,null,null,null,null,null,null,null,"","",null,null,{"$f":"IFERROR(IF(K151=\"Designation 2\",VLOOKUP($H$2&\"B\",'SRP Rates'!A:AH,34,0),IF(K151=\"designation 1\",VLOOKUP($H$2&\"A\",'SRP Rates'!A:AH,34,0),0)),0)","v":0},0,0,0,0,0,0,0,0,0,0,0,0,0]
[null,null,null,null,null,null,null,null,null,null,null,null,null,null,"","",null,null,{"$f":"IFERROR(IF(K152=\"Designation 2\",VLOOKUP($H$2&\"B\",'SRP Rates'!A:AH,34,0),IF(K152=\"designation 1\",VLOOKUP($H$2&\"A\",'SRP Rates'!A:AH,34,0),0)),0)","v":0},0,0,0,0,0,0,0,0,0,0,0,0,0]
[null,null,null,null,null,null,null,null,null,null,null,null,null,null,"","",null,null,{"$f":"IFERROR(IF(K153=\"Designation 2\",VLOOKUP($H$2&\"B\",'SRP Rates'!A:AH,34,0),IF(K153=\"designation 1\",VLOOKUP($H$2&\"A\",'SRP Rates'!A:AH,34,0),0)),0)","v":0},0,0,0,0,0,0,0,0,0,0,0,0,0]
[null,null,null,null,null,null,null,null,null,null,null,null,null,null,"","",null,null,{"$f":"IFERROR(IF(K154=\"Designation 2\",VLOOKUP($H$2&\"B\",'SRP Rates'!A:AH,34,0),IF(K154=\"designation 1\",VLOOKUP($H$2&\"A\",'SRP Rates'!A:AH,34,0),0)),0)","v":0},0,0,0,0,0,0,0,0,0,0,0,0,0]
[null,null,null,null,null,null,null,null,null,null,null,null,null,null,"","",null,null,{"$f":"IFERROR(IF(K155=\"Designation 2\",VLOOKUP($H$2&\"B\",'SRP Rates'!A:AH,34,0),IF(K155=\"designation 1\",VLOOKUP($H$2&\"A\",'SRP Rates'!A:AH,34,0),0)),0)","v":0},0,0,0,0,0,0,0,0,0,0,0,0,0]
[null,null,null,null,null,null,null,null,null,null,null,null,null,null,"","",null,null,{"$f":"IFERROR(IF(K156=\"Designation 2\",VLOOKUP($H$2&\"B\",'SRP Rates'!A:AH,34,0),IF(K156=\"designation 1\",VLOOKUP($H$2&\"A\",'SRP Rates'!A:AH,34,0),0)),0)","v":0},0,0,0,0,0,0,0,0,0,0,0,0,0]
[null,null,null,null,null,null,null,null,null,null,null,null,null,null,"","",null,null,{"$f":"IFERROR(IF(K157=\"Designation 2\",VLOOKUP($H$2&\"B\",'SRP Rates'!A:AH,34,0),IF(K157=\"designation 1\",VLOOKUP($H$2&\"A\",'SRP Rates'!A:AH,34,0),0)),0)","v":0},0,0,0,0,0,0,0,0,0,0,0,0,0]
[null,null,null,null,null,null,null,null,null,null,null,null,null,null,"","",null,null,{"$f":"IFERROR(IF(K158=\"Designation 2\",VLOOKUP($H$2&\"B\",'SRP Rates'!A:AH,34,0),IF(K158=\"designation 1\",VLOOKUP($H$2&\"A\",'SRP Rates'!A:AH,34,0),0)),0)","v":0},0,0,0,0,0,0,0,0,0,0,0,0,0]
[null,null,null,null,null,null,null,null,null,null,null,null,null,null,"","",null,null,{"$f":"IFERROR(IF(K159=\"Designation 2\",VLOOKUP($H$2&\"B\",'SRP Rates'!A:AH,34,0),IF(K159=\"designation 1\",VLOOKUP($H$2&\"A\",'SRP Rates'!A:AH,34,0),0)),0)","v":0},0,0,0,0,0,0,0,0,0,0,0,0,0]
[null,null,null,null,null,null,null,null,null,null,null,null,null,null,"","",null,null,{"$f":"IFERROR(IF(K160=\"Designation 2\",VLOOKUP($H$2&\"B\",'SRP Rates'!A:AH,34,0),IF(K160=\"designation 1\",VLOOKUP($H$2&\"A\",'SRP Rates'!A:AH,34,0),0)),0)","v":0},0,0,0,0,0,0,0,0,0,0,0,0,0]
[null,null,null,null,null,null,null,null,null,null,null,null,null,null,"","",null,null,{"$f":"IFERROR(IF(K161=\"Designation 2\",VLOOKUP($H$2&\"B\",'SRP Rates'!A:AH,34,0),IF(K161=\"designation 1\",VLOOKUP($H$2&\"A\",'SRP Rates'!A:AH,34,0),0)),0)","v":0},0,0,0,0,0,0,0,0,0,0,0,0,0]
[null,null,null,null,null,null,null,null,null,null,null,null,null,null,"","",null,null,{"$f":"IFERROR(IF(K162=\"Designation 2\",VLOOKUP($H$2&\"B\",'SRP Rates'!A:AH,34,0),IF(K162=\"designation 1\",VLOOKUP($H$2&\"A\",'SRP Rates'!A:AH,34,0),0)),0)","v":0},0,0,0,0,0,0,0,0,0,0,0,0,0]
[null,null,null,null,null,null,null,null,null,null,null,null,null,null,"","",null,null,{"$f":"IFERROR(IF(K163=\"Designation 2\",VLOOKUP($H$2&\"B\",'SRP Rates'!A:AH,34,0),IF(K163=\"designation 1\",VLOOKUP($H$2&\"A\",'SRP Rates'!A:AH,34,0),0)),0)","v":0},0,0,0,0,0,0,0,0,0,0,0,0,0]
[null,null,null,null,null,null,null,null,null,null,null,null,null,null,"","",null,null,{"$f":"IFERROR(IF(K164=\"Designation 2\",VLOOKUP($H$2&\"B\",'SRP Rates'!A:AH,34,0),IF(K164=\"designation 1\",VLOOKUP($H$2&\"A\",'SRP Rates'!A:AH,34,0),0)),0)","v":0},0,0,0,0,0,0,0,0,0,0,0,0,0]
[null,null,null,null,null,null,null,null,null,null,null,null,null,null,"","",null,null,{"$f":"IFERROR(IF(K165=\"Designation 2\",VLOOKUP($H$2&\"B\",'SRP Rates'!A:AH,34,0),IF(K165=\"designation 1\",VLOOKUP($H$2&\"A\",'SRP Rates'!A:AH,34,0),0)),0)","v":0},0,0,0,0,0,0,0,0,0,0,0,0,0]
[null,null,null,null,null,null,null,null,null,null,null,null,null,null,"","",null,null,{"$f":"IFERROR(IF(K166=\"Designation 2\",VLOOKUP($H$2&\"B\",'SRP Rates'!A:AH,34,0),IF(K166=\"designation 1\",VLOOKUP($H$2&\"A\",'SRP Rates'!A:AH,34,0),0)),0)","v":0},0,0,0,0,0,0,0,0,0,0,0,0,0]
[null,null,null,null,null,null,null,null,null,null,null,null,null,null,"","",null,null,{"$f":"IFERROR(IF(K167=\"Designation 2\",VLOOKUP($H$2&\"B\",'SRP Rates'!A:AH,34,0),IF(K167=\"designation 1\",VLOOKUP($H$2&\"A\",'SRP Rates'!A:AH,34,0),0)),0)","v":0},0,0,0,0,0,0,0,0,0,0,0,0,0]
[null,null,null,null,null,null,null,null,null,null,null,null,null,null,"","",null,null,{"$f":"IFERROR(IF(K168=\"Designation 2\",VLOOKUP($H$2&\"B\",'SRP Rates'!A:AH,34,0),IF(K168=\"designation 1\",VLOOKUP($H$2&\"A\",'SRP Rates'!A:AH,34,0),0)),0)","v":0},0,0,0,0,0,0,0,0,0,0,0,0,0]
[null,null,null,null,null,null,null,null,null,null,null,null,null,null,"","",null,null,{"$f":"IFERROR(IF(K169=\"Designation 2\",VLOOKUP($H$2&\"B\",'SRP Rates'!A:AH,34,0),IF(K169=\"designation 1\",VLOOKUP($H$2&\"A\",'SRP Rates'!A:AH,34,0),0)),0)","v":0},0,0,0,0,0,0,0,0,0,0,0,0,0]
[null,null,null,null,null,null,null,null,null,null,null,null,null,null,"","",null,null,{"$f":"IFERROR(IF(K170=\"Designation 2\",VLOOKUP($H$2&\"B\",'SRP Rates'!A:AH,34,0),IF(K170=\"designation 1\",VLOOKUP($H$2&\"A\",'SRP Rates'!A:AH,34,0),0)),0)","v":0},0,0,0,0,0,0,0,0,0,0,0,0,0]
[null,null,null,null,null,null,null,null,null,null,null,null,null,null,"","",null,null,{"$f":"IFERROR(IF(K171=\"Designation 2\",VLOOKUP($H$2&\"B\",'SRP Rates'!A:AH,34,0),IF(K171=\"designation 1\",VLOOKUP($H$2&\"A\",'SRP Rates'!A:AH,34,0),0)),0)","v":0},0,0,0,0,0,0,0,0,0,0,0,0,0]
[null,null,null,null,null,null,null,null,null,null,null,null,null,null,"","",null,null,{"$f":"IFERROR(IF(K172=\"Designation 2\",VLOOKUP($H$2&\"B\",'SRP Rates'!A:AH,34,0),IF(K172=\"designation 1\",VLOOKUP($H$2&\"A\",'SRP Rates'!A:AH,34,0),0)),0)","v":0},0,0,0,0,0,0,0,0,0,0,0,0,0]
[null,null,null,null,null,null,null,null,null,null,null,null,null,null,"","",null,null,{"$f":"IFERROR(IF(K173=\"Designation 2\",VLOOKUP($H$2&\"B\",'SRP Rates'!A:AH,34,0),IF(K173=\"designation 1\",VLOOKUP($H$2&\"A\",'SRP Rates'!A:AH,34,0),0)),0)","v":0},0,0,0,0,0,0,0,0,0,0,0,0,0]
[null,null,null,null,null,null,null,null,null,null,null,null,null,null,"","",null,null,{"$f":"IFERROR(IF(K174=\"Designation 2\",VLOOKUP($H$2&\"B\",'SRP Rates'!A:AH,34,0),IF(K174=\"designation 1\",VLOOKUP($H$2&\"A\",'SRP Rates'!A:AH,34,0),0)),0)","v":0},0,0,0,0,0,0,0,0,0,0,0,0,0]
[null,null,null,null,null,null,null,null,null,null,null,null,null,null,"","",null,null,{"$f":"IFERROR(IF(K175=\"Designation 2\",VLOOKUP($H$2&\"B\",'SRP Rates'!A:AH,34,0),IF(K175=\"designation 1\",VLOOKUP($H$2&\"A\",'SRP Rates'!A:AH,34,0),0)),0)","v":0},0,0,0,0,0,0,0,0,0,0,0,0,0]
[null,null,null,null,null,null,null,null,null,null,null,null,null,null,"","",null,null,{"$f":"IFERROR(IF(K176=\"Designation 2\",VLOOKUP($H$2&\"B\",'SRP Rates'!A:AH,34,0),IF(K176=\"designation 1\",VLOOKUP($H$2&\"A\",'SRP Rates'!A:AH,34,0),0)),0)","v":0},0,0,0,0,0,0,0,0,0,0,0,0,0]
[null,null,null,null,null,null,null,null,null,null,null,null,null,null,"","",null,null,{"$f":"IFERROR(IF(K177=\"Designation 2\",VLOOKUP($H$2&\"B\",'SRP Rates'!A:AH,34,0),IF(K177=\"designation 1\",VLOOKUP($H$2&\"A\",'SRP Rates'!A:AH,34,0),0)),0)","v":0},0,0,0,0,0,0,0,0,0,0,0,0,0]
[null,null,null,null,null,null,null,null,null,null,null,null,null,null,"","",null,null,{"$f":"IFERROR(IF(K178=\"Designation 2\",VLOOKUP($H$2&\"B\",'SRP Rates'!A:AH,34,0),IF(K178=\"designation 1\",VLOOKUP($H$2&\"A\",'SRP Rates'!A:AH,34,0),0)),0)","v":0},0,0,0,0,0,0,0,0,0,0,0,0,0]
[null,null,null,null,null,null,null,null,null,null,null,null,null,null,"","",null,null,{"$f":"IFERROR(IF(K179=\"Designation 2\",VLOOKUP($H$2&\"B\",'SRP Rates'!A:AH,34,0),IF(K179=\"designation 1\",VLOOKUP($H$2&\"A\",'SRP Rates'!A:AH,34,0),0)),0)","v":0},0,0,0,0,0,0,0,0,0,0,0,0,0]
[null,null,null,null,null,null,null,null,null,null,null,null,null,null,"","",null,null,{"$f":"IFERROR(IF(K180=\"Designation 2\",VLOOKUP($H$2&\"B\",'SRP Rates'!A:AH,34,0),IF(K180=\"designation 1\",VLOOKUP($H$2&\"A\",'SRP Rates'!A:AH,34,0),0)),0)","v":0},0,0,0,0,0,0,0,0,0,0,0,0,0]
[null,null,null,null,null,null,null,null,null,null,null,null,null,null,"","",null,null,{"$f":"IFERROR(IF(K181=\"Designation 2\",VLOOKUP($H$2&\"B\",'SRP Rates'!A:AH,34,0),IF(K181=\"designation 1\",VLOOKUP($H$2&\"A\",'SRP Rates'!A:AH,34,0),0)),0)","v":0},0,0,0,0,0,0,0,0,0,0,0,0,0]
[null,null,null,null,null,null,null,null,null,null,null,null,null,null,"","",null,null,{"$f":"IFERROR(IF(K182=\"Designation 2\",VLOOKUP($H$2&\"B\",'SRP Rates'!A:AH,34,0),IF(K182=\"designation 1\",VLOOKUP($H$2&\"A\",'SRP Rates'!A:AH,34,0),0)),0)","v":0},0,0,0,0,0,0,0,0,0,0,0,0,0]
[null,null,null,null,null,null,null,null,null,null,null,null,null,null,"","",null,null,{"$f":"IFERROR(IF(K183=\"Designation 2\",VLOOKUP($H$2&\"B\",'SRP Rates'!A:AH,34,0),IF(K183=\"designation 1\",VLOOKUP($H$2&\"A\",'SRP Rates'!A:AH,34,0),0)),0)","v":0},0,0,0,0,0,0,0,0,0,0,0,0,0]
[null,null,null,null,null,null,null,null,null,null,null,null,null,null,"","",null,null,{"$f":"IFERROR(IF(K184=\"Designation 2\",VLOOKUP($H$2&\"B\",'SRP Rates'!A:AH,34,0),IF(K184=\"designation 1\",VLOOKUP($H$2&\"A\",'SRP Rates'!A:AH,34,0),0)),0)","v":0},0,0,0,0,0,0,0,0,0,0,0,0,0]
[null,null,null,null,null,null,null,null,null,null,null,null,null,null,"","",null,null,{"$f":"IFERROR(IF(K185=\"Designation 2\",VLOOKUP($H$2&\"B\",'SRP Rates'!A:AH,34,0),IF(K185=\"designation 1\",VLOOKUP($H$2&\"A\",'SRP Rates'!A:AH,34,0),0)),0)","v":0},0,0,0,0,0,0,0,0,0,0,0,0,0]
[null,null,null,null,null,null,null,null,null,null,null,null,null,null,"","",null,null,{"$f":"IFERROR(IF(K186=\"Designation 2\",VLOOKUP($H$2&\"B\",'SRP Rates'!A:AH,34,0),IF(K186=\"designation 1\",VLOOKUP($H$2&\"A\",'SRP Rates'!A:AH,34,0),0)),0)","v":0},0,0,0,0,0,0,0,0,0,0,0,0,0]
[null,null,null,null,null,null,null,null,null,null,null,null,null,null,"","",null,null,{"$f":"IFERROR(IF(K187=\"Designation 2\",VLOOKUP($H$2&\"B\",'SRP Rates'!A:AH,34,0),IF(K187=\"designation 1\",VLOOKUP($H$2&\"A\",'SRP Rates'!A:AH,34,0),0)),0)","v":0},0,0,0,0,0,0,0,0,0,0,0,0,0]
[null,null,null,null,null,null,null,null,null,null,null,null,null,null,"","",null,null,{"$f":"IFERROR(IF(K188=\"Designation 2\",VLOOKUP($H$2&\"B\",'SRP Rates'!A:AH,34,0),IF(K188=\"designation 1\",VLOOKUP($H$2&\"A\",'SRP Rates'!A:AH,34,0),0)),0)","v":0},0,0,0,0,0,0,0,0,0,0,0,0,0]
[null,null,null,null,null,null,null,null,null,null,null,null,null,null,null,null,null,null,"pre 16 count",{"$f":"COUNTIFS($O$17:$O$188,\"Pre-16\",T$17:T$188,\">0\")","v":0},{"$f":"COUNTIFS($O$17:$O$188,\"Pre-16\",U$17:U$188,\">0\")","v":0},0,0,{"$f":"COUNTIFS($O$17:$O$188,\"Pre-16\",X$17:X$188,\">0\")","v":0},{"$f":"COUNTIFS($O$17:$O$188,\"Pre-16\",Y$17:Y$188,\">0\")","v":0},{"$f":"COUNTIFS($P$17:$P$188,\"Pre-16\",Z$17:Z$188,\">0\")","v":0},{"$f":"COUNTIFS($P$17:$P$188,\"Pre-16\",AA$17:AA$188,\">0\")","v":0},0,0,0,0]
[null,null,null,null,null,null,null,null,null,null,null,null,null,null,null,null,null,null,"post 16 count",{"$f":"COUNTIFS($O$17:$O$188,\"Post-16\",T$17:T$188,\">0\")","v":0},{"$f":"COUNTIFS($O$17:$O$188,\"Post-16\",U$17:U$188,\">0\")","v":0},0,0,0,{"$f":"COUNTIFS($O$17:$O$188,\"Post-16\",Y$17:Y$188,\">0\")","v":0},{"$f":"COUNTIFS($P$17:$P$188,\"Post-16\",Z$17:Z$188,\">0\")","v":0},0,0,0,0,0]
[null,null,null,null,null,null,null,null,null,null,null,null,null,null,null,null,null,null,"census",{"$f":"IFERROR(SUMIF('SRP Rates'!B:B,H2,'SRP Rates'!AM:AM),0)","v":0},{"$f":"$T$191","v":0},{"$f":"$T$191","v":0},0,0,0,0,0,0,0,0,0]
[null,null,null,null,null,null,null,null,null,null,null,null,null,null,null,null,null,null,"pre 16 places",{"$f":"IFERROR(SUMIF('SRP Rates'!B:B,H2,'SRP Rates'!F:F),0)","v":0},{"$f":"$T$192","v":0},{"$f":"$T$192","v":0},0,0,0,{"$f":"IFERROR(SUMIF('SRP Rates'!B:B,H2,'SRP Rates'!H:H),0)","v":0},{"$f":"$Z$192","v":0},{"$f":"$Z$192","v":0},0,0,0]
[null,null,null,null,null,null,null,null,null,null,null,null,null,null,null,null,null,null,"post 16 places",0,0,0,0,0,0,0,0,0,0,0,0]
[null,null,null,null,null,null,null,null,null,null,null,null,null,null,null,null,null,null,"excess pre 16 pupils",{"$f":"IF((T189-MAX(T191,T192))<0,0,(T189-MAX(T191,T192)))","v":0},{"$f":"IF((U189-MAX(U191,U192))<0,0,(U189-MAX(U191,U192)))","v":0},0,0,0,0,0,0,0,0,0,0]
[null,null,null,null,null,null,null,null,null,null,null,null,null,null,null,null,null,null,"excess of actual pupils over places",{"$f":"IF(T189+T190-T192-T193<0,0,T189+T190-T192-T193)","v":0},{"$f":"IF(U189+U190-U192-U193<0,0,U189+U190-U192-U193)","v":0},0,0,0,0,0,0,0,0,0,0]

{"sheet":"SRP Rates","index":10,"n_rows":51,"n_cols":53,"rows_kept":51,"cut":false,"hidden":false,"merged":[]}
["How your SRP rate was calculated…",null,null,null,null,"Step 1",null,null,null,null,null,null,"Step 2",null,null,null,null,null,null,null,null,null,"Step 3",null,null,null,null,null,"Step 4"]
[null,null,null,null,null,"First of all we need to establish the commissioned place numbers pre ",null,null,null,null,null,null,"The first part of your SRP rate is based on the rates previously known as Individually",null,null,null,null,null,null,null,null,null,"Now that we have established the mix to be used, we can work out the total",null,null,null,null,null,"Finally we can now bring everything together to find your SRP rate. The rate is only the IAR element as these pupils also attract funding through either "]
[null,null,null,null,null,"and post 16 in both relevant academic years and the weighted",null,null,null,null,null,null,"assigned resources (IAR). There are four rates based on the need type of the pupil, so we",null,null,null,null,null,null,null,null,null,"amount of cash that your number of places should attract if you are exactly at",null,null,null,null,null,"the schools formula budget or the 16-19 allocations. From the total rate we deduct £6,000 element 2 to reach the element 3 rate."]
[null,null,null,null,null,"average number of places in the financial year.",null,null,null,null,null,null,"need to establish the mix of needs types at your school and allocate your places using this",null,null,null,null,null,null,null,null,null,"capacity. Then work out the average per place and feed it into your SRP rate."]
[null,null,null,null,null,null,null,null,null,null,null,null,"mix."]
[null,null,null,null,null,null,null,null,null,null,null,null,null,null,null,null,null,null,null,null,null,null,15133.277419990043,19790.036293320056,11079.219608167476,13106.768514078762,"1-3"]
[null,null,null,null,null,"Place Numbers",null,null,null,null,null,null,"Actual pupils in October 2020 census",null,null,null,null,"Spread of commissioned places with ",null,null,null,null,14613.277419990043,16670.036293320056,8999.2196081674774,11026.768514078762,"4-20"]
[null,null,null,null,null,"2020/21 Academic",null,"2021/22 Academic",null,"2021/22 Financial",null,null,null,null,null,null,null,"October mix",null,null,null,null,13053.277419990043,15630.036293320056,6919.2196081674774,8946.7685140787617,"21+"]
[null,"DFE",null,"School",null,"Pre 16","Post 16","Pre 16","Post 16","Pre 16","Post 16",null,"ASD","PD, HI & VI","SLCN & SPLD","SLD",null,"ASD","PD, HI & VI","SLCN & SPLD","SLD",null,"ASD","PD, HI & VI","SLCN & SPLD","SLD","Average £",null,"Total £","Element 1 pre-16","Element 1 post-16","Element 2","Element 3","Element 3 \n(Monthly)","Class","Summer Places","Winter Places","Census Pupils","Census Pupils","Des 1 2&3","Check","Des 2 2&3","check","Per pupil summary","check","E1 year 1","check","E2 year 1","check","Des 1 y1","Check","Des 2 y1","check"]
["2007A",2007,"A2007","Molehill Copse Primary Academy",null,6,0,10,0,8.3333333333333339,0,null,0,1,2,0,null,0,2.7777777777777777,5.5555555555555554,0,null,0,54972.323037000155,56235.664489819312,0,13344.958503218337,null,{"$f":"ROUND(AA10,0)","v":13345},"Included in the Schools Formula Budget","Included in 16-19 allocation",6000,7344.9585032183368,{"$f":"AG10/12","v":612.07987526819477},"Academy",{"$f":"F10+G10","v":6},{"$f":"H10+I10","v":10},{"$f":"SUM(M10:P10)","v":3},{"$f":"SUM(M10:P10)","v":3}]
["2029A",2029,"A2029","Tymberwood Academy",null,4,0,7,0,5.7500000000000009,0,null,0,7,0,0,null,0,5.7500000000000009,0,0,null,0,105212.70868659034,0,0,18297.86238027658,null,18298,"Included in the Schools Formula Budget","Included in 16-19 allocation",6000,12297.86238027658,1024.8218650230483,"Academy",4,7,7,7]
["2034A",2034,"A2034","Thistle Hill Academy",null,8,0,8,0,8,0,null,0,0,3,0,null,0,0,8,0,null,0,0,78233.756865339819,0,9779.2196081674774,null,9779,"Included in the Schools Formula Budget","Included in 16-19 allocation",6000,3779.2196081674774,314.93496734728978,"Academy",8,8,3,3]
["2036A",2036,"A2036","Valley Invicta Primary School at Leybourne Chase",null,8,0,12,0,10.333333333333334,0,null,4,0,2,0,null,6.8888888888888893,0,3.4444444444444446,0,null,102229.2444488203,0,37237.31198368797,0,13496.763525726607,null,13497,"Included in the Schools Formula Budget","Included in 16-19 allocation",6000,7496.7635257266065,624.73029381055051,"Academy",8,12,6,6]
["2037A",2037,"A2037","Valley Invicta Primary School at Holborough Lakes",null,8,0,12,0,10.333333333333334,0,null,2,0,4,0,null,3.4444444444444446,0,6.8888888888888893,0,null,51894.622224410152,0,68234.623967375956,0,11625.410921785751,null,11625,"Included in the Schools Formula Budget","Included in 16-19 allocation",6000,5625.4109217857513,468.78424348214594,"Academy",8,12,6,6]
["2038A",2038,"A2038","Valley Invicta Primary School at Kings Hill",null,12,0,15,0,13.75,0,null,15,0,0,0,null,13.75,0,0,0,null,202492.56452486309,0,0,0,14726.731965444589,null,14727,"Included in the Schools Formula Budget","Included in 16-19 allocation",6000,8726.7319654445892,727.2276637870491,"Academy",12,15,15,15]
["2039A",2039,"A2039","Martello Grove Academy",null,10,0,15,0,12.916666666666668,0,null,7,0,2,0,null,10.046296296296298,0,2.8703703703703707,0,null,148369.31482119628,0,31801.463690110351,0,13948.705433133415,null,13949,"Included in the Schools Formula Budget","Included in 16-19 allocation",6000,7948.7054331334148,662.39211942778456,"Academy",10,15,9,9]
["2048A",2048,"A2048","Reculver CofE Primary School",null,14,0,14,0,14.000000000000002,0,null,3,5,5,2,null,2.8000000000000007,4.666666666666667,4.666666666666667,1.8666666666666669,null,42373.176775972133,87153.502702160273,48236.358171448221,24465.967892947025,14444.928967323402,null,14445,"Included in the Schools Formula Budget","Included in 16-19 allocation",6000,8444.9289673234016,703.7440806102835,"Academy",14,14,15,15]
["2061A",2061,"A2061","Finberry Park Primary School",null,8,0,11,0,9.75,0,null,0,0,5,0,null,0,0,9.75,0,null,0,0,93982.39117963289,0,9639.2196081674756,null,9639,"Included in the Schools Formula Budget","Included in 16-19 allocation",6000,3639.2196081674756,303.26830068062299,"Academy",8,11,5,5]
["2073A",2073,"A2073","Langley Park Primary Academy",null,13,0,15,0,14.166666666666668,0,null,10,0,0,0,null,14.166666666666668,0,0,0,null,208581.43011652565,0,0,0,14723.395067048868,null,14723,"Included in the Schools Formula Budget","Included in 16-19 allocation",6000,8723.3950670488684,726.94958892073907,"Academy",13,15,10,10]
["2076A",2076,"A2076","Cherry Orchard Academy",null,12,0,12,0,12,0,null,2,0,11,0,null,1.8461538461538463,0,10.153846153846153,0,null,27938.358313827775,0,97616.69140600822,0,10462.920809986334,null,10463,"Included in the Schools Formula Budget","Included in 16-19 allocation",6000,4462.9208099863336,371.91006749886111,"Academy",12,12,13,13]
["2087A",2087,"A2087","Morehall Academy",null,4,0,4,0,4,0,null,0,1,0,0,null,0,4,0,0,null,0,76040.145173280223,0,0,19010.036293320056,null,19010,"Included in the Schools Formula Budget","Included in 16-19 allocation",6000,13010.036293320056,1084.1696911100046,"Academy",4,4,1,1]
["2172A",2172,"A2172","Valley Invicta Primary School at East Borough",null,8,0,12,0,10.333333333333334,0,null,7,0,0,0,null,10.333333333333334,0,0,0,null,152563.86667323046,0,0,0,14764.245161925528,null,14764,"Included in the Schools Formula Budget","Included in 16-19 allocation",6000,8764.245161925528,730.35376349379396,"Academy",8,12,7,7]
["2463A",2463,"A2463","Minterne Community Junior School",null,24,0,24,0,24,0,null,0,0,23,0,null,0,0,24,0,null,0,0,213901.27059601946,0,8912.5529415008114,null,8913,"Included in the Schools Formula Budget","Included in 16-19 allocation",6000,2912.5529415008114,242.71274512506761,"Academy",24,24,23,23]
["2513A",2513,"A2513","The Oaks Community Infant School",null,12,0,12,0,12,0,null,1,0,9,0,null,1.2000000000000002,0,10.8,0,null,18159.932903988054,0,103431.57176820876,0,10132.625389349734,null,10133,"Included in the Schools Formula Budget","Included in 16-19 allocation",6000,4132.6253893497342,344.38544911247783,"Academy",12,12,10,10]
["2654A",2654,"A2654","Canterbury Primary School",null,12,0,15,0,13.75,0,null,10,0,0,0,null,13.75,0,0,0,null,202492.56452486309,0,0,0,14726.731965444589,null,14727,"Included in the Schools Formula Budget","Included in 16-19 allocation",6000,8726.7319654445892,727.2276637870491,"Academy",12,15,10,10]
["2657A",2657,"A2657","Temple Hill",null,6,0,9,0,7.75,0,null,0,0,9,1,null,0,0,6.9750000000000005,0.77500000000000002,null,0,0,69009.556766968162,10157.74559841104,10215.135789081187,null,10215,"Included in the Schools Formula Budget","Included in 16-19 allocation",6000,4215.1357890811869,351.26131575676555,"Academy",6,9,10,10]
["2114A",2114,"A2114","Cage Green Primary School",null,31,0,31,0,31.000000000000004,0,null,30,0,1,0,null,30.000000000000004,0,1,0,null,424358.32259970135,0,11079.219608167476,0,14046.37232928609,null,14046,"Included in the Schools Formula Budget","Included in 16-19 allocation",6000,8046.3723292860905,670.5310274405075,"Academy",31,31,31,31]
["3086A",3086,"A3086","West Malling Church Of England Academy Trust",null,18,0,18,0,18,0,null,0,0,19,0,null,0,0,18,0,null,0,0,168225.95294701459,0,9345.8862748341435,null,9346,"Included in the Schools Formula Budget","Included in 16-19 allocation",6000,3345.8862748341435,278.82385623617864,"Academy",18,18,19,19]
["3914A",3914,"A3914","Oakfield Primary Academy",null,15,0,15,0,15,0,null,12,0,2,0,null,12.857142857142856,0,2.1428571428571428,0,null,189444.99539987196,0,23741.18487464459,0,14212.412018301105,null,14212,"Included in the Schools Formula Budget","Included in 16-19 allocation",6000,8212.4120183011055,684.36766819175875,"Academy",15,15,14,14]
["4000A",4000,"A4000","St Augustine Academy",null,12,0,12,0,12,0,null,12,0,1,0,null,11.076923076923077,0,0.92307692307692313,0,null,163430.14988296662,0,10226.971946000747,0,14471.426819080612,null,14471,"Included in the Schools Formula Budget","Included in 16-19 allocation",6000,8471.4268190806124,705.95223492338437,"Academy",12,12,13,13]
["4002A",4002,"A4002A","Sittingbourne Academy SLCN",null,30,0,40,0,35.833333333333336,0,null,2,0,53,0,null,1.303030303030303,0,34.530303030303031,0,null,19719.119062411268,0,286762.74980323762,0,8552.9823869483407,null,8553,"Included in the Schools Formula Budget","Included in 16-19 allocation",6000,2552.9823869483407,212.74853224569506,"Academy",30,40,55,55]
["4002B",4002,"A4002B","Sittingbourne Academy HI",null,25,0,15,0,19.166666666666668,0,null,0,21,0,0,null,0,19.166666666666668,0,0,null,0,328869.02895530104,0,0,17158.384119407008,null,17158,"Included in the Schools Formula Budget","Included in 16-19 allocation",6000,11158.384119407008,929.86534328391735,"Academy",25,15,21,21]
["4004A",4004,"A4004","Meopham School",null,15,0,15,0,15,0,null,20,0,0,0,null,15,0,0,0,null,220759.16129985065,0,0,0,14717.277419990043,null,14717,"Included in the Schools Formula Budget","Included in 16-19 allocation",6000,8717.2774199900432,726.43978499917023,"Academy",15,15,20,20]
["4016A",4016,"A4016","The Charles Dickens School",null,5,0,5,0,5,0,null,0,6,0,0,null,0,5,0,0,null,0,92710.181466600276,0,0,18542.036293320056,null,18542,"Included in the Schools Formula Budget","Included in 16-19 allocation",6000,12542.036293320056,1045.1696911100046,"Academy",5,5,6,6]
["4023A",4023,"A4023","The Goodwin Academy",null,14,0,14,0,14.000000000000002,0,null,2,0,10,0,null,2.3333333333333335,0,11.666666666666668,0,null,35310.980646643438,0,111230.89542862057,0,10467.276862518856,null,10467,"Included in the Schools Formula Budget","Included in 16-19 allocation",6000,4467.2768625188564,372.27307187657135,"Academy",14,14,12,12]
["4031A",4031,"A4031","Orchards Academy",null,8,0,8,0,8,0,null,4,0,1,0,null,6.4,0,1.6,0,null,95084.975487936288,0,17726.75137306796,0,14101.465857625531,null,14101,"Included in the Schools Formula Budget","Included in 16-19 allocation",6000,8101.4658576255315,675.12215480212762,"Academy",8,8,5,5]
["4172A",4172,"A4172","Hartsdown Technology College",null,8,0,2,0,4.5,0,null,0,2,0,0,null,0,4.5,0,0,null,0,84375.163319940257,0,0,18750.036293320056,null,18750,"Included in the Schools Formula Budget","Included in 16-19 allocation",6000,12750.036293320056,1062.5030244433381,"Academy",8,2,2,2]
["4242A",4242,"A4242","The Abbey School",null,44,0,44,0,44,0,null,41,0,2,0,null,41.953488372093027,0,2.0465116279069768,0,null,580390.52245725668,0,22673.75175624972,0,13706.006232125144,null,13706,"Included in the Schools Formula Budget","Included in 16-19 allocation",6000,7706.0062321251444,642.16718601042874,"Academy",44,44,43,43]
["5421A",5421,"A5421A","The Canterbury Academy SLCN",null,25,0,20,0,22.083333333333336,0,null,1,0,16,0,null,1.2990196078431373,0,20.784313725490197,0,null,19658.424099496871,0,191651.2310717162,0,9568.739102092668,null,9569,"Included in the Schools Formula Budget","Included in 16-19 allocation",6000,3568.739102092668,297.39492517438902,"Academy",25,20,17,17]
["5421B",5421,"A5421B","The Canterbury Academy ASD",null,8,0,8,0,8,0,null,0,0,0,0,null,8,0,0,0,null,118466.21935992033,0,0,0,14808.277419990041,null,14808,"Included in the Schools Formula Budget","Included in 16-19 allocation",6000,8808.2774199900414,734.02311833250349,"Academy",8,8,0,0]
["5434A",5434,"A5434A","The Westlands Academy PD",null,6,0,10,0,8.3333333333333339,0,null,1,9,0,0,null,0.83333333333333348,7.5000000000000009,0,0,null,12611.064516658371,134385.27219990044,0,0,17639.560405987057,null,17640,"Included in the Schools Formula Budget","Included in 16-19 allocation",6000,11639.560405987057,969.96336716558801,"Academy",6,10,10,10]
["5434B",5434,"A5434B","The Westlands Academy SPLD",null,20,0,31,0,26.416666666666671,0,null,4,1,24,4,null,3.2020202020202029,0.80050505050505072,19.212121212121215,3.2020202020202029,null,48352.009516533784,15842.024002480957,179134.09792661155,41547.935545080487,10783.952062739687,null,10784,"Included in the Schools Formula Budget","Included in 16-19 allocation",6000,4783.9520627396869,398.66267189497393,"Academy",20,31,33,33]
["5435A",5435,"A5435","St Gregory's Catholic Comprehensive School",null,9,0,9,0,9,0,null,0,7,0,0,null,0,9,0,0,null,0,159390.32663988051,0,0,17710.036293320056,null,17710,"Included in the Schools Formula Budget","Included in 16-19 allocation",6000,11710.036293320056,975.83635777667132,"Academy",9,9,7,7]
["5446A",5446,"A5446A","St Anselm's Catholic School PD",null,10,0,12,0,11.166666666666668,0,null,0,13,0,0,null,0,11.166666666666668,0,0,null,0,195508.73860874065,0,0,17508.245248543935,null,17508,"Included in the Schools Formula Budget","Included in 16-19 allocation",6000,11508.245248543935,959.02043737866131,"Academy",10,12,13,13]
["5446B",5446,"A5446B","St Anselm's Catholic School ASD",null,12,0,12,0,12,0,null,15,0,0,0,null,12,0,0,0,null,176919.32903988051,0,0,0,14743.277419990043,null,14743,"Included in the Schools Formula Budget","Included in 16-19 allocation",6000,8743.2774199900432,728.60645166583697,"Academy",12,12,15,15]
["6909A",6909,6909,"The Marsh Academy",null,15,0,15,0,15,0,null,13,0,0,0,null,15,0,0,0,null,220759.16129985065,0,0,0,14717.277419990043,null,14717,"Included in the Schools Formula Budget","Included in 16-19 allocation",6000,8717.2774199900432,726.43978499917023,"Academy",15,15,13,13]
["6910A",6910,"6910A","Leigh Academy HI",null,4,0,4,0,4,0,null,0,3,0,0,null,0,4,0,0,null,0,76040.145173280223,0,0,19010.036293320056,null,19010,"Included in the Schools Formula Budget","Included in 16-19 allocation",6000,13010.036293320056,1084.1696911100046,"Academy",4,4,3,3]
["6910B",6910,"6910B","Leigh Academy Language Unit SPLD",null,10,0,10,0,10,0,null,0,1,8,0,null,0,1.1111111111111112,8.8888888888888893,0,null,0,21988.929214800064,86233.06318371091,0,10822.199239851097,null,10822,"Included in the Schools Formula Budget","Included in 16-19 allocation",6000,4822.1992398510974,{"$f":"AG48/12","v":401.8499366542581},"Academy",10,10,9,9]
["6914A",6914,6914,"Longfield Academy",null,36,0,36,0,36,0,null,37,0,1,0,null,35.05263157894737,0,0.94736842105263153,0,null,490311.72430070362,0,10496.102786684976,0,13911.328530205239,null,{"$f":"ROUND(AA49,0)","v":13911},"Included in the Schools Formula Budget","Included in 16-19 allocation",6000,7911.3285302052391,659.27737751710322,"Academy",36,36,38,38]
["6917A",6917,6917,"Dover Christ Church Academy",null,54,0,38,0,44.666666666666671,0,null,16,2,20,13,null,14.013071895424838,1.7516339869281048,17.516339869281047,11.38562091503268,null,206336.90711410888,34664.900173920105,163873.38921495975,131786.60621911898,12014.816478853158,null,12015,"Included in the Schools Formula Budget","Included in 16-19 allocation",6000,6014.8164788531576,501.23470657109647,"Academy",54,38,51,51]
["6920A",6920,6920,"Wilmington Academy",null,15,0,20,0,17.916666666666668,0,null,17,0,0,0,null,17.916666666666668,0,0,0,null,263381.22044148826,0,0,0,14700.347187431902,null,14700,"Included in the Schools Formula Budget","Included in 16-19 allocation",6000,8700.3471874319021,725.0289322859918,"Academy",15,20,17,17]