{"text_format":"1","workbook":"xlsx","n_sheets":19,"sheets":["Data","TestArea","Growth Data","TestAreaY2","Contents","Year 1","MFG Y1","Pupils","Year 2","Year 3","Other Grants","Early Years","High Needs Mainstream","SRP Year 1","SRP Funding Summary","SRP Year 2 & 3","SRP Rates","Growth Funding","BPS Summary"],"not_rendered":{"charts":0,"images":2,"macros":1,"external_links":0,"defined_names":62,"comments":2,"pivot_tables":0},"unopened":[],"bounds":{"document_bytes":16777216,"sheet_cells":100000,"rows_first":2000,"rows_last":500,"rows_between":2000,"halvings":0,"cell_chars":16384,"cell_head_chars":4096},"cells_cut":0,"cells_raw":0,"read":"whole","date_system":"1900"}

{"sheet":"Data","index":0,"n_rows":319,"n_cols":80,"rows_kept":319,"cut":false,"hidden":true,"merged":[]}
[1,2,3,4,5,6,7,8,9,10,11,12,13,14,15,16,17,18,19,20,21,22,23,24,25,26,27,28,29,30,31,32,33,34,35,36,37,38,39,40,41,42,43,44,45,46,47,48,49,50,51,52,53,54,55,56,57,58,59,60,61,62,63,64,65,66,67,68,69,70,71,72,73,74,75,76,77,78,79,80]
["final list","School Name","Phase","F1 - Pri","F1 -KS3","F1 - KS4","F2 - FSM Pri","F2 - FSM Sec","F2 - E6FSM Pri","F2 - E6FSM Sec","F2 - IDACI F - Pri","F2 - IDACI E - Pri","F2 - IDACI D - Pri","F2 - IDACI C - Pri","F2 - IDACI B - Pri","F2 - IDACI A - Pri","F2 - IDACI F - Sec","F2 - IDACI E - Sec","F2 - IDACI D - Sec","F2 - IDACI C - Sec","F2 - IDACI B - Sec","F2 - IDACI A - Sec","F4 - EAL Pri","F4 - EAL Sec","F6 - EYFS Pri","F6 - EYFS Sec","F7 - Lump Sum 19/20","F8 - Sparsity Pri","F8 - Sparsity Sec","F9 - ACA","F10 - Split Site","F11 - Rates","F12 - PFI","F13 - Exceptional Circumstances",null,"SBS - 2018/19","Lump Sum - 2018-19","Sparsity - 2018-19","Split Site - 2018-19","Rates - 2018-19","Pupils - Oct 17","PFI Funding - Future Year?",null,"Early Years - Base Rate","Early Years - QTS","Early Years - Disadvantage",null,"SRP Des1 Pre","SRP Des2 Pre","SRP Des1 Post","SRP Des2 Post","SRP Places Apr - Aug PRE","SRP Places Apr - Aug POST","SRP Places Sep - Mar PRE","SRP Places Sep - Mar Post","SRP actuals PRE (OCT)","SRP actuals POST (OCT)","Teachers Pay Grant (Apr - Aug 2019)"]
[1001,"Northfleet Nursery",6,0,0,0,0,0,0,0,0,0,0,0,0,0,0,0,0,0,0,0,0,0,0,0,0,0,0,0,0,0,0,0,null,0,0,0,0,0,0,0,null,4,0.9,0.16,null,0,null,0,null,0,0,0,0,0,0,1269]
[2000,"St Johns C of E Primary School",1,318,0,0,129.00000000000014,0,187.80434782608694,0,5.0000000000000089,2.0000000000000004,27.999999999999996,101.00000000000009,73.999999999999915,0.99999999999999856,0,0,0,0,0,0,55.768656716417844,0,123.14042553191473,0,120082.8,0,0,1,0,24182,0,0,null,1162675.9968243844,120082.8,0,0,23640,272,0,null,4,0.9,0.19,null,0,null,0,null,0,0,0,0,0,0,3895]
[2002,"Repton Manor Primary School",1,481,0,0,31.000000000000021,0,62.411633109619679,0,33.068750000000001,12.025,7.0145833333333174,14.029166666666683,16.033333333333317,0,0,0,0,0,0,0,43.519047619047633,0,105.18181818181834,0,120082.8,0,0,1,0,14234,0,0,null,1556923.6361176157,120082.8,0,0,14506,449,0,null,"","","",null,0,null,0,null,0,0,0,0,0,0,5811]
[2062,"Darenth Community Primary School",1,194,0,0,41,0,53.888888888888893,0,22.113989637305608,105.54404145077719,3.0155440414507768,7.0362694300518198,4.0207253886010426,0,0,0,0,0,0,0,11.68674698795181,0,78.120805369127467,0,120082.8,0,0,1.0364,0,13409,0,0,null,781497.26653669518,124453.81392,0,0,10923,185,0,null,"","","",null,0,null,0,null,0,0,0,0,0,0,2417]
[2065,"Discovery School, The",1,621,0,0,20,0,31.343848580441641,0,6,6.9999999999999902,0,0,2,0,0,0,0,0,0,0,36.596685082872924,0,128.16135084427785,0,120082.8,0,0,1,0,77461,0,0,null,2089457,120082.8,0,0,73457,630,0,null,"","","",null,0,null,0,null,0,0,0,0,0,0,7992]
[2066,"Maypole Primary School",1,406,0,0,56.000000000000156,0,66.18491484184915,0,34.999999999999986,16.999999999999996,3.9999999999999987,11.999999999999993,5.9999999999999964,0,0,0,0,0,0,0,18.350282485875727,0,122.27485380116964,0,120082.8,0,0,1.0364,0,40919,0,0,null,1482986.5142671948,124453.81392,0,0,48815,409.99999999999994,0,null,"","","",null,0,null,0,null,0,0,0,0,0,0,5396]
[2074,"Sunny Bank Primary School",1,268,0,0,112,0,127.90909090909092,0,54.202247191011253,47.176029962546686,65.243445692883867,9.0337078651685321,66.247191011235941,2.0074906367041199,0,0,0,0,0,0,38.774468085106442,0,124.65116279069755,0,120082.8,0,0,1,0,23814,0,17750,null,1151223.2427523579,120082.8,0,0,19661,273,0,null,4,0.9,0.04,null,0,null,0,null,0,0,0,0,0,0,3895]
[2079,"Woodlands Primary School",1,644,0,0,49.999999999999979,0,73.092024539877301,0,77.999999999999844,7.9999999999999973,0,30.999999999999986,0,0,0,0,0,0,0,0,18.499102333931791,0,146.79411764705867,0,120082.8,0,0,1,0,60325,0,0,null,2145309,120082.8,0,0,55709,653,0,null,"","","",null,0,null,0,null,0,0,0,0,0,0,8329]
[2088,"Crockenhill Primary School",1,202,0,0,9.9999999999999982,0,28.995215311004785,0,0,6,7.9999999999999991,7.9999999999999991,15.000000000000007,0,0,0,0,0,0,0,2.3488372093023284,0,35.857988165680418,0,120082.8,0,0,1.0364,0,23730,0,0,null,801251.40084182878,124453.81392,0,0,23918,207,0,null,"","","",null,0,null,0,null,0,0,0,0,0,0,2716]
[2089,"Anthony Roper Primary School, The",1,304,0,0,16.999999999999986,0,21.29936305732484,0,1.0000000000000011,3.9999999999999982,1.9999999999999991,0,1.0000000000000011,0,0,0,0,0,0,0,4.6769230769230816,0,78.0700389105059,0,120082.8,0,0,1.0364,0,6552,0,0,null,1087455.8458210099,124453.81392,0,0,6409,314,0,null,"","","",null,0,null,0,null,0,0,0,0,0,0,4141]
[2094,"Cobham Primary School",1,220,0,0,6.9999999999999964,0,11.100917431192661,0,13.000000000000002,2,2.999999999999992,0,1.0000000000000009,0,0,0,0,0,0,0,2.3157894736842137,0,36.27659574468094,0,120082.8,0,0,1,0,16940,0,0,null,770861.49527252116,120082.8,0,0,16560,218.00000000000003,0,null,"","","",null,0,null,0,null,0,0,0,0,0,0,2766]
[2095,"Cecil Road Primary and Nursery School",1,381,0,0,44.000000000000021,0,47.749347258485635,0,192.00791556728231,21.110817941952508,6.0316622691292885,2.0105540897097636,2.0105540897097636,0,0,0,0,0,0,0,109.52293577981659,0,104.44859813084099,0,120082.8,0,0,1,0,33516,0,0,null,1417417.7998838061,120082.8,0,0,32785,382,0,null,4,0.9,0,null,0,null,0,null,0,0,0,0,0,0,5671]
[2109,"Higham Primary School",1,211,0,0,16.999999999999996,0,16.999999999999996,0,3.0000000000000031,4.0000000000000036,1.0000000000000009,0,1.9999999999999998,0,0,0,0,0,0,0,1.1657458563535914,0,50.352272727272805,0,120082.8,0,0,1,0,21972,0,0,null,775562.63615846704,120082.8,0,0,18148,216,0,null,"","","",null,0,null,0,null,0,0,0,0,0,0,2741]
[2116,"Lawn Primary School",1,195,0,0,90.000000000000085,0,115.27093596059115,0,2.0000000000000084,3.9999999999999973,9.0000000000000089,30.000000000000028,141.99999999999994,0,0,0,0,0,0,0,37.31481481481481,0,96.199999999999932,0,120082.8,0,0,1,0,20377,0,0,null,906017.12377070438,120082.8,0,0,17812,200,0,null,4,0.9,0.53,null,0,null,0,null,0,0,0,0,0,0,3096]
[2119,"Shears Green Infant School",1,359,0,0,37.000000000000114,0,37.000000000000114,0,84.999999999999915,76.000000000000043,6.0000000000000107,3.0000000000000013,16.000000000000004,0,0,0,0,0,0,0,55.345833333333452,0,67.594142259414269,0,120082.8,0,0,1,0,21420,0,0,null,1296938.5917151149,120082.8,0,0,20953,359,0,null,"","","",null,0,null,0,null,0,0,0,0,0,0,5166]
[2120,"Bean Primary School",1,197,0,0,21.000000000000078,0,33.149038461538467,0,120.0000000000001,12.999999999999993,0,0,3.0000000000000027,0,0,0,0,0,0,0,6.952941176470584,0,61.262195121951308,0,120082.8,0,0,1.0364,0,14028,0,0,null,814536.9363514242,124453.81392,0,0,11427,204,0,null,"","","",null,0,null,0,null,0,0,0,0,0,0,2776]
[2127,"Paddock Wood Primary School",1,617,0,0,80.00000000000027,0,96.115577889447238,0,95.000000000000071,5.9999999999999991,1.9999999999999978,0,1.000000000000002,0,0,0,0,0,0,0,6.9196261682242763,0,143.92734225621396,0,120082.8,0,0,1,0,59472,0,0,null,1994174,120082.8,0,0,58174,605,0,null,"","","",null,0,null,0,null,0,0,0,0,0,0,7675]
[2128,"Capel Primary School",1,209,0,0,17,0,21.791469194312796,0,7.0000000000000044,6.0000000000000071,0.99999999999999978,1.9999999999999996,0,0,0,0,0,0,0,0,0,0,37.89560439560433,0,120082.8,0,0,1,0,20422,0,0,null,754767.9775802393,120082.8,0,0,16636,212,0,null,"","","",null,0,null,0,null,0,0,0,0,0,0,2690]
[2130,"Dunton Green Primary School",1,168,0,0,39.999999999999986,0,39.999999999999986,0,0.99999999999999967,0,0,0,0,0,0,0,0,0,0,0,14.756756756756751,0,55.21678321678327,0,120082.8,0,0,1.0364,0,24182,0,0,null,663412.23673258501,124453.81392,0,0,23640,162,0,null,"","","",null,0,null,0,null,0,0,0,0,0,0,2116]
[2132,"Hadlow School",1,202,0,0,35.99999999999995,0,53.932038834951456,0,2.00995024875622,95.472636815920396,1.0049751243781089,0,0,0,0,0,0,0,0,0,6.6961325966850769,0,47.662921348314548,0,120082.8,0,0,1,0,25237,0,0,null,785899.65596884768,120082.8,0,0,17812,204.99999999999997,0,null,"","","",null,0,null,0,null,0,0,0,0,0,0,2601]
[2133,"Halstead Community Primary School",1,83,0,0,14.999999999999995,0,24.247191011235955,0,0,2.9999999999999987,4.0000000000000044,0,0,0,0,0,0,0,0,0,4.4864864864864904,0,28.424657534246617,0,120082.8,0,0,1.0364,0,9329,0,0,null,433529.13086643082,124453.81392,0,0,8466,91,0,null,"","","",null,0,null,0,null,0,0,0,0,0,0,1306]
[2134,"Four Elms Primary School",1,110,0,0,7.9999999999999964,0,11.891891891891893,0,18.000000000000039,11.999999999999991,0,0,0,0,0,0,0,0,0,0,2.3157894736842137,0,31.263157894736793,0,120082.8,0,0,1.0364,0,13134,0,0,null,487293.18887825799,124453.81392,0,0,12840,110,0,null,"","","",null,0,null,0,null,0,0,0,0,0,0,1461]
[2135,"Horsmonden Primary School",1,180,0,0,10.000000000000009,0,21.340206185567009,0,1.0112359550561802,0,3.0337078651685463,0,0,0,0,0,0,0,0,0,0,0,33.75,0,120082.8,0,0,1,0,18413,0,0,null,705293.66038873245,120082.8,0,0,16804,192,0,null,"","","",null,0,null,0,null,0,0,0,0,0,0,2436]
[2136,"Kemsing Primary School",1,198,0,0,13.000000000000009,0,22.224489795918366,0,1.010204081632653,0,0,0,0,0,0,0,0,0,0,0,2.3294117647058741,0,62.894117647058742,0,120082.8,0,0,1.0364,0,21604,0,0,null,766219.79075113882,124453.81392,0,0,18148,200,0,null,"","","",null,0,null,0,null,0,0,0,0,0,0,2620]
[2137,"Leigh Primary School",1,172,0,0,10.999999999999996,0,15.73170731707317,0,0,3.0175438596491215,0,0,0,0,0,0,0,0,0,0,0,0,37.549295774647959,0,120082.8,0,0,1.0364,0,12005,0,0,null,624693.0618198734,124453.81392,0,0,11736,161,0,null,"","","",null,0,null,0,null,0,0,0,0,0,0,2104]
[2138,"Otford Primary School",1,390,0,0,18.000000000000018,0,32.748091603053439,0,2.9999999999999991,0,0.99999999999999845,0.99999999999999845,0,0,0,0,0,0,0,0,9.5121951219512102,0,79.690402476780037,0,120082.8,0,0,1.0364,0,28980,0,0,null,1354334.224705019,124453.81392,0,0,28348,395,0,null,"","","",null,0,null,0,null,0,0,0,0,0,0,5167]
[2139,"Pembury School",1,442,0,0,18.000000000000004,0,34.285115303983233,0,14.000000000000009,1.9999999999999982,1.0000000000000013,1.0000000000000013,0,0,0,0,0,0,0,0,29.316326530612248,0,94.545454545454533,0,120082.8,0,0,1,0,41832,0,0,null,1560919,120082.8,0,0,40919,475,0,null,"","","",null,0,null,0,null,0,0,0,0,0,0,6045]
[2142,"Sandhurst Primary School",1,143,0,0,17.000000000000018,0,24.340425531914892,0,26.000000000000025,2.0000000000000018,0,0,0.99999999999999967,0,0,0,0,0,0,0,3.3000000000000034,0,36.317460317460323,0,120082.8,0,0,1,0,21236,0,0,null,559162.0332488782,120082.8,0,0,20760,138,0,null,"","","",null,0,null,0,null,0,0,0,0,0,0,1781]
[2147,"Weald Community Primary School",1,170,0,0,7.0000000000000009,0,7.4374999999999991,0,0,1.9999999999999929,1.9999999999999929,0,0,0,0,0,0,0,0,0,11.409395973154355,0,39.62406015037589,0,120082.8,0,0,1.0364,0,14976,0,0,null,619830.81449712988,124453.81392,0,0,13920,158,0,null,"","","",null,0,null,0,null,0,0,0,0,0,0,2064]
[2148,"Shoreham Village School",1,94,0,0,13.000000000000044,0,24.791208791208792,0,0.99999999999999756,0,0,0.99999999999999756,0,0,0,0,0,0,0,0,3.4814814814814778,0,27.210526315789444,0,120082.8,0,0,1.0364,0,13871,0,0,null,423746.11087421566,124453.81392,0,0,14280,89,0,null,"","","",null,0,null,0,null,0,0,0,0,0,0,1306]
[2155,"Slade Primary School",1,389,0,0,19.000000000000007,0,37.244680851063826,0,5.0000000000000018,9.0000000000000036,0,3.0000000000000013,0,0,0,0,0,0,0,0,34.288753799392111,0,120.80745341614902,0,120082.8,0,0,1,0,32857,0,0,null,1294851.9295423438,120082.8,0,0,24454,379,0,null,"","","",null,985.74008760577362,null,985.74008760577362,null,5,0,5,0,7,0,4885]
[2156,"Sussex Road Community Primary School",1,448,0,0,38.000000000000014,0,54.120805369127517,0,1.0000000000000013,15.999999999999993,0,1.999999999999998,0,0,0,0,0,0,0,0,48.370179948586049,0,74.864721485411195,0,120082.8,0,0,1,0,47221,0,0,null,1477907.9677030167,120082.8,0,0,42891,441.99999999999994,0,null,"","","",null,0,null,0,null,0,0,0,0,0,0,5607]
[2161,"Boughton Monchelsea Primary School",1,208,0,0,10.000000000000005,0,20.701421800947866,0,7.0679611650485352,0,3.0291262135922321,5.0485436893203932,5.0485436893203932,0,0,0,0,0,0,0,5.8100558659217771,0,64.632768361581896,0,120082.8,0,0,1,0,24140,0,0,null,780082.18928199576,120082.8,0,0,21720,211,0,null,"","","",null,0,null,0,null,0,0,0,0,0,0,2730]
[2163,"East Farleigh Primary School",1,200,0,0,4,0,15.763546798029557,0,23,0,2,7.0000000000000009,2,0,0,0,0,0,0,0,7.0588235294117601,0,36.686390532544401,0,120082.8,0,0,1,0,18371,0,0,null,737294.91240303486,120082.8,0,0,16080,203,0,null,"","","",null,0,null,0,null,0,0,0,0,0,0,2613]
[2164,"East Peckham Primary School",1,158,0,0,9.9999999999999964,0,18.922155688622755,0,6.0382165605095475,8.0509554140127459,0,0,0,0,0,0,0,0,0,0,1.1449275362318836,0,47.878787878787868,0,120082.8,0,0,1,0,23750,0,0,null,626979.57050100155,120082.8,0,0,16804,165,0,null,"","","",null,0,null,0,null,0,0,0,0,0,0,2121]
[2165,"Headcorn Primary School",1,254,0,0,16.999999999999993,0,28.964912280701753,0,2.0000000000000009,0,1.0000000000000004,0,0,0,0,0,0,0,0,0,3.8680203045685317,0,26.18556701030937,0,120082.8,0,0,1,0,42184,0,0,null,782474.12421500543,120082.8,0,0,17140,224.99999999999997,0,null,"","","",null,0,null,0,null,0,0,0,0,0,0,2952]
[2166,"Hollingbourne Primary School",1,99,0,0,3.9999999999999996,0,9.8019801980198018,0,0,0,0,0,0.99999999999999989,0,0,0,0,0,0,0,0,0,21.999999999999975,0,120082.8,0,0,1,0,15425,0,0,null,426974.58246729418,120082.8,0,0,13440,100,0,null,"","","",null,0,null,0,null,0,0,0,0,0,0,1269]
[2167,"Ightham Primary School",1,201,0,0,0.99999999999999944,0,3.0149999999999997,0,5.9999999999999964,0,0,0,0,0,0,0,0,0,0,0,3.5263157894736827,0,37.924528301886816,0,120082.8,0,0,1,0,24486,0,0,null,730092.36341511074,120082.8,0,0,20640,204.99999999999997,0,null,"","","",null,0,null,0,null,0,0,0,0,0,0,2648]
[2168,"Lenham Primary School",1,205,0,0,26.000000000000018,0,28.444976076555026,0,0,0,0,0,0.99999999999999889,0,0,0,0,0,0,0,4.6857142857142939,0,50.058139534883743,0,120082.8,0,0,1,0,20457,0,0,null,750808.22191519383,120082.8,0,0,17980,208,0,null,"","","",null,0,null,0,null,0,0,0,0,0,0,2694]
[2169,"Platts Heath Primary School",1,68,0,0,7.9999999999999716,0,13.076923076923078,0,3.9999999999999996,0,1.0000000000000016,1.0000000000000016,1.0000000000000016,0,0,0,0,0,0,0,0,0,21.857142857142829,0,120082.8,0,0,1,0,4230,0,0,null,360535.92320473591,120082.8,0,0,2181,77,0,null,"","","",null,0,null,0,null,0,0,0,0,0,0,1269]
[2171,"Brunswick House Primary School",1,419,0,0,47.000000000000192,0,59.857142857142854,0,58.27817745803376,0,6.0287769784172687,4.0191846522781782,0,0,0,0,0,0,0,0,43.063888888888982,0,97.525862068965438,0,120082.8,0,0,1,0,66938,0,0,null,1460327.0782992519,120082.8,0,0,63597,420,0,null,"","","",null,0,null,0,null,0,0,0,0,0,0,5329]
[2175,"North Borough Junior School",1,336,0,0,46.999999999999872,0,90.699386503067487,0,86.514970059880326,1.0059880239520944,2.0119760479041919,2.0119760479041919,1.0059880239520944,0,0,0,0,0,0,0,50.999999999999901,0,115.20000000000006,0,120082.8,0,0,1,0,24200,0,0,null,1208529.8264648844,120082.8,0,0,18148,329,0,null,"","","",null,0,null,0,null,0,0,0,0,0,0,4174]
[2176,"Park Way Primary School",1,310,0,0,57.999999999999879,0,87.0347003154574,0,96.000000000000085,52.000000000000014,3.9999999999999964,25.000000000000007,6.9999999999999929,0,0,0,0,0,0,0,47.962264150943248,0,117.22689075630262,0,120082.8,0,0,1,0,29894,0,0,null,1190986.0983592605,120082.8,0,0,27362,312,0,null,"","","",null,0,null,0,null,0,0,0,0,0,0,4030]
[2183,"Marden Primary School",1,283,0,0,48.000000000000085,0,62.174242424242422,0,3.0213523131672617,1.0071174377224186,115.81850533807831,0,2.0142348754448403,0,0,0,0,0,0,0,10.395918367346933,0,81.198312236287009,0,120082.8,0,0,1,0,28130,0,0,null,970639.16622589529,120082.8,0,0,25636,257,0,null,"","","",null,0,null,0,null,0,0,0,0,0,0,3261]
[2185,"Mereworth Community Primary School",1,209,0,0,21.000000000000099,0,29.575471698113208,0,4.0192307692307629,8.0384615384615454,2.0096153846153855,1.0048076923076927,2.0096153846153855,0,0,0,0,0,0,0,4.5934065934065984,0,52.83707865168541,0,120082.8,0,0,1,0,29329,0,0,null,780483.91834540106,120082.8,0,0,25390,212.99999999999997,0,null,"","","",null,0,null,0,null,0,0,0,0,0,0,2753]
[2187,"Offham Primary School",1,210,0,0,1.9999999999999991,0,3.0143540669856459,0,24.999999999999989,3.0000000000000027,0,0,0,0,0,0,0,0,0,0,2.3333333333333308,0,36.779661016949127,0,120082.8,0,0,1,0,26818,0,0,null,745671.30260763783,120082.8,0,0,22920,208,0,null,"","","",null,0,null,0,null,0,0,0,0,0,0,2639]
[2188,"Plaxtol Primary School",1,92,0,0,3.9999999999999987,0,4.8936170212765955,0,2.9999999999999987,2.9999999999999987,0,1.9999999999999993,0,0,0,0,0,0,0,0,0,0,15.946666666666637,0,120082.8,0,0,1,0,16998,0,0,null,404143.70959629479,120082.8,0,0,13320,93,0,null,"","","",null,0,null,0,null,0,0,0,0,0,0,1269]
[2189,"Ryarsh Primary School",1,209,0,0,0.99999999999999978,0,8.9571428571428573,0,2.9999999999999933,6.0000000000000071,0,0,0,0,0,0,0,0,0,0,0,0,39.921348314606703,0,120082.8,0,0,1,0,21049,0,0,null,745758.06638711668,120082.8,0,0,16804,210,0,null,"","","",null,0,null,0,null,0,0,0,0,0,0,2694]
[2190,"Shipbourne School",1,55,0,0,9.0000000000000195,0,11.203703703703702,0,2.9999999999999978,5.9999999999999956,2.0000000000000018,0,0,0,0,0,0,0,0,0,7.1739130434782803,0,9.3902439024390141,0,120082.8,0,0,1,0,9993,0,0,null,281211.04895936965,120082.8,0,0,5883,51,0,null,"","","",null,0,null,0,null,0,0,0,0,0,0,1269]
[2191,"St Katherine's School",1,581,0,0,82.000000000000185,0,104.91652470187394,0,11,309,4.9999999999999964,0.99999999999999944,0.99999999999999944,0,0,0,0,0,0,0,6.9999999999999778,0,153.51626016260175,0,120082.8,0,0,1,0,72925,0,0,null,1999633.1710758072,120082.8,0,0,68034,580,0,null,4,0.9,0,null,0,null,0,null,0,0,0,0,0,0,7853]
[2192,"Staplehurst School",1,386,0,0,48.999999999999936,0,66.582750582750577,0,0,0,0.99999999999999856,0,2.0000000000000009,0,0,0,0,0,0,0,6.9549549549549479,0,96.203076923076836,0,120082.8,0,0,1,0,38966,0,0,null,1430811.8290472331,120082.8,0,0,36236,425.99999999999994,0,null,"","","",null,0,null,0,null,0,0,0,0,0,0,5459]
[2193,"Sutton Valence Primary School",1,183,0,0,15.999999999999993,0,34.118644067796609,0,2.000000000000004,0,2.9999999999999964,5.9999999999999929,2.9999999999999964,0,0,0,0,0,0,0,6.5357142857142829,0,44.576923076923151,0,120082.8,0,0,1,0,21439,0,0,null,666320.84640233754,120082.8,0,0,17476,174,0,null,"","","",null,0,null,0,null,0,0,0,0,0,0,2208]
[2226,"Eastling Primary School",1,90,0,0,9.9999999999999893,0,13.23529411764706,0,3.9999999999999956,3.9999999999999956,3.9999999999999956,2.9999999999999969,1.9999999999999978,0,0,0,0,0,0,0,1.1392405063291171,0,25.38461538461538,0,120082.8,19973.718958611484,0,1,0,12080,0,0,null,463322.71660593746,120082.8,14963.588785046701,0,9183,105,0,null,"","","",null,0,null,0,null,0,0,0,0,0,0,1332]
[2227,"Ethelbert Road Primary School",1,209,0,0,6.0000000000000071,0,17.914285714285715,0,10.999999999999995,3.9999999999999911,7.0000000000000044,1.9999999999999996,1.9999999999999996,0,0,0,0,0,0,0,2.3483146067415781,0,54.87709497206712,0,120082.8,0,0,1,0,11293,0,0,null,761922.98342744401,120082.8,0,0,11040,210,0,null,"","","",null,0,null,0,null,0,0,0,0,0,0,2718]
[2228,"Davington Primary School",1,409,0,0,48.000000000000007,0,74.72115384615384,0,36.000000000000007,32.000000000000007,28.000000000000004,36.999999999999993,107.99999999999982,0,0,0,0,0,0,0,8.0647887323943532,0,126.56733524355296,0,120082.8,0,0,1,0,38808,0,0,null,1509959.3191034552,120082.8,0,0,35256,417,0,null,"","","",null,0,null,0,null,0,0,0,0,0,0,5330]
[2231,"Lower Halstow School",1,149,0,0,11,0,24.032258064516128,0,18.000000000000036,1.9999999999999987,5.0000000000000044,1.9999999999999987,0,0,0,0,0,0,0,0,1.095588235294118,0,35.196850393700807,0,120082.8,0,0,1,0,20499,0,0,null,614138.0727383981,120082.8,0,0,20040,156,0,null,"","","",null,0,null,0,null,0,0,0,0,0,0,2050]
[2237,"Queenborough School and Nursery",1,431,0,0,122.99999999999994,0,171.57314148681056,0,63.999999999999986,11.000000000000014,0,23.999999999999996,161.9999999999998,123.99999999999987,0,0,0,0,0,0,6.9516129032257989,0,121.44198895027624,0,120082.8,0,0,1,0,33516,0,0,null,1618411.3867357799,120082.8,0,0,29827,417.99999999999994,0,null,4,0.9,0.24,null,0,null,0,null,0,0,0,0,0,0,6191]
[2239,"Rodmersham School",1,100,0,0,0,0,4.0404040404040407,0,4,3,8,5,0,0,0,0,0,0,0,0,1.14942528735632,0,11.9047619047619,0,120082.8,0,0,1,0,5769,0,6027,null,407112.51805753703,120082.8,0,0,4936,99,0,null,"","","",null,0,null,0,null,0,0,0,0,0,0,1269]
[2245,"Rose Street School",1,350,0,0,129.99999999999986,0,168.35443037974684,0,7,3.9999999999999902,2.9999999999999996,88.999999999999901,149.00000000000009,93.000000000000099,0,0,0,0,0,0,21.724137931034491,0,104.62633451957295,0,120082.8,0,0,1,0,78624,0,0,null,1378570.8499010007,120082.8,0,0,30813,322,0,null,4,0.9,0.46,null,0,null,0,null,0,0,0,0,0,0,4791]
[2254,"Canterbury Road Primary School",1,210,0,0,26.000000000000039,0,49.763033175355453,0,28.999999999999979,84,9.9999999999999964,27.000000000000092,24.999999999999989,6.0000000000000053,0,0,0,0,0,0,16.333333333333339,0,88.295454545454461,0,120082.8,0,0,1,0,29484,0,0,null,856808.72457992774,120082.8,0,0,28841,208.99999999999997,0,null,"","","",null,0,null,0,null,0,0,0,0,0,0,2694]
[2258,"Blean Primary School",1,433,0,0,18.999999999999993,0,31.852873563218392,0,8.9999999999999982,0.99999999999999956,33.999999999999986,20.999999999999993,7.9999999999999964,0,0,0,0,0,0,0,75.455764075066853,0,78.061971830985883,0,120082.8,0,0,1,0,37044,0,0,null,1480385.3254280954,120082.8,0,0,34900,435,0,null,"","","",null,0,null,0,null,0,0,0,0,0,0,5519]
[2259,"Chartham Primary School",1,346,0,0,57.000000000000142,0,70.188571428571422,0,0,0,0.99999999999999845,5.999999999999984,2.0000000000000004,0,0,0,0,0,0,0,12.814814814814802,0,92.591549295774684,0,120082.8,0,0,1,0,28450,0,0,null,1201193.0788794179,120082.8,0,0,22503,350,0,null,"","","",null,0,null,0,null,0,0,0,0,0,0,4569]
[2263,"Herne Bay Infant School",1,350,0,0,59.000000000000156,0,59.000000000000156,0,57.00000000000005,31.000000000000011,98.000000000000014,0,1.0000000000000011,0,0,0,0,0,0,0,14.83050847457627,0,105.29661016949166,0,120082.8,0,0,1,0,15712,0,0,null,1257287.7034879827,120082.8,0,0,15360,345,0,null,4,0.9,0,null,0,null,0,null,0,0,0,0,0,0,5412]
[2265,"Hoath Primary School",1,88,0,0,7.9999999999999991,0,8.1860465116279073,0,13.000000000000025,21.000000000000032,3.0000000000000009,0,0,0,0,0,0,0,0,0,1.2054794520547945,0,19.830985915492928,0,120082.8,0,0,1,0,14116,0,0,null,398328.20572712482,120082.8,0,0,13800,86,0,null,"","","",null,0,null,0,null,0,0,0,0,0,0,1269]
[2268,"Westmeads Community Infant School",1,177,0,0,16,0,19.666666666666664,0,0,0,3.0000000000000031,0,7.000000000000008,0,0,0,0,0,0,0,7.5641025641025585,0,45.775862068965445,0,120082.8,0,0,1,0,19395,0,0,null,676228.98383401369,120082.8,0,0,18960,179,0,null,"","","",null,0,null,0,null,0,0,0,0,0,0,2542]
[2269,"Whitstable Junior School",1,276,0,0,28.000000000000043,0,66.6914498141264,0,6.0218181818181762,0,15.054545454545442,1.0036363636363645,38.138181818181764,0,0,0,0,0,0,0,2.9999999999999991,0,91.999999999999901,0,120082.8,0,0,1,0,18535,0,0,null,982890.75173481181,120082.8,0,0,18120,268,0,null,"","","",null,0,null,0,null,0,0,0,0,0,0,3400]
[2270,"Aldington Primary School",1,197,0,0,4.0000000000000036,0,18.438423645320196,0,6.0000000000000053,4.0000000000000036,6.0000000000000053,3.0000000000000027,2.0000000000000018,0,0,0,0,0,0,0,0,0,42.561728395061657,0,120082.8,0,0,1,0,29484,0,0,null,756078.6654509037,120082.8,0,0,28841,206,0,null,"","","",null,0,null,0,null,0,0,0,0,0,0,2636]
[2272,"East Stour Primary School",1,415,0,0,73.999999999999929,0,142,0,16.000000000000007,79.000000000000199,0,96.999999999999943,10.000000000000011,0,0,0,0,0,0,0,38.25418994413409,0,135.43413173652715,0,120082.8,0,0,1,0,52920,0,0,null,1530564.1193319878,120082.8,0,0,51765,408,0,null,4,0.9,0.16,null,0,null,0,null,0,0,0,0,0,0,5659]
[2275,"Victoria Road Primary School",1,211,0,0,27.000000000000028,0,52.75,0,110.9999999999999,14.999999999999995,0,9.0000000000000089,7.0000000000000062,0,0,0,0,0,0,0,20.983425414364643,0,56.346590909090999,0,120082.8,0,0,1,0,14853,0,0,null,829783.96267010458,120082.8,0,0,14520,210,0,null,"","","",null,0,null,0,null,0,0,0,0,0,0,2706]
[2276,"Willesborough Infant School",1,367,0,0,31.999999999999993,0,51.744125326370764,0,1.0000000000000018,51.000000000000092,0,52.000000000000107,1.9999999999999996,0,0,0,0,0,0,0,76.223076923077045,0,77.717647058823545,0,120082.8,0,0,1,0,22709,0,0,null,1361129.1480027451,120082.8,0,0,20669,379,0,null,"","","",null,0,null,0,null,0,0,0,0,0,0,5307]
[2278,"Bethersden Primary School",1,129,0,0,22.000000000000036,0,23.362204724409452,0,3.0000000000000036,1.9999999999999938,0.99999999999999944,3.0000000000000036,7.0000000000000044,0,0,0,0,0,0,0,1.1415929203539819,0,38.699999999999996,0,120082.8,6947.3805073431267,0,1,0,10802,0,0,null,526062.25776232069,120082.8,8283.4152202937203,0,10250,125.00000000000001,0,null,"","","",null,0,null,0,null,0,0,0,0,0,0,1586]
[2279,"Brook Community Primary School",1,97,0,0,10.999999999999991,0,19.400000000000002,0,1.0000000000000036,6.0000000000000018,0,3.0000000000000009,6.0000000000000018,0,0,0,0,0,0,0,5.7058823529411757,0,20.155844155844175,0,120082.8,0,0,1,0,8470,0,0,null,399759.9279529163,120082.8,0,0,7605,88,0,null,"","","",null,0,null,0,null,0,0,0,0,0,0,1269]
[2280,"Challock Primary School",1,212,0,0,5.0000000000000089,0,11.052132701421801,0,0,11.000000000000002,0,0,0,0,0,0,0,0,0,0,3.4945054945054981,0,53.296089385474922,0,120082.8,0,0,1,0,19395,0,0,null,757268.70213959052,120082.8,0,0,18960,211,0,null,"","","",null,0,null,0,null,0,0,0,0,0,0,2706]
[2282,"Great Chart Primary School",1,483,0,0,46.999999999999986,0,76.316008316008322,0,32.999999999999986,21.999999999999993,1.9999999999999993,10.999999999999996,19.999999999999993,0,0,0,0,0,0,0,35.397163120567392,0,85.303102625298138,0,120082.8,0,0,1,0,38052,0,0,null,1614775.3032913203,120082.8,0,0,37222,483,0,null,"","","",null,0,null,0,null,0,0,0,0,0,0,6128]
[2285,"Mersham Primary School",1,196,0,0,7.9999999999999911,0,21.241379310344829,0,0.99999999999999989,13,0,13,6.0000000000000036,0,0,0,0,0,0,0,2.2790697674418632,0,38.963855421686837,0,120082.8,0,0,1,0,7105,0,0,null,713366.82160172542,120082.8,0,0,6314,199,0,null,"","","",null,0,null,0,null,0,0,0,0,0,0,2525]
[2287,"Rolvenden Primary School",1,104,0,0,7.9999999999999973,0,22.43137254901961,0,51.495145631067942,1.0097087378640777,0,0,0,0,0,0,0,0,0,0,3.4285714285714324,0,34.666666666666629,0,120082.8,15297.597463284379,0,1,0,11552,0,0,null,478889.59306625434,120082.8,14629.5801068091,0,9410,106,0,null,"","","",null,0,null,0,null,0,0,0,0,0,0,1371]
[2289,"Smeeth Community Primary School",1,132,0,0,2.9999999999999964,0,14.142857142857142,0,3.9999999999999996,3.9999999999999996,1.0000000000000007,3.9999999999999996,0,0,0,0,0,0,0,0,0,0,36.535714285714249,0,120082.8,0,0,1,0,14607,0,0,null,542164.62188911904,120082.8,0,0,13611,138,0,null,"","","",null,0,null,0,null,0,0,0,0,0,0,1751]
[2296,"Mundella Primary School",1,207,0,0,68.999999999999929,0,96.52849740932642,0,10.147058823529422,10.147058823529422,37.544117647058854,27.397058823529498,64.941176470588147,49.720588235294208,0,0,0,0,0,0,19.881355932203391,0,80.500000000000028,0,120082.8,0,0,1,0,16744,0,0,null,853050.12940762122,120082.8,0,0,13228,194,0,null,"","","",null,0,null,0,null,0,0,0,0,0,0,2472]
[2298,"Hawkinge Primary School",1,382,0,0,45.999999999999901,0,74.335135135135133,0,134.35170603674547,6.0157480314960656,2.005249343832022,2.005249343832022,15.039370078740165,4.010498687664044,0,0,0,0,0,0,12.850152905198756,0,120.56874999999999,0,120082.8,0,0,1,0,8114,0,0,null,1305614.1744953953,120082.8,0,0,7740,371,0,null,"","","",null,0,null,0,null,0,0,0,0,0,0,4706]
[2300,"Sellindge Primary School",1,103,0,0,2.9999999999999991,0,11.444444444444445,0,1,0,0,0,0,0,0,0,0,0,0,0,0,0,27.775280898876442,0,120082.8,0,0,1,0,16940,0,0,null,462916.03596766025,120082.8,0,0,16560,111.00000000000001,0,null,"","","",null,0,null,0,null,0,0,0,0,0,0,1409]
[2312,"River Primary School",1,426,0,0,36.999999999999993,0,46.780373831775698,0,32.075294117647047,51.12,56.131764705882382,16.037647058823524,40.094117647058809,0,0,0,0,0,0,0,6.9836065573770405,0,105.61983471074394,0,120082.8,0,0,1,0,40320,0,0,null,1481678.0813440792,120082.8,0,0,39440,428.00000000000006,0,null,"","","",null,262.75798142367603,null,262.75798142367603,null,12,0,12,0,9,0,5459]
[2318,"Langdon Primary School",1,84,0,0,9.9999999999999964,0,9.9999999999999964,0,9.9999999999999964,2.9999999999999987,6.9999999999999973,3.9999999999999987,3.9999999999999987,0,0,0,0,0,0,0,6.0869565217391282,0,20.363636363636328,0,120082.8,0,0,1,0,4910,0,0,null,374758.0530047639,120082.8,0,0,4419,82,0,null,"","","",null,0,null,0,null,0,0,0,0,0,0,1269]
[2320,"Eythorne Elvington Community Primary School",1,111,0,0,45.999999999999957,0,62.971153846153847,0,3.999999999999996,63.00000000000005,1.0000000000000002,0,1.999999999999998,0,0,0,0,0,0,0,3.6593406593406632,0,35.318181818181799,0,120082.8,0,0,1,0,17062,0,0,null,494751.6605031201,120082.8,0,0,15124,103,0,null,"","","",null,0,null,0,null,0,0,0,0,0,0,1307]
[2321,"Lydden Primary School",1,86,0,0,10.999999999999996,0,17.760869565217391,0,7.0823529411764721,12.141176470588208,5.0588235294117636,4.0470588235294143,0,0,0,0,0,0,0,0,0,0,4.712328767123287,0,120082.8,0,0,1,0,5167,0,0,null,392724.14093598496,120082.8,0,0,4592,90,0,null,"","","",null,0,null,0,null,0,0,0,0,0,0,1269]
[2322,"Preston Primary School",1,126,0,0,5.9999999999999982,0,19.152000000000001,0,10.08,11.087999999999999,1.008,0,0,0,0,0,0,0,0,0,1.1666666666666667,0,27.339622641509472,0,120082.8,7949.4065420560728,0,1,0,10314,0,0,null,502365.57810877706,120082.8,9619.4499332443302,0,8402,121.00000000000001,0,null,"","","",null,0,null,0,null,0,0,0,0,0,0,1535]
[2326,"Wingham Primary School",1,211,0,0,16.999999999999996,0,27.926470588235293,0,11.999999999999991,1.0000000000000009,0,0,0,0,0,0,0,0,0,0,2.3186813186813211,0,56.028248587570666,0,120082.8,0,0,1,0,30744,0,0,null,742642.58656912111,120082.8,0,0,30073,198,0,null,"","","",null,0,null,0,null,0,0,0,0,0,0,2554]
[2327,"Worth Primary School",1,62,0,0,9.9999999999999893,0,13.478260869565217,0,9.9999999999999893,5.0000000000000018,0,0,2.9999999999999969,0,0,0,0,0,0,0,3.3818181818181792,0,13.115384615384645,0,120082.8,0,0,1,0,3100,0,0,null,328657.23065330845,120082.8,0,0,2755,66,0,null,"","","",null,0,null,0,null,0,0,0,0,0,0,1269]
[2328,"St Mildred's Primary Infant School",1,270,0,0,28.000000000000082,0,28.000000000000082,0,42.000000000000121,6.9999999999999929,0.999999999999999,2.9999999999999969,5.9999999999999938,2.0000000000000009,0,0,0,0,0,0,18.000000000000007,0,73.499999999999929,0,120082.8,0,0,1,0,24550,0,0,null,979746.30998672755,120082.8,0,0,22181,270,0,null,"","","",null,0,null,0,null,0,0,0,0,0,0,3843]
[2329,"Callis Grange Nursery & Infant School",1,270,0,0,35.000000000000099,0,36.40449438202247,0,38.000000000000071,102.00000000000006,6.9999999999999929,7.999999999999992,4.9999999999999947,5.9999999999999938,0,0,0,0,0,0,13.5,0,53.089887640449419,0,120082.8,0,0,1,0,42840,0,0,null,1007092.7926409314,120082.8,0,0,41905,267,0,null,4,0.9,7.0000000000000007E-2,null,0,null,0,null,0,0,0,0,0,0,4124]
[2337,"St Crispin's Community Primary Infant School",1,269,0,0,23.000000000000007,0,24.179775280898877,0,2.9999999999999938,63.000000000000057,8.0000000000000107,1.0000000000000004,2.9999999999999938,1.0000000000000004,0,0,0,0,0,0,7.5139664804469142,0,43.82584269662928,0,120082.8,0,0,1,0,19763,0,0,null,970964.76516968082,120082.8,0,0,19320,268,0,null,"","","",null,0,null,0,null,0,0,0,0,0,0,3714]
[2340,"Ellington Infant School",1,175,0,0,51.999999999999972,0,57.475490196078432,0,60.000000000000028,1.9999999999999951,7,33.99999999999995,33.000000000000078,2.9999999999999925,0,0,0,0,0,0,11.931818181818185,0,57.421875,0,120082.8,0,0,1,0,26460,0,0,null,838346.58239263843,120082.8,0,0,25883,203,0,null,"","","",null,0,null,0,null,0,0,0,0,0,0,2835]
[2345,"Priory Infant School",1,177,0,0,30.000000000000032,0,42.758426966292134,0,95.999999999999957,0.99999999999999933,4.0000000000000044,33.000000000000057,26.000000000000064,0.99999999999999933,0,0,0,0,0,0,13.615384615384611,0,54.461538461538517,0,120082.8,0,0,1,0,30492,0,0,null,756093.8433238857,120082.8,0,0,29827,179,0,null,"","","",null,0,null,0,null,0,0,0,0,0,0,2577]
[2431,"Shears Green Junior School",1,479,0,0,60.999999999999979,0,103.21548117154812,0,103.00000000000024,92.999999999999858,6.9999999999999787,4.9999999999999991,14.000000000000005,1.9999999999999993,0,0,0,0,0,0,16.999999999999979,0,143.38828633405637,0,120082.8,0,0,1,0,21420,0,0,null,1657042.2419152153,120082.8,0,0,20953,478.99999999999994,0,null,"","","",null,0,null,0,null,0,0,0,0,0,0,6077]
[2434,"West Minster Primary School",1,454,0,0,172.00000000000011,0,221.43875278396436,0,5.9999999999999982,4,1.0000000000000013,177.00000000000017,96.999999999999901,145.9999999999998,0,0,0,0,0,0,10.53092783505155,0,112.30526315789493,0,120082.8,0,0,1,0,79128,0,0,null,1767235.0367734728,120082.8,0,0,51765,441,0,null,4,0.9,0.64,null,257.45495112064572,null,257.45495112064572,null,12,0,15,0,15,0,6279]
[2454,"Aycliffe Community Primary School",1,116,0,0,38.000000000000028,0,54.699186991869922,0,5.0877192982456121,3.0526315789473673,6.1052631578947345,92.596491228070207,6.1052631578947345,0,0,0,0,0,0,0,8.8380952380952387,0,44.08,0,120082.8,0,0,1,0,22463,0,0,null,603400.73034044157,120082.8,0,0,21960,127.00000000000001,0,null,"","","",null,0,null,0,null,0,0,0,0,0,0,1611]
[2459,"Riverhead Infant School",1,269,0,0,4.9999999999999902,0,7.0524344569288395,0,1.0037313432835822,0,0,0,0,0,0,0,0,0,0,0,28.394444444444563,0,33.247191011236083,0,120082.8,0,0,1.0364,0,38304,0,0,null,956727.66532900033,124453.81392,0,0,37468,265,0,null,"","","",null,0,null,0,null,0,0,0,0,0,0,3887]
[2465,"Claremont Primary School",1,465,0,0,7.999999999999992,0,18.674698795180724,0,3.0000000000000018,0,0,0,0,0,0,0,0,0,0,0,36.650246305418726,0,86.815856777493551,0,120082.8,0,0,1,0,38052,0,0,null,1632734,120082.8,0,0,35934,499,0,null,"","","",null,0,null,0,null,0,0,0,0,0,0,6331]
[2471,"Whitfield Aspen School",1,484,0,0,103.99999999999989,0,132.18487394957981,0,145.30020703933741,55.113871635610749,32.066252587991706,8.0165631469979264,42.086956521739118,0,0,0,0,0,0,0,10.371428571428558,0,211.60386473429941,0,120082.8,0,0,1,0,64008,0,0,null,1751478.2773762352,120082.8,0,0,62611,474,0,null,"","","",null,1322.5656939999999,null,1322.5656939999999,null,103,0,112,0,104,0,6091]
[2474,"St Paul's Infant School",1,262,0,0,46.999999999999943,0,49.6728624535316,0,83.000000000000014,0,0.99999999999999978,2.9999999999999969,0,0,0,0,0,0,0,0,88.348837209302218,0,97.451219512195095,0,120082.8,0,0,1,0,12970,0,0,null,1059525.2487880168,120082.8,0,0,10800,270,0,null,"","","",null,0,null,0,null,0,0,0,0,0,0,3889]
[2482,"Langton Green Primary School",1,389,0,0,12.000000000000005,0,14.885204081632653,0,19.000000000000007,1.0000000000000004,1.0000000000000004,4.0000000000000018,0,0,0,0,0,0,0,0,4.743902439024386,0,68.288401253918579,0,120082.8,0,0,1,0,38556,0,0,null,1288915.0000000002,120082.8,0,0,37715,391.00000000000006,0,null,"","","",null,0,null,0,null,0,0,0,0,0,0,5073]
[2490,"Bishops Down Primary School",1,267,0,0,16.999999999999993,0,21.722033898305082,0,45.16917293233081,3.0112781954887207,3.0112781954887207,5.0187969924812013,0,0,0,0,0,0,0,0,15.838983050847462,0,69.177272727272694,0,120082.8,0,0,1,0,30744,0,0,null,1040070.1896021627,120082.8,0,0,29696,298,0,null,4,0.9,0,null,868.21926038494769,null,868.21926038494769,null,7,0,7,0,6,0,4212]
[2509,"Singlewell Primary School",1,294,0,0,33.999999999999893,0,47.310344827586206,0,84.000000000000071,19.000000000000014,5.9999999999999938,1.9999999999999989,26.000000000000014,0,0,0,0,0,0,0,31.410256410256459,0,77.636363636363612,0,120082.8,0,0,1,0,50904,0,0,null,980995.54130445514,120082.8,0,0,49793,257,0,null,"","","",null,0,null,0,null,0,0,0,0,0,0,3433]
[2510,"Cheriton Primary School",1,452,0,0,81.000000000000057,0,109.24168514412418,0,64.284444444444347,32.142222222222216,13.057777777777783,19.084444444444436,3.0133333333333345,7.0311111111111311,0,0,0,0,0,0,78.757575757575651,0,145.19553072625718,0,120082.8,0,0,1,0,6197,0,0,null,1599544.4095852752,120082.8,0,0,4864,453,0,null,"","","",null,0,null,0,null,0,0,0,0,0,0,5822]
[2514,"Brookfield Infant School",1,177,0,0,34,0,39,0,0,17.99999999999995,0.99999999999999933,0,17.99999999999995,0,0,0,0,0,0,0,11.800000000000004,0,43.134453781512669,0,120082.8,0,0,1,0,23177,0,0,null,689773.26329964411,120082.8,0,0,16132,178,0,null,"","","",null,0,null,0,null,0,0,0,0,0,0,2507]
[2519,"Vigo Village School",1,188,0,0,13.000000000000005,0,22.520833333333336,0,8.9999999999999964,4.0000000000000089,0,0,0.99999999999999944,0,0,0,0,0,0,0,3.4390243902439082,0,55.294117647058911,0,120082.8,0,0,1,0,21727,0,0,null,726781.89574699081,120082.8,0,0,18148,195,0,null,"","","",null,0,null,0,null,0,0,0,0,0,0,2474]
[2520,"Madginford Primary School",1,642,0,0,17,0,40.999999999999993,0,80.000000000000298,11.99999999999998,15.999999999999996,31.999999999999993,11.99999999999998,0,0,0,0,0,0,0,38.38043478260871,0,128.86861313868596,0,120082.8,0,0,1,0,59882,0,0,null,2098295,120082.8,0,0,56695,638,0,null,"","","",null,0,null,0,null,0,0,0,0,0,0,8095]
[2524,"Palmarsh Primary School",1,147,0,0,32,0,44.417266187050359,0,0.99999999999999944,40.99999999999995,9.0000000000000053,0,2.9999999999999969,0.99999999999999944,0,0,0,0,0,0,3.4999999999999987,0,53.117647058823522,0,120082.8,0,0,1,0,12171,0,0,null,562451.13419140817,120082.8,0,0,8466,133,0,null,"","","",null,0,null,0,null,0,0,0,0,0,0,1688]
[2525,"Painters Ash Primary School",1,407,0,0,59.999999999999829,0,108.40193704600485,0,29.000000000000021,98.000000000000085,8.9999999999999947,19.999999999999986,14,0,0,0,0,0,0,0,36.360230547550429,0,124.86135693215353,0,120082.8,0,0,1,0,40730,0,0,null,1488033.9340165257,120082.8,0,0,32315,415.00000000000006,0,null,"","","",null,0,null,0,null,0,0,0,0,0,0,5330]
[2530,"Tunbury Primary School",1,593,0,0,9.9999999999999787,0,18.653973509933774,0,15.025337837837816,46.077702702702702,16.02702702702701,2.0033783783783794,5.0084459459459483,0,0,0,0,0,0,0,3.481409001956945,0,105.47430830039507,0,120082.8,0,0,1,0,48985,0,0,null,1986770,120082.8,0,0,41170,608,0,null,"","","",null,0,null,0,null,0,0,0,0,0,0,7767]
[2532,"St Margaret's-at-Cliffe Primary School",1,194,0,0,9.9999999999999964,0,13.999999999999998,0,16.999999999999989,9.9999999999999964,5.000000000000008,3.9999999999999947,6.0000000000000018,0,0,0,0,0,0,0,4.6467065868263404,0,41.746835443038066,0,120082.8,0,0,1,0,16503,0,0,null,693412.4724566323,120082.8,0,0,13443,190,0,null,"","","",null,0,null,0,null,0,0,0,0,0,0,2484]
[2534,"Bysing Wood Primary School",1,157,0,0,67.999999999999957,0,90.733766233766232,0,12.999999999999995,8.0000000000000071,48.999999999999929,45.999999999999936,8.9999999999999982,0,0,0,0,0,0,0,6.7769784172661893,0,77.328358208955251,0,120082.8,0,0,1,0,42963,0,0,null,725137.35604669596,120082.8,0,0,14451,155,0,null,"","","",null,0,null,0,null,0,0,0,0,0,0,1966]
[2539,"Stocks Green Primary School",1,217,0,0,1.9999999999999996,0,5.9452054794520546,0,1.0000000000000009,1.0000000000000009,0,1.0000000000000009,0,0,0,0,0,0,0,0,5.8021390374331538,0,27.882681564245846,0,120082.8,0,0,1,0,25445,0,0,null,757308.71137567307,120082.8,0,0,17980,218.00000000000003,0,null,"","","",null,0,null,0,null,0,0,0,0,0,0,2776]
[2545,"Sandgate Primary School",1,426,0,0,34.000000000000014,0,48.226415094339622,0,36.999999999999993,12.999999999999988,13.999999999999993,9.0000000000000071,11.999999999999982,1.0000000000000013,0,0,0,0,0,0,12.803278688524603,0,69.81666666666672,0,120082.8,0,0,1,0,45864,0,0,null,1413122.3701200159,120082.8,0,0,43656,422,0,null,"","","",null,0,null,0,null,0,0,0,0,0,0,5436]
[2552,"Sandling Primary School",1,423,0,0,18,0,31.924528301886792,0,18.999999999999986,2.0000000000000018,1.0000000000000009,1.0000000000000009,2.0000000000000018,0,0,0,0,0,0,0,13.983471074380157,0,83.891061452514094,0,120082.8,0,0,1,0,32162,0,0,null,1379450.7135470116,120082.8,0,0,24402,421,0,null,"","","",null,0,null,0,null,0,0,0,0,0,0,5389]
[2559,"Capel-le-Ferne Primary School",1,208,0,0,12.000000000000002,0,28.40975609756098,0,9.0000000000000071,5.9999999999999902,22.00000000000005,11.000000000000004,33.999999999999901,1.0000000000000004,0,0,0,0,0,0,0,0,55.862857142857237,0,120082.8,0,0,1,0,19026,0,0,null,775161.03493293503,120082.8,0,0,16636,206,0,null,"","","",null,0,null,0,null,0,0,0,0,0,0,2636]
[2562,"Lunsford Primary School",1,207,0,0,20,0,20,0,2,8.0000000000000036,1.0000000000000011,0,3.9999999999999911,0,0,0,0,0,0,0,4.651685393258437,0,50.005617977528054,0,120082.8,0,0,1,0,22154,0,0,null,761662.2181926195,120082.8,0,0,15964,210,0,null,"","","",null,0,null,0,null,0,0,0,0,0,0,2730]
[2569,"Briary Primary School",1,365,0,0,69.999999999999915,0,97.333333333333329,0,106.00000000000016,16.999999999999989,11.000000000000012,0,5,0,0,0,0,0,0,0,6.6565349544072943,0,122.42236024844738,0,120082.8,0,0,1,0,13098,0,0,null,1381857.3274829802,120082.8,0,0,41067,384,0,null,"","","",null,0,null,0,null,0,0,0,0,0,0,4871]
[2574,"Downs View Infant School",1,258,0,0,30.000000000000036,0,40.684615384615384,0,3.0000000000000036,32,12.999999999999998,20.999999999999996,0.99999999999999944,0,0,0,0,0,0,0,14.913294797687865,0,57.16167664670661,0,120082.8,0,0,1,0,27216,0,0,null,971837.87636546581,120082.8,0,0,26622,262,0,null,"","","",null,0,null,0,null,0,0,0,0,0,0,3726]
[2578,"Kingswood Primary School",1,110,0,0,5.0000000000000044,0,13.275862068965518,0,3.0275229357798152,3.0275229357798152,1.0091743119266061,0,6.0550458715596305,0,0,0,0,0,0,0,2.4719101123595557,0,12.222222222222209,0,120082.8,0,0,1,0,11205,0,0,null,476286.53466250142,120082.8,0,0,7562,119.00000000000001,0,null,"","","",null,0,null,0,null,0,0,0,0,0,0,1510]
[2586,"Senacre Wood Primary School",1,206,0,0,33.000000000000092,0,48.763285024154591,0,11.000000000000004,2,71.999999999999986,25.000000000000025,21.999999999999925,0,0,0,0,0,0,0,17.35955056179775,0,73.322033898305193,0,120082.8,0,0,1,0,19868,0,0,null,828158.82277611154,120082.8,0,0,16972,207,0,null,"","","",null,0,null,0,null,0,0,0,0,0,0,2626]
[2603,"Bromstone Primary School, Broadstairs",1,484,0,0,108.00000000000018,0,154.04517453798769,0,86.999999999999758,13.999999999999979,77.999999999999801,71.999999999999815,49.000000000000192,5.0000000000000027,0,0,0,0,0,0,23.971698113207569,0,166.77590361445783,0,120082.8,0,0,1,0,41024,0,0,null,1806692.795361409,120082.8,0,0,29580,492.00000000000006,0,null,"","","",null,521.83732051330935,null,521.83732051330935,null,16,0,16,0,24,0,6241]
[2607,"Parkside Community Primary School",1,95,0,0,57,0,63.925233644859809,0,1.0000000000000016,0,3.9999999999999964,4.9999999999999973,65.999999999999986,1.0000000000000016,0,0,0,0,0,0,5.3977272727272716,0,57.441860465116307,0,120082.8,0,0,1,0,18154,0,0,null,622883.22767753655,120082.8,0,0,14788,110,0,null,4,0.9,0,null,0,null,0,null,0,0,0,0,0,0,1396]
[2611,"St Stephen's Infant School",1,267,0,0,42.000000000000036,0,42.000000000000036,0,24.090225563909765,4.0150375939849612,24.090225563909765,58.218045112781979,68.255639097744393,0,0,0,0,0,0,0,54.613636363636488,0,72.959302325581305,0,120082.8,0,0,1,0,24550,0,0,null,1065867.8231698647,120082.8,0,0,24000,270,0,null,"","","",null,0,null,0,null,0,0,0,0,0,0,3831]
[2615,"High Firs Primary School",1,207,0,0,14.000000000000002,0,31.455882352941174,0,0,21.000000000000032,14.999999999999995,19.000000000000007,17,0,0,0,0,0,0,0,10.52542372881355,0,67.810344827586263,0,120082.8,0,0,1.0364,0,24550,0,0,null,811673.34780260373,124453.81392,0,0,24000,204,0,null,"","","",null,0,null,0,null,0,0,0,0,0,0,2692]
[2626,"Sandwich Infant School",1,131,0,0,14.999999999999984,0,14.999999999999984,0,7.9999999999999956,46.999999999999943,2.0000000000000022,0,2.0000000000000022,0,0,0,0,0,0,0,4.3666666666666618,0,39.741573033707873,0,120082.8,0,0,1,0,13871,0,0,null,569489.19191992795,120082.8,0,0,12099,140,0,null,"","","",null,0,null,0,null,0,0,0,0,0,0,2097]
[2627,"Sandwich Junior School",1,221,0,0,33.00000000000005,0,51.53363228699552,0,14.000000000000009,62.999999999999908,3.9999999999999964,5.9999999999999938,0,0,0,0,0,0,0,0,5.0000000000000062,0,47.504672897196173,0,120082.8,0,0,1,0,23046,0,0,null,828378.57242627686,120082.8,0,0,18191,224.99999999999997,0,null,"","","",null,0,null,0,null,0,0,0,0,0,0,2854]
[2629,"Holywell Primary School Upchurch",1,195,0,0,11.999999999999993,0,18.251231527093594,0,14.000000000000002,6.0000000000000053,1.0000000000000004,0,0,1.0000000000000004,0,0,0,0,0,0,11.67664670658683,0,31.886792452830122,0,120082.8,0,0,1,0,23200,0,0,null,731786.96744031191,120082.8,0,0,21845,200.99999999999997,0,null,"","","",null,0,null,0,null,0,0,0,0,0,0,2671]
[2632,"Sevenoaks Primary School",1,596,0,0,30.999999999999972,0,40.067226890756302,0,2.0000000000000018,0,0,2.0000000000000018,2.0000000000000018,0,0,0,0,0,0,0,87.16205533596866,0,107.55838641188974,0,120082.8,0,0,1.0364,0,74088,0,0,null,2035879.4551890048,124453.81392,0,0,73950,598,0,null,"","","",null,0,null,0,null,0,0,0,0,0,0,7823]
[2643,"Swalecliffe Community Primary School",1,627,0,0,54.999999999999979,0,82.083596214511033,0,87.999999999999716,8.0000000000000018,10.00000000000002,0,10.00000000000002,0,0,0,0,0,0,0,9.1034482758620605,0,152.13970588235267,0,120082.8,0,0,1,0,58968,0,0,null,2086481,120082.8,0,0,57681,634,0,null,"","","",null,0,null,0,null,0,0,0,0,0,0,8177]
[2648,"Aylesham Primary School",1,271,0,0,60.999999999999943,0,96.53648068669527,0,149.00000000000011,0.999999999999999,0.999999999999999,114.99999999999989,0.999999999999999,0,0,0,0,0,0,0,15.86936936936938,0,71.84651162790685,0,120082.8,0,0,1,0,23401,0,0,null,930050.1488659078,120082.8,0,0,18501,230.00000000000003,0,null,"","","",null,0,null,0,null,0,0,0,0,0,0,3023]
[2651,"Broadwater Primary School",1,161,0,0,31.000000000000053,0,47.607526881720432,0,2.9999999999999991,0,5.9999999999999982,66.999999999999943,0,0,0,0,0,0,0,0,19.274647887323955,0,54.438848920863357,0,120082.8,0,0,1,0,17740,0,0,null,765120.14884046442,120082.8,0,0,15292,188,0,null,"","","",null,0,null,0,null,0,0,0,0,0,0,2414]
[2653,"West Borough Primary School",1,450,0,0,61.000000000000206,0,101.12359550561797,0,94.000000000000057,1.999999999999998,4.0000000000000009,4.0000000000000009,4.0000000000000009,0,0,0,0,0,0,0,84.230769230769141,0,118.03278688524586,0,120082.8,0,0,1,0,58874,0,0,null,1599190.1477989464,120082.8,0,0,55709,448,0,null,4,0.9,0,null,0,null,0,null,0,0,0,0,0,0,6501]
[2659,"Sandown School",1,385,0,0,75.000000000000085,0,89.393139841688651,0,196.53141361256559,5.039267015706808,18.141361256544489,0,16.125654450261777,0,0,0,0,0,0,0,7.9032258064516299,0,101.97916666666652,0,120082.8,0,0,1,0,38052,0,0,null,1355038.051746906,120082.8,0,0,37222,379,0,null,"","","",null,0,null,0,null,0,0,0,0,0,0,4815]
[2661,"Cage Green Primary School",1,369,0,0,88.999999999999915,0,123.30000000000001,0,79.214673913043384,16.043478260869559,2.0054347826086949,79.214673913043384,0,0,0,0,0,0,0,0,13.061946902654878,0,102.43880597014908,0,120082.8,0,0,1,0,41425,0,0,null,1491907.9141737858,120082.8,0,0,34590,415.00000000000006,0,null,"","","",null,624.75467638210785,null,624.75467638210785,null,31,0,31,0,27,0,5265]
[2662,"Long Mead Community Primary School",1,143,0,0,48.00000000000005,0,62.258503401360542,0,14,7.9999999999999938,0,38.000000000000036,0,0,0,0,0,0,0,0,11.721311475409838,0,55.192982456140385,0,120082.8,0,0,1,0,17401,0,0,null,648896.26338181063,120082.8,0,0,11427,148,0,null,4,0.9,0.1,null,0,null,0,null,0,0,0,0,0,0,2157]
[2672,"Palm Bay Primary School",1,427,0,0,35,0,65.614657210401887,0,20,3,28.999999999999986,35,18.000000000000007,41.999999999999993,0,0,0,0,0,0,15.208219178082198,0,103.80110497237581,0,120082.8,0,0,1,0,53424,0,0,null,1486765.3748859914,120082.8,0,0,52258,422,0,null,"","","",null,0,null,0,null,0,0,0,0,0,0,5483]
[2674,"King's Farm Primary School",1,358,0,0,132.99999999999994,0,169.19884726224785,0,65.999999999999886,35.999999999999964,28,8,155.99999999999997,0,0,0,0,0,0,0,59.476038338658014,0,159.54347826086939,0,120082.8,0,0,1,0,38341,0,0,null,1748028.1524621716,120082.8,0,0,30337,344,0,null,4,0.9,0.21,null,691.76902403766371,null,691.76902403766371,null,0,0,6,0,0,0,5100]
[2680,"Kings Hill School",1,480,0,0,23.000000000000014,0,39.081419624217119,0,11.046025104602496,8.033472803347296,0,0,1.0041841004184096,0,0,0,0,0,0,0,18.156028368794303,0,101.74563591022465,0,120082.8,0,0,1,0,54781,0,0,null,1570286,120082.8,0,0,50286,475,0,null,"","","",null,0,null,0,null,0,0,0,0,0,0,6026]
[2682,"New Ash Green Primary School",1,399,0,0,19.999999999999993,0,45.031496062992126,0,99.000000000000114,11.999999999999995,1.9999999999999991,0,0.99999999999999956,0,0,0,0,0,0,0,8.1191860465116168,0,105.68749999999984,0,120082.8,0,0,1.0364,0,33264,0,0,null,1336132.7686418851,124453.81392,0,0,27744,377,0,null,"","","",null,0,null,0,null,0,0,0,0,0,0,5046]
[2689,"Craylands School, The",1,295,0,0,38.999999999999858,0,55.383141762452105,0,100.00000000000011,18.999999999999986,0,1.0000000000000011,34.000000000000121,0,0,0,0,0,0,0,17.500000000000004,0,107.95744680851074,0,120082.8,0,0,1.0364,0,32508,74614.176000000007,0,null,1129757.8195881848,124453.81392,0,0,31799,266,0,null,"","","",null,0,null,0,null,0,0,0,0,0,0,3634]
[2692,"Churchill School, The",1,408,0,0,42.999999999999957,0,65.043478260869563,0,86.211302211302083,4.0098280098280101,13.031941031941015,2.0049140049140033,16.039312039312033,2.0049140049140033,0,0,0,0,0,0,24.135211267605637,0,104.09384164222867,0,120082.8,0,0,1,0,12398,0,0,null,1410303.342804919,120082.8,0,0,12128,416,0,null,"","","",null,0,null,0,null,0,0,0,0,0,0,5278]
[3010,"St Paul's CEP School",1,108,0,0,3.999999999999996,0,5.9449541284403669,0,0,6.9999999999999982,1.0000000000000002,1.0000000000000002,11.999999999999988,0,0,0,0,0,0,0,0,0,25.548387096774167,0,120082.8,0,0,1.0364,0,10557,0,0,null,472292.84220625402,124453.81392,0,0,10082,108,0,null,"","","",null,0,null,0,null,0,0,0,0,0,0,1437]
[3015,"Fawkham CEP School",1,105,0,0,3.0000000000000027,0,8.1553398058252426,0,7.0000000000000027,4.9999999999999982,0,1.9999999999999951,0,0,0,0,0,0,0,0,1.1666666666666654,0,13.275862068965475,0,120082.8,0,0,1.0364,0,20745,0,0,null,450671.11377261888,124453.81392,0,0,20280,102,0,null,"","","",null,0,null,0,null,0,0,0,0,0,0,1333]
[3020,"Sedley's CEP School",1,98,0,0,6.9999999999999964,0,6.9999999999999964,0,7.0721649484536036,9.0927835051546424,1.010309278350519,0,1.010309278350519,0,0,0,0,0,0,0,0,0,26.384615384615362,0,120082.8,0,0,1.0364,0,4973,0,0,null,440471.53403197124,124453.81392,0,0,4419,101,0,null,"","","",null,0,null,0,null,0,0,0,0,0,0,1340]
[3022,"Benenden CEP School",1,167,0,0,2.999999999999996,0,12.37037037037037,0,11.201219512195118,1.01829268292683,0,0,0,0,0,0,0,0,0,0,0,0,39.934782608695706,0,120082.8,0,0,1,0,6024,0,15101,null,612818.61119790585,120082.8,0,0,5353,162,0,null,"","","",null,0,null,0,null,0,0,0,0,0,0,2097]
[3023,"Bidborough CEP School",1,210,0,0,6.0000000000000053,0,6.0000000000000053,0,0,4.9999999999999982,0,0,0,0,0,0,0,0,0,0,10.5,0,53.750000000000007,0,120082.8,0,0,1,0,14730,0,0,null,733614.15093604359,120082.8,0,0,14283,206,0,null,"","","",null,0,null,0,null,0,0,0,0,0,0,2659]
[3027,"Cranbrook CEP School",1,160,0,0,42,0,62.337662337662337,0,2,0,0,0,0,0,0,0,0,0,0,0,8.6153846153846079,0,50.322580645161281,0,120082.8,0,0,1,0,25704,0,0,null,621922.71670627804,120082.8,0,0,25143,150,0,null,"","","",null,0,null,0,null,0,0,0,0,0,0,1903]
[3029,"Goudhurst & Kilndown CEP School",1,212,0,0,12.999999999999993,0,21.896713615023476,0,0.99999999999999956,0,8.9999999999999911,0,0,0,0,0,0,0,0,0,3.4945054945054981,0,26.804597701149341,0,120082.8,0,0,1,0,26964,0,0,null,755651.23685057729,120082.8,0,0,26376,211,0,null,"","","",null,0,null,0,null,0,0,0,0,0,0,2694]
[3032,"Hawkhurst CEP School",1,195,0,0,41.999999999999929,0,64.668367346938766,0,71.999999999999943,0,0,1.0000000000000004,0,0,0,0,0,0,0,0,8.272727272727268,0,56.226993865030749,0,120082.8,0,0,1,0,34020,0,0,null,774947.86616847781,120082.8,0,0,33278,196,0,null,"","","",null,0,null,0,null,0,0,0,0,0,0,2507]
[3033,"Hildenborough CEP School",1,204,0,0,11.999999999999998,0,16.238805970149254,0,4.0197044334975276,12.059113300492603,0,0,0,0,0,0,0,0,0,0,4.6896551724137856,0,46.255813953488449,0,120082.8,0,0,1,0,25591,0,0,null,727112.93893237016,120082.8,0,0,21720,198,0,null,"","","",null,0,null,0,null,0,0,0,0,0,0,2512]
[3034,"Lamberhurst St Mary's CEP School",1,209,0,0,7.0000000000000044,0,11.552763819095478,0,2.0096153846153855,1.0048076923076927,0,0,0,0,0,0,0,0,0,0,5.7734806629834265,0,39.63793103448274,0,120082.8,0,0,1,0,27468,0,0,null,718345.41201726429,120082.8,0,0,26869,198,0,null,"","","",null,0,null,0,null,0,0,0,0,0,0,2613]
[3035,"Seal CEP School",1,282,0,0,43.999999999999929,0,77.201520912547537,0,1.9999999999999989,1.9999999999999989,0,0,0,0,0,0,0,0,0,0,16.048780487804891,0,69.876106194690252,0,120082.8,0,0,1.0364,0,14234,0,0,null,980376.91555217409,124453.81392,0,0,12771,263,0,null,"","","",null,0,null,0,null,0,0,0,0,0,0,3586]
[3037,"St John's CEP School, Sevenoaks",1,240,0,0,13.999999999999991,0,19.753086419753085,0,0,1.0000000000000009,0,0,0,0,0,0,0,0,0,0,17.142857142857135,0,57.258883248731046,0,120082.8,0,0,1.0364,0,19185,0,0,null,1015853.2415245138,124453.81392,0,0,22440,242.00000000000003,0,null,"","","",null,0,null,0,null,0,0,0,0,0,0,3162]
[3042,"Speldhurst CEP School",1,177,0,0,2.0000000000000022,0,2.4413793103448276,0,0,0,0,0,0,0,0,0,0,0,0,0,2.3918918918918894,0,24.911111111111158,0,120082.8,0,0,1,0,3049,0,0,null,539241.39367006067,120082.8,0,0,2904,145,0,null,"","","",null,0,null,0,null,0,0,0,0,0,0,1851]
[3043,"Sundridge & Brasted CEP School",1,91,0,0,11.000000000000011,0,16.284210526315789,0,0,4.9999999999999964,0,0,0,0,0,0,0,0,0,0,2.2749999999999999,0,16.430555555555596,0,120082.8,0,0,1.0364,0,6394,0,0,null,427690.81932192465,124453.81392,0,0,5682,96,0,null,"","","",null,0,null,0,null,0,0,0,0,0,0,1306]
[3049,"St James' CEJ School",1,362,0,0,10.000000000000002,0,19.158774373259053,0,15.041551246537388,0,5.0138504155124748,1.0027700831024913,0,0,0,0,0,0,0,0,30.083102493074776,0,94.389684813753433,0,120082.8,0,0,1,0,34776,0,0,null,1222359.5846522502,120082.8,0,0,34017,361,0,null,"","","",null,0,null,0,null,0,0,0,0,0,0,4580]
[3050,"St John's CEP School",1,649,0,0,31.000000000000004,0,55.34108527131783,0,10.000000000000028,31.000000000000004,18.000000000000025,0,0,0,0,0,0,0,0,0,85.914132379248372,0,182.53125,0,120082.8,0,0,1,0,72072,0,0,null,2099474.3454013043,120082.8,0,0,70499,632,0,null,"","","",null,0,null,0,null,0,0,0,0,0,0,8048]
[3052,"St Mark's CEP School",1,309,0,0,48.000000000000092,0,60.973244147157196,0,7.0000000000000018,0,0,71.999999999999972,0,0,0,0,0,0,0,0,38.334586466165462,0,95.853061224489778,0,120082.8,0,0,1,0,44856,0,0,null,1158245.5808277684,120082.8,0,0,43877,310,0,null,"","","",null,0,null,0,null,0,0,0,0,0,0,4065]
[3053,"St Peter's CEP School",1,139,0,0,16.000000000000036,0,23.828571428571429,0,2.0000000000000009,2.0000000000000009,0,1.0000000000000004,0,0,0,0,0,0,0,0,4.6722689075630308,0,32.63478260869563,0,120082.8,0,0,1,0,9850,0,7250,null,552154.9837500311,120082.8,0,0,8753,139,0,null,"","","",null,0,null,0,null,0,0,0,0,0,0,1816]
[3054,"Crockham Hill CEP School",1,142,0,0,4.9999999999999991,0,9.2608695652173907,0,9.9999999999999982,4.9999999999999991,0,0,0,0,0,0,0,0,0,0,2.3278688524590136,0,23.666666666666714,0,120082.8,0,0,1.0364,0,17676,0,12500,null,573181.48801808234,124453.81392,0,0,17280,137,0,null,"","","",null,0,null,0,null,0,0,0,0,0,0,1799]
[3055,"Churchill CEP School",1,257,0,0,22.999999999999996,0,34.443298969072167,0,4.0000000000000133,4.0000000000000133,0,0,0,0,0,0,0,0,0,0,6.6465517241379199,0,51.850877192982381,0,120082.8,0,0,1.0364,0,28476,0,0,null,1041464.2530593065,124453.81392,0,0,22748,294,0,null,"","","",null,0,null,0,null,0,0,0,0,0,0,3960]
[3057,"St Peter's CEP School",1,164,0,0,16,0,23.152941176470588,0,12.000000000000004,1.0000000000000007,14.000000000000004,0,5.0000000000000036,0,0,0,0,0,0,0,7.0285714285714356,0,41,0,120082.8,0,0,1,0,19453,0,9630,null,638694.21200821071,120082.8,0,0,15720,165,0,null,"","","",null,0,null,0,null,0,0,0,0,0,0,2167]
[3061,"Bredhurst CEP School",1,125,0,0,4,0,7.291666666666667,0,2,7,1,1,1,0,0,0,0,0,0,0,7.0093457943925248,0,33.018867924528251,0,120082.8,0,0,1,0,16898,0,0,null,490248.90305635188,120082.8,0,0,14640,120,0,null,"","","",null,0,null,0,null,0,0,0,0,0,0,1523]
[3062,"Burham CEP School",1,172,0,0,16.000000000000004,0,24.894736842105264,0,45.99999999999995,7.0000000000000089,3.0000000000000036,3.0000000000000036,3.0000000000000036,0,0,0,0,0,0,0,4.49673202614379,0,45.706293706293756,0,120082.8,0,0,1,0,25100,0,0,null,603013.86764746939,120082.8,0,0,21240,150,0,null,"","","",null,0,null,0,null,0,0,0,0,0,0,1903]
[3067,"Harrietsham CEP School",1,212,0,0,29.999999999999972,0,34.633663366336634,0,0.99999999999999956,0.99999999999999956,0,0,1.9999999999999991,0,0,0,0,0,0,0,4.7640449438202346,0,50.830409356725134,0,120082.8,0,0,1,0,32414,0,0,null,726925.94521507539,120082.8,0,0,29827,194,0,null,"","","",null,0,null,0,null,0,0,0,0,0,0,2461]
[3069,"Leeds & Broomfield CEP School",1,76,0,0,10.999999999999988,0,15.200000000000001,0,3.04,0,1.0133333333333308,2.0266666666666691,3.04,0,0,0,0,0,0,0,1.2063492063492083,0,26.967741935483843,0,120082.8,0,0,1,0,6895,0,0,null,367027.21454820875,120082.8,0,0,4419,79,0,null,"","","",null,0,null,0,null,0,0,0,0,0,0,1269]
[3072,"St Michael's CEJ School, Maidstone",1,164,0,0,10.000000000000007,0,40.226415094339622,0,27.165644171779125,0,0,9.0552147239263867,2.0122699386502987,0,0,0,0,0,0,0,16,0,41.803921568627494,0,120082.8,0,0,1,0,11988,0,0,null,636354.93469353847,120082.8,0,0,9410,163,0,null,"","","",null,0,null,0,null,0,0,0,0,0,0,2068]
[3073,"St Michael's CEI School, Maidstone",1,121,0,0,7.0000000000000018,0,10,0,25.000000000000014,1.0000000000000007,1.0000000000000007,1.9999999999999989,0,0,0,0,0,0,0,0,23.901234567901248,0,29.876543209876594,0,120082.8,0,0,1,0,11865,0,0,null,515069.81367628893,120082.8,0,0,9720,121.00000000000001,0,null,"","","",null,0,null,0,null,0,0,0,0,0,0,1734]
[3081,"Thurnham CEI School",1,271,0,0,3.999999999999996,0,3.999999999999996,0,2.9999999999999969,0,0,2.0000000000000004,0.999999999999999,0,0,0,0,0,0,0,23.95580110497237,0,49.960893854748512,0,120082.8,0,0,1,0,27878,0,0,null,940263.02267245168,120082.8,0,0,25390,273,0,null,"","","",null,0,null,0,null,0,0,0,0,0,0,3948]
[3082,"Trottiscliffe CEP School",1,82,0,0,4.0000000000000044,0,8.9863013698630141,0,0,3.0370370370370341,0,1.0123456790123473,0,0,0,0,0,0,0,0,0,0,18.088235294117677,0,120082.8,0,0,1,0,9121,0,0,null,320489.23556475365,120082.8,0,0,5108,66,0,null,"","","",null,0,null,0,null,0,0,0,0,0,0,1269]
[3083,"Ulcombe CEP School",1,84,0,0,33.000000000000014,0,33.000000000000014,0,0,0,0,0.99999999999999967,0,0,0,0,0,0,0,0,1.2173913043478257,0,39.622641509433947,0,120082.8,0,0,1,0,6701,0,0,null,350510.77122931695,120082.8,0,0,4247,71,0,null,"","","",null,0,null,0,null,0,0,0,0,0,0,1269]
[3084,"Wateringbury CEP School",1,202,0,0,25.000000000000046,0,26.795918367346939,0,7.0348258706467721,4.0199004975124355,0,0,2.00995024875622,0,0,0,0,0,0,0,4.7529411764705918,0,54.759036144578403,0,120082.8,0,0,1,0,8186,0,0,null,714727.53546869615,120082.8,0,0,4584,199,0,null,"","","",null,0,null,0,null,0,0,0,0,0,0,2525]
[3088,"Wouldham, All Saint's CEP School",1,299,0,0,18.000000000000007,0,20.573394495412845,0,14.000000000000004,39.000000000000107,5.9999999999999929,1.9999999999999998,11.000000000000007,0,0,0,0,0,0,0,5.9325396825396695,0,92.880851063829653,0,120082.8,0,0,1,0,72925,0,0,null,789399.75510506378,120082.8,0,0,18240,215,0,null,"","","",null,0,null,0,null,0,0,0,0,0,0,2753]
[3089,"St George's CEP School",1,209,0,0,19.999999999999996,0,35.658767772511851,0,9.9999999999999982,8.0000000000000018,0,1.9999999999999996,0.99999999999999978,0,0,0,0,0,0,0,2.3351955307262569,0,70.055865921787714,0,120082.8,0,0,1,0,17813,0,0,null,789084.6017304539,120082.8,0,0,11763,210,0,null,"","","",null,0,null,0,null,0,0,0,0,0,0,2683]
[3090,"St Margaret's CEP School, Collier Street",1,118,0,0,4.0000000000000044,0,5.0862068965517242,0,0,0,11.999999999999966,1,1,0,0,0,0,0,0,0,1.18,0,54.183673469387784,0,120082.8,0,0,1,0,15670,0,0,null,504014.65173046006,120082.8,0,0,15960,120,0,null,"","","",null,0,null,0,null,0,0,0,0,0,0,1535]
[3091,"Laddingford St Mary's CEP School",1,78,0,0,14.999999999999977,0,16.20779220779221,0,5.9999999999999982,0,5,0,0,0,0,0,0,0,0,0,2.2608695652173907,0,22.941176470588271,0,120082.8,0,0,1,0,7078,0,5427,null,368736.53060762759,120082.8,0,0,5166,78,0,null,"","","",null,0,null,0,null,0,0,0,0,0,0,1269]
[3092,"Yalding St Peter & St Paul CEP School",1,167,0,0,3.9999999999999947,0,11.851612903225806,0,4.9999999999999929,0,1.0000000000000002,0,0,0,0,0,0,0,0,0,1.176056338028169,0,37.900709219858143,0,120082.8,0,0,1,0,15916,0,0,null,591606.66085694195,120082.8,0,0,13680,156,0,null,"","","",null,0,null,0,null,0,0,0,0,0,0,2027]
[3106,"Eastchurch CEP School",1,435,0,0,102.99999999999987,0,153.86462882096069,0,17.039170506912445,105.24193548387107,0,136.31336405529944,121.27880184331781,12.027649769585272,0,0,0,0,0,0,9.086161879895549,0,149.27613941018782,0,120082.8,0,0,1,33000,76608,0,0,null,1823642.9666209209,120082.8,0,33000,74936,467,0,null,4,0.9,0,null,0,null,0,null,0,0,0,0,0,0,6343]
[3108,"Ospringe CEP School",1,222,0,0,43.000000000000064,0,60.049180327868861,0,27.999999999999972,14.000000000000007,69.000000000000043,2.9999999999999969,12.000000000000011,0,0,0,0,0,0,0,4.4179104477611917,0,57.765306122448969,0,120082.8,0,0,1,0,22709,0,0,null,931582.94084957498,120082.8,0,0,23526,246.00000000000003,0,null,"","","",null,0,null,0,null,0,0,0,0,0,0,3140]
[3109,"Hernhill CEP School",1,203,0,0,8.0000000000000018,0,14,0,22.999999999999911,8.0000000000000018,5.9999999999999964,0,1.0000000000000007,0,0,0,0,0,0,0,0,0,50.456647398843998,0,120082.8,0,0,1,0,31248,0,0,null,756752.82753913209,120082.8,0,0,30566,204.99999999999997,0,null,"","","",null,0,null,0,null,0,0,0,0,0,0,2601]
[3111,"Newington CEP School",1,172,0,0,30.000000000000036,0,52.304093567251456,0,60.000000000000071,6.0000000000000071,4.0000000000000044,0.99999999999999956,0,0.99999999999999956,0,0,0,0,0,0,2.2781456953642416,0,49.972972972973054,0,120082.8,0,0,1,0,33516,0,0,null,692983.551473081,120082.8,0,0,32785,171,0,null,"","","",null,0,null,0,null,0,0,0,0,0,0,2169]
[3117,"Teynham Parochial CEP School",1,209,0,0,35.000000000000028,0,60.446078431372555,0,83.999999999999972,14.000000000000009,15.000000000000009,16.000000000000004,3.9999999999999911,0,0,0,0,0,0,0,9.3407821229050274,0,66.063218390804707,0,120082.8,0,0,1,0,15884,0,0,null,804076.20726779953,120082.8,0,0,12939,202,0,null,"","","",null,0,null,0,null,0,0,0,0,0,0,2624]
[3120,"Barham CEP School",1,207,0,0,5.9999999999999982,0,10.097560975609756,0,22.999999999999975,2.9999999999999991,0,8.9999999999999964,2,0,0,0,0,0,0,0,15.203389830508469,0,35.689655172413737,0,120082.8,0,0,1,0,28224,0,0,null,736716.13859481085,120082.8,0,0,27608,202,0,null,"","","",null,0,null,0,null,0,0,0,0,0,0,2601]
[3122,"Bridge & Patrixbourne CEP School",1,419,0,0,11.000000000000005,0,21,0,6.9999999999999813,0,3.0000000000000018,11.999999999999991,6.9999999999999813,0,0,0,0,0,0,0,38.408333333333346,0,60.88034188034176,0,120082.8,0,0,1,0,34524,0,0,null,1365531.5061283419,120082.8,0,0,33771,413,0,null,"","","",null,0,null,0,null,0,0,0,0,0,0,5342]
[3123,"Chislet CEP School",1,95,0,0,1.0000000000000016,0,8.085106382978724,0,5.9999999999999991,21.999999999999993,2.0000000000000031,0,0,0,0,0,0,0,0,0,1.1875,0,25.576923076923055,0,120082.8,0,0,1,0,6015,0,0,null,409539.78136692086,120082.8,0,0,5682,95,0,null,"","","",null,0,null,0,null,0,0,0,0,0,0,1269]
[3126,"Littlebourne CEP School",1,96,0,0,19.000000000000032,0,26.838709677419352,0,4.0000000000000036,0,1.0000000000000033,10.999999999999968,3,0,0,0,0,0,0,0,7.2911392405063289,0,33.729729729729698,0,120082.8,0,0,1,0,11048,0,0,null,410999.23312018631,120082.8,0,0,10800,88,0,null,"","","",null,0,null,0,null,0,0,0,0,0,0,1269]
[3129,"St Alphege CEI School",1,164,0,0,21.000000000000018,0,22.58682634730539,0,1.0000000000000007,0,10.000000000000007,0,21.000000000000018,0,0,0,0,0,0,0,4.5981308411214963,0,46.415094339622598,0,120082.8,0,0,1,0,30996,0,0,null,659955.03484446381,120082.8,0,0,30320,164,0,null,4,0.9,0,null,0,null,0,null,0,0,0,0,0,0,2624]
[3130,"Wickhambreaux CEP School",1,132,0,0,3.9999999999999996,0,10.476190476190476,0,2.0000000000000067,3.9999999999999996,2.9999999999999964,0,0,0,0,0,0,0,0,0,6.9473684210526283,0,12.571428571428568,0,120082.8,0,0,1,0,8593,0,0,null,505140.95288775675,120082.8,0,0,8400,125.00000000000001,0,null,"","","",null,0,null,0,null,0,0,0,0,0,0,1586]
[3134,"John Mayne CEP School",1,109,0,0,13.000000000000048,0,13.000000000000048,0,0,0,0,0,0,0,0,0,0,0,0,0,2.3956043956043982,0,35.122222222222199,0,120082.8,13627.554072096129,0,1,0,13614,0,0,null,488896.17758469976,120082.8,11289.4933244326,0,11091,116,0,null,"","","",null,0,null,0,null,0,0,0,0,0,0,1472]
[3136,"Brabourne CEP School",1,94,0,0,3.0000000000000022,0,8.545454545454545,0,4,0.99999999999999756,0.99999999999999756,0,0,0,0,0,0,0,0,0,2.3209876543209913,0,25.405405405405382,0,120082.8,0,0,1,0,5413,0,0,null,409694.11748950789,120082.8,0,0,5085,96,0,null,"","","",null,0,null,0,null,0,0,0,0,0,0,1269]
[3137,"Brookland CEP School",1,101,0,0,12.00000000000002,0,18,0,0,9.9999999999999982,35.00000000000005,0.99999999999999989,0,0,0,0,0,0,0,0,1.1744186046511642,0,14.428571428571441,0,120082.8,0,0,1,0,11784,0,0,null,447512.11244370585,120082.8,0,0,11520,102,0,null,"","","",null,0,null,0,null,0,0,0,0,0,0,1347]
[3138,"Chilham St Mary's CEP School",1,93,0,0,17.999999999999982,0,23.25,0,0,0,0,0,0.999999999999999,0,0,0,0,0,0,0,3.4874999999999998,0,27.779220779220807,0,120082.8,0,0,1,0,8073,0,8400,null,418737.86214767181,120082.8,0,0,7174,91,0,null,"","","",null,0,null,0,null,0,0,0,0,0,0,1269]
[3139,"High Halden CEP School",1,90,0,0,6.0000000000000027,0,15.483870967741936,0,0.99999999999999889,0,0,0,0,0,0,0,0,0,0,0,1.084337349397587,0,18,0,120082.8,0,0,1,0,15712,0,0,null,412884.70261056174,120082.8,0,0,15360,92,0,null,"","","",null,0,null,0,null,0,0,0,0,0,0,1269]
[3145,"Woodchurch CEP School",1,174,0,0,24.999999999999961,0,27.798816568047339,0,2.9999999999999951,1.0000000000000002,4.999999999999992,1.0000000000000002,1.0000000000000002,0,0,0,0,0,0,0,0,0,51.958333333333314,0,120082.8,0,0,1,0,11539,0,0,null,623512.55469284509,120082.8,0,0,11280,163,0,null,"","","",null,0,null,0,null,0,0,0,0,0,0,2068]
[3146,"Bodsham CEP School",1,79,0,0,0,0,0.84042553191489355,0,0,1.0128205128205112,1.0128205128205112,0,0,0,0,0,0,0,0,0,1.1126760563380265,0,11.791044776119437,0,120082.8,23647.814419225637,0,1,0,5960,0,0,null,410394.40351367666,120082.8,18971.692923898499,0,5800,93,0,null,"","","",null,0,null,0,null,0,0,0,0,0,0,1269]
[3149,"St Martin's CEP School, Folkestone",1,209,0,0,18,0,29,0,22.000000000000032,17,5.0000000000000098,2.9999999999999933,2.9999999999999933,1.9999999999999996,0,0,0,0,0,0,5.8379888268156321,0,46.717647058823552,0,120082.8,0,0,1,0,19198,0,0,null,763519.80345775886,120082.8,0,0,18768,207,0,null,"","","",null,0,null,0,null,0,0,0,0,0,0,2636]
[3150,"St Peter's CEP School, Folkestone",1,108,0,0,34.000000000000021,0,46.135922330097088,0,1.999999999999998,1.999999999999998,16.999999999999957,33.00000000000005,15.000000000000012,35.999999999999964,0,0,0,0,0,0,5.8064516129032313,0,38.831460674157327,0,120082.8,0,0,1,0,2522,0,27480,null,532023.93597870436,120082.8,0,0,1879,104,0,null,"","","",null,0,null,0,null,0,0,0,0,0,0,1347]
[3153,"Seabrook CEP School",1,107,0,0,9.9999999999999947,0,19.179245283018865,0,16.000000000000018,25.99999999999995,4.9999999999999973,4.0000000000000044,0,0,0,0,0,0,0,0,1.1630434782608692,0,12.159090909090947,0,120082.8,0,0,1,0,1114,0,0,null,449849.82096229936,120082.8,0,0,445,107.00000000000001,0,null,"","","",null,0,null,0,null,0,0,0,0,0,0,1359]
[3154,"Lyminge CEP School",1,198,0,0,5.9999999999999991,0,10.89,0,9.0000000000000089,0.99999999999999989,3.0000000000000098,3.9999999999999996,1.9999999999999998,0.99999999999999989,0,0,0,0,0,0,6.9069767441860543,0,21.469879518072283,0,120082.8,0,0,1,0,27720,0,0,null,719005.10021607124,120082.8,0,0,27115,199,0,null,"","","",null,0,null,0,null,0,0,0,0,0,0,2525]
[3155,"Lympne CEP School",1,204,0,0,4.9999999999999947,0,20.493150684931507,0,3.0000000000000049,23.999999999999915,4.9999999999999947,0,0,0,0,0,0,0,0,0,3.4576271186440715,0,59.302325581395422,0,120082.8,0,0,1,0,45108,0,0,null,814927.23059588275,120082.8,0,0,44124,216,0,null,"","","",null,0,null,0,null,0,0,0,0,0,0,2741]
[3158,"Stelling Minnis CEP School",1,95,0,0,7.0000000000000009,0,11.287128712871286,0,1.0106382978723378,1.0106382978723378,1.0106382978723378,0,0,0,0,0,0,0,0,0,2.2352941176470607,0,23.141025641025681,0,120082.8,18303.67556742323,0,1,0,13871,0,0,null,438081.00559174299,120082.8,17301.6495327103,0,13560,98,0,null,"","","",null,0,null,0,null,0,0,0,0,0,0,1269]
[3159,"Stowting CEP School",1,95,0,0,2.0000000000000031,0,2.96875,0,0,3.0000000000000049,1.0000000000000016,1.0000000000000016,0,0,0,0,0,0,0,0,2.1590909090909065,0,20.357142857142829,0,120082.8,0,0,1,0,13748,0,0,null,413440.82611912297,120082.8,0,0,13440,95,0,null,"","","",null,0,null,0,null,0,0,0,0,0,0,1269]
[3160,"Selsted CEP School",1,101,0,0,3.9999999999999996,0,12,0,15.999999999999957,0,3.9999999999999996,4.9999999999999991,0.99999999999999989,0,0,0,0,0,0,0,1.1744186046511642,0,23.488372093023283,0,120082.8,16299.623497997331,0,1,0,10802,0,0,null,438091.69163860311,120082.8,17969.666889185599,0,10418,96,0,null,"","","",null,0,null,0,null,0,0,0,0,0,0,1269]
[3163,"Downs CEP School, The",1,388,0,0,86.999999999999858,0,106.62595419847329,0,93.999999999999844,1.9999999999999993,50.999999999999936,1.9999999999999993,53.000000000000036,0,0,0,0,0,0,0,1.1582089552238799,0,131.28700906344412,0,120082.8,0,0,1,0,39933,0,0,null,1427515.9884731227,120082.8,0,0,31656,396.99999999999994,0,null,"","","",null,0,null,0,null,0,0,0,0,0,0,5037]
[3167,"Eastry CEP School",1,199,0,0,29.999999999999982,0,37.02325581395349,0,10.999999999999993,14.999999999999991,0.99999999999999933,1.9999999999999987,0.99999999999999933,0,0,0,0,0,0,0,4.497175141242943,0,49.75,0,120082.8,0,0,1,0,13409,0,0,null,780014.93893740675,120082.8,0,0,10923,214.00000000000003,0,null,"","","",null,0,null,0,null,0,0,0,0,0,0,2715]
[3168,"Goodnestone CEP School",1,42,0,0,4.9999999999999982,0,6.1090909090909085,0,17.000000000000011,2.9999999999999987,0,1.9999999999999993,0,0,0,0,0,0,0,0,0,0,18.000000000000018,0,120082.8,0,0,1,0,3068,0,0,null,305439.60585265449,120082.8,0,0,2726,58,0,null,"","","",null,0,null,0,null,0,0,0,0,0,0,1269]
[3169,"Guston CEP School",1,156,0,0,6.0000000000000053,0,10.758620689655173,0,2.9999999999999951,11.999999999999996,1,3.9999999999999933,8.0000000000000036,0,0,0,0,0,0,0,56.837209302325604,0,36.510638297872283,0,120082.8,0,0,1,0,19149,0,0,null,639714.26278419932,120082.8,0,0,17980,148,0,null,"","","",null,0,null,0,null,0,0,0,0,0,0,1878]
[3171,"Nonington CEP School",1,52,0,0,5.0000000000000027,0,8.6666666666666661,0,34.32,4.16,0,6.24,0,0,0,0,0,0,0,0,0,0,18.808510638297847,0,120082.8,0,0,1,0,9452,0,0,null,355103.60118625651,120082.8,0,0,8609,67,0,null,"","","",null,0,null,0,null,0,0,0,0,0,0,1269]
[3172,"Northbourne CEP School",1,124,0,0,8.0000000000000053,0,15,0,12.999999999999956,1.9999999999999978,3.0000000000000036,0,0,0,0,0,0,0,0,0,0,0,16.69230769230774,0,120082.8,0,0,1,0,19272,0,0,null,493002.969447607,120082.8,0,0,16972,122,0,null,"","","",null,0,null,0,null,0,0,0,0,0,0,1548]
[3173,"Kingsdown & Ringwould CEP School",1,213,0,0,17.000000000000007,0,23.342465753424655,0,10.999999999999998,0,5.9999999999999911,2.9999999999999956,2.0000000000000004,0,0,0,0,0,0,0,6.9836065573770405,0,28.558659217877143,0,120082.8,0,0,1,0,20254,0,0,null,785820.68763890001,120082.8,0,0,19800,219,0,null,"","","",null,0,null,0,null,0,0,0,0,0,0,2779]
[3175,"Sibertswold CEP School",1,206,0,0,9.9999999999999893,0,20.898550724637683,0,14.999999999999996,57.999999999999915,2,0.999999999999999,0.999999999999999,0,0,0,0,0,0,0,8.1468926553672407,0,22.365714285714375,0,120082.8,0,0,1,0,26712,0,0,null,764537.25217560306,120082.8,0,0,26129,208,0,null,"","","",null,0,null,0,null,0,0,0,0,0,0,2639]
[3178,"Birchington CEP School",1,467,0,0,64.000000000000156,0,91.369565217391312,0,56.999999999999865,80.999999999999801,20.000000000000014,1.0000000000000009,5.9999999999999858,8.9999999999999787,0,0,0,0,0,0,10.694656488549606,0,135.15245478036178,0,120082.8,0,0,1,0,66024,0,0,null,1602709.7902059609,120082.8,0,0,42891,456,0,null,"","","",null,0,null,0,null,0,0,0,0,0,0,5846]
[3179,"Holy Trinity & St John's CEP School, Margate",1,391,0,0,112.00000000000009,0,156.4,0,18.999999999999996,6.0000000000000044,99.000000000000156,27.999999999999982,64.000000000000043,152.00000000000011,0,0,0,0,0,0,60.063253012048072,0,178.41747572815555,0,120082.8,0,0,1,0,30996,0,0,null,1655125.3595414944,120082.8,0,0,30320,406,0,null,4,0.9,0,null,0,null,0,null,0,0,0,0,0,0,5249]
[3181,"St Saviour's CEJ School",1,379,0,0,36.999999999999993,0,68.909090909090907,0,11.000000000000012,86.999999999999957,14.000000000000012,6,3,6,0,0,0,0,0,0,5.0132275132275028,0,120.17073170731695,0,120082.8,0,0,1,0,49366,0,0,null,1360953.2682244584,120082.8,0,0,48288,384,0,null,"","","",null,0,null,0,null,0,0,0,0,0,0,4871]
[3182,"Minster CEP School",1,396,0,0,39.999999999999993,0,67.941176470588232,0,30.075949367088608,11.02784810126583,9.0227848101265913,2.0050632911392419,9.0227848101265913,2.0050632911392419,0,0,0,0,0,0,8.0581395348837113,0,110.64705882352928,0,120082.8,0,0,1,0,34524,0,0,null,1392584.4476898208,120082.8,0,0,33771,407.00000000000006,0,null,"","","",null,0,null,0,null,0,0,0,0,0,0,5164]
[3183,"Monkton CEP School",1,105,0,0,11.99999999999997,0,14.858490566037736,0,3.0000000000000027,3.0000000000000027,0,0.99999999999999956,3.0000000000000027,0,0,0,0,0,0,0,2.2580645161290298,0,26.25,0,120082.8,0,0,1,0,18781,0,0,null,458675.70516648953,120082.8,0,0,18360,106,0,null,"","","",null,0,null,0,null,0,0,0,0,0,0,1345]
[3186,"St Nicholas at Wade CEP School",1,200,0,0,9,0,13.270142180094787,0,7.0000000000000009,13,2,0,0,1,0,0,0,0,0,0,2.29885057471264,0,47.674418604651194,0,120082.8,0,0,1,0,13257,0,0,null,749157.71380216535,120082.8,0,0,12960,208.99999999999997,0,null,"","","",null,0,null,0,null,0,0,0,0,0,0,2718]
[3198,"Frittenden CEP School",1,99,0,0,1.9999999999999998,0,7.92,0,0,0,0,0,0,0,0,0,0,0,0,0,2.2499999999999973,0,20.720930232558104,0,120082.8,16967.640854472629,0,1,0,12766,0,0,null,407201.10132074077,120082.8,0,0,12480,95,0,null,"","","",null,0,null,0,null,0,0,0,0,0,0,1269]
[3199,"Egerton CEP School",1,200,0,0,25,0,33.980582524271846,0,1,0,0,0,0,0,0,0,0,0,0,0,2.27272727272728,0,46.060606060606005,0,120082.8,0,0,1,0,10925,0,0,null,742616.65238279488,120082.8,0,0,9578,206,0,null,"","","",null,0,null,0,null,0,0,0,0,0,0,2648]
[3201,"St Lawrence CEP School",1,80,0,0,6,0,8.2758620689655178,0,0,0,0,0,0,0,0,0,0,0,0,0,0,0,20.606060606060641,0,120082.8,0,0,1.0364,0,6751,0,0,null,395195.80422039446,124453.81392,0,0,7174,86,0,null,"","","",null,0,null,0,null,0,0,0,0,0,0,1306]
[3282,"Boughton-under-Blean & Dunkirk Primary School",1,201,0,0,26.999999999999954,0,38.757847533632287,0,99.000000000000043,13.999999999999993,3.9999999999999978,3.0000000000000084,3.0000000000000084,0,0,0,0,0,0,0,3.3687150837988726,0,56.421052631578966,0,120082.8,0,0,1,0,18044,0,0,null,848749.18604091764,120082.8,0,0,17640,226.00000000000003,0,null,"","","",null,0,null,0,null,0,0,0,0,0,0,2867]
[3284,"Lady Joanna Thornhill (Endowed) Primary School",1,424,0,0,16.999999999999996,0,19.18095238095238,0,4.0094562647754133,10.023640661938543,2.0047281323877089,9.0212765957447019,0,0,0,0,0,0,0,0,13.939726027397249,0,78.386554621848774,0,120082.8,0,0,1,0,41832,0,0,null,1386333.5491113472,120082.8,0,0,40919,417.99999999999994,0,null,"","","",null,0,null,0,null,0,0,0,0,0,0,5303]
[3289,"St Peter's Methodist Primary School, Canterbury",1,196,0,0,13.999999999999993,0,21.346534653465348,0,0,0.99999999999999989,6.9999999999999964,60.000000000000036,9.9999999999999982,0,0,0,0,0,0,0,55.493975903614476,0,48.662068965517335,0,120082.8,0,0,1,0,18535,0,0,null,786209.05592502689,120082.8,0,0,18120,200,0,null,"","","",null,0,null,0,null,0,0,0,0,0,0,2537]
[3294,"St Matthew's High Brooms CEP School",1,393,0,0,93.000000000000085,0,127.72500000000001,0,29.073979591836739,70.178571428571587,57.145408163265259,2.0051020408163263,0,0,0,0,0,0,0,0,16.842857142857159,0,137.60830860534116,0,120082.8,0,0,1,0,36288,0,0,null,1595749.1600559743,120082.8,0,0,35496,441.99999999999994,0,null,"","","",null,0,null,0,null,0,0,0,0,0,0,5607]
[3295,"Herne CEI School",1,269,0,0,15.999999999999993,0,15.999999999999993,0,3.9999999999999916,4.9999999999999902,1.0000000000000004,0,0,0,0,0,0,0,0,0,5.9777777777777716,0,66.122905027933015,0,120082.8,0,0,1,0,46620,0,0,null,958592.91884788917,120082.8,0,0,45603,268,0,null,4,0.9,0,null,0,null,0,null,0,0,0,0,0,0,4405]
[3296,"Langafel CEP School",1,313,0,0,55.999999999999893,0,85.7921686746988,0,21,50.000000000000036,1.0000000000000007,2.0000000000000013,2.9999999999999987,0,0,0,0,0,0,0,4.5693430656934302,0,98.779467680608278,0,120082.8,0,0,1.0364,0,37296,0,0,null,1231494.8860283883,124453.81392,0,0,33394,327,0,null,"","","",null,665.38661948430342,null,665.38661948430342,null,20,0,20,0,24,0,4298]
[3297,"Southborough CEP School",1,575,0,0,45,0,84.375000000000014,0,13.999999999999988,11.999999999999996,3.0000000000000022,2.0000000000000018,0,0,0,0,0,0,0,0,39.979550102249469,0,119.79166666666649,0,120082.8,0,0,1,0,63000,0,0,null,1800265.8363093454,120082.8,0,0,51765,544,0,null,"","","",null,0,null,0,null,0,0,0,0,0,0,6959]
[3298,"West Kingsdown C.E. (V.C.) Primary School",1,143,0,0,12.999999999999998,0,17.510204081632654,0,2.0000000000000018,0.99999999999999967,0.99999999999999967,0,2.0000000000000018,0,0,0,0,0,0,0,5.8606557377049109,0,35.454545454545503,0,120082.8,2271.2590120160221,0,1.0364,0,27740,0,0,null,626338.66257052403,124453.81392,0,0,25538,154,0,null,"","","",null,0,null,0,null,0,0,0,0,0,0,2012]
[3299,"John Wesley Primary School",1,447,0,0,37.999999999999993,0,70.472972972972968,0,101.68243243243222,31.209459459459453,0,14.094594594594581,52.351351351351298,0,0,0,0,0,0,0,27.720930232558143,0,148.99999999999983,0,120082.8,0,0,1,0,11390,0,0,null,1502428.8833602888,120082.8,0,0,11552,433.99999999999994,0,null,"","","",null,304.42464809034254,null,304.42464809034254,null,0,0,6,0,0,0,5623]
[3303,"St Katharine's Knockholt CEP School",1,185,0,0,3.9999999999999956,0,9.6354166666666679,0,0,0,0,0,1.0000000000000009,0,0,0,0,0,0,0,3.5126582278481013,0,61.6666666666666,0,120082.8,0,0,1.0364,0,3982,0,0,null,739205.84918440715,124453.81392,0,0,3895,198,0,null,"","","",null,0,null,0,null,0,0,0,0,0,0,2587]
[3307,"Chevening (St Botolph's) CEP School",1,207,0,0,5.9999999999999982,0,10.842857142857143,0,0,1.0000000000000011,0,0,0,0,0,0,0,0,0,0,7.0971428571428605,0,42.143712574850198,0,120082.8,0,0,1.0364,0,5090,0,0,null,751601.35159010743,124453.81392,0,0,4979,207,0,null,"","","",null,0,null,0,null,0,0,0,0,0,0,2789]
[3308,"Colliers Green CEP School",1,109,0,0,0,0,3.9279279279279278,0,0,0,1.9999999999999989,0,0,0,0,0,0,0,0,0,5.7978723404255286,0,23.440860215053739,0,120082.8,0,0,1,0,1865,0,0,null,452149.27041153231,120082.8,0,0,1824,113.00000000000001,0,null,"","","",null,0,null,0,null,0,0,0,0,0,0,1434]
[3309,"Sissinghurst CEP School",1,158,0,0,14.000000000000007,0,20.355828220858896,0,0,0,3.0191082802547817,0,0,0,0,0,0,0,0,0,1.1617647058823533,0,40.661764705882419,0,120082.8,0,0,1,0,7862,0,0,null,612812.43660490063,120082.8,0,0,7691,162,0,null,"","","",null,0,null,0,null,0,0,0,0,0,0,2062]
[3312,"Hever CEP School",1,144,0,0,6.0000000000000044,0,11.162790697674419,0,14.097902097902098,31.216783216783249,0,0,0,0,0,0,0,0,0,0,1.125,0,40.320000000000007,0,120082.8,1937.2503337783648,0,1.0364,0,2066,0,0,null,542961.80862538714,124453.81392,6279.36315086782,0,2021,131,0,null,"","","",null,0,null,0,null,0,0,0,0,0,0,1811]
[3314,"Penshurst CEP School",1,95,0,0,4.9999999999999973,0,4.9999999999999973,0,0,0,0,0,3.0000000000000049,0,0,0,0,0,0,0,3.3928571428571415,0,23.75,0,120082.8,0,0,1.0364,0,2016,0,0,null,431530.98207957949,124453.81392,0,0,1774,100,0,null,"","","",null,0,null,0,null,0,0,0,0,0,0,1306]
[3317,"Lady Boswell's CEP School, Sevenoaks",1,404,0,0,1.9999999999999998,0,9.827027027027027,0,1.000000000000002,0,1.000000000000002,0,0,0,0,0,0,0,0,0,38.755813953488357,0,51.924764890282098,0,120082.8,0,0,1.0364,0,8921,0,0,null,1239663.0268315224,124453.81392,0,0,8430,372,0,null,"","","",null,0,null,0,null,0,0,0,0,0,0,4901]
[3318,"Ide Hill CEP School",1,144,0,0,4.9999999999999973,0,6.3065693430656937,0,7.0985915492957714,2.0281690140845039,0,0,0,0,0,0,0,0,0,0,0,0,25.411764705882334,0,120082.8,0,0,1.0364,0,1890,0,0,null,539699.8139539879,124453.81392,0,0,1849,137,0,null,"","","",null,0,null,0,null,0,0,0,0,0,0,1811]
[3320,"St Barnabas CEP School",1,208,0,0,39,0,48.636815920398007,0,8.0000000000000071,1.0000000000000004,7.0000000000000098,2.9999999999999951,0,0,0,0,0,0,0,0,42.067415730337089,0,58.341463414634184,0,120082.8,0,0,1,0,2923,0,0,null,829097.26065608393,120082.8,0,0,2495,199,0,null,"","","",null,0,null,0,null,0,0,0,0,0,0,2531]
[3322,"St James' CEI School",1,269,0,0,4.9999999999999902,0,8.9666666666666668,0,5.9999999999999876,0,3.9999999999999916,1.0000000000000004,0,0,0,0,0,0,0,0,64.983146067415689,0,55.915730337078692,0,120082.8,0,0,1,0,4334,0,0,null,955589.96524392709,120082.8,0,0,4240,270,0,null,"","","",null,0,null,0,null,0,0,0,0,0,0,3936]
[3323,"Hunton CEP School",1,98,0,0,3.9999999999999956,0,8.3404255319148941,0,18.185567010309242,0,2.0206185567010282,1.010309278350519,0,0,0,0,0,0,0,0,1.1807228915662613,0,19.600000000000001,0,120082.8,0,0,1,0,4392,0,0,null,403495.56416324573,120082.8,0,0,2416,95,0,null,"","","",null,0,null,0,null,0,0,0,0,0,0,1269]
[3325,"Platt CEP School",1,152,0,0,5.9999999999999973,0,14.378378378378379,0,16.000000000000025,3.9999999999999982,1.9999999999999991,0,0,0,0,0,0,0,0,0,2.3206106870229033,0,33.25,0,120082.8,0,0,1,0,6246,0,0,null,558617.97208145354,120082.8,0,0,2487,146,0,null,"","","",null,0,null,0,null,0,0,0,0,0,0,1852]
[3328,"Bapchild & Tonge CEP School",1,201,0,0,15.999999999999991,0,21.89108910891089,0,24.999999999999936,9.0000000000000053,46.000000000000036,3.9999999999999978,5.0000000000000071,0,0,0,0,0,0,0,8.2280701754385994,0,49.301886792452926,0,120082.8,0,0,1,0,3452,0,0,null,750178.94706204394,120082.8,0,0,3147,202,0,null,"","","",null,0,null,0,null,0,0,0,0,0,0,2589]
[3332,"Hartlip Endowed CEP School",1,104,0,0,6.0000000000000009,0,12,0,16.000000000000014,1.0000000000000004,1.9999999999999969,0,0,0,0,0,0,0,0,0,0,0,28.363636363636392,0,120082.8,0,0,1,0,1398,0,0,null,434149.36278439278,120082.8,0,0,1198,104,0,null,"","","",null,0,null,0,null,0,0,0,0,0,0,1336]
[3337,"Tunstall CEP School",1,330,0,0,5.000000000000016,0,8.8000000000000007,0,13.000000000000002,20.999999999999989,6.9999999999999956,5.000000000000016,0,0,0,0,0,0,0,0,9.7777777777777679,0,59.773584905660336,0,120082.8,0,0,1,0,11274,0,0,null,996439.03651331482,120082.8,0,0,11433,296,0,null,"","","",null,0,null,0,null,0,0,0,0,0,0,3971]
[3338,"Herne CEJ School",1,366,0,0,28.000000000000014,0,49.678670360110807,0,11.000000000000011,11.000000000000011,4.9999999999999822,0,1,0,0,0,0,0,0,0,4.000000000000008,0,82.67768595041332,0,120082.8,0,0,1,0,7711,0,0,null,1200637.0218425267,120082.8,0,0,7543,363,0,null,"","","",null,0,null,0,null,0,0,0,0,0,0,4605]
[3339,"Whitstable & Seasalter Endowed CEJ School",1,192,0,0,9,0,24.742268041237111,0,2.0000000000000067,0,2.0000000000000067,0.99999999999999933,9,0.99999999999999933,0,0,0,0,0,0,3.0157068062827195,0,45.664864864864896,0,120082.8,0,0,1,0,3528,0,0,null,700595.29470309406,120082.8,0,0,3360,194,0,null,"","","",null,0,null,0,null,0,0,0,0,0,0,2461]
[3340,"St Mary's CEP School, Ashford",1,419,0,0,63.999999999999979,0,96.925301204819277,0,102.4892086330937,67.32134292565938,1.0047961630695434,21.100719424460419,15.071942446043151,0,0,0,0,0,0,0,42.016713091921822,0,142.48414985590776,0,120082.8,0,0,1,0,8820,0,0,null,1486909.841923096,120082.8,0,0,8628,420,0,null,"","","",null,0,null,0,null,0,0,0,0,0,0,5354]
[3346,"Wittersham CEP School",1,130,0,0,8.9999999999999964,0,33.032786885245905,0,4.0000000000000036,3.0000000000000027,0,0,0.99999999999999967,0,0,0,0,0,0,0,1.1304347826086951,0,44.107142857142826,0,120082.8,6613.3718291054684,0,1,0,3452,0,0,null,516185.824567148,120082.8,8283.4152202937203,0,3377,125.00000000000001,0,null,"","","",null,0,null,0,null,0,0,0,0,0,0,1586]
[3347,"Elham CEP School",1,139,0,0,8.9999999999999982,0,17.634328358208958,0,10.000000000000005,4.0000000000000018,4.0000000000000018,2.9999999999999942,0,0,0,0,0,0,0,0,2.3166666666666713,0,35.338983050847425,0,120082.8,3607.2937249666188,0,1,0,3405,0,0,null,518575.964913023,120082.8,0,0,3201,133,0,null,"","","",null,0,null,0,null,0,0,0,0,0,0,1757]
[3350,"Saltwood CEP School",1,221,0,0,5.0000000000000062,0,12.054545454545455,0,5.9999999999999938,18.000000000000004,3.000000000000008,0,0.99999999999999911,0.99999999999999911,0,0,0,0,0,0,4.6041666666666599,0,44.2,0,120082.8,0,0,1,0,5141,0,0,null,768795.16167025093,120082.8,0,0,4905,220,0,null,"","","",null,0,null,0,null,0,0,0,0,0,0,2811]
[3351,"Ash Cartwright and Kelsey CEP School",1,154,0,0,20.000000000000018,0,32.521739130434781,0,3.0196078431372548,2.0130718954248366,0,0,0,0,0,0,0,0,0,0,2.1843971631205723,0,37.40000000000002,0,120082.8,0,0,1,0,6804,0,0,null,619078.75692674227,120082.8,0,0,6656,164,0,null,4,0.9,0,null,0,null,0,null,0,0,0,0,0,0,2360]
[3353,"Deal Parochial CEP School",1,204,0,0,38.000000000000085,0,58,0,33.000000000000014,0,10.000000000000011,4,34.999999999999922,0,0,0,0,0,0,0,5.8620689655172322,0,46.255813953488449,0,120082.8,0,0,1,0,8064,0,0,null,773189.63720917655,120082.8,0,0,7888,204.99999999999997,0,null,"","","",null,0,null,0,null,0,0,0,0,0,0,2613]
[3356,"St Mary's CEP School, Dover",1,202,0,0,39.999999999999993,0,66.3849765258216,0,16.16,35.349999999999994,30.299999999999997,39.39,63.63,0,0,0,0,0,0,0,39.930232558139501,0,62.874172185430389,0,120082.8,0,0,1,0,4222,0,0,null,881473.12023594126,120082.8,0,0,3818,215,0,null,"","","",null,0,null,0,null,0,0,0,0,0,0,2728]
[3358,"Sholden CEP School",1,99,0,0,11.999999999999979,0,15.378640776699028,0,46.000000000000036,0,13.999999999999957,0,3.9999999999999996,0,0,0,0,0,0,0,1.164705882352937,0,15.695121951219546,0,120082.8,0,0,1,0,907,0,0,null,445256.05855529313,120082.8,0,0,792,106,0,null,"","","",null,0,null,0,null,0,0,0,0,0,0,1347]
[3360,"St Peter-in-Thanet CEJ School",1,366,0,0,46.000000000000142,0,86.864000000000004,0,48.131506849314889,111.30410958904113,11.030136986301383,10.027397260273972,13.03561643835617,14.038356164383545,0,0,0,0,0,0,7.0000000000000036,0,88.664788732394527,0,120082.8,0,0,1,0,9828,0,0,null,1318628.0150252217,120082.8,0,0,9614,373,0,null,"","","",null,0,null,0,null,0,0,0,0,0,0,4732]
[3364,"Ramsgate, Holy Trinity CEP School",1,208,0,0,11.000000000000004,0,20.8,0,44.000000000000099,1.0000000000000004,11.000000000000004,16.999999999999993,18.999999999999989,2.0000000000000009,0,0,0,0,0,0,2.3111111111111087,0,44.65536723163838,0,120082.8,0,0,1,0,5846,0,0,null,769612.16345475195,120082.8,0,0,5719,210,0,null,"","","",null,0,null,0,null,0,0,0,0,0,0,2664]
[3373,"St Mary's CEP School",1,189,0,0,59.999999999999915,0,87.230769230769241,0,0.99999999999999978,12.000000000000002,17.999999999999993,64.000000000000071,51.000000000000028,0,0,0,0,0,0,0,19.833333333333282,0,52.432258064516191,0,120082.8,0,0,1.0364,0,5191,0,0,null,852238.09897345072,124453.81392,0,0,3917,199,0,null,4,0.9,0.13,null,0,null,0,null,0,0,0,0,0,0,3084]
[3718,"St Augustine's Catholic Primary School, Hythe",1,198,0,0,11.000000000000009,0,19.603960396039604,0,9.9999999999999982,31.000000000000085,11.999999999999998,3.0000000000000098,1.9999999999999998,0,0,0,0,0,0,0,8.0581395348837308,0,65.609467455621271,0,120082.8,0,0,1,0,6905,0,0,null,761588.48543881322,120082.8,0,0,6754,204.99999999999997,0,null,"","","",null,0,null,0,null,0,0,0,0,0,0,2601]
[3722,"St Ethelbert's Catholic Primary School, Ramsgate",1,208,0,0,26,0,50.037735849056602,0,65.999999999999943,0,18.999999999999989,29.000000000000018,41.000000000000078,2.0000000000000009,0,0,0,0,0,0,20.916201117318415,0,53.752808988764087,0,120082.8,0,0,1,0,5115,0,0,null,816969.89715616405,120082.8,0,0,4918,211,0,null,"","","",null,0,null,0,null,0,0,0,0,0,0,2677]
[3728,"St Anselm's Catholic Primary School, Dartford",1,210,0,0,9.9999999999999964,0,26.999999999999996,0,69.999999999999929,1.9999999999999991,0,23.000000000000099,30.000000000000028,0,0,0,0,0,0,0,43.166666666666757,0,43.20000000000006,0,120082.8,0,0,1.0364,0,4385,0,0,null,841103.96592088835,124453.81392,0,0,4289,211,0,null,"","","",null,0,null,0,null,0,0,0,0,0,0,2765]
[3733,"Our Lady's Catholic Primary School, Dartford",1,218,0,0,3.9999999999999978,0,10,0,57.000000000000021,7.000000000000008,0,9.9999999999999947,5.0000000000000089,0,0,0,0,0,0,0,27.97860962566849,0,59.562841530054648,0,120082.8,0,0,1.0364,0,4032,0,0,null,813066.15826657077,124453.81392,0,0,3935,216,0,null,"","","",null,0,null,0,null,0,0,0,0,0,0,2861]
[3749,"St Thomas' Catholic Primary School, Canterbury",1,208,0,0,17.999999999999989,0,34.832535885167466,0,4.999999999999992,10.000000000000005,22.00000000000005,55.000000000000014,23.999999999999922,0,0,0,0,0,0,0,47.910112359550482,0,44.571428571428513,0,120082.8,0,0,1,0,4460,0,0,null,803659.85669371358,120082.8,0,0,3428,207,0,null,"","","",null,0,null,0,null,0,0,0,0,0,0,2626]
[3893,"Phoenix Community Primary School",1,208,0,0,68.999999999999957,0,98.05714285714285,0,0,12.000000000000002,5.9999999999999902,81.999999999999957,2.0000000000000009,0,0,0,0,0,0,0,23.240223463687151,0,76.505747126436773,0,120082.8,0,0,1,0,52416,0,0,null,876973.67728135316,120082.8,0,0,52258,204.99999999999997,0,null,"","","",null,0,null,0,null,0,0,0,0,0,0,2613]
[3896,"Downsview Primary",1,193,0,0,25.00000000000006,0,57.9,0,2.9999999999999996,7.999999999999992,26.00000000000005,11.999999999999998,23.000000000000089,0,0,0,0,0,0,0,3.5090909090909124,0,71.168750000000003,0,120082.8,0,0,1.0364,0,20008,0,0,null,837148.31290359166,124453.81392,0,0,16300,206,0,null,"","","",null,0,null,0,null,0,0,0,0,0,0,2691]
[3898,"Greenfields Community Primary School",1,328,0,0,110.99999999999984,0,122.35736677115987,0,129.99999999999994,8.9999999999999982,58.000000000000021,45.999999999999865,24.000000000000007,0,0,0,0,0,0,0,23.34519572953737,0,81.703971119133655,0,120082.8,0,0,1,0,38462,0,0,null,1431230.8639667309,120082.8,0,0,35003,319,0,null,4,0.9,0.28999999999999998,null,0,null,0,null,0,0,0,0,0,0,4605]
[3902,"Hythe Bay C of E Primary School",1,385,0,0,73.999999999999915,0,123.81909547738694,0,19.000000000000021,118.99999999999997,65.999999999999844,0,2.9999999999999991,6.0000000000000062,0,0,0,0,0,0,13.46938775510205,0,136.3541666666668,0,120082.8,0,0,1,0,58464,0,0,null,1491247.3431642782,120082.8,0,0,57188,399.00000000000006,0,null,"","","",null,292.24017054796997,null,292.24017054796997,null,16,0,22,0,19,0,5062]
[3904,"Castle Hill Community Primary School",1,391,0,0,148.00000000000011,0,197.02337662337661,0,18.000000000000014,16.000000000000011,96.000000000000071,88.000000000000071,105.99999999999989,37.999999999999993,0,0,0,0,0,0,29.442771084337348,0,158.11598746081492,0,120082.8,0,0,1,0,55127,0,0,null,1606573.3547271402,120082.8,0,0,55821,384,0,null,4,0.9,0.19,null,974.20162606731208,null,974.20162606731208,null,6,0,5,0,10,0,5531]
[3906,"Palace Wood Primary School",1,413,0,0,33.000000000000014,0,61.405275779376495,0,32.312958435207833,7.0684596577017222,21.205378973105127,7.0684596577017222,3.0293398533007316,0,0,0,0,0,0,0,31.148044692737422,0,88.673529411764633,0,120082.8,0,0,1,0,32537,0,0,null,1415150.0984756316,120082.8,0,0,27441,417,0,null,"","","",null,0,null,0,null,0,0,0,0,0,0,5290]
[3907,"Hextable Primary School",1,472,0,0,28.000000000000007,0,61.79683972911964,0,2.0042462845010611,24.050955414012758,19.040339702760075,20.042462845010611,35.074309978768582,0,0,0,0,0,0,0,12.915422885572145,0,149.18134715025903,0,120082.8,0,0,1.0364,0,24305,0,0,null,1560380.412574929,124453.81392,0,0,23760,445,0,null,"","","",null,0,null,0,null,0,0,0,0,0,0,5814]
[3909,"Ashford Oaks Community Primary School",1,414,0,0,153.99999999999983,0,207.4940334128878,0,62.150121065375444,71.171912832929749,0,61.147699757869084,155.37530266343842,0,0,0,0,0,0,0,42.220963172804453,0,179.68328445747807,0,120082.8,0,0,1,0,68544,0,0,null,1730162.1009007725,120082.8,0,0,67048,417.99999999999994,0,null,4,0.9,0.56999999999999995,null,686.56069070433023,null,686.56069070433023,null,8,0,8,0,8,0,5912]
[3910,"Joy Lane Primary School",1,551,0,0,70.999999999999872,0,91.165454545454551,0,7.9999999999999929,1.9999999999999982,53.999999999999986,1.0000000000000018,48.000000000000014,1.0000000000000018,0,0,0,0,0,0,11.431535269709554,0,174.73572938689222,0,120082.8,0,0,1,0,12802,0,0,null,1888852.0627322926,120082.8,0,0,55320,551,0,null,"","","",null,627.57725702726896,null,627.57725702726896,null,30,0,30,0,27,0,7228]
[3911,"Hornbeam Primary School",1,233,0,0,42.000000000000057,0,56.210116731517509,0,130.99999999999991,0.99999999999999956,24.000000000000103,0.99999999999999956,15.999999999999996,0,0,0,0,0,0,0,9.1822660098522189,0,63.654639175257778,0,120082.8,0,0,1,0,22832,0,0,null,956105.9990885827,120082.8,0,0,21341,255,0,null,"","","",null,0,null,0,null,0,0,0,0,0,0,3351]
[3913,"Rusthall, St Paul's CE VA School",1,199,0,0,21.000000000000043,0,49.981395348837211,0,35.999999999999936,0,0,2.9999999999999978,0,0,0,0,0,0,0,0,8.8938547486033528,0,51.717514124293885,0,120082.8,0,0,1,0,5342,0,0,null,808017.2732435537,120082.8,0,0,5226,219,0,null,"","","",null,0,null,0,null,0,0,0,0,0,0,2811]
[3916,"Green Park Community Primary School",1,380,0,0,109.00000000000004,0,147.95518207282913,0,19.999999999999989,113.00000000000016,97.999999999999901,13.000000000000009,125.99999999999997,0,0,0,0,0,0,0,16.625,0,103.30097087378651,0,120082.8,0,0,1,0,34272,0,0,null,1436025.4684438964,120082.8,0,0,33524,353,0,null,"","","",null,0,null,0,null,0,0,0,0,0,0,4592]
[3917,"Garlinge Primary School",1,774,0,0,199.00000000000017,0,273.55068493150685,0,72.000000000000014,43.999999999999972,174.00000000000031,60.999999999999979,52.999999999999979,98.999999999999957,0,0,0,0,0,0,54.951661631419974,0,221.67359999999999,0,120082.8,0,0,1,0,60984,0,0,null,2710632.0279405043,120082.8,0,0,59653,730,0,null,4,0.9,0.24,null,1023.2400876057736,null,1023.2400876057736,null,4,0,4,0,3,0,9606]
[3918,"Newington Community Primary School and Nursery",1,653,0,0,160.99999999999986,0,234.79783950617283,0,65.3,2.0092307692307712,49.226153846153856,110.50769230769215,321.4769230769229,7.0323076923077128,0,0,0,0,0,0,16.266903914590777,0,117.11413043478294,0,120082.8,0,0,1,0,8971,0,0,null,2540647.3832714413,120082.8,0,0,8775,644,0,null,4,0.9,0.4,null,0,null,0,null,0,0,0,0,0,0,8716]
[3919,"Dartford Bridge Community Primary School, The",1,391,0,0,22.999999999999996,0,47.263736263736263,0,315.61439588688938,2.0102827763496154,0,25.128534704370189,18.092544987146539,0,0,0,0,0,0,0,81.507552870090805,0,100.13414634146351,0,120082.8,0,0,1.0364,0,66757,0,0,null,1463429.7780461232,124453.81392,0,0,33010,362,0,null,4,0.9,0,null,0,null,0,null,0,0,0,0,0,0,5505]
[3920,"Goat Lees Primary School",1,208,0,0,55.000000000000014,0,67.650485436893206,0,3.9999999999999938,80.000000000000085,36.999999999999922,12.000000000000002,1.0000000000000004,0,0,0,0,0,0,0,9.2960893854748612,0,58.240000000000009,0,120082.8,0,0,1,0,8669,0,0,null,812511.07398393902,120082.8,0,0,8480,207,0,null,"","","",null,0,null,0,null,0,0,0,0,0,0,2671]
[4026,"Dartford Science and Technology College",2,0,438,244,0,70.999999999999773,0,174.46511627906978,0,0,0,0,0,0,104.00000000000007,53.000000000000007,5.0000000000000036,38.999999999999979,34.999999999999972,0,0,25.000000000000021,0,151.94698051737498,120082.8,0,0,1.0364,0,129276,0,0,null,3312946.4372570165,124453.81392,0,0,126455,640,0,null,"","","",null,0,null,0,null,0,0,0,0,0,0,14217]
[4040,"Northfleet School for Girls",2,0,498,278,0,219.00000000000011,0,249.46648426812587,0,0,0,0,0,0,166.21419354838727,124.16,51.065806451612886,47.060645161290338,65.083870967741944,2.0025806451612884,0,27.069767441860495,0,213.23702648183652,120082.8,0,0,1,0,26712,0,0,null,3666651.5086519667,120082.8,0,0,26129,730,0,null,"","","",null,0,null,0,null,0,0,0,0,0,0,15644]
[4043,"Tunbridge Wells Girls' Grammar School",2,0,436,293,0,9.9999999999999769,0,26.963013698630139,0,0,0,0,0,0,13.017857142857174,8.0109890109890198,8.0109890109890198,4.0054945054945019,0,0,0,0,0,2.667531992237659,120082.8,0,0,1,0,50036,0,0,null,3335857,120082.8,0,0,50857,730,0,null,"","","",null,0,null,0,null,0,0,0,0,0,0,19618]
[4045,"Tunbridge Wells Grammar School for Boys",2,0,651,347,0,49.000000000000028,0,52.526315789473678,0,0,0,0,0,0,31.000000000000007,16.999999999999954,11.000000000000048,6.9999999999999956,1.999999999999996,0.999999999999998,0,4.0000000000000018,0,14.708501393204745,120082.8,0,0,1,0,163800,0,0,null,4439725,120082.8,0,0,160225,951,0,null,"","","",null,0,null,0,null,0,0,0,0,0,0,24244]
[4065,"Holmesdale School, The",2,0,309,217,0,71.000000000000057,0,152.80446927374302,0,0,0,0,0,0,21.999999999999989,222.00000000000026,15.000000000000002,1.9999999999999987,3.0000000000000004,0,0,1.000000000000002,0,159.63654232803702,120082.8,0,0,1,0,42380,1042572.4929657052,0,null,3748731.5393593418,120082.8,0,0,39548,538,0,null,"","","",null,695.12923909142717,null,695.12923909142717,null,4,0,6,0,5,0,11928]
[4109,"Dover Grammar School for Girls",2,0,421,258,0,44.000000000000036,0,85.260211800302571,0,0,0,0,0,0,93.137168141592682,56.082595870206511,67.098820058997077,34.050147492625349,44.064896755162252,0,0,1.0000000000000016,0,12.604921960509282,120082.8,0,0,1,0,68544,0,0,null,3067592.4218352027,120082.8,0,0,67048,664,0,null,"","","",null,0,null,0,null,0,0,0,0,0,0,16783]
[4246,"North School, The",2,0,521,360,0,151.00000000000026,0,278.848623853211,0,0,0,0,0,0,69.078409090909076,143.16249999999999,7.0079545454545418,119.13522727272752,52.059090909090912,0,0,30,0,284.84652997348547,120082.8,0,0,1,0,257470,1096148.7315712892,0,null,5724874.7622167543,120082.8,0,0,263944,879,0,null,"","","",null,650.93569070433034,null,650.93569070433034,null,25,0,25,0,27,0,19512]
[4522,"Maidstone Grammar School",2,0,615,360,0,23.999999999999986,0,57.910367170626351,0,0,0,0,0,0,86.999999999999972,11.000000000000018,18.000000000000039,15.000000000000014,5.9999999999999964,0,0,3.9999999999999973,0,3.8955658811074105,120082.8,0,0,1,0,33674,0,0,null,4216059,120082.8,0,0,31059,930,0,null,"","","",null,0,null,0,null,0,0,0,0,0,0,24188]
[4523,"Maidstone Grammar School for Girls",2,0,546,352,0,30.999999999999961,0,69.628278221208674,0,0,0,0,0,0,75.083612040133815,34.037904124860646,21.023411371237462,13.014492753623184,14.015607580824947,0,0,3.0000000000000004,0,4.4447653387689936,120082.8,0,0,1,0,36659,0,0,null,3986559,120082.8,0,0,31059,879,0,null,"","","",null,0,null,0,null,0,0,0,0,0,0,22700]
[4534,"Simon Langton Girls' Grammar School",2,0,511,326,0,28.999999999999968,0,54.455421686746988,0,0,0,0,0,0,43.000000000000043,15.999999999999984,33.999999999999972,25.999999999999975,13.999999999999986,0.999999999999999,0,7.0083732057416226,0,13.189821517008173,120082.8,0,0,1,0,162540,0,0,null,3893993,120082.8,0,0,158993,830,0,null,"","","",null,0,null,0,null,0,0,0,0,0,0,21109]
[4622,"Judd School, The",2,0,525,311,0,10.999999999999995,0,18.463803680981595,0,0,0,0,0,0,11.999999999999973,11.999999999999973,7.9999999999999982,5.0000000000000009,2.9999999999999973,0,0,7.9999999999999982,0,4.9251699040383681,120082.8,0,0,1,0,40165,0,0,null,3698989,120082.8,0,0,35989,814,0,null,"","","",null,695.93569070433023,null,695.93569070433023,null,0,0,5,0,0,0,21776]
[5200,"Snodland CEP School",1,389,0,0,56.99999999999995,0,103.66490765171503,0,1.0000000000000004,243.00000000000014,0,2.0000000000000009,6.0000000000000027,0,0,0,0,0,0,0,4.7294832826747717,0,88.300613496932584,0,120082.8,0,0,1,0,11790,0,0,null,1328791.631613727,120082.8,0,0,8149,378,0,null,"","","",null,0,null,0,null,0,0,0,0,0,0,4839]
[5201,"Borough Green Primary School",1,293,0,0,30.000000000000142,0,42.708474576271186,0,120.82474226804136,0,3.0206185567010415,0,0,0,0,0,0,0,0,0,5.7677165354330597,0,59.297619047618937,0,120082.8,0,0,1,0,9723,0,0,null,1000430.9925234178,120082.8,0,0,5911,291,0,null,"","","",null,0,null,0,null,0,0,0,0,0,0,3761]
[5202,"Holy Trinity CEP School",1,425,0,0,40.999999999999993,0,58.723653395784538,0,178.00000000000011,44.00000000000005,20.999999999999979,36.000000000000007,20.000000000000014,0,0,0,0,0,0,0,116.12021857923499,0,163.96604938271585,0,120082.8,0,0,1,0,9677,0,0,null,1577892.4168561173,120082.8,0,0,9466,428.00000000000006,0,null,4,0.9,0.12,null,0,null,0,null,0,0,0,0,0,0,5950]
[5203,"Roseacre Junior School",1,427,0,0,16.999999999999993,0,25.236406619385345,0,10.023474178403768,1.0023474178403768,4.0093896713615029,2.0046948356807497,7.0164319248826255,0,0,0,0,0,0,0,6.9999999999999911,0,88.661097852028661,0,120082.8,0,0,1,0,7768,0,0,null,1353341.3269234565,120082.8,0,0,5663,421,0,null,"","","",null,0,null,0,null,0,0,0,0,0,0,5341]
[5206,"Herne Bay Junior School",1,472,0,0,83.999999999999886,0,151.78423236514524,0,57.000000000000107,54.000000000000028,116.00000000000011,2,0,0,0,0,0,0,0,0,9.0000000000000036,0,170.41575492341352,0,120082.8,0,0,1,0,9727,0,0,null,1698000.9007880597,120082.8,0,0,9515,484.00000000000006,0,null,"","","",null,0,null,0,null,0,0,0,0,0,0,6140]
[5207,"St Francis' Catholic Primary School, Maidstone",1,402,0,0,30.999999999999993,0,37.961259079903151,0,78.999999999999844,4.0000000000000018,7.0000000000000062,4.0000000000000018,4.9999999999999867,0,0,0,0,0,0,0,80.627118644067622,0,103.23262839879155,0,120082.8,0,0,1,0,13111,0,0,null,1405418.7912854638,120082.8,0,0,10945,409,0,null,"","","",null,0,null,0,null,0,0,0,0,0,0,5249]
[5208,"Ditton CEJ School",1,240,0,0,25.999999999999922,0,54.193548387096776,0,64.000000000000085,31.000000000000082,15,0,3,0,0,0,0,0,0,0,1.0000000000000009,0,66.666666666666728,0,120082.8,0,0,1,0,7609,0,0,null,893238.59783501725,120082.8,0,0,3226,248,0,null,"","","",null,0,null,0,null,0,0,0,0,0,0,3146]
[5212,"Ditton Infant School",1,164,0,0,19.999999999999979,0,19.999999999999979,0,51.000000000000071,12.999999999999996,7.0000000000000018,0,5.0000000000000036,0,0,0,0,0,0,0,10.159292035398236,0,35.459459459459424,0,120082.8,0,0,1,0,7254,0,0,null,663982.15682134894,120082.8,0,0,2991,175,0,null,"","","",null,0,null,0,null,0,0,0,0,0,0,2554]
[5213,"Holy Trinity CEP School, Dartford",1,426,0,0,27.999999999999986,0,66.625592417061611,0,64.999999999999929,11.000000000000018,4.9999999999999858,29.999999999999996,28.999999999999993,0,0,0,0,0,0,0,97.303621169916227,0,81.441176470588118,0,120082.8,0,0,1.0364,0,8165,0,0,null,1564508.6857084094,124453.81392,0,0,7987,422,0,null,"","","",null,0,null,0,null,0,0,0,0,0,0,5553]
[5214,"St Bartholomew's Catholic Primary School",1,344,0,0,36.000000000000114,0,67.025787965616047,0,0,27.000000000000014,44.999999999999964,47.999999999999922,85.000000000000014,0,0,0,0,0,0,0,43.292517006802576,0,88.422535211267672,0,120082.8,0,0,1.0364,0,6098,0,0,null,1324720.8202977632,124453.81392,0,0,5965,350,0,null,"","","",null,0,null,0,null,0,0,0,0,0,0,4573]
[5218,"Greatstone Primary School",1,355,0,0,33.999999999999986,0,57.036011080332408,0,0,99.000000000000099,21.000000000000004,0,0,0,0,0,0,0,0,0,6.8488745980707337,0,92.253289473684376,0,120082.8,0,0,1,0,8215,0,0,null,1273651.9465890655,120082.8,0,0,7135,358,0,null,4,0.9,0,null,0,null,0,null,0,0,0,0,0,0,5126]
[5221,"Wincheap Foundation Primary School",1,434,0,0,92.999999999999872,0,133.76712328767124,0,9.0000000000000036,3.9999999999999991,9.0000000000000036,11.000000000000014,115.00000000000016,0,0,0,0,0,0,0,28.933333333333344,0,137.81615598885801,0,120082.8,0,0,1,0,9675,0,0,null,1583049.8739059465,120082.8,0,0,8371,443,0,null,"","","",null,228.00955375072013,null,228.00955375072013,null,25,0,20,0,21,0,5740]
[5223,"Brookfield Junior School, Larkfield",1,254,0,0,49.999999999999901,0,93.523012552301253,0,6.0000000000000027,22.000000000000011,6.9999999999999911,0,40.000000000000021,0,0,0,0,0,0,0,2.9999999999999889,0,58.615384615384677,0,120082.8,0,0,1,0,28169,0,0,null,893690.57585435675,120082.8,0,0,22853,235,0,null,"","","",null,0,null,0,null,0,0,0,0,0,0,2981]
[5224,"All Souls' CEP School",1,290,0,0,58,0,74.965986394557831,0,56.999999999999993,10.000000000000014,4.999999999999992,9.0000000000000036,4.999999999999992,4.999999999999992,0,0,0,0,0,0,26.468253968253979,0,70.042372881356059,0,120082.8,0,0,1,0,4662,0,0,null,1031691.8610251595,120082.8,0,0,4560,288,0,null,"","","",null,0,null,0,null,0,0,0,0,0,0,3654]
[5225,"Harcourt Primary School",1,183,0,0,31.999999999999986,0,45.75,0,44.241758241758291,4.0219780219780263,7.0384615384615454,9.0494505494505404,7.0384615384615454,3.0164835164835195,0,0,0,0,0,0,7.1298701298701372,0,56.120000000000054,0,120082.8,0,0,1,0,3375,0,0,null,693818.05453871831,120082.8,0,0,2677,167,0,null,"","","",null,0,null,0,null,0,0,0,0,0,0,2156]
[5226,"Willesborough Junior School",1,480,0,0,39.999999999999986,0,113.41772151898735,0,3.9999999999999982,72,0.99999999999999833,78.999999999999844,8.000000000000016,0,0,0,0,0,0,0,35.000000000000014,0,140.00000000000017,0,120082.8,0,0,1,0,10030,0,0,null,1636244.5198965832,120082.8,0,0,9811,475,0,null,"","","",null,0,null,0,null,0,0,0,0,0,0,6026]
[5229,"Fleetdown Primary School",1,628,0,0,37,0,58.68196721311476,0,50.999999999999972,32.000000000000028,1.0000000000000004,5.0000000000000018,7.999999999999992,0,0,0,0,0,0,0,43.189591078066911,0,146.92830188679221,0,120082.8,0,0,1.0364,0,46173,0,0,null,2043476.9263101397,124453.81392,0,0,36569,603,0,null,"","","",null,893.43239529808125,null,893.43239529808125,null,13,0,13,0,13,0,7991]
[5407,"Thamesview School",2,0,528,287,0,173.0000000000002,0,297.68837803320565,0,0,0,0,0,0,130.1597051597054,112.13759213759248,149.18304668304665,20.02457002457005,76.093366093366129,0,0,28.138101109741058,0,261.74014827967642,120082.8,0,0,1,0,36792,934324.83044600557,0,null,4921718.2279617377,120082.8,0,0,36305,779,0,null,"","","",null,945.49618516674911,null,945.49618516674911,null,8,0,6,0,9,0,14768]
[5410,"Aylesford School - Sports College",2,0,366,301,0,107.99999999999991,0,177.73645680819914,0,0,0,0,0,0,71.213533834586414,76.228571428571243,48.14436090225567,0,18.054135338345844,0,0,5.0453857791225412,0,171.9200552382477,120082.8,0,0,1,0,48029,902767.05869667907,0,null,4237193.3516279235,120082.8,0,0,45390,683,0,null,"","","",null,0,null,0,null,0,0,0,0,0,0,13985]
[5412,"Simon Langton Grammar School for Boys",2,0,381,261,0,12.999999999999986,0,36.376722817764161,0,0,0,0,0,0,34.053042121684868,9.0140405616224655,11.017160686427458,19.029641185647428,12.018720748829953,0,0,13.999999999999988,0,4.6956649311713878,120082.8,0,0,1,0,28728,0,0,null,2966601,120082.8,0,0,28101,653,0,null,"","","",null,660.06612548693909,null,660.06612548693909,null,23,0,23,0,18,6,21681]
[5425,"Malling School, The",2,0,566,264,0,113.99999999999963,0,236.16022099447514,0,0,0,0,0,0,50.000000000000014,145.00000000000009,14.999999999999993,2.9999999999999991,74.999999999999972,0,0,7.0000000000000027,0,255.3976881438355,120082.8,0,0,1,0,36637,822766.46400000015,0,null,4430220.5687036719,120082.8,0,0,32538,721,0,null,"","","",null,349.63180208952917,null,349.63180208952917,null,80,28,80,28,90,19,15364]
[5426,"Archbishop's School, The",2,0,389,268,0,102.99999999999991,0,179.70043415340086,0,0,0,0,0,0,39,28,65.999999999999858,50,46,0,0,23.03506097560976,0,153.70368678750728,120082.8,0,0,1,0,16834,0,0,null,3416502.5453212666,120082.8,0,0,16466,706,0,null,"","","",null,1045.0424131871689,417.14,1045.0424131871689,417.14,11,0,10,0,5,2,15623]
[5431,"Hugh Christie School",2,0,463,280,0,129.00000000000011,0,271.62304409672834,0,0,0,0,0,0,98.999999999999929,55.000000000000007,5.0000000000000027,59.999999999999986,1.9999999999999998,0,0,11.999999999999998,0,219.517783764554,120082.8,0,0,1,0,52167,874360.24700708594,0,null,4349911.8810125645,120082.8,0,0,49513,702,0,null,"","","",null,563.55409186243753,null,563.55409186243753,null,20,0,22,0,22,1,15302]
[5447,"St Georges CE Foundation School",4,237,659,412,10.999999999999991,158.99999999999957,18.433333333333334,321.0986842105263,54.99999999999995,12.000000000000009,30.000000000000082,23,13.999999999999998,10.999999999999991,228.00000000000037,73.999999999999957,120.00000000000014,96.999999999999943,114.99999999999991,62.999999999999993,3.9500000000000082,6.9999999999999991,58.185628742514936,263.96150168577844,120082.8,0,0,1,0,69489,0,0,null,5918267.2018027417,120082.8,0,0,69861,1245,0,null,"","","",null,0,null,0,null,0,0,0,0,0,0,25130]
[5456,"Northfleet Technology College",2,0,507,318,0,141.00000000000009,0,269.32645631067965,0,0,0,0,0,0,159.00000000000023,112.0000000000002,59.999999999999972,47.000000000000021,79.000000000000043,0,0,32.000000000000014,0,254.23336570431596,120082.8,0,0,1,0,34637,850222.24946316611,0,null,5057555.2432119902,120082.8,0,0,35070,834,0,null,"","","",null,0,null,0,null,0,0,0,0,0,0,18542]
[5459,"Dover Grammar School for Boys",2,0,403,240,0,51.000000000000014,0,118.77070063694266,0,0,0,0,0,0,76.237129485179665,56.174726989079566,61.190327613104529,43.134165366614674,39.121684867394698,1.0031201248049921,0,1.0046875,0,22.417623663043013,120082.8,0,0,1,0,17539,0,0,null,2878516.9171434515,120082.8,0,0,17156,629,0,null,"","","",null,0,null,0,null,0,0,0,0,0,0,15138]
[5461,"St John's Catholic Comprehensive School",2,0,583,364,0,128.0000000000004,0,289.73081081081079,0,0,0,0,0,0,212.00000000000037,138.00000000000028,206.99999999999994,38.000000000000036,55.999999999999972,0,0,23.999999999999975,0,311.72858350104849,120082.8,0,0,1,0,57174,1127316.8837089131,0,null,5841496.7475408362,120082.8,0,0,58049,927,0,null,"","","",null,0,null,0,null,0,0,0,0,0,0,22210]
[5468,"Royal Harbour Academy, The",2,0,487,283,0,275.99999999999966,0,436.03603603603608,0,0,0,0,0,0,150.00000000000017,4.9999999999999973,75,143.00000000000023,265.99999999999966,36.000000000000036,0,16.000000000000018,0,240.51024779936421,120082.8,0,0,1,0,87660,654083.48653628922,0,null,4963427.5779168475,120082.8,0,0,31799,796,0,null,"","","",null,0,null,0,null,0,0,0,0,0,0,16324]

{"sheet":"TestArea","index":1,"n_rows":318,"n_cols":146,"rows_kept":318,"cut":false,"hidden":true,"merged":[]}
["MI DfE no","School Name",null,"Macro School Name","Data Calc",{"$f":"SUM(F2:F318)","v":0},null,"Macro F1","Data Calc F1",0,null,"Macro F2","Data Calc F2",0,null,"Macro F4","Data Calc F4",0,null,"Macro F6","Data Calc F6",0,null,"Macro F7","Data Calc F7",0,null,"Macro F8","Data Calc F8",0,null,"Macro F9","Data Calc F9",0,null,"Macro F10","Data Calc F10",0,null,"Macro F11","Data Calc F11",0,null,"Macro F12","Data Calc F12",0,null,"Macro F13","Data Calc F13",0,null,"Macro F14","Data Calc F14",0,null,"Macro FFT","Data Calc FFT",0,null,"Macro MFG","Data Calc MFG",0,null,"Macro SBS","Data Calc SBS",0,null,"Macro Growth","Data Calc Growth",0,null,"Macro SBS Inc Growth","Data Calc SBS Inc Growth",0,null,"Early years rate",null,{"$f":"SUM(BZ2:BZ318)","v":156},null,"Macro Notional SEN","Data Calc",{"$f":"SUM(CD2:CD318)","v":39528669},null,"Macro SEN top up","Data Calc",{"$f":"SUM(CH2:CH318)","v":224318},null,"SRP Element 1","Data Calc",{"$f":"SUM(CL2:CL318)","v":136001},null,"SRP Element 2","Data Calc",{"$f":"SUM(CP2:CP318)","v":3147000},null,"SRP 1 Pre","Data Calc",{"$f":"SUM(CT2:CT318)","v":15514},null,"SRP 1 Post","Data Calc",{"$f":"SUM(CX2:CX318)","v":15514},null,"SRP 2 Pre","Data Calc",{"$f":"SUM(DB2:DB318)","v":15514},null,"SRP 2 Post","Data Calc",{"$f":"SUM(DF2:DF318)","v":15514},null,"Qual Year1","Data Calc",{"$f":"SUM(DJ2:DJ318)","v":20},null,"Orig PAN 1","Data Calc",{"$f":"SUM(DN2:DN318)","v":-405},null,"New PAN","Data Calc",{"$f":"SUM(DR2:DR318)","v":20},null,"Qual Year2","Data Calc",{"$f":"SUM(DV2:DV318)","v":15},null,"Orig PAN2","Data Calc",{"$f":"SUM(DZ2:DZ318)","v":24},null,"New PAN2","Data Calc",{"$f":"SUM(ED2:ED318)","v":16},null,"Qual Year3","Data Calc",{"$f":"SUM(EH2:EH318)","v":7},null,"Orig PAN3","Data Calc",{"$f":"SUM(EL2:EL318)","v":18},null,"New PAN3","Data Calc",{"$f":"SUM(EP2:EP318)","v":8}]
[1001,"Northfleet Nursery",null,"Northfleet Nursery","Northfleet Nursery",{"$f":"IF(E2=D2,0,1)","v":0},null,0,0,0,null,0,0,0,null,0,0,0,null,0,0,0,null,0,0,0,null,0,0,0,null,0,0,0,null,0,0,0,null,0,0,0,null,0,0,0,null,0,0,0,null,0,0,0,null,0,0,0,null,0,0,0,null,0,0,0,null,0,null,0,null,0,0,0,null,5.0599999999999996,null,{"$f":"ROUND(BX2-BY2,0)","v":5},null,0,null,{"$f":"ROUND(CB2-CC2,0)","v":0},null,0,null,{"$f":"ROUND(CF2-CG2,0)","v":0},null,0,null,{"$f":"ROUND(CJ2-CK2,0)","v":0},null,0,null,{"$f":"ROUND(CN2-CO2,0)","v":0},null,0,null,{"$f":"ROUND(CR2-CS2,0)","v":0},null,0,null,{"$f":"ROUND(CV2-CW2,0)","v":0},null,0,null,{"$f":"ROUND(CZ2-DA2,0)","v":0},null,0,null,{"$f":"ROUND(DD2-DE2,0)","v":0},null,"NO",{"$f":"IF(ISERROR(VLOOKUP($A2+8860000,'Growth Data'!$A:$F,3,0)),\"NO\",VLOOKUP($A2+8860000,'Growth Data'!$A:$F,3,0))","v":"NO"},{"$f":"IF(DH2=DI2,0,1)","v":0},null,0,{"$f":"IF(DI2=\"YES\",IF(ISERROR(VLOOKUP($A2+8860000,'Growth Data'!$A:$F,6,0)),0,VLOOKUP($A2+8860000,'Growth Data'!$A:$F,6,0)),0)","v":0},{"$f":"ROUND(DL2-DM2,0)","v":0},null,0,{"$f":"IF(ISERROR(VLOOKUP($A2+8860000,'Growth Data'!$A:$Z,7,0)),0,VLOOKUP($A2+8860000,'Growth Data'!$A:$Z,7,0))","v":0},{"$f":"IF(DP2=DQ2,0,1)","v":0},null,"NO",{"$f":"IF(ISERROR(VLOOKUP($A2+8860000,'Growth Data'!$A:$F,4,0)),\"NO\",VLOOKUP($A2+8860000,'Growth Data'!$A:$F,4,0))","v":"NO"},{"$f":"IF(DT2=DU2,0,1)","v":0},null,0,{"$f":"IF(ISERROR(VLOOKUP($A2+8860000,'Growth Data'!$A:$Z,8,0)),0,VLOOKUP($A2+8860000,'Growth Data'!$A:$Z,8,0))","v":0},{"$f":"IF(DX2=DY2,0,1)","v":0},null,0,{"$f":"IF(ISERROR(VLOOKUP($A2+8860000,'Growth Data'!$A:$Z,9,0)),0,VLOOKUP($A2+8860000,'Growth Data'!$A:$Z,9,0))","v":0},{"$f":"IF(EB2=EC2,0,1)","v":0},null,"NO",{"$f":"IF(ISERROR(VLOOKUP($A2+8860000,'Growth Data'!$A:$Z,5,0)),\"NO\",VLOOKUP($A2+8860000,'Growth Data'!$A:$Z,5,0))","v":"NO"},{"$f":"IF(EF2=EG2,0,1)","v":0},null,0,{"$f":"IF(ISERROR(VLOOKUP($A2+8860000,'Growth Data'!$A:$Z,10,0)),0,VLOOKUP($A2+8860000,'Growth Data'!$A:$Z,10,0))","v":0},{"$f":"IF(EJ2=EK2,0,1)","v":0},null,0,{"$f":"IF(ISERROR(VLOOKUP($A2+8860000,'Growth Data'!$A:$Z,11,0)),0,VLOOKUP($A2+8860000,'Growth Data'!$A:$Z,11,0))","v":0},{"$f":"IF(EN2=EO2,0,1)","v":0}]
[2000,"St Johns C of E Primary School",null,"St Johns C of E Primary School","St Johns C of E Primary School",0,null,874145.56,874145.56454579998,0,null,200351.76,200351.75608565228,0,null,28740.68,28740.675601119372,0,null,90373.54,90373.540757023351,0,null,120082.8,120082.8,0,null,0,0,0,null,0,0,0,null,0,0,0,null,24182,24182,0,null,0,0,0,null,0,0,0,null,0,0,0,null,1337876.3400000001,1337876.3369895951,0,null,0,0,0,null,1337876.3400000001,1337876.3369895951,0,null,0,null,0,null,1337876.3400000001,1337876.3369895951,0,null,5.09,null,5,null,268901.81,null,268902,null,0,null,0,null,0,null,0,null,0,null,0,null,0,null,0,null,0,null,0,null,0,null,0,null,0,null,0,null,"NO",{"$f":"IF(ISERROR(VLOOKUP($A3+8860000,'Growth Data'!$A:$F,3,0)),\"NO\",VLOOKUP($A3+8860000,'Growth Data'!$A:$F,3,0))","v":"NO"},0,null,0,{"$f":"IF(DI3=\"YES\",IF(ISERROR(VLOOKUP($A3+8860000,'Growth Data'!$A:$F,6,0)),0,VLOOKUP($A3+8860000,'Growth Data'!$A:$F,6,0)),0)","v":0},0,null,0,{"$f":"IF(ISERROR(VLOOKUP($A3+8860000,'Growth Data'!$A:$Z,7,0)),0,VLOOKUP($A3+8860000,'Growth Data'!$A:$Z,7,0))","v":0},0,null,"NO",{"$f":"IF(ISERROR(VLOOKUP($A3+8860000,'Growth Data'!$A:$F,4,0)),\"NO\",VLOOKUP($A3+8860000,'Growth Data'!$A:$F,4,0))","v":"NO"},0,null,0,{"$f":"IF(ISERROR(VLOOKUP($A3+8860000,'Growth Data'!$A:$Z,8,0)),0,VLOOKUP($A3+8860000,'Growth Data'!$A:$Z,8,0))","v":0},0,null,0,{"$f":"IF(ISERROR(VLOOKUP($A3+8860000,'Growth Data'!$A:$Z,9,0)),0,VLOOKUP($A3+8860000,'Growth Data'!$A:$Z,9,0))","v":0},0,null,"NO",{"$f":"IF(ISERROR(VLOOKUP($A3+8860000,'Growth Data'!$A:$Z,5,0)),\"NO\",VLOOKUP($A3+8860000,'Growth Data'!$A:$Z,5,0))","v":"NO"},0,null,0,{"$f":"IF(ISERROR(VLOOKUP($A3+8860000,'Growth Data'!$A:$Z,10,0)),0,VLOOKUP($A3+8860000,'Growth Data'!$A:$Z,10,0))","v":0},0,null,0,{"$f":"IF(ISERROR(VLOOKUP($A3+8860000,'Growth Data'!$A:$Z,11,0)),0,VLOOKUP($A3+8860000,'Growth Data'!$A:$Z,11,0))","v":0},0]
[2002,"Repton Manor Primary School",null,"Repton Manor Primary School","Repton Manor Primary School",0,null,1322213.8899999999,1322213.8885111001,0,null,58131.83,58131.827430964768,0,null,22427.77,22427.774017380962,0,null,77193.600000000006,77193.604710166983,0,null,120082.8,120082.8,0,null,0,0,0,null,0,0,0,null,0,0,0,null,14234,14234,0,null,0,0,0,null,0,0,0,null,35350.11,35350.10533038713,0,null,1649634,1649634,0,null,0,0,0,null,1649634,1649634,0,null,0,null,0,null,1649634,1649634,0,null,0,null,0,null,150338.79,null,150339,null,0,null,0,null,0,null,0,null,0,null,0,null,0,null,0,null,0,null,0,null,0,null,0,null,0,null,0,null,"YES",{"$f":"IF(ISERROR(VLOOKUP($A4+8860000,'Growth Data'!$A:$F,3,0)),\"NO\",VLOOKUP($A4+8860000,'Growth Data'!$A:$F,3,0))","v":"NO"},1,null,33,{"$f":"IF(DI4=\"YES\",IF(ISERROR(VLOOKUP($A4+8860000,'Growth Data'!$A:$F,6,0)),0,VLOOKUP($A4+8860000,'Growth Data'!$A:$F,6,0)),0)","v":0},33,null,60,{"$f":"IF(ISERROR(VLOOKUP($A4+8860000,'Growth Data'!$A:$Z,7,0)),0,VLOOKUP($A4+8860000,'Growth Data'!$A:$Z,7,0))","v":0},1,null,"NO",{"$f":"IF(ISERROR(VLOOKUP($A4+8860000,'Growth Data'!$A:$F,4,0)),\"NO\",VLOOKUP($A4+8860000,'Growth Data'!$A:$F,4,0))","v":"NO"},0,null,0,{"$f":"IF(ISERROR(VLOOKUP($A4+8860000,'Growth Data'!$A:$Z,8,0)),0,VLOOKUP($A4+8860000,'Growth Data'!$A:$Z,8,0))","v":0},0,null,0,{"$f":"IF(ISERROR(VLOOKUP($A4+8860000,'Growth Data'!$A:$Z,9,0)),0,VLOOKUP($A4+8860000,'Growth Data'!$A:$Z,9,0))","v":0},0,null,"NO",{"$f":"IF(ISERROR(VLOOKUP($A4+8860000,'Growth Data'!$A:$Z,5,0)),\"NO\",VLOOKUP($A4+8860000,'Growth Data'!$A:$Z,5,0))","v":"NO"},0,null,0,{"$f":"IF(ISERROR(VLOOKUP($A4+8860000,'Growth Data'!$A:$Z,10,0)),0,VLOOKUP($A4+8860000,'Growth Data'!$A:$Z,10,0))","v":0},0,null,0,{"$f":"IF(ISERROR(VLOOKUP($A4+8860000,'Growth Data'!$A:$Z,11,0)),0,VLOOKUP($A4+8860000,'Growth Data'!$A:$Z,11,0))","v":0},0]
[2062,"Darenth Community Primary School",null,"Darenth Community Primary School","Darenth Community Primary School",0,null,533283.77,533283.77208140003,0,null,70820.649999999994,70820.646022797911,0,null,6022.83,6022.8275843373513,0,null,57333.36,57333.355455788573,0,null,120082.8,120082.8,0,null,0,0,0,null,28666.58,28666.579801653381,0,null,0,0,0,null,13409,13409,0,null,0,0,0,null,0,0,0,null,0,0,0,null,829618.98,829618.98094597727,0,null,0,0,0,null,829618.98,829618.98094597727,0,null,0,null,0,null,829618.98,829618.98094597727,0,null,0,null,0,null,126813.26,null,126813,null,0,null,0,null,0,null,0,null,0,null,0,null,0,null,0,null,0,null,0,null,0,null,0,null,0,null,0,null,"NO",{"$f":"IF(ISERROR(VLOOKUP($A5+8860000,'Growth Data'!$A:$F,3,0)),\"NO\",VLOOKUP($A5+8860000,'Growth Data'!$A:$F,3,0))","v":"NO"},0,null,0,{"$f":"IF(DI5=\"YES\",IF(ISERROR(VLOOKUP($A5+8860000,'Growth Data'!$A:$F,6,0)),0,VLOOKUP($A5+8860000,'Growth Data'!$A:$F,6,0)),0)","v":0},0,null,0,{"$f":"IF(ISERROR(VLOOKUP($A5+8860000,'Growth Data'!$A:$Z,7,0)),0,VLOOKUP($A5+8860000,'Growth Data'!$A:$Z,7,0))","v":0},0,null,"NO",{"$f":"IF(ISERROR(VLOOKUP($A5+8860000,'Growth Data'!$A:$F,4,0)),\"NO\",VLOOKUP($A5+8860000,'Growth Data'!$A:$F,4,0))","v":"NO"},0,null,0,{"$f":"IF(ISERROR(VLOOKUP($A5+8860000,'Growth Data'!$A:$Z,8,0)),0,VLOOKUP($A5+8860000,'Growth Data'!$A:$Z,8,0))","v":0},0,null,0,{"$f":"IF(ISERROR(VLOOKUP($A5+8860000,'Growth Data'!$A:$Z,9,0)),0,VLOOKUP($A5+8860000,'Growth Data'!$A:$Z,9,0))","v":0},0,null,"NO",{"$f":"IF(ISERROR(VLOOKUP($A5+8860000,'Growth Data'!$A:$Z,5,0)),\"NO\",VLOOKUP($A5+8860000,'Growth Data'!$A:$Z,5,0))","v":"NO"},0,null,0,{"$f":"IF(ISERROR(VLOOKUP($A5+8860000,'Growth Data'!$A:$Z,10,0)),0,VLOOKUP($A5+8860000,'Growth Data'!$A:$Z,10,0))","v":0},0,null,0,{"$f":"IF(ISERROR(VLOOKUP($A5+8860000,'Growth Data'!$A:$Z,11,0)),0,VLOOKUP($A5+8860000,'Growth Data'!$A:$Z,11,0))","v":0},0]
[2065,"Discovery School, The",null,"Discovery School, The","Discovery School, The",0,null,1707057.85,1707057.8477451,0,null,22691.05,22691.052970851735,0,null,18860.3,18860.297449723756,0,null,94058.43,94058.429747740825,0,null,120082.8,120082.8,0,null,0,0,0,null,0,0,0,null,0,0,0,null,77461,77461,0,null,0,0,0,null,0,0,0,null,148649.57,148649.57208658359,0,null,2188861,2188861,0,null,0,0,0,null,2188861,2188861,0,null,0,null,0,null,2188861,2188861,0,null,0,null,0,null,133038.71,null,133039,null,0,null,0,null,0,null,0,null,0,null,0,null,0,null,0,null,0,null,0,null,0,null,0,null,0,null,0,null,"NO",{"$f":"IF(ISERROR(VLOOKUP($A6+8860000,'Growth Data'!$A:$F,3,0)),\"NO\",VLOOKUP($A6+8860000,'Growth Data'!$A:$F,3,0))","v":"NO"},0,null,0,{"$f":"IF(DI6=\"YES\",IF(ISERROR(VLOOKUP($A6+8860000,'Growth Data'!$A:$F,6,0)),0,VLOOKUP($A6+8860000,'Growth Data'!$A:$F,6,0)),0)","v":0},0,null,0,{"$f":"IF(ISERROR(VLOOKUP($A6+8860000,'Growth Data'!$A:$Z,7,0)),0,VLOOKUP($A6+8860000,'Growth Data'!$A:$Z,7,0))","v":0},0,null,"NO",{"$f":"IF(ISERROR(VLOOKUP($A6+8860000,'Growth Data'!$A:$F,4,0)),\"NO\",VLOOKUP($A6+8860000,'Growth Data'!$A:$F,4,0))","v":"NO"},0,null,0,{"$f":"IF(ISERROR(VLOOKUP($A6+8860000,'Growth Data'!$A:$Z,8,0)),0,VLOOKUP($A6+8860000,'Growth Data'!$A:$Z,8,0))","v":0},0,null,0,{"$f":"IF(ISERROR(VLOOKUP($A6+8860000,'Growth Data'!$A:$Z,9,0)),0,VLOOKUP($A6+8860000,'Growth Data'!$A:$Z,9,0))","v":0},0,null,"NO",{"$f":"IF(ISERROR(VLOOKUP($A6+8860000,'Growth Data'!$A:$Z,5,0)),\"NO\",VLOOKUP($A6+8860000,'Growth Data'!$A:$Z,5,0))","v":"NO"},0,null,0,{"$f":"IF(ISERROR(VLOOKUP($A6+8860000,'Growth Data'!$A:$Z,10,0)),0,VLOOKUP($A6+8860000,'Growth Data'!$A:$Z,10,0))","v":0},0,null,0,{"$f":"IF(ISERROR(VLOOKUP($A6+8860000,'Growth Data'!$A:$Z,11,0)),0,VLOOKUP($A6+8860000,'Growth Data'!$A:$Z,11,0))","v":0},0]
[2066,"Maypole Primary School",null,"Maypole Primary School","Maypole Primary School",0,null,1116047.48,1116047.4817786,0,null,65849.320000000007,65849.317108321236,0,null,9456.92,9456.9162531073562,0,null,89738.29,89738.292163811813,0,null,120082.8,120082.8,0,null,0,0,0,null,51002.76,51002.762985859779,0,null,0,0,0,null,40919,40919,0,null,0,0,0,null,0,0,0,null,0,0,0,null,1493096.57,1493096.5702897003,0,null,0,0,0,null,1493096.57,1493096.5702897003,0,null,0,null,0,null,1493096.57,1493096.5702897003,0,null,0,null,0,null,151959.57999999999,null,151960,null,0,null,0,null,0,null,0,null,0,null,0,null,0,null,0,null,0,null,0,null,0,null,0,null,0,null,0,null,"NO",{"$f":"IF(ISERROR(VLOOKUP($A7+8860000,'Growth Data'!$A:$F,3,0)),\"NO\",VLOOKUP($A7+8860000,'Growth Data'!$A:$F,3,0))","v":"NO"},0,null,0,{"$f":"IF(DI7=\"YES\",IF(ISERROR(VLOOKUP($A7+8860000,'Growth Data'!$A:$F,6,0)),0,VLOOKUP($A7+8860000,'Growth Data'!$A:$F,6,0)),0)","v":0},0,null,0,{"$f":"IF(ISERROR(VLOOKUP($A7+8860000,'Growth Data'!$A:$Z,7,0)),0,VLOOKUP($A7+8860000,'Growth Data'!$A:$Z,7,0))","v":0},0,null,"NO",{"$f":"IF(ISERROR(VLOOKUP($A7+8860000,'Growth Data'!$A:$F,4,0)),\"NO\",VLOOKUP($A7+8860000,'Growth Data'!$A:$F,4,0))","v":"NO"},0,null,0,{"$f":"IF(ISERROR(VLOOKUP($A7+8860000,'Growth Data'!$A:$Z,8,0)),0,VLOOKUP($A7+8860000,'Growth Data'!$A:$Z,8,0))","v":0},0,null,0,{"$f":"IF(ISERROR(VLOOKUP($A7+8860000,'Growth Data'!$A:$Z,9,0)),0,VLOOKUP($A7+8860000,'Growth Data'!$A:$Z,9,0))","v":0},0,null,"NO",{"$f":"IF(ISERROR(VLOOKUP($A7+8860000,'Growth Data'!$A:$Z,5,0)),\"NO\",VLOOKUP($A7+8860000,'Growth Data'!$A:$Z,5,0))","v":"NO"},0,null,0,{"$f":"IF(ISERROR(VLOOKUP($A7+8860000,'Growth Data'!$A:$Z,10,0)),0,VLOOKUP($A7+8860000,'Growth Data'!$A:$Z,10,0))","v":0},0,null,0,{"$f":"IF(ISERROR(VLOOKUP($A7+8860000,'Growth Data'!$A:$Z,11,0)),0,VLOOKUP($A7+8860000,'Growth Data'!$A:$Z,11,0))","v":0},0]
[2074,"Sunny Bank Primary School",null,"Sunny Bank Primary School","Sunny Bank Primary School",0,null,736701.29,736701.29339080001,0,null,168990.68,168990.6791090364,0,null,19982.63,19982.629571063862,0,null,91482.28,91482.280430773928,0,null,120082.8,120082.8,0,null,0,0,0,null,0,0,0,null,0,0,0,null,23814,23814,0,null,0,0,0,null,17750,17750,0,null,0,0,0,null,1178803.68,1178803.6825016744,0,null,0,0,0,null,1178803.68,1178803.6825016744,0,null,0,null,0,null,1178803.68,1178803.6825016744,0,null,4.9400000000000004,null,5,null,237376.59,null,237377,null,0,null,0,null,0,null,0,null,0,null,0,null,0,null,0,null,0,null,0,null,0,null,0,null,0,null,0,null,"NO",{"$f":"IF(ISERROR(VLOOKUP($A8+8860000,'Growth Data'!$A:$F,3,0)),\"NO\",VLOOKUP($A8+8860000,'Growth Data'!$A:$F,3,0))","v":"NO"},0,null,0,{"$f":"IF(DI8=\"YES\",IF(ISERROR(VLOOKUP($A8+8860000,'Growth Data'!$A:$F,6,0)),0,VLOOKUP($A8+8860000,'Growth Data'!$A:$F,6,0)),0)","v":0},0,null,0,{"$f":"IF(ISERROR(VLOOKUP($A8+8860000,'Growth Data'!$A:$Z,7,0)),0,VLOOKUP($A8+8860000,'Growth Data'!$A:$Z,7,0))","v":0},0,null,"NO",{"$f":"IF(ISERROR(VLOOKUP($A8+8860000,'Growth Data'!$A:$F,4,0)),\"NO\",VLOOKUP($A8+8860000,'Growth Data'!$A:$F,4,0))","v":"NO"},0,null,0,{"$f":"IF(ISERROR(VLOOKUP($A8+8860000,'Growth Data'!$A:$Z,8,0)),0,VLOOKUP($A8+8860000,'Growth Data'!$A:$Z,8,0))","v":0},0,null,0,{"$f":"IF(ISERROR(VLOOKUP($A8+8860000,'Growth Data'!$A:$Z,9,0)),0,VLOOKUP($A8+8860000,'Growth Data'!$A:$Z,9,0))","v":0},0,null,"NO",{"$f":"IF(ISERROR(VLOOKUP($A8+8860000,'Growth Data'!$A:$Z,5,0)),\"NO\",VLOOKUP($A8+8860000,'Growth Data'!$A:$Z,5,0))","v":"NO"},0,null,0,{"$f":"IF(ISERROR(VLOOKUP($A8+8860000,'Growth Data'!$A:$Z,10,0)),0,VLOOKUP($A8+8860000,'Growth Data'!$A:$Z,10,0))","v":0},0,null,0,{"$f":"IF(ISERROR(VLOOKUP($A8+8860000,'Growth Data'!$A:$Z,11,0)),0,VLOOKUP($A8+8860000,'Growth Data'!$A:$Z,11,0))","v":0},0]
[2079,"Woodlands Primary School",null,"Woodlands Primary School","Woodlands Primary School",0,null,1770282.21,1770282.2124764,0,null,75343.77,75343.767303926346,0,null,9533.61,9533.6113579892353,0,null,107733.14,107733.13570066771,0,null,120082.8,120082.8,0,null,0,0,0,null,0,0,0,null,0,0,0,null,60325,60325,0,null,0,0,0,null,0,0,0,null,106624.47,106624.47316101659,0,null,2249925,2249925,0,null,0,0,0,null,2249925,2249925,0,null,0,null,0,null,2249925,2249925,0,null,0,null,0,null,176830.33,null,176830,null,0,null,0,null,0,null,0,null,0,null,0,null,0,null,0,null,0,null,0,null,0,null,0,null,0,null,0,null,"NO",{"$f":"IF(ISERROR(VLOOKUP($A9+8860000,'Growth Data'!$A:$F,3,0)),\"NO\",VLOOKUP($A9+8860000,'Growth Data'!$A:$F,3,0))","v":"NO"},0,null,0,{"$f":"IF(DI9=\"YES\",IF(ISERROR(VLOOKUP($A9+8860000,'Growth Data'!$A:$F,6,0)),0,VLOOKUP($A9+8860000,'Growth Data'!$A:$F,6,0)),0)","v":0},0,null,0,{"$f":"IF(ISERROR(VLOOKUP($A9+8860000,'Growth Data'!$A:$Z,7,0)),0,VLOOKUP($A9+8860000,'Growth Data'!$A:$Z,7,0))","v":0},0,null,"NO",{"$f":"IF(ISERROR(VLOOKUP($A9+8860000,'Growth Data'!$A:$F,4,0)),\"NO\",VLOOKUP($A9+8860000,'Growth Data'!$A:$F,4,0))","v":"NO"},0,null,0,{"$f":"IF(ISERROR(VLOOKUP($A9+8860000,'Growth Data'!$A:$Z,8,0)),0,VLOOKUP($A9+8860000,'Growth Data'!$A:$Z,8,0))","v":0},0,null,0,{"$f":"IF(ISERROR(VLOOKUP($A9+8860000,'Growth Data'!$A:$Z,9,0)),0,VLOOKUP($A9+8860000,'Growth Data'!$A:$Z,9,0))","v":0},0,null,"NO",{"$f":"IF(ISERROR(VLOOKUP($A9+8860000,'Growth Data'!$A:$Z,5,0)),\"NO\",VLOOKUP($A9+8860000,'Growth Data'!$A:$Z,5,0))","v":"NO"},0,null,0,{"$f":"IF(ISERROR(VLOOKUP($A9+8860000,'Growth Data'!$A:$Z,10,0)),0,VLOOKUP($A9+8860000,'Growth Data'!$A:$Z,10,0))","v":0},0,null,0,{"$f":"IF(ISERROR(VLOOKUP($A9+8860000,'Growth Data'!$A:$Z,11,0)),0,VLOOKUP($A9+8860000,'Growth Data'!$A:$Z,11,0))","v":0},0]
[2088,"Crockenhill Primary School",null,"Crockenhill Primary School","Crockenhill Primary School",0,null,555274.86,555274.85546620004,0,null,27553.45,27553.448531100483,0,null,1210.49,1210.4858220930248,0,null,26316.41,26316.405363696744,0,null,120082.8,120082.8,0,null,0,0,0,null,26587.94,26587.943024664481,0,null,0,0,0,null,23730,23730,0,null,0,0,0,null,0,0,0,null,0,0,0,null,780755.94,780755.93820775487,0,null,0,0,0,null,780755.94,780755.93820775487,0,null,0,null,0,null,780755.94,780755.93820775487,0,null,0,null,0,null,58983.91,null,58984,null,101.61,null,102,null,0,null,0,null,0,null,0,null,0,null,0,null,0,null,0,null,0,null,0,null,0,null,0,null,"NO",{"$f":"IF(ISERROR(VLOOKUP($A10+8860000,'Growth Data'!$A:$F,3,0)),\"NO\",VLOOKUP($A10+8860000,'Growth Data'!$A:$F,3,0))","v":"NO"},0,null,0,{"$f":"IF(DI10=\"YES\",IF(ISERROR(VLOOKUP($A10+8860000,'Growth Data'!$A:$F,6,0)),0,VLOOKUP($A10+8860000,'Growth Data'!$A:$F,6,0)),0)","v":0},0,null,0,{"$f":"IF(ISERROR(VLOOKUP($A10+8860000,'Growth Data'!$A:$Z,7,0)),0,VLOOKUP($A10+8860000,'Growth Data'!$A:$Z,7,0))","v":0},0,null,"NO",{"$f":"IF(ISERROR(VLOOKUP($A10+8860000,'Growth Data'!$A:$F,4,0)),\"NO\",VLOOKUP($A10+8860000,'Growth Data'!$A:$F,4,0))","v":"NO"},0,null,0,{"$f":"IF(ISERROR(VLOOKUP($A10+8860000,'Growth Data'!$A:$Z,8,0)),0,VLOOKUP($A10+8860000,'Growth Data'!$A:$Z,8,0))","v":0},0,null,0,{"$f":"IF(ISERROR(VLOOKUP($A10+8860000,'Growth Data'!$A:$Z,9,0)),0,VLOOKUP($A10+8860000,'Growth Data'!$A:$Z,9,0))","v":0},0,null,"NO",{"$f":"IF(ISERROR(VLOOKUP($A10+8860000,'Growth Data'!$A:$Z,5,0)),\"NO\",VLOOKUP($A10+8860000,'Growth Data'!$A:$Z,5,0))","v":"NO"},0,null,0,{"$f":"IF(ISERROR(VLOOKUP($A10+8860000,'Growth Data'!$A:$Z,10,0)),0,VLOOKUP($A10+8860000,'Growth Data'!$A:$Z,10,0))","v":0},0,null,0,{"$f":"IF(ISERROR(VLOOKUP($A10+8860000,'Growth Data'!$A:$Z,11,0)),0,VLOOKUP($A10+8860000,'Growth Data'!$A:$Z,11,0))","v":0},0]
[2089,"Anthony Roper Primary School, The",null,"Anthony Roper Primary School, The","Anthony Roper Primary School, The",0,null,835661.17,835661.16862240003,0,null,16692.5,16692.503516178338,0,null,2410.2800000000002,2410.277329230772,0,null,57296.1,57296.097629225864,0,null,120082.8,120082.8,0,null,0,0,0,null,37570,37569.99963433206,0,null,0,0,0,null,6552,6552,0,null,0,0,0,null,0,0,0,null,0,0,0,null,1076264.8500000001,1076264.8467313671,0,null,0,0,0,null,1076264.8500000001,1076264.8467313671,0,null,0,null,0,null,1076264.8500000001,1076264.8467313671,0,null,0,null,0,null,77884.13,null,77884,null,0,null,0,null,0,null,0,null,0,null,0,null,0,null,0,null,0,null,0,null,0,null,0,null,0,null,0,null,"NO",{"$f":"IF(ISERROR(VLOOKUP($A11+8860000,'Growth Data'!$A:$F,3,0)),\"NO\",VLOOKUP($A11+8860000,'Growth Data'!$A:$F,3,0))","v":"NO"},0,null,0,{"$f":"IF(DI11=\"YES\",IF(ISERROR(VLOOKUP($A11+8860000,'Growth Data'!$A:$F,6,0)),0,VLOOKUP($A11+8860000,'Growth Data'!$A:$F,6,0)),0)","v":0},0,null,0,{"$f":"IF(ISERROR(VLOOKUP($A11+8860000,'Growth Data'!$A:$Z,7,0)),0,VLOOKUP($A11+8860000,'Growth Data'!$A:$Z,7,0))","v":0},0,null,"NO",{"$f":"IF(ISERROR(VLOOKUP($A11+8860000,'Growth Data'!$A:$F,4,0)),\"NO\",VLOOKUP($A11+8860000,'Growth Data'!$A:$F,4,0))","v":"NO"},0,null,0,{"$f":"IF(ISERROR(VLOOKUP($A11+8860000,'Growth Data'!$A:$Z,8,0)),0,VLOOKUP($A11+8860000,'Growth Data'!$A:$Z,8,0))","v":0},0,null,0,{"$f":"IF(ISERROR(VLOOKUP($A11+8860000,'Growth Data'!$A:$Z,9,0)),0,VLOOKUP($A11+8860000,'Growth Data'!$A:$Z,9,0))","v":0},0,null,"NO",{"$f":"IF(ISERROR(VLOOKUP($A11+8860000,'Growth Data'!$A:$Z,5,0)),\"NO\",VLOOKUP($A11+8860000,'Growth Data'!$A:$Z,5,0))","v":"NO"},0,null,0,{"$f":"IF(ISERROR(VLOOKUP($A11+8860000,'Growth Data'!$A:$Z,10,0)),0,VLOOKUP($A11+8860000,'Growth Data'!$A:$Z,10,0))","v":0},0,null,0,{"$f":"IF(ISERROR(VLOOKUP($A11+8860000,'Growth Data'!$A:$Z,11,0)),0,VLOOKUP($A11+8860000,'Growth Data'!$A:$Z,11,0))","v":0},0]
[2094,"Cobham Primary School",null,"Cobham Primary School","Cobham Primary School",0,null,604754.79,604754.79308199999,0,null,11264.46,11264.464368807337,0,null,1193.45,1193.4544947368438,0,null,26623.62,26623.624125842387,0,null,120082.8,120082.8,0,null,0,0,0,null,0,0,0,null,0,0,0,null,16940,16940,0,null,0,0,0,null,0,0,0,null,0,0,0,null,780859.14,780859.13607138663,0,null,0,0,0,null,780859.14,780859.13607138663,0,null,0,null,0,null,780859.14,780859.13607138663,0,null,0,null,0,null,42234.42,null,42234,null,1776.56,null,1777,null,0,null,0,null,0,null,0,null,0,null,0,null,0,null,0,null,0,null,0,null,0,null,0,null,"NO",{"$f":"IF(ISERROR(VLOOKUP($A12+8860000,'Growth Data'!$A:$F,3,0)),\"NO\",VLOOKUP($A12+8860000,'Growth Data'!$A:$F,3,0))","v":"NO"},0,null,0,{"$f":"IF(DI12=\"YES\",IF(ISERROR(VLOOKUP($A12+8860000,'Growth Data'!$A:$F,6,0)),0,VLOOKUP($A12+8860000,'Growth Data'!$A:$F,6,0)),0)","v":0},0,null,0,{"$f":"IF(ISERROR(VLOOKUP($A12+8860000,'Growth Data'!$A:$Z,7,0)),0,VLOOKUP($A12+8860000,'Growth Data'!$A:$Z,7,0))","v":0},0,null,"NO",{"$f":"IF(ISERROR(VLOOKUP($A12+8860000,'Growth Data'!$A:$F,4,0)),\"NO\",VLOOKUP($A12+8860000,'Growth Data'!$A:$F,4,0))","v":"NO"},0,null,0,{"$f":"IF(ISERROR(VLOOKUP($A12+8860000,'Growth Data'!$A:$Z,8,0)),0,VLOOKUP($A12+8860000,'Growth Data'!$A:$Z,8,0))","v":0},0,null,0,{"$f":"IF(ISERROR(VLOOKUP($A12+8860000,'Growth Data'!$A:$Z,9,0)),0,VLOOKUP($A12+8860000,'Growth Data'!$A:$Z,9,0))","v":0},0,null,"NO",{"$f":"IF(ISERROR(VLOOKUP($A12+8860000,'Growth Data'!$A:$Z,5,0)),\"NO\",VLOOKUP($A12+8860000,'Growth Data'!$A:$Z,5,0))","v":"NO"},0,null,0,{"$f":"IF(ISERROR(VLOOKUP($A12+8860000,'Growth Data'!$A:$Z,10,0)),0,VLOOKUP($A12+8860000,'Growth Data'!$A:$Z,10,0))","v":0},0,null,0,{"$f":"IF(ISERROR(VLOOKUP($A12+8860000,'Growth Data'!$A:$Z,11,0)),0,VLOOKUP($A12+8860000,'Growth Data'!$A:$Z,11,0))","v":0},0]
[2095,"Cecil Road Primary and Nursery School",null,"Cecil Road Primary and Nursery School","Cecil Road Primary and Nursery School",0,null,1047325.35,1047325.3462011,0,null,82155.56,82155.563412286865,0,null,56443.23,56443.230901834904,0,null,76655.490000000005,76655.489855726308,0,null,120082.8,120082.8,0,null,0,0,0,null,0,0,0,null,0,0,0,null,33516,33516,0,null,0,0,0,null,0,0,0,null,0,0,0,null,1416178.43,1416178.430370948,0,null,0,0,0,null,1416178.43,1416178.430370948,0,null,0,null,0,null,1416178.43,1416178.430370948,0,null,4.9000000000000004,null,5,null,202115.93,null,202116,null,0,null,0,null,0,null,0,null,0,null,0,null,0,null,0,null,0,null,0,null,0,null,0,null,0,null,0,null,"NO",{"$f":"IF(ISERROR(VLOOKUP($A13+8860000,'Growth Data'!$A:$F,3,0)),\"NO\",VLOOKUP($A13+8860000,'Growth Data'!$A:$F,3,0))","v":"NO"},0,null,0,{"$f":"IF(DI13=\"YES\",IF(ISERROR(VLOOKUP($A13+8860000,'Growth Data'!$A:$F,6,0)),0,VLOOKUP($A13+8860000,'Growth Data'!$A:$F,6,0)),0)","v":0},0,null,0,{"$f":"IF(ISERROR(VLOOKUP($A13+8860000,'Growth Data'!$A:$Z,7,0)),0,VLOOKUP($A13+8860000,'Growth Data'!$A:$Z,7,0))","v":0},0,null,"NO",{"$f":"IF(ISERROR(VLOOKUP($A13+8860000,'Growth Data'!$A:$F,4,0)),\"NO\",VLOOKUP($A13+8860000,'Growth Data'!$A:$F,4,0))","v":"NO"},0,null,0,{"$f":"IF(ISERROR(VLOOKUP($A13+8860000,'Growth Data'!$A:$Z,8,0)),0,VLOOKUP($A13+8860000,'Growth Data'!$A:$Z,8,0))","v":0},0,null,0,{"$f":"IF(ISERROR(VLOOKUP($A13+8860000,'Growth Data'!$A:$Z,9,0)),0,VLOOKUP($A13+8860000,'Growth Data'!$A:$Z,9,0))","v":0},0,null,"NO",{"$f":"IF(ISERROR(VLOOKUP($A13+8860000,'Growth Data'!$A:$Z,5,0)),\"NO\",VLOOKUP($A13+8860000,'Growth Data'!$A:$Z,5,0))","v":"NO"},0,null,0,{"$f":"IF(ISERROR(VLOOKUP($A13+8860000,'Growth Data'!$A:$Z,10,0)),0,VLOOKUP($A13+8860000,'Growth Data'!$A:$Z,10,0))","v":0},0,null,0,{"$f":"IF(ISERROR(VLOOKUP($A13+8860000,'Growth Data'!$A:$Z,11,0)),0,VLOOKUP($A13+8860000,'Growth Data'!$A:$Z,11,0))","v":0},0]
[2109,"Higham Primary School",null,"Higham Primary School","Higham Primary School",0,null,580014.81999999995,580014.82427410001,0,null,15758.87,15758.866120000002,0,null,600.77,600.77336381215491,0,null,36953.85,36953.852903062871,0,null,120082.8,120082.8,0,null,0,0,0,null,0,0,0,null,0,0,0,null,21972,21972,0,null,0,0,0,null,0,0,0,null,0,0,0,null,775383.12,775383.11666097504,0,null,0,0,0,null,775383.12,775383.11666097504,0,null,0,null,0,null,775383.12,775383.11666097504,0,null,0,null,0,null,52063.33,null,52063,null,793.67,null,794,null,0,null,0,null,0,null,0,null,0,null,0,null,0,null,0,null,0,null,0,null,0,null,0,null,"NO",{"$f":"IF(ISERROR(VLOOKUP($A14+8860000,'Growth Data'!$A:$F,3,0)),\"NO\",VLOOKUP($A14+8860000,'Growth Data'!$A:$F,3,0))","v":"NO"},0,null,0,{"$f":"IF(DI14=\"YES\",IF(ISERROR(VLOOKUP($A14+8860000,'Growth Data'!$A:$F,6,0)),0,VLOOKUP($A14+8860000,'Growth Data'!$A:$F,6,0)),0)","v":0},0,null,0,{"$f":"IF(ISERROR(VLOOKUP($A14+8860000,'Growth Data'!$A:$Z,7,0)),0,VLOOKUP($A14+8860000,'Growth Data'!$A:$Z,7,0))","v":0},0,null,"NO",{"$f":"IF(ISERROR(VLOOKUP($A14+8860000,'Growth Data'!$A:$F,4,0)),\"NO\",VLOOKUP($A14+8860000,'Growth Data'!$A:$F,4,0))","v":"NO"},0,null,0,{"$f":"IF(ISERROR(VLOOKUP($A14+8860000,'Growth Data'!$A:$Z,8,0)),0,VLOOKUP($A14+8860000,'Growth Data'!$A:$Z,8,0))","v":0},0,null,0,{"$f":"IF(ISERROR(VLOOKUP($A14+8860000,'Growth Data'!$A:$Z,9,0)),0,VLOOKUP($A14+8860000,'Growth Data'!$A:$Z,9,0))","v":0},0,null,"NO",{"$f":"IF(ISERROR(VLOOKUP($A14+8860000,'Growth Data'!$A:$Z,5,0)),\"NO\",VLOOKUP($A14+8860000,'Growth Data'!$A:$Z,5,0))","v":"NO"},0,null,0,{"$f":"IF(ISERROR(VLOOKUP($A14+8860000,'Growth Data'!$A:$Z,10,0)),0,VLOOKUP($A14+8860000,'Growth Data'!$A:$Z,10,0))","v":0},0,null,0,{"$f":"IF(ISERROR(VLOOKUP($A14+8860000,'Growth Data'!$A:$Z,11,0)),0,VLOOKUP($A14+8860000,'Growth Data'!$A:$Z,11,0))","v":0},0]
[2116,"Lawn Primary School",null,"Lawn Primary School","Lawn Primary School",0,null,536032.66,536032.65750450001,0,null,152993.28,152993.27582167491,0,null,19230.39,19230.389449074071,0,null,70601.789999999994,70601.791274242452,0,null,120082.8,120082.8,0,null,0,0,0,null,0,0,0,null,0,0,0,null,20377,20377,0,null,0,0,0,null,0,0,0,null,0,0,0,null,919317.91,919317.91404949152,0,null,0,0,0,null,919317.91,919317.91404949152,0,null,0,null,0,null,919317.91,919317.91404949152,0,null,5.43,null,5,null,209433.13,null,209433,null,0,null,0,null,0,null,0,null,0,null,0,null,0,null,0,null,0,null,0,null,0,null,0,null,0,null,0,null,"NO",{"$f":"IF(ISERROR(VLOOKUP($A15+8860000,'Growth Data'!$A:$F,3,0)),\"NO\",VLOOKUP($A15+8860000,'Growth Data'!$A:$F,3,0))","v":"NO"},0,null,0,{"$f":"IF(DI15=\"YES\",IF(ISERROR(VLOOKUP($A15+8860000,'Growth Data'!$A:$F,6,0)),0,VLOOKUP($A15+8860000,'Growth Data'!$A:$F,6,0)),0)","v":0},0,null,0,{"$f":"IF(ISERROR(VLOOKUP($A15+8860000,'Growth Data'!$A:$Z,7,0)),0,VLOOKUP($A15+8860000,'Growth Data'!$A:$Z,7,0))","v":0},0,null,"NO",{"$f":"IF(ISERROR(VLOOKUP($A15+8860000,'Growth Data'!$A:$F,4,0)),\"NO\",VLOOKUP($A15+8860000,'Growth Data'!$A:$F,4,0))","v":"NO"},0,null,0,{"$f":"IF(ISERROR(VLOOKUP($A15+8860000,'Growth Data'!$A:$Z,8,0)),0,VLOOKUP($A15+8860000,'Growth Data'!$A:$Z,8,0))","v":0},0,null,0,{"$f":"IF(ISERROR(VLOOKUP($A15+8860000,'Growth Data'!$A:$Z,9,0)),0,VLOOKUP($A15+8860000,'Growth Data'!$A:$Z,9,0))","v":0},0,null,"NO",{"$f":"IF(ISERROR(VLOOKUP($A15+8860000,'Growth Data'!$A:$Z,5,0)),\"NO\",VLOOKUP($A15+8860000,'Growth Data'!$A:$Z,5,0))","v":"NO"},0,null,0,{"$f":"IF(ISERROR(VLOOKUP($A15+8860000,'Growth Data'!$A:$Z,10,0)),0,VLOOKUP($A15+8860000,'Growth Data'!$A:$Z,10,0))","v":0},0,null,0,{"$f":"IF(ISERROR(VLOOKUP($A15+8860000,'Growth Data'!$A:$Z,11,0)),0,VLOOKUP($A15+8860000,'Growth Data'!$A:$Z,11,0))","v":0},0]
[2119,"Shears Green Infant School",null,"Shears Green Infant School","Shears Green Infant School",0,null,986849.87,986849.86689289997,0,null,73608.759999999995,73608.755020000084,0,null,28522.77,28522.771308541731,0,null,49607.77,49607.770511025163,0,null,120082.8,120082.8,0,null,0,0,0,null,0,0,0,null,0,0,0,null,21420,21420,0,null,0,0,0,null,0,0,0,null,0,0,0,null,1280091.96,1280091.963732467,0,null,0,0,0,null,1280091.96,1280091.963732467,0,null,0,null,0,null,1280091.96,1280091.963732467,0,null,0,null,0,null,141683.06,null,141683,null,0,null,0,null,0,null,0,null,0,null,0,null,0,null,0,null,0,null,0,null,0,null,0,null,0,null,0,null,"NO",{"$f":"IF(ISERROR(VLOOKUP($A16+8860000,'Growth Data'!$A:$F,3,0)),\"NO\",VLOOKUP($A16+8860000,'Growth Data'!$A:$F,3,0))","v":"NO"},0,null,0,{"$f":"IF(DI16=\"YES\",IF(ISERROR(VLOOKUP($A16+8860000,'Growth Data'!$A:$F,6,0)),0,VLOOKUP($A16+8860000,'Growth Data'!$A:$F,6,0)),0)","v":0},0,null,0,{"$f":"IF(ISERROR(VLOOKUP($A16+8860000,'Growth Data'!$A:$Z,7,0)),0,VLOOKUP($A16+8860000,'Growth Data'!$A:$Z,7,0))","v":0},0,null,"NO",{"$f":"IF(ISERROR(VLOOKUP($A16+8860000,'Growth Data'!$A:$F,4,0)),\"NO\",VLOOKUP($A16+8860000,'Growth Data'!$A:$F,4,0))","v":"NO"},0,null,0,{"$f":"IF(ISERROR(VLOOKUP($A16+8860000,'Growth Data'!$A:$Z,8,0)),0,VLOOKUP($A16+8860000,'Growth Data'!$A:$Z,8,0))","v":0},0,null,0,{"$f":"IF(ISERROR(VLOOKUP($A16+8860000,'Growth Data'!$A:$Z,9,0)),0,VLOOKUP($A16+8860000,'Growth Data'!$A:$Z,9,0))","v":0},0,null,"NO",{"$f":"IF(ISERROR(VLOOKUP($A16+8860000,'Growth Data'!$A:$Z,5,0)),\"NO\",VLOOKUP($A16+8860000,'Growth Data'!$A:$Z,5,0))","v":"NO"},0,null,0,{"$f":"IF(ISERROR(VLOOKUP($A16+8860000,'Growth Data'!$A:$Z,10,0)),0,VLOOKUP($A16+8860000,'Growth Data'!$A:$Z,10,0))","v":0},0,null,0,{"$f":"IF(ISERROR(VLOOKUP($A16+8860000,'Growth Data'!$A:$Z,11,0)),0,VLOOKUP($A16+8860000,'Growth Data'!$A:$Z,11,0))","v":0},0]
[2120,"Bean Primary School",null,"Bean Primary School","Bean Primary School",0,null,541530.43000000005,541530.42835069995,0,null,48393.66,48393.657060576981,0,null,3583.24,3583.2354335294099,0,null,44960.71,44960.714272369267,0,null,120082.8,120082.8,0,null,0,0,0,null,27611.25,27611.250398265183,0,null,0,0,0,null,14028,14028,0,null,0,0,0,null,0,0,0,null,0,0,0,null,800190.09,800190.08551544079,0,null,0,0,0,null,800190.09,800190.08551544079,0,null,0,null,0,null,800190.09,800190.08551544079,0,null,0,null,0,null,97345.15,null,97345,null,0,null,0,null,0,null,0,null,0,null,0,null,0,null,0,null,0,null,0,null,0,null,0,null,0,null,0,null,"NO",{"$f":"IF(ISERROR(VLOOKUP($A17+8860000,'Growth Data'!$A:$F,3,0)),\"NO\",VLOOKUP($A17+8860000,'Growth Data'!$A:$F,3,0))","v":"NO"},0,null,0,{"$f":"IF(DI17=\"YES\",IF(ISERROR(VLOOKUP($A17+8860000,'Growth Data'!$A:$F,6,0)),0,VLOOKUP($A17+8860000,'Growth Data'!$A:$F,6,0)),0)","v":0},0,null,0,{"$f":"IF(ISERROR(VLOOKUP($A17+8860000,'Growth Data'!$A:$Z,7,0)),0,VLOOKUP($A17+8860000,'Growth Data'!$A:$Z,7,0))","v":0},0,null,"NO",{"$f":"IF(ISERROR(VLOOKUP($A17+8860000,'Growth Data'!$A:$F,4,0)),\"NO\",VLOOKUP($A17+8860000,'Growth Data'!$A:$F,4,0))","v":"NO"},0,null,0,{"$f":"IF(ISERROR(VLOOKUP($A17+8860000,'Growth Data'!$A:$Z,8,0)),0,VLOOKUP($A17+8860000,'Growth Data'!$A:$Z,8,0))","v":0},0,null,0,{"$f":"IF(ISERROR(VLOOKUP($A17+8860000,'Growth Data'!$A:$Z,9,0)),0,VLOOKUP($A17+8860000,'Growth Data'!$A:$Z,9,0))","v":0},0,null,"NO",{"$f":"IF(ISERROR(VLOOKUP($A17+8860000,'Growth Data'!$A:$Z,5,0)),\"NO\",VLOOKUP($A17+8860000,'Growth Data'!$A:$Z,5,0))","v":"NO"},0,null,0,{"$f":"IF(ISERROR(VLOOKUP($A17+8860000,'Growth Data'!$A:$Z,10,0)),0,VLOOKUP($A17+8860000,'Growth Data'!$A:$Z,10,0))","v":0},0,null,0,{"$f":"IF(ISERROR(VLOOKUP($A17+8860000,'Growth Data'!$A:$Z,11,0)),0,VLOOKUP($A17+8860000,'Growth Data'!$A:$Z,11,0))","v":0},0]
[2127,"Paddock Wood Primary School",null,"Paddock Wood Primary School","Paddock Wood Primary School",0,null,1696062.31,1696062.3060526999,0,null,87982.11,87982.113034774025,0,null,3566.07,3566.066365794381,0,null,105629.19,105629.19102525656,0,null,120082.8,120082.8,0,null,0,0,0,null,0,0,0,null,0,0,0,null,59472,59472,0,null,0,0,0,null,0,0,0,null,84477.52,84477.523521475028,0,null,2157272,2157272,0,null,0,0,0,null,2157272,2157272,0,null,0,null,0,null,2157272,2157272,0,null,0,null,0,null,168188.08,null,168188,null,0,null,0,null,0,null,0,null,0,null,0,null,0,null,0,null,0,null,0,null,0,null,0,null,0,null,0,null,"NO",{"$f":"IF(ISERROR(VLOOKUP($A18+8860000,'Growth Data'!$A:$F,3,0)),\"NO\",VLOOKUP($A18+8860000,'Growth Data'!$A:$F,3,0))","v":"NO"},0,null,0,{"$f":"IF(DI18=\"YES\",IF(ISERROR(VLOOKUP($A18+8860000,'Growth Data'!$A:$F,6,0)),0,VLOOKUP($A18+8860000,'Growth Data'!$A:$F,6,0)),0)","v":0},0,null,0,{"$f":"IF(ISERROR(VLOOKUP($A18+8860000,'Growth Data'!$A:$Z,7,0)),0,VLOOKUP($A18+8860000,'Growth Data'!$A:$Z,7,0))","v":0},0,null,"NO",{"$f":"IF(ISERROR(VLOOKUP($A18+8860000,'Growth Data'!$A:$F,4,0)),\"NO\",VLOOKUP($A18+8860000,'Growth Data'!$A:$F,4,0))","v":"NO"},0,null,0,{"$f":"IF(ISERROR(VLOOKUP($A18+8860000,'Growth Data'!$A:$Z,8,0)),0,VLOOKUP($A18+8860000,'Growth Data'!$A:$Z,8,0))","v":0},0,null,0,{"$f":"IF(ISERROR(VLOOKUP($A18+8860000,'Growth Data'!$A:$Z,9,0)),0,VLOOKUP($A18+8860000,'Growth Data'!$A:$Z,9,0))","v":0},0,null,"NO",{"$f":"IF(ISERROR(VLOOKUP($A18+8860000,'Growth Data'!$A:$Z,5,0)),\"NO\",VLOOKUP($A18+8860000,'Growth Data'!$A:$Z,5,0))","v":"NO"},0,null,0,{"$f":"IF(ISERROR(VLOOKUP($A18+8860000,'Growth Data'!$A:$Z,10,0)),0,VLOOKUP($A18+8860000,'Growth Data'!$A:$Z,10,0))","v":0},0,null,0,{"$f":"IF(ISERROR(VLOOKUP($A18+8860000,'Growth Data'!$A:$Z,11,0)),0,VLOOKUP($A18+8860000,'Growth Data'!$A:$Z,11,0))","v":0},0]
[2128,"Capel Primary School",null,"Capel Primary School","Capel Primary School",0,null,574517.05000000005,574517.05342789995,0,null,18533.22,18533.215119810429,0,null,0,0,0,null,27811.82,27811.824862263242,0,null,120082.8,120082.8,0,null,0,0,0,null,0,0,0,null,0,0,0,null,20422,20422,0,null,0,0,0,null,0,0,0,null,0,0,0,null,761366.89,761366.89340997371,0,null,0,0,0,null,761366.89,761366.89340997371,0,null,0,null,0,null,761366.89,761366.89340997371,0,null,0,null,0,null,45094.879999999997,null,45095,null,1490.51,null,1491,null,0,null,0,null,0,null,0,null,0,null,0,null,0,null,0,null,0,null,0,null,0,null,0,null,"NO",{"$f":"IF(ISERROR(VLOOKUP($A19+8860000,'Growth Data'!$A:$F,3,0)),\"NO\",VLOOKUP($A19+8860000,'Growth Data'!$A:$F,3,0))","v":"NO"},0,null,0,{"$f":"IF(DI19=\"YES\",IF(ISERROR(VLOOKUP($A19+8860000,'Growth Data'!$A:$F,6,0)),0,VLOOKUP($A19+8860000,'Growth Data'!$A:$F,6,0)),0)","v":0},0,null,0,{"$f":"IF(ISERROR(VLOOKUP($A19+8860000,'Growth Data'!$A:$Z,7,0)),0,VLOOKUP($A19+8860000,'Growth Data'!$A:$Z,7,0))","v":0},0,null,"NO",{"$f":"IF(ISERROR(VLOOKUP($A19+8860000,'Growth Data'!$A:$F,4,0)),\"NO\",VLOOKUP($A19+8860000,'Growth Data'!$A:$F,4,0))","v":"NO"},0,null,0,{"$f":"IF(ISERROR(VLOOKUP($A19+8860000,'Growth Data'!$A:$Z,8,0)),0,VLOOKUP($A19+8860000,'Growth Data'!$A:$Z,8,0))","v":0},0,null,0,{"$f":"IF(ISERROR(VLOOKUP($A19+8860000,'Growth Data'!$A:$Z,9,0)),0,VLOOKUP($A19+8860000,'Growth Data'!$A:$Z,9,0))","v":0},0,null,"NO",{"$f":"IF(ISERROR(VLOOKUP($A19+8860000,'Growth Data'!$A:$Z,5,0)),\"NO\",VLOOKUP($A19+8860000,'Growth Data'!$A:$Z,5,0))","v":"NO"},0,null,0,{"$f":"IF(ISERROR(VLOOKUP($A19+8860000,'Growth Data'!$A:$Z,10,0)),0,VLOOKUP($A19+8860000,'Growth Data'!$A:$Z,10,0))","v":0},0,null,0,{"$f":"IF(ISERROR(VLOOKUP($A19+8860000,'Growth Data'!$A:$Z,11,0)),0,VLOOKUP($A19+8860000,'Growth Data'!$A:$Z,11,0))","v":0},0]
[2130,"Dunton Green Primary School",null,"Dunton Green Primary School","Dunton Green Primary School",0,null,461812.75,461812.75108080002,0,null,30781.22,30781.224399999992,0,null,7604.97,7604.9735432432408,0,null,40523.949999999997,40523.948061397394,0,null,120082.8,120082.8,0,null,0,0,0,null,24053.33,24053.327373910033,0,null,0,0,0,null,24182,24182,0,null,0,0,0,null,0,0,0,null,0,0,0,null,709041.02,709041.02445935074,0,null,0,0,0,null,709041.02,709041.02445935074,0,null,0,null,0,null,709041.02,709041.02445935074,0,null,0,null,0,null,69991.199999999997,null,69991,null,0,null,0,null,0,null,0,null,0,null,0,null,0,null,0,null,0,null,0,null,0,null,0,null,0,null,0,null,"NO",{"$f":"IF(ISERROR(VLOOKUP($A20+8860000,'Growth Data'!$A:$F,3,0)),\"NO\",VLOOKUP($A20+8860000,'Growth Data'!$A:$F,3,0))","v":"NO"},0,null,0,{"$f":"IF(DI20=\"YES\",IF(ISERROR(VLOOKUP($A20+8860000,'Growth Data'!$A:$F,6,0)),0,VLOOKUP($A20+8860000,'Growth Data'!$A:$F,6,0)),0)","v":0},0,null,0,{"$f":"IF(ISERROR(VLOOKUP($A20+8860000,'Growth Data'!$A:$Z,7,0)),0,VLOOKUP($A20+8860000,'Growth Data'!$A:$Z,7,0))","v":0},0,null,"NO",{"$f":"IF(ISERROR(VLOOKUP($A20+8860000,'Growth Data'!$A:$F,4,0)),\"NO\",VLOOKUP($A20+8860000,'Growth Data'!$A:$F,4,0))","v":"NO"},0,null,0,{"$f":"IF(ISERROR(VLOOKUP($A20+8860000,'Growth Data'!$A:$Z,8,0)),0,VLOOKUP($A20+8860000,'Growth Data'!$A:$Z,8,0))","v":0},0,null,0,{"$f":"IF(ISERROR(VLOOKUP($A20+8860000,'Growth Data'!$A:$Z,9,0)),0,VLOOKUP($A20+8860000,'Growth Data'!$A:$Z,9,0))","v":0},0,null,"NO",{"$f":"IF(ISERROR(VLOOKUP($A20+8860000,'Growth Data'!$A:$Z,5,0)),\"NO\",VLOOKUP($A20+8860000,'Growth Data'!$A:$Z,5,0))","v":"NO"},0,null,0,{"$f":"IF(ISERROR(VLOOKUP($A20+8860000,'Growth Data'!$A:$Z,10,0)),0,VLOOKUP($A20+8860000,'Growth Data'!$A:$Z,10,0))","v":0},0,null,0,{"$f":"IF(ISERROR(VLOOKUP($A20+8860000,'Growth Data'!$A:$Z,11,0)),0,VLOOKUP($A20+8860000,'Growth Data'!$A:$Z,11,0))","v":0},0]
[2132,"Hadlow School",null,"Hadlow School","Hadlow School",0,null,555274.86,555274.85546620004,0,null,57030.52,57030.518437086401,0,null,3450.89,3450.887758011047,0,null,34980.120000000003,34980.120837363211,0,null,120082.8,120082.8,0,null,0,0,0,null,0,0,0,null,0,0,0,null,25237,25237,0,null,0,0,0,null,0,0,0,null,0,0,0,null,796056.18,796056.18249866064,0,null,0,0,0,null,796056.18,796056.18249866064,0,null,0,null,0,null,796056.18,796056.18249866064,0,null,0,null,0,null,85845.6,null,85846,null,0,null,0,null,0,null,0,null,0,null,0,null,0,null,0,null,0,null,0,null,0,null,0,null,0,null,0,null,"NO",{"$f":"IF(ISERROR(VLOOKUP($A21+8860000,'Growth Data'!$A:$F,3,0)),\"NO\",VLOOKUP($A21+8860000,'Growth Data'!$A:$F,3,0))","v":"NO"},0,null,0,{"$f":"IF(DI21=\"YES\",IF(ISERROR(VLOOKUP($A21+8860000,'Growth Data'!$A:$F,6,0)),0,VLOOKUP($A21+8860000,'Growth Data'!$A:$F,6,0)),0)","v":0},0,null,0,{"$f":"IF(ISERROR(VLOOKUP($A21+8860000,'Growth Data'!$A:$Z,7,0)),0,VLOOKUP($A21+8860000,'Growth Data'!$A:$Z,7,0))","v":0},0,null,"NO",{"$f":"IF(ISERROR(VLOOKUP($A21+8860000,'Growth Data'!$A:$F,4,0)),\"NO\",VLOOKUP($A21+8860000,'Growth Data'!$A:$F,4,0))","v":"NO"},0,null,0,{"$f":"IF(ISERROR(VLOOKUP($A21+8860000,'Growth Data'!$A:$Z,8,0)),0,VLOOKUP($A21+8860000,'Growth Data'!$A:$Z,8,0))","v":0},0,null,0,{"$f":"IF(ISERROR(VLOOKUP($A21+8860000,'Growth Data'!$A:$Z,9,0)),0,VLOOKUP($A21+8860000,'Growth Data'!$A:$Z,9,0))","v":0},0,null,"NO",{"$f":"IF(ISERROR(VLOOKUP($A21+8860000,'Growth Data'!$A:$Z,5,0)),\"NO\",VLOOKUP($A21+8860000,'Growth Data'!$A:$Z,5,0))","v":"NO"},0,null,0,{"$f":"IF(ISERROR(VLOOKUP($A21+8860000,'Growth Data'!$A:$Z,10,0)),0,VLOOKUP($A21+8860000,'Growth Data'!$A:$Z,10,0))","v":0},0,null,0,{"$f":"IF(ISERROR(VLOOKUP($A21+8860000,'Growth Data'!$A:$Z,11,0)),0,VLOOKUP($A21+8860000,'Growth Data'!$A:$Z,11,0))","v":0},0]
[2133,"Halstead Community Primary School",null,"Halstead Community Primary School","Halstead Community Primary School",0,null,228157.49,228157.49011730001,0,null,16627.560000000001,16627.554989662924,0,null,2312.13,2312.1348135135158,0,null,20861.04,20861.03678040233,0,null,120082.8,120082.8,0,null,0,0,0,null,14124.69,14124.693007911983,0,null,0,0,0,null,9329,9329,0,null,0,0,0,null,0,0,0,null,0,0,0,null,411494.71,411494.70970879076,0,null,0,0,0,null,411494.71,411494.70970879076,0,null,0,null,0,null,411494.71,411494.70970879076,0,null,0,null,0,null,40866.47,null,40866,null,1913.35,null,1913,null,0,null,0,null,0,null,0,null,0,null,0,null,0,null,0,null,0,null,0,null,0,null,0,null,"NO",{"$f":"IF(ISERROR(VLOOKUP($A22+8860000,'Growth Data'!$A:$F,3,0)),\"NO\",VLOOKUP($A22+8860000,'Growth Data'!$A:$F,3,0))","v":"NO"},0,null,0,{"$f":"IF(DI22=\"YES\",IF(ISERROR(VLOOKUP($A22+8860000,'Growth Data'!$A:$F,6,0)),0,VLOOKUP($A22+8860000,'Growth Data'!$A:$F,6,0)),0)","v":0},0,null,0,{"$f":"IF(ISERROR(VLOOKUP($A22+8860000,'Growth Data'!$A:$Z,7,0)),0,VLOOKUP($A22+8860000,'Growth Data'!$A:$Z,7,0))","v":0},0,null,"NO",{"$f":"IF(ISERROR(VLOOKUP($A22+8860000,'Growth Data'!$A:$F,4,0)),\"NO\",VLOOKUP($A22+8860000,'Growth Data'!$A:$F,4,0))","v":"NO"},0,null,0,{"$f":"IF(ISERROR(VLOOKUP($A22+8860000,'Growth Data'!$A:$Z,8,0)),0,VLOOKUP($A22+8860000,'Growth Data'!$A:$Z,8,0))","v":0},0,null,0,{"$f":"IF(ISERROR(VLOOKUP($A22+8860000,'Growth Data'!$A:$Z,9,0)),0,VLOOKUP($A22+8860000,'Growth Data'!$A:$Z,9,0))","v":0},0,null,"NO",{"$f":"IF(ISERROR(VLOOKUP($A22+8860000,'Growth Data'!$A:$Z,5,0)),\"NO\",VLOOKUP($A22+8860000,'Growth Data'!$A:$Z,5,0))","v":"NO"},0,null,0,{"$f":"IF(ISERROR(VLOOKUP($A22+8860000,'Growth Data'!$A:$Z,10,0)),0,VLOOKUP($A22+8860000,'Growth Data'!$A:$Z,10,0))","v":0},0,null,0,{"$f":"IF(ISERROR(VLOOKUP($A22+8860000,'Growth Data'!$A:$Z,11,0)),0,VLOOKUP($A22+8860000,'Growth Data'!$A:$Z,11,0))","v":0},0]
[2134,"Four Elms Primary School",null,"Four Elms Primary School","Four Elms Primary School",0,null,302377.40000000002,302377.39654099999,0,null,13862.53,13862.531524324331,0,null,1193.45,1193.4544947368438,0,null,22944.23,22944.230231371035,0,null,120082.8,120082.8,0,null,0,0,0,null,16760.759999999998,16760.759025608124,0,null,0,0,0,null,13134,13134,0,null,0,0,0,null,0,0,0,null,0,0,0,null,490355.17,490355.1718170403,0,null,0,0,0,null,490355.17,490355.1718170403,0,null,0,null,0,null,490355.17,490355.1718170403,0,null,0,null,0,null,42194.73,null,42195,null,1780.53,null,1781,null,0,null,0,null,0,null,0,null,0,null,0,null,0,null,0,null,0,null,0,null,0,null,0,null,"NO",{"$f":"IF(ISERROR(VLOOKUP($A23+8860000,'Growth Data'!$A:$F,3,0)),\"NO\",VLOOKUP($A23+8860000,'Growth Data'!$A:$F,3,0))","v":"NO"},0,null,0,{"$f":"IF(DI23=\"YES\",IF(ISERROR(VLOOKUP($A23+8860000,'Growth Data'!$A:$F,6,0)),0,VLOOKUP($A23+8860000,'Growth Data'!$A:$F,6,0)),0)","v":0},0,null,0,{"$f":"IF(ISERROR(VLOOKUP($A23+8860000,'Growth Data'!$A:$Z,7,0)),0,VLOOKUP($A23+8860000,'Growth Data'!$A:$Z,7,0))","v":0},0,null,"NO",{"$f":"IF(ISERROR(VLOOKUP($A23+8860000,'Growth Data'!$A:$F,4,0)),\"NO\",VLOOKUP($A23+8860000,'Growth Data'!$A:$F,4,0))","v":"NO"},0,null,0,{"$f":"IF(ISERROR(VLOOKUP($A23+8860000,'Growth Data'!$A:$Z,8,0)),0,VLOOKUP($A23+8860000,'Growth Data'!$A:$Z,8,0))","v":0},0,null,0,{"$f":"IF(ISERROR(VLOOKUP($A23+8860000,'Growth Data'!$A:$Z,9,0)),0,VLOOKUP($A23+8860000,'Growth Data'!$A:$Z,9,0))","v":0},0,null,"NO",{"$f":"IF(ISERROR(VLOOKUP($A23+8860000,'Growth Data'!$A:$Z,5,0)),\"NO\",VLOOKUP($A23+8860000,'Growth Data'!$A:$Z,5,0))","v":"NO"},0,null,0,{"$f":"IF(ISERROR(VLOOKUP($A23+8860000,'Growth Data'!$A:$Z,10,0)),0,VLOOKUP($A23+8860000,'Growth Data'!$A:$Z,10,0))","v":0},0,null,0,{"$f":"IF(ISERROR(VLOOKUP($A23+8860000,'Growth Data'!$A:$Z,11,0)),0,VLOOKUP($A23+8860000,'Growth Data'!$A:$Z,11,0))","v":0},0]
[2135,"Horsmonden Primary School",null,"Horsmonden Primary School","Horsmonden Primary School",0,null,494799.38,494799.37615800003,0,null,12617.31,12617.308766685981,0,null,0,0,0,null,24769.34,24769.339454321045,0,null,120082.8,120082.8,0,null,0,0,0,null,0,0,0,null,0,0,0,null,18413,18413,0,null,0,0,0,null,0,0,0,null,0,0,0,null,670681.81999999995,670681.8243790071,0,null,0,0,0,null,670681.81999999995,670681.8243790071,0,null,0,null,0,null,670681.81999999995,670681.8243790071,0,null,0,null,0,null,39218.61,null,39219,null,2078.14,null,2078,null,0,null,0,null,0,null,0,null,0,null,0,null,0,null,0,null,0,null,0,null,0,null,0,null,"NO",{"$f":"IF(ISERROR(VLOOKUP($A24+8860000,'Growth Data'!$A:$F,3,0)),\"NO\",VLOOKUP($A24+8860000,'Growth Data'!$A:$F,3,0))","v":"NO"},0,null,0,{"$f":"IF(DI24=\"YES\",IF(ISERROR(VLOOKUP($A24+8860000,'Growth Data'!$A:$F,6,0)),0,VLOOKUP($A24+8860000,'Growth Data'!$A:$F,6,0)),0)","v":0},0,null,0,{"$f":"IF(ISERROR(VLOOKUP($A24+8860000,'Growth Data'!$A:$Z,7,0)),0,VLOOKUP($A24+8860000,'Growth Data'!$A:$Z,7,0))","v":0},0,null,"NO",{"$f":"IF(ISERROR(VLOOKUP($A24+8860000,'Growth Data'!$A:$F,4,0)),\"NO\",VLOOKUP($A24+8860000,'Growth Data'!$A:$F,4,0))","v":"NO"},0,null,0,{"$f":"IF(ISERROR(VLOOKUP($A24+8860000,'Growth Data'!$A:$Z,8,0)),0,VLOOKUP($A24+8860000,'Growth Data'!$A:$Z,8,0))","v":0},0,null,0,{"$f":"IF(ISERROR(VLOOKUP($A24+8860000,'Growth Data'!$A:$Z,9,0)),0,VLOOKUP($A24+8860000,'Growth Data'!$A:$Z,9,0))","v":0},0,null,"NO",{"$f":"IF(ISERROR(VLOOKUP($A24+8860000,'Growth Data'!$A:$Z,5,0)),\"NO\",VLOOKUP($A24+8860000,'Growth Data'!$A:$Z,5,0))","v":"NO"},0,null,0,{"$f":"IF(ISERROR(VLOOKUP($A24+8860000,'Growth Data'!$A:$Z,10,0)),0,VLOOKUP($A24+8860000,'Growth Data'!$A:$Z,10,0))","v":0},0,null,0,{"$f":"IF(ISERROR(VLOOKUP($A24+8860000,'Growth Data'!$A:$Z,11,0)),0,VLOOKUP($A24+8860000,'Growth Data'!$A:$Z,11,0))","v":0},0]
[2136,"Kemsing Primary School",null,"Kemsing Primary School","Kemsing Primary School",0,null,544279.31000000006,544279.31377380004,0,null,13131.83,13131.830225306127,0,null,1200.47,1200.4748152941136,0,null,46158.39,46158.392583111156,0,null,120082.8,120082.8,0,null,0,0,0,null,26384.639999999999,26384.642334869412,0,null,0,0,0,null,21604,21604,0,null,0,0,0,null,0,0,0,null,0,0,0,null,772841.45,772841.45373238088,0,null,0,0,0,null,772841.45,772841.45373238088,0,null,0,null,0,null,772841.45,772841.45373238088,0,null,0,null,0,null,63222.21,null,63222,null,0,null,0,null,0,null,0,null,0,null,0,null,0,null,0,null,0,null,0,null,0,null,0,null,0,null,0,null,"NO",{"$f":"IF(ISERROR(VLOOKUP($A25+8860000,'Growth Data'!$A:$F,3,0)),\"NO\",VLOOKUP($A25+8860000,'Growth Data'!$A:$F,3,0))","v":"NO"},0,null,0,{"$f":"IF(DI25=\"YES\",IF(ISERROR(VLOOKUP($A25+8860000,'Growth Data'!$A:$F,6,0)),0,VLOOKUP($A25+8860000,'Growth Data'!$A:$F,6,0)),0)","v":0},0,null,0,{"$f":"IF(ISERROR(VLOOKUP($A25+8860000,'Growth Data'!$A:$Z,7,0)),0,VLOOKUP($A25+8860000,'Growth Data'!$A:$Z,7,0))","v":0},0,null,"NO",{"$f":"IF(ISERROR(VLOOKUP($A25+8860000,'Growth Data'!$A:$F,4,0)),\"NO\",VLOOKUP($A25+8860000,'Growth Data'!$A:$F,4,0))","v":"NO"},0,null,0,{"$f":"IF(ISERROR(VLOOKUP($A25+8860000,'Growth Data'!$A:$Z,8,0)),0,VLOOKUP($A25+8860000,'Growth Data'!$A:$Z,8,0))","v":0},0,null,0,{"$f":"IF(ISERROR(VLOOKUP($A25+8860000,'Growth Data'!$A:$Z,9,0)),0,VLOOKUP($A25+8860000,'Growth Data'!$A:$Z,9,0))","v":0},0,null,"NO",{"$f":"IF(ISERROR(VLOOKUP($A25+8860000,'Growth Data'!$A:$Z,5,0)),\"NO\",VLOOKUP($A25+8860000,'Growth Data'!$A:$Z,5,0))","v":"NO"},0,null,0,{"$f":"IF(ISERROR(VLOOKUP($A25+8860000,'Growth Data'!$A:$Z,10,0)),0,VLOOKUP($A25+8860000,'Growth Data'!$A:$Z,10,0))","v":0},0,null,0,{"$f":"IF(ISERROR(VLOOKUP($A25+8860000,'Growth Data'!$A:$Z,11,0)),0,VLOOKUP($A25+8860000,'Growth Data'!$A:$Z,11,0))","v":0},0]
[2137,"Leigh Primary School",null,"Leigh Primary School","Leigh Primary School",0,null,472808.29,472808.29277320002,0,null,10668.64,10668.639982798459,0,null,0,0,0,null,27557.67,27557.666764828391,0,null,120082.8,120082.8,0,null,0,0,0,null,22972.67,22972.67334255809,0,null,0,0,0,null,12005,12005,0,null,0,0,0,null,0,0,0,null,0,0,0,null,666095.06999999995,666095.07286338496,0,null,0,0,0,null,666095.06999999995,666095.07286338496,0,null,0,null,0,null,666095.06999999995,666095.07286338496,0,null,0,null,0,null,41060.06,null,41060,null,1893.99,null,1894,null,0,null,0,null,0,null,0,null,0,null,0,null,0,null,0,null,0,null,0,null,0,null,0,null,"NO",{"$f":"IF(ISERROR(VLOOKUP($A26+8860000,'Growth Data'!$A:$F,3,0)),\"NO\",VLOOKUP($A26+8860000,'Growth Data'!$A:$F,3,0))","v":"NO"},0,null,0,{"$f":"IF(DI26=\"YES\",IF(ISERROR(VLOOKUP($A26+8860000,'Growth Data'!$A:$F,6,0)),0,VLOOKUP($A26+8860000,'Growth Data'!$A:$F,6,0)),0)","v":0},0,null,0,{"$f":"IF(ISERROR(VLOOKUP($A26+8860000,'Growth Data'!$A:$Z,7,0)),0,VLOOKUP($A26+8860000,'Growth Data'!$A:$Z,7,0))","v":0},0,null,"NO",{"$f":"IF(ISERROR(VLOOKUP($A26+8860000,'Growth Data'!$A:$F,4,0)),\"NO\",VLOOKUP($A26+8860000,'Growth Data'!$A:$F,4,0))","v":"NO"},0,null,0,{"$f":"IF(ISERROR(VLOOKUP($A26+8860000,'Growth Data'!$A:$Z,8,0)),0,VLOOKUP($A26+8860000,'Growth Data'!$A:$Z,8,0))","v":0},0,null,0,{"$f":"IF(ISERROR(VLOOKUP($A26+8860000,'Growth Data'!$A:$Z,9,0)),0,VLOOKUP($A26+8860000,'Growth Data'!$A:$Z,9,0))","v":0},0,null,"NO",{"$f":"IF(ISERROR(VLOOKUP($A26+8860000,'Growth Data'!$A:$Z,5,0)),\"NO\",VLOOKUP($A26+8860000,'Growth Data'!$A:$Z,5,0))","v":"NO"},0,null,0,{"$f":"IF(ISERROR(VLOOKUP($A26+8860000,'Growth Data'!$A:$Z,10,0)),0,VLOOKUP($A26+8860000,'Growth Data'!$A:$Z,10,0))","v":0},0,null,0,{"$f":"IF(ISERROR(VLOOKUP($A26+8860000,'Growth Data'!$A:$Z,11,0)),0,VLOOKUP($A26+8860000,'Growth Data'!$A:$Z,11,0))","v":0},0]
[2138,"Otford Primary School",null,"Otford Primary School","Otford Primary School",0,null,1072065.32,1072065.315009,0,null,19894.099999999999,19894.099142748102,0,null,4902.16,4902.1606463414591,0,null,58485.29,58485.29274663204,0,null,120082.8,120082.8,0,null,0,0,0,null,46425.64,46425.639898627858,0,null,0,0,0,null,28980,28980,0,null,0,0,0,null,0,0,0,null,4144.6899999999996,4144.6925566503778,0,null,1354980,1354980,0,null,0,0,0,null,1354980,1354980,0,null,0,null,0,null,1354980,1354980,0,null,0,null,0,null,84561,null,84561,null,0,null,0,null,0,null,0,null,0,null,0,null,0,null,0,null,0,null,0,null,0,null,0,null,0,null,0,null,"NO",{"$f":"IF(ISERROR(VLOOKUP($A27+8860000,'Growth Data'!$A:$F,3,0)),\"NO\",VLOOKUP($A27+8860000,'Growth Data'!$A:$F,3,0))","v":"NO"},0,null,0,{"$f":"IF(DI27=\"YES\",IF(ISERROR(VLOOKUP($A27+8860000,'Growth Data'!$A:$F,6,0)),0,VLOOKUP($A27+8860000,'Growth Data'!$A:$F,6,0)),0)","v":0},0,null,0,{"$f":"IF(ISERROR(VLOOKUP($A27+8860000,'Growth Data'!$A:$Z,7,0)),0,VLOOKUP($A27+8860000,'Growth Data'!$A:$Z,7,0))","v":0},0,null,"NO",{"$f":"IF(ISERROR(VLOOKUP($A27+8860000,'Growth Data'!$A:$F,4,0)),\"NO\",VLOOKUP($A27+8860000,'Growth Data'!$A:$F,4,0))","v":"NO"},0,null,0,{"$f":"IF(ISERROR(VLOOKUP($A27+8860000,'Growth Data'!$A:$Z,8,0)),0,VLOOKUP($A27+8860000,'Growth Data'!$A:$Z,8,0))","v":0},0,null,0,{"$f":"IF(ISERROR(VLOOKUP($A27+8860000,'Growth Data'!$A:$Z,9,0)),0,VLOOKUP($A27+8860000,'Growth Data'!$A:$Z,9,0))","v":0},0,null,"NO",{"$f":"IF(ISERROR(VLOOKUP($A27+8860000,'Growth Data'!$A:$Z,5,0)),\"NO\",VLOOKUP($A27+8860000,'Growth Data'!$A:$Z,5,0))","v":"NO"},0,null,0,{"$f":"IF(ISERROR(VLOOKUP($A27+8860000,'Growth Data'!$A:$Z,10,0)),0,VLOOKUP($A27+8860000,'Growth Data'!$A:$Z,10,0))","v":0},0,null,0,{"$f":"IF(ISERROR(VLOOKUP($A27+8860000,'Growth Data'!$A:$Z,11,0)),0,VLOOKUP($A27+8860000,'Growth Data'!$A:$Z,11,0))","v":0},0]
[2139,"Pembury School",null,"Pembury School","Pembury School",0,null,1215007.3600000001,1215007.3570101999,0,null,23074.29,23074.287638867932,0,null,15108.33,15108.325719897963,0,null,69387.509999999995,69387.509851835377,0,null,120082.8,120082.8,0,null,0,0,0,null,0,0,0,null,0,0,0,null,41832,41832,0,null,0,0,0,null,0,0,0,null,60139.72,60139.719779198524,0,null,1544632,1544631.9999999998,0,null,0,0,0,null,1544632,1544631.9999999998,0,null,0,null,0,null,1544632,1544631.9999999998,0,null,0,null,0,null,105879.66,null,105880,null,0,null,0,null,0,null,0,null,0,null,0,null,0,null,0,null,0,null,0,null,0,null,0,null,0,null,0,null,"NO",{"$f":"IF(ISERROR(VLOOKUP($A28+8860000,'Growth Data'!$A:$F,3,0)),\"NO\",VLOOKUP($A28+8860000,'Growth Data'!$A:$F,3,0))","v":"NO"},0,null,0,{"$f":"IF(DI28=\"YES\",IF(ISERROR(VLOOKUP($A28+8860000,'Growth Data'!$A:$F,6,0)),0,VLOOKUP($A28+8860000,'Growth Data'!$A:$F,6,0)),0)","v":0},0,null,0,{"$f":"IF(ISERROR(VLOOKUP($A28+8860000,'Growth Data'!$A:$Z,7,0)),0,VLOOKUP($A28+8860000,'Growth Data'!$A:$Z,7,0))","v":0},0,null,"NO",{"$f":"IF(ISERROR(VLOOKUP($A28+8860000,'Growth Data'!$A:$F,4,0)),\"NO\",VLOOKUP($A28+8860000,'Growth Data'!$A:$F,4,0))","v":"NO"},0,null,0,{"$f":"IF(ISERROR(VLOOKUP($A28+8860000,'Growth Data'!$A:$Z,8,0)),0,VLOOKUP($A28+8860000,'Growth Data'!$A:$Z,8,0))","v":0},0,null,0,{"$f":"IF(ISERROR(VLOOKUP($A28+8860000,'Growth Data'!$A:$Z,9,0)),0,VLOOKUP($A28+8860000,'Growth Data'!$A:$Z,9,0))","v":0},0,null,"NO",{"$f":"IF(ISERROR(VLOOKUP($A28+8860000,'Growth Data'!$A:$Z,5,0)),\"NO\",VLOOKUP($A28+8860000,'Growth Data'!$A:$Z,5,0))","v":"NO"},0,null,0,{"$f":"IF(ISERROR(VLOOKUP($A28+8860000,'Growth Data'!$A:$Z,10,0)),0,VLOOKUP($A28+8860000,'Growth Data'!$A:$Z,10,0))","v":0},0,null,0,{"$f":"IF(ISERROR(VLOOKUP($A28+8860000,'Growth Data'!$A:$Z,11,0)),0,VLOOKUP($A28+8860000,'Growth Data'!$A:$Z,11,0))","v":0},0]
[2142,"Sandhurst Primary School",null,"Sandhurst Primary School","Sandhurst Primary School",0,null,393090.62,393090.61550329998,0,null,21481.11,21481.109617872356,0,null,1700.67,1700.6726550000019,0,null,26653.61,26653.61489546693,0,null,120082.8,120082.8,0,null,0,0,0,null,0,0,0,null,0,0,0,null,21236,21236,0,null,0,0,0,null,0,0,0,null,0,0,0,null,584244.81000000006,584244.81267163926,0,null,0,0,0,null,584244.81000000006,584244.81267163926,0,null,0,null,0,null,584244.81000000006,584244.81267163926,0,null,0,null,0,null,48585.24,null,48585,null,1141.48,null,1141,null,0,null,0,null,0,null,0,null,0,null,0,null,0,null,0,null,0,null,0,null,0,null,0,null,"NO",{"$f":"IF(ISERROR(VLOOKUP($A29+8860000,'Growth Data'!$A:$F,3,0)),\"NO\",VLOOKUP($A29+8860000,'Growth Data'!$A:$F,3,0))","v":"NO"},0,null,0,{"$f":"IF(DI29=\"YES\",IF(ISERROR(VLOOKUP($A29+8860000,'Growth Data'!$A:$F,6,0)),0,VLOOKUP($A29+8860000,'Growth Data'!$A:$F,6,0)),0)","v":0},0,null,0,{"$f":"IF(ISERROR(VLOOKUP($A29+8860000,'Growth Data'!$A:$Z,7,0)),0,VLOOKUP($A29+8860000,'Growth Data'!$A:$Z,7,0))","v":0},0,null,"NO",{"$f":"IF(ISERROR(VLOOKUP($A29+8860000,'Growth Data'!$A:$F,4,0)),\"NO\",VLOOKUP($A29+8860000,'Growth Data'!$A:$F,4,0))","v":"NO"},0,null,0,{"$f":"IF(ISERROR(VLOOKUP($A29+8860000,'Growth Data'!$A:$Z,8,0)),0,VLOOKUP($A29+8860000,'Growth Data'!$A:$Z,8,0))","v":0},0,null,0,{"$f":"IF(ISERROR(VLOOKUP($A29+8860000,'Growth Data'!$A:$Z,9,0)),0,VLOOKUP($A29+8860000,'Growth Data'!$A:$Z,9,0))","v":0},0,null,"NO",{"$f":"IF(ISERROR(VLOOKUP($A29+8860000,'Growth Data'!$A:$Z,5,0)),\"NO\",VLOOKUP($A29+8860000,'Growth Data'!$A:$Z,5,0))","v":"NO"},0,null,0,{"$f":"IF(ISERROR(VLOOKUP($A29+8860000,'Growth Data'!$A:$Z,10,0)),0,VLOOKUP($A29+8860000,'Growth Data'!$A:$Z,10,0))","v":0},0,null,0,{"$f":"IF(ISERROR(VLOOKUP($A29+8860000,'Growth Data'!$A:$Z,11,0)),0,VLOOKUP($A29+8860000,'Growth Data'!$A:$Z,11,0))","v":0},0]
[2147,"Weald Community Primary School",null,"Weald Community Primary School","Weald Community Primary School",0,null,467310.52,467310.52192700002,0,null,6694.37,6694.3659274999964,0,null,5879.89,5879.8932550335539,0,null,29080.35,29080.349523647285,0,null,120082.8,120082.8,0,null,0,0,0,null,22897.34,22897.344675047778,0,null,0,0,0,null,14976,14976,0,null,0,0,0,null,0,0,0,null,0,0,0,null,666921.28,666921.27530822868,0,null,0,0,0,null,666921.28,666921.27530822868,0,null,0,null,0,null,666921.28,666921.27530822868,0,null,0,null,0,null,46438.48,null,46438,null,1356.15,null,1356,null,0,null,0,null,0,null,0,null,0,null,0,null,0,null,0,null,0,null,0,null,0,null,0,null,"NO",{"$f":"IF(ISERROR(VLOOKUP($A30+8860000,'Growth Data'!$A:$F,3,0)),\"NO\",VLOOKUP($A30+8860000,'Growth Data'!$A:$F,3,0))","v":"NO"},0,null,0,{"$f":"IF(DI30=\"YES\",IF(ISERROR(VLOOKUP($A30+8860000,'Growth Data'!$A:$F,6,0)),0,VLOOKUP($A30+8860000,'Growth Data'!$A:$F,6,0)),0)","v":0},0,null,0,{"$f":"IF(ISERROR(VLOOKUP($A30+8860000,'Growth Data'!$A:$Z,7,0)),0,VLOOKUP($A30+8860000,'Growth Data'!$A:$Z,7,0))","v":0},0,null,"NO",{"$f":"IF(ISERROR(VLOOKUP($A30+8860000,'Growth Data'!$A:$F,4,0)),\"NO\",VLOOKUP($A30+8860000,'Growth Data'!$A:$F,4,0))","v":"NO"},0,null,0,{"$f":"IF(ISERROR(VLOOKUP($A30+8860000,'Growth Data'!$A:$Z,8,0)),0,VLOOKUP($A30+8860000,'Growth Data'!$A:$Z,8,0))","v":0},0,null,0,{"$f":"IF(ISERROR(VLOOKUP($A30+8860000,'Growth Data'!$A:$Z,9,0)),0,VLOOKUP($A30+8860000,'Growth Data'!$A:$Z,9,0))","v":0},0,null,"NO",{"$f":"IF(ISERROR(VLOOKUP($A30+8860000,'Growth Data'!$A:$Z,5,0)),\"NO\",VLOOKUP($A30+8860000,'Growth Data'!$A:$Z,5,0))","v":"NO"},0,null,0,{"$f":"IF(ISERROR(VLOOKUP($A30+8860000,'Growth Data'!$A:$Z,10,0)),0,VLOOKUP($A30+8860000,'Growth Data'!$A:$Z,10,0))","v":0},0,null,0,{"$f":"IF(ISERROR(VLOOKUP($A30+8860000,'Growth Data'!$A:$Z,11,0)),0,VLOOKUP($A30+8860000,'Growth Data'!$A:$Z,11,0))","v":0},0]
[2148,"Shoreham Village School",null,"Shoreham Village School","Shoreham Village School",0,null,258395.23,258395.22977140002,0,null,14352.25,14352.247870989031,0,null,1794.2,1794.2001074074058,0,null,19969.98,19969.978164341468,0,null,120082.8,120082.8,0,null,0,0,0,null,15091.24,15091.238195274616,0,null,0,0,0,null,13871,13871,0,null,0,0,0,null,0,0,0,null,0,0,0,null,443556.69,443556.69410941255,0,null,0,0,0,null,443556.69,443556.69410941255,0,null,0,null,0,null,443556.69,443556.69410941255,0,null,0,null,0,null,37960.720000000001,null,37961,null,2203.9299999999998,null,2204,null,0,null,0,null,0,null,0,null,0,null,0,null,0,null,0,null,0,null,0,null,0,null,0,null,"NO",{"$f":"IF(ISERROR(VLOOKUP($A31+8860000,'Growth Data'!$A:$F,3,0)),\"NO\",VLOOKUP($A31+8860000,'Growth Data'!$A:$F,3,0))","v":"NO"},0,null,0,{"$f":"IF(DI31=\"YES\",IF(ISERROR(VLOOKUP($A31+8860000,'Growth Data'!$A:$F,6,0)),0,VLOOKUP($A31+8860000,'Growth Data'!$A:$F,6,0)),0)","v":0},0,null,0,{"$f":"IF(ISERROR(VLOOKUP($A31+8860000,'Growth Data'!$A:$Z,7,0)),0,VLOOKUP($A31+8860000,'Growth Data'!$A:$Z,7,0))","v":0},0,null,"NO",{"$f":"IF(ISERROR(VLOOKUP($A31+8860000,'Growth Data'!$A:$F,4,0)),\"NO\",VLOOKUP($A31+8860000,'Growth Data'!$A:$F,4,0))","v":"NO"},0,null,0,{"$f":"IF(ISERROR(VLOOKUP($A31+8860000,'Growth Data'!$A:$Z,8,0)),0,VLOOKUP($A31+8860000,'Growth Data'!$A:$Z,8,0))","v":0},0,null,0,{"$f":"IF(ISERROR(VLOOKUP($A31+8860000,'Growth Data'!$A:$Z,9,0)),0,VLOOKUP($A31+8860000,'Growth Data'!$A:$Z,9,0))","v":0},0,null,"NO",{"$f":"IF(ISERROR(VLOOKUP($A31+8860000,'Growth Data'!$A:$Z,5,0)),\"NO\",VLOOKUP($A31+8860000,'Growth Data'!$A:$Z,5,0))","v":"NO"},0,null,0,{"$f":"IF(ISERROR(VLOOKUP($A31+8860000,'Growth Data'!$A:$Z,10,0)),0,VLOOKUP($A31+8860000,'Growth Data'!$A:$Z,10,0))","v":0},0,null,0,{"$f":"IF(ISERROR(VLOOKUP($A31+8860000,'Growth Data'!$A:$Z,11,0)),0,VLOOKUP($A31+8860000,'Growth Data'!$A:$Z,11,0))","v":0},0]
[2155,"Slade Primary School",null,"Slade Primary School","Slade Primary School",0,null,1069316.43,1069316.4295858999,0,null,24774.36,24774.359116595751,0,null,17670.89,17670.892715349553,0,null,88661.36,88661.357697086569,0,null,120082.8,120082.8,0,null,0,0,0,null,0,0,0,null,0,0,0,null,32857,32857,0,null,0,0,0,null,0,0,0,null,2094.16,2094.1608850678895,0,null,1355457,1355456.9999999998,0,null,0,0,0,null,1355457,1355456.9999999998,0,null,0,null,0,null,1355457,1355456.9999999998,0,null,0,null,0,null,128975.84,null,128976,null,0,null,0,null,0,null,0,null,30000,null,30000,null,985.74,null,986,null,985.74,null,986,null,985.74,null,986,null,985.74,null,986,null,"YES",{"$f":"IF(ISERROR(VLOOKUP($A32+8860000,'Growth Data'!$A:$F,3,0)),\"NO\",VLOOKUP($A32+8860000,'Growth Data'!$A:$F,3,0))","v":"YES"},0,null,46,{"$f":"IF(DI32=\"YES\",IF(ISERROR(VLOOKUP($A32+8860000,'Growth Data'!$A:$F,6,0)),0,VLOOKUP($A32+8860000,'Growth Data'!$A:$F,6,0)),0)","v":46},0,null,60,{"$f":"IF(ISERROR(VLOOKUP($A32+8860000,'Growth Data'!$A:$Z,7,0)),0,VLOOKUP($A32+8860000,'Growth Data'!$A:$Z,7,0))","v":60},0,null,"YES",{"$f":"IF(ISERROR(VLOOKUP($A32+8860000,'Growth Data'!$A:$F,4,0)),\"NO\",VLOOKUP($A32+8860000,'Growth Data'!$A:$F,4,0))","v":"YES"},0,null,46,{"$f":"IF(ISERROR(VLOOKUP($A32+8860000,'Growth Data'!$A:$Z,8,0)),0,VLOOKUP($A32+8860000,'Growth Data'!$A:$Z,8,0))","v":45},1,null,60,{"$f":"IF(ISERROR(VLOOKUP($A32+8860000,'Growth Data'!$A:$Z,9,0)),0,VLOOKUP($A32+8860000,'Growth Data'!$A:$Z,9,0))","v":60},0,null,"YES",{"$f":"IF(ISERROR(VLOOKUP($A32+8860000,'Growth Data'!$A:$Z,5,0)),\"NO\",VLOOKUP($A32+8860000,'Growth Data'!$A:$Z,5,0))","v":"NO"},1,null,47,{"$f":"IF(ISERROR(VLOOKUP($A32+8860000,'Growth Data'!$A:$Z,10,0)),0,VLOOKUP($A32+8860000,'Growth Data'!$A:$Z,10,0))","v":0},1,null,60,{"$f":"IF(ISERROR(VLOOKUP($A32+8860000,'Growth Data'!$A:$Z,11,0)),0,VLOOKUP($A32+8860000,'Growth Data'!$A:$Z,11,0))","v":0},1]
[2156,"Sussex Road Community Primary School",null,"Sussex Road Community Primary School","Sussex Road Community Primary School",0,null,1231500.67,1231500.6695488,0,null,39102.1,39102.102786845644,0,null,24927.83,24927.831016966549,0,null,54943.69,54943.694803714134,0,null,120082.8,120082.8,0,null,0,0,0,null,0,0,0,null,0,0,0,null,47221,47221,0,null,0,0,0,null,0,0,0,null,52642.9,52642.90184367355,0,null,1570421,1570421,0,null,0,0,0,null,1570421,1570421,0,null,0,null,0,null,1570421,1570421,0,null,0,null,0,null,108477.09,null,108477,null,0,null,0,null,0,null,0,null,0,null,0,null,0,null,0,null,0,null,0,null,0,null,0,null,0,null,0,null,"NO",{"$f":"IF(ISERROR(VLOOKUP($A33+8860000,'Growth Data'!$A:$F,3,0)),\"NO\",VLOOKUP($A33+8860000,'Growth Data'!$A:$F,3,0))","v":"NO"},0,null,0,{"$f":"IF(DI33=\"YES\",IF(ISERROR(VLOOKUP($A33+8860000,'Growth Data'!$A:$F,6,0)),0,VLOOKUP($A33+8860000,'Growth Data'!$A:$F,6,0)),0)","v":0},0,null,0,{"$f":"IF(ISERROR(VLOOKUP($A33+8860000,'Growth Data'!$A:$Z,7,0)),0,VLOOKUP($A33+8860000,'Growth Data'!$A:$Z,7,0))","v":0},0,null,"NO",{"$f":"IF(ISERROR(VLOOKUP($A33+8860000,'Growth Data'!$A:$F,4,0)),\"NO\",VLOOKUP($A33+8860000,'Growth Data'!$A:$F,4,0))","v":"NO"},0,null,0,{"$f":"IF(ISERROR(VLOOKUP($A33+8860000,'Growth Data'!$A:$Z,8,0)),0,VLOOKUP($A33+8860000,'Growth Data'!$A:$Z,8,0))","v":0},0,null,0,{"$f":"IF(ISERROR(VLOOKUP($A33+8860000,'Growth Data'!$A:$Z,9,0)),0,VLOOKUP($A33+8860000,'Growth Data'!$A:$Z,9,0))","v":0},0,null,"NO",{"$f":"IF(ISERROR(VLOOKUP($A33+8860000,'Growth Data'!$A:$Z,5,0)),\"NO\",VLOOKUP($A33+8860000,'Growth Data'!$A:$Z,5,0))","v":"NO"},0,null,0,{"$f":"IF(ISERROR(VLOOKUP($A33+8860000,'Growth Data'!$A:$Z,10,0)),0,VLOOKUP($A33+8860000,'Growth Data'!$A:$Z,10,0))","v":0},0,null,0,{"$f":"IF(ISERROR(VLOOKUP($A33+8860000,'Growth Data'!$A:$Z,11,0)),0,VLOOKUP($A33+8860000,'Growth Data'!$A:$Z,11,0))","v":0},0]
[2161,"Boughton Monchelsea Primary School",null,"Boughton Monchelsea Primary School","Boughton Monchelsea Primary School",0,null,571768.17000000004,571768.16800479998,0,null,17712.87,17712.872176277557,0,null,2994.24,2994.2433743016709,0,null,47434.400000000001,47434.399390237733,0,null,120082.8,120082.8,0,null,0,0,0,null,0,0,0,null,0,0,0,null,24140,24140,0,null,0,0,0,null,0,0,0,null,0,0,0,null,784132.48,784132.48294561706,0,null,0,0,0,null,784132.48,784132.48294561706,0,null,0,null,0,null,784132.48,784132.48294561706,0,null,0,null,0,null,69973.48,null,69973,null,0,null,0,null,0,null,0,null,0,null,0,null,0,null,0,null,0,null,0,null,0,null,0,null,0,null,0,null,"NO",{"$f":"IF(ISERROR(VLOOKUP($A34+8860000,'Growth Data'!$A:$F,3,0)),\"NO\",VLOOKUP($A34+8860000,'Growth Data'!$A:$F,3,0))","v":"NO"},0,null,0,{"$f":"IF(DI34=\"YES\",IF(ISERROR(VLOOKUP($A34+8860000,'Growth Data'!$A:$F,6,0)),0,VLOOKUP($A34+8860000,'Growth Data'!$A:$F,6,0)),0)","v":0},0,null,0,{"$f":"IF(ISERROR(VLOOKUP($A34+8860000,'Growth Data'!$A:$Z,7,0)),0,VLOOKUP($A34+8860000,'Growth Data'!$A:$Z,7,0))","v":0},0,null,"NO",{"$f":"IF(ISERROR(VLOOKUP($A34+8860000,'Growth Data'!$A:$F,4,0)),\"NO\",VLOOKUP($A34+8860000,'Growth Data'!$A:$F,4,0))","v":"NO"},0,null,0,{"$f":"IF(ISERROR(VLOOKUP($A34+8860000,'Growth Data'!$A:$Z,8,0)),0,VLOOKUP($A34+8860000,'Growth Data'!$A:$Z,8,0))","v":0},0,null,0,{"$f":"IF(ISERROR(VLOOKUP($A34+8860000,'Growth Data'!$A:$Z,9,0)),0,VLOOKUP($A34+8860000,'Growth Data'!$A:$Z,9,0))","v":0},0,null,"NO",{"$f":"IF(ISERROR(VLOOKUP($A34+8860000,'Growth Data'!$A:$Z,5,0)),\"NO\",VLOOKUP($A34+8860000,'Growth Data'!$A:$Z,5,0))","v":"NO"},0,null,0,{"$f":"IF(ISERROR(VLOOKUP($A34+8860000,'Growth Data'!$A:$Z,10,0)),0,VLOOKUP($A34+8860000,'Growth Data'!$A:$Z,10,0))","v":0},0,null,0,{"$f":"IF(ISERROR(VLOOKUP($A34+8860000,'Growth Data'!$A:$Z,11,0)),0,VLOOKUP($A34+8860000,'Growth Data'!$A:$Z,11,0))","v":0},0]
[2163,"East Farleigh Primary School",null,"East Farleigh Primary School","East Farleigh Primary School",0,null,549777.07999999996,549777.08461999998,0,null,15768.26,15768.261761083744,0,null,3637.8,3637.8024705882331,0,null,26924.38,26924.375124574282,0,null,120082.8,120082.8,0,null,0,0,0,null,0,0,0,null,0,0,0,null,18371,18371,0,null,0,0,0,null,0,0,0,null,0,0,0,null,734561.32,734561.32397624629,0,null,0,0,0,null,734561.32,734561.32397624629,0,null,0,null,0,null,734561.32,734561.32397624629,0,null,0,null,0,null,50804.23,null,50804,null,919.58,null,920,null,0,null,0,null,0,null,0,null,0,null,0,null,0,null,0,null,0,null,0,null,0,null,0,null,"NO",{"$f":"IF(ISERROR(VLOOKUP($A35+8860000,'Growth Data'!$A:$F,3,0)),\"NO\",VLOOKUP($A35+8860000,'Growth Data'!$A:$F,3,0))","v":"NO"},0,null,0,{"$f":"IF(DI35=\"YES\",IF(ISERROR(VLOOKUP($A35+8860000,'Growth Data'!$A:$F,6,0)),0,VLOOKUP($A35+8860000,'Growth Data'!$A:$F,6,0)),0)","v":0},0,null,0,{"$f":"IF(ISERROR(VLOOKUP($A35+8860000,'Growth Data'!$A:$Z,7,0)),0,VLOOKUP($A35+8860000,'Growth Data'!$A:$Z,7,0))","v":0},0,null,"NO",{"$f":"IF(ISERROR(VLOOKUP($A35+8860000,'Growth Data'!$A:$F,4,0)),\"NO\",VLOOKUP($A35+8860000,'Growth Data'!$A:$F,4,0))","v":"NO"},0,null,0,{"$f":"IF(ISERROR(VLOOKUP($A35+8860000,'Growth Data'!$A:$Z,8,0)),0,VLOOKUP($A35+8860000,'Growth Data'!$A:$Z,8,0))","v":0},0,null,0,{"$f":"IF(ISERROR(VLOOKUP($A35+8860000,'Growth Data'!$A:$Z,9,0)),0,VLOOKUP($A35+8860000,'Growth Data'!$A:$Z,9,0))","v":0},0,null,"NO",{"$f":"IF(ISERROR(VLOOKUP($A35+8860000,'Growth Data'!$A:$Z,5,0)),\"NO\",VLOOKUP($A35+8860000,'Growth Data'!$A:$Z,5,0))","v":"NO"},0,null,0,{"$f":"IF(ISERROR(VLOOKUP($A35+8860000,'Growth Data'!$A:$Z,10,0)),0,VLOOKUP($A35+8860000,'Growth Data'!$A:$Z,10,0))","v":0},0,null,0,{"$f":"IF(ISERROR(VLOOKUP($A35+8860000,'Growth Data'!$A:$Z,11,0)),0,VLOOKUP($A35+8860000,'Growth Data'!$A:$Z,11,0))","v":0},0]
[2164,"East Peckham Primary School",null,"East Peckham Primary School","East Peckham Primary School",0,null,434323.9,434323.89684980002,0,null,13680.08,13680.083803806399,0,null,590.04,590.0445311594201,0,null,35138.550000000003,35138.54665573714,0,null,120082.8,120082.8,0,null,0,0,0,null,0,0,0,null,0,0,0,null,23750,23750,0,null,0,0,0,null,0,0,0,null,0,0,0,null,627565.37,627565.37184050295,0,null,0,0,0,null,627565.37,627565.37184050295,0,null,0,null,0,null,627565.37,627565.37184050295,0,null,0,null,0,null,51240.639999999999,null,51241,null,875.94,null,876,null,0,null,0,null,0,null,0,null,0,null,0,null,0,null,0,null,0,null,0,null,0,null,0,null,"NO",{"$f":"IF(ISERROR(VLOOKUP($A36+8860000,'Growth Data'!$A:$F,3,0)),\"NO\",VLOOKUP($A36+8860000,'Growth Data'!$A:$F,3,0))","v":"NO"},0,null,0,{"$f":"IF(DI36=\"YES\",IF(ISERROR(VLOOKUP($A36+8860000,'Growth Data'!$A:$F,6,0)),0,VLOOKUP($A36+8860000,'Growth Data'!$A:$F,6,0)),0)","v":0},0,null,0,{"$f":"IF(ISERROR(VLOOKUP($A36+8860000,'Growth Data'!$A:$Z,7,0)),0,VLOOKUP($A36+8860000,'Growth Data'!$A:$Z,7,0))","v":0},0,null,"NO",{"$f":"IF(ISERROR(VLOOKUP($A36+8860000,'Growth Data'!$A:$F,4,0)),\"NO\",VLOOKUP($A36+8860000,'Growth Data'!$A:$F,4,0))","v":"NO"},0,null,0,{"$f":"IF(ISERROR(VLOOKUP($A36+8860000,'Growth Data'!$A:$Z,8,0)),0,VLOOKUP($A36+8860000,'Growth Data'!$A:$Z,8,0))","v":0},0,null,0,{"$f":"IF(ISERROR(VLOOKUP($A36+8860000,'Growth Data'!$A:$Z,9,0)),0,VLOOKUP($A36+8860000,'Growth Data'!$A:$Z,9,0))","v":0},0,null,"NO",{"$f":"IF(ISERROR(VLOOKUP($A36+8860000,'Growth Data'!$A:$Z,5,0)),\"NO\",VLOOKUP($A36+8860000,'Growth Data'!$A:$Z,5,0))","v":"NO"},0,null,0,{"$f":"IF(ISERROR(VLOOKUP($A36+8860000,'Growth Data'!$A:$Z,10,0)),0,VLOOKUP($A36+8860000,'Growth Data'!$A:$Z,10,0))","v":0},0,null,0,{"$f":"IF(ISERROR(VLOOKUP($A36+8860000,'Growth Data'!$A:$Z,11,0)),0,VLOOKUP($A36+8860000,'Growth Data'!$A:$Z,11,0))","v":0},0]
[2165,"Headcorn Primary School",null,"Headcorn Primary School","Headcorn Primary School",0,null,698216.9,698216.89746740006,0,null,17636.79,17636.792574736843,0,null,1993.41,1993.4049578680224,0,null,19217.75,19217.754017251063,0,null,120082.8,120082.8,0,null,0,0,0,null,0,0,0,null,0,0,0,null,42184,42184,0,null,0,0,0,null,0,0,0,null,6452.35,6452.3509827440139,0,null,905784,905784.00000000012,0,null,0,0,0,null,905784,905784.00000000012,0,null,0,null,0,null,905784,905784.00000000012,0,null,0,null,0,null,37597.79,null,37598,null,2240.2199999999998,null,2240,null,0,null,0,null,0,null,0,null,0,null,0,null,0,null,0,null,0,null,0,null,0,null,0,null,"NO",{"$f":"IF(ISERROR(VLOOKUP($A37+8860000,'Growth Data'!$A:$F,3,0)),\"NO\",VLOOKUP($A37+8860000,'Growth Data'!$A:$F,3,0))","v":"NO"},0,null,0,{"$f":"IF(DI37=\"YES\",IF(ISERROR(VLOOKUP($A37+8860000,'Growth Data'!$A:$F,6,0)),0,VLOOKUP($A37+8860000,'Growth Data'!$A:$F,6,0)),0)","v":0},0,null,0,{"$f":"IF(ISERROR(VLOOKUP($A37+8860000,'Growth Data'!$A:$Z,7,0)),0,VLOOKUP($A37+8860000,'Growth Data'!$A:$Z,7,0))","v":0},0,null,"NO",{"$f":"IF(ISERROR(VLOOKUP($A37+8860000,'Growth Data'!$A:$F,4,0)),\"NO\",VLOOKUP($A37+8860000,'Growth Data'!$A:$F,4,0))","v":"YES"},1,null,0,{"$f":"IF(ISERROR(VLOOKUP($A37+8860000,'Growth Data'!$A:$Z,8,0)),0,VLOOKUP($A37+8860000,'Growth Data'!$A:$Z,8,0))","v":31},1,null,0,{"$f":"IF(ISERROR(VLOOKUP($A37+8860000,'Growth Data'!$A:$Z,9,0)),0,VLOOKUP($A37+8860000,'Growth Data'!$A:$Z,9,0))","v":60},1,null,"YES",{"$f":"IF(ISERROR(VLOOKUP($A37+8860000,'Growth Data'!$A:$Z,5,0)),\"NO\",VLOOKUP($A37+8860000,'Growth Data'!$A:$Z,5,0))","v":"YES"},0,null,31,{"$f":"IF(ISERROR(VLOOKUP($A37+8860000,'Growth Data'!$A:$Z,10,0)),0,VLOOKUP($A37+8860000,'Growth Data'!$A:$Z,10,0))","v":30},1,null,60,{"$f":"IF(ISERROR(VLOOKUP($A37+8860000,'Growth Data'!$A:$Z,11,0)),0,VLOOKUP($A37+8860000,'Growth Data'!$A:$Z,11,0))","v":60},0]
[2166,"Hollingbourne Primary School",null,"Hollingbourne Primary School","Hollingbourne Primary School",0,null,272139.65999999997,272139.65688690002,0,null,5359.54,5359.5371148514851,0,null,0,0,0,null,16145.94,16145.939792446292,0,null,120082.8,120082.8,0,null,0,0,0,null,0,0,0,null,0,0,0,null,15425,15425,0,null,0,0,0,null,0,0,0,null,0,0,0,null,429152.93,429152.93379419774,0,null,0,0,0,null,429152.93,429152.93379419774,0,null,0,null,0,null,429152.93,429152.93379419774,0,null,0,null,0,null,25979.26,null,25979,null,3402.07,null,3402,null,0,null,0,null,0,null,0,null,0,null,0,null,0,null,0,null,0,null,0,null,0,null,0,null,"NO",{"$f":"IF(ISERROR(VLOOKUP($A38+8860000,'Growth Data'!$A:$F,3,0)),\"NO\",VLOOKUP($A38+8860000,'Growth Data'!$A:$F,3,0))","v":"NO"},0,null,0,{"$f":"IF(DI38=\"YES\",IF(ISERROR(VLOOKUP($A38+8860000,'Growth Data'!$A:$F,6,0)),0,VLOOKUP($A38+8860000,'Growth Data'!$A:$F,6,0)),0)","v":0},0,null,0,{"$f":"IF(ISERROR(VLOOKUP($A38+8860000,'Growth Data'!$A:$Z,7,0)),0,VLOOKUP($A38+8860000,'Growth Data'!$A:$Z,7,0))","v":0},0,null,"NO",{"$f":"IF(ISERROR(VLOOKUP($A38+8860000,'Growth Data'!$A:$F,4,0)),\"NO\",VLOOKUP($A38+8860000,'Growth Data'!$A:$F,4,0))","v":"NO"},0,null,0,{"$f":"IF(ISERROR(VLOOKUP($A38+8860000,'Growth Data'!$A:$Z,8,0)),0,VLOOKUP($A38+8860000,'Growth Data'!$A:$Z,8,0))","v":0},0,null,0,{"$f":"IF(ISERROR(VLOOKUP($A38+8860000,'Growth Data'!$A:$Z,9,0)),0,VLOOKUP($A38+8860000,'Growth Data'!$A:$Z,9,0))","v":0},0,null,"NO",{"$f":"IF(ISERROR(VLOOKUP($A38+8860000,'Growth Data'!$A:$Z,5,0)),\"NO\",VLOOKUP($A38+8860000,'Growth Data'!$A:$Z,5,0))","v":"NO"},0,null,0,{"$f":"IF(ISERROR(VLOOKUP($A38+8860000,'Growth Data'!$A:$Z,10,0)),0,VLOOKUP($A38+8860000,'Growth Data'!$A:$Z,10,0))","v":0},0,null,0,{"$f":"IF(ISERROR(VLOOKUP($A38+8860000,'Growth Data'!$A:$Z,11,0)),0,VLOOKUP($A38+8860000,'Growth Data'!$A:$Z,11,0))","v":0},0]
[2167,"Ightham Primary School",null,"Ightham Primary School","Ightham Primary School",0,null,552525.97,552525.97004309995,0,null,2618.67,2618.665633399999,0,null,1817.31,1817.3057078947363,0,null,27833.05,27833.052300872303,0,null,120082.8,120082.8,0,null,0,0,0,null,0,0,0,null,0,0,0,null,24486,24486,0,null,0,0,0,null,0,0,0,null,0,0,0,null,729363.79,729363.79368526698,0,null,0,0,0,null,729363.79,729363.79368526698,0,null,0,null,0,null,729363.79,729363.79368526698,0,null,0,null,0,null,38063.72,null,38064,null,2193.63,null,2194,null,0,null,0,null,0,null,0,null,0,null,0,null,0,null,0,null,0,null,0,null,0,null,0,null,"NO",{"$f":"IF(ISERROR(VLOOKUP($A39+8860000,'Growth Data'!$A:$F,3,0)),\"NO\",VLOOKUP($A39+8860000,'Growth Data'!$A:$F,3,0))","v":"NO"},0,null,0,{"$f":"IF(DI39=\"YES\",IF(ISERROR(VLOOKUP($A39+8860000,'Growth Data'!$A:$F,6,0)),0,VLOOKUP($A39+8860000,'Growth Data'!$A:$F,6,0)),0)","v":0},0,null,0,{"$f":"IF(ISERROR(VLOOKUP($A39+8860000,'Growth Data'!$A:$Z,7,0)),0,VLOOKUP($A39+8860000,'Growth Data'!$A:$Z,7,0))","v":0},0,null,"NO",{"$f":"IF(ISERROR(VLOOKUP($A39+8860000,'Growth Data'!$A:$F,4,0)),\"NO\",VLOOKUP($A39+8860000,'Growth Data'!$A:$F,4,0))","v":"NO"},0,null,0,{"$f":"IF(ISERROR(VLOOKUP($A39+8860000,'Growth Data'!$A:$Z,8,0)),0,VLOOKUP($A39+8860000,'Growth Data'!$A:$Z,8,0))","v":0},0,null,0,{"$f":"IF(ISERROR(VLOOKUP($A39+8860000,'Growth Data'!$A:$Z,9,0)),0,VLOOKUP($A39+8860000,'Growth Data'!$A:$Z,9,0))","v":0},0,null,"NO",{"$f":"IF(ISERROR(VLOOKUP($A39+8860000,'Growth Data'!$A:$Z,5,0)),\"NO\",VLOOKUP($A39+8860000,'Growth Data'!$A:$Z,5,0))","v":"NO"},0,null,0,{"$f":"IF(ISERROR(VLOOKUP($A39+8860000,'Growth Data'!$A:$Z,10,0)),0,VLOOKUP($A39+8860000,'Growth Data'!$A:$Z,10,0))","v":0},0,null,0,{"$f":"IF(ISERROR(VLOOKUP($A39+8860000,'Growth Data'!$A:$Z,11,0)),0,VLOOKUP($A39+8860000,'Growth Data'!$A:$Z,11,0))","v":0},0]
[2168,"Lenham Primary School",null,"Lenham Primary School","Lenham Primary School",0,null,563521.51,563521.51173549995,0,null,21090.71,21090.714807655513,0,null,2414.81,2414.8079257142904,0,null,36737.99,36737.986684186784,0,null,120082.8,120082.8,0,null,0,0,0,null,0,0,0,null,0,0,0,null,20457,20457,0,null,0,0,0,null,0,0,0,null,0,0,0,null,764304.82,764304.82115305657,0,null,0,0,0,null,764304.82,764304.82115305657,0,null,0,null,0,null,764304.82,764304.82115305657,0,null,0,null,0,null,55030.62,null,55031,null,496.94,null,497,null,0,null,0,null,0,null,0,null,0,null,0,null,0,null,0,null,0,null,0,null,0,null,0,null,"NO",{"$f":"IF(ISERROR(VLOOKUP($A40+8860000,'Growth Data'!$A:$F,3,0)),\"NO\",VLOOKUP($A40+8860000,'Growth Data'!$A:$F,3,0))","v":"NO"},0,null,0,{"$f":"IF(DI40=\"YES\",IF(ISERROR(VLOOKUP($A40+8860000,'Growth Data'!$A:$F,6,0)),0,VLOOKUP($A40+8860000,'Growth Data'!$A:$F,6,0)),0)","v":0},0,null,0,{"$f":"IF(ISERROR(VLOOKUP($A40+8860000,'Growth Data'!$A:$Z,7,0)),0,VLOOKUP($A40+8860000,'Growth Data'!$A:$Z,7,0))","v":0},0,null,"NO",{"$f":"IF(ISERROR(VLOOKUP($A40+8860000,'Growth Data'!$A:$F,4,0)),\"NO\",VLOOKUP($A40+8860000,'Growth Data'!$A:$F,4,0))","v":"NO"},0,null,0,{"$f":"IF(ISERROR(VLOOKUP($A40+8860000,'Growth Data'!$A:$Z,8,0)),0,VLOOKUP($A40+8860000,'Growth Data'!$A:$Z,8,0))","v":0},0,null,0,{"$f":"IF(ISERROR(VLOOKUP($A40+8860000,'Growth Data'!$A:$Z,9,0)),0,VLOOKUP($A40+8860000,'Growth Data'!$A:$Z,9,0))","v":0},0,null,"NO",{"$f":"IF(ISERROR(VLOOKUP($A40+8860000,'Growth Data'!$A:$Z,5,0)),\"NO\",VLOOKUP($A40+8860000,'Growth Data'!$A:$Z,5,0))","v":"NO"},0,null,0,{"$f":"IF(ISERROR(VLOOKUP($A40+8860000,'Growth Data'!$A:$Z,10,0)),0,VLOOKUP($A40+8860000,'Growth Data'!$A:$Z,10,0))","v":0},0,null,0,{"$f":"IF(ISERROR(VLOOKUP($A40+8860000,'Growth Data'!$A:$Z,11,0)),0,VLOOKUP($A40+8860000,'Growth Data'!$A:$Z,11,0))","v":0},0]
[2169,"Platts Heath Primary School",null,"Platts Heath Primary School","Platts Heath Primary School",0,null,186924.21,186924.2087708,0,null,9733.6299999999992,9733.6346538461439,0,null,0,0,0,null,16041.1,16041.096027560276,0,null,120082.8,120082.8,0,null,0,0,0,null,0,0,0,null,0,0,0,null,4230,4230,0,null,0,0,0,null,0,0,0,null,0,0,0,null,337011.74,337011.73945220641,0,null,0,0,0,null,337011.74,337011.73945220641,0,null,0,null,0,null,337011.74,337011.73945220641,0,null,0,null,0,null,28487.3,null,28487,null,3151.27,null,3151,null,0,null,0,null,0,null,0,null,0,null,0,null,0,null,0,null,0,null,0,null,0,null,0,null,"NO",{"$f":"IF(ISERROR(VLOOKUP($A41+8860000,'Growth Data'!$A:$F,3,0)),\"NO\",VLOOKUP($A41+8860000,'Growth Data'!$A:$F,3,0))","v":"NO"},0,null,0,{"$f":"IF(DI41=\"YES\",IF(ISERROR(VLOOKUP($A41+8860000,'Growth Data'!$A:$F,6,0)),0,VLOOKUP($A41+8860000,'Growth Data'!$A:$F,6,0)),0)","v":0},0,null,0,{"$f":"IF(ISERROR(VLOOKUP($A41+8860000,'Growth Data'!$A:$Z,7,0)),0,VLOOKUP($A41+8860000,'Growth Data'!$A:$Z,7,0))","v":0},0,null,"NO",{"$f":"IF(ISERROR(VLOOKUP($A41+8860000,'Growth Data'!$A:$F,4,0)),\"NO\",VLOOKUP($A41+8860000,'Growth Data'!$A:$F,4,0))","v":"NO"},0,null,0,{"$f":"IF(ISERROR(VLOOKUP($A41+8860000,'Growth Data'!$A:$Z,8,0)),0,VLOOKUP($A41+8860000,'Growth Data'!$A:$Z,8,0))","v":0},0,null,0,{"$f":"IF(ISERROR(VLOOKUP($A41+8860000,'Growth Data'!$A:$Z,9,0)),0,VLOOKUP($A41+8860000,'Growth Data'!$A:$Z,9,0))","v":0},0,null,"NO",{"$f":"IF(ISERROR(VLOOKUP($A41+8860000,'Growth Data'!$A:$Z,5,0)),\"NO\",VLOOKUP($A41+8860000,'Growth Data'!$A:$Z,5,0))","v":"NO"},0,null,0,{"$f":"IF(ISERROR(VLOOKUP($A41+8860000,'Growth Data'!$A:$Z,10,0)),0,VLOOKUP($A41+8860000,'Growth Data'!$A:$Z,10,0))","v":0},0,null,0,{"$f":"IF(ISERROR(VLOOKUP($A41+8860000,'Growth Data'!$A:$Z,11,0)),0,VLOOKUP($A41+8860000,'Growth Data'!$A:$Z,11,0))","v":0},0]
[2171,"Brunswick House Primary School",null,"Brunswick House Primary School","Brunswick House Primary School",0,null,1151782.99,1151782.9922789,0,null,55505.46,55505.46386607756,0,null,22193.21,22193.205530694493,0,null,71574.850000000006,71574.849871451792,0,null,120082.8,120082.8,0,null,0,0,0,null,0,0,0,null,0,0,0,null,66938,66938,0,null,0,0,0,null,0,0,0,null,3460.69,3460.688452876173,0,null,1491538,1491538,0,null,0,0,0,null,1491538,1491538,0,null,0,null,0,null,1491538,1491538,0,null,0,null,0,null,134814.25,null,134814,null,0,null,0,null,0,null,0,null,0,null,0,null,0,null,0,null,0,null,0,null,0,null,0,null,0,null,0,null,"NO",{"$f":"IF(ISERROR(VLOOKUP($A42+8860000,'Growth Data'!$A:$F,3,0)),\"NO\",VLOOKUP($A42+8860000,'Growth Data'!$A:$F,3,0))","v":"NO"},0,null,0,{"$f":"IF(DI42=\"YES\",IF(ISERROR(VLOOKUP($A42+8860000,'Growth Data'!$A:$F,6,0)),0,VLOOKUP($A42+8860000,'Growth Data'!$A:$F,6,0)),0)","v":0},0,null,0,{"$f":"IF(ISERROR(VLOOKUP($A42+8860000,'Growth Data'!$A:$Z,7,0)),0,VLOOKUP($A42+8860000,'Growth Data'!$A:$Z,7,0))","v":0},0,null,"NO",{"$f":"IF(ISERROR(VLOOKUP($A42+8860000,'Growth Data'!$A:$F,4,0)),\"NO\",VLOOKUP($A42+8860000,'Growth Data'!$A:$F,4,0))","v":"NO"},0,null,0,{"$f":"IF(ISERROR(VLOOKUP($A42+8860000,'Growth Data'!$A:$Z,8,0)),0,VLOOKUP($A42+8860000,'Growth Data'!$A:$Z,8,0))","v":0},0,null,0,{"$f":"IF(ISERROR(VLOOKUP($A42+8860000,'Growth Data'!$A:$Z,9,0)),0,VLOOKUP($A42+8860000,'Growth Data'!$A:$Z,9,0))","v":0},0,null,"NO",{"$f":"IF(ISERROR(VLOOKUP($A42+8860000,'Growth Data'!$A:$Z,5,0)),\"NO\",VLOOKUP($A42+8860000,'Growth Data'!$A:$Z,5,0))","v":"NO"},0,null,0,{"$f":"IF(ISERROR(VLOOKUP($A42+8860000,'Growth Data'!$A:$Z,10,0)),0,VLOOKUP($A42+8860000,'Growth Data'!$A:$Z,10,0))","v":0},0,null,0,{"$f":"IF(ISERROR(VLOOKUP($A42+8860000,'Growth Data'!$A:$Z,11,0)),0,VLOOKUP($A42+8860000,'Growth Data'!$A:$Z,11,0))","v":0},0]
[2175,"North Borough Junior School",null,"North Borough Junior School","North Borough Junior School",0,null,923625.5,923625.50216160004,0,null,69590.509999999995,69590.513715972193,0,null,26283.119999999999,26283.122849999952,0,null,84546.01,84546.012004082542,0,null,120082.8,120082.8,0,null,0,0,0,null,0,0,0,null,0,0,0,null,24200,24200,0,null,0,0,0,null,0,0,0,null,0,0,0,null,1248327.95,1248327.9507316547,0,null,0,0,0,null,1248327.95,1248327.9507316547,0,null,0,null,0,null,1248327.95,1248327.9507316547,0,null,0,null,0,null,165960.38,null,165960,null,0,null,0,null,0,null,0,null,0,null,0,null,0,null,0,null,0,null,0,null,0,null,0,null,0,null,0,null,"YES",{"$f":"IF(ISERROR(VLOOKUP($A43+8860000,'Growth Data'!$A:$F,3,0)),\"NO\",VLOOKUP($A43+8860000,'Growth Data'!$A:$F,3,0))","v":"NO"},1,null,75,{"$f":"IF(DI43=\"YES\",IF(ISERROR(VLOOKUP($A43+8860000,'Growth Data'!$A:$F,6,0)),0,VLOOKUP($A43+8860000,'Growth Data'!$A:$F,6,0)),0)","v":0},75,null,90,{"$f":"IF(ISERROR(VLOOKUP($A43+8860000,'Growth Data'!$A:$Z,7,0)),0,VLOOKUP($A43+8860000,'Growth Data'!$A:$Z,7,0))","v":0},1,null,"NO",{"$f":"IF(ISERROR(VLOOKUP($A43+8860000,'Growth Data'!$A:$F,4,0)),\"NO\",VLOOKUP($A43+8860000,'Growth Data'!$A:$F,4,0))","v":"NO"},0,null,0,{"$f":"IF(ISERROR(VLOOKUP($A43+8860000,'Growth Data'!$A:$Z,8,0)),0,VLOOKUP($A43+8860000,'Growth Data'!$A:$Z,8,0))","v":0},0,null,0,{"$f":"IF(ISERROR(VLOOKUP($A43+8860000,'Growth Data'!$A:$Z,9,0)),0,VLOOKUP($A43+8860000,'Growth Data'!$A:$Z,9,0))","v":0},0,null,"NO",{"$f":"IF(ISERROR(VLOOKUP($A43+8860000,'Growth Data'!$A:$Z,5,0)),\"NO\",VLOOKUP($A43+8860000,'Growth Data'!$A:$Z,5,0))","v":"NO"},0,null,0,{"$f":"IF(ISERROR(VLOOKUP($A43+8860000,'Growth Data'!$A:$Z,10,0)),0,VLOOKUP($A43+8860000,'Growth Data'!$A:$Z,10,0))","v":0},0,null,0,{"$f":"IF(ISERROR(VLOOKUP($A43+8860000,'Growth Data'!$A:$Z,11,0)),0,VLOOKUP($A43+8860000,'Growth Data'!$A:$Z,11,0))","v":0},0]
[2176,"Park Way Primary School",null,"Park Way Primary School","Park Way Primary School",0,null,852154.48,852154.48116099997,0,null,99597.92,99597.918079810712,0,null,24717.61,24717.609428301814,0,null,86033.56,86033.560009406501,0,null,120082.8,120082.8,0,null,0,0,0,null,0,0,0,null,0,0,0,null,29894,29894,0,null,0,0,0,null,0,0,0,null,0,0,0,null,1212480.3700000001,1212480.368678519,0,null,0,0,0,null,1212480.3700000001,1212480.368678519,0,null,0,null,0,null,1212480.3700000001,1212480.368678519,0,null,0,null,0,null,191046.48,null,191046,null,0,null,0,null,0,null,0,null,0,null,0,null,0,null,0,null,0,null,0,null,0,null,0,null,0,null,0,null,"NO",{"$f":"IF(ISERROR(VLOOKUP($A44+8860000,'Growth Data'!$A:$F,3,0)),\"NO\",VLOOKUP($A44+8860000,'Growth Data'!$A:$F,3,0))","v":"NO"},0,null,0,{"$f":"IF(DI44=\"YES\",IF(ISERROR(VLOOKUP($A44+8860000,'Growth Data'!$A:$F,6,0)),0,VLOOKUP($A44+8860000,'Growth Data'!$A:$F,6,0)),0)","v":0},0,null,0,{"$f":"IF(ISERROR(VLOOKUP($A44+8860000,'Growth Data'!$A:$Z,7,0)),0,VLOOKUP($A44+8860000,'Growth Data'!$A:$Z,7,0))","v":0},0,null,"NO",{"$f":"IF(ISERROR(VLOOKUP($A44+8860000,'Growth Data'!$A:$F,4,0)),\"NO\",VLOOKUP($A44+8860000,'Growth Data'!$A:$F,4,0))","v":"NO"},0,null,0,{"$f":"IF(ISERROR(VLOOKUP($A44+8860000,'Growth Data'!$A:$Z,8,0)),0,VLOOKUP($A44+8860000,'Growth Data'!$A:$Z,8,0))","v":0},0,null,0,{"$f":"IF(ISERROR(VLOOKUP($A44+8860000,'Growth Data'!$A:$Z,9,0)),0,VLOOKUP($A44+8860000,'Growth Data'!$A:$Z,9,0))","v":0},0,null,"NO",{"$f":"IF(ISERROR(VLOOKUP($A44+8860000,'Growth Data'!$A:$Z,5,0)),\"NO\",VLOOKUP($A44+8860000,'Growth Data'!$A:$Z,5,0))","v":"NO"},0,null,0,{"$f":"IF(ISERROR(VLOOKUP($A44+8860000,'Growth Data'!$A:$Z,10,0)),0,VLOOKUP($A44+8860000,'Growth Data'!$A:$Z,10,0))","v":0},0,null,0,{"$f":"IF(ISERROR(VLOOKUP($A44+8860000,'Growth Data'!$A:$Z,11,0)),0,VLOOKUP($A44+8860000,'Growth Data'!$A:$Z,11,0))","v":0},0]
[2183,"Marden Primary School",null,"Marden Primary School","Marden Primary School",0,null,777934.57,777934.57473730005,0,null,84709.48,84709.483003432601,0,null,5357.59,5357.5921487755077,0,null,59591.96,59591.95730069757,0,null,120082.8,120082.8,0,null,0,0,0,null,0,0,0,null,0,0,0,null,28130,28130,0,null,0,0,0,null,0,0,0,null,0,0,0,null,1075806.4099999999,1075806.4071902058,0,null,0,0,0,null,1075806.4099999999,1075806.4071902058,0,null,0,null,0,null,1075806.4099999999,1075806.4071902058,0,null,0,null,0,null,134759.46,null,134759,null,0,null,0,null,0,null,0,null,0,null,0,null,0,null,0,null,0,null,0,null,0,null,0,null,0,null,0,null,"NO",{"$f":"IF(ISERROR(VLOOKUP($A45+8860000,'Growth Data'!$A:$F,3,0)),\"NO\",VLOOKUP($A45+8860000,'Growth Data'!$A:$F,3,0))","v":"NO"},0,null,0,{"$f":"IF(DI45=\"YES\",IF(ISERROR(VLOOKUP($A45+8860000,'Growth Data'!$A:$F,6,0)),0,VLOOKUP($A45+8860000,'Growth Data'!$A:$F,6,0)),0)","v":0},0,null,0,{"$f":"IF(ISERROR(VLOOKUP($A45+8860000,'Growth Data'!$A:$Z,7,0)),0,VLOOKUP($A45+8860000,'Growth Data'!$A:$Z,7,0))","v":0},0,null,"NO",{"$f":"IF(ISERROR(VLOOKUP($A45+8860000,'Growth Data'!$A:$F,4,0)),\"NO\",VLOOKUP($A45+8860000,'Growth Data'!$A:$F,4,0))","v":"NO"},0,null,0,{"$f":"IF(ISERROR(VLOOKUP($A45+8860000,'Growth Data'!$A:$Z,8,0)),0,VLOOKUP($A45+8860000,'Growth Data'!$A:$Z,8,0))","v":0},0,null,0,{"$f":"IF(ISERROR(VLOOKUP($A45+8860000,'Growth Data'!$A:$Z,9,0)),0,VLOOKUP($A45+8860000,'Growth Data'!$A:$Z,9,0))","v":0},0,null,"NO",{"$f":"IF(ISERROR(VLOOKUP($A45+8860000,'Growth Data'!$A:$Z,5,0)),\"NO\",VLOOKUP($A45+8860000,'Growth Data'!$A:$Z,5,0))","v":"NO"},0,null,0,{"$f":"IF(ISERROR(VLOOKUP($A45+8860000,'Growth Data'!$A:$Z,10,0)),0,VLOOKUP($A45+8860000,'Growth Data'!$A:$Z,10,0))","v":0},0,null,0,{"$f":"IF(ISERROR(VLOOKUP($A45+8860000,'Growth Data'!$A:$Z,11,0)),0,VLOOKUP($A45+8860000,'Growth Data'!$A:$Z,11,0))","v":0},0]
[2185,"Mereworth Community Primary School",null,"Mereworth Community Primary School","Mereworth Community Primary School",0,null,574517.05000000005,574517.05342789995,0,null,23531.13,23531.130037545405,0,null,2367.2399999999998,2367.2366626373655,0,null,38777.47,38777.467759948311,0,null,120082.8,120082.8,0,null,0,0,0,null,0,0,0,null,0,0,0,null,29329,29329,0,null,0,0,0,null,0,0,0,null,0,0,0,null,788604.69,788604.68788803113,0,null,0,0,0,null,788604.69,788604.68788803113,0,null,0,null,0,null,788604.69,788604.68788803113,0,null,0,null,0,null,61664.46,null,61664,null,0,null,0,null,0,null,0,null,0,null,0,null,0,null,0,null,0,null,0,null,0,null,0,null,0,null,0,null,"NO",{"$f":"IF(ISERROR(VLOOKUP($A46+8860000,'Growth Data'!$A:$F,3,0)),\"NO\",VLOOKUP($A46+8860000,'Growth Data'!$A:$F,3,0))","v":"NO"},0,null,0,{"$f":"IF(DI46=\"YES\",IF(ISERROR(VLOOKUP($A46+8860000,'Growth Data'!$A:$F,6,0)),0,VLOOKUP($A46+8860000,'Growth Data'!$A:$F,6,0)),0)","v":0},0,null,0,{"$f":"IF(ISERROR(VLOOKUP($A46+8860000,'Growth Data'!$A:$Z,7,0)),0,VLOOKUP($A46+8860000,'Growth Data'!$A:$Z,7,0))","v":0},0,null,"NO",{"$f":"IF(ISERROR(VLOOKUP($A46+8860000,'Growth Data'!$A:$F,4,0)),\"NO\",VLOOKUP($A46+8860000,'Growth Data'!$A:$F,4,0))","v":"NO"},0,null,0,{"$f":"IF(ISERROR(VLOOKUP($A46+8860000,'Growth Data'!$A:$Z,8,0)),0,VLOOKUP($A46+8860000,'Growth Data'!$A:$Z,8,0))","v":0},0,null,0,{"$f":"IF(ISERROR(VLOOKUP($A46+8860000,'Growth Data'!$A:$Z,9,0)),0,VLOOKUP($A46+8860000,'Growth Data'!$A:$Z,9,0))","v":0},0,null,"NO",{"$f":"IF(ISERROR(VLOOKUP($A46+8860000,'Growth Data'!$A:$Z,5,0)),\"NO\",VLOOKUP($A46+8860000,'Growth Data'!$A:$Z,5,0))","v":"NO"},0,null,0,{"$f":"IF(ISERROR(VLOOKUP($A46+8860000,'Growth Data'!$A:$Z,10,0)),0,VLOOKUP($A46+8860000,'Growth Data'!$A:$Z,10,0))","v":0},0,null,0,{"$f":"IF(ISERROR(VLOOKUP($A46+8860000,'Growth Data'!$A:$Z,11,0)),0,VLOOKUP($A46+8860000,'Growth Data'!$A:$Z,11,0))","v":0},0]
[2187,"Offham Primary School",null,"Offham Primary School","Offham Primary School",0,null,577265.93999999994,577265.93885100004,0,null,7581.88,7581.8786066985631,0,null,1202.5,1202.4958166666654,0,null,26992.83,26992.82692573842,0,null,120082.8,120082.8,0,null,0,0,0,null,0,0,0,null,0,0,0,null,26818,26818,0,null,0,0,0,null,0,0,0,null,0,0,0,null,759943.94,759943.94020010368,0,null,0,0,0,null,759943.94,759943.94020010368,0,null,0,null,0,null,759943.94,759943.94020010368,0,null,0,null,0,null,41131.589999999997,null,41132,null,1886.84,null,1887,null,0,null,0,null,0,null,0,null,0,null,0,null,0,null,0,null,0,null,0,null,0,null,0,null,"NO",{"$f":"IF(ISERROR(VLOOKUP($A47+8860000,'Growth Data'!$A:$F,3,0)),\"NO\",VLOOKUP($A47+8860000,'Growth Data'!$A:$F,3,0))","v":"NO"},0,null,0,{"$f":"IF(DI47=\"YES\",IF(ISERROR(VLOOKUP($A47+8860000,'Growth Data'!$A:$F,6,0)),0,VLOOKUP($A47+8860000,'Growth Data'!$A:$F,6,0)),0)","v":0},0,null,0,{"$f":"IF(ISERROR(VLOOKUP($A47+8860000,'Growth Data'!$A:$Z,7,0)),0,VLOOKUP($A47+8860000,'Growth Data'!$A:$Z,7,0))","v":0},0,null,"NO",{"$f":"IF(ISERROR(VLOOKUP($A47+8860000,'Growth Data'!$A:$F,4,0)),\"NO\",VLOOKUP($A47+8860000,'Growth Data'!$A:$F,4,0))","v":"NO"},0,null,0,{"$f":"IF(ISERROR(VLOOKUP($A47+8860000,'Growth Data'!$A:$Z,8,0)),0,VLOOKUP($A47+8860000,'Growth Data'!$A:$Z,8,0))","v":0},0,null,0,{"$f":"IF(ISERROR(VLOOKUP($A47+8860000,'Growth Data'!$A:$Z,9,0)),0,VLOOKUP($A47+8860000,'Growth Data'!$A:$Z,9,0))","v":0},0,null,"NO",{"$f":"IF(ISERROR(VLOOKUP($A47+8860000,'Growth Data'!$A:$Z,5,0)),\"NO\",VLOOKUP($A47+8860000,'Growth Data'!$A:$Z,5,0))","v":"NO"},0,null,0,{"$f":"IF(ISERROR(VLOOKUP($A47+8860000,'Growth Data'!$A:$Z,10,0)),0,VLOOKUP($A47+8860000,'Growth Data'!$A:$Z,10,0))","v":0},0,null,0,{"$f":"IF(ISERROR(VLOOKUP($A47+8860000,'Growth Data'!$A:$Z,11,0)),0,VLOOKUP($A47+8860000,'Growth Data'!$A:$Z,11,0))","v":0},0]
[2188,"Plaxtol Primary School",null,"Plaxtol Primary School","Plaxtol Primary School",0,null,252897.46,252897.45892520002,0,null,5449.29,5449.2893319148925,0,null,0,0,0,null,11703.36,11703.359995009547,0,null,120082.8,120082.8,0,null,0,0,0,null,0,0,0,null,0,0,0,null,16998,16998,0,null,0,0,0,null,0,0,0,null,0,0,0,null,407130.91,407130.90825212444,0,null,0,0,0,null,407130.91,407130.90825212444,0,null,0,null,0,null,407130.91,407130.90825212444,0,null,0,null,0,null,21626.43,null,21626,null,3837.36,null,3837,null,0,null,0,null,0,null,0,null,0,null,0,null,0,null,0,null,0,null,0,null,0,null,0,null,"NO",{"$f":"IF(ISERROR(VLOOKUP($A48+8860000,'Growth Data'!$A:$F,3,0)),\"NO\",VLOOKUP($A48+8860000,'Growth Data'!$A:$F,3,0))","v":"NO"},0,null,0,{"$f":"IF(DI48=\"YES\",IF(ISERROR(VLOOKUP($A48+8860000,'Growth Data'!$A:$F,6,0)),0,VLOOKUP($A48+8860000,'Growth Data'!$A:$F,6,0)),0)","v":0},0,null,0,{"$f":"IF(ISERROR(VLOOKUP($A48+8860000,'Growth Data'!$A:$Z,7,0)),0,VLOOKUP($A48+8860000,'Growth Data'!$A:$Z,7,0))","v":0},0,null,"NO",{"$f":"IF(ISERROR(VLOOKUP($A48+8860000,'Growth Data'!$A:$F,4,0)),\"NO\",VLOOKUP($A48+8860000,'Growth Data'!$A:$F,4,0))","v":"NO"},0,null,0,{"$f":"IF(ISERROR(VLOOKUP($A48+8860000,'Growth Data'!$A:$Z,8,0)),0,VLOOKUP($A48+8860000,'Growth Data'!$A:$Z,8,0))","v":0},0,null,0,{"$f":"IF(ISERROR(VLOOKUP($A48+8860000,'Growth Data'!$A:$Z,9,0)),0,VLOOKUP($A48+8860000,'Growth Data'!$A:$Z,9,0))","v":0},0,null,"NO",{"$f":"IF(ISERROR(VLOOKUP($A48+8860000,'Growth Data'!$A:$Z,5,0)),\"NO\",VLOOKUP($A48+8860000,'Growth Data'!$A:$Z,5,0))","v":"NO"},0,null,0,{"$f":"IF(ISERROR(VLOOKUP($A48+8860000,'Growth Data'!$A:$Z,10,0)),0,VLOOKUP($A48+8860000,'Growth Data'!$A:$Z,10,0))","v":0},0,null,0,{"$f":"IF(ISERROR(VLOOKUP($A48+8860000,'Growth Data'!$A:$Z,11,0)),0,VLOOKUP($A48+8860000,'Growth Data'!$A:$Z,11,0))","v":0},0]
[2189,"Ryarsh Primary School",null,"Ryarsh Primary School","Ryarsh Primary School",0,null,574517.05000000005,574517.05342789995,0,null,5385.83,5385.8279445714297,0,null,0,0,0,null,29298.53,29298.531196405354,0,null,120082.8,120082.8,0,null,0,0,0,null,0,0,0,null,0,0,0,null,21049,21049,0,null,0,0,0,null,0,0,0,null,0,0,0,null,750333.21,750333.2125688768,0,null,0,0,0,null,750333.21,750333.2125688768,0,null,0,null,0,null,750333.21,750333.2125688768,0,null,0,null,0,null,40479.06,null,40479,null,1952.09,null,1952,null,0,null,0,null,0,null,0,null,0,null,0,null,0,null,0,null,0,null,0,null,0,null,0,null,"NO",{"$f":"IF(ISERROR(VLOOKUP($A49+8860000,'Growth Data'!$A:$F,3,0)),\"NO\",VLOOKUP($A49+8860000,'Growth Data'!$A:$F,3,0))","v":"NO"},0,null,0,{"$f":"IF(DI49=\"YES\",IF(ISERROR(VLOOKUP($A49+8860000,'Growth Data'!$A:$F,6,0)),0,VLOOKUP($A49+8860000,'Growth Data'!$A:$F,6,0)),0)","v":0},0,null,0,{"$f":"IF(ISERROR(VLOOKUP($A49+8860000,'Growth Data'!$A:$Z,7,0)),0,VLOOKUP($A49+8860000,'Growth Data'!$A:$Z,7,0))","v":0},0,null,"NO",{"$f":"IF(ISERROR(VLOOKUP($A49+8860000,'Growth Data'!$A:$F,4,0)),\"NO\",VLOOKUP($A49+8860000,'Growth Data'!$A:$F,4,0))","v":"NO"},0,null,0,{"$f":"IF(ISERROR(VLOOKUP($A49+8860000,'Growth Data'!$A:$Z,8,0)),0,VLOOKUP($A49+8860000,'Growth Data'!$A:$Z,8,0))","v":0},0,null,0,{"$f":"IF(ISERROR(VLOOKUP($A49+8860000,'Growth Data'!$A:$Z,9,0)),0,VLOOKUP($A49+8860000,'Growth Data'!$A:$Z,9,0))","v":0},0,null,"NO",{"$f":"IF(ISERROR(VLOOKUP($A49+8860000,'Growth Data'!$A:$Z,5,0)),\"NO\",VLOOKUP($A49+8860000,'Growth Data'!$A:$Z,5,0))","v":"NO"},0,null,0,{"$f":"IF(ISERROR(VLOOKUP($A49+8860000,'Growth Data'!$A:$Z,10,0)),0,VLOOKUP($A49+8860000,'Growth Data'!$A:$Z,10,0))","v":0},0,null,0,{"$f":"IF(ISERROR(VLOOKUP($A49+8860000,'Growth Data'!$A:$Z,11,0)),0,VLOOKUP($A49+8860000,'Growth Data'!$A:$Z,11,0))","v":0},0]
[2190,"Shipbourne School",null,"Shipbourne School","Shipbourne School",0,null,151188.70000000001,151188.6982705,0,null,10357.14,10357.141500000009,0,null,3697.11,3697.1144673913145,0,null,6891.56,6891.559667507564,0,null,120082.8,120082.8,0,null,0,0,0,null,0,0,0,null,0,0,0,null,9993,9993,0,null,0,0,0,null,0,0,0,null,0,0,0,null,302210.31,302210.31390539889,0,null,0,0,0,null,302210.31,302210.31390539889,0,null,0,null,0,null,302210.31,302210.31390539889,0,null,0,null,0,null,23218.080000000002,null,23218,null,3678.19,null,3678,null,0,null,0,null,0,null,0,null,0,null,0,null,0,null,0,null,0,null,0,null,0,null,0,null,"NO",{"$f":"IF(ISERROR(VLOOKUP($A50+8860000,'Growth Data'!$A:$F,3,0)),\"NO\",VLOOKUP($A50+8860000,'Growth Data'!$A:$F,3,0))","v":"NO"},0,null,0,{"$f":"IF(DI50=\"YES\",IF(ISERROR(VLOOKUP($A50+8860000,'Growth Data'!$A:$F,6,0)),0,VLOOKUP($A50+8860000,'Growth Data'!$A:$F,6,0)),0)","v":0},0,null,0,{"$f":"IF(ISERROR(VLOOKUP($A50+8860000,'Growth Data'!$A:$Z,7,0)),0,VLOOKUP($A50+8860000,'Growth Data'!$A:$Z,7,0))","v":0},0,null,"NO",{"$f":"IF(ISERROR(VLOOKUP($A50+8860000,'Growth Data'!$A:$F,4,0)),\"NO\",VLOOKUP($A50+8860000,'Growth Data'!$A:$F,4,0))","v":"NO"},0,null,0,{"$f":"IF(ISERROR(VLOOKUP($A50+8860000,'Growth Data'!$A:$Z,8,0)),0,VLOOKUP($A50+8860000,'Growth Data'!$A:$Z,8,0))","v":0},0,null,0,{"$f":"IF(ISERROR(VLOOKUP($A50+8860000,'Growth Data'!$A:$Z,9,0)),0,VLOOKUP($A50+8860000,'Growth Data'!$A:$Z,9,0))","v":0},0,null,"NO",{"$f":"IF(ISERROR(VLOOKUP($A50+8860000,'Growth Data'!$A:$Z,5,0)),\"NO\",VLOOKUP($A50+8860000,'Growth Data'!$A:$Z,5,0))","v":"NO"},0,null,0,{"$f":"IF(ISERROR(VLOOKUP($A50+8860000,'Growth Data'!$A:$Z,10,0)),0,VLOOKUP($A50+8860000,'Growth Data'!$A:$Z,10,0))","v":0},0,null,0,{"$f":"IF(ISERROR(VLOOKUP($A50+8860000,'Growth Data'!$A:$Z,11,0)),0,VLOOKUP($A50+8860000,'Growth Data'!$A:$Z,11,0))","v":0},0]
[2191,"St Katherine's School",null,"St Katherine's School","St Katherine's School",0,null,1597102.43,1597102.4308211,0,null,149145.79,149145.79364166962,0,null,3607.49,3607.4874499999887,0,null,112666.56,112666.55880667691,0,null,120082.8,120082.8,0,null,0,0,0,null,0,0,0,null,0,0,0,null,72925,72925,0,null,0,0,0,null,0,0,0,null,0,0,0,null,2055530.07,2055530.0707194465,0,null,0,0,0,null,2055530.07,2055530.0707194465,0,null,0,null,0,null,2055530.07,2055530.0707194465,0,null,4.9000000000000004,null,5,null,235549.94,null,235550,null,0,null,0,null,0,null,0,null,0,null,0,null,0,null,0,null,0,null,0,null,0,null,0,null,0,null,0,null,"NO",{"$f":"IF(ISERROR(VLOOKUP($A51+8860000,'Growth Data'!$A:$F,3,0)),\"NO\",VLOOKUP($A51+8860000,'Growth Data'!$A:$F,3,0))","v":"NO"},0,null,0,{"$f":"IF(DI51=\"YES\",IF(ISERROR(VLOOKUP($A51+8860000,'Growth Data'!$A:$F,6,0)),0,VLOOKUP($A51+8860000,'Growth Data'!$A:$F,6,0)),0)","v":0},0,null,0,{"$f":"IF(ISERROR(VLOOKUP($A51+8860000,'Growth Data'!$A:$Z,7,0)),0,VLOOKUP($A51+8860000,'Growth Data'!$A:$Z,7,0))","v":0},0,null,"NO",{"$f":"IF(ISERROR(VLOOKUP($A51+8860000,'Growth Data'!$A:$F,4,0)),\"NO\",VLOOKUP($A51+8860000,'Growth Data'!$A:$F,4,0))","v":"NO"},0,null,0,{"$f":"IF(ISERROR(VLOOKUP($A51+8860000,'Growth Data'!$A:$Z,8,0)),0,VLOOKUP($A51+8860000,'Growth Data'!$A:$Z,8,0))","v":0},0,null,0,{"$f":"IF(ISERROR(VLOOKUP($A51+8860000,'Growth Data'!$A:$Z,9,0)),0,VLOOKUP($A51+8860000,'Growth Data'!$A:$Z,9,0))","v":0},0,null,"NO",{"$f":"IF(ISERROR(VLOOKUP($A51+8860000,'Growth Data'!$A:$Z,5,0)),\"NO\",VLOOKUP($A51+8860000,'Growth Data'!$A:$Z,5,0))","v":"NO"},0,null,0,{"$f":"IF(ISERROR(VLOOKUP($A51+8860000,'Growth Data'!$A:$Z,10,0)),0,VLOOKUP($A51+8860000,'Growth Data'!$A:$Z,10,0))","v":0},0,null,0,{"$f":"IF(ISERROR(VLOOKUP($A51+8860000,'Growth Data'!$A:$Z,11,0)),0,VLOOKUP($A51+8860000,'Growth Data'!$A:$Z,11,0))","v":0},0]
[2192,"Staplehurst School",null,"Staplehurst School","Staplehurst School",0,null,1061069.77,1061069.7733165999,0,null,44363.4,44363.400828531441,0,null,3584.27,3584.2732450450417,0,null,70604.05,70604.049447639991,0,null,120082.8,120082.8,0,null,0,0,0,null,0,0,0,null,0,0,0,null,38966,38966,0,null,0,0,0,null,0,0,0,null,12695.7,12695.703162183287,0,null,1351366,1351365.9999999998,0,null,0,0,0,null,1351366,1351365.9999999998,0,null,0,null,0,null,1351366,1351365.9999999998,0,null,0,null,0,null,103211.85,null,103212,null,0,null,0,null,0,null,0,null,0,null,0,null,0,null,0,null,0,null,0,null,0,null,0,null,0,null,0,null,"NO",{"$f":"IF(ISERROR(VLOOKUP($A52+8860000,'Growth Data'!$A:$F,3,0)),\"NO\",VLOOKUP($A52+8860000,'Growth Data'!$A:$F,3,0))","v":"NO"},0,null,0,{"$f":"IF(DI52=\"YES\",IF(ISERROR(VLOOKUP($A52+8860000,'Growth Data'!$A:$F,6,0)),0,VLOOKUP($A52+8860000,'Growth Data'!$A:$F,6,0)),0)","v":0},0,null,0,{"$f":"IF(ISERROR(VLOOKUP($A52+8860000,'Growth Data'!$A:$Z,7,0)),0,VLOOKUP($A52+8860000,'Growth Data'!$A:$Z,7,0))","v":0},0,null,"NO",{"$f":"IF(ISERROR(VLOOKUP($A52+8860000,'Growth Data'!$A:$F,4,0)),\"NO\",VLOOKUP($A52+8860000,'Growth Data'!$A:$F,4,0))","v":"NO"},0,null,0,{"$f":"IF(ISERROR(VLOOKUP($A52+8860000,'Growth Data'!$A:$Z,8,0)),0,VLOOKUP($A52+8860000,'Growth Data'!$A:$Z,8,0))","v":0},0,null,0,{"$f":"IF(ISERROR(VLOOKUP($A52+8860000,'Growth Data'!$A:$Z,9,0)),0,VLOOKUP($A52+8860000,'Growth Data'!$A:$Z,9,0))","v":0},0,null,"NO",{"$f":"IF(ISERROR(VLOOKUP($A52+8860000,'Growth Data'!$A:$Z,5,0)),\"NO\",VLOOKUP($A52+8860000,'Growth Data'!$A:$Z,5,0))","v":"NO"},0,null,0,{"$f":"IF(ISERROR(VLOOKUP($A52+8860000,'Growth Data'!$A:$Z,10,0)),0,VLOOKUP($A52+8860000,'Growth Data'!$A:$Z,10,0))","v":0},0,null,0,{"$f":"IF(ISERROR(VLOOKUP($A52+8860000,'Growth Data'!$A:$Z,11,0)),0,VLOOKUP($A52+8860000,'Growth Data'!$A:$Z,11,0))","v":0},0]
[2193,"Sutton Valence Primary School",null,"Sutton Valence Primary School","Sutton Valence Primary School",0,null,503046.03,503046.0324273,0,null,23190.43,23190.431042033892,0,null,3368.22,3368.2153232142846,0,null,32715.29,32715.287096932352,0,null,120082.8,120082.8,0,null,0,0,0,null,0,0,0,null,0,0,0,null,21439,21439,0,null,0,0,0,null,0,0,0,null,0,0,0,null,703841.77,703841.76588948059,0,null,0,0,0,null,703841.77,703841.76588948059,0,null,0,null,0,null,703841.77,703841.76588948059,0,null,0,null,0,null,58464.08,null,58464,null,153.59,null,154,null,0,null,0,null,0,null,0,null,0,null,0,null,0,null,0,null,0,null,0,null,0,null,0,null,"NO",{"$f":"IF(ISERROR(VLOOKUP($A53+8860000,'Growth Data'!$A:$F,3,0)),\"NO\",VLOOKUP($A53+8860000,'Growth Data'!$A:$F,3,0))","v":"NO"},0,null,0,{"$f":"IF(DI53=\"YES\",IF(ISERROR(VLOOKUP($A53+8860000,'Growth Data'!$A:$F,6,0)),0,VLOOKUP($A53+8860000,'Growth Data'!$A:$F,6,0)),0)","v":0},0,null,0,{"$f":"IF(ISERROR(VLOOKUP($A53+8860000,'Growth Data'!$A:$Z,7,0)),0,VLOOKUP($A53+8860000,'Growth Data'!$A:$Z,7,0))","v":0},0,null,"NO",{"$f":"IF(ISERROR(VLOOKUP($A53+8860000,'Growth Data'!$A:$F,4,0)),\"NO\",VLOOKUP($A53+8860000,'Growth Data'!$A:$F,4,0))","v":"NO"},0,null,0,{"$f":"IF(ISERROR(VLOOKUP($A53+8860000,'Growth Data'!$A:$Z,8,0)),0,VLOOKUP($A53+8860000,'Growth Data'!$A:$Z,8,0))","v":0},0,null,0,{"$f":"IF(ISERROR(VLOOKUP($A53+8860000,'Growth Data'!$A:$Z,9,0)),0,VLOOKUP($A53+8860000,'Growth Data'!$A:$Z,9,0))","v":0},0,null,"NO",{"$f":"IF(ISERROR(VLOOKUP($A53+8860000,'Growth Data'!$A:$Z,5,0)),\"NO\",VLOOKUP($A53+8860000,'Growth Data'!$A:$Z,5,0))","v":"NO"},0,null,0,{"$f":"IF(ISERROR(VLOOKUP($A53+8860000,'Growth Data'!$A:$Z,10,0)),0,VLOOKUP($A53+8860000,'Growth Data'!$A:$Z,10,0))","v":0},0,null,0,{"$f":"IF(ISERROR(VLOOKUP($A53+8860000,'Growth Data'!$A:$Z,11,0)),0,VLOOKUP($A53+8860000,'Growth Data'!$A:$Z,11,0))","v":0},0]
[2226,"Eastling Primary School",null,"Eastling Primary School","Eastling Primary School",0,null,247399.69,247399.68807900001,0,null,13907.83,13907.825076470579,0,null,587.11,587.11368987341939,0,null,18629.93,18629.930529745739,0,null,120082.8,120082.8,0,null,19973.72,19973.718958611484,0,null,0,0,0,null,0,0,0,null,12080,12080,0,null,0,0,0,null,0,0,0,null,0,0,0,null,432661.08,432661.07633370126,0,null,0,0,0,null,432661.08,432661.07633370126,0,null,0,null,0,null,432661.08,432661.07633370126,0,null,0,null,0,null,34956.83,null,34957,null,2504.3200000000002,null,2504,null,0,null,0,null,0,null,0,null,0,null,0,null,0,null,0,null,0,null,0,null,0,null,0,null,"NO",{"$f":"IF(ISERROR(VLOOKUP($A54+8860000,'Growth Data'!$A:$F,3,0)),\"NO\",VLOOKUP($A54+8860000,'Growth Data'!$A:$F,3,0))","v":"NO"},0,null,0,{"$f":"IF(DI54=\"YES\",IF(ISERROR(VLOOKUP($A54+8860000,'Growth Data'!$A:$F,6,0)),0,VLOOKUP($A54+8860000,'Growth Data'!$A:$F,6,0)),0)","v":0},0,null,0,{"$f":"IF(ISERROR(VLOOKUP($A54+8860000,'Growth Data'!$A:$Z,7,0)),0,VLOOKUP($A54+8860000,'Growth Data'!$A:$Z,7,0))","v":0},0,null,"NO",{"$f":"IF(ISERROR(VLOOKUP($A54+8860000,'Growth Data'!$A:$F,4,0)),\"NO\",VLOOKUP($A54+8860000,'Growth Data'!$A:$F,4,0))","v":"NO"},0,null,0,{"$f":"IF(ISERROR(VLOOKUP($A54+8860000,'Growth Data'!$A:$Z,8,0)),0,VLOOKUP($A54+8860000,'Growth Data'!$A:$Z,8,0))","v":0},0,null,0,{"$f":"IF(ISERROR(VLOOKUP($A54+8860000,'Growth Data'!$A:$Z,9,0)),0,VLOOKUP($A54+8860000,'Growth Data'!$A:$Z,9,0))","v":0},0,null,"NO",{"$f":"IF(ISERROR(VLOOKUP($A54+8860000,'Growth Data'!$A:$Z,5,0)),\"NO\",VLOOKUP($A54+8860000,'Growth Data'!$A:$Z,5,0))","v":"NO"},0,null,0,{"$f":"IF(ISERROR(VLOOKUP($A54+8860000,'Growth Data'!$A:$Z,10,0)),0,VLOOKUP($A54+8860000,'Growth Data'!$A:$Z,10,0))","v":0},0,null,0,{"$f":"IF(ISERROR(VLOOKUP($A54+8860000,'Growth Data'!$A:$Z,11,0)),0,VLOOKUP($A54+8860000,'Growth Data'!$A:$Z,11,0))","v":0},0]
[2227,"Ethelbert Road Primary School",null,"Ethelbert Road Primary School","Ethelbert Road Primary School",0,null,574517.05000000005,574517.05342789995,0,null,15755.09,15755.092089142861,0,null,1210.22,1210.2164960674183,0,null,40274.65,40274.648700152451,0,null,120082.8,120082.8,0,null,0,0,0,null,0,0,0,null,0,0,0,null,11293,11293,0,null,0,0,0,null,0,0,0,null,0,0,0,null,763132.81,763132.81071326276,0,null,0,0,0,null,763132.81,763132.81071326276,0,null,0,null,0,null,763132.81,763132.81071326276,0,null,0,null,0,null,60833.14,null,60833,null,0,null,0,null,0,null,0,null,0,null,0,null,0,null,0,null,0,null,0,null,0,null,0,null,0,null,0,null,"NO",{"$f":"IF(ISERROR(VLOOKUP($A55+8860000,'Growth Data'!$A:$F,3,0)),\"NO\",VLOOKUP($A55+8860000,'Growth Data'!$A:$F,3,0))","v":"NO"},0,null,0,{"$f":"IF(DI55=\"YES\",IF(ISERROR(VLOOKUP($A55+8860000,'Growth Data'!$A:$F,6,0)),0,VLOOKUP($A55+8860000,'Growth Data'!$A:$F,6,0)),0)","v":0},0,null,0,{"$f":"IF(ISERROR(VLOOKUP($A55+8860000,'Growth Data'!$A:$Z,7,0)),0,VLOOKUP($A55+8860000,'Growth Data'!$A:$Z,7,0))","v":0},0,null,"NO",{"$f":"IF(ISERROR(VLOOKUP($A55+8860000,'Growth Data'!$A:$F,4,0)),\"NO\",VLOOKUP($A55+8860000,'Growth Data'!$A:$F,4,0))","v":"NO"},0,null,0,{"$f":"IF(ISERROR(VLOOKUP($A55+8860000,'Growth Data'!$A:$Z,8,0)),0,VLOOKUP($A55+8860000,'Growth Data'!$A:$Z,8,0))","v":0},0,null,0,{"$f":"IF(ISERROR(VLOOKUP($A55+8860000,'Growth Data'!$A:$Z,9,0)),0,VLOOKUP($A55+8860000,'Growth Data'!$A:$Z,9,0))","v":0},0,null,"NO",{"$f":"IF(ISERROR(VLOOKUP($A55+8860000,'Growth Data'!$A:$Z,5,0)),\"NO\",VLOOKUP($A55+8860000,'Growth Data'!$A:$Z,5,0))","v":"NO"},0,null,0,{"$f":"IF(ISERROR(VLOOKUP($A55+8860000,'Growth Data'!$A:$Z,10,0)),0,VLOOKUP($A55+8860000,'Growth Data'!$A:$Z,10,0))","v":0},0,null,0,{"$f":"IF(ISERROR(VLOOKUP($A55+8860000,'Growth Data'!$A:$Z,11,0)),0,VLOOKUP($A55+8860000,'Growth Data'!$A:$Z,11,0))","v":0},0]
[2228,"Davington Primary School",null,"Davington Primary School","Davington Primary School",0,null,1124294.1399999999,1124294.1380479001,0,null,130169.41,130169.40880730764,0,null,4156.2299999999996,4156.2320198591487,0,null,92888.57,92888.571569671549,0,null,120082.8,120082.8,0,null,0,0,0,null,0,0,0,null,0,0,0,null,38808,38808,0,null,0,0,0,null,0,0,0,null,0,0,0,null,1510399.15,1510399.1504447386,0,null,0,0,0,null,1510399.15,1510399.1504447386,0,null,0,null,0,null,1510399.15,1510399.1504447386,0,null,0,null,0,null,212314.64,null,212315,null,0,null,0,null,0,null,0,null,0,null,0,null,0,null,0,null,0,null,0,null,0,null,0,null,0,null,0,null,"NO",{"$f":"IF(ISERROR(VLOOKUP($A56+8860000,'Growth Data'!$A:$F,3,0)),\"NO\",VLOOKUP($A56+8860000,'Growth Data'!$A:$F,3,0))","v":"NO"},0,null,0,{"$f":"IF(DI56=\"YES\",IF(ISERROR(VLOOKUP($A56+8860000,'Growth Data'!$A:$F,6,0)),0,VLOOKUP($A56+8860000,'Growth Data'!$A:$F,6,0)),0)","v":0},0,null,0,{"$f":"IF(ISERROR(VLOOKUP($A56+8860000,'Growth Data'!$A:$Z,7,0)),0,VLOOKUP($A56+8860000,'Growth Data'!$A:$Z,7,0))","v":0},0,null,"NO",{"$f":"IF(ISERROR(VLOOKUP($A56+8860000,'Growth Data'!$A:$F,4,0)),\"NO\",VLOOKUP($A56+8860000,'Growth Data'!$A:$F,4,0))","v":"NO"},0,null,0,{"$f":"IF(ISERROR(VLOOKUP($A56+8860000,'Growth Data'!$A:$Z,8,0)),0,VLOOKUP($A56+8860000,'Growth Data'!$A:$Z,8,0))","v":0},0,null,0,{"$f":"IF(ISERROR(VLOOKUP($A56+8860000,'Growth Data'!$A:$Z,9,0)),0,VLOOKUP($A56+8860000,'Growth Data'!$A:$Z,9,0))","v":0},0,null,"NO",{"$f":"IF(ISERROR(VLOOKUP($A56+8860000,'Growth Data'!$A:$Z,5,0)),\"NO\",VLOOKUP($A56+8860000,'Growth Data'!$A:$Z,5,0))","v":"NO"},0,null,0,{"$f":"IF(ISERROR(VLOOKUP($A56+8860000,'Growth Data'!$A:$Z,10,0)),0,VLOOKUP($A56+8860000,'Growth Data'!$A:$Z,10,0))","v":0},0,null,0,{"$f":"IF(ISERROR(VLOOKUP($A56+8860000,'Growth Data'!$A:$Z,11,0)),0,VLOOKUP($A56+8860000,'Growth Data'!$A:$Z,11,0))","v":0},0]
[2231,"Lower Halstow School",null,"Lower Halstow School","Lower Halstow School",0,null,409583.93,409583.92804189998,0,null,19299.759999999998,19299.759264516139,0,null,564.62,564.61725845588262,0,null,25831.19,25831.192151837884,0,null,120082.8,120082.8,0,null,0,0,0,null,0,0,0,null,0,0,0,null,20499,20499,0,null,0,0,0,null,0,0,0,null,0,0,0,null,595861.30000000005,595861.29671670985,0,null,0,0,0,null,595861.30000000005,595861.29671670985,0,null,0,null,0,null,595861.30000000005,595861.29671670985,0,null,0,null,0,null,47087.23,null,47087,null,1291.28,null,1291,null,0,null,0,null,0,null,0,null,0,null,0,null,0,null,0,null,0,null,0,null,0,null,0,null,"NO",{"$f":"IF(ISERROR(VLOOKUP($A57+8860000,'Growth Data'!$A:$F,3,0)),\"NO\",VLOOKUP($A57+8860000,'Growth Data'!$A:$F,3,0))","v":"YES"},1,null,0,{"$f":"IF(DI57=\"YES\",IF(ISERROR(VLOOKUP($A57+8860000,'Growth Data'!$A:$F,6,0)),0,VLOOKUP($A57+8860000,'Growth Data'!$A:$F,6,0)),0)","v":23},-23,null,0,{"$f":"IF(ISERROR(VLOOKUP($A57+8860000,'Growth Data'!$A:$Z,7,0)),0,VLOOKUP($A57+8860000,'Growth Data'!$A:$Z,7,0))","v":30},1,null,"NO",{"$f":"IF(ISERROR(VLOOKUP($A57+8860000,'Growth Data'!$A:$F,4,0)),\"NO\",VLOOKUP($A57+8860000,'Growth Data'!$A:$F,4,0))","v":"YES"},1,null,0,{"$f":"IF(ISERROR(VLOOKUP($A57+8860000,'Growth Data'!$A:$Z,8,0)),0,VLOOKUP($A57+8860000,'Growth Data'!$A:$Z,8,0))","v":22},1,null,0,{"$f":"IF(ISERROR(VLOOKUP($A57+8860000,'Growth Data'!$A:$Z,9,0)),0,VLOOKUP($A57+8860000,'Growth Data'!$A:$Z,9,0))","v":30},1,null,"NO",{"$f":"IF(ISERROR(VLOOKUP($A57+8860000,'Growth Data'!$A:$Z,5,0)),\"NO\",VLOOKUP($A57+8860000,'Growth Data'!$A:$Z,5,0))","v":"YES"},1,null,0,{"$f":"IF(ISERROR(VLOOKUP($A57+8860000,'Growth Data'!$A:$Z,10,0)),0,VLOOKUP($A57+8860000,'Growth Data'!$A:$Z,10,0))","v":28},1,null,0,{"$f":"IF(ISERROR(VLOOKUP($A57+8860000,'Growth Data'!$A:$Z,11,0)),0,VLOOKUP($A57+8860000,'Growth Data'!$A:$Z,11,0))","v":30},1]
[2237,"Queenborough School and Nursery",null,"Queenborough School and Nursery","Queenborough School and Nursery",0,null,1184769.6200000001,1184769.6173561001,0,null,274038.65000000002,274038.65413323726,0,null,3582.55,3582.5509008064482,0,null,89127.05,89127.047357549556,0,null,120082.8,120082.8,0,null,0,0,0,null,0,0,0,null,0,0,0,null,33516,33516,0,null,0,0,0,null,0,0,0,null,0,0,0,null,1705116.67,1705116.6697476935,0,null,0,0,0,null,1705116.67,1705116.6697476935,0,null,0,null,0,null,1705116.67,1705116.6697476935,0,null,5.14,null,5,null,318825.90999999997,null,318826,null,0,null,0,null,0,null,0,null,0,null,0,null,0,null,0,null,0,null,0,null,0,null,0,null,0,null,0,null,"NO",{"$f":"IF(ISERROR(VLOOKUP($A58+8860000,'Growth Data'!$A:$F,3,0)),\"NO\",VLOOKUP($A58+8860000,'Growth Data'!$A:$F,3,0))","v":"NO"},0,null,0,{"$f":"IF(DI58=\"YES\",IF(ISERROR(VLOOKUP($A58+8860000,'Growth Data'!$A:$F,6,0)),0,VLOOKUP($A58+8860000,'Growth Data'!$A:$F,6,0)),0)","v":0},0,null,0,{"$f":"IF(ISERROR(VLOOKUP($A58+8860000,'Growth Data'!$A:$Z,7,0)),0,VLOOKUP($A58+8860000,'Growth Data'!$A:$Z,7,0))","v":0},0,null,"NO",{"$f":"IF(ISERROR(VLOOKUP($A58+8860000,'Growth Data'!$A:$F,4,0)),\"NO\",VLOOKUP($A58+8860000,'Growth Data'!$A:$F,4,0))","v":"NO"},0,null,0,{"$f":"IF(ISERROR(VLOOKUP($A58+8860000,'Growth Data'!$A:$Z,8,0)),0,VLOOKUP($A58+8860000,'Growth Data'!$A:$Z,8,0))","v":0},0,null,0,{"$f":"IF(ISERROR(VLOOKUP($A58+8860000,'Growth Data'!$A:$Z,9,0)),0,VLOOKUP($A58+8860000,'Growth Data'!$A:$Z,9,0))","v":0},0,null,"NO",{"$f":"IF(ISERROR(VLOOKUP($A58+8860000,'Growth Data'!$A:$Z,5,0)),\"NO\",VLOOKUP($A58+8860000,'Growth Data'!$A:$Z,5,0))","v":"NO"},0,null,0,{"$f":"IF(ISERROR(VLOOKUP($A58+8860000,'Growth Data'!$A:$Z,10,0)),0,VLOOKUP($A58+8860000,'Growth Data'!$A:$Z,10,0))","v":0},0,null,0,{"$f":"IF(ISERROR(VLOOKUP($A58+8860000,'Growth Data'!$A:$Z,11,0)),0,VLOOKUP($A58+8860000,'Growth Data'!$A:$Z,11,0))","v":0},0]
[2239,"Rodmersham School",null,"Rodmersham School","Rodmersham School",0,null,274888.53999999998,274888.54230999999,0,null,7664.38,7664.3756818181828,0,null,592.36,592.36247126436695,0,null,8736.98,8736.9804071679137,0,null,120082.8,120082.8,0,null,0,0,0,null,0,0,0,null,0,0,0,null,5769,5769,0,null,0,0,0,null,6027,6027,0,null,0,0,0,null,423761.06,423761.06087025045,0,null,0,0,0,null,423761.06,423761.06087025045,0,null,0,null,0,null,423761.06,423761.06087025045,0,null,0,null,0,null,23228.720000000001,null,23229,null,3677.13,null,3677,null,0,null,0,null,0,null,0,null,0,null,0,null,0,null,0,null,0,null,0,null,0,null,0,null,"NO",{"$f":"IF(ISERROR(VLOOKUP($A59+8860000,'Growth Data'!$A:$F,3,0)),\"NO\",VLOOKUP($A59+8860000,'Growth Data'!$A:$F,3,0))","v":"NO"},0,null,0,{"$f":"IF(DI59=\"YES\",IF(ISERROR(VLOOKUP($A59+8860000,'Growth Data'!$A:$F,6,0)),0,VLOOKUP($A59+8860000,'Growth Data'!$A:$F,6,0)),0)","v":0},0,null,0,{"$f":"IF(ISERROR(VLOOKUP($A59+8860000,'Growth Data'!$A:$Z,7,0)),0,VLOOKUP($A59+8860000,'Growth Data'!$A:$Z,7,0))","v":0},0,null,"NO",{"$f":"IF(ISERROR(VLOOKUP($A59+8860000,'Growth Data'!$A:$F,4,0)),\"NO\",VLOOKUP($A59+8860000,'Growth Data'!$A:$F,4,0))","v":"NO"},0,null,0,{"$f":"IF(ISERROR(VLOOKUP($A59+8860000,'Growth Data'!$A:$Z,8,0)),0,VLOOKUP($A59+8860000,'Growth Data'!$A:$Z,8,0))","v":0},0,null,0,{"$f":"IF(ISERROR(VLOOKUP($A59+8860000,'Growth Data'!$A:$Z,9,0)),0,VLOOKUP($A59+8860000,'Growth Data'!$A:$Z,9,0))","v":0},0,null,"NO",{"$f":"IF(ISERROR(VLOOKUP($A59+8860000,'Growth Data'!$A:$Z,5,0)),\"NO\",VLOOKUP($A59+8860000,'Growth Data'!$A:$Z,5,0))","v":"NO"},0,null,0,{"$f":"IF(ISERROR(VLOOKUP($A59+8860000,'Growth Data'!$A:$Z,10,0)),0,VLOOKUP($A59+8860000,'Growth Data'!$A:$Z,10,0))","v":0},0,null,0,{"$f":"IF(ISERROR(VLOOKUP($A59+8860000,'Growth Data'!$A:$Z,11,0)),0,VLOOKUP($A59+8860000,'Growth Data'!$A:$Z,11,0))","v":0},0]
[2245,"Rose Street School",null,"Rose Street School","Rose Street School",0,null,962109.9,962109.89808499999,0,null,266135.34000000003,266135.34220949368,0,null,11195.65,11195.650706896557,0,null,76785.929999999993,76785.931720789638,0,null,120082.8,120082.8,0,null,0,0,0,null,0,0,0,null,0,0,0,null,78624,78624,0,null,0,0,0,null,0,0,0,null,0,0,0,null,1514933.62,1514933.6227221799,0,null,0,0,0,null,1514933.62,1514933.6227221799,0,null,0,null,0,null,1514933.62,1514933.6227221799,0,null,5.36,null,5,null,303112.46000000002,null,303112,null,0,null,0,null,0,null,0,null,0,null,0,null,0,null,0,null,0,null,0,null,0,null,0,null,0,null,0,null,"YES",{"$f":"IF(ISERROR(VLOOKUP($A60+8860000,'Growth Data'!$A:$F,3,0)),\"NO\",VLOOKUP($A60+8860000,'Growth Data'!$A:$F,3,0))","v":"YES"},0,null,30,{"$f":"IF(DI60=\"YES\",IF(ISERROR(VLOOKUP($A60+8860000,'Growth Data'!$A:$F,6,0)),0,VLOOKUP($A60+8860000,'Growth Data'!$A:$F,6,0)),0)","v":30},0,null,60,{"$f":"IF(ISERROR(VLOOKUP($A60+8860000,'Growth Data'!$A:$Z,7,0)),0,VLOOKUP($A60+8860000,'Growth Data'!$A:$Z,7,0))","v":60},0,null,"YES",{"$f":"IF(ISERROR(VLOOKUP($A60+8860000,'Growth Data'!$A:$F,4,0)),\"NO\",VLOOKUP($A60+8860000,'Growth Data'!$A:$F,4,0))","v":"YES"},0,null,30,{"$f":"IF(ISERROR(VLOOKUP($A60+8860000,'Growth Data'!$A:$Z,8,0)),0,VLOOKUP($A60+8860000,'Growth Data'!$A:$Z,8,0))","v":30},0,null,60,{"$f":"IF(ISERROR(VLOOKUP($A60+8860000,'Growth Data'!$A:$Z,9,0)),0,VLOOKUP($A60+8860000,'Growth Data'!$A:$Z,9,0))","v":60},0,null,"YES",{"$f":"IF(ISERROR(VLOOKUP($A60+8860000,'Growth Data'!$A:$Z,5,0)),\"NO\",VLOOKUP($A60+8860000,'Growth Data'!$A:$Z,5,0))","v":"NO"},1,null,30,{"$f":"IF(ISERROR(VLOOKUP($A60+8860000,'Growth Data'!$A:$Z,10,0)),0,VLOOKUP($A60+8860000,'Growth Data'!$A:$Z,10,0))","v":0},1,null,60,{"$f":"IF(ISERROR(VLOOKUP($A60+8860000,'Growth Data'!$A:$Z,11,0)),0,VLOOKUP($A60+8860000,'Growth Data'!$A:$Z,11,0))","v":0},1]
[2254,"Canterbury Road Primary School",null,"Canterbury Road Primary School","Canterbury Road Primary School",0,null,577265.93999999994,577265.93885100004,0,null,81659.53,81659.528972511893,0,null,8417.4699999999993,8417.4707166666703,0,null,64800.6,64800.595138072167,0,null,120082.8,120082.8,0,null,0,0,0,null,0,0,0,null,0,0,0,null,29484,29484,0,null,0,0,0,null,0,0,0,null,0,0,0,null,881710.33,881710.33367825078,0,null,0,0,0,null,881710.33,881710.33367825078,0,null,0,null,0,null,881710.33,881710.33367825078,0,null,0,null,0,null,149664.70000000001,null,149665,null,0,null,0,null,0,null,0,null,0,null,0,null,0,null,0,null,0,null,0,null,0,null,0,null,0,null,0,null,"NO",{"$f":"IF(ISERROR(VLOOKUP($A61+8860000,'Growth Data'!$A:$F,3,0)),\"NO\",VLOOKUP($A61+8860000,'Growth Data'!$A:$F,3,0))","v":"NO"},0,null,0,{"$f":"IF(DI61=\"YES\",IF(ISERROR(VLOOKUP($A61+8860000,'Growth Data'!$A:$F,6,0)),0,VLOOKUP($A61+8860000,'Growth Data'!$A:$F,6,0)),0)","v":0},0,null,0,{"$f":"IF(ISERROR(VLOOKUP($A61+8860000,'Growth Data'!$A:$Z,7,0)),0,VLOOKUP($A61+8860000,'Growth Data'!$A:$Z,7,0))","v":0},0,null,"NO",{"$f":"IF(ISERROR(VLOOKUP($A61+8860000,'Growth Data'!$A:$F,4,0)),\"NO\",VLOOKUP($A61+8860000,'Growth Data'!$A:$F,4,0))","v":"NO"},0,null,0,{"$f":"IF(ISERROR(VLOOKUP($A61+8860000,'Growth Data'!$A:$Z,8,0)),0,VLOOKUP($A61+8860000,'Growth Data'!$A:$Z,8,0))","v":0},0,null,0,{"$f":"IF(ISERROR(VLOOKUP($A61+8860000,'Growth Data'!$A:$Z,9,0)),0,VLOOKUP($A61+8860000,'Growth Data'!$A:$Z,9,0))","v":0},0,null,"NO",{"$f":"IF(ISERROR(VLOOKUP($A61+8860000,'Growth Data'!$A:$Z,5,0)),\"NO\",VLOOKUP($A61+8860000,'Growth Data'!$A:$Z,5,0))","v":"NO"},0,null,0,{"$f":"IF(ISERROR(VLOOKUP($A61+8860000,'Growth Data'!$A:$Z,10,0)),0,VLOOKUP($A61+8860000,'Growth Data'!$A:$Z,10,0))","v":0},0,null,0,{"$f":"IF(ISERROR(VLOOKUP($A61+8860000,'Growth Data'!$A:$Z,11,0)),0,VLOOKUP($A61+8860000,'Growth Data'!$A:$Z,11,0))","v":0},0]
[2258,"Blean Primary School",null,"Blean Primary School","Blean Primary School",0,null,1190267.3899999999,1190267.3882023001,0,null,44541.04,44541.043162896545,0,null,38886.53,38886.531704423505,0,null,57290.18,57290.177148306269,0,null,120082.8,120082.8,0,null,0,0,0,null,0,0,0,null,0,0,0,null,37044,37044,0,null,0,0,0,null,0,0,0,null,21132.06,21132.0597820736,0,null,1509244,1509244,0,null,0,0,0,null,1509244,1509244,0,null,0,null,0,null,1509244,1509244,0,null,0,null,0,null,138586.98000000001,null,138587,null,0,null,0,null,0,null,0,null,0,null,0,null,0,null,0,null,0,null,0,null,0,null,0,null,0,null,0,null,"NO",{"$f":"IF(ISERROR(VLOOKUP($A62+8860000,'Growth Data'!$A:$F,3,0)),\"NO\",VLOOKUP($A62+8860000,'Growth Data'!$A:$F,3,0))","v":"NO"},0,null,0,{"$f":"IF(DI62=\"YES\",IF(ISERROR(VLOOKUP($A62+8860000,'Growth Data'!$A:$F,6,0)),0,VLOOKUP($A62+8860000,'Growth Data'!$A:$F,6,0)),0)","v":0},0,null,0,{"$f":"IF(ISERROR(VLOOKUP($A62+8860000,'Growth Data'!$A:$Z,7,0)),0,VLOOKUP($A62+8860000,'Growth Data'!$A:$Z,7,0))","v":0},0,null,"NO",{"$f":"IF(ISERROR(VLOOKUP($A62+8860000,'Growth Data'!$A:$F,4,0)),\"NO\",VLOOKUP($A62+8860000,'Growth Data'!$A:$F,4,0))","v":"NO"},0,null,0,{"$f":"IF(ISERROR(VLOOKUP($A62+8860000,'Growth Data'!$A:$Z,8,0)),0,VLOOKUP($A62+8860000,'Growth Data'!$A:$Z,8,0))","v":0},0,null,0,{"$f":"IF(ISERROR(VLOOKUP($A62+8860000,'Growth Data'!$A:$Z,9,0)),0,VLOOKUP($A62+8860000,'Growth Data'!$A:$Z,9,0))","v":0},0,null,"NO",{"$f":"IF(ISERROR(VLOOKUP($A62+8860000,'Growth Data'!$A:$Z,5,0)),\"NO\",VLOOKUP($A62+8860000,'Growth Data'!$A:$Z,5,0))","v":"NO"},0,null,0,{"$f":"IF(ISERROR(VLOOKUP($A62+8860000,'Growth Data'!$A:$Z,10,0)),0,VLOOKUP($A62+8860000,'Growth Data'!$A:$Z,10,0))","v":0},0,null,0,{"$f":"IF(ISERROR(VLOOKUP($A62+8860000,'Growth Data'!$A:$Z,11,0)),0,VLOOKUP($A62+8860000,'Growth Data'!$A:$Z,11,0))","v":0},0]
[2259,"Chartham Primary School",null,"Chartham Primary School","Chartham Primary School",0,null,951114.36,951114.35639259999,0,null,51396.54,51396.536299885774,0,null,6604.18,6604.1833740740685,0,null,67953.53,67953.526373586486,0,null,120082.8,120082.8,0,null,0,0,0,null,0,0,0,null,0,0,0,null,28450,28450,0,null,0,0,0,null,0,0,0,null,0,0,0,null,1225601.3999999999,1225601.4024401463,0,null,0,0,0,null,1225601.3999999999,1225601.4024401463,0,null,0,null,0,null,1225601.3999999999,1225601.4024401463,0,null,0,null,0,null,107091.94,null,107092,null,0,null,0,null,0,null,0,null,0,null,0,null,0,null,0,null,0,null,0,null,0,null,0,null,0,null,0,null,"NO",{"$f":"IF(ISERROR(VLOOKUP($A63+8860000,'Growth Data'!$A:$F,3,0)),\"NO\",VLOOKUP($A63+8860000,'Growth Data'!$A:$F,3,0))","v":"YES"},1,null,0,{"$f":"IF(DI63=\"YES\",IF(ISERROR(VLOOKUP($A63+8860000,'Growth Data'!$A:$F,6,0)),0,VLOOKUP($A63+8860000,'Growth Data'!$A:$F,6,0)),0)","v":45},-45,null,0,{"$f":"IF(ISERROR(VLOOKUP($A63+8860000,'Growth Data'!$A:$Z,7,0)),0,VLOOKUP($A63+8860000,'Growth Data'!$A:$Z,7,0))","v":60},1,null,"YES",{"$f":"IF(ISERROR(VLOOKUP($A63+8860000,'Growth Data'!$A:$F,4,0)),\"NO\",VLOOKUP($A63+8860000,'Growth Data'!$A:$F,4,0))","v":"YES"},0,null,47,{"$f":"IF(ISERROR(VLOOKUP($A63+8860000,'Growth Data'!$A:$Z,8,0)),0,VLOOKUP($A63+8860000,'Growth Data'!$A:$Z,8,0))","v":45},1,null,60,{"$f":"IF(ISERROR(VLOOKUP($A63+8860000,'Growth Data'!$A:$Z,9,0)),0,VLOOKUP($A63+8860000,'Growth Data'!$A:$Z,9,0))","v":60},0,null,"YES",{"$f":"IF(ISERROR(VLOOKUP($A63+8860000,'Growth Data'!$A:$Z,5,0)),\"NO\",VLOOKUP($A63+8860000,'Growth Data'!$A:$Z,5,0))","v":"YES"},0,null,49,{"$f":"IF(ISERROR(VLOOKUP($A63+8860000,'Growth Data'!$A:$Z,10,0)),0,VLOOKUP($A63+8860000,'Growth Data'!$A:$Z,10,0))","v":48},1,null,60,{"$f":"IF(ISERROR(VLOOKUP($A63+8860000,'Growth Data'!$A:$Z,11,0)),0,VLOOKUP($A63+8860000,'Growth Data'!$A:$Z,11,0))","v":60},0]
[2263,"Herne Bay Infant School",null,"Herne Bay Infant School","Herne Bay Infant School",0,null,962109.9,962109.89808499999,0,null,99684.74,99684.735040000145,0,null,7642.98,7642.9818855932199,0,null,77277.850000000006,77277.851279331924,0,null,120082.8,120082.8,0,null,0,0,0,null,0,0,0,null,0,0,0,null,15712,15712,0,null,0,0,0,null,0,0,0,null,0,0,0,null,1282510.27,1282510.2662899252,0,null,0,0,0,null,1282510.27,1282510.2662899252,0,null,0,null,0,null,1282510.27,1282510.2662899252,0,null,4.9000000000000004,null,5,null,164862.66,null,164863,null,0,null,0,null,0,null,0,null,0,null,0,null,0,null,0,null,0,null,0,null,0,null,0,null,0,null,0,null,"NO",{"$f":"IF(ISERROR(VLOOKUP($A64+8860000,'Growth Data'!$A:$F,3,0)),\"NO\",VLOOKUP($A64+8860000,'Growth Data'!$A:$F,3,0))","v":"NO"},0,null,0,{"$f":"IF(DI64=\"YES\",IF(ISERROR(VLOOKUP($A64+8860000,'Growth Data'!$A:$F,6,0)),0,VLOOKUP($A64+8860000,'Growth Data'!$A:$F,6,0)),0)","v":0},0,null,0,{"$f":"IF(ISERROR(VLOOKUP($A64+8860000,'Growth Data'!$A:$Z,7,0)),0,VLOOKUP($A64+8860000,'Growth Data'!$A:$Z,7,0))","v":0},0,null,"NO",{"$f":"IF(ISERROR(VLOOKUP($A64+8860000,'Growth Data'!$A:$F,4,0)),\"NO\",VLOOKUP($A64+8860000,'Growth Data'!$A:$F,4,0))","v":"NO"},0,null,0,{"$f":"IF(ISERROR(VLOOKUP($A64+8860000,'Growth Data'!$A:$Z,8,0)),0,VLOOKUP($A64+8860000,'Growth Data'!$A:$Z,8,0))","v":0},0,null,0,{"$f":"IF(ISERROR(VLOOKUP($A64+8860000,'Growth Data'!$A:$Z,9,0)),0,VLOOKUP($A64+8860000,'Growth Data'!$A:$Z,9,0))","v":0},0,null,"NO",{"$f":"IF(ISERROR(VLOOKUP($A64+8860000,'Growth Data'!$A:$Z,5,0)),\"NO\",VLOOKUP($A64+8860000,'Growth Data'!$A:$Z,5,0))","v":"NO"},0,null,0,{"$f":"IF(ISERROR(VLOOKUP($A64+8860000,'Growth Data'!$A:$Z,10,0)),0,VLOOKUP($A64+8860000,'Growth Data'!$A:$Z,10,0))","v":0},0,null,0,{"$f":"IF(ISERROR(VLOOKUP($A64+8860000,'Growth Data'!$A:$Z,11,0)),0,VLOOKUP($A64+8860000,'Growth Data'!$A:$Z,11,0))","v":0},0]
[2265,"Hoath Primary School",null,"Hoath Primary School","Hoath Primary School",0,null,241901.92,241901.91723280001,0,null,14902.55,14902.554742325594,0,null,621.25,621.25028493150683,0,null,14554.09,14554.086573472709,0,null,120082.8,120082.8,0,null,0,0,0,null,0,0,0,null,0,0,0,null,14116,14116,0,null,0,0,0,null,0,0,0,null,0,0,0,null,406178.61,406178.60883352981,0,null,0,0,0,null,406178.61,406178.60883352981,0,null,0,null,0,null,406178.61,406178.60883352981,0,null,0,null,0,null,32790.46,null,32790,null,2720.95,null,2721,null,0,null,0,null,0,null,0,null,0,null,0,null,0,null,0,null,0,null,0,null,0,null,0,null,"NO",{"$f":"IF(ISERROR(VLOOKUP($A65+8860000,'Growth Data'!$A:$F,3,0)),\"NO\",VLOOKUP($A65+8860000,'Growth Data'!$A:$F,3,0))","v":"NO"},0,null,0,{"$f":"IF(DI65=\"YES\",IF(ISERROR(VLOOKUP($A65+8860000,'Growth Data'!$A:$F,6,0)),0,VLOOKUP($A65+8860000,'Growth Data'!$A:$F,6,0)),0)","v":0},0,null,0,{"$f":"IF(ISERROR(VLOOKUP($A65+8860000,'Growth Data'!$A:$Z,7,0)),0,VLOOKUP($A65+8860000,'Growth Data'!$A:$Z,7,0))","v":0},0,null,"NO",{"$f":"IF(ISERROR(VLOOKUP($A65+8860000,'Growth Data'!$A:$F,4,0)),\"NO\",VLOOKUP($A65+8860000,'Growth Data'!$A:$F,4,0))","v":"NO"},0,null,0,{"$f":"IF(ISERROR(VLOOKUP($A65+8860000,'Growth Data'!$A:$Z,8,0)),0,VLOOKUP($A65+8860000,'Growth Data'!$A:$Z,8,0))","v":0},0,null,0,{"$f":"IF(ISERROR(VLOOKUP($A65+8860000,'Growth Data'!$A:$Z,9,0)),0,VLOOKUP($A65+8860000,'Growth Data'!$A:$Z,9,0))","v":0},0,null,"NO",{"$f":"IF(ISERROR(VLOOKUP($A65+8860000,'Growth Data'!$A:$Z,5,0)),\"NO\",VLOOKUP($A65+8860000,'Growth Data'!$A:$Z,5,0))","v":"NO"},0,null,0,{"$f":"IF(ISERROR(VLOOKUP($A65+8860000,'Growth Data'!$A:$Z,10,0)),0,VLOOKUP($A65+8860000,'Growth Data'!$A:$Z,10,0))","v":0},0,null,0,{"$f":"IF(ISERROR(VLOOKUP($A65+8860000,'Growth Data'!$A:$Z,11,0)),0,VLOOKUP($A65+8860000,'Growth Data'!$A:$Z,11,0))","v":0},0]
[2268,"Westmeads Community Infant School",null,"Westmeads Community Infant School","Westmeads Community Infant School",{"$f":"IF(E66=D66,0,1)","v":0},null,486552.72,486552.7198887,0,null,17444.03,17444.028080000004,0,null,3898.2,3898.2007243589719,0,null,33595.199999999997,33595.196041492862,0,null,120082.8,120082.8,0,null,0,0,0,null,0,0,0,null,0,0,0,null,19395,19395,0,null,0,0,0,null,0,0,0,null,0,0,0,null,680967.94,680967.94473455194,0,null,0,0,0,null,680967.94,680967.94473455194,0,null,0,null,0,null,680967.94,680967.94473455194,0,null,0,null,{"$f":"ROUND(BX66-BY66,0)","v":0},null,54127.57,null,{"$f":"ROUND(CB66-CC66,0)","v":54128},null,587.24,null,{"$f":"ROUND(CF66-CG66,0)","v":587},null,0,null,{"$f":"ROUND(CJ66-CK66,0)","v":0},null,0,null,{"$f":"ROUND(CN66-CO66,0)","v":0},null,0,null,{"$f":"ROUND(CR66-CS66,0)","v":0},null,0,null,{"$f":"ROUND(CV66-CW66,0)","v":0},null,0,null,{"$f":"ROUND(CZ66-DA66,0)","v":0},null,0,null,{"$f":"ROUND(DD66-DE66,0)","v":0},null,"NO",{"$f":"IF(ISERROR(VLOOKUP($A66+8860000,'Growth Data'!$A:$F,3,0)),\"NO\",VLOOKUP($A66+8860000,'Growth Data'!$A:$F,3,0))","v":"NO"},{"$f":"IF(DH66=DI66,0,1)","v":0},null,0,{"$f":"IF(DI66=\"YES\",IF(ISERROR(VLOOKUP($A66+8860000,'Growth Data'!$A:$F,6,0)),0,VLOOKUP($A66+8860000,'Growth Data'!$A:$F,6,0)),0)","v":0},{"$f":"ROUND(DL66-DM66,0)","v":0},null,0,{"$f":"IF(ISERROR(VLOOKUP($A66+8860000,'Growth Data'!$A:$Z,7,0)),0,VLOOKUP($A66+8860000,'Growth Data'!$A:$Z,7,0))","v":0},{"$f":"IF(DP66=DQ66,0,1)","v":0},null,"NO",{"$f":"IF(ISERROR(VLOOKUP($A66+8860000,'Growth Data'!$A:$F,4,0)),\"NO\",VLOOKUP($A66+8860000,'Growth Data'!$A:$F,4,0))","v":"NO"},{"$f":"IF(DT66=DU66,0,1)","v":0},null,0,{"$f":"IF(ISERROR(VLOOKUP($A66+8860000,'Growth Data'!$A:$Z,8,0)),0,VLOOKUP($A66+8860000,'Growth Data'!$A:$Z,8,0))","v":0},{"$f":"IF(DX66=DY66,0,1)","v":0},null,0,{"$f":"IF(ISERROR(VLOOKUP($A66+8860000,'Growth Data'!$A:$Z,9,0)),0,VLOOKUP($A66+8860000,'Growth Data'!$A:$Z,9,0))","v":0},{"$f":"IF(EB66=EC66,0,1)","v":0},null,"NO",{"$f":"IF(ISERROR(VLOOKUP($A66+8860000,'Growth Data'!$A:$Z,5,0)),\"NO\",VLOOKUP($A66+8860000,'Growth Data'!$A:$Z,5,0))","v":"NO"},{"$f":"IF(EF66=EG66,0,1)","v":0},null,0,{"$f":"IF(ISERROR(VLOOKUP($A66+8860000,'Growth Data'!$A:$Z,10,0)),0,VLOOKUP($A66+8860000,'Growth Data'!$A:$Z,10,0))","v":0},{"$f":"IF(EJ66=EK66,0,1)","v":0},null,0,{"$f":"IF(ISERROR(VLOOKUP($A66+8860000,'Growth Data'!$A:$Z,11,0)),0,VLOOKUP($A66+8860000,'Growth Data'!$A:$Z,11,0))","v":0},{"$f":"IF(EN66=EO66,0,1)","v":0}]
[2269,"Whitstable Junior School",null,"Whitstable Junior School","Whitstable Junior School",0,null,758692.38,758692.37677560002,0,null,57000.79,57000.787709388307,0,null,1546.07,1546.0660499999997,0,null,67519.38,67519.384586593587,0,null,120082.8,120082.8,0,null,0,0,0,null,0,0,0,null,0,0,0,null,18535,18535,0,null,0,0,0,null,0,0,0,null,0,0,0,null,1023376.42,1023376.415121582,0,null,0,0,0,null,1023376.42,1023376.415121582,0,null,0,null,0,null,1023376.42,1023376.415121582,0,null,0,null,0,null,119972.74,null,119973,null,0,null,0,null,0,null,0,null,0,null,0,null,0,null,0,null,0,null,0,null,0,null,0,null,0,null,0,null,"NO",{"$f":"IF(ISERROR(VLOOKUP($A67+8860000,'Growth Data'!$A:$F,3,0)),\"NO\",VLOOKUP($A67+8860000,'Growth Data'!$A:$F,3,0))","v":"NO"},0,null,0,{"$f":"IF(DI67=\"YES\",IF(ISERROR(VLOOKUP($A67+8860000,'Growth Data'!$A:$F,6,0)),0,VLOOKUP($A67+8860000,'Growth Data'!$A:$F,6,0)),0)","v":0},0,null,0,{"$f":"IF(ISERROR(VLOOKUP($A67+8860000,'Growth Data'!$A:$Z,7,0)),0,VLOOKUP($A67+8860000,'Growth Data'!$A:$Z,7,0))","v":0},0,null,"NO",{"$f":"IF(ISERROR(VLOOKUP($A67+8860000,'Growth Data'!$A:$F,4,0)),\"NO\",VLOOKUP($A67+8860000,'Growth Data'!$A:$F,4,0))","v":"NO"},0,null,0,{"$f":"IF(ISERROR(VLOOKUP($A67+8860000,'Growth Data'!$A:$Z,8,0)),0,VLOOKUP($A67+8860000,'Growth Data'!$A:$Z,8,0))","v":0},0,null,0,{"$f":"IF(ISERROR(VLOOKUP($A67+8860000,'Growth Data'!$A:$Z,9,0)),0,VLOOKUP($A67+8860000,'Growth Data'!$A:$Z,9,0))","v":0},0,null,"NO",{"$f":"IF(ISERROR(VLOOKUP($A67+8860000,'Growth Data'!$A:$Z,5,0)),\"NO\",VLOOKUP($A67+8860000,'Growth Data'!$A:$Z,5,0))","v":"NO"},0,null,0,{"$f":"IF(ISERROR(VLOOKUP($A67+8860000,'Growth Data'!$A:$Z,10,0)),0,VLOOKUP($A67+8860000,'Growth Data'!$A:$Z,10,0))","v":0},0,null,0,{"$f":"IF(ISERROR(VLOOKUP($A67+8860000,'Growth Data'!$A:$Z,11,0)),0,VLOOKUP($A67+8860000,'Growth Data'!$A:$Z,11,0))","v":0},0]
[2270,"Aldington Primary School",null,"Aldington Primary School","Aldington Primary School",0,null,541530.43000000005,541530.42835069995,0,null,14073.75,14073.7534550739,0,null,0,0,0,null,31236.32,31236.32291495991,0,null,120082.8,120082.8,0,null,0,0,0,null,0,0,0,null,0,0,0,null,29484,29484,0,null,0,0,0,null,0,0,0,null,0,0,0,null,736407.3,736407.30472073378,0,null,0,0,0,null,736407.3,736407.30472073378,0,null,0,null,0,null,736407.3,736407.30472073378,0,null,0,null,0,null,49783.86,null,49784,null,1021.61,null,1022,null,0,null,0,null,0,null,0,null,0,null,0,null,0,null,0,null,0,null,0,null,0,null,0,null,"NO",{"$f":"IF(ISERROR(VLOOKUP($A68+8860000,'Growth Data'!$A:$F,3,0)),\"NO\",VLOOKUP($A68+8860000,'Growth Data'!$A:$F,3,0))","v":"NO"},0,null,0,{"$f":"IF(DI68=\"YES\",IF(ISERROR(VLOOKUP($A68+8860000,'Growth Data'!$A:$F,6,0)),0,VLOOKUP($A68+8860000,'Growth Data'!$A:$F,6,0)),0)","v":0},0,null,0,{"$f":"IF(ISERROR(VLOOKUP($A68+8860000,'Growth Data'!$A:$Z,7,0)),0,VLOOKUP($A68+8860000,'Growth Data'!$A:$Z,7,0))","v":0},0,null,"NO",{"$f":"IF(ISERROR(VLOOKUP($A68+8860000,'Growth Data'!$A:$F,4,0)),\"NO\",VLOOKUP($A68+8860000,'Growth Data'!$A:$F,4,0))","v":"NO"},0,null,0,{"$f":"IF(ISERROR(VLOOKUP($A68+8860000,'Growth Data'!$A:$Z,8,0)),0,VLOOKUP($A68+8860000,'Growth Data'!$A:$Z,8,0))","v":0},0,null,0,{"$f":"IF(ISERROR(VLOOKUP($A68+8860000,'Growth Data'!$A:$Z,9,0)),0,VLOOKUP($A68+8860000,'Growth Data'!$A:$Z,9,0))","v":0},0,null,"NO",{"$f":"IF(ISERROR(VLOOKUP($A68+8860000,'Growth Data'!$A:$Z,5,0)),\"NO\",VLOOKUP($A68+8860000,'Growth Data'!$A:$Z,5,0))","v":"NO"},0,null,0,{"$f":"IF(ISERROR(VLOOKUP($A68+8860000,'Growth Data'!$A:$Z,10,0)),0,VLOOKUP($A68+8860000,'Growth Data'!$A:$Z,10,0))","v":0},0,null,0,{"$f":"IF(ISERROR(VLOOKUP($A68+8860000,'Growth Data'!$A:$Z,11,0)),0,VLOOKUP($A68+8860000,'Growth Data'!$A:$Z,11,0))","v":0},0]
[2272,"East Stour Primary School",null,"East Stour Primary School","East Stour Primary School",0,null,1140787.45,1140787.4505865001,0,null,142856.5,142856.50302,0,null,19714.5,19714.501447625706,0,null,99395.97,99395.969857282253,0,null,120082.8,120082.8,0,null,0,0,0,null,0,0,0,null,0,0,0,null,52920,52920,0,null,0,0,0,null,0,0,0,null,0,0,0,null,1575757.22,1575757.224911408,0,null,0,0,0,null,1575757.22,1575757.224911408,0,null,0,null,0,null,1575757.22,1575757.224911408,0,null,5.0599999999999996,null,5,null,235619.51,null,235620,null,0,null,0,null,0,null,0,null,0,null,0,null,0,null,0,null,0,null,0,null,0,null,0,null,0,null,0,null,"NO",{"$f":"IF(ISERROR(VLOOKUP($A69+8860000,'Growth Data'!$A:$F,3,0)),\"NO\",VLOOKUP($A69+8860000,'Growth Data'!$A:$F,3,0))","v":"NO"},0,null,0,{"$f":"IF(DI69=\"YES\",IF(ISERROR(VLOOKUP($A69+8860000,'Growth Data'!$A:$F,6,0)),0,VLOOKUP($A69+8860000,'Growth Data'!$A:$F,6,0)),0)","v":0},0,null,0,{"$f":"IF(ISERROR(VLOOKUP($A69+8860000,'Growth Data'!$A:$Z,7,0)),0,VLOOKUP($A69+8860000,'Growth Data'!$A:$Z,7,0))","v":0},0,null,"NO",{"$f":"IF(ISERROR(VLOOKUP($A69+8860000,'Growth Data'!$A:$F,4,0)),\"NO\",VLOOKUP($A69+8860000,'Growth Data'!$A:$F,4,0))","v":"NO"},0,null,0,{"$f":"IF(ISERROR(VLOOKUP($A69+8860000,'Growth Data'!$A:$Z,8,0)),0,VLOOKUP($A69+8860000,'Growth Data'!$A:$Z,8,0))","v":0},0,null,0,{"$f":"IF(ISERROR(VLOOKUP($A69+8860000,'Growth Data'!$A:$Z,9,0)),0,VLOOKUP($A69+8860000,'Growth Data'!$A:$Z,9,0))","v":0},0,null,"NO",{"$f":"IF(ISERROR(VLOOKUP($A69+8860000,'Growth Data'!$A:$Z,5,0)),\"NO\",VLOOKUP($A69+8860000,'Growth Data'!$A:$Z,5,0))","v":"NO"},0,null,0,{"$f":"IF(ISERROR(VLOOKUP($A69+8860000,'Growth Data'!$A:$Z,10,0)),0,VLOOKUP($A69+8860000,'Growth Data'!$A:$Z,10,0))","v":0},0,null,0,{"$f":"IF(ISERROR(VLOOKUP($A69+8860000,'Growth Data'!$A:$Z,11,0)),0,VLOOKUP($A69+8860000,'Growth Data'!$A:$Z,11,0))","v":0},0]
[2275,"Victoria Road Primary School",null,"Victoria Road Primary School","Victoria Road Primary School",0,null,580014.81999999995,580014.82427410001,0,null,61263.24,61263.242490000004,0,null,10813.92,10813.920548618786,0,null,41353.120000000003,41353.121105808452,0,null,120082.8,120082.8,0,null,0,0,0,null,0,0,0,null,0,0,0,null,14853,14853,0,null,0,0,0,null,0,0,0,null,0,0,0,null,828380.91,828380.90841852722,0,null,0,0,0,null,828380.91,828380.90841852722,0,null,0,null,0,null,828380.91,828380.90841852722,0,null,0,null,0,null,107777.09,null,107777,null,0,null,0,null,0,null,0,null,0,null,0,null,0,null,0,null,0,null,0,null,0,null,0,null,0,null,0,null,"NO",{"$f":"IF(ISERROR(VLOOKUP($A70+8860000,'Growth Data'!$A:$F,3,0)),\"NO\",VLOOKUP($A70+8860000,'Growth Data'!$A:$F,3,0))","v":"NO"},0,null,0,{"$f":"IF(DI70=\"YES\",IF(ISERROR(VLOOKUP($A70+8860000,'Growth Data'!$A:$F,6,0)),0,VLOOKUP($A70+8860000,'Growth Data'!$A:$F,6,0)),0)","v":0},0,null,0,{"$f":"IF(ISERROR(VLOOKUP($A70+8860000,'Growth Data'!$A:$Z,7,0)),0,VLOOKUP($A70+8860000,'Growth Data'!$A:$Z,7,0))","v":0},0,null,"NO",{"$f":"IF(ISERROR(VLOOKUP($A70+8860000,'Growth Data'!$A:$F,4,0)),\"NO\",VLOOKUP($A70+8860000,'Growth Data'!$A:$F,4,0))","v":"NO"},0,null,0,{"$f":"IF(ISERROR(VLOOKUP($A70+8860000,'Growth Data'!$A:$Z,8,0)),0,VLOOKUP($A70+8860000,'Growth Data'!$A:$Z,8,0))","v":0},0,null,0,{"$f":"IF(ISERROR(VLOOKUP($A70+8860000,'Growth Data'!$A:$Z,9,0)),0,VLOOKUP($A70+8860000,'Growth Data'!$A:$Z,9,0))","v":0},0,null,"NO",{"$f":"IF(ISERROR(VLOOKUP($A70+8860000,'Growth Data'!$A:$Z,5,0)),\"NO\",VLOOKUP($A70+8860000,'Growth Data'!$A:$Z,5,0))","v":"NO"},0,null,0,{"$f":"IF(ISERROR(VLOOKUP($A70+8860000,'Growth Data'!$A:$Z,10,0)),0,VLOOKUP($A70+8860000,'Growth Data'!$A:$Z,10,0))","v":0},0,null,0,{"$f":"IF(ISERROR(VLOOKUP($A70+8860000,'Growth Data'!$A:$Z,11,0)),0,VLOOKUP($A70+8860000,'Growth Data'!$A:$Z,11,0))","v":0},0]
[2276,"Willesborough Infant School",null,"Willesborough Infant School","Willesborough Infant School",0,null,1008840.95,1008840.9502777,0,null,64449.54,64449.536122402154,0,null,39281.97,39281.9704857693,0,null,57037.48,57037.47501010714,0,null,120082.8,120082.8,0,null,0,0,0,null,0,0,0,null,0,0,0,null,22709,22709,0,null,0,0,0,null,0,0,0,null,0,0,0,null,1312401.73,1312401.7318959783,0,null,0,0,0,null,1312401.73,1312401.7318959783,0,null,0,null,0,null,1312401.73,1312401.7318959783,0,null,0,null,0,null,152914.26999999999,null,152914,null,0,null,0,null,0,null,0,null,0,null,0,null,0,null,0,null,0,null,0,null,0,null,0,null,0,null,0,null,"NO",{"$f":"IF(ISERROR(VLOOKUP($A71+8860000,'Growth Data'!$A:$F,3,0)),\"NO\",VLOOKUP($A71+8860000,'Growth Data'!$A:$F,3,0))","v":"NO"},0,null,0,{"$f":"IF(DI71=\"YES\",IF(ISERROR(VLOOKUP($A71+8860000,'Growth Data'!$A:$F,6,0)),0,VLOOKUP($A71+8860000,'Growth Data'!$A:$F,6,0)),0)","v":0},0,null,0,{"$f":"IF(ISERROR(VLOOKUP($A71+8860000,'Growth Data'!$A:$Z,7,0)),0,VLOOKUP($A71+8860000,'Growth Data'!$A:$Z,7,0))","v":0},0,null,"NO",{"$f":"IF(ISERROR(VLOOKUP($A71+8860000,'Growth Data'!$A:$F,4,0)),\"NO\",VLOOKUP($A71+8860000,'Growth Data'!$A:$F,4,0))","v":"NO"},0,null,0,{"$f":"IF(ISERROR(VLOOKUP($A71+8860000,'Growth Data'!$A:$Z,8,0)),0,VLOOKUP($A71+8860000,'Growth Data'!$A:$Z,8,0))","v":0},0,null,0,{"$f":"IF(ISERROR(VLOOKUP($A71+8860000,'Growth Data'!$A:$Z,9,0)),0,VLOOKUP($A71+8860000,'Growth Data'!$A:$Z,9,0))","v":0},0,null,"NO",{"$f":"IF(ISERROR(VLOOKUP($A71+8860000,'Growth Data'!$A:$Z,5,0)),\"NO\",VLOOKUP($A71+8860000,'Growth Data'!$A:$Z,5,0))","v":"NO"},0,null,0,{"$f":"IF(ISERROR(VLOOKUP($A71+8860000,'Growth Data'!$A:$Z,10,0)),0,VLOOKUP($A71+8860000,'Growth Data'!$A:$Z,10,0))","v":0},0,null,0,{"$f":"IF(ISERROR(VLOOKUP($A71+8860000,'Growth Data'!$A:$Z,11,0)),0,VLOOKUP($A71+8860000,'Growth Data'!$A:$Z,11,0))","v":0},0]
[2278,"Bethersden Primary School",null,"Bethersden Primary School","Bethersden Primary School",0,null,354606.22,354606.21957989997,0,null,22815.09,22815.085885196873,0,null,588.33000000000004,588.32601902654847,0,null,28402.18,28402.175907621462,0,null,120082.8,120082.8,0,null,6947.38,6947.3805073431267,0,null,0,0,0,null,0,0,0,null,10802,10802,0,null,0,0,0,null,0,0,0,null,0,0,0,null,544243.99,544243.98789908795,0,null,0,0,0,null,544243.99,544243.98789908795,0,null,0,null,0,null,544243.99,544243.98789908795,0,null,0,null,0,null,48353.91,null,48354,null,1164.6099999999999,null,1165,null,0,null,0,null,0,null,0,null,0,null,0,null,0,null,0,null,0,null,0,null,0,null,0,null,"NO",{"$f":"IF(ISERROR(VLOOKUP($A72+8860000,'Growth Data'!$A:$F,3,0)),\"NO\",VLOOKUP($A72+8860000,'Growth Data'!$A:$F,3,0))","v":"NO"},0,null,0,{"$f":"IF(DI72=\"YES\",IF(ISERROR(VLOOKUP($A72+8860000,'Growth Data'!$A:$F,6,0)),0,VLOOKUP($A72+8860000,'Growth Data'!$A:$F,6,0)),0)","v":0},0,null,0,{"$f":"IF(ISERROR(VLOOKUP($A72+8860000,'Growth Data'!$A:$Z,7,0)),0,VLOOKUP($A72+8860000,'Growth Data'!$A:$Z,7,0))","v":0},0,null,"NO",{"$f":"IF(ISERROR(VLOOKUP($A72+8860000,'Growth Data'!$A:$F,4,0)),\"NO\",VLOOKUP($A72+8860000,'Growth Data'!$A:$F,4,0))","v":"NO"},0,null,0,{"$f":"IF(ISERROR(VLOOKUP($A72+8860000,'Growth Data'!$A:$Z,8,0)),0,VLOOKUP($A72+8860000,'Growth Data'!$A:$Z,8,0))","v":0},0,null,0,{"$f":"IF(ISERROR(VLOOKUP($A72+8860000,'Growth Data'!$A:$Z,9,0)),0,VLOOKUP($A72+8860000,'Growth Data'!$A:$Z,9,0))","v":0},0,null,"NO",{"$f":"IF(ISERROR(VLOOKUP($A72+8860000,'Growth Data'!$A:$Z,5,0)),\"NO\",VLOOKUP($A72+8860000,'Growth Data'!$A:$Z,5,0))","v":"NO"},0,null,0,{"$f":"IF(ISERROR(VLOOKUP($A72+8860000,'Growth Data'!$A:$Z,10,0)),0,VLOOKUP($A72+8860000,'Growth Data'!$A:$Z,10,0))","v":0},0,null,0,{"$f":"IF(ISERROR(VLOOKUP($A72+8860000,'Growth Data'!$A:$Z,11,0)),0,VLOOKUP($A72+8860000,'Growth Data'!$A:$Z,11,0))","v":0},0]
[2279,"Brook Community Primary School",null,"Brook Community Primary School","Brook Community Primary School",0,null,266641.89,266641.88604070002,0,null,16466.95,16466.954364000001,0,null,2940.56,2940.5569970588235,0,null,14792.5,14792.502100281405,0,null,120082.8,120082.8,0,null,0,0,0,null,0,0,0,null,0,0,0,null,8470,8470,0,null,0,0,0,null,0,0,0,null,0,0,0,null,429394.7,429394.69950204022,0,null,0,0,0,null,429394.7,429394.69950204022,0,null,0,null,0,null,429394.7,429394.69950204022,0,null,0,null,0,null,35591.67,null,35592,null,2440.83,null,2441,null,0,null,0,null,0,null,0,null,0,null,0,null,0,null,0,null,0,null,0,null,0,null,0,null,"NO",{"$f":"IF(ISERROR(VLOOKUP($A73+8860000,'Growth Data'!$A:$F,3,0)),\"NO\",VLOOKUP($A73+8860000,'Growth Data'!$A:$F,3,0))","v":"NO"},0,null,0,{"$f":"IF(DI73=\"YES\",IF(ISERROR(VLOOKUP($A73+8860000,'Growth Data'!$A:$F,6,0)),0,VLOOKUP($A73+8860000,'Growth Data'!$A:$F,6,0)),0)","v":0},0,null,0,{"$f":"IF(ISERROR(VLOOKUP($A73+8860000,'Growth Data'!$A:$Z,7,0)),0,VLOOKUP($A73+8860000,'Growth Data'!$A:$Z,7,0))","v":0},0,null,"NO",{"$f":"IF(ISERROR(VLOOKUP($A73+8860000,'Growth Data'!$A:$F,4,0)),\"NO\",VLOOKUP($A73+8860000,'Growth Data'!$A:$F,4,0))","v":"NO"},0,null,0,{"$f":"IF(ISERROR(VLOOKUP($A73+8860000,'Growth Data'!$A:$Z,8,0)),0,VLOOKUP($A73+8860000,'Growth Data'!$A:$Z,8,0))","v":0},0,null,0,{"$f":"IF(ISERROR(VLOOKUP($A73+8860000,'Growth Data'!$A:$Z,9,0)),0,VLOOKUP($A73+8860000,'Growth Data'!$A:$Z,9,0))","v":0},0,null,"NO",{"$f":"IF(ISERROR(VLOOKUP($A73+8860000,'Growth Data'!$A:$Z,5,0)),\"NO\",VLOOKUP($A73+8860000,'Growth Data'!$A:$Z,5,0))","v":"NO"},0,null,0,{"$f":"IF(ISERROR(VLOOKUP($A73+8860000,'Growth Data'!$A:$Z,10,0)),0,VLOOKUP($A73+8860000,'Growth Data'!$A:$Z,10,0))","v":0},0,null,0,{"$f":"IF(ISERROR(VLOOKUP($A73+8860000,'Growth Data'!$A:$Z,11,0)),0,VLOOKUP($A73+8860000,'Growth Data'!$A:$Z,11,0))","v":0},0]
[2280,"Challock Primary School",null,"Challock Primary School","Challock Primary School",0,null,582763.71,582763.70969719999,0,null,8426.7000000000007,8426.7014100473989,0,null,1800.91,1800.9121021978042,0,null,39114.339999999997,39114.338654123407,0,null,120082.8,120082.8,0,null,0,0,0,null,0,0,0,null,0,0,0,null,19395,19395,0,null,0,0,0,null,0,0,0,null,0,0,0,null,771583.46,771583.46186356852,0,null,0,0,0,null,771583.46,771583.46186356852,0,null,0,null,0,null,771583.46,771583.46186356852,0,null,0,null,0,null,53375.43,null,53375,null,662.46,null,662,null,0,null,0,null,0,null,0,null,0,null,0,null,0,null,0,null,0,null,0,null,0,null,0,null,"NO",{"$f":"IF(ISERROR(VLOOKUP($A74+8860000,'Growth Data'!$A:$F,3,0)),\"NO\",VLOOKUP($A74+8860000,'Growth Data'!$A:$F,3,0))","v":"NO"},0,null,0,{"$f":"IF(DI74=\"YES\",IF(ISERROR(VLOOKUP($A74+8860000,'Growth Data'!$A:$F,6,0)),0,VLOOKUP($A74+8860000,'Growth Data'!$A:$F,6,0)),0)","v":0},0,null,0,{"$f":"IF(ISERROR(VLOOKUP($A74+8860000,'Growth Data'!$A:$Z,7,0)),0,VLOOKUP($A74+8860000,'Growth Data'!$A:$Z,7,0))","v":0},0,null,"NO",{"$f":"IF(ISERROR(VLOOKUP($A74+8860000,'Growth Data'!$A:$F,4,0)),\"NO\",VLOOKUP($A74+8860000,'Growth Data'!$A:$F,4,0))","v":"NO"},0,null,0,{"$f":"IF(ISERROR(VLOOKUP($A74+8860000,'Growth Data'!$A:$Z,8,0)),0,VLOOKUP($A74+8860000,'Growth Data'!$A:$Z,8,0))","v":0},0,null,0,{"$f":"IF(ISERROR(VLOOKUP($A74+8860000,'Growth Data'!$A:$Z,9,0)),0,VLOOKUP($A74+8860000,'Growth Data'!$A:$Z,9,0))","v":0},0,null,"NO",{"$f":"IF(ISERROR(VLOOKUP($A74+8860000,'Growth Data'!$A:$Z,5,0)),\"NO\",VLOOKUP($A74+8860000,'Growth Data'!$A:$Z,5,0))","v":"NO"},0,null,0,{"$f":"IF(ISERROR(VLOOKUP($A74+8860000,'Growth Data'!$A:$Z,10,0)),0,VLOOKUP($A74+8860000,'Growth Data'!$A:$Z,10,0))","v":0},0,null,0,{"$f":"IF(ISERROR(VLOOKUP($A74+8860000,'Growth Data'!$A:$Z,11,0)),0,VLOOKUP($A74+8860000,'Growth Data'!$A:$Z,11,0))","v":0},0]
[2282,"Great Chart Primary School",null,"Great Chart Primary School","Great Chart Primary School",0,null,1327711.6599999999,1327711.6593573,0,null,70745.17,70745.167201205812,0,null,18242.12,18242.1173890071,0,null,62604.49,62604.489049860575,0,null,120082.8,120082.8,0,null,0,0,0,null,0,0,0,null,0,0,0,null,38052,38052,0,null,0,0,0,null,0,0,0,null,42813.77,42813.767002626555,0,null,1680252,1680252,0,null,0,0,0,null,1680252,1680252,0,null,0,null,0,null,1680252,1680252,0,null,0,null,0,null,137132.5,null,137133,null,0,null,0,null,0,null,0,null,0,null,0,null,0,null,0,null,0,null,0,null,0,null,0,null,0,null,0,null,"NO",{"$f":"IF(ISERROR(VLOOKUP($A75+8860000,'Growth Data'!$A:$F,3,0)),\"NO\",VLOOKUP($A75+8860000,'Growth Data'!$A:$F,3,0))","v":"NO"},0,null,0,{"$f":"IF(DI75=\"YES\",IF(ISERROR(VLOOKUP($A75+8860000,'Growth Data'!$A:$F,6,0)),0,VLOOKUP($A75+8860000,'Growth Data'!$A:$F,6,0)),0)","v":0},0,null,0,{"$f":"IF(ISERROR(VLOOKUP($A75+8860000,'Growth Data'!$A:$Z,7,0)),0,VLOOKUP($A75+8860000,'Growth Data'!$A:$Z,7,0))","v":0},0,null,"NO",{"$f":"IF(ISERROR(VLOOKUP($A75+8860000,'Growth Data'!$A:$F,4,0)),\"NO\",VLOOKUP($A75+8860000,'Growth Data'!$A:$F,4,0))","v":"NO"},0,null,0,{"$f":"IF(ISERROR(VLOOKUP($A75+8860000,'Growth Data'!$A:$Z,8,0)),0,VLOOKUP($A75+8860000,'Growth Data'!$A:$Z,8,0))","v":0},0,null,0,{"$f":"IF(ISERROR(VLOOKUP($A75+8860000,'Growth Data'!$A:$Z,9,0)),0,VLOOKUP($A75+8860000,'Growth Data'!$A:$Z,9,0))","v":0},0,null,"NO",{"$f":"IF(ISERROR(VLOOKUP($A75+8860000,'Growth Data'!$A:$Z,5,0)),\"NO\",VLOOKUP($A75+8860000,'Growth Data'!$A:$Z,5,0))","v":"NO"},0,null,0,{"$f":"IF(ISERROR(VLOOKUP($A75+8860000,'Growth Data'!$A:$Z,10,0)),0,VLOOKUP($A75+8860000,'Growth Data'!$A:$Z,10,0))","v":0},0,null,0,{"$f":"IF(ISERROR(VLOOKUP($A75+8860000,'Growth Data'!$A:$Z,11,0)),0,VLOOKUP($A75+8860000,'Growth Data'!$A:$Z,11,0))","v":0},0]
[2285,"Mersham Primary School",null,"Mersham Primary School","Mersham Primary School",0,null,538781.54,538781.54292759998,0,null,21326.91,21326.912319310344,0,null,1174.53,1174.53079767442,0,null,28595.82,28595.82107818811,0,null,120082.8,120082.8,0,null,0,0,0,null,0,0,0,null,0,0,0,null,7105,7105,0,null,0,0,0,null,0,0,0,null,0,0,0,null,717066.61,717066.60712277296,0,null,0,0,0,null,717066.61,717066.60712277296,0,null,0,null,0,null,717066.61,717066.60712277296,0,null,0,null,0,null,53809.84,null,53810,null,619.02,null,619,null,0,null,0,null,0,null,0,null,0,null,0,null,0,null,0,null,0,null,0,null,0,null,0,null,"NO",{"$f":"IF(ISERROR(VLOOKUP($A76+8860000,'Growth Data'!$A:$F,3,0)),\"NO\",VLOOKUP($A76+8860000,'Growth Data'!$A:$F,3,0))","v":"NO"},0,null,0,{"$f":"IF(DI76=\"YES\",IF(ISERROR(VLOOKUP($A76+8860000,'Growth Data'!$A:$F,6,0)),0,VLOOKUP($A76+8860000,'Growth Data'!$A:$F,6,0)),0)","v":0},0,null,0,{"$f":"IF(ISERROR(VLOOKUP($A76+8860000,'Growth Data'!$A:$Z,7,0)),0,VLOOKUP($A76+8860000,'Growth Data'!$A:$Z,7,0))","v":0},0,null,"NO",{"$f":"IF(ISERROR(VLOOKUP($A76+8860000,'Growth Data'!$A:$F,4,0)),\"NO\",VLOOKUP($A76+8860000,'Growth Data'!$A:$F,4,0))","v":"NO"},0,null,0,{"$f":"IF(ISERROR(VLOOKUP($A76+8860000,'Growth Data'!$A:$Z,8,0)),0,VLOOKUP($A76+8860000,'Growth Data'!$A:$Z,8,0))","v":0},0,null,0,{"$f":"IF(ISERROR(VLOOKUP($A76+8860000,'Growth Data'!$A:$Z,9,0)),0,VLOOKUP($A76+8860000,'Growth Data'!$A:$Z,9,0))","v":0},0,null,"NO",{"$f":"IF(ISERROR(VLOOKUP($A76+8860000,'Growth Data'!$A:$Z,5,0)),\"NO\",VLOOKUP($A76+8860000,'Growth Data'!$A:$Z,5,0))","v":"NO"},0,null,0,{"$f":"IF(ISERROR(VLOOKUP($A76+8860000,'Growth Data'!$A:$Z,10,0)),0,VLOOKUP($A76+8860000,'Growth Data'!$A:$Z,10,0))","v":0},0,null,0,{"$f":"IF(ISERROR(VLOOKUP($A76+8860000,'Growth Data'!$A:$Z,11,0)),0,VLOOKUP($A76+8860000,'Growth Data'!$A:$Z,11,0))","v":0},0]
[2287,"Rolvenden Primary School",null,"Rolvenden Primary School","Rolvenden Primary School",0,null,285884.08,285884.08400239999,0,null,21343.84,21343.841024694459,0,null,1766.93,1766.9326285714308,0,null,25442.09,25442.086945672945,0,null,120082.8,120082.8,0,null,15297.6,15297.597463284379,0,null,0,0,0,null,0,0,0,null,11552,11552,0,null,0,0,0,null,0,0,0,null,0,0,0,null,481369.34,481369.34206462314,0,null,0,0,0,null,481369.34,481369.34206462314,0,null,0,null,0,null,481369.34,481369.34206462314,0,null,0,null,0,null,51265.43,null,51265,null,873.46,null,873,null,0,null,0,null,0,null,0,null,0,null,0,null,0,null,0,null,0,null,0,null,0,null,0,null,"NO",{"$f":"IF(ISERROR(VLOOKUP($A77+8860000,'Growth Data'!$A:$F,3,0)),\"NO\",VLOOKUP($A77+8860000,'Growth Data'!$A:$F,3,0))","v":"NO"},0,null,0,{"$f":"IF(DI77=\"YES\",IF(ISERROR(VLOOKUP($A77+8860000,'Growth Data'!$A:$F,6,0)),0,VLOOKUP($A77+8860000,'Growth Data'!$A:$F,6,0)),0)","v":0},0,null,0,{"$f":"IF(ISERROR(VLOOKUP($A77+8860000,'Growth Data'!$A:$Z,7,0)),0,VLOOKUP($A77+8860000,'Growth Data'!$A:$Z,7,0))","v":0},0,null,"NO",{"$f":"IF(ISERROR(VLOOKUP($A77+8860000,'Growth Data'!$A:$F,4,0)),\"NO\",VLOOKUP($A77+8860000,'Growth Data'!$A:$F,4,0))","v":"NO"},0,null,0,{"$f":"IF(ISERROR(VLOOKUP($A77+8860000,'Growth Data'!$A:$Z,8,0)),0,VLOOKUP($A77+8860000,'Growth Data'!$A:$Z,8,0))","v":0},0,null,0,{"$f":"IF(ISERROR(VLOOKUP($A77+8860000,'Growth Data'!$A:$Z,9,0)),0,VLOOKUP($A77+8860000,'Growth Data'!$A:$Z,9,0))","v":0},0,null,"NO",{"$f":"IF(ISERROR(VLOOKUP($A77+8860000,'Growth Data'!$A:$Z,5,0)),\"NO\",VLOOKUP($A77+8860000,'Growth Data'!$A:$Z,5,0))","v":"NO"},0,null,0,{"$f":"IF(ISERROR(VLOOKUP($A77+8860000,'Growth Data'!$A:$Z,10,0)),0,VLOOKUP($A77+8860000,'Growth Data'!$A:$Z,10,0))","v":0},0,null,0,{"$f":"IF(ISERROR(VLOOKUP($A77+8860000,'Growth Data'!$A:$Z,11,0)),0,VLOOKUP($A77+8860000,'Growth Data'!$A:$Z,11,0))","v":0},0]
[2289,"Smeeth Community Primary School",null,"Smeeth Community Primary School","Smeeth Community Primary School",0,null,362852.88,362852.87584920001,0,null,9588.9,9588.8974914285718,0,null,0,0,0,null,26813.79,26813.79286959831,0,null,120082.8,120082.8,0,null,0,0,0,null,0,0,0,null,0,0,0,null,14607,14607,0,null,0,0,0,null,0,0,0,null,0,0,0,null,533945.37,533945.3662102269,0,null,0,0,0,null,533945.37,533945.3662102269,0,null,0,null,0,null,533945.37,533945.3662102269,0,null,0,null,0,null,41316.78,null,41317,null,1868.32,null,1868,null,0,null,0,null,0,null,0,null,0,null,0,null,0,null,0,null,0,null,0,null,0,null,0,null,"NO",{"$f":"IF(ISERROR(VLOOKUP($A78+8860000,'Growth Data'!$A:$F,3,0)),\"NO\",VLOOKUP($A78+8860000,'Growth Data'!$A:$F,3,0))","v":"NO"},0,null,0,{"$f":"IF(DI78=\"YES\",IF(ISERROR(VLOOKUP($A78+8860000,'Growth Data'!$A:$F,6,0)),0,VLOOKUP($A78+8860000,'Growth Data'!$A:$F,6,0)),0)","v":0},0,null,0,{"$f":"IF(ISERROR(VLOOKUP($A78+8860000,'Growth Data'!$A:$Z,7,0)),0,VLOOKUP($A78+8860000,'Growth Data'!$A:$Z,7,0))","v":0},0,null,"NO",{"$f":"IF(ISERROR(VLOOKUP($A78+8860000,'Growth Data'!$A:$F,4,0)),\"NO\",VLOOKUP($A78+8860000,'Growth Data'!$A:$F,4,0))","v":"NO"},0,null,0,{"$f":"IF(ISERROR(VLOOKUP($A78+8860000,'Growth Data'!$A:$Z,8,0)),0,VLOOKUP($A78+8860000,'Growth Data'!$A:$Z,8,0))","v":0},0,null,0,{"$f":"IF(ISERROR(VLOOKUP($A78+8860000,'Growth Data'!$A:$Z,9,0)),0,VLOOKUP($A78+8860000,'Growth Data'!$A:$Z,9,0))","v":0},0,null,"NO",{"$f":"IF(ISERROR(VLOOKUP($A78+8860000,'Growth Data'!$A:$Z,5,0)),\"NO\",VLOOKUP($A78+8860000,'Growth Data'!$A:$Z,5,0))","v":"NO"},0,null,0,{"$f":"IF(ISERROR(VLOOKUP($A78+8860000,'Growth Data'!$A:$Z,10,0)),0,VLOOKUP($A78+8860000,'Growth Data'!$A:$Z,10,0))","v":0},0,null,0,{"$f":"IF(ISERROR(VLOOKUP($A78+8860000,'Growth Data'!$A:$Z,11,0)),0,VLOOKUP($A78+8860000,'Growth Data'!$A:$Z,11,0))","v":0},0]
[2296,"Mundella Primary School",null,"Mundella Primary School","Mundella Primary School",0,null,569019.28,569019.28258170001,0,null,146266.16,146266.1607516497,0,null,10245.959999999999,10245.963144915257,0,null,59079.46,59079.461513269474,0,null,120082.8,120082.8,0,null,0,0,0,null,0,0,0,null,0,0,0,null,16744,16744,0,null,0,0,0,null,0,0,0,null,0,0,0,null,921437.67,921437.66799153446,0,null,0,0,0,null,921437.67,921437.66799153446,0,null,0,null,0,null,921437.67,921437.66799153446,0,null,0,null,0,null,191445.64,null,191446,null,0,null,0,null,0,null,0,null,0,null,0,null,0,null,0,null,0,null,0,null,0,null,0,null,0,null,0,null,"NO",{"$f":"IF(ISERROR(VLOOKUP($A79+8860000,'Growth Data'!$A:$F,3,0)),\"NO\",VLOOKUP($A79+8860000,'Growth Data'!$A:$F,3,0))","v":"NO"},0,null,0,{"$f":"IF(DI79=\"YES\",IF(ISERROR(VLOOKUP($A79+8860000,'Growth Data'!$A:$F,6,0)),0,VLOOKUP($A79+8860000,'Growth Data'!$A:$F,6,0)),0)","v":0},0,null,0,{"$f":"IF(ISERROR(VLOOKUP($A79+8860000,'Growth Data'!$A:$Z,7,0)),0,VLOOKUP($A79+8860000,'Growth Data'!$A:$Z,7,0))","v":0},0,null,"NO",{"$f":"IF(ISERROR(VLOOKUP($A79+8860000,'Growth Data'!$A:$F,4,0)),\"NO\",VLOOKUP($A79+8860000,'Growth Data'!$A:$F,4,0))","v":"NO"},0,null,0,{"$f":"IF(ISERROR(VLOOKUP($A79+8860000,'Growth Data'!$A:$Z,8,0)),0,VLOOKUP($A79+8860000,'Growth Data'!$A:$Z,8,0))","v":0},0,null,0,{"$f":"IF(ISERROR(VLOOKUP($A79+8860000,'Growth Data'!$A:$Z,9,0)),0,VLOOKUP($A79+8860000,'Growth Data'!$A:$Z,9,0))","v":0},0,null,"NO",{"$f":"IF(ISERROR(VLOOKUP($A79+8860000,'Growth Data'!$A:$Z,5,0)),\"NO\",VLOOKUP($A79+8860000,'Growth Data'!$A:$Z,5,0))","v":"NO"},0,null,0,{"$f":"IF(ISERROR(VLOOKUP($A79+8860000,'Growth Data'!$A:$Z,10,0)),0,VLOOKUP($A79+8860000,'Growth Data'!$A:$Z,10,0))","v":0},0,null,0,{"$f":"IF(ISERROR(VLOOKUP($A79+8860000,'Growth Data'!$A:$Z,11,0)),0,VLOOKUP($A79+8860000,'Growth Data'!$A:$Z,11,0))","v":0},0]
[2298,"Hawkinge Primary School",null,"Hawkinge Primary School","Hawkinge Primary School",0,null,1050074.23,1050074.2316242,0,null,82822.320000000007,82822.321702500078,0,null,6622.4,6622.3950480122221,0,null,88486.17,88486.17174320505,0,null,120082.8,120082.8,0,null,0,0,0,null,0,0,0,null,0,0,0,null,8114,8114,0,null,0,0,0,null,0,0,0,null,0,0,0,null,1356201.92,1356201.9201179175,0,null,0,0,0,null,1356201.92,1356201.9201179175,0,null,0,null,0,null,1356201.92,1356201.9201179175,0,null,0,null,0,null,163911.92000000001,null,163912,null,0,null,0,null,0,null,0,null,0,null,0,null,0,null,0,null,0,null,0,null,0,null,0,null,0,null,0,null,"YES",{"$f":"IF(ISERROR(VLOOKUP($A80+8860000,'Growth Data'!$A:$F,3,0)),\"NO\",VLOOKUP($A80+8860000,'Growth Data'!$A:$F,3,0))","v":"YES"},0,null,45,{"$f":"IF(DI80=\"YES\",IF(ISERROR(VLOOKUP($A80+8860000,'Growth Data'!$A:$F,6,0)),0,VLOOKUP($A80+8860000,'Growth Data'!$A:$F,6,0)),0)","v":47},-2,null,60,{"$f":"IF(ISERROR(VLOOKUP($A80+8860000,'Growth Data'!$A:$Z,7,0)),0,VLOOKUP($A80+8860000,'Growth Data'!$A:$Z,7,0))","v":60},0,null,"NO",{"$f":"IF(ISERROR(VLOOKUP($A80+8860000,'Growth Data'!$A:$F,4,0)),\"NO\",VLOOKUP($A80+8860000,'Growth Data'!$A:$F,4,0))","v":"NO"},0,null,0,{"$f":"IF(ISERROR(VLOOKUP($A80+8860000,'Growth Data'!$A:$Z,8,0)),0,VLOOKUP($A80+8860000,'Growth Data'!$A:$Z,8,0))","v":0},0,null,0,{"$f":"IF(ISERROR(VLOOKUP($A80+8860000,'Growth Data'!$A:$Z,9,0)),0,VLOOKUP($A80+8860000,'Growth Data'!$A:$Z,9,0))","v":0},0,null,"NO",{"$f":"IF(ISERROR(VLOOKUP($A80+8860000,'Growth Data'!$A:$Z,5,0)),\"NO\",VLOOKUP($A80+8860000,'Growth Data'!$A:$Z,5,0))","v":"NO"},0,null,0,{"$f":"IF(ISERROR(VLOOKUP($A80+8860000,'Growth Data'!$A:$Z,10,0)),0,VLOOKUP($A80+8860000,'Growth Data'!$A:$Z,10,0))","v":0},0,null,0,{"$f":"IF(ISERROR(VLOOKUP($A80+8860000,'Growth Data'!$A:$Z,11,0)),0,VLOOKUP($A80+8860000,'Growth Data'!$A:$Z,11,0))","v":0},0]
[2300,"Sellindge Primary School",null,"Sellindge Primary School","Sellindge Primary School",0,null,283135.2,283135.19857930002,0,null,5231.6099999999997,5231.6073200000001,0,null,0,0,0,null,20384.46,20384.455141433777,0,null,120082.8,120082.8,0,null,0,0,0,null,0,0,0,null,0,0,0,null,16940,16940,0,null,0,0,0,null,0,0,0,null,0,0,0,null,445774.06,445774.06104073377,0,null,0,0,0,null,445774.06,445774.06104073377,0,null,0,null,0,null,445774.06,445774.06104073377,0,null,0,null,0,null,30530.15,null,30530,null,2946.98,null,2947,null,0,null,0,null,0,null,0,null,0,null,0,null,0,null,0,null,0,null,0,null,0,null,0,null,"NO",{"$f":"IF(ISERROR(VLOOKUP($A81+8860000,'Growth Data'!$A:$F,3,0)),\"NO\",VLOOKUP($A81+8860000,'Growth Data'!$A:$F,3,0))","v":"NO"},0,null,0,{"$f":"IF(DI81=\"YES\",IF(ISERROR(VLOOKUP($A81+8860000,'Growth Data'!$A:$F,6,0)),0,VLOOKUP($A81+8860000,'Growth Data'!$A:$F,6,0)),0)","v":0},0,null,0,{"$f":"IF(ISERROR(VLOOKUP($A81+8860000,'Growth Data'!$A:$Z,7,0)),0,VLOOKUP($A81+8860000,'Growth Data'!$A:$Z,7,0))","v":0},0,null,"NO",{"$f":"IF(ISERROR(VLOOKUP($A81+8860000,'Growth Data'!$A:$F,4,0)),\"NO\",VLOOKUP($A81+8860000,'Growth Data'!$A:$F,4,0))","v":"NO"},0,null,0,{"$f":"IF(ISERROR(VLOOKUP($A81+8860000,'Growth Data'!$A:$Z,8,0)),0,VLOOKUP($A81+8860000,'Growth Data'!$A:$Z,8,0))","v":0},0,null,0,{"$f":"IF(ISERROR(VLOOKUP($A81+8860000,'Growth Data'!$A:$Z,9,0)),0,VLOOKUP($A81+8860000,'Growth Data'!$A:$Z,9,0))","v":0},0,null,"NO",{"$f":"IF(ISERROR(VLOOKUP($A81+8860000,'Growth Data'!$A:$Z,5,0)),\"NO\",VLOOKUP($A81+8860000,'Growth Data'!$A:$Z,5,0))","v":"NO"},0,null,0,{"$f":"IF(ISERROR(VLOOKUP($A81+8860000,'Growth Data'!$A:$Z,10,0)),0,VLOOKUP($A81+8860000,'Growth Data'!$A:$Z,10,0))","v":0},0,null,0,{"$f":"IF(ISERROR(VLOOKUP($A81+8860000,'Growth Data'!$A:$Z,11,0)),0,VLOOKUP($A81+8860000,'Growth Data'!$A:$Z,11,0))","v":0},0]
[2312,"River Primary School",null,"River Primary School","River Primary School",0,null,1171025.19,1171025.1902405999,0,null,93486.81,93486.80842328092,0,null,3599.04,3599.0390016393403,0,null,77515.070000000007,77515.067823991034,0,null,120082.8,120082.8,0,null,0,0,0,null,0,0,0,null,0,0,0,null,40320,40320,0,null,0,0,0,null,0,0,0,null,0,0,0,null,1506028.91,1506028.9054895111,0,null,0,0,0,null,1506028.91,1506028.9054895111,0,null,0,null,0,null,1506028.91,1506028.9054895111,0,null,0,null,0,null,164544.68,null,164545,null,0,null,0,null,12000,null,12000,null,72000,null,72000,null,262.76,null,263,null,262.76,null,263,null,262.76,null,263,null,262.76,null,263,null,"NO",{"$f":"IF(ISERROR(VLOOKUP($A82+8860000,'Growth Data'!$A:$F,3,0)),\"NO\",VLOOKUP($A82+8860000,'Growth Data'!$A:$F,3,0))","v":"NO"},0,null,0,{"$f":"IF(DI82=\"YES\",IF(ISERROR(VLOOKUP($A82+8860000,'Growth Data'!$A:$F,6,0)),0,VLOOKUP($A82+8860000,'Growth Data'!$A:$F,6,0)),0)","v":0},0,null,0,{"$f":"IF(ISERROR(VLOOKUP($A82+8860000,'Growth Data'!$A:$Z,7,0)),0,VLOOKUP($A82+8860000,'Growth Data'!$A:$Z,7,0))","v":0},0,null,"NO",{"$f":"IF(ISERROR(VLOOKUP($A82+8860000,'Growth Data'!$A:$F,4,0)),\"NO\",VLOOKUP($A82+8860000,'Growth Data'!$A:$F,4,0))","v":"NO"},0,null,0,{"$f":"IF(ISERROR(VLOOKUP($A82+8860000,'Growth Data'!$A:$Z,8,0)),0,VLOOKUP($A82+8860000,'Growth Data'!$A:$Z,8,0))","v":0},0,null,0,{"$f":"IF(ISERROR(VLOOKUP($A82+8860000,'Growth Data'!$A:$Z,9,0)),0,VLOOKUP($A82+8860000,'Growth Data'!$A:$Z,9,0))","v":0},0,null,"NO",{"$f":"IF(ISERROR(VLOOKUP($A82+8860000,'Growth Data'!$A:$Z,5,0)),\"NO\",VLOOKUP($A82+8860000,'Growth Data'!$A:$Z,5,0))","v":"NO"},0,null,0,{"$f":"IF(ISERROR(VLOOKUP($A82+8860000,'Growth Data'!$A:$Z,10,0)),0,VLOOKUP($A82+8860000,'Growth Data'!$A:$Z,10,0))","v":0},0,null,0,{"$f":"IF(ISERROR(VLOOKUP($A82+8860000,'Growth Data'!$A:$Z,11,0)),0,VLOOKUP($A82+8860000,'Growth Data'!$A:$Z,11,0))","v":0},0]
[2318,"Langdon Primary School",null,"Langdon Primary School","Langdon Primary School",0,null,230906.38,230906.37554040001,0,null,16131.12,16131.122799999996,0,null,3136.95,3136.9456086956511,0,null,14945,14945.002121933749,0,null,120082.8,120082.8,0,null,0,0,0,null,0,0,0,null,0,0,0,null,4910,4910,0,null,0,0,0,null,0,0,0,null,0,0,0,null,390112.25,390112.2460710294,0,null,0,0,0,null,390112.25,390112.2460710294,0,null,0,null,0,null,390112.25,390112.2460710294,0,null,0,null,0,null,36045.03,null,36045,null,2395.5,null,2396,null,0,null,0,null,0,null,0,null,0,null,0,null,0,null,0,null,0,null,0,null,0,null,0,null,"NO",{"$f":"IF(ISERROR(VLOOKUP($A83+8860000,'Growth Data'!$A:$F,3,0)),\"NO\",VLOOKUP($A83+8860000,'Growth Data'!$A:$F,3,0))","v":"NO"},0,null,0,{"$f":"IF(DI83=\"YES\",IF(ISERROR(VLOOKUP($A83+8860000,'Growth Data'!$A:$F,6,0)),0,VLOOKUP($A83+8860000,'Growth Data'!$A:$F,6,0)),0)","v":0},0,null,0,{"$f":"IF(ISERROR(VLOOKUP($A83+8860000,'Growth Data'!$A:$Z,7,0)),0,VLOOKUP($A83+8860000,'Growth Data'!$A:$Z,7,0))","v":0},0,null,"NO",{"$f":"IF(ISERROR(VLOOKUP($A83+8860000,'Growth Data'!$A:$F,4,0)),\"NO\",VLOOKUP($A83+8860000,'Growth Data'!$A:$F,4,0))","v":"NO"},0,null,0,{"$f":"IF(ISERROR(VLOOKUP($A83+8860000,'Growth Data'!$A:$Z,8,0)),0,VLOOKUP($A83+8860000,'Growth Data'!$A:$Z,8,0))","v":0},0,null,0,{"$f":"IF(ISERROR(VLOOKUP($A83+8860000,'Growth Data'!$A:$Z,9,0)),0,VLOOKUP($A83+8860000,'Growth Data'!$A:$Z,9,0))","v":0},0,null,"NO",{"$f":"IF(ISERROR(VLOOKUP($A83+8860000,'Growth Data'!$A:$Z,5,0)),\"NO\",VLOOKUP($A83+8860000,'Growth Data'!$A:$Z,5,0))","v":"NO"},0,null,0,{"$f":"IF(ISERROR(VLOOKUP($A83+8860000,'Growth Data'!$A:$Z,10,0)),0,VLOOKUP($A83+8860000,'Growth Data'!$A:$Z,10,0))","v":0},0,null,0,{"$f":"IF(ISERROR(VLOOKUP($A83+8860000,'Growth Data'!$A:$Z,11,0)),0,VLOOKUP($A83+8860000,'Growth Data'!$A:$Z,11,0))","v":0},0]
[2320,"Eythorne Elvington Community Primary School",null,"Eythorne Elvington Community Primary School","Eythorne Elvington Community Primary School",0,null,305126.28000000003,305126.28196410002,0,null,57802.51,57802.510077307692,0,null,1885.86,1885.8607862637384,0,null,25920.240000000002,25920.238055228878,0,null,120082.8,120082.8,0,null,0,0,0,null,0,0,0,null,0,0,0,null,17062,17062,0,null,0,0,0,null,0,0,0,null,0,0,0,null,527879.68999999994,527879.69088290026,0,null,0,0,0,null,527879.68999999994,527879.69088290026,0,null,0,null,0,null,527879.68999999994,527879.69088290026,0,null,0,null,0,null,71589.64,null,71590,null,0,null,0,null,0,null,0,null,0,null,0,null,0,null,0,null,0,null,0,null,0,null,0,null,0,null,0,null,"NO",{"$f":"IF(ISERROR(VLOOKUP($A84+8860000,'Growth Data'!$A:$F,3,0)),\"NO\",VLOOKUP($A84+8860000,'Growth Data'!$A:$F,3,0))","v":"NO"},0,null,0,{"$f":"IF(DI84=\"YES\",IF(ISERROR(VLOOKUP($A84+8860000,'Growth Data'!$A:$F,6,0)),0,VLOOKUP($A84+8860000,'Growth Data'!$A:$F,6,0)),0)","v":0},0,null,0,{"$f":"IF(ISERROR(VLOOKUP($A84+8860000,'Growth Data'!$A:$Z,7,0)),0,VLOOKUP($A84+8860000,'Growth Data'!$A:$Z,7,0))","v":0},0,null,"NO",{"$f":"IF(ISERROR(VLOOKUP($A84+8860000,'Growth Data'!$A:$F,4,0)),\"NO\",VLOOKUP($A84+8860000,'Growth Data'!$A:$F,4,0))","v":"NO"},0,null,0,{"$f":"IF(ISERROR(VLOOKUP($A84+8860000,'Growth Data'!$A:$Z,8,0)),0,VLOOKUP($A84+8860000,'Growth Data'!$A:$Z,8,0))","v":0},0,null,0,{"$f":"IF(ISERROR(VLOOKUP($A84+8860000,'Growth Data'!$A:$Z,9,0)),0,VLOOKUP($A84+8860000,'Growth Data'!$A:$Z,9,0))","v":0},0,null,"NO",{"$f":"IF(ISERROR(VLOOKUP($A84+8860000,'Growth Data'!$A:$Z,5,0)),\"NO\",VLOOKUP($A84+8860000,'Growth Data'!$A:$Z,5,0))","v":"NO"},0,null,0,{"$f":"IF(ISERROR(VLOOKUP($A84+8860000,'Growth Data'!$A:$Z,10,0)),0,VLOOKUP($A84+8860000,'Growth Data'!$A:$Z,10,0))","v":0},0,null,0,{"$f":"IF(ISERROR(VLOOKUP($A84+8860000,'Growth Data'!$A:$Z,11,0)),0,VLOOKUP($A84+8860000,'Growth Data'!$A:$Z,11,0))","v":0},0]
[2321,"Lydden Primary School",null,"Lydden Primary School","Lydden Primary School",0,null,236404.15,236404.14638660001,0,null,18337.05,18337.047930895136,0,null,0,0,0,null,3458.41,3458.4080252811518,0,null,120082.8,120082.8,0,null,0,0,0,null,0,0,0,null,0,0,0,null,5167,5167,0,null,0,0,0,null,0,0,0,null,0,0,0,null,383449.4,383449.4023427763,0,null,0,0,0,null,383449.4,383449.4023427763,0,null,0,null,0,null,383449.4,383449.4023427763,0,null,0,null,0,null,23187.119999999999,null,23187,null,3681.29,null,3681,null,0,null,0,null,0,null,0,null,0,null,0,null,0,null,0,null,0,null,0,null,0,null,0,null,"NO",{"$f":"IF(ISERROR(VLOOKUP($A85+8860000,'Growth Data'!$A:$F,3,0)),\"NO\",VLOOKUP($A85+8860000,'Growth Data'!$A:$F,3,0))","v":"NO"},0,null,0,{"$f":"IF(DI85=\"YES\",IF(ISERROR(VLOOKUP($A85+8860000,'Growth Data'!$A:$F,6,0)),0,VLOOKUP($A85+8860000,'Growth Data'!$A:$F,6,0)),0)","v":0},0,null,0,{"$f":"IF(ISERROR(VLOOKUP($A85+8860000,'Growth Data'!$A:$Z,7,0)),0,VLOOKUP($A85+8860000,'Growth Data'!$A:$Z,7,0))","v":0},0,null,"NO",{"$f":"IF(ISERROR(VLOOKUP($A85+8860000,'Growth Data'!$A:$F,4,0)),\"NO\",VLOOKUP($A85+8860000,'Growth Data'!$A:$F,4,0))","v":"NO"},0,null,0,{"$f":"IF(ISERROR(VLOOKUP($A85+8860000,'Growth Data'!$A:$Z,8,0)),0,VLOOKUP($A85+8860000,'Growth Data'!$A:$Z,8,0))","v":0},0,null,0,{"$f":"IF(ISERROR(VLOOKUP($A85+8860000,'Growth Data'!$A:$Z,9,0)),0,VLOOKUP($A85+8860000,'Growth Data'!$A:$Z,9,0))","v":0},0,null,"NO",{"$f":"IF(ISERROR(VLOOKUP($A85+8860000,'Growth Data'!$A:$Z,5,0)),\"NO\",VLOOKUP($A85+8860000,'Growth Data'!$A:$Z,5,0))","v":"NO"},0,null,0,{"$f":"IF(ISERROR(VLOOKUP($A85+8860000,'Growth Data'!$A:$Z,10,0)),0,VLOOKUP($A85+8860000,'Growth Data'!$A:$Z,10,0))","v":0},0,null,0,{"$f":"IF(ISERROR(VLOOKUP($A85+8860000,'Growth Data'!$A:$Z,11,0)),0,VLOOKUP($A85+8860000,'Growth Data'!$A:$Z,11,0))","v":0},0]
[2322,"Preston Primary School",null,"Preston Primary School","Preston Primary School",0,null,346359.56,346359.5633106,0,null,13894.83,13894.828821120002,0,null,601.25,601.24790833333338,0,null,20064.72,20064.722778091542,0,null,120082.8,120082.8,0,null,7949.41,7949.4065420560728,0,null,0,0,0,null,0,0,0,null,10314,10314,0,null,0,0,0,null,0,0,0,null,0,0,0,null,519266.57,519266.56936020096,0,null,0,0,0,null,519266.57,519266.56936020096,0,null,0,null,0,null,519266.57,519266.56936020096,0,null,0,null,0,null,38153.980000000003,null,38154,null,2184.6,null,2185,null,0,null,0,null,0,null,0,null,0,null,0,null,0,null,0,null,0,null,0,null,0,null,0,null,"NO",{"$f":"IF(ISERROR(VLOOKUP($A86+8860000,'Growth Data'!$A:$F,3,0)),\"NO\",VLOOKUP($A86+8860000,'Growth Data'!$A:$F,3,0))","v":"NO"},0,null,0,{"$f":"IF(DI86=\"YES\",IF(ISERROR(VLOOKUP($A86+8860000,'Growth Data'!$A:$F,6,0)),0,VLOOKUP($A86+8860000,'Growth Data'!$A:$F,6,0)),0)","v":0},0,null,0,{"$f":"IF(ISERROR(VLOOKUP($A86+8860000,'Growth Data'!$A:$Z,7,0)),0,VLOOKUP($A86+8860000,'Growth Data'!$A:$Z,7,0))","v":0},0,null,"NO",{"$f":"IF(ISERROR(VLOOKUP($A86+8860000,'Growth Data'!$A:$F,4,0)),\"NO\",VLOOKUP($A86+8860000,'Growth Data'!$A:$F,4,0))","v":"NO"},0,null,0,{"$f":"IF(ISERROR(VLOOKUP($A86+8860000,'Growth Data'!$A:$Z,8,0)),0,VLOOKUP($A86+8860000,'Growth Data'!$A:$Z,8,0))","v":0},0,null,0,{"$f":"IF(ISERROR(VLOOKUP($A86+8860000,'Growth Data'!$A:$Z,9,0)),0,VLOOKUP($A86+8860000,'Growth Data'!$A:$Z,9,0))","v":0},0,null,"NO",{"$f":"IF(ISERROR(VLOOKUP($A86+8860000,'Growth Data'!$A:$Z,5,0)),\"NO\",VLOOKUP($A86+8860000,'Growth Data'!$A:$Z,5,0))","v":"NO"},0,null,0,{"$f":"IF(ISERROR(VLOOKUP($A86+8860000,'Growth Data'!$A:$Z,10,0)),0,VLOOKUP($A86+8860000,'Growth Data'!$A:$Z,10,0))","v":0},0,null,0,{"$f":"IF(ISERROR(VLOOKUP($A86+8860000,'Growth Data'!$A:$Z,11,0)),0,VLOOKUP($A86+8860000,'Growth Data'!$A:$Z,11,0))","v":0},0]
[2326,"Wingham Primary School",null,"Wingham Primary School","Wingham Primary School",0,null,580014.81999999995,580014.82427410001,0,null,19181.400000000001,19181.402512352939,0,null,1194.94,1194.9448225274739,0,null,41119.49,41119.487653233227,0,null,120082.8,120082.8,0,null,0,0,0,null,0,0,0,null,0,0,0,null,30744,30744,0,null,0,0,0,null,0,0,0,null,0,0,0,null,792337.46,792337.45926221367,0,null,0,0,0,null,792337.46,792337.45926221367,0,null,0,null,0,null,792337.46,792337.45926221367,0,null,0,null,0,null,60245.67,null,60246,null,0,null,0,null,0,null,0,null,0,null,0,null,0,null,0,null,0,null,0,null,0,null,0,null,0,null,0,null,"NO",{"$f":"IF(ISERROR(VLOOKUP($A87+8860000,'Growth Data'!$A:$F,3,0)),\"NO\",VLOOKUP($A87+8860000,'Growth Data'!$A:$F,3,0))","v":"NO"},0,null,0,{"$f":"IF(DI87=\"YES\",IF(ISERROR(VLOOKUP($A87+8860000,'Growth Data'!$A:$F,6,0)),0,VLOOKUP($A87+8860000,'Growth Data'!$A:$F,6,0)),0)","v":0},0,null,0,{"$f":"IF(ISERROR(VLOOKUP($A87+8860000,'Growth Data'!$A:$Z,7,0)),0,VLOOKUP($A87+8860000,'Growth Data'!$A:$Z,7,0))","v":0},0,null,"NO",{"$f":"IF(ISERROR(VLOOKUP($A87+8860000,'Growth Data'!$A:$F,4,0)),\"NO\",VLOOKUP($A87+8860000,'Growth Data'!$A:$F,4,0))","v":"NO"},0,null,0,{"$f":"IF(ISERROR(VLOOKUP($A87+8860000,'Growth Data'!$A:$Z,8,0)),0,VLOOKUP($A87+8860000,'Growth Data'!$A:$Z,8,0))","v":0},0,null,0,{"$f":"IF(ISERROR(VLOOKUP($A87+8860000,'Growth Data'!$A:$Z,9,0)),0,VLOOKUP($A87+8860000,'Growth Data'!$A:$Z,9,0))","v":0},0,null,"NO",{"$f":"IF(ISERROR(VLOOKUP($A87+8860000,'Growth Data'!$A:$Z,5,0)),\"NO\",VLOOKUP($A87+8860000,'Growth Data'!$A:$Z,5,0))","v":"NO"},0,null,0,{"$f":"IF(ISERROR(VLOOKUP($A87+8860000,'Growth Data'!$A:$Z,10,0)),0,VLOOKUP($A87+8860000,'Growth Data'!$A:$Z,10,0))","v":0},0,null,0,{"$f":"IF(ISERROR(VLOOKUP($A87+8860000,'Growth Data'!$A:$Z,11,0)),0,VLOOKUP($A87+8860000,'Growth Data'!$A:$Z,11,0))","v":0},0]
[2327,"Worth Primary School",null,"Worth Primary School","Worth Primary School",0,null,170430.9,170430.8962322,0,null,13236.08,13236.083121739122,0,null,1742.84,1742.8380927272715,0,null,9625.4599999999991,9625.4641070353227,0,null,120082.8,120082.8,0,null,0,0,0,null,0,0,0,null,0,0,0,null,3100,3100,0,null,0,0,0,null,0,0,0,null,0,0,0,null,318218.08,318218.08155370172,0,null,0,0,0,null,318218.08,318218.08155370172,0,null,0,null,0,null,318218.08,318218.08155370172,0,null,0,null,0,null,26436.35,null,26436,null,3356.37,null,3356,null,0,null,0,null,0,null,0,null,0,null,0,null,0,null,0,null,0,null,0,null,0,null,0,null,"NO",{"$f":"IF(ISERROR(VLOOKUP($A88+8860000,'Growth Data'!$A:$F,3,0)),\"NO\",VLOOKUP($A88+8860000,'Growth Data'!$A:$F,3,0))","v":"NO"},0,null,0,{"$f":"IF(DI88=\"YES\",IF(ISERROR(VLOOKUP($A88+8860000,'Growth Data'!$A:$F,6,0)),0,VLOOKUP($A88+8860000,'Growth Data'!$A:$F,6,0)),0)","v":0},0,null,0,{"$f":"IF(ISERROR(VLOOKUP($A88+8860000,'Growth Data'!$A:$Z,7,0)),0,VLOOKUP($A88+8860000,'Growth Data'!$A:$Z,7,0))","v":0},0,null,"NO",{"$f":"IF(ISERROR(VLOOKUP($A88+8860000,'Growth Data'!$A:$F,4,0)),\"NO\",VLOOKUP($A88+8860000,'Growth Data'!$A:$F,4,0))","v":"NO"},0,null,0,{"$f":"IF(ISERROR(VLOOKUP($A88+8860000,'Growth Data'!$A:$Z,8,0)),0,VLOOKUP($A88+8860000,'Growth Data'!$A:$Z,8,0))","v":0},0,null,0,{"$f":"IF(ISERROR(VLOOKUP($A88+8860000,'Growth Data'!$A:$Z,9,0)),0,VLOOKUP($A88+8860000,'Growth Data'!$A:$Z,9,0))","v":0},0,null,"NO",{"$f":"IF(ISERROR(VLOOKUP($A88+8860000,'Growth Data'!$A:$Z,5,0)),\"NO\",VLOOKUP($A88+8860000,'Growth Data'!$A:$Z,5,0))","v":"NO"},0,null,0,{"$f":"IF(ISERROR(VLOOKUP($A88+8860000,'Growth Data'!$A:$Z,10,0)),0,VLOOKUP($A88+8860000,'Growth Data'!$A:$Z,10,0))","v":0},0,null,0,{"$f":"IF(ISERROR(VLOOKUP($A88+8860000,'Growth Data'!$A:$Z,11,0)),0,VLOOKUP($A88+8860000,'Growth Data'!$A:$Z,11,0))","v":0},0]
[2328,"St Mildred's Primary Infant School",null,"St Mildred's Primary Infant School","St Mildred's Primary Infant School",0,null,742199.06,742199.06423699996,0,null,36697.300000000003,36697.303680000085,0,null,9276.4,9276.396300000004,0,null,53942.12,53942.117033854665,0,null,120082.8,120082.8,0,null,0,0,0,null,0,0,0,null,0,0,0,null,24550,24550,0,null,0,0,0,null,0,0,0,null,0,0,0,null,986747.68,986747.68125085486,0,null,0,0,0,null,986747.68,986747.68125085486,0,null,0,null,0,null,986747.68,986747.68125085486,0,null,0,null,0,null,93822.32,null,93822,null,0,null,0,null,0,null,0,null,0,null,0,null,0,null,0,null,0,null,0,null,0,null,0,null,0,null,0,null,"NO",{"$f":"IF(ISERROR(VLOOKUP($A89+8860000,'Growth Data'!$A:$F,3,0)),\"NO\",VLOOKUP($A89+8860000,'Growth Data'!$A:$F,3,0))","v":"NO"},0,null,0,{"$f":"IF(DI89=\"YES\",IF(ISERROR(VLOOKUP($A89+8860000,'Growth Data'!$A:$F,6,0)),0,VLOOKUP($A89+8860000,'Growth Data'!$A:$F,6,0)),0)","v":0},0,null,0,{"$f":"IF(ISERROR(VLOOKUP($A89+8860000,'Growth Data'!$A:$Z,7,0)),0,VLOOKUP($A89+8860000,'Growth Data'!$A:$Z,7,0))","v":0},0,null,"NO",{"$f":"IF(ISERROR(VLOOKUP($A89+8860000,'Growth Data'!$A:$F,4,0)),\"NO\",VLOOKUP($A89+8860000,'Growth Data'!$A:$F,4,0))","v":"NO"},0,null,0,{"$f":"IF(ISERROR(VLOOKUP($A89+8860000,'Growth Data'!$A:$Z,8,0)),0,VLOOKUP($A89+8860000,'Growth Data'!$A:$Z,8,0))","v":0},0,null,0,{"$f":"IF(ISERROR(VLOOKUP($A89+8860000,'Growth Data'!$A:$Z,9,0)),0,VLOOKUP($A89+8860000,'Growth Data'!$A:$Z,9,0))","v":0},0,null,"NO",{"$f":"IF(ISERROR(VLOOKUP($A89+8860000,'Growth Data'!$A:$Z,5,0)),\"NO\",VLOOKUP($A89+8860000,'Growth Data'!$A:$Z,5,0))","v":"NO"},0,null,0,{"$f":"IF(ISERROR(VLOOKUP($A89+8860000,'Growth Data'!$A:$Z,10,0)),0,VLOOKUP($A89+8860000,'Growth Data'!$A:$Z,10,0))","v":0},0,null,0,{"$f":"IF(ISERROR(VLOOKUP($A89+8860000,'Growth Data'!$A:$Z,11,0)),0,VLOOKUP($A89+8860000,'Growth Data'!$A:$Z,11,0))","v":0},0]
[2329,"Callis Grange Nursery & Infant School",null,"Callis Grange Nursery & Infant School","Callis Grange Nursery & Infant School",0,null,742199.06,742199.06423699996,0,null,70513.679999999993,70513.6770685394,0,null,6957.3,6957.2972250000003,0,null,38963.01,38963.005883201629,0,null,120082.8,120082.8,0,null,0,0,0,null,0,0,0,null,0,0,0,null,42840,42840,0,null,0,0,0,null,0,0,0,null,0,0,0,null,1021555.84,1021555.844413741,0,null,0,0,0,null,1021555.84,1021555.844413741,0,null,0,null,0,null,1021555.84,1021555.844413741,0,null,4.97,null,5,null,107258.35,null,107258,null,0,null,0,null,0,null,0,null,0,null,0,null,0,null,0,null,0,null,0,null,0,null,0,null,0,null,0,null,"NO",{"$f":"IF(ISERROR(VLOOKUP($A90+8860000,'Growth Data'!$A:$F,3,0)),\"NO\",VLOOKUP($A90+8860000,'Growth Data'!$A:$F,3,0))","v":"NO"},0,null,0,{"$f":"IF(DI90=\"YES\",IF(ISERROR(VLOOKUP($A90+8860000,'Growth Data'!$A:$F,6,0)),0,VLOOKUP($A90+8860000,'Growth Data'!$A:$F,6,0)),0)","v":0},0,null,0,{"$f":"IF(ISERROR(VLOOKUP($A90+8860000,'Growth Data'!$A:$Z,7,0)),0,VLOOKUP($A90+8860000,'Growth Data'!$A:$Z,7,0))","v":0},0,null,"NO",{"$f":"IF(ISERROR(VLOOKUP($A90+8860000,'Growth Data'!$A:$F,4,0)),\"NO\",VLOOKUP($A90+8860000,'Growth Data'!$A:$F,4,0))","v":"NO"},0,null,0,{"$f":"IF(ISERROR(VLOOKUP($A90+8860000,'Growth Data'!$A:$Z,8,0)),0,VLOOKUP($A90+8860000,'Growth Data'!$A:$Z,8,0))","v":0},0,null,0,{"$f":"IF(ISERROR(VLOOKUP($A90+8860000,'Growth Data'!$A:$Z,9,0)),0,VLOOKUP($A90+8860000,'Growth Data'!$A:$Z,9,0))","v":0},0,null,"NO",{"$f":"IF(ISERROR(VLOOKUP($A90+8860000,'Growth Data'!$A:$Z,5,0)),\"NO\",VLOOKUP($A90+8860000,'Growth Data'!$A:$Z,5,0))","v":"NO"},0,null,0,{"$f":"IF(ISERROR(VLOOKUP($A90+8860000,'Growth Data'!$A:$Z,10,0)),0,VLOOKUP($A90+8860000,'Growth Data'!$A:$Z,10,0))","v":0},0,null,0,{"$f":"IF(ISERROR(VLOOKUP($A90+8860000,'Growth Data'!$A:$Z,11,0)),0,VLOOKUP($A90+8860000,'Growth Data'!$A:$Z,11,0))","v":0},0]
[2337,"St Crispin's Community Primary Infant School",null,"St Crispin's Community Primary Infant School","St Crispin's Community Primary Infant School",0,null,739450.18,739450.17881389998,0,null,38806,38806.004871573052,0,null,3872.36,3872.362825418988,0,null,32164.06,32164.064433318148,0,null,120082.8,120082.8,0,null,0,0,0,null,0,0,0,null,0,0,0,null,19763,19763,0,null,0,0,0,null,0,0,0,null,0,0,0,null,954138.41,954138.41094421013,0,null,7852.23,7852.2252542393981,0,null,961990.64,961990.63619844953,0,null,0,null,0,null,961990.64,961990.63619844953,0,null,0,null,0,null,70950.45,null,70950,null,0,null,0,null,0,null,0,null,0,null,0,null,0,null,0,null,0,null,0,null,0,null,0,null,0,null,0,null,"NO",{"$f":"IF(ISERROR(VLOOKUP($A91+8860000,'Growth Data'!$A:$F,3,0)),\"NO\",VLOOKUP($A91+8860000,'Growth Data'!$A:$F,3,0))","v":"NO"},0,null,0,{"$f":"IF(DI91=\"YES\",IF(ISERROR(VLOOKUP($A91+8860000,'Growth Data'!$A:$F,6,0)),0,VLOOKUP($A91+8860000,'Growth Data'!$A:$F,6,0)),0)","v":0},0,null,0,{"$f":"IF(ISERROR(VLOOKUP($A91+8860000,'Growth Data'!$A:$Z,7,0)),0,VLOOKUP($A91+8860000,'Growth Data'!$A:$Z,7,0))","v":0},0,null,"NO",{"$f":"IF(ISERROR(VLOOKUP($A91+8860000,'Growth Data'!$A:$F,4,0)),\"NO\",VLOOKUP($A91+8860000,'Growth Data'!$A:$F,4,0))","v":"NO"},0,null,0,{"$f":"IF(ISERROR(VLOOKUP($A91+8860000,'Growth Data'!$A:$Z,8,0)),0,VLOOKUP($A91+8860000,'Growth Data'!$A:$Z,8,0))","v":0},0,null,0,{"$f":"IF(ISERROR(VLOOKUP($A91+8860000,'Growth Data'!$A:$Z,9,0)),0,VLOOKUP($A91+8860000,'Growth Data'!$A:$Z,9,0))","v":0},0,null,"NO",{"$f":"IF(ISERROR(VLOOKUP($A91+8860000,'Growth Data'!$A:$Z,5,0)),\"NO\",VLOOKUP($A91+8860000,'Growth Data'!$A:$Z,5,0))","v":"NO"},0,null,0,{"$f":"IF(ISERROR(VLOOKUP($A91+8860000,'Growth Data'!$A:$Z,10,0)),0,VLOOKUP($A91+8860000,'Growth Data'!$A:$Z,10,0))","v":0},0,null,0,{"$f":"IF(ISERROR(VLOOKUP($A91+8860000,'Growth Data'!$A:$Z,11,0)),0,VLOOKUP($A91+8860000,'Growth Data'!$A:$Z,11,0))","v":0},0]
[2340,"Ellington Infant School",null,"Ellington Infant School","Ellington Infant School",0,null,481054.95,481054.9490425,0,null,85405.95,85405.948294117654,0,null,6149.13,6149.1263352272754,0,null,42142.28,42142.278932699002,0,null,120082.8,120082.8,0,null,0,0,0,null,0,0,0,null,0,0,0,null,26460,26460,0,null,0,0,0,null,0,0,0,null,0,0,0,null,761295.1,761295.10260454402,0,null,0,0,0,null,761295.1,761295.10260454402,0,null,0,null,0,null,761295.1,761295.10260454402,0,null,0,null,0,null,117036.57,null,117037,null,0,null,0,null,0,null,0,null,0,null,0,null,0,null,0,null,0,null,0,null,0,null,0,null,0,null,0,null,"NO",{"$f":"IF(ISERROR(VLOOKUP($A92+8860000,'Growth Data'!$A:$F,3,0)),\"NO\",VLOOKUP($A92+8860000,'Growth Data'!$A:$F,3,0))","v":"NO"},0,null,0,{"$f":"IF(DI92=\"YES\",IF(ISERROR(VLOOKUP($A92+8860000,'Growth Data'!$A:$F,6,0)),0,VLOOKUP($A92+8860000,'Growth Data'!$A:$F,6,0)),0)","v":0},0,null,0,{"$f":"IF(ISERROR(VLOOKUP($A92+8860000,'Growth Data'!$A:$Z,7,0)),0,VLOOKUP($A92+8860000,'Growth Data'!$A:$Z,7,0))","v":0},0,null,"NO",{"$f":"IF(ISERROR(VLOOKUP($A92+8860000,'Growth Data'!$A:$F,4,0)),\"NO\",VLOOKUP($A92+8860000,'Growth Data'!$A:$F,4,0))","v":"NO"},0,null,0,{"$f":"IF(ISERROR(VLOOKUP($A92+8860000,'Growth Data'!$A:$Z,8,0)),0,VLOOKUP($A92+8860000,'Growth Data'!$A:$Z,8,0))","v":0},0,null,0,{"$f":"IF(ISERROR(VLOOKUP($A92+8860000,'Growth Data'!$A:$Z,9,0)),0,VLOOKUP($A92+8860000,'Growth Data'!$A:$Z,9,0))","v":0},0,null,"NO",{"$f":"IF(ISERROR(VLOOKUP($A92+8860000,'Growth Data'!$A:$Z,5,0)),\"NO\",VLOOKUP($A92+8860000,'Growth Data'!$A:$Z,5,0))","v":"NO"},0,null,0,{"$f":"IF(ISERROR(VLOOKUP($A92+8860000,'Growth Data'!$A:$Z,10,0)),0,VLOOKUP($A92+8860000,'Growth Data'!$A:$Z,10,0))","v":0},0,null,0,{"$f":"IF(ISERROR(VLOOKUP($A92+8860000,'Growth Data'!$A:$Z,11,0)),0,VLOOKUP($A92+8860000,'Growth Data'!$A:$Z,11,0))","v":0},0]
[2345,"Priory Infant School",null,"Priory Infant School","Priory Infant School",0,null,486552.72,486552.7198887,0,null,72348.62,72348.61646101129,0,null,7016.76,7016.7613038461523,0,null,39969.67,39969.669136545454,0,null,120082.8,120082.8,0,null,0,0,0,null,0,0,0,null,0,0,0,null,30492,30492,0,null,0,0,0,null,0,0,0,null,0,0,0,null,756462.57,756462.56679010298,0,null,0,0,0,null,756462.57,756462.56679010298,0,null,0,null,0,null,756462.57,756462.56679010298,0,null,0,null,0,null,112360.94,null,112361,null,0,null,0,null,0,null,0,null,0,null,0,null,0,null,0,null,0,null,0,null,0,null,0,null,0,null,0,null,"NO",{"$f":"IF(ISERROR(VLOOKUP($A93+8860000,'Growth Data'!$A:$F,3,0)),\"NO\",VLOOKUP($A93+8860000,'Growth Data'!$A:$F,3,0))","v":"NO"},0,null,0,{"$f":"IF(DI93=\"YES\",IF(ISERROR(VLOOKUP($A93+8860000,'Growth Data'!$A:$F,6,0)),0,VLOOKUP($A93+8860000,'Growth Data'!$A:$F,6,0)),0)","v":0},0,null,0,{"$f":"IF(ISERROR(VLOOKUP($A93+8860000,'Growth Data'!$A:$Z,7,0)),0,VLOOKUP($A93+8860000,'Growth Data'!$A:$Z,7,0))","v":0},0,null,"NO",{"$f":"IF(ISERROR(VLOOKUP($A93+8860000,'Growth Data'!$A:$F,4,0)),\"NO\",VLOOKUP($A93+8860000,'Growth Data'!$A:$F,4,0))","v":"NO"},0,null,0,{"$f":"IF(ISERROR(VLOOKUP($A93+8860000,'Growth Data'!$A:$Z,8,0)),0,VLOOKUP($A93+8860000,'Growth Data'!$A:$Z,8,0))","v":0},0,null,0,{"$f":"IF(ISERROR(VLOOKUP($A93+8860000,'Growth Data'!$A:$Z,9,0)),0,VLOOKUP($A93+8860000,'Growth Data'!$A:$Z,9,0))","v":0},0,null,"NO",{"$f":"IF(ISERROR(VLOOKUP($A93+8860000,'Growth Data'!$A:$Z,5,0)),\"NO\",VLOOKUP($A93+8860000,'Growth Data'!$A:$Z,5,0))","v":"NO"},0,null,0,{"$f":"IF(ISERROR(VLOOKUP($A93+8860000,'Growth Data'!$A:$Z,10,0)),0,VLOOKUP($A93+8860000,'Growth Data'!$A:$Z,10,0))","v":0},0,null,0,{"$f":"IF(ISERROR(VLOOKUP($A93+8860000,'Growth Data'!$A:$Z,11,0)),0,VLOOKUP($A93+8860000,'Growth Data'!$A:$Z,11,0))","v":0},0]
[2431,"Shears Green Junior School",null,"Shears Green Junior School","Shears Green Junior School",0,null,1316716.1200000001,1316716.1176648999,0,null,114780.96,114780.96015255232,0,null,8761.0400000000009,8761.0409499999896,0,null,105233.57,105233.57445871484,0,null,120082.8,120082.8,0,null,0,0,0,null,0,0,0,null,0,0,0,null,21420,21420,0,null,0,0,0,null,0,0,0,null,0,0,0,null,1686994.49,1686994.493226167,0,null,0,0,0,null,1686994.49,1686994.493226167,0,null,0,null,0,null,1686994.49,1686994.493226167,0,null,0,null,0,null,208152.06,null,208152,null,0,null,0,null,0,null,0,null,0,null,0,null,0,null,0,null,0,null,0,null,0,null,0,null,0,null,0,null,"NO",{"$f":"IF(ISERROR(VLOOKUP($A94+8860000,'Growth Data'!$A:$F,3,0)),\"NO\",VLOOKUP($A94+8860000,'Growth Data'!$A:$F,3,0))","v":"NO"},0,null,0,{"$f":"IF(DI94=\"YES\",IF(ISERROR(VLOOKUP($A94+8860000,'Growth Data'!$A:$F,6,0)),0,VLOOKUP($A94+8860000,'Growth Data'!$A:$F,6,0)),0)","v":0},0,null,0,{"$f":"IF(ISERROR(VLOOKUP($A94+8860000,'Growth Data'!$A:$Z,7,0)),0,VLOOKUP($A94+8860000,'Growth Data'!$A:$Z,7,0))","v":0},0,null,"NO",{"$f":"IF(ISERROR(VLOOKUP($A94+8860000,'Growth Data'!$A:$F,4,0)),\"NO\",VLOOKUP($A94+8860000,'Growth Data'!$A:$F,4,0))","v":"NO"},0,null,0,{"$f":"IF(ISERROR(VLOOKUP($A94+8860000,'Growth Data'!$A:$Z,8,0)),0,VLOOKUP($A94+8860000,'Growth Data'!$A:$Z,8,0))","v":0},0,null,0,{"$f":"IF(ISERROR(VLOOKUP($A94+8860000,'Growth Data'!$A:$Z,9,0)),0,VLOOKUP($A94+8860000,'Growth Data'!$A:$Z,9,0))","v":0},0,null,"NO",{"$f":"IF(ISERROR(VLOOKUP($A94+8860000,'Growth Data'!$A:$Z,5,0)),\"NO\",VLOOKUP($A94+8860000,'Growth Data'!$A:$Z,5,0))","v":"NO"},0,null,0,{"$f":"IF(ISERROR(VLOOKUP($A94+8860000,'Growth Data'!$A:$Z,10,0)),0,VLOOKUP($A94+8860000,'Growth Data'!$A:$Z,10,0))","v":0},0,null,0,{"$f":"IF(ISERROR(VLOOKUP($A94+8860000,'Growth Data'!$A:$Z,11,0)),0,VLOOKUP($A94+8860000,'Growth Data'!$A:$Z,11,0))","v":0},0]
[2434,"West Minster Primary School",null,"West Minster Primary School","West Minster Primary School",0,null,1247993.98,1247993.9820874,0,null,343903.29,343903.28554957686,0,null,5427.17,5427.1700002577345,0,null,82421.55,82421.546241918652,0,null,120082.8,120082.8,0,null,0,0,0,null,0,0,0,null,0,0,0,null,79128,79128,0,null,0,0,0,null,0,0,0,null,0,0,0,null,1878956.78,1878956.7838791532,0,null,0,0,0,null,1878956.78,1878956.7838791532,0,null,0,null,0,null,1878956.78,1878956.7838791532,0,null,5.54,null,6,null,362254.78,null,362255,null,0,null,0,null,0,null,0,null,82500,null,82500,null,257.45999999999998,null,257,null,257.45999999999998,null,257,null,257.45999999999998,null,257,null,257.45999999999998,null,257,null,"NO",{"$f":"IF(ISERROR(VLOOKUP($A95+8860000,'Growth Data'!$A:$F,3,0)),\"NO\",VLOOKUP($A95+8860000,'Growth Data'!$A:$F,3,0))","v":"YES"},1,null,0,{"$f":"IF(DI95=\"YES\",IF(ISERROR(VLOOKUP($A95+8860000,'Growth Data'!$A:$F,6,0)),0,VLOOKUP($A95+8860000,'Growth Data'!$A:$F,6,0)),0)","v":63},-63,null,0,{"$f":"IF(ISERROR(VLOOKUP($A95+8860000,'Growth Data'!$A:$Z,7,0)),0,VLOOKUP($A95+8860000,'Growth Data'!$A:$Z,7,0))","v":90},1,null,"YES",{"$f":"IF(ISERROR(VLOOKUP($A95+8860000,'Growth Data'!$A:$F,4,0)),\"NO\",VLOOKUP($A95+8860000,'Growth Data'!$A:$F,4,0))","v":"YES"},0,null,61,{"$f":"IF(ISERROR(VLOOKUP($A95+8860000,'Growth Data'!$A:$Z,8,0)),0,VLOOKUP($A95+8860000,'Growth Data'!$A:$Z,8,0))","v":60},1,null,90,{"$f":"IF(ISERROR(VLOOKUP($A95+8860000,'Growth Data'!$A:$Z,9,0)),0,VLOOKUP($A95+8860000,'Growth Data'!$A:$Z,9,0))","v":90},0,null,"YES",{"$f":"IF(ISERROR(VLOOKUP($A95+8860000,'Growth Data'!$A:$Z,5,0)),\"NO\",VLOOKUP($A95+8860000,'Growth Data'!$A:$Z,5,0))","v":"YES"},0,null,60,{"$f":"IF(ISERROR(VLOOKUP($A95+8860000,'Growth Data'!$A:$Z,10,0)),0,VLOOKUP($A95+8860000,'Growth Data'!$A:$Z,10,0))","v":60},0,null,90,{"$f":"IF(ISERROR(VLOOKUP($A95+8860000,'Growth Data'!$A:$Z,11,0)),0,VLOOKUP($A95+8860000,'Growth Data'!$A:$Z,11,0))","v":90},0]
[2454,"Aycliffe Community Primary School",null,"Aycliffe Community Primary School","Aycliffe Community Primary School",0,null,318870.71000000002,318870.7090796,0,null,77120.63,77120.62540578522,0,null,4554.76,4554.7596647619057,0,null,32350.59,32350.592093228788,0,null,120082.8,120082.8,0,null,0,0,0,null,0,0,0,null,0,0,0,null,22463,22463,0,null,0,0,0,null,0,0,0,null,0,0,0,null,575442.49,575442.48624337593,0,null,0,0,0,null,575442.49,575442.48624337593,0,null,0,null,0,null,575442.49,575442.48624337593,0,null,0,null,0,null,103529.44,null,103529,null,0,null,0,null,0,null,0,null,0,null,0,null,0,null,0,null,0,null,0,null,0,null,0,null,0,null,0,null,"NO",{"$f":"IF(ISERROR(VLOOKUP($A96+8860000,'Growth Data'!$A:$F,3,0)),\"NO\",VLOOKUP($A96+8860000,'Growth Data'!$A:$F,3,0))","v":"NO"},0,null,0,{"$f":"IF(DI96=\"YES\",IF(ISERROR(VLOOKUP($A96+8860000,'Growth Data'!$A:$F,6,0)),0,VLOOKUP($A96+8860000,'Growth Data'!$A:$F,6,0)),0)","v":0},0,null,0,{"$f":"IF(ISERROR(VLOOKUP($A96+8860000,'Growth Data'!$A:$Z,7,0)),0,VLOOKUP($A96+8860000,'Growth Data'!$A:$Z,7,0))","v":0},0,null,"NO",{"$f":"IF(ISERROR(VLOOKUP($A96+8860000,'Growth Data'!$A:$F,4,0)),\"NO\",VLOOKUP($A96+8860000,'Growth Data'!$A:$F,4,0))","v":"NO"},0,null,0,{"$f":"IF(ISERROR(VLOOKUP($A96+8860000,'Growth Data'!$A:$Z,8,0)),0,VLOOKUP($A96+8860000,'Growth Data'!$A:$Z,8,0))","v":0},0,null,0,{"$f":"IF(ISERROR(VLOOKUP($A96+8860000,'Growth Data'!$A:$Z,9,0)),0,VLOOKUP($A96+8860000,'Growth Data'!$A:$Z,9,0))","v":0},0,null,"NO",{"$f":"IF(ISERROR(VLOOKUP($A96+8860000,'Growth Data'!$A:$Z,5,0)),\"NO\",VLOOKUP($A96+8860000,'Growth Data'!$A:$Z,5,0))","v":"NO"},0,null,0,{"$f":"IF(ISERROR(VLOOKUP($A96+8860000,'Growth Data'!$A:$Z,10,0)),0,VLOOKUP($A96+8860000,'Growth Data'!$A:$Z,10,0))","v":0},0,null,0,{"$f":"IF(ISERROR(VLOOKUP($A96+8860000,'Growth Data'!$A:$Z,11,0)),0,VLOOKUP($A96+8860000,'Growth Data'!$A:$Z,11,0))","v":0},0]
[2459,"Riverhead Infant School",null,"Riverhead Infant School","Riverhead Infant School",0,null,739450.18,739450.17881389998,0,null,4688.97,4688.968189874221,0,null,14633.23,14633.228854722285,0,null,24400.32,24400.32474251727,0,null,120082.8,120082.8,0,null,0,0,0,null,32878.5,32878.500221876893,0,null,0,0,0,null,38304,38304,0,null,0,0,0,null,0,0,0,null,0,0,0,null,974438,974438.00082289067,0,null,0,0,0,null,974438,974438.00082289067,0,null,0,null,0,null,974438,974438.00082289067,0,null,0,null,0,null,49494.32,null,49494,null,1050.57,null,1051,null,0,null,0,null,0,null,0,null,0,null,0,null,0,null,0,null,0,null,0,null,0,null,0,null,"NO",{"$f":"IF(ISERROR(VLOOKUP($A97+8860000,'Growth Data'!$A:$F,3,0)),\"NO\",VLOOKUP($A97+8860000,'Growth Data'!$A:$F,3,0))","v":"NO"},0,null,0,{"$f":"IF(DI97=\"YES\",IF(ISERROR(VLOOKUP($A97+8860000,'Growth Data'!$A:$F,6,0)),0,VLOOKUP($A97+8860000,'Growth Data'!$A:$F,6,0)),0)","v":0},0,null,0,{"$f":"IF(ISERROR(VLOOKUP($A97+8860000,'Growth Data'!$A:$Z,7,0)),0,VLOOKUP($A97+8860000,'Growth Data'!$A:$Z,7,0))","v":0},0,null,"NO",{"$f":"IF(ISERROR(VLOOKUP($A97+8860000,'Growth Data'!$A:$F,4,0)),\"NO\",VLOOKUP($A97+8860000,'Growth Data'!$A:$F,4,0))","v":"NO"},0,null,0,{"$f":"IF(ISERROR(VLOOKUP($A97+8860000,'Growth Data'!$A:$Z,8,0)),0,VLOOKUP($A97+8860000,'Growth Data'!$A:$Z,8,0))","v":0},0,null,0,{"$f":"IF(ISERROR(VLOOKUP($A97+8860000,'Growth Data'!$A:$Z,9,0)),0,VLOOKUP($A97+8860000,'Growth Data'!$A:$Z,9,0))","v":0},0,null,"NO",{"$f":"IF(ISERROR(VLOOKUP($A97+8860000,'Growth Data'!$A:$Z,5,0)),\"NO\",VLOOKUP($A97+8860000,'Growth Data'!$A:$Z,5,0))","v":"NO"},0,null,0,{"$f":"IF(ISERROR(VLOOKUP($A97+8860000,'Growth Data'!$A:$Z,10,0)),0,VLOOKUP($A97+8860000,'Growth Data'!$A:$Z,10,0))","v":0},0,null,0,{"$f":"IF(ISERROR(VLOOKUP($A97+8860000,'Growth Data'!$A:$Z,11,0)),0,VLOOKUP($A97+8860000,'Growth Data'!$A:$Z,11,0))","v":0},0]
[2465,"Claremont Primary School",null,"Claremont Primary School","Claremont Primary School",0,null,1278231.72,1278231.7217415001,0,null,10177.620000000001,10177.620125301204,0,null,18887.900000000001,18887.900512315275,0,null,63714.71,63714.7089345024,0,null,120082.8,120082.8,0,null,0,0,0,null,0,0,0,null,0,0,0,null,38052,38052,0,null,0,0,0,null,0,0,0,null,89905.25,89905.248686380917,0,null,1619052,1619052,0,null,0,0,0,null,1619052,1619052,0,null,0,null,0,null,1619052,1619052,0,null,0,null,0,null,95492.800000000003,null,95493,null,0,null,0,null,0,null,0,null,0,null,0,null,0,null,0,null,0,null,0,null,0,null,0,null,0,null,0,null,"NO",{"$f":"IF(ISERROR(VLOOKUP($A98+8860000,'Growth Data'!$A:$F,3,0)),\"NO\",VLOOKUP($A98+8860000,'Growth Data'!$A:$F,3,0))","v":"NO"},0,null,0,{"$f":"IF(DI98=\"YES\",IF(ISERROR(VLOOKUP($A98+8860000,'Growth Data'!$A:$F,6,0)),0,VLOOKUP($A98+8860000,'Growth Data'!$A:$F,6,0)),0)","v":0},0,null,0,{"$f":"IF(ISERROR(VLOOKUP($A98+8860000,'Growth Data'!$A:$Z,7,0)),0,VLOOKUP($A98+8860000,'Growth Data'!$A:$Z,7,0))","v":0},0,null,"NO",{"$f":"IF(ISERROR(VLOOKUP($A98+8860000,'Growth Data'!$A:$F,4,0)),\"NO\",VLOOKUP($A98+8860000,'Growth Data'!$A:$F,4,0))","v":"NO"},0,null,0,{"$f":"IF(ISERROR(VLOOKUP($A98+8860000,'Growth Data'!$A:$Z,8,0)),0,VLOOKUP($A98+8860000,'Growth Data'!$A:$Z,8,0))","v":0},0,null,0,{"$f":"IF(ISERROR(VLOOKUP($A98+8860000,'Growth Data'!$A:$Z,9,0)),0,VLOOKUP($A98+8860000,'Growth Data'!$A:$Z,9,0))","v":0},0,null,"NO",{"$f":"IF(ISERROR(VLOOKUP($A98+8860000,'Growth Data'!$A:$Z,5,0)),\"NO\",VLOOKUP($A98+8860000,'Growth Data'!$A:$Z,5,0))","v":"NO"},0,null,0,{"$f":"IF(ISERROR(VLOOKUP($A98+8860000,'Growth Data'!$A:$Z,10,0)),0,VLOOKUP($A98+8860000,'Growth Data'!$A:$Z,10,0))","v":0},0,null,0,{"$f":"IF(ISERROR(VLOOKUP($A98+8860000,'Growth Data'!$A:$Z,11,0)),0,VLOOKUP($A98+8860000,'Growth Data'!$A:$Z,11,0))","v":0},0]
[2471,"Whitfield Aspen School",null,"Whitfield Aspen School","Whitfield Aspen School",0,null,1330460.54,1330460.5447804001,0,null,163334.73000000001,163334.72530863469,0,null,5344.97,5344.9712014285651,0,null,155297.42000000001,155297.42090222507,0,null,120082.8,120082.8,0,null,0,0,0,null,0,0,0,null,0,0,0,null,64008,64008,0,null,0,0,0,null,0,0,0,null,0,0,0,null,1838528.46,1838528.4621926888,0,null,0,0,0,null,1838528.46,1838528.4621926888,0,null,0,null,0,null,1838528.46,1838528.4621926888,0,null,0,null,0,null,284420.53999999998,null,284421,null,0,null,0,null,18666.669999999998,null,18667,null,649500,null,649500,null,0,null,0,null,0,null,0,null,0,null,0,null,0,null,0,null,"NO",{"$f":"IF(ISERROR(VLOOKUP($A99+8860000,'Growth Data'!$A:$F,3,0)),\"NO\",VLOOKUP($A99+8860000,'Growth Data'!$A:$F,3,0))","v":"NO"},0,null,0,{"$f":"IF(DI99=\"YES\",IF(ISERROR(VLOOKUP($A99+8860000,'Growth Data'!$A:$F,6,0)),0,VLOOKUP($A99+8860000,'Growth Data'!$A:$F,6,0)),0)","v":0},0,null,0,{"$f":"IF(ISERROR(VLOOKUP($A99+8860000,'Growth Data'!$A:$Z,7,0)),0,VLOOKUP($A99+8860000,'Growth Data'!$A:$Z,7,0))","v":0},0,null,"YES",{"$f":"IF(ISERROR(VLOOKUP($A99+8860000,'Growth Data'!$A:$F,4,0)),\"NO\",VLOOKUP($A99+8860000,'Growth Data'!$A:$F,4,0))","v":"NO"},1,null,64,{"$f":"IF(ISERROR(VLOOKUP($A99+8860000,'Growth Data'!$A:$Z,8,0)),0,VLOOKUP($A99+8860000,'Growth Data'!$A:$Z,8,0))","v":0},1,null,82,{"$f":"IF(ISERROR(VLOOKUP($A99+8860000,'Growth Data'!$A:$Z,9,0)),0,VLOOKUP($A99+8860000,'Growth Data'!$A:$Z,9,0))","v":0},1,null,"YES",{"$f":"IF(ISERROR(VLOOKUP($A99+8860000,'Growth Data'!$A:$Z,5,0)),\"NO\",VLOOKUP($A99+8860000,'Growth Data'!$A:$Z,5,0))","v":"NO"},1,null,67,{"$f":"IF(ISERROR(VLOOKUP($A99+8860000,'Growth Data'!$A:$Z,10,0)),0,VLOOKUP($A99+8860000,'Growth Data'!$A:$Z,10,0))","v":0},1,null,82,{"$f":"IF(ISERROR(VLOOKUP($A99+8860000,'Growth Data'!$A:$Z,11,0)),0,VLOOKUP($A99+8860000,'Growth Data'!$A:$Z,11,0))","v":0},1]
[2474,"St Paul's Infant School",null,"St Paul's Infant School","St Paul's Infant School",0,null,720207.98,720207.98085219995,0,null,54941.89,54941.891200074337,0,null,45531.05,45531.04592209297,0,null,71520.070000000007,71520.069224744148,0,null,120082.8,120082.8,0,null,0,0,0,null,0,0,0,null,0,0,0,null,12970,12970,0,null,0,0,0,null,0,0,0,null,0,0,0,null,1025253.79,1025253.7871991114,0,null,0,0,0,null,1025253.79,1025253.7871991114,0,null,0,null,0,null,1025253.79,1025253.7871991114,0,null,0,null,0,null,157533.74,null,157534,null,0,null,0,null,0,null,0,null,0,null,0,null,0,null,0,null,0,null,0,null,0,null,0,null,0,null,0,null,"NO",{"$f":"IF(ISERROR(VLOOKUP($A100+8860000,'Growth Data'!$A:$F,3,0)),\"NO\",VLOOKUP($A100+8860000,'Growth Data'!$A:$F,3,0))","v":"NO"},0,null,0,{"$f":"IF(DI100=\"YES\",IF(ISERROR(VLOOKUP($A100+8860000,'Growth Data'!$A:$F,6,0)),0,VLOOKUP($A100+8860000,'Growth Data'!$A:$F,6,0)),0)","v":0},0,null,0,{"$f":"IF(ISERROR(VLOOKUP($A100+8860000,'Growth Data'!$A:$Z,7,0)),0,VLOOKUP($A100+8860000,'Growth Data'!$A:$Z,7,0))","v":0},0,null,"NO",{"$f":"IF(ISERROR(VLOOKUP($A100+8860000,'Growth Data'!$A:$F,4,0)),\"NO\",VLOOKUP($A100+8860000,'Growth Data'!$A:$F,4,0))","v":"NO"},0,null,0,{"$f":"IF(ISERROR(VLOOKUP($A100+8860000,'Growth Data'!$A:$Z,8,0)),0,VLOOKUP($A100+8860000,'Growth Data'!$A:$Z,8,0))","v":0},0,null,0,{"$f":"IF(ISERROR(VLOOKUP($A100+8860000,'Growth Data'!$A:$Z,9,0)),0,VLOOKUP($A100+8860000,'Growth Data'!$A:$Z,9,0))","v":0},0,null,"NO",{"$f":"IF(ISERROR(VLOOKUP($A100+8860000,'Growth Data'!$A:$Z,5,0)),\"NO\",VLOOKUP($A100+8860000,'Growth Data'!$A:$Z,5,0))","v":"NO"},0,null,0,{"$f":"IF(ISERROR(VLOOKUP($A100+8860000,'Growth Data'!$A:$Z,10,0)),0,VLOOKUP($A100+8860000,'Growth Data'!$A:$Z,10,0))","v":0},0,null,0,{"$f":"IF(ISERROR(VLOOKUP($A100+8860000,'Growth Data'!$A:$Z,11,0)),0,VLOOKUP($A100+8860000,'Growth Data'!$A:$Z,11,0))","v":0},0]
[2482,"Langton Green Primary School",null,"Langton Green Primary School","Langton Green Primary School",0,null,1069316.43,1069316.4295858999,0,null,16073.89,16073.889458673475,0,null,2444.8000000000002,2444.7955018292664,0,null,50117.29,50117.291598553842,0,null,120082.8,120082.8,0,null,0,0,0,null,0,0,0,null,0,0,0,null,38556,38556,0,null,0,0,0,null,0,0,0,null,64564.79,64564.793855043128,0,null,1361156,1361155.9999999998,0,null,0,0,0,null,1361156,1361155.9999999998,0,null,0,null,0,null,1361156,1361155.9999999998,0,null,0,null,0,null,69587.33,null,69587,null,0,null,0,null,0,null,0,null,0,null,0,null,0,null,0,null,0,null,0,null,0,null,0,null,0,null,0,null,"NO",{"$f":"IF(ISERROR(VLOOKUP($A101+8860000,'Growth Data'!$A:$F,3,0)),\"NO\",VLOOKUP($A101+8860000,'Growth Data'!$A:$F,3,0))","v":"YES"},1,null,0,{"$f":"IF(DI101=\"YES\",IF(ISERROR(VLOOKUP($A101+8860000,'Growth Data'!$A:$F,6,0)),0,VLOOKUP($A101+8860000,'Growth Data'!$A:$F,6,0)),0)","v":30},-30,null,0,{"$f":"IF(ISERROR(VLOOKUP($A101+8860000,'Growth Data'!$A:$Z,7,0)),0,VLOOKUP($A101+8860000,'Growth Data'!$A:$Z,7,0))","v":60},1,null,"YES",{"$f":"IF(ISERROR(VLOOKUP($A101+8860000,'Growth Data'!$A:$F,4,0)),\"NO\",VLOOKUP($A101+8860000,'Growth Data'!$A:$F,4,0))","v":"NO"},1,null,31,{"$f":"IF(ISERROR(VLOOKUP($A101+8860000,'Growth Data'!$A:$Z,8,0)),0,VLOOKUP($A101+8860000,'Growth Data'!$A:$Z,8,0))","v":0},1,null,60,{"$f":"IF(ISERROR(VLOOKUP($A101+8860000,'Growth Data'!$A:$Z,9,0)),0,VLOOKUP($A101+8860000,'Growth Data'!$A:$Z,9,0))","v":0},1,null,"NO",{"$f":"IF(ISERROR(VLOOKUP($A101+8860000,'Growth Data'!$A:$Z,5,0)),\"NO\",VLOOKUP($A101+8860000,'Growth Data'!$A:$Z,5,0))","v":"NO"},0,null,0,{"$f":"IF(ISERROR(VLOOKUP($A101+8860000,'Growth Data'!$A:$Z,10,0)),0,VLOOKUP($A101+8860000,'Growth Data'!$A:$Z,10,0))","v":0},0,null,0,{"$f":"IF(ISERROR(VLOOKUP($A101+8860000,'Growth Data'!$A:$Z,11,0)),0,VLOOKUP($A101+8860000,'Growth Data'!$A:$Z,11,0))","v":0},0]
[2490,"Bishops Down Primary School",null,"Bishops Down Primary School","Bishops Down Primary School",0,null,733952.41,733952.40796770004,0,null,27334.720000000001,27334.719265084481,0,null,8162.7,8162.7046538135619,0,null,50769.64,50769.640020917417,0,null,120082.8,120082.8,0,null,0,0,0,null,0,0,0,null,0,0,0,null,30744,30744,0,null,0,0,0,null,0,0,0,null,0,0,0,null,971046.27,971046.27190751559,0,null,0,0,0,null,971046.27,971046.27190751559,0,null,0,null,0,null,971046.27,971046.27190751559,0,null,4.9000000000000004,null,5,null,85016.9,null,85017,null,0,null,0,null,4000,null,4000,null,42000,null,42000,null,868.22,null,868,null,868.22,null,868,null,868.22,null,868,null,868.22,null,868,null,"NO",{"$f":"IF(ISERROR(VLOOKUP($A102+8860000,'Growth Data'!$A:$F,3,0)),\"NO\",VLOOKUP($A102+8860000,'Growth Data'!$A:$F,3,0))","v":"NO"},0,null,0,{"$f":"IF(DI102=\"YES\",IF(ISERROR(VLOOKUP($A102+8860000,'Growth Data'!$A:$F,6,0)),0,VLOOKUP($A102+8860000,'Growth Data'!$A:$F,6,0)),0)","v":0},0,null,0,{"$f":"IF(ISERROR(VLOOKUP($A102+8860000,'Growth Data'!$A:$Z,7,0)),0,VLOOKUP($A102+8860000,'Growth Data'!$A:$Z,7,0))","v":0},0,null,"NO",{"$f":"IF(ISERROR(VLOOKUP($A102+8860000,'Growth Data'!$A:$F,4,0)),\"NO\",VLOOKUP($A102+8860000,'Growth Data'!$A:$F,4,0))","v":"NO"},0,null,0,{"$f":"IF(ISERROR(VLOOKUP($A102+8860000,'Growth Data'!$A:$Z,8,0)),0,VLOOKUP($A102+8860000,'Growth Data'!$A:$Z,8,0))","v":0},0,null,0,{"$f":"IF(ISERROR(VLOOKUP($A102+8860000,'Growth Data'!$A:$Z,9,0)),0,VLOOKUP($A102+8860000,'Growth Data'!$A:$Z,9,0))","v":0},0,null,"NO",{"$f":"IF(ISERROR(VLOOKUP($A102+8860000,'Growth Data'!$A:$Z,5,0)),\"NO\",VLOOKUP($A102+8860000,'Growth Data'!$A:$Z,5,0))","v":"NO"},0,null,0,{"$f":"IF(ISERROR(VLOOKUP($A102+8860000,'Growth Data'!$A:$Z,10,0)),0,VLOOKUP($A102+8860000,'Growth Data'!$A:$Z,10,0))","v":0},0,null,0,{"$f":"IF(ISERROR(VLOOKUP($A102+8860000,'Growth Data'!$A:$Z,11,0)),0,VLOOKUP($A102+8860000,'Growth Data'!$A:$Z,11,0))","v":0},0]
[2509,"Singlewell Primary School",null,"Singlewell Primary School","Singlewell Primary School",0,null,808172.31,808172.31439139997,0,null,65553.75,65553.752624827568,0,null,16187.44,16187.443685897462,0,null,56977.82,56977.820589872499,0,null,120082.8,120082.8,0,null,0,0,0,null,0,0,0,null,0,0,0,null,50904,50904,0,null,0,0,0,null,0,0,0,null,0,0,0,null,1117878.1299999999,1117878.1312919976,0,null,0,0,0,null,1117878.1299999999,1117878.1312919976,0,null,0,null,0,null,1117878.1299999999,1117878.1312919976,0,null,0,null,0,null,129983.69,null,129984,null,0,null,0,null,0,null,0,null,0,null,0,null,0,null,0,null,0,null,0,null,0,null,0,null,0,null,0,null,"NO",{"$f":"IF(ISERROR(VLOOKUP($A103+8860000,'Growth Data'!$A:$F,3,0)),\"NO\",VLOOKUP($A103+8860000,'Growth Data'!$A:$F,3,0))","v":"YES"},1,null,0,{"$f":"IF(DI103=\"YES\",IF(ISERROR(VLOOKUP($A103+8860000,'Growth Data'!$A:$F,6,0)),0,VLOOKUP($A103+8860000,'Growth Data'!$A:$F,6,0)),0)","v":30},-30,null,0,{"$f":"IF(ISERROR(VLOOKUP($A103+8860000,'Growth Data'!$A:$Z,7,0)),0,VLOOKUP($A103+8860000,'Growth Data'!$A:$Z,7,0))","v":60},1,null,"YES",{"$f":"IF(ISERROR(VLOOKUP($A103+8860000,'Growth Data'!$A:$F,4,0)),\"NO\",VLOOKUP($A103+8860000,'Growth Data'!$A:$F,4,0))","v":"YES"},0,null,30,{"$f":"IF(ISERROR(VLOOKUP($A103+8860000,'Growth Data'!$A:$Z,8,0)),0,VLOOKUP($A103+8860000,'Growth Data'!$A:$Z,8,0))","v":30},0,null,60,{"$f":"IF(ISERROR(VLOOKUP($A103+8860000,'Growth Data'!$A:$Z,9,0)),0,VLOOKUP($A103+8860000,'Growth Data'!$A:$Z,9,0))","v":60},0,null,"YES",{"$f":"IF(ISERROR(VLOOKUP($A103+8860000,'Growth Data'!$A:$Z,5,0)),\"NO\",VLOOKUP($A103+8860000,'Growth Data'!$A:$Z,5,0))","v":"YES"},0,null,30,{"$f":"IF(ISERROR(VLOOKUP($A103+8860000,'Growth Data'!$A:$Z,10,0)),0,VLOOKUP($A103+8860000,'Growth Data'!$A:$Z,10,0))","v":30},0,null,60,{"$f":"IF(ISERROR(VLOOKUP($A103+8860000,'Growth Data'!$A:$Z,11,0)),0,VLOOKUP($A103+8860000,'Growth Data'!$A:$Z,11,0))","v":60},0]
[2510,"Cheriton Primary School",null,"Cheriton Primary School","Cheriton Primary School",0,null,1242496.21,1242496.2112412001,0,null,109132.8,109132.8001409382,0,null,40588.14,40588.138019696918,0,null,106559.92,106559.92260174712,0,null,120082.8,120082.8,0,null,0,0,0,null,0,0,0,null,0,0,0,null,6197,6197,0,null,0,0,0,null,0,0,0,null,0,0,0,null,1625056.87,1625056.8720035823,0,null,0,0,0,null,1625056.87,1625056.8720035823,0,null,0,null,0,null,1625056.87,1625056.8720035823,0,null,0,null,0,null,226851.27,null,226851,null,0,null,0,null,0,null,0,null,0,null,0,null,0,null,0,null,0,null,0,null,0,null,0,null,0,null,0,null,"NO",{"$f":"IF(ISERROR(VLOOKUP($A104+8860000,'Growth Data'!$A:$F,3,0)),\"NO\",VLOOKUP($A104+8860000,'Growth Data'!$A:$F,3,0))","v":"NO"},0,null,0,{"$f":"IF(DI104=\"YES\",IF(ISERROR(VLOOKUP($A104+8860000,'Growth Data'!$A:$F,6,0)),0,VLOOKUP($A104+8860000,'Growth Data'!$A:$F,6,0)),0)","v":0},0,null,0,{"$f":"IF(ISERROR(VLOOKUP($A104+8860000,'Growth Data'!$A:$Z,7,0)),0,VLOOKUP($A104+8860000,'Growth Data'!$A:$Z,7,0))","v":0},0,null,"NO",{"$f":"IF(ISERROR(VLOOKUP($A104+8860000,'Growth Data'!$A:$F,4,0)),\"NO\",VLOOKUP($A104+8860000,'Growth Data'!$A:$F,4,0))","v":"NO"},0,null,0,{"$f":"IF(ISERROR(VLOOKUP($A104+8860000,'Growth Data'!$A:$Z,8,0)),0,VLOOKUP($A104+8860000,'Growth Data'!$A:$Z,8,0))","v":0},0,null,0,{"$f":"IF(ISERROR(VLOOKUP($A104+8860000,'Growth Data'!$A:$Z,9,0)),0,VLOOKUP($A104+8860000,'Growth Data'!$A:$Z,9,0))","v":0},0,null,"NO",{"$f":"IF(ISERROR(VLOOKUP($A104+8860000,'Growth Data'!$A:$Z,5,0)),\"NO\",VLOOKUP($A104+8860000,'Growth Data'!$A:$Z,5,0))","v":"NO"},0,null,0,{"$f":"IF(ISERROR(VLOOKUP($A104+8860000,'Growth Data'!$A:$Z,10,0)),0,VLOOKUP($A104+8860000,'Growth Data'!$A:$Z,10,0))","v":0},0,null,0,{"$f":"IF(ISERROR(VLOOKUP($A104+8860000,'Growth Data'!$A:$Z,11,0)),0,VLOOKUP($A104+8860000,'Growth Data'!$A:$Z,11,0))","v":0},0]
[2514,"Brookfield Infant School",null,"Brookfield Infant School","Brookfield Infant School",0,null,486552.72,486552.7198887,0,null,39863.49,39863.486839999969,0,null,6081.19,6081.1931300000024,0,null,31656.65,31656.649715289164,0,null,120082.8,120082.8,0,null,0,0,0,null,0,0,0,null,0,0,0,null,23177,23177,0,null,0,0,0,null,0,0,0,null,0,0,0,null,707413.85,707413.84957398917,0,null,0,0,0,null,707413.85,707413.84957398917,0,null,0,null,0,null,707413.85,707413.84957398917,0,null,0,null,0,null,68866.009999999995,null,68866,null,0,null,0,null,0,null,0,null,0,null,0,null,0,null,0,null,0,null,0,null,0,null,0,null,0,null,0,null,"NO",{"$f":"IF(ISERROR(VLOOKUP($A105+8860000,'Growth Data'!$A:$F,3,0)),\"NO\",VLOOKUP($A105+8860000,'Growth Data'!$A:$F,3,0))","v":"NO"},0,null,0,{"$f":"IF(DI105=\"YES\",IF(ISERROR(VLOOKUP($A105+8860000,'Growth Data'!$A:$F,6,0)),0,VLOOKUP($A105+8860000,'Growth Data'!$A:$F,6,0)),0)","v":0},0,null,0,{"$f":"IF(ISERROR(VLOOKUP($A105+8860000,'Growth Data'!$A:$Z,7,0)),0,VLOOKUP($A105+8860000,'Growth Data'!$A:$Z,7,0))","v":0},0,null,"NO",{"$f":"IF(ISERROR(VLOOKUP($A105+8860000,'Growth Data'!$A:$F,4,0)),\"NO\",VLOOKUP($A105+8860000,'Growth Data'!$A:$F,4,0))","v":"NO"},0,null,0,{"$f":"IF(ISERROR(VLOOKUP($A105+8860000,'Growth Data'!$A:$Z,8,0)),0,VLOOKUP($A105+8860000,'Growth Data'!$A:$Z,8,0))","v":0},0,null,0,{"$f":"IF(ISERROR(VLOOKUP($A105+8860000,'Growth Data'!$A:$Z,9,0)),0,VLOOKUP($A105+8860000,'Growth Data'!$A:$Z,9,0))","v":0},0,null,"NO",{"$f":"IF(ISERROR(VLOOKUP($A105+8860000,'Growth Data'!$A:$Z,5,0)),\"NO\",VLOOKUP($A105+8860000,'Growth Data'!$A:$Z,5,0))","v":"NO"},0,null,0,{"$f":"IF(ISERROR(VLOOKUP($A105+8860000,'Growth Data'!$A:$Z,10,0)),0,VLOOKUP($A105+8860000,'Growth Data'!$A:$Z,10,0))","v":0},0,null,0,{"$f":"IF(ISERROR(VLOOKUP($A105+8860000,'Growth Data'!$A:$Z,11,0)),0,VLOOKUP($A105+8860000,'Growth Data'!$A:$Z,11,0))","v":0},0]
[2519,"Vigo Village School",null,"Vigo Village School","Vigo Village School",0,null,516790.46,516790.45954280003,0,null,16207.93,16207.925757500005,0,null,1772.32,1772.3196182926861,0,null,40580.699999999997,40580.704291175287,0,null,120082.8,120082.8,0,null,0,0,0,null,0,0,0,null,0,0,0,null,21727,21727,0,null,0,0,0,null,0,0,0,null,0,0,0,null,717161.21,717161.2092097681,0,null,0,0,0,null,717161.21,717161.2092097681,0,null,0,null,0,null,717161.21,717161.2092097681,0,null,0,null,0,null,59072,null,59072,null,92.8,null,93,null,0,null,0,null,0,null,0,null,0,null,0,null,0,null,0,null,0,null,0,null,0,null,0,null,"NO",{"$f":"IF(ISERROR(VLOOKUP($A106+8860000,'Growth Data'!$A:$F,3,0)),\"NO\",VLOOKUP($A106+8860000,'Growth Data'!$A:$F,3,0))","v":"NO"},0,null,0,{"$f":"IF(DI106=\"YES\",IF(ISERROR(VLOOKUP($A106+8860000,'Growth Data'!$A:$F,6,0)),0,VLOOKUP($A106+8860000,'Growth Data'!$A:$F,6,0)),0)","v":0},0,null,0,{"$f":"IF(ISERROR(VLOOKUP($A106+8860000,'Growth Data'!$A:$Z,7,0)),0,VLOOKUP($A106+8860000,'Growth Data'!$A:$Z,7,0))","v":0},0,null,"NO",{"$f":"IF(ISERROR(VLOOKUP($A106+8860000,'Growth Data'!$A:$F,4,0)),\"NO\",VLOOKUP($A106+8860000,'Growth Data'!$A:$F,4,0))","v":"NO"},0,null,0,{"$f":"IF(ISERROR(VLOOKUP($A106+8860000,'Growth Data'!$A:$Z,8,0)),0,VLOOKUP($A106+8860000,'Growth Data'!$A:$Z,8,0))","v":0},0,null,0,{"$f":"IF(ISERROR(VLOOKUP($A106+8860000,'Growth Data'!$A:$Z,9,0)),0,VLOOKUP($A106+8860000,'Growth Data'!$A:$Z,9,0))","v":0},0,null,"NO",{"$f":"IF(ISERROR(VLOOKUP($A106+8860000,'Growth Data'!$A:$Z,5,0)),\"NO\",VLOOKUP($A106+8860000,'Growth Data'!$A:$Z,5,0))","v":"NO"},0,null,0,{"$f":"IF(ISERROR(VLOOKUP($A106+8860000,'Growth Data'!$A:$Z,10,0)),0,VLOOKUP($A106+8860000,'Growth Data'!$A:$Z,10,0))","v":0},0,null,0,{"$f":"IF(ISERROR(VLOOKUP($A106+8860000,'Growth Data'!$A:$Z,11,0)),0,VLOOKUP($A106+8860000,'Growth Data'!$A:$Z,11,0))","v":0},0]
[2520,"Madginford Primary School",null,"Madginford Primary School","Madginford Primary School",0,null,1764784.44,1764784.4416302,0,null,62967.42,62967.417560000045,0,null,19779.560000000001,19779.562400543487,0,null,94577.49,94577.494039694502,0,null,120082.8,120082.8,0,null,0,0,0,null,0,0,0,null,0,0,0,null,59882,59882,0,null,0,0,0,null,0,0,0,null,120608.28,120608.28436956182,0,null,2242682,2242682,0,null,0,0,0,null,2242682,2242682,0,null,0,null,0,null,2242682,2242682,0,null,0,null,0,null,176074.31,null,176074,null,0,null,0,null,0,null,0,null,0,null,0,null,0,null,0,null,0,null,0,null,0,null,0,null,0,null,0,null,"NO",{"$f":"IF(ISERROR(VLOOKUP($A107+8860000,'Growth Data'!$A:$F,3,0)),\"NO\",VLOOKUP($A107+8860000,'Growth Data'!$A:$F,3,0))","v":"NO"},0,null,0,{"$f":"IF(DI107=\"YES\",IF(ISERROR(VLOOKUP($A107+8860000,'Growth Data'!$A:$F,6,0)),0,VLOOKUP($A107+8860000,'Growth Data'!$A:$F,6,0)),0)","v":0},0,null,0,{"$f":"IF(ISERROR(VLOOKUP($A107+8860000,'Growth Data'!$A:$Z,7,0)),0,VLOOKUP($A107+8860000,'Growth Data'!$A:$Z,7,0))","v":0},0,null,"NO",{"$f":"IF(ISERROR(VLOOKUP($A107+8860000,'Growth Data'!$A:$F,4,0)),\"NO\",VLOOKUP($A107+8860000,'Growth Data'!$A:$F,4,0))","v":"NO"},0,null,0,{"$f":"IF(ISERROR(VLOOKUP($A107+8860000,'Growth Data'!$A:$Z,8,0)),0,VLOOKUP($A107+8860000,'Growth Data'!$A:$Z,8,0))","v":0},0,null,0,{"$f":"IF(ISERROR(VLOOKUP($A107+8860000,'Growth Data'!$A:$Z,9,0)),0,VLOOKUP($A107+8860000,'Growth Data'!$A:$Z,9,0))","v":0},0,null,"NO",{"$f":"IF(ISERROR(VLOOKUP($A107+8860000,'Growth Data'!$A:$Z,5,0)),\"NO\",VLOOKUP($A107+8860000,'Growth Data'!$A:$Z,5,0))","v":"NO"},0,null,0,{"$f":"IF(ISERROR(VLOOKUP($A107+8860000,'Growth Data'!$A:$Z,10,0)),0,VLOOKUP($A107+8860000,'Growth Data'!$A:$Z,10,0))","v":0},0,null,0,{"$f":"IF(ISERROR(VLOOKUP($A107+8860000,'Growth Data'!$A:$Z,11,0)),0,VLOOKUP($A107+8860000,'Growth Data'!$A:$Z,11,0))","v":0},0]
[2524,"Palmarsh Primary School",null,"Palmarsh Primary School","Palmarsh Primary School",0,null,404086.16,404086.15719569998,0,null,43616.27,43616.268718633088,0,null,1803.74,1803.7437249999994,0,null,38983.379999999997,38983.378696735337,0,null,120082.8,120082.8,0,null,0,0,0,null,0,0,0,null,0,0,0,null,12171,12171,0,null,0,0,0,null,0,0,0,null,0,0,0,null,620743.35,620743.34833606845,0,null,0,0,0,null,620743.35,620743.34833606845,0,null,0,null,0,null,620743.35,620743.34833606845,0,null,0,null,0,null,76548.679999999993,null,76549,null,0,null,0,null,0,null,0,null,0,null,0,null,0,null,0,null,0,null,0,null,0,null,0,null,0,null,0,null,"NO",{"$f":"IF(ISERROR(VLOOKUP($A108+8860000,'Growth Data'!$A:$F,3,0)),\"NO\",VLOOKUP($A108+8860000,'Growth Data'!$A:$F,3,0))","v":"NO"},0,null,0,{"$f":"IF(DI108=\"YES\",IF(ISERROR(VLOOKUP($A108+8860000,'Growth Data'!$A:$F,6,0)),0,VLOOKUP($A108+8860000,'Growth Data'!$A:$F,6,0)),0)","v":0},0,null,0,{"$f":"IF(ISERROR(VLOOKUP($A108+8860000,'Growth Data'!$A:$Z,7,0)),0,VLOOKUP($A108+8860000,'Growth Data'!$A:$Z,7,0))","v":0},0,null,"NO",{"$f":"IF(ISERROR(VLOOKUP($A108+8860000,'Growth Data'!$A:$F,4,0)),\"NO\",VLOOKUP($A108+8860000,'Growth Data'!$A:$F,4,0))","v":"NO"},0,null,0,{"$f":"IF(ISERROR(VLOOKUP($A108+8860000,'Growth Data'!$A:$Z,8,0)),0,VLOOKUP($A108+8860000,'Growth Data'!$A:$Z,8,0))","v":0},0,null,0,{"$f":"IF(ISERROR(VLOOKUP($A108+8860000,'Growth Data'!$A:$Z,9,0)),0,VLOOKUP($A108+8860000,'Growth Data'!$A:$Z,9,0))","v":0},0,null,"NO",{"$f":"IF(ISERROR(VLOOKUP($A108+8860000,'Growth Data'!$A:$Z,5,0)),\"NO\",VLOOKUP($A108+8860000,'Growth Data'!$A:$Z,5,0))","v":"NO"},0,null,0,{"$f":"IF(ISERROR(VLOOKUP($A108+8860000,'Growth Data'!$A:$Z,10,0)),0,VLOOKUP($A108+8860000,'Growth Data'!$A:$Z,10,0))","v":0},0,null,0,{"$f":"IF(ISERROR(VLOOKUP($A108+8860000,'Growth Data'!$A:$Z,11,0)),0,VLOOKUP($A108+8860000,'Growth Data'!$A:$Z,11,0))","v":0},0]
[2525,"Painters Ash Primary School",null,"Painters Ash Primary School","Painters Ash Primary School",0,null,1118796.3700000001,1118796.3672017001,0,null,107836.58,107836.58353995153,0,null,18738.439999999999,18738.439339913544,0,null,91636.54,91636.543246804533,0,null,120082.8,120082.8,0,null,0,0,0,null,0,0,0,null,0,0,0,null,40730,40730,0,null,0,0,0,null,0,0,0,null,0,0,0,null,1497820.73,1497820.7333283699,0,null,0,0,0,null,1497820.73,1497820.7333283699,0,null,0,null,0,null,1497820.73,1497820.7333283699,0,null,0,null,0,null,198028.35,null,198028,null,0,null,0,null,0,null,0,null,0,null,0,null,0,null,0,null,0,null,0,null,0,null,0,null,0,null,0,null,"NO",{"$f":"IF(ISERROR(VLOOKUP($A109+8860000,'Growth Data'!$A:$F,3,0)),\"NO\",VLOOKUP($A109+8860000,'Growth Data'!$A:$F,3,0))","v":"NO"},0,null,0,{"$f":"IF(DI109=\"YES\",IF(ISERROR(VLOOKUP($A109+8860000,'Growth Data'!$A:$F,6,0)),0,VLOOKUP($A109+8860000,'Growth Data'!$A:$F,6,0)),0)","v":0},0,null,0,{"$f":"IF(ISERROR(VLOOKUP($A109+8860000,'Growth Data'!$A:$Z,7,0)),0,VLOOKUP($A109+8860000,'Growth Data'!$A:$Z,7,0))","v":0},0,null,"NO",{"$f":"IF(ISERROR(VLOOKUP($A109+8860000,'Growth Data'!$A:$F,4,0)),\"NO\",VLOOKUP($A109+8860000,'Growth Data'!$A:$F,4,0))","v":"NO"},0,null,0,{"$f":"IF(ISERROR(VLOOKUP($A109+8860000,'Growth Data'!$A:$Z,8,0)),0,VLOOKUP($A109+8860000,'Growth Data'!$A:$Z,8,0))","v":0},0,null,0,{"$f":"IF(ISERROR(VLOOKUP($A109+8860000,'Growth Data'!$A:$Z,9,0)),0,VLOOKUP($A109+8860000,'Growth Data'!$A:$Z,9,0))","v":0},0,null,"NO",{"$f":"IF(ISERROR(VLOOKUP($A109+8860000,'Growth Data'!$A:$Z,5,0)),\"NO\",VLOOKUP($A109+8860000,'Growth Data'!$A:$Z,5,0))","v":"NO"},0,null,0,{"$f":"IF(ISERROR(VLOOKUP($A109+8860000,'Growth Data'!$A:$Z,10,0)),0,VLOOKUP($A109+8860000,'Growth Data'!$A:$Z,10,0))","v":0},0,null,0,{"$f":"IF(ISERROR(VLOOKUP($A109+8860000,'Growth Data'!$A:$Z,11,0)),0,VLOOKUP($A109+8860000,'Growth Data'!$A:$Z,11,0))","v":0},0]
[2530,"Tunbury Primary School",null,"Tunbury Primary School","Tunbury Primary School",0,null,1630089.06,1630089.0558982999,0,null,33185.08,33185.080144806678,0,null,1794.16,1794.1627546966722,0,null,77408.27,77408.265066731765,0,null,120082.8,120082.8,0,null,0,0,0,null,0,0,0,null,0,0,0,null,48985,48985,0,null,0,0,0,null,0,0,0,null,153640.64000000001,153640.636135465,0,null,2065185,2065185,0,null,0,0,0,null,2065185,2065185,0,null,0,null,0,null,2065185,2065185,0,null,0,null,0,null,114219.47,null,114219,null,0,null,0,null,0,null,0,null,0,null,0,null,0,null,0,null,0,null,0,null,0,null,0,null,0,null,0,null,"NO",{"$f":"IF(ISERROR(VLOOKUP($A110+8860000,'Growth Data'!$A:$F,3,0)),\"NO\",VLOOKUP($A110+8860000,'Growth Data'!$A:$F,3,0))","v":"NO"},0,null,0,{"$f":"IF(DI110=\"YES\",IF(ISERROR(VLOOKUP($A110+8860000,'Growth Data'!$A:$F,6,0)),0,VLOOKUP($A110+8860000,'Growth Data'!$A:$F,6,0)),0)","v":0},0,null,0,{"$f":"IF(ISERROR(VLOOKUP($A110+8860000,'Growth Data'!$A:$Z,7,0)),0,VLOOKUP($A110+8860000,'Growth Data'!$A:$Z,7,0))","v":0},0,null,"NO",{"$f":"IF(ISERROR(VLOOKUP($A110+8860000,'Growth Data'!$A:$F,4,0)),\"NO\",VLOOKUP($A110+8860000,'Growth Data'!$A:$F,4,0))","v":"NO"},0,null,0,{"$f":"IF(ISERROR(VLOOKUP($A110+8860000,'Growth Data'!$A:$Z,8,0)),0,VLOOKUP($A110+8860000,'Growth Data'!$A:$Z,8,0))","v":0},0,null,0,{"$f":"IF(ISERROR(VLOOKUP($A110+8860000,'Growth Data'!$A:$Z,9,0)),0,VLOOKUP($A110+8860000,'Growth Data'!$A:$Z,9,0))","v":0},0,null,"NO",{"$f":"IF(ISERROR(VLOOKUP($A110+8860000,'Growth Data'!$A:$Z,5,0)),\"NO\",VLOOKUP($A110+8860000,'Growth Data'!$A:$Z,5,0))","v":"NO"},0,null,0,{"$f":"IF(ISERROR(VLOOKUP($A110+8860000,'Growth Data'!$A:$Z,10,0)),0,VLOOKUP($A110+8860000,'Growth Data'!$A:$Z,10,0))","v":0},0,null,0,{"$f":"IF(ISERROR(VLOOKUP($A110+8860000,'Growth Data'!$A:$Z,11,0)),0,VLOOKUP($A110+8860000,'Growth Data'!$A:$Z,11,0))","v":0},0]
[2532,"St Margaret's-at-Cliffe Primary School",null,"St Margaret's-at-Cliffe Primary School","St Margaret's-at-Cliffe Primary School",0,null,533283.77,533283.77208140003,0,null,20630.23,20630.225039999998,0,null,2394.71,2394.7050994011943,0,null,30638.27,30638.267799475288,0,null,120082.8,120082.8,0,null,0,0,0,null,0,0,0,null,0,0,0,null,16503,16503,0,null,0,0,0,null,0,0,0,null,0,0,0,null,723532.77,723532.77002027654,0,null,0,0,0,null,723532.77,723532.77002027654,0,null,0,null,0,null,723532.77,723532.77002027654,0,null,0,null,0,null,55495.16,null,55495,null,450.48,null,450,null,0,null,0,null,0,null,0,null,0,null,0,null,0,null,0,null,0,null,0,null,0,null,0,null,"NO",{"$f":"IF(ISERROR(VLOOKUP($A111+8860000,'Growth Data'!$A:$F,3,0)),\"NO\",VLOOKUP($A111+8860000,'Growth Data'!$A:$F,3,0))","v":"NO"},0,null,0,{"$f":"IF(DI111=\"YES\",IF(ISERROR(VLOOKUP($A111+8860000,'Growth Data'!$A:$F,6,0)),0,VLOOKUP($A111+8860000,'Growth Data'!$A:$F,6,0)),0)","v":0},0,null,0,{"$f":"IF(ISERROR(VLOOKUP($A111+8860000,'Growth Data'!$A:$Z,7,0)),0,VLOOKUP($A111+8860000,'Growth Data'!$A:$Z,7,0))","v":0},0,null,"NO",{"$f":"IF(ISERROR(VLOOKUP($A111+8860000,'Growth Data'!$A:$F,4,0)),\"NO\",VLOOKUP($A111+8860000,'Growth Data'!$A:$F,4,0))","v":"NO"},0,null,0,{"$f":"IF(ISERROR(VLOOKUP($A111+8860000,'Growth Data'!$A:$Z,8,0)),0,VLOOKUP($A111+8860000,'Growth Data'!$A:$Z,8,0))","v":0},0,null,0,{"$f":"IF(ISERROR(VLOOKUP($A111+8860000,'Growth Data'!$A:$Z,9,0)),0,VLOOKUP($A111+8860000,'Growth Data'!$A:$Z,9,0))","v":0},0,null,"NO",{"$f":"IF(ISERROR(VLOOKUP($A111+8860000,'Growth Data'!$A:$Z,5,0)),\"NO\",VLOOKUP($A111+8860000,'Growth Data'!$A:$Z,5,0))","v":"NO"},0,null,0,{"$f":"IF(ISERROR(VLOOKUP($A111+8860000,'Growth Data'!$A:$Z,10,0)),0,VLOOKUP($A111+8860000,'Growth Data'!$A:$Z,10,0))","v":0},0,null,0,{"$f":"IF(ISERROR(VLOOKUP($A111+8860000,'Growth Data'!$A:$Z,11,0)),0,VLOOKUP($A111+8860000,'Growth Data'!$A:$Z,11,0))","v":0},0]
[2534,"Bysing Wood Primary School",null,"Bysing Wood Primary School","Bysing Wood Primary School",0,null,431575.01,431575.01142669999,0,null,103268.95,103268.94670051942,0,null,3492.55,3492.5520841726634,0,null,56751.77,56751.773449568769,0,null,120082.8,120082.8,0,null,0,0,0,null,0,0,0,null,0,0,0,null,42963,42963,0,null,0,0,0,null,0,0,0,null,0,0,0,null,758134.08,758134.0836609609,0,null,0,0,0,null,758134.08,758134.0836609609,0,null,0,null,0,null,758134.08,758134.0836609609,0,null,0,null,0,null,139807.63,null,139808,null,0,null,0,null,0,null,0,null,0,null,0,null,0,null,0,null,0,null,0,null,0,null,0,null,0,null,0,null,"NO",{"$f":"IF(ISERROR(VLOOKUP($A112+8860000,'Growth Data'!$A:$F,3,0)),\"NO\",VLOOKUP($A112+8860000,'Growth Data'!$A:$F,3,0))","v":"NO"},0,null,0,{"$f":"IF(DI112=\"YES\",IF(ISERROR(VLOOKUP($A112+8860000,'Growth Data'!$A:$F,6,0)),0,VLOOKUP($A112+8860000,'Growth Data'!$A:$F,6,0)),0)","v":0},0,null,0,{"$f":"IF(ISERROR(VLOOKUP($A112+8860000,'Growth Data'!$A:$Z,7,0)),0,VLOOKUP($A112+8860000,'Growth Data'!$A:$Z,7,0))","v":0},0,null,"NO",{"$f":"IF(ISERROR(VLOOKUP($A112+8860000,'Growth Data'!$A:$F,4,0)),\"NO\",VLOOKUP($A112+8860000,'Growth Data'!$A:$F,4,0))","v":"NO"},0,null,0,{"$f":"IF(ISERROR(VLOOKUP($A112+8860000,'Growth Data'!$A:$Z,8,0)),0,VLOOKUP($A112+8860000,'Growth Data'!$A:$Z,8,0))","v":0},0,null,0,{"$f":"IF(ISERROR(VLOOKUP($A112+8860000,'Growth Data'!$A:$Z,9,0)),0,VLOOKUP($A112+8860000,'Growth Data'!$A:$Z,9,0))","v":0},0,null,"YES",{"$f":"IF(ISERROR(VLOOKUP($A112+8860000,'Growth Data'!$A:$Z,5,0)),\"NO\",VLOOKUP($A112+8860000,'Growth Data'!$A:$Z,5,0))","v":"NO"},1,null,30,{"$f":"IF(ISERROR(VLOOKUP($A112+8860000,'Growth Data'!$A:$Z,10,0)),0,VLOOKUP($A112+8860000,'Growth Data'!$A:$Z,10,0))","v":0},1,null,60,{"$f":"IF(ISERROR(VLOOKUP($A112+8860000,'Growth Data'!$A:$Z,11,0)),0,VLOOKUP($A112+8860000,'Growth Data'!$A:$Z,11,0))","v":0},1]
[2539,"Stocks Green Primary School",null,"Stocks Green Primary School","Stocks Green Primary School",0,null,596508.14,596508.13681269996,0,null,3638.76,3638.7555854794527,0,null,2990.16,2990.1633943850265,0,null,20463.28,20463.277172193917,0,null,120082.8,120082.8,0,null,0,0,0,null,0,0,0,null,0,0,0,null,25445,25445,0,null,0,0,0,null,0,0,0,null,0,0,0,null,769128.13,769128.13296475832,0,null,0,0,0,null,769128.13,769128.13296475832,0,null,0,null,0,null,769128.13,769128.13296475832,0,null,0,null,0,null,32446.59,null,32447,null,2755.34,null,2755,null,0,null,0,null,0,null,0,null,0,null,0,null,0,null,0,null,0,null,0,null,0,null,0,null,"NO",{"$f":"IF(ISERROR(VLOOKUP($A113+8860000,'Growth Data'!$A:$F,3,0)),\"NO\",VLOOKUP($A113+8860000,'Growth Data'!$A:$F,3,0))","v":"NO"},0,null,0,{"$f":"IF(DI113=\"YES\",IF(ISERROR(VLOOKUP($A113+8860000,'Growth Data'!$A:$F,6,0)),0,VLOOKUP($A113+8860000,'Growth Data'!$A:$F,6,0)),0)","v":0},0,null,0,{"$f":"IF(ISERROR(VLOOKUP($A113+8860000,'Growth Data'!$A:$Z,7,0)),0,VLOOKUP($A113+8860000,'Growth Data'!$A:$Z,7,0))","v":0},0,null,"NO",{"$f":"IF(ISERROR(VLOOKUP($A113+8860000,'Growth Data'!$A:$F,4,0)),\"NO\",VLOOKUP($A113+8860000,'Growth Data'!$A:$F,4,0))","v":"NO"},0,null,0,{"$f":"IF(ISERROR(VLOOKUP($A113+8860000,'Growth Data'!$A:$Z,8,0)),0,VLOOKUP($A113+8860000,'Growth Data'!$A:$Z,8,0))","v":0},0,null,0,{"$f":"IF(ISERROR(VLOOKUP($A113+8860000,'Growth Data'!$A:$Z,9,0)),0,VLOOKUP($A113+8860000,'Growth Data'!$A:$Z,9,0))","v":0},0,null,"NO",{"$f":"IF(ISERROR(VLOOKUP($A113+8860000,'Growth Data'!$A:$Z,5,0)),\"NO\",VLOOKUP($A113+8860000,'Growth Data'!$A:$Z,5,0))","v":"NO"},0,null,0,{"$f":"IF(ISERROR(VLOOKUP($A113+8860000,'Growth Data'!$A:$Z,10,0)),0,VLOOKUP($A113+8860000,'Growth Data'!$A:$Z,10,0))","v":0},0,null,0,{"$f":"IF(ISERROR(VLOOKUP($A113+8860000,'Growth Data'!$A:$Z,11,0)),0,VLOOKUP($A113+8860000,'Growth Data'!$A:$Z,11,0))","v":0},0]
[2545,"Sandgate Primary School",null,"Sandgate Primary School","Sandgate Primary School",0,null,1171025.19,1171025.1902405999,0,null,55308.5,55308.495037924527,0,null,6598.24,6598.2381696721386,0,null,51238.9,51238.895295877002,0,null,120082.8,120082.8,0,null,0,0,0,null,0,0,0,null,0,0,0,null,45864,45864,0,null,0,0,0,null,0,0,0,null,44146.38,44146.381255926099,0,null,1494264,1494263.9999999998,0,null,0,0,0,null,1494264,1494263.9999999998,0,null,0,null,0,null,1494264,1494263.9999999998,0,null,0,null,0,null,104410.31,null,104410,null,0,null,0,null,0,null,0,null,0,null,0,null,0,null,0,null,0,null,0,null,0,null,0,null,0,null,0,null,"NO",{"$f":"IF(ISERROR(VLOOKUP($A114+8860000,'Growth Data'!$A:$F,3,0)),\"NO\",VLOOKUP($A114+8860000,'Growth Data'!$A:$F,3,0))","v":"NO"},0,null,0,{"$f":"IF(DI114=\"YES\",IF(ISERROR(VLOOKUP($A114+8860000,'Growth Data'!$A:$F,6,0)),0,VLOOKUP($A114+8860000,'Growth Data'!$A:$F,6,0)),0)","v":0},0,null,0,{"$f":"IF(ISERROR(VLOOKUP($A114+8860000,'Growth Data'!$A:$Z,7,0)),0,VLOOKUP($A114+8860000,'Growth Data'!$A:$Z,7,0))","v":0},0,null,"NO",{"$f":"IF(ISERROR(VLOOKUP($A114+8860000,'Growth Data'!$A:$F,4,0)),\"NO\",VLOOKUP($A114+8860000,'Growth Data'!$A:$F,4,0))","v":"NO"},0,null,0,{"$f":"IF(ISERROR(VLOOKUP($A114+8860000,'Growth Data'!$A:$Z,8,0)),0,VLOOKUP($A114+8860000,'Growth Data'!$A:$Z,8,0))","v":0},0,null,0,{"$f":"IF(ISERROR(VLOOKUP($A114+8860000,'Growth Data'!$A:$Z,9,0)),0,VLOOKUP($A114+8860000,'Growth Data'!$A:$Z,9,0))","v":0},0,null,"NO",{"$f":"IF(ISERROR(VLOOKUP($A114+8860000,'Growth Data'!$A:$Z,5,0)),\"NO\",VLOOKUP($A114+8860000,'Growth Data'!$A:$Z,5,0))","v":"NO"},0,null,0,{"$f":"IF(ISERROR(VLOOKUP($A114+8860000,'Growth Data'!$A:$Z,10,0)),0,VLOOKUP($A114+8860000,'Growth Data'!$A:$Z,10,0))","v":0},0,null,0,{"$f":"IF(ISERROR(VLOOKUP($A114+8860000,'Growth Data'!$A:$Z,11,0)),0,VLOOKUP($A114+8860000,'Growth Data'!$A:$Z,11,0))","v":0},0]
[2552,"Sandling Primary School",null,"Sandling Primary School","Sandling Primary School",0,null,1162778.53,1162778.5339713001,0,null,24150.2,24150.199317358492,0,null,7206.46,7206.4566297520623,0,null,61568.18,61568.183060759366,0,null,120082.8,120082.8,0,null,0,0,0,null,0,0,0,null,0,0,0,null,32162,32162,0,null,0,0,0,null,0,0,0,null,62413.83,62413.827020830242,0,null,1470362,1470362.0000000002,0,null,0,0,0,null,1470362,1470362.0000000002,0,null,0,null,0,null,1470362,1470362.0000000002,0,null,0,null,0,null,91234.37,null,91234,null,0,null,0,null,0,null,0,null,0,null,0,null,0,null,0,null,0,null,0,null,0,null,0,null,0,null,0,null,"NO",{"$f":"IF(ISERROR(VLOOKUP($A115+8860000,'Growth Data'!$A:$F,3,0)),\"NO\",VLOOKUP($A115+8860000,'Growth Data'!$A:$F,3,0))","v":"NO"},0,null,0,{"$f":"IF(DI115=\"YES\",IF(ISERROR(VLOOKUP($A115+8860000,'Growth Data'!$A:$F,6,0)),0,VLOOKUP($A115+8860000,'Growth Data'!$A:$F,6,0)),0)","v":0},0,null,0,{"$f":"IF(ISERROR(VLOOKUP($A115+8860000,'Growth Data'!$A:$Z,7,0)),0,VLOOKUP($A115+8860000,'Growth Data'!$A:$Z,7,0))","v":0},0,null,"NO",{"$f":"IF(ISERROR(VLOOKUP($A115+8860000,'Growth Data'!$A:$F,4,0)),\"NO\",VLOOKUP($A115+8860000,'Growth Data'!$A:$F,4,0))","v":"NO"},0,null,0,{"$f":"IF(ISERROR(VLOOKUP($A115+8860000,'Growth Data'!$A:$Z,8,0)),0,VLOOKUP($A115+8860000,'Growth Data'!$A:$Z,8,0))","v":0},0,null,0,{"$f":"IF(ISERROR(VLOOKUP($A115+8860000,'Growth Data'!$A:$Z,9,0)),0,VLOOKUP($A115+8860000,'Growth Data'!$A:$Z,9,0))","v":0},0,null,"NO",{"$f":"IF(ISERROR(VLOOKUP($A115+8860000,'Growth Data'!$A:$Z,5,0)),\"NO\",VLOOKUP($A115+8860000,'Growth Data'!$A:$Z,5,0))","v":"NO"},0,null,0,{"$f":"IF(ISERROR(VLOOKUP($A115+8860000,'Growth Data'!$A:$Z,10,0)),0,VLOOKUP($A115+8860000,'Growth Data'!$A:$Z,10,0))","v":0},0,null,0,{"$f":"IF(ISERROR(VLOOKUP($A115+8860000,'Growth Data'!$A:$Z,11,0)),0,VLOOKUP($A115+8860000,'Growth Data'!$A:$Z,11,0))","v":0},0]
[2559,"Capel-le-Ferne Primary School",null,"Capel-le-Ferne Primary School","Capel-le-Ferne Primary School",0,null,571768.17000000004,571768.16800479998,0,null,44820.67,44820.66591068291,0,null,0,0,0,null,40998.11,40998.105821027377,0,null,120082.8,120082.8,0,null,0,0,0,null,0,0,0,null,0,0,0,null,19026,19026,0,null,0,0,0,null,0,0,0,null,0,0,0,null,796695.74,796695.73973651032,0,null,0,0,0,null,796695.74,796695.73973651032,0,null,0,null,0,null,796695.74,796695.73973651032,0,null,0,null,0,null,86770.13,null,86770,null,0,null,0,null,0,null,0,null,0,null,0,null,0,null,0,null,0,null,0,null,0,null,0,null,0,null,0,null,"NO",{"$f":"IF(ISERROR(VLOOKUP($A116+8860000,'Growth Data'!$A:$F,3,0)),\"NO\",VLOOKUP($A116+8860000,'Growth Data'!$A:$F,3,0))","v":"NO"},0,null,0,{"$f":"IF(DI116=\"YES\",IF(ISERROR(VLOOKUP($A116+8860000,'Growth Data'!$A:$F,6,0)),0,VLOOKUP($A116+8860000,'Growth Data'!$A:$F,6,0)),0)","v":0},0,null,0,{"$f":"IF(ISERROR(VLOOKUP($A116+8860000,'Growth Data'!$A:$Z,7,0)),0,VLOOKUP($A116+8860000,'Growth Data'!$A:$Z,7,0))","v":0},0,null,"NO",{"$f":"IF(ISERROR(VLOOKUP($A116+8860000,'Growth Data'!$A:$F,4,0)),\"NO\",VLOOKUP($A116+8860000,'Growth Data'!$A:$F,4,0))","v":"NO"},0,null,0,{"$f":"IF(ISERROR(VLOOKUP($A116+8860000,'Growth Data'!$A:$Z,8,0)),0,VLOOKUP($A116+8860000,'Growth Data'!$A:$Z,8,0))","v":0},0,null,0,{"$f":"IF(ISERROR(VLOOKUP($A116+8860000,'Growth Data'!$A:$Z,9,0)),0,VLOOKUP($A116+8860000,'Growth Data'!$A:$Z,9,0))","v":0},0,null,"NO",{"$f":"IF(ISERROR(VLOOKUP($A116+8860000,'Growth Data'!$A:$Z,5,0)),\"NO\",VLOOKUP($A116+8860000,'Growth Data'!$A:$Z,5,0))","v":"NO"},0,null,0,{"$f":"IF(ISERROR(VLOOKUP($A116+8860000,'Growth Data'!$A:$Z,10,0)),0,VLOOKUP($A116+8860000,'Growth Data'!$A:$Z,10,0))","v":0},0,null,0,{"$f":"IF(ISERROR(VLOOKUP($A116+8860000,'Growth Data'!$A:$Z,11,0)),0,VLOOKUP($A116+8860000,'Growth Data'!$A:$Z,11,0))","v":0},0]
[2562,"Lunsford Primary School",null,"Lunsford Primary School","Lunsford Primary School",0,null,569019.28,569019.28258170001,0,null,19653.55,19653.551599999999,0,null,2397.27,2397.2709539325897,0,null,36699.440000000002,36699.440779510856,0,null,120082.8,120082.8,0,null,0,0,0,null,0,0,0,null,0,0,0,null,22154,22154,0,null,0,0,0,null,0,0,0,null,0,0,0,null,770006.35,770006.34591514349,0,null,0,0,0,null,770006.35,770006.34591514349,0,null,0,null,0,null,770006.35,770006.34591514349,0,null,0,null,0,null,56179.19,null,56179,null,382.08,null,382,null,0,null,0,null,0,null,0,null,0,null,0,null,0,null,0,null,0,null,0,null,0,null,0,null,"NO",{"$f":"IF(ISERROR(VLOOKUP($A117+8860000,'Growth Data'!$A:$F,3,0)),\"NO\",VLOOKUP($A117+8860000,'Growth Data'!$A:$F,3,0))","v":"NO"},0,null,0,{"$f":"IF(DI117=\"YES\",IF(ISERROR(VLOOKUP($A117+8860000,'Growth Data'!$A:$F,6,0)),0,VLOOKUP($A117+8860000,'Growth Data'!$A:$F,6,0)),0)","v":0},0,null,0,{"$f":"IF(ISERROR(VLOOKUP($A117+8860000,'Growth Data'!$A:$Z,7,0)),0,VLOOKUP($A117+8860000,'Growth Data'!$A:$Z,7,0))","v":0},0,null,"NO",{"$f":"IF(ISERROR(VLOOKUP($A117+8860000,'Growth Data'!$A:$F,4,0)),\"NO\",VLOOKUP($A117+8860000,'Growth Data'!$A:$F,4,0))","v":"NO"},0,null,0,{"$f":"IF(ISERROR(VLOOKUP($A117+8860000,'Growth Data'!$A:$Z,8,0)),0,VLOOKUP($A117+8860000,'Growth Data'!$A:$Z,8,0))","v":0},0,null,0,{"$f":"IF(ISERROR(VLOOKUP($A117+8860000,'Growth Data'!$A:$Z,9,0)),0,VLOOKUP($A117+8860000,'Growth Data'!$A:$Z,9,0))","v":0},0,null,"NO",{"$f":"IF(ISERROR(VLOOKUP($A117+8860000,'Growth Data'!$A:$Z,5,0)),\"NO\",VLOOKUP($A117+8860000,'Growth Data'!$A:$Z,5,0))","v":"NO"},0,null,0,{"$f":"IF(ISERROR(VLOOKUP($A117+8860000,'Growth Data'!$A:$Z,10,0)),0,VLOOKUP($A117+8860000,'Growth Data'!$A:$Z,10,0))","v":0},0,null,0,{"$f":"IF(ISERROR(VLOOKUP($A117+8860000,'Growth Data'!$A:$Z,11,0)),0,VLOOKUP($A117+8860000,'Growth Data'!$A:$Z,11,0))","v":0},0]
[2569,"Briary Primary School",null,"Briary Primary School","Briary Primary School",0,null,1003343.18,1003343.1794315,0,null,93740.64,93740.636440000002,0,null,3430.48,3430.4809012158053,0,null,89846.55,89846.548082754729,0,null,120082.8,120082.8,0,null,0,0,0,null,0,0,0,null,0,0,0,null,13098,13098,0,null,0,0,0,null,0,0,0,null,0,0,0,null,1323541.6399999999,1323541.6448554704,0,null,0,0,0,null,1323541.6399999999,1323541.6448554704,0,null,0,null,0,null,1323541.6399999999,1323541.6448554704,0,null,0,null,0,null,162431.41,null,162431,null,0,null,0,null,0,null,0,null,0,null,0,null,0,null,0,null,0,null,0,null,0,null,0,null,0,null,0,null,"NO",{"$f":"IF(ISERROR(VLOOKUP($A118+8860000,'Growth Data'!$A:$F,3,0)),\"NO\",VLOOKUP($A118+8860000,'Growth Data'!$A:$F,3,0))","v":"NO"},0,null,0,{"$f":"IF(DI118=\"YES\",IF(ISERROR(VLOOKUP($A118+8860000,'Growth Data'!$A:$F,6,0)),0,VLOOKUP($A118+8860000,'Growth Data'!$A:$F,6,0)),0)","v":0},0,null,0,{"$f":"IF(ISERROR(VLOOKUP($A118+8860000,'Growth Data'!$A:$Z,7,0)),0,VLOOKUP($A118+8860000,'Growth Data'!$A:$Z,7,0))","v":0},0,null,"NO",{"$f":"IF(ISERROR(VLOOKUP($A118+8860000,'Growth Data'!$A:$F,4,0)),\"NO\",VLOOKUP($A118+8860000,'Growth Data'!$A:$F,4,0))","v":"NO"},0,null,0,{"$f":"IF(ISERROR(VLOOKUP($A118+8860000,'Growth Data'!$A:$Z,8,0)),0,VLOOKUP($A118+8860000,'Growth Data'!$A:$Z,8,0))","v":0},0,null,0,{"$f":"IF(ISERROR(VLOOKUP($A118+8860000,'Growth Data'!$A:$Z,9,0)),0,VLOOKUP($A118+8860000,'Growth Data'!$A:$Z,9,0))","v":0},0,null,"NO",{"$f":"IF(ISERROR(VLOOKUP($A118+8860000,'Growth Data'!$A:$Z,5,0)),\"NO\",VLOOKUP($A118+8860000,'Growth Data'!$A:$Z,5,0))","v":"NO"},0,null,0,{"$f":"IF(ISERROR(VLOOKUP($A118+8860000,'Growth Data'!$A:$Z,10,0)),0,VLOOKUP($A118+8860000,'Growth Data'!$A:$Z,10,0))","v":0},0,null,0,{"$f":"IF(ISERROR(VLOOKUP($A118+8860000,'Growth Data'!$A:$Z,11,0)),0,VLOOKUP($A118+8860000,'Growth Data'!$A:$Z,11,0))","v":0},0]
[2574,"Downs View Infant School",null,"Downs View Infant School","Downs View Infant School",0,null,709212.44,709212.43915979995,0,null,47984.9,47984.902137230791,0,null,7685.65,7685.646260115609,0,null,41951.32,41951.317707864058,0,null,120082.8,120082.8,0,null,0,0,0,null,0,0,0,null,0,0,0,null,27216,27216,0,null,0,0,0,null,0,0,0,null,0,0,0,null,954133.11,954133.10526501038,0,null,0,0,0,null,954133.11,954133.10526501038,0,null,0,null,0,null,954133.11,954133.10526501038,0,null,0,null,0,null,90647.76,null,90648,null,0,null,0,null,0,null,0,null,0,null,0,null,0,null,0,null,0,null,0,null,0,null,0,null,0,null,0,null,"NO",{"$f":"IF(ISERROR(VLOOKUP($A119+8860000,'Growth Data'!$A:$F,3,0)),\"NO\",VLOOKUP($A119+8860000,'Growth Data'!$A:$F,3,0))","v":"NO"},0,null,0,{"$f":"IF(DI119=\"YES\",IF(ISERROR(VLOOKUP($A119+8860000,'Growth Data'!$A:$F,6,0)),0,VLOOKUP($A119+8860000,'Growth Data'!$A:$F,6,0)),0)","v":0},0,null,0,{"$f":"IF(ISERROR(VLOOKUP($A119+8860000,'Growth Data'!$A:$Z,7,0)),0,VLOOKUP($A119+8860000,'Growth Data'!$A:$Z,7,0))","v":0},0,null,"NO",{"$f":"IF(ISERROR(VLOOKUP($A119+8860000,'Growth Data'!$A:$F,4,0)),\"NO\",VLOOKUP($A119+8860000,'Growth Data'!$A:$F,4,0))","v":"NO"},0,null,0,{"$f":"IF(ISERROR(VLOOKUP($A119+8860000,'Growth Data'!$A:$Z,8,0)),0,VLOOKUP($A119+8860000,'Growth Data'!$A:$Z,8,0))","v":0},0,null,0,{"$f":"IF(ISERROR(VLOOKUP($A119+8860000,'Growth Data'!$A:$Z,9,0)),0,VLOOKUP($A119+8860000,'Growth Data'!$A:$Z,9,0))","v":0},0,null,"NO",{"$f":"IF(ISERROR(VLOOKUP($A119+8860000,'Growth Data'!$A:$Z,5,0)),\"NO\",VLOOKUP($A119+8860000,'Growth Data'!$A:$Z,5,0))","v":"NO"},0,null,0,{"$f":"IF(ISERROR(VLOOKUP($A119+8860000,'Growth Data'!$A:$Z,10,0)),0,VLOOKUP($A119+8860000,'Growth Data'!$A:$Z,10,0))","v":0},0,null,0,{"$f":"IF(ISERROR(VLOOKUP($A119+8860000,'Growth Data'!$A:$Z,11,0)),0,VLOOKUP($A119+8860000,'Growth Data'!$A:$Z,11,0))","v":0},0]
[2578,"Kingswood Primary School",null,"Kingswood Primary School","Kingswood Primary School",0,null,302377.40000000002,302377.39654099999,0,null,10747.32,10747.321959316672,0,null,1273.9100000000001,1273.9121011235982,0,null,8969.9699999999993,8969.9665513590517,0,null,120082.8,120082.8,0,null,0,0,0,null,0,0,0,null,0,0,0,null,11205,11205,0,null,0,0,0,null,0,0,0,null,0,0,0,null,454656.4,454656.3971527993,0,null,0,0,0,null,454656.4,454656.3971527993,0,null,0,null,0,null,454656.4,454656.3971527993,0,null,0,null,0,null,25024.68,null,25025,null,3497.53,null,3498,null,0,null,0,null,0,null,0,null,0,null,0,null,0,null,0,null,0,null,0,null,0,null,0,null,"NO",{"$f":"IF(ISERROR(VLOOKUP($A120+8860000,'Growth Data'!$A:$F,3,0)),\"NO\",VLOOKUP($A120+8860000,'Growth Data'!$A:$F,3,0))","v":"NO"},0,null,0,{"$f":"IF(DI120=\"YES\",IF(ISERROR(VLOOKUP($A120+8860000,'Growth Data'!$A:$F,6,0)),0,VLOOKUP($A120+8860000,'Growth Data'!$A:$F,6,0)),0)","v":0},0,null,0,{"$f":"IF(ISERROR(VLOOKUP($A120+8860000,'Growth Data'!$A:$Z,7,0)),0,VLOOKUP($A120+8860000,'Growth Data'!$A:$Z,7,0))","v":0},0,null,"NO",{"$f":"IF(ISERROR(VLOOKUP($A120+8860000,'Growth Data'!$A:$F,4,0)),\"NO\",VLOOKUP($A120+8860000,'Growth Data'!$A:$F,4,0))","v":"NO"},0,null,0,{"$f":"IF(ISERROR(VLOOKUP($A120+8860000,'Growth Data'!$A:$Z,8,0)),0,VLOOKUP($A120+8860000,'Growth Data'!$A:$Z,8,0))","v":0},0,null,0,{"$f":"IF(ISERROR(VLOOKUP($A120+8860000,'Growth Data'!$A:$Z,9,0)),0,VLOOKUP($A120+8860000,'Growth Data'!$A:$Z,9,0))","v":0},0,null,"NO",{"$f":"IF(ISERROR(VLOOKUP($A120+8860000,'Growth Data'!$A:$Z,5,0)),\"NO\",VLOOKUP($A120+8860000,'Growth Data'!$A:$Z,5,0))","v":"NO"},0,null,0,{"$f":"IF(ISERROR(VLOOKUP($A120+8860000,'Growth Data'!$A:$Z,10,0)),0,VLOOKUP($A120+8860000,'Growth Data'!$A:$Z,10,0))","v":0},0,null,0,{"$f":"IF(ISERROR(VLOOKUP($A120+8860000,'Growth Data'!$A:$Z,11,0)),0,VLOOKUP($A120+8860000,'Growth Data'!$A:$Z,11,0))","v":0},0]
[2586,"Senacre Wood Primary School",null,"Senacre Wood Primary School","Senacre Wood Primary School",0,null,566270.4,566270.39715860004,0,null,77963.06,77963.061767826104,0,null,8946.34,8946.3372556179766,0,null,53811.51,53811.506580988324,0,null,120082.8,120082.8,0,null,0,0,0,null,0,0,0,null,0,0,0,null,19868,19868,0,null,0,0,0,null,0,0,0,null,0,0,0,null,846942.1,846942.10276303242,0,null,0,0,0,null,846942.1,846942.10276303242,0,null,0,null,0,null,846942.1,846942.10276303242,0,null,0,null,0,null,132425.89000000001,null,132426,null,0,null,0,null,0,null,0,null,0,null,0,null,0,null,0,null,0,null,0,null,0,null,0,null,0,null,0,null,"NO",{"$f":"IF(ISERROR(VLOOKUP($A121+8860000,'Growth Data'!$A:$F,3,0)),\"NO\",VLOOKUP($A121+8860000,'Growth Data'!$A:$F,3,0))","v":"NO"},0,null,0,{"$f":"IF(DI121=\"YES\",IF(ISERROR(VLOOKUP($A121+8860000,'Growth Data'!$A:$F,6,0)),0,VLOOKUP($A121+8860000,'Growth Data'!$A:$F,6,0)),0)","v":0},0,null,0,{"$f":"IF(ISERROR(VLOOKUP($A121+8860000,'Growth Data'!$A:$Z,7,0)),0,VLOOKUP($A121+8860000,'Growth Data'!$A:$Z,7,0))","v":0},0,null,"NO",{"$f":"IF(ISERROR(VLOOKUP($A121+8860000,'Growth Data'!$A:$F,4,0)),\"NO\",VLOOKUP($A121+8860000,'Growth Data'!$A:$F,4,0))","v":"NO"},0,null,0,{"$f":"IF(ISERROR(VLOOKUP($A121+8860000,'Growth Data'!$A:$Z,8,0)),0,VLOOKUP($A121+8860000,'Growth Data'!$A:$Z,8,0))","v":0},0,null,0,{"$f":"IF(ISERROR(VLOOKUP($A121+8860000,'Growth Data'!$A:$Z,9,0)),0,VLOOKUP($A121+8860000,'Growth Data'!$A:$Z,9,0))","v":0},0,null,"NO",{"$f":"IF(ISERROR(VLOOKUP($A121+8860000,'Growth Data'!$A:$Z,5,0)),\"NO\",VLOOKUP($A121+8860000,'Growth Data'!$A:$Z,5,0))","v":"NO"},0,null,0,{"$f":"IF(ISERROR(VLOOKUP($A121+8860000,'Growth Data'!$A:$Z,10,0)),0,VLOOKUP($A121+8860000,'Growth Data'!$A:$Z,10,0))","v":0},0,null,0,{"$f":"IF(ISERROR(VLOOKUP($A121+8860000,'Growth Data'!$A:$Z,11,0)),0,VLOOKUP($A121+8860000,'Growth Data'!$A:$Z,11,0))","v":0},0]
[2603,"Bromstone Primary School, Broadstairs",null,"Bromstone Primary School, Broadstairs","Bromstone Primary School, Broadstairs",0,null,1330460.54,1330460.5447804001,0,null,197942.12,197942.12243952771,0,null,12353.94,12353.942871226427,0,null,122397.9,122397.89539044842,0,null,120082.8,120082.8,0,null,0,0,0,null,0,0,0,null,0,0,0,null,41024,41024,0,null,0,0,0,null,0,0,0,null,0,0,0,null,1824261.31,1824261.3054816027,0,null,0,0,0,null,1824261.31,1824261.3054816027,0,null,0,null,0,null,1824261.31,1824261.3054816027,0,null,0,null,0,null,291376.17,null,291376,null,0,null,0,null,0,null,0,null,96000,null,96000,null,521.84,null,522,null,521.84,null,522,null,521.84,null,522,null,521.84,null,522,null,"NO",{"$f":"IF(ISERROR(VLOOKUP($A122+8860000,'Growth Data'!$A:$F,3,0)),\"NO\",VLOOKUP($A122+8860000,'Growth Data'!$A:$F,3,0))","v":"NO"},0,null,0,{"$f":"IF(DI122=\"YES\",IF(ISERROR(VLOOKUP($A122+8860000,'Growth Data'!$A:$F,6,0)),0,VLOOKUP($A122+8860000,'Growth Data'!$A:$F,6,0)),0)","v":0},0,null,0,{"$f":"IF(ISERROR(VLOOKUP($A122+8860000,'Growth Data'!$A:$Z,7,0)),0,VLOOKUP($A122+8860000,'Growth Data'!$A:$Z,7,0))","v":0},0,null,"NO",{"$f":"IF(ISERROR(VLOOKUP($A122+8860000,'Growth Data'!$A:$F,4,0)),\"NO\",VLOOKUP($A122+8860000,'Growth Data'!$A:$F,4,0))","v":"NO"},0,null,0,{"$f":"IF(ISERROR(VLOOKUP($A122+8860000,'Growth Data'!$A:$Z,8,0)),0,VLOOKUP($A122+8860000,'Growth Data'!$A:$Z,8,0))","v":0},0,null,0,{"$f":"IF(ISERROR(VLOOKUP($A122+8860000,'Growth Data'!$A:$Z,9,0)),0,VLOOKUP($A122+8860000,'Growth Data'!$A:$Z,9,0))","v":0},0,null,"NO",{"$f":"IF(ISERROR(VLOOKUP($A122+8860000,'Growth Data'!$A:$Z,5,0)),\"NO\",VLOOKUP($A122+8860000,'Growth Data'!$A:$Z,5,0))","v":"NO"},0,null,0,{"$f":"IF(ISERROR(VLOOKUP($A122+8860000,'Growth Data'!$A:$Z,10,0)),0,VLOOKUP($A122+8860000,'Growth Data'!$A:$Z,10,0))","v":0},0,null,0,{"$f":"IF(ISERROR(VLOOKUP($A122+8860000,'Growth Data'!$A:$Z,11,0)),0,VLOOKUP($A122+8860000,'Growth Data'!$A:$Z,11,0))","v":0},0]
[2607,"Parkside Community Primary School",null,"Parkside Community Primary School","Parkside Community Primary School",0,null,261144.12,261144.11519450002,0,null,77730.37,77730.372676168219,0,null,2781.75,2781.7476278409085,0,null,42156.95,42156.946392539539,0,null,120082.8,120082.8,0,null,0,0,0,null,0,0,0,null,0,0,0,null,18154,18154,0,null,0,0,0,null,0,0,0,null,0,0,0,null,522049.98,522049.98189104866,0,null,31330.12,31330.117381001182,0,null,553380.1,553380.09927204985,0,null,0,null,0,null,553380.1,553380.09927204985,0,null,4.9000000000000004,null,5,null,103806.76,null,103807,null,0,null,0,null,0,null,0,null,0,null,0,null,0,null,0,null,0,null,0,null,0,null,0,null,0,null,0,null,"NO",{"$f":"IF(ISERROR(VLOOKUP($A123+8860000,'Growth Data'!$A:$F,3,0)),\"NO\",VLOOKUP($A123+8860000,'Growth Data'!$A:$F,3,0))","v":"NO"},0,null,0,{"$f":"IF(DI123=\"YES\",IF(ISERROR(VLOOKUP($A123+8860000,'Growth Data'!$A:$F,6,0)),0,VLOOKUP($A123+8860000,'Growth Data'!$A:$F,6,0)),0)","v":0},0,null,0,{"$f":"IF(ISERROR(VLOOKUP($A123+8860000,'Growth Data'!$A:$Z,7,0)),0,VLOOKUP($A123+8860000,'Growth Data'!$A:$Z,7,0))","v":0},0,null,"NO",{"$f":"IF(ISERROR(VLOOKUP($A123+8860000,'Growth Data'!$A:$F,4,0)),\"NO\",VLOOKUP($A123+8860000,'Growth Data'!$A:$F,4,0))","v":"NO"},0,null,0,{"$f":"IF(ISERROR(VLOOKUP($A123+8860000,'Growth Data'!$A:$Z,8,0)),0,VLOOKUP($A123+8860000,'Growth Data'!$A:$Z,8,0))","v":0},0,null,0,{"$f":"IF(ISERROR(VLOOKUP($A123+8860000,'Growth Data'!$A:$Z,9,0)),0,VLOOKUP($A123+8860000,'Growth Data'!$A:$Z,9,0))","v":0},0,null,"NO",{"$f":"IF(ISERROR(VLOOKUP($A123+8860000,'Growth Data'!$A:$Z,5,0)),\"NO\",VLOOKUP($A123+8860000,'Growth Data'!$A:$Z,5,0))","v":"NO"},0,null,0,{"$f":"IF(ISERROR(VLOOKUP($A123+8860000,'Growth Data'!$A:$Z,10,0)),0,VLOOKUP($A123+8860000,'Growth Data'!$A:$Z,10,0))","v":0},0,null,0,{"$f":"IF(ISERROR(VLOOKUP($A123+8860000,'Growth Data'!$A:$Z,11,0)),0,VLOOKUP($A123+8860000,'Growth Data'!$A:$Z,11,0))","v":0},0]
[2611,"St Stephen's Infant School",null,"St Stephen's Infant School","St Stephen's Infant School",0,null,733952.41,733952.40796770004,0,null,97982.1,97982.102386917337,0,null,28145.43,28145.429682954611,0,null,53545.3,53545.29557489654,0,null,120082.8,120082.8,0,null,0,0,0,null,0,0,0,null,0,0,0,null,24550,24550,0,null,0,0,0,null,0,0,0,null,0,0,0,null,1058258.04,1058258.0356124686,0,null,0,0,0,null,1058258.04,1058258.0356124686,0,null,0,null,0,null,1058258.04,1058258.0356124686,0,null,0,null,0,null,167415.07999999999,null,167415,null,0,null,0,null,0,null,0,null,0,null,0,null,0,null,0,null,0,null,0,null,0,null,0,null,0,null,0,null,"NO",{"$f":"IF(ISERROR(VLOOKUP($A124+8860000,'Growth Data'!$A:$F,3,0)),\"NO\",VLOOKUP($A124+8860000,'Growth Data'!$A:$F,3,0))","v":"NO"},0,null,0,{"$f":"IF(DI124=\"YES\",IF(ISERROR(VLOOKUP($A124+8860000,'Growth Data'!$A:$F,6,0)),0,VLOOKUP($A124+8860000,'Growth Data'!$A:$F,6,0)),0)","v":0},0,null,0,{"$f":"IF(ISERROR(VLOOKUP($A124+8860000,'Growth Data'!$A:$Z,7,0)),0,VLOOKUP($A124+8860000,'Growth Data'!$A:$Z,7,0))","v":0},0,null,"NO",{"$f":"IF(ISERROR(VLOOKUP($A124+8860000,'Growth Data'!$A:$F,4,0)),\"NO\",VLOOKUP($A124+8860000,'Growth Data'!$A:$F,4,0))","v":"NO"},0,null,0,{"$f":"IF(ISERROR(VLOOKUP($A124+8860000,'Growth Data'!$A:$Z,8,0)),0,VLOOKUP($A124+8860000,'Growth Data'!$A:$Z,8,0))","v":0},0,null,0,{"$f":"IF(ISERROR(VLOOKUP($A124+8860000,'Growth Data'!$A:$Z,9,0)),0,VLOOKUP($A124+8860000,'Growth Data'!$A:$Z,9,0))","v":0},0,null,"NO",{"$f":"IF(ISERROR(VLOOKUP($A124+8860000,'Growth Data'!$A:$Z,5,0)),\"NO\",VLOOKUP($A124+8860000,'Growth Data'!$A:$Z,5,0))","v":"NO"},0,null,0,{"$f":"IF(ISERROR(VLOOKUP($A124+8860000,'Growth Data'!$A:$Z,10,0)),0,VLOOKUP($A124+8860000,'Growth Data'!$A:$Z,10,0))","v":0},0,null,0,{"$f":"IF(ISERROR(VLOOKUP($A124+8860000,'Growth Data'!$A:$Z,11,0)),0,VLOOKUP($A124+8860000,'Growth Data'!$A:$Z,11,0))","v":0},0]
[2615,"High Firs Primary School",null,"High Firs Primary School","High Firs Primary School",0,null,569019.28,569019.28258170001,0,null,41370.230000000003,41370.231659411773,0,null,5424.33,5424.3334296610128,0,null,49766.44,49766.442949601405,0,null,120082.8,120082.8,0,null,0,0,0,null,28598.14,28598.136498581614,0,null,0,0,0,null,24550,24550,0,null,0,0,0,null,0,0,0,null,0,0,0,null,838811.23,838811.22711895593,0,null,0,0,0,null,838811.23,838811.22711895593,0,null,0,null,0,null,838811.23,838811.22711895593,0,null,0,null,0,null,100149.15,null,100149,null,0,null,0,null,0,null,0,null,0,null,0,null,0,null,0,null,0,null,0,null,0,null,0,null,0,null,0,null,"NO",{"$f":"IF(ISERROR(VLOOKUP($A125+8860000,'Growth Data'!$A:$F,3,0)),\"NO\",VLOOKUP($A125+8860000,'Growth Data'!$A:$F,3,0))","v":"NO"},0,null,0,{"$f":"IF(DI125=\"YES\",IF(ISERROR(VLOOKUP($A125+8860000,'Growth Data'!$A:$F,6,0)),0,VLOOKUP($A125+8860000,'Growth Data'!$A:$F,6,0)),0)","v":0},0,null,0,{"$f":"IF(ISERROR(VLOOKUP($A125+8860000,'Growth Data'!$A:$Z,7,0)),0,VLOOKUP($A125+8860000,'Growth Data'!$A:$Z,7,0))","v":0},0,null,"NO",{"$f":"IF(ISERROR(VLOOKUP($A125+8860000,'Growth Data'!$A:$F,4,0)),\"NO\",VLOOKUP($A125+8860000,'Growth Data'!$A:$F,4,0))","v":"NO"},0,null,0,{"$f":"IF(ISERROR(VLOOKUP($A125+8860000,'Growth Data'!$A:$Z,8,0)),0,VLOOKUP($A125+8860000,'Growth Data'!$A:$Z,8,0))","v":0},0,null,0,{"$f":"IF(ISERROR(VLOOKUP($A125+8860000,'Growth Data'!$A:$Z,9,0)),0,VLOOKUP($A125+8860000,'Growth Data'!$A:$Z,9,0))","v":0},0,null,"NO",{"$f":"IF(ISERROR(VLOOKUP($A125+8860000,'Growth Data'!$A:$Z,5,0)),\"NO\",VLOOKUP($A125+8860000,'Growth Data'!$A:$Z,5,0))","v":"NO"},0,null,0,{"$f":"IF(ISERROR(VLOOKUP($A125+8860000,'Growth Data'!$A:$Z,10,0)),0,VLOOKUP($A125+8860000,'Growth Data'!$A:$Z,10,0))","v":0},0,null,0,{"$f":"IF(ISERROR(VLOOKUP($A125+8860000,'Growth Data'!$A:$Z,11,0)),0,VLOOKUP($A125+8860000,'Growth Data'!$A:$Z,11,0))","v":0},0]
[2626,"Sandwich Infant School",null,"Sandwich Infant School","Sandwich Infant School",0,null,360103.99,360103.99042609998,0,null,25917.87,25917.870999999977,0,null,2250.39,2250.3850283333309,0,null,29166.59,29166.592975425236,0,null,120082.8,120082.8,0,null,0,0,0,null,0,0,0,null,0,0,0,null,13871,13871,0,null,0,0,0,null,0,0,0,null,0,0,0,null,551392.64,551392.63942985854,0,null,0,0,0,null,551392.64,551392.63942985854,0,null,0,null,0,null,551392.64,551392.63942985854,0,null,0,null,0,null,56965.3,null,56965,null,303.47000000000003,null,303,null,0,null,0,null,0,null,0,null,0,null,0,null,0,null,0,null,0,null,0,null,0,null,0,null,"NO",{"$f":"IF(ISERROR(VLOOKUP($A126+8860000,'Growth Data'!$A:$F,3,0)),\"NO\",VLOOKUP($A126+8860000,'Growth Data'!$A:$F,3,0))","v":"NO"},0,null,0,{"$f":"IF(DI126=\"YES\",IF(ISERROR(VLOOKUP($A126+8860000,'Growth Data'!$A:$F,6,0)),0,VLOOKUP($A126+8860000,'Growth Data'!$A:$F,6,0)),0)","v":0},0,null,0,{"$f":"IF(ISERROR(VLOOKUP($A126+8860000,'Growth Data'!$A:$Z,7,0)),0,VLOOKUP($A126+8860000,'Growth Data'!$A:$Z,7,0))","v":0},0,null,"NO",{"$f":"IF(ISERROR(VLOOKUP($A126+8860000,'Growth Data'!$A:$F,4,0)),\"NO\",VLOOKUP($A126+8860000,'Growth Data'!$A:$F,4,0))","v":"NO"},0,null,0,{"$f":"IF(ISERROR(VLOOKUP($A126+8860000,'Growth Data'!$A:$Z,8,0)),0,VLOOKUP($A126+8860000,'Growth Data'!$A:$Z,8,0))","v":0},0,null,0,{"$f":"IF(ISERROR(VLOOKUP($A126+8860000,'Growth Data'!$A:$Z,9,0)),0,VLOOKUP($A126+8860000,'Growth Data'!$A:$Z,9,0))","v":0},0,null,"NO",{"$f":"IF(ISERROR(VLOOKUP($A126+8860000,'Growth Data'!$A:$Z,5,0)),\"NO\",VLOOKUP($A126+8860000,'Growth Data'!$A:$Z,5,0))","v":"NO"},0,null,0,{"$f":"IF(ISERROR(VLOOKUP($A126+8860000,'Growth Data'!$A:$Z,10,0)),0,VLOOKUP($A126+8860000,'Growth Data'!$A:$Z,10,0))","v":0},0,null,0,{"$f":"IF(ISERROR(VLOOKUP($A126+8860000,'Growth Data'!$A:$Z,11,0)),0,VLOOKUP($A126+8860000,'Growth Data'!$A:$Z,11,0))","v":0},0]
[2627,"Sandwich Junior School",null,"Sandwich Junior School","Sandwich Junior School",0,null,607503.68000000005,607503.67850509996,0,null,52953.41,52953.409519820634,0,null,2576.7800000000002,2576.7767500000036,0,null,34863.980000000003,34863.981293544792,0,null,120082.8,120082.8,0,null,0,0,0,null,0,0,0,null,0,0,0,null,23046,23046,0,null,0,0,0,null,0,0,0,null,0,0,0,null,841026.65,841026.64606846531,0,null,0,0,0,null,841026.65,841026.64606846531,0,null,0,null,0,null,841026.65,841026.64606846531,0,null,0,null,0,null,82099.149999999994,null,82099,null,0,null,0,null,0,null,0,null,0,null,0,null,0,null,0,null,0,null,0,null,0,null,0,null,0,null,0,null,"NO",{"$f":"IF(ISERROR(VLOOKUP($A127+8860000,'Growth Data'!$A:$F,3,0)),\"NO\",VLOOKUP($A127+8860000,'Growth Data'!$A:$F,3,0))","v":"NO"},0,null,0,{"$f":"IF(DI127=\"YES\",IF(ISERROR(VLOOKUP($A127+8860000,'Growth Data'!$A:$F,6,0)),0,VLOOKUP($A127+8860000,'Growth Data'!$A:$F,6,0)),0)","v":0},0,null,0,{"$f":"IF(ISERROR(VLOOKUP($A127+8860000,'Growth Data'!$A:$Z,7,0)),0,VLOOKUP($A127+8860000,'Growth Data'!$A:$Z,7,0))","v":0},0,null,"NO",{"$f":"IF(ISERROR(VLOOKUP($A127+8860000,'Growth Data'!$A:$F,4,0)),\"NO\",VLOOKUP($A127+8860000,'Growth Data'!$A:$F,4,0))","v":"NO"},0,null,0,{"$f":"IF(ISERROR(VLOOKUP($A127+8860000,'Growth Data'!$A:$Z,8,0)),0,VLOOKUP($A127+8860000,'Growth Data'!$A:$Z,8,0))","v":0},0,null,0,{"$f":"IF(ISERROR(VLOOKUP($A127+8860000,'Growth Data'!$A:$Z,9,0)),0,VLOOKUP($A127+8860000,'Growth Data'!$A:$Z,9,0))","v":0},0,null,"NO",{"$f":"IF(ISERROR(VLOOKUP($A127+8860000,'Growth Data'!$A:$Z,5,0)),\"NO\",VLOOKUP($A127+8860000,'Growth Data'!$A:$Z,5,0))","v":"NO"},0,null,0,{"$f":"IF(ISERROR(VLOOKUP($A127+8860000,'Growth Data'!$A:$Z,10,0)),0,VLOOKUP($A127+8860000,'Growth Data'!$A:$Z,10,0))","v":0},0,null,0,{"$f":"IF(ISERROR(VLOOKUP($A127+8860000,'Growth Data'!$A:$Z,11,0)),0,VLOOKUP($A127+8860000,'Growth Data'!$A:$Z,11,0))","v":0},0]
[2629,"Holywell Primary School Upchurch",null,"Holywell Primary School Upchurch","Holywell Primary School Upchurch",0,null,536032.66,536032.65750450001,0,null,16379.69,16379.693210098521,0,null,6017.62,6017.6223502994035,0,null,23401.919999999998,23401.919596255753,0,null,120082.8,120082.8,0,null,0,0,0,null,0,0,0,null,0,0,0,null,23200,23200,0,null,0,0,0,null,0,0,0,null,0,0,0,null,725114.69,725114.69266115373,0,null,0,0,0,null,725114.69,725114.69266115373,0,null,0,null,0,null,725114.69,725114.69266115373,0,null,0,null,0,null,46750.59,null,46751,null,1324.94,null,1325,null,0,null,0,null,0,null,0,null,0,null,0,null,0,null,0,null,0,null,0,null,0,null,0,null,"NO",{"$f":"IF(ISERROR(VLOOKUP($A128+8860000,'Growth Data'!$A:$F,3,0)),\"NO\",VLOOKUP($A128+8860000,'Growth Data'!$A:$F,3,0))","v":"NO"},0,null,0,{"$f":"IF(DI128=\"YES\",IF(ISERROR(VLOOKUP($A128+8860000,'Growth Data'!$A:$F,6,0)),0,VLOOKUP($A128+8860000,'Growth Data'!$A:$F,6,0)),0)","v":0},0,null,0,{"$f":"IF(ISERROR(VLOOKUP($A128+8860000,'Growth Data'!$A:$Z,7,0)),0,VLOOKUP($A128+8860000,'Growth Data'!$A:$Z,7,0))","v":0},0,null,"NO",{"$f":"IF(ISERROR(VLOOKUP($A128+8860000,'Growth Data'!$A:$F,4,0)),\"NO\",VLOOKUP($A128+8860000,'Growth Data'!$A:$F,4,0))","v":"NO"},0,null,0,{"$f":"IF(ISERROR(VLOOKUP($A128+8860000,'Growth Data'!$A:$Z,8,0)),0,VLOOKUP($A128+8860000,'Growth Data'!$A:$Z,8,0))","v":0},0,null,0,{"$f":"IF(ISERROR(VLOOKUP($A128+8860000,'Growth Data'!$A:$Z,9,0)),0,VLOOKUP($A128+8860000,'Growth Data'!$A:$Z,9,0))","v":0},0,null,"NO",{"$f":"IF(ISERROR(VLOOKUP($A128+8860000,'Growth Data'!$A:$Z,5,0)),\"NO\",VLOOKUP($A128+8860000,'Growth Data'!$A:$Z,5,0))","v":"NO"},0,null,0,{"$f":"IF(ISERROR(VLOOKUP($A128+8860000,'Growth Data'!$A:$Z,10,0)),0,VLOOKUP($A128+8860000,'Growth Data'!$A:$Z,10,0))","v":0},0,null,0,{"$f":"IF(ISERROR(VLOOKUP($A128+8860000,'Growth Data'!$A:$Z,11,0)),0,VLOOKUP($A128+8860000,'Growth Data'!$A:$Z,11,0))","v":0},0]
[2632,"Sevenoaks Primary School",null,"Sevenoaks Primary School","Sevenoaks Primary School",0,null,1638335.71,1638335.7121675999,0,null,28661.54,28661.54434184873,0,null,44919.43,44919.431534387499,0,null,78937.78,78937.783235411232,0,null,120082.8,120082.8,0,null,0,0,0,null,69558.12,69558.116674564575,0,null,0,0,0,null,74088,74088,0,null,0,0,0,null,0,0,0,null,45904.61,45904.612046188209,0,null,2100488,2100488,0,null,0,0,0,null,2100488,2100488,0,null,0,null,0,null,2100488,2100488,0,null,0,null,0,null,150386.15,null,150386,null,0,null,0,null,0,null,0,null,0,null,0,null,0,null,0,null,0,null,0,null,0,null,0,null,0,null,0,null,"NO",{"$f":"IF(ISERROR(VLOOKUP($A129+8860000,'Growth Data'!$A:$F,3,0)),\"NO\",VLOOKUP($A129+8860000,'Growth Data'!$A:$F,3,0))","v":"YES"},1,null,0,{"$f":"IF(DI129=\"YES\",IF(ISERROR(VLOOKUP($A129+8860000,'Growth Data'!$A:$F,6,0)),0,VLOOKUP($A129+8860000,'Growth Data'!$A:$F,6,0)),0)","v":60},-60,null,0,{"$f":"IF(ISERROR(VLOOKUP($A129+8860000,'Growth Data'!$A:$Z,7,0)),0,VLOOKUP($A129+8860000,'Growth Data'!$A:$Z,7,0))","v":90},1,null,"YES",{"$f":"IF(ISERROR(VLOOKUP($A129+8860000,'Growth Data'!$A:$F,4,0)),\"NO\",VLOOKUP($A129+8860000,'Growth Data'!$A:$F,4,0))","v":"NO"},1,null,62,{"$f":"IF(ISERROR(VLOOKUP($A129+8860000,'Growth Data'!$A:$Z,8,0)),0,VLOOKUP($A129+8860000,'Growth Data'!$A:$Z,8,0))","v":0},1,null,90,{"$f":"IF(ISERROR(VLOOKUP($A129+8860000,'Growth Data'!$A:$Z,9,0)),0,VLOOKUP($A129+8860000,'Growth Data'!$A:$Z,9,0))","v":0},1,null,"NO",{"$f":"IF(ISERROR(VLOOKUP($A129+8860000,'Growth Data'!$A:$Z,5,0)),\"NO\",VLOOKUP($A129+8860000,'Growth Data'!$A:$Z,5,0))","v":"NO"},0,null,0,{"$f":"IF(ISERROR(VLOOKUP($A129+8860000,'Growth Data'!$A:$Z,10,0)),0,VLOOKUP($A129+8860000,'Growth Data'!$A:$Z,10,0))","v":0},0,null,0,{"$f":"IF(ISERROR(VLOOKUP($A129+8860000,'Growth Data'!$A:$Z,11,0)),0,VLOOKUP($A129+8860000,'Growth Data'!$A:$Z,11,0))","v":0},0]
[2643,"Swalecliffe Community Primary School",null,"Swalecliffe Community Primary School","Swalecliffe Community Primary School",{"$f":"IF(E130=D130,0,1)","v":0},null,1723551.16,1723551.1602837001,0,null,78168.98,78168.984582271252,0,null,4691.51,4691.5107724137888,0,null,111656.3,111656.29687349801,0,null,120082.8,120082.8,0,null,0,0,0,null,0,0,0,null,0,0,0,null,58968,58968,0,null,0,0,0,null,0,0,0,null,93649.25,93649.247488116845,0,null,2190768,2190768,0,null,0,0,0,null,2190768,2190768,0,null,0,null,0,null,2190768,2190768,0,null,0,null,{"$f":"ROUND(BX130-BY130,0)","v":0},null,176535.09,null,{"$f":"ROUND(CB130-CC130,0)","v":176535},null,0,null,{"$f":"ROUND(CF130-CG130,0)","v":0},null,0,null,{"$f":"ROUND(CJ130-CK130,0)","v":0},null,0,null,{"$f":"ROUND(CN130-CO130,0)","v":0},null,0,null,{"$f":"ROUND(CR130-CS130,0)","v":0},null,0,null,{"$f":"ROUND(CV130-CW130,0)","v":0},null,0,null,{"$f":"ROUND(CZ130-DA130,0)","v":0},null,0,null,{"$f":"ROUND(DD130-DE130,0)","v":0},null,"NO",{"$f":"IF(ISERROR(VLOOKUP($A130+8860000,'Growth Data'!$A:$F,3,0)),\"NO\",VLOOKUP($A130+8860000,'Growth Data'!$A:$F,3,0))","v":"NO"},{"$f":"IF(DH130=DI130,0,1)","v":0},null,0,{"$f":"IF(DI130=\"YES\",IF(ISERROR(VLOOKUP($A130+8860000,'Growth Data'!$A:$F,6,0)),0,VLOOKUP($A130+8860000,'Growth Data'!$A:$F,6,0)),0)","v":0},{"$f":"ROUND(DL130-DM130,0)","v":0},null,0,{"$f":"IF(ISERROR(VLOOKUP($A130+8860000,'Growth Data'!$A:$Z,7,0)),0,VLOOKUP($A130+8860000,'Growth Data'!$A:$Z,7,0))","v":0},{"$f":"IF(DP130=DQ130,0,1)","v":0},null,"NO",{"$f":"IF(ISERROR(VLOOKUP($A130+8860000,'Growth Data'!$A:$F,4,0)),\"NO\",VLOOKUP($A130+8860000,'Growth Data'!$A:$F,4,0))","v":"NO"},{"$f":"IF(DT130=DU130,0,1)","v":0},null,0,{"$f":"IF(ISERROR(VLOOKUP($A130+8860000,'Growth Data'!$A:$Z,8,0)),0,VLOOKUP($A130+8860000,'Growth Data'!$A:$Z,8,0))","v":0},{"$f":"IF(DX130=DY130,0,1)","v":0},null,0,{"$f":"IF(ISERROR(VLOOKUP($A130+8860000,'Growth Data'!$A:$Z,9,0)),0,VLOOKUP($A130+8860000,'Growth Data'!$A:$Z,9,0))","v":0},{"$f":"IF(EB130=EC130,0,1)","v":0},null,"NO",{"$f":"IF(ISERROR(VLOOKUP($A130+8860000,'Growth Data'!$A:$Z,5,0)),\"NO\",VLOOKUP($A130+8860000,'Growth Data'!$A:$Z,5,0))","v":"NO"},{"$f":"IF(EF130=EG130,0,1)","v":0},null,0,{"$f":"IF(ISERROR(VLOOKUP($A130+8860000,'Growth Data'!$A:$Z,10,0)),0,VLOOKUP($A130+8860000,'Growth Data'!$A:$Z,10,0))","v":0},{"$f":"IF(EJ130=EK130,0,1)","v":0},null,0,{"$f":"IF(ISERROR(VLOOKUP($A130+8860000,'Growth Data'!$A:$Z,11,0)),0,VLOOKUP($A130+8860000,'Growth Data'!$A:$Z,11,0))","v":0},{"$f":"IF(EN130=EO130,0,1)","v":0}]
[2648,"Aylesham Primary School",null,"Aylesham Primary School","Aylesham Primary School",0,null,744947.95,744947.94966010004,0,null,133880.13,133880.13333811157,0,null,8178.36,8178.3644056306366,0,null,52728.61,52728.611410976264,0,null,120082.8,120082.8,0,null,0,0,0,null,0,0,0,null,0,0,0,null,23401,23401,0,null,0,0,0,null,0,0,0,null,0,0,0,null,1083218.8600000001,1083218.8588148186,0,null,0,0,0,null,1083218.8600000001,1083218.8588148186,0,null,0,null,0,null,1083218.8600000001,1083218.8588148186,0,null,0,null,0,null,174163.59,null,174164,null,0,null,0,null,0,null,0,null,0,null,0,null,0,null,0,null,0,null,0,null,0,null,0,null,0,null,0,null,"NO",{"$f":"IF(ISERROR(VLOOKUP($A131+8860000,'Growth Data'!$A:$F,3,0)),\"NO\",VLOOKUP($A131+8860000,'Growth Data'!$A:$F,3,0))","v":"NO"},0,null,0,{"$f":"IF(DI131=\"YES\",IF(ISERROR(VLOOKUP($A131+8860000,'Growth Data'!$A:$F,6,0)),0,VLOOKUP($A131+8860000,'Growth Data'!$A:$F,6,0)),0)","v":0},0,null,0,{"$f":"IF(ISERROR(VLOOKUP($A131+8860000,'Growth Data'!$A:$Z,7,0)),0,VLOOKUP($A131+8860000,'Growth Data'!$A:$Z,7,0))","v":0},0,null,"NO",{"$f":"IF(ISERROR(VLOOKUP($A131+8860000,'Growth Data'!$A:$F,4,0)),\"NO\",VLOOKUP($A131+8860000,'Growth Data'!$A:$F,4,0))","v":"NO"},0,null,0,{"$f":"IF(ISERROR(VLOOKUP($A131+8860000,'Growth Data'!$A:$Z,8,0)),0,VLOOKUP($A131+8860000,'Growth Data'!$A:$Z,8,0))","v":0},0,null,0,{"$f":"IF(ISERROR(VLOOKUP($A131+8860000,'Growth Data'!$A:$Z,9,0)),0,VLOOKUP($A131+8860000,'Growth Data'!$A:$Z,9,0))","v":0},0,null,"NO",{"$f":"IF(ISERROR(VLOOKUP($A131+8860000,'Growth Data'!$A:$Z,5,0)),\"NO\",VLOOKUP($A131+8860000,'Growth Data'!$A:$Z,5,0))","v":"NO"},0,null,0,{"$f":"IF(ISERROR(VLOOKUP($A131+8860000,'Growth Data'!$A:$Z,10,0)),0,VLOOKUP($A131+8860000,'Growth Data'!$A:$Z,10,0))","v":0},0,null,0,{"$f":"IF(ISERROR(VLOOKUP($A131+8860000,'Growth Data'!$A:$Z,11,0)),0,VLOOKUP($A131+8860000,'Growth Data'!$A:$Z,11,0))","v":0},0]
[2651,"Broadwater Primary School",null,"Broadwater Primary School","Broadwater Primary School",0,null,442570.55,442570.55311909999,0,null,57994.83,57994.827548387104,0,null,9933.2900000000009,9933.2929080985978,0,null,39953.019999999997,39953.01713847003,0,null,120082.8,120082.8,0,null,0,0,0,null,0,0,0,null,0,0,0,null,17740,17740,0,null,0,0,0,null,0,0,0,null,0,0,0,null,688274.49,688274.49071405584,0,null,0,0,0,null,688274.49,688274.49071405584,0,null,0,null,0,null,688274.49,688274.49071405584,0,null,0,null,0,null,100466.73,null,100467,null,0,null,0,null,0,null,0,null,0,null,0,null,0,null,0,null,0,null,0,null,0,null,0,null,0,null,0,null,"NO",{"$f":"IF(ISERROR(VLOOKUP($A132+8860000,'Growth Data'!$A:$F,3,0)),\"NO\",VLOOKUP($A132+8860000,'Growth Data'!$A:$F,3,0))","v":"NO"},0,null,0,{"$f":"IF(DI132=\"YES\",IF(ISERROR(VLOOKUP($A132+8860000,'Growth Data'!$A:$F,6,0)),0,VLOOKUP($A132+8860000,'Growth Data'!$A:$F,6,0)),0)","v":0},0,null,0,{"$f":"IF(ISERROR(VLOOKUP($A132+8860000,'Growth Data'!$A:$Z,7,0)),0,VLOOKUP($A132+8860000,'Growth Data'!$A:$Z,7,0))","v":0},0,null,"NO",{"$f":"IF(ISERROR(VLOOKUP($A132+8860000,'Growth Data'!$A:$F,4,0)),\"NO\",VLOOKUP($A132+8860000,'Growth Data'!$A:$F,4,0))","v":"NO"},0,null,0,{"$f":"IF(ISERROR(VLOOKUP($A132+8860000,'Growth Data'!$A:$Z,8,0)),0,VLOOKUP($A132+8860000,'Growth Data'!$A:$Z,8,0))","v":0},0,null,0,{"$f":"IF(ISERROR(VLOOKUP($A132+8860000,'Growth Data'!$A:$Z,9,0)),0,VLOOKUP($A132+8860000,'Growth Data'!$A:$Z,9,0))","v":0},0,null,"NO",{"$f":"IF(ISERROR(VLOOKUP($A132+8860000,'Growth Data'!$A:$Z,5,0)),\"NO\",VLOOKUP($A132+8860000,'Growth Data'!$A:$Z,5,0))","v":"NO"},0,null,0,{"$f":"IF(ISERROR(VLOOKUP($A132+8860000,'Growth Data'!$A:$Z,10,0)),0,VLOOKUP($A132+8860000,'Growth Data'!$A:$Z,10,0))","v":0},0,null,0,{"$f":"IF(ISERROR(VLOOKUP($A132+8860000,'Growth Data'!$A:$Z,11,0)),0,VLOOKUP($A132+8860000,'Growth Data'!$A:$Z,11,0))","v":0},0]
[2653,"West Borough Primary School",null,"West Borough Primary School","West Borough Primary School",0,null,1236998.44,1236998.4403949999,0,null,83621.7,83621.704134831583,0,null,43408.78,43408.777557692265,0,null,86625.01,86625.012299264825,0,null,120082.8,120082.8,0,null,0,0,0,null,0,0,0,null,0,0,0,null,58874,58874,0,null,0,0,0,null,0,0,0,null,0,0,0,null,1629610.73,1629610.7343867887,0,null,0,0,0,null,1629610.73,1629610.7343867887,0,null,0,null,0,null,1629610.73,1629610.7343867887,0,null,4.9000000000000004,null,5,null,193031.97,null,193032,null,0,null,0,null,0,null,0,null,0,null,0,null,0,null,0,null,0,null,0,null,0,null,0,null,0,null,0,null,"NO",{"$f":"IF(ISERROR(VLOOKUP($A133+8860000,'Growth Data'!$A:$F,3,0)),\"NO\",VLOOKUP($A133+8860000,'Growth Data'!$A:$F,3,0))","v":"NO"},0,null,0,{"$f":"IF(DI133=\"YES\",IF(ISERROR(VLOOKUP($A133+8860000,'Growth Data'!$A:$F,6,0)),0,VLOOKUP($A133+8860000,'Growth Data'!$A:$F,6,0)),0)","v":0},0,null,0,{"$f":"IF(ISERROR(VLOOKUP($A133+8860000,'Growth Data'!$A:$Z,7,0)),0,VLOOKUP($A133+8860000,'Growth Data'!$A:$Z,7,0))","v":0},0,null,"NO",{"$f":"IF(ISERROR(VLOOKUP($A133+8860000,'Growth Data'!$A:$F,4,0)),\"NO\",VLOOKUP($A133+8860000,'Growth Data'!$A:$F,4,0))","v":"NO"},0,null,0,{"$f":"IF(ISERROR(VLOOKUP($A133+8860000,'Growth Data'!$A:$Z,8,0)),0,VLOOKUP($A133+8860000,'Growth Data'!$A:$Z,8,0))","v":0},0,null,0,{"$f":"IF(ISERROR(VLOOKUP($A133+8860000,'Growth Data'!$A:$Z,9,0)),0,VLOOKUP($A133+8860000,'Growth Data'!$A:$Z,9,0))","v":0},0,null,"NO",{"$f":"IF(ISERROR(VLOOKUP($A133+8860000,'Growth Data'!$A:$Z,5,0)),\"NO\",VLOOKUP($A133+8860000,'Growth Data'!$A:$Z,5,0))","v":"NO"},0,null,0,{"$f":"IF(ISERROR(VLOOKUP($A133+8860000,'Growth Data'!$A:$Z,10,0)),0,VLOOKUP($A133+8860000,'Growth Data'!$A:$Z,10,0))","v":0},0,null,0,{"$f":"IF(ISERROR(VLOOKUP($A133+8860000,'Growth Data'!$A:$Z,11,0)),0,VLOOKUP($A133+8860000,'Growth Data'!$A:$Z,11,0))","v":0},0]
[2659,"Sandown School",null,"Sandown School","Sandown School",0,null,1058320.8899999999,1058320.8878935,0,null,115862.64,115862.63913329103,0,null,4072.97,4072.9697016129121,0,null,74843.16,74843.158412902063,0,null,120082.8,120082.8,0,null,0,0,0,null,0,0,0,null,0,0,0,null,38052,38052,0,null,0,0,0,null,0,0,0,null,0,0,0,null,1411234.46,1411234.4551413062,0,null,0,0,0,null,1411234.46,1411234.4551413062,0,null,0,null,0,null,1411234.46,1411234.4551413062,0,null,0,null,0,null,167991,null,167991,null,0,null,0,null,0,null,0,null,0,null,0,null,0,null,0,null,0,null,0,null,0,null,0,null,0,null,0,null,"NO",{"$f":"IF(ISERROR(VLOOKUP($A134+8860000,'Growth Data'!$A:$F,3,0)),\"NO\",VLOOKUP($A134+8860000,'Growth Data'!$A:$F,3,0))","v":"NO"},0,null,0,{"$f":"IF(DI134=\"YES\",IF(ISERROR(VLOOKUP($A134+8860000,'Growth Data'!$A:$F,6,0)),0,VLOOKUP($A134+8860000,'Growth Data'!$A:$F,6,0)),0)","v":0},0,null,0,{"$f":"IF(ISERROR(VLOOKUP($A134+8860000,'Growth Data'!$A:$Z,7,0)),0,VLOOKUP($A134+8860000,'Growth Data'!$A:$Z,7,0))","v":0},0,null,"NO",{"$f":"IF(ISERROR(VLOOKUP($A134+8860000,'Growth Data'!$A:$F,4,0)),\"NO\",VLOOKUP($A134+8860000,'Growth Data'!$A:$F,4,0))","v":"NO"},0,null,0,{"$f":"IF(ISERROR(VLOOKUP($A134+8860000,'Growth Data'!$A:$Z,8,0)),0,VLOOKUP($A134+8860000,'Growth Data'!$A:$Z,8,0))","v":0},0,null,0,{"$f":"IF(ISERROR(VLOOKUP($A134+8860000,'Growth Data'!$A:$Z,9,0)),0,VLOOKUP($A134+8860000,'Growth Data'!$A:$Z,9,0))","v":0},0,null,"NO",{"$f":"IF(ISERROR(VLOOKUP($A134+8860000,'Growth Data'!$A:$Z,5,0)),\"NO\",VLOOKUP($A134+8860000,'Growth Data'!$A:$Z,5,0))","v":"NO"},0,null,0,{"$f":"IF(ISERROR(VLOOKUP($A134+8860000,'Growth Data'!$A:$Z,10,0)),0,VLOOKUP($A134+8860000,'Growth Data'!$A:$Z,10,0))","v":0},0,null,0,{"$f":"IF(ISERROR(VLOOKUP($A134+8860000,'Growth Data'!$A:$Z,11,0)),0,VLOOKUP($A134+8860000,'Growth Data'!$A:$Z,11,0))","v":0},0]
[2661,"Cage Green Primary School",null,"Cage Green Primary School","Cage Green Primary School",0,null,1014338.72,1014338.7211239,0,null,130508.24,130508.2375047934,0,null,6731.54,6731.544217699121,0,null,75180.490000000005,75180.490618368945,0,null,120082.8,120082.8,0,null,0,0,0,null,0,0,0,null,0,0,0,null,41425,41425,0,null,0,0,0,null,0,0,0,null,0,0,0,null,1388266.79,1388266.7934647615,0,null,0,0,0,null,1388266.79,1388266.7934647615,0,null,0,null,0,null,1388266.79,1388266.7934647615,0,null,0,null,0,null,179468.25,null,179468,null,0,null,0,null,16000,null,16000,null,186000,null,186000,null,624.75,null,625,null,624.75,null,625,null,624.75,null,625,null,624.75,null,625,null,"NO",{"$f":"IF(ISERROR(VLOOKUP($A135+8860000,'Growth Data'!$A:$F,3,0)),\"NO\",VLOOKUP($A135+8860000,'Growth Data'!$A:$F,3,0))","v":"NO"},0,null,0,{"$f":"IF(DI135=\"YES\",IF(ISERROR(VLOOKUP($A135+8860000,'Growth Data'!$A:$F,6,0)),0,VLOOKUP($A135+8860000,'Growth Data'!$A:$F,6,0)),0)","v":0},0,null,0,{"$f":"IF(ISERROR(VLOOKUP($A135+8860000,'Growth Data'!$A:$Z,7,0)),0,VLOOKUP($A135+8860000,'Growth Data'!$A:$Z,7,0))","v":0},0,null,"NO",{"$f":"IF(ISERROR(VLOOKUP($A135+8860000,'Growth Data'!$A:$F,4,0)),\"NO\",VLOOKUP($A135+8860000,'Growth Data'!$A:$F,4,0))","v":"NO"},0,null,0,{"$f":"IF(ISERROR(VLOOKUP($A135+8860000,'Growth Data'!$A:$Z,8,0)),0,VLOOKUP($A135+8860000,'Growth Data'!$A:$Z,8,0))","v":0},0,null,0,{"$f":"IF(ISERROR(VLOOKUP($A135+8860000,'Growth Data'!$A:$Z,9,0)),0,VLOOKUP($A135+8860000,'Growth Data'!$A:$Z,9,0))","v":0},0,null,"NO",{"$f":"IF(ISERROR(VLOOKUP($A135+8860000,'Growth Data'!$A:$Z,5,0)),\"NO\",VLOOKUP($A135+8860000,'Growth Data'!$A:$Z,5,0))","v":"NO"},0,null,0,{"$f":"IF(ISERROR(VLOOKUP($A135+8860000,'Growth Data'!$A:$Z,10,0)),0,VLOOKUP($A135+8860000,'Growth Data'!$A:$Z,10,0))","v":0},0,null,0,{"$f":"IF(ISERROR(VLOOKUP($A135+8860000,'Growth Data'!$A:$Z,11,0)),0,VLOOKUP($A135+8860000,'Growth Data'!$A:$Z,11,0))","v":0},0]
[2662,"Long Mead Community Primary School",null,"Long Mead Community Primary School","Long Mead Community Primary School",0,null,393090.62,393090.61550329998,0,null,60873.73,60873.729013061267,0,null,6040.64,6040.6405778688541,0,null,40506.480000000003,40506.480531926733,0,null,120082.8,120082.8,0,null,0,0,0,null,0,0,0,null,0,0,0,null,17401,17401,0,null,0,0,0,null,0,0,0,null,0,0,0,null,637995.27,637995.26562615682,0,null,0,0,0,null,637995.27,637995.26562615682,0,null,0,null,0,null,637995.27,637995.26562615682,0,null,5,null,5,null,92521.279999999999,null,92521,null,0,null,0,null,0,null,0,null,0,null,0,null,0,null,0,null,0,null,0,null,0,null,0,null,0,null,0,null,"NO",{"$f":"IF(ISERROR(VLOOKUP($A136+8860000,'Growth Data'!$A:$F,3,0)),\"NO\",VLOOKUP($A136+8860000,'Growth Data'!$A:$F,3,0))","v":"NO"},0,null,0,{"$f":"IF(DI136=\"YES\",IF(ISERROR(VLOOKUP($A136+8860000,'Growth Data'!$A:$F,6,0)),0,VLOOKUP($A136+8860000,'Growth Data'!$A:$F,6,0)),0)","v":0},0,null,0,{"$f":"IF(ISERROR(VLOOKUP($A136+8860000,'Growth Data'!$A:$Z,7,0)),0,VLOOKUP($A136+8860000,'Growth Data'!$A:$Z,7,0))","v":0},0,null,"NO",{"$f":"IF(ISERROR(VLOOKUP($A136+8860000,'Growth Data'!$A:$F,4,0)),\"NO\",VLOOKUP($A136+8860000,'Growth Data'!$A:$F,4,0))","v":"NO"},0,null,0,{"$f":"IF(ISERROR(VLOOKUP($A136+8860000,'Growth Data'!$A:$Z,8,0)),0,VLOOKUP($A136+8860000,'Growth Data'!$A:$Z,8,0))","v":0},0,null,0,{"$f":"IF(ISERROR(VLOOKUP($A136+8860000,'Growth Data'!$A:$Z,9,0)),0,VLOOKUP($A136+8860000,'Growth Data'!$A:$Z,9,0))","v":0},0,null,"NO",{"$f":"IF(ISERROR(VLOOKUP($A136+8860000,'Growth Data'!$A:$Z,5,0)),\"NO\",VLOOKUP($A136+8860000,'Growth Data'!$A:$Z,5,0))","v":"NO"},0,null,0,{"$f":"IF(ISERROR(VLOOKUP($A136+8860000,'Growth Data'!$A:$Z,10,0)),0,VLOOKUP($A136+8860000,'Growth Data'!$A:$Z,10,0))","v":0},0,null,0,{"$f":"IF(ISERROR(VLOOKUP($A136+8860000,'Growth Data'!$A:$Z,11,0)),0,VLOOKUP($A136+8860000,'Growth Data'!$A:$Z,11,0))","v":0},0]
[2672,"Palm Bay Primary School",null,"Palm Bay Primary School","Palm Bay Primary School",0,null,1173774.08,1173774.0756637,0,null,97246.2,97246.202548936169,0,null,7837.64,7837.6371173972639,0,null,76180.289999999994,76180.290512426334,0,null,120082.8,120082.8,0,null,0,0,0,null,0,0,0,null,0,0,0,null,53424,53424,0,null,0,0,0,null,0,0,0,null,0,0,0,null,1528545.01,1528545.0058424599,0,null,0,0,0,null,1528545.01,1528545.0058424599,0,null,0,null,0,null,1528545.01,1528545.0058424599,0,null,0,null,0,null,172088.5,null,172089,null,0,null,0,null,0,null,0,null,0,null,0,null,0,null,0,null,0,null,0,null,0,null,0,null,0,null,0,null,"NO",{"$f":"IF(ISERROR(VLOOKUP($A137+8860000,'Growth Data'!$A:$F,3,0)),\"NO\",VLOOKUP($A137+8860000,'Growth Data'!$A:$F,3,0))","v":"NO"},0,null,0,{"$f":"IF(DI137=\"YES\",IF(ISERROR(VLOOKUP($A137+8860000,'Growth Data'!$A:$F,6,0)),0,VLOOKUP($A137+8860000,'Growth Data'!$A:$F,6,0)),0)","v":0},0,null,0,{"$f":"IF(ISERROR(VLOOKUP($A137+8860000,'Growth Data'!$A:$Z,7,0)),0,VLOOKUP($A137+8860000,'Growth Data'!$A:$Z,7,0))","v":0},0,null,"NO",{"$f":"IF(ISERROR(VLOOKUP($A137+8860000,'Growth Data'!$A:$F,4,0)),\"NO\",VLOOKUP($A137+8860000,'Growth Data'!$A:$F,4,0))","v":"NO"},0,null,0,{"$f":"IF(ISERROR(VLOOKUP($A137+8860000,'Growth Data'!$A:$Z,8,0)),0,VLOOKUP($A137+8860000,'Growth Data'!$A:$Z,8,0))","v":0},0,null,0,{"$f":"IF(ISERROR(VLOOKUP($A137+8860000,'Growth Data'!$A:$Z,9,0)),0,VLOOKUP($A137+8860000,'Growth Data'!$A:$Z,9,0))","v":0},0,null,"NO",{"$f":"IF(ISERROR(VLOOKUP($A137+8860000,'Growth Data'!$A:$Z,5,0)),\"NO\",VLOOKUP($A137+8860000,'Growth Data'!$A:$Z,5,0))","v":"NO"},0,null,0,{"$f":"IF(ISERROR(VLOOKUP($A137+8860000,'Growth Data'!$A:$Z,10,0)),0,VLOOKUP($A137+8860000,'Growth Data'!$A:$Z,10,0))","v":0},0,null,0,{"$f":"IF(ISERROR(VLOOKUP($A137+8860000,'Growth Data'!$A:$Z,11,0)),0,VLOOKUP($A137+8860000,'Growth Data'!$A:$Z,11,0))","v":0},0]
[2674,"King's Farm Primary School",null,"King's Farm Primary School","King's Farm Primary School",0,null,984100.98,984100.9814698,0,null,214048.02,214048.01780726219,0,null,30651.29,30651.294554632521,0,null,117089.97,117089.97246715745,0,null,120082.8,120082.8,0,null,0,0,0,null,0,0,0,null,0,0,0,null,38341,38341,0,null,0,0,0,null,0,0,0,null,0,0,0,null,1504314.07,1504314.0662988524,0,null,291797.62,291797.62128468114,0,null,1796111.69,1796111.6875835336,0,null,0,null,0,null,1796111.69,1796111.6875835336,0,null,5.1100000000000003,null,5,null,309463.90999999997,null,309464,null,0,null,0,null,14000,null,14000,null,21000,null,21000,null,691.77,null,692,null,691.77,null,692,null,691.77,null,692,null,691.77,null,692,null,"NO",{"$f":"IF(ISERROR(VLOOKUP($A138+8860000,'Growth Data'!$A:$F,3,0)),\"NO\",VLOOKUP($A138+8860000,'Growth Data'!$A:$F,3,0))","v":"NO"},0,null,0,{"$f":"IF(DI138=\"YES\",IF(ISERROR(VLOOKUP($A138+8860000,'Growth Data'!$A:$F,6,0)),0,VLOOKUP($A138+8860000,'Growth Data'!$A:$F,6,0)),0)","v":0},0,null,0,{"$f":"IF(ISERROR(VLOOKUP($A138+8860000,'Growth Data'!$A:$Z,7,0)),0,VLOOKUP($A138+8860000,'Growth Data'!$A:$Z,7,0))","v":0},0,null,"NO",{"$f":"IF(ISERROR(VLOOKUP($A138+8860000,'Growth Data'!$A:$F,4,0)),\"NO\",VLOOKUP($A138+8860000,'Growth Data'!$A:$F,4,0))","v":"NO"},0,null,0,{"$f":"IF(ISERROR(VLOOKUP($A138+8860000,'Growth Data'!$A:$Z,8,0)),0,VLOOKUP($A138+8860000,'Growth Data'!$A:$Z,8,0))","v":0},0,null,0,{"$f":"IF(ISERROR(VLOOKUP($A138+8860000,'Growth Data'!$A:$Z,9,0)),0,VLOOKUP($A138+8860000,'Growth Data'!$A:$Z,9,0))","v":0},0,null,"NO",{"$f":"IF(ISERROR(VLOOKUP($A138+8860000,'Growth Data'!$A:$Z,5,0)),\"NO\",VLOOKUP($A138+8860000,'Growth Data'!$A:$Z,5,0))","v":"NO"},0,null,0,{"$f":"IF(ISERROR(VLOOKUP($A138+8860000,'Growth Data'!$A:$Z,10,0)),0,VLOOKUP($A138+8860000,'Growth Data'!$A:$Z,10,0))","v":0},0,null,0,{"$f":"IF(ISERROR(VLOOKUP($A138+8860000,'Growth Data'!$A:$Z,11,0)),0,VLOOKUP($A138+8860000,'Growth Data'!$A:$Z,11,0))","v":0},0]
[2680,"Kings Hill School",null,"Kings Hill School","Kings Hill School",0,null,1319465,1319465.003088,0,null,27360.240000000002,27360.241323430102,0,null,9356.81,9356.8063546099183,0,null,74671.77,74671.768706847753,0,null,120082.8,120082.8,0,null,0,0,0,null,0,0,0,null,0,0,0,null,54781,54781,0,null,0,0,0,null,0,0,0,null,81063.38,81063.380527112167,0,null,1686781,1686781,0,null,0,0,0,null,1686781,1686781,0,null,0,null,0,null,1686781,1686781,0,null,0,null,0,null,107496.83,null,107497,null,0,null,0,null,0,null,0,null,0,null,0,null,0,null,0,null,0,null,0,null,0,null,0,null,0,null,0,null,"NO",{"$f":"IF(ISERROR(VLOOKUP($A139+8860000,'Growth Data'!$A:$F,3,0)),\"NO\",VLOOKUP($A139+8860000,'Growth Data'!$A:$F,3,0))","v":"NO"},0,null,0,{"$f":"IF(DI139=\"YES\",IF(ISERROR(VLOOKUP($A139+8860000,'Growth Data'!$A:$F,6,0)),0,VLOOKUP($A139+8860000,'Growth Data'!$A:$F,6,0)),0)","v":0},0,null,0,{"$f":"IF(ISERROR(VLOOKUP($A139+8860000,'Growth Data'!$A:$Z,7,0)),0,VLOOKUP($A139+8860000,'Growth Data'!$A:$Z,7,0))","v":0},0,null,"NO",{"$f":"IF(ISERROR(VLOOKUP($A139+8860000,'Growth Data'!$A:$F,4,0)),\"NO\",VLOOKUP($A139+8860000,'Growth Data'!$A:$F,4,0))","v":"NO"},0,null,0,{"$f":"IF(ISERROR(VLOOKUP($A139+8860000,'Growth Data'!$A:$Z,8,0)),0,VLOOKUP($A139+8860000,'Growth Data'!$A:$Z,8,0))","v":0},0,null,0,{"$f":"IF(ISERROR(VLOOKUP($A139+8860000,'Growth Data'!$A:$Z,9,0)),0,VLOOKUP($A139+8860000,'Growth Data'!$A:$Z,9,0))","v":0},0,null,"NO",{"$f":"IF(ISERROR(VLOOKUP($A139+8860000,'Growth Data'!$A:$Z,5,0)),\"NO\",VLOOKUP($A139+8860000,'Growth Data'!$A:$Z,5,0))","v":"NO"},0,null,0,{"$f":"IF(ISERROR(VLOOKUP($A139+8860000,'Growth Data'!$A:$Z,10,0)),0,VLOOKUP($A139+8860000,'Growth Data'!$A:$Z,10,0))","v":0},0,null,0,{"$f":"IF(ISERROR(VLOOKUP($A139+8860000,'Growth Data'!$A:$Z,11,0)),0,VLOOKUP($A139+8860000,'Growth Data'!$A:$Z,11,0))","v":0},0]
[2682,"New Ash Green Primary School",null,"New Ash Green Primary School","New Ash Green Primary School",0,null,1096805.28,1096805.2838169001,0,null,47242.78,47242.779765669315,0,null,4184.2700000000004,4184.2659667151111,0,null,77564.73,77564.727809734861,0,null,120082.8,120082.8,0,null,0,0,0,null,48990.03,48990.026807868286,0,null,0,0,0,null,33264,33264,0,null,0,0,0,null,0,0,0,null,0,0,0,null,1428133.88,1428133.8841668877,0,null,0,0,0,null,1428133.88,1428133.8841668877,0,null,0,null,0,null,1428133.88,1428133.8841668877,0,null,0,null,0,null,131022.42,null,131022,null,0,null,0,null,0,null,0,null,0,null,0,null,0,null,0,null,0,null,0,null,0,null,0,null,0,null,0,null,"NO",{"$f":"IF(ISERROR(VLOOKUP($A140+8860000,'Growth Data'!$A:$F,3,0)),\"NO\",VLOOKUP($A140+8860000,'Growth Data'!$A:$F,3,0))","v":"NO"},0,null,0,{"$f":"IF(DI140=\"YES\",IF(ISERROR(VLOOKUP($A140+8860000,'Growth Data'!$A:$F,6,0)),0,VLOOKUP($A140+8860000,'Growth Data'!$A:$F,6,0)),0)","v":0},0,null,0,{"$f":"IF(ISERROR(VLOOKUP($A140+8860000,'Growth Data'!$A:$Z,7,0)),0,VLOOKUP($A140+8860000,'Growth Data'!$A:$Z,7,0))","v":0},0,null,"NO",{"$f":"IF(ISERROR(VLOOKUP($A140+8860000,'Growth Data'!$A:$F,4,0)),\"NO\",VLOOKUP($A140+8860000,'Growth Data'!$A:$F,4,0))","v":"NO"},0,null,0,{"$f":"IF(ISERROR(VLOOKUP($A140+8860000,'Growth Data'!$A:$Z,8,0)),0,VLOOKUP($A140+8860000,'Growth Data'!$A:$Z,8,0))","v":0},0,null,0,{"$f":"IF(ISERROR(VLOOKUP($A140+8860000,'Growth Data'!$A:$Z,9,0)),0,VLOOKUP($A140+8860000,'Growth Data'!$A:$Z,9,0))","v":0},0,null,"NO",{"$f":"IF(ISERROR(VLOOKUP($A140+8860000,'Growth Data'!$A:$Z,5,0)),\"NO\",VLOOKUP($A140+8860000,'Growth Data'!$A:$Z,5,0))","v":"NO"},0,null,0,{"$f":"IF(ISERROR(VLOOKUP($A140+8860000,'Growth Data'!$A:$Z,10,0)),0,VLOOKUP($A140+8860000,'Growth Data'!$A:$Z,10,0))","v":0},0,null,0,{"$f":"IF(ISERROR(VLOOKUP($A140+8860000,'Growth Data'!$A:$Z,11,0)),0,VLOOKUP($A140+8860000,'Growth Data'!$A:$Z,11,0))","v":0},0]
[2689,"Craylands School, The",null,"Craylands School, The","Craylands School, The",0,null,810921.2,810921.19981450005,0,null,74385.429999999993,74385.428486206918,0,null,9018.7199999999993,9018.7186250000032,0,null,79230.66,79230.656196201802,0,null,120082.8,120082.8,0,null,0,0,0,null,39808.449999999997,39808.452433637467,0,null,0,0,0,null,32508,32508,0,null,74614.179999999993,74614.176000000007,0,null,0,0,0,null,0,0,0,null,1240569.43,1240569.4315555464,0,null,0,0,0,null,1240569.43,1240569.4315555464,0,null,0,null,0,null,1240569.43,1240569.4315555464,0,null,0,null,0,null,157219.76999999999,null,157220,null,0,null,0,null,0,null,0,null,0,null,0,null,0,null,0,null,0,null,0,null,0,null,0,null,0,null,0,null,"NO",{"$f":"IF(ISERROR(VLOOKUP($A141+8860000,'Growth Data'!$A:$F,3,0)),\"NO\",VLOOKUP($A141+8860000,'Growth Data'!$A:$F,3,0))","v":"YES"},1,null,0,{"$f":"IF(DI141=\"YES\",IF(ISERROR(VLOOKUP($A141+8860000,'Growth Data'!$A:$F,6,0)),0,VLOOKUP($A141+8860000,'Growth Data'!$A:$F,6,0)),0)","v":30},-30,null,0,{"$f":"IF(ISERROR(VLOOKUP($A141+8860000,'Growth Data'!$A:$Z,7,0)),0,VLOOKUP($A141+8860000,'Growth Data'!$A:$Z,7,0))","v":60},1,null,"YES",{"$f":"IF(ISERROR(VLOOKUP($A141+8860000,'Growth Data'!$A:$F,4,0)),\"NO\",VLOOKUP($A141+8860000,'Growth Data'!$A:$F,4,0))","v":"YES"},0,null,30,{"$f":"IF(ISERROR(VLOOKUP($A141+8860000,'Growth Data'!$A:$Z,8,0)),0,VLOOKUP($A141+8860000,'Growth Data'!$A:$Z,8,0))","v":31},1,null,60,{"$f":"IF(ISERROR(VLOOKUP($A141+8860000,'Growth Data'!$A:$Z,9,0)),0,VLOOKUP($A141+8860000,'Growth Data'!$A:$Z,9,0))","v":60},0,null,"YES",{"$f":"IF(ISERROR(VLOOKUP($A141+8860000,'Growth Data'!$A:$Z,5,0)),\"NO\",VLOOKUP($A141+8860000,'Growth Data'!$A:$Z,5,0))","v":"YES"},0,null,30,{"$f":"IF(ISERROR(VLOOKUP($A141+8860000,'Growth Data'!$A:$Z,10,0)),0,VLOOKUP($A141+8860000,'Growth Data'!$A:$Z,10,0))","v":30},0,null,60,{"$f":"IF(ISERROR(VLOOKUP($A141+8860000,'Growth Data'!$A:$Z,11,0)),0,VLOOKUP($A141+8860000,'Growth Data'!$A:$Z,11,0))","v":60},0]
[2692,"Churchill School, The",null,"Churchill School, The","Churchill School, The",0,null,1121545.25,1121545.2526248,0,null,71610.84,71610.835369887776,0,null,12438.21,12438.210250140848,0,null,76395.13,76395.131814539302,0,null,120082.8,120082.8,0,null,0,0,0,null,0,0,0,null,0,0,0,null,12398,12398,0,null,0,0,0,null,0,0,0,null,0,0,0,null,1414470.23,1414470.2300593678,0,null,0,0,0,null,1414470.23,1414470.2300593678,0,null,0,null,0,null,1414470.23,1414470.2300593678,0,null,0,null,0,null,147746.12,null,147746,null,0,null,0,null,0,null,0,null,0,null,0,null,0,null,0,null,0,null,0,null,0,null,0,null,0,null,0,null,"NO",{"$f":"IF(ISERROR(VLOOKUP($A142+8860000,'Growth Data'!$A:$F,3,0)),\"NO\",VLOOKUP($A142+8860000,'Growth Data'!$A:$F,3,0))","v":"NO"},0,null,0,{"$f":"IF(DI142=\"YES\",IF(ISERROR(VLOOKUP($A142+8860000,'Growth Data'!$A:$F,6,0)),0,VLOOKUP($A142+8860000,'Growth Data'!$A:$F,6,0)),0)","v":0},0,null,0,{"$f":"IF(ISERROR(VLOOKUP($A142+8860000,'Growth Data'!$A:$Z,7,0)),0,VLOOKUP($A142+8860000,'Growth Data'!$A:$Z,7,0))","v":0},0,null,"NO",{"$f":"IF(ISERROR(VLOOKUP($A142+8860000,'Growth Data'!$A:$F,4,0)),\"NO\",VLOOKUP($A142+8860000,'Growth Data'!$A:$F,4,0))","v":"NO"},0,null,0,{"$f":"IF(ISERROR(VLOOKUP($A142+8860000,'Growth Data'!$A:$Z,8,0)),0,VLOOKUP($A142+8860000,'Growth Data'!$A:$Z,8,0))","v":0},0,null,0,{"$f":"IF(ISERROR(VLOOKUP($A142+8860000,'Growth Data'!$A:$Z,9,0)),0,VLOOKUP($A142+8860000,'Growth Data'!$A:$Z,9,0))","v":0},0,null,"NO",{"$f":"IF(ISERROR(VLOOKUP($A142+8860000,'Growth Data'!$A:$Z,5,0)),\"NO\",VLOOKUP($A142+8860000,'Growth Data'!$A:$Z,5,0))","v":"NO"},0,null,0,{"$f":"IF(ISERROR(VLOOKUP($A142+8860000,'Growth Data'!$A:$Z,10,0)),0,VLOOKUP($A142+8860000,'Growth Data'!$A:$Z,10,0))","v":0},0,null,0,{"$f":"IF(ISERROR(VLOOKUP($A142+8860000,'Growth Data'!$A:$Z,11,0)),0,VLOOKUP($A142+8860000,'Growth Data'!$A:$Z,11,0))","v":0},0]
[3010,"St Paul's CEP School",null,"St Paul's CEP School","St Paul's CEP School",0,null,296879.63,296879.62569479999,0,null,11163.86,11163.862891559627,0,null,0,0,0,null,18750.12,18750.123629937632,0,null,120082.8,120082.8,0,null,0,0,0,null,16266.3,16266.301404673213,0,null,0,0,0,null,10557,10557,0,null,0,0,0,null,0,0,0,null,0,0,0,null,473699.71,473699.71362097043,0,null,0,0,0,null,473699.71,473699.71362097043,0,null,0,null,0,null,473699.71,473699.71362097043,0,null,0,null,0,null,35639.49,null,35639,null,2436.0500000000002,null,2436,null,0,null,0,null,0,null,0,null,0,null,0,null,0,null,0,null,0,null,0,null,0,null,0,null,"NO",{"$f":"IF(ISERROR(VLOOKUP($A143+8860000,'Growth Data'!$A:$F,3,0)),\"NO\",VLOOKUP($A143+8860000,'Growth Data'!$A:$F,3,0))","v":"NO"},0,null,0,{"$f":"IF(DI143=\"YES\",IF(ISERROR(VLOOKUP($A143+8860000,'Growth Data'!$A:$F,6,0)),0,VLOOKUP($A143+8860000,'Growth Data'!$A:$F,6,0)),0)","v":0},0,null,0,{"$f":"IF(ISERROR(VLOOKUP($A143+8860000,'Growth Data'!$A:$Z,7,0)),0,VLOOKUP($A143+8860000,'Growth Data'!$A:$Z,7,0))","v":0},0,null,"NO",{"$f":"IF(ISERROR(VLOOKUP($A143+8860000,'Growth Data'!$A:$F,4,0)),\"NO\",VLOOKUP($A143+8860000,'Growth Data'!$A:$F,4,0))","v":"NO"},0,null,0,{"$f":"IF(ISERROR(VLOOKUP($A143+8860000,'Growth Data'!$A:$Z,8,0)),0,VLOOKUP($A143+8860000,'Growth Data'!$A:$Z,8,0))","v":0},0,null,0,{"$f":"IF(ISERROR(VLOOKUP($A143+8860000,'Growth Data'!$A:$Z,9,0)),0,VLOOKUP($A143+8860000,'Growth Data'!$A:$Z,9,0))","v":0},0,null,"NO",{"$f":"IF(ISERROR(VLOOKUP($A143+8860000,'Growth Data'!$A:$Z,5,0)),\"NO\",VLOOKUP($A143+8860000,'Growth Data'!$A:$Z,5,0))","v":"NO"},0,null,0,{"$f":"IF(ISERROR(VLOOKUP($A143+8860000,'Growth Data'!$A:$Z,10,0)),0,VLOOKUP($A143+8860000,'Growth Data'!$A:$Z,10,0))","v":0},0,null,0,{"$f":"IF(ISERROR(VLOOKUP($A143+8860000,'Growth Data'!$A:$Z,11,0)),0,VLOOKUP($A143+8860000,'Growth Data'!$A:$Z,11,0))","v":0},0]
[3015,"Fawkham CEP School",null,"Fawkham CEP School","Fawkham CEP School",0,null,288632.96999999997,288632.96942550002,0,null,7347.4,7347.3963048543692,0,null,601.25,601.2479083333327,0,null,9743.24,9743.2395299244672,0,null,120082.8,120082.8,0,null,0,0,0,null,15521.24,15521.238575337478,0,null,0,0,0,null,20745,20745,0,null,0,0,0,null,0,0,0,null,0,0,0,null,462673.89,462673.89174394961,0,null,0,0,0,null,462673.89,462673.89174394961,0,null,0,null,0,null,462673.89,462673.89174394961,0,null,0,null,0,null,23428.83,null,23429,null,3657.12,null,3657,null,0,null,0,null,0,null,0,null,0,null,0,null,0,null,0,null,0,null,0,null,0,null,0,null,"NO",{"$f":"IF(ISERROR(VLOOKUP($A144+8860000,'Growth Data'!$A:$F,3,0)),\"NO\",VLOOKUP($A144+8860000,'Growth Data'!$A:$F,3,0))","v":"NO"},0,null,0,{"$f":"IF(DI144=\"YES\",IF(ISERROR(VLOOKUP($A144+8860000,'Growth Data'!$A:$F,6,0)),0,VLOOKUP($A144+8860000,'Growth Data'!$A:$F,6,0)),0)","v":0},0,null,0,{"$f":"IF(ISERROR(VLOOKUP($A144+8860000,'Growth Data'!$A:$Z,7,0)),0,VLOOKUP($A144+8860000,'Growth Data'!$A:$Z,7,0))","v":0},0,null,"NO",{"$f":"IF(ISERROR(VLOOKUP($A144+8860000,'Growth Data'!$A:$F,4,0)),\"NO\",VLOOKUP($A144+8860000,'Growth Data'!$A:$F,4,0))","v":"NO"},0,null,0,{"$f":"IF(ISERROR(VLOOKUP($A144+8860000,'Growth Data'!$A:$Z,8,0)),0,VLOOKUP($A144+8860000,'Growth Data'!$A:$Z,8,0))","v":0},0,null,0,{"$f":"IF(ISERROR(VLOOKUP($A144+8860000,'Growth Data'!$A:$Z,9,0)),0,VLOOKUP($A144+8860000,'Growth Data'!$A:$Z,9,0))","v":0},0,null,"NO",{"$f":"IF(ISERROR(VLOOKUP($A144+8860000,'Growth Data'!$A:$Z,5,0)),\"NO\",VLOOKUP($A144+8860000,'Growth Data'!$A:$Z,5,0))","v":"NO"},0,null,0,{"$f":"IF(ISERROR(VLOOKUP($A144+8860000,'Growth Data'!$A:$Z,10,0)),0,VLOOKUP($A144+8860000,'Growth Data'!$A:$Z,10,0))","v":0},0,null,0,{"$f":"IF(ISERROR(VLOOKUP($A144+8860000,'Growth Data'!$A:$Z,11,0)),0,VLOOKUP($A144+8860000,'Growth Data'!$A:$Z,11,0))","v":0},0]
[3020,"Sedley's CEP School",null,"Sedley's CEP School","Sedley's CEP School",0,null,269390.77,269390.77146379999,0,null,9739.4599999999991,9739.4578602061847,0,null,0,0,0,null,19363.84,19363.836883947832,0,null,120082.8,120082.8,0,null,0,0,0,null,15236.2,15236.197929969521,0,null,0,0,0,null,4973,4973,0,null,0,0,0,null,0,0,0,null,0,0,0,null,438786.06,438786.06413792353,0,null,0,0,0,null,438786.06,438786.06413792353,0,null,0,null,0,null,438786.06,438786.06413792353,0,null,0,null,0,null,33430.29,null,33430,null,2656.97,null,2657,null,0,null,0,null,0,null,0,null,0,null,0,null,0,null,0,null,0,null,0,null,0,null,0,null,"NO",{"$f":"IF(ISERROR(VLOOKUP($A145+8860000,'Growth Data'!$A:$F,3,0)),\"NO\",VLOOKUP($A145+8860000,'Growth Data'!$A:$F,3,0))","v":"NO"},0,null,0,{"$f":"IF(DI145=\"YES\",IF(ISERROR(VLOOKUP($A145+8860000,'Growth Data'!$A:$F,6,0)),0,VLOOKUP($A145+8860000,'Growth Data'!$A:$F,6,0)),0)","v":0},0,null,0,{"$f":"IF(ISERROR(VLOOKUP($A145+8860000,'Growth Data'!$A:$Z,7,0)),0,VLOOKUP($A145+8860000,'Growth Data'!$A:$Z,7,0))","v":0},0,null,"NO",{"$f":"IF(ISERROR(VLOOKUP($A145+8860000,'Growth Data'!$A:$F,4,0)),\"NO\",VLOOKUP($A145+8860000,'Growth Data'!$A:$F,4,0))","v":"NO"},0,null,0,{"$f":"IF(ISERROR(VLOOKUP($A145+8860000,'Growth Data'!$A:$Z,8,0)),0,VLOOKUP($A145+8860000,'Growth Data'!$A:$Z,8,0))","v":0},0,null,0,{"$f":"IF(ISERROR(VLOOKUP($A145+8860000,'Growth Data'!$A:$Z,9,0)),0,VLOOKUP($A145+8860000,'Growth Data'!$A:$Z,9,0))","v":0},0,null,"NO",{"$f":"IF(ISERROR(VLOOKUP($A145+8860000,'Growth Data'!$A:$Z,5,0)),\"NO\",VLOOKUP($A145+8860000,'Growth Data'!$A:$Z,5,0))","v":"NO"},0,null,0,{"$f":"IF(ISERROR(VLOOKUP($A145+8860000,'Growth Data'!$A:$Z,10,0)),0,VLOOKUP($A145+8860000,'Growth Data'!$A:$Z,10,0))","v":0},0,null,0,{"$f":"IF(ISERROR(VLOOKUP($A145+8860000,'Growth Data'!$A:$Z,11,0)),0,VLOOKUP($A145+8860000,'Growth Data'!$A:$Z,11,0))","v":0},0]
[3022,"Benenden CEP School",null,"Benenden CEP School","Benenden CEP School",0,null,459063.87,459063.86565769999,0,null,7818.02,7818.0248639024376,0,null,0,0,0,null,29308.39,29308.390710201496,0,null,120082.8,120082.8,0,null,0,0,0,null,0,0,0,null,0,0,0,null,6024,6024,0,null,0,0,0,null,15101,15101,0,null,0,0,0,null,637398.07999999996,637398.08123180398,0,null,0,0,0,null,637398.07999999996,637398.08123180398,0,null,0,null,0,null,637398.07999999996,637398.08123180398,0,null,0,null,0,null,42040.5,null,42041,null,1795.95,null,1796,null,0,null,0,null,0,null,0,null,0,null,0,null,0,null,0,null,0,null,0,null,0,null,0,null,"NO",{"$f":"IF(ISERROR(VLOOKUP($A146+8860000,'Growth Data'!$A:$F,3,0)),\"NO\",VLOOKUP($A146+8860000,'Growth Data'!$A:$F,3,0))","v":"NO"},0,null,0,{"$f":"IF(DI146=\"YES\",IF(ISERROR(VLOOKUP($A146+8860000,'Growth Data'!$A:$F,6,0)),0,VLOOKUP($A146+8860000,'Growth Data'!$A:$F,6,0)),0)","v":0},0,null,0,{"$f":"IF(ISERROR(VLOOKUP($A146+8860000,'Growth Data'!$A:$Z,7,0)),0,VLOOKUP($A146+8860000,'Growth Data'!$A:$Z,7,0))","v":0},0,null,"NO",{"$f":"IF(ISERROR(VLOOKUP($A146+8860000,'Growth Data'!$A:$F,4,0)),\"NO\",VLOOKUP($A146+8860000,'Growth Data'!$A:$F,4,0))","v":"NO"},0,null,0,{"$f":"IF(ISERROR(VLOOKUP($A146+8860000,'Growth Data'!$A:$Z,8,0)),0,VLOOKUP($A146+8860000,'Growth Data'!$A:$Z,8,0))","v":0},0,null,0,{"$f":"IF(ISERROR(VLOOKUP($A146+8860000,'Growth Data'!$A:$Z,9,0)),0,VLOOKUP($A146+8860000,'Growth Data'!$A:$Z,9,0))","v":0},0,null,"NO",{"$f":"IF(ISERROR(VLOOKUP($A146+8860000,'Growth Data'!$A:$Z,5,0)),\"NO\",VLOOKUP($A146+8860000,'Growth Data'!$A:$Z,5,0))","v":"NO"},0,null,0,{"$f":"IF(ISERROR(VLOOKUP($A146+8860000,'Growth Data'!$A:$Z,10,0)),0,VLOOKUP($A146+8860000,'Growth Data'!$A:$Z,10,0))","v":0},0,null,0,{"$f":"IF(ISERROR(VLOOKUP($A146+8860000,'Growth Data'!$A:$Z,11,0)),0,VLOOKUP($A146+8860000,'Growth Data'!$A:$Z,11,0))","v":0},0]
[3023,"Bidborough CEP School",null,"Bidborough CEP School","Bidborough CEP School",0,null,577265.93999999994,577265.93885100004,0,null,5787.99,5787.9909600000046,0,null,5411.23,5411.2311750000008,0,null,39447.47,39447.466538363151,0,null,120082.8,120082.8,0,null,0,0,0,null,0,0,0,null,0,0,0,null,14730,14730,0,null,0,0,0,null,0,0,0,null,0,0,0,null,762725.43,762725.42752436316,0,null,0,0,0,null,762725.43,762725.42752436316,0,null,0,null,0,null,762725.43,762725.42752436316,0,null,0,null,0,null,54239.87,null,54240,null,576.01,null,576,null,0,null,0,null,0,null,0,null,0,null,0,null,0,null,0,null,0,null,0,null,0,null,0,null,"NO",{"$f":"IF(ISERROR(VLOOKUP($A147+8860000,'Growth Data'!$A:$F,3,0)),\"NO\",VLOOKUP($A147+8860000,'Growth Data'!$A:$F,3,0))","v":"NO"},0,null,0,{"$f":"IF(DI147=\"YES\",IF(ISERROR(VLOOKUP($A147+8860000,'Growth Data'!$A:$F,6,0)),0,VLOOKUP($A147+8860000,'Growth Data'!$A:$F,6,0)),0)","v":0},0,null,0,{"$f":"IF(ISERROR(VLOOKUP($A147+8860000,'Growth Data'!$A:$Z,7,0)),0,VLOOKUP($A147+8860000,'Growth Data'!$A:$Z,7,0))","v":0},0,null,"NO",{"$f":"IF(ISERROR(VLOOKUP($A147+8860000,'Growth Data'!$A:$F,4,0)),\"NO\",VLOOKUP($A147+8860000,'Growth Data'!$A:$F,4,0))","v":"NO"},0,null,0,{"$f":"IF(ISERROR(VLOOKUP($A147+8860000,'Growth Data'!$A:$Z,8,0)),0,VLOOKUP($A147+8860000,'Growth Data'!$A:$Z,8,0))","v":0},0,null,0,{"$f":"IF(ISERROR(VLOOKUP($A147+8860000,'Growth Data'!$A:$Z,9,0)),0,VLOOKUP($A147+8860000,'Growth Data'!$A:$Z,9,0))","v":0},0,null,"NO",{"$f":"IF(ISERROR(VLOOKUP($A147+8860000,'Growth Data'!$A:$Z,5,0)),\"NO\",VLOOKUP($A147+8860000,'Growth Data'!$A:$Z,5,0))","v":"NO"},0,null,0,{"$f":"IF(ISERROR(VLOOKUP($A147+8860000,'Growth Data'!$A:$Z,10,0)),0,VLOOKUP($A147+8860000,'Growth Data'!$A:$Z,10,0))","v":0},0,null,0,{"$f":"IF(ISERROR(VLOOKUP($A147+8860000,'Growth Data'!$A:$Z,11,0)),0,VLOOKUP($A147+8860000,'Growth Data'!$A:$Z,11,0))","v":0},0]
[3027,"Cranbrook CEP School",null,"Cranbrook CEP School","Cranbrook CEP School",0,null,439821.67,439821.66769600002,0,null,39104.370000000003,39104.36600519481,0,null,4439.9799999999996,4439.9845538461504,0,null,36932.06,36932.061695331729,0,null,120082.8,120082.8,0,null,0,0,0,null,0,0,0,null,0,0,0,null,25704,25704,0,null,0,0,0,null,0,0,0,null,0,0,0,null,666084.88,666084.87995037262,0,null,0,0,0,null,666084.88,666084.87995037262,0,null,0,null,0,null,666084.88,666084.87995037262,0,null,0,null,0,null,68218.66,null,68219,null,0,null,0,null,0,null,0,null,0,null,0,null,0,null,0,null,0,null,0,null,0,null,0,null,0,null,0,null,"NO",{"$f":"IF(ISERROR(VLOOKUP($A148+8860000,'Growth Data'!$A:$F,3,0)),\"NO\",VLOOKUP($A148+8860000,'Growth Data'!$A:$F,3,0))","v":"NO"},0,null,0,{"$f":"IF(DI148=\"YES\",IF(ISERROR(VLOOKUP($A148+8860000,'Growth Data'!$A:$F,6,0)),0,VLOOKUP($A148+8860000,'Growth Data'!$A:$F,6,0)),0)","v":0},0,null,0,{"$f":"IF(ISERROR(VLOOKUP($A148+8860000,'Growth Data'!$A:$Z,7,0)),0,VLOOKUP($A148+8860000,'Growth Data'!$A:$Z,7,0))","v":0},0,null,"NO",{"$f":"IF(ISERROR(VLOOKUP($A148+8860000,'Growth Data'!$A:$F,4,0)),\"NO\",VLOOKUP($A148+8860000,'Growth Data'!$A:$F,4,0))","v":"NO"},0,null,0,{"$f":"IF(ISERROR(VLOOKUP($A148+8860000,'Growth Data'!$A:$Z,8,0)),0,VLOOKUP($A148+8860000,'Growth Data'!$A:$Z,8,0))","v":0},0,null,0,{"$f":"IF(ISERROR(VLOOKUP($A148+8860000,'Growth Data'!$A:$Z,9,0)),0,VLOOKUP($A148+8860000,'Growth Data'!$A:$Z,9,0))","v":0},0,null,"NO",{"$f":"IF(ISERROR(VLOOKUP($A148+8860000,'Growth Data'!$A:$Z,5,0)),\"NO\",VLOOKUP($A148+8860000,'Growth Data'!$A:$Z,5,0))","v":"NO"},0,null,0,{"$f":"IF(ISERROR(VLOOKUP($A148+8860000,'Growth Data'!$A:$Z,10,0)),0,VLOOKUP($A148+8860000,'Growth Data'!$A:$Z,10,0))","v":0},0,null,0,{"$f":"IF(ISERROR(VLOOKUP($A148+8860000,'Growth Data'!$A:$Z,11,0)),0,VLOOKUP($A148+8860000,'Growth Data'!$A:$Z,11,0))","v":0},0]
[3029,"Goudhurst & Kilndown CEP School",null,"Goudhurst & Kilndown CEP School","Goudhurst & Kilndown CEP School",0,null,582763.71,582763.70969719999,0,null,16265.75,16265.750840563376,0,null,1800.91,1800.9121021978042,0,null,19672.060000000001,19672.06457470464,0,null,120082.8,120082.8,0,null,0,0,0,null,0,0,0,null,0,0,0,null,26964,26964,0,null,0,0,0,null,0,0,0,null,0,0,0,null,767549.24,767549.23721466574,0,null,0,0,0,null,767549.24,767549.23721466574,0,null,0,null,0,null,767549.24,767549.23721466574,0,null,0,null,0,null,38249.78,null,38250,null,2175.02,null,2175,null,0,null,0,null,0,null,0,null,0,null,0,null,0,null,0,null,0,null,0,null,0,null,0,null,"NO",{"$f":"IF(ISERROR(VLOOKUP($A149+8860000,'Growth Data'!$A:$F,3,0)),\"NO\",VLOOKUP($A149+8860000,'Growth Data'!$A:$F,3,0))","v":"NO"},0,null,0,{"$f":"IF(DI149=\"YES\",IF(ISERROR(VLOOKUP($A149+8860000,'Growth Data'!$A:$F,6,0)),0,VLOOKUP($A149+8860000,'Growth Data'!$A:$F,6,0)),0)","v":0},0,null,0,{"$f":"IF(ISERROR(VLOOKUP($A149+8860000,'Growth Data'!$A:$Z,7,0)),0,VLOOKUP($A149+8860000,'Growth Data'!$A:$Z,7,0))","v":0},0,null,"NO",{"$f":"IF(ISERROR(VLOOKUP($A149+8860000,'Growth Data'!$A:$F,4,0)),\"NO\",VLOOKUP($A149+8860000,'Growth Data'!$A:$F,4,0))","v":"NO"},0,null,0,{"$f":"IF(ISERROR(VLOOKUP($A149+8860000,'Growth Data'!$A:$Z,8,0)),0,VLOOKUP($A149+8860000,'Growth Data'!$A:$Z,8,0))","v":0},0,null,0,{"$f":"IF(ISERROR(VLOOKUP($A149+8860000,'Growth Data'!$A:$Z,9,0)),0,VLOOKUP($A149+8860000,'Growth Data'!$A:$Z,9,0))","v":0},0,null,"NO",{"$f":"IF(ISERROR(VLOOKUP($A149+8860000,'Growth Data'!$A:$Z,5,0)),\"NO\",VLOOKUP($A149+8860000,'Growth Data'!$A:$Z,5,0))","v":"NO"},0,null,0,{"$f":"IF(ISERROR(VLOOKUP($A149+8860000,'Growth Data'!$A:$Z,10,0)),0,VLOOKUP($A149+8860000,'Growth Data'!$A:$Z,10,0))","v":0},0,null,0,{"$f":"IF(ISERROR(VLOOKUP($A149+8860000,'Growth Data'!$A:$Z,11,0)),0,VLOOKUP($A149+8860000,'Growth Data'!$A:$Z,11,0))","v":0},0]
[3032,"Hawkhurst CEP School",null,"Hawkhurst CEP School","Hawkhurst CEP School",0,null,536032.66,536032.65750450001,0,null,54259.96,54259.964580612213,0,null,4263.3900000000003,4263.3942590909073,0,null,41265.35,41265.348075228845,0,null,120082.8,120082.8,0,null,0,0,0,null,0,0,0,null,0,0,0,null,34020,34020,0,null,0,0,0,null,0,0,0,null,0,0,0,null,789924.16,789924.16441943205,0,null,0,0,0,null,789924.16,789924.16441943205,0,null,0,null,0,null,789924.16,789924.16441943205,0,null,0,null,0,null,87530.96,null,87531,null,0,null,0,null,0,null,0,null,0,null,0,null,0,null,0,null,0,null,0,null,0,null,0,null,0,null,0,null,"NO",{"$f":"IF(ISERROR(VLOOKUP($A150+8860000,'Growth Data'!$A:$F,3,0)),\"NO\",VLOOKUP($A150+8860000,'Growth Data'!$A:$F,3,0))","v":"NO"},0,null,0,{"$f":"IF(DI150=\"YES\",IF(ISERROR(VLOOKUP($A150+8860000,'Growth Data'!$A:$F,6,0)),0,VLOOKUP($A150+8860000,'Growth Data'!$A:$F,6,0)),0)","v":0},0,null,0,{"$f":"IF(ISERROR(VLOOKUP($A150+8860000,'Growth Data'!$A:$Z,7,0)),0,VLOOKUP($A150+8860000,'Growth Data'!$A:$Z,7,0))","v":0},0,null,"NO",{"$f":"IF(ISERROR(VLOOKUP($A150+8860000,'Growth Data'!$A:$F,4,0)),\"NO\",VLOOKUP($A150+8860000,'Growth Data'!$A:$F,4,0))","v":"NO"},0,null,0,{"$f":"IF(ISERROR(VLOOKUP($A150+8860000,'Growth Data'!$A:$Z,8,0)),0,VLOOKUP($A150+8860000,'Growth Data'!$A:$Z,8,0))","v":0},0,null,0,{"$f":"IF(ISERROR(VLOOKUP($A150+8860000,'Growth Data'!$A:$Z,9,0)),0,VLOOKUP($A150+8860000,'Growth Data'!$A:$Z,9,0))","v":0},0,null,"NO",{"$f":"IF(ISERROR(VLOOKUP($A150+8860000,'Growth Data'!$A:$Z,5,0)),\"NO\",VLOOKUP($A150+8860000,'Growth Data'!$A:$Z,5,0))","v":"NO"},0,null,0,{"$f":"IF(ISERROR(VLOOKUP($A150+8860000,'Growth Data'!$A:$Z,10,0)),0,VLOOKUP($A150+8860000,'Growth Data'!$A:$Z,10,0))","v":0},0,null,0,{"$f":"IF(ISERROR(VLOOKUP($A150+8860000,'Growth Data'!$A:$Z,11,0)),0,VLOOKUP($A150+8860000,'Growth Data'!$A:$Z,11,0))","v":0},0]
[3033,"Hildenborough CEP School",null,"Hildenborough CEP School","Hildenborough CEP School",0,null,560772.63,560772.62631239998,0,null,14249.33,14249.326468983161,0,null,2416.84,2416.8388827586168,0,null,33947.440000000002,33947.435779255567,0,null,120082.8,120082.8,0,null,0,0,0,null,0,0,0,null,0,0,0,null,25591,25591,0,null,0,0,0,null,0,0,0,null,0,0,0,null,757060.03,757060.02744339744,0,null,0,0,0,null,757060.03,757060.02744339744,0,null,0,null,0,null,757060.03,757060.02744339744,0,null,0,null,0,null,51564.959999999999,null,51565,null,843.5,null,844,null,0,null,0,null,0,null,0,null,0,null,0,null,0,null,0,null,0,null,0,null,0,null,0,null,"NO",{"$f":"IF(ISERROR(VLOOKUP($A151+8860000,'Growth Data'!$A:$F,3,0)),\"NO\",VLOOKUP($A151+8860000,'Growth Data'!$A:$F,3,0))","v":"NO"},0,null,0,{"$f":"IF(DI151=\"YES\",IF(ISERROR(VLOOKUP($A151+8860000,'Growth Data'!$A:$F,6,0)),0,VLOOKUP($A151+8860000,'Growth Data'!$A:$F,6,0)),0)","v":0},0,null,0,{"$f":"IF(ISERROR(VLOOKUP($A151+8860000,'Growth Data'!$A:$Z,7,0)),0,VLOOKUP($A151+8860000,'Growth Data'!$A:$Z,7,0))","v":0},0,null,"NO",{"$f":"IF(ISERROR(VLOOKUP($A151+8860000,'Growth Data'!$A:$F,4,0)),\"NO\",VLOOKUP($A151+8860000,'Growth Data'!$A:$F,4,0))","v":"NO"},0,null,0,{"$f":"IF(ISERROR(VLOOKUP($A151+8860000,'Growth Data'!$A:$Z,8,0)),0,VLOOKUP($A151+8860000,'Growth Data'!$A:$Z,8,0))","v":0},0,null,0,{"$f":"IF(ISERROR(VLOOKUP($A151+8860000,'Growth Data'!$A:$Z,9,0)),0,VLOOKUP($A151+8860000,'Growth Data'!$A:$Z,9,0))","v":0},0,null,"NO",{"$f":"IF(ISERROR(VLOOKUP($A151+8860000,'Growth Data'!$A:$Z,5,0)),\"NO\",VLOOKUP($A151+8860000,'Growth Data'!$A:$Z,5,0))","v":"NO"},0,null,0,{"$f":"IF(ISERROR(VLOOKUP($A151+8860000,'Growth Data'!$A:$Z,10,0)),0,VLOOKUP($A151+8860000,'Growth Data'!$A:$Z,10,0))","v":0},0,null,0,{"$f":"IF(ISERROR(VLOOKUP($A151+8860000,'Growth Data'!$A:$Z,11,0)),0,VLOOKUP($A151+8860000,'Growth Data'!$A:$Z,11,0))","v":0},0]
[3034,"Lamberhurst St Mary's CEP School",null,"Lamberhurst St Mary's CEP School","Lamberhurst St Mary's CEP School",0,null,574517.05000000005,574517.05342789995,0,null,7471.32,7471.3240594201816,0,null,2975.39,2975.3941477900562,0,null,29090.53,29090.529453631701,0,null,120082.8,120082.8,0,null,0,0,0,null,0,0,0,null,0,0,0,null,27468,27468,0,null,0,0,0,null,0,0,0,null,0,0,0,null,761605.1,761605.10108874191,0,null,0,0,0,null,761605.1,761605.10108874191,0,null,0,null,0,null,761605.1,761605.10108874191,0,null,0,null,0,null,42690.12,null,42690,null,1730.99,null,1731,null,0,null,0,null,0,null,0,null,0,null,0,null,0,null,0,null,0,null,0,null,0,null,0,null,"YES",{"$f":"IF(ISERROR(VLOOKUP($A152+8860000,'Growth Data'!$A:$F,3,0)),\"NO\",VLOOKUP($A152+8860000,'Growth Data'!$A:$F,3,0))","v":"NO"},1,null,21,{"$f":"IF(DI152=\"YES\",IF(ISERROR(VLOOKUP($A152+8860000,'Growth Data'!$A:$F,6,0)),0,VLOOKUP($A152+8860000,'Growth Data'!$A:$F,6,0)),0)","v":0},21,null,30,{"$f":"IF(ISERROR(VLOOKUP($A152+8860000,'Growth Data'!$A:$Z,7,0)),0,VLOOKUP($A152+8860000,'Growth Data'!$A:$Z,7,0))","v":0},1,null,"NO",{"$f":"IF(ISERROR(VLOOKUP($A152+8860000,'Growth Data'!$A:$F,4,0)),\"NO\",VLOOKUP($A152+8860000,'Growth Data'!$A:$F,4,0))","v":"NO"},0,null,0,{"$f":"IF(ISERROR(VLOOKUP($A152+8860000,'Growth Data'!$A:$Z,8,0)),0,VLOOKUP($A152+8860000,'Growth Data'!$A:$Z,8,0))","v":0},0,null,0,{"$f":"IF(ISERROR(VLOOKUP($A152+8860000,'Growth Data'!$A:$Z,9,0)),0,VLOOKUP($A152+8860000,'Growth Data'!$A:$Z,9,0))","v":0},0,null,"NO",{"$f":"IF(ISERROR(VLOOKUP($A152+8860000,'Growth Data'!$A:$Z,5,0)),\"NO\",VLOOKUP($A152+8860000,'Growth Data'!$A:$Z,5,0))","v":"NO"},0,null,0,{"$f":"IF(ISERROR(VLOOKUP($A152+8860000,'Growth Data'!$A:$Z,10,0)),0,VLOOKUP($A152+8860000,'Growth Data'!$A:$Z,10,0))","v":0},0,null,0,{"$f":"IF(ISERROR(VLOOKUP($A152+8860000,'Growth Data'!$A:$Z,11,0)),0,VLOOKUP($A152+8860000,'Growth Data'!$A:$Z,11,0))","v":0},0]
[3035,"Seal CEP School",null,"Seal CEP School","Seal CEP School",0,null,775185.69,775185.68931419996,0,null,45284.52,45284.517547680589,0,null,8270.82,8270.8248853658606,0,null,51282.52,51282.518343184252,0,null,120082.8,120082.8,0,null,0,0,0,null,36403.870000000003,36403.871143291668,0,null,0,0,0,null,14234,14234,0,null,0,0,0,null,0,0,0,null,0,0,0,null,1050744.22,1050744.2212337225,0,null,0,0,0,null,1050744.22,1050744.2212337225,0,null,0,null,0,null,1050744.22,1050744.2212337225,0,null,0,null,0,null,95037.36,null,95037,null,0,null,0,null,0,null,0,null,0,null,0,null,0,null,0,null,0,null,0,null,0,null,0,null,0,null,0,null,"NO",{"$f":"IF(ISERROR(VLOOKUP($A153+8860000,'Growth Data'!$A:$F,3,0)),\"NO\",VLOOKUP($A153+8860000,'Growth Data'!$A:$F,3,0))","v":"YES"},1,null,0,{"$f":"IF(DI153=\"YES\",IF(ISERROR(VLOOKUP($A153+8860000,'Growth Data'!$A:$F,6,0)),0,VLOOKUP($A153+8860000,'Growth Data'!$A:$F,6,0)),0)","v":49},-49,null,0,{"$f":"IF(ISERROR(VLOOKUP($A153+8860000,'Growth Data'!$A:$Z,7,0)),0,VLOOKUP($A153+8860000,'Growth Data'!$A:$Z,7,0))","v":60},1,null,"YES",{"$f":"IF(ISERROR(VLOOKUP($A153+8860000,'Growth Data'!$A:$F,4,0)),\"NO\",VLOOKUP($A153+8860000,'Growth Data'!$A:$F,4,0))","v":"YES"},0,null,44,{"$f":"IF(ISERROR(VLOOKUP($A153+8860000,'Growth Data'!$A:$Z,8,0)),0,VLOOKUP($A153+8860000,'Growth Data'!$A:$Z,8,0))","v":30},1,null,60,{"$f":"IF(ISERROR(VLOOKUP($A153+8860000,'Growth Data'!$A:$Z,9,0)),0,VLOOKUP($A153+8860000,'Growth Data'!$A:$Z,9,0))","v":60},0,null,"YES",{"$f":"IF(ISERROR(VLOOKUP($A153+8860000,'Growth Data'!$A:$Z,5,0)),\"NO\",VLOOKUP($A153+8860000,'Growth Data'!$A:$Z,5,0))","v":"YES"},0,null,31,{"$f":"IF(ISERROR(VLOOKUP($A153+8860000,'Growth Data'!$A:$Z,10,0)),0,VLOOKUP($A153+8860000,'Growth Data'!$A:$Z,10,0))","v":33},1,null,60,{"$f":"IF(ISERROR(VLOOKUP($A153+8860000,'Growth Data'!$A:$Z,11,0)),0,VLOOKUP($A153+8860000,'Growth Data'!$A:$Z,11,0))","v":60},0]
[3037,"St John's CEP School, Sevenoaks",null,"St John's CEP School, Sevenoaks","St John's CEP School, Sevenoaks",0,null,659732.5,659732.501544,0,null,12808.83,12808.831999999999,0,null,8834.66,8834.66314285714,0,null,42022.66,42022.658250760185,0,null,120082.8,120082.8,0,null,0,0,0,null,30702.73,30702.724959729265,0,null,0,0,0,null,19185,19185,0,null,0,0,0,null,0,0,0,null,0,0,0,null,893369.18,893369.17989734665,0,null,99120.91,99120.909583426197,0,null,992490.09,992490.08948077285,0,null,0,null,0,null,992490.09,992490.08948077285,0,null,0,null,0,null,66056.929999999993,null,66057,null,0,null,0,null,0,null,0,null,0,null,0,null,0,null,0,null,0,null,0,null,0,null,0,null,0,null,0,null,"NO",{"$f":"IF(ISERROR(VLOOKUP($A154+8860000,'Growth Data'!$A:$F,3,0)),\"NO\",VLOOKUP($A154+8860000,'Growth Data'!$A:$F,3,0))","v":"NO"},0,null,0,{"$f":"IF(DI154=\"YES\",IF(ISERROR(VLOOKUP($A154+8860000,'Growth Data'!$A:$F,6,0)),0,VLOOKUP($A154+8860000,'Growth Data'!$A:$F,6,0)),0)","v":0},0,null,0,{"$f":"IF(ISERROR(VLOOKUP($A154+8860000,'Growth Data'!$A:$Z,7,0)),0,VLOOKUP($A154+8860000,'Growth Data'!$A:$Z,7,0))","v":0},0,null,"NO",{"$f":"IF(ISERROR(VLOOKUP($A154+8860000,'Growth Data'!$A:$F,4,0)),\"NO\",VLOOKUP($A154+8860000,'Growth Data'!$A:$F,4,0))","v":"NO"},0,null,0,{"$f":"IF(ISERROR(VLOOKUP($A154+8860000,'Growth Data'!$A:$Z,8,0)),0,VLOOKUP($A154+8860000,'Growth Data'!$A:$Z,8,0))","v":0},0,null,0,{"$f":"IF(ISERROR(VLOOKUP($A154+8860000,'Growth Data'!$A:$Z,9,0)),0,VLOOKUP($A154+8860000,'Growth Data'!$A:$Z,9,0))","v":0},0,null,"NO",{"$f":"IF(ISERROR(VLOOKUP($A154+8860000,'Growth Data'!$A:$Z,5,0)),\"NO\",VLOOKUP($A154+8860000,'Growth Data'!$A:$Z,5,0))","v":"NO"},0,null,0,{"$f":"IF(ISERROR(VLOOKUP($A154+8860000,'Growth Data'!$A:$Z,10,0)),0,VLOOKUP($A154+8860000,'Growth Data'!$A:$Z,10,0))","v":0},0,null,0,{"$f":"IF(ISERROR(VLOOKUP($A154+8860000,'Growth Data'!$A:$Z,11,0)),0,VLOOKUP($A154+8860000,'Growth Data'!$A:$Z,11,0))","v":0},0]
[3042,"Speldhurst CEP School",null,"Speldhurst CEP School","Speldhurst CEP School",0,null,486552.72,486552.7198887,0,null,1672.16,1672.1598913103462,0,null,1232.67,1232.6742831081069,0,null,18282.419999999998,18282.422734679141,0,null,120082.8,120082.8,0,null,0,0,0,null,0,0,0,null,0,0,0,null,3049,3049,0,null,0,0,0,null,0,0,0,null,0,0,0,null,630871.78,630871.77679779753,0,null,0,0,0,null,630871.78,630871.77679779753,0,null,0,null,0,null,630871.78,630871.77679779753,0,null,0,null,0,null,26541.65,null,26542,null,3345.84,null,3346,null,0,null,0,null,0,null,0,null,0,null,0,null,0,null,0,null,0,null,0,null,0,null,0,null,"NO",{"$f":"IF(ISERROR(VLOOKUP($A155+8860000,'Growth Data'!$A:$F,3,0)),\"NO\",VLOOKUP($A155+8860000,'Growth Data'!$A:$F,3,0))","v":"NO"},0,null,0,{"$f":"IF(DI155=\"YES\",IF(ISERROR(VLOOKUP($A155+8860000,'Growth Data'!$A:$F,6,0)),0,VLOOKUP($A155+8860000,'Growth Data'!$A:$F,6,0)),0)","v":0},0,null,0,{"$f":"IF(ISERROR(VLOOKUP($A155+8860000,'Growth Data'!$A:$Z,7,0)),0,VLOOKUP($A155+8860000,'Growth Data'!$A:$Z,7,0))","v":0},0,null,"NO",{"$f":"IF(ISERROR(VLOOKUP($A155+8860000,'Growth Data'!$A:$F,4,0)),\"NO\",VLOOKUP($A155+8860000,'Growth Data'!$A:$F,4,0))","v":"NO"},0,null,0,{"$f":"IF(ISERROR(VLOOKUP($A155+8860000,'Growth Data'!$A:$Z,8,0)),0,VLOOKUP($A155+8860000,'Growth Data'!$A:$Z,8,0))","v":0},0,null,0,{"$f":"IF(ISERROR(VLOOKUP($A155+8860000,'Growth Data'!$A:$Z,9,0)),0,VLOOKUP($A155+8860000,'Growth Data'!$A:$Z,9,0))","v":0},0,null,"NO",{"$f":"IF(ISERROR(VLOOKUP($A155+8860000,'Growth Data'!$A:$Z,5,0)),\"NO\",VLOOKUP($A155+8860000,'Growth Data'!$A:$Z,5,0))","v":"NO"},0,null,0,{"$f":"IF(ISERROR(VLOOKUP($A155+8860000,'Growth Data'!$A:$Z,10,0)),0,VLOOKUP($A155+8860000,'Growth Data'!$A:$Z,10,0))","v":0},0,null,0,{"$f":"IF(ISERROR(VLOOKUP($A155+8860000,'Growth Data'!$A:$Z,11,0)),0,VLOOKUP($A155+8860000,'Growth Data'!$A:$Z,11,0))","v":0},0]
[3043,"Sundridge & Brasted CEP School",null,"Sundridge & Brasted CEP School","Sundridge & Brasted CEP School",0,null,250148.57,250148.57350210001,0,null,11323.89,11323.892308631584,0,null,1172.43,1172.43342125,0,null,12058.49,12058.48912529295,0,null,120082.8,120082.8,0,null,0,0,0,null,14370.22,14370.217256204787,0,null,0,0,0,null,6394,6394,0,null,0,0,0,null,0,0,0,null,0,0,0,null,415550.41,415550.40561347932,0,null,0,0,0,null,415550.41,415550.40561347932,0,null,0,null,0,null,415550.41,415550.40561347932,0,null,0,null,0,null,26890.93,null,26891,null,3310.91,null,3311,null,0,null,0,null,0,null,0,null,0,null,0,null,0,null,0,null,0,null,0,null,0,null,0,null,"NO",{"$f":"IF(ISERROR(VLOOKUP($A156+8860000,'Growth Data'!$A:$F,3,0)),\"NO\",VLOOKUP($A156+8860000,'Growth Data'!$A:$F,3,0))","v":"NO"},0,null,0,{"$f":"IF(DI156=\"YES\",IF(ISERROR(VLOOKUP($A156+8860000,'Growth Data'!$A:$F,6,0)),0,VLOOKUP($A156+8860000,'Growth Data'!$A:$F,6,0)),0)","v":0},0,null,0,{"$f":"IF(ISERROR(VLOOKUP($A156+8860000,'Growth Data'!$A:$Z,7,0)),0,VLOOKUP($A156+8860000,'Growth Data'!$A:$Z,7,0))","v":0},0,null,"NO",{"$f":"IF(ISERROR(VLOOKUP($A156+8860000,'Growth Data'!$A:$F,4,0)),\"NO\",VLOOKUP($A156+8860000,'Growth Data'!$A:$F,4,0))","v":"NO"},0,null,0,{"$f":"IF(ISERROR(VLOOKUP($A156+8860000,'Growth Data'!$A:$Z,8,0)),0,VLOOKUP($A156+8860000,'Growth Data'!$A:$Z,8,0))","v":0},0,null,0,{"$f":"IF(ISERROR(VLOOKUP($A156+8860000,'Growth Data'!$A:$Z,9,0)),0,VLOOKUP($A156+8860000,'Growth Data'!$A:$Z,9,0))","v":0},0,null,"NO",{"$f":"IF(ISERROR(VLOOKUP($A156+8860000,'Growth Data'!$A:$Z,5,0)),\"NO\",VLOOKUP($A156+8860000,'Growth Data'!$A:$Z,5,0))","v":"NO"},0,null,0,{"$f":"IF(ISERROR(VLOOKUP($A156+8860000,'Growth Data'!$A:$Z,10,0)),0,VLOOKUP($A156+8860000,'Growth Data'!$A:$Z,10,0))","v":0},0,null,0,{"$f":"IF(ISERROR(VLOOKUP($A156+8860000,'Growth Data'!$A:$Z,11,0)),0,VLOOKUP($A156+8860000,'Growth Data'!$A:$Z,11,0))","v":0},0]
[3049,"St James' CEJ School",null,"St James' CEJ School","St James' CEJ School",0,null,995096.52,995096.5231622,0,null,15822.73,15822.72978378136,0,null,15503.49,15503.487814404425,0,null,69273.19,69273.189455947577,0,null,120082.8,120082.8,0,null,0,0,0,null,0,0,0,null,0,0,0,null,34776,34776,0,null,0,0,0,null,0,0,0,null,15021.27,15021.26978366659,0,null,1265576,1265576,0,null,0,0,0,null,1265576,1265576,0,null,0,null,0,null,1265576,1265576,0,null,0,null,0,null,102431.37,null,102431,null,0,null,0,null,0,null,0,null,0,null,0,null,0,null,0,null,0,null,0,null,0,null,0,null,0,null,0,null,"NO",{"$f":"IF(ISERROR(VLOOKUP($A157+8860000,'Growth Data'!$A:$F,3,0)),\"NO\",VLOOKUP($A157+8860000,'Growth Data'!$A:$F,3,0))","v":"NO"},0,null,0,{"$f":"IF(DI157=\"YES\",IF(ISERROR(VLOOKUP($A157+8860000,'Growth Data'!$A:$F,6,0)),0,VLOOKUP($A157+8860000,'Growth Data'!$A:$F,6,0)),0)","v":0},0,null,0,{"$f":"IF(ISERROR(VLOOKUP($A157+8860000,'Growth Data'!$A:$Z,7,0)),0,VLOOKUP($A157+8860000,'Growth Data'!$A:$Z,7,0))","v":0},0,null,"NO",{"$f":"IF(ISERROR(VLOOKUP($A157+8860000,'Growth Data'!$A:$F,4,0)),\"NO\",VLOOKUP($A157+8860000,'Growth Data'!$A:$F,4,0))","v":"NO"},0,null,0,{"$f":"IF(ISERROR(VLOOKUP($A157+8860000,'Growth Data'!$A:$Z,8,0)),0,VLOOKUP($A157+8860000,'Growth Data'!$A:$Z,8,0))","v":0},0,null,0,{"$f":"IF(ISERROR(VLOOKUP($A157+8860000,'Growth Data'!$A:$Z,9,0)),0,VLOOKUP($A157+8860000,'Growth Data'!$A:$Z,9,0))","v":0},0,null,"NO",{"$f":"IF(ISERROR(VLOOKUP($A157+8860000,'Growth Data'!$A:$Z,5,0)),\"NO\",VLOOKUP($A157+8860000,'Growth Data'!$A:$Z,5,0))","v":"NO"},0,null,0,{"$f":"IF(ISERROR(VLOOKUP($A157+8860000,'Growth Data'!$A:$Z,10,0)),0,VLOOKUP($A157+8860000,'Growth Data'!$A:$Z,10,0))","v":0},0,null,0,{"$f":"IF(ISERROR(VLOOKUP($A157+8860000,'Growth Data'!$A:$Z,11,0)),0,VLOOKUP($A157+8860000,'Growth Data'!$A:$Z,11,0))","v":0},0]
[3050,"St John's CEP School",null,"St John's CEP School","St John's CEP School",0,null,1784026.64,1784026.6395918999,0,null,47523.28,47523.280080930257,0,null,44276.31,44276.307762253884,0,null,133960.84,133960.84421545299,0,null,120082.8,120082.8,0,null,0,0,0,null,0,0,0,null,0,0,0,null,72072,72072,0,null,0,0,0,null,0,0,0,null,76730.13,76730.12834946299,0,null,2278672,2278672,0,null,0,0,0,null,2278672,2278672,0,null,0,null,0,null,2278672,2278672,0,null,0,null,0,null,218346.02,null,218346,null,0,null,0,null,0,null,0,null,0,null,0,null,0,null,0,null,0,null,0,null,0,null,0,null,0,null,0,null,"NO",{"$f":"IF(ISERROR(VLOOKUP($A158+8860000,'Growth Data'!$A:$F,3,0)),\"NO\",VLOOKUP($A158+8860000,'Growth Data'!$A:$F,3,0))","v":"NO"},0,null,0,{"$f":"IF(DI158=\"YES\",IF(ISERROR(VLOOKUP($A158+8860000,'Growth Data'!$A:$F,6,0)),0,VLOOKUP($A158+8860000,'Growth Data'!$A:$F,6,0)),0)","v":0},0,null,0,{"$f":"IF(ISERROR(VLOOKUP($A158+8860000,'Growth Data'!$A:$Z,7,0)),0,VLOOKUP($A158+8860000,'Growth Data'!$A:$Z,7,0))","v":0},0,null,"NO",{"$f":"IF(ISERROR(VLOOKUP($A158+8860000,'Growth Data'!$A:$F,4,0)),\"NO\",VLOOKUP($A158+8860000,'Growth Data'!$A:$F,4,0))","v":"NO"},0,null,0,{"$f":"IF(ISERROR(VLOOKUP($A158+8860000,'Growth Data'!$A:$Z,8,0)),0,VLOOKUP($A158+8860000,'Growth Data'!$A:$Z,8,0))","v":0},0,null,0,{"$f":"IF(ISERROR(VLOOKUP($A158+8860000,'Growth Data'!$A:$Z,9,0)),0,VLOOKUP($A158+8860000,'Growth Data'!$A:$Z,9,0))","v":0},0,null,"NO",{"$f":"IF(ISERROR(VLOOKUP($A158+8860000,'Growth Data'!$A:$Z,5,0)),\"NO\",VLOOKUP($A158+8860000,'Growth Data'!$A:$Z,5,0))","v":"NO"},0,null,0,{"$f":"IF(ISERROR(VLOOKUP($A158+8860000,'Growth Data'!$A:$Z,10,0)),0,VLOOKUP($A158+8860000,'Growth Data'!$A:$Z,10,0))","v":0},0,null,0,{"$f":"IF(ISERROR(VLOOKUP($A158+8860000,'Growth Data'!$A:$Z,11,0)),0,VLOOKUP($A158+8860000,'Growth Data'!$A:$Z,11,0))","v":0},0]
[3052,"St Mark's CEP School",null,"St Mark's CEP School","St Mark's CEP School",0,null,849405.6,849405.5957379,0,null,70403.88,70403.876282140511,0,null,19755.93,19755.934225375968,0,null,70347.17,70347.170702376461,0,null,120082.8,120082.8,0,null,0,0,0,null,0,0,0,null,0,0,0,null,44856,44856,0,null,0,0,0,null,0,0,0,null,0,0,0,null,1174851.3799999999,1174851.3769477929,0,null,0,0,0,null,1174851.3799999999,1174851.3769477929,0,null,0,null,0,null,1174851.3799999999,1174851.3769477929,0,null,0,null,0,null,145607.41,null,145607,null,0,null,0,null,0,null,0,null,0,null,0,null,0,null,0,null,0,null,0,null,0,null,0,null,0,null,0,null,"YES",{"$f":"IF(ISERROR(VLOOKUP($A159+8860000,'Growth Data'!$A:$F,3,0)),\"NO\",VLOOKUP($A159+8860000,'Growth Data'!$A:$F,3,0))","v":"YES"},0,null,30,{"$f":"IF(DI159=\"YES\",IF(ISERROR(VLOOKUP($A159+8860000,'Growth Data'!$A:$F,6,0)),0,VLOOKUP($A159+8860000,'Growth Data'!$A:$F,6,0)),0)","v":30},0,null,60,{"$f":"IF(ISERROR(VLOOKUP($A159+8860000,'Growth Data'!$A:$Z,7,0)),0,VLOOKUP($A159+8860000,'Growth Data'!$A:$Z,7,0))","v":60},0,null,"YES",{"$f":"IF(ISERROR(VLOOKUP($A159+8860000,'Growth Data'!$A:$F,4,0)),\"NO\",VLOOKUP($A159+8860000,'Growth Data'!$A:$F,4,0))","v":"NO"},1,null,30,{"$f":"IF(ISERROR(VLOOKUP($A159+8860000,'Growth Data'!$A:$Z,8,0)),0,VLOOKUP($A159+8860000,'Growth Data'!$A:$Z,8,0))","v":0},1,null,60,{"$f":"IF(ISERROR(VLOOKUP($A159+8860000,'Growth Data'!$A:$Z,9,0)),0,VLOOKUP($A159+8860000,'Growth Data'!$A:$Z,9,0))","v":0},1,null,"NO",{"$f":"IF(ISERROR(VLOOKUP($A159+8860000,'Growth Data'!$A:$Z,5,0)),\"NO\",VLOOKUP($A159+8860000,'Growth Data'!$A:$Z,5,0))","v":"NO"},0,null,0,{"$f":"IF(ISERROR(VLOOKUP($A159+8860000,'Growth Data'!$A:$Z,10,0)),0,VLOOKUP($A159+8860000,'Growth Data'!$A:$Z,10,0))","v":0},0,null,0,{"$f":"IF(ISERROR(VLOOKUP($A159+8860000,'Growth Data'!$A:$Z,11,0)),0,VLOOKUP($A159+8860000,'Growth Data'!$A:$Z,11,0))","v":0},0]
[3053,"St Peter's CEP School",null,"St Peter's CEP School","St Peter's CEP School",0,null,382095.07,382095.07381089998,0,null,16041.52,16041.518158285733,0,null,2407.88,2407.8787781512638,0,null,23950.87,23950.874324526074,0,null,120082.8,120082.8,0,null,0,0,0,null,0,0,0,null,0,0,0,null,9850,9850,0,null,0,0,0,null,7250,7250,0,null,0,0,0,null,561678.15,561678.14507186308,0,null,0,0,0,null,561678.15,561678.14507186308,0,null,0,null,0,null,561678.15,561678.14507186308,0,null,0,null,0,null,41590.410000000003,null,41590,null,1840.96,null,1841,null,0,null,0,null,0,null,0,null,0,null,0,null,0,null,0,null,0,null,0,null,0,null,0,null,"NO",{"$f":"IF(ISERROR(VLOOKUP($A160+8860000,'Growth Data'!$A:$F,3,0)),\"NO\",VLOOKUP($A160+8860000,'Growth Data'!$A:$F,3,0))","v":"NO"},0,null,0,{"$f":"IF(DI160=\"YES\",IF(ISERROR(VLOOKUP($A160+8860000,'Growth Data'!$A:$F,6,0)),0,VLOOKUP($A160+8860000,'Growth Data'!$A:$F,6,0)),0)","v":0},0,null,0,{"$f":"IF(ISERROR(VLOOKUP($A160+8860000,'Growth Data'!$A:$Z,7,0)),0,VLOOKUP($A160+8860000,'Growth Data'!$A:$Z,7,0))","v":0},0,null,"NO",{"$f":"IF(ISERROR(VLOOKUP($A160+8860000,'Growth Data'!$A:$F,4,0)),\"NO\",VLOOKUP($A160+8860000,'Growth Data'!$A:$F,4,0))","v":"NO"},0,null,0,{"$f":"IF(ISERROR(VLOOKUP($A160+8860000,'Growth Data'!$A:$Z,8,0)),0,VLOOKUP($A160+8860000,'Growth Data'!$A:$Z,8,0))","v":0},0,null,0,{"$f":"IF(ISERROR(VLOOKUP($A160+8860000,'Growth Data'!$A:$Z,9,0)),0,VLOOKUP($A160+8860000,'Growth Data'!$A:$Z,9,0))","v":0},0,null,"NO",{"$f":"IF(ISERROR(VLOOKUP($A160+8860000,'Growth Data'!$A:$Z,5,0)),\"NO\",VLOOKUP($A160+8860000,'Growth Data'!$A:$Z,5,0))","v":"NO"},0,null,0,{"$f":"IF(ISERROR(VLOOKUP($A160+8860000,'Growth Data'!$A:$Z,10,0)),0,VLOOKUP($A160+8860000,'Growth Data'!$A:$Z,10,0))","v":0},0,null,0,{"$f":"IF(ISERROR(VLOOKUP($A160+8860000,'Growth Data'!$A:$Z,11,0)),0,VLOOKUP($A160+8860000,'Growth Data'!$A:$Z,11,0))","v":0},0]
[3054,"Crockham Hill CEP School",null,"Crockham Hill CEP School","Crockham Hill CEP School",0,null,390341.73,390341.73008020001,0,null,8406.32,8406.3180991304343,0,null,1199.68,1199.6796672131134,0,null,17369.12,17369.117049449855,0,null,120082.8,120082.8,0,null,0,0,0,null,19561.349999999999,19561.347074214154,0,null,0,0,0,null,17676,17676,0,null,0,0,0,null,12500,12500,0,null,0,0,0,null,587136.99,587136.99197020754,0,null,0,0,0,null,587136.99,587136.99197020754,0,null,0,null,0,null,587136.99,587136.99197020754,0,null,0,null,0,null,32137.31,null,32137,null,2786.27,null,2786,null,0,null,0,null,0,null,0,null,0,null,0,null,0,null,0,null,0,null,0,null,0,null,0,null,"NO",{"$f":"IF(ISERROR(VLOOKUP($A161+8860000,'Growth Data'!$A:$F,3,0)),\"NO\",VLOOKUP($A161+8860000,'Growth Data'!$A:$F,3,0))","v":"NO"},0,null,0,{"$f":"IF(DI161=\"YES\",IF(ISERROR(VLOOKUP($A161+8860000,'Growth Data'!$A:$F,6,0)),0,VLOOKUP($A161+8860000,'Growth Data'!$A:$F,6,0)),0)","v":0},0,null,0,{"$f":"IF(ISERROR(VLOOKUP($A161+8860000,'Growth Data'!$A:$Z,7,0)),0,VLOOKUP($A161+8860000,'Growth Data'!$A:$Z,7,0))","v":0},0,null,"NO",{"$f":"IF(ISERROR(VLOOKUP($A161+8860000,'Growth Data'!$A:$F,4,0)),\"NO\",VLOOKUP($A161+8860000,'Growth Data'!$A:$F,4,0))","v":"NO"},0,null,0,{"$f":"IF(ISERROR(VLOOKUP($A161+8860000,'Growth Data'!$A:$Z,8,0)),0,VLOOKUP($A161+8860000,'Growth Data'!$A:$Z,8,0))","v":0},0,null,0,{"$f":"IF(ISERROR(VLOOKUP($A161+8860000,'Growth Data'!$A:$Z,9,0)),0,VLOOKUP($A161+8860000,'Growth Data'!$A:$Z,9,0))","v":0},0,null,"NO",{"$f":"IF(ISERROR(VLOOKUP($A161+8860000,'Growth Data'!$A:$Z,5,0)),\"NO\",VLOOKUP($A161+8860000,'Growth Data'!$A:$Z,5,0))","v":"NO"},0,null,0,{"$f":"IF(ISERROR(VLOOKUP($A161+8860000,'Growth Data'!$A:$Z,10,0)),0,VLOOKUP($A161+8860000,'Growth Data'!$A:$Z,10,0))","v":0},0,null,0,{"$f":"IF(ISERROR(VLOOKUP($A161+8860000,'Growth Data'!$A:$Z,11,0)),0,VLOOKUP($A161+8860000,'Growth Data'!$A:$Z,11,0))","v":0},0]
[3055,"Churchill CEP School",null,"Churchill CEP School","Churchill CEP School",0,null,706463.55,706463.55373669998,0,null,23055.53,23055.526209896911,0,null,3425.34,3425.3359900862015,0,null,38053.69,38053.688242882774,0,null,120082.8,120082.8,0,null,0,0,0,null,32435.34,32435.344912136185,0,null,0,0,0,null,28476,28476,0,null,0,0,0,null,0,0,0,null,0,0,0,null,951992.25,951992.24909170205,0,null,0,0,0,null,951992.25,951992.24909170205,0,null,0,null,0,null,951992.25,951992.24909170205,0,null,0,null,0,null,62849.96,null,62850,null,0,null,0,null,0,null,0,null,0,null,0,null,0,null,0,null,0,null,0,null,0,null,0,null,0,null,0,null,"NO",{"$f":"IF(ISERROR(VLOOKUP($A162+8860000,'Growth Data'!$A:$F,3,0)),\"NO\",VLOOKUP($A162+8860000,'Growth Data'!$A:$F,3,0))","v":"NO"},0,null,0,{"$f":"IF(DI162=\"YES\",IF(ISERROR(VLOOKUP($A162+8860000,'Growth Data'!$A:$F,6,0)),0,VLOOKUP($A162+8860000,'Growth Data'!$A:$F,6,0)),0)","v":0},0,null,0,{"$f":"IF(ISERROR(VLOOKUP($A162+8860000,'Growth Data'!$A:$Z,7,0)),0,VLOOKUP($A162+8860000,'Growth Data'!$A:$Z,7,0))","v":0},0,null,"NO",{"$f":"IF(ISERROR(VLOOKUP($A162+8860000,'Growth Data'!$A:$F,4,0)),\"NO\",VLOOKUP($A162+8860000,'Growth Data'!$A:$F,4,0))","v":"NO"},0,null,0,{"$f":"IF(ISERROR(VLOOKUP($A162+8860000,'Growth Data'!$A:$Z,8,0)),0,VLOOKUP($A162+8860000,'Growth Data'!$A:$Z,8,0))","v":0},0,null,0,{"$f":"IF(ISERROR(VLOOKUP($A162+8860000,'Growth Data'!$A:$Z,9,0)),0,VLOOKUP($A162+8860000,'Growth Data'!$A:$Z,9,0))","v":0},0,null,"NO",{"$f":"IF(ISERROR(VLOOKUP($A162+8860000,'Growth Data'!$A:$Z,5,0)),\"NO\",VLOOKUP($A162+8860000,'Growth Data'!$A:$Z,5,0))","v":"NO"},0,null,0,{"$f":"IF(ISERROR(VLOOKUP($A162+8860000,'Growth Data'!$A:$Z,10,0)),0,VLOOKUP($A162+8860000,'Growth Data'!$A:$Z,10,0))","v":0},0,null,0,{"$f":"IF(ISERROR(VLOOKUP($A162+8860000,'Growth Data'!$A:$Z,11,0)),0,VLOOKUP($A162+8860000,'Growth Data'!$A:$Z,11,0))","v":0},0]
[3057,"St Peter's CEP School",null,"St Peter's CEP School","St Peter's CEP School",0,null,450817.21,450817.20938840002,0,null,24338.33,24338.334812705885,0,null,3622.21,3622.2118885714326,0,null,30090.16,30090.160522286307,0,null,120082.8,120082.8,0,null,0,0,0,null,0,0,0,null,0,0,0,null,19453,19453,0,null,0,0,0,null,9630,9630,0,null,0,0,0,null,658033.72,658033.7166119637,0,null,0,0,0,null,658033.72,658033.7166119637,0,null,0,null,0,null,658033.72,658033.7166119637,0,null,0,null,0,null,57240.85,null,57241,null,275.92,null,276,null,0,null,0,null,0,null,0,null,0,null,0,null,0,null,0,null,0,null,0,null,0,null,0,null,"NO",{"$f":"IF(ISERROR(VLOOKUP($A163+8860000,'Growth Data'!$A:$F,3,0)),\"NO\",VLOOKUP($A163+8860000,'Growth Data'!$A:$F,3,0))","v":"NO"},0,null,0,{"$f":"IF(DI163=\"YES\",IF(ISERROR(VLOOKUP($A163+8860000,'Growth Data'!$A:$F,6,0)),0,VLOOKUP($A163+8860000,'Growth Data'!$A:$F,6,0)),0)","v":0},0,null,0,{"$f":"IF(ISERROR(VLOOKUP($A163+8860000,'Growth Data'!$A:$Z,7,0)),0,VLOOKUP($A163+8860000,'Growth Data'!$A:$Z,7,0))","v":0},0,null,"NO",{"$f":"IF(ISERROR(VLOOKUP($A163+8860000,'Growth Data'!$A:$F,4,0)),\"NO\",VLOOKUP($A163+8860000,'Growth Data'!$A:$F,4,0))","v":"NO"},0,null,0,{"$f":"IF(ISERROR(VLOOKUP($A163+8860000,'Growth Data'!$A:$Z,8,0)),0,VLOOKUP($A163+8860000,'Growth Data'!$A:$Z,8,0))","v":0},0,null,0,{"$f":"IF(ISERROR(VLOOKUP($A163+8860000,'Growth Data'!$A:$Z,9,0)),0,VLOOKUP($A163+8860000,'Growth Data'!$A:$Z,9,0))","v":0},0,null,"NO",{"$f":"IF(ISERROR(VLOOKUP($A163+8860000,'Growth Data'!$A:$Z,5,0)),\"NO\",VLOOKUP($A163+8860000,'Growth Data'!$A:$Z,5,0))","v":"NO"},0,null,0,{"$f":"IF(ISERROR(VLOOKUP($A163+8860000,'Growth Data'!$A:$Z,10,0)),0,VLOOKUP($A163+8860000,'Growth Data'!$A:$Z,10,0))","v":0},0,null,0,{"$f":"IF(ISERROR(VLOOKUP($A163+8860000,'Growth Data'!$A:$Z,11,0)),0,VLOOKUP($A163+8860000,'Growth Data'!$A:$Z,11,0))","v":0},0]
[3061,"Bredhurst CEP School",null,"Bredhurst CEP School","Bredhurst CEP School",0,null,343610.68,343610.67788750003,0,null,7377.59,7377.5870250000007,0,null,3612.3,3612.3038551401878,0,null,24232.76,24232.756978371355,0,null,120082.8,120082.8,0,null,0,0,0,null,0,0,0,null,0,0,0,null,16898,16898,0,null,0,0,0,null,0,0,0,null,0,0,0,null,515814.13,515814.12574601156,0,null,0,0,0,null,515814.13,515814.12574601156,0,null,0,null,0,null,515814.13,515814.12574601156,0,null,0,null,0,null,39696.43,null,39696,null,2030.36,null,2030,null,0,null,0,null,0,null,0,null,0,null,0,null,0,null,0,null,0,null,0,null,0,null,0,null,"NO",{"$f":"IF(ISERROR(VLOOKUP($A164+8860000,'Growth Data'!$A:$F,3,0)),\"NO\",VLOOKUP($A164+8860000,'Growth Data'!$A:$F,3,0))","v":"NO"},0,null,0,{"$f":"IF(DI164=\"YES\",IF(ISERROR(VLOOKUP($A164+8860000,'Growth Data'!$A:$F,6,0)),0,VLOOKUP($A164+8860000,'Growth Data'!$A:$F,6,0)),0)","v":0},0,null,0,{"$f":"IF(ISERROR(VLOOKUP($A164+8860000,'Growth Data'!$A:$Z,7,0)),0,VLOOKUP($A164+8860000,'Growth Data'!$A:$Z,7,0))","v":0},0,null,"NO",{"$f":"IF(ISERROR(VLOOKUP($A164+8860000,'Growth Data'!$A:$F,4,0)),\"NO\",VLOOKUP($A164+8860000,'Growth Data'!$A:$F,4,0))","v":"NO"},0,null,0,{"$f":"IF(ISERROR(VLOOKUP($A164+8860000,'Growth Data'!$A:$Z,8,0)),0,VLOOKUP($A164+8860000,'Growth Data'!$A:$Z,8,0))","v":0},0,null,0,{"$f":"IF(ISERROR(VLOOKUP($A164+8860000,'Growth Data'!$A:$Z,9,0)),0,VLOOKUP($A164+8860000,'Growth Data'!$A:$Z,9,0))","v":0},0,null,"NO",{"$f":"IF(ISERROR(VLOOKUP($A164+8860000,'Growth Data'!$A:$Z,5,0)),\"NO\",VLOOKUP($A164+8860000,'Growth Data'!$A:$Z,5,0))","v":"NO"},0,null,0,{"$f":"IF(ISERROR(VLOOKUP($A164+8860000,'Growth Data'!$A:$Z,10,0)),0,VLOOKUP($A164+8860000,'Growth Data'!$A:$Z,10,0))","v":0},0,null,0,{"$f":"IF(ISERROR(VLOOKUP($A164+8860000,'Growth Data'!$A:$Z,11,0)),0,VLOOKUP($A164+8860000,'Growth Data'!$A:$Z,11,0))","v":0},0]
[3062,"Burham CEP School",null,"Burham CEP School","Burham CEP School",0,null,472808.29,472808.29277320002,0,null,29516.25,29516.246904210529,0,null,2317.41,2317.4149071895422,0,null,33544.14,33544.139378076667,0,null,120082.8,120082.8,0,null,0,0,0,null,0,0,0,null,0,0,0,null,25100,25100,0,null,0,0,0,null,0,0,0,null,0,0,0,null,683368.89,683368.89396267687,0,null,0,0,0,null,683368.89,683368.89396267687,0,null,0,null,0,null,683368.89,683368.89396267687,0,null,0,null,0,null,64567.94,null,64568,null,0,null,0,null,0,null,0,null,0,null,0,null,0,null,0,null,0,null,0,null,0,null,0,null,0,null,0,null,"NO",{"$f":"IF(ISERROR(VLOOKUP($A165+8860000,'Growth Data'!$A:$F,3,0)),\"NO\",VLOOKUP($A165+8860000,'Growth Data'!$A:$F,3,0))","v":"NO"},0,null,0,{"$f":"IF(DI165=\"YES\",IF(ISERROR(VLOOKUP($A165+8860000,'Growth Data'!$A:$F,6,0)),0,VLOOKUP($A165+8860000,'Growth Data'!$A:$F,6,0)),0)","v":0},0,null,0,{"$f":"IF(ISERROR(VLOOKUP($A165+8860000,'Growth Data'!$A:$Z,7,0)),0,VLOOKUP($A165+8860000,'Growth Data'!$A:$Z,7,0))","v":0},0,null,"NO",{"$f":"IF(ISERROR(VLOOKUP($A165+8860000,'Growth Data'!$A:$F,4,0)),\"NO\",VLOOKUP($A165+8860000,'Growth Data'!$A:$F,4,0))","v":"NO"},0,null,0,{"$f":"IF(ISERROR(VLOOKUP($A165+8860000,'Growth Data'!$A:$Z,8,0)),0,VLOOKUP($A165+8860000,'Growth Data'!$A:$Z,8,0))","v":0},0,null,0,{"$f":"IF(ISERROR(VLOOKUP($A165+8860000,'Growth Data'!$A:$Z,9,0)),0,VLOOKUP($A165+8860000,'Growth Data'!$A:$Z,9,0))","v":0},0,null,"NO",{"$f":"IF(ISERROR(VLOOKUP($A165+8860000,'Growth Data'!$A:$Z,5,0)),\"NO\",VLOOKUP($A165+8860000,'Growth Data'!$A:$Z,5,0))","v":"NO"},0,null,0,{"$f":"IF(ISERROR(VLOOKUP($A165+8860000,'Growth Data'!$A:$Z,10,0)),0,VLOOKUP($A165+8860000,'Growth Data'!$A:$Z,10,0))","v":0},0,null,0,{"$f":"IF(ISERROR(VLOOKUP($A165+8860000,'Growth Data'!$A:$Z,11,0)),0,VLOOKUP($A165+8860000,'Growth Data'!$A:$Z,11,0))","v":0},0]
[3067,"Harrietsham CEP School",null,"Harrietsham CEP School","Harrietsham CEP School",0,null,582763.71,582763.70969719999,0,null,25719.040000000001,25719.040832475239,0,null,2455.1799999999998,2455.1760494382074,0,null,37304.76,37304.760413594711,0,null,120082.8,120082.8,0,null,0,0,0,null,0,0,0,null,0,0,0,null,32414,32414,0,null,0,0,0,null,0,0,0,null,0,0,0,null,800739.49,800739.48699270817,0,null,0,0,0,null,800739.49,800739.48699270817,0,null,0,null,0,null,800739.49,800739.48699270817,0,null,0,null,0,null,58504.87,null,58505,null,149.51,null,150,null,0,null,0,null,0,null,0,null,0,null,0,null,0,null,0,null,0,null,0,null,0,null,0,null,"YES",{"$f":"IF(ISERROR(VLOOKUP($A166+8860000,'Growth Data'!$A:$F,3,0)),\"NO\",VLOOKUP($A166+8860000,'Growth Data'!$A:$F,3,0))","v":"NO"},1,null,55,{"$f":"IF(DI166=\"YES\",IF(ISERROR(VLOOKUP($A166+8860000,'Growth Data'!$A:$F,6,0)),0,VLOOKUP($A166+8860000,'Growth Data'!$A:$F,6,0)),0)","v":0},55,null,60,{"$f":"IF(ISERROR(VLOOKUP($A166+8860000,'Growth Data'!$A:$Z,7,0)),0,VLOOKUP($A166+8860000,'Growth Data'!$A:$Z,7,0))","v":0},1,null,"YES",{"$f":"IF(ISERROR(VLOOKUP($A166+8860000,'Growth Data'!$A:$F,4,0)),\"NO\",VLOOKUP($A166+8860000,'Growth Data'!$A:$F,4,0))","v":"NO"},1,null,55,{"$f":"IF(ISERROR(VLOOKUP($A166+8860000,'Growth Data'!$A:$Z,8,0)),0,VLOOKUP($A166+8860000,'Growth Data'!$A:$Z,8,0))","v":0},1,null,60,{"$f":"IF(ISERROR(VLOOKUP($A166+8860000,'Growth Data'!$A:$Z,9,0)),0,VLOOKUP($A166+8860000,'Growth Data'!$A:$Z,9,0))","v":0},1,null,"NO",{"$f":"IF(ISERROR(VLOOKUP($A166+8860000,'Growth Data'!$A:$Z,5,0)),\"NO\",VLOOKUP($A166+8860000,'Growth Data'!$A:$Z,5,0))","v":"NO"},0,null,0,{"$f":"IF(ISERROR(VLOOKUP($A166+8860000,'Growth Data'!$A:$Z,10,0)),0,VLOOKUP($A166+8860000,'Growth Data'!$A:$Z,10,0))","v":0},0,null,0,{"$f":"IF(ISERROR(VLOOKUP($A166+8860000,'Growth Data'!$A:$Z,11,0)),0,VLOOKUP($A166+8860000,'Growth Data'!$A:$Z,11,0))","v":0},0]
[3069,"Leeds & Broomfield CEP School",null,"Leeds & Broomfield CEP School","Leeds & Broomfield CEP School",0,null,208915.29,208915.29215560001,0,null,12813.64,12813.635311999999,0,null,621.70000000000005,621.6985174603185,0,null,19791.8,19791.797164934167,0,null,120082.8,120082.8,0,null,0,0,0,null,0,0,0,null,0,0,0,null,6895,6895,0,null,0,0,0,null,0,0,0,null,0,0,0,null,369120.22,369120.2231499945,0,null,0,0,0,null,369120.22,369120.2231499945,0,null,0,null,0,null,369120.22,369120.2231499945,0,null,0,null,0,null,34618.79,null,34619,null,2538.12,null,2538,null,0,null,0,null,0,null,0,null,0,null,0,null,0,null,0,null,0,null,0,null,0,null,0,null,"NO",{"$f":"IF(ISERROR(VLOOKUP($A167+8860000,'Growth Data'!$A:$F,3,0)),\"NO\",VLOOKUP($A167+8860000,'Growth Data'!$A:$F,3,0))","v":"NO"},0,null,0,{"$f":"IF(DI167=\"YES\",IF(ISERROR(VLOOKUP($A167+8860000,'Growth Data'!$A:$F,6,0)),0,VLOOKUP($A167+8860000,'Growth Data'!$A:$F,6,0)),0)","v":0},0,null,0,{"$f":"IF(ISERROR(VLOOKUP($A167+8860000,'Growth Data'!$A:$Z,7,0)),0,VLOOKUP($A167+8860000,'Growth Data'!$A:$Z,7,0))","v":0},0,null,"NO",{"$f":"IF(ISERROR(VLOOKUP($A167+8860000,'Growth Data'!$A:$F,4,0)),\"NO\",VLOOKUP($A167+8860000,'Growth Data'!$A:$F,4,0))","v":"NO"},0,null,0,{"$f":"IF(ISERROR(VLOOKUP($A167+8860000,'Growth Data'!$A:$Z,8,0)),0,VLOOKUP($A167+8860000,'Growth Data'!$A:$Z,8,0))","v":0},0,null,0,{"$f":"IF(ISERROR(VLOOKUP($A167+8860000,'Growth Data'!$A:$Z,9,0)),0,VLOOKUP($A167+8860000,'Growth Data'!$A:$Z,9,0))","v":0},0,null,"NO",{"$f":"IF(ISERROR(VLOOKUP($A167+8860000,'Growth Data'!$A:$Z,5,0)),\"NO\",VLOOKUP($A167+8860000,'Growth Data'!$A:$Z,5,0))","v":"NO"},0,null,0,{"$f":"IF(ISERROR(VLOOKUP($A167+8860000,'Growth Data'!$A:$Z,10,0)),0,VLOOKUP($A167+8860000,'Growth Data'!$A:$Z,10,0))","v":0},0,null,0,{"$f":"IF(ISERROR(VLOOKUP($A167+8860000,'Growth Data'!$A:$Z,11,0)),0,VLOOKUP($A167+8860000,'Growth Data'!$A:$Z,11,0))","v":0},0]
[3072,"St Michael's CEJ School, Maidstone",null,"St Michael's CEJ School, Maidstone","St Michael's CEJ School, Maidstone",0,null,450817.21,450817.20938840002,0,null,27261.97,27261.972231850908,0,null,8245.69,8245.6856000000007,0,null,30680.16,30680.163669782149,0,null,120082.8,120082.8,0,null,0,0,0,null,0,0,0,null,0,0,0,null,11988,11988,0,null,0,0,0,null,0,0,0,null,0,0,0,null,649075.82999999996,649075.83089003316,0,null,0,0,0,null,649075.82999999996,649075.83089003316,0,null,0,null,0,null,649075.82999999996,649075.83089003316,0,null,0,null,0,null,68019.789999999994,null,68020,null,0,null,0,null,0,null,0,null,0,null,0,null,0,null,0,null,0,null,0,null,0,null,0,null,0,null,0,null,"NO",{"$f":"IF(ISERROR(VLOOKUP($A168+8860000,'Growth Data'!$A:$F,3,0)),\"NO\",VLOOKUP($A168+8860000,'Growth Data'!$A:$F,3,0))","v":"NO"},0,null,0,{"$f":"IF(DI168=\"YES\",IF(ISERROR(VLOOKUP($A168+8860000,'Growth Data'!$A:$F,6,0)),0,VLOOKUP($A168+8860000,'Growth Data'!$A:$F,6,0)),0)","v":0},0,null,0,{"$f":"IF(ISERROR(VLOOKUP($A168+8860000,'Growth Data'!$A:$Z,7,0)),0,VLOOKUP($A168+8860000,'Growth Data'!$A:$Z,7,0))","v":0},0,null,"NO",{"$f":"IF(ISERROR(VLOOKUP($A168+8860000,'Growth Data'!$A:$F,4,0)),\"NO\",VLOOKUP($A168+8860000,'Growth Data'!$A:$F,4,0))","v":"NO"},0,null,0,{"$f":"IF(ISERROR(VLOOKUP($A168+8860000,'Growth Data'!$A:$Z,8,0)),0,VLOOKUP($A168+8860000,'Growth Data'!$A:$Z,8,0))","v":0},0,null,0,{"$f":"IF(ISERROR(VLOOKUP($A168+8860000,'Growth Data'!$A:$Z,9,0)),0,VLOOKUP($A168+8860000,'Growth Data'!$A:$Z,9,0))","v":0},0,null,"NO",{"$f":"IF(ISERROR(VLOOKUP($A168+8860000,'Growth Data'!$A:$Z,5,0)),\"NO\",VLOOKUP($A168+8860000,'Growth Data'!$A:$Z,5,0))","v":"NO"},0,null,0,{"$f":"IF(ISERROR(VLOOKUP($A168+8860000,'Growth Data'!$A:$Z,10,0)),0,VLOOKUP($A168+8860000,'Growth Data'!$A:$Z,10,0))","v":0},0,null,0,{"$f":"IF(ISERROR(VLOOKUP($A168+8860000,'Growth Data'!$A:$Z,11,0)),0,VLOOKUP($A168+8860000,'Growth Data'!$A:$Z,11,0))","v":0},0]
[3073,"St Michael's CEI School, Maidstone",null,"St Michael's CEI School, Maidstone","St Michael's CEI School, Maidstone",0,null,332615.14,332615.13619510003,0,null,12708.76,12708.763000000006,0,null,12317.63,12317.629106172848,0,null,21926.58,21926.584903322189,0,null,120082.8,120082.8,0,null,0,0,0,null,0,0,0,null,0,0,0,null,11865,11865,0,null,0,0,0,null,0,0,0,null,0,0,0,null,511515.91,511515.91320459504,0,null,0,0,0,null,511515.91,511515.91320459504,0,null,0,null,0,null,511515.91,511515.91320459504,0,null,0,null,0,null,50105.85,null,50106,null,989.41,null,989,null,0,null,0,null,0,null,0,null,0,null,0,null,0,null,0,null,0,null,0,null,0,null,0,null,"NO",{"$f":"IF(ISERROR(VLOOKUP($A169+8860000,'Growth Data'!$A:$F,3,0)),\"NO\",VLOOKUP($A169+8860000,'Growth Data'!$A:$F,3,0))","v":"NO"},0,null,0,{"$f":"IF(DI169=\"YES\",IF(ISERROR(VLOOKUP($A169+8860000,'Growth Data'!$A:$F,6,0)),0,VLOOKUP($A169+8860000,'Growth Data'!$A:$F,6,0)),0)","v":0},0,null,0,{"$f":"IF(ISERROR(VLOOKUP($A169+8860000,'Growth Data'!$A:$Z,7,0)),0,VLOOKUP($A169+8860000,'Growth Data'!$A:$Z,7,0))","v":0},0,null,"NO",{"$f":"IF(ISERROR(VLOOKUP($A169+8860000,'Growth Data'!$A:$F,4,0)),\"NO\",VLOOKUP($A169+8860000,'Growth Data'!$A:$F,4,0))","v":"NO"},0,null,0,{"$f":"IF(ISERROR(VLOOKUP($A169+8860000,'Growth Data'!$A:$Z,8,0)),0,VLOOKUP($A169+8860000,'Growth Data'!$A:$Z,8,0))","v":0},0,null,0,{"$f":"IF(ISERROR(VLOOKUP($A169+8860000,'Growth Data'!$A:$Z,9,0)),0,VLOOKUP($A169+8860000,'Growth Data'!$A:$Z,9,0))","v":0},0,null,"NO",{"$f":"IF(ISERROR(VLOOKUP($A169+8860000,'Growth Data'!$A:$Z,5,0)),\"NO\",VLOOKUP($A169+8860000,'Growth Data'!$A:$Z,5,0))","v":"NO"},0,null,0,{"$f":"IF(ISERROR(VLOOKUP($A169+8860000,'Growth Data'!$A:$Z,10,0)),0,VLOOKUP($A169+8860000,'Growth Data'!$A:$Z,10,0))","v":0},0,null,0,{"$f":"IF(ISERROR(VLOOKUP($A169+8860000,'Growth Data'!$A:$Z,11,0)),0,VLOOKUP($A169+8860000,'Growth Data'!$A:$Z,11,0))","v":0},0]
[3081,"Thurnham CEI School",null,"Thurnham CEI School","Thurnham CEI School",0,null,744947.95,744947.94966010004,0,null,4859.3500000000004,4859.3506399999969,0,null,12345.75,12345.750262983423,0,null,36666.620000000003,36666.617461616835,0,null,120082.8,120082.8,0,null,0,0,0,null,0,0,0,null,0,0,0,null,27878,27878,0,null,0,0,0,null,0,0,0,null,2497.5300000000002,2497.531975299702,0,null,949278,949278,0,null,0,0,0,null,949278,949278,0,null,0,null,0,null,949278,949278,0,null,0,null,0,null,58345.5,null,58346,null,165.45,null,165,null,0,null,0,null,0,null,0,null,0,null,0,null,0,null,0,null,0,null,0,null,0,null,0,null,"NO",{"$f":"IF(ISERROR(VLOOKUP($A170+8860000,'Growth Data'!$A:$F,3,0)),\"NO\",VLOOKUP($A170+8860000,'Growth Data'!$A:$F,3,0))","v":"NO"},0,null,0,{"$f":"IF(DI170=\"YES\",IF(ISERROR(VLOOKUP($A170+8860000,'Growth Data'!$A:$F,6,0)),0,VLOOKUP($A170+8860000,'Growth Data'!$A:$F,6,0)),0)","v":0},0,null,0,{"$f":"IF(ISERROR(VLOOKUP($A170+8860000,'Growth Data'!$A:$Z,7,0)),0,VLOOKUP($A170+8860000,'Growth Data'!$A:$Z,7,0))","v":0},0,null,"NO",{"$f":"IF(ISERROR(VLOOKUP($A170+8860000,'Growth Data'!$A:$F,4,0)),\"NO\",VLOOKUP($A170+8860000,'Growth Data'!$A:$F,4,0))","v":"NO"},0,null,0,{"$f":"IF(ISERROR(VLOOKUP($A170+8860000,'Growth Data'!$A:$Z,8,0)),0,VLOOKUP($A170+8860000,'Growth Data'!$A:$Z,8,0))","v":0},0,null,0,{"$f":"IF(ISERROR(VLOOKUP($A170+8860000,'Growth Data'!$A:$Z,9,0)),0,VLOOKUP($A170+8860000,'Growth Data'!$A:$Z,9,0))","v":0},0,null,"NO",{"$f":"IF(ISERROR(VLOOKUP($A170+8860000,'Growth Data'!$A:$Z,5,0)),\"NO\",VLOOKUP($A170+8860000,'Growth Data'!$A:$Z,5,0))","v":"NO"},0,null,0,{"$f":"IF(ISERROR(VLOOKUP($A170+8860000,'Growth Data'!$A:$Z,10,0)),0,VLOOKUP($A170+8860000,'Growth Data'!$A:$Z,10,0))","v":0},0,null,0,{"$f":"IF(ISERROR(VLOOKUP($A170+8860000,'Growth Data'!$A:$Z,11,0)),0,VLOOKUP($A170+8860000,'Growth Data'!$A:$Z,11,0))","v":0},0]
[3082,"Trottiscliffe CEP School",null,"Trottiscliffe CEP School","Trottiscliffe CEP School",0,null,225408.6,225408.60469420001,0,null,5799.26,5799.2640806291247,0,null,0,0,0,null,13275.07,13275.070818655746,0,null,120082.8,120082.8,0,null,0,0,0,null,0,0,0,null,0,0,0,null,9121,9121,0,null,0,0,0,null,0,0,0,null,0,0,0,null,373686.74,373686.7395934849,0,null,0,0,0,null,373686.74,373686.7395934849,0,null,0,null,0,null,373686.74,373686.7395934849,0,null,0,null,0,null,23548.12,null,23548,null,3645.19,null,3645,null,0,null,0,null,0,null,0,null,0,null,0,null,0,null,0,null,0,null,0,null,0,null,0,null,"NO",{"$f":"IF(ISERROR(VLOOKUP($A171+8860000,'Growth Data'!$A:$F,3,0)),\"NO\",VLOOKUP($A171+8860000,'Growth Data'!$A:$F,3,0))","v":"NO"},0,null,0,{"$f":"IF(DI171=\"YES\",IF(ISERROR(VLOOKUP($A171+8860000,'Growth Data'!$A:$F,6,0)),0,VLOOKUP($A171+8860000,'Growth Data'!$A:$F,6,0)),0)","v":0},0,null,0,{"$f":"IF(ISERROR(VLOOKUP($A171+8860000,'Growth Data'!$A:$Z,7,0)),0,VLOOKUP($A171+8860000,'Growth Data'!$A:$Z,7,0))","v":0},0,null,"NO",{"$f":"IF(ISERROR(VLOOKUP($A171+8860000,'Growth Data'!$A:$F,4,0)),\"NO\",VLOOKUP($A171+8860000,'Growth Data'!$A:$F,4,0))","v":"NO"},0,null,0,{"$f":"IF(ISERROR(VLOOKUP($A171+8860000,'Growth Data'!$A:$Z,8,0)),0,VLOOKUP($A171+8860000,'Growth Data'!$A:$Z,8,0))","v":0},0,null,0,{"$f":"IF(ISERROR(VLOOKUP($A171+8860000,'Growth Data'!$A:$Z,9,0)),0,VLOOKUP($A171+8860000,'Growth Data'!$A:$Z,9,0))","v":0},0,null,"NO",{"$f":"IF(ISERROR(VLOOKUP($A171+8860000,'Growth Data'!$A:$Z,5,0)),\"NO\",VLOOKUP($A171+8860000,'Growth Data'!$A:$Z,5,0))","v":"NO"},0,null,0,{"$f":"IF(ISERROR(VLOOKUP($A171+8860000,'Growth Data'!$A:$Z,10,0)),0,VLOOKUP($A171+8860000,'Growth Data'!$A:$Z,10,0))","v":0},0,null,0,{"$f":"IF(ISERROR(VLOOKUP($A171+8860000,'Growth Data'!$A:$Z,11,0)),0,VLOOKUP($A171+8860000,'Growth Data'!$A:$Z,11,0))","v":0},0]
[3083,"Ulcombe CEP School",null,"Ulcombe CEP School","Ulcombe CEP School",0,null,230906.38,230906.37554040001,0,null,25619.67,25619.665380000017,0,null,627.39,627.38912173913025,0,null,29079.31,29079.30837404566,0,null,120082.8,120082.8,0,null,0,0,0,null,0,0,0,null,0,0,0,null,6701,6701,0,null,0,0,0,null,0,0,0,null,0,0,0,null,413016.54,413016.53841618483,0,null,0,0,0,null,413016.54,413016.53841618483,0,null,0,null,0,null,413016.54,413016.53841618483,0,null,0,null,0,null,47031.34,null,47031,null,1296.8699999999999,null,1297,null,0,null,0,null,0,null,0,null,0,null,0,null,0,null,0,null,0,null,0,null,0,null,0,null,"NO",{"$f":"IF(ISERROR(VLOOKUP($A172+8860000,'Growth Data'!$A:$F,3,0)),\"NO\",VLOOKUP($A172+8860000,'Growth Data'!$A:$F,3,0))","v":"NO"},0,null,0,{"$f":"IF(DI172=\"YES\",IF(ISERROR(VLOOKUP($A172+8860000,'Growth Data'!$A:$F,6,0)),0,VLOOKUP($A172+8860000,'Growth Data'!$A:$F,6,0)),0)","v":0},0,null,0,{"$f":"IF(ISERROR(VLOOKUP($A172+8860000,'Growth Data'!$A:$Z,7,0)),0,VLOOKUP($A172+8860000,'Growth Data'!$A:$Z,7,0))","v":0},0,null,"NO",{"$f":"IF(ISERROR(VLOOKUP($A172+8860000,'Growth Data'!$A:$F,4,0)),\"NO\",VLOOKUP($A172+8860000,'Growth Data'!$A:$F,4,0))","v":"NO"},0,null,0,{"$f":"IF(ISERROR(VLOOKUP($A172+8860000,'Growth Data'!$A:$Z,8,0)),0,VLOOKUP($A172+8860000,'Growth Data'!$A:$Z,8,0))","v":0},0,null,0,{"$f":"IF(ISERROR(VLOOKUP($A172+8860000,'Growth Data'!$A:$Z,9,0)),0,VLOOKUP($A172+8860000,'Growth Data'!$A:$Z,9,0))","v":0},0,null,"NO",{"$f":"IF(ISERROR(VLOOKUP($A172+8860000,'Growth Data'!$A:$Z,5,0)),\"NO\",VLOOKUP($A172+8860000,'Growth Data'!$A:$Z,5,0))","v":"NO"},0,null,0,{"$f":"IF(ISERROR(VLOOKUP($A172+8860000,'Growth Data'!$A:$Z,10,0)),0,VLOOKUP($A172+8860000,'Growth Data'!$A:$Z,10,0))","v":0},0,null,0,{"$f":"IF(ISERROR(VLOOKUP($A172+8860000,'Growth Data'!$A:$Z,11,0)),0,VLOOKUP($A172+8860000,'Growth Data'!$A:$Z,11,0))","v":0},0]
[3084,"Wateringbury CEP School",null,"Wateringbury CEP School","Wateringbury CEP School",0,null,555274.86,555274.85546620004,0,null,22913.599999999999,22913.597429615213,0,null,2449.4499999999998,2449.4536635294139,0,null,40188,40188.004576488827,0,null,120082.8,120082.8,0,null,0,0,0,null,0,0,0,null,0,0,0,null,8186,8186,0,null,0,0,0,null,0,0,0,null,0,0,0,null,749094.71,749094.71113583352,0,null,0,0,0,null,749094.71,749094.71113583352,0,null,0,null,0,null,749094.71,749094.71113583352,0,null,0,null,0,null,60778.47,null,60778,null,0,null,0,null,0,null,0,null,0,null,0,null,0,null,0,null,0,null,0,null,0,null,0,null,0,null,0,null,"NO",{"$f":"IF(ISERROR(VLOOKUP($A173+8860000,'Growth Data'!$A:$F,3,0)),\"NO\",VLOOKUP($A173+8860000,'Growth Data'!$A:$F,3,0))","v":"NO"},0,null,0,{"$f":"IF(DI173=\"YES\",IF(ISERROR(VLOOKUP($A173+8860000,'Growth Data'!$A:$F,6,0)),0,VLOOKUP($A173+8860000,'Growth Data'!$A:$F,6,0)),0)","v":0},0,null,0,{"$f":"IF(ISERROR(VLOOKUP($A173+8860000,'Growth Data'!$A:$Z,7,0)),0,VLOOKUP($A173+8860000,'Growth Data'!$A:$Z,7,0))","v":0},0,null,"NO",{"$f":"IF(ISERROR(VLOOKUP($A173+8860000,'Growth Data'!$A:$F,4,0)),\"NO\",VLOOKUP($A173+8860000,'Growth Data'!$A:$F,4,0))","v":"NO"},0,null,0,{"$f":"IF(ISERROR(VLOOKUP($A173+8860000,'Growth Data'!$A:$Z,8,0)),0,VLOOKUP($A173+8860000,'Growth Data'!$A:$Z,8,0))","v":0},0,null,0,{"$f":"IF(ISERROR(VLOOKUP($A173+8860000,'Growth Data'!$A:$Z,9,0)),0,VLOOKUP($A173+8860000,'Growth Data'!$A:$Z,9,0))","v":0},0,null,"NO",{"$f":"IF(ISERROR(VLOOKUP($A173+8860000,'Growth Data'!$A:$Z,5,0)),\"NO\",VLOOKUP($A173+8860000,'Growth Data'!$A:$Z,5,0))","v":"NO"},0,null,0,{"$f":"IF(ISERROR(VLOOKUP($A173+8860000,'Growth Data'!$A:$Z,10,0)),0,VLOOKUP($A173+8860000,'Growth Data'!$A:$Z,10,0))","v":0},0,null,0,{"$f":"IF(ISERROR(VLOOKUP($A173+8860000,'Growth Data'!$A:$Z,11,0)),0,VLOOKUP($A173+8860000,'Growth Data'!$A:$Z,11,0))","v":0},0]
[3088,"Wouldham, All Saint's CEP School",null,"Wouldham, All Saint's CEP School","Wouldham, All Saint's CEP School",0,null,821916.74,821916.74150690006,0,null,34329.449999999997,34329.450804587192,0,null,3057.37,3057.3660644841207,0,null,68165.850000000006,68165.846779443935,0,null,120082.8,120082.8,0,null,0,0,0,null,0,0,0,null,0,0,0,null,72925,72925,0,null,0,0,0,null,0,0,0,null,0,0,0,null,1120477.21,1120477.2051554155,0,null,0,0,0,null,1120477.21,1120477.2051554155,0,null,0,null,0,null,1120477.21,1120477.2051554155,0,null,0,null,0,null,103862.2,null,103862,null,0,null,0,null,0,null,0,null,0,null,0,null,0,null,0,null,0,null,0,null,0,null,0,null,0,null,0,null,"NO",{"$f":"IF(ISERROR(VLOOKUP($A174+8860000,'Growth Data'!$A:$F,3,0)),\"NO\",VLOOKUP($A174+8860000,'Growth Data'!$A:$F,3,0))","v":"NO"},0,null,0,{"$f":"IF(DI174=\"YES\",IF(ISERROR(VLOOKUP($A174+8860000,'Growth Data'!$A:$F,6,0)),0,VLOOKUP($A174+8860000,'Growth Data'!$A:$F,6,0)),0)","v":0},0,null,0,{"$f":"IF(ISERROR(VLOOKUP($A174+8860000,'Growth Data'!$A:$Z,7,0)),0,VLOOKUP($A174+8860000,'Growth Data'!$A:$Z,7,0))","v":0},0,null,"NO",{"$f":"IF(ISERROR(VLOOKUP($A174+8860000,'Growth Data'!$A:$F,4,0)),\"NO\",VLOOKUP($A174+8860000,'Growth Data'!$A:$F,4,0))","v":"YES"},1,null,0,{"$f":"IF(ISERROR(VLOOKUP($A174+8860000,'Growth Data'!$A:$Z,8,0)),0,VLOOKUP($A174+8860000,'Growth Data'!$A:$Z,8,0))","v":41},1,null,0,{"$f":"IF(ISERROR(VLOOKUP($A174+8860000,'Growth Data'!$A:$Z,9,0)),0,VLOOKUP($A174+8860000,'Growth Data'!$A:$Z,9,0))","v":60},1,null,"YES",{"$f":"IF(ISERROR(VLOOKUP($A174+8860000,'Growth Data'!$A:$Z,5,0)),\"NO\",VLOOKUP($A174+8860000,'Growth Data'!$A:$Z,5,0))","v":"YES"},0,null,30,{"$f":"IF(ISERROR(VLOOKUP($A174+8860000,'Growth Data'!$A:$Z,10,0)),0,VLOOKUP($A174+8860000,'Growth Data'!$A:$Z,10,0))","v":38},1,null,60,{"$f":"IF(ISERROR(VLOOKUP($A174+8860000,'Growth Data'!$A:$Z,11,0)),0,VLOOKUP($A174+8860000,'Growth Data'!$A:$Z,11,0))","v":60},0]
[3089,"St George's CEP School",null,"St George's CEP School","St George's CEP School",0,null,574517.05000000005,574517.05342789995,0,null,25491.02,25491.017432417066,0,null,1203.46,1203.4555100558659,0,null,51414.45,51414.445149130712,0,null,120082.8,120082.8,0,null,0,0,0,null,0,0,0,null,0,0,0,null,17813,17813,0,null,0,0,0,null,0,0,0,null,0,0,0,null,790521.77,790521.77151950356,0,null,0,0,0,null,790521.77,790521.77151950356,0,null,0,null,0,null,790521.77,790521.77151950356,0,null,0,null,0,null,75537.850000000006,null,75538,null,0,null,0,null,0,null,0,null,0,null,0,null,0,null,0,null,0,null,0,null,0,null,0,null,0,null,0,null,"NO",{"$f":"IF(ISERROR(VLOOKUP($A175+8860000,'Growth Data'!$A:$F,3,0)),\"NO\",VLOOKUP($A175+8860000,'Growth Data'!$A:$F,3,0))","v":"NO"},0,null,0,{"$f":"IF(DI175=\"YES\",IF(ISERROR(VLOOKUP($A175+8860000,'Growth Data'!$A:$F,6,0)),0,VLOOKUP($A175+8860000,'Growth Data'!$A:$F,6,0)),0)","v":0},0,null,0,{"$f":"IF(ISERROR(VLOOKUP($A175+8860000,'Growth Data'!$A:$Z,7,0)),0,VLOOKUP($A175+8860000,'Growth Data'!$A:$Z,7,0))","v":0},0,null,"NO",{"$f":"IF(ISERROR(VLOOKUP($A175+8860000,'Growth Data'!$A:$F,4,0)),\"NO\",VLOOKUP($A175+8860000,'Growth Data'!$A:$F,4,0))","v":"NO"},0,null,0,{"$f":"IF(ISERROR(VLOOKUP($A175+8860000,'Growth Data'!$A:$Z,8,0)),0,VLOOKUP($A175+8860000,'Growth Data'!$A:$Z,8,0))","v":0},0,null,0,{"$f":"IF(ISERROR(VLOOKUP($A175+8860000,'Growth Data'!$A:$Z,9,0)),0,VLOOKUP($A175+8860000,'Growth Data'!$A:$Z,9,0))","v":0},0,null,"NO",{"$f":"IF(ISERROR(VLOOKUP($A175+8860000,'Growth Data'!$A:$Z,5,0)),\"NO\",VLOOKUP($A175+8860000,'Growth Data'!$A:$Z,5,0))","v":"NO"},0,null,0,{"$f":"IF(ISERROR(VLOOKUP($A175+8860000,'Growth Data'!$A:$Z,10,0)),0,VLOOKUP($A175+8860000,'Growth Data'!$A:$Z,10,0))","v":0},0,null,0,{"$f":"IF(ISERROR(VLOOKUP($A175+8860000,'Growth Data'!$A:$Z,11,0)),0,VLOOKUP($A175+8860000,'Growth Data'!$A:$Z,11,0))","v":0},0]
[3090,"St Margaret's CEP School, Collier Street",null,"St Margaret's CEP School, Collier Street","St Margaret's CEP School, Collier Street",0,null,324368.48,324368.4799258,0,null,8543.82,8543.8222068965424,0,null,608.12,608.11931300000003,0,null,39765.74,39765.742253195713,0,null,120082.8,120082.8,0,null,0,0,0,null,0,0,0,null,0,0,0,null,15670,15670,0,null,0,0,0,null,0,0,0,null,0,0,0,null,509038.96,509038.96369889227,0,null,0,0,0,null,509038.96,509038.96369889227,0,null,0,null,0,null,509038.96,509038.96369889227,0,null,0,null,0,null,53391.47,null,53391,null,660.85,null,661,null,0,null,0,null,0,null,0,null,0,null,0,null,0,null,0,null,0,null,0,null,0,null,0,null,"NO",{"$f":"IF(ISERROR(VLOOKUP($A176+8860000,'Growth Data'!$A:$F,3,0)),\"NO\",VLOOKUP($A176+8860000,'Growth Data'!$A:$F,3,0))","v":"NO"},0,null,0,{"$f":"IF(DI176=\"YES\",IF(ISERROR(VLOOKUP($A176+8860000,'Growth Data'!$A:$F,6,0)),0,VLOOKUP($A176+8860000,'Growth Data'!$A:$F,6,0)),0)","v":0},0,null,0,{"$f":"IF(ISERROR(VLOOKUP($A176+8860000,'Growth Data'!$A:$Z,7,0)),0,VLOOKUP($A176+8860000,'Growth Data'!$A:$Z,7,0))","v":0},0,null,"NO",{"$f":"IF(ISERROR(VLOOKUP($A176+8860000,'Growth Data'!$A:$F,4,0)),\"NO\",VLOOKUP($A176+8860000,'Growth Data'!$A:$F,4,0))","v":"NO"},0,null,0,{"$f":"IF(ISERROR(VLOOKUP($A176+8860000,'Growth Data'!$A:$Z,8,0)),0,VLOOKUP($A176+8860000,'Growth Data'!$A:$Z,8,0))","v":0},0,null,0,{"$f":"IF(ISERROR(VLOOKUP($A176+8860000,'Growth Data'!$A:$Z,9,0)),0,VLOOKUP($A176+8860000,'Growth Data'!$A:$Z,9,0))","v":0},0,null,"NO",{"$f":"IF(ISERROR(VLOOKUP($A176+8860000,'Growth Data'!$A:$Z,5,0)),\"NO\",VLOOKUP($A176+8860000,'Growth Data'!$A:$Z,5,0))","v":"NO"},0,null,0,{"$f":"IF(ISERROR(VLOOKUP($A176+8860000,'Growth Data'!$A:$Z,10,0)),0,VLOOKUP($A176+8860000,'Growth Data'!$A:$Z,10,0))","v":0},0,null,0,{"$f":"IF(ISERROR(VLOOKUP($A176+8860000,'Growth Data'!$A:$Z,11,0)),0,VLOOKUP($A176+8860000,'Growth Data'!$A:$Z,11,0))","v":0},0]
[3091,"Laddingford St Mary's CEP School",null,"Laddingford St Mary's CEP School","Laddingford St Mary's CEP School",0,null,214413.06,214413.06300180001,0,null,14861.57,14861.57208935064,0,null,1165.1500000000001,1165.1512260869563,0,null,16836.68,16836.675184636555,0,null,120082.8,120082.8,0,null,0,0,0,null,0,0,0,null,0,0,0,null,7078,7078,0,null,0,0,0,null,5427,5427,0,null,0,0,0,null,379864.26,379864.26150187413,0,null,0,0,0,null,379864.26,379864.26150187413,0,null,0,null,0,null,379864.26,379864.26150187413,0,null,0,null,0,null,32493.84,null,32494,null,2750.62,null,2751,null,0,null,0,null,0,null,0,null,0,null,0,null,0,null,0,null,0,null,0,null,0,null,0,null,"NO",{"$f":"IF(ISERROR(VLOOKUP($A177+8860000,'Growth Data'!$A:$F,3,0)),\"NO\",VLOOKUP($A177+8860000,'Growth Data'!$A:$F,3,0))","v":"NO"},0,null,0,{"$f":"IF(DI177=\"YES\",IF(ISERROR(VLOOKUP($A177+8860000,'Growth Data'!$A:$F,6,0)),0,VLOOKUP($A177+8860000,'Growth Data'!$A:$F,6,0)),0)","v":0},0,null,0,{"$f":"IF(ISERROR(VLOOKUP($A177+8860000,'Growth Data'!$A:$Z,7,0)),0,VLOOKUP($A177+8860000,'Growth Data'!$A:$Z,7,0))","v":0},0,null,"NO",{"$f":"IF(ISERROR(VLOOKUP($A177+8860000,'Growth Data'!$A:$F,4,0)),\"NO\",VLOOKUP($A177+8860000,'Growth Data'!$A:$F,4,0))","v":"NO"},0,null,0,{"$f":"IF(ISERROR(VLOOKUP($A177+8860000,'Growth Data'!$A:$Z,8,0)),0,VLOOKUP($A177+8860000,'Growth Data'!$A:$Z,8,0))","v":0},0,null,0,{"$f":"IF(ISERROR(VLOOKUP($A177+8860000,'Growth Data'!$A:$Z,9,0)),0,VLOOKUP($A177+8860000,'Growth Data'!$A:$Z,9,0))","v":0},0,null,"NO",{"$f":"IF(ISERROR(VLOOKUP($A177+8860000,'Growth Data'!$A:$Z,5,0)),\"NO\",VLOOKUP($A177+8860000,'Growth Data'!$A:$Z,5,0))","v":"NO"},0,null,0,{"$f":"IF(ISERROR(VLOOKUP($A177+8860000,'Growth Data'!$A:$Z,10,0)),0,VLOOKUP($A177+8860000,'Growth Data'!$A:$Z,10,0))","v":0},0,null,0,{"$f":"IF(ISERROR(VLOOKUP($A177+8860000,'Growth Data'!$A:$Z,11,0)),0,VLOOKUP($A177+8860000,'Growth Data'!$A:$Z,11,0))","v":0},0]
[3092,"Yalding St Peter & St Paul CEP School",null,"Yalding St Peter & St Paul CEP School","Yalding St Peter & St Paul CEP School",0,null,459063.87,459063.86565769999,0,null,6964.72,6964.7249272258032,0,null,606.09,606.08692570422545,0,null,27815.57,27815.571325220197,0,null,120082.8,120082.8,0,null,0,0,0,null,0,0,0,null,0,0,0,null,15916,15916,0,null,0,0,0,null,0,0,0,null,0,0,0,null,630449.05000000005,630449.0488358502,0,null,0,0,0,null,630449.05000000005,630449.0488358502,0,null,0,null,0,null,630449.05000000005,630449.0488358502,0,null,0,null,0,null,39860.17,null,39860,null,2013.98,null,2014,null,0,null,0,null,0,null,0,null,0,null,0,null,0,null,0,null,0,null,0,null,0,null,0,null,"NO",{"$f":"IF(ISERROR(VLOOKUP($A178+8860000,'Growth Data'!$A:$F,3,0)),\"NO\",VLOOKUP($A178+8860000,'Growth Data'!$A:$F,3,0))","v":"NO"},0,null,0,{"$f":"IF(DI178=\"YES\",IF(ISERROR(VLOOKUP($A178+8860000,'Growth Data'!$A:$F,6,0)),0,VLOOKUP($A178+8860000,'Growth Data'!$A:$F,6,0)),0)","v":0},0,null,0,{"$f":"IF(ISERROR(VLOOKUP($A178+8860000,'Growth Data'!$A:$Z,7,0)),0,VLOOKUP($A178+8860000,'Growth Data'!$A:$Z,7,0))","v":0},0,null,"NO",{"$f":"IF(ISERROR(VLOOKUP($A178+8860000,'Growth Data'!$A:$F,4,0)),\"NO\",VLOOKUP($A178+8860000,'Growth Data'!$A:$F,4,0))","v":"NO"},0,null,0,{"$f":"IF(ISERROR(VLOOKUP($A178+8860000,'Growth Data'!$A:$Z,8,0)),0,VLOOKUP($A178+8860000,'Growth Data'!$A:$Z,8,0))","v":0},0,null,0,{"$f":"IF(ISERROR(VLOOKUP($A178+8860000,'Growth Data'!$A:$Z,9,0)),0,VLOOKUP($A178+8860000,'Growth Data'!$A:$Z,9,0))","v":0},0,null,"NO",{"$f":"IF(ISERROR(VLOOKUP($A178+8860000,'Growth Data'!$A:$Z,5,0)),\"NO\",VLOOKUP($A178+8860000,'Growth Data'!$A:$Z,5,0))","v":"NO"},0,null,0,{"$f":"IF(ISERROR(VLOOKUP($A178+8860000,'Growth Data'!$A:$Z,10,0)),0,VLOOKUP($A178+8860000,'Growth Data'!$A:$Z,10,0))","v":0},0,null,0,{"$f":"IF(ISERROR(VLOOKUP($A178+8860000,'Growth Data'!$A:$Z,11,0)),0,VLOOKUP($A178+8860000,'Growth Data'!$A:$Z,11,0))","v":0},0]
[3106,"Eastchurch CEP School",null,"Eastchurch CEP School","Eastchurch CEP School",0,null,1195765.1599999999,1195765.1590485,0,null,235015.29,235015.2944683274,0,null,4682.6000000000004,4682.6021357702293,0,null,109554.71,109554.70724389612,0,null,120082.8,120082.8,0,null,0,0,0,null,0,0,0,null,33000,33000,0,null,76608,76608,0,null,0,0,0,null,0,0,0,null,0,0,0,null,1774708.56,1774708.5628964938,0,null,0,0,0,null,1774708.56,1774708.5628964938,0,null,0,null,0,null,1774708.56,1774708.5628964938,0,null,4.9000000000000004,null,5,null,310136.33,null,310136,null,0,null,0,null,0,null,0,null,0,null,0,null,0,null,0,null,0,null,0,null,0,null,0,null,0,null,0,null,"NO",{"$f":"IF(ISERROR(VLOOKUP($A179+8860000,'Growth Data'!$A:$F,3,0)),\"NO\",VLOOKUP($A179+8860000,'Growth Data'!$A:$F,3,0))","v":"NO"},0,null,0,{"$f":"IF(DI179=\"YES\",IF(ISERROR(VLOOKUP($A179+8860000,'Growth Data'!$A:$F,6,0)),0,VLOOKUP($A179+8860000,'Growth Data'!$A:$F,6,0)),0)","v":0},0,null,0,{"$f":"IF(ISERROR(VLOOKUP($A179+8860000,'Growth Data'!$A:$Z,7,0)),0,VLOOKUP($A179+8860000,'Growth Data'!$A:$Z,7,0))","v":0},0,null,"NO",{"$f":"IF(ISERROR(VLOOKUP($A179+8860000,'Growth Data'!$A:$F,4,0)),\"NO\",VLOOKUP($A179+8860000,'Growth Data'!$A:$F,4,0))","v":"NO"},0,null,0,{"$f":"IF(ISERROR(VLOOKUP($A179+8860000,'Growth Data'!$A:$Z,8,0)),0,VLOOKUP($A179+8860000,'Growth Data'!$A:$Z,8,0))","v":0},0,null,0,{"$f":"IF(ISERROR(VLOOKUP($A179+8860000,'Growth Data'!$A:$Z,9,0)),0,VLOOKUP($A179+8860000,'Growth Data'!$A:$Z,9,0))","v":0},0,null,"NO",{"$f":"IF(ISERROR(VLOOKUP($A179+8860000,'Growth Data'!$A:$Z,5,0)),\"NO\",VLOOKUP($A179+8860000,'Growth Data'!$A:$Z,5,0))","v":"NO"},0,null,0,{"$f":"IF(ISERROR(VLOOKUP($A179+8860000,'Growth Data'!$A:$Z,10,0)),0,VLOOKUP($A179+8860000,'Growth Data'!$A:$Z,10,0))","v":0},0,null,0,{"$f":"IF(ISERROR(VLOOKUP($A179+8860000,'Growth Data'!$A:$Z,11,0)),0,VLOOKUP($A179+8860000,'Growth Data'!$A:$Z,11,0))","v":0},0]
[3108,"Ospringe CEP School",null,"Ospringe CEP School","Ospringe CEP School",0,null,610252.56000000006,610252.56392820005,0,null,78440.02,78440.020720983652,0,null,2276.79,2276.7937850746257,0,null,42394.33,42394.325215695062,0,null,120082.8,120082.8,0,null,0,0,0,null,0,0,0,null,0,0,0,null,22709,22709,0,null,0,0,0,null,0,0,0,null,0,0,0,null,876155.5,876155.5036499534,0,null,0,0,0,null,876155.5,876155.5036499534,0,null,0,null,0,null,876155.5,876155.5036499534,0,null,0,null,0,null,110413.08,null,110413,null,0,null,0,null,0,null,0,null,0,null,0,null,0,null,0,null,0,null,0,null,0,null,0,null,0,null,0,null,"NO",{"$f":"IF(ISERROR(VLOOKUP($A180+8860000,'Growth Data'!$A:$F,3,0)),\"NO\",VLOOKUP($A180+8860000,'Growth Data'!$A:$F,3,0))","v":"NO"},0,null,0,{"$f":"IF(DI180=\"YES\",IF(ISERROR(VLOOKUP($A180+8860000,'Growth Data'!$A:$F,6,0)),0,VLOOKUP($A180+8860000,'Growth Data'!$A:$F,6,0)),0)","v":0},0,null,0,{"$f":"IF(ISERROR(VLOOKUP($A180+8860000,'Growth Data'!$A:$Z,7,0)),0,VLOOKUP($A180+8860000,'Growth Data'!$A:$Z,7,0))","v":0},0,null,"NO",{"$f":"IF(ISERROR(VLOOKUP($A180+8860000,'Growth Data'!$A:$F,4,0)),\"NO\",VLOOKUP($A180+8860000,'Growth Data'!$A:$F,4,0))","v":"NO"},0,null,0,{"$f":"IF(ISERROR(VLOOKUP($A180+8860000,'Growth Data'!$A:$Z,8,0)),0,VLOOKUP($A180+8860000,'Growth Data'!$A:$Z,8,0))","v":0},0,null,0,{"$f":"IF(ISERROR(VLOOKUP($A180+8860000,'Growth Data'!$A:$Z,9,0)),0,VLOOKUP($A180+8860000,'Growth Data'!$A:$Z,9,0))","v":0},0,null,"NO",{"$f":"IF(ISERROR(VLOOKUP($A180+8860000,'Growth Data'!$A:$Z,5,0)),\"NO\",VLOOKUP($A180+8860000,'Growth Data'!$A:$Z,5,0))","v":"NO"},0,null,0,{"$f":"IF(ISERROR(VLOOKUP($A180+8860000,'Growth Data'!$A:$Z,10,0)),0,VLOOKUP($A180+8860000,'Growth Data'!$A:$Z,10,0))","v":0},0,null,0,{"$f":"IF(ISERROR(VLOOKUP($A180+8860000,'Growth Data'!$A:$Z,11,0)),0,VLOOKUP($A180+8860000,'Growth Data'!$A:$Z,11,0))","v":0},0]
[3109,"Hernhill CEP School",null,"Hernhill CEP School","Hernhill CEP School",0,null,558023.74,558023.74088930001,0,null,17167.84,17167.837639999983,0,null,0,0,0,null,37030.449999999997,37030.454137746725,0,null,120082.8,120082.8,0,null,0,0,0,null,0,0,0,null,0,0,0,null,31248,31248,0,null,0,0,0,null,0,0,0,null,0,0,0,null,763552.83,763552.83266704669,0,null,0,0,0,null,763552.83,763552.83266704669,0,null,0,null,0,null,763552.83,763552.83266704669,0,null,0,null,0,null,56910.86,null,56911,null,308.91000000000003,null,309,null,0,null,0,null,0,null,0,null,0,null,0,null,0,null,0,null,0,null,0,null,0,null,0,null,"NO",{"$f":"IF(ISERROR(VLOOKUP($A181+8860000,'Growth Data'!$A:$F,3,0)),\"NO\",VLOOKUP($A181+8860000,'Growth Data'!$A:$F,3,0))","v":"NO"},0,null,0,{"$f":"IF(DI181=\"YES\",IF(ISERROR(VLOOKUP($A181+8860000,'Growth Data'!$A:$F,6,0)),0,VLOOKUP($A181+8860000,'Growth Data'!$A:$F,6,0)),0)","v":0},0,null,0,{"$f":"IF(ISERROR(VLOOKUP($A181+8860000,'Growth Data'!$A:$Z,7,0)),0,VLOOKUP($A181+8860000,'Growth Data'!$A:$Z,7,0))","v":0},0,null,"NO",{"$f":"IF(ISERROR(VLOOKUP($A181+8860000,'Growth Data'!$A:$F,4,0)),\"NO\",VLOOKUP($A181+8860000,'Growth Data'!$A:$F,4,0))","v":"NO"},0,null,0,{"$f":"IF(ISERROR(VLOOKUP($A181+8860000,'Growth Data'!$A:$Z,8,0)),0,VLOOKUP($A181+8860000,'Growth Data'!$A:$Z,8,0))","v":0},0,null,0,{"$f":"IF(ISERROR(VLOOKUP($A181+8860000,'Growth Data'!$A:$Z,9,0)),0,VLOOKUP($A181+8860000,'Growth Data'!$A:$Z,9,0))","v":0},0,null,"NO",{"$f":"IF(ISERROR(VLOOKUP($A181+8860000,'Growth Data'!$A:$Z,5,0)),\"NO\",VLOOKUP($A181+8860000,'Growth Data'!$A:$Z,5,0))","v":"NO"},0,null,0,{"$f":"IF(ISERROR(VLOOKUP($A181+8860000,'Growth Data'!$A:$Z,10,0)),0,VLOOKUP($A181+8860000,'Growth Data'!$A:$Z,10,0))","v":0},0,null,0,{"$f":"IF(ISERROR(VLOOKUP($A181+8860000,'Growth Data'!$A:$Z,11,0)),0,VLOOKUP($A181+8860000,'Growth Data'!$A:$Z,11,0))","v":0},0]
[3111,"Newington CEP School",null,"Newington CEP School","Newington CEP School",0,null,472808.29,472808.29277320002,0,null,46023.26,46023.26046894741,0,null,1174.05,1174.0545721854321,0,null,36675.480000000003,36675.482403234986,0,null,120082.8,120082.8,0,null,0,0,0,null,0,0,0,null,0,0,0,null,33516,33516,0,null,0,0,0,null,0,0,0,null,0,0,0,null,710279.89,710279.89021756791,0,null,0,0,0,null,710279.89,710279.89021756791,0,null,0,null,0,null,710279.89,710279.89021756791,0,null,0,null,0,null,76898.69,null,76899,null,0,null,0,null,0,null,0,null,0,null,0,null,0,null,0,null,0,null,0,null,0,null,0,null,0,null,0,null,"NO",{"$f":"IF(ISERROR(VLOOKUP($A182+8860000,'Growth Data'!$A:$F,3,0)),\"NO\",VLOOKUP($A182+8860000,'Growth Data'!$A:$F,3,0))","v":"NO"},0,null,0,{"$f":"IF(DI182=\"YES\",IF(ISERROR(VLOOKUP($A182+8860000,'Growth Data'!$A:$F,6,0)),0,VLOOKUP($A182+8860000,'Growth Data'!$A:$F,6,0)),0)","v":0},0,null,0,{"$f":"IF(ISERROR(VLOOKUP($A182+8860000,'Growth Data'!$A:$Z,7,0)),0,VLOOKUP($A182+8860000,'Growth Data'!$A:$Z,7,0))","v":0},0,null,"NO",{"$f":"IF(ISERROR(VLOOKUP($A182+8860000,'Growth Data'!$A:$F,4,0)),\"NO\",VLOOKUP($A182+8860000,'Growth Data'!$A:$F,4,0))","v":"NO"},0,null,0,{"$f":"IF(ISERROR(VLOOKUP($A182+8860000,'Growth Data'!$A:$Z,8,0)),0,VLOOKUP($A182+8860000,'Growth Data'!$A:$Z,8,0))","v":0},0,null,0,{"$f":"IF(ISERROR(VLOOKUP($A182+8860000,'Growth Data'!$A:$Z,9,0)),0,VLOOKUP($A182+8860000,'Growth Data'!$A:$Z,9,0))","v":0},0,null,"NO",{"$f":"IF(ISERROR(VLOOKUP($A182+8860000,'Growth Data'!$A:$Z,5,0)),\"NO\",VLOOKUP($A182+8860000,'Growth Data'!$A:$Z,5,0))","v":"NO"},0,null,0,{"$f":"IF(ISERROR(VLOOKUP($A182+8860000,'Growth Data'!$A:$Z,10,0)),0,VLOOKUP($A182+8860000,'Growth Data'!$A:$Z,10,0))","v":0},0,null,0,{"$f":"IF(ISERROR(VLOOKUP($A182+8860000,'Growth Data'!$A:$Z,11,0)),0,VLOOKUP($A182+8860000,'Growth Data'!$A:$Z,11,0))","v":0},0]
[3117,"Teynham Parochial CEP School",null,"Teynham Parochial CEP School","Teynham Parochial CEP School",0,null,574517.05000000005,574517.05342789995,0,null,68511.77,68511.769937058838,0,null,4813.82,4813.8220402234638,0,null,48484.22,48484.215756052938,0,null,120082.8,120082.8,0,null,0,0,0,null,0,0,0,null,0,0,0,null,15884,15884,0,null,0,0,0,null,0,0,0,null,0,0,0,null,832293.66,832293.6611612353,0,null,0,0,0,null,832293.66,832293.6611612353,0,null,0,null,0,null,832293.66,832293.6611612353,0,null,0,null,0,null,112634.18,null,112634,null,0,null,0,null,0,null,0,null,0,null,0,null,0,null,0,null,0,null,0,null,0,null,0,null,0,null,0,null,"NO",{"$f":"IF(ISERROR(VLOOKUP($A183+8860000,'Growth Data'!$A:$F,3,0)),\"NO\",VLOOKUP($A183+8860000,'Growth Data'!$A:$F,3,0))","v":"NO"},0,null,0,{"$f":"IF(DI183=\"YES\",IF(ISERROR(VLOOKUP($A183+8860000,'Growth Data'!$A:$F,6,0)),0,VLOOKUP($A183+8860000,'Growth Data'!$A:$F,6,0)),0)","v":0},0,null,0,{"$f":"IF(ISERROR(VLOOKUP($A183+8860000,'Growth Data'!$A:$Z,7,0)),0,VLOOKUP($A183+8860000,'Growth Data'!$A:$Z,7,0))","v":0},0,null,"NO",{"$f":"IF(ISERROR(VLOOKUP($A183+8860000,'Growth Data'!$A:$F,4,0)),\"NO\",VLOOKUP($A183+8860000,'Growth Data'!$A:$F,4,0))","v":"NO"},0,null,0,{"$f":"IF(ISERROR(VLOOKUP($A183+8860000,'Growth Data'!$A:$Z,8,0)),0,VLOOKUP($A183+8860000,'Growth Data'!$A:$Z,8,0))","v":0},0,null,0,{"$f":"IF(ISERROR(VLOOKUP($A183+8860000,'Growth Data'!$A:$Z,9,0)),0,VLOOKUP($A183+8860000,'Growth Data'!$A:$Z,9,0))","v":0},0,null,"NO",{"$f":"IF(ISERROR(VLOOKUP($A183+8860000,'Growth Data'!$A:$Z,5,0)),\"NO\",VLOOKUP($A183+8860000,'Growth Data'!$A:$Z,5,0))","v":"NO"},0,null,0,{"$f":"IF(ISERROR(VLOOKUP($A183+8860000,'Growth Data'!$A:$Z,10,0)),0,VLOOKUP($A183+8860000,'Growth Data'!$A:$Z,10,0))","v":0},0,null,0,{"$f":"IF(ISERROR(VLOOKUP($A183+8860000,'Growth Data'!$A:$Z,11,0)),0,VLOOKUP($A183+8860000,'Growth Data'!$A:$Z,11,0))","v":0},0]
[3120,"Barham CEP School",null,"Barham CEP School","Barham CEP School",0,null,569019.28,569019.28258170001,0,null,15592.36,15592.361066829264,0,null,7835.15,7835.1482872881334,0,null,26192.86,26192.864710316466,0,null,120082.8,120082.8,0,null,0,0,0,null,0,0,0,null,0,0,0,null,28224,28224,0,null,0,0,0,null,0,0,0,null,0,0,0,null,766946.46,766946.45664613391,0,null,0,0,0,null,766946.46,766946.45664613391,0,null,0,null,0,null,766946.46,766946.45664613391,0,null,0,null,0,null,53213.55,null,53214,null,678.64,null,679,null,0,null,0,null,0,null,0,null,0,null,0,null,0,null,0,null,0,null,0,null,0,null,0,null,"NO",{"$f":"IF(ISERROR(VLOOKUP($A184+8860000,'Growth Data'!$A:$F,3,0)),\"NO\",VLOOKUP($A184+8860000,'Growth Data'!$A:$F,3,0))","v":"NO"},0,null,0,{"$f":"IF(DI184=\"YES\",IF(ISERROR(VLOOKUP($A184+8860000,'Growth Data'!$A:$F,6,0)),0,VLOOKUP($A184+8860000,'Growth Data'!$A:$F,6,0)),0)","v":0},0,null,0,{"$f":"IF(ISERROR(VLOOKUP($A184+8860000,'Growth Data'!$A:$Z,7,0)),0,VLOOKUP($A184+8860000,'Growth Data'!$A:$Z,7,0))","v":0},0,null,"NO",{"$f":"IF(ISERROR(VLOOKUP($A184+8860000,'Growth Data'!$A:$F,4,0)),\"NO\",VLOOKUP($A184+8860000,'Growth Data'!$A:$F,4,0))","v":"NO"},0,null,0,{"$f":"IF(ISERROR(VLOOKUP($A184+8860000,'Growth Data'!$A:$Z,8,0)),0,VLOOKUP($A184+8860000,'Growth Data'!$A:$Z,8,0))","v":0},0,null,0,{"$f":"IF(ISERROR(VLOOKUP($A184+8860000,'Growth Data'!$A:$Z,9,0)),0,VLOOKUP($A184+8860000,'Growth Data'!$A:$Z,9,0))","v":0},0,null,"NO",{"$f":"IF(ISERROR(VLOOKUP($A184+8860000,'Growth Data'!$A:$Z,5,0)),\"NO\",VLOOKUP($A184+8860000,'Growth Data'!$A:$Z,5,0))","v":"NO"},0,null,0,{"$f":"IF(ISERROR(VLOOKUP($A184+8860000,'Growth Data'!$A:$Z,10,0)),0,VLOOKUP($A184+8860000,'Growth Data'!$A:$Z,10,0))","v":0},0,null,0,{"$f":"IF(ISERROR(VLOOKUP($A184+8860000,'Growth Data'!$A:$Z,11,0)),0,VLOOKUP($A184+8860000,'Growth Data'!$A:$Z,11,0))","v":0},0]
[3122,"Bridge & Patrixbourne CEP School",null,"Bridge & Patrixbourne CEP School","Bridge & Patrixbourne CEP School",0,null,1151782.99,1151782.9922789,0,null,21759,21759.003359999992,0,null,19793.939999999999,19793.940067916676,0,null,44680.47,44680.469751979348,0,null,120082.8,120082.8,0,null,0,0,0,null,0,0,0,null,0,0,0,null,34524,34524,0,null,0,0,0,null,0,0,0,null,66500.789999999994,66500.794541203883,0,null,1459124,1459124,0,null,0,0,0,null,1459124,1459124,0,null,0,null,0,null,1459124,1459124,0,null,0,null,0,null,87625.07,null,87625,null,0,null,0,null,0,null,0,null,0,null,0,null,0,null,0,null,0,null,0,null,0,null,0,null,0,null,0,null,"NO",{"$f":"IF(ISERROR(VLOOKUP($A185+8860000,'Growth Data'!$A:$F,3,0)),\"NO\",VLOOKUP($A185+8860000,'Growth Data'!$A:$F,3,0))","v":"NO"},0,null,0,{"$f":"IF(DI185=\"YES\",IF(ISERROR(VLOOKUP($A185+8860000,'Growth Data'!$A:$F,6,0)),0,VLOOKUP($A185+8860000,'Growth Data'!$A:$F,6,0)),0)","v":0},0,null,0,{"$f":"IF(ISERROR(VLOOKUP($A185+8860000,'Growth Data'!$A:$Z,7,0)),0,VLOOKUP($A185+8860000,'Growth Data'!$A:$Z,7,0))","v":0},0,null,"NO",{"$f":"IF(ISERROR(VLOOKUP($A185+8860000,'Growth Data'!$A:$F,4,0)),\"NO\",VLOOKUP($A185+8860000,'Growth Data'!$A:$F,4,0))","v":"NO"},0,null,0,{"$f":"IF(ISERROR(VLOOKUP($A185+8860000,'Growth Data'!$A:$Z,8,0)),0,VLOOKUP($A185+8860000,'Growth Data'!$A:$Z,8,0))","v":0},0,null,0,{"$f":"IF(ISERROR(VLOOKUP($A185+8860000,'Growth Data'!$A:$Z,9,0)),0,VLOOKUP($A185+8860000,'Growth Data'!$A:$Z,9,0))","v":0},0,null,"NO",{"$f":"IF(ISERROR(VLOOKUP($A185+8860000,'Growth Data'!$A:$Z,5,0)),\"NO\",VLOOKUP($A185+8860000,'Growth Data'!$A:$Z,5,0))","v":"NO"},0,null,0,{"$f":"IF(ISERROR(VLOOKUP($A185+8860000,'Growth Data'!$A:$Z,10,0)),0,VLOOKUP($A185+8860000,'Growth Data'!$A:$Z,10,0))","v":0},0,null,0,{"$f":"IF(ISERROR(VLOOKUP($A185+8860000,'Growth Data'!$A:$Z,11,0)),0,VLOOKUP($A185+8860000,'Growth Data'!$A:$Z,11,0))","v":0},0]
[3123,"Chislet CEP School",null,"Chislet CEP School","Chislet CEP School",0,null,261144.12,261144.11519450002,0,null,10266.65,10266.653574468086,0,null,611.98,611.98447812500001,0,null,18771.07,18771.066367092288,0,null,120082.8,120082.8,0,null,0,0,0,null,0,0,0,null,0,0,0,null,6015,6015,0,null,0,0,0,null,0,0,0,null,0,0,0,null,416891.62,416891.61961418542,0,null,0,0,0,null,416891.62,416891.61961418542,0,null,0,null,0,null,416891.62,416891.61961418542,0,null,0,null,0,null,35444.400000000001,null,35444,null,2455.56,null,2456,null,0,null,0,null,0,null,0,null,0,null,0,null,0,null,0,null,0,null,0,null,0,null,0,null,"NO",{"$f":"IF(ISERROR(VLOOKUP($A186+8860000,'Growth Data'!$A:$F,3,0)),\"NO\",VLOOKUP($A186+8860000,'Growth Data'!$A:$F,3,0))","v":"NO"},0,null,0,{"$f":"IF(DI186=\"YES\",IF(ISERROR(VLOOKUP($A186+8860000,'Growth Data'!$A:$F,6,0)),0,VLOOKUP($A186+8860000,'Growth Data'!$A:$F,6,0)),0)","v":0},0,null,0,{"$f":"IF(ISERROR(VLOOKUP($A186+8860000,'Growth Data'!$A:$Z,7,0)),0,VLOOKUP($A186+8860000,'Growth Data'!$A:$Z,7,0))","v":0},0,null,"NO",{"$f":"IF(ISERROR(VLOOKUP($A186+8860000,'Growth Data'!$A:$F,4,0)),\"NO\",VLOOKUP($A186+8860000,'Growth Data'!$A:$F,4,0))","v":"NO"},0,null,0,{"$f":"IF(ISERROR(VLOOKUP($A186+8860000,'Growth Data'!$A:$Z,8,0)),0,VLOOKUP($A186+8860000,'Growth Data'!$A:$Z,8,0))","v":0},0,null,0,{"$f":"IF(ISERROR(VLOOKUP($A186+8860000,'Growth Data'!$A:$Z,9,0)),0,VLOOKUP($A186+8860000,'Growth Data'!$A:$Z,9,0))","v":0},0,null,"NO",{"$f":"IF(ISERROR(VLOOKUP($A186+8860000,'Growth Data'!$A:$Z,5,0)),\"NO\",VLOOKUP($A186+8860000,'Growth Data'!$A:$Z,5,0))","v":"NO"},0,null,0,{"$f":"IF(ISERROR(VLOOKUP($A186+8860000,'Growth Data'!$A:$Z,10,0)),0,VLOOKUP($A186+8860000,'Growth Data'!$A:$Z,10,0))","v":0},0,null,0,{"$f":"IF(ISERROR(VLOOKUP($A186+8860000,'Growth Data'!$A:$Z,11,0)),0,VLOOKUP($A186+8860000,'Growth Data'!$A:$Z,11,0))","v":0},0]
[3126,"Littlebourne CEP School",null,"Littlebourne CEP School","Littlebourne CEP School",0,null,263893,263893.00061759999,0,null,23782.14,23782.140297419359,0,null,3757.53,3757.5276151898738,0,null,24754.46,24754.462974168277,0,null,120082.8,120082.8,0,null,0,0,0,null,0,0,0,null,0,0,0,null,11048,11048,0,null,0,0,0,null,0,0,0,null,0,0,0,null,447317.93,447317.93150437751,0,null,0,0,0,null,447317.93,447317.93150437751,0,null,0,null,0,null,447317.93,447317.93150437751,0,null,0,null,0,null,50163.360000000001,null,50163,null,983.66,null,984,null,0,null,0,null,0,null,0,null,0,null,0,null,0,null,0,null,0,null,0,null,0,null,0,null,"NO",{"$f":"IF(ISERROR(VLOOKUP($A187+8860000,'Growth Data'!$A:$F,3,0)),\"NO\",VLOOKUP($A187+8860000,'Growth Data'!$A:$F,3,0))","v":"NO"},0,null,0,{"$f":"IF(DI187=\"YES\",IF(ISERROR(VLOOKUP($A187+8860000,'Growth Data'!$A:$F,6,0)),0,VLOOKUP($A187+8860000,'Growth Data'!$A:$F,6,0)),0)","v":0},0,null,0,{"$f":"IF(ISERROR(VLOOKUP($A187+8860000,'Growth Data'!$A:$Z,7,0)),0,VLOOKUP($A187+8860000,'Growth Data'!$A:$Z,7,0))","v":0},0,null,"NO",{"$f":"IF(ISERROR(VLOOKUP($A187+8860000,'Growth Data'!$A:$F,4,0)),\"NO\",VLOOKUP($A187+8860000,'Growth Data'!$A:$F,4,0))","v":"NO"},0,null,0,{"$f":"IF(ISERROR(VLOOKUP($A187+8860000,'Growth Data'!$A:$Z,8,0)),0,VLOOKUP($A187+8860000,'Growth Data'!$A:$Z,8,0))","v":0},0,null,0,{"$f":"IF(ISERROR(VLOOKUP($A187+8860000,'Growth Data'!$A:$Z,9,0)),0,VLOOKUP($A187+8860000,'Growth Data'!$A:$Z,9,0))","v":0},0,null,"NO",{"$f":"IF(ISERROR(VLOOKUP($A187+8860000,'Growth Data'!$A:$Z,5,0)),\"NO\",VLOOKUP($A187+8860000,'Growth Data'!$A:$Z,5,0))","v":"NO"},0,null,0,{"$f":"IF(ISERROR(VLOOKUP($A187+8860000,'Growth Data'!$A:$Z,10,0)),0,VLOOKUP($A187+8860000,'Growth Data'!$A:$Z,10,0))","v":0},0,null,0,{"$f":"IF(ISERROR(VLOOKUP($A187+8860000,'Growth Data'!$A:$Z,11,0)),0,VLOOKUP($A187+8860000,'Growth Data'!$A:$Z,11,0))","v":0},0]
[3129,"St Alphege CEI School",null,"St Alphege CEI School","St Alphege CEI School",0,null,450817.21,450817.20938840002,0,null,29198.26,29198.264647425171,0,null,2369.67,2369.6713289719632,0,null,34064.33,34064.332666739181,0,null,120082.8,120082.8,0,null,0,0,0,null,0,0,0,null,0,0,0,null,30996,30996,0,null,0,0,0,null,0,0,0,null,0,0,0,null,667528.28,667528.27803153638,0,null,0,0,0,null,667528.28,667528.27803153638,0,null,0,null,0,null,667528.28,667528.27803153638,0,null,4.9000000000000004,null,5,null,62620.89,null,62621,null,0,null,0,null,0,null,0,null,0,null,0,null,0,null,0,null,0,null,0,null,0,null,0,null,0,null,0,null,"NO",{"$f":"IF(ISERROR(VLOOKUP($A188+8860000,'Growth Data'!$A:$F,3,0)),\"NO\",VLOOKUP($A188+8860000,'Growth Data'!$A:$F,3,0))","v":"NO"},0,null,0,{"$f":"IF(DI188=\"YES\",IF(ISERROR(VLOOKUP($A188+8860000,'Growth Data'!$A:$F,6,0)),0,VLOOKUP($A188+8860000,'Growth Data'!$A:$F,6,0)),0)","v":0},0,null,0,{"$f":"IF(ISERROR(VLOOKUP($A188+8860000,'Growth Data'!$A:$Z,7,0)),0,VLOOKUP($A188+8860000,'Growth Data'!$A:$Z,7,0))","v":0},0,null,"NO",{"$f":"IF(ISERROR(VLOOKUP($A188+8860000,'Growth Data'!$A:$F,4,0)),\"NO\",VLOOKUP($A188+8860000,'Growth Data'!$A:$F,4,0))","v":"NO"},0,null,0,{"$f":"IF(ISERROR(VLOOKUP($A188+8860000,'Growth Data'!$A:$Z,8,0)),0,VLOOKUP($A188+8860000,'Growth Data'!$A:$Z,8,0))","v":0},0,null,0,{"$f":"IF(ISERROR(VLOOKUP($A188+8860000,'Growth Data'!$A:$Z,9,0)),0,VLOOKUP($A188+8860000,'Growth Data'!$A:$Z,9,0))","v":0},0,null,"NO",{"$f":"IF(ISERROR(VLOOKUP($A188+8860000,'Growth Data'!$A:$Z,5,0)),\"NO\",VLOOKUP($A188+8860000,'Growth Data'!$A:$Z,5,0))","v":"NO"},0,null,0,{"$f":"IF(ISERROR(VLOOKUP($A188+8860000,'Growth Data'!$A:$Z,10,0)),0,VLOOKUP($A188+8860000,'Growth Data'!$A:$Z,10,0))","v":0},0,null,0,{"$f":"IF(ISERROR(VLOOKUP($A188+8860000,'Growth Data'!$A:$Z,11,0)),0,VLOOKUP($A188+8860000,'Growth Data'!$A:$Z,11,0))","v":0},0]
[3130,"Wickhambreaux CEP School",null,"Wickhambreaux CEP School","Wickhambreaux CEP School",0,null,362852.88,362852.87584920001,0,null,7599.53,7599.5257714285726,0,null,3580.36,3580.3634842105248,0,null,9226.25,9226.2513099693169,0,null,120082.8,120082.8,0,null,0,0,0,null,0,0,0,null,0,0,0,null,8593,8593,0,null,0,0,0,null,0,0,0,null,0,0,0,null,511934.82,511934.81641480845,0,null,8525.73,8525.7278929205495,0,null,520460.54,520460.544307729,0,null,0,null,0,null,520460.54,520460.544307729,0,null,0,null,0,null,24879.93,null,24880,null,3512.01,null,3512,null,0,null,0,null,0,null,0,null,0,null,0,null,0,null,0,null,0,null,0,null,0,null,0,null,"NO",{"$f":"IF(ISERROR(VLOOKUP($A189+8860000,'Growth Data'!$A:$F,3,0)),\"NO\",VLOOKUP($A189+8860000,'Growth Data'!$A:$F,3,0))","v":"NO"},0,null,0,{"$f":"IF(DI189=\"YES\",IF(ISERROR(VLOOKUP($A189+8860000,'Growth Data'!$A:$F,6,0)),0,VLOOKUP($A189+8860000,'Growth Data'!$A:$F,6,0)),0)","v":0},0,null,0,{"$f":"IF(ISERROR(VLOOKUP($A189+8860000,'Growth Data'!$A:$Z,7,0)),0,VLOOKUP($A189+8860000,'Growth Data'!$A:$Z,7,0))","v":0},0,null,"NO",{"$f":"IF(ISERROR(VLOOKUP($A189+8860000,'Growth Data'!$A:$F,4,0)),\"NO\",VLOOKUP($A189+8860000,'Growth Data'!$A:$F,4,0))","v":"NO"},0,null,0,{"$f":"IF(ISERROR(VLOOKUP($A189+8860000,'Growth Data'!$A:$Z,8,0)),0,VLOOKUP($A189+8860000,'Growth Data'!$A:$Z,8,0))","v":0},0,null,0,{"$f":"IF(ISERROR(VLOOKUP($A189+8860000,'Growth Data'!$A:$Z,9,0)),0,VLOOKUP($A189+8860000,'Growth Data'!$A:$Z,9,0))","v":0},0,null,"NO",{"$f":"IF(ISERROR(VLOOKUP($A189+8860000,'Growth Data'!$A:$Z,5,0)),\"NO\",VLOOKUP($A189+8860000,'Growth Data'!$A:$Z,5,0))","v":"NO"},0,null,0,{"$f":"IF(ISERROR(VLOOKUP($A189+8860000,'Growth Data'!$A:$Z,10,0)),0,VLOOKUP($A189+8860000,'Growth Data'!$A:$Z,10,0))","v":0},0,null,0,{"$f":"IF(ISERROR(VLOOKUP($A189+8860000,'Growth Data'!$A:$Z,11,0)),0,VLOOKUP($A189+8860000,'Growth Data'!$A:$Z,11,0))","v":0},0]
[3134,"John Mayne CEP School",null,"John Mayne CEP School","John Mayne CEP School",0,null,299628.51,299628.51111790002,0,null,9938.85,9938.8530800000372,0,null,1234.5899999999999,1234.5875417582431,0,null,25776.42,25776.422062587251,0,null,120082.8,120082.8,0,null,13627.55,13627.554072096129,0,null,0,0,0,null,0,0,0,null,13614,13614,0,null,0,0,0,null,0,0,0,null,0,0,0,null,483902.73,483902.72787434165,0,null,0,0,0,null,483902.73,483902.72787434165,0,null,0,null,0,null,483902.73,483902.72787434165,0,null,0,null,0,null,37460.92,null,37461,null,2253.91,null,2254,null,0,null,0,null,0,null,0,null,0,null,0,null,0,null,0,null,0,null,0,null,0,null,0,null,"NO",{"$f":"IF(ISERROR(VLOOKUP($A190+8860000,'Growth Data'!$A:$F,3,0)),\"NO\",VLOOKUP($A190+8860000,'Growth Data'!$A:$F,3,0))","v":"NO"},0,null,0,{"$f":"IF(DI190=\"YES\",IF(ISERROR(VLOOKUP($A190+8860000,'Growth Data'!$A:$F,6,0)),0,VLOOKUP($A190+8860000,'Growth Data'!$A:$F,6,0)),0)","v":0},0,null,0,{"$f":"IF(ISERROR(VLOOKUP($A190+8860000,'Growth Data'!$A:$Z,7,0)),0,VLOOKUP($A190+8860000,'Growth Data'!$A:$Z,7,0))","v":0},0,null,"NO",{"$f":"IF(ISERROR(VLOOKUP($A190+8860000,'Growth Data'!$A:$F,4,0)),\"NO\",VLOOKUP($A190+8860000,'Growth Data'!$A:$F,4,0))","v":"NO"},0,null,0,{"$f":"IF(ISERROR(VLOOKUP($A190+8860000,'Growth Data'!$A:$Z,8,0)),0,VLOOKUP($A190+8860000,'Growth Data'!$A:$Z,8,0))","v":0},0,null,0,{"$f":"IF(ISERROR(VLOOKUP($A190+8860000,'Growth Data'!$A:$Z,9,0)),0,VLOOKUP($A190+8860000,'Growth Data'!$A:$Z,9,0))","v":0},0,null,"NO",{"$f":"IF(ISERROR(VLOOKUP($A190+8860000,'Growth Data'!$A:$Z,5,0)),\"NO\",VLOOKUP($A190+8860000,'Growth Data'!$A:$Z,5,0))","v":"NO"},0,null,0,{"$f":"IF(ISERROR(VLOOKUP($A190+8860000,'Growth Data'!$A:$Z,10,0)),0,VLOOKUP($A190+8860000,'Growth Data'!$A:$Z,10,0))","v":0},0,null,0,{"$f":"IF(ISERROR(VLOOKUP($A190+8860000,'Growth Data'!$A:$Z,11,0)),0,VLOOKUP($A190+8860000,'Growth Data'!$A:$Z,11,0))","v":0},0]
[3136,"Brabourne CEP School",null,"Brabourne CEP School","Brabourne CEP School",0,null,258395.23,258395.22977140002,0,null,5492.51,5492.514494545454,0,null,1196.1300000000001,1196.1334049382735,0,null,18645.189999999999,18645.188458107517,0,null,120082.8,120082.8,0,null,0,0,0,null,0,0,0,null,0,0,0,null,5413,5413,0,null,0,0,0,null,0,0,0,null,0,0,0,null,409224.87,409224.86612899124,0,null,0,0,0,null,409224.87,409224.86612899124,0,null,0,null,0,null,409224.87,409224.86612899124,0,null,0,null,0,null,30247.93,null,30248,null,2975.21,null,2975,null,0,null,0,null,0,null,0,null,0,null,0,null,0,null,0,null,0,null,0,null,0,null,0,null,"NO",{"$f":"IF(ISERROR(VLOOKUP($A191+8860000,'Growth Data'!$A:$F,3,0)),\"NO\",VLOOKUP($A191+8860000,'Growth Data'!$A:$F,3,0))","v":"NO"},0,null,0,{"$f":"IF(DI191=\"YES\",IF(ISERROR(VLOOKUP($A191+8860000,'Growth Data'!$A:$F,6,0)),0,VLOOKUP($A191+8860000,'Growth Data'!$A:$F,6,0)),0)","v":0},0,null,0,{"$f":"IF(ISERROR(VLOOKUP($A191+8860000,'Growth Data'!$A:$Z,7,0)),0,VLOOKUP($A191+8860000,'Growth Data'!$A:$Z,7,0))","v":0},0,null,"NO",{"$f":"IF(ISERROR(VLOOKUP($A191+8860000,'Growth Data'!$A:$F,4,0)),\"NO\",VLOOKUP($A191+8860000,'Growth Data'!$A:$F,4,0))","v":"NO"},0,null,0,{"$f":"IF(ISERROR(VLOOKUP($A191+8860000,'Growth Data'!$A:$Z,8,0)),0,VLOOKUP($A191+8860000,'Growth Data'!$A:$Z,8,0))","v":0},0,null,0,{"$f":"IF(ISERROR(VLOOKUP($A191+8860000,'Growth Data'!$A:$Z,9,0)),0,VLOOKUP($A191+8860000,'Growth Data'!$A:$Z,9,0))","v":0},0,null,"NO",{"$f":"IF(ISERROR(VLOOKUP($A191+8860000,'Growth Data'!$A:$Z,5,0)),\"NO\",VLOOKUP($A191+8860000,'Growth Data'!$A:$Z,5,0))","v":"NO"},0,null,0,{"$f":"IF(ISERROR(VLOOKUP($A191+8860000,'Growth Data'!$A:$Z,10,0)),0,VLOOKUP($A191+8860000,'Growth Data'!$A:$Z,10,0))","v":0},0,null,0,{"$f":"IF(ISERROR(VLOOKUP($A191+8860000,'Growth Data'!$A:$Z,11,0)),0,VLOOKUP($A191+8860000,'Growth Data'!$A:$Z,11,0))","v":0},0]
[3137,"Brookland CEP School",null,"Brookland CEP School","Brookland CEP School",0,null,277637.43,277637.42773310002,0,null,26520.29,26520.286380000027,0,null,605.24,605.2429110465124,0,null,10589.22,10589.220253487525,0,null,120082.8,120082.8,0,null,0,0,0,null,0,0,0,null,0,0,0,null,11784,11784,0,null,0,0,0,null,0,0,0,null,0,0,0,null,447218.98,447218.97727763403,0,null,0,0,0,null,447218.98,447218.97727763403,0,null,0,null,0,null,447218.98,447218.97727763403,0,null,0,null,0,null,38666.11,null,38666,null,2133.39,null,2133,null,0,null,0,null,0,null,0,null,0,null,0,null,0,null,0,null,0,null,0,null,0,null,0,null,"NO",{"$f":"IF(ISERROR(VLOOKUP($A192+8860000,'Growth Data'!$A:$F,3,0)),\"NO\",VLOOKUP($A192+8860000,'Growth Data'!$A:$F,3,0))","v":"NO"},0,null,0,{"$f":"IF(DI192=\"YES\",IF(ISERROR(VLOOKUP($A192+8860000,'Growth Data'!$A:$F,6,0)),0,VLOOKUP($A192+8860000,'Growth Data'!$A:$F,6,0)),0)","v":0},0,null,0,{"$f":"IF(ISERROR(VLOOKUP($A192+8860000,'Growth Data'!$A:$Z,7,0)),0,VLOOKUP($A192+8860000,'Growth Data'!$A:$Z,7,0))","v":0},0,null,"NO",{"$f":"IF(ISERROR(VLOOKUP($A192+8860000,'Growth Data'!$A:$F,4,0)),\"NO\",VLOOKUP($A192+8860000,'Growth Data'!$A:$F,4,0))","v":"NO"},0,null,0,{"$f":"IF(ISERROR(VLOOKUP($A192+8860000,'Growth Data'!$A:$Z,8,0)),0,VLOOKUP($A192+8860000,'Growth Data'!$A:$Z,8,0))","v":0},0,null,0,{"$f":"IF(ISERROR(VLOOKUP($A192+8860000,'Growth Data'!$A:$Z,9,0)),0,VLOOKUP($A192+8860000,'Growth Data'!$A:$Z,9,0))","v":0},0,null,"NO",{"$f":"IF(ISERROR(VLOOKUP($A192+8860000,'Growth Data'!$A:$Z,5,0)),\"NO\",VLOOKUP($A192+8860000,'Growth Data'!$A:$Z,5,0))","v":"NO"},0,null,0,{"$f":"IF(ISERROR(VLOOKUP($A192+8860000,'Growth Data'!$A:$Z,10,0)),0,VLOOKUP($A192+8860000,'Growth Data'!$A:$Z,10,0))","v":0},0,null,0,{"$f":"IF(ISERROR(VLOOKUP($A192+8860000,'Growth Data'!$A:$Z,11,0)),0,VLOOKUP($A192+8860000,'Growth Data'!$A:$Z,11,0))","v":0},0]
[3138,"Chilham St Mary's CEP School",null,"Chilham St Mary's CEP School","Chilham St Mary's CEP School",0,null,255646.34,255646.34434830002,0,null,15883.95,15883.952369999994,0,null,1797.3,1797.3017831250002,0,null,20387.349999999999,20387.346644653302,0,null,120082.8,120082.8,0,null,0,0,0,null,0,0,0,null,0,0,0,null,8073,8073,0,null,0,0,0,null,8400,8400,0,null,0,0,0,null,430270.75,430270.74514607829,0,null,0,0,0,null,430270.75,430270.74514607829,0,null,0,null,0,null,430270.75,430270.74514607829,0,null,0,null,0,null,36378.14,null,36378,null,2362.19,null,2362,null,0,null,0,null,0,null,0,null,0,null,0,null,0,null,0,null,0,null,0,null,0,null,0,null,"NO",{"$f":"IF(ISERROR(VLOOKUP($A193+8860000,'Growth Data'!$A:$F,3,0)),\"NO\",VLOOKUP($A193+8860000,'Growth Data'!$A:$F,3,0))","v":"NO"},0,null,0,{"$f":"IF(DI193=\"YES\",IF(ISERROR(VLOOKUP($A193+8860000,'Growth Data'!$A:$F,6,0)),0,VLOOKUP($A193+8860000,'Growth Data'!$A:$F,6,0)),0)","v":0},0,null,0,{"$f":"IF(ISERROR(VLOOKUP($A193+8860000,'Growth Data'!$A:$Z,7,0)),0,VLOOKUP($A193+8860000,'Growth Data'!$A:$Z,7,0))","v":0},0,null,"NO",{"$f":"IF(ISERROR(VLOOKUP($A193+8860000,'Growth Data'!$A:$F,4,0)),\"NO\",VLOOKUP($A193+8860000,'Growth Data'!$A:$F,4,0))","v":"NO"},0,null,0,{"$f":"IF(ISERROR(VLOOKUP($A193+8860000,'Growth Data'!$A:$Z,8,0)),0,VLOOKUP($A193+8860000,'Growth Data'!$A:$Z,8,0))","v":0},0,null,0,{"$f":"IF(ISERROR(VLOOKUP($A193+8860000,'Growth Data'!$A:$Z,9,0)),0,VLOOKUP($A193+8860000,'Growth Data'!$A:$Z,9,0))","v":0},0,null,"NO",{"$f":"IF(ISERROR(VLOOKUP($A193+8860000,'Growth Data'!$A:$Z,5,0)),\"NO\",VLOOKUP($A193+8860000,'Growth Data'!$A:$Z,5,0))","v":"NO"},0,null,0,{"$f":"IF(ISERROR(VLOOKUP($A193+8860000,'Growth Data'!$A:$Z,10,0)),0,VLOOKUP($A193+8860000,'Growth Data'!$A:$Z,10,0))","v":0},0,null,0,{"$f":"IF(ISERROR(VLOOKUP($A193+8860000,'Growth Data'!$A:$Z,11,0)),0,VLOOKUP($A193+8860000,'Growth Data'!$A:$Z,11,0))","v":0},0]
[3139,"High Halden CEP School",null,"High Halden CEP School","High Halden CEP School",{"$f":"IF(E194=D194,0,1)","v":0},null,247399.69,247399.68807900001,0,null,7862.2,7862.1953677419378,0,null,558.82000000000005,558.81905421686577,0,null,13210.31,13210.31437563789,0,null,120082.8,120082.8,0,null,0,0,0,null,0,0,0,null,0,0,0,null,15712,15712,0,null,0,0,0,null,0,0,0,null,0,0,0,null,404825.82,404825.81687659671,0,null,0,0,0,null,404825.82,404825.81687659671,0,null,0,null,0,null,404825.82,404825.81687659671,0,null,0,null,{"$f":"ROUND(BX194-BY194,0)","v":0},null,25224.51,null,{"$f":"ROUND(CB194-CC194,0)","v":25225},null,3477.55,null,{"$f":"ROUND(CF194-CG194,0)","v":3478},null,0,null,{"$f":"ROUND(CJ194-CK194,0)","v":0},null,0,null,{"$f":"ROUND(CN194-CO194,0)","v":0},null,0,null,{"$f":"ROUND(CR194-CS194,0)","v":0},null,0,null,{"$f":"ROUND(CV194-CW194,0)","v":0},null,0,null,{"$f":"ROUND(CZ194-DA194,0)","v":0},null,0,null,{"$f":"ROUND(DD194-DE194,0)","v":0},null,"NO",{"$f":"IF(ISERROR(VLOOKUP($A194+8860000,'Growth Data'!$A:$F,3,0)),\"NO\",VLOOKUP($A194+8860000,'Growth Data'!$A:$F,3,0))","v":"NO"},{"$f":"IF(DH194=DI194,0,1)","v":0},null,0,{"$f":"IF(DI194=\"YES\",IF(ISERROR(VLOOKUP($A194+8860000,'Growth Data'!$A:$F,6,0)),0,VLOOKUP($A194+8860000,'Growth Data'!$A:$F,6,0)),0)","v":0},{"$f":"ROUND(DL194-DM194,0)","v":0},null,0,{"$f":"IF(ISERROR(VLOOKUP($A194+8860000,'Growth Data'!$A:$Z,7,0)),0,VLOOKUP($A194+8860000,'Growth Data'!$A:$Z,7,0))","v":0},{"$f":"IF(DP194=DQ194,0,1)","v":0},null,"NO",{"$f":"IF(ISERROR(VLOOKUP($A194+8860000,'Growth Data'!$A:$F,4,0)),\"NO\",VLOOKUP($A194+8860000,'Growth Data'!$A:$F,4,0))","v":"NO"},{"$f":"IF(DT194=DU194,0,1)","v":0},null,0,{"$f":"IF(ISERROR(VLOOKUP($A194+8860000,'Growth Data'!$A:$Z,8,0)),0,VLOOKUP($A194+8860000,'Growth Data'!$A:$Z,8,0))","v":0},{"$f":"IF(DX194=DY194,0,1)","v":0},null,0,{"$f":"IF(ISERROR(VLOOKUP($A194+8860000,'Growth Data'!$A:$Z,9,0)),0,VLOOKUP($A194+8860000,'Growth Data'!$A:$Z,9,0))","v":0},{"$f":"IF(EB194=EC194,0,1)","v":0},null,"NO",{"$f":"IF(ISERROR(VLOOKUP($A194+8860000,'Growth Data'!$A:$Z,5,0)),\"NO\",VLOOKUP($A194+8860000,'Growth Data'!$A:$Z,5,0))","v":"NO"},{"$f":"IF(EF194=EG194,0,1)","v":0},null,0,{"$f":"IF(ISERROR(VLOOKUP($A194+8860000,'Growth Data'!$A:$Z,10,0)),0,VLOOKUP($A194+8860000,'Growth Data'!$A:$Z,10,0))","v":0},{"$f":"IF(EJ194=EK194,0,1)","v":0},null,0,{"$f":"IF(ISERROR(VLOOKUP($A194+8860000,'Growth Data'!$A:$Z,11,0)),0,VLOOKUP($A194+8860000,'Growth Data'!$A:$Z,11,0))","v":0},{"$f":"IF(EN194=EO194,0,1)","v":0}]
[3145,"Woodchurch CEP School",null,"Woodchurch CEP School","Woodchurch CEP School",0,null,478306.06,478306.06361940003,0,null,23473,23473.001771479274,0,null,0,0,0,null,38132.550000000003,38132.55098708436,0,null,120082.8,120082.8,0,null,0,0,0,null,0,0,0,null,0,0,0,null,11539,11539,0,null,0,0,0,null,0,0,0,null,0,0,0,null,671533.42,671533.41637796373,0,null,0,0,0,null,671533.42,671533.41637796373,0,null,0,null,0,null,671533.42,671533.41637796373,0,null,0,null,0,null,56832.959999999999,null,56833,null,316.7,null,317,null,0,null,0,null,0,null,0,null,0,null,0,null,0,null,0,null,0,null,0,null,0,null,0,null,"YES",{"$f":"IF(ISERROR(VLOOKUP($A195+8860000,'Growth Data'!$A:$F,3,0)),\"NO\",VLOOKUP($A195+8860000,'Growth Data'!$A:$F,3,0))","v":"NO"},1,null,20,{"$f":"IF(DI195=\"YES\",IF(ISERROR(VLOOKUP($A195+8860000,'Growth Data'!$A:$F,6,0)),0,VLOOKUP($A195+8860000,'Growth Data'!$A:$F,6,0)),0)","v":0},20,null,26,{"$f":"IF(ISERROR(VLOOKUP($A195+8860000,'Growth Data'!$A:$Z,7,0)),0,VLOOKUP($A195+8860000,'Growth Data'!$A:$Z,7,0))","v":0},1,null,"NO",{"$f":"IF(ISERROR(VLOOKUP($A195+8860000,'Growth Data'!$A:$F,4,0)),\"NO\",VLOOKUP($A195+8860000,'Growth Data'!$A:$F,4,0))","v":"NO"},0,null,0,{"$f":"IF(ISERROR(VLOOKUP($A195+8860000,'Growth Data'!$A:$Z,8,0)),0,VLOOKUP($A195+8860000,'Growth Data'!$A:$Z,8,0))","v":0},0,null,0,{"$f":"IF(ISERROR(VLOOKUP($A195+8860000,'Growth Data'!$A:$Z,9,0)),0,VLOOKUP($A195+8860000,'Growth Data'!$A:$Z,9,0))","v":0},0,null,"YES",{"$f":"IF(ISERROR(VLOOKUP($A195+8860000,'Growth Data'!$A:$Z,5,0)),\"NO\",VLOOKUP($A195+8860000,'Growth Data'!$A:$Z,5,0))","v":"NO"},1,null,21,{"$f":"IF(ISERROR(VLOOKUP($A195+8860000,'Growth Data'!$A:$Z,10,0)),0,VLOOKUP($A195+8860000,'Growth Data'!$A:$Z,10,0))","v":0},1,null,26,{"$f":"IF(ISERROR(VLOOKUP($A195+8860000,'Growth Data'!$A:$Z,11,0)),0,VLOOKUP($A195+8860000,'Growth Data'!$A:$Z,11,0))","v":0},1]
[3146,"Bodsham CEP School",null,"Bodsham CEP School","Bodsham CEP School",0,null,217161.95,217161.94842490001,0,null,880.6,880.59737325695482,0,null,573.41999999999996,573.42355845070335,0,null,8653.52,8653.5226838755916,0,null,120082.8,120082.8,0,null,23647.81,23647.814419225637,0,null,0,0,0,null,0,0,0,null,5960,5960,0,null,0,0,0,null,0,0,0,null,0,0,0,null,376960.11,376960.10645970888,0,null,0,0,0,null,376960.11,376960.10645970888,0,null,0,null,0,null,376960.11,376960.10645970888,0,null,0,null,0,null,16342.54,null,16343,null,4365.75,null,4366,null,0,null,0,null,0,null,0,null,0,null,0,null,0,null,0,null,0,null,0,null,0,null,0,null,"NO",{"$f":"IF(ISERROR(VLOOKUP($A196+8860000,'Growth Data'!$A:$F,3,0)),\"NO\",VLOOKUP($A196+8860000,'Growth Data'!$A:$F,3,0))","v":"NO"},0,null,0,{"$f":"IF(DI196=\"YES\",IF(ISERROR(VLOOKUP($A196+8860000,'Growth Data'!$A:$F,6,0)),0,VLOOKUP($A196+8860000,'Growth Data'!$A:$F,6,0)),0)","v":0},0,null,0,{"$f":"IF(ISERROR(VLOOKUP($A196+8860000,'Growth Data'!$A:$Z,7,0)),0,VLOOKUP($A196+8860000,'Growth Data'!$A:$Z,7,0))","v":0},0,null,"NO",{"$f":"IF(ISERROR(VLOOKUP($A196+8860000,'Growth Data'!$A:$F,4,0)),\"NO\",VLOOKUP($A196+8860000,'Growth Data'!$A:$F,4,0))","v":"NO"},0,null,0,{"$f":"IF(ISERROR(VLOOKUP($A196+8860000,'Growth Data'!$A:$Z,8,0)),0,VLOOKUP($A196+8860000,'Growth Data'!$A:$Z,8,0))","v":0},0,null,0,{"$f":"IF(ISERROR(VLOOKUP($A196+8860000,'Growth Data'!$A:$Z,9,0)),0,VLOOKUP($A196+8860000,'Growth Data'!$A:$Z,9,0))","v":0},0,null,"NO",{"$f":"IF(ISERROR(VLOOKUP($A196+8860000,'Growth Data'!$A:$Z,5,0)),\"NO\",VLOOKUP($A196+8860000,'Growth Data'!$A:$Z,5,0))","v":"NO"},0,null,0,{"$f":"IF(ISERROR(VLOOKUP($A196+8860000,'Growth Data'!$A:$Z,10,0)),0,VLOOKUP($A196+8860000,'Growth Data'!$A:$Z,10,0))","v":0},0,null,0,{"$f":"IF(ISERROR(VLOOKUP($A196+8860000,'Growth Data'!$A:$Z,11,0)),0,VLOOKUP($A196+8860000,'Growth Data'!$A:$Z,11,0))","v":0},0]
[3149,"St Martin's CEP School, Folkestone",null,"St Martin's CEP School, Folkestone","St Martin's CEP School, Folkestone",0,null,574517.05000000005,574517.05342789995,0,null,31197.51,31197.511440000009,0,null,3008.64,3008.6387751396596,0,null,34286.379999999997,34286.378029841886,0,null,120082.8,120082.8,0,null,0,0,0,null,0,0,0,null,0,0,0,null,19198,19198,0,null,0,0,0,null,0,0,0,null,0,0,0,null,782290.38,782290.38167288166,0,null,0,0,0,null,782290.38,782290.38167288166,0,null,0,null,0,null,782290.38,782290.38167288166,0,null,0,null,0,null,66802.06,null,66802,null,0,null,0,null,0,null,0,null,0,null,0,null,0,null,0,null,0,null,0,null,0,null,0,null,0,null,0,null,"NO",{"$f":"IF(ISERROR(VLOOKUP($A197+8860000,'Growth Data'!$A:$F,3,0)),\"NO\",VLOOKUP($A197+8860000,'Growth Data'!$A:$F,3,0))","v":"NO"},0,null,0,{"$f":"IF(DI197=\"YES\",IF(ISERROR(VLOOKUP($A197+8860000,'Growth Data'!$A:$F,6,0)),0,VLOOKUP($A197+8860000,'Growth Data'!$A:$F,6,0)),0)","v":0},0,null,0,{"$f":"IF(ISERROR(VLOOKUP($A197+8860000,'Growth Data'!$A:$Z,7,0)),0,VLOOKUP($A197+8860000,'Growth Data'!$A:$Z,7,0))","v":0},0,null,"NO",{"$f":"IF(ISERROR(VLOOKUP($A197+8860000,'Growth Data'!$A:$F,4,0)),\"NO\",VLOOKUP($A197+8860000,'Growth Data'!$A:$F,4,0))","v":"NO"},0,null,0,{"$f":"IF(ISERROR(VLOOKUP($A197+8860000,'Growth Data'!$A:$Z,8,0)),0,VLOOKUP($A197+8860000,'Growth Data'!$A:$Z,8,0))","v":0},0,null,0,{"$f":"IF(ISERROR(VLOOKUP($A197+8860000,'Growth Data'!$A:$Z,9,0)),0,VLOOKUP($A197+8860000,'Growth Data'!$A:$Z,9,0))","v":0},0,null,"NO",{"$f":"IF(ISERROR(VLOOKUP($A197+8860000,'Growth Data'!$A:$Z,5,0)),\"NO\",VLOOKUP($A197+8860000,'Growth Data'!$A:$Z,5,0))","v":"NO"},0,null,0,{"$f":"IF(ISERROR(VLOOKUP($A197+8860000,'Growth Data'!$A:$Z,10,0)),0,VLOOKUP($A197+8860000,'Growth Data'!$A:$Z,10,0))","v":0},0,null,0,{"$f":"IF(ISERROR(VLOOKUP($A197+8860000,'Growth Data'!$A:$Z,11,0)),0,VLOOKUP($A197+8860000,'Growth Data'!$A:$Z,11,0))","v":0},0]
[3150,"St Peter's CEP School, Folkestone",null,"St Peter's CEP School, Folkestone","St Peter's CEP School, Folkestone",0,null,296879.63,296879.62569479999,0,null,76831.02,76831.01568174758,0,null,2992.39,2992.3859032258097,0,null,28498.66,28498.655731713221,0,null,120082.8,120082.8,0,null,0,0,0,null,0,0,0,null,0,0,0,null,2522,2522,0,null,0,0,0,null,27480,27480,0,null,0,0,0,null,555286.48,555286.48301148659,0,null,0,0,0,null,555286.48,555286.48301148659,0,null,0,null,0,null,555286.48,555286.48301148659,0,null,0,null,0,null,99586.73,null,99587,null,0,null,0,null,0,null,0,null,0,null,0,null,0,null,0,null,0,null,0,null,0,null,0,null,0,null,0,null,"NO",{"$f":"IF(ISERROR(VLOOKUP($A198+8860000,'Growth Data'!$A:$F,3,0)),\"NO\",VLOOKUP($A198+8860000,'Growth Data'!$A:$F,3,0))","v":"NO"},0,null,0,{"$f":"IF(DI198=\"YES\",IF(ISERROR(VLOOKUP($A198+8860000,'Growth Data'!$A:$F,6,0)),0,VLOOKUP($A198+8860000,'Growth Data'!$A:$F,6,0)),0)","v":0},0,null,0,{"$f":"IF(ISERROR(VLOOKUP($A198+8860000,'Growth Data'!$A:$Z,7,0)),0,VLOOKUP($A198+8860000,'Growth Data'!$A:$Z,7,0))","v":0},0,null,"NO",{"$f":"IF(ISERROR(VLOOKUP($A198+8860000,'Growth Data'!$A:$F,4,0)),\"NO\",VLOOKUP($A198+8860000,'Growth Data'!$A:$F,4,0))","v":"NO"},0,null,0,{"$f":"IF(ISERROR(VLOOKUP($A198+8860000,'Growth Data'!$A:$Z,8,0)),0,VLOOKUP($A198+8860000,'Growth Data'!$A:$Z,8,0))","v":0},0,null,0,{"$f":"IF(ISERROR(VLOOKUP($A198+8860000,'Growth Data'!$A:$Z,9,0)),0,VLOOKUP($A198+8860000,'Growth Data'!$A:$Z,9,0))","v":0},0,null,"NO",{"$f":"IF(ISERROR(VLOOKUP($A198+8860000,'Growth Data'!$A:$Z,5,0)),\"NO\",VLOOKUP($A198+8860000,'Growth Data'!$A:$Z,5,0))","v":"NO"},0,null,0,{"$f":"IF(ISERROR(VLOOKUP($A198+8860000,'Growth Data'!$A:$Z,10,0)),0,VLOOKUP($A198+8860000,'Growth Data'!$A:$Z,10,0))","v":0},0,null,0,{"$f":"IF(ISERROR(VLOOKUP($A198+8860000,'Growth Data'!$A:$Z,11,0)),0,VLOOKUP($A198+8860000,'Growth Data'!$A:$Z,11,0))","v":0},0]
[3153,"Seabrook CEP School",null,"Seabrook CEP School","Seabrook CEP School",0,null,294130.74,294130.74027170002,0,null,23430.23,23430.231183773576,0,null,599.38,599.38067880434767,0,null,8923.6299999999992,8923.6340795028955,0,null,120082.8,120082.8,0,null,0,0,0,null,0,0,0,null,0,0,0,null,1114,1114,0,null,0,0,0,null,0,0,0,null,0,0,0,null,448280.79,448280.78621378081,0,null,0,0,0,null,448280.79,448280.78621378081,0,null,0,null,0,null,448280.79,448280.78621378081,0,null,0,null,0,null,34785.21,null,34785,null,2521.48,null,2521,null,0,null,0,null,0,null,0,null,0,null,0,null,0,null,0,null,0,null,0,null,0,null,0,null,"NO",{"$f":"IF(ISERROR(VLOOKUP($A199+8860000,'Growth Data'!$A:$F,3,0)),\"NO\",VLOOKUP($A199+8860000,'Growth Data'!$A:$F,3,0))","v":"NO"},0,null,0,{"$f":"IF(DI199=\"YES\",IF(ISERROR(VLOOKUP($A199+8860000,'Growth Data'!$A:$F,6,0)),0,VLOOKUP($A199+8860000,'Growth Data'!$A:$F,6,0)),0)","v":0},0,null,0,{"$f":"IF(ISERROR(VLOOKUP($A199+8860000,'Growth Data'!$A:$Z,7,0)),0,VLOOKUP($A199+8860000,'Growth Data'!$A:$Z,7,0))","v":0},0,null,"NO",{"$f":"IF(ISERROR(VLOOKUP($A199+8860000,'Growth Data'!$A:$F,4,0)),\"NO\",VLOOKUP($A199+8860000,'Growth Data'!$A:$F,4,0))","v":"NO"},0,null,0,{"$f":"IF(ISERROR(VLOOKUP($A199+8860000,'Growth Data'!$A:$Z,8,0)),0,VLOOKUP($A199+8860000,'Growth Data'!$A:$Z,8,0))","v":0},0,null,0,{"$f":"IF(ISERROR(VLOOKUP($A199+8860000,'Growth Data'!$A:$Z,9,0)),0,VLOOKUP($A199+8860000,'Growth Data'!$A:$Z,9,0))","v":0},0,null,"NO",{"$f":"IF(ISERROR(VLOOKUP($A199+8860000,'Growth Data'!$A:$Z,5,0)),\"NO\",VLOOKUP($A199+8860000,'Growth Data'!$A:$Z,5,0))","v":"NO"},0,null,0,{"$f":"IF(ISERROR(VLOOKUP($A199+8860000,'Growth Data'!$A:$Z,10,0)),0,VLOOKUP($A199+8860000,'Growth Data'!$A:$Z,10,0))","v":0},0,null,0,{"$f":"IF(ISERROR(VLOOKUP($A199+8860000,'Growth Data'!$A:$Z,11,0)),0,VLOOKUP($A199+8860000,'Growth Data'!$A:$Z,11,0))","v":0},0]
[3154,"Lyminge CEP School",null,"Lyminge CEP School","Lyminge CEP School",0,null,544279.31000000006,544279.31377380004,0,null,12271.82,12271.821718400006,0,null,3559.55,3559.5474174418646,0,null,15756.88,15756.881002266877,0,null,120082.8,120082.8,0,null,0,0,0,null,0,0,0,null,0,0,0,null,27720,27720,0,null,0,0,0,null,0,0,0,null,0,0,0,null,723670.36,723670.36391190882,0,null,0,0,0,null,723670.36,723670.36391190882,0,null,0,null,0,null,723670.36,723670.36391190882,0,null,0,null,0,null,35181.43,null,35181,null,2481.86,null,2482,null,0,null,0,null,0,null,0,null,0,null,0,null,0,null,0,null,0,null,0,null,0,null,0,null,"NO",{"$f":"IF(ISERROR(VLOOKUP($A200+8860000,'Growth Data'!$A:$F,3,0)),\"NO\",VLOOKUP($A200+8860000,'Growth Data'!$A:$F,3,0))","v":"NO"},0,null,0,{"$f":"IF(DI200=\"YES\",IF(ISERROR(VLOOKUP($A200+8860000,'Growth Data'!$A:$F,6,0)),0,VLOOKUP($A200+8860000,'Growth Data'!$A:$F,6,0)),0)","v":0},0,null,0,{"$f":"IF(ISERROR(VLOOKUP($A200+8860000,'Growth Data'!$A:$Z,7,0)),0,VLOOKUP($A200+8860000,'Growth Data'!$A:$Z,7,0))","v":0},0,null,"NO",{"$f":"IF(ISERROR(VLOOKUP($A200+8860000,'Growth Data'!$A:$F,4,0)),\"NO\",VLOOKUP($A200+8860000,'Growth Data'!$A:$F,4,0))","v":"NO"},0,null,0,{"$f":"IF(ISERROR(VLOOKUP($A200+8860000,'Growth Data'!$A:$Z,8,0)),0,VLOOKUP($A200+8860000,'Growth Data'!$A:$Z,8,0))","v":0},0,null,0,{"$f":"IF(ISERROR(VLOOKUP($A200+8860000,'Growth Data'!$A:$Z,9,0)),0,VLOOKUP($A200+8860000,'Growth Data'!$A:$Z,9,0))","v":0},0,null,"NO",{"$f":"IF(ISERROR(VLOOKUP($A200+8860000,'Growth Data'!$A:$Z,5,0)),\"NO\",VLOOKUP($A200+8860000,'Growth Data'!$A:$Z,5,0))","v":"NO"},0,null,0,{"$f":"IF(ISERROR(VLOOKUP($A200+8860000,'Growth Data'!$A:$Z,10,0)),0,VLOOKUP($A200+8860000,'Growth Data'!$A:$Z,10,0))","v":0},0,null,0,{"$f":"IF(ISERROR(VLOOKUP($A200+8860000,'Growth Data'!$A:$Z,11,0)),0,VLOOKUP($A200+8860000,'Growth Data'!$A:$Z,11,0))","v":0},0]
[3155,"Lympne CEP School",null,"Lympne CEP School","Lympne CEP School",0,null,560772.63,560772.62631239998,0,null,17011.509999999998,17011.510670684911,0,null,1781.91,1781.9066338983071,0,null,43522.35,43522.353563148143,0,null,120082.8,120082.8,0,null,0,0,0,null,0,0,0,null,0,0,0,null,45108,45108,0,null,0,0,0,null,0,0,0,null,0,0,0,null,788279.2,788279.19718013133,0,null,0,0,0,null,788279.2,788279.19718013133,0,null,0,null,0,null,788279.2,788279.19718013133,0,null,0,null,0,null,66349.25,null,66349,null,0,null,0,null,0,null,0,null,0,null,0,null,0,null,0,null,0,null,0,null,0,null,0,null,0,null,0,null,"NO",{"$f":"IF(ISERROR(VLOOKUP($A201+8860000,'Growth Data'!$A:$F,3,0)),\"NO\",VLOOKUP($A201+8860000,'Growth Data'!$A:$F,3,0))","v":"NO"},0,null,0,{"$f":"IF(DI201=\"YES\",IF(ISERROR(VLOOKUP($A201+8860000,'Growth Data'!$A:$F,6,0)),0,VLOOKUP($A201+8860000,'Growth Data'!$A:$F,6,0)),0)","v":0},0,null,0,{"$f":"IF(ISERROR(VLOOKUP($A201+8860000,'Growth Data'!$A:$Z,7,0)),0,VLOOKUP($A201+8860000,'Growth Data'!$A:$Z,7,0))","v":0},0,null,"NO",{"$f":"IF(ISERROR(VLOOKUP($A201+8860000,'Growth Data'!$A:$F,4,0)),\"NO\",VLOOKUP($A201+8860000,'Growth Data'!$A:$F,4,0))","v":"NO"},0,null,0,{"$f":"IF(ISERROR(VLOOKUP($A201+8860000,'Growth Data'!$A:$Z,8,0)),0,VLOOKUP($A201+8860000,'Growth Data'!$A:$Z,8,0))","v":0},0,null,0,{"$f":"IF(ISERROR(VLOOKUP($A201+8860000,'Growth Data'!$A:$Z,9,0)),0,VLOOKUP($A201+8860000,'Growth Data'!$A:$Z,9,0))","v":0},0,null,"NO",{"$f":"IF(ISERROR(VLOOKUP($A201+8860000,'Growth Data'!$A:$Z,5,0)),\"NO\",VLOOKUP($A201+8860000,'Growth Data'!$A:$Z,5,0))","v":"NO"},0,null,0,{"$f":"IF(ISERROR(VLOOKUP($A201+8860000,'Growth Data'!$A:$Z,10,0)),0,VLOOKUP($A201+8860000,'Growth Data'!$A:$Z,10,0))","v":0},0,null,0,{"$f":"IF(ISERROR(VLOOKUP($A201+8860000,'Growth Data'!$A:$Z,11,0)),0,VLOOKUP($A201+8860000,'Growth Data'!$A:$Z,11,0))","v":0},0]
[3158,"Stelling Minnis CEP School",null,"Stelling Minnis CEP School","Stelling Minnis CEP School",0,null,261144.12,261144.11519450002,0,null,7550.75,7550.7467641036437,0,null,1151.97,1151.9707823529423,0,null,16983.349999999999,16983.345760702588,0,null,120082.8,120082.8,0,null,18303.68,18303.67556742323,0,null,0,0,0,null,0,0,0,null,13871,13871,0,null,0,0,0,null,0,0,0,null,0,0,0,null,439087.65,439087.6540690824,0,null,0,0,0,null,439087.65,439087.6540690824,0,null,0,null,0,null,439087.65,439087.6540690824,0,null,0,null,0,null,28838.94,null,28839,null,3116.11,null,3116,null,0,null,0,null,0,null,0,null,0,null,0,null,0,null,0,null,0,null,0,null,0,null,0,null,"NO",{"$f":"IF(ISERROR(VLOOKUP($A202+8860000,'Growth Data'!$A:$F,3,0)),\"NO\",VLOOKUP($A202+8860000,'Growth Data'!$A:$F,3,0))","v":"NO"},0,null,0,{"$f":"IF(DI202=\"YES\",IF(ISERROR(VLOOKUP($A202+8860000,'Growth Data'!$A:$F,6,0)),0,VLOOKUP($A202+8860000,'Growth Data'!$A:$F,6,0)),0)","v":0},0,null,0,{"$f":"IF(ISERROR(VLOOKUP($A202+8860000,'Growth Data'!$A:$Z,7,0)),0,VLOOKUP($A202+8860000,'Growth Data'!$A:$Z,7,0))","v":0},0,null,"NO",{"$f":"IF(ISERROR(VLOOKUP($A202+8860000,'Growth Data'!$A:$F,4,0)),\"NO\",VLOOKUP($A202+8860000,'Growth Data'!$A:$F,4,0))","v":"NO"},0,null,0,{"$f":"IF(ISERROR(VLOOKUP($A202+8860000,'Growth Data'!$A:$Z,8,0)),0,VLOOKUP($A202+8860000,'Growth Data'!$A:$Z,8,0))","v":0},0,null,0,{"$f":"IF(ISERROR(VLOOKUP($A202+8860000,'Growth Data'!$A:$Z,9,0)),0,VLOOKUP($A202+8860000,'Growth Data'!$A:$Z,9,0))","v":0},0,null,"NO",{"$f":"IF(ISERROR(VLOOKUP($A202+8860000,'Growth Data'!$A:$Z,5,0)),\"NO\",VLOOKUP($A202+8860000,'Growth Data'!$A:$Z,5,0))","v":"NO"},0,null,0,{"$f":"IF(ISERROR(VLOOKUP($A202+8860000,'Growth Data'!$A:$Z,10,0)),0,VLOOKUP($A202+8860000,'Growth Data'!$A:$Z,10,0))","v":0},0,null,0,{"$f":"IF(ISERROR(VLOOKUP($A202+8860000,'Growth Data'!$A:$Z,11,0)),0,VLOOKUP($A202+8860000,'Growth Data'!$A:$Z,11,0))","v":0},0]
[3159,"Stowting CEP School",null,"Stowting CEP School","Stowting CEP School",0,null,261144.12,261144.11519450002,0,null,3314.16,3314.1601937500041,0,null,1112.7,1112.6990511363624,0,null,14940.24,14940.236496257117,0,null,120082.8,120082.8,0,null,0,0,0,null,0,0,0,null,0,0,0,null,13748,13748,0,null,0,0,0,null,0,0,0,null,0,0,0,null,414342.01,414342.01093564351,0,null,0,0,0,null,414342.01,414342.01093564351,0,null,0,null,0,null,414342.01,414342.01093564351,0,null,0,null,0,null,24721.49,null,24721,null,3527.85,null,3528,null,0,null,0,null,0,null,0,null,0,null,0,null,0,null,0,null,0,null,0,null,0,null,0,null,"NO",{"$f":"IF(ISERROR(VLOOKUP($A203+8860000,'Growth Data'!$A:$F,3,0)),\"NO\",VLOOKUP($A203+8860000,'Growth Data'!$A:$F,3,0))","v":"NO"},0,null,0,{"$f":"IF(DI203=\"YES\",IF(ISERROR(VLOOKUP($A203+8860000,'Growth Data'!$A:$F,6,0)),0,VLOOKUP($A203+8860000,'Growth Data'!$A:$F,6,0)),0)","v":0},0,null,0,{"$f":"IF(ISERROR(VLOOKUP($A203+8860000,'Growth Data'!$A:$Z,7,0)),0,VLOOKUP($A203+8860000,'Growth Data'!$A:$Z,7,0))","v":0},0,null,"NO",{"$f":"IF(ISERROR(VLOOKUP($A203+8860000,'Growth Data'!$A:$F,4,0)),\"NO\",VLOOKUP($A203+8860000,'Growth Data'!$A:$F,4,0))","v":"NO"},0,null,0,{"$f":"IF(ISERROR(VLOOKUP($A203+8860000,'Growth Data'!$A:$Z,8,0)),0,VLOOKUP($A203+8860000,'Growth Data'!$A:$Z,8,0))","v":0},0,null,0,{"$f":"IF(ISERROR(VLOOKUP($A203+8860000,'Growth Data'!$A:$Z,9,0)),0,VLOOKUP($A203+8860000,'Growth Data'!$A:$Z,9,0))","v":0},0,null,"NO",{"$f":"IF(ISERROR(VLOOKUP($A203+8860000,'Growth Data'!$A:$Z,5,0)),\"NO\",VLOOKUP($A203+8860000,'Growth Data'!$A:$Z,5,0))","v":"NO"},0,null,0,{"$f":"IF(ISERROR(VLOOKUP($A203+8860000,'Growth Data'!$A:$Z,10,0)),0,VLOOKUP($A203+8860000,'Growth Data'!$A:$Z,10,0))","v":0},0,null,0,{"$f":"IF(ISERROR(VLOOKUP($A203+8860000,'Growth Data'!$A:$Z,11,0)),0,VLOOKUP($A203+8860000,'Growth Data'!$A:$Z,11,0))","v":0},0]
[3160,"Selsted CEP School",null,"Selsted CEP School","Selsted CEP School",0,null,277637.43,277637.42773310002,0,null,12666.73,12666.734019999991,0,null,605.24,605.2429110465124,0,null,17238.27,17238.265528933185,0,null,120082.8,120082.8,0,null,16299.62,16299.623497997331,0,null,0,0,0,null,0,0,0,null,10802,10802,0,null,0,0,0,null,0,0,0,null,0,0,0,null,455332.09,455332.09369107703,0,null,0,0,0,null,455332.09,455332.09369107703,0,null,0,null,0,null,455332.09,455332.09369107703,0,null,0,null,0,null,34984.03,null,34984,null,2501.6,null,2502,null,0,null,0,null,0,null,0,null,0,null,0,null,0,null,0,null,0,null,0,null,0,null,0,null,"NO",{"$f":"IF(ISERROR(VLOOKUP($A204+8860000,'Growth Data'!$A:$F,3,0)),\"NO\",VLOOKUP($A204+8860000,'Growth Data'!$A:$F,3,0))","v":"NO"},0,null,0,{"$f":"IF(DI204=\"YES\",IF(ISERROR(VLOOKUP($A204+8860000,'Growth Data'!$A:$F,6,0)),0,VLOOKUP($A204+8860000,'Growth Data'!$A:$F,6,0)),0)","v":0},0,null,0,{"$f":"IF(ISERROR(VLOOKUP($A204+8860000,'Growth Data'!$A:$Z,7,0)),0,VLOOKUP($A204+8860000,'Growth Data'!$A:$Z,7,0))","v":0},0,null,"NO",{"$f":"IF(ISERROR(VLOOKUP($A204+8860000,'Growth Data'!$A:$F,4,0)),\"NO\",VLOOKUP($A204+8860000,'Growth Data'!$A:$F,4,0))","v":"NO"},0,null,0,{"$f":"IF(ISERROR(VLOOKUP($A204+8860000,'Growth Data'!$A:$Z,8,0)),0,VLOOKUP($A204+8860000,'Growth Data'!$A:$Z,8,0))","v":0},0,null,0,{"$f":"IF(ISERROR(VLOOKUP($A204+8860000,'Growth Data'!$A:$Z,9,0)),0,VLOOKUP($A204+8860000,'Growth Data'!$A:$Z,9,0))","v":0},0,null,"NO",{"$f":"IF(ISERROR(VLOOKUP($A204+8860000,'Growth Data'!$A:$Z,5,0)),\"NO\",VLOOKUP($A204+8860000,'Growth Data'!$A:$Z,5,0))","v":"NO"},0,null,0,{"$f":"IF(ISERROR(VLOOKUP($A204+8860000,'Growth Data'!$A:$Z,10,0)),0,VLOOKUP($A204+8860000,'Growth Data'!$A:$Z,10,0))","v":0},0,null,0,{"$f":"IF(ISERROR(VLOOKUP($A204+8860000,'Growth Data'!$A:$Z,11,0)),0,VLOOKUP($A204+8860000,'Growth Data'!$A:$Z,11,0))","v":0},0]
[3163,"Downs CEP School, The",null,"Downs CEP School, The","Downs CEP School, The",0,null,1066567.54,1066567.5441628001,0,null,133598.93,133598.92885862588,0,null,596.89,596.88918149253698,0,null,96352.37,96352.370175850985,0,null,120082.8,120082.8,0,null,0,0,0,null,0,0,0,null,0,0,0,null,39933,39933,0,null,0,0,0,null,0,0,0,null,0,0,0,null,1457131.53,1457131.5323787697,0,null,0,0,0,null,1457131.53,1457131.5323787697,0,null,0,null,0,null,1457131.53,1457131.5323787697,0,null,0,null,0,null,198476.78,null,198477,null,0,null,0,null,0,null,0,null,0,null,0,null,0,null,0,null,0,null,0,null,0,null,0,null,0,null,0,null,"NO",{"$f":"IF(ISERROR(VLOOKUP($A205+8860000,'Growth Data'!$A:$F,3,0)),\"NO\",VLOOKUP($A205+8860000,'Growth Data'!$A:$F,3,0))","v":"NO"},0,null,0,{"$f":"IF(DI205=\"YES\",IF(ISERROR(VLOOKUP($A205+8860000,'Growth Data'!$A:$F,6,0)),0,VLOOKUP($A205+8860000,'Growth Data'!$A:$F,6,0)),0)","v":0},0,null,0,{"$f":"IF(ISERROR(VLOOKUP($A205+8860000,'Growth Data'!$A:$Z,7,0)),0,VLOOKUP($A205+8860000,'Growth Data'!$A:$Z,7,0))","v":0},0,null,"NO",{"$f":"IF(ISERROR(VLOOKUP($A205+8860000,'Growth Data'!$A:$F,4,0)),\"NO\",VLOOKUP($A205+8860000,'Growth Data'!$A:$F,4,0))","v":"NO"},0,null,0,{"$f":"IF(ISERROR(VLOOKUP($A205+8860000,'Growth Data'!$A:$Z,8,0)),0,VLOOKUP($A205+8860000,'Growth Data'!$A:$Z,8,0))","v":0},0,null,0,{"$f":"IF(ISERROR(VLOOKUP($A205+8860000,'Growth Data'!$A:$Z,9,0)),0,VLOOKUP($A205+8860000,'Growth Data'!$A:$Z,9,0))","v":0},0,null,"NO",{"$f":"IF(ISERROR(VLOOKUP($A205+8860000,'Growth Data'!$A:$Z,5,0)),\"NO\",VLOOKUP($A205+8860000,'Growth Data'!$A:$Z,5,0))","v":"NO"},0,null,0,{"$f":"IF(ISERROR(VLOOKUP($A205+8860000,'Growth Data'!$A:$Z,10,0)),0,VLOOKUP($A205+8860000,'Growth Data'!$A:$Z,10,0))","v":0},0,null,0,{"$f":"IF(ISERROR(VLOOKUP($A205+8860000,'Growth Data'!$A:$Z,11,0)),0,VLOOKUP($A205+8860000,'Growth Data'!$A:$Z,11,0))","v":0},0]
[3167,"Eastry CEP School",null,"Eastry CEP School","Eastry CEP School",0,null,547028.19999999995,547028.19919690001,0,null,32578,32577.998202790688,0,null,2317.64,2317.6432689265566,0,null,36511.839999999997,36511.841121554724,0,null,120082.8,120082.8,0,null,0,0,0,null,0,0,0,null,0,0,0,null,13409,13409,0,null,0,0,0,null,0,0,0,null,0,0,0,null,751927.48,751927.48179017205,0,null,0,0,0,null,751927.48,751927.48179017205,0,null,0,null,0,null,751927.48,751927.48179017205,0,null,0,null,0,null,64433.37,null,64433,null,0,null,0,null,0,null,0,null,0,null,0,null,0,null,0,null,0,null,0,null,0,null,0,null,0,null,0,null,"NO",{"$f":"IF(ISERROR(VLOOKUP($A206+8860000,'Growth Data'!$A:$F,3,0)),\"NO\",VLOOKUP($A206+8860000,'Growth Data'!$A:$F,3,0))","v":"NO"},0,null,0,{"$f":"IF(DI206=\"YES\",IF(ISERROR(VLOOKUP($A206+8860000,'Growth Data'!$A:$F,6,0)),0,VLOOKUP($A206+8860000,'Growth Data'!$A:$F,6,0)),0)","v":0},0,null,0,{"$f":"IF(ISERROR(VLOOKUP($A206+8860000,'Growth Data'!$A:$Z,7,0)),0,VLOOKUP($A206+8860000,'Growth Data'!$A:$Z,7,0))","v":0},0,null,"NO",{"$f":"IF(ISERROR(VLOOKUP($A206+8860000,'Growth Data'!$A:$F,4,0)),\"NO\",VLOOKUP($A206+8860000,'Growth Data'!$A:$F,4,0))","v":"NO"},0,null,0,{"$f":"IF(ISERROR(VLOOKUP($A206+8860000,'Growth Data'!$A:$Z,8,0)),0,VLOOKUP($A206+8860000,'Growth Data'!$A:$Z,8,0))","v":0},0,null,0,{"$f":"IF(ISERROR(VLOOKUP($A206+8860000,'Growth Data'!$A:$Z,9,0)),0,VLOOKUP($A206+8860000,'Growth Data'!$A:$Z,9,0))","v":0},0,null,"NO",{"$f":"IF(ISERROR(VLOOKUP($A206+8860000,'Growth Data'!$A:$Z,5,0)),\"NO\",VLOOKUP($A206+8860000,'Growth Data'!$A:$Z,5,0))","v":"NO"},0,null,0,{"$f":"IF(ISERROR(VLOOKUP($A206+8860000,'Growth Data'!$A:$Z,10,0)),0,VLOOKUP($A206+8860000,'Growth Data'!$A:$Z,10,0))","v":0},0,null,0,{"$f":"IF(ISERROR(VLOOKUP($A206+8860000,'Growth Data'!$A:$Z,11,0)),0,VLOOKUP($A206+8860000,'Growth Data'!$A:$Z,11,0))","v":0},0]
[3168,"Goodnestone CEP School",null,"Goodnestone CEP School","Goodnestone CEP School",0,null,115453.19,115453.18777020001,0,null,9085.61,9085.6102029090925,0,null,0,0,0,null,13210.31,13210.314375637903,0,null,120082.8,120082.8,0,null,0,0,0,null,0,0,0,null,0,0,0,null,3068,3068,0,null,0,0,0,null,0,0,0,null,0,0,0,null,260899.91,260899.91234874702,0,null,0,0,0,null,260899.91,260899.91234874702,0,null,0,null,0,null,260899.91,260899.91234874702,0,null,0,null,0,null,26329.41,null,26329,null,3367.06,null,3367,null,0,null,0,null,0,null,0,null,0,null,0,null,0,null,0,null,0,null,0,null,0,null,0,null,"NO",{"$f":"IF(ISERROR(VLOOKUP($A207+8860000,'Growth Data'!$A:$F,3,0)),\"NO\",VLOOKUP($A207+8860000,'Growth Data'!$A:$F,3,0))","v":"NO"},0,null,0,{"$f":"IF(DI207=\"YES\",IF(ISERROR(VLOOKUP($A207+8860000,'Growth Data'!$A:$F,6,0)),0,VLOOKUP($A207+8860000,'Growth Data'!$A:$F,6,0)),0)","v":0},0,null,0,{"$f":"IF(ISERROR(VLOOKUP($A207+8860000,'Growth Data'!$A:$Z,7,0)),0,VLOOKUP($A207+8860000,'Growth Data'!$A:$Z,7,0))","v":0},0,null,"NO",{"$f":"IF(ISERROR(VLOOKUP($A207+8860000,'Growth Data'!$A:$F,4,0)),\"NO\",VLOOKUP($A207+8860000,'Growth Data'!$A:$F,4,0))","v":"NO"},0,null,0,{"$f":"IF(ISERROR(VLOOKUP($A207+8860000,'Growth Data'!$A:$Z,8,0)),0,VLOOKUP($A207+8860000,'Growth Data'!$A:$Z,8,0))","v":0},0,null,0,{"$f":"IF(ISERROR(VLOOKUP($A207+8860000,'Growth Data'!$A:$Z,9,0)),0,VLOOKUP($A207+8860000,'Growth Data'!$A:$Z,9,0))","v":0},0,null,"NO",{"$f":"IF(ISERROR(VLOOKUP($A207+8860000,'Growth Data'!$A:$Z,5,0)),\"NO\",VLOOKUP($A207+8860000,'Growth Data'!$A:$Z,5,0))","v":"NO"},0,null,0,{"$f":"IF(ISERROR(VLOOKUP($A207+8860000,'Growth Data'!$A:$Z,10,0)),0,VLOOKUP($A207+8860000,'Growth Data'!$A:$Z,10,0))","v":0},0,null,0,{"$f":"IF(ISERROR(VLOOKUP($A207+8860000,'Growth Data'!$A:$Z,11,0)),0,VLOOKUP($A207+8860000,'Growth Data'!$A:$Z,11,0))","v":0},0]
[3169,"Guston CEP School",null,"Guston CEP School","Guston CEP School",0,null,428826.13,428826.12600360002,0,null,14896.06,14896.064300689655,0,null,29291.360000000001,29291.359893023269,0,null,26795.39,26795.389442783198,0,null,120082.8,120082.8,0,null,0,0,0,null,0,0,0,null,0,0,0,null,19149,19149,0,null,0,0,0,null,0,0,0,null,0,0,0,null,639040.74,639040.7396400962,0,null,21027.3,21027.302058688016,0,null,660068.04,660068.04169878422,0,null,0,null,0,null,660068.04,660068.04169878422,0,null,0,null,0,null,74575.990000000005,null,74576,null,0,null,0,null,0,null,0,null,0,null,0,null,0,null,0,null,0,null,0,null,0,null,0,null,0,null,0,null,"NO",{"$f":"IF(ISERROR(VLOOKUP($A208+8860000,'Growth Data'!$A:$F,3,0)),\"NO\",VLOOKUP($A208+8860000,'Growth Data'!$A:$F,3,0))","v":"NO"},0,null,0,{"$f":"IF(DI208=\"YES\",IF(ISERROR(VLOOKUP($A208+8860000,'Growth Data'!$A:$F,6,0)),0,VLOOKUP($A208+8860000,'Growth Data'!$A:$F,6,0)),0)","v":0},0,null,0,{"$f":"IF(ISERROR(VLOOKUP($A208+8860000,'Growth Data'!$A:$Z,7,0)),0,VLOOKUP($A208+8860000,'Growth Data'!$A:$Z,7,0))","v":0},0,null,"NO",{"$f":"IF(ISERROR(VLOOKUP($A208+8860000,'Growth Data'!$A:$F,4,0)),\"NO\",VLOOKUP($A208+8860000,'Growth Data'!$A:$F,4,0))","v":"NO"},0,null,0,{"$f":"IF(ISERROR(VLOOKUP($A208+8860000,'Growth Data'!$A:$Z,8,0)),0,VLOOKUP($A208+8860000,'Growth Data'!$A:$Z,8,0))","v":0},0,null,0,{"$f":"IF(ISERROR(VLOOKUP($A208+8860000,'Growth Data'!$A:$Z,9,0)),0,VLOOKUP($A208+8860000,'Growth Data'!$A:$Z,9,0))","v":0},0,null,"NO",{"$f":"IF(ISERROR(VLOOKUP($A208+8860000,'Growth Data'!$A:$Z,5,0)),\"NO\",VLOOKUP($A208+8860000,'Growth Data'!$A:$Z,5,0))","v":"NO"},0,null,0,{"$f":"IF(ISERROR(VLOOKUP($A208+8860000,'Growth Data'!$A:$Z,10,0)),0,VLOOKUP($A208+8860000,'Growth Data'!$A:$Z,10,0))","v":0},0,null,0,{"$f":"IF(ISERROR(VLOOKUP($A208+8860000,'Growth Data'!$A:$Z,11,0)),0,VLOOKUP($A208+8860000,'Growth Data'!$A:$Z,11,0))","v":0},0]
[3171,"Nonington CEP School",null,"Nonington CEP School","Nonington CEP School",0,null,142942.04,142942.0420012,0,null,15314.56,15314.559760000002,0,null,0,0,0,null,13803.69,13803.685470524681,0,null,120082.8,120082.8,0,null,0,0,0,null,0,0,0,null,0,0,0,null,9452,9452,0,null,0,0,0,null,0,0,0,null,0,0,0,null,301595.09000000003,301595.0872317247,0,null,1026.47,1026.465854246344,0,null,302621.55,302621.55308597104,0,null,0,null,0,null,302621.55,302621.55308597104,0,null,0,null,0,null,33151.730000000003,null,33152,null,2684.83,null,2685,null,0,null,0,null,0,null,0,null,0,null,0,null,0,null,0,null,0,null,0,null,0,null,0,null,"NO",{"$f":"IF(ISERROR(VLOOKUP($A209+8860000,'Growth Data'!$A:$F,3,0)),\"NO\",VLOOKUP($A209+8860000,'Growth Data'!$A:$F,3,0))","v":"NO"},0,null,0,{"$f":"IF(DI209=\"YES\",IF(ISERROR(VLOOKUP($A209+8860000,'Growth Data'!$A:$F,6,0)),0,VLOOKUP($A209+8860000,'Growth Data'!$A:$F,6,0)),0)","v":0},0,null,0,{"$f":"IF(ISERROR(VLOOKUP($A209+8860000,'Growth Data'!$A:$Z,7,0)),0,VLOOKUP($A209+8860000,'Growth Data'!$A:$Z,7,0))","v":0},0,null,"NO",{"$f":"IF(ISERROR(VLOOKUP($A209+8860000,'Growth Data'!$A:$F,4,0)),\"NO\",VLOOKUP($A209+8860000,'Growth Data'!$A:$F,4,0))","v":"NO"},0,null,0,{"$f":"IF(ISERROR(VLOOKUP($A209+8860000,'Growth Data'!$A:$Z,8,0)),0,VLOOKUP($A209+8860000,'Growth Data'!$A:$Z,8,0))","v":0},0,null,0,{"$f":"IF(ISERROR(VLOOKUP($A209+8860000,'Growth Data'!$A:$Z,9,0)),0,VLOOKUP($A209+8860000,'Growth Data'!$A:$Z,9,0))","v":0},0,null,"NO",{"$f":"IF(ISERROR(VLOOKUP($A209+8860000,'Growth Data'!$A:$Z,5,0)),\"NO\",VLOOKUP($A209+8860000,'Growth Data'!$A:$Z,5,0))","v":"NO"},0,null,0,{"$f":"IF(ISERROR(VLOOKUP($A209+8860000,'Growth Data'!$A:$Z,10,0)),0,VLOOKUP($A209+8860000,'Growth Data'!$A:$Z,10,0))","v":0},0,null,0,{"$f":"IF(ISERROR(VLOOKUP($A209+8860000,'Growth Data'!$A:$Z,11,0)),0,VLOOKUP($A209+8860000,'Growth Data'!$A:$Z,11,0))","v":0},0]
[3172,"Northbourne CEP School",null,"Northbourne CEP School","Northbourne CEP School",0,null,340861.79,340861.7924644,0,null,12548.65,12548.652599999996,0,null,0,0,0,null,12250.59,12250.590681681326,0,null,120082.8,120082.8,0,null,0,0,0,null,0,0,0,null,0,0,0,null,19272,19272,0,null,0,0,0,null,0,0,0,null,0,0,0,null,505015.84,505015.83574608131,0,null,0,0,0,null,505015.84,505015.83574608131,0,null,0,null,0,null,505015.84,505015.83574608131,0,null,0,null,0,null,27511.81,null,27512,null,3248.82,null,3249,null,0,null,0,null,0,null,0,null,0,null,0,null,0,null,0,null,0,null,0,null,0,null,0,null,"NO",{"$f":"IF(ISERROR(VLOOKUP($A210+8860000,'Growth Data'!$A:$F,3,0)),\"NO\",VLOOKUP($A210+8860000,'Growth Data'!$A:$F,3,0))","v":"NO"},0,null,0,{"$f":"IF(DI210=\"YES\",IF(ISERROR(VLOOKUP($A210+8860000,'Growth Data'!$A:$F,6,0)),0,VLOOKUP($A210+8860000,'Growth Data'!$A:$F,6,0)),0)","v":0},0,null,0,{"$f":"IF(ISERROR(VLOOKUP($A210+8860000,'Growth Data'!$A:$Z,7,0)),0,VLOOKUP($A210+8860000,'Growth Data'!$A:$Z,7,0))","v":0},0,null,"NO",{"$f":"IF(ISERROR(VLOOKUP($A210+8860000,'Growth Data'!$A:$F,4,0)),\"NO\",VLOOKUP($A210+8860000,'Growth Data'!$A:$F,4,0))","v":"NO"},0,null,0,{"$f":"IF(ISERROR(VLOOKUP($A210+8860000,'Growth Data'!$A:$Z,8,0)),0,VLOOKUP($A210+8860000,'Growth Data'!$A:$Z,8,0))","v":0},0,null,0,{"$f":"IF(ISERROR(VLOOKUP($A210+8860000,'Growth Data'!$A:$Z,9,0)),0,VLOOKUP($A210+8860000,'Growth Data'!$A:$Z,9,0))","v":0},0,null,"NO",{"$f":"IF(ISERROR(VLOOKUP($A210+8860000,'Growth Data'!$A:$Z,5,0)),\"NO\",VLOOKUP($A210+8860000,'Growth Data'!$A:$Z,5,0))","v":"NO"},0,null,0,{"$f":"IF(ISERROR(VLOOKUP($A210+8860000,'Growth Data'!$A:$Z,10,0)),0,VLOOKUP($A210+8860000,'Growth Data'!$A:$Z,10,0))","v":0},0,null,0,{"$f":"IF(ISERROR(VLOOKUP($A210+8860000,'Growth Data'!$A:$Z,11,0)),0,VLOOKUP($A210+8860000,'Growth Data'!$A:$Z,11,0))","v":0},0]
[3173,"Kingsdown & Ringwould CEP School",null,"Kingsdown & Ringwould CEP School","Kingsdown & Ringwould CEP School",0,null,585512.6,585512.59512029996,0,null,21427.73,21427.733845753424,0,null,3599.04,3599.0390016393403,0,null,20959.38,20959.381467492552,0,null,120082.8,120082.8,0,null,0,0,0,null,0,0,0,null,0,0,0,null,20254,20254,0,null,0,0,0,null,0,0,0,null,0,0,0,null,771835.55,771835.54943518538,0,null,0,0,0,null,771835.55,771835.54943518538,0,null,0,null,0,null,771835.55,771835.54943518538,0,null,0,null,0,null,44735.99,null,44736,null,1526.4,null,1526,null,0,null,0,null,0,null,0,null,0,null,0,null,0,null,0,null,0,null,0,null,0,null,0,null,"NO",{"$f":"IF(ISERROR(VLOOKUP($A211+8860000,'Growth Data'!$A:$F,3,0)),\"NO\",VLOOKUP($A211+8860000,'Growth Data'!$A:$F,3,0))","v":"NO"},0,null,0,{"$f":"IF(DI211=\"YES\",IF(ISERROR(VLOOKUP($A211+8860000,'Growth Data'!$A:$F,6,0)),0,VLOOKUP($A211+8860000,'Growth Data'!$A:$F,6,0)),0)","v":0},0,null,0,{"$f":"IF(ISERROR(VLOOKUP($A211+8860000,'Growth Data'!$A:$Z,7,0)),0,VLOOKUP($A211+8860000,'Growth Data'!$A:$Z,7,0))","v":0},0,null,"NO",{"$f":"IF(ISERROR(VLOOKUP($A211+8860000,'Growth Data'!$A:$F,4,0)),\"NO\",VLOOKUP($A211+8860000,'Growth Data'!$A:$F,4,0))","v":"NO"},0,null,0,{"$f":"IF(ISERROR(VLOOKUP($A211+8860000,'Growth Data'!$A:$Z,8,0)),0,VLOOKUP($A211+8860000,'Growth Data'!$A:$Z,8,0))","v":0},0,null,0,{"$f":"IF(ISERROR(VLOOKUP($A211+8860000,'Growth Data'!$A:$Z,9,0)),0,VLOOKUP($A211+8860000,'Growth Data'!$A:$Z,9,0))","v":0},0,null,"NO",{"$f":"IF(ISERROR(VLOOKUP($A211+8860000,'Growth Data'!$A:$Z,5,0)),\"NO\",VLOOKUP($A211+8860000,'Growth Data'!$A:$Z,5,0))","v":"NO"},0,null,0,{"$f":"IF(ISERROR(VLOOKUP($A211+8860000,'Growth Data'!$A:$Z,10,0)),0,VLOOKUP($A211+8860000,'Growth Data'!$A:$Z,10,0))","v":0},0,null,0,{"$f":"IF(ISERROR(VLOOKUP($A211+8860000,'Growth Data'!$A:$Z,11,0)),0,VLOOKUP($A211+8860000,'Growth Data'!$A:$Z,11,0))","v":0},0]
[3175,"Sibertswold CEP School",null,"Sibertswold CEP School","Sibertswold CEP School",0,null,566270.4,566270.39715860004,0,null,29641.57,29641.569014782588,0,null,4198.54,4198.5447158192137,0,null,16414.34,16414.339830554574,0,null,120082.8,120082.8,0,null,0,0,0,null,0,0,0,null,0,0,0,null,26712,26712,0,null,0,0,0,null,0,0,0,null,0,0,0,null,763319.65,763319.65071975638,0,null,0,0,0,null,763319.65,763319.65071975638,0,null,0,null,0,null,763319.65,763319.65071975638,0,null,0,null,0,null,52086.42,null,52086,null,791.36,null,791,null,0,null,0,null,0,null,0,null,0,null,0,null,0,null,0,null,0,null,0,null,0,null,0,null,"NO",{"$f":"IF(ISERROR(VLOOKUP($A212+8860000,'Growth Data'!$A:$F,3,0)),\"NO\",VLOOKUP($A212+8860000,'Growth Data'!$A:$F,3,0))","v":"NO"},0,null,0,{"$f":"IF(DI212=\"YES\",IF(ISERROR(VLOOKUP($A212+8860000,'Growth Data'!$A:$F,6,0)),0,VLOOKUP($A212+8860000,'Growth Data'!$A:$F,6,0)),0)","v":0},0,null,0,{"$f":"IF(ISERROR(VLOOKUP($A212+8860000,'Growth Data'!$A:$Z,7,0)),0,VLOOKUP($A212+8860000,'Growth Data'!$A:$Z,7,0))","v":0},0,null,"NO",{"$f":"IF(ISERROR(VLOOKUP($A212+8860000,'Growth Data'!$A:$F,4,0)),\"NO\",VLOOKUP($A212+8860000,'Growth Data'!$A:$F,4,0))","v":"NO"},0,null,0,{"$f":"IF(ISERROR(VLOOKUP($A212+8860000,'Growth Data'!$A:$Z,8,0)),0,VLOOKUP($A212+8860000,'Growth Data'!$A:$Z,8,0))","v":0},0,null,0,{"$f":"IF(ISERROR(VLOOKUP($A212+8860000,'Growth Data'!$A:$Z,9,0)),0,VLOOKUP($A212+8860000,'Growth Data'!$A:$Z,9,0))","v":0},0,null,"NO",{"$f":"IF(ISERROR(VLOOKUP($A212+8860000,'Growth Data'!$A:$Z,5,0)),\"NO\",VLOOKUP($A212+8860000,'Growth Data'!$A:$Z,5,0))","v":"NO"},0,null,0,{"$f":"IF(ISERROR(VLOOKUP($A212+8860000,'Growth Data'!$A:$Z,10,0)),0,VLOOKUP($A212+8860000,'Growth Data'!$A:$Z,10,0))","v":0},0,null,0,{"$f":"IF(ISERROR(VLOOKUP($A212+8860000,'Growth Data'!$A:$Z,11,0)),0,VLOOKUP($A212+8860000,'Growth Data'!$A:$Z,11,0))","v":0},0]
[3178,"Birchington CEP School",null,"Birchington CEP School","Birchington CEP School",0,null,1283729.49,1283729.4925877,0,null,103960.42,103960.42236043478,0,null,5511.55,5511.548437786254,0,null,99189.25,99189.245349320176,0,null,120082.8,120082.8,0,null,0,0,0,null,0,0,0,null,0,0,0,null,66024,66024,0,null,0,0,0,null,0,0,0,null,0,0,0,null,1678497.51,1678497.5087352411,0,null,0,0,0,null,1678497.51,1678497.5087352411,0,null,0,null,0,null,1678497.51,1678497.5087352411,0,null,0,null,0,null,186716.79,null,186717,null,0,null,0,null,0,null,0,null,0,null,0,null,0,null,0,null,0,null,0,null,0,null,0,null,0,null,0,null,"NO",{"$f":"IF(ISERROR(VLOOKUP($A213+8860000,'Growth Data'!$A:$F,3,0)),\"NO\",VLOOKUP($A213+8860000,'Growth Data'!$A:$F,3,0))","v":"YES"},1,null,0,{"$f":"IF(DI213=\"YES\",IF(ISERROR(VLOOKUP($A213+8860000,'Growth Data'!$A:$F,6,0)),0,VLOOKUP($A213+8860000,'Growth Data'!$A:$F,6,0)),0)","v":60},-60,null,0,{"$f":"IF(ISERROR(VLOOKUP($A213+8860000,'Growth Data'!$A:$Z,7,0)),0,VLOOKUP($A213+8860000,'Growth Data'!$A:$Z,7,0))","v":90},1,null,"YES",{"$f":"IF(ISERROR(VLOOKUP($A213+8860000,'Growth Data'!$A:$F,4,0)),\"NO\",VLOOKUP($A213+8860000,'Growth Data'!$A:$F,4,0))","v":"YES"},0,null,61,{"$f":"IF(ISERROR(VLOOKUP($A213+8860000,'Growth Data'!$A:$Z,8,0)),0,VLOOKUP($A213+8860000,'Growth Data'!$A:$Z,8,0))","v":62},1,null,90,{"$f":"IF(ISERROR(VLOOKUP($A213+8860000,'Growth Data'!$A:$Z,9,0)),0,VLOOKUP($A213+8860000,'Growth Data'!$A:$Z,9,0))","v":90},0,null,"YES",{"$f":"IF(ISERROR(VLOOKUP($A213+8860000,'Growth Data'!$A:$Z,5,0)),\"NO\",VLOOKUP($A213+8860000,'Growth Data'!$A:$Z,5,0))","v":"YES"},0,null,63,{"$f":"IF(ISERROR(VLOOKUP($A213+8860000,'Growth Data'!$A:$Z,10,0)),0,VLOOKUP($A213+8860000,'Growth Data'!$A:$Z,10,0))","v":60},1,null,90,{"$f":"IF(ISERROR(VLOOKUP($A213+8860000,'Growth Data'!$A:$Z,11,0)),0,VLOOKUP($A213+8860000,'Growth Data'!$A:$Z,11,0))","v":90},0]
[3179,"Holy Trinity & St John's CEP School, Margate",null,"Holy Trinity & St John's CEP School, Margate","Holy Trinity & St John's CEP School, Margate",0,null,1074814.2,1074814.2004321001,0,null,266217.15999999997,266217.16318400018,0,null,30953.919999999998,30953.918778162591,0,null,130941.72,130941.7191375932,0,null,120082.8,120082.8,0,null,0,0,0,null,0,0,0,null,0,0,0,null,30996,30996,0,null,0,0,0,null,0,0,0,null,0,0,0,null,1654005.8,1654005.8015318562,0,null,0,0,0,null,1654005.8,1654005.8015318562,0,null,0,null,0,null,1654005.8,1654005.8015318562,0,null,4.9000000000000004,null,5,null,385033.8,null,385034,null,0,null,0,null,0,null,0,null,0,null,0,null,0,null,0,null,0,null,0,null,0,null,0,null,0,null,0,null,"NO",{"$f":"IF(ISERROR(VLOOKUP($A214+8860000,'Growth Data'!$A:$F,3,0)),\"NO\",VLOOKUP($A214+8860000,'Growth Data'!$A:$F,3,0))","v":"NO"},0,null,0,{"$f":"IF(DI214=\"YES\",IF(ISERROR(VLOOKUP($A214+8860000,'Growth Data'!$A:$F,6,0)),0,VLOOKUP($A214+8860000,'Growth Data'!$A:$F,6,0)),0)","v":0},0,null,0,{"$f":"IF(ISERROR(VLOOKUP($A214+8860000,'Growth Data'!$A:$Z,7,0)),0,VLOOKUP($A214+8860000,'Growth Data'!$A:$Z,7,0))","v":0},0,null,"NO",{"$f":"IF(ISERROR(VLOOKUP($A214+8860000,'Growth Data'!$A:$F,4,0)),\"NO\",VLOOKUP($A214+8860000,'Growth Data'!$A:$F,4,0))","v":"NO"},0,null,0,{"$f":"IF(ISERROR(VLOOKUP($A214+8860000,'Growth Data'!$A:$Z,8,0)),0,VLOOKUP($A214+8860000,'Growth Data'!$A:$Z,8,0))","v":0},0,null,0,{"$f":"IF(ISERROR(VLOOKUP($A214+8860000,'Growth Data'!$A:$Z,9,0)),0,VLOOKUP($A214+8860000,'Growth Data'!$A:$Z,9,0))","v":0},0,null,"NO",{"$f":"IF(ISERROR(VLOOKUP($A214+8860000,'Growth Data'!$A:$Z,5,0)),\"NO\",VLOOKUP($A214+8860000,'Growth Data'!$A:$Z,5,0))","v":"NO"},0,null,0,{"$f":"IF(ISERROR(VLOOKUP($A214+8860000,'Growth Data'!$A:$Z,10,0)),0,VLOOKUP($A214+8860000,'Growth Data'!$A:$Z,10,0))","v":0},0,null,0,{"$f":"IF(ISERROR(VLOOKUP($A214+8860000,'Growth Data'!$A:$Z,11,0)),0,VLOOKUP($A214+8860000,'Growth Data'!$A:$Z,11,0))","v":0},0]
[3181,"St Saviour's CEJ School",null,"St Saviour's CEJ School","St Saviour's CEJ School",0,null,1041827.58,1041827.5753549,0,null,73827.45,73827.451270909092,0,null,2583.59,2583.5936197089895,0,null,88194.06,88194.063589116282,0,null,120082.8,120082.8,0,null,0,0,0,null,0,0,0,null,0,0,0,null,49366,49366,0,null,0,0,0,null,0,0,0,null,0,0,0,null,1375881.48,1375881.4838346343,0,null,0,0,0,null,1375881.48,1375881.4838346343,0,null,0,null,0,null,1375881.48,1375881.4838346343,0,null,0,null,0,null,154548.88,null,154549,null,0,null,0,null,0,null,0,null,0,null,0,null,0,null,0,null,0,null,0,null,0,null,0,null,0,null,0,null,"NO",{"$f":"IF(ISERROR(VLOOKUP($A215+8860000,'Growth Data'!$A:$F,3,0)),\"NO\",VLOOKUP($A215+8860000,'Growth Data'!$A:$F,3,0))","v":"NO"},0,null,0,{"$f":"IF(DI215=\"YES\",IF(ISERROR(VLOOKUP($A215+8860000,'Growth Data'!$A:$F,6,0)),0,VLOOKUP($A215+8860000,'Growth Data'!$A:$F,6,0)),0)","v":0},0,null,0,{"$f":"IF(ISERROR(VLOOKUP($A215+8860000,'Growth Data'!$A:$Z,7,0)),0,VLOOKUP($A215+8860000,'Growth Data'!$A:$Z,7,0))","v":0},0,null,"NO",{"$f":"IF(ISERROR(VLOOKUP($A215+8860000,'Growth Data'!$A:$F,4,0)),\"NO\",VLOOKUP($A215+8860000,'Growth Data'!$A:$F,4,0))","v":"NO"},0,null,0,{"$f":"IF(ISERROR(VLOOKUP($A215+8860000,'Growth Data'!$A:$Z,8,0)),0,VLOOKUP($A215+8860000,'Growth Data'!$A:$Z,8,0))","v":0},0,null,0,{"$f":"IF(ISERROR(VLOOKUP($A215+8860000,'Growth Data'!$A:$Z,9,0)),0,VLOOKUP($A215+8860000,'Growth Data'!$A:$Z,9,0))","v":0},0,null,"NO",{"$f":"IF(ISERROR(VLOOKUP($A215+8860000,'Growth Data'!$A:$Z,5,0)),\"NO\",VLOOKUP($A215+8860000,'Growth Data'!$A:$Z,5,0))","v":"NO"},0,null,0,{"$f":"IF(ISERROR(VLOOKUP($A215+8860000,'Growth Data'!$A:$Z,10,0)),0,VLOOKUP($A215+8860000,'Growth Data'!$A:$Z,10,0))","v":0},0,null,0,{"$f":"IF(ISERROR(VLOOKUP($A215+8860000,'Growth Data'!$A:$Z,11,0)),0,VLOOKUP($A215+8860000,'Growth Data'!$A:$Z,11,0))","v":0},0]
[3182,"Minster CEP School",null,"Minster CEP School","Minster CEP School",0,null,1088558.6299999999,1088558.6275476001,0,null,57286.97,57286.973578287434,0,null,4152.8100000000004,4152.8053203488325,0,null,81204.58,81204.579544362234,0,null,120082.8,120082.8,0,null,0,0,0,null,0,0,0,null,0,0,0,null,34524,34524,0,null,0,0,0,null,0,0,0,null,0,0,0,null,1385809.79,1385809.7859905986,0,null,0,0,0,null,1385809.79,1385809.7859905986,0,null,0,null,0,null,1385809.79,1385809.7859905986,0,null,0,null,0,null,131267.21,null,131267,null,0,null,0,null,0,null,0,null,0,null,0,null,0,null,0,null,0,null,0,null,0,null,0,null,0,null,0,null,"NO",{"$f":"IF(ISERROR(VLOOKUP($A216+8860000,'Growth Data'!$A:$F,3,0)),\"NO\",VLOOKUP($A216+8860000,'Growth Data'!$A:$F,3,0))","v":"NO"},0,null,0,{"$f":"IF(DI216=\"YES\",IF(ISERROR(VLOOKUP($A216+8860000,'Growth Data'!$A:$F,6,0)),0,VLOOKUP($A216+8860000,'Growth Data'!$A:$F,6,0)),0)","v":0},0,null,0,{"$f":"IF(ISERROR(VLOOKUP($A216+8860000,'Growth Data'!$A:$Z,7,0)),0,VLOOKUP($A216+8860000,'Growth Data'!$A:$Z,7,0))","v":0},0,null,"NO",{"$f":"IF(ISERROR(VLOOKUP($A216+8860000,'Growth Data'!$A:$F,4,0)),\"NO\",VLOOKUP($A216+8860000,'Growth Data'!$A:$F,4,0))","v":"NO"},0,null,0,{"$f":"IF(ISERROR(VLOOKUP($A216+8860000,'Growth Data'!$A:$Z,8,0)),0,VLOOKUP($A216+8860000,'Growth Data'!$A:$Z,8,0))","v":0},0,null,0,{"$f":"IF(ISERROR(VLOOKUP($A216+8860000,'Growth Data'!$A:$Z,9,0)),0,VLOOKUP($A216+8860000,'Growth Data'!$A:$Z,9,0))","v":0},0,null,"NO",{"$f":"IF(ISERROR(VLOOKUP($A216+8860000,'Growth Data'!$A:$Z,5,0)),\"NO\",VLOOKUP($A216+8860000,'Growth Data'!$A:$Z,5,0))","v":"NO"},0,null,0,{"$f":"IF(ISERROR(VLOOKUP($A216+8860000,'Growth Data'!$A:$Z,10,0)),0,VLOOKUP($A216+8860000,'Growth Data'!$A:$Z,10,0))","v":0},0,null,0,{"$f":"IF(ISERROR(VLOOKUP($A216+8860000,'Growth Data'!$A:$Z,11,0)),0,VLOOKUP($A216+8860000,'Growth Data'!$A:$Z,11,0))","v":0},0]
[3183,"Monkton CEP School",null,"Monkton CEP School","Monkton CEP School",0,null,288632.96999999997,288632.96942550002,0,null,13073.17,13073.165207547161,0,null,1163.71,1163.7056290322569,0,null,19265.04,19265.041797805257,0,null,120082.8,120082.8,0,null,0,0,0,null,0,0,0,null,0,0,0,null,18781,18781,0,null,0,0,0,null,0,0,0,null,0,0,0,null,460998.68,460998.68205988471,0,null,0,0,0,null,460998.68,460998.68205988471,0,null,0,null,0,null,460998.68,460998.68205988471,0,null,0,null,0,null,34453.269999999997,null,34453,null,2554.67,null,2555,null,0,null,0,null,0,null,0,null,0,null,0,null,0,null,0,null,0,null,0,null,0,null,0,null,"NO",{"$f":"IF(ISERROR(VLOOKUP($A217+8860000,'Growth Data'!$A:$F,3,0)),\"NO\",VLOOKUP($A217+8860000,'Growth Data'!$A:$F,3,0))","v":"NO"},0,null,0,{"$f":"IF(DI217=\"YES\",IF(ISERROR(VLOOKUP($A217+8860000,'Growth Data'!$A:$F,6,0)),0,VLOOKUP($A217+8860000,'Growth Data'!$A:$F,6,0)),0)","v":0},0,null,0,{"$f":"IF(ISERROR(VLOOKUP($A217+8860000,'Growth Data'!$A:$Z,7,0)),0,VLOOKUP($A217+8860000,'Growth Data'!$A:$Z,7,0))","v":0},0,null,"NO",{"$f":"IF(ISERROR(VLOOKUP($A217+8860000,'Growth Data'!$A:$F,4,0)),\"NO\",VLOOKUP($A217+8860000,'Growth Data'!$A:$F,4,0))","v":"NO"},0,null,0,{"$f":"IF(ISERROR(VLOOKUP($A217+8860000,'Growth Data'!$A:$Z,8,0)),0,VLOOKUP($A217+8860000,'Growth Data'!$A:$Z,8,0))","v":0},0,null,0,{"$f":"IF(ISERROR(VLOOKUP($A217+8860000,'Growth Data'!$A:$Z,9,0)),0,VLOOKUP($A217+8860000,'Growth Data'!$A:$Z,9,0))","v":0},0,null,"NO",{"$f":"IF(ISERROR(VLOOKUP($A217+8860000,'Growth Data'!$A:$Z,5,0)),\"NO\",VLOOKUP($A217+8860000,'Growth Data'!$A:$Z,5,0))","v":"NO"},0,null,0,{"$f":"IF(ISERROR(VLOOKUP($A217+8860000,'Growth Data'!$A:$Z,10,0)),0,VLOOKUP($A217+8860000,'Growth Data'!$A:$Z,10,0))","v":0},0,null,0,{"$f":"IF(ISERROR(VLOOKUP($A217+8860000,'Growth Data'!$A:$Z,11,0)),0,VLOOKUP($A217+8860000,'Growth Data'!$A:$Z,11,0))","v":0},0]
[3186,"St Nicholas at Wade CEP School",null,"St Nicholas at Wade CEP School","St Nicholas at Wade CEP School",0,null,549777.07999999996,549777.08461999998,0,null,14084.24,14084.237489336494,0,null,1184.72,1184.7249425287339,0,null,34988.559999999998,34988.558746844566,0,null,120082.8,120082.8,0,null,0,0,0,null,0,0,0,null,0,0,0,null,13257,13257,0,null,0,0,0,null,0,0,0,null,0,0,0,null,733374.41,733374.40579870983,0,null,0,0,0,null,733374.41,733374.40579870983,0,null,0,null,0,null,733374.41,733374.40579870983,0,null,0,null,0,null,52529.79,null,52530,null,747.02,null,747,null,0,null,0,null,0,null,0,null,0,null,0,null,0,null,0,null,0,null,0,null,0,null,0,null,"NO",{"$f":"IF(ISERROR(VLOOKUP($A218+8860000,'Growth Data'!$A:$F,3,0)),\"NO\",VLOOKUP($A218+8860000,'Growth Data'!$A:$F,3,0))","v":"NO"},0,null,0,{"$f":"IF(DI218=\"YES\",IF(ISERROR(VLOOKUP($A218+8860000,'Growth Data'!$A:$F,6,0)),0,VLOOKUP($A218+8860000,'Growth Data'!$A:$F,6,0)),0)","v":0},0,null,0,{"$f":"IF(ISERROR(VLOOKUP($A218+8860000,'Growth Data'!$A:$Z,7,0)),0,VLOOKUP($A218+8860000,'Growth Data'!$A:$Z,7,0))","v":0},0,null,"NO",{"$f":"IF(ISERROR(VLOOKUP($A218+8860000,'Growth Data'!$A:$F,4,0)),\"NO\",VLOOKUP($A218+8860000,'Growth Data'!$A:$F,4,0))","v":"NO"},0,null,0,{"$f":"IF(ISERROR(VLOOKUP($A218+8860000,'Growth Data'!$A:$Z,8,0)),0,VLOOKUP($A218+8860000,'Growth Data'!$A:$Z,8,0))","v":0},0,null,0,{"$f":"IF(ISERROR(VLOOKUP($A218+8860000,'Growth Data'!$A:$Z,9,0)),0,VLOOKUP($A218+8860000,'Growth Data'!$A:$Z,9,0))","v":0},0,null,"NO",{"$f":"IF(ISERROR(VLOOKUP($A218+8860000,'Growth Data'!$A:$Z,5,0)),\"NO\",VLOOKUP($A218+8860000,'Growth Data'!$A:$Z,5,0))","v":"NO"},0,null,0,{"$f":"IF(ISERROR(VLOOKUP($A218+8860000,'Growth Data'!$A:$Z,10,0)),0,VLOOKUP($A218+8860000,'Growth Data'!$A:$Z,10,0))","v":0},0,null,0,{"$f":"IF(ISERROR(VLOOKUP($A218+8860000,'Growth Data'!$A:$Z,11,0)),0,VLOOKUP($A218+8860000,'Growth Data'!$A:$Z,11,0))","v":0},0]
[3198,"Frittenden CEP School",null,"Frittenden CEP School","Frittenden CEP School",0,null,272139.65999999997,272139.65688690002,0,null,3448.46,3448.4577952000004,0,null,1159.55,1159.5495374999987,0,null,15207.22,15207.222362652894,0,null,120082.8,120082.8,0,null,16967.64,16967.640854472629,0,null,0,0,0,null,0,0,0,null,12766,12766,0,null,0,0,0,null,0,0,0,null,0,0,0,null,441771.33,441771.32743672555,0,null,0,0,0,null,441771.33,441771.32743672555,0,null,0,null,0,null,441771.33,441771.32743672555,0,null,0,null,0,null,25169.62,null,25170,null,3483.04,null,3483,null,0,null,0,null,0,null,0,null,0,null,0,null,0,null,0,null,0,null,0,null,0,null,0,null,"NO",{"$f":"IF(ISERROR(VLOOKUP($A219+8860000,'Growth Data'!$A:$F,3,0)),\"NO\",VLOOKUP($A219+8860000,'Growth Data'!$A:$F,3,0))","v":"NO"},0,null,0,{"$f":"IF(DI219=\"YES\",IF(ISERROR(VLOOKUP($A219+8860000,'Growth Data'!$A:$F,6,0)),0,VLOOKUP($A219+8860000,'Growth Data'!$A:$F,6,0)),0)","v":0},0,null,0,{"$f":"IF(ISERROR(VLOOKUP($A219+8860000,'Growth Data'!$A:$Z,7,0)),0,VLOOKUP($A219+8860000,'Growth Data'!$A:$Z,7,0))","v":0},0,null,"NO",{"$f":"IF(ISERROR(VLOOKUP($A219+8860000,'Growth Data'!$A:$F,4,0)),\"NO\",VLOOKUP($A219+8860000,'Growth Data'!$A:$F,4,0))","v":"NO"},0,null,0,{"$f":"IF(ISERROR(VLOOKUP($A219+8860000,'Growth Data'!$A:$Z,8,0)),0,VLOOKUP($A219+8860000,'Growth Data'!$A:$Z,8,0))","v":0},0,null,0,{"$f":"IF(ISERROR(VLOOKUP($A219+8860000,'Growth Data'!$A:$Z,9,0)),0,VLOOKUP($A219+8860000,'Growth Data'!$A:$Z,9,0))","v":0},0,null,"NO",{"$f":"IF(ISERROR(VLOOKUP($A219+8860000,'Growth Data'!$A:$Z,5,0)),\"NO\",VLOOKUP($A219+8860000,'Growth Data'!$A:$Z,5,0))","v":"NO"},0,null,0,{"$f":"IF(ISERROR(VLOOKUP($A219+8860000,'Growth Data'!$A:$Z,10,0)),0,VLOOKUP($A219+8860000,'Growth Data'!$A:$Z,10,0))","v":0},0,null,0,{"$f":"IF(ISERROR(VLOOKUP($A219+8860000,'Growth Data'!$A:$Z,11,0)),0,VLOOKUP($A219+8860000,'Growth Data'!$A:$Z,11,0))","v":0},0]
[3199,"Egerton CEP School",null,"Egerton CEP School","Egerton CEP School",0,null,549777.07999999996,549777.08461999998,0,null,22225.03,22225.033436893205,0,null,1171.26,1171.262159090913,0,null,33804.17,33804.171466278734,0,null,120082.8,120082.8,0,null,0,0,0,null,0,0,0,null,0,0,0,null,10925,10925,0,null,0,0,0,null,0,0,0,null,0,0,0,null,737985.35,737985.35168226296,0,null,0,0,0,null,737985.35,737985.35168226296,0,null,0,null,0,null,737985.35,737985.35168226296,0,null,0,null,0,null,52427.88,null,52428,null,757.21,null,757,null,0,null,0,null,0,null,0,null,0,null,0,null,0,null,0,null,0,null,0,null,0,null,0,null,"NO",{"$f":"IF(ISERROR(VLOOKUP($A220+8860000,'Growth Data'!$A:$F,3,0)),\"NO\",VLOOKUP($A220+8860000,'Growth Data'!$A:$F,3,0))","v":"NO"},0,null,0,{"$f":"IF(DI220=\"YES\",IF(ISERROR(VLOOKUP($A220+8860000,'Growth Data'!$A:$F,6,0)),0,VLOOKUP($A220+8860000,'Growth Data'!$A:$F,6,0)),0)","v":0},0,null,0,{"$f":"IF(ISERROR(VLOOKUP($A220+8860000,'Growth Data'!$A:$Z,7,0)),0,VLOOKUP($A220+8860000,'Growth Data'!$A:$Z,7,0))","v":0},0,null,"NO",{"$f":"IF(ISERROR(VLOOKUP($A220+8860000,'Growth Data'!$A:$F,4,0)),\"NO\",VLOOKUP($A220+8860000,'Growth Data'!$A:$F,4,0))","v":"NO"},0,null,0,{"$f":"IF(ISERROR(VLOOKUP($A220+8860000,'Growth Data'!$A:$Z,8,0)),0,VLOOKUP($A220+8860000,'Growth Data'!$A:$Z,8,0))","v":0},0,null,0,{"$f":"IF(ISERROR(VLOOKUP($A220+8860000,'Growth Data'!$A:$Z,9,0)),0,VLOOKUP($A220+8860000,'Growth Data'!$A:$Z,9,0))","v":0},0,null,"NO",{"$f":"IF(ISERROR(VLOOKUP($A220+8860000,'Growth Data'!$A:$Z,5,0)),\"NO\",VLOOKUP($A220+8860000,'Growth Data'!$A:$Z,5,0))","v":"NO"},0,null,0,{"$f":"IF(ISERROR(VLOOKUP($A220+8860000,'Growth Data'!$A:$Z,10,0)),0,VLOOKUP($A220+8860000,'Growth Data'!$A:$Z,10,0))","v":0},0,null,0,{"$f":"IF(ISERROR(VLOOKUP($A220+8860000,'Growth Data'!$A:$Z,11,0)),0,VLOOKUP($A220+8860000,'Growth Data'!$A:$Z,11,0))","v":0},0]
[3201,"St Lawrence CEP School",null,"St Lawrence CEP School","St Lawrence CEP School",0,null,219910.83,219910.83384800001,0,null,5325.05,5325.0510620689665,0,null,0,0,0,null,15122.92,15122.918813861585,0,null,120082.8,120082.8,0,null,0,0,0,null,13120.07,13120.074375551067,0,null,0,0,0,null,6751,6751,0,null,0,0,0,null,0,0,0,null,0,0,0,null,380312.68,380312.67809948162,0,null,0,0,0,null,380312.68,380312.67809948162,0,null,0,null,0,null,380312.68,380312.67809948162,0,null,0,null,0,null,24916.25,null,24916,null,3508.38,null,3508,null,0,null,0,null,0,null,0,null,0,null,0,null,0,null,0,null,0,null,0,null,0,null,0,null,"NO",{"$f":"IF(ISERROR(VLOOKUP($A221+8860000,'Growth Data'!$A:$F,3,0)),\"NO\",VLOOKUP($A221+8860000,'Growth Data'!$A:$F,3,0))","v":"NO"},0,null,0,{"$f":"IF(DI221=\"YES\",IF(ISERROR(VLOOKUP($A221+8860000,'Growth Data'!$A:$F,6,0)),0,VLOOKUP($A221+8860000,'Growth Data'!$A:$F,6,0)),0)","v":0},0,null,0,{"$f":"IF(ISERROR(VLOOKUP($A221+8860000,'Growth Data'!$A:$Z,7,0)),0,VLOOKUP($A221+8860000,'Growth Data'!$A:$Z,7,0))","v":0},0,null,"NO",{"$f":"IF(ISERROR(VLOOKUP($A221+8860000,'Growth Data'!$A:$F,4,0)),\"NO\",VLOOKUP($A221+8860000,'Growth Data'!$A:$F,4,0))","v":"NO"},0,null,0,{"$f":"IF(ISERROR(VLOOKUP($A221+8860000,'Growth Data'!$A:$Z,8,0)),0,VLOOKUP($A221+8860000,'Growth Data'!$A:$Z,8,0))","v":0},0,null,0,{"$f":"IF(ISERROR(VLOOKUP($A221+8860000,'Growth Data'!$A:$Z,9,0)),0,VLOOKUP($A221+8860000,'Growth Data'!$A:$Z,9,0))","v":0},0,null,"NO",{"$f":"IF(ISERROR(VLOOKUP($A221+8860000,'Growth Data'!$A:$Z,5,0)),\"NO\",VLOOKUP($A221+8860000,'Growth Data'!$A:$Z,5,0))","v":"NO"},0,null,0,{"$f":"IF(ISERROR(VLOOKUP($A221+8860000,'Growth Data'!$A:$Z,10,0)),0,VLOOKUP($A221+8860000,'Growth Data'!$A:$Z,10,0))","v":0},0,null,0,{"$f":"IF(ISERROR(VLOOKUP($A221+8860000,'Growth Data'!$A:$Z,11,0)),0,VLOOKUP($A221+8860000,'Growth Data'!$A:$Z,11,0))","v":0},0]
[3282,"Boughton-under-Blean & Dunkirk Primary School",null,"Boughton-under-Blean & Dunkirk Primary School","Boughton-under-Blean & Dunkirk Primary School",0,null,552525.97,552525.97004309995,0,null,51503.06,51503.055205291472,0,null,1736.09,1736.0853410614475,0,null,41407.769999999997,41407.769037087201,0,null,120082.8,120082.8,0,null,0,0,0,null,0,0,0,null,0,0,0,null,18044,18044,0,null,0,0,0,null,0,0,0,null,0,0,0,null,785299.68,785299.67962654016,0,null,0,0,0,null,785299.68,785299.67962654016,0,null,0,null,0,null,785299.68,785299.67962654016,0,null,0,null,0,null,88993.71,null,88994,null,0,null,0,null,0,null,0,null,0,null,0,null,0,null,0,null,0,null,0,null,0,null,0,null,0,null,0,null,"NO",{"$f":"IF(ISERROR(VLOOKUP($A222+8860000,'Growth Data'!$A:$F,3,0)),\"NO\",VLOOKUP($A222+8860000,'Growth Data'!$A:$F,3,0))","v":"NO"},0,null,0,{"$f":"IF(DI222=\"YES\",IF(ISERROR(VLOOKUP($A222+8860000,'Growth Data'!$A:$F,6,0)),0,VLOOKUP($A222+8860000,'Growth Data'!$A:$F,6,0)),0)","v":0},0,null,0,{"$f":"IF(ISERROR(VLOOKUP($A222+8860000,'Growth Data'!$A:$Z,7,0)),0,VLOOKUP($A222+8860000,'Growth Data'!$A:$Z,7,0))","v":0},0,null,"NO",{"$f":"IF(ISERROR(VLOOKUP($A222+8860000,'Growth Data'!$A:$F,4,0)),\"NO\",VLOOKUP($A222+8860000,'Growth Data'!$A:$F,4,0))","v":"NO"},0,null,0,{"$f":"IF(ISERROR(VLOOKUP($A222+8860000,'Growth Data'!$A:$Z,8,0)),0,VLOOKUP($A222+8860000,'Growth Data'!$A:$Z,8,0))","v":0},0,null,0,{"$f":"IF(ISERROR(VLOOKUP($A222+8860000,'Growth Data'!$A:$Z,9,0)),0,VLOOKUP($A222+8860000,'Growth Data'!$A:$Z,9,0))","v":0},0,null,"NO",{"$f":"IF(ISERROR(VLOOKUP($A222+8860000,'Growth Data'!$A:$Z,5,0)),\"NO\",VLOOKUP($A222+8860000,'Growth Data'!$A:$Z,5,0))","v":"NO"},0,null,0,{"$f":"IF(ISERROR(VLOOKUP($A222+8860000,'Growth Data'!$A:$Z,10,0)),0,VLOOKUP($A222+8860000,'Growth Data'!$A:$Z,10,0))","v":0},0,null,0,{"$f":"IF(ISERROR(VLOOKUP($A222+8860000,'Growth Data'!$A:$Z,11,0)),0,VLOOKUP($A222+8860000,'Growth Data'!$A:$Z,11,0))","v":0},0]
[3284,"Lady Joanna Thornhill (Endowed) Primary School",null,"Lady Joanna Thornhill (Endowed) Primary School","Lady Joanna Thornhill (Endowed) Primary School",0,null,1165527.42,1165527.4193944,0,null,21156.78,21156.781696821356,0,null,7183.91,7183.9123857534196,0,null,57528.39,57528.390520985202,0,null,120082.8,120082.8,0,null,0,0,0,null,0,0,0,null,0,0,0,null,41832,41832,0,null,0,0,0,null,0,0,0,null,70120.7,70120.696002040058,0,null,1483432,1483432,0,null,0,0,0,null,1483432,1483432,0,null,0,null,0,null,1483432,1483432,0,null,0,null,0,null,84618.92,null,84619,null,0,null,0,null,0,null,0,null,0,null,0,null,0,null,0,null,0,null,0,null,0,null,0,null,0,null,0,null,"NO",{"$f":"IF(ISERROR(VLOOKUP($A223+8860000,'Growth Data'!$A:$F,3,0)),\"NO\",VLOOKUP($A223+8860000,'Growth Data'!$A:$F,3,0))","v":"NO"},0,null,0,{"$f":"IF(DI223=\"YES\",IF(ISERROR(VLOOKUP($A223+8860000,'Growth Data'!$A:$F,6,0)),0,VLOOKUP($A223+8860000,'Growth Data'!$A:$F,6,0)),0)","v":0},0,null,0,{"$f":"IF(ISERROR(VLOOKUP($A223+8860000,'Growth Data'!$A:$Z,7,0)),0,VLOOKUP($A223+8860000,'Growth Data'!$A:$Z,7,0))","v":0},0,null,"NO",{"$f":"IF(ISERROR(VLOOKUP($A223+8860000,'Growth Data'!$A:$F,4,0)),\"NO\",VLOOKUP($A223+8860000,'Growth Data'!$A:$F,4,0))","v":"NO"},0,null,0,{"$f":"IF(ISERROR(VLOOKUP($A223+8860000,'Growth Data'!$A:$Z,8,0)),0,VLOOKUP($A223+8860000,'Growth Data'!$A:$Z,8,0))","v":0},0,null,0,{"$f":"IF(ISERROR(VLOOKUP($A223+8860000,'Growth Data'!$A:$Z,9,0)),0,VLOOKUP($A223+8860000,'Growth Data'!$A:$Z,9,0))","v":0},0,null,"NO",{"$f":"IF(ISERROR(VLOOKUP($A223+8860000,'Growth Data'!$A:$Z,5,0)),\"NO\",VLOOKUP($A223+8860000,'Growth Data'!$A:$Z,5,0))","v":"NO"},0,null,0,{"$f":"IF(ISERROR(VLOOKUP($A223+8860000,'Growth Data'!$A:$Z,10,0)),0,VLOOKUP($A223+8860000,'Growth Data'!$A:$Z,10,0))","v":0},0,null,0,{"$f":"IF(ISERROR(VLOOKUP($A223+8860000,'Growth Data'!$A:$Z,11,0)),0,VLOOKUP($A223+8860000,'Growth Data'!$A:$Z,11,0))","v":0},0]
[3289,"St Peter's Methodist Primary School, Canterbury",null,"St Peter's Methodist Primary School, Canterbury","St Peter's Methodist Primary School, Canterbury",0,null,538781.54,538781.54292759998,0,null,43466.25,43466.248259009917,0,null,28599.119999999999,28599.117374698806,0,null,35713.4,35713.401622414225,0,null,120082.8,120082.8,0,null,0,0,0,null,0,0,0,null,0,0,0,null,18535,18535,0,null,0,0,0,null,0,0,0,null,0,0,0,null,785178.11,785178.11018372292,0,null,0,0,0,null,785178.11,785178.11018372292,0,null,0,null,0,null,785178.11,785178.11018372292,0,null,0,null,0,null,107849.52,null,107850,null,0,null,0,null,0,null,0,null,0,null,0,null,0,null,0,null,0,null,0,null,0,null,0,null,0,null,0,null,"NO",{"$f":"IF(ISERROR(VLOOKUP($A224+8860000,'Growth Data'!$A:$F,3,0)),\"NO\",VLOOKUP($A224+8860000,'Growth Data'!$A:$F,3,0))","v":"NO"},0,null,0,{"$f":"IF(DI224=\"YES\",IF(ISERROR(VLOOKUP($A224+8860000,'Growth Data'!$A:$F,6,0)),0,VLOOKUP($A224+8860000,'Growth Data'!$A:$F,6,0)),0)","v":0},0,null,0,{"$f":"IF(ISERROR(VLOOKUP($A224+8860000,'Growth Data'!$A:$Z,7,0)),0,VLOOKUP($A224+8860000,'Growth Data'!$A:$Z,7,0))","v":0},0,null,"NO",{"$f":"IF(ISERROR(VLOOKUP($A224+8860000,'Growth Data'!$A:$F,4,0)),\"NO\",VLOOKUP($A224+8860000,'Growth Data'!$A:$F,4,0))","v":"NO"},0,null,0,{"$f":"IF(ISERROR(VLOOKUP($A224+8860000,'Growth Data'!$A:$Z,8,0)),0,VLOOKUP($A224+8860000,'Growth Data'!$A:$Z,8,0))","v":0},0,null,0,{"$f":"IF(ISERROR(VLOOKUP($A224+8860000,'Growth Data'!$A:$Z,9,0)),0,VLOOKUP($A224+8860000,'Growth Data'!$A:$Z,9,0))","v":0},0,null,"NO",{"$f":"IF(ISERROR(VLOOKUP($A224+8860000,'Growth Data'!$A:$Z,5,0)),\"NO\",VLOOKUP($A224+8860000,'Growth Data'!$A:$Z,5,0))","v":"NO"},0,null,0,{"$f":"IF(ISERROR(VLOOKUP($A224+8860000,'Growth Data'!$A:$Z,10,0)),0,VLOOKUP($A224+8860000,'Growth Data'!$A:$Z,10,0))","v":0},0,null,0,{"$f":"IF(ISERROR(VLOOKUP($A224+8860000,'Growth Data'!$A:$Z,11,0)),0,VLOOKUP($A224+8860000,'Growth Data'!$A:$Z,11,0))","v":0},0]
[3294,"St Matthew's High Brooms CEP School",null,"St Matthew's High Brooms CEP School","St Matthew's High Brooms CEP School",0,null,1080311.97,1080311.9712783,0,null,126402.05,126402.04706987762,0,null,8680.06,8680.0565378571519,0,null,100991.61,100991.61207646409,0,null,120082.8,120082.8,0,null,0,0,0,null,0,0,0,null,0,0,0,null,36288,36288,0,null,0,0,0,null,0,0,0,null,0,0,0,null,1472756.49,1472756.4869624989,0,null,0,0,0,null,1472756.49,1472756.4869624989,0,null,0,null,0,null,1472756.49,1472756.4869624989,0,null,0,null,0,null,201360.48,null,201360,null,0,null,0,null,0,null,0,null,0,null,0,null,0,null,0,null,0,null,0,null,0,null,0,null,0,null,0,null,"NO",{"$f":"IF(ISERROR(VLOOKUP($A225+8860000,'Growth Data'!$A:$F,3,0)),\"NO\",VLOOKUP($A225+8860000,'Growth Data'!$A:$F,3,0))","v":"NO"},0,null,0,{"$f":"IF(DI225=\"YES\",IF(ISERROR(VLOOKUP($A225+8860000,'Growth Data'!$A:$F,6,0)),0,VLOOKUP($A225+8860000,'Growth Data'!$A:$F,6,0)),0)","v":0},0,null,0,{"$f":"IF(ISERROR(VLOOKUP($A225+8860000,'Growth Data'!$A:$Z,7,0)),0,VLOOKUP($A225+8860000,'Growth Data'!$A:$Z,7,0))","v":0},0,null,"NO",{"$f":"IF(ISERROR(VLOOKUP($A225+8860000,'Growth Data'!$A:$F,4,0)),\"NO\",VLOOKUP($A225+8860000,'Growth Data'!$A:$F,4,0))","v":"NO"},0,null,0,{"$f":"IF(ISERROR(VLOOKUP($A225+8860000,'Growth Data'!$A:$Z,8,0)),0,VLOOKUP($A225+8860000,'Growth Data'!$A:$Z,8,0))","v":0},0,null,0,{"$f":"IF(ISERROR(VLOOKUP($A225+8860000,'Growth Data'!$A:$Z,9,0)),0,VLOOKUP($A225+8860000,'Growth Data'!$A:$Z,9,0))","v":0},0,null,"NO",{"$f":"IF(ISERROR(VLOOKUP($A225+8860000,'Growth Data'!$A:$Z,5,0)),\"NO\",VLOOKUP($A225+8860000,'Growth Data'!$A:$Z,5,0))","v":"NO"},0,null,0,{"$f":"IF(ISERROR(VLOOKUP($A225+8860000,'Growth Data'!$A:$Z,10,0)),0,VLOOKUP($A225+8860000,'Growth Data'!$A:$Z,10,0))","v":0},0,null,0,{"$f":"IF(ISERROR(VLOOKUP($A225+8860000,'Growth Data'!$A:$Z,11,0)),0,VLOOKUP($A225+8860000,'Growth Data'!$A:$Z,11,0))","v":0},0]
[3295,"Herne CEI School",null,"Herne CEI School","Herne CEI School",0,null,739450.18,739450.17881389998,0,null,14594.06,14594.062959999992,0,null,3080.68,3080.6797588888858,0,null,48528.02,48528.020158302359,0,null,120082.8,120082.8,0,null,0,0,0,null,0,0,0,null,0,0,0,null,46620,46620,0,null,0,0,0,null,0,0,0,null,0,0,0,null,972355.74,972355.74169109133,0,null,0,0,0,null,972355.74,972355.74169109133,0,null,0,null,0,null,972355.74,972355.74169109133,0,null,4.9000000000000004,null,5,null,65392.91,null,65393,null,0,null,0,null,0,null,0,null,0,null,0,null,0,null,0,null,0,null,0,null,0,null,0,null,0,null,0,null,"NO",{"$f":"IF(ISERROR(VLOOKUP($A226+8860000,'Growth Data'!$A:$F,3,0)),\"NO\",VLOOKUP($A226+8860000,'Growth Data'!$A:$F,3,0))","v":"NO"},0,null,0,{"$f":"IF(DI226=\"YES\",IF(ISERROR(VLOOKUP($A226+8860000,'Growth Data'!$A:$F,6,0)),0,VLOOKUP($A226+8860000,'Growth Data'!$A:$F,6,0)),0)","v":0},0,null,0,{"$f":"IF(ISERROR(VLOOKUP($A226+8860000,'Growth Data'!$A:$Z,7,0)),0,VLOOKUP($A226+8860000,'Growth Data'!$A:$Z,7,0))","v":0},0,null,"NO",{"$f":"IF(ISERROR(VLOOKUP($A226+8860000,'Growth Data'!$A:$F,4,0)),\"NO\",VLOOKUP($A226+8860000,'Growth Data'!$A:$F,4,0))","v":"NO"},0,null,0,{"$f":"IF(ISERROR(VLOOKUP($A226+8860000,'Growth Data'!$A:$Z,8,0)),0,VLOOKUP($A226+8860000,'Growth Data'!$A:$Z,8,0))","v":0},0,null,0,{"$f":"IF(ISERROR(VLOOKUP($A226+8860000,'Growth Data'!$A:$Z,9,0)),0,VLOOKUP($A226+8860000,'Growth Data'!$A:$Z,9,0))","v":0},0,null,"NO",{"$f":"IF(ISERROR(VLOOKUP($A226+8860000,'Growth Data'!$A:$Z,5,0)),\"NO\",VLOOKUP($A226+8860000,'Growth Data'!$A:$Z,5,0))","v":"NO"},0,null,0,{"$f":"IF(ISERROR(VLOOKUP($A226+8860000,'Growth Data'!$A:$Z,10,0)),0,VLOOKUP($A226+8860000,'Growth Data'!$A:$Z,10,0))","v":0},0,null,0,{"$f":"IF(ISERROR(VLOOKUP($A226+8860000,'Growth Data'!$A:$Z,11,0)),0,VLOOKUP($A226+8860000,'Growth Data'!$A:$Z,11,0))","v":0},0]
[3296,"Langafel CEP School",null,"Langafel CEP School","Langafel CEP School",0,null,860401.14,860401.1374303,0,null,71085.679999999993,71085.677947831296,0,null,2354.84,2354.835394890511,0,null,72494.880000000005,72494.878995499879,0,null,120082.8,120082.8,0,null,0,0,0,null,41001.660000000003,41001.663603574176,0,null,0,0,0,null,37296,37296,0,null,0,0,0,null,0,0,0,null,0,0,0,null,1204716.99,1204716.993372096,0,null,0,0,0,null,1204716.99,1204716.993372096,0,null,0,null,0,null,1204716.99,1204716.993372096,0,null,0,null,0,null,132154.88,null,132155,null,0,null,0,null,0,null,0,null,120000,null,120000,null,665.39,null,665,null,665.39,null,665,null,665.39,null,665,null,665.39,null,665,null,"NO",{"$f":"IF(ISERROR(VLOOKUP($A227+8860000,'Growth Data'!$A:$F,3,0)),\"NO\",VLOOKUP($A227+8860000,'Growth Data'!$A:$F,3,0))","v":"NO"},0,null,0,{"$f":"IF(DI227=\"YES\",IF(ISERROR(VLOOKUP($A227+8860000,'Growth Data'!$A:$F,6,0)),0,VLOOKUP($A227+8860000,'Growth Data'!$A:$F,6,0)),0)","v":0},0,null,0,{"$f":"IF(ISERROR(VLOOKUP($A227+8860000,'Growth Data'!$A:$Z,7,0)),0,VLOOKUP($A227+8860000,'Growth Data'!$A:$Z,7,0))","v":0},0,null,"NO",{"$f":"IF(ISERROR(VLOOKUP($A227+8860000,'Growth Data'!$A:$F,4,0)),\"NO\",VLOOKUP($A227+8860000,'Growth Data'!$A:$F,4,0))","v":"NO"},0,null,0,{"$f":"IF(ISERROR(VLOOKUP($A227+8860000,'Growth Data'!$A:$Z,8,0)),0,VLOOKUP($A227+8860000,'Growth Data'!$A:$Z,8,0))","v":0},0,null,0,{"$f":"IF(ISERROR(VLOOKUP($A227+8860000,'Growth Data'!$A:$Z,9,0)),0,VLOOKUP($A227+8860000,'Growth Data'!$A:$Z,9,0))","v":0},0,null,"NO",{"$f":"IF(ISERROR(VLOOKUP($A227+8860000,'Growth Data'!$A:$Z,5,0)),\"NO\",VLOOKUP($A227+8860000,'Growth Data'!$A:$Z,5,0))","v":"NO"},0,null,0,{"$f":"IF(ISERROR(VLOOKUP($A227+8860000,'Growth Data'!$A:$Z,10,0)),0,VLOOKUP($A227+8860000,'Growth Data'!$A:$Z,10,0))","v":0},0,null,0,{"$f":"IF(ISERROR(VLOOKUP($A227+8860000,'Growth Data'!$A:$Z,11,0)),0,VLOOKUP($A227+8860000,'Growth Data'!$A:$Z,11,0))","v":0},0]
[3297,"Southborough CEP School",null,"Southborough CEP School","Southborough CEP School",0,null,1580609.12,1580609.1182825,0,null,54715.23,54715.227475000007,0,null,20603.68,20603.675035787313,0,null,87915.87,87915.865347127037,0,null,120082.8,120082.8,0,null,0,0,0,null,0,0,0,null,0,0,0,null,63000,63000,0,null,0,0,0,null,0,0,0,null,91073.31,91073.313859585673,0,null,2018000,2018000,0,null,0,0,0,null,2018000,2018000,0,null,0,null,0,null,2018000,2018000,0,null,0,null,0,null,149656.10999999999,null,149656,null,0,null,0,null,0,null,0,null,0,null,0,null,0,null,0,null,0,null,0,null,0,null,0,null,0,null,0,null,"YES",{"$f":"IF(ISERROR(VLOOKUP($A228+8860000,'Growth Data'!$A:$F,3,0)),\"NO\",VLOOKUP($A228+8860000,'Growth Data'!$A:$F,3,0))","v":"YES"},0,null,60,{"$f":"IF(DI228=\"YES\",IF(ISERROR(VLOOKUP($A228+8860000,'Growth Data'!$A:$F,6,0)),0,VLOOKUP($A228+8860000,'Growth Data'!$A:$F,6,0)),0)","v":60},0,null,90,{"$f":"IF(ISERROR(VLOOKUP($A228+8860000,'Growth Data'!$A:$Z,7,0)),0,VLOOKUP($A228+8860000,'Growth Data'!$A:$Z,7,0))","v":90},0,null,"YES",{"$f":"IF(ISERROR(VLOOKUP($A228+8860000,'Growth Data'!$A:$F,4,0)),\"NO\",VLOOKUP($A228+8860000,'Growth Data'!$A:$F,4,0))","v":"NO"},1,null,60,{"$f":"IF(ISERROR(VLOOKUP($A228+8860000,'Growth Data'!$A:$Z,8,0)),0,VLOOKUP($A228+8860000,'Growth Data'!$A:$Z,8,0))","v":0},1,null,90,{"$f":"IF(ISERROR(VLOOKUP($A228+8860000,'Growth Data'!$A:$Z,9,0)),0,VLOOKUP($A228+8860000,'Growth Data'!$A:$Z,9,0))","v":0},1,null,"NO",{"$f":"IF(ISERROR(VLOOKUP($A228+8860000,'Growth Data'!$A:$Z,5,0)),\"NO\",VLOOKUP($A228+8860000,'Growth Data'!$A:$Z,5,0))","v":"NO"},0,null,0,{"$f":"IF(ISERROR(VLOOKUP($A228+8860000,'Growth Data'!$A:$Z,10,0)),0,VLOOKUP($A228+8860000,'Growth Data'!$A:$Z,10,0))","v":0},0,null,0,{"$f":"IF(ISERROR(VLOOKUP($A228+8860000,'Growth Data'!$A:$Z,11,0)),0,VLOOKUP($A228+8860000,'Growth Data'!$A:$Z,11,0))","v":0},0]
[3298,"West Kingsdown C.E. (V.C.) Primary School",null,"West Kingsdown C.E. (V.C.) Primary School","West Kingsdown C.E. (V.C.) Primary School",0,null,393090.62,393090.61550329998,0,null,13242.44,13242.437103673472,0,null,3020.32,3020.3202889344229,0,null,26020.32,26020.316194438306,0,null,120082.8,120082.8,0,null,2271.2600000000002,2271.2590120160221,0,null,20301.29,20301.290030925975,0,null,0,0,0,null,27740,27740,0,null,0,0,0,null,0,0,0,null,0,0,0,null,605769.04,605769.03813328815,0,null,0,0,0,null,605769.04,605769.03813328815,0,null,0,null,0,null,605769.04,605769.03813328815,0,null,0,null,0,null,44351.83,null,44352,null,1564.82,null,1565,null,0,null,0,null,0,null,0,null,0,null,0,null,0,null,0,null,0,null,0,null,0,null,0,null,"NO",{"$f":"IF(ISERROR(VLOOKUP($A229+8860000,'Growth Data'!$A:$F,3,0)),\"NO\",VLOOKUP($A229+8860000,'Growth Data'!$A:$F,3,0))","v":"NO"},0,null,0,{"$f":"IF(DI229=\"YES\",IF(ISERROR(VLOOKUP($A229+8860000,'Growth Data'!$A:$F,6,0)),0,VLOOKUP($A229+8860000,'Growth Data'!$A:$F,6,0)),0)","v":0},0,null,0,{"$f":"IF(ISERROR(VLOOKUP($A229+8860000,'Growth Data'!$A:$Z,7,0)),0,VLOOKUP($A229+8860000,'Growth Data'!$A:$Z,7,0))","v":0},0,null,"NO",{"$f":"IF(ISERROR(VLOOKUP($A229+8860000,'Growth Data'!$A:$F,4,0)),\"NO\",VLOOKUP($A229+8860000,'Growth Data'!$A:$F,4,0))","v":"NO"},0,null,0,{"$f":"IF(ISERROR(VLOOKUP($A229+8860000,'Growth Data'!$A:$Z,8,0)),0,VLOOKUP($A229+8860000,'Growth Data'!$A:$Z,8,0))","v":0},0,null,0,{"$f":"IF(ISERROR(VLOOKUP($A229+8860000,'Growth Data'!$A:$Z,9,0)),0,VLOOKUP($A229+8860000,'Growth Data'!$A:$Z,9,0))","v":0},0,null,"NO",{"$f":"IF(ISERROR(VLOOKUP($A229+8860000,'Growth Data'!$A:$Z,5,0)),\"NO\",VLOOKUP($A229+8860000,'Growth Data'!$A:$Z,5,0))","v":"NO"},0,null,0,{"$f":"IF(ISERROR(VLOOKUP($A229+8860000,'Growth Data'!$A:$Z,10,0)),0,VLOOKUP($A229+8860000,'Growth Data'!$A:$Z,10,0))","v":0},0,null,0,{"$f":"IF(ISERROR(VLOOKUP($A229+8860000,'Growth Data'!$A:$Z,11,0)),0,VLOOKUP($A229+8860000,'Growth Data'!$A:$Z,11,0))","v":0},0]
[3299,"John Wesley Primary School",null,"John Wesley Primary School","John Wesley Primary School",0,null,1228751.78,1228751.7841257001,0,null,94929.919999999998,94929.915936486432,0,null,14286.13,14286.129702325585,0,null,109352.05,109352.04677611352,0,null,120082.8,120082.8,0,null,0,0,0,null,0,0,0,null,0,0,0,null,11390,11390,0,null,0,0,0,null,0,0,0,null,0,0,0,null,1578792.68,1578792.6765406257,0,null,0,0,0,null,1578792.68,1578792.6765406257,0,null,0,null,0,null,1578792.68,1578792.6765406257,0,null,0,null,0,null,208071.56,null,208072,null,0,null,0,null,14000,null,14000,null,21000,null,21000,null,304.42,null,304,null,304.42,null,304,null,304.42,null,304,null,304.42,null,304,null,"NO",{"$f":"IF(ISERROR(VLOOKUP($A230+8860000,'Growth Data'!$A:$F,3,0)),\"NO\",VLOOKUP($A230+8860000,'Growth Data'!$A:$F,3,0))","v":"NO"},0,null,0,{"$f":"IF(DI230=\"YES\",IF(ISERROR(VLOOKUP($A230+8860000,'Growth Data'!$A:$F,6,0)),0,VLOOKUP($A230+8860000,'Growth Data'!$A:$F,6,0)),0)","v":0},0,null,0,{"$f":"IF(ISERROR(VLOOKUP($A230+8860000,'Growth Data'!$A:$Z,7,0)),0,VLOOKUP($A230+8860000,'Growth Data'!$A:$Z,7,0))","v":0},0,null,"NO",{"$f":"IF(ISERROR(VLOOKUP($A230+8860000,'Growth Data'!$A:$F,4,0)),\"NO\",VLOOKUP($A230+8860000,'Growth Data'!$A:$F,4,0))","v":"NO"},0,null,0,{"$f":"IF(ISERROR(VLOOKUP($A230+8860000,'Growth Data'!$A:$Z,8,0)),0,VLOOKUP($A230+8860000,'Growth Data'!$A:$Z,8,0))","v":0},0,null,0,{"$f":"IF(ISERROR(VLOOKUP($A230+8860000,'Growth Data'!$A:$Z,9,0)),0,VLOOKUP($A230+8860000,'Growth Data'!$A:$Z,9,0))","v":0},0,null,"NO",{"$f":"IF(ISERROR(VLOOKUP($A230+8860000,'Growth Data'!$A:$Z,5,0)),\"NO\",VLOOKUP($A230+8860000,'Growth Data'!$A:$Z,5,0))","v":"NO"},0,null,0,{"$f":"IF(ISERROR(VLOOKUP($A230+8860000,'Growth Data'!$A:$Z,10,0)),0,VLOOKUP($A230+8860000,'Growth Data'!$A:$Z,10,0))","v":0},0,null,0,{"$f":"IF(ISERROR(VLOOKUP($A230+8860000,'Growth Data'!$A:$Z,11,0)),0,VLOOKUP($A230+8860000,'Growth Data'!$A:$Z,11,0))","v":0},0]
[3303,"St Katharine's Knockholt CEP School",null,"St Katharine's Knockholt CEP School","St Katharine's Knockholt CEP School",0,null,508543.8,508543.8032735,0,null,5305.53,5305.5332937499998,0,null,1810.27,1810.2672104430383,0,null,45257.56,45257.558509129762,0,null,120082.8,120082.8,0,null,0,0,0,null,24788.400000000001,24788.398627240342,0,null,0,0,0,null,3982,3982,0,null,0,0,0,null,0,0,0,null,0,0,0,null,709770.36,709770.36091406317,0,null,0,0,0,null,709770.36,709770.36091406317,0,null,0,null,0,null,709770.36,709770.36091406317,0,null,0,null,0,null,58916.38,null,58916,null,108.36,null,108,null,0,null,0,null,0,null,0,null,0,null,0,null,0,null,0,null,0,null,0,null,0,null,0,null,"NO",{"$f":"IF(ISERROR(VLOOKUP($A231+8860000,'Growth Data'!$A:$F,3,0)),\"NO\",VLOOKUP($A231+8860000,'Growth Data'!$A:$F,3,0))","v":"NO"},0,null,0,{"$f":"IF(DI231=\"YES\",IF(ISERROR(VLOOKUP($A231+8860000,'Growth Data'!$A:$F,6,0)),0,VLOOKUP($A231+8860000,'Growth Data'!$A:$F,6,0)),0)","v":0},0,null,0,{"$f":"IF(ISERROR(VLOOKUP($A231+8860000,'Growth Data'!$A:$Z,7,0)),0,VLOOKUP($A231+8860000,'Growth Data'!$A:$Z,7,0))","v":0},0,null,"NO",{"$f":"IF(ISERROR(VLOOKUP($A231+8860000,'Growth Data'!$A:$F,4,0)),\"NO\",VLOOKUP($A231+8860000,'Growth Data'!$A:$F,4,0))","v":"NO"},0,null,0,{"$f":"IF(ISERROR(VLOOKUP($A231+8860000,'Growth Data'!$A:$Z,8,0)),0,VLOOKUP($A231+8860000,'Growth Data'!$A:$Z,8,0))","v":0},0,null,0,{"$f":"IF(ISERROR(VLOOKUP($A231+8860000,'Growth Data'!$A:$Z,9,0)),0,VLOOKUP($A231+8860000,'Growth Data'!$A:$Z,9,0))","v":0},0,null,"NO",{"$f":"IF(ISERROR(VLOOKUP($A231+8860000,'Growth Data'!$A:$Z,5,0)),\"NO\",VLOOKUP($A231+8860000,'Growth Data'!$A:$Z,5,0))","v":"NO"},0,null,0,{"$f":"IF(ISERROR(VLOOKUP($A231+8860000,'Growth Data'!$A:$Z,10,0)),0,VLOOKUP($A231+8860000,'Growth Data'!$A:$Z,10,0))","v":0},0,null,0,{"$f":"IF(ISERROR(VLOOKUP($A231+8860000,'Growth Data'!$A:$Z,11,0)),0,VLOOKUP($A231+8860000,'Growth Data'!$A:$Z,11,0))","v":0},0]
[3307,"Chevening (St Botolph's) CEP School",null,"Chevening (St Botolph's) CEP School","Chevening (St Botolph's) CEP School",0,null,569019.28,569019.28258170001,0,null,6397.5,6397.4969434285722,0,null,3657.55,3657.5505411428594,0,null,30929.54,30929.538448349718,0,null,120082.8,120082.8,0,null,0,0,0,null,26575.15,26575.154733932199,0,null,0,0,0,null,5090,5090,0,null,0,0,0,null,0,0,0,null,0,0,0,null,761751.82,761751.82324855332,0,null,0,0,0,null,761751.82,761751.82324855332,0,null,0,null,0,null,761751.82,761751.82324855332,0,null,0,null,0,null,46200.4,null,46200,null,1379.96,null,1380,null,0,null,0,null,0,null,0,null,0,null,0,null,0,null,0,null,0,null,0,null,0,null,0,null,"NO",{"$f":"IF(ISERROR(VLOOKUP($A232+8860000,'Growth Data'!$A:$F,3,0)),\"NO\",VLOOKUP($A232+8860000,'Growth Data'!$A:$F,3,0))","v":"NO"},0,null,0,{"$f":"IF(DI232=\"YES\",IF(ISERROR(VLOOKUP($A232+8860000,'Growth Data'!$A:$F,6,0)),0,VLOOKUP($A232+8860000,'Growth Data'!$A:$F,6,0)),0)","v":0},0,null,0,{"$f":"IF(ISERROR(VLOOKUP($A232+8860000,'Growth Data'!$A:$Z,7,0)),0,VLOOKUP($A232+8860000,'Growth Data'!$A:$Z,7,0))","v":0},0,null,"NO",{"$f":"IF(ISERROR(VLOOKUP($A232+8860000,'Growth Data'!$A:$F,4,0)),\"NO\",VLOOKUP($A232+8860000,'Growth Data'!$A:$F,4,0))","v":"NO"},0,null,0,{"$f":"IF(ISERROR(VLOOKUP($A232+8860000,'Growth Data'!$A:$Z,8,0)),0,VLOOKUP($A232+8860000,'Growth Data'!$A:$Z,8,0))","v":0},0,null,0,{"$f":"IF(ISERROR(VLOOKUP($A232+8860000,'Growth Data'!$A:$Z,9,0)),0,VLOOKUP($A232+8860000,'Growth Data'!$A:$Z,9,0))","v":0},0,null,"NO",{"$f":"IF(ISERROR(VLOOKUP($A232+8860000,'Growth Data'!$A:$Z,5,0)),\"NO\",VLOOKUP($A232+8860000,'Growth Data'!$A:$Z,5,0))","v":"NO"},0,null,0,{"$f":"IF(ISERROR(VLOOKUP($A232+8860000,'Growth Data'!$A:$Z,10,0)),0,VLOOKUP($A232+8860000,'Growth Data'!$A:$Z,10,0))","v":0},0,null,0,{"$f":"IF(ISERROR(VLOOKUP($A232+8860000,'Growth Data'!$A:$Z,11,0)),0,VLOOKUP($A232+8860000,'Growth Data'!$A:$Z,11,0))","v":0},0]
[3308,"Colliers Green CEP School",null,"Colliers Green CEP School","Colliers Green CEP School",0,null,299628.51,299628.51111790002,0,null,1994.02,1994.023576216216,0,null,2987.96,2987.9645292553178,0,null,17203.400000000001,17203.396259791261,0,null,120082.8,120082.8,0,null,0,0,0,null,0,0,0,null,0,0,0,null,1865,1865,0,null,0,0,0,null,0,0,0,null,0,0,0,null,443761.7,443761.69548316277,0,null,0,0,0,null,443761.7,443761.69548316277,0,null,0,null,0,null,443761.7,443761.69548316277,0,null,0,null,0,null,28420.38,null,28420,null,3157.96,null,3158,null,0,null,0,null,0,null,0,null,0,null,0,null,0,null,0,null,0,null,0,null,0,null,0,null,"NO",{"$f":"IF(ISERROR(VLOOKUP($A233+8860000,'Growth Data'!$A:$F,3,0)),\"NO\",VLOOKUP($A233+8860000,'Growth Data'!$A:$F,3,0))","v":"NO"},0,null,0,{"$f":"IF(DI233=\"YES\",IF(ISERROR(VLOOKUP($A233+8860000,'Growth Data'!$A:$F,6,0)),0,VLOOKUP($A233+8860000,'Growth Data'!$A:$F,6,0)),0)","v":0},0,null,0,{"$f":"IF(ISERROR(VLOOKUP($A233+8860000,'Growth Data'!$A:$Z,7,0)),0,VLOOKUP($A233+8860000,'Growth Data'!$A:$Z,7,0))","v":0},0,null,"NO",{"$f":"IF(ISERROR(VLOOKUP($A233+8860000,'Growth Data'!$A:$F,4,0)),\"NO\",VLOOKUP($A233+8860000,'Growth Data'!$A:$F,4,0))","v":"NO"},0,null,0,{"$f":"IF(ISERROR(VLOOKUP($A233+8860000,'Growth Data'!$A:$Z,8,0)),0,VLOOKUP($A233+8860000,'Growth Data'!$A:$Z,8,0))","v":0},0,null,0,{"$f":"IF(ISERROR(VLOOKUP($A233+8860000,'Growth Data'!$A:$Z,9,0)),0,VLOOKUP($A233+8860000,'Growth Data'!$A:$Z,9,0))","v":0},0,null,"NO",{"$f":"IF(ISERROR(VLOOKUP($A233+8860000,'Growth Data'!$A:$Z,5,0)),\"NO\",VLOOKUP($A233+8860000,'Growth Data'!$A:$Z,5,0))","v":"NO"},0,null,0,{"$f":"IF(ISERROR(VLOOKUP($A233+8860000,'Growth Data'!$A:$Z,10,0)),0,VLOOKUP($A233+8860000,'Growth Data'!$A:$Z,10,0))","v":0},0,null,0,{"$f":"IF(ISERROR(VLOOKUP($A233+8860000,'Growth Data'!$A:$Z,11,0)),0,VLOOKUP($A233+8860000,'Growth Data'!$A:$Z,11,0))","v":0},0]
[3309,"Sissinghurst CEP School",null,"Sissinghurst CEP School","Sissinghurst CEP School",0,null,434323.9,434323.89684980002,0,null,13851.72,13851.718419903878,0,null,598.72,598.72165661764723,0,null,29841.93,29841.927490717997,0,null,120082.8,120082.8,0,null,0,0,0,null,0,0,0,null,0,0,0,null,7862,7862,0,null,0,0,0,null,0,0,0,null,0,0,0,null,606561.06000000006,606561.06441703963,0,null,0,0,0,null,606561.06000000006,606561.06441703963,0,null,0,null,0,null,606561.06000000006,606561.06441703963,0,null,0,null,0,null,44363.12,null,44363,null,1563.69,null,1564,null,0,null,0,null,0,null,0,null,0,null,0,null,0,null,0,null,0,null,0,null,0,null,0,null,"NO",{"$f":"IF(ISERROR(VLOOKUP($A234+8860000,'Growth Data'!$A:$F,3,0)),\"NO\",VLOOKUP($A234+8860000,'Growth Data'!$A:$F,3,0))","v":"NO"},0,null,0,{"$f":"IF(DI234=\"YES\",IF(ISERROR(VLOOKUP($A234+8860000,'Growth Data'!$A:$F,6,0)),0,VLOOKUP($A234+8860000,'Growth Data'!$A:$F,6,0)),0)","v":0},0,null,0,{"$f":"IF(ISERROR(VLOOKUP($A234+8860000,'Growth Data'!$A:$Z,7,0)),0,VLOOKUP($A234+8860000,'Growth Data'!$A:$Z,7,0))","v":0},0,null,"NO",{"$f":"IF(ISERROR(VLOOKUP($A234+8860000,'Growth Data'!$A:$F,4,0)),\"NO\",VLOOKUP($A234+8860000,'Growth Data'!$A:$F,4,0))","v":"NO"},0,null,0,{"$f":"IF(ISERROR(VLOOKUP($A234+8860000,'Growth Data'!$A:$Z,8,0)),0,VLOOKUP($A234+8860000,'Growth Data'!$A:$Z,8,0))","v":0},0,null,0,{"$f":"IF(ISERROR(VLOOKUP($A234+8860000,'Growth Data'!$A:$Z,9,0)),0,VLOOKUP($A234+8860000,'Growth Data'!$A:$Z,9,0))","v":0},0,null,"NO",{"$f":"IF(ISERROR(VLOOKUP($A234+8860000,'Growth Data'!$A:$Z,5,0)),\"NO\",VLOOKUP($A234+8860000,'Growth Data'!$A:$Z,5,0))","v":"NO"},0,null,0,{"$f":"IF(ISERROR(VLOOKUP($A234+8860000,'Growth Data'!$A:$Z,10,0)),0,VLOOKUP($A234+8860000,'Growth Data'!$A:$Z,10,0))","v":0},0,null,0,{"$f":"IF(ISERROR(VLOOKUP($A234+8860000,'Growth Data'!$A:$Z,11,0)),0,VLOOKUP($A234+8860000,'Growth Data'!$A:$Z,11,0))","v":0},0]
[3312,"Hever CEP School",null,"Hever CEP School","Hever CEP School",0,null,395839.5,395839.50092640001,0,null,16579.78,16579.784740933494,0,null,579.77,579.77476875000002,0,null,29591.1,29591.10420142888,0,null,120082.8,120082.8,0,null,1937.25,1937.2503337783648,0,null,20551.810000000001,20551.811824954977,0,null,0,0,0,null,2066,2066,0,null,0,0,0,null,0,0,0,null,0,0,0,null,587228.03,587228.02679624571,0,null,0,0,0,null,587228.03,587228.02679624571,0,null,0,null,0,null,587228.03,587228.02679624571,0,null,0,null,0,null,52176.36,null,52176,null,782.36,null,782,null,0,null,0,null,0,null,0,null,0,null,0,null,0,null,0,null,0,null,0,null,0,null,0,null,"NO",{"$f":"IF(ISERROR(VLOOKUP($A235+8860000,'Growth Data'!$A:$F,3,0)),\"NO\",VLOOKUP($A235+8860000,'Growth Data'!$A:$F,3,0))","v":"NO"},0,null,0,{"$f":"IF(DI235=\"YES\",IF(ISERROR(VLOOKUP($A235+8860000,'Growth Data'!$A:$F,6,0)),0,VLOOKUP($A235+8860000,'Growth Data'!$A:$F,6,0)),0)","v":0},0,null,0,{"$f":"IF(ISERROR(VLOOKUP($A235+8860000,'Growth Data'!$A:$Z,7,0)),0,VLOOKUP($A235+8860000,'Growth Data'!$A:$Z,7,0))","v":0},0,null,"NO",{"$f":"IF(ISERROR(VLOOKUP($A235+8860000,'Growth Data'!$A:$F,4,0)),\"NO\",VLOOKUP($A235+8860000,'Growth Data'!$A:$F,4,0))","v":"NO"},0,null,0,{"$f":"IF(ISERROR(VLOOKUP($A235+8860000,'Growth Data'!$A:$Z,8,0)),0,VLOOKUP($A235+8860000,'Growth Data'!$A:$Z,8,0))","v":0},0,null,0,{"$f":"IF(ISERROR(VLOOKUP($A235+8860000,'Growth Data'!$A:$Z,9,0)),0,VLOOKUP($A235+8860000,'Growth Data'!$A:$Z,9,0))","v":0},0,null,"NO",{"$f":"IF(ISERROR(VLOOKUP($A235+8860000,'Growth Data'!$A:$Z,5,0)),\"NO\",VLOOKUP($A235+8860000,'Growth Data'!$A:$Z,5,0))","v":"NO"},0,null,0,{"$f":"IF(ISERROR(VLOOKUP($A235+8860000,'Growth Data'!$A:$Z,10,0)),0,VLOOKUP($A235+8860000,'Growth Data'!$A:$Z,10,0))","v":0},0,null,0,{"$f":"IF(ISERROR(VLOOKUP($A235+8860000,'Growth Data'!$A:$Z,11,0)),0,VLOOKUP($A235+8860000,'Growth Data'!$A:$Z,11,0))","v":0},0]
[3314,"Penshurst CEP School",null,"Penshurst CEP School","Penshurst CEP School",0,null,261144.12,261144.11519450002,0,null,5083.51,5083.5052000000005,0,null,1748.53,1748.5270803571423,0,null,17430.28,17430.275912299996,0,null,120082.8,120082.8,0,null,0,0,0,null,14759.81,14759.807731292514,0,null,0,0,0,null,2016,2016,0,null,0,0,0,null,0,0,0,null,0,0,0,null,422265.03,422265.03111844964,0,null,0,0,0,null,422265.03,422265.03111844964,0,null,0,null,0,null,422265.03,422265.03111844964,0,null,0,null,0,null,29325.759999999998,null,29326,null,3067.42,null,3067,null,0,null,0,null,0,null,0,null,0,null,0,null,0,null,0,null,0,null,0,null,0,null,0,null,"NO",{"$f":"IF(ISERROR(VLOOKUP($A236+8860000,'Growth Data'!$A:$F,3,0)),\"NO\",VLOOKUP($A236+8860000,'Growth Data'!$A:$F,3,0))","v":"NO"},0,null,0,{"$f":"IF(DI236=\"YES\",IF(ISERROR(VLOOKUP($A236+8860000,'Growth Data'!$A:$F,6,0)),0,VLOOKUP($A236+8860000,'Growth Data'!$A:$F,6,0)),0)","v":0},0,null,0,{"$f":"IF(ISERROR(VLOOKUP($A236+8860000,'Growth Data'!$A:$Z,7,0)),0,VLOOKUP($A236+8860000,'Growth Data'!$A:$Z,7,0))","v":0},0,null,"NO",{"$f":"IF(ISERROR(VLOOKUP($A236+8860000,'Growth Data'!$A:$F,4,0)),\"NO\",VLOOKUP($A236+8860000,'Growth Data'!$A:$F,4,0))","v":"NO"},0,null,0,{"$f":"IF(ISERROR(VLOOKUP($A236+8860000,'Growth Data'!$A:$Z,8,0)),0,VLOOKUP($A236+8860000,'Growth Data'!$A:$Z,8,0))","v":0},0,null,0,{"$f":"IF(ISERROR(VLOOKUP($A236+8860000,'Growth Data'!$A:$Z,9,0)),0,VLOOKUP($A236+8860000,'Growth Data'!$A:$Z,9,0))","v":0},0,null,"NO",{"$f":"IF(ISERROR(VLOOKUP($A236+8860000,'Growth Data'!$A:$Z,5,0)),\"NO\",VLOOKUP($A236+8860000,'Growth Data'!$A:$Z,5,0))","v":"NO"},0,null,0,{"$f":"IF(ISERROR(VLOOKUP($A236+8860000,'Growth Data'!$A:$Z,10,0)),0,VLOOKUP($A236+8860000,'Growth Data'!$A:$Z,10,0))","v":0},0,null,0,{"$f":"IF(ISERROR(VLOOKUP($A236+8860000,'Growth Data'!$A:$Z,11,0)),0,VLOOKUP($A236+8860000,'Growth Data'!$A:$Z,11,0))","v":0},0]
[3317,"Lady Boswell's CEP School, Sevenoaks",null,"Lady Boswell's CEP School, Sevenoaks","Lady Boswell's CEP School, Sevenoaks",0,null,1110549.71,1110549.7109324001,0,null,4627.1499999999996,4627.1472869189201,0,null,19973.02,19973.016064534877,0,null,38107.910000000003,38107.914893428402,0,null,120082.8,120082.8,0,null,0,0,0,null,47077.599999999999,47077.597446053063,0,null,0,0,0,null,8921,8921,0,null,0,0,0,null,0,0,0,null,33181.81,33181.81337666465,0,null,1382521,1382521,0,null,0,0,0,null,1382521,1382521,0,null,0,null,0,null,1382521,1382521,0,null,0,null,0,null,70539.95,null,70540,null,0,null,0,null,0,null,0,null,0,null,0,null,0,null,0,null,0,null,0,null,0,null,0,null,0,null,0,null,"YES",{"$f":"IF(ISERROR(VLOOKUP($A237+8860000,'Growth Data'!$A:$F,3,0)),\"NO\",VLOOKUP($A237+8860000,'Growth Data'!$A:$F,3,0))","v":"YES"},0,null,32,{"$f":"IF(DI237=\"YES\",IF(ISERROR(VLOOKUP($A237+8860000,'Growth Data'!$A:$F,6,0)),0,VLOOKUP($A237+8860000,'Growth Data'!$A:$F,6,0)),0)","v":31},1,null,60,{"$f":"IF(ISERROR(VLOOKUP($A237+8860000,'Growth Data'!$A:$Z,7,0)),0,VLOOKUP($A237+8860000,'Growth Data'!$A:$Z,7,0))","v":60},0,null,"YES",{"$f":"IF(ISERROR(VLOOKUP($A237+8860000,'Growth Data'!$A:$F,4,0)),\"NO\",VLOOKUP($A237+8860000,'Growth Data'!$A:$F,4,0))","v":"NO"},1,null,32,{"$f":"IF(ISERROR(VLOOKUP($A237+8860000,'Growth Data'!$A:$Z,8,0)),0,VLOOKUP($A237+8860000,'Growth Data'!$A:$Z,8,0))","v":0},1,null,60,{"$f":"IF(ISERROR(VLOOKUP($A237+8860000,'Growth Data'!$A:$Z,9,0)),0,VLOOKUP($A237+8860000,'Growth Data'!$A:$Z,9,0))","v":0},1,null,"NO",{"$f":"IF(ISERROR(VLOOKUP($A237+8860000,'Growth Data'!$A:$Z,5,0)),\"NO\",VLOOKUP($A237+8860000,'Growth Data'!$A:$Z,5,0))","v":"NO"},0,null,0,{"$f":"IF(ISERROR(VLOOKUP($A237+8860000,'Growth Data'!$A:$Z,10,0)),0,VLOOKUP($A237+8860000,'Growth Data'!$A:$Z,10,0))","v":0},0,null,0,{"$f":"IF(ISERROR(VLOOKUP($A237+8860000,'Growth Data'!$A:$Z,11,0)),0,VLOOKUP($A237+8860000,'Growth Data'!$A:$Z,11,0))","v":0},0]
[3318,"Ide Hill CEP School",null,"Ide Hill CEP School","Ide Hill CEP School",0,null,395839.5,395839.50092640001,0,null,6154.05,6154.0507074575908,0,null,0,0,0,null,18649.86,18649.85558913583,0,null,120082.8,120082.8,0,null,0,0,0,null,19682.43,19682.433942916956,0,null,0,0,0,null,1890,1890,0,null,0,0,0,null,0,0,0,null,0,0,0,null,562298.64,562298.64116591041,0,null,0,0,0,null,562298.64,562298.64116591041,0,null,0,null,0,null,562298.64,562298.64116591041,0,null,0,null,0,null,29887.07,null,29887,null,3011.29,null,3011,null,0,null,0,null,0,null,0,null,0,null,0,null,0,null,0,null,0,null,0,null,0,null,0,null,"NO",{"$f":"IF(ISERROR(VLOOKUP($A238+8860000,'Growth Data'!$A:$F,3,0)),\"NO\",VLOOKUP($A238+8860000,'Growth Data'!$A:$F,3,0))","v":"NO"},0,null,0,{"$f":"IF(DI238=\"YES\",IF(ISERROR(VLOOKUP($A238+8860000,'Growth Data'!$A:$F,6,0)),0,VLOOKUP($A238+8860000,'Growth Data'!$A:$F,6,0)),0)","v":0},0,null,0,{"$f":"IF(ISERROR(VLOOKUP($A238+8860000,'Growth Data'!$A:$Z,7,0)),0,VLOOKUP($A238+8860000,'Growth Data'!$A:$Z,7,0))","v":0},0,null,"NO",{"$f":"IF(ISERROR(VLOOKUP($A238+8860000,'Growth Data'!$A:$F,4,0)),\"NO\",VLOOKUP($A238+8860000,'Growth Data'!$A:$F,4,0))","v":"NO"},0,null,0,{"$f":"IF(ISERROR(VLOOKUP($A238+8860000,'Growth Data'!$A:$Z,8,0)),0,VLOOKUP($A238+8860000,'Growth Data'!$A:$Z,8,0))","v":0},0,null,0,{"$f":"IF(ISERROR(VLOOKUP($A238+8860000,'Growth Data'!$A:$Z,9,0)),0,VLOOKUP($A238+8860000,'Growth Data'!$A:$Z,9,0))","v":0},0,null,"NO",{"$f":"IF(ISERROR(VLOOKUP($A238+8860000,'Growth Data'!$A:$Z,5,0)),\"NO\",VLOOKUP($A238+8860000,'Growth Data'!$A:$Z,5,0))","v":"NO"},0,null,0,{"$f":"IF(ISERROR(VLOOKUP($A238+8860000,'Growth Data'!$A:$Z,10,0)),0,VLOOKUP($A238+8860000,'Growth Data'!$A:$Z,10,0))","v":0},0,null,0,{"$f":"IF(ISERROR(VLOOKUP($A238+8860000,'Growth Data'!$A:$Z,11,0)),0,VLOOKUP($A238+8860000,'Growth Data'!$A:$Z,11,0))","v":0},0]
[3320,"St Barnabas CEP School",null,"St Barnabas CEP School","St Barnabas CEP School",0,null,571768.17000000004,571768.16800479998,0,null,38474.86,38474.857704776121,0,null,21679.67,21679.667757303378,0,null,42817.17,42817.170713449668,0,null,120082.8,120082.8,0,null,0,0,0,null,0,0,0,null,0,0,0,null,2923,2923,0,null,0,0,0,null,0,0,0,null,0,0,0,null,797745.66,797745.66418032919,0,null,52655.65,52655.648881070199,0,null,850401.31,850401.31306139939,0,null,0,null,0,null,850401.31,850401.31306139939,0,null,0,null,0,null,92034.86,null,92035,null,0,null,0,null,0,null,0,null,0,null,0,null,0,null,0,null,0,null,0,null,0,null,0,null,0,null,0,null,"NO",{"$f":"IF(ISERROR(VLOOKUP($A239+8860000,'Growth Data'!$A:$F,3,0)),\"NO\",VLOOKUP($A239+8860000,'Growth Data'!$A:$F,3,0))","v":"NO"},0,null,0,{"$f":"IF(DI239=\"YES\",IF(ISERROR(VLOOKUP($A239+8860000,'Growth Data'!$A:$F,6,0)),0,VLOOKUP($A239+8860000,'Growth Data'!$A:$F,6,0)),0)","v":0},0,null,0,{"$f":"IF(ISERROR(VLOOKUP($A239+8860000,'Growth Data'!$A:$Z,7,0)),0,VLOOKUP($A239+8860000,'Growth Data'!$A:$Z,7,0))","v":0},0,null,"NO",{"$f":"IF(ISERROR(VLOOKUP($A239+8860000,'Growth Data'!$A:$F,4,0)),\"NO\",VLOOKUP($A239+8860000,'Growth Data'!$A:$F,4,0))","v":"NO"},0,null,0,{"$f":"IF(ISERROR(VLOOKUP($A239+8860000,'Growth Data'!$A:$Z,8,0)),0,VLOOKUP($A239+8860000,'Growth Data'!$A:$Z,8,0))","v":0},0,null,0,{"$f":"IF(ISERROR(VLOOKUP($A239+8860000,'Growth Data'!$A:$Z,9,0)),0,VLOOKUP($A239+8860000,'Growth Data'!$A:$Z,9,0))","v":0},0,null,"NO",{"$f":"IF(ISERROR(VLOOKUP($A239+8860000,'Growth Data'!$A:$Z,5,0)),\"NO\",VLOOKUP($A239+8860000,'Growth Data'!$A:$Z,5,0))","v":"NO"},0,null,0,{"$f":"IF(ISERROR(VLOOKUP($A239+8860000,'Growth Data'!$A:$Z,10,0)),0,VLOOKUP($A239+8860000,'Growth Data'!$A:$Z,10,0))","v":0},0,null,0,{"$f":"IF(ISERROR(VLOOKUP($A239+8860000,'Growth Data'!$A:$Z,11,0)),0,VLOOKUP($A239+8860000,'Growth Data'!$A:$Z,11,0))","v":0},0]
[3322,"St James' CEI School",null,"St James' CEI School","St James' CEI School",0,null,739450.18,739450.17881389998,0,null,8140.81,8140.8132879999921,0,null,33489.410000000003,33489.411985674138,0,null,41036.910000000003,41036.909794233463,0,null,120082.8,120082.8,0,null,0,0,0,null,0,0,0,null,0,0,0,null,4334,4334,0,null,0,0,0,null,0,0,0,null,0,0,0,null,946534.11,946534.11388180766,0,null,0,0,0,null,946534.11,946534.11388180766,0,null,0,null,0,null,946534.11,946534.11388180766,0,null,0,null,0,null,86700.62,null,86701,null,0,null,0,null,0,null,0,null,0,null,0,null,0,null,0,null,0,null,0,null,0,null,0,null,0,null,0,null,"NO",{"$f":"IF(ISERROR(VLOOKUP($A240+8860000,'Growth Data'!$A:$F,3,0)),\"NO\",VLOOKUP($A240+8860000,'Growth Data'!$A:$F,3,0))","v":"NO"},0,null,0,{"$f":"IF(DI240=\"YES\",IF(ISERROR(VLOOKUP($A240+8860000,'Growth Data'!$A:$F,6,0)),0,VLOOKUP($A240+8860000,'Growth Data'!$A:$F,6,0)),0)","v":0},0,null,0,{"$f":"IF(ISERROR(VLOOKUP($A240+8860000,'Growth Data'!$A:$Z,7,0)),0,VLOOKUP($A240+8860000,'Growth Data'!$A:$Z,7,0))","v":0},0,null,"NO",{"$f":"IF(ISERROR(VLOOKUP($A240+8860000,'Growth Data'!$A:$F,4,0)),\"NO\",VLOOKUP($A240+8860000,'Growth Data'!$A:$F,4,0))","v":"NO"},0,null,0,{"$f":"IF(ISERROR(VLOOKUP($A240+8860000,'Growth Data'!$A:$Z,8,0)),0,VLOOKUP($A240+8860000,'Growth Data'!$A:$Z,8,0))","v":0},0,null,0,{"$f":"IF(ISERROR(VLOOKUP($A240+8860000,'Growth Data'!$A:$Z,9,0)),0,VLOOKUP($A240+8860000,'Growth Data'!$A:$Z,9,0))","v":0},0,null,"NO",{"$f":"IF(ISERROR(VLOOKUP($A240+8860000,'Growth Data'!$A:$Z,5,0)),\"NO\",VLOOKUP($A240+8860000,'Growth Data'!$A:$Z,5,0))","v":"NO"},0,null,0,{"$f":"IF(ISERROR(VLOOKUP($A240+8860000,'Growth Data'!$A:$Z,10,0)),0,VLOOKUP($A240+8860000,'Growth Data'!$A:$Z,10,0))","v":0},0,null,0,{"$f":"IF(ISERROR(VLOOKUP($A240+8860000,'Growth Data'!$A:$Z,11,0)),0,VLOOKUP($A240+8860000,'Growth Data'!$A:$Z,11,0))","v":0},0]
[3323,"Hunton CEP School",null,"Hunton CEP School","Hunton CEP School",0,null,269390.77,269390.77146379999,0,null,9227.2199999999993,9227.2169630269709,0,null,608.49,608.49185903614273,0,null,14384.56,14384.56454236126,0,null,120082.8,120082.8,0,null,0,0,0,null,0,0,0,null,0,0,0,null,4392,4392,0,null,0,0,0,null,0,0,0,null,0,0,0,null,418085.84,418085.84482822433,0,null,0,0,0,null,418085.84,418085.84482822433,0,null,0,null,0,null,418085.84,418085.84482822433,0,null,0,null,0,null,28694.06,null,28694,null,3130.59,null,3131,null,0,null,0,null,0,null,0,null,0,null,0,null,0,null,0,null,0,null,0,null,0,null,0,null,"NO",{"$f":"IF(ISERROR(VLOOKUP($A241+8860000,'Growth Data'!$A:$F,3,0)),\"NO\",VLOOKUP($A241+8860000,'Growth Data'!$A:$F,3,0))","v":"NO"},0,null,0,{"$f":"IF(DI241=\"YES\",IF(ISERROR(VLOOKUP($A241+8860000,'Growth Data'!$A:$F,6,0)),0,VLOOKUP($A241+8860000,'Growth Data'!$A:$F,6,0)),0)","v":0},0,null,0,{"$f":"IF(ISERROR(VLOOKUP($A241+8860000,'Growth Data'!$A:$Z,7,0)),0,VLOOKUP($A241+8860000,'Growth Data'!$A:$Z,7,0))","v":0},0,null,"NO",{"$f":"IF(ISERROR(VLOOKUP($A241+8860000,'Growth Data'!$A:$F,4,0)),\"NO\",VLOOKUP($A241+8860000,'Growth Data'!$A:$F,4,0))","v":"NO"},0,null,0,{"$f":"IF(ISERROR(VLOOKUP($A241+8860000,'Growth Data'!$A:$Z,8,0)),0,VLOOKUP($A241+8860000,'Growth Data'!$A:$Z,8,0))","v":0},0,null,0,{"$f":"IF(ISERROR(VLOOKUP($A241+8860000,'Growth Data'!$A:$Z,9,0)),0,VLOOKUP($A241+8860000,'Growth Data'!$A:$Z,9,0))","v":0},0,null,"NO",{"$f":"IF(ISERROR(VLOOKUP($A241+8860000,'Growth Data'!$A:$Z,5,0)),\"NO\",VLOOKUP($A241+8860000,'Growth Data'!$A:$Z,5,0))","v":"NO"},0,null,0,{"$f":"IF(ISERROR(VLOOKUP($A241+8860000,'Growth Data'!$A:$Z,10,0)),0,VLOOKUP($A241+8860000,'Growth Data'!$A:$Z,10,0))","v":0},0,null,0,{"$f":"IF(ISERROR(VLOOKUP($A241+8860000,'Growth Data'!$A:$Z,11,0)),0,VLOOKUP($A241+8860000,'Growth Data'!$A:$Z,11,0))","v":0},0]
[3325,"Platt CEP School",null,"Platt CEP School","Platt CEP School",0,null,417830.58,417830.58431120001,0,null,12187,12186.997824864869,0,null,1195.94,1195.939132824429,0,null,24402.39,24402.386277219994,0,null,120082.8,120082.8,0,null,0,0,0,null,0,0,0,null,0,0,0,null,6246,6246,0,null,0,0,0,null,0,0,0,null,0,0,0,null,581944.71,581944.70754610933,0,null,0,0,0,null,581944.71,581944.70754610933,0,null,0,null,0,null,581944.71,581944.70754610933,0,null,0,null,0,null,41378.5,null,41379,null,1862.15,null,1862,null,0,null,0,null,0,null,0,null,0,null,0,null,0,null,0,null,0,null,0,null,0,null,0,null,"NO",{"$f":"IF(ISERROR(VLOOKUP($A242+8860000,'Growth Data'!$A:$F,3,0)),\"NO\",VLOOKUP($A242+8860000,'Growth Data'!$A:$F,3,0))","v":"NO"},0,null,0,{"$f":"IF(DI242=\"YES\",IF(ISERROR(VLOOKUP($A242+8860000,'Growth Data'!$A:$F,6,0)),0,VLOOKUP($A242+8860000,'Growth Data'!$A:$F,6,0)),0)","v":0},0,null,0,{"$f":"IF(ISERROR(VLOOKUP($A242+8860000,'Growth Data'!$A:$Z,7,0)),0,VLOOKUP($A242+8860000,'Growth Data'!$A:$Z,7,0))","v":0},0,null,"NO",{"$f":"IF(ISERROR(VLOOKUP($A242+8860000,'Growth Data'!$A:$F,4,0)),\"NO\",VLOOKUP($A242+8860000,'Growth Data'!$A:$F,4,0))","v":"NO"},0,null,0,{"$f":"IF(ISERROR(VLOOKUP($A242+8860000,'Growth Data'!$A:$Z,8,0)),0,VLOOKUP($A242+8860000,'Growth Data'!$A:$Z,8,0))","v":0},0,null,0,{"$f":"IF(ISERROR(VLOOKUP($A242+8860000,'Growth Data'!$A:$Z,9,0)),0,VLOOKUP($A242+8860000,'Growth Data'!$A:$Z,9,0))","v":0},0,null,"NO",{"$f":"IF(ISERROR(VLOOKUP($A242+8860000,'Growth Data'!$A:$Z,5,0)),\"NO\",VLOOKUP($A242+8860000,'Growth Data'!$A:$Z,5,0))","v":"NO"},0,null,0,{"$f":"IF(ISERROR(VLOOKUP($A242+8860000,'Growth Data'!$A:$Z,10,0)),0,VLOOKUP($A242+8860000,'Growth Data'!$A:$Z,10,0))","v":0},0,null,0,{"$f":"IF(ISERROR(VLOOKUP($A242+8860000,'Growth Data'!$A:$Z,11,0)),0,VLOOKUP($A242+8860000,'Growth Data'!$A:$Z,11,0))","v":0},0]
[3328,"Bapchild & Tonge CEP School",null,"Bapchild & Tonge CEP School","Bapchild & Tonge CEP School",0,null,552525.97,552525.97004309995,0,null,41541.360000000001,41541.356643168314,0,null,4240.38,4240.3799850877213,0,null,36182.97,36182.967991134043,0,null,120082.8,120082.8,0,null,0,0,0,null,0,0,0,null,0,0,0,null,3452,3452,0,null,0,0,0,null,0,0,0,null,0,0,0,null,758025.47,758025.47466248996,0,null,0,0,0,null,758025.47,758025.47466248996,0,null,0,null,0,null,758025.47,758025.47466248996,0,null,0,null,0,null,81154.850000000006,null,81155,null,0,null,0,null,0,null,0,null,0,null,0,null,0,null,0,null,0,null,0,null,0,null,0,null,0,null,0,null,"NO",{"$f":"IF(ISERROR(VLOOKUP($A243+8860000,'Growth Data'!$A:$F,3,0)),\"NO\",VLOOKUP($A243+8860000,'Growth Data'!$A:$F,3,0))","v":"NO"},0,null,0,{"$f":"IF(DI243=\"YES\",IF(ISERROR(VLOOKUP($A243+8860000,'Growth Data'!$A:$F,6,0)),0,VLOOKUP($A243+8860000,'Growth Data'!$A:$F,6,0)),0)","v":0},0,null,0,{"$f":"IF(ISERROR(VLOOKUP($A243+8860000,'Growth Data'!$A:$Z,7,0)),0,VLOOKUP($A243+8860000,'Growth Data'!$A:$Z,7,0))","v":0},0,null,"NO",{"$f":"IF(ISERROR(VLOOKUP($A243+8860000,'Growth Data'!$A:$F,4,0)),\"NO\",VLOOKUP($A243+8860000,'Growth Data'!$A:$F,4,0))","v":"NO"},0,null,0,{"$f":"IF(ISERROR(VLOOKUP($A243+8860000,'Growth Data'!$A:$Z,8,0)),0,VLOOKUP($A243+8860000,'Growth Data'!$A:$Z,8,0))","v":0},0,null,0,{"$f":"IF(ISERROR(VLOOKUP($A243+8860000,'Growth Data'!$A:$Z,9,0)),0,VLOOKUP($A243+8860000,'Growth Data'!$A:$Z,9,0))","v":0},0,null,"NO",{"$f":"IF(ISERROR(VLOOKUP($A243+8860000,'Growth Data'!$A:$Z,5,0)),\"NO\",VLOOKUP($A243+8860000,'Growth Data'!$A:$Z,5,0))","v":"NO"},0,null,0,{"$f":"IF(ISERROR(VLOOKUP($A243+8860000,'Growth Data'!$A:$Z,10,0)),0,VLOOKUP($A243+8860000,'Growth Data'!$A:$Z,10,0))","v":0},0,null,0,{"$f":"IF(ISERROR(VLOOKUP($A243+8860000,'Growth Data'!$A:$Z,11,0)),0,VLOOKUP($A243+8860000,'Growth Data'!$A:$Z,11,0))","v":0},0]
[3332,"Hartlip Endowed CEP School",null,"Hartlip Endowed CEP School","Hartlip Endowed CEP School",0,null,285884.08,285884.08400239999,0,null,10695.37,10695.374720000003,0,null,0,0,0,null,20816.25,20816.252955550637,0,null,120082.8,120082.8,0,null,0,0,0,null,0,0,0,null,0,0,0,null,1398,1398,0,null,0,0,0,null,0,0,0,null,0,0,0,null,438876.51,438876.51167795062,0,null,0,0,0,null,438876.51,438876.51167795062,0,null,0,null,0,null,438876.51,438876.51167795062,0,null,0,null,0,null,35104.81,null,35105,null,2489.52,null,2490,null,0,null,0,null,0,null,0,null,0,null,0,null,0,null,0,null,0,null,0,null,0,null,0,null,"NO",{"$f":"IF(ISERROR(VLOOKUP($A244+8860000,'Growth Data'!$A:$F,3,0)),\"NO\",VLOOKUP($A244+8860000,'Growth Data'!$A:$F,3,0))","v":"NO"},0,null,0,{"$f":"IF(DI244=\"YES\",IF(ISERROR(VLOOKUP($A244+8860000,'Growth Data'!$A:$F,6,0)),0,VLOOKUP($A244+8860000,'Growth Data'!$A:$F,6,0)),0)","v":0},0,null,0,{"$f":"IF(ISERROR(VLOOKUP($A244+8860000,'Growth Data'!$A:$Z,7,0)),0,VLOOKUP($A244+8860000,'Growth Data'!$A:$Z,7,0))","v":0},0,null,"NO",{"$f":"IF(ISERROR(VLOOKUP($A244+8860000,'Growth Data'!$A:$F,4,0)),\"NO\",VLOOKUP($A244+8860000,'Growth Data'!$A:$F,4,0))","v":"NO"},0,null,0,{"$f":"IF(ISERROR(VLOOKUP($A244+8860000,'Growth Data'!$A:$Z,8,0)),0,VLOOKUP($A244+8860000,'Growth Data'!$A:$Z,8,0))","v":0},0,null,0,{"$f":"IF(ISERROR(VLOOKUP($A244+8860000,'Growth Data'!$A:$Z,9,0)),0,VLOOKUP($A244+8860000,'Growth Data'!$A:$Z,9,0))","v":0},0,null,"NO",{"$f":"IF(ISERROR(VLOOKUP($A244+8860000,'Growth Data'!$A:$Z,5,0)),\"NO\",VLOOKUP($A244+8860000,'Growth Data'!$A:$Z,5,0))","v":"NO"},0,null,0,{"$f":"IF(ISERROR(VLOOKUP($A244+8860000,'Growth Data'!$A:$Z,10,0)),0,VLOOKUP($A244+8860000,'Growth Data'!$A:$Z,10,0))","v":0},0,null,0,{"$f":"IF(ISERROR(VLOOKUP($A244+8860000,'Growth Data'!$A:$Z,11,0)),0,VLOOKUP($A244+8860000,'Growth Data'!$A:$Z,11,0))","v":0},0]
[3337,"Tunstall CEP School",null,"Tunstall CEP School","Tunstall CEP School",0,null,907132.19,907132.18962299998,0,null,17173.04,17173.041228000009,0,null,5039.03,5039.0300888888842,0,null,43868.21,43868.213775703152,0,null,120082.8,120082.8,0,null,0,0,0,null,0,0,0,null,0,0,0,null,11274,11274,0,null,0,0,0,null,0,0,0,null,28704.73,28704.725284408079,0,null,1133274,1133274,0,null,0,0,0,null,1133274,1133274,0,null,0,null,0,null,1133274,1133274,0,null,0,null,0,null,70113.77,null,70114,null,0,null,0,null,0,null,0,null,0,null,0,null,0,null,0,null,0,null,0,null,0,null,0,null,0,null,0,null,"YES",{"$f":"IF(ISERROR(VLOOKUP($A245+8860000,'Growth Data'!$A:$F,3,0)),\"NO\",VLOOKUP($A245+8860000,'Growth Data'!$A:$F,3,0))","v":"YES"},0,null,30,{"$f":"IF(DI245=\"YES\",IF(ISERROR(VLOOKUP($A245+8860000,'Growth Data'!$A:$F,6,0)),0,VLOOKUP($A245+8860000,'Growth Data'!$A:$F,6,0)),0)","v":31},-1,null,60,{"$f":"IF(ISERROR(VLOOKUP($A245+8860000,'Growth Data'!$A:$Z,7,0)),0,VLOOKUP($A245+8860000,'Growth Data'!$A:$Z,7,0))","v":60},0,null,"YES",{"$f":"IF(ISERROR(VLOOKUP($A245+8860000,'Growth Data'!$A:$F,4,0)),\"NO\",VLOOKUP($A245+8860000,'Growth Data'!$A:$F,4,0))","v":"YES"},0,null,30,{"$f":"IF(ISERROR(VLOOKUP($A245+8860000,'Growth Data'!$A:$Z,8,0)),0,VLOOKUP($A245+8860000,'Growth Data'!$A:$Z,8,0))","v":30},0,null,60,{"$f":"IF(ISERROR(VLOOKUP($A245+8860000,'Growth Data'!$A:$Z,9,0)),0,VLOOKUP($A245+8860000,'Growth Data'!$A:$Z,9,0))","v":60},0,null,"YES",{"$f":"IF(ISERROR(VLOOKUP($A245+8860000,'Growth Data'!$A:$Z,5,0)),\"NO\",VLOOKUP($A245+8860000,'Growth Data'!$A:$Z,5,0))","v":"YES"},0,null,30,{"$f":"IF(ISERROR(VLOOKUP($A245+8860000,'Growth Data'!$A:$Z,10,0)),0,VLOOKUP($A245+8860000,'Growth Data'!$A:$Z,10,0))","v":30},0,null,60,{"$f":"IF(ISERROR(VLOOKUP($A245+8860000,'Growth Data'!$A:$Z,11,0)),0,VLOOKUP($A245+8860000,'Growth Data'!$A:$Z,11,0))","v":60},0]
[3338,"Herne CEJ School",null,"Herne CEJ School","Herne CEJ School",0,null,1006092.06,1006092.0648546,0,null,35500.370000000003,35500.367560221617,0,null,2061.42,2061.4214000000043,0,null,60677.68,60677.67906973444,0,null,120082.8,120082.8,0,null,0,0,0,null,0,0,0,null,0,0,0,null,7711,7711,0,null,0,0,0,null,0,0,0,null,19985.669999999998,19985.667115443852,0,null,1252111,1252111,0,null,0,0,0,null,1252111,1252111,0,null,0,null,0,null,1252111,1252111,0,null,0,null,0,null,92145.97,null,92146,null,0,null,0,null,0,null,0,null,0,null,0,null,0,null,0,null,0,null,0,null,0,null,0,null,0,null,0,null,"NO",{"$f":"IF(ISERROR(VLOOKUP($A246+8860000,'Growth Data'!$A:$F,3,0)),\"NO\",VLOOKUP($A246+8860000,'Growth Data'!$A:$F,3,0))","v":"NO"},0,null,0,{"$f":"IF(DI246=\"YES\",IF(ISERROR(VLOOKUP($A246+8860000,'Growth Data'!$A:$F,6,0)),0,VLOOKUP($A246+8860000,'Growth Data'!$A:$F,6,0)),0)","v":0},0,null,0,{"$f":"IF(ISERROR(VLOOKUP($A246+8860000,'Growth Data'!$A:$Z,7,0)),0,VLOOKUP($A246+8860000,'Growth Data'!$A:$Z,7,0))","v":0},0,null,"NO",{"$f":"IF(ISERROR(VLOOKUP($A246+8860000,'Growth Data'!$A:$F,4,0)),\"NO\",VLOOKUP($A246+8860000,'Growth Data'!$A:$F,4,0))","v":"NO"},0,null,0,{"$f":"IF(ISERROR(VLOOKUP($A246+8860000,'Growth Data'!$A:$Z,8,0)),0,VLOOKUP($A246+8860000,'Growth Data'!$A:$Z,8,0))","v":0},0,null,0,{"$f":"IF(ISERROR(VLOOKUP($A246+8860000,'Growth Data'!$A:$Z,9,0)),0,VLOOKUP($A246+8860000,'Growth Data'!$A:$Z,9,0))","v":0},0,null,"NO",{"$f":"IF(ISERROR(VLOOKUP($A246+8860000,'Growth Data'!$A:$Z,5,0)),\"NO\",VLOOKUP($A246+8860000,'Growth Data'!$A:$Z,5,0))","v":"NO"},0,null,0,{"$f":"IF(ISERROR(VLOOKUP($A246+8860000,'Growth Data'!$A:$Z,10,0)),0,VLOOKUP($A246+8860000,'Growth Data'!$A:$Z,10,0))","v":0},0,null,0,{"$f":"IF(ISERROR(VLOOKUP($A246+8860000,'Growth Data'!$A:$Z,11,0)),0,VLOOKUP($A246+8860000,'Growth Data'!$A:$Z,11,0))","v":0},0]
[3339,"Whitstable & Seasalter Endowed CEJ School",null,"Whitstable & Seasalter Endowed CEJ School","Whitstable & Seasalter Endowed CEJ School",0,null,527786,527786.00123519998,0,null,17853.810000000001,17853.805476804129,0,null,1554.16,1554.1606366492133,0,null,33513.730000000003,33513.734488104797,0,null,120082.8,120082.8,0,null,0,0,0,null,0,0,0,null,0,0,0,null,3528,3528,0,null,0,0,0,null,0,0,0,null,0,0,0,null,704318.5,704318.50183675822,0,null,0,0,0,null,704318.5,704318.50183675822,0,null,0,null,0,null,704318.5,704318.50183675822,0,null,0,null,0,null,55193.97,null,55194,null,480.6,null,481,null,0,null,0,null,0,null,0,null,0,null,0,null,0,null,0,null,0,null,0,null,0,null,0,null,"NO",{"$f":"IF(ISERROR(VLOOKUP($A247+8860000,'Growth Data'!$A:$F,3,0)),\"NO\",VLOOKUP($A247+8860000,'Growth Data'!$A:$F,3,0))","v":"NO"},0,null,0,{"$f":"IF(DI247=\"YES\",IF(ISERROR(VLOOKUP($A247+8860000,'Growth Data'!$A:$F,6,0)),0,VLOOKUP($A247+8860000,'Growth Data'!$A:$F,6,0)),0)","v":0},0,null,0,{"$f":"IF(ISERROR(VLOOKUP($A247+8860000,'Growth Data'!$A:$Z,7,0)),0,VLOOKUP($A247+8860000,'Growth Data'!$A:$Z,7,0))","v":0},0,null,"NO",{"$f":"IF(ISERROR(VLOOKUP($A247+8860000,'Growth Data'!$A:$F,4,0)),\"NO\",VLOOKUP($A247+8860000,'Growth Data'!$A:$F,4,0))","v":"NO"},0,null,0,{"$f":"IF(ISERROR(VLOOKUP($A247+8860000,'Growth Data'!$A:$Z,8,0)),0,VLOOKUP($A247+8860000,'Growth Data'!$A:$Z,8,0))","v":0},0,null,0,{"$f":"IF(ISERROR(VLOOKUP($A247+8860000,'Growth Data'!$A:$Z,9,0)),0,VLOOKUP($A247+8860000,'Growth Data'!$A:$Z,9,0))","v":0},0,null,"NO",{"$f":"IF(ISERROR(VLOOKUP($A247+8860000,'Growth Data'!$A:$Z,5,0)),\"NO\",VLOOKUP($A247+8860000,'Growth Data'!$A:$Z,5,0))","v":"NO"},0,null,0,{"$f":"IF(ISERROR(VLOOKUP($A247+8860000,'Growth Data'!$A:$Z,10,0)),0,VLOOKUP($A247+8860000,'Growth Data'!$A:$Z,10,0))","v":0},0,null,0,{"$f":"IF(ISERROR(VLOOKUP($A247+8860000,'Growth Data'!$A:$Z,11,0)),0,VLOOKUP($A247+8860000,'Growth Data'!$A:$Z,11,0))","v":0},0]
[3340,"St Mary's CEP School, Ashford",null,"St Mary's CEP School, Ashford","St Mary's CEP School, Ashford",0,null,1151782.99,1151782.9922789,0,null,111216.67,111216.67123012326,0,null,21653.54,21653.537881336953,0,null,104570.02,104570.02295233565,0,null,120082.8,120082.8,0,null,0,0,0,null,0,0,0,null,0,0,0,null,8820,8820,0,null,0,0,0,null,0,0,0,null,0,0,0,null,1518126.02,1518126.0243426959,0,null,0,0,0,null,1518126.02,1518126.0243426959,0,null,0,null,0,null,1518126.02,1518126.0243426959,0,null,0,null,0,null,215495.8,null,215496,null,0,null,0,null,0,null,0,null,0,null,0,null,0,null,0,null,0,null,0,null,0,null,0,null,0,null,0,null,"NO",{"$f":"IF(ISERROR(VLOOKUP($A248+8860000,'Growth Data'!$A:$F,3,0)),\"NO\",VLOOKUP($A248+8860000,'Growth Data'!$A:$F,3,0))","v":"NO"},0,null,0,{"$f":"IF(DI248=\"YES\",IF(ISERROR(VLOOKUP($A248+8860000,'Growth Data'!$A:$F,6,0)),0,VLOOKUP($A248+8860000,'Growth Data'!$A:$F,6,0)),0)","v":0},0,null,0,{"$f":"IF(ISERROR(VLOOKUP($A248+8860000,'Growth Data'!$A:$Z,7,0)),0,VLOOKUP($A248+8860000,'Growth Data'!$A:$Z,7,0))","v":0},0,null,"NO",{"$f":"IF(ISERROR(VLOOKUP($A248+8860000,'Growth Data'!$A:$F,4,0)),\"NO\",VLOOKUP($A248+8860000,'Growth Data'!$A:$F,4,0))","v":"NO"},0,null,0,{"$f":"IF(ISERROR(VLOOKUP($A248+8860000,'Growth Data'!$A:$Z,8,0)),0,VLOOKUP($A248+8860000,'Growth Data'!$A:$Z,8,0))","v":0},0,null,0,{"$f":"IF(ISERROR(VLOOKUP($A248+8860000,'Growth Data'!$A:$Z,9,0)),0,VLOOKUP($A248+8860000,'Growth Data'!$A:$Z,9,0))","v":0},0,null,"NO",{"$f":"IF(ISERROR(VLOOKUP($A248+8860000,'Growth Data'!$A:$Z,5,0)),\"NO\",VLOOKUP($A248+8860000,'Growth Data'!$A:$Z,5,0))","v":"NO"},0,null,0,{"$f":"IF(ISERROR(VLOOKUP($A248+8860000,'Growth Data'!$A:$Z,10,0)),0,VLOOKUP($A248+8860000,'Growth Data'!$A:$Z,10,0))","v":0},0,null,0,{"$f":"IF(ISERROR(VLOOKUP($A248+8860000,'Growth Data'!$A:$Z,11,0)),0,VLOOKUP($A248+8860000,'Growth Data'!$A:$Z,11,0))","v":0},0]
[3346,"Wittersham CEP School",null,"Wittersham CEP School","Wittersham CEP School",0,null,357355.11,357355.105003,0,null,16614.080000000002,16614.078760655742,0,null,582.58000000000004,582.57561304347803,0,null,32370.51,32370.512408557111,0,null,120082.8,120082.8,0,null,6613.37,6613.3718291054684,0,null,0,0,0,null,0,0,0,null,3452,3452,0,null,0,0,0,null,0,0,0,null,0,0,0,null,537070.43999999994,537070.44361436181,0,null,0,0,0,null,537070.43999999994,537070.44361436181,0,null,0,null,0,null,537070.43999999994,537070.44361436181,0,null,0,null,0,null,51839.43,null,51839,null,816.06,null,816,null,0,null,0,null,0,null,0,null,0,null,0,null,0,null,0,null,0,null,0,null,0,null,0,null,"NO",{"$f":"IF(ISERROR(VLOOKUP($A249+8860000,'Growth Data'!$A:$F,3,0)),\"NO\",VLOOKUP($A249+8860000,'Growth Data'!$A:$F,3,0))","v":"NO"},0,null,0,{"$f":"IF(DI249=\"YES\",IF(ISERROR(VLOOKUP($A249+8860000,'Growth Data'!$A:$F,6,0)),0,VLOOKUP($A249+8860000,'Growth Data'!$A:$F,6,0)),0)","v":0},0,null,0,{"$f":"IF(ISERROR(VLOOKUP($A249+8860000,'Growth Data'!$A:$Z,7,0)),0,VLOOKUP($A249+8860000,'Growth Data'!$A:$Z,7,0))","v":0},0,null,"NO",{"$f":"IF(ISERROR(VLOOKUP($A249+8860000,'Growth Data'!$A:$F,4,0)),\"NO\",VLOOKUP($A249+8860000,'Growth Data'!$A:$F,4,0))","v":"NO"},0,null,0,{"$f":"IF(ISERROR(VLOOKUP($A249+8860000,'Growth Data'!$A:$Z,8,0)),0,VLOOKUP($A249+8860000,'Growth Data'!$A:$Z,8,0))","v":0},0,null,0,{"$f":"IF(ISERROR(VLOOKUP($A249+8860000,'Growth Data'!$A:$Z,9,0)),0,VLOOKUP($A249+8860000,'Growth Data'!$A:$Z,9,0))","v":0},0,null,"NO",{"$f":"IF(ISERROR(VLOOKUP($A249+8860000,'Growth Data'!$A:$Z,5,0)),\"NO\",VLOOKUP($A249+8860000,'Growth Data'!$A:$Z,5,0))","v":"NO"},0,null,0,{"$f":"IF(ISERROR(VLOOKUP($A249+8860000,'Growth Data'!$A:$Z,10,0)),0,VLOOKUP($A249+8860000,'Growth Data'!$A:$Z,10,0))","v":0},0,null,0,{"$f":"IF(ISERROR(VLOOKUP($A249+8860000,'Growth Data'!$A:$Z,11,0)),0,VLOOKUP($A249+8860000,'Growth Data'!$A:$Z,11,0))","v":0},0]
[3347,"Elham CEP School",null,"Elham CEP School","Elham CEP School",0,null,382095.07,382095.07381089998,0,null,15254.04,15254.040418507462,0,null,1193.9100000000001,1193.9065608333358,0,null,25935.5,25935.504212057418,0,null,120082.8,120082.8,0,null,3607.29,3607.2937249666188,0,null,0,0,0,null,0,0,0,null,3405,3405,0,null,0,0,0,null,0,0,0,null,0,0,0,null,551573.62,551573.61872726481,0,null,0,0,0,null,551573.62,551573.61872726481,0,null,0,null,0,null,551573.62,551573.61872726481,0,null,0,null,0,null,44655.72,null,44656,null,1534.43,null,1534,null,0,null,0,null,0,null,0,null,0,null,0,null,0,null,0,null,0,null,0,null,0,null,0,null,"NO",{"$f":"IF(ISERROR(VLOOKUP($A250+8860000,'Growth Data'!$A:$F,3,0)),\"NO\",VLOOKUP($A250+8860000,'Growth Data'!$A:$F,3,0))","v":"NO"},0,null,0,{"$f":"IF(DI250=\"YES\",IF(ISERROR(VLOOKUP($A250+8860000,'Growth Data'!$A:$F,6,0)),0,VLOOKUP($A250+8860000,'Growth Data'!$A:$F,6,0)),0)","v":0},0,null,0,{"$f":"IF(ISERROR(VLOOKUP($A250+8860000,'Growth Data'!$A:$Z,7,0)),0,VLOOKUP($A250+8860000,'Growth Data'!$A:$Z,7,0))","v":0},0,null,"NO",{"$f":"IF(ISERROR(VLOOKUP($A250+8860000,'Growth Data'!$A:$F,4,0)),\"NO\",VLOOKUP($A250+8860000,'Growth Data'!$A:$F,4,0))","v":"NO"},0,null,0,{"$f":"IF(ISERROR(VLOOKUP($A250+8860000,'Growth Data'!$A:$Z,8,0)),0,VLOOKUP($A250+8860000,'Growth Data'!$A:$Z,8,0))","v":0},0,null,0,{"$f":"IF(ISERROR(VLOOKUP($A250+8860000,'Growth Data'!$A:$Z,9,0)),0,VLOOKUP($A250+8860000,'Growth Data'!$A:$Z,9,0))","v":0},0,null,"NO",{"$f":"IF(ISERROR(VLOOKUP($A250+8860000,'Growth Data'!$A:$Z,5,0)),\"NO\",VLOOKUP($A250+8860000,'Growth Data'!$A:$Z,5,0))","v":"NO"},0,null,0,{"$f":"IF(ISERROR(VLOOKUP($A250+8860000,'Growth Data'!$A:$Z,10,0)),0,VLOOKUP($A250+8860000,'Growth Data'!$A:$Z,10,0))","v":0},0,null,0,{"$f":"IF(ISERROR(VLOOKUP($A250+8860000,'Growth Data'!$A:$Z,11,0)),0,VLOOKUP($A250+8860000,'Growth Data'!$A:$Z,11,0))","v":0},0]
[3350,"Saltwood CEP School",null,"Saltwood CEP School","Saltwood CEP School",0,null,607503.68000000005,607503.67850509996,0,null,13710.13,13710.126191454552,0,null,2372.7800000000002,2372.78192395833,0,null,32438.66,32438.660855733044,0,null,120082.8,120082.8,0,null,0,0,0,null,0,0,0,null,0,0,0,null,5141,5141,0,null,0,0,0,null,0,0,0,null,0,0,0,null,781249.05,781249.04747624602,0,null,0,0,0,null,781249.05,781249.04747624602,0,null,0,null,0,null,781249.05,781249.04747624602,0,null,0,null,0,null,52555.05,null,52555,null,744.49,null,744,null,0,null,0,null,0,null,0,null,0,null,0,null,0,null,0,null,0,null,0,null,0,null,0,null,"NO",{"$f":"IF(ISERROR(VLOOKUP($A251+8860000,'Growth Data'!$A:$F,3,0)),\"NO\",VLOOKUP($A251+8860000,'Growth Data'!$A:$F,3,0))","v":"NO"},0,null,0,{"$f":"IF(DI251=\"YES\",IF(ISERROR(VLOOKUP($A251+8860000,'Growth Data'!$A:$F,6,0)),0,VLOOKUP($A251+8860000,'Growth Data'!$A:$F,6,0)),0)","v":0},0,null,0,{"$f":"IF(ISERROR(VLOOKUP($A251+8860000,'Growth Data'!$A:$Z,7,0)),0,VLOOKUP($A251+8860000,'Growth Data'!$A:$Z,7,0))","v":0},0,null,"NO",{"$f":"IF(ISERROR(VLOOKUP($A251+8860000,'Growth Data'!$A:$F,4,0)),\"NO\",VLOOKUP($A251+8860000,'Growth Data'!$A:$F,4,0))","v":"NO"},0,null,0,{"$f":"IF(ISERROR(VLOOKUP($A251+8860000,'Growth Data'!$A:$Z,8,0)),0,VLOOKUP($A251+8860000,'Growth Data'!$A:$Z,8,0))","v":0},0,null,0,{"$f":"IF(ISERROR(VLOOKUP($A251+8860000,'Growth Data'!$A:$Z,9,0)),0,VLOOKUP($A251+8860000,'Growth Data'!$A:$Z,9,0))","v":0},0,null,"NO",{"$f":"IF(ISERROR(VLOOKUP($A251+8860000,'Growth Data'!$A:$Z,5,0)),\"NO\",VLOOKUP($A251+8860000,'Growth Data'!$A:$Z,5,0))","v":"NO"},0,null,0,{"$f":"IF(ISERROR(VLOOKUP($A251+8860000,'Growth Data'!$A:$Z,10,0)),0,VLOOKUP($A251+8860000,'Growth Data'!$A:$Z,10,0))","v":0},0,null,0,{"$f":"IF(ISERROR(VLOOKUP($A251+8860000,'Growth Data'!$A:$Z,11,0)),0,VLOOKUP($A251+8860000,'Growth Data'!$A:$Z,11,0))","v":0},0]
[3351,"Ash Cartwright and Kelsey CEP School",null,"Ash Cartwright and Kelsey CEP School","Ash Cartwright and Kelsey CEP School",0,null,423328.36,423328.35515740002,0,null,20438.189999999999,20438.194932378523,0,null,1125.74,1125.7407645390097,0,null,27448.1,27448.097647158742,0,null,120082.8,120082.8,0,null,0,0,0,null,0,0,0,null,0,0,0,null,6804,6804,0,null,0,0,0,null,0,0,0,null,0,0,0,null,599227.18999999994,599227.18850147631,0,null,0,0,0,null,599227.18999999994,599227.18850147631,0,null,0,null,0,null,599227.18999999994,599227.18850147631,0,null,4.9000000000000004,null,5,null,46440.959999999999,null,46441,null,1355.9,null,1356,null,0,null,0,null,0,null,0,null,0,null,0,null,0,null,0,null,0,null,0,null,0,null,0,null,"NO",{"$f":"IF(ISERROR(VLOOKUP($A252+8860000,'Growth Data'!$A:$F,3,0)),\"NO\",VLOOKUP($A252+8860000,'Growth Data'!$A:$F,3,0))","v":"NO"},0,null,0,{"$f":"IF(DI252=\"YES\",IF(ISERROR(VLOOKUP($A252+8860000,'Growth Data'!$A:$F,6,0)),0,VLOOKUP($A252+8860000,'Growth Data'!$A:$F,6,0)),0)","v":0},0,null,0,{"$f":"IF(ISERROR(VLOOKUP($A252+8860000,'Growth Data'!$A:$Z,7,0)),0,VLOOKUP($A252+8860000,'Growth Data'!$A:$Z,7,0))","v":0},0,null,"NO",{"$f":"IF(ISERROR(VLOOKUP($A252+8860000,'Growth Data'!$A:$F,4,0)),\"NO\",VLOOKUP($A252+8860000,'Growth Data'!$A:$F,4,0))","v":"NO"},0,null,0,{"$f":"IF(ISERROR(VLOOKUP($A252+8860000,'Growth Data'!$A:$Z,8,0)),0,VLOOKUP($A252+8860000,'Growth Data'!$A:$Z,8,0))","v":0},0,null,0,{"$f":"IF(ISERROR(VLOOKUP($A252+8860000,'Growth Data'!$A:$Z,9,0)),0,VLOOKUP($A252+8860000,'Growth Data'!$A:$Z,9,0))","v":0},0,null,"NO",{"$f":"IF(ISERROR(VLOOKUP($A252+8860000,'Growth Data'!$A:$Z,5,0)),\"NO\",VLOOKUP($A252+8860000,'Growth Data'!$A:$Z,5,0))","v":"NO"},0,null,0,{"$f":"IF(ISERROR(VLOOKUP($A252+8860000,'Growth Data'!$A:$Z,10,0)),0,VLOOKUP($A252+8860000,'Growth Data'!$A:$Z,10,0))","v":0},0,null,0,{"$f":"IF(ISERROR(VLOOKUP($A252+8860000,'Growth Data'!$A:$Z,11,0)),0,VLOOKUP($A252+8860000,'Growth Data'!$A:$Z,11,0))","v":0},0]
[3353,"Deal Parochial CEP School",null,"Deal Parochial CEP School","Deal Parochial CEP School",0,null,560772.63,560772.62631239998,0,null,62014.76,62014.760680000014,0,null,3021.05,3021.0486034482715,0,null,33947.440000000002,33947.435779255567,0,null,120082.8,120082.8,0,null,0,0,0,null,0,0,0,null,0,0,0,null,8064,8064,0,null,0,0,0,null,0,0,0,null,0,0,0,null,787902.67,787902.67137510399,0,null,0,0,0,null,787902.67,787902.67137510399,0,null,0,null,0,null,787902.67,787902.67137510399,0,null,0,null,0,null,88486.71,null,88487,null,0,null,0,null,0,null,0,null,0,null,0,null,0,null,0,null,0,null,0,null,0,null,0,null,0,null,0,null,"NO",{"$f":"IF(ISERROR(VLOOKUP($A253+8860000,'Growth Data'!$A:$F,3,0)),\"NO\",VLOOKUP($A253+8860000,'Growth Data'!$A:$F,3,0))","v":"NO"},0,null,0,{"$f":"IF(DI253=\"YES\",IF(ISERROR(VLOOKUP($A253+8860000,'Growth Data'!$A:$F,6,0)),0,VLOOKUP($A253+8860000,'Growth Data'!$A:$F,6,0)),0)","v":0},0,null,0,{"$f":"IF(ISERROR(VLOOKUP($A253+8860000,'Growth Data'!$A:$Z,7,0)),0,VLOOKUP($A253+8860000,'Growth Data'!$A:$Z,7,0))","v":0},0,null,"NO",{"$f":"IF(ISERROR(VLOOKUP($A253+8860000,'Growth Data'!$A:$F,4,0)),\"NO\",VLOOKUP($A253+8860000,'Growth Data'!$A:$F,4,0))","v":"NO"},0,null,0,{"$f":"IF(ISERROR(VLOOKUP($A253+8860000,'Growth Data'!$A:$Z,8,0)),0,VLOOKUP($A253+8860000,'Growth Data'!$A:$Z,8,0))","v":0},0,null,0,{"$f":"IF(ISERROR(VLOOKUP($A253+8860000,'Growth Data'!$A:$Z,9,0)),0,VLOOKUP($A253+8860000,'Growth Data'!$A:$Z,9,0))","v":0},0,null,"NO",{"$f":"IF(ISERROR(VLOOKUP($A253+8860000,'Growth Data'!$A:$Z,5,0)),\"NO\",VLOOKUP($A253+8860000,'Growth Data'!$A:$Z,5,0))","v":"NO"},0,null,0,{"$f":"IF(ISERROR(VLOOKUP($A253+8860000,'Growth Data'!$A:$Z,10,0)),0,VLOOKUP($A253+8860000,'Growth Data'!$A:$Z,10,0))","v":0},0,null,0,{"$f":"IF(ISERROR(VLOOKUP($A253+8860000,'Growth Data'!$A:$Z,11,0)),0,VLOOKUP($A253+8860000,'Growth Data'!$A:$Z,11,0))","v":0},0]
[3356,"St Mary's CEP School, Dover",null,"St Mary's CEP School, Dover","St Mary's CEP School, Dover",0,null,555274.86,555274.85546620004,0,null,103891.07,103891.06780271832,0,null,20578.259999999998,20578.258975581379,0,null,46143.75,46143.754482084616,0,null,120082.8,120082.8,0,null,0,0,0,null,0,0,0,null,0,0,0,null,4222,4222,0,null,0,0,0,null,0,0,0,null,0,0,0,null,850192.74,850192.7367265845,0,null,0,0,0,null,850192.74,850192.7367265845,0,null,0,null,0,null,850192.74,850192.7367265845,0,null,0,null,0,null,159235.94,null,159236,null,0,null,0,null,0,null,0,null,0,null,0,null,0,null,0,null,0,null,0,null,0,null,0,null,0,null,0,null,"NO",{"$f":"IF(ISERROR(VLOOKUP($A254+8860000,'Growth Data'!$A:$F,3,0)),\"NO\",VLOOKUP($A254+8860000,'Growth Data'!$A:$F,3,0))","v":"NO"},0,null,0,{"$f":"IF(DI254=\"YES\",IF(ISERROR(VLOOKUP($A254+8860000,'Growth Data'!$A:$F,6,0)),0,VLOOKUP($A254+8860000,'Growth Data'!$A:$F,6,0)),0)","v":0},0,null,0,{"$f":"IF(ISERROR(VLOOKUP($A254+8860000,'Growth Data'!$A:$Z,7,0)),0,VLOOKUP($A254+8860000,'Growth Data'!$A:$Z,7,0))","v":0},0,null,"NO",{"$f":"IF(ISERROR(VLOOKUP($A254+8860000,'Growth Data'!$A:$F,4,0)),\"NO\",VLOOKUP($A254+8860000,'Growth Data'!$A:$F,4,0))","v":"NO"},0,null,0,{"$f":"IF(ISERROR(VLOOKUP($A254+8860000,'Growth Data'!$A:$Z,8,0)),0,VLOOKUP($A254+8860000,'Growth Data'!$A:$Z,8,0))","v":0},0,null,0,{"$f":"IF(ISERROR(VLOOKUP($A254+8860000,'Growth Data'!$A:$Z,9,0)),0,VLOOKUP($A254+8860000,'Growth Data'!$A:$Z,9,0))","v":0},0,null,"NO",{"$f":"IF(ISERROR(VLOOKUP($A254+8860000,'Growth Data'!$A:$Z,5,0)),\"NO\",VLOOKUP($A254+8860000,'Growth Data'!$A:$Z,5,0))","v":"NO"},0,null,0,{"$f":"IF(ISERROR(VLOOKUP($A254+8860000,'Growth Data'!$A:$Z,10,0)),0,VLOOKUP($A254+8860000,'Growth Data'!$A:$Z,10,0))","v":0},0,null,0,{"$f":"IF(ISERROR(VLOOKUP($A254+8860000,'Growth Data'!$A:$Z,11,0)),0,VLOOKUP($A254+8860000,'Growth Data'!$A:$Z,11,0))","v":0},0]
[3358,"Sholden CEP School",null,"Sholden CEP School","Sholden CEP School",0,null,272139.65999999997,272139.65688690002,0,null,26200.75,26200.745660582506,0,null,600.24,600.23740764705678,0,null,11518.75,11518.749729976966,0,null,120082.8,120082.8,0,null,0,0,0,null,0,0,0,null,0,0,0,null,907,907,0,null,0,0,0,null,0,0,0,null,0,0,0,null,431449.19,431449.18968510657,0,null,0,0,0,null,431449.19,431449.18968510657,0,null,0,null,0,null,431449.19,431449.18968510657,0,null,0,null,0,null,39271.089999999997,null,39271,null,2072.89,null,2073,null,0,null,0,null,0,null,0,null,0,null,0,null,0,null,0,null,0,null,0,null,0,null,0,null,"NO",{"$f":"IF(ISERROR(VLOOKUP($A255+8860000,'Growth Data'!$A:$F,3,0)),\"NO\",VLOOKUP($A255+8860000,'Growth Data'!$A:$F,3,0))","v":"NO"},0,null,0,{"$f":"IF(DI255=\"YES\",IF(ISERROR(VLOOKUP($A255+8860000,'Growth Data'!$A:$F,6,0)),0,VLOOKUP($A255+8860000,'Growth Data'!$A:$F,6,0)),0)","v":0},0,null,0,{"$f":"IF(ISERROR(VLOOKUP($A255+8860000,'Growth Data'!$A:$Z,7,0)),0,VLOOKUP($A255+8860000,'Growth Data'!$A:$Z,7,0))","v":0},0,null,"NO",{"$f":"IF(ISERROR(VLOOKUP($A255+8860000,'Growth Data'!$A:$F,4,0)),\"NO\",VLOOKUP($A255+8860000,'Growth Data'!$A:$F,4,0))","v":"NO"},0,null,0,{"$f":"IF(ISERROR(VLOOKUP($A255+8860000,'Growth Data'!$A:$Z,8,0)),0,VLOOKUP($A255+8860000,'Growth Data'!$A:$Z,8,0))","v":0},0,null,0,{"$f":"IF(ISERROR(VLOOKUP($A255+8860000,'Growth Data'!$A:$Z,9,0)),0,VLOOKUP($A255+8860000,'Growth Data'!$A:$Z,9,0))","v":0},0,null,"NO",{"$f":"IF(ISERROR(VLOOKUP($A255+8860000,'Growth Data'!$A:$Z,5,0)),\"NO\",VLOOKUP($A255+8860000,'Growth Data'!$A:$Z,5,0))","v":"NO"},0,null,0,{"$f":"IF(ISERROR(VLOOKUP($A255+8860000,'Growth Data'!$A:$Z,10,0)),0,VLOOKUP($A255+8860000,'Growth Data'!$A:$Z,10,0))","v":0},0,null,0,{"$f":"IF(ISERROR(VLOOKUP($A255+8860000,'Growth Data'!$A:$Z,11,0)),0,VLOOKUP($A255+8860000,'Growth Data'!$A:$Z,11,0))","v":0},0]
[3360,"St Peter-in-Thanet CEJ School",null,"St Peter-in-Thanet CEJ School","St Peter-in-Thanet CEJ School",0,null,1006092.06,1006092.0648546,0,null,106225.02,106225.01633885375,0,null,3607.49,3607.4874500000024,0,null,65071.65,65071.651844691551,0,null,120082.8,120082.8,0,null,0,0,0,null,0,0,0,null,0,0,0,null,9828,9828,0,null,0,0,0,null,0,0,0,null,0,0,0,null,1310907.02,1310907.0204881451,0,null,0,0,0,null,1310907.02,1310907.0204881451,0,null,0,null,0,null,1310907.02,1310907.0204881451,0,null,0,null,0,null,160885.19,null,160885,null,0,null,0,null,0,null,0,null,0,null,0,null,0,null,0,null,0,null,0,null,0,null,0,null,0,null,0,null,"NO",{"$f":"IF(ISERROR(VLOOKUP($A256+8860000,'Growth Data'!$A:$F,3,0)),\"NO\",VLOOKUP($A256+8860000,'Growth Data'!$A:$F,3,0))","v":"NO"},0,null,0,{"$f":"IF(DI256=\"YES\",IF(ISERROR(VLOOKUP($A256+8860000,'Growth Data'!$A:$F,6,0)),0,VLOOKUP($A256+8860000,'Growth Data'!$A:$F,6,0)),0)","v":0},0,null,0,{"$f":"IF(ISERROR(VLOOKUP($A256+8860000,'Growth Data'!$A:$Z,7,0)),0,VLOOKUP($A256+8860000,'Growth Data'!$A:$Z,7,0))","v":0},0,null,"NO",{"$f":"IF(ISERROR(VLOOKUP($A256+8860000,'Growth Data'!$A:$F,4,0)),\"NO\",VLOOKUP($A256+8860000,'Growth Data'!$A:$F,4,0))","v":"NO"},0,null,0,{"$f":"IF(ISERROR(VLOOKUP($A256+8860000,'Growth Data'!$A:$Z,8,0)),0,VLOOKUP($A256+8860000,'Growth Data'!$A:$Z,8,0))","v":0},0,null,0,{"$f":"IF(ISERROR(VLOOKUP($A256+8860000,'Growth Data'!$A:$Z,9,0)),0,VLOOKUP($A256+8860000,'Growth Data'!$A:$Z,9,0))","v":0},0,null,"NO",{"$f":"IF(ISERROR(VLOOKUP($A256+8860000,'Growth Data'!$A:$Z,5,0)),\"NO\",VLOOKUP($A256+8860000,'Growth Data'!$A:$Z,5,0))","v":"NO"},0,null,0,{"$f":"IF(ISERROR(VLOOKUP($A256+8860000,'Growth Data'!$A:$Z,10,0)),0,VLOOKUP($A256+8860000,'Growth Data'!$A:$Z,10,0))","v":0},0,null,0,{"$f":"IF(ISERROR(VLOOKUP($A256+8860000,'Growth Data'!$A:$Z,11,0)),0,VLOOKUP($A256+8860000,'Growth Data'!$A:$Z,11,0))","v":0},0]
[3364,"Ramsgate, Holy Trinity CEP School",null,"Ramsgate, Holy Trinity CEP School","Ramsgate, Holy Trinity CEP School",0,null,571768.17000000004,571768.16800479998,0,null,40367.03,40367.034048000016,0,null,1191.04,1191.0434755555543,0,null,32772.86,32772.85776052787,0,null,120082.8,120082.8,0,null,0,0,0,null,0,0,0,null,0,0,0,null,5846,5846,0,null,0,0,0,null,0,0,0,null,0,0,0,null,772027.9,772027.90328888351,0,null,0,0,0,null,772027.9,772027.90328888351,0,null,0,null,0,null,772027.9,772027.90328888351,0,null,0,null,0,null,75722.600000000006,null,75723,null,0,null,0,null,0,null,0,null,0,null,0,null,0,null,0,null,0,null,0,null,0,null,0,null,0,null,0,null,"NO",{"$f":"IF(ISERROR(VLOOKUP($A257+8860000,'Growth Data'!$A:$F,3,0)),\"NO\",VLOOKUP($A257+8860000,'Growth Data'!$A:$F,3,0))","v":"NO"},0,null,0,{"$f":"IF(DI257=\"YES\",IF(ISERROR(VLOOKUP($A257+8860000,'Growth Data'!$A:$F,6,0)),0,VLOOKUP($A257+8860000,'Growth Data'!$A:$F,6,0)),0)","v":0},0,null,0,{"$f":"IF(ISERROR(VLOOKUP($A257+8860000,'Growth Data'!$A:$Z,7,0)),0,VLOOKUP($A257+8860000,'Growth Data'!$A:$Z,7,0))","v":0},0,null,"NO",{"$f":"IF(ISERROR(VLOOKUP($A257+8860000,'Growth Data'!$A:$F,4,0)),\"NO\",VLOOKUP($A257+8860000,'Growth Data'!$A:$F,4,0))","v":"NO"},0,null,0,{"$f":"IF(ISERROR(VLOOKUP($A257+8860000,'Growth Data'!$A:$Z,8,0)),0,VLOOKUP($A257+8860000,'Growth Data'!$A:$Z,8,0))","v":0},0,null,0,{"$f":"IF(ISERROR(VLOOKUP($A257+8860000,'Growth Data'!$A:$Z,9,0)),0,VLOOKUP($A257+8860000,'Growth Data'!$A:$Z,9,0))","v":0},0,null,"NO",{"$f":"IF(ISERROR(VLOOKUP($A257+8860000,'Growth Data'!$A:$Z,5,0)),\"NO\",VLOOKUP($A257+8860000,'Growth Data'!$A:$Z,5,0))","v":"NO"},0,null,0,{"$f":"IF(ISERROR(VLOOKUP($A257+8860000,'Growth Data'!$A:$Z,10,0)),0,VLOOKUP($A257+8860000,'Growth Data'!$A:$Z,10,0))","v":0},0,null,0,{"$f":"IF(ISERROR(VLOOKUP($A257+8860000,'Growth Data'!$A:$Z,11,0)),0,VLOOKUP($A257+8860000,'Growth Data'!$A:$Z,11,0))","v":0},0]
[3373,"St Mary's CEP School",null,"St Mary's CEP School","St Mary's CEP School",{"$f":"IF(E258=D258,0,1)","v":0},null,519539.35,519539.3449659,0,null,110679.09,110679.08514153847,0,null,10221.209999999999,10221.214441666642,0,null,38480.370000000003,38480.367358712996,0,null,120082.8,120082.8,0,null,0,0,0,null,29083.7,29083.702353444569,0,null,0,0,0,null,5191,5191,0,null,0,0,0,null,0,0,0,null,0,0,0,null,833277.51,833277.51426126261,0,null,0,0,0,null,833277.51,833277.51426126261,0,null,0,null,0,null,833277.51,833277.51426126261,0,null,5.03,null,{"$f":"ROUND(BX258-BY258,0)","v":5},null,144264.24,null,{"$f":"ROUND(CB258-CC258,0)","v":144264},null,0,null,{"$f":"ROUND(CF258-CG258,0)","v":0},null,0,null,{"$f":"ROUND(CJ258-CK258,0)","v":0},null,0,null,{"$f":"ROUND(CN258-CO258,0)","v":0},null,0,null,{"$f":"ROUND(CR258-CS258,0)","v":0},null,0,null,{"$f":"ROUND(CV258-CW258,0)","v":0},null,0,null,{"$f":"ROUND(CZ258-DA258,0)","v":0},null,0,null,{"$f":"ROUND(DD258-DE258,0)","v":0},null,"NO",{"$f":"IF(ISERROR(VLOOKUP($A258+8860000,'Growth Data'!$A:$F,3,0)),\"NO\",VLOOKUP($A258+8860000,'Growth Data'!$A:$F,3,0))","v":"NO"},{"$f":"IF(DH258=DI258,0,1)","v":0},null,0,{"$f":"IF(DI258=\"YES\",IF(ISERROR(VLOOKUP($A258+8860000,'Growth Data'!$A:$F,6,0)),0,VLOOKUP($A258+8860000,'Growth Data'!$A:$F,6,0)),0)","v":0},{"$f":"ROUND(DL258-DM258,0)","v":0},null,0,{"$f":"IF(ISERROR(VLOOKUP($A258+8860000,'Growth Data'!$A:$Z,7,0)),0,VLOOKUP($A258+8860000,'Growth Data'!$A:$Z,7,0))","v":0},{"$f":"IF(DP258=DQ258,0,1)","v":0},null,"NO",{"$f":"IF(ISERROR(VLOOKUP($A258+8860000,'Growth Data'!$A:$F,4,0)),\"NO\",VLOOKUP($A258+8860000,'Growth Data'!$A:$F,4,0))","v":"NO"},{"$f":"IF(DT258=DU258,0,1)","v":0},null,0,{"$f":"IF(ISERROR(VLOOKUP($A258+8860000,'Growth Data'!$A:$Z,8,0)),0,VLOOKUP($A258+8860000,'Growth Data'!$A:$Z,8,0))","v":0},{"$f":"IF(DX258=DY258,0,1)","v":0},null,0,{"$f":"IF(ISERROR(VLOOKUP($A258+8860000,'Growth Data'!$A:$Z,9,0)),0,VLOOKUP($A258+8860000,'Growth Data'!$A:$Z,9,0))","v":0},{"$f":"IF(EB258=EC258,0,1)","v":0},null,"NO",{"$f":"IF(ISERROR(VLOOKUP($A258+8860000,'Growth Data'!$A:$Z,5,0)),\"NO\",VLOOKUP($A258+8860000,'Growth Data'!$A:$Z,5,0))","v":"NO"},{"$f":"IF(EF258=EG258,0,1)","v":0},null,0,{"$f":"IF(ISERROR(VLOOKUP($A258+8860000,'Growth Data'!$A:$Z,10,0)),0,VLOOKUP($A258+8860000,'Growth Data'!$A:$Z,10,0))","v":0},{"$f":"IF(EJ258=EK258,0,1)","v":0},null,0,{"$f":"IF(ISERROR(VLOOKUP($A258+8860000,'Growth Data'!$A:$Z,11,0)),0,VLOOKUP($A258+8860000,'Growth Data'!$A:$Z,11,0))","v":0},{"$f":"IF(EN258=EO258,0,1)","v":0}]
[3718,"St Augustine's Catholic Primary School, Hythe",null,"St Augustine's Catholic Primary School, Hythe","St Augustine's Catholic Primary School, Hythe",0,null,544279.31000000006,544279.31377380004,0,null,26980.29,26980.286729702999,0,null,4152.8100000000004,4152.8053203488425,0,null,48151.21,48151.205061496665,0,null,120082.8,120082.8,0,null,0,0,0,null,0,0,0,null,0,0,0,null,6905,6905,0,null,0,0,0,null,0,0,0,null,0,0,0,null,750551.41,750551.41088534857,0,null,0,0,0,null,750551.41,750551.41088534857,0,null,0,null,0,null,750551.41,750551.41088534857,0,null,0,null,0,null,80675.960000000006,null,80676,null,0,null,0,null,0,null,0,null,0,null,0,null,0,null,0,null,0,null,0,null,0,null,0,null,0,null,0,null,"NO",{"$f":"IF(ISERROR(VLOOKUP($A259+8860000,'Growth Data'!$A:$F,3,0)),\"NO\",VLOOKUP($A259+8860000,'Growth Data'!$A:$F,3,0))","v":"NO"},0,null,0,{"$f":"IF(DI259=\"YES\",IF(ISERROR(VLOOKUP($A259+8860000,'Growth Data'!$A:$F,6,0)),0,VLOOKUP($A259+8860000,'Growth Data'!$A:$F,6,0)),0)","v":0},0,null,0,{"$f":"IF(ISERROR(VLOOKUP($A259+8860000,'Growth Data'!$A:$Z,7,0)),0,VLOOKUP($A259+8860000,'Growth Data'!$A:$Z,7,0))","v":0},0,null,"NO",{"$f":"IF(ISERROR(VLOOKUP($A259+8860000,'Growth Data'!$A:$F,4,0)),\"NO\",VLOOKUP($A259+8860000,'Growth Data'!$A:$F,4,0))","v":"NO"},0,null,0,{"$f":"IF(ISERROR(VLOOKUP($A259+8860000,'Growth Data'!$A:$Z,8,0)),0,VLOOKUP($A259+8860000,'Growth Data'!$A:$Z,8,0))","v":0},0,null,0,{"$f":"IF(ISERROR(VLOOKUP($A259+8860000,'Growth Data'!$A:$Z,9,0)),0,VLOOKUP($A259+8860000,'Growth Data'!$A:$Z,9,0))","v":0},0,null,"NO",{"$f":"IF(ISERROR(VLOOKUP($A259+8860000,'Growth Data'!$A:$Z,5,0)),\"NO\",VLOOKUP($A259+8860000,'Growth Data'!$A:$Z,5,0))","v":"NO"},0,null,0,{"$f":"IF(ISERROR(VLOOKUP($A259+8860000,'Growth Data'!$A:$Z,10,0)),0,VLOOKUP($A259+8860000,'Growth Data'!$A:$Z,10,0))","v":0},0,null,0,{"$f":"IF(ISERROR(VLOOKUP($A259+8860000,'Growth Data'!$A:$Z,11,0)),0,VLOOKUP($A259+8860000,'Growth Data'!$A:$Z,11,0))","v":0},0]
[3722,"St Ethelbert's Catholic Primary School, Ramsgate",null,"St Ethelbert's Catholic Primary School, Ramsgate","St Ethelbert's Catholic Primary School, Ramsgate",0,null,571768.17000000004,571768.16800479998,0,null,77425.61,77425.613251320785,0,null,10779.28,10779.276147486024,0,null,39449.53,39449.528073065994,0,null,120082.8,120082.8,0,null,0,0,0,null,0,0,0,null,0,0,0,null,5115,5115,0,null,0,0,0,null,0,0,0,null,0,0,0,null,824620.39,824620.38547667291,0,null,0,0,0,null,824620.39,824620.38547667291,0,null,0,null,0,null,824620.39,824620.38547667291,0,null,0,null,0,null,122441.52,null,122442,null,0,null,0,null,0,null,0,null,0,null,0,null,0,null,0,null,0,null,0,null,0,null,0,null,0,null,0,null,"NO",{"$f":"IF(ISERROR(VLOOKUP($A260+8860000,'Growth Data'!$A:$F,3,0)),\"NO\",VLOOKUP($A260+8860000,'Growth Data'!$A:$F,3,0))","v":"NO"},0,null,0,{"$f":"IF(DI260=\"YES\",IF(ISERROR(VLOOKUP($A260+8860000,'Growth Data'!$A:$F,6,0)),0,VLOOKUP($A260+8860000,'Growth Data'!$A:$F,6,0)),0)","v":0},0,null,0,{"$f":"IF(ISERROR(VLOOKUP($A260+8860000,'Growth Data'!$A:$Z,7,0)),0,VLOOKUP($A260+8860000,'Growth Data'!$A:$Z,7,0))","v":0},0,null,"NO",{"$f":"IF(ISERROR(VLOOKUP($A260+8860000,'Growth Data'!$A:$F,4,0)),\"NO\",VLOOKUP($A260+8860000,'Growth Data'!$A:$F,4,0))","v":"NO"},0,null,0,{"$f":"IF(ISERROR(VLOOKUP($A260+8860000,'Growth Data'!$A:$Z,8,0)),0,VLOOKUP($A260+8860000,'Growth Data'!$A:$Z,8,0))","v":0},0,null,0,{"$f":"IF(ISERROR(VLOOKUP($A260+8860000,'Growth Data'!$A:$Z,9,0)),0,VLOOKUP($A260+8860000,'Growth Data'!$A:$Z,9,0))","v":0},0,null,"NO",{"$f":"IF(ISERROR(VLOOKUP($A260+8860000,'Growth Data'!$A:$Z,5,0)),\"NO\",VLOOKUP($A260+8860000,'Growth Data'!$A:$Z,5,0))","v":"NO"},0,null,0,{"$f":"IF(ISERROR(VLOOKUP($A260+8860000,'Growth Data'!$A:$Z,10,0)),0,VLOOKUP($A260+8860000,'Growth Data'!$A:$Z,10,0))","v":0},0,null,0,{"$f":"IF(ISERROR(VLOOKUP($A260+8860000,'Growth Data'!$A:$Z,11,0)),0,VLOOKUP($A260+8860000,'Growth Data'!$A:$Z,11,0))","v":0},0]
[3728,"St Anselm's Catholic Primary School, Dartford",null,"St Anselm's Catholic Primary School, Dartford","St Anselm's Catholic Primary School, Dartford",0,null,577265.93999999994,577265.93885100004,0,null,49231.95,49231.946620000032,0,null,22246.17,22246.172608333382,0,null,31704.75,31704.754501530981,0,null,120082.8,120082.8,0,null,0,0,0,null,29139.35,29139.350697943461,0,null,0,0,0,null,4385,4385,0,null,0,0,0,null,0,0,0,null,0,0,0,null,834055.96,834055.96327880805,0,null,0,0,0,null,834055.96,834055.96327880805,0,null,0,null,0,null,834055.96,834055.96327880805,0,null,0,null,0,null,108837.38,null,108837,null,0,null,0,null,0,null,0,null,0,null,0,null,0,null,0,null,0,null,0,null,0,null,0,null,0,null,0,null,"NO",{"$f":"IF(ISERROR(VLOOKUP($A261+8860000,'Growth Data'!$A:$F,3,0)),\"NO\",VLOOKUP($A261+8860000,'Growth Data'!$A:$F,3,0))","v":"NO"},0,null,0,{"$f":"IF(DI261=\"YES\",IF(ISERROR(VLOOKUP($A261+8860000,'Growth Data'!$A:$F,6,0)),0,VLOOKUP($A261+8860000,'Growth Data'!$A:$F,6,0)),0)","v":0},0,null,0,{"$f":"IF(ISERROR(VLOOKUP($A261+8860000,'Growth Data'!$A:$Z,7,0)),0,VLOOKUP($A261+8860000,'Growth Data'!$A:$Z,7,0))","v":0},0,null,"NO",{"$f":"IF(ISERROR(VLOOKUP($A261+8860000,'Growth Data'!$A:$F,4,0)),\"NO\",VLOOKUP($A261+8860000,'Growth Data'!$A:$F,4,0))","v":"NO"},0,null,0,{"$f":"IF(ISERROR(VLOOKUP($A261+8860000,'Growth Data'!$A:$Z,8,0)),0,VLOOKUP($A261+8860000,'Growth Data'!$A:$Z,8,0))","v":0},0,null,0,{"$f":"IF(ISERROR(VLOOKUP($A261+8860000,'Growth Data'!$A:$Z,9,0)),0,VLOOKUP($A261+8860000,'Growth Data'!$A:$Z,9,0))","v":0},0,null,"NO",{"$f":"IF(ISERROR(VLOOKUP($A261+8860000,'Growth Data'!$A:$Z,5,0)),\"NO\",VLOOKUP($A261+8860000,'Growth Data'!$A:$Z,5,0))","v":"NO"},0,null,0,{"$f":"IF(ISERROR(VLOOKUP($A261+8860000,'Growth Data'!$A:$Z,10,0)),0,VLOOKUP($A261+8860000,'Growth Data'!$A:$Z,10,0))","v":0},0,null,0,{"$f":"IF(ISERROR(VLOOKUP($A261+8860000,'Growth Data'!$A:$Z,11,0)),0,VLOOKUP($A261+8860000,'Growth Data'!$A:$Z,11,0))","v":0},0]
[3733,"Our Lady's Catholic Primary School, Dartford",null,"Our Lady's Catholic Primary School, Dartford","Our Lady's Catholic Primary School, Dartford",0,null,599257.02,599257.02223580005,0,null,24096.62,24096.615200000011,0,null,14418.93,14418.926156149755,0,null,43713.55,43713.547873240139,0,null,120082.8,120082.8,0,null,0,0,0,null,29177.11,29177.108377332901,0,null,0,0,0,null,4032,4032,0,null,0,0,0,null,0,0,0,null,0,0,0,null,834778.02,834778.0198425228,0,null,0,0,0,null,834778.02,834778.0198425228,0,null,0,null,0,null,834778.02,834778.0198425228,0,null,0,null,0,null,89858.86,null,89859,null,0,null,0,null,0,null,0,null,0,null,0,null,0,null,0,null,0,null,0,null,0,null,0,null,0,null,0,null,"NO",{"$f":"IF(ISERROR(VLOOKUP($A262+8860000,'Growth Data'!$A:$F,3,0)),\"NO\",VLOOKUP($A262+8860000,'Growth Data'!$A:$F,3,0))","v":"NO"},0,null,0,{"$f":"IF(DI262=\"YES\",IF(ISERROR(VLOOKUP($A262+8860000,'Growth Data'!$A:$F,6,0)),0,VLOOKUP($A262+8860000,'Growth Data'!$A:$F,6,0)),0)","v":0},0,null,0,{"$f":"IF(ISERROR(VLOOKUP($A262+8860000,'Growth Data'!$A:$Z,7,0)),0,VLOOKUP($A262+8860000,'Growth Data'!$A:$Z,7,0))","v":0},0,null,"NO",{"$f":"IF(ISERROR(VLOOKUP($A262+8860000,'Growth Data'!$A:$F,4,0)),\"NO\",VLOOKUP($A262+8860000,'Growth Data'!$A:$F,4,0))","v":"NO"},0,null,0,{"$f":"IF(ISERROR(VLOOKUP($A262+8860000,'Growth Data'!$A:$Z,8,0)),0,VLOOKUP($A262+8860000,'Growth Data'!$A:$Z,8,0))","v":0},0,null,0,{"$f":"IF(ISERROR(VLOOKUP($A262+8860000,'Growth Data'!$A:$Z,9,0)),0,VLOOKUP($A262+8860000,'Growth Data'!$A:$Z,9,0))","v":0},0,null,"NO",{"$f":"IF(ISERROR(VLOOKUP($A262+8860000,'Growth Data'!$A:$Z,5,0)),\"NO\",VLOOKUP($A262+8860000,'Growth Data'!$A:$Z,5,0))","v":"NO"},0,null,0,{"$f":"IF(ISERROR(VLOOKUP($A262+8860000,'Growth Data'!$A:$Z,10,0)),0,VLOOKUP($A262+8860000,'Growth Data'!$A:$Z,10,0))","v":0},0,null,0,{"$f":"IF(ISERROR(VLOOKUP($A262+8860000,'Growth Data'!$A:$Z,11,0)),0,VLOOKUP($A262+8860000,'Growth Data'!$A:$Z,11,0))","v":0},0]
[3749,"St Thomas' Catholic Primary School, Canterbury",null,"St Thomas' Catholic Primary School, Canterbury","St Thomas' Catholic Primary School, Canterbury",0,null,571768.17000000004,571768.16800479998,0,null,62098.559999999998,62098.560088516737,0,null,24690.73,24690.732723595465,0,null,32711.25,32711.254644436638,0,null,120082.8,120082.8,0,null,0,0,0,null,0,0,0,null,0,0,0,null,4460,4460,0,null,0,0,0,null,0,0,0,null,0,0,0,null,815811.52,815811.51546134893,0,null,0,0,0,null,815811.52,815811.51546134893,0,null,0,null,0,null,815811.52,815811.51546134893,0,null,0,null,0,null,117810.08,null,117810,null,0,null,0,null,0,null,0,null,0,null,0,null,0,null,0,null,0,null,0,null,0,null,0,null,0,null,0,null,"NO",{"$f":"IF(ISERROR(VLOOKUP($A263+8860000,'Growth Data'!$A:$F,3,0)),\"NO\",VLOOKUP($A263+8860000,'Growth Data'!$A:$F,3,0))","v":"NO"},0,null,0,{"$f":"IF(DI263=\"YES\",IF(ISERROR(VLOOKUP($A263+8860000,'Growth Data'!$A:$F,6,0)),0,VLOOKUP($A263+8860000,'Growth Data'!$A:$F,6,0)),0)","v":0},0,null,0,{"$f":"IF(ISERROR(VLOOKUP($A263+8860000,'Growth Data'!$A:$Z,7,0)),0,VLOOKUP($A263+8860000,'Growth Data'!$A:$Z,7,0))","v":0},0,null,"NO",{"$f":"IF(ISERROR(VLOOKUP($A263+8860000,'Growth Data'!$A:$F,4,0)),\"NO\",VLOOKUP($A263+8860000,'Growth Data'!$A:$F,4,0))","v":"NO"},0,null,0,{"$f":"IF(ISERROR(VLOOKUP($A263+8860000,'Growth Data'!$A:$Z,8,0)),0,VLOOKUP($A263+8860000,'Growth Data'!$A:$Z,8,0))","v":0},0,null,0,{"$f":"IF(ISERROR(VLOOKUP($A263+8860000,'Growth Data'!$A:$Z,9,0)),0,VLOOKUP($A263+8860000,'Growth Data'!$A:$Z,9,0))","v":0},0,null,"NO",{"$f":"IF(ISERROR(VLOOKUP($A263+8860000,'Growth Data'!$A:$Z,5,0)),\"NO\",VLOOKUP($A263+8860000,'Growth Data'!$A:$Z,5,0))","v":"NO"},0,null,0,{"$f":"IF(ISERROR(VLOOKUP($A263+8860000,'Growth Data'!$A:$Z,10,0)),0,VLOOKUP($A263+8860000,'Growth Data'!$A:$Z,10,0))","v":0},0,null,0,{"$f":"IF(ISERROR(VLOOKUP($A263+8860000,'Growth Data'!$A:$Z,11,0)),0,VLOOKUP($A263+8860000,'Growth Data'!$A:$Z,11,0))","v":0},0]
[3893,"Phoenix Community Primary School",null,"Phoenix Community Primary School","Phoenix Community Primary School",0,null,571768.17000000004,571768.16800479998,0,null,100059.51,100059.5077405714,0,null,11976.97,11976.973497206705,0,null,56148.05,56148.053949071385,0,null,120082.8,120082.8,0,null,0,0,0,null,0,0,0,null,0,0,0,null,52416,52416,0,null,0,0,0,null,0,0,0,null,0,0,0,null,912451.5,912451.50319164945,0,null,0,0,0,null,912451.5,912451.50319164945,0,null,0,null,0,null,912451.5,912451.50319164945,0,null,0,null,0,null,144038.59,null,144039,null,0,null,0,null,0,null,0,null,0,null,0,null,0,null,0,null,0,null,0,null,0,null,0,null,0,null,0,null,"NO",{"$f":"IF(ISERROR(VLOOKUP($A264+8860000,'Growth Data'!$A:$F,3,0)),\"NO\",VLOOKUP($A264+8860000,'Growth Data'!$A:$F,3,0))","v":"NO"},0,null,0,{"$f":"IF(DI264=\"YES\",IF(ISERROR(VLOOKUP($A264+8860000,'Growth Data'!$A:$F,6,0)),0,VLOOKUP($A264+8860000,'Growth Data'!$A:$F,6,0)),0)","v":0},0,null,0,{"$f":"IF(ISERROR(VLOOKUP($A264+8860000,'Growth Data'!$A:$Z,7,0)),0,VLOOKUP($A264+8860000,'Growth Data'!$A:$Z,7,0))","v":0},0,null,"NO",{"$f":"IF(ISERROR(VLOOKUP($A264+8860000,'Growth Data'!$A:$F,4,0)),\"NO\",VLOOKUP($A264+8860000,'Growth Data'!$A:$F,4,0))","v":"NO"},0,null,0,{"$f":"IF(ISERROR(VLOOKUP($A264+8860000,'Growth Data'!$A:$Z,8,0)),0,VLOOKUP($A264+8860000,'Growth Data'!$A:$Z,8,0))","v":0},0,null,0,{"$f":"IF(ISERROR(VLOOKUP($A264+8860000,'Growth Data'!$A:$Z,9,0)),0,VLOOKUP($A264+8860000,'Growth Data'!$A:$Z,9,0))","v":0},0,null,"NO",{"$f":"IF(ISERROR(VLOOKUP($A264+8860000,'Growth Data'!$A:$Z,5,0)),\"NO\",VLOOKUP($A264+8860000,'Growth Data'!$A:$Z,5,0))","v":"NO"},0,null,0,{"$f":"IF(ISERROR(VLOOKUP($A264+8860000,'Growth Data'!$A:$Z,10,0)),0,VLOOKUP($A264+8860000,'Growth Data'!$A:$Z,10,0))","v":0},0,null,0,{"$f":"IF(ISERROR(VLOOKUP($A264+8860000,'Growth Data'!$A:$Z,11,0)),0,VLOOKUP($A264+8860000,'Growth Data'!$A:$Z,11,0))","v":0},0]
[3896,"Downsview Primary",null,"Downsview Primary","Downsview Primary",0,null,530534.89,530534.88665829995,0,null,56018.23,56018.225924000086,0,null,1808.43,1808.4287736363656,0,null,52231.199999999997,52231.197845621064,0,null,120082.8,120082.8,0,null,0,0,0,null,27688.59,27688.589626936686,0,null,0,0,0,null,20008,20008,0,null,0,0,0,null,0,0,0,null,0,0,0,null,808372.13,808372.12882849423,0,null,0,0,0,null,808372.13,808372.12882849423,0,null,0,null,0,null,808372.13,808372.12882849423,0,null,0,null,0,null,109117.65,null,109118,null,0,null,0,null,0,null,0,null,0,null,0,null,0,null,0,null,0,null,0,null,0,null,0,null,0,null,0,null,"NO",{"$f":"IF(ISERROR(VLOOKUP($A265+8860000,'Growth Data'!$A:$F,3,0)),\"NO\",VLOOKUP($A265+8860000,'Growth Data'!$A:$F,3,0))","v":"NO"},0,null,0,{"$f":"IF(DI265=\"YES\",IF(ISERROR(VLOOKUP($A265+8860000,'Growth Data'!$A:$F,6,0)),0,VLOOKUP($A265+8860000,'Growth Data'!$A:$F,6,0)),0)","v":0},0,null,0,{"$f":"IF(ISERROR(VLOOKUP($A265+8860000,'Growth Data'!$A:$Z,7,0)),0,VLOOKUP($A265+8860000,'Growth Data'!$A:$Z,7,0))","v":0},0,null,"NO",{"$f":"IF(ISERROR(VLOOKUP($A265+8860000,'Growth Data'!$A:$F,4,0)),\"NO\",VLOOKUP($A265+8860000,'Growth Data'!$A:$F,4,0))","v":"NO"},0,null,0,{"$f":"IF(ISERROR(VLOOKUP($A265+8860000,'Growth Data'!$A:$Z,8,0)),0,VLOOKUP($A265+8860000,'Growth Data'!$A:$Z,8,0))","v":0},0,null,0,{"$f":"IF(ISERROR(VLOOKUP($A265+8860000,'Growth Data'!$A:$Z,9,0)),0,VLOOKUP($A265+8860000,'Growth Data'!$A:$Z,9,0))","v":0},0,null,"NO",{"$f":"IF(ISERROR(VLOOKUP($A265+8860000,'Growth Data'!$A:$Z,5,0)),\"NO\",VLOOKUP($A265+8860000,'Growth Data'!$A:$Z,5,0))","v":"NO"},0,null,0,{"$f":"IF(ISERROR(VLOOKUP($A265+8860000,'Growth Data'!$A:$Z,10,0)),0,VLOOKUP($A265+8860000,'Growth Data'!$A:$Z,10,0))","v":0},0,null,0,{"$f":"IF(ISERROR(VLOOKUP($A265+8860000,'Growth Data'!$A:$Z,11,0)),0,VLOOKUP($A265+8860000,'Growth Data'!$A:$Z,11,0))","v":0},0]
[3898,"Greenfields Community Primary School",null,"Greenfields Community Primary School","Greenfields Community Primary School",0,null,901634.42,901634.41877680004,0,null,165658.01,165658.01204677107,0,null,12031.07,12031.071516014237,0,null,59963.06,59963.063567877463,0,null,120082.8,120082.8,0,null,0,0,0,null,0,0,0,null,0,0,0,null,38462,38462,0,null,0,0,0,null,0,0,0,null,0,0,0,null,1297831.3700000001,1297831.3659074628,0,null,153180.35,153180.35342285526,0,null,1451011.72,1451011.719330318,0,null,0,null,0,null,1451011.72,1451011.719330318,0,null,5.19,null,5,null,195013.45,null,195013,null,0,null,0,null,0,null,0,null,0,null,0,null,0,null,0,null,0,null,0,null,0,null,0,null,0,null,0,null,"NO",{"$f":"IF(ISERROR(VLOOKUP($A266+8860000,'Growth Data'!$A:$F,3,0)),\"NO\",VLOOKUP($A266+8860000,'Growth Data'!$A:$F,3,0))","v":"NO"},0,null,0,{"$f":"IF(DI266=\"YES\",IF(ISERROR(VLOOKUP($A266+8860000,'Growth Data'!$A:$F,6,0)),0,VLOOKUP($A266+8860000,'Growth Data'!$A:$F,6,0)),0)","v":0},0,null,0,{"$f":"IF(ISERROR(VLOOKUP($A266+8860000,'Growth Data'!$A:$Z,7,0)),0,VLOOKUP($A266+8860000,'Growth Data'!$A:$Z,7,0))","v":0},0,null,"NO",{"$f":"IF(ISERROR(VLOOKUP($A266+8860000,'Growth Data'!$A:$F,4,0)),\"NO\",VLOOKUP($A266+8860000,'Growth Data'!$A:$F,4,0))","v":"NO"},0,null,0,{"$f":"IF(ISERROR(VLOOKUP($A266+8860000,'Growth Data'!$A:$Z,8,0)),0,VLOOKUP($A266+8860000,'Growth Data'!$A:$Z,8,0))","v":0},0,null,0,{"$f":"IF(ISERROR(VLOOKUP($A266+8860000,'Growth Data'!$A:$Z,9,0)),0,VLOOKUP($A266+8860000,'Growth Data'!$A:$Z,9,0))","v":0},0,null,"NO",{"$f":"IF(ISERROR(VLOOKUP($A266+8860000,'Growth Data'!$A:$Z,5,0)),\"NO\",VLOOKUP($A266+8860000,'Growth Data'!$A:$Z,5,0))","v":"NO"},0,null,0,{"$f":"IF(ISERROR(VLOOKUP($A266+8860000,'Growth Data'!$A:$Z,10,0)),0,VLOOKUP($A266+8860000,'Growth Data'!$A:$Z,10,0))","v":0},0,null,0,{"$f":"IF(ISERROR(VLOOKUP($A266+8860000,'Growth Data'!$A:$Z,11,0)),0,VLOOKUP($A266+8860000,'Growth Data'!$A:$Z,11,0))","v":0},0]
[3902,"Hythe Bay C of E Primary School",null,"Hythe Bay C of E Primary School","Hythe Bay C of E Primary School",0,null,1058320.8899999999,1058320.8878935,0,null,133599.51,133599.50703165823,0,null,6941.52,6941.5210408163321,0,null,100071.19,100071.18933859962,0,null,120082.8,120082.8,0,null,0,0,0,null,0,0,0,null,0,0,0,null,58464,58464,0,null,0,0,0,null,0,0,0,null,0,0,0,null,1477479.91,1477479.9053045742,0,null,0,0,0,null,1477479.91,1477479.9053045742,0,null,0,null,0,null,1477479.91,1477479.9053045742,0,null,0,null,0,null,214264.75,null,214265,null,0,null,0,null,7000,null,7000,null,117000,null,117000,null,292.24,null,292,null,292.24,null,292,null,292.24,null,292,null,292.24,null,292,null,"NO",{"$f":"IF(ISERROR(VLOOKUP($A267+8860000,'Growth Data'!$A:$F,3,0)),\"NO\",VLOOKUP($A267+8860000,'Growth Data'!$A:$F,3,0))","v":"NO"},0,null,0,{"$f":"IF(DI267=\"YES\",IF(ISERROR(VLOOKUP($A267+8860000,'Growth Data'!$A:$F,6,0)),0,VLOOKUP($A267+8860000,'Growth Data'!$A:$F,6,0)),0)","v":0},0,null,0,{"$f":"IF(ISERROR(VLOOKUP($A267+8860000,'Growth Data'!$A:$Z,7,0)),0,VLOOKUP($A267+8860000,'Growth Data'!$A:$Z,7,0))","v":0},0,null,"NO",{"$f":"IF(ISERROR(VLOOKUP($A267+8860000,'Growth Data'!$A:$F,4,0)),\"NO\",VLOOKUP($A267+8860000,'Growth Data'!$A:$F,4,0))","v":"NO"},0,null,0,{"$f":"IF(ISERROR(VLOOKUP($A267+8860000,'Growth Data'!$A:$Z,8,0)),0,VLOOKUP($A267+8860000,'Growth Data'!$A:$Z,8,0))","v":0},0,null,0,{"$f":"IF(ISERROR(VLOOKUP($A267+8860000,'Growth Data'!$A:$Z,9,0)),0,VLOOKUP($A267+8860000,'Growth Data'!$A:$Z,9,0))","v":0},0,null,"NO",{"$f":"IF(ISERROR(VLOOKUP($A267+8860000,'Growth Data'!$A:$Z,5,0)),\"NO\",VLOOKUP($A267+8860000,'Growth Data'!$A:$Z,5,0))","v":"NO"},0,null,0,{"$f":"IF(ISERROR(VLOOKUP($A267+8860000,'Growth Data'!$A:$Z,10,0)),0,VLOOKUP($A267+8860000,'Growth Data'!$A:$Z,10,0))","v":0},0,null,0,{"$f":"IF(ISERROR(VLOOKUP($A267+8860000,'Growth Data'!$A:$Z,11,0)),0,VLOOKUP($A267+8860000,'Growth Data'!$A:$Z,11,0))","v":0},0]
[3904,"Castle Hill Community Primary School",null,"Castle Hill Community Primary School","Castle Hill Community Primary School",0,null,1074814.2,1074814.2004321001,0,null,271833.01,271833.00947205198,0,null,15173.49,15173.489597138554,0,null,116042.33,116042.32789843243,0,null,120082.8,120082.8,0,null,0,0,0,null,0,0,0,null,0,0,0,null,55127,55127,0,null,0,0,0,null,0,0,0,null,0,0,0,null,1653072.83,1653072.827399723,0,null,0,0,0,null,1653072.83,1653072.827399723,0,null,0,null,0,null,1653072.83,1653072.827399723,0,null,5.09,null,5,null,344118.89,null,344119,null,0,null,0,null,0,null,0,null,32500,null,32500,null,974.2,null,974,null,974.2,null,974,null,974.2,null,974,null,974.2,null,974,null,"NO",{"$f":"IF(ISERROR(VLOOKUP($A268+8860000,'Growth Data'!$A:$F,3,0)),\"NO\",VLOOKUP($A268+8860000,'Growth Data'!$A:$F,3,0))","v":"NO"},0,null,0,{"$f":"IF(DI268=\"YES\",IF(ISERROR(VLOOKUP($A268+8860000,'Growth Data'!$A:$F,6,0)),0,VLOOKUP($A268+8860000,'Growth Data'!$A:$F,6,0)),0)","v":0},0,null,0,{"$f":"IF(ISERROR(VLOOKUP($A268+8860000,'Growth Data'!$A:$Z,7,0)),0,VLOOKUP($A268+8860000,'Growth Data'!$A:$Z,7,0))","v":0},0,null,"NO",{"$f":"IF(ISERROR(VLOOKUP($A268+8860000,'Growth Data'!$A:$F,4,0)),\"NO\",VLOOKUP($A268+8860000,'Growth Data'!$A:$F,4,0))","v":"NO"},0,null,0,{"$f":"IF(ISERROR(VLOOKUP($A268+8860000,'Growth Data'!$A:$Z,8,0)),0,VLOOKUP($A268+8860000,'Growth Data'!$A:$Z,8,0))","v":0},0,null,0,{"$f":"IF(ISERROR(VLOOKUP($A268+8860000,'Growth Data'!$A:$Z,9,0)),0,VLOOKUP($A268+8860000,'Growth Data'!$A:$Z,9,0))","v":0},0,null,"NO",{"$f":"IF(ISERROR(VLOOKUP($A268+8860000,'Growth Data'!$A:$Z,5,0)),\"NO\",VLOOKUP($A268+8860000,'Growth Data'!$A:$Z,5,0))","v":"NO"},0,null,0,{"$f":"IF(ISERROR(VLOOKUP($A268+8860000,'Growth Data'!$A:$Z,10,0)),0,VLOOKUP($A268+8860000,'Growth Data'!$A:$Z,10,0))","v":0},0,null,0,{"$f":"IF(ISERROR(VLOOKUP($A268+8860000,'Growth Data'!$A:$Z,11,0)),0,VLOOKUP($A268+8860000,'Growth Data'!$A:$Z,11,0))","v":0},0]
[3906,"Palace Wood Primary School",null,"Palace Wood Primary School","Palace Wood Primary School",0,null,1135289.68,1135289.6797402999,0,null,54274.71,54274.713522572711,0,null,16052.31,16052.311474441338,0,null,65078.07,65078.066684821315,0,null,120082.8,120082.8,0,null,0,0,0,null,0,0,0,null,0,0,0,null,32537,32537,0,null,0,0,0,null,0,0,0,null,13422.43,13422.428577864543,0,null,1436737,1436737,0,null,0,0,0,null,1436737,1436737,0,null,0,null,0,null,1436737,1436737,0,null,0,null,0,null,127110.07,null,127110,null,0,null,0,null,0,null,0,null,0,null,0,null,0,null,0,null,0,null,0,null,0,null,0,null,0,null,0,null,"NO",{"$f":"IF(ISERROR(VLOOKUP($A269+8860000,'Growth Data'!$A:$F,3,0)),\"NO\",VLOOKUP($A269+8860000,'Growth Data'!$A:$F,3,0))","v":"NO"},0,null,0,{"$f":"IF(DI269=\"YES\",IF(ISERROR(VLOOKUP($A269+8860000,'Growth Data'!$A:$F,6,0)),0,VLOOKUP($A269+8860000,'Growth Data'!$A:$F,6,0)),0)","v":0},0,null,0,{"$f":"IF(ISERROR(VLOOKUP($A269+8860000,'Growth Data'!$A:$Z,7,0)),0,VLOOKUP($A269+8860000,'Growth Data'!$A:$Z,7,0))","v":0},0,null,"NO",{"$f":"IF(ISERROR(VLOOKUP($A269+8860000,'Growth Data'!$A:$F,4,0)),\"NO\",VLOOKUP($A269+8860000,'Growth Data'!$A:$F,4,0))","v":"NO"},0,null,0,{"$f":"IF(ISERROR(VLOOKUP($A269+8860000,'Growth Data'!$A:$Z,8,0)),0,VLOOKUP($A269+8860000,'Growth Data'!$A:$Z,8,0))","v":0},0,null,0,{"$f":"IF(ISERROR(VLOOKUP($A269+8860000,'Growth Data'!$A:$Z,9,0)),0,VLOOKUP($A269+8860000,'Growth Data'!$A:$Z,9,0))","v":0},0,null,"NO",{"$f":"IF(ISERROR(VLOOKUP($A269+8860000,'Growth Data'!$A:$Z,5,0)),\"NO\",VLOOKUP($A269+8860000,'Growth Data'!$A:$Z,5,0))","v":"NO"},0,null,0,{"$f":"IF(ISERROR(VLOOKUP($A269+8860000,'Growth Data'!$A:$Z,10,0)),0,VLOOKUP($A269+8860000,'Growth Data'!$A:$Z,10,0))","v":0},0,null,0,{"$f":"IF(ISERROR(VLOOKUP($A269+8860000,'Growth Data'!$A:$Z,11,0)),0,VLOOKUP($A269+8860000,'Growth Data'!$A:$Z,11,0))","v":0},0]
[3907,"Hextable Primary School",null,"Hextable Primary School","Hextable Primary School",0,null,1297473.92,1297473.9197032,0,null,67964.41,67964.410729987896,0,null,6656.03,6656.0322815920435,0,null,109485.14,109485.1386020052,0,null,120082.8,120082.8,0,null,0,0,0,null,58300.51,58300.507767930969,0,null,0,0,0,null,24305,24305,0,null,0,0,0,null,0,0,0,null,0,0,0,null,1684267.81,1684267.8090847163,0,null,0,0,0,null,1684267.81,1684267.8090847163,0,null,0,null,0,null,1684267.81,1684267.8090847163,0,null,0,null,0,null,184491.72,null,184492,null,0,null,0,null,0,null,0,null,0,null,0,null,0,null,0,null,0,null,0,null,0,null,0,null,0,null,0,null,"NO",{"$f":"IF(ISERROR(VLOOKUP($A270+8860000,'Growth Data'!$A:$F,3,0)),\"NO\",VLOOKUP($A270+8860000,'Growth Data'!$A:$F,3,0))","v":"YES"},1,null,0,{"$f":"IF(DI270=\"YES\",IF(ISERROR(VLOOKUP($A270+8860000,'Growth Data'!$A:$F,6,0)),0,VLOOKUP($A270+8860000,'Growth Data'!$A:$F,6,0)),0)","v":60},-60,null,0,{"$f":"IF(ISERROR(VLOOKUP($A270+8860000,'Growth Data'!$A:$Z,7,0)),0,VLOOKUP($A270+8860000,'Growth Data'!$A:$Z,7,0))","v":90},1,null,"YES",{"$f":"IF(ISERROR(VLOOKUP($A270+8860000,'Growth Data'!$A:$F,4,0)),\"NO\",VLOOKUP($A270+8860000,'Growth Data'!$A:$F,4,0))","v":"YES"},0,null,60,{"$f":"IF(ISERROR(VLOOKUP($A270+8860000,'Growth Data'!$A:$Z,8,0)),0,VLOOKUP($A270+8860000,'Growth Data'!$A:$Z,8,0))","v":62},1,null,90,{"$f":"IF(ISERROR(VLOOKUP($A270+8860000,'Growth Data'!$A:$Z,9,0)),0,VLOOKUP($A270+8860000,'Growth Data'!$A:$Z,9,0))","v":90},0,null,"YES",{"$f":"IF(ISERROR(VLOOKUP($A270+8860000,'Growth Data'!$A:$Z,5,0)),\"NO\",VLOOKUP($A270+8860000,'Growth Data'!$A:$Z,5,0))","v":"YES"},0,null,62,{"$f":"IF(ISERROR(VLOOKUP($A270+8860000,'Growth Data'!$A:$Z,10,0)),0,VLOOKUP($A270+8860000,'Growth Data'!$A:$Z,10,0))","v":60},1,null,90,{"$f":"IF(ISERROR(VLOOKUP($A270+8860000,'Growth Data'!$A:$Z,11,0)),0,VLOOKUP($A270+8860000,'Growth Data'!$A:$Z,11,0))","v":90},0]
[3909,"Ashford Oaks Community Primary School",null,"Ashford Oaks Community Primary School","Ashford Oaks Community Primary School",0,null,1138038.57,1138038.5651634,0,null,253779.57,253779.56730326556,0,null,21758.799999999999,21758.799253257752,0,null,131870.70000000001,131870.7042072475,0,null,120082.8,120082.8,0,null,0,0,0,null,0,0,0,null,0,0,0,null,68544,68544,0,null,0,0,0,null,0,0,0,null,0,0,0,null,1734074.44,1734074.4359271708,0,null,0,0,0,null,1734074.44,1734074.4359271708,0,null,0,null,0,null,1734074.44,1734074.4359271708,0,null,5.47,null,5,null,345837.32,null,345837,null,0,null,0,null,0,null,0,null,48000,null,48000,null,686.56,null,687,null,686.56,null,687,null,686.56,null,687,null,686.56,null,687,null,"NO",{"$f":"IF(ISERROR(VLOOKUP($A271+8860000,'Growth Data'!$A:$F,3,0)),\"NO\",VLOOKUP($A271+8860000,'Growth Data'!$A:$F,3,0))","v":"NO"},0,null,0,{"$f":"IF(DI271=\"YES\",IF(ISERROR(VLOOKUP($A271+8860000,'Growth Data'!$A:$F,6,0)),0,VLOOKUP($A271+8860000,'Growth Data'!$A:$F,6,0)),0)","v":0},0,null,0,{"$f":"IF(ISERROR(VLOOKUP($A271+8860000,'Growth Data'!$A:$Z,7,0)),0,VLOOKUP($A271+8860000,'Growth Data'!$A:$Z,7,0))","v":0},0,null,"NO",{"$f":"IF(ISERROR(VLOOKUP($A271+8860000,'Growth Data'!$A:$F,4,0)),\"NO\",VLOOKUP($A271+8860000,'Growth Data'!$A:$F,4,0))","v":"NO"},0,null,0,{"$f":"IF(ISERROR(VLOOKUP($A271+8860000,'Growth Data'!$A:$Z,8,0)),0,VLOOKUP($A271+8860000,'Growth Data'!$A:$Z,8,0))","v":0},0,null,0,{"$f":"IF(ISERROR(VLOOKUP($A271+8860000,'Growth Data'!$A:$Z,9,0)),0,VLOOKUP($A271+8860000,'Growth Data'!$A:$Z,9,0))","v":0},0,null,"NO",{"$f":"IF(ISERROR(VLOOKUP($A271+8860000,'Growth Data'!$A:$Z,5,0)),\"NO\",VLOOKUP($A271+8860000,'Growth Data'!$A:$Z,5,0))","v":"NO"},0,null,0,{"$f":"IF(ISERROR(VLOOKUP($A271+8860000,'Growth Data'!$A:$Z,10,0)),0,VLOOKUP($A271+8860000,'Growth Data'!$A:$Z,10,0))","v":0},0,null,0,{"$f":"IF(ISERROR(VLOOKUP($A271+8860000,'Growth Data'!$A:$Z,11,0)),0,VLOOKUP($A271+8860000,'Growth Data'!$A:$Z,11,0))","v":0},0]
[3910,"Joy Lane Primary School",null,"Joy Lane Primary School","Joy Lane Primary School",0,null,1514635.87,1514635.8681280999,0,null,103493.97,103493.96887174541,0,null,5891.3,5891.3028599585123,0,null,128239.66,128239.6621031797,0,null,120082.8,120082.8,0,null,0,0,0,null,0,0,0,null,0,0,0,null,12802,12802,0,null,0,0,0,null,0,0,0,null,1056.4000000000001,1056.3980370163918,0,null,1886202,1886202,0,null,0,0,0,null,1886202,1886202,0,null,0,null,0,null,1886202,1886202,0,null,0,null,0,null,212598.38,null,212598,null,0,null,0,null,12000,null,12000,null,180000,null,180000,null,627.58000000000004,null,628,null,627.58000000000004,null,628,null,627.58000000000004,null,628,null,627.58000000000004,null,628,null,"YES",{"$f":"IF(ISERROR(VLOOKUP($A272+8860000,'Growth Data'!$A:$F,3,0)),\"NO\",VLOOKUP($A272+8860000,'Growth Data'!$A:$F,3,0))","v":"YES"},0,null,60,{"$f":"IF(DI272=\"YES\",IF(ISERROR(VLOOKUP($A272+8860000,'Growth Data'!$A:$F,6,0)),0,VLOOKUP($A272+8860000,'Growth Data'!$A:$F,6,0)),0)","v":60},0,null,90,{"$f":"IF(ISERROR(VLOOKUP($A272+8860000,'Growth Data'!$A:$Z,7,0)),0,VLOOKUP($A272+8860000,'Growth Data'!$A:$Z,7,0))","v":81},1,null,"YES",{"$f":"IF(ISERROR(VLOOKUP($A272+8860000,'Growth Data'!$A:$F,4,0)),\"NO\",VLOOKUP($A272+8860000,'Growth Data'!$A:$F,4,0))","v":"NO"},1,null,60,{"$f":"IF(ISERROR(VLOOKUP($A272+8860000,'Growth Data'!$A:$Z,8,0)),0,VLOOKUP($A272+8860000,'Growth Data'!$A:$Z,8,0))","v":0},1,null,90,{"$f":"IF(ISERROR(VLOOKUP($A272+8860000,'Growth Data'!$A:$Z,9,0)),0,VLOOKUP($A272+8860000,'Growth Data'!$A:$Z,9,0))","v":0},1,null,"NO",{"$f":"IF(ISERROR(VLOOKUP($A272+8860000,'Growth Data'!$A:$Z,5,0)),\"NO\",VLOOKUP($A272+8860000,'Growth Data'!$A:$Z,5,0))","v":"NO"},0,null,0,{"$f":"IF(ISERROR(VLOOKUP($A272+8860000,'Growth Data'!$A:$Z,10,0)),0,VLOOKUP($A272+8860000,'Growth Data'!$A:$Z,10,0))","v":0},0,null,0,{"$f":"IF(ISERROR(VLOOKUP($A272+8860000,'Growth Data'!$A:$Z,11,0)),0,VLOOKUP($A272+8860000,'Growth Data'!$A:$Z,11,0))","v":0},0]
[3911,"Hornbeam Primary School",null,"Hornbeam Primary School","Hornbeam Primary School",0,null,640490.30000000005,640490.30358229997,0,null,78936.509999999995,78936.506454708215,0,null,4732.13,4732.1299133004941,0,null,46716.54,46716.544165163927,0,null,120082.8,120082.8,0,null,0,0,0,null,0,0,0,null,0,0,0,null,22832,22832,0,null,0,0,0,null,0,0,0,null,0,0,0,null,913790.28,913790.28411547258,0,null,0,0,0,null,913790.28,913790.28411547258,0,null,0,null,0,null,913790.28,913790.28411547258,0,null,0,null,0,null,118127.43,null,118127,null,0,null,0,null,0,null,0,null,0,null,0,null,0,null,0,null,0,null,0,null,0,null,0,null,0,null,0,null,"NO",{"$f":"IF(ISERROR(VLOOKUP($A273+8860000,'Growth Data'!$A:$F,3,0)),\"NO\",VLOOKUP($A273+8860000,'Growth Data'!$A:$F,3,0))","v":"NO"},0,null,0,{"$f":"IF(DI273=\"YES\",IF(ISERROR(VLOOKUP($A273+8860000,'Growth Data'!$A:$F,6,0)),0,VLOOKUP($A273+8860000,'Growth Data'!$A:$F,6,0)),0)","v":0},0,null,0,{"$f":"IF(ISERROR(VLOOKUP($A273+8860000,'Growth Data'!$A:$Z,7,0)),0,VLOOKUP($A273+8860000,'Growth Data'!$A:$Z,7,0))","v":0},0,null,"NO",{"$f":"IF(ISERROR(VLOOKUP($A273+8860000,'Growth Data'!$A:$F,4,0)),\"NO\",VLOOKUP($A273+8860000,'Growth Data'!$A:$F,4,0))","v":"NO"},0,null,0,{"$f":"IF(ISERROR(VLOOKUP($A273+8860000,'Growth Data'!$A:$Z,8,0)),0,VLOOKUP($A273+8860000,'Growth Data'!$A:$Z,8,0))","v":0},0,null,0,{"$f":"IF(ISERROR(VLOOKUP($A273+8860000,'Growth Data'!$A:$Z,9,0)),0,VLOOKUP($A273+8860000,'Growth Data'!$A:$Z,9,0))","v":0},0,null,"NO",{"$f":"IF(ISERROR(VLOOKUP($A273+8860000,'Growth Data'!$A:$Z,5,0)),\"NO\",VLOOKUP($A273+8860000,'Growth Data'!$A:$Z,5,0))","v":"NO"},0,null,0,{"$f":"IF(ISERROR(VLOOKUP($A273+8860000,'Growth Data'!$A:$Z,10,0)),0,VLOOKUP($A273+8860000,'Growth Data'!$A:$Z,10,0))","v":0},0,null,0,{"$f":"IF(ISERROR(VLOOKUP($A273+8860000,'Growth Data'!$A:$Z,11,0)),0,VLOOKUP($A273+8860000,'Growth Data'!$A:$Z,11,0))","v":0},0]
[3913,"Rusthall, St Paul's CE VA School",null,"Rusthall, St Paul's CE VA School","Rusthall, St Paul's CE VA School",0,null,547028.19999999995,547028.19919690001,0,null,33827.300000000003,33827.296833767454,0,null,4583.5,4583.4956268156429,0,null,37955.81,37955.812239356397,0,null,120082.8,120082.8,0,null,0,0,0,null,0,0,0,null,0,0,0,null,5342,5342,0,null,0,0,0,null,0,0,0,null,0,0,0,null,748819.6,748819.60389683954,0,null,0,0,0,null,748819.6,748819.60389683954,0,null,0,null,0,null,748819.6,748819.60389683954,0,null,0,null,0,null,73355.23,null,73355,null,0,null,0,null,0,null,0,null,0,null,0,null,0,null,0,null,0,null,0,null,0,null,0,null,0,null,0,null,"NO",{"$f":"IF(ISERROR(VLOOKUP($A274+8860000,'Growth Data'!$A:$F,3,0)),\"NO\",VLOOKUP($A274+8860000,'Growth Data'!$A:$F,3,0))","v":"NO"},0,null,0,{"$f":"IF(DI274=\"YES\",IF(ISERROR(VLOOKUP($A274+8860000,'Growth Data'!$A:$F,6,0)),0,VLOOKUP($A274+8860000,'Growth Data'!$A:$F,6,0)),0)","v":0},0,null,0,{"$f":"IF(ISERROR(VLOOKUP($A274+8860000,'Growth Data'!$A:$Z,7,0)),0,VLOOKUP($A274+8860000,'Growth Data'!$A:$Z,7,0))","v":0},0,null,"NO",{"$f":"IF(ISERROR(VLOOKUP($A274+8860000,'Growth Data'!$A:$F,4,0)),\"NO\",VLOOKUP($A274+8860000,'Growth Data'!$A:$F,4,0))","v":"NO"},0,null,0,{"$f":"IF(ISERROR(VLOOKUP($A274+8860000,'Growth Data'!$A:$Z,8,0)),0,VLOOKUP($A274+8860000,'Growth Data'!$A:$Z,8,0))","v":0},0,null,0,{"$f":"IF(ISERROR(VLOOKUP($A274+8860000,'Growth Data'!$A:$Z,9,0)),0,VLOOKUP($A274+8860000,'Growth Data'!$A:$Z,9,0))","v":0},0,null,"NO",{"$f":"IF(ISERROR(VLOOKUP($A274+8860000,'Growth Data'!$A:$Z,5,0)),\"NO\",VLOOKUP($A274+8860000,'Growth Data'!$A:$Z,5,0))","v":"NO"},0,null,0,{"$f":"IF(ISERROR(VLOOKUP($A274+8860000,'Growth Data'!$A:$Z,10,0)),0,VLOOKUP($A274+8860000,'Growth Data'!$A:$Z,10,0))","v":0},0,null,0,{"$f":"IF(ISERROR(VLOOKUP($A274+8860000,'Growth Data'!$A:$Z,11,0)),0,VLOOKUP($A274+8860000,'Growth Data'!$A:$Z,11,0))","v":0},0]
[3916,"Green Park Community Primary School",null,"Green Park Community Primary School","Green Park Community Primary School",0,null,1044576.46,1044576.4607780001,0,null,220439.48,220439.47735210089,0,null,8567.7800000000007,8567.7826937500013,0,null,75813.240000000005,75813.238919518495,0,null,120082.8,120082.8,0,null,0,0,0,null,0,0,0,null,0,0,0,null,34272,34272,0,null,0,0,0,null,0,0,0,null,0,0,0,null,1503751.76,1503751.7597433694,0,null,10402.780000000001,10402.77849615016,0,null,1514154.54,1514154.5382395196,0,null,0,null,0,null,1514154.54,1514154.5382395196,0,null,0,null,0,null,263062.40999999997,null,263062,null,0,null,0,null,0,null,0,null,0,null,0,null,0,null,0,null,0,null,0,null,0,null,0,null,0,null,0,null,"NO",{"$f":"IF(ISERROR(VLOOKUP($A275+8860000,'Growth Data'!$A:$F,3,0)),\"NO\",VLOOKUP($A275+8860000,'Growth Data'!$A:$F,3,0))","v":"YES"},1,null,0,{"$f":"IF(DI275=\"YES\",IF(ISERROR(VLOOKUP($A275+8860000,'Growth Data'!$A:$F,6,0)),0,VLOOKUP($A275+8860000,'Growth Data'!$A:$F,6,0)),0)","v":45},-45,null,0,{"$f":"IF(ISERROR(VLOOKUP($A275+8860000,'Growth Data'!$A:$Z,7,0)),0,VLOOKUP($A275+8860000,'Growth Data'!$A:$Z,7,0))","v":60},1,null,"YES",{"$f":"IF(ISERROR(VLOOKUP($A275+8860000,'Growth Data'!$A:$F,4,0)),\"NO\",VLOOKUP($A275+8860000,'Growth Data'!$A:$F,4,0))","v":"YES"},0,null,45,{"$f":"IF(ISERROR(VLOOKUP($A275+8860000,'Growth Data'!$A:$Z,8,0)),0,VLOOKUP($A275+8860000,'Growth Data'!$A:$Z,8,0))","v":49},1,null,60,{"$f":"IF(ISERROR(VLOOKUP($A275+8860000,'Growth Data'!$A:$Z,9,0)),0,VLOOKUP($A275+8860000,'Growth Data'!$A:$Z,9,0))","v":60},0,null,"YES",{"$f":"IF(ISERROR(VLOOKUP($A275+8860000,'Growth Data'!$A:$Z,5,0)),\"NO\",VLOOKUP($A275+8860000,'Growth Data'!$A:$Z,5,0))","v":"YES"},0,null,53,{"$f":"IF(ISERROR(VLOOKUP($A275+8860000,'Growth Data'!$A:$Z,10,0)),0,VLOOKUP($A275+8860000,'Growth Data'!$A:$Z,10,0))","v":56},1,null,60,{"$f":"IF(ISERROR(VLOOKUP($A275+8860000,'Growth Data'!$A:$Z,11,0)),0,VLOOKUP($A275+8860000,'Growth Data'!$A:$Z,11,0))","v":60},0]
[3917,"Garlinge Primary School",null,"Garlinge Primary School","Garlinge Primary School",0,null,2127637.3199999998,2127637.3174794,0,null,367018.49,367018.49005893164,0,null,28319.63,28319.632813142012,0,null,162687.66,162687.66359885575,0,null,120082.8,120082.8,0,null,0,0,0,null,0,0,0,null,0,0,0,null,60984,60984,0,null,0,0,0,null,0,0,0,null,0,0,0,null,2866729.9,2866729.9039503294,0,null,0,0,0,null,2866729.9,2866729.9039503294,0,null,0,null,0,null,2866729.9,2866729.9039503294,0,null,5.14,null,5,null,476640.37,null,476640,null,0,null,0,null,4000,null,4000,null,24000,null,24000,null,1023.24,null,1023,null,1023.24,null,1023,null,1023.24,null,1023,null,1023.24,null,1023,null,"YES",{"$f":"IF(ISERROR(VLOOKUP($A276+8860000,'Growth Data'!$A:$F,3,0)),\"NO\",VLOOKUP($A276+8860000,'Growth Data'!$A:$F,3,0))","v":"YES"},0,null,92,{"$f":"IF(DI276=\"YES\",IF(ISERROR(VLOOKUP($A276+8860000,'Growth Data'!$A:$F,6,0)),0,VLOOKUP($A276+8860000,'Growth Data'!$A:$F,6,0)),0)","v":93},-1,null,120,{"$f":"IF(ISERROR(VLOOKUP($A276+8860000,'Growth Data'!$A:$Z,7,0)),0,VLOOKUP($A276+8860000,'Growth Data'!$A:$Z,7,0))","v":120},0,null,"YES",{"$f":"IF(ISERROR(VLOOKUP($A276+8860000,'Growth Data'!$A:$F,4,0)),\"NO\",VLOOKUP($A276+8860000,'Growth Data'!$A:$F,4,0))","v":"NO"},1,null,90,{"$f":"IF(ISERROR(VLOOKUP($A276+8860000,'Growth Data'!$A:$Z,8,0)),0,VLOOKUP($A276+8860000,'Growth Data'!$A:$Z,8,0))","v":0},1,null,120,{"$f":"IF(ISERROR(VLOOKUP($A276+8860000,'Growth Data'!$A:$Z,9,0)),0,VLOOKUP($A276+8860000,'Growth Data'!$A:$Z,9,0))","v":0},1,null,"NO",{"$f":"IF(ISERROR(VLOOKUP($A276+8860000,'Growth Data'!$A:$Z,5,0)),\"NO\",VLOOKUP($A276+8860000,'Growth Data'!$A:$Z,5,0))","v":"NO"},0,null,0,{"$f":"IF(ISERROR(VLOOKUP($A276+8860000,'Growth Data'!$A:$Z,10,0)),0,VLOOKUP($A276+8860000,'Growth Data'!$A:$Z,10,0))","v":0},0,null,0,{"$f":"IF(ISERROR(VLOOKUP($A276+8860000,'Growth Data'!$A:$Z,11,0)),0,VLOOKUP($A276+8860000,'Growth Data'!$A:$Z,11,0))","v":0},0]
[3918,"Newington Community Primary School and Nursery",null,"Newington Community Primary School and Nursery","Newington Community Primary School and Nursery",0,null,1795022.18,1795022.1812843001,0,null,360588.65,360588.6499952306,0,null,8383.24,8383.2359603203004,0,null,85950.8,85950.80449294133,0,null,120082.8,120082.8,0,null,0,0,0,null,0,0,0,null,0,0,0,null,8971,8971,0,null,0,0,0,null,0,0,0,null,0,0,0,null,2378998.67,2378998.6717327917,0,null,158867.42000000001,158867.42470836872,0,null,2537866.1,2537866.0964411604,0,null,0,null,0,null,2537866.1,2537866.0964411604,0,null,5.3,null,5,null,390268.81,null,390269,null,0,null,0,null,0,null,0,null,0,null,0,null,0,null,0,null,0,null,0,null,0,null,0,null,0,null,0,null,"NO",{"$f":"IF(ISERROR(VLOOKUP($A277+8860000,'Growth Data'!$A:$F,3,0)),\"NO\",VLOOKUP($A277+8860000,'Growth Data'!$A:$F,3,0))","v":"NO"},0,null,0,{"$f":"IF(DI277=\"YES\",IF(ISERROR(VLOOKUP($A277+8860000,'Growth Data'!$A:$F,6,0)),0,VLOOKUP($A277+8860000,'Growth Data'!$A:$F,6,0)),0)","v":0},0,null,0,{"$f":"IF(ISERROR(VLOOKUP($A277+8860000,'Growth Data'!$A:$Z,7,0)),0,VLOOKUP($A277+8860000,'Growth Data'!$A:$Z,7,0))","v":0},0,null,"NO",{"$f":"IF(ISERROR(VLOOKUP($A277+8860000,'Growth Data'!$A:$F,4,0)),\"NO\",VLOOKUP($A277+8860000,'Growth Data'!$A:$F,4,0))","v":"NO"},0,null,0,{"$f":"IF(ISERROR(VLOOKUP($A277+8860000,'Growth Data'!$A:$Z,8,0)),0,VLOOKUP($A277+8860000,'Growth Data'!$A:$Z,8,0))","v":0},0,null,0,{"$f":"IF(ISERROR(VLOOKUP($A277+8860000,'Growth Data'!$A:$Z,9,0)),0,VLOOKUP($A277+8860000,'Growth Data'!$A:$Z,9,0))","v":0},0,null,"NO",{"$f":"IF(ISERROR(VLOOKUP($A277+8860000,'Growth Data'!$A:$Z,5,0)),\"NO\",VLOOKUP($A277+8860000,'Growth Data'!$A:$Z,5,0))","v":"NO"},0,null,0,{"$f":"IF(ISERROR(VLOOKUP($A277+8860000,'Growth Data'!$A:$Z,10,0)),0,VLOOKUP($A277+8860000,'Growth Data'!$A:$Z,10,0))","v":0},0,null,0,{"$f":"IF(ISERROR(VLOOKUP($A277+8860000,'Growth Data'!$A:$Z,11,0)),0,VLOOKUP($A277+8860000,'Growth Data'!$A:$Z,11,0))","v":0},0]
[3919,"Dartford Bridge Community Primary School, The",null,"Dartford Bridge Community Primary School, The","Dartford Bridge Community Primary School, The",0,null,1074814.2,1074814.2004321001,0,null,106511.24,106511.23710102375,0,null,42005.35,42005.353437009158,0,null,73489.09,73489.086272603541,0,null,120082.8,120082.8,0,null,0,0,0,null,51575.26,51575.257451635604,0,null,0,0,0,null,66757,66757,0,null,0,0,0,null,0,0,0,null,0,0,0,null,1535234.93,1535234.9346943724,0,null,45404.61,45404.612909921678,0,null,1580639.55,1580639.547604294,0,null,0,null,0,null,1580639.55,1580639.547604294,0,null,4.9000000000000004,null,5,null,226053.03,null,226053,null,0,null,0,null,0,null,0,null,0,null,0,null,0,null,0,null,0,null,0,null,0,null,0,null,0,null,0,null,"YES",{"$f":"IF(ISERROR(VLOOKUP($A278+8860000,'Growth Data'!$A:$F,3,0)),\"NO\",VLOOKUP($A278+8860000,'Growth Data'!$A:$F,3,0))","v":"YES"},0,null,31,{"$f":"IF(DI278=\"YES\",IF(ISERROR(VLOOKUP($A278+8860000,'Growth Data'!$A:$F,6,0)),0,VLOOKUP($A278+8860000,'Growth Data'!$A:$F,6,0)),0)","v":33},-2,null,60,{"$f":"IF(ISERROR(VLOOKUP($A278+8860000,'Growth Data'!$A:$Z,7,0)),0,VLOOKUP($A278+8860000,'Growth Data'!$A:$Z,7,0))","v":60},0,null,"YES",{"$f":"IF(ISERROR(VLOOKUP($A278+8860000,'Growth Data'!$A:$F,4,0)),\"NO\",VLOOKUP($A278+8860000,'Growth Data'!$A:$F,4,0))","v":"NO"},1,null,32,{"$f":"IF(ISERROR(VLOOKUP($A278+8860000,'Growth Data'!$A:$Z,8,0)),0,VLOOKUP($A278+8860000,'Growth Data'!$A:$Z,8,0))","v":0},1,null,60,{"$f":"IF(ISERROR(VLOOKUP($A278+8860000,'Growth Data'!$A:$Z,9,0)),0,VLOOKUP($A278+8860000,'Growth Data'!$A:$Z,9,0))","v":0},1,null,"NO",{"$f":"IF(ISERROR(VLOOKUP($A278+8860000,'Growth Data'!$A:$Z,5,0)),\"NO\",VLOOKUP($A278+8860000,'Growth Data'!$A:$Z,5,0))","v":"NO"},0,null,0,{"$f":"IF(ISERROR(VLOOKUP($A278+8860000,'Growth Data'!$A:$Z,10,0)),0,VLOOKUP($A278+8860000,'Growth Data'!$A:$Z,10,0))","v":0},0,null,0,{"$f":"IF(ISERROR(VLOOKUP($A278+8860000,'Growth Data'!$A:$Z,11,0)),0,VLOOKUP($A278+8860000,'Growth Data'!$A:$Z,11,0))","v":0},0]
[3920,"Goat Lees Primary School",null,"Goat Lees Primary School","Goat Lees Primary School",0,null,571768.17000000004,571768.16800479998,0,null,84597.09,84597.089024077664,0,null,4790.79,4790.7893988826827,0,null,42742.71,42742.706068730608,0,null,120082.8,120082.8,0,null,0,0,0,null,0,0,0,null,0,0,0,null,8669,8669,0,null,0,0,0,null,0,0,0,null,0,0,0,null,832650.55,832650.55249649088,0,null,0,0,0,null,832650.55,832650.55249649088,0,null,0,null,0,null,832650.55,832650.55249649088,0,null,0,null,0,null,114148.89,null,114149,null,0,null,0,null,0,null,0,null,0,null,0,null,0,null,0,null,0,null,0,null,0,null,0,null,0,null,0,null,"NO",{"$f":"IF(ISERROR(VLOOKUP($A279+8860000,'Growth Data'!$A:$F,3,0)),\"NO\",VLOOKUP($A279+8860000,'Growth Data'!$A:$F,3,0))","v":"NO"},0,null,0,{"$f":"IF(DI279=\"YES\",IF(ISERROR(VLOOKUP($A279+8860000,'Growth Data'!$A:$F,6,0)),0,VLOOKUP($A279+8860000,'Growth Data'!$A:$F,6,0)),0)","v":0},0,null,0,{"$f":"IF(ISERROR(VLOOKUP($A279+8860000,'Growth Data'!$A:$Z,7,0)),0,VLOOKUP($A279+8860000,'Growth Data'!$A:$Z,7,0))","v":0},0,null,"NO",{"$f":"IF(ISERROR(VLOOKUP($A279+8860000,'Growth Data'!$A:$F,4,0)),\"NO\",VLOOKUP($A279+8860000,'Growth Data'!$A:$F,4,0))","v":"NO"},0,null,0,{"$f":"IF(ISERROR(VLOOKUP($A279+8860000,'Growth Data'!$A:$Z,8,0)),0,VLOOKUP($A279+8860000,'Growth Data'!$A:$Z,8,0))","v":0},0,null,0,{"$f":"IF(ISERROR(VLOOKUP($A279+8860000,'Growth Data'!$A:$Z,9,0)),0,VLOOKUP($A279+8860000,'Growth Data'!$A:$Z,9,0))","v":0},0,null,"NO",{"$f":"IF(ISERROR(VLOOKUP($A279+8860000,'Growth Data'!$A:$Z,5,0)),\"NO\",VLOOKUP($A279+8860000,'Growth Data'!$A:$Z,5,0))","v":"NO"},0,null,0,{"$f":"IF(ISERROR(VLOOKUP($A279+8860000,'Growth Data'!$A:$Z,10,0)),0,VLOOKUP($A279+8860000,'Growth Data'!$A:$Z,10,0))","v":0},0,null,0,{"$f":"IF(ISERROR(VLOOKUP($A279+8860000,'Growth Data'!$A:$Z,11,0)),0,VLOOKUP($A279+8860000,'Growth Data'!$A:$Z,11,0))","v":0},0]
[4026,"Dartford Science and Technology College",null,"Dartford Science and Technology College","Dartford Science and Technology College",0,null,2763884.11,2763884.1050546002,0,null,209802.73,209802.73383558131,0,null,34648.89,34648.89125000003,0,null,181427.88,181427.88344459035,0,null,120082.8,120082.8,0,null,0,0,0,null,120478.41,120478.40945448565,0,null,0,0,0,null,129276,129276,0,null,0,0,0,null,0,0,0,null,0,0,0,null,3559600.82,3559600.8230392574,0,null,0,0,0,null,3559600.82,3559600.8230392574,0,null,0,null,0,null,3559600.82,3559600.8230392574,0,null,0,null,0,null,414765.16,null,414765,null,0,null,0,null,0,null,0,null,0,null,0,null,0,null,0,null,0,null,0,null,0,null,0,null,0,null,0,null,"NO",{"$f":"IF(ISERROR(VLOOKUP($A280+8860000,'Growth Data'!$A:$F,3,0)),\"NO\",VLOOKUP($A280+8860000,'Growth Data'!$A:$F,3,0))","v":"NO"},0,null,0,{"$f":"IF(DI280=\"YES\",IF(ISERROR(VLOOKUP($A280+8860000,'Growth Data'!$A:$F,6,0)),0,VLOOKUP($A280+8860000,'Growth Data'!$A:$F,6,0)),0)","v":0},0,null,0,{"$f":"IF(ISERROR(VLOOKUP($A280+8860000,'Growth Data'!$A:$Z,7,0)),0,VLOOKUP($A280+8860000,'Growth Data'!$A:$Z,7,0))","v":0},0,null,"NO",{"$f":"IF(ISERROR(VLOOKUP($A280+8860000,'Growth Data'!$A:$F,4,0)),\"NO\",VLOOKUP($A280+8860000,'Growth Data'!$A:$F,4,0))","v":"NO"},0,null,0,{"$f":"IF(ISERROR(VLOOKUP($A280+8860000,'Growth Data'!$A:$Z,8,0)),0,VLOOKUP($A280+8860000,'Growth Data'!$A:$Z,8,0))","v":0},0,null,0,{"$f":"IF(ISERROR(VLOOKUP($A280+8860000,'Growth Data'!$A:$Z,9,0)),0,VLOOKUP($A280+8860000,'Growth Data'!$A:$Z,9,0))","v":0},0,null,"NO",{"$f":"IF(ISERROR(VLOOKUP($A280+8860000,'Growth Data'!$A:$Z,5,0)),\"NO\",VLOOKUP($A280+8860000,'Growth Data'!$A:$Z,5,0))","v":"NO"},0,null,0,{"$f":"IF(ISERROR(VLOOKUP($A280+8860000,'Growth Data'!$A:$Z,10,0)),0,VLOOKUP($A280+8860000,'Growth Data'!$A:$Z,10,0))","v":0},0,null,0,{"$f":"IF(ISERROR(VLOOKUP($A280+8860000,'Growth Data'!$A:$Z,11,0)),0,VLOOKUP($A280+8860000,'Growth Data'!$A:$Z,11,0))","v":0},0]
[4040,"Northfleet School for Girls",null,"Northfleet School for Girls","Northfleet School for Girls",0,null,3145023.45,3145023.4498672006,0,null,404087.12,404087.12259681616,0,null,37517.5,37517.497130232601,0,null,254609.48,254609.48453789001,0,null,120082.8,120082.8,0,null,0,0,0,null,0,0,0,null,0,0,0,null,26712,26712,0,null,0,0,0,null,0,0,0,null,0,0,0,null,3988032.35,3988032.3541321391,0,null,0,0,0,null,3988032.35,3988032.3541321391,0,null,0,null,0,null,3988032.35,3988032.3541321391,0,null,0,null,0,null,605367.62,null,605368,null,0,null,0,null,0,null,0,null,0,null,0,null,0,null,0,null,0,null,0,null,0,null,0,null,0,null,0,null,"NO",{"$f":"IF(ISERROR(VLOOKUP($A281+8860000,'Growth Data'!$A:$F,3,0)),\"NO\",VLOOKUP($A281+8860000,'Growth Data'!$A:$F,3,0))","v":"YES"},1,null,0,{"$f":"IF(DI281=\"YES\",IF(ISERROR(VLOOKUP($A281+8860000,'Growth Data'!$A:$F,6,0)),0,VLOOKUP($A281+8860000,'Growth Data'!$A:$F,6,0)),0)","v":175},-175,null,0,{"$f":"IF(ISERROR(VLOOKUP($A281+8860000,'Growth Data'!$A:$Z,7,0)),0,VLOOKUP($A281+8860000,'Growth Data'!$A:$Z,7,0))","v":200},1,null,"YES",{"$f":"IF(ISERROR(VLOOKUP($A281+8860000,'Growth Data'!$A:$F,4,0)),\"NO\",VLOOKUP($A281+8860000,'Growth Data'!$A:$F,4,0))","v":"YES"},0,null,175,{"$f":"IF(ISERROR(VLOOKUP($A281+8860000,'Growth Data'!$A:$Z,8,0)),0,VLOOKUP($A281+8860000,'Growth Data'!$A:$Z,8,0))","v":175},0,null,200,{"$f":"IF(ISERROR(VLOOKUP($A281+8860000,'Growth Data'!$A:$Z,9,0)),0,VLOOKUP($A281+8860000,'Growth Data'!$A:$Z,9,0))","v":200},0,null,"YES",{"$f":"IF(ISERROR(VLOOKUP($A281+8860000,'Growth Data'!$A:$Z,5,0)),\"NO\",VLOOKUP($A281+8860000,'Growth Data'!$A:$Z,5,0))","v":"NO"},1,null,175,{"$f":"IF(ISERROR(VLOOKUP($A281+8860000,'Growth Data'!$A:$Z,10,0)),0,VLOOKUP($A281+8860000,'Growth Data'!$A:$Z,10,0))","v":0},1,null,200,{"$f":"IF(ISERROR(VLOOKUP($A281+8860000,'Growth Data'!$A:$Z,11,0)),0,VLOOKUP($A281+8860000,'Growth Data'!$A:$Z,11,0))","v":0},1]
[4043,"Tunbridge Wells Girls' Grammar School",null,"Tunbridge Wells Girls' Grammar School","Tunbridge Wells Girls' Grammar School",0,null,2971206.45,2971206.4488337007,0,null,30388.73,30388.733769706392,0,null,0,0,0,null,3185.09,3185.0891786366824,0,null,120082.8,120082.8,0,null,0,0,0,null,0,0,0,null,0,0,0,null,50036,50036,0,null,0,0,0,null,0,0,0,null,301436.93,301436.92821795633,0,null,3476336,3476336,0,null,0,0,0,null,3476336,3476336,0,null,0,null,0,null,3476336,3476336,0,null,0,null,0,null,34750.79,null,34751,null,2524.92,null,2525,null,0,null,0,null,0,null,0,null,0,null,0,null,0,null,0,null,0,null,0,null,0,null,0,null,"NO",{"$f":"IF(ISERROR(VLOOKUP($A282+8860000,'Growth Data'!$A:$F,3,0)),\"NO\",VLOOKUP($A282+8860000,'Growth Data'!$A:$F,3,0))","v":"NO"},0,null,0,{"$f":"IF(DI282=\"YES\",IF(ISERROR(VLOOKUP($A282+8860000,'Growth Data'!$A:$F,6,0)),0,VLOOKUP($A282+8860000,'Growth Data'!$A:$F,6,0)),0)","v":0},0,null,0,{"$f":"IF(ISERROR(VLOOKUP($A282+8860000,'Growth Data'!$A:$Z,7,0)),0,VLOOKUP($A282+8860000,'Growth Data'!$A:$Z,7,0))","v":0},0,null,"NO",{"$f":"IF(ISERROR(VLOOKUP($A282+8860000,'Growth Data'!$A:$F,4,0)),\"NO\",VLOOKUP($A282+8860000,'Growth Data'!$A:$F,4,0))","v":"NO"},0,null,0,{"$f":"IF(ISERROR(VLOOKUP($A282+8860000,'Growth Data'!$A:$Z,8,0)),0,VLOOKUP($A282+8860000,'Growth Data'!$A:$Z,8,0))","v":0},0,null,0,{"$f":"IF(ISERROR(VLOOKUP($A282+8860000,'Growth Data'!$A:$Z,9,0)),0,VLOOKUP($A282+8860000,'Growth Data'!$A:$Z,9,0))","v":0},0,null,"NO",{"$f":"IF(ISERROR(VLOOKUP($A282+8860000,'Growth Data'!$A:$Z,5,0)),\"NO\",VLOOKUP($A282+8860000,'Growth Data'!$A:$Z,5,0))","v":"NO"},0,null,0,{"$f":"IF(ISERROR(VLOOKUP($A282+8860000,'Growth Data'!$A:$Z,10,0)),0,VLOOKUP($A282+8860000,'Growth Data'!$A:$Z,10,0))","v":0},0,null,0,{"$f":"IF(ISERROR(VLOOKUP($A282+8860000,'Growth Data'!$A:$Z,11,0)),0,VLOOKUP($A282+8860000,'Growth Data'!$A:$Z,11,0))","v":0},0]
[4045,"Tunbridge Wells Grammar School for Boys",null,"Tunbridge Wells Grammar School for Boys","Tunbridge Wells Grammar School for Boys",0,null,4039246.38,4039246.3782418007,0,null,73565.62,73565.620014210537,0,null,5543.82,5543.8226000000031,0,null,17562.259999999998,17562.259331015804,0,null,120082.8,120082.8,0,null,0,0,0,null,0,0,0,null,0,0,0,null,163800,163800,0,null,0,0,0,null,0,0,0,null,434599.12,434599.11981297284,0,null,4854400,4854400,0,null,0,0,0,null,4854400,4854400,0,null,0,null,0,null,4854400,4854400,0,null,0,null,0,null,80676.83,null,80677,null,0,null,0,null,0,null,0,null,0,null,0,null,0,null,0,null,0,null,0,null,0,null,0,null,0,null,0,null,"NO",{"$f":"IF(ISERROR(VLOOKUP($A283+8860000,'Growth Data'!$A:$F,3,0)),\"NO\",VLOOKUP($A283+8860000,'Growth Data'!$A:$F,3,0))","v":"YES"},1,null,0,{"$f":"IF(DI283=\"YES\",IF(ISERROR(VLOOKUP($A283+8860000,'Growth Data'!$A:$F,6,0)),0,VLOOKUP($A283+8860000,'Growth Data'!$A:$F,6,0)),0)","v":0},0,null,0,{"$f":"IF(ISERROR(VLOOKUP($A283+8860000,'Growth Data'!$A:$Z,7,0)),0,VLOOKUP($A283+8860000,'Growth Data'!$A:$Z,7,0))","v":0},0,null,"NO",{"$f":"IF(ISERROR(VLOOKUP($A283+8860000,'Growth Data'!$A:$F,4,0)),\"NO\",VLOOKUP($A283+8860000,'Growth Data'!$A:$F,4,0))","v":"NO"},0,null,0,{"$f":"IF(ISERROR(VLOOKUP($A283+8860000,'Growth Data'!$A:$Z,8,0)),0,VLOOKUP($A283+8860000,'Growth Data'!$A:$Z,8,0))","v":180},1,null,0,{"$f":"IF(ISERROR(VLOOKUP($A283+8860000,'Growth Data'!$A:$Z,9,0)),0,VLOOKUP($A283+8860000,'Growth Data'!$A:$Z,9,0))","v":210},1,null,"NO",{"$f":"IF(ISERROR(VLOOKUP($A283+8860000,'Growth Data'!$A:$Z,5,0)),\"NO\",VLOOKUP($A283+8860000,'Growth Data'!$A:$Z,5,0))","v":"NO"},0,null,0,{"$f":"IF(ISERROR(VLOOKUP($A283+8860000,'Growth Data'!$A:$Z,10,0)),0,VLOOKUP($A283+8860000,'Growth Data'!$A:$Z,10,0))","v":197},1,null,0,{"$f":"IF(ISERROR(VLOOKUP($A283+8860000,'Growth Data'!$A:$Z,11,0)),0,VLOOKUP($A283+8860000,'Growth Data'!$A:$Z,11,0))","v":210},1]
[4065,"Holmesdale School, The",null,"Holmesdale School, The","Holmesdale School, The",0,null,2146759.86,2146759.8629378006,0,null,206958.61,206958.60800240235,0,null,1385.96,1385.9556500000028,0,null,190609.38,190609.38161700871,0,null,120082.8,120082.8,0,null,0,0,0,null,0,0,0,null,0,0,0,null,42380,42380,0,null,1042572.49,1042572.4929657052,0,null,0,0,0,null,0,0,0,null,3750749.1,3750749.1011729166,0,null,0,0,0,null,3750749.1,3750749.1011729166,0,null,0,null,0,null,3750749.1,3750749.1011729166,0,null,0,null,0,null,373272.39,null,373272,null,0,null,0,null,2333.33,null,2333,null,31000,null,31000,null,695.13,null,695,null,695.13,null,695,null,695.13,null,695,null,695.13,null,695,null,"NO",{"$f":"IF(ISERROR(VLOOKUP($A284+8860000,'Growth Data'!$A:$F,3,0)),\"NO\",VLOOKUP($A284+8860000,'Growth Data'!$A:$F,3,0))","v":"NO"},0,null,0,{"$f":"IF(DI284=\"YES\",IF(ISERROR(VLOOKUP($A284+8860000,'Growth Data'!$A:$F,6,0)),0,VLOOKUP($A284+8860000,'Growth Data'!$A:$F,6,0)),0)","v":0},0,null,0,{"$f":"IF(ISERROR(VLOOKUP($A284+8860000,'Growth Data'!$A:$Z,7,0)),0,VLOOKUP($A284+8860000,'Growth Data'!$A:$Z,7,0))","v":0},0,null,"NO",{"$f":"IF(ISERROR(VLOOKUP($A284+8860000,'Growth Data'!$A:$F,4,0)),\"NO\",VLOOKUP($A284+8860000,'Growth Data'!$A:$F,4,0))","v":"NO"},0,null,0,{"$f":"IF(ISERROR(VLOOKUP($A284+8860000,'Growth Data'!$A:$Z,8,0)),0,VLOOKUP($A284+8860000,'Growth Data'!$A:$Z,8,0))","v":0},0,null,0,{"$f":"IF(ISERROR(VLOOKUP($A284+8860000,'Growth Data'!$A:$Z,9,0)),0,VLOOKUP($A284+8860000,'Growth Data'!$A:$Z,9,0))","v":0},0,null,"NO",{"$f":"IF(ISERROR(VLOOKUP($A284+8860000,'Growth Data'!$A:$Z,5,0)),\"NO\",VLOOKUP($A284+8860000,'Growth Data'!$A:$Z,5,0))","v":"NO"},0,null,0,{"$f":"IF(ISERROR(VLOOKUP($A284+8860000,'Growth Data'!$A:$Z,10,0)),0,VLOOKUP($A284+8860000,'Growth Data'!$A:$Z,10,0))","v":0},0,null,0,{"$f":"IF(ISERROR(VLOOKUP($A284+8860000,'Growth Data'!$A:$Z,11,0)),0,VLOOKUP($A284+8860000,'Growth Data'!$A:$Z,11,0))","v":0},0]
[4109,"Dover Grammar School for Girls",null,"Dover Grammar School for Girls","Dover Grammar School for Girls",0,null,2759617.45,2759617.4530947004,0,null,188592.5,188592.50298781853,0,null,1385.96,1385.9556500000022,0,null,15050.54,15050.541343386105,0,null,120082.8,120082.8,0,null,0,0,0,null,0,0,0,null,0,0,0,null,68544,68544,0,null,0,0,0,null,0,0,0,null,106570.75,106570.74692409532,0,null,3259844,3259844,0,null,0,0,0,null,3259844,3259844,0,null,0,null,0,null,3259844,3259844,0,null,0,null,0,null,191235.64,null,191236,null,0,null,0,null,0,null,0,null,0,null,0,null,0,null,0,null,0,null,0,null,0,null,0,null,0,null,0,null,"NO",{"$f":"IF(ISERROR(VLOOKUP($A285+8860000,'Growth Data'!$A:$F,3,0)),\"NO\",VLOOKUP($A285+8860000,'Growth Data'!$A:$F,3,0))","v":"NO"},0,null,0,{"$f":"IF(DI285=\"YES\",IF(ISERROR(VLOOKUP($A285+8860000,'Growth Data'!$A:$F,6,0)),0,VLOOKUP($A285+8860000,'Growth Data'!$A:$F,6,0)),0)","v":0},0,null,0,{"$f":"IF(ISERROR(VLOOKUP($A285+8860000,'Growth Data'!$A:$Z,7,0)),0,VLOOKUP($A285+8860000,'Growth Data'!$A:$Z,7,0))","v":0},0,null,"NO",{"$f":"IF(ISERROR(VLOOKUP($A285+8860000,'Growth Data'!$A:$F,4,0)),\"NO\",VLOOKUP($A285+8860000,'Growth Data'!$A:$F,4,0))","v":"NO"},0,null,0,{"$f":"IF(ISERROR(VLOOKUP($A285+8860000,'Growth Data'!$A:$Z,8,0)),0,VLOOKUP($A285+8860000,'Growth Data'!$A:$Z,8,0))","v":0},0,null,0,{"$f":"IF(ISERROR(VLOOKUP($A285+8860000,'Growth Data'!$A:$Z,9,0)),0,VLOOKUP($A285+8860000,'Growth Data'!$A:$Z,9,0))","v":0},0,null,"NO",{"$f":"IF(ISERROR(VLOOKUP($A285+8860000,'Growth Data'!$A:$Z,5,0)),\"NO\",VLOOKUP($A285+8860000,'Growth Data'!$A:$Z,5,0))","v":"NO"},0,null,0,{"$f":"IF(ISERROR(VLOOKUP($A285+8860000,'Growth Data'!$A:$Z,10,0)),0,VLOOKUP($A285+8860000,'Growth Data'!$A:$Z,10,0))","v":0},0,null,0,{"$f":"IF(ISERROR(VLOOKUP($A285+8860000,'Growth Data'!$A:$Z,11,0)),0,VLOOKUP($A285+8860000,'Growth Data'!$A:$Z,11,0))","v":0},0]
[4246,"North School, The",null,"North School, The","North School, The",0,null,3593810.27,3593810.2692525005,0,null,375462.98,375462.9847050946,0,null,41578.67,41578.669500000004,0,null,340112.73,340112.73447922239,0,null,120082.8,120082.8,0,null,0,0,0,null,0,0,0,null,0,0,0,null,257470,257470,0,null,1096148.73,1096148.7315712892,0,null,0,0,0,null,0,0,0,null,5824666.1900000004,5824666.1895081066,0,null,0,0,0,null,5824666.1900000004,5824666.1895081066,0,null,0,null,0,null,5824666.1900000004,5824666.1895081066,0,null,0,null,0,null,696248.55,null,696249,null,0,null,0,null,0,null,0,null,150000,null,150000,null,650.94000000000005,null,651,null,650.94000000000005,null,651,null,650.94000000000005,null,651,null,650.94000000000005,null,651,null,"NO",{"$f":"IF(ISERROR(VLOOKUP($A286+8860000,'Growth Data'!$A:$F,3,0)),\"NO\",VLOOKUP($A286+8860000,'Growth Data'!$A:$F,3,0))","v":"NO"},0,null,0,{"$f":"IF(DI286=\"YES\",IF(ISERROR(VLOOKUP($A286+8860000,'Growth Data'!$A:$F,6,0)),0,VLOOKUP($A286+8860000,'Growth Data'!$A:$F,6,0)),0)","v":0},0,null,0,{"$f":"IF(ISERROR(VLOOKUP($A286+8860000,'Growth Data'!$A:$Z,7,0)),0,VLOOKUP($A286+8860000,'Growth Data'!$A:$Z,7,0))","v":0},0,null,"NO",{"$f":"IF(ISERROR(VLOOKUP($A286+8860000,'Growth Data'!$A:$F,4,0)),\"NO\",VLOOKUP($A286+8860000,'Growth Data'!$A:$F,4,0))","v":"NO"},0,null,0,{"$f":"IF(ISERROR(VLOOKUP($A286+8860000,'Growth Data'!$A:$Z,8,0)),0,VLOOKUP($A286+8860000,'Growth Data'!$A:$Z,8,0))","v":0},0,null,0,{"$f":"IF(ISERROR(VLOOKUP($A286+8860000,'Growth Data'!$A:$Z,9,0)),0,VLOOKUP($A286+8860000,'Growth Data'!$A:$Z,9,0))","v":0},0,null,"NO",{"$f":"IF(ISERROR(VLOOKUP($A286+8860000,'Growth Data'!$A:$Z,5,0)),\"NO\",VLOOKUP($A286+8860000,'Growth Data'!$A:$Z,5,0))","v":"NO"},0,null,0,{"$f":"IF(ISERROR(VLOOKUP($A286+8860000,'Growth Data'!$A:$Z,10,0)),0,VLOOKUP($A286+8860000,'Growth Data'!$A:$Z,10,0))","v":0},0,null,0,{"$f":"IF(ISERROR(VLOOKUP($A286+8860000,'Growth Data'!$A:$Z,11,0)),0,VLOOKUP($A286+8860000,'Growth Data'!$A:$Z,11,0))","v":0},0]
[4522,"Maidstone Grammar School",null,"Maidstone Grammar School","Maidstone Grammar School",0,null,3957149.9,3957149.9007315007,0,null,88686.93,88686.934727591812,0,null,5543.82,5543.8225999999968,0,null,4651.3900000000003,4651.3874130421455,0,null,120082.8,120082.8,0,null,0,0,0,null,0,0,0,null,0,0,0,null,33674,33674,0,null,0,0,0,null,0,0,0,null,406385.15,406385.15452786535,0,null,4616174,4616174,0,null,0,0,0,null,4616174,4616174,0,null,0,null,0,null,4616174,4616174,0,null,0,null,0,null,93894.86,null,93895,null,0,null,0,null,0,null,0,null,0,null,0,null,0,null,0,null,0,null,0,null,0,null,0,null,0,null,0,null,"NO",{"$f":"IF(ISERROR(VLOOKUP($A287+8860000,'Growth Data'!$A:$F,3,0)),\"NO\",VLOOKUP($A287+8860000,'Growth Data'!$A:$F,3,0))","v":"NO"},0,null,0,{"$f":"IF(DI287=\"YES\",IF(ISERROR(VLOOKUP($A287+8860000,'Growth Data'!$A:$F,6,0)),0,VLOOKUP($A287+8860000,'Growth Data'!$A:$F,6,0)),0)","v":0},0,null,0,{"$f":"IF(ISERROR(VLOOKUP($A287+8860000,'Growth Data'!$A:$Z,7,0)),0,VLOOKUP($A287+8860000,'Growth Data'!$A:$Z,7,0))","v":0},0,null,"NO",{"$f":"IF(ISERROR(VLOOKUP($A287+8860000,'Growth Data'!$A:$F,4,0)),\"NO\",VLOOKUP($A287+8860000,'Growth Data'!$A:$F,4,0))","v":"YES"},1,null,0,{"$f":"IF(ISERROR(VLOOKUP($A287+8860000,'Growth Data'!$A:$Z,8,0)),0,VLOOKUP($A287+8860000,'Growth Data'!$A:$Z,8,0))","v":181},1,null,0,{"$f":"IF(ISERROR(VLOOKUP($A287+8860000,'Growth Data'!$A:$Z,9,0)),0,VLOOKUP($A287+8860000,'Growth Data'!$A:$Z,9,0))","v":205},1,null,"YES",{"$f":"IF(ISERROR(VLOOKUP($A287+8860000,'Growth Data'!$A:$Z,5,0)),\"NO\",VLOOKUP($A287+8860000,'Growth Data'!$A:$Z,5,0))","v":"YES"},0,null,182,{"$f":"IF(ISERROR(VLOOKUP($A287+8860000,'Growth Data'!$A:$Z,10,0)),0,VLOOKUP($A287+8860000,'Growth Data'!$A:$Z,10,0))","v":187},1,null,205,{"$f":"IF(ISERROR(VLOOKUP($A287+8860000,'Growth Data'!$A:$Z,11,0)),0,VLOOKUP($A287+8860000,'Growth Data'!$A:$Z,11,0))","v":205},0]
[4523,"Maidstone Grammar School for Girls",null,"Maidstone Grammar School for Girls","Maidstone Grammar School for Girls",0,null,3655332.46,3655332.4602938006,0,null,108083.01,108083.01234491254,0,null,4157.87,4157.8669500000005,0,null,5307.14,5307.1430908001794,0,null,120082.8,120082.8,0,null,0,0,0,null,0,0,0,null,0,0,0,null,36659,36659,0,null,0,0,0,null,0,0,0,null,327636.71999999997,327636.71732048644,0,null,4257259,4257259,0,null,0,0,0,null,4257259,4257259,0,null,0,null,0,null,4257259,4257259,0,null,0,null,0,null,109478.61,null,109479,null,0,null,0,null,0,null,0,null,0,null,0,null,0,null,0,null,0,null,0,null,0,null,0,null,0,null,0,null,"NO",{"$f":"IF(ISERROR(VLOOKUP($A288+8860000,'Growth Data'!$A:$F,3,0)),\"NO\",VLOOKUP($A288+8860000,'Growth Data'!$A:$F,3,0))","v":"NO"},0,null,0,{"$f":"IF(DI288=\"YES\",IF(ISERROR(VLOOKUP($A288+8860000,'Growth Data'!$A:$F,6,0)),0,VLOOKUP($A288+8860000,'Growth Data'!$A:$F,6,0)),0)","v":0},0,null,0,{"$f":"IF(ISERROR(VLOOKUP($A288+8860000,'Growth Data'!$A:$Z,7,0)),0,VLOOKUP($A288+8860000,'Growth Data'!$A:$Z,7,0))","v":0},0,null,"NO",{"$f":"IF(ISERROR(VLOOKUP($A288+8860000,'Growth Data'!$A:$F,4,0)),\"NO\",VLOOKUP($A288+8860000,'Growth Data'!$A:$F,4,0))","v":"NO"},0,null,0,{"$f":"IF(ISERROR(VLOOKUP($A288+8860000,'Growth Data'!$A:$Z,8,0)),0,VLOOKUP($A288+8860000,'Growth Data'!$A:$Z,8,0))","v":0},0,null,0,{"$f":"IF(ISERROR(VLOOKUP($A288+8860000,'Growth Data'!$A:$Z,9,0)),0,VLOOKUP($A288+8860000,'Growth Data'!$A:$Z,9,0))","v":0},0,null,"NO",{"$f":"IF(ISERROR(VLOOKUP($A288+8860000,'Growth Data'!$A:$Z,5,0)),\"NO\",VLOOKUP($A288+8860000,'Growth Data'!$A:$Z,5,0))","v":"NO"},0,null,0,{"$f":"IF(ISERROR(VLOOKUP($A288+8860000,'Growth Data'!$A:$Z,10,0)),0,VLOOKUP($A288+8860000,'Growth Data'!$A:$Z,10,0))","v":0},0,null,0,{"$f":"IF(ISERROR(VLOOKUP($A288+8860000,'Growth Data'!$A:$Z,11,0)),0,VLOOKUP($A288+8860000,'Growth Data'!$A:$Z,11,0))","v":0},0]
[4534,"Simon Langton Girls' Grammar School",null,"Simon Langton Girls' Grammar School","Simon Langton Girls' Grammar School",0,null,3405936.69,3405936.6858649007,0,null,98466.4,98466.398581951769,0,null,9713.2900000000009,9713.2944418062143,0,null,15748.92,15748.923688345827,0,null,120082.8,120082.8,0,null,0,0,0,null,0,0,0,null,0,0,0,null,162540,162540,0,null,0,0,0,null,0,0,0,null,283951.90000000002,283951.89742299542,0,null,4096440,4096440,0,null,0,0,0,null,4096440,4096440,0,null,0,null,0,null,4096440,4096440,0,null,0,null,0,null,116739.81,null,116740,null,0,null,0,null,0,null,0,null,0,null,0,null,0,null,0,null,0,null,0,null,0,null,0,null,0,null,0,null,"NO",{"$f":"IF(ISERROR(VLOOKUP($A289+8860000,'Growth Data'!$A:$F,3,0)),\"NO\",VLOOKUP($A289+8860000,'Growth Data'!$A:$F,3,0))","v":"NO"},0,null,0,{"$f":"IF(DI289=\"YES\",IF(ISERROR(VLOOKUP($A289+8860000,'Growth Data'!$A:$F,6,0)),0,VLOOKUP($A289+8860000,'Growth Data'!$A:$F,6,0)),0)","v":0},0,null,0,{"$f":"IF(ISERROR(VLOOKUP($A289+8860000,'Growth Data'!$A:$Z,7,0)),0,VLOOKUP($A289+8860000,'Growth Data'!$A:$Z,7,0))","v":0},0,null,"NO",{"$f":"IF(ISERROR(VLOOKUP($A289+8860000,'Growth Data'!$A:$F,4,0)),\"NO\",VLOOKUP($A289+8860000,'Growth Data'!$A:$F,4,0))","v":"NO"},0,null,0,{"$f":"IF(ISERROR(VLOOKUP($A289+8860000,'Growth Data'!$A:$Z,8,0)),0,VLOOKUP($A289+8860000,'Growth Data'!$A:$Z,8,0))","v":0},0,null,0,{"$f":"IF(ISERROR(VLOOKUP($A289+8860000,'Growth Data'!$A:$Z,9,0)),0,VLOOKUP($A289+8860000,'Growth Data'!$A:$Z,9,0))","v":0},0,null,"NO",{"$f":"IF(ISERROR(VLOOKUP($A289+8860000,'Growth Data'!$A:$Z,5,0)),\"NO\",VLOOKUP($A289+8860000,'Growth Data'!$A:$Z,5,0))","v":"NO"},0,null,0,{"$f":"IF(ISERROR(VLOOKUP($A289+8860000,'Growth Data'!$A:$Z,10,0)),0,VLOOKUP($A289+8860000,'Growth Data'!$A:$Z,10,0))","v":0},0,null,0,{"$f":"IF(ISERROR(VLOOKUP($A289+8860000,'Growth Data'!$A:$Z,11,0)),0,VLOOKUP($A289+8860000,'Growth Data'!$A:$Z,11,0))","v":0},0]
[4622,"Judd School, The",null,"Judd School, The","Judd School, The",0,null,3394218.56,3394218.5559304007,0,null,30437.439999999999,30437.438885300591,0,null,11087.65,11087.645199999999,0,null,5880.76,5880.7562233360686,0,null,120082.8,120082.8,0,null,0,0,0,null,0,0,0,null,0,0,0,null,40165,40165,0,null,0,0,0,null,0,0,0,null,367492.8,367492.80376096303,0,null,3969365,3969365,0,null,0,0,0,null,3969365,3969365,0,null,0,null,0,null,3969365,3969365,0,null,0,null,0,null,48142.5,null,48143,null,1185.75,null,1186,null,11666.67,null,11667,null,17500,null,17500,null,695.94,null,696,null,695.94,null,696,null,695.94,null,696,null,695.94,null,696,null,"NO",{"$f":"IF(ISERROR(VLOOKUP($A290+8860000,'Growth Data'!$A:$F,3,0)),\"NO\",VLOOKUP($A290+8860000,'Growth Data'!$A:$F,3,0))","v":"NO"},0,null,0,{"$f":"IF(DI290=\"YES\",IF(ISERROR(VLOOKUP($A290+8860000,'Growth Data'!$A:$F,6,0)),0,VLOOKUP($A290+8860000,'Growth Data'!$A:$F,6,0)),0)","v":0},0,null,0,{"$f":"IF(ISERROR(VLOOKUP($A290+8860000,'Growth Data'!$A:$Z,7,0)),0,VLOOKUP($A290+8860000,'Growth Data'!$A:$Z,7,0))","v":0},0,null,"NO",{"$f":"IF(ISERROR(VLOOKUP($A290+8860000,'Growth Data'!$A:$F,4,0)),\"NO\",VLOOKUP($A290+8860000,'Growth Data'!$A:$F,4,0))","v":"YES"},1,null,0,{"$f":"IF(ISERROR(VLOOKUP($A290+8860000,'Growth Data'!$A:$Z,8,0)),0,VLOOKUP($A290+8860000,'Growth Data'!$A:$Z,8,0))","v":155},1,null,0,{"$f":"IF(ISERROR(VLOOKUP($A290+8860000,'Growth Data'!$A:$Z,9,0)),0,VLOOKUP($A290+8860000,'Growth Data'!$A:$Z,9,0))","v":180},1,null,"YES",{"$f":"IF(ISERROR(VLOOKUP($A290+8860000,'Growth Data'!$A:$Z,5,0)),\"NO\",VLOOKUP($A290+8860000,'Growth Data'!$A:$Z,5,0))","v":"YES"},0,null,154,{"$f":"IF(ISERROR(VLOOKUP($A290+8860000,'Growth Data'!$A:$Z,10,0)),0,VLOOKUP($A290+8860000,'Growth Data'!$A:$Z,10,0))","v":155},1,null,180,{"$f":"IF(ISERROR(VLOOKUP($A290+8860000,'Growth Data'!$A:$Z,11,0)),0,VLOOKUP($A290+8860000,'Growth Data'!$A:$Z,11,0))","v":180},0]
[5200,"Snodland CEP School",null,"Snodland CEP School","Snodland CEP School",0,null,1069316.43,1069316.4295858999,0,null,120570.57,120570.56640591031,0,null,2437.36,2437.3645124620061,0,null,64804.38,64804.381325342983,0,null,120082.8,120082.8,0,null,0,0,0,null,0,0,0,null,0,0,0,null,11790,11790,0,null,0,0,0,null,0,0,0,null,0,0,0,null,1389001.54,1389001.5418296151,0,null,0,0,0,null,1389001.54,1389001.5418296151,0,null,0,null,0,null,1389001.54,1389001.5418296151,0,null,0,null,0,null,168950.01,null,168950,null,0,null,0,null,0,null,0,null,0,null,0,null,0,null,0,null,0,null,0,null,0,null,0,null,0,null,0,null,"NO",{"$f":"IF(ISERROR(VLOOKUP($A291+8860000,'Growth Data'!$A:$F,3,0)),\"NO\",VLOOKUP($A291+8860000,'Growth Data'!$A:$F,3,0))","v":"NO"},0,null,0,{"$f":"IF(DI291=\"YES\",IF(ISERROR(VLOOKUP($A291+8860000,'Growth Data'!$A:$F,6,0)),0,VLOOKUP($A291+8860000,'Growth Data'!$A:$F,6,0)),0)","v":0},0,null,0,{"$f":"IF(ISERROR(VLOOKUP($A291+8860000,'Growth Data'!$A:$Z,7,0)),0,VLOOKUP($A291+8860000,'Growth Data'!$A:$Z,7,0))","v":0},0,null,"NO",{"$f":"IF(ISERROR(VLOOKUP($A291+8860000,'Growth Data'!$A:$F,4,0)),\"NO\",VLOOKUP($A291+8860000,'Growth Data'!$A:$F,4,0))","v":"NO"},0,null,0,{"$f":"IF(ISERROR(VLOOKUP($A291+8860000,'Growth Data'!$A:$Z,8,0)),0,VLOOKUP($A291+8860000,'Growth Data'!$A:$Z,8,0))","v":0},0,null,0,{"$f":"IF(ISERROR(VLOOKUP($A291+8860000,'Growth Data'!$A:$Z,9,0)),0,VLOOKUP($A291+8860000,'Growth Data'!$A:$Z,9,0))","v":0},0,null,"NO",{"$f":"IF(ISERROR(VLOOKUP($A291+8860000,'Growth Data'!$A:$Z,5,0)),\"NO\",VLOOKUP($A291+8860000,'Growth Data'!$A:$Z,5,0))","v":"NO"},0,null,0,{"$f":"IF(ISERROR(VLOOKUP($A291+8860000,'Growth Data'!$A:$Z,10,0)),0,VLOOKUP($A291+8860000,'Growth Data'!$A:$Z,10,0))","v":0},0,null,0,{"$f":"IF(ISERROR(VLOOKUP($A291+8860000,'Growth Data'!$A:$Z,11,0)),0,VLOOKUP($A291+8860000,'Growth Data'!$A:$Z,11,0))","v":0},0]
[5201,"Borough Green Primary School",null,"Borough Green Primary School","Borough Green Primary School",0,null,805423.43,805423.4289683,0,null,52326,52325.99693939132,0,null,2972.42,2972.4235738188922,0,null,43518.9,43518.899408103316,0,null,120082.8,120082.8,0,null,0,0,0,null,0,0,0,null,0,0,0,null,9723,9723,0,null,0,0,0,null,0,0,0,null,0,0,0,null,1034046.55,1034046.5488896136,0,null,0,0,0,null,1034046.55,1034046.5488896136,0,null,0,null,0,null,1034046.55,1034046.5488896136,0,null,0,null,0,null,91843.21,null,91843,null,0,null,0,null,0,null,0,null,0,null,0,null,0,null,0,null,0,null,0,null,0,null,0,null,0,null,0,null,"NO",{"$f":"IF(ISERROR(VLOOKUP($A292+8860000,'Growth Data'!$A:$F,3,0)),\"NO\",VLOOKUP($A292+8860000,'Growth Data'!$A:$F,3,0))","v":"NO"},0,null,0,{"$f":"IF(DI292=\"YES\",IF(ISERROR(VLOOKUP($A292+8860000,'Growth Data'!$A:$F,6,0)),0,VLOOKUP($A292+8860000,'Growth Data'!$A:$F,6,0)),0)","v":0},0,null,0,{"$f":"IF(ISERROR(VLOOKUP($A292+8860000,'Growth Data'!$A:$Z,7,0)),0,VLOOKUP($A292+8860000,'Growth Data'!$A:$Z,7,0))","v":0},0,null,"NO",{"$f":"IF(ISERROR(VLOOKUP($A292+8860000,'Growth Data'!$A:$F,4,0)),\"NO\",VLOOKUP($A292+8860000,'Growth Data'!$A:$F,4,0))","v":"NO"},0,null,0,{"$f":"IF(ISERROR(VLOOKUP($A292+8860000,'Growth Data'!$A:$Z,8,0)),0,VLOOKUP($A292+8860000,'Growth Data'!$A:$Z,8,0))","v":0},0,null,0,{"$f":"IF(ISERROR(VLOOKUP($A292+8860000,'Growth Data'!$A:$Z,9,0)),0,VLOOKUP($A292+8860000,'Growth Data'!$A:$Z,9,0))","v":0},0,null,"NO",{"$f":"IF(ISERROR(VLOOKUP($A292+8860000,'Growth Data'!$A:$Z,5,0)),\"NO\",VLOOKUP($A292+8860000,'Growth Data'!$A:$Z,5,0))","v":"NO"},0,null,0,{"$f":"IF(ISERROR(VLOOKUP($A292+8860000,'Growth Data'!$A:$Z,10,0)),0,VLOOKUP($A292+8860000,'Growth Data'!$A:$Z,10,0))","v":0},0,null,0,{"$f":"IF(ISERROR(VLOOKUP($A292+8860000,'Growth Data'!$A:$Z,11,0)),0,VLOOKUP($A292+8860000,'Growth Data'!$A:$Z,11,0))","v":0},0]
[5202,"Holy Trinity CEP School",null,"Holy Trinity CEP School","Holy Trinity CEP School",0,null,1168276.3,1168276.3048175001,0,null,113304.59,113304.58996018738,0,null,59843.18,59843.175887978156,0,null,120335.73,120335.7255153913,0,null,120082.8,120082.8,0,null,0,0,0,null,0,0,0,null,0,0,0,null,9677,9677,0,null,0,0,0,null,0,0,0,null,0,0,0,null,1591519.6,1591519.5961810569,0,null,0,0,0,null,1591519.6,1591519.5961810569,0,null,0,null,0,null,1591519.6,1591519.5961810569,0,null,5.0199999999999996,null,5,null,281666.03999999998,null,281666,null,0,null,0,null,0,null,0,null,0,null,0,null,0,null,0,null,0,null,0,null,0,null,0,null,0,null,0,null,"NO",{"$f":"IF(ISERROR(VLOOKUP($A293+8860000,'Growth Data'!$A:$F,3,0)),\"NO\",VLOOKUP($A293+8860000,'Growth Data'!$A:$F,3,0))","v":"NO"},0,null,0,{"$f":"IF(DI293=\"YES\",IF(ISERROR(VLOOKUP($A293+8860000,'Growth Data'!$A:$F,6,0)),0,VLOOKUP($A293+8860000,'Growth Data'!$A:$F,6,0)),0)","v":0},0,null,0,{"$f":"IF(ISERROR(VLOOKUP($A293+8860000,'Growth Data'!$A:$Z,7,0)),0,VLOOKUP($A293+8860000,'Growth Data'!$A:$Z,7,0))","v":0},0,null,"NO",{"$f":"IF(ISERROR(VLOOKUP($A293+8860000,'Growth Data'!$A:$F,4,0)),\"NO\",VLOOKUP($A293+8860000,'Growth Data'!$A:$F,4,0))","v":"NO"},0,null,0,{"$f":"IF(ISERROR(VLOOKUP($A293+8860000,'Growth Data'!$A:$Z,8,0)),0,VLOOKUP($A293+8860000,'Growth Data'!$A:$Z,8,0))","v":0},0,null,0,{"$f":"IF(ISERROR(VLOOKUP($A293+8860000,'Growth Data'!$A:$Z,9,0)),0,VLOOKUP($A293+8860000,'Growth Data'!$A:$Z,9,0))","v":0},0,null,"NO",{"$f":"IF(ISERROR(VLOOKUP($A293+8860000,'Growth Data'!$A:$Z,5,0)),\"NO\",VLOOKUP($A293+8860000,'Growth Data'!$A:$Z,5,0))","v":"NO"},0,null,0,{"$f":"IF(ISERROR(VLOOKUP($A293+8860000,'Growth Data'!$A:$Z,10,0)),0,VLOOKUP($A293+8860000,'Growth Data'!$A:$Z,10,0))","v":0},0,null,0,{"$f":"IF(ISERROR(VLOOKUP($A293+8860000,'Growth Data'!$A:$Z,11,0)),0,VLOOKUP($A293+8860000,'Growth Data'!$A:$Z,11,0))","v":0},0]
[5203,"Roseacre Junior School",null,"Roseacre Junior School","Roseacre Junior School",0,null,1173774.08,1173774.0756637,0,null,23089.89,23089.887673678953,0,null,3607.49,3607.4874499999955,0,null,65068.94,65068.943084138438,0,null,120082.8,120082.8,0,null,0,0,0,null,0,0,0,null,0,0,0,null,7768,7768,0,null,0,0,0,null,0,0,0,null,66176.81,66176.806128482567,0,null,1459568,1459568,0,null,0,0,0,null,1459568,1459568,0,null,0,null,0,null,1459568,1459568,0,null,0,null,0,null,90516.160000000003,null,90516,null,0,null,0,null,0,null,0,null,0,null,0,null,0,null,0,null,0,null,0,null,0,null,0,null,0,null,0,null,"NO",{"$f":"IF(ISERROR(VLOOKUP($A294+8860000,'Growth Data'!$A:$F,3,0)),\"NO\",VLOOKUP($A294+8860000,'Growth Data'!$A:$F,3,0))","v":"NO"},0,null,0,{"$f":"IF(DI294=\"YES\",IF(ISERROR(VLOOKUP($A294+8860000,'Growth Data'!$A:$F,6,0)),0,VLOOKUP($A294+8860000,'Growth Data'!$A:$F,6,0)),0)","v":0},0,null,0,{"$f":"IF(ISERROR(VLOOKUP($A294+8860000,'Growth Data'!$A:$Z,7,0)),0,VLOOKUP($A294+8860000,'Growth Data'!$A:$Z,7,0))","v":0},0,null,"NO",{"$f":"IF(ISERROR(VLOOKUP($A294+8860000,'Growth Data'!$A:$F,4,0)),\"NO\",VLOOKUP($A294+8860000,'Growth Data'!$A:$F,4,0))","v":"NO"},0,null,0,{"$f":"IF(ISERROR(VLOOKUP($A294+8860000,'Growth Data'!$A:$Z,8,0)),0,VLOOKUP($A294+8860000,'Growth Data'!$A:$Z,8,0))","v":0},0,null,0,{"$f":"IF(ISERROR(VLOOKUP($A294+8860000,'Growth Data'!$A:$Z,9,0)),0,VLOOKUP($A294+8860000,'Growth Data'!$A:$Z,9,0))","v":0},0,null,"NO",{"$f":"IF(ISERROR(VLOOKUP($A294+8860000,'Growth Data'!$A:$Z,5,0)),\"NO\",VLOOKUP($A294+8860000,'Growth Data'!$A:$Z,5,0))","v":"NO"},0,null,0,{"$f":"IF(ISERROR(VLOOKUP($A294+8860000,'Growth Data'!$A:$Z,10,0)),0,VLOOKUP($A294+8860000,'Growth Data'!$A:$Z,10,0))","v":0},0,null,0,{"$f":"IF(ISERROR(VLOOKUP($A294+8860000,'Growth Data'!$A:$Z,11,0)),0,VLOOKUP($A294+8860000,'Growth Data'!$A:$Z,11,0))","v":0},0]
[5206,"Herne Bay Junior School",null,"Herne Bay Junior School","Herne Bay Junior School",0,null,1297473.92,1297473.9197032,0,null,153143.69,153143.68756929465,0,null,4638.2,4638.198150000002,0,null,125069.21,125069.20539444184,0,null,120082.8,120082.8,0,null,0,0,0,null,0,0,0,null,0,0,0,null,9727,9727,0,null,0,0,0,null,0,0,0,null,0,0,0,null,1710134.81,1710134.8108169364,0,null,0,0,0,null,1710134.81,1710134.8108169364,0,null,0,null,0,null,1710134.81,1710134.8108169364,0,null,0,null,0,null,252100.59,null,252101,null,0,null,0,null,0,null,0,null,0,null,0,null,0,null,0,null,0,null,0,null,0,null,0,null,0,null,0,null,"NO",{"$f":"IF(ISERROR(VLOOKUP($A295+8860000,'Growth Data'!$A:$F,3,0)),\"NO\",VLOOKUP($A295+8860000,'Growth Data'!$A:$F,3,0))","v":"NO"},0,null,0,{"$f":"IF(DI295=\"YES\",IF(ISERROR(VLOOKUP($A295+8860000,'Growth Data'!$A:$F,6,0)),0,VLOOKUP($A295+8860000,'Growth Data'!$A:$F,6,0)),0)","v":0},0,null,0,{"$f":"IF(ISERROR(VLOOKUP($A295+8860000,'Growth Data'!$A:$Z,7,0)),0,VLOOKUP($A295+8860000,'Growth Data'!$A:$Z,7,0))","v":0},0,null,"NO",{"$f":"IF(ISERROR(VLOOKUP($A295+8860000,'Growth Data'!$A:$F,4,0)),\"NO\",VLOOKUP($A295+8860000,'Growth Data'!$A:$F,4,0))","v":"NO"},0,null,0,{"$f":"IF(ISERROR(VLOOKUP($A295+8860000,'Growth Data'!$A:$Z,8,0)),0,VLOOKUP($A295+8860000,'Growth Data'!$A:$Z,8,0))","v":0},0,null,0,{"$f":"IF(ISERROR(VLOOKUP($A295+8860000,'Growth Data'!$A:$Z,9,0)),0,VLOOKUP($A295+8860000,'Growth Data'!$A:$Z,9,0))","v":0},0,null,"NO",{"$f":"IF(ISERROR(VLOOKUP($A295+8860000,'Growth Data'!$A:$Z,5,0)),\"NO\",VLOOKUP($A295+8860000,'Growth Data'!$A:$Z,5,0))","v":"NO"},0,null,0,{"$f":"IF(ISERROR(VLOOKUP($A295+8860000,'Growth Data'!$A:$Z,10,0)),0,VLOOKUP($A295+8860000,'Growth Data'!$A:$Z,10,0))","v":0},0,null,0,{"$f":"IF(ISERROR(VLOOKUP($A295+8860000,'Growth Data'!$A:$Z,11,0)),0,VLOOKUP($A295+8860000,'Growth Data'!$A:$Z,11,0))","v":0},0]
[5207,"St Francis' Catholic Primary School, Maidstone",null,"St Francis' Catholic Primary School, Maidstone","St Francis' Catholic Primary School, Maidstone",0,null,1105051.94,1105051.9400861999,0,null,48913.17,48913.174760968497,0,null,41551.620000000003,41551.616948304996,0,null,75763.08,75763.081942857796,0,null,120082.8,120082.8,0,null,0,0,0,null,0,0,0,null,0,0,0,null,13111,13111,0,null,0,0,0,null,0,0,0,null,0,0,0,null,1404473.61,1404473.613738331,0,null,0,0,0,null,1404473.61,1404473.613738331,0,null,0,null,0,null,1404473.61,1404473.613738331,0,null,0,null,0,null,158813.46,null,158813,null,0,null,0,null,0,null,0,null,0,null,0,null,0,null,0,null,0,null,0,null,0,null,0,null,0,null,0,null,"NO",{"$f":"IF(ISERROR(VLOOKUP($A296+8860000,'Growth Data'!$A:$F,3,0)),\"NO\",VLOOKUP($A296+8860000,'Growth Data'!$A:$F,3,0))","v":"NO"},0,null,0,{"$f":"IF(DI296=\"YES\",IF(ISERROR(VLOOKUP($A296+8860000,'Growth Data'!$A:$F,6,0)),0,VLOOKUP($A296+8860000,'Growth Data'!$A:$F,6,0)),0)","v":0},0,null,0,{"$f":"IF(ISERROR(VLOOKUP($A296+8860000,'Growth Data'!$A:$Z,7,0)),0,VLOOKUP($A296+8860000,'Growth Data'!$A:$Z,7,0))","v":0},0,null,"NO",{"$f":"IF(ISERROR(VLOOKUP($A296+8860000,'Growth Data'!$A:$F,4,0)),\"NO\",VLOOKUP($A296+8860000,'Growth Data'!$A:$F,4,0))","v":"NO"},0,null,0,{"$f":"IF(ISERROR(VLOOKUP($A296+8860000,'Growth Data'!$A:$Z,8,0)),0,VLOOKUP($A296+8860000,'Growth Data'!$A:$Z,8,0))","v":0},0,null,0,{"$f":"IF(ISERROR(VLOOKUP($A296+8860000,'Growth Data'!$A:$Z,9,0)),0,VLOOKUP($A296+8860000,'Growth Data'!$A:$Z,9,0))","v":0},0,null,"NO",{"$f":"IF(ISERROR(VLOOKUP($A296+8860000,'Growth Data'!$A:$Z,5,0)),\"NO\",VLOOKUP($A296+8860000,'Growth Data'!$A:$Z,5,0))","v":"NO"},0,null,0,{"$f":"IF(ISERROR(VLOOKUP($A296+8860000,'Growth Data'!$A:$Z,10,0)),0,VLOOKUP($A296+8860000,'Growth Data'!$A:$Z,10,0))","v":0},0,null,0,{"$f":"IF(ISERROR(VLOOKUP($A296+8860000,'Growth Data'!$A:$Z,11,0)),0,VLOOKUP($A296+8860000,'Growth Data'!$A:$Z,11,0))","v":0},0]
[5208,"Ditton CEJ School",null,"Ditton CEJ School","Ditton CEJ School",0,null,659732.5,659732.501544,0,null,55937.279999999999,55937.279787096777,0,null,515.36,515.3553500000005,0,null,48927.09,48927.090280140379,0,null,120082.8,120082.8,0,null,0,0,0,null,0,0,0,null,0,0,0,null,7609,7609,0,null,0,0,0,null,0,0,0,null,0,0,0,null,892804.03,892804.02696123719,0,null,0,0,0,null,892804.03,892804.02696123719,0,null,0,null,0,null,892804.03,892804.02696123719,0,null,0,null,0,null,100166.83,null,100167,null,0,null,0,null,0,null,0,null,0,null,0,null,0,null,0,null,0,null,0,null,0,null,0,null,0,null,0,null,"NO",{"$f":"IF(ISERROR(VLOOKUP($A297+8860000,'Growth Data'!$A:$F,3,0)),\"NO\",VLOOKUP($A297+8860000,'Growth Data'!$A:$F,3,0))","v":"NO"},0,null,0,{"$f":"IF(DI297=\"YES\",IF(ISERROR(VLOOKUP($A297+8860000,'Growth Data'!$A:$F,6,0)),0,VLOOKUP($A297+8860000,'Growth Data'!$A:$F,6,0)),0)","v":0},0,null,0,{"$f":"IF(ISERROR(VLOOKUP($A297+8860000,'Growth Data'!$A:$Z,7,0)),0,VLOOKUP($A297+8860000,'Growth Data'!$A:$Z,7,0))","v":0},0,null,"NO",{"$f":"IF(ISERROR(VLOOKUP($A297+8860000,'Growth Data'!$A:$F,4,0)),\"NO\",VLOOKUP($A297+8860000,'Growth Data'!$A:$F,4,0))","v":"NO"},0,null,0,{"$f":"IF(ISERROR(VLOOKUP($A297+8860000,'Growth Data'!$A:$Z,8,0)),0,VLOOKUP($A297+8860000,'Growth Data'!$A:$Z,8,0))","v":0},0,null,0,{"$f":"IF(ISERROR(VLOOKUP($A297+8860000,'Growth Data'!$A:$Z,9,0)),0,VLOOKUP($A297+8860000,'Growth Data'!$A:$Z,9,0))","v":0},0,null,"NO",{"$f":"IF(ISERROR(VLOOKUP($A297+8860000,'Growth Data'!$A:$Z,5,0)),\"NO\",VLOOKUP($A297+8860000,'Growth Data'!$A:$Z,5,0))","v":"NO"},0,null,0,{"$f":"IF(ISERROR(VLOOKUP($A297+8860000,'Growth Data'!$A:$Z,10,0)),0,VLOOKUP($A297+8860000,'Growth Data'!$A:$Z,10,0))","v":0},0,null,0,{"$f":"IF(ISERROR(VLOOKUP($A297+8860000,'Growth Data'!$A:$Z,11,0)),0,VLOOKUP($A297+8860000,'Growth Data'!$A:$Z,11,0))","v":0},0]
[5212,"Ditton Infant School",null,"Ditton Infant School","Ditton Infant School",0,null,450817.21,450817.20938840002,0,null,33242.92,33242.921800000004,0,null,5235.6499999999996,5235.6455026548711,0,null,26023.919999999998,26023.922613869214,0,null,120082.8,120082.8,0,null,0,0,0,null,0,0,0,null,0,0,0,null,7254,7254,0,null,0,0,0,null,0,0,0,null,0,0,0,null,642656.5,642656.49930492416,0,null,0,0,0,null,642656.5,642656.49930492416,0,null,0,null,0,null,642656.5,642656.49930492416,0,null,0,null,0,null,61931.42,null,61931,null,0,null,0,null,0,null,0,null,0,null,0,null,0,null,0,null,0,null,0,null,0,null,0,null,0,null,0,null,"NO",{"$f":"IF(ISERROR(VLOOKUP($A298+8860000,'Growth Data'!$A:$F,3,0)),\"NO\",VLOOKUP($A298+8860000,'Growth Data'!$A:$F,3,0))","v":"NO"},0,null,0,{"$f":"IF(DI298=\"YES\",IF(ISERROR(VLOOKUP($A298+8860000,'Growth Data'!$A:$F,6,0)),0,VLOOKUP($A298+8860000,'Growth Data'!$A:$F,6,0)),0)","v":0},0,null,0,{"$f":"IF(ISERROR(VLOOKUP($A298+8860000,'Growth Data'!$A:$Z,7,0)),0,VLOOKUP($A298+8860000,'Growth Data'!$A:$Z,7,0))","v":0},0,null,"NO",{"$f":"IF(ISERROR(VLOOKUP($A298+8860000,'Growth Data'!$A:$F,4,0)),\"NO\",VLOOKUP($A298+8860000,'Growth Data'!$A:$F,4,0))","v":"NO"},0,null,0,{"$f":"IF(ISERROR(VLOOKUP($A298+8860000,'Growth Data'!$A:$Z,8,0)),0,VLOOKUP($A298+8860000,'Growth Data'!$A:$Z,8,0))","v":0},0,null,0,{"$f":"IF(ISERROR(VLOOKUP($A298+8860000,'Growth Data'!$A:$Z,9,0)),0,VLOOKUP($A298+8860000,'Growth Data'!$A:$Z,9,0))","v":0},0,null,"NO",{"$f":"IF(ISERROR(VLOOKUP($A298+8860000,'Growth Data'!$A:$Z,5,0)),\"NO\",VLOOKUP($A298+8860000,'Growth Data'!$A:$Z,5,0))","v":"NO"},0,null,0,{"$f":"IF(ISERROR(VLOOKUP($A298+8860000,'Growth Data'!$A:$Z,10,0)),0,VLOOKUP($A298+8860000,'Growth Data'!$A:$Z,10,0))","v":0},0,null,0,{"$f":"IF(ISERROR(VLOOKUP($A298+8860000,'Growth Data'!$A:$Z,11,0)),0,VLOOKUP($A298+8860000,'Growth Data'!$A:$Z,11,0))","v":0},0]
[5213,"Holy Trinity CEP School, Dartford",null,"Holy Trinity CEP School, Dartford","Holy Trinity CEP School, Dartford",0,null,1171025.19,1171025.1902405999,0,null,75278.600000000006,75278.598360568707,0,null,50145.94,50145.941744289594,0,null,59770.2,59770.196905459583,0,null,120082.8,120082.8,0,null,0,0,0,null,53737.42,53737.419271933388,0,null,0,0,0,null,8165,8165,0,null,0,0,0,null,0,0,0,null,0,0,0,null,1538205.15,1538205.1465228512,0,null,18371.009999999998,18371.012613107217,0,null,1556576.16,1556576.1591359584,0,null,0,null,0,null,1556576.16,1556576.1591359584,0,null,0,null,0,null,185620.52,null,185621,null,0,null,0,null,0,null,0,null,0,null,0,null,0,null,0,null,0,null,0,null,0,null,0,null,0,null,0,null,"NO",{"$f":"IF(ISERROR(VLOOKUP($A299+8860000,'Growth Data'!$A:$F,3,0)),\"NO\",VLOOKUP($A299+8860000,'Growth Data'!$A:$F,3,0))","v":"NO"},0,null,0,{"$f":"IF(DI299=\"YES\",IF(ISERROR(VLOOKUP($A299+8860000,'Growth Data'!$A:$F,6,0)),0,VLOOKUP($A299+8860000,'Growth Data'!$A:$F,6,0)),0)","v":0},0,null,0,{"$f":"IF(ISERROR(VLOOKUP($A299+8860000,'Growth Data'!$A:$Z,7,0)),0,VLOOKUP($A299+8860000,'Growth Data'!$A:$Z,7,0))","v":0},0,null,"NO",{"$f":"IF(ISERROR(VLOOKUP($A299+8860000,'Growth Data'!$A:$F,4,0)),\"NO\",VLOOKUP($A299+8860000,'Growth Data'!$A:$F,4,0))","v":"NO"},0,null,0,{"$f":"IF(ISERROR(VLOOKUP($A299+8860000,'Growth Data'!$A:$Z,8,0)),0,VLOOKUP($A299+8860000,'Growth Data'!$A:$Z,8,0))","v":0},0,null,0,{"$f":"IF(ISERROR(VLOOKUP($A299+8860000,'Growth Data'!$A:$Z,9,0)),0,VLOOKUP($A299+8860000,'Growth Data'!$A:$Z,9,0))","v":0},0,null,"NO",{"$f":"IF(ISERROR(VLOOKUP($A299+8860000,'Growth Data'!$A:$Z,5,0)),\"NO\",VLOOKUP($A299+8860000,'Growth Data'!$A:$Z,5,0))","v":"NO"},0,null,0,{"$f":"IF(ISERROR(VLOOKUP($A299+8860000,'Growth Data'!$A:$Z,10,0)),0,VLOOKUP($A299+8860000,'Growth Data'!$A:$Z,10,0))","v":0},0,null,0,{"$f":"IF(ISERROR(VLOOKUP($A299+8860000,'Growth Data'!$A:$Z,11,0)),0,VLOOKUP($A299+8860000,'Growth Data'!$A:$Z,11,0))","v":0},0]
[5214,"St Bartholomew's Catholic Primary School",null,"St Bartholomew's Catholic Primary School","St Bartholomew's Catholic Primary School",0,null,945616.59,945616.58554640005,0,null,114735.47,114735.46818601721,0,null,22311.03,22311.030254421697,0,null,64893.86,64893.860446208717,0,null,120082.8,120082.8,0,null,0,0,0,null,46142.09,46142.086697362924,0,null,0,0,0,null,6098,6098,0,null,0,0,0,null,0,0,0,null,0,0,0,null,1319879.83,1319879.8311304105,0,null,0,0,0,null,1319879.83,1319879.8311304105,0,null,0,null,0,null,1319879.83,1319879.8311304105,0,null,0,null,0,null,199325.04,null,199325,null,0,null,0,null,0,null,0,null,0,null,0,null,0,null,0,null,0,null,0,null,0,null,0,null,0,null,0,null,"NO",{"$f":"IF(ISERROR(VLOOKUP($A300+8860000,'Growth Data'!$A:$F,3,0)),\"NO\",VLOOKUP($A300+8860000,'Growth Data'!$A:$F,3,0))","v":"NO"},0,null,0,{"$f":"IF(DI300=\"YES\",IF(ISERROR(VLOOKUP($A300+8860000,'Growth Data'!$A:$F,6,0)),0,VLOOKUP($A300+8860000,'Growth Data'!$A:$F,6,0)),0)","v":0},0,null,0,{"$f":"IF(ISERROR(VLOOKUP($A300+8860000,'Growth Data'!$A:$Z,7,0)),0,VLOOKUP($A300+8860000,'Growth Data'!$A:$Z,7,0))","v":0},0,null,"NO",{"$f":"IF(ISERROR(VLOOKUP($A300+8860000,'Growth Data'!$A:$F,4,0)),\"NO\",VLOOKUP($A300+8860000,'Growth Data'!$A:$F,4,0))","v":"NO"},0,null,0,{"$f":"IF(ISERROR(VLOOKUP($A300+8860000,'Growth Data'!$A:$Z,8,0)),0,VLOOKUP($A300+8860000,'Growth Data'!$A:$Z,8,0))","v":0},0,null,0,{"$f":"IF(ISERROR(VLOOKUP($A300+8860000,'Growth Data'!$A:$Z,9,0)),0,VLOOKUP($A300+8860000,'Growth Data'!$A:$Z,9,0))","v":0},0,null,"NO",{"$f":"IF(ISERROR(VLOOKUP($A300+8860000,'Growth Data'!$A:$Z,5,0)),\"NO\",VLOOKUP($A300+8860000,'Growth Data'!$A:$Z,5,0))","v":"NO"},0,null,0,{"$f":"IF(ISERROR(VLOOKUP($A300+8860000,'Growth Data'!$A:$Z,10,0)),0,VLOOKUP($A300+8860000,'Growth Data'!$A:$Z,10,0))","v":0},0,null,0,{"$f":"IF(ISERROR(VLOOKUP($A300+8860000,'Growth Data'!$A:$Z,11,0)),0,VLOOKUP($A300+8860000,'Growth Data'!$A:$Z,11,0))","v":0},0]
[5218,"Greatstone Primary School",null,"Greatstone Primary School","Greatstone Primary School",0,null,975854.33,975854.32520049997,0,null,64804.35,64804.351760664838,0,null,3529.6,3529.6041655948525,0,null,67705.279999999999,67705.275340783133,0,null,120082.8,120082.8,0,null,0,0,0,null,0,0,0,null,0,0,0,null,8215,8215,0,null,0,0,0,null,0,0,0,null,0,0,0,null,1240191.3600000001,1240191.3564675429,0,null,7881.19,7881.1927182991058,0,null,1248072.55,1248072.549185842,0,null,0,null,0,null,1248072.55,1248072.549185842,0,null,4.9000000000000004,null,5,null,127303.91,null,127304,null,0,null,0,null,0,null,0,null,0,null,0,null,0,null,0,null,0,null,0,null,0,null,0,null,0,null,0,null,"NO",{"$f":"IF(ISERROR(VLOOKUP($A301+8860000,'Growth Data'!$A:$F,3,0)),\"NO\",VLOOKUP($A301+8860000,'Growth Data'!$A:$F,3,0))","v":"NO"},0,null,0,{"$f":"IF(DI301=\"YES\",IF(ISERROR(VLOOKUP($A301+8860000,'Growth Data'!$A:$F,6,0)),0,VLOOKUP($A301+8860000,'Growth Data'!$A:$F,6,0)),0)","v":0},0,null,0,{"$f":"IF(ISERROR(VLOOKUP($A301+8860000,'Growth Data'!$A:$Z,7,0)),0,VLOOKUP($A301+8860000,'Growth Data'!$A:$Z,7,0))","v":0},0,null,"NO",{"$f":"IF(ISERROR(VLOOKUP($A301+8860000,'Growth Data'!$A:$F,4,0)),\"NO\",VLOOKUP($A301+8860000,'Growth Data'!$A:$F,4,0))","v":"NO"},0,null,0,{"$f":"IF(ISERROR(VLOOKUP($A301+8860000,'Growth Data'!$A:$Z,8,0)),0,VLOOKUP($A301+8860000,'Growth Data'!$A:$Z,8,0))","v":0},0,null,0,{"$f":"IF(ISERROR(VLOOKUP($A301+8860000,'Growth Data'!$A:$Z,9,0)),0,VLOOKUP($A301+8860000,'Growth Data'!$A:$Z,9,0))","v":0},0,null,"NO",{"$f":"IF(ISERROR(VLOOKUP($A301+8860000,'Growth Data'!$A:$Z,5,0)),\"NO\",VLOOKUP($A301+8860000,'Growth Data'!$A:$Z,5,0))","v":"NO"},0,null,0,{"$f":"IF(ISERROR(VLOOKUP($A301+8860000,'Growth Data'!$A:$Z,10,0)),0,VLOOKUP($A301+8860000,'Growth Data'!$A:$Z,10,0))","v":0},0,null,0,{"$f":"IF(ISERROR(VLOOKUP($A301+8860000,'Growth Data'!$A:$Z,11,0)),0,VLOOKUP($A301+8860000,'Growth Data'!$A:$Z,11,0))","v":0},0]
[5221,"Wincheap Foundation Primary School",null,"Wincheap Foundation Primary School","Wincheap Foundation Primary School",0,null,1193016.27,1193016.2736253999,0,null,142949.10999999999,142949.1148232877,0,null,14910.95,14910.948126666673,0,null,101144.15,101144.15259193139,0,null,120082.8,120082.8,0,null,0,0,0,null,0,0,0,null,0,0,0,null,9675,9675,0,null,0,0,0,null,0,0,0,null,0,0,0,null,1581778.29,1581778.2891672859,0,null,0,0,0,null,1581778.29,1581778.2891672859,0,null,0,null,0,null,1581778.29,1581778.2891672859,0,null,0,null,0,null,224290.98,null,224291,null,0,null,0,null,6666.67,null,6667,null,132500,null,132500,null,228.01,null,228,null,228.01,null,228,null,228.01,null,228,null,228.01,null,228,null,"NO",{"$f":"IF(ISERROR(VLOOKUP($A302+8860000,'Growth Data'!$A:$F,3,0)),\"NO\",VLOOKUP($A302+8860000,'Growth Data'!$A:$F,3,0))","v":"NO"},0,null,0,{"$f":"IF(DI302=\"YES\",IF(ISERROR(VLOOKUP($A302+8860000,'Growth Data'!$A:$F,6,0)),0,VLOOKUP($A302+8860000,'Growth Data'!$A:$F,6,0)),0)","v":0},0,null,0,{"$f":"IF(ISERROR(VLOOKUP($A302+8860000,'Growth Data'!$A:$Z,7,0)),0,VLOOKUP($A302+8860000,'Growth Data'!$A:$Z,7,0))","v":0},0,null,"NO",{"$f":"IF(ISERROR(VLOOKUP($A302+8860000,'Growth Data'!$A:$F,4,0)),\"NO\",VLOOKUP($A302+8860000,'Growth Data'!$A:$F,4,0))","v":"NO"},0,null,0,{"$f":"IF(ISERROR(VLOOKUP($A302+8860000,'Growth Data'!$A:$Z,8,0)),0,VLOOKUP($A302+8860000,'Growth Data'!$A:$Z,8,0))","v":0},0,null,0,{"$f":"IF(ISERROR(VLOOKUP($A302+8860000,'Growth Data'!$A:$Z,9,0)),0,VLOOKUP($A302+8860000,'Growth Data'!$A:$Z,9,0))","v":0},0,null,"NO",{"$f":"IF(ISERROR(VLOOKUP($A302+8860000,'Growth Data'!$A:$Z,5,0)),\"NO\",VLOOKUP($A302+8860000,'Growth Data'!$A:$Z,5,0))","v":"NO"},0,null,0,{"$f":"IF(ISERROR(VLOOKUP($A302+8860000,'Growth Data'!$A:$Z,10,0)),0,VLOOKUP($A302+8860000,'Growth Data'!$A:$Z,10,0))","v":0},0,null,0,{"$f":"IF(ISERROR(VLOOKUP($A302+8860000,'Growth Data'!$A:$Z,11,0)),0,VLOOKUP($A302+8860000,'Growth Data'!$A:$Z,11,0))","v":0},0]
[5223,"Brookfield Junior School, Larkfield",null,"Brookfield Junior School, Larkfield","Brookfield Junior School, Larkfield",0,null,698216.9,698216.89746740006,0,null,78155.350000000006,78155.346071631764,0,null,1546.07,1546.0660499999944,0,null,43018.2,43018.203223231125,0,null,120082.8,120082.8,0,null,0,0,0,null,0,0,0,null,0,0,0,null,28169,28169,0,null,0,0,0,null,0,0,0,null,0,0,0,null,969188.31,969188.31281226303,0,null,0,0,0,null,969188.31,969188.31281226303,0,null,0,null,0,null,969188.31,969188.31281226303,0,null,0,null,0,null,106939.44,null,106939,null,0,null,0,null,0,null,0,null,0,null,0,null,0,null,0,null,0,null,0,null,0,null,0,null,0,null,0,null,"NO",{"$f":"IF(ISERROR(VLOOKUP($A303+8860000,'Growth Data'!$A:$F,3,0)),\"NO\",VLOOKUP($A303+8860000,'Growth Data'!$A:$F,3,0))","v":"NO"},0,null,0,{"$f":"IF(DI303=\"YES\",IF(ISERROR(VLOOKUP($A303+8860000,'Growth Data'!$A:$F,6,0)),0,VLOOKUP($A303+8860000,'Growth Data'!$A:$F,6,0)),0)","v":0},0,null,0,{"$f":"IF(ISERROR(VLOOKUP($A303+8860000,'Growth Data'!$A:$Z,7,0)),0,VLOOKUP($A303+8860000,'Growth Data'!$A:$Z,7,0))","v":0},0,null,"NO",{"$f":"IF(ISERROR(VLOOKUP($A303+8860000,'Growth Data'!$A:$F,4,0)),\"NO\",VLOOKUP($A303+8860000,'Growth Data'!$A:$F,4,0))","v":"NO"},0,null,0,{"$f":"IF(ISERROR(VLOOKUP($A303+8860000,'Growth Data'!$A:$Z,8,0)),0,VLOOKUP($A303+8860000,'Growth Data'!$A:$Z,8,0))","v":0},0,null,0,{"$f":"IF(ISERROR(VLOOKUP($A303+8860000,'Growth Data'!$A:$Z,9,0)),0,VLOOKUP($A303+8860000,'Growth Data'!$A:$Z,9,0))","v":0},0,null,"NO",{"$f":"IF(ISERROR(VLOOKUP($A303+8860000,'Growth Data'!$A:$Z,5,0)),\"NO\",VLOOKUP($A303+8860000,'Growth Data'!$A:$Z,5,0))","v":"NO"},0,null,0,{"$f":"IF(ISERROR(VLOOKUP($A303+8860000,'Growth Data'!$A:$Z,10,0)),0,VLOOKUP($A303+8860000,'Growth Data'!$A:$Z,10,0))","v":0},0,null,0,{"$f":"IF(ISERROR(VLOOKUP($A303+8860000,'Growth Data'!$A:$Z,11,0)),0,VLOOKUP($A303+8860000,'Growth Data'!$A:$Z,11,0))","v":0},0]
[5224,"All Souls' CEP School",null,"All Souls' CEP School","All Souls' CEP School",0,null,797176.77,797176.77269899996,0,null,73944.97,73944.966437755109,0,null,13640.56,13640.556287698419,0,null,51404.54,51404.542521020419,0,null,120082.8,120082.8,0,null,0,0,0,null,0,0,0,null,0,0,0,null,4662,4662,0,null,0,0,0,null,0,0,0,null,0,0,0,null,1060911.6399999999,1060911.6379454739,0,null,0,0,0,null,1060911.6399999999,1060911.6379454739,0,null,0,null,0,null,1060911.6399999999,1060911.6379454739,0,null,0,null,0,null,119687.46,null,119687,null,0,null,0,null,0,null,0,null,0,null,0,null,0,null,0,null,0,null,0,null,0,null,0,null,0,null,0,null,"NO",{"$f":"IF(ISERROR(VLOOKUP($A304+8860000,'Growth Data'!$A:$F,3,0)),\"NO\",VLOOKUP($A304+8860000,'Growth Data'!$A:$F,3,0))","v":"NO"},0,null,0,{"$f":"IF(DI304=\"YES\",IF(ISERROR(VLOOKUP($A304+8860000,'Growth Data'!$A:$F,6,0)),0,VLOOKUP($A304+8860000,'Growth Data'!$A:$F,6,0)),0)","v":0},0,null,0,{"$f":"IF(ISERROR(VLOOKUP($A304+8860000,'Growth Data'!$A:$Z,7,0)),0,VLOOKUP($A304+8860000,'Growth Data'!$A:$Z,7,0))","v":0},0,null,"NO",{"$f":"IF(ISERROR(VLOOKUP($A304+8860000,'Growth Data'!$A:$F,4,0)),\"NO\",VLOOKUP($A304+8860000,'Growth Data'!$A:$F,4,0))","v":"NO"},0,null,0,{"$f":"IF(ISERROR(VLOOKUP($A304+8860000,'Growth Data'!$A:$Z,8,0)),0,VLOOKUP($A304+8860000,'Growth Data'!$A:$Z,8,0))","v":0},0,null,0,{"$f":"IF(ISERROR(VLOOKUP($A304+8860000,'Growth Data'!$A:$Z,9,0)),0,VLOOKUP($A304+8860000,'Growth Data'!$A:$Z,9,0))","v":0},0,null,"NO",{"$f":"IF(ISERROR(VLOOKUP($A304+8860000,'Growth Data'!$A:$Z,5,0)),\"NO\",VLOOKUP($A304+8860000,'Growth Data'!$A:$Z,5,0))","v":"NO"},0,null,0,{"$f":"IF(ISERROR(VLOOKUP($A304+8860000,'Growth Data'!$A:$Z,10,0)),0,VLOOKUP($A304+8860000,'Growth Data'!$A:$Z,10,0))","v":0},0,null,0,{"$f":"IF(ISERROR(VLOOKUP($A304+8860000,'Growth Data'!$A:$Z,11,0)),0,VLOOKUP($A304+8860000,'Growth Data'!$A:$Z,11,0))","v":0},0]
[5225,"Harcourt Primary School",null,"Harcourt Primary School","Harcourt Primary School",0,null,503046.03,503046.0324273,0,null,49504.52,49504.524679065951,0,null,3674.42,3674.4167162337703,0,null,41186.82,41186.824597822175,0,null,120082.8,120082.8,0,null,0,0,0,null,0,0,0,null,0,0,0,null,3375,3375,0,null,0,0,0,null,0,0,0,null,0,0,0,null,720869.6,720869.59842042194,0,null,18972.07,18972.067878240836,0,null,739841.67,739841.66629866278,0,null,0,null,0,null,739841.67,739841.66629866278,0,null,0,null,0,null,86511.05,null,86511,null,0,null,0,null,0,null,0,null,0,null,0,null,0,null,0,null,0,null,0,null,0,null,0,null,0,null,0,null,"NO",{"$f":"IF(ISERROR(VLOOKUP($A305+8860000,'Growth Data'!$A:$F,3,0)),\"NO\",VLOOKUP($A305+8860000,'Growth Data'!$A:$F,3,0))","v":"NO"},0,null,0,{"$f":"IF(DI305=\"YES\",IF(ISERROR(VLOOKUP($A305+8860000,'Growth Data'!$A:$F,6,0)),0,VLOOKUP($A305+8860000,'Growth Data'!$A:$F,6,0)),0)","v":0},0,null,0,{"$f":"IF(ISERROR(VLOOKUP($A305+8860000,'Growth Data'!$A:$Z,7,0)),0,VLOOKUP($A305+8860000,'Growth Data'!$A:$Z,7,0))","v":0},0,null,"NO",{"$f":"IF(ISERROR(VLOOKUP($A305+8860000,'Growth Data'!$A:$F,4,0)),\"NO\",VLOOKUP($A305+8860000,'Growth Data'!$A:$F,4,0))","v":"NO"},0,null,0,{"$f":"IF(ISERROR(VLOOKUP($A305+8860000,'Growth Data'!$A:$Z,8,0)),0,VLOOKUP($A305+8860000,'Growth Data'!$A:$Z,8,0))","v":0},0,null,0,{"$f":"IF(ISERROR(VLOOKUP($A305+8860000,'Growth Data'!$A:$Z,9,0)),0,VLOOKUP($A305+8860000,'Growth Data'!$A:$Z,9,0))","v":0},0,null,"NO",{"$f":"IF(ISERROR(VLOOKUP($A305+8860000,'Growth Data'!$A:$Z,5,0)),\"NO\",VLOOKUP($A305+8860000,'Growth Data'!$A:$Z,5,0))","v":"NO"},0,null,0,{"$f":"IF(ISERROR(VLOOKUP($A305+8860000,'Growth Data'!$A:$Z,10,0)),0,VLOOKUP($A305+8860000,'Growth Data'!$A:$Z,10,0))","v":0},0,null,0,{"$f":"IF(ISERROR(VLOOKUP($A305+8860000,'Growth Data'!$A:$Z,11,0)),0,VLOOKUP($A305+8860000,'Growth Data'!$A:$Z,11,0))","v":0},0]
[5226,"Willesborough Junior School",null,"Willesborough Junior School","Willesborough Junior School",0,null,1319465,1319465.003088,0,null,107031.14,107031.14233797463,0,null,18037.439999999999,18037.43725000001,0,null,102746.89,102746.88958829483,0,null,120082.8,120082.8,0,null,0,0,0,null,0,0,0,null,0,0,0,null,10030,10030,0,null,0,0,0,null,0,0,0,null,0,0,0,null,1677393.27,1677393.2722642694,0,null,0,0,0,null,1677393.27,1677393.2722642694,0,null,0,null,0,null,1677393.27,1677393.2722642694,0,null,0,null,0,null,216438.33,null,216438,null,0,null,0,null,0,null,0,null,0,null,0,null,0,null,0,null,0,null,0,null,0,null,0,null,0,null,0,null,"NO",{"$f":"IF(ISERROR(VLOOKUP($A306+8860000,'Growth Data'!$A:$F,3,0)),\"NO\",VLOOKUP($A306+8860000,'Growth Data'!$A:$F,3,0))","v":"NO"},0,null,0,{"$f":"IF(DI306=\"YES\",IF(ISERROR(VLOOKUP($A306+8860000,'Growth Data'!$A:$F,6,0)),0,VLOOKUP($A306+8860000,'Growth Data'!$A:$F,6,0)),0)","v":0},0,null,0,{"$f":"IF(ISERROR(VLOOKUP($A306+8860000,'Growth Data'!$A:$Z,7,0)),0,VLOOKUP($A306+8860000,'Growth Data'!$A:$Z,7,0))","v":0},0,null,"NO",{"$f":"IF(ISERROR(VLOOKUP($A306+8860000,'Growth Data'!$A:$F,4,0)),\"NO\",VLOOKUP($A306+8860000,'Growth Data'!$A:$F,4,0))","v":"NO"},0,null,0,{"$f":"IF(ISERROR(VLOOKUP($A306+8860000,'Growth Data'!$A:$Z,8,0)),0,VLOOKUP($A306+8860000,'Growth Data'!$A:$Z,8,0))","v":0},0,null,0,{"$f":"IF(ISERROR(VLOOKUP($A306+8860000,'Growth Data'!$A:$Z,9,0)),0,VLOOKUP($A306+8860000,'Growth Data'!$A:$Z,9,0))","v":0},0,null,"NO",{"$f":"IF(ISERROR(VLOOKUP($A306+8860000,'Growth Data'!$A:$Z,5,0)),\"NO\",VLOOKUP($A306+8860000,'Growth Data'!$A:$Z,5,0))","v":"NO"},0,null,0,{"$f":"IF(ISERROR(VLOOKUP($A306+8860000,'Growth Data'!$A:$Z,10,0)),0,VLOOKUP($A306+8860000,'Growth Data'!$A:$Z,10,0))","v":0},0,null,0,{"$f":"IF(ISERROR(VLOOKUP($A306+8860000,'Growth Data'!$A:$Z,11,0)),0,VLOOKUP($A306+8860000,'Growth Data'!$A:$Z,11,0))","v":0},0]
[5229,"Fleetdown Primary School",null,"Fleetdown Primary School","Fleetdown Primary School",0,null,1726300.05,1726300.0457068,0,null,58883.56,58883.559017639353,0,null,22257.99,22257.986826394052,0,null,107831.61,107831.61436684194,0,null,120082.8,120082.8,0,null,0,0,0,null,74086.960000000006,74086.95861540336,0,null,0,0,0,null,46173,46173,0,null,0,0,0,null,0,0,0,null,25757.040000000001,25757.035466921516,0,null,2181373,2181373,0,null,0,0,0,null,2181373,2181373,0,null,0,null,0,null,2181373,2181373,0,null,0,null,0,null,185429.5,null,185430,null,0,null,0,null,0,null,0,null,78000,null,78000,null,893.43,null,893,null,893.43,null,893,null,893.43,null,893,null,893.43,null,893,null,"YES",{"$f":"IF(ISERROR(VLOOKUP($A307+8860000,'Growth Data'!$A:$F,3,0)),\"NO\",VLOOKUP($A307+8860000,'Growth Data'!$A:$F,3,0))","v":"NO"},1,null,66,{"$f":"IF(DI307=\"YES\",IF(ISERROR(VLOOKUP($A307+8860000,'Growth Data'!$A:$F,6,0)),0,VLOOKUP($A307+8860000,'Growth Data'!$A:$F,6,0)),0)","v":0},66,null,90,{"$f":"IF(ISERROR(VLOOKUP($A307+8860000,'Growth Data'!$A:$Z,7,0)),0,VLOOKUP($A307+8860000,'Growth Data'!$A:$Z,7,0))","v":0},1,null,"NO",{"$f":"IF(ISERROR(VLOOKUP($A307+8860000,'Growth Data'!$A:$F,4,0)),\"NO\",VLOOKUP($A307+8860000,'Growth Data'!$A:$F,4,0))","v":"NO"},0,null,0,{"$f":"IF(ISERROR(VLOOKUP($A307+8860000,'Growth Data'!$A:$Z,8,0)),0,VLOOKUP($A307+8860000,'Growth Data'!$A:$Z,8,0))","v":0},0,null,0,{"$f":"IF(ISERROR(VLOOKUP($A307+8860000,'Growth Data'!$A:$Z,9,0)),0,VLOOKUP($A307+8860000,'Growth Data'!$A:$Z,9,0))","v":0},0,null,"NO",{"$f":"IF(ISERROR(VLOOKUP($A307+8860000,'Growth Data'!$A:$Z,5,0)),\"NO\",VLOOKUP($A307+8860000,'Growth Data'!$A:$Z,5,0))","v":"NO"},0,null,0,{"$f":"IF(ISERROR(VLOOKUP($A307+8860000,'Growth Data'!$A:$Z,10,0)),0,VLOOKUP($A307+8860000,'Growth Data'!$A:$Z,10,0))","v":0},0,null,0,{"$f":"IF(ISERROR(VLOOKUP($A307+8860000,'Growth Data'!$A:$Z,11,0)),0,VLOOKUP($A307+8860000,'Growth Data'!$A:$Z,11,0))","v":0},0]
[5407,"Thamesview School",null,"Thamesview School","Thamesview School",0,null,3300482.43,3300482.4326023003,0,null,431807.99,431807.9914672462,0,null,38998.160000000003,38998.160213316893,0,null,312523.23,312523.22983426997,0,null,120082.8,120082.8,0,null,0,0,0,null,0,0,0,null,0,0,0,null,36792,36792,0,null,934324.83,934324.83044600557,0,null,0,0,0,null,0,0,0,null,5175011.4400000004,5175011.4445631392,0,null,0,0,0,null,5175011.4400000004,5175011.4445631392,0,null,0,null,0,null,5175011.4400000004,5175011.4445631392,0,null,0,null,0,null,712736.86,null,712737,null,0,null,0,null,0,null,0,null,41000,null,41000,null,945.5,null,946,null,945.5,null,946,null,945.5,null,946,null,945.5,null,946,null,"NO",{"$f":"IF(ISERROR(VLOOKUP($A308+8860000,'Growth Data'!$A:$F,3,0)),\"NO\",VLOOKUP($A308+8860000,'Growth Data'!$A:$F,3,0))","v":"NO"},0,null,0,{"$f":"IF(DI308=\"YES\",IF(ISERROR(VLOOKUP($A308+8860000,'Growth Data'!$A:$F,6,0)),0,VLOOKUP($A308+8860000,'Growth Data'!$A:$F,6,0)),0)","v":0},0,null,0,{"$f":"IF(ISERROR(VLOOKUP($A308+8860000,'Growth Data'!$A:$Z,7,0)),0,VLOOKUP($A308+8860000,'Growth Data'!$A:$Z,7,0))","v":0},0,null,"NO",{"$f":"IF(ISERROR(VLOOKUP($A308+8860000,'Growth Data'!$A:$F,4,0)),\"NO\",VLOOKUP($A308+8860000,'Growth Data'!$A:$F,4,0))","v":"NO"},0,null,0,{"$f":"IF(ISERROR(VLOOKUP($A308+8860000,'Growth Data'!$A:$Z,8,0)),0,VLOOKUP($A308+8860000,'Growth Data'!$A:$Z,8,0))","v":0},0,null,0,{"$f":"IF(ISERROR(VLOOKUP($A308+8860000,'Growth Data'!$A:$Z,9,0)),0,VLOOKUP($A308+8860000,'Growth Data'!$A:$Z,9,0))","v":0},0,null,"NO",{"$f":"IF(ISERROR(VLOOKUP($A308+8860000,'Growth Data'!$A:$Z,5,0)),\"NO\",VLOOKUP($A308+8860000,'Growth Data'!$A:$Z,5,0))","v":"NO"},0,null,0,{"$f":"IF(ISERROR(VLOOKUP($A308+8860000,'Growth Data'!$A:$Z,10,0)),0,VLOOKUP($A308+8860000,'Growth Data'!$A:$Z,10,0))","v":0},0,null,0,{"$f":"IF(ISERROR(VLOOKUP($A308+8860000,'Growth Data'!$A:$Z,11,0)),0,VLOOKUP($A308+8860000,'Growth Data'!$A:$Z,11,0))","v":0},0]
[5410,"Aylesford School - Sports College",null,"Aylesford School - Sports College","Aylesford School - Sports College",0,null,2735745.07,2735745.0725099007,0,null,217391.66,217391.66271197033,0,null,6992.68,6992.6809270045387,0,null,205276.15,205276.15380935898,0,null,120082.8,120082.8,0,null,0,0,0,null,0,0,0,null,0,0,0,null,48029,48029,0,null,902767.06,902767.05869667907,0,null,0,0,0,null,0,0,0,null,4236284.43,4236284.4286549138,0,null,0,0,0,null,4236284.43,4236284.4286549138,0,null,0,null,0,null,4236284.43,4236284.4286549138,0,null,0,null,0,null,387687.71,null,387688,null,0,null,0,null,0,null,0,null,0,null,0,null,0,null,0,null,0,null,0,null,0,null,0,null,0,null,0,null,"NO",{"$f":"IF(ISERROR(VLOOKUP($A309+8860000,'Growth Data'!$A:$F,3,0)),\"NO\",VLOOKUP($A309+8860000,'Growth Data'!$A:$F,3,0))","v":"NO"},0,null,0,{"$f":"IF(DI309=\"YES\",IF(ISERROR(VLOOKUP($A309+8860000,'Growth Data'!$A:$F,6,0)),0,VLOOKUP($A309+8860000,'Growth Data'!$A:$F,6,0)),0)","v":0},0,null,0,{"$f":"IF(ISERROR(VLOOKUP($A309+8860000,'Growth Data'!$A:$Z,7,0)),0,VLOOKUP($A309+8860000,'Growth Data'!$A:$Z,7,0))","v":0},0,null,"NO",{"$f":"IF(ISERROR(VLOOKUP($A309+8860000,'Growth Data'!$A:$F,4,0)),\"NO\",VLOOKUP($A309+8860000,'Growth Data'!$A:$F,4,0))","v":"NO"},0,null,0,{"$f":"IF(ISERROR(VLOOKUP($A309+8860000,'Growth Data'!$A:$Z,8,0)),0,VLOOKUP($A309+8860000,'Growth Data'!$A:$Z,8,0))","v":0},0,null,0,{"$f":"IF(ISERROR(VLOOKUP($A309+8860000,'Growth Data'!$A:$Z,9,0)),0,VLOOKUP($A309+8860000,'Growth Data'!$A:$Z,9,0))","v":0},0,null,"NO",{"$f":"IF(ISERROR(VLOOKUP($A309+8860000,'Growth Data'!$A:$Z,5,0)),\"NO\",VLOOKUP($A309+8860000,'Growth Data'!$A:$Z,5,0))","v":"NO"},0,null,0,{"$f":"IF(ISERROR(VLOOKUP($A309+8860000,'Growth Data'!$A:$Z,10,0)),0,VLOOKUP($A309+8860000,'Growth Data'!$A:$Z,10,0))","v":0},0,null,0,{"$f":"IF(ISERROR(VLOOKUP($A309+8860000,'Growth Data'!$A:$Z,11,0)),0,VLOOKUP($A309+8860000,'Growth Data'!$A:$Z,11,0))","v":0},0]
[5412,"Simon Langton Grammar School for Boys",null,"Simon Langton Grammar School for Boys","Simon Langton Grammar School for Boys",0,null,2618171.35,2618171.3525814004,0,null,59827.22,59827.216063245258,0,null,19403.38,19403.379099999984,0,null,5606.72,5606.7224694208135,0,null,120082.8,120082.8,0,null,0,0,0,null,0,0,0,null,0,0,0,null,28728,28728,0,null,0,0,0,null,0,0,0,null,194308.53,194308.5297859339,0,null,3046128,3046128,0,null,0,0,0,null,3046128,3046128,0,null,0,null,0,null,3046128,3046128,0,null,0,null,0,null,84693.37,null,84693,null,0,null,0,null,0,null,0,null,138000,null,138000,null,660.07,null,660,null,660.07,null,660,null,660.07,null,660,null,660.07,null,660,null,"NO",{"$f":"IF(ISERROR(VLOOKUP($A310+8860000,'Growth Data'!$A:$F,3,0)),\"NO\",VLOOKUP($A310+8860000,'Growth Data'!$A:$F,3,0))","v":"NO"},0,null,0,{"$f":"IF(DI310=\"YES\",IF(ISERROR(VLOOKUP($A310+8860000,'Growth Data'!$A:$F,6,0)),0,VLOOKUP($A310+8860000,'Growth Data'!$A:$F,6,0)),0)","v":0},0,null,0,{"$f":"IF(ISERROR(VLOOKUP($A310+8860000,'Growth Data'!$A:$Z,7,0)),0,VLOOKUP($A310+8860000,'Growth Data'!$A:$Z,7,0))","v":0},0,null,"NO",{"$f":"IF(ISERROR(VLOOKUP($A310+8860000,'Growth Data'!$A:$F,4,0)),\"NO\",VLOOKUP($A310+8860000,'Growth Data'!$A:$F,4,0))","v":"NO"},0,null,0,{"$f":"IF(ISERROR(VLOOKUP($A310+8860000,'Growth Data'!$A:$Z,8,0)),0,VLOOKUP($A310+8860000,'Growth Data'!$A:$Z,8,0))","v":0},0,null,0,{"$f":"IF(ISERROR(VLOOKUP($A310+8860000,'Growth Data'!$A:$Z,9,0)),0,VLOOKUP($A310+8860000,'Growth Data'!$A:$Z,9,0))","v":0},0,null,"NO",{"$f":"IF(ISERROR(VLOOKUP($A310+8860000,'Growth Data'!$A:$Z,5,0)),\"NO\",VLOOKUP($A310+8860000,'Growth Data'!$A:$Z,5,0))","v":"NO"},0,null,0,{"$f":"IF(ISERROR(VLOOKUP($A310+8860000,'Growth Data'!$A:$Z,10,0)),0,VLOOKUP($A310+8860000,'Growth Data'!$A:$Z,10,0))","v":0},0,null,0,{"$f":"IF(ISERROR(VLOOKUP($A310+8860000,'Growth Data'!$A:$Z,11,0)),0,VLOOKUP($A310+8860000,'Growth Data'!$A:$Z,11,0))","v":0},0]
[5425,"Malling School, The",null,"Malling School, The","Malling School, The",0,null,3346421.18,3346421.1784806005,0,null,287044.39,287044.38814861863,0,null,9701.69,9701.6895500000046,0,null,304950.2,304950.19933139847,0,null,120082.8,120082.8,0,null,0,0,0,null,0,0,0,null,0,0,0,null,36637,36637,0,null,822766.46,822766.46400000015,0,null,0,0,0,null,0,0,0,null,4927603.72,4927603.7195106167,0,null,50030.39,50030.39233985696,0,null,4977634.1100000003,4977634.111850474,0,null,0,null,0,null,4977634.1100000003,4977634.111850474,0,null,0,null,0,null,557081.67000000004,null,557082,null,0,null,0,null,0,null,0,null,648000,null,648000,null,349.63,null,350,null,349.63,null,350,null,349.63,null,350,null,349.63,null,350,null,"NO",{"$f":"IF(ISERROR(VLOOKUP($A311+8860000,'Growth Data'!$A:$F,3,0)),\"NO\",VLOOKUP($A311+8860000,'Growth Data'!$A:$F,3,0))","v":"NO"},0,null,0,{"$f":"IF(DI311=\"YES\",IF(ISERROR(VLOOKUP($A311+8860000,'Growth Data'!$A:$F,6,0)),0,VLOOKUP($A311+8860000,'Growth Data'!$A:$F,6,0)),0)","v":0},0,null,0,{"$f":"IF(ISERROR(VLOOKUP($A311+8860000,'Growth Data'!$A:$Z,7,0)),0,VLOOKUP($A311+8860000,'Growth Data'!$A:$Z,7,0))","v":0},0,null,"NO",{"$f":"IF(ISERROR(VLOOKUP($A311+8860000,'Growth Data'!$A:$F,4,0)),\"NO\",VLOOKUP($A311+8860000,'Growth Data'!$A:$F,4,0))","v":"NO"},0,null,0,{"$f":"IF(ISERROR(VLOOKUP($A311+8860000,'Growth Data'!$A:$Z,8,0)),0,VLOOKUP($A311+8860000,'Growth Data'!$A:$Z,8,0))","v":0},0,null,0,{"$f":"IF(ISERROR(VLOOKUP($A311+8860000,'Growth Data'!$A:$Z,9,0)),0,VLOOKUP($A311+8860000,'Growth Data'!$A:$Z,9,0))","v":0},0,null,"NO",{"$f":"IF(ISERROR(VLOOKUP($A311+8860000,'Growth Data'!$A:$Z,5,0)),\"NO\",VLOOKUP($A311+8860000,'Growth Data'!$A:$Z,5,0))","v":"NO"},0,null,0,{"$f":"IF(ISERROR(VLOOKUP($A311+8860000,'Growth Data'!$A:$Z,10,0)),0,VLOOKUP($A311+8860000,'Growth Data'!$A:$Z,10,0))","v":0},0,null,0,{"$f":"IF(ISERROR(VLOOKUP($A311+8860000,'Growth Data'!$A:$Z,11,0)),0,VLOOKUP($A311+8860000,'Growth Data'!$A:$Z,11,0))","v":0},0]
[5426,"Archbishop's School, The",null,"Archbishop's School, The","Archbishop's School, The",0,null,2679815.73,2679815.7278717007,0,null,241945.73,241945.73193034722,0,null,31925.57,31925.572907240861,0,null,183525.43,183525.42759675925,0,null,120082.8,120082.8,0,null,0,0,0,null,0,0,0,null,0,0,0,null,16834,16834,0,null,0,0,0,null,0,0,0,null,0,0,0,null,3274129.26,3274129.2603060477,0,null,0,0,0,null,3274129.26,3274129.2603060477,0,null,0,null,0,null,3274129.26,3274129.2603060477,0,null,0,null,0,null,417625.46,null,417625,null,0,null,0,null,13666.67,null,13667,null,62500,null,62500,null,1045.04,null,1045,null,1045.04,null,1045,null,1045.04,null,1045,null,1045.04,null,1045,null,"NO",{"$f":"IF(ISERROR(VLOOKUP($A312+8860000,'Growth Data'!$A:$F,3,0)),\"NO\",VLOOKUP($A312+8860000,'Growth Data'!$A:$F,3,0))","v":"NO"},0,null,0,{"$f":"IF(DI312=\"YES\",IF(ISERROR(VLOOKUP($A312+8860000,'Growth Data'!$A:$F,6,0)),0,VLOOKUP($A312+8860000,'Growth Data'!$A:$F,6,0)),0)","v":0},0,null,0,{"$f":"IF(ISERROR(VLOOKUP($A312+8860000,'Growth Data'!$A:$Z,7,0)),0,VLOOKUP($A312+8860000,'Growth Data'!$A:$Z,7,0))","v":0},0,null,"NO",{"$f":"IF(ISERROR(VLOOKUP($A312+8860000,'Growth Data'!$A:$F,4,0)),\"NO\",VLOOKUP($A312+8860000,'Growth Data'!$A:$F,4,0))","v":"NO"},0,null,0,{"$f":"IF(ISERROR(VLOOKUP($A312+8860000,'Growth Data'!$A:$Z,8,0)),0,VLOOKUP($A312+8860000,'Growth Data'!$A:$Z,8,0))","v":0},0,null,0,{"$f":"IF(ISERROR(VLOOKUP($A312+8860000,'Growth Data'!$A:$Z,9,0)),0,VLOOKUP($A312+8860000,'Growth Data'!$A:$Z,9,0))","v":0},0,null,"NO",{"$f":"IF(ISERROR(VLOOKUP($A312+8860000,'Growth Data'!$A:$Z,5,0)),\"NO\",VLOOKUP($A312+8860000,'Growth Data'!$A:$Z,5,0))","v":"NO"},0,null,0,{"$f":"IF(ISERROR(VLOOKUP($A312+8860000,'Growth Data'!$A:$Z,10,0)),0,VLOOKUP($A312+8860000,'Growth Data'!$A:$Z,10,0))","v":0},0,null,0,{"$f":"IF(ISERROR(VLOOKUP($A312+8860000,'Growth Data'!$A:$Z,11,0)),0,VLOOKUP($A312+8860000,'Growth Data'!$A:$Z,11,0))","v":0},0]
[5431,"Hugh Christie Technology College",null,"Hugh Christie School","Hugh Christie School",0,null,3018515.09,3018515.0892875008,0,null,272417.28999999998,272417.29209266009,0,null,16631.47,16631.467799999999,0,null,262108.84,262108.84053925739,0,null,120082.8,120082.8,0,null,0,0,0,null,0,0,0,null,0,0,0,null,52167,52167,0,null,874360.25,874360.24700708594,0,null,0,0,0,null,0,0,0,null,4616282.74,4616282.7367265038,0,null,0,0,0,null,4616282.74,4616282.7367265038,0,null,0,null,0,null,4616282.74,4616282.7367265038,0,null,0,null,0,null,499938.44,null,499938,null,0,null,0,null,0,null,0,null,127000,null,127000,null,563.54999999999995,null,564,null,563.54999999999995,null,564,null,563.54999999999995,null,564,null,563.54999999999995,null,564,null,"NO",{"$f":"IF(ISERROR(VLOOKUP($A313+8860000,'Growth Data'!$A:$F,3,0)),\"NO\",VLOOKUP($A313+8860000,'Growth Data'!$A:$F,3,0))","v":"NO"},0,null,0,{"$f":"IF(DI313=\"YES\",IF(ISERROR(VLOOKUP($A313+8860000,'Growth Data'!$A:$F,6,0)),0,VLOOKUP($A313+8860000,'Growth Data'!$A:$F,6,0)),0)","v":0},0,null,0,{"$f":"IF(ISERROR(VLOOKUP($A313+8860000,'Growth Data'!$A:$Z,7,0)),0,VLOOKUP($A313+8860000,'Growth Data'!$A:$Z,7,0))","v":0},0,null,"NO",{"$f":"IF(ISERROR(VLOOKUP($A313+8860000,'Growth Data'!$A:$F,4,0)),\"NO\",VLOOKUP($A313+8860000,'Growth Data'!$A:$F,4,0))","v":"NO"},0,null,0,{"$f":"IF(ISERROR(VLOOKUP($A313+8860000,'Growth Data'!$A:$Z,8,0)),0,VLOOKUP($A313+8860000,'Growth Data'!$A:$Z,8,0))","v":0},0,null,0,{"$f":"IF(ISERROR(VLOOKUP($A313+8860000,'Growth Data'!$A:$Z,9,0)),0,VLOOKUP($A313+8860000,'Growth Data'!$A:$Z,9,0))","v":0},0,null,"NO",{"$f":"IF(ISERROR(VLOOKUP($A313+8860000,'Growth Data'!$A:$Z,5,0)),\"NO\",VLOOKUP($A313+8860000,'Growth Data'!$A:$Z,5,0))","v":"NO"},0,null,0,{"$f":"IF(ISERROR(VLOOKUP($A313+8860000,'Growth Data'!$A:$Z,10,0)),0,VLOOKUP($A313+8860000,'Growth Data'!$A:$Z,10,0))","v":0},0,null,0,{"$f":"IF(ISERROR(VLOOKUP($A313+8860000,'Growth Data'!$A:$Z,11,0)),0,VLOOKUP($A313+8860000,'Growth Data'!$A:$Z,11,0))","v":0},0]
[5447,"St George's CE Foundation School",null,"St Georges CE Foundation School","St Georges CE Foundation School",0,null,5006929.0999999996,5006929.0989230005,0,null,609415.09,609415.08673053933,0,null,11737.34,11737.343182500004,0,null,357878.38,357878.37507508736,0,null,120082.8,120082.8,0,null,0,0,0,null,0,0,0,null,0,0,0,null,69489,69489,0,null,0,0,0,null,0,0,0,null,0,0,0,null,6175531.7000000002,6175531.7039111266,0,null,0,0,0,null,6175531.7000000002,6175531.7039111266,0,null,0,null,0,null,6175531.7000000002,6175531.7039111266,0,null,0,null,0,null,909759.19,null,909759,null,0,null,0,null,0,null,0,null,0,null,0,null,0,null,0,null,0,null,0,null,0,null,0,null,0,null,0,null,"NO",{"$f":"IF(ISERROR(VLOOKUP($A314+8860000,'Growth Data'!$A:$F,3,0)),\"NO\",VLOOKUP($A314+8860000,'Growth Data'!$A:$F,3,0))","v":"YES"},1,null,0,{"$f":"IF(DI314=\"YES\",IF(ISERROR(VLOOKUP($A314+8860000,'Growth Data'!$A:$F,6,0)),0,VLOOKUP($A314+8860000,'Growth Data'!$A:$F,6,0)),0)","v":0},0,null,0,{"$f":"IF(ISERROR(VLOOKUP($A314+8860000,'Growth Data'!$A:$Z,7,0)),0,VLOOKUP($A314+8860000,'Growth Data'!$A:$Z,7,0))","v":60},1,null,"YES",{"$f":"IF(ISERROR(VLOOKUP($A314+8860000,'Growth Data'!$A:$F,4,0)),\"NO\",VLOOKUP($A314+8860000,'Growth Data'!$A:$F,4,0))","v":"YES"},0,null,0,{"$f":"IF(ISERROR(VLOOKUP($A314+8860000,'Growth Data'!$A:$Z,8,0)),0,VLOOKUP($A314+8860000,'Growth Data'!$A:$Z,8,0))","v":0},0,null,60,{"$f":"IF(ISERROR(VLOOKUP($A314+8860000,'Growth Data'!$A:$Z,9,0)),0,VLOOKUP($A314+8860000,'Growth Data'!$A:$Z,9,0))","v":60},0,null,"YES",{"$f":"IF(ISERROR(VLOOKUP($A314+8860000,'Growth Data'!$A:$Z,5,0)),\"NO\",VLOOKUP($A314+8860000,'Growth Data'!$A:$Z,5,0))","v":"YES"},0,null,0,{"$f":"IF(ISERROR(VLOOKUP($A314+8860000,'Growth Data'!$A:$Z,10,0)),0,VLOOKUP($A314+8860000,'Growth Data'!$A:$Z,10,0))","v":30},1,null,60,{"$f":"IF(ISERROR(VLOOKUP($A314+8860000,'Growth Data'!$A:$Z,11,0)),0,VLOOKUP($A314+8860000,'Growth Data'!$A:$Z,11,0))","v":60},0]
[5456,"Northfleet Technology College",null,"Northfleet Technology College","Northfleet Technology College",0,null,3355364.74,3355364.7352797007,0,null,383567.24,383567.23982736672,0,null,44350.58,44350.580800000025,0,null,303559.96999999997,303559.97390454361,0,null,120082.8,120082.8,0,null,0,0,0,null,0,0,0,null,0,0,0,null,34637,34637,0,null,850222.25,850222.24946316611,0,null,0,0,0,null,0,0,0,null,5091784.58,5091784.5792747773,0,null,0,0,0,null,5091784.58,5091784.5792747773,0,null,0,null,0,null,5091784.58,5091784.5792747773,0,null,0,null,0,null,674974.99,null,674975,null,0,null,0,null,0,null,0,null,0,null,0,null,0,null,0,null,0,null,0,null,0,null,0,null,0,null,0,null,"NO",{"$f":"IF(ISERROR(VLOOKUP($A315+8860000,'Growth Data'!$A:$F,3,0)),\"NO\",VLOOKUP($A315+8860000,'Growth Data'!$A:$F,3,0))","v":"NO"},0,null,0,{"$f":"IF(DI315=\"YES\",IF(ISERROR(VLOOKUP($A315+8860000,'Growth Data'!$A:$F,6,0)),0,VLOOKUP($A315+8860000,'Growth Data'!$A:$F,6,0)),0)","v":0},0,null,0,{"$f":"IF(ISERROR(VLOOKUP($A315+8860000,'Growth Data'!$A:$Z,7,0)),0,VLOOKUP($A315+8860000,'Growth Data'!$A:$Z,7,0))","v":0},0,null,"NO",{"$f":"IF(ISERROR(VLOOKUP($A315+8860000,'Growth Data'!$A:$F,4,0)),\"NO\",VLOOKUP($A315+8860000,'Growth Data'!$A:$F,4,0))","v":"NO"},0,null,0,{"$f":"IF(ISERROR(VLOOKUP($A315+8860000,'Growth Data'!$A:$Z,8,0)),0,VLOOKUP($A315+8860000,'Growth Data'!$A:$Z,8,0))","v":0},0,null,0,{"$f":"IF(ISERROR(VLOOKUP($A315+8860000,'Growth Data'!$A:$Z,9,0)),0,VLOOKUP($A315+8860000,'Growth Data'!$A:$Z,9,0))","v":0},0,null,"NO",{"$f":"IF(ISERROR(VLOOKUP($A315+8860000,'Growth Data'!$A:$Z,5,0)),\"NO\",VLOOKUP($A315+8860000,'Growth Data'!$A:$Z,5,0))","v":"NO"},0,null,0,{"$f":"IF(ISERROR(VLOOKUP($A315+8860000,'Growth Data'!$A:$Z,10,0)),0,VLOOKUP($A315+8860000,'Growth Data'!$A:$Z,10,0))","v":0},0,null,0,{"$f":"IF(ISERROR(VLOOKUP($A315+8860000,'Growth Data'!$A:$Z,11,0)),0,VLOOKUP($A315+8860000,'Growth Data'!$A:$Z,11,0))","v":0},0]
[5459,"Dover Grammar School for Boys",null,"Dover Grammar School for Boys","Dover Grammar School for Boys",0,null,2611042.73,2611042.7272215006,0,null,202491.22,202491.22322845564,0,null,1392.45,1392.4523171093751,0,null,26767.11,26767.113102179614,0,null,120082.8,120082.8,0,null,0,0,0,null,0,0,0,null,0,0,0,null,17539,17539,0,null,0,0,0,null,0,0,0,null,60323.68,60323.684130755253,0,null,3039639,3039639,0,null,0,0,0,null,3039639,3039639,0,null,0,null,0,null,3039639,3039639,0,null,0,null,0,null,213775.31,null,213775,null,0,null,0,null,0,null,0,null,0,null,0,null,0,null,0,null,0,null,0,null,0,null,0,null,0,null,0,null,"NO",{"$f":"IF(ISERROR(VLOOKUP($A316+8860000,'Growth Data'!$A:$F,3,0)),\"NO\",VLOOKUP($A316+8860000,'Growth Data'!$A:$F,3,0))","v":"NO"},0,null,0,{"$f":"IF(DI316=\"YES\",IF(ISERROR(VLOOKUP($A316+8860000,'Growth Data'!$A:$F,6,0)),0,VLOOKUP($A316+8860000,'Growth Data'!$A:$F,6,0)),0)","v":0},0,null,0,{"$f":"IF(ISERROR(VLOOKUP($A316+8860000,'Growth Data'!$A:$Z,7,0)),0,VLOOKUP($A316+8860000,'Growth Data'!$A:$Z,7,0))","v":0},0,null,"NO",{"$f":"IF(ISERROR(VLOOKUP($A316+8860000,'Growth Data'!$A:$F,4,0)),\"NO\",VLOOKUP($A316+8860000,'Growth Data'!$A:$F,4,0))","v":"NO"},0,null,0,{"$f":"IF(ISERROR(VLOOKUP($A316+8860000,'Growth Data'!$A:$Z,8,0)),0,VLOOKUP($A316+8860000,'Growth Data'!$A:$Z,8,0))","v":0},0,null,0,{"$f":"IF(ISERROR(VLOOKUP($A316+8860000,'Growth Data'!$A:$Z,9,0)),0,VLOOKUP($A316+8860000,'Growth Data'!$A:$Z,9,0))","v":0},0,null,"NO",{"$f":"IF(ISERROR(VLOOKUP($A316+8860000,'Growth Data'!$A:$Z,5,0)),\"NO\",VLOOKUP($A316+8860000,'Growth Data'!$A:$Z,5,0))","v":"NO"},0,null,0,{"$f":"IF(ISERROR(VLOOKUP($A316+8860000,'Growth Data'!$A:$Z,10,0)),0,VLOOKUP($A316+8860000,'Growth Data'!$A:$Z,10,0))","v":0},0,null,0,{"$f":"IF(ISERROR(VLOOKUP($A316+8860000,'Growth Data'!$A:$Z,11,0)),0,VLOOKUP($A316+8860000,'Growth Data'!$A:$Z,11,0))","v":0},0]
[5461,"St John's Catholic Comprehensive School",null,"St John's Catholic Comprehensive School","St John's Catholic Comprehensive School",0,null,3851015.16,3851015.1582551012,0,null,469892.21,469892.21395809774,0,null,33262.94,33262.935599999968,0,null,372210.47,372210.47052862181,0,null,120082.8,120082.8,0,null,0,0,0,null,0,0,0,null,0,0,0,null,57174,57174,0,null,1127316.8799999999,1127316.8837089131,0,null,0,0,0,null,0,0,0,null,6030954.46,6030954.4620507341,0,null,0,0,0,null,6030954.46,6030954.4620507341,0,null,0,null,0,null,6030954.46,6030954.4620507341,0,null,0,null,0,null,824586.76,null,824587,null,0,null,0,null,0,null,0,null,0,null,0,null,0,null,0,null,0,null,0,null,0,null,0,null,0,null,0,null,"NO",{"$f":"IF(ISERROR(VLOOKUP($A317+8860000,'Growth Data'!$A:$F,3,0)),\"NO\",VLOOKUP($A317+8860000,'Growth Data'!$A:$F,3,0))","v":"NO"},0,null,0,{"$f":"IF(DI317=\"YES\",IF(ISERROR(VLOOKUP($A317+8860000,'Growth Data'!$A:$F,6,0)),0,VLOOKUP($A317+8860000,'Growth Data'!$A:$F,6,0)),0)","v":0},0,null,0,{"$f":"IF(ISERROR(VLOOKUP($A317+8860000,'Growth Data'!$A:$Z,7,0)),0,VLOOKUP($A317+8860000,'Growth Data'!$A:$Z,7,0))","v":0},0,null,"NO",{"$f":"IF(ISERROR(VLOOKUP($A317+8860000,'Growth Data'!$A:$F,4,0)),\"NO\",VLOOKUP($A317+8860000,'Growth Data'!$A:$F,4,0))","v":"NO"},0,null,0,{"$f":"IF(ISERROR(VLOOKUP($A317+8860000,'Growth Data'!$A:$Z,8,0)),0,VLOOKUP($A317+8860000,'Growth Data'!$A:$Z,8,0))","v":0},0,null,0,{"$f":"IF(ISERROR(VLOOKUP($A317+8860000,'Growth Data'!$A:$Z,9,0)),0,VLOOKUP($A317+8860000,'Growth Data'!$A:$Z,9,0))","v":0},0,null,"NO",{"$f":"IF(ISERROR(VLOOKUP($A317+8860000,'Growth Data'!$A:$Z,5,0)),\"NO\",VLOOKUP($A317+8860000,'Growth Data'!$A:$Z,5,0))","v":"NO"},0,null,0,{"$f":"IF(ISERROR(VLOOKUP($A317+8860000,'Growth Data'!$A:$Z,10,0)),0,VLOOKUP($A317+8860000,'Growth Data'!$A:$Z,10,0))","v":0},0,null,0,{"$f":"IF(ISERROR(VLOOKUP($A317+8860000,'Growth Data'!$A:$Z,11,0)),0,VLOOKUP($A317+8860000,'Growth Data'!$A:$Z,11,0))","v":0},0]
[5468,"Royal Harbour Academy, The",null,"Royal Harbour Academy, The","Royal Harbour Academy, The",0,null,3124449.16,3124449.1633982006,0,null,680196.99,680196.98527432419,0,null,22175.29,22175.290400000027,0,null,287174.28000000003,287174.28313741938,0,null,120082.8,120082.8,0,null,0,0,0,null,0,0,0,null,0,0,0,null,87660,87660,0,null,654083.49,654083.48653628922,0,null,0,0,0,null,0,0,0,null,4975822.01,4975822.0087462338,0,null,0,0,0,null,4975822.01,4975822.0087462338,0,null,0,null,0,null,4975822.01,4975822.0087462338,0,null,0,null,0,null,873602.77,null,873603,null,0,null,0,null,0,null,0,null,0,null,0,null,0,null,0,null,0,null,0,null,0,null,0,null,0,null,0,null,"NO",{"$f":"IF(ISERROR(VLOOKUP($A318+8860000,'Growth Data'!$A:$F,3,0)),\"NO\",VLOOKUP($A318+8860000,'Growth Data'!$A:$F,3,0))","v":"NO"},0,null,0,{"$f":"IF(DI318=\"YES\",IF(ISERROR(VLOOKUP($A318+8860000,'Growth Data'!$A:$F,6,0)),0,VLOOKUP($A318+8860000,'Growth Data'!$A:$F,6,0)),0)","v":0},0,null,0,{"$f":"IF(ISERROR(VLOOKUP($A318+8860000,'Growth Data'!$A:$Z,7,0)),0,VLOOKUP($A318+8860000,'Growth Data'!$A:$Z,7,0))","v":0},0,null,"NO",{"$f":"IF(ISERROR(VLOOKUP($A318+8860000,'Growth Data'!$A:$F,4,0)),\"NO\",VLOOKUP($A318+8860000,'Growth Data'!$A:$F,4,0))","v":"NO"},0,null,0,{"$f":"IF(ISERROR(VLOOKUP($A318+8860000,'Growth Data'!$A:$Z,8,0)),0,VLOOKUP($A318+8860000,'Growth Data'!$A:$Z,8,0))","v":0},0,null,0,{"$f":"IF(ISERROR(VLOOKUP($A318+8860000,'Growth Data'!$A:$Z,9,0)),0,VLOOKUP($A318+8860000,'Growth Data'!$A:$Z,9,0))","v":0},0,null,"NO",{"$f":"IF(ISERROR(VLOOKUP($A318+8860000,'Growth Data'!$A:$Z,5,0)),\"NO\",VLOOKUP($A318+8860000,'Growth Data'!$A:$Z,5,0))","v":"NO"},0,null,0,{"$f":"IF(ISERROR(VLOOKUP($A318+8860000,'Growth Data'!$A:$Z,10,0)),0,VLOOKUP($A318+8860000,'Growth Data'!$A:$Z,10,0))","v":0},0,null,0,{"$f":"IF(ISERROR(VLOOKUP($A318+8860000,'Growth Data'!$A:$Z,11,0)),0,VLOOKUP($A318+8860000,'Growth Data'!$A:$Z,11,0))","v":0},0]

{"sheet":"Growth Data","index":2,"n_rows":32,"n_cols":11,"rows_kept":32,"cut":false,"hidden":true,"merged":[[2,5,2,6],[2,7,2,8],[2,9,2,10]]}
["LA "]
[]
[null,null,null,null,null,"2019-20","2018-19","2020-21",null,"2021-22"]
[null,null,"2019-20","2020-21","2021-22","Lower","Higher","Lower","Higher","Lower","Higher"]
[8862155,"Slade Primary School","YES","YES","NO",46,60,45,60]
[8862165,"Headcorn Primary School","NO","YES","YES",null,null,31,60,30,60]
[8862231,"Lower Halstow School","YES","YES","YES",23,30,22,30,28,30]
[8862245,"Rose Street School","YES","YES","NO",30,60,30,60]
[8862259,"Chartham Primary School","YES","YES","YES",45,60,45,60,48,60]
[8862298,"Hawkinge Primary School","YES","NO","NO",47,60]
[8862434,"West Minster Primary School","YES","YES","YES",63,90,60,90,60,90]
[8862482,"Langton Green Primary School","YES","NO","NO",30,60]
[8862509,"Singlewell Primary School","YES","YES","YES",30,60,30,60,30,60]
[8862632,"Sevenoaks Primary School","YES","NO","NO",60,90]
[8862689,"Craylands School, The","YES","YES","YES",30,60,31,60,30,60]
[8863035,"Seal CEP School","YES","YES","YES",49,60,30,60,33,60]
[8863052,"St Marks CEP School","YES","NO","NO",30,60]
[8863088,"Wouldham, All Saint's CEP School","NO","YES","YES",null,null,41,60,38,60]
[8863178,"Birchington CEP School","YES","YES","YES",60,90,62,90,60,90]
[8863297,"Southborough CEP School","YES","NO","NO",60,90]
[8863317,"Lady Boswell's CEP School, Sevenoaks","YES","NO","NO",31,60]
[8863337,"Tunstall CEP School","YES","YES","YES",31,60,30,60,30,60]
[8863907,"Hextable Primary School","YES","YES","YES",60,90,62,90,60,90]
[8863910,"Joy Lane Primary School","YES","NO","NO",60,81]
[8863916,"Green Park Community Primary School","YES","YES","YES",45,60,49,60,56,60]
[8863917,"Garlinge Primary School","YES","NO","NO",93,120]
[8863919,"Dartford Bridge Community Primary School, The","YES","NO","NO",33,60]
[8864040,"Northfleet School for Girls","YES","YES","NO",175,200,175,200]
[8864045,"Tunbridge Wells Grammar School for Boys","YES","NO","NO",null,null,180,210,197,210]
[8864522,"Maidstone Grammar School","NO","YES","YES",null,null,181,205,187,205]
[8864622,"Judd School, The","NO","YES","YES",null,null,155,180,155,180]
[8865447,"St George's Church of England Foundation School","YES","YES","YES",0,60,0,60,30,60]

{"sheet":"TestAreaY2","index":3,"n_rows":325,"n_cols":90,"rows_kept":325,"cut":false,"hidden":true,"merged":[]}
["MI DfE no","School Name",null,"Macro School Name","Data Calc",{"$f":"SUM(F2:F324)","v":0},null,"Macro Formula Factors","Data Calc SBS",{"$f":"SUM(J2:J324)","v":0},null,"Macro MFG","Data Calc",{"$f":"SUM(N2:N324)","v":0},null,"Macro SBS","Data Calc",{"$f":"SUM(R2:R324)","v":0},null,"Y2 DeDel Total","Data Calc",{"$f":"SUM(V2:V324)","v":0},null,"July UIFSM","APSA",{"$f":"SUM(Z2:Z324)","v":0},null,"Early years rate",null,{"$f":"SUM(AD2:AD324)","v":0},null,"Macro Notional SEN","Data Calc",{"$f":"SUM(AH2:AH324)","v":26725206},null,"Macro SEN top up","Data Calc",{"$f":"SUM(AL2:AL324)","v":441614},null,"SRP Element 1","Data Calc",{"$f":"SUM(AP2:AP324)","v":1161999},null,"SRP Element 2","Data Calc",{"$f":"SUM(AT2:AT324)","v":1743000},null,"SRP 1 Pre","Data Calc",{"$f":"SUM(AX2:AX324)","v":0},null,"SRP 1 Post","Data Calc",{"$f":"SUM(BB2:BB324)","v":0},null,"SRP 2 Pre","Data Calc",{"$f":"SUM(BF2:BF324)","v":0},null,"SRP 2 Post","Data Calc",{"$f":"SUM(BJ2:BJ324)","v":0},null,"Qual Year1","Data Calc",{"$f":"SUM(BN2:BN324)","v":43},null,"Orig PAN 1","Data Calc",{"$f":"SUM(BR2:BR324)","v":-95},null,"Qual Year2","Data Calc",{"$f":"SUM(BV2:BV324)","v":36},null,"Orig PAN 2","Data Calc",{"$f":"SUM(BZ2:BZ324)","v":7},null,"Qual Year3","Data Calc",{"$f":"SUM(CD2:CD324)","v":37},null,"Orig PAN 3","Data Calc",{"$f":"SUM(CH2:CH324)","v":276},null,"SEN protect","Data Calc",{"$f":"SUM(CL2:CL324)","v":0}]
[1001,"Northfleet Nursery",null,"Northfleet Nursery","Northfleet Nursery",{"$f":"IF(E2=D2,0,1)","v":0},null,0,0,{"$f":"ROUND(H2-I2,0)","v":0},null,0,0,{"$f":"ROUND(L2-M2,0)","v":0},null,0,0,{"$f":"ROUND(P2-Q2,0)","v":0},null,0,0,{"$f":"ROUND(T2-U2,0)","v":0},null,null,null,{"$f":"ROUND(X2-Y2,0)","v":0},null,5.01,5.01,{"$f":"ROUND(AB2-AC2,0)","v":0},null,0,null,{"$f":"ROUND(AF2-AG2,0)","v":0},null,0,null,{"$f":"ROUND(AJ2-AK2,0)","v":0},null,0,null,{"$f":"ROUND(AN2-AO2,0)","v":0},null,0,null,{"$f":"ROUND(AR2-AS2,0)","v":0},null,null,null,{"$f":"ROUND(AV2-AW2,0)","v":0},null,null,null,{"$f":"ROUND(AZ2-BA2,0)","v":0},null,null,null,{"$f":"ROUND(BD2-BE2,0)","v":0},null,null,null,{"$f":"ROUND(BH2-BI2,0)","v":0},null,"NO",{"$f":"IF(ISERROR(VLOOKUP($A2+8860000,'Growth Data'!$A:$F,3,0)),\"NO\",VLOOKUP($A2+8860000,'Growth Data'!$A:$F,3,0))","v":"NO"},{"$f":"IF(BL2=BM2,0,1)","v":0},null,0,{"$f":"IF(BM2=\"YES\",IF(ISERROR(VLOOKUP($A2+8860000,'Growth Data'!$A:$F,6,0)),0,VLOOKUP($A2+8860000,'Growth Data'!$A:$F,6,0)),0)","v":0},{"$f":"ROUND(BP2-BQ2,0)","v":0},null,"NO",{"$f":"IF(ISERROR(VLOOKUP($A2+8860000,'Growth Data'!$A:$F,4,0)),\"NO\",VLOOKUP($A2+8860000,'Growth Data'!$A:$F,4,0))","v":"NO"},{"$f":"IF(BT2=BU2,0,1)","v":0},null,0,{"$f":"IF(BU2=\"YES\",IF(ISERROR(VLOOKUP($A2+8860000,'Growth Data'!$A:$Z,7,0)),0,VLOOKUP($A2+8860000,'Growth Data'!$A:$Z,7,0)),0)","v":0},{"$f":"ROUND(BX2-BY2,0)","v":0},null,"NO",{"$f":"IF(ISERROR(VLOOKUP($A2+8860000,'Growth Data'!$A:$F,5,0)),\"NO\",VLOOKUP($A2+8860000,'Growth Data'!$A:$F,5,0))","v":"NO"},{"$f":"IF(CB2=CC2,0,1)","v":0},null,0,{"$f":"IF(CC2=\"YES\",IF(ISERROR(VLOOKUP($A2+8860000,'Growth Data'!$A:$Z,8,0)),0,VLOOKUP($A2+8860000,'Growth Data'!$A:$Z,8,0)),0)","v":0},{"$f":"ROUND(CF2-CG2,0)","v":0},null,null,null,{"$f":"ROUND(CJ2-CK2,0)","v":0}]
[2000,"St Johns C of E Primary School",null,"St Johns C of E Primary School","St Johns C of E Primary School",{"$f":"IF(E3=D3,0,1)","v":0},null,1154700.31,1154700.3098665797,{"$f":"ROUND(H3-I3,0)","v":0},null,0,0,{"$f":"ROUND(L3-M3,0)","v":0},null,1154700.31,1154700.3098665797,{"$f":"ROUND(P3-Q3,0)","v":0},null,6984.34,6984.3358687999998,{"$f":"ROUND(T3-U3,0)","v":0},null,null,null,{"$f":"ROUND(X3-Y3,0)","v":0},null,5,5,{"$f":"ROUND(AB3-AC3,0)","v":0},null,177198.44,null,{"$f":"ROUND(AF3-AG3,0)","v":177198},null,0,null,{"$f":"ROUND(AJ3-AK3,0)","v":0},null,0,null,{"$f":"ROUND(AN3-AO3,0)","v":0},null,0,null,{"$f":"ROUND(AR3-AS3,0)","v":0},null,null,null,{"$f":"ROUND(AV3-AW3,0)","v":0},null,null,null,{"$f":"ROUND(AZ3-BA3,0)","v":0},null,null,null,{"$f":"ROUND(BD3-BE3,0)","v":0},null,null,null,{"$f":"ROUND(BH3-BI3,0)","v":0},null,"NO",{"$f":"IF(ISERROR(VLOOKUP($A3+8860000,'Growth Data'!$A:$F,3,0)),\"NO\",VLOOKUP($A3+8860000,'Growth Data'!$A:$F,3,0))","v":"NO"},{"$f":"IF(BL3=BM3,0,1)","v":0},null,0,{"$f":"IF(BM3=\"YES\",IF(ISERROR(VLOOKUP($A3+8860000,'Growth Data'!$A:$F,6,0)),0,VLOOKUP($A3+8860000,'Growth Data'!$A:$F,6,0)),0)","v":0},{"$f":"ROUND(BP3-BQ3,0)","v":0},null,"NO",{"$f":"IF(ISERROR(VLOOKUP($A3+8860000,'Growth Data'!$A:$F,4,0)),\"NO\",VLOOKUP($A3+8860000,'Growth Data'!$A:$F,4,0))","v":"NO"},{"$f":"IF(BT3=BU3,0,1)","v":0},null,0,{"$f":"IF(BU3=\"YES\",IF(ISERROR(VLOOKUP($A3+8860000,'Growth Data'!$A:$Z,7,0)),0,VLOOKUP($A3+8860000,'Growth Data'!$A:$Z,7,0)),0)","v":0},{"$f":"ROUND(BX3-BY3,0)","v":0},null,"NO",{"$f":"IF(ISERROR(VLOOKUP($A3+8860000,'Growth Data'!$A:$F,5,0)),\"NO\",VLOOKUP($A3+8860000,'Growth Data'!$A:$F,5,0))","v":"NO"},{"$f":"IF(CB3=CC3,0,1)","v":0},null,0,{"$f":"IF(CC3=\"YES\",IF(ISERROR(VLOOKUP($A3+8860000,'Growth Data'!$A:$Z,8,0)),0,VLOOKUP($A3+8860000,'Growth Data'!$A:$Z,8,0)),0)","v":0},{"$f":"ROUND(CF3-CG3,0)","v":0},null,null,null,{"$f":"ROUND(CJ3-CK3,0)","v":0}]
[2002,"Repton Manor Primary School",null,"Repton Manor Primary School","Repton Manor Primary School",0,null,1541106,1541106.0000000002,0,null,0,0,0,null,1541106,1541106.0000000002,0,null,11529.29,11529.289724599999,0,null,null,null,0,null,0,0,0,null,102895.27,null,102895,null,0,null,0,null,0,null,0,null,0,null,0,null,null,null,0,null,null,null,0,null,null,null,0,null,null,null,0,null,"YES",{"$f":"IF(ISERROR(VLOOKUP($A4+8860000,'Growth Data'!$A:$F,3,0)),\"NO\",VLOOKUP($A4+8860000,'Growth Data'!$A:$F,3,0))","v":"NO"},1,null,60,{"$f":"IF(BM4=\"YES\",IF(ISERROR(VLOOKUP($A4+8860000,'Growth Data'!$A:$F,6,0)),0,VLOOKUP($A4+8860000,'Growth Data'!$A:$F,6,0)),0)","v":0},60,null,"YES",{"$f":"IF(ISERROR(VLOOKUP($A4+8860000,'Growth Data'!$A:$F,4,0)),\"NO\",VLOOKUP($A4+8860000,'Growth Data'!$A:$F,4,0))","v":"NO"},1,null,60,{"$f":"IF(BU4=\"YES\",IF(ISERROR(VLOOKUP($A4+8860000,'Growth Data'!$A:$Z,7,0)),0,VLOOKUP($A4+8860000,'Growth Data'!$A:$Z,7,0)),0)","v":0},60,null,"NO",{"$f":"IF(ISERROR(VLOOKUP($A4+8860000,'Growth Data'!$A:$F,5,0)),\"NO\",VLOOKUP($A4+8860000,'Growth Data'!$A:$F,5,0))","v":"NO"},0,null,0,{"$f":"IF(CC4=\"YES\",IF(ISERROR(VLOOKUP($A4+8860000,'Growth Data'!$A:$Z,8,0)),0,VLOOKUP($A4+8860000,'Growth Data'!$A:$Z,8,0)),0)","v":0},0,null,null,null,0]
[2044,"Loose Primary School",null,"Loose Primary School","Loose Primary School",0,null,2274481,2274481,0,null,0,0,0,null,2274481,2274481,0,null,16741.86,16741.863920800002,0,null,null,null,0,null,0,0,0,null,149287.38,null,149287,null,0,null,0,null,0,null,0,null,0,null,0,null,null,null,0,null,null,null,0,null,null,null,0,null,null,null,0,null,"NO",{"$f":"IF(ISERROR(VLOOKUP($A5+8860000,'Growth Data'!$A:$F,3,0)),\"NO\",VLOOKUP($A5+8860000,'Growth Data'!$A:$F,3,0))","v":"NO"},0,null,0,{"$f":"IF(BM5=\"YES\",IF(ISERROR(VLOOKUP($A5+8860000,'Growth Data'!$A:$F,6,0)),0,VLOOKUP($A5+8860000,'Growth Data'!$A:$F,6,0)),0)","v":0},0,null,"NO",{"$f":"IF(ISERROR(VLOOKUP($A5+8860000,'Growth Data'!$A:$F,4,0)),\"NO\",VLOOKUP($A5+8860000,'Growth Data'!$A:$F,4,0))","v":"NO"},0,null,0,{"$f":"IF(BU5=\"YES\",IF(ISERROR(VLOOKUP($A5+8860000,'Growth Data'!$A:$Z,7,0)),0,VLOOKUP($A5+8860000,'Growth Data'!$A:$Z,7,0)),0)","v":0},0,null,"NO",{"$f":"IF(ISERROR(VLOOKUP($A5+8860000,'Growth Data'!$A:$F,5,0)),\"NO\",VLOOKUP($A5+8860000,'Growth Data'!$A:$F,5,0))","v":"NO"},0,null,0,{"$f":"IF(CC5=\"YES\",IF(ISERROR(VLOOKUP($A5+8860000,'Growth Data'!$A:$Z,8,0)),0,VLOOKUP($A5+8860000,'Growth Data'!$A:$Z,8,0)),0)","v":0},0,null,null,null,0]
[2062,"Darenth Community Primary School",null,"Darenth Community Primary School","Darenth Community Primary School",0,null,794948.12,794948.11500552902,0,null,0,0,0,null,794948.12,794948.11500552902,0,null,4923.29,4923.2891671635998,0,null,null,null,0,null,0,0,0,null,108769.02,null,108769,null,0,null,0,null,0,null,0,null,0,null,0,null,null,null,0,null,null,null,0,null,null,null,0,null,null,null,0,null,"NO",{"$f":"IF(ISERROR(VLOOKUP($A6+8860000,'Growth Data'!$A:$F,3,0)),\"NO\",VLOOKUP($A6+8860000,'Growth Data'!$A:$F,3,0))","v":"NO"},0,null,0,{"$f":"IF(BM6=\"YES\",IF(ISERROR(VLOOKUP($A6+8860000,'Growth Data'!$A:$F,6,0)),0,VLOOKUP($A6+8860000,'Growth Data'!$A:$F,6,0)),0)","v":0},0,null,"NO",{"$f":"IF(ISERROR(VLOOKUP($A6+8860000,'Growth Data'!$A:$F,4,0)),\"NO\",VLOOKUP($A6+8860000,'Growth Data'!$A:$F,4,0))","v":"NO"},0,null,0,{"$f":"IF(BU6=\"YES\",IF(ISERROR(VLOOKUP($A6+8860000,'Growth Data'!$A:$Z,7,0)),0,VLOOKUP($A6+8860000,'Growth Data'!$A:$Z,7,0)),0)","v":0},0,null,"NO",{"$f":"IF(ISERROR(VLOOKUP($A6+8860000,'Growth Data'!$A:$F,5,0)),\"NO\",VLOOKUP($A6+8860000,'Growth Data'!$A:$F,5,0))","v":"NO"},0,null,0,{"$f":"IF(CC6=\"YES\",IF(ISERROR(VLOOKUP($A6+8860000,'Growth Data'!$A:$Z,8,0)),0,VLOOKUP($A6+8860000,'Growth Data'!$A:$Z,8,0)),0)","v":0},0,null,null,null,0]
[2065,"Discovery School, The",null,"Discovery School, The","Discovery School, The",0,null,2215457,2215457,0,null,0,0,0,null,2215457,2215457,0,null,16176.95,16176.954402000001,0,null,null,null,0,null,0,0,0,null,98017.44,null,98017,null,0,null,0,null,0,null,0,null,0,null,0,null,null,null,0,null,null,null,0,null,null,null,0,null,null,null,0,null,"NO",{"$f":"IF(ISERROR(VLOOKUP($A7+8860000,'Growth Data'!$A:$F,3,0)),\"NO\",VLOOKUP($A7+8860000,'Growth Data'!$A:$F,3,0))","v":"NO"},0,null,0,{"$f":"IF(BM7=\"YES\",IF(ISERROR(VLOOKUP($A7+8860000,'Growth Data'!$A:$F,6,0)),0,VLOOKUP($A7+8860000,'Growth Data'!$A:$F,6,0)),0)","v":0},0,null,"NO",{"$f":"IF(ISERROR(VLOOKUP($A7+8860000,'Growth Data'!$A:$F,4,0)),\"NO\",VLOOKUP($A7+8860000,'Growth Data'!$A:$F,4,0))","v":"NO"},0,null,0,{"$f":"IF(BU7=\"YES\",IF(ISERROR(VLOOKUP($A7+8860000,'Growth Data'!$A:$Z,7,0)),0,VLOOKUP($A7+8860000,'Growth Data'!$A:$Z,7,0)),0)","v":0},0,null,"NO",{"$f":"IF(ISERROR(VLOOKUP($A7+8860000,'Growth Data'!$A:$F,5,0)),\"NO\",VLOOKUP($A7+8860000,'Growth Data'!$A:$F,5,0))","v":"NO"},0,null,0,{"$f":"IF(CC7=\"YES\",IF(ISERROR(VLOOKUP($A7+8860000,'Growth Data'!$A:$Z,8,0)),0,VLOOKUP($A7+8860000,'Growth Data'!$A:$Z,8,0)),0)","v":0},0,null,null,null,0]
[2066,"Maypole Primary School",null,"Maypole Primary School","Maypole Primary School",0,null,1499637.65,1499637.6495489718,0,null,0,0,0,null,1499637.65,1499637.6495489718,0,null,10911.07,10911.073289389598,0,null,null,null,0,null,0,0,0,null,119178.78,null,119179,null,0,null,0,null,0,null,0,null,0,null,0,null,null,null,0,null,null,null,0,null,null,null,0,null,null,null,0,null,"NO",{"$f":"IF(ISERROR(VLOOKUP($A8+8860000,'Growth Data'!$A:$F,3,0)),\"NO\",VLOOKUP($A8+8860000,'Growth Data'!$A:$F,3,0))","v":"NO"},0,null,0,{"$f":"IF(BM8=\"YES\",IF(ISERROR(VLOOKUP($A8+8860000,'Growth Data'!$A:$F,6,0)),0,VLOOKUP($A8+8860000,'Growth Data'!$A:$F,6,0)),0)","v":0},0,null,"NO",{"$f":"IF(ISERROR(VLOOKUP($A8+8860000,'Growth Data'!$A:$F,4,0)),\"NO\",VLOOKUP($A8+8860000,'Growth Data'!$A:$F,4,0))","v":"NO"},0,null,0,{"$f":"IF(BU8=\"YES\",IF(ISERROR(VLOOKUP($A8+8860000,'Growth Data'!$A:$Z,7,0)),0,VLOOKUP($A8+8860000,'Growth Data'!$A:$Z,7,0)),0)","v":0},0,null,"NO",{"$f":"IF(ISERROR(VLOOKUP($A8+8860000,'Growth Data'!$A:$F,5,0)),\"NO\",VLOOKUP($A8+8860000,'Growth Data'!$A:$F,5,0))","v":"NO"},0,null,0,{"$f":"IF(CC8=\"YES\",IF(ISERROR(VLOOKUP($A8+8860000,'Growth Data'!$A:$Z,8,0)),0,VLOOKUP($A8+8860000,'Growth Data'!$A:$Z,8,0)),0)","v":0},0,null,null,null,0]
[2074,"Sunny Bank Primary School",null,"Sunny Bank Primary School","Sunny Bank Primary School",0,null,1174236.55,1174236.5507490817,0,null,0,0,0,null,1174236.55,1174236.5507490817,0,null,7010.01,7010.0135742000002,0,null,null,null,0,null,5.1100000000000003,5.1100000000000003,0,null,193117.8,null,193118,null,0,null,0,null,0,null,0,null,0,null,0,null,null,null,0,null,null,null,0,null,null,null,0,null,null,null,0,null,"NO",{"$f":"IF(ISERROR(VLOOKUP($A9+8860000,'Growth Data'!$A:$F,3,0)),\"NO\",VLOOKUP($A9+8860000,'Growth Data'!$A:$F,3,0))","v":"NO"},0,null,0,{"$f":"IF(BM9=\"YES\",IF(ISERROR(VLOOKUP($A9+8860000,'Growth Data'!$A:$F,6,0)),0,VLOOKUP($A9+8860000,'Growth Data'!$A:$F,6,0)),0)","v":0},0,null,"NO",{"$f":"IF(ISERROR(VLOOKUP($A9+8860000,'Growth Data'!$A:$F,4,0)),\"NO\",VLOOKUP($A9+8860000,'Growth Data'!$A:$F,4,0))","v":"NO"},0,null,0,{"$f":"IF(BU9=\"YES\",IF(ISERROR(VLOOKUP($A9+8860000,'Growth Data'!$A:$Z,7,0)),0,VLOOKUP($A9+8860000,'Growth Data'!$A:$Z,7,0)),0)","v":0},0,null,"NO",{"$f":"IF(ISERROR(VLOOKUP($A9+8860000,'Growth Data'!$A:$F,5,0)),\"NO\",VLOOKUP($A9+8860000,'Growth Data'!$A:$F,5,0))","v":"NO"},0,null,0,{"$f":"IF(CC9=\"YES\",IF(ISERROR(VLOOKUP($A9+8860000,'Growth Data'!$A:$Z,8,0)),0,VLOOKUP($A9+8860000,'Growth Data'!$A:$Z,8,0)),0)","v":0},0,null,null,null,0]
[2079,"Woodlands Primary School",null,"Woodlands Primary School","Woodlands Primary School",0,null,2275909,2275909,0,null,0,0,0,null,2275909,2275909,0,null,16767.54,16767.5416262,0,null,null,null,0,null,0,0,0,null,142087.03,null,142087,null,0,null,0,null,0,null,0,null,0,null,0,null,null,null,0,null,null,null,0,null,null,null,0,null,null,null,0,null,"NO",{"$f":"IF(ISERROR(VLOOKUP($A10+8860000,'Growth Data'!$A:$F,3,0)),\"NO\",VLOOKUP($A10+8860000,'Growth Data'!$A:$F,3,0))","v":"NO"},0,null,0,{"$f":"IF(BM10=\"YES\",IF(ISERROR(VLOOKUP($A10+8860000,'Growth Data'!$A:$F,6,0)),0,VLOOKUP($A10+8860000,'Growth Data'!$A:$F,6,0)),0)","v":0},0,null,"NO",{"$f":"IF(ISERROR(VLOOKUP($A10+8860000,'Growth Data'!$A:$F,4,0)),\"NO\",VLOOKUP($A10+8860000,'Growth Data'!$A:$F,4,0))","v":"NO"},0,null,0,{"$f":"IF(BU10=\"YES\",IF(ISERROR(VLOOKUP($A10+8860000,'Growth Data'!$A:$Z,7,0)),0,VLOOKUP($A10+8860000,'Growth Data'!$A:$Z,7,0)),0)","v":0},0,null,"NO",{"$f":"IF(ISERROR(VLOOKUP($A10+8860000,'Growth Data'!$A:$F,5,0)),\"NO\",VLOOKUP($A10+8860000,'Growth Data'!$A:$F,5,0))","v":"NO"},0,null,0,{"$f":"IF(CC10=\"YES\",IF(ISERROR(VLOOKUP($A10+8860000,'Growth Data'!$A:$Z,8,0)),0,VLOOKUP($A10+8860000,'Growth Data'!$A:$Z,8,0)),0)","v":0},0,null,null,null,0]
[2088,"Crockenhill Primary School",null,"Crockenhill Primary School","Crockenhill Primary School",0,null,808523.32,808523.32217854587,0,null,0,0,0,null,808523.32,808523.32217854587,0,null,5508.76,5508.7613924479201,0,null,null,null,0,null,0,0,0,null,60901.599999999999,null,60902,null,0,null,0,null,0,null,0,null,0,null,0,null,null,null,0,null,null,null,0,null,null,null,0,null,null,null,0,null,"NO",{"$f":"IF(ISERROR(VLOOKUP($A11+8860000,'Growth Data'!$A:$F,3,0)),\"NO\",VLOOKUP($A11+8860000,'Growth Data'!$A:$F,3,0))","v":"NO"},0,null,0,{"$f":"IF(BM11=\"YES\",IF(ISERROR(VLOOKUP($A11+8860000,'Growth Data'!$A:$F,6,0)),0,VLOOKUP($A11+8860000,'Growth Data'!$A:$F,6,0)),0)","v":0},0,null,"NO",{"$f":"IF(ISERROR(VLOOKUP($A11+8860000,'Growth Data'!$A:$F,4,0)),\"NO\",VLOOKUP($A11+8860000,'Growth Data'!$A:$F,4,0))","v":"NO"},0,null,0,{"$f":"IF(BU11=\"YES\",IF(ISERROR(VLOOKUP($A11+8860000,'Growth Data'!$A:$Z,7,0)),0,VLOOKUP($A11+8860000,'Growth Data'!$A:$Z,7,0)),0)","v":0},0,null,"NO",{"$f":"IF(ISERROR(VLOOKUP($A11+8860000,'Growth Data'!$A:$F,5,0)),\"NO\",VLOOKUP($A11+8860000,'Growth Data'!$A:$F,5,0))","v":"NO"},0,null,0,{"$f":"IF(CC11=\"YES\",IF(ISERROR(VLOOKUP($A11+8860000,'Growth Data'!$A:$Z,8,0)),0,VLOOKUP($A11+8860000,'Growth Data'!$A:$Z,8,0)),0)","v":0},0,null,null,null,0]
[2089,"Anthony Roper Primary School, The",null,"Anthony Roper Primary School, The","Anthony Roper Primary School, The",0,null,1096372.07,1096372.0702849976,0,null,0,0,0,null,1096372.07,1096372.0702849976,0,null,8356.2900000000009,8356.2853972398389,0,null,null,null,0,null,0,0,0,null,59777.88,null,59778,null,22.21,null,22,null,0,null,0,null,0,null,0,null,null,null,0,null,null,null,0,null,null,null,0,null,null,null,0,null,"NO",{"$f":"IF(ISERROR(VLOOKUP($A12+8860000,'Growth Data'!$A:$F,3,0)),\"NO\",VLOOKUP($A12+8860000,'Growth Data'!$A:$F,3,0))","v":"NO"},0,null,0,{"$f":"IF(BM12=\"YES\",IF(ISERROR(VLOOKUP($A12+8860000,'Growth Data'!$A:$F,6,0)),0,VLOOKUP($A12+8860000,'Growth Data'!$A:$F,6,0)),0)","v":0},0,null,"NO",{"$f":"IF(ISERROR(VLOOKUP($A12+8860000,'Growth Data'!$A:$F,4,0)),\"NO\",VLOOKUP($A12+8860000,'Growth Data'!$A:$F,4,0))","v":"NO"},0,null,0,{"$f":"IF(BU12=\"YES\",IF(ISERROR(VLOOKUP($A12+8860000,'Growth Data'!$A:$Z,7,0)),0,VLOOKUP($A12+8860000,'Growth Data'!$A:$Z,7,0)),0)","v":0},0,null,"NO",{"$f":"IF(ISERROR(VLOOKUP($A12+8860000,'Growth Data'!$A:$F,5,0)),\"NO\",VLOOKUP($A12+8860000,'Growth Data'!$A:$F,5,0))","v":"NO"},0,null,0,{"$f":"IF(CC12=\"YES\",IF(ISERROR(VLOOKUP($A12+8860000,'Growth Data'!$A:$Z,8,0)),0,VLOOKUP($A12+8860000,'Growth Data'!$A:$Z,8,0)),0)","v":0},0,null,null,null,0]
[2094,"Cobham Primary School",null,"Cobham Primary School","Cobham Primary School",0,null,775017.67,775017.66946996679,0,null,0,0,0,null,775017.67,775017.66946996679,0,null,5597.74,5597.7397772000004,0,null,null,null,0,null,0,0,0,null,36479.06,null,36479,null,2352.09,null,2352,null,0,null,0,null,0,null,0,null,null,null,0,null,null,null,0,null,null,null,0,null,null,null,0,null,"NO",{"$f":"IF(ISERROR(VLOOKUP($A13+8860000,'Growth Data'!$A:$F,3,0)),\"NO\",VLOOKUP($A13+8860000,'Growth Data'!$A:$F,3,0))","v":"NO"},0,null,0,{"$f":"IF(BM13=\"YES\",IF(ISERROR(VLOOKUP($A13+8860000,'Growth Data'!$A:$F,6,0)),0,VLOOKUP($A13+8860000,'Growth Data'!$A:$F,6,0)),0)","v":0},0,null,"NO",{"$f":"IF(ISERROR(VLOOKUP($A13+8860000,'Growth Data'!$A:$F,4,0)),\"NO\",VLOOKUP($A13+8860000,'Growth Data'!$A:$F,4,0))","v":"NO"},0,null,0,{"$f":"IF(BU13=\"YES\",IF(ISERROR(VLOOKUP($A13+8860000,'Growth Data'!$A:$Z,7,0)),0,VLOOKUP($A13+8860000,'Growth Data'!$A:$Z,7,0)),0)","v":0},0,null,"NO",{"$f":"IF(ISERROR(VLOOKUP($A13+8860000,'Growth Data'!$A:$F,5,0)),\"NO\",VLOOKUP($A13+8860000,'Growth Data'!$A:$F,5,0))","v":"NO"},0,null,0,{"$f":"IF(CC13=\"YES\",IF(ISERROR(VLOOKUP($A13+8860000,'Growth Data'!$A:$Z,8,0)),0,VLOOKUP($A13+8860000,'Growth Data'!$A:$Z,8,0)),0)","v":0},0,null,null,null,0]
[2095,"Cecil Road Primary and Nursery School",null,"Cecil Road Primary and Nursery School","Cecil Road Primary and Nursery School",0,null,1405654.29,1405654.2915977519,0,null,0,0,0,null,1405654.29,1405654.2915977519,0,null,9808.8799999999992,9808.8834628000004,0,null,null,null,0,null,4.9000000000000004,4.9000000000000004,0,null,127687.21,null,127687,null,0,null,0,null,0,null,0,null,0,null,0,null,null,null,0,null,null,null,0,null,null,null,0,null,null,null,0,null,"NO",{"$f":"IF(ISERROR(VLOOKUP($A14+8860000,'Growth Data'!$A:$F,3,0)),\"NO\",VLOOKUP($A14+8860000,'Growth Data'!$A:$F,3,0))","v":"NO"},0,null,0,{"$f":"IF(BM14=\"YES\",IF(ISERROR(VLOOKUP($A14+8860000,'Growth Data'!$A:$F,6,0)),0,VLOOKUP($A14+8860000,'Growth Data'!$A:$F,6,0)),0)","v":0},0,null,"NO",{"$f":"IF(ISERROR(VLOOKUP($A14+8860000,'Growth Data'!$A:$F,4,0)),\"NO\",VLOOKUP($A14+8860000,'Growth Data'!$A:$F,4,0))","v":"NO"},0,null,0,{"$f":"IF(BU14=\"YES\",IF(ISERROR(VLOOKUP($A14+8860000,'Growth Data'!$A:$Z,7,0)),0,VLOOKUP($A14+8860000,'Growth Data'!$A:$Z,7,0)),0)","v":0},0,null,"NO",{"$f":"IF(ISERROR(VLOOKUP($A14+8860000,'Growth Data'!$A:$F,5,0)),\"NO\",VLOOKUP($A14+8860000,'Growth Data'!$A:$F,5,0))","v":"NO"},0,null,0,{"$f":"IF(CC14=\"YES\",IF(ISERROR(VLOOKUP($A14+8860000,'Growth Data'!$A:$Z,8,0)),0,VLOOKUP($A14+8860000,'Growth Data'!$A:$Z,8,0)),0)","v":0},0,null,null,null,0]
[2109,"Higham Primary School",null,"Higham Primary School","Higham Primary School",0,null,781784.36,781784.36182316369,0,null,0,0,0,null,781784.36,781784.36182316369,0,null,5546.38,5546.3843664000005,0,null,null,null,0,null,0,0,0,null,42130.03,null,42130,null,1787,null,1787,null,0,null,0,null,0,null,0,null,null,null,0,null,null,null,0,null,null,null,0,null,null,null,0,null,"NO",{"$f":"IF(ISERROR(VLOOKUP($A15+8860000,'Growth Data'!$A:$F,3,0)),\"NO\",VLOOKUP($A15+8860000,'Growth Data'!$A:$F,3,0))","v":"NO"},0,null,0,{"$f":"IF(BM15=\"YES\",IF(ISERROR(VLOOKUP($A15+8860000,'Growth Data'!$A:$F,6,0)),0,VLOOKUP($A15+8860000,'Growth Data'!$A:$F,6,0)),0)","v":0},0,null,"NO",{"$f":"IF(ISERROR(VLOOKUP($A15+8860000,'Growth Data'!$A:$F,4,0)),\"NO\",VLOOKUP($A15+8860000,'Growth Data'!$A:$F,4,0))","v":"NO"},0,null,0,{"$f":"IF(BU15=\"YES\",IF(ISERROR(VLOOKUP($A15+8860000,'Growth Data'!$A:$Z,7,0)),0,VLOOKUP($A15+8860000,'Growth Data'!$A:$Z,7,0)),0)","v":0},0,null,"NO",{"$f":"IF(ISERROR(VLOOKUP($A15+8860000,'Growth Data'!$A:$F,5,0)),\"NO\",VLOOKUP($A15+8860000,'Growth Data'!$A:$F,5,0))","v":"NO"},0,null,0,{"$f":"IF(CC15=\"YES\",IF(ISERROR(VLOOKUP($A15+8860000,'Growth Data'!$A:$Z,8,0)),0,VLOOKUP($A15+8860000,'Growth Data'!$A:$Z,8,0)),0)","v":0},0,null,null,null,0]
[2116,"Lawn Primary School",null,"Lawn Primary School","Lawn Primary School",0,null,926060.85,926060.84849564463,0,null,0,0,0,null,926060.85,926060.84849564463,0,null,5135.54,5135.5410799999991,0,null,null,null,0,null,5.52,5.52,0,null,170279.84,null,170280,null,0,null,0,null,0,null,0,null,0,null,0,null,null,null,0,null,null,null,0,null,null,null,0,null,null,null,0,null,"NO",{"$f":"IF(ISERROR(VLOOKUP($A16+8860000,'Growth Data'!$A:$F,3,0)),\"NO\",VLOOKUP($A16+8860000,'Growth Data'!$A:$F,3,0))","v":"NO"},0,null,0,{"$f":"IF(BM16=\"YES\",IF(ISERROR(VLOOKUP($A16+8860000,'Growth Data'!$A:$F,6,0)),0,VLOOKUP($A16+8860000,'Growth Data'!$A:$F,6,0)),0)","v":0},0,null,"NO",{"$f":"IF(ISERROR(VLOOKUP($A16+8860000,'Growth Data'!$A:$F,4,0)),\"NO\",VLOOKUP($A16+8860000,'Growth Data'!$A:$F,4,0))","v":"NO"},0,null,0,{"$f":"IF(BU16=\"YES\",IF(ISERROR(VLOOKUP($A16+8860000,'Growth Data'!$A:$Z,7,0)),0,VLOOKUP($A16+8860000,'Growth Data'!$A:$Z,7,0)),0)","v":0},0,null,"NO",{"$f":"IF(ISERROR(VLOOKUP($A16+8860000,'Growth Data'!$A:$F,5,0)),\"NO\",VLOOKUP($A16+8860000,'Growth Data'!$A:$F,5,0))","v":"NO"},0,null,0,{"$f":"IF(CC16=\"YES\",IF(ISERROR(VLOOKUP($A16+8860000,'Growth Data'!$A:$Z,8,0)),0,VLOOKUP($A16+8860000,'Growth Data'!$A:$Z,8,0)),0)","v":0},0,null,null,null,0]
[2119,"Shears Green Infant School",null,"Shears Green Infant School","Shears Green Infant School",0,null,1279430.33,1279430.3302759652,0,null,169.72,169.71956342295744,0,null,1279600.05,1279600.0498393881,0,null,9218.2999999999993,9218.2962385999999,0,null,null,null,0,null,0,0,0,null,109827.78,null,109828,null,0,null,0,null,0,null,0,null,0,null,0,null,null,null,0,null,null,null,0,null,null,null,0,null,null,null,0,null,"NO",{"$f":"IF(ISERROR(VLOOKUP($A17+8860000,'Growth Data'!$A:$F,3,0)),\"NO\",VLOOKUP($A17+8860000,'Growth Data'!$A:$F,3,0))","v":"NO"},0,null,0,{"$f":"IF(BM17=\"YES\",IF(ISERROR(VLOOKUP($A17+8860000,'Growth Data'!$A:$F,6,0)),0,VLOOKUP($A17+8860000,'Growth Data'!$A:$F,6,0)),0)","v":0},0,null,"NO",{"$f":"IF(ISERROR(VLOOKUP($A17+8860000,'Growth Data'!$A:$F,4,0)),\"NO\",VLOOKUP($A17+8860000,'Growth Data'!$A:$F,4,0))","v":"NO"},0,null,0,{"$f":"IF(BU17=\"YES\",IF(ISERROR(VLOOKUP($A17+8860000,'Growth Data'!$A:$Z,7,0)),0,VLOOKUP($A17+8860000,'Growth Data'!$A:$Z,7,0)),0)","v":0},0,null,"NO",{"$f":"IF(ISERROR(VLOOKUP($A17+8860000,'Growth Data'!$A:$F,5,0)),\"NO\",VLOOKUP($A17+8860000,'Growth Data'!$A:$F,5,0))","v":"NO"},0,null,0,{"$f":"IF(CC17=\"YES\",IF(ISERROR(VLOOKUP($A17+8860000,'Growth Data'!$A:$Z,8,0)),0,VLOOKUP($A17+8860000,'Growth Data'!$A:$Z,8,0)),0)","v":0},0,null,null,null,0]
[2120,"Bean Primary School",null,"Bean Primary School","Bean Primary School",0,null,824107.02,824107.02485826134,0,null,0,0,0,null,824107.02,824107.02485826134,0,null,5428.92,5428.9242708182401,0,null,null,null,0,null,0,0,0,null,87801.9,null,87802,null,0,null,0,null,0,null,0,null,0,null,0,null,null,null,0,null,null,null,0,null,null,null,0,null,null,null,0,null,"NO",{"$f":"IF(ISERROR(VLOOKUP($A18+8860000,'Growth Data'!$A:$F,3,0)),\"NO\",VLOOKUP($A18+8860000,'Growth Data'!$A:$F,3,0))","v":"NO"},0,null,0,{"$f":"IF(BM18=\"YES\",IF(ISERROR(VLOOKUP($A18+8860000,'Growth Data'!$A:$F,6,0)),0,VLOOKUP($A18+8860000,'Growth Data'!$A:$F,6,0)),0)","v":0},0,null,"NO",{"$f":"IF(ISERROR(VLOOKUP($A18+8860000,'Growth Data'!$A:$F,4,0)),\"NO\",VLOOKUP($A18+8860000,'Growth Data'!$A:$F,4,0))","v":"NO"},0,null,0,{"$f":"IF(BU18=\"YES\",IF(ISERROR(VLOOKUP($A18+8860000,'Growth Data'!$A:$Z,7,0)),0,VLOOKUP($A18+8860000,'Growth Data'!$A:$Z,7,0)),0)","v":0},0,null,"NO",{"$f":"IF(ISERROR(VLOOKUP($A18+8860000,'Growth Data'!$A:$F,5,0)),\"NO\",VLOOKUP($A18+8860000,'Growth Data'!$A:$F,5,0))","v":"NO"},0,null,0,{"$f":"IF(CC18=\"YES\",IF(ISERROR(VLOOKUP($A18+8860000,'Growth Data'!$A:$Z,8,0)),0,VLOOKUP($A18+8860000,'Growth Data'!$A:$Z,8,0)),0)","v":0},0,null,null,null,0]
[2127,"Paddock Wood Primary School",null,"Paddock Wood Primary School","Paddock Wood Primary School",0,null,2115174,2115174,0,null,0,0,0,null,2115174,2115174,0,null,15535.01,15535.011767,0,null,null,null,0,null,0,0,0,null,133290.46,null,133290,null,0,null,0,null,0,null,0,null,0,null,0,null,null,null,0,null,null,null,0,null,null,null,0,null,null,null,0,null,"NO",{"$f":"IF(ISERROR(VLOOKUP($A19+8860000,'Growth Data'!$A:$F,3,0)),\"NO\",VLOOKUP($A19+8860000,'Growth Data'!$A:$F,3,0))","v":"NO"},0,null,0,{"$f":"IF(BM19=\"YES\",IF(ISERROR(VLOOKUP($A19+8860000,'Growth Data'!$A:$F,6,0)),0,VLOOKUP($A19+8860000,'Growth Data'!$A:$F,6,0)),0)","v":0},0,null,"NO",{"$f":"IF(ISERROR(VLOOKUP($A19+8860000,'Growth Data'!$A:$F,4,0)),\"NO\",VLOOKUP($A19+8860000,'Growth Data'!$A:$F,4,0))","v":"NO"},0,null,0,{"$f":"IF(BU19=\"YES\",IF(ISERROR(VLOOKUP($A19+8860000,'Growth Data'!$A:$Z,7,0)),0,VLOOKUP($A19+8860000,'Growth Data'!$A:$Z,7,0)),0)","v":0},0,null,"NO",{"$f":"IF(ISERROR(VLOOKUP($A19+8860000,'Growth Data'!$A:$F,5,0)),\"NO\",VLOOKUP($A19+8860000,'Growth Data'!$A:$F,5,0))","v":"NO"},0,null,0,{"$f":"IF(CC19=\"YES\",IF(ISERROR(VLOOKUP($A19+8860000,'Growth Data'!$A:$Z,8,0)),0,VLOOKUP($A19+8860000,'Growth Data'!$A:$Z,8,0)),0)","v":0},0,null,null,null,0]
[2128,"Capel Primary School",null,"Capel Primary School","Capel Primary School",0,null,759926.06,759926.06037858571,0,null,0,0,0,null,759926.06,759926.06037858571,0,null,5443.67,5443.6735447999999,0,null,null,null,0,null,0,0,0,null,36677.129999999997,null,36677,null,2332.29,null,2332,null,0,null,0,null,0,null,0,null,null,null,0,null,null,null,0,null,null,null,0,null,null,null,0,null,"NO",{"$f":"IF(ISERROR(VLOOKUP($A20+8860000,'Growth Data'!$A:$F,3,0)),\"NO\",VLOOKUP($A20+8860000,'Growth Data'!$A:$F,3,0))","v":"NO"},0,null,0,{"$f":"IF(BM20=\"YES\",IF(ISERROR(VLOOKUP($A20+8860000,'Growth Data'!$A:$F,6,0)),0,VLOOKUP($A20+8860000,'Growth Data'!$A:$F,6,0)),0)","v":0},0,null,"NO",{"$f":"IF(ISERROR(VLOOKUP($A20+8860000,'Growth Data'!$A:$F,4,0)),\"NO\",VLOOKUP($A20+8860000,'Growth Data'!$A:$F,4,0))","v":"NO"},0,null,0,{"$f":"IF(BU20=\"YES\",IF(ISERROR(VLOOKUP($A20+8860000,'Growth Data'!$A:$Z,7,0)),0,VLOOKUP($A20+8860000,'Growth Data'!$A:$Z,7,0)),0)","v":0},0,null,"NO",{"$f":"IF(ISERROR(VLOOKUP($A20+8860000,'Growth Data'!$A:$F,5,0)),\"NO\",VLOOKUP($A20+8860000,'Growth Data'!$A:$F,5,0))","v":"NO"},0,null,0,{"$f":"IF(CC20=\"YES\",IF(ISERROR(VLOOKUP($A20+8860000,'Growth Data'!$A:$Z,8,0)),0,VLOOKUP($A20+8860000,'Growth Data'!$A:$Z,8,0)),0)","v":0},0,null,null,null,0]
[2130,"Dunton Green Primary School",null,"Dunton Green Primary School","Dunton Green Primary School",0,null,671024.43999999994,671024.43770723161,0,null,0,0,0,null,671024.43999999994,671024.43770723161,0,null,4311.2,4311.2045680027195,0,null,null,null,0,null,0,0,0,null,43988.5,null,43989,null,1601.15,null,1601,null,0,null,0,null,0,null,0,null,null,null,0,null,null,null,0,null,null,null,0,null,null,null,0,null,"NO",{"$f":"IF(ISERROR(VLOOKUP($A21+8860000,'Growth Data'!$A:$F,3,0)),\"NO\",VLOOKUP($A21+8860000,'Growth Data'!$A:$F,3,0))","v":"NO"},0,null,0,{"$f":"IF(BM21=\"YES\",IF(ISERROR(VLOOKUP($A21+8860000,'Growth Data'!$A:$F,6,0)),0,VLOOKUP($A21+8860000,'Growth Data'!$A:$F,6,0)),0)","v":0},0,null,"NO",{"$f":"IF(ISERROR(VLOOKUP($A21+8860000,'Growth Data'!$A:$F,4,0)),\"NO\",VLOOKUP($A21+8860000,'Growth Data'!$A:$F,4,0))","v":"NO"},0,null,0,{"$f":"IF(BU21=\"YES\",IF(ISERROR(VLOOKUP($A21+8860000,'Growth Data'!$A:$Z,7,0)),0,VLOOKUP($A21+8860000,'Growth Data'!$A:$Z,7,0)),0)","v":0},0,null,"NO",{"$f":"IF(ISERROR(VLOOKUP($A21+8860000,'Growth Data'!$A:$F,5,0)),\"NO\",VLOOKUP($A21+8860000,'Growth Data'!$A:$F,5,0))","v":"NO"},0,null,0,{"$f":"IF(CC21=\"YES\",IF(ISERROR(VLOOKUP($A21+8860000,'Growth Data'!$A:$Z,8,0)),0,VLOOKUP($A21+8860000,'Growth Data'!$A:$Z,8,0)),0)","v":0},0,null,null,null,0]
[2132,"Hadlow School",null,"Hadlow School","Hadlow School",0,null,795026.34,795026.34068316116,0,null,0,0,0,null,795026.34,795026.34068316116,0,null,5263.93,5263.9296069999991,0,null,null,null,0,null,0,0,0,null,70527.990000000005,null,70528,null,0,null,0,null,0,null,0,null,0,null,0,null,null,null,0,null,null,null,0,null,null,null,0,null,null,null,0,null,"NO",{"$f":"IF(ISERROR(VLOOKUP($A22+8860000,'Growth Data'!$A:$F,3,0)),\"NO\",VLOOKUP($A22+8860000,'Growth Data'!$A:$F,3,0))","v":"NO"},0,null,0,{"$f":"IF(BM22=\"YES\",IF(ISERROR(VLOOKUP($A22+8860000,'Growth Data'!$A:$F,6,0)),0,VLOOKUP($A22+8860000,'Growth Data'!$A:$F,6,0)),0)","v":0},0,null,"NO",{"$f":"IF(ISERROR(VLOOKUP($A22+8860000,'Growth Data'!$A:$F,4,0)),\"NO\",VLOOKUP($A22+8860000,'Growth Data'!$A:$F,4,0))","v":"NO"},0,null,0,{"$f":"IF(BU22=\"YES\",IF(ISERROR(VLOOKUP($A22+8860000,'Growth Data'!$A:$Z,7,0)),0,VLOOKUP($A22+8860000,'Growth Data'!$A:$Z,7,0)),0)","v":0},0,null,"NO",{"$f":"IF(ISERROR(VLOOKUP($A22+8860000,'Growth Data'!$A:$F,5,0)),\"NO\",VLOOKUP($A22+8860000,'Growth Data'!$A:$F,5,0))","v":"NO"},0,null,0,{"$f":"IF(CC22=\"YES\",IF(ISERROR(VLOOKUP($A22+8860000,'Growth Data'!$A:$Z,8,0)),0,VLOOKUP($A22+8860000,'Growth Data'!$A:$Z,8,0)),0)","v":0},0,null,null,null,0]
[2133,"Halstead Community Primary School",null,"Halstead Community Primary School","Halstead Community Primary School",0,null,438759.66,438759.65651731932,0,null,0,0,0,null,438759.66,438759.65651731932,0,null,2421.73,2421.7260227669599,0,null,null,null,0,null,0,0,0,null,34033.97,null,34034,null,2596.6,null,2597,null,0,null,0,null,0,null,0,null,null,null,0,null,null,null,0,null,null,null,0,null,null,null,0,null,"NO",{"$f":"IF(ISERROR(VLOOKUP($A23+8860000,'Growth Data'!$A:$F,3,0)),\"NO\",VLOOKUP($A23+8860000,'Growth Data'!$A:$F,3,0))","v":"NO"},0,null,0,{"$f":"IF(BM23=\"YES\",IF(ISERROR(VLOOKUP($A23+8860000,'Growth Data'!$A:$F,6,0)),0,VLOOKUP($A23+8860000,'Growth Data'!$A:$F,6,0)),0)","v":0},0,null,"NO",{"$f":"IF(ISERROR(VLOOKUP($A23+8860000,'Growth Data'!$A:$F,4,0)),\"NO\",VLOOKUP($A23+8860000,'Growth Data'!$A:$F,4,0))","v":"NO"},0,null,0,{"$f":"IF(BU23=\"YES\",IF(ISERROR(VLOOKUP($A23+8860000,'Growth Data'!$A:$Z,7,0)),0,VLOOKUP($A23+8860000,'Growth Data'!$A:$Z,7,0)),0)","v":0},0,null,"NO",{"$f":"IF(ISERROR(VLOOKUP($A23+8860000,'Growth Data'!$A:$F,5,0)),\"NO\",VLOOKUP($A23+8860000,'Growth Data'!$A:$F,5,0))","v":"NO"},0,null,0,{"$f":"IF(CC23=\"YES\",IF(ISERROR(VLOOKUP($A23+8860000,'Growth Data'!$A:$Z,8,0)),0,VLOOKUP($A23+8860000,'Growth Data'!$A:$Z,8,0)),0)","v":0},0,null,null,null,0]
[2134,"Four Elms Primary School",null,"Four Elms Primary School","Four Elms Primary School",0,null,491590.87,491590.87096195959,0,null,0,0,0,null,491590.87,491590.87096195959,0,null,2927.36,2927.3611264216001,0,null,null,null,0,null,0,0,0,null,37571.410000000003,null,37571,null,2242.86,null,2243,null,0,null,0,null,0,null,0,null,null,null,0,null,null,null,0,null,null,null,0,null,null,null,0,null,"NO",{"$f":"IF(ISERROR(VLOOKUP($A24+8860000,'Growth Data'!$A:$F,3,0)),\"NO\",VLOOKUP($A24+8860000,'Growth Data'!$A:$F,3,0))","v":"NO"},0,null,0,{"$f":"IF(BM24=\"YES\",IF(ISERROR(VLOOKUP($A24+8860000,'Growth Data'!$A:$F,6,0)),0,VLOOKUP($A24+8860000,'Growth Data'!$A:$F,6,0)),0)","v":0},0,null,"NO",{"$f":"IF(ISERROR(VLOOKUP($A24+8860000,'Growth Data'!$A:$F,4,0)),\"NO\",VLOOKUP($A24+8860000,'Growth Data'!$A:$F,4,0))","v":"NO"},0,null,0,{"$f":"IF(BU24=\"YES\",IF(ISERROR(VLOOKUP($A24+8860000,'Growth Data'!$A:$Z,7,0)),0,VLOOKUP($A24+8860000,'Growth Data'!$A:$Z,7,0)),0)","v":0},0,null,"NO",{"$f":"IF(ISERROR(VLOOKUP($A24+8860000,'Growth Data'!$A:$F,5,0)),\"NO\",VLOOKUP($A24+8860000,'Growth Data'!$A:$F,5,0))","v":"NO"},0,null,0,{"$f":"IF(CC24=\"YES\",IF(ISERROR(VLOOKUP($A24+8860000,'Growth Data'!$A:$Z,8,0)),0,VLOOKUP($A24+8860000,'Growth Data'!$A:$Z,8,0)),0)","v":0},0,null,null,null,0]
[2135,"Horsmonden Primary School",null,"Horsmonden Primary School","Horsmonden Primary School",0,null,710849.06,710849.05967784498,0,null,0,0,0,null,710849.06,710849.05967784498,0,null,4930.12,4930.1194368000006,0,null,null,null,0,null,0,0,0,null,37609.480000000003,null,37609,null,2239.0500000000002,null,2239,null,0,null,0,null,0,null,0,null,null,null,0,null,null,null,0,null,null,null,0,null,null,null,0,null,"NO",{"$f":"IF(ISERROR(VLOOKUP($A25+8860000,'Growth Data'!$A:$F,3,0)),\"NO\",VLOOKUP($A25+8860000,'Growth Data'!$A:$F,3,0))","v":"NO"},0,null,0,{"$f":"IF(BM25=\"YES\",IF(ISERROR(VLOOKUP($A25+8860000,'Growth Data'!$A:$F,6,0)),0,VLOOKUP($A25+8860000,'Growth Data'!$A:$F,6,0)),0)","v":0},0,null,"NO",{"$f":"IF(ISERROR(VLOOKUP($A25+8860000,'Growth Data'!$A:$F,4,0)),\"NO\",VLOOKUP($A25+8860000,'Growth Data'!$A:$F,4,0))","v":"NO"},0,null,0,{"$f":"IF(BU25=\"YES\",IF(ISERROR(VLOOKUP($A25+8860000,'Growth Data'!$A:$Z,7,0)),0,VLOOKUP($A25+8860000,'Growth Data'!$A:$Z,7,0)),0)","v":0},0,null,"NO",{"$f":"IF(ISERROR(VLOOKUP($A25+8860000,'Growth Data'!$A:$F,5,0)),\"NO\",VLOOKUP($A25+8860000,'Growth Data'!$A:$F,5,0))","v":"NO"},0,null,0,{"$f":"IF(CC25=\"YES\",IF(ISERROR(VLOOKUP($A25+8860000,'Growth Data'!$A:$Z,8,0)),0,VLOOKUP($A25+8860000,'Growth Data'!$A:$Z,8,0)),0)","v":0},0,null,null,null,0]
[2136,"Kemsing Primary School",null,"Kemsing Primary School","Kemsing Primary School",0,null,773836.74,773836.74166534317,0,null,0,0,0,null,773836.74,773836.74166534317,0,null,5322.47,5322.4747753119991,0,null,null,null,0,null,0,0,0,null,52372.2,null,52372,null,762.78,null,763,null,0,null,0,null,0,null,0,null,null,null,0,null,null,null,0,null,null,null,0,null,null,null,0,null,"NO",{"$f":"IF(ISERROR(VLOOKUP($A26+8860000,'Growth Data'!$A:$F,3,0)),\"NO\",VLOOKUP($A26+8860000,'Growth Data'!$A:$F,3,0))","v":"NO"},0,null,0,{"$f":"IF(BM26=\"YES\",IF(ISERROR(VLOOKUP($A26+8860000,'Growth Data'!$A:$F,6,0)),0,VLOOKUP($A26+8860000,'Growth Data'!$A:$F,6,0)),0)","v":0},0,null,"NO",{"$f":"IF(ISERROR(VLOOKUP($A26+8860000,'Growth Data'!$A:$F,4,0)),\"NO\",VLOOKUP($A26+8860000,'Growth Data'!$A:$F,4,0))","v":"NO"},0,null,0,{"$f":"IF(BU26=\"YES\",IF(ISERROR(VLOOKUP($A26+8860000,'Growth Data'!$A:$Z,7,0)),0,VLOOKUP($A26+8860000,'Growth Data'!$A:$Z,7,0)),0)","v":0},0,null,"NO",{"$f":"IF(ISERROR(VLOOKUP($A26+8860000,'Growth Data'!$A:$F,5,0)),\"NO\",VLOOKUP($A26+8860000,'Growth Data'!$A:$F,5,0))","v":"NO"},0,null,0,{"$f":"IF(CC26=\"YES\",IF(ISERROR(VLOOKUP($A26+8860000,'Growth Data'!$A:$Z,8,0)),0,VLOOKUP($A26+8860000,'Growth Data'!$A:$Z,8,0)),0)","v":0},0,null,null,null,0]
[2137,"Leigh Primary School",null,"Leigh Primary School","Leigh Primary School",0,null,629449.92000000004,629449.9228418516,0,null,0,0,0,null,629449.92000000004,629449.9228418516,0,null,4284.59,4284.5921941261595,0,null,null,null,0,null,0,0,0,null,34459.760000000002,null,34460,null,2554.02,null,2554,null,0,null,0,null,0,null,0,null,null,null,0,null,null,null,0,null,null,null,0,null,null,null,0,null,"NO",{"$f":"IF(ISERROR(VLOOKUP($A27+8860000,'Growth Data'!$A:$F,3,0)),\"NO\",VLOOKUP($A27+8860000,'Growth Data'!$A:$F,3,0))","v":"NO"},0,null,0,{"$f":"IF(BM27=\"YES\",IF(ISERROR(VLOOKUP($A27+8860000,'Growth Data'!$A:$F,6,0)),0,VLOOKUP($A27+8860000,'Growth Data'!$A:$F,6,0)),0)","v":0},0,null,"NO",{"$f":"IF(ISERROR(VLOOKUP($A27+8860000,'Growth Data'!$A:$F,4,0)),\"NO\",VLOOKUP($A27+8860000,'Growth Data'!$A:$F,4,0))","v":"NO"},0,null,0,{"$f":"IF(BU27=\"YES\",IF(ISERROR(VLOOKUP($A27+8860000,'Growth Data'!$A:$Z,7,0)),0,VLOOKUP($A27+8860000,'Growth Data'!$A:$Z,7,0)),0)","v":0},0,null,"NO",{"$f":"IF(ISERROR(VLOOKUP($A27+8860000,'Growth Data'!$A:$F,5,0)),\"NO\",VLOOKUP($A27+8860000,'Growth Data'!$A:$F,5,0))","v":"NO"},0,null,0,{"$f":"IF(CC27=\"YES\",IF(ISERROR(VLOOKUP($A27+8860000,'Growth Data'!$A:$Z,8,0)),0,VLOOKUP($A27+8860000,'Growth Data'!$A:$Z,8,0)),0)","v":0},0,null,null,null,0]
[2138,"Otford Primary School",null,"Otford Primary School","Otford Primary School",0,null,1371348,1371348.0000000002,0,null,0,0,0,null,1371348,1371348.0000000002,0,null,10511.89,10511.887681241198,0,null,null,null,0,null,0,0,0,null,67986.12,null,67986,null,0,null,0,null,0,null,0,null,0,null,0,null,null,null,0,null,null,null,0,null,null,null,0,null,null,null,0,null,"YES",{"$f":"IF(ISERROR(VLOOKUP($A28+8860000,'Growth Data'!$A:$F,3,0)),\"NO\",VLOOKUP($A28+8860000,'Growth Data'!$A:$F,3,0))","v":"NO"},1,null,50,{"$f":"IF(BM28=\"YES\",IF(ISERROR(VLOOKUP($A28+8860000,'Growth Data'!$A:$F,6,0)),0,VLOOKUP($A28+8860000,'Growth Data'!$A:$F,6,0)),0)","v":0},50,null,"YES",{"$f":"IF(ISERROR(VLOOKUP($A28+8860000,'Growth Data'!$A:$F,4,0)),\"NO\",VLOOKUP($A28+8860000,'Growth Data'!$A:$F,4,0))","v":"NO"},1,null,56,{"$f":"IF(BU28=\"YES\",IF(ISERROR(VLOOKUP($A28+8860000,'Growth Data'!$A:$Z,7,0)),0,VLOOKUP($A28+8860000,'Growth Data'!$A:$Z,7,0)),0)","v":0},56,null,"NO",{"$f":"IF(ISERROR(VLOOKUP($A28+8860000,'Growth Data'!$A:$F,5,0)),\"NO\",VLOOKUP($A28+8860000,'Growth Data'!$A:$F,5,0))","v":"NO"},0,null,0,{"$f":"IF(CC28=\"YES\",IF(ISERROR(VLOOKUP($A28+8860000,'Growth Data'!$A:$Z,8,0)),0,VLOOKUP($A28+8860000,'Growth Data'!$A:$Z,8,0)),0)","v":0},0,null,null,null,0]
[2139,"Pembury School",null,"Pembury School","Pembury School",0,null,1655919,1655919,0,null,0,0,0,null,1655919,1655919,0,null,12196.91,12196.910064999996,0,null,null,null,0,null,0,0,0,null,75145.899999999994,null,75146,null,0,null,0,null,0,null,0,null,0,null,0,null,null,null,0,null,null,null,0,null,null,null,0,null,null,null,0,null,"NO",{"$f":"IF(ISERROR(VLOOKUP($A29+8860000,'Growth Data'!$A:$F,3,0)),\"NO\",VLOOKUP($A29+8860000,'Growth Data'!$A:$F,3,0))","v":"NO"},0,null,0,{"$f":"IF(BM29=\"YES\",IF(ISERROR(VLOOKUP($A29+8860000,'Growth Data'!$A:$F,6,0)),0,VLOOKUP($A29+8860000,'Growth Data'!$A:$F,6,0)),0)","v":0},0,null,"NO",{"$f":"IF(ISERROR(VLOOKUP($A29+8860000,'Growth Data'!$A:$F,4,0)),\"NO\",VLOOKUP($A29+8860000,'Growth Data'!$A:$F,4,0))","v":"NO"},0,null,0,{"$f":"IF(BU29=\"YES\",IF(ISERROR(VLOOKUP($A29+8860000,'Growth Data'!$A:$Z,7,0)),0,VLOOKUP($A29+8860000,'Growth Data'!$A:$Z,7,0)),0)","v":0},0,null,"NO",{"$f":"IF(ISERROR(VLOOKUP($A29+8860000,'Growth Data'!$A:$F,5,0)),\"NO\",VLOOKUP($A29+8860000,'Growth Data'!$A:$F,5,0))","v":"NO"},0,null,0,{"$f":"IF(CC29=\"YES\",IF(ISERROR(VLOOKUP($A29+8860000,'Growth Data'!$A:$Z,8,0)),0,VLOOKUP($A29+8860000,'Growth Data'!$A:$Z,8,0)),0)","v":0},0,null,null,null,0]
[2142,"Sandhurst Primary School",null,"Sandhurst Primary School","Sandhurst Primary School",0,null,563942.84,563942.8364064201,0,null,0,0,0,null,563942.84,563942.8364064201,0,null,3543.52,3543.5233452000002,0,null,null,null,0,null,0,0,0,null,36840.21,null,36840,null,2315.98,null,2316,null,0,null,0,null,0,null,0,null,null,null,0,null,null,null,0,null,null,null,0,null,null,null,0,null,"NO",{"$f":"IF(ISERROR(VLOOKUP($A30+8860000,'Growth Data'!$A:$F,3,0)),\"NO\",VLOOKUP($A30+8860000,'Growth Data'!$A:$F,3,0))","v":"NO"},0,null,0,{"$f":"IF(BM30=\"YES\",IF(ISERROR(VLOOKUP($A30+8860000,'Growth Data'!$A:$F,6,0)),0,VLOOKUP($A30+8860000,'Growth Data'!$A:$F,6,0)),0)","v":0},0,null,"NO",{"$f":"IF(ISERROR(VLOOKUP($A30+8860000,'Growth Data'!$A:$F,4,0)),\"NO\",VLOOKUP($A30+8860000,'Growth Data'!$A:$F,4,0))","v":"NO"},0,null,0,{"$f":"IF(BU30=\"YES\",IF(ISERROR(VLOOKUP($A30+8860000,'Growth Data'!$A:$Z,7,0)),0,VLOOKUP($A30+8860000,'Growth Data'!$A:$Z,7,0)),0)","v":0},0,null,"NO",{"$f":"IF(ISERROR(VLOOKUP($A30+8860000,'Growth Data'!$A:$F,5,0)),\"NO\",VLOOKUP($A30+8860000,'Growth Data'!$A:$F,5,0))","v":"NO"},0,null,0,{"$f":"IF(CC30=\"YES\",IF(ISERROR(VLOOKUP($A30+8860000,'Growth Data'!$A:$Z,8,0)),0,VLOOKUP($A30+8860000,'Growth Data'!$A:$Z,8,0)),0)","v":0},0,null,null,null,0]
[2147,"Weald Community Primary School",null,"Weald Community Primary School","Weald Community Primary School",0,null,623731.86,623731.86471756757,0,null,0,0,0,null,623731.86,623731.86471756757,0,null,4204.76,4204.7550724964804,0,null,null,null,0,null,0,0,0,null,32227.1,null,32227,null,2777.29,null,2777,null,0,null,0,null,0,null,0,null,null,null,0,null,null,null,0,null,null,null,0,null,null,null,0,null,"NO",{"$f":"IF(ISERROR(VLOOKUP($A31+8860000,'Growth Data'!$A:$F,3,0)),\"NO\",VLOOKUP($A31+8860000,'Growth Data'!$A:$F,3,0))","v":"NO"},0,null,0,{"$f":"IF(BM31=\"YES\",IF(ISERROR(VLOOKUP($A31+8860000,'Growth Data'!$A:$F,6,0)),0,VLOOKUP($A31+8860000,'Growth Data'!$A:$F,6,0)),0)","v":0},0,null,"NO",{"$f":"IF(ISERROR(VLOOKUP($A31+8860000,'Growth Data'!$A:$F,4,0)),\"NO\",VLOOKUP($A31+8860000,'Growth Data'!$A:$F,4,0))","v":"NO"},0,null,0,{"$f":"IF(BU31=\"YES\",IF(ISERROR(VLOOKUP($A31+8860000,'Growth Data'!$A:$Z,7,0)),0,VLOOKUP($A31+8860000,'Growth Data'!$A:$Z,7,0)),0)","v":0},0,null,"NO",{"$f":"IF(ISERROR(VLOOKUP($A31+8860000,'Growth Data'!$A:$F,5,0)),\"NO\",VLOOKUP($A31+8860000,'Growth Data'!$A:$F,5,0))","v":"NO"},0,null,0,{"$f":"IF(CC31=\"YES\",IF(ISERROR(VLOOKUP($A31+8860000,'Growth Data'!$A:$Z,8,0)),0,VLOOKUP($A31+8860000,'Growth Data'!$A:$Z,8,0)),0)","v":0},0,null,null,null,0]
[2148,"Shoreham Village School",null,"Shoreham Village School","Shoreham Village School",0,null,428515.04,428515.04135797231,0,null,0,0,0,null,428515.04,428515.04135797231,0,null,2368.5,2368.5012750138399,0,null,null,null,0,null,0,0,0,null,31241.66,null,31242,null,2875.83,null,2876,null,0,null,0,null,0,null,0,null,null,null,0,null,null,null,0,null,null,null,0,null,null,null,0,null,"NO",{"$f":"IF(ISERROR(VLOOKUP($A32+8860000,'Growth Data'!$A:$F,3,0)),\"NO\",VLOOKUP($A32+8860000,'Growth Data'!$A:$F,3,0))","v":"NO"},0,null,0,{"$f":"IF(BM32=\"YES\",IF(ISERROR(VLOOKUP($A32+8860000,'Growth Data'!$A:$F,6,0)),0,VLOOKUP($A32+8860000,'Growth Data'!$A:$F,6,0)),0)","v":0},0,null,"NO",{"$f":"IF(ISERROR(VLOOKUP($A32+8860000,'Growth Data'!$A:$F,4,0)),\"NO\",VLOOKUP($A32+8860000,'Growth Data'!$A:$F,4,0))","v":"NO"},0,null,0,{"$f":"IF(BU32=\"YES\",IF(ISERROR(VLOOKUP($A32+8860000,'Growth Data'!$A:$Z,7,0)),0,VLOOKUP($A32+8860000,'Growth Data'!$A:$Z,7,0)),0)","v":0},0,null,"NO",{"$f":"IF(ISERROR(VLOOKUP($A32+8860000,'Growth Data'!$A:$F,5,0)),\"NO\",VLOOKUP($A32+8860000,'Growth Data'!$A:$F,5,0))","v":"NO"},0,null,0,{"$f":"IF(CC32=\"YES\",IF(ISERROR(VLOOKUP($A32+8860000,'Growth Data'!$A:$Z,8,0)),0,VLOOKUP($A32+8860000,'Growth Data'!$A:$Z,8,0)),0)","v":0},0,null,null,null,0]
[2155,"Slade Primary School",null,"Slade Primary School","Slade Primary School",0,null,1313054,1313054,0,null,0,0,0,null,1313054,1313054,0,null,9731.85,9731.8503466000002,0,null,null,null,0,null,0,0,0,null,86935.57,null,86936,null,0,null,0,null,0,null,0,null,0,null,0,null,null,null,0,null,null,null,0,null,null,null,0,null,null,null,0,null,"YES",{"$f":"IF(ISERROR(VLOOKUP($A33+8860000,'Growth Data'!$A:$F,3,0)),\"NO\",VLOOKUP($A33+8860000,'Growth Data'!$A:$F,3,0))","v":"YES"},0,null,45,{"$f":"IF(BM33=\"YES\",IF(ISERROR(VLOOKUP($A33+8860000,'Growth Data'!$A:$F,6,0)),0,VLOOKUP($A33+8860000,'Growth Data'!$A:$F,6,0)),0)","v":46},-1,null,"YES",{"$f":"IF(ISERROR(VLOOKUP($A33+8860000,'Growth Data'!$A:$F,4,0)),\"NO\",VLOOKUP($A33+8860000,'Growth Data'!$A:$F,4,0))","v":"YES"},0,null,47,{"$f":"IF(BU33=\"YES\",IF(ISERROR(VLOOKUP($A33+8860000,'Growth Data'!$A:$Z,7,0)),0,VLOOKUP($A33+8860000,'Growth Data'!$A:$Z,7,0)),0)","v":60},-13,null,"YES",{"$f":"IF(ISERROR(VLOOKUP($A33+8860000,'Growth Data'!$A:$F,5,0)),\"NO\",VLOOKUP($A33+8860000,'Growth Data'!$A:$F,5,0))","v":"NO"},1,null,45,{"$f":"IF(CC33=\"YES\",IF(ISERROR(VLOOKUP($A33+8860000,'Growth Data'!$A:$Z,8,0)),0,VLOOKUP($A33+8860000,'Growth Data'!$A:$Z,8,0)),0)","v":0},45,null,null,null,0]
[2156,"Sussex Road Community Primary School",null,"Sussex Road Community Primary School","Sussex Road Community Primary School",0,null,1545691,1545691,0,null,0,0,0,null,1545691,1545691,0,null,11349.55,11349.545786799998,0,null,null,null,0,null,0,0,0,null,68816.350000000006,null,68816,null,0,null,0,null,20000,null,20000,null,30000,null,30000,null,null,null,0,null,null,null,0,null,null,null,0,null,null,null,0,null,"NO",{"$f":"IF(ISERROR(VLOOKUP($A34+8860000,'Growth Data'!$A:$F,3,0)),\"NO\",VLOOKUP($A34+8860000,'Growth Data'!$A:$F,3,0))","v":"NO"},0,null,0,{"$f":"IF(BM34=\"YES\",IF(ISERROR(VLOOKUP($A34+8860000,'Growth Data'!$A:$F,6,0)),0,VLOOKUP($A34+8860000,'Growth Data'!$A:$F,6,0)),0)","v":0},0,null,"NO",{"$f":"IF(ISERROR(VLOOKUP($A34+8860000,'Growth Data'!$A:$F,4,0)),\"NO\",VLOOKUP($A34+8860000,'Growth Data'!$A:$F,4,0))","v":"NO"},0,null,0,{"$f":"IF(BU34=\"YES\",IF(ISERROR(VLOOKUP($A34+8860000,'Growth Data'!$A:$Z,7,0)),0,VLOOKUP($A34+8860000,'Growth Data'!$A:$Z,7,0)),0)","v":0},0,null,"NO",{"$f":"IF(ISERROR(VLOOKUP($A34+8860000,'Growth Data'!$A:$F,5,0)),\"NO\",VLOOKUP($A34+8860000,'Growth Data'!$A:$F,5,0))","v":"NO"},0,null,0,{"$f":"IF(CC34=\"YES\",IF(ISERROR(VLOOKUP($A34+8860000,'Growth Data'!$A:$Z,8,0)),0,VLOOKUP($A34+8860000,'Growth Data'!$A:$Z,8,0)),0)","v":0},0,null,null,null,0]
[2161,"Boughton Monchelsea Primary School",null,"Boughton Monchelsea Primary School","Boughton Monchelsea Primary School",0,null,787442.28,787442.27850527957,0,null,0,0,0,null,787442.28,787442.27850527957,0,null,5418,5417.9958393999996,0,null,null,null,0,null,0,0,0,null,56812.83,null,56813,null,318.72000000000003,null,319,null,0,null,0,null,0,null,0,null,null,null,0,null,null,null,0,null,null,null,0,null,null,null,0,null,"NO",{"$f":"IF(ISERROR(VLOOKUP($A35+8860000,'Growth Data'!$A:$F,3,0)),\"NO\",VLOOKUP($A35+8860000,'Growth Data'!$A:$F,3,0))","v":"NO"},0,null,0,{"$f":"IF(BM35=\"YES\",IF(ISERROR(VLOOKUP($A35+8860000,'Growth Data'!$A:$F,6,0)),0,VLOOKUP($A35+8860000,'Growth Data'!$A:$F,6,0)),0)","v":0},0,null,"NO",{"$f":"IF(ISERROR(VLOOKUP($A35+8860000,'Growth Data'!$A:$F,4,0)),\"NO\",VLOOKUP($A35+8860000,'Growth Data'!$A:$F,4,0))","v":"NO"},0,null,0,{"$f":"IF(BU35=\"YES\",IF(ISERROR(VLOOKUP($A35+8860000,'Growth Data'!$A:$Z,7,0)),0,VLOOKUP($A35+8860000,'Growth Data'!$A:$Z,7,0)),0)","v":0},0,null,"NO",{"$f":"IF(ISERROR(VLOOKUP($A35+8860000,'Growth Data'!$A:$F,5,0)),\"NO\",VLOOKUP($A35+8860000,'Growth Data'!$A:$F,5,0))","v":"NO"},0,null,0,{"$f":"IF(CC35=\"YES\",IF(ISERROR(VLOOKUP($A35+8860000,'Growth Data'!$A:$Z,8,0)),0,VLOOKUP($A35+8860000,'Growth Data'!$A:$Z,8,0)),0)","v":0},0,null,null,null,0]
[2163,"East Farleigh Primary School",null,"East Farleigh Primary School","East Farleigh Primary School",0,null,742107.89,742107.89137599966,0,null,0,0,0,null,742107.89,742107.89137599966,0,null,5212.57,5212.5741962000011,0,null,null,null,0,null,0,0,0,null,42933.120000000003,null,42933,null,1706.69,null,1707,null,0,null,0,null,0,null,0,null,null,null,0,null,null,null,0,null,null,null,0,null,null,null,0,null,"NO",{"$f":"IF(ISERROR(VLOOKUP($A36+8860000,'Growth Data'!$A:$F,3,0)),\"NO\",VLOOKUP($A36+8860000,'Growth Data'!$A:$F,3,0))","v":"NO"},0,null,0,{"$f":"IF(BM36=\"YES\",IF(ISERROR(VLOOKUP($A36+8860000,'Growth Data'!$A:$F,6,0)),0,VLOOKUP($A36+8860000,'Growth Data'!$A:$F,6,0)),0)","v":0},0,null,"NO",{"$f":"IF(ISERROR(VLOOKUP($A36+8860000,'Growth Data'!$A:$F,4,0)),\"NO\",VLOOKUP($A36+8860000,'Growth Data'!$A:$F,4,0))","v":"NO"},0,null,0,{"$f":"IF(BU36=\"YES\",IF(ISERROR(VLOOKUP($A36+8860000,'Growth Data'!$A:$Z,7,0)),0,VLOOKUP($A36+8860000,'Growth Data'!$A:$Z,7,0)),0)","v":0},0,null,"NO",{"$f":"IF(ISERROR(VLOOKUP($A36+8860000,'Growth Data'!$A:$F,5,0)),\"NO\",VLOOKUP($A36+8860000,'Growth Data'!$A:$F,5,0))","v":"NO"},0,null,0,{"$f":"IF(CC36=\"YES\",IF(ISERROR(VLOOKUP($A36+8860000,'Growth Data'!$A:$Z,8,0)),0,VLOOKUP($A36+8860000,'Growth Data'!$A:$Z,8,0)),0)","v":0},0,null,null,null,0]
[2164,"East Peckham Primary School",null,"East Peckham Primary School","East Peckham Primary School",0,null,632355.36,632355.35778366774,0,null,0,0,0,null,632355.36,632355.35778366774,0,null,4236.82,4236.8213909999995,0,null,null,null,0,null,0,0,0,null,38191.56,null,38192,null,2180.84,null,2181,null,0,null,0,null,0,null,0,null,null,null,0,null,null,null,0,null,null,null,0,null,null,null,0,null,"NO",{"$f":"IF(ISERROR(VLOOKUP($A37+8860000,'Growth Data'!$A:$F,3,0)),\"NO\",VLOOKUP($A37+8860000,'Growth Data'!$A:$F,3,0))","v":"NO"},0,null,0,{"$f":"IF(BM37=\"YES\",IF(ISERROR(VLOOKUP($A37+8860000,'Growth Data'!$A:$F,6,0)),0,VLOOKUP($A37+8860000,'Growth Data'!$A:$F,6,0)),0)","v":0},0,null,"NO",{"$f":"IF(ISERROR(VLOOKUP($A37+8860000,'Growth Data'!$A:$F,4,0)),\"NO\",VLOOKUP($A37+8860000,'Growth Data'!$A:$F,4,0))","v":"NO"},0,null,0,{"$f":"IF(BU37=\"YES\",IF(ISERROR(VLOOKUP($A37+8860000,'Growth Data'!$A:$Z,7,0)),0,VLOOKUP($A37+8860000,'Growth Data'!$A:$Z,7,0)),0)","v":0},0,null,"NO",{"$f":"IF(ISERROR(VLOOKUP($A37+8860000,'Growth Data'!$A:$F,5,0)),\"NO\",VLOOKUP($A37+8860000,'Growth Data'!$A:$F,5,0))","v":"NO"},0,null,0,{"$f":"IF(CC37=\"YES\",IF(ISERROR(VLOOKUP($A37+8860000,'Growth Data'!$A:$Z,8,0)),0,VLOOKUP($A37+8860000,'Growth Data'!$A:$Z,8,0)),0)","v":0},0,null,null,null,0]
[2165,"Headcorn Primary School",null,"Headcorn Primary School","Headcorn Primary School",0,null,786742.94,786742.94307622116,0,null,0,0,0,null,786742.94,786742.94307622116,0,null,5777.48,5777.4837149999994,0,null,null,null,0,null,0,0,0,null,24260.31,null,24260,null,3573.97,null,3574,null,0,null,0,null,0,null,0,null,null,null,0,null,null,null,0,null,null,null,0,null,null,null,0,null,"NO",{"$f":"IF(ISERROR(VLOOKUP($A38+8860000,'Growth Data'!$A:$F,3,0)),\"NO\",VLOOKUP($A38+8860000,'Growth Data'!$A:$F,3,0))","v":"NO"},0,null,0,{"$f":"IF(BM38=\"YES\",IF(ISERROR(VLOOKUP($A38+8860000,'Growth Data'!$A:$F,6,0)),0,VLOOKUP($A38+8860000,'Growth Data'!$A:$F,6,0)),0)","v":0},0,null,"NO",{"$f":"IF(ISERROR(VLOOKUP($A38+8860000,'Growth Data'!$A:$F,4,0)),\"NO\",VLOOKUP($A38+8860000,'Growth Data'!$A:$F,4,0))","v":"YES"},1,null,0,{"$f":"IF(BU38=\"YES\",IF(ISERROR(VLOOKUP($A38+8860000,'Growth Data'!$A:$Z,7,0)),0,VLOOKUP($A38+8860000,'Growth Data'!$A:$Z,7,0)),0)","v":0},0,null,"NO",{"$f":"IF(ISERROR(VLOOKUP($A38+8860000,'Growth Data'!$A:$F,5,0)),\"NO\",VLOOKUP($A38+8860000,'Growth Data'!$A:$F,5,0))","v":"YES"},1,null,0,{"$f":"IF(CC38=\"YES\",IF(ISERROR(VLOOKUP($A38+8860000,'Growth Data'!$A:$Z,8,0)),0,VLOOKUP($A38+8860000,'Growth Data'!$A:$Z,8,0)),0)","v":31},-31,null,null,null,0]
[2166,"Hollingbourne Primary School",null,"Hollingbourne Primary School","Hollingbourne Primary School",0,null,429685.36,429685.36260473059,0,null,0,0,0,null,429685.36,429685.36260473059,0,null,2567.77,2567.7705399999995,0,null,null,null,0,null,0,0,0,null,22011.09,null,22011,null,3798.89,null,3799,null,0,null,0,null,0,null,0,null,null,null,0,null,null,null,0,null,null,null,0,null,null,null,0,null,"NO",{"$f":"IF(ISERROR(VLOOKUP($A39+8860000,'Growth Data'!$A:$F,3,0)),\"NO\",VLOOKUP($A39+8860000,'Growth Data'!$A:$F,3,0))","v":"NO"},0,null,0,{"$f":"IF(BM39=\"YES\",IF(ISERROR(VLOOKUP($A39+8860000,'Growth Data'!$A:$F,6,0)),0,VLOOKUP($A39+8860000,'Growth Data'!$A:$F,6,0)),0)","v":0},0,null,"NO",{"$f":"IF(ISERROR(VLOOKUP($A39+8860000,'Growth Data'!$A:$F,4,0)),\"NO\",VLOOKUP($A39+8860000,'Growth Data'!$A:$F,4,0))","v":"NO"},0,null,0,{"$f":"IF(BU39=\"YES\",IF(ISERROR(VLOOKUP($A39+8860000,'Growth Data'!$A:$Z,7,0)),0,VLOOKUP($A39+8860000,'Growth Data'!$A:$Z,7,0)),0)","v":0},0,null,"NO",{"$f":"IF(ISERROR(VLOOKUP($A39+8860000,'Growth Data'!$A:$F,5,0)),\"NO\",VLOOKUP($A39+8860000,'Growth Data'!$A:$F,5,0))","v":"NO"},0,null,0,{"$f":"IF(CC39=\"YES\",IF(ISERROR(VLOOKUP($A39+8860000,'Growth Data'!$A:$Z,8,0)),0,VLOOKUP($A39+8860000,'Growth Data'!$A:$Z,8,0)),0)","v":0},0,null,null,null,0]
[2167,"Ightham Primary School",null,"Ightham Primary School","Ightham Primary School",0,null,733520.33,733520.33016684814,0,null,0,0,0,null,733520.33,733520.33016684814,0,null,5263.93,5263.9296069999991,0,null,null,null,0,null,0,0,0,null,29227.94,null,29228,null,3077.21,null,3077,null,0,null,0,null,0,null,0,null,null,null,0,null,null,null,0,null,null,null,0,null,null,null,0,null,"NO",{"$f":"IF(ISERROR(VLOOKUP($A40+8860000,'Growth Data'!$A:$F,3,0)),\"NO\",VLOOKUP($A40+8860000,'Growth Data'!$A:$F,3,0))","v":"NO"},0,null,0,{"$f":"IF(BM40=\"YES\",IF(ISERROR(VLOOKUP($A40+8860000,'Growth Data'!$A:$F,6,0)),0,VLOOKUP($A40+8860000,'Growth Data'!$A:$F,6,0)),0)","v":0},0,null,"NO",{"$f":"IF(ISERROR(VLOOKUP($A40+8860000,'Growth Data'!$A:$F,4,0)),\"NO\",VLOOKUP($A40+8860000,'Growth Data'!$A:$F,4,0))","v":"NO"},0,null,0,{"$f":"IF(BU40=\"YES\",IF(ISERROR(VLOOKUP($A40+8860000,'Growth Data'!$A:$Z,7,0)),0,VLOOKUP($A40+8860000,'Growth Data'!$A:$Z,7,0)),0)","v":0},0,null,"NO",{"$f":"IF(ISERROR(VLOOKUP($A40+8860000,'Growth Data'!$A:$F,5,0)),\"NO\",VLOOKUP($A40+8860000,'Growth Data'!$A:$F,5,0))","v":"NO"},0,null,0,{"$f":"IF(CC40=\"YES\",IF(ISERROR(VLOOKUP($A40+8860000,'Growth Data'!$A:$Z,8,0)),0,VLOOKUP($A40+8860000,'Growth Data'!$A:$Z,8,0)),0)","v":0},0,null,null,null,0]
[2168,"Lenham Primary School",null,"Lenham Primary School","Lenham Primary School",0,null,757688.92,757688.92257838824,0,null,0,0,0,null,757688.92,757688.92257838824,0,null,5340.96,5340.9627231999993,0,null,null,null,0,null,0,0,0,null,39403.269999999997,null,39403,null,2059.67,null,2060,null,0,null,0,null,0,null,0,null,null,null,0,null,null,null,0,null,null,null,0,null,null,null,0,null,"NO",{"$f":"IF(ISERROR(VLOOKUP($A41+8860000,'Growth Data'!$A:$F,3,0)),\"NO\",VLOOKUP($A41+8860000,'Growth Data'!$A:$F,3,0))","v":"NO"},0,null,0,{"$f":"IF(BM41=\"YES\",IF(ISERROR(VLOOKUP($A41+8860000,'Growth Data'!$A:$F,6,0)),0,VLOOKUP($A41+8860000,'Growth Data'!$A:$F,6,0)),0)","v":0},0,null,"NO",{"$f":"IF(ISERROR(VLOOKUP($A41+8860000,'Growth Data'!$A:$F,4,0)),\"NO\",VLOOKUP($A41+8860000,'Growth Data'!$A:$F,4,0))","v":"NO"},0,null,0,{"$f":"IF(BU41=\"YES\",IF(ISERROR(VLOOKUP($A41+8860000,'Growth Data'!$A:$Z,7,0)),0,VLOOKUP($A41+8860000,'Growth Data'!$A:$Z,7,0)),0)","v":0},0,null,"NO",{"$f":"IF(ISERROR(VLOOKUP($A41+8860000,'Growth Data'!$A:$F,5,0)),\"NO\",VLOOKUP($A41+8860000,'Growth Data'!$A:$F,5,0))","v":"NO"},0,null,0,{"$f":"IF(CC41=\"YES\",IF(ISERROR(VLOOKUP($A41+8860000,'Growth Data'!$A:$Z,8,0)),0,VLOOKUP($A41+8860000,'Growth Data'!$A:$Z,8,0)),0)","v":0},0,null,null,null,0]
[2169,"Platts Heath Primary School",null,"Platts Heath Primary School","Platts Heath Primary School",0,null,364807.72,364807.71809952916,0,null,0,0,0,null,364807.72,364807.71809952916,0,null,1977.18,1977.1833157999999,0,null,null,null,0,null,0,0,0,null,29320.52,null,29321,null,3067.95,null,3068,null,0,null,0,null,0,null,0,null,null,null,0,null,null,null,0,null,null,null,0,null,null,null,0,null,"NO",{"$f":"IF(ISERROR(VLOOKUP($A42+8860000,'Growth Data'!$A:$F,3,0)),\"NO\",VLOOKUP($A42+8860000,'Growth Data'!$A:$F,3,0))","v":"NO"},0,null,0,{"$f":"IF(BM42=\"YES\",IF(ISERROR(VLOOKUP($A42+8860000,'Growth Data'!$A:$F,6,0)),0,VLOOKUP($A42+8860000,'Growth Data'!$A:$F,6,0)),0)","v":0},0,null,"NO",{"$f":"IF(ISERROR(VLOOKUP($A42+8860000,'Growth Data'!$A:$F,4,0)),\"NO\",VLOOKUP($A42+8860000,'Growth Data'!$A:$F,4,0))","v":"NO"},0,null,0,{"$f":"IF(BU42=\"YES\",IF(ISERROR(VLOOKUP($A42+8860000,'Growth Data'!$A:$Z,7,0)),0,VLOOKUP($A42+8860000,'Growth Data'!$A:$Z,7,0)),0)","v":0},0,null,"NO",{"$f":"IF(ISERROR(VLOOKUP($A42+8860000,'Growth Data'!$A:$F,5,0)),\"NO\",VLOOKUP($A42+8860000,'Growth Data'!$A:$F,5,0))","v":"NO"},0,null,0,{"$f":"IF(CC42=\"YES\",IF(ISERROR(VLOOKUP($A42+8860000,'Growth Data'!$A:$Z,8,0)),0,VLOOKUP($A42+8860000,'Growth Data'!$A:$Z,8,0)),0)","v":0},0,null,null,null,0]
[2171,"Brunswick House Primary School",null,"Brunswick House Primary School","Brunswick House Primary School",0,null,1491597,1491597,0,null,0,0,0,null,1491597,1491597,0,null,10784.64,10784.636268,0,null,null,null,0,null,0,0,0,null,92776.71,null,92777,null,0,null,0,null,0,null,0,null,0,null,0,null,null,null,0,null,null,null,0,null,null,null,0,null,null,null,0,null,"NO",{"$f":"IF(ISERROR(VLOOKUP($A43+8860000,'Growth Data'!$A:$F,3,0)),\"NO\",VLOOKUP($A43+8860000,'Growth Data'!$A:$F,3,0))","v":"NO"},0,null,0,{"$f":"IF(BM43=\"YES\",IF(ISERROR(VLOOKUP($A43+8860000,'Growth Data'!$A:$F,6,0)),0,VLOOKUP($A43+8860000,'Growth Data'!$A:$F,6,0)),0)","v":0},0,null,"NO",{"$f":"IF(ISERROR(VLOOKUP($A43+8860000,'Growth Data'!$A:$F,4,0)),\"NO\",VLOOKUP($A43+8860000,'Growth Data'!$A:$F,4,0))","v":"NO"},0,null,0,{"$f":"IF(BU43=\"YES\",IF(ISERROR(VLOOKUP($A43+8860000,'Growth Data'!$A:$Z,7,0)),0,VLOOKUP($A43+8860000,'Growth Data'!$A:$Z,7,0)),0)","v":0},0,null,"NO",{"$f":"IF(ISERROR(VLOOKUP($A43+8860000,'Growth Data'!$A:$F,5,0)),\"NO\",VLOOKUP($A43+8860000,'Growth Data'!$A:$F,5,0))","v":"NO"},0,null,0,{"$f":"IF(CC43=\"YES\",IF(ISERROR(VLOOKUP($A43+8860000,'Growth Data'!$A:$Z,8,0)),0,VLOOKUP($A43+8860000,'Growth Data'!$A:$Z,8,0)),0)","v":0},0,null,null,null,0]
[2175,"North Borough Junior School",null,"North Borough Junior School","North Borough Junior School",0,null,1228119.3999999999,1228119.40202188,0,null,0,0,0,null,1228119.3999999999,1228119.40202188,0,null,8447.9699999999993,8447.9650765999995,0,null,null,null,0,null,0,0,0,null,5580,null,5580,null,5442,null,5442,null,0,null,0,null,0,null,0,null,null,null,0,null,null,null,0,null,null,null,0,null,null,null,0,null,"NO",{"$f":"IF(ISERROR(VLOOKUP($A44+8860000,'Growth Data'!$A:$F,3,0)),\"NO\",VLOOKUP($A44+8860000,'Growth Data'!$A:$F,3,0))","v":"NO"},0,null,0,{"$f":"IF(BM44=\"YES\",IF(ISERROR(VLOOKUP($A44+8860000,'Growth Data'!$A:$F,6,0)),0,VLOOKUP($A44+8860000,'Growth Data'!$A:$F,6,0)),0)","v":0},0,null,"NO",{"$f":"IF(ISERROR(VLOOKUP($A44+8860000,'Growth Data'!$A:$F,4,0)),\"NO\",VLOOKUP($A44+8860000,'Growth Data'!$A:$F,4,0))","v":"NO"},0,null,0,{"$f":"IF(BU44=\"YES\",IF(ISERROR(VLOOKUP($A44+8860000,'Growth Data'!$A:$Z,7,0)),0,VLOOKUP($A44+8860000,'Growth Data'!$A:$Z,7,0)),0)","v":0},0,null,"NO",{"$f":"IF(ISERROR(VLOOKUP($A44+8860000,'Growth Data'!$A:$F,5,0)),\"NO\",VLOOKUP($A44+8860000,'Growth Data'!$A:$F,5,0))","v":"NO"},0,null,0,{"$f":"IF(CC44=\"YES\",IF(ISERROR(VLOOKUP($A44+8860000,'Growth Data'!$A:$Z,8,0)),0,VLOOKUP($A44+8860000,'Growth Data'!$A:$Z,8,0)),0)","v":0},0,null,null,null,0]
[2176,"Park Way Primary School",null,"Park Way Primary School","Park Way Primary School",0,null,1210048.5,1210048.4992474101,0,null,0,0,0,null,1210048.5,1210048.4992474101,0,null,8011.44,8011.4440848000004,0,null,null,null,0,null,0,0,0,null,123982.51,null,123983,null,0,null,0,null,0,null,0,null,0,null,0,null,null,null,0,null,null,null,0,null,null,null,0,null,null,null,0,null,"YES",{"$f":"IF(ISERROR(VLOOKUP($A45+8860000,'Growth Data'!$A:$F,3,0)),\"NO\",VLOOKUP($A45+8860000,'Growth Data'!$A:$F,3,0))","v":"NO"},1,null,75,{"$f":"IF(BM45=\"YES\",IF(ISERROR(VLOOKUP($A45+8860000,'Growth Data'!$A:$F,6,0)),0,VLOOKUP($A45+8860000,'Growth Data'!$A:$F,6,0)),0)","v":0},75,null,"YES",{"$f":"IF(ISERROR(VLOOKUP($A45+8860000,'Growth Data'!$A:$F,4,0)),\"NO\",VLOOKUP($A45+8860000,'Growth Data'!$A:$F,4,0))","v":"NO"},1,null,75,{"$f":"IF(BU45=\"YES\",IF(ISERROR(VLOOKUP($A45+8860000,'Growth Data'!$A:$Z,7,0)),0,VLOOKUP($A45+8860000,'Growth Data'!$A:$Z,7,0)),0)","v":0},75,null,"NO",{"$f":"IF(ISERROR(VLOOKUP($A45+8860000,'Growth Data'!$A:$F,5,0)),\"NO\",VLOOKUP($A45+8860000,'Growth Data'!$A:$F,5,0))","v":"NO"},0,null,0,{"$f":"IF(CC45=\"YES\",IF(ISERROR(VLOOKUP($A45+8860000,'Growth Data'!$A:$Z,8,0)),0,VLOOKUP($A45+8860000,'Growth Data'!$A:$Z,8,0)),0)","v":0},0,null,null,null,0]
[2183,"Marden Primary School",null,"Marden Primary School","Marden Primary School",0,null,982451.67,982451.6667634953,0,null,0,0,0,null,982451.67,982451.6667634953,0,null,6599.17,6599.1702877999987,0,null,null,null,0,null,0,0,0,null,146702.95000000001,null,146703,null,0,null,0,null,0,null,0,null,0,null,0,null,null,null,0,null,null,null,0,null,null,null,0,null,null,null,0,null,"NO",{"$f":"IF(ISERROR(VLOOKUP($A46+8860000,'Growth Data'!$A:$F,3,0)),\"NO\",VLOOKUP($A46+8860000,'Growth Data'!$A:$F,3,0))","v":"NO"},0,null,0,{"$f":"IF(BM46=\"YES\",IF(ISERROR(VLOOKUP($A46+8860000,'Growth Data'!$A:$F,6,0)),0,VLOOKUP($A46+8860000,'Growth Data'!$A:$F,6,0)),0)","v":0},0,null,"NO",{"$f":"IF(ISERROR(VLOOKUP($A46+8860000,'Growth Data'!$A:$F,4,0)),\"NO\",VLOOKUP($A46+8860000,'Growth Data'!$A:$F,4,0))","v":"NO"},0,null,0,{"$f":"IF(BU46=\"YES\",IF(ISERROR(VLOOKUP($A46+8860000,'Growth Data'!$A:$Z,7,0)),0,VLOOKUP($A46+8860000,'Growth Data'!$A:$Z,7,0)),0)","v":0},0,null,"NO",{"$f":"IF(ISERROR(VLOOKUP($A46+8860000,'Growth Data'!$A:$F,5,0)),\"NO\",VLOOKUP($A46+8860000,'Growth Data'!$A:$F,5,0))","v":"NO"},0,null,0,{"$f":"IF(CC46=\"YES\",IF(ISERROR(VLOOKUP($A46+8860000,'Growth Data'!$A:$Z,8,0)),0,VLOOKUP($A46+8860000,'Growth Data'!$A:$Z,8,0)),0)","v":0},0,null,null,null,0]
[2185,"Mereworth Community Primary School",null,"Mereworth Community Primary School","Mereworth Community Primary School",0,null,787560.55,787560.54821482429,0,null,0,0,0,null,787560.55,787560.54821482429,0,null,5469.35,5469.3512501999994,0,null,null,null,0,null,0,0,0,null,102263.44,null,102263,null,0,null,0,null,0,null,0,null,0,null,0,null,null,null,0,null,null,null,0,null,null,null,0,null,null,null,0,null,"NO",{"$f":"IF(ISERROR(VLOOKUP($A47+8860000,'Growth Data'!$A:$F,3,0)),\"NO\",VLOOKUP($A47+8860000,'Growth Data'!$A:$F,3,0))","v":"NO"},0,null,0,{"$f":"IF(BM47=\"YES\",IF(ISERROR(VLOOKUP($A47+8860000,'Growth Data'!$A:$F,6,0)),0,VLOOKUP($A47+8860000,'Growth Data'!$A:$F,6,0)),0)","v":0},0,null,"NO",{"$f":"IF(ISERROR(VLOOKUP($A47+8860000,'Growth Data'!$A:$F,4,0)),\"NO\",VLOOKUP($A47+8860000,'Growth Data'!$A:$F,4,0))","v":"NO"},0,null,0,{"$f":"IF(BU47=\"YES\",IF(ISERROR(VLOOKUP($A47+8860000,'Growth Data'!$A:$Z,7,0)),0,VLOOKUP($A47+8860000,'Growth Data'!$A:$Z,7,0)),0)","v":0},0,null,"NO",{"$f":"IF(ISERROR(VLOOKUP($A47+8860000,'Growth Data'!$A:$F,5,0)),\"NO\",VLOOKUP($A47+8860000,'Growth Data'!$A:$F,5,0))","v":"NO"},0,null,0,{"$f":"IF(CC47=\"YES\",IF(ISERROR(VLOOKUP($A47+8860000,'Growth Data'!$A:$Z,8,0)),0,VLOOKUP($A47+8860000,'Growth Data'!$A:$Z,8,0)),0)","v":0},0,null,null,null,0]
[2187,"Offham Primary School",null,"Offham Primary School","Offham Primary School",0,null,749104.62,749104.62057808507,0,null,0,0,0,null,749104.62,749104.62057808507,0,null,5340.96,5340.9627231999993,0,null,null,null,0,null,0,0,0,null,46008.54,null,46009,null,1399.15,null,1399,null,0,null,0,null,0,null,0,null,null,null,0,null,null,null,0,null,null,null,0,null,null,null,0,null,"NO",{"$f":"IF(ISERROR(VLOOKUP($A48+8860000,'Growth Data'!$A:$F,3,0)),\"NO\",VLOOKUP($A48+8860000,'Growth Data'!$A:$F,3,0))","v":"NO"},0,null,0,{"$f":"IF(BM48=\"YES\",IF(ISERROR(VLOOKUP($A48+8860000,'Growth Data'!$A:$F,6,0)),0,VLOOKUP($A48+8860000,'Growth Data'!$A:$F,6,0)),0)","v":0},0,null,"NO",{"$f":"IF(ISERROR(VLOOKUP($A48+8860000,'Growth Data'!$A:$F,4,0)),\"NO\",VLOOKUP($A48+8860000,'Growth Data'!$A:$F,4,0))","v":"NO"},0,null,0,{"$f":"IF(BU48=\"YES\",IF(ISERROR(VLOOKUP($A48+8860000,'Growth Data'!$A:$Z,7,0)),0,VLOOKUP($A48+8860000,'Growth Data'!$A:$Z,7,0)),0)","v":0},0,null,"NO",{"$f":"IF(ISERROR(VLOOKUP($A48+8860000,'Growth Data'!$A:$F,5,0)),\"NO\",VLOOKUP($A48+8860000,'Growth Data'!$A:$F,5,0))","v":"NO"},0,null,0,{"$f":"IF(CC48=\"YES\",IF(ISERROR(VLOOKUP($A48+8860000,'Growth Data'!$A:$Z,8,0)),0,VLOOKUP($A48+8860000,'Growth Data'!$A:$Z,8,0)),0)","v":0},0,null,null,null,0]
[2188,"Plaxtol Primary School",null,"Plaxtol Primary School","Plaxtol Primary School",0,null,406021.37,406021.36963066412,0,null,0,0,0,null,406021.37,406021.36963066412,0,null,2388.0300000000002,2388.0266022000001,0,null,null,null,0,null,0,0,0,null,35490.61,null,35491,null,2450.94,null,2451,null,0,null,0,null,0,null,0,null,null,null,0,null,null,null,0,null,null,null,0,null,null,null,0,null,"NO",{"$f":"IF(ISERROR(VLOOKUP($A49+8860000,'Growth Data'!$A:$F,3,0)),\"NO\",VLOOKUP($A49+8860000,'Growth Data'!$A:$F,3,0))","v":"NO"},0,null,0,{"$f":"IF(BM49=\"YES\",IF(ISERROR(VLOOKUP($A49+8860000,'Growth Data'!$A:$F,6,0)),0,VLOOKUP($A49+8860000,'Growth Data'!$A:$F,6,0)),0)","v":0},0,null,"NO",{"$f":"IF(ISERROR(VLOOKUP($A49+8860000,'Growth Data'!$A:$F,4,0)),\"NO\",VLOOKUP($A49+8860000,'Growth Data'!$A:$F,4,0))","v":"NO"},0,null,0,{"$f":"IF(BU49=\"YES\",IF(ISERROR(VLOOKUP($A49+8860000,'Growth Data'!$A:$Z,7,0)),0,VLOOKUP($A49+8860000,'Growth Data'!$A:$Z,7,0)),0)","v":0},0,null,"NO",{"$f":"IF(ISERROR(VLOOKUP($A49+8860000,'Growth Data'!$A:$F,5,0)),\"NO\",VLOOKUP($A49+8860000,'Growth Data'!$A:$F,5,0))","v":"NO"},0,null,0,{"$f":"IF(CC49=\"YES\",IF(ISERROR(VLOOKUP($A49+8860000,'Growth Data'!$A:$Z,8,0)),0,VLOOKUP($A49+8860000,'Growth Data'!$A:$Z,8,0)),0)","v":0},0,null,null,null,0]
[2189,"Ryarsh Primary School",null,"Ryarsh Primary School","Ryarsh Primary School",0,null,750159.41,750159.41286680428,0,null,0,0,0,null,750159.41,750159.41286680428,0,null,5392.32,5392.3181340000001,0,null,null,null,0,null,0,0,0,null,20008.650000000001,null,20009,null,3999.13,null,3999,null,0,null,0,null,0,null,0,null,null,null,0,null,null,null,0,null,null,null,0,null,null,null,0,null,"NO",{"$f":"IF(ISERROR(VLOOKUP($A50+8860000,'Growth Data'!$A:$F,3,0)),\"NO\",VLOOKUP($A50+8860000,'Growth Data'!$A:$F,3,0))","v":"NO"},0,null,0,{"$f":"IF(BM50=\"YES\",IF(ISERROR(VLOOKUP($A50+8860000,'Growth Data'!$A:$F,6,0)),0,VLOOKUP($A50+8860000,'Growth Data'!$A:$F,6,0)),0)","v":0},0,null,"NO",{"$f":"IF(ISERROR(VLOOKUP($A50+8860000,'Growth Data'!$A:$F,4,0)),\"NO\",VLOOKUP($A50+8860000,'Growth Data'!$A:$F,4,0))","v":"NO"},0,null,0,{"$f":"IF(BU50=\"YES\",IF(ISERROR(VLOOKUP($A50+8860000,'Growth Data'!$A:$Z,7,0)),0,VLOOKUP($A50+8860000,'Growth Data'!$A:$Z,7,0)),0)","v":0},0,null,"NO",{"$f":"IF(ISERROR(VLOOKUP($A50+8860000,'Growth Data'!$A:$F,5,0)),\"NO\",VLOOKUP($A50+8860000,'Growth Data'!$A:$F,5,0))","v":"NO"},0,null,0,{"$f":"IF(CC50=\"YES\",IF(ISERROR(VLOOKUP($A50+8860000,'Growth Data'!$A:$Z,8,0)),0,VLOOKUP($A50+8860000,'Growth Data'!$A:$Z,8,0)),0)","v":0},0,null,null,null,0]
[2190,"Shipbourne School",null,"Shipbourne School","Shipbourne School",0,null,283001.21000000002,283001.21206590912,0,null,0,0,0,null,283001.21000000002,283001.21206590912,0,null,1309.56,1309.5629753999999,0,null,null,null,0,null,0,0,0,null,34664.14,null,34664,null,2533.59,null,2534,null,0,null,0,null,0,null,0,null,null,null,0,null,null,null,0,null,null,null,0,null,null,null,0,null,"NO",{"$f":"IF(ISERROR(VLOOKUP($A51+8860000,'Growth Data'!$A:$F,3,0)),\"NO\",VLOOKUP($A51+8860000,'Growth Data'!$A:$F,3,0))","v":"NO"},0,null,0,{"$f":"IF(BM51=\"YES\",IF(ISERROR(VLOOKUP($A51+8860000,'Growth Data'!$A:$F,6,0)),0,VLOOKUP($A51+8860000,'Growth Data'!$A:$F,6,0)),0)","v":0},0,null,"NO",{"$f":"IF(ISERROR(VLOOKUP($A51+8860000,'Growth Data'!$A:$F,4,0)),\"NO\",VLOOKUP($A51+8860000,'Growth Data'!$A:$F,4,0))","v":"NO"},0,null,0,{"$f":"IF(BU51=\"YES\",IF(ISERROR(VLOOKUP($A51+8860000,'Growth Data'!$A:$Z,7,0)),0,VLOOKUP($A51+8860000,'Growth Data'!$A:$Z,7,0)),0)","v":0},0,null,"NO",{"$f":"IF(ISERROR(VLOOKUP($A51+8860000,'Growth Data'!$A:$F,5,0)),\"NO\",VLOOKUP($A51+8860000,'Growth Data'!$A:$F,5,0))","v":"NO"},0,null,0,{"$f":"IF(CC51=\"YES\",IF(ISERROR(VLOOKUP($A51+8860000,'Growth Data'!$A:$Z,8,0)),0,VLOOKUP($A51+8860000,'Growth Data'!$A:$Z,8,0)),0)","v":0},0,null,null,null,0]
[2191,"St Katherine's School",null,"St Katherine's School","St Katherine's School",0,null,2040034,2040034,0,null,0,0,0,null,2040034,2040034,0,null,14893.07,14893.069131999997,0,null,null,null,0,null,4.9000000000000004,4.9000000000000004,0,null,16696.2,null,16696,null,4330.38,null,4330,null,0,null,0,null,0,null,0,null,null,null,0,null,null,null,0,null,null,null,0,null,null,null,0,null,"NO",{"$f":"IF(ISERROR(VLOOKUP($A52+8860000,'Growth Data'!$A:$F,3,0)),\"NO\",VLOOKUP($A52+8860000,'Growth Data'!$A:$F,3,0))","v":"NO"},0,null,0,{"$f":"IF(BM52=\"YES\",IF(ISERROR(VLOOKUP($A52+8860000,'Growth Data'!$A:$F,6,0)),0,VLOOKUP($A52+8860000,'Growth Data'!$A:$F,6,0)),0)","v":0},0,null,"NO",{"$f":"IF(ISERROR(VLOOKUP($A52+8860000,'Growth Data'!$A:$F,4,0)),\"NO\",VLOOKUP($A52+8860000,'Growth Data'!$A:$F,4,0))","v":"NO"},0,null,0,{"$f":"IF(BU52=\"YES\",IF(ISERROR(VLOOKUP($A52+8860000,'Growth Data'!$A:$Z,7,0)),0,VLOOKUP($A52+8860000,'Growth Data'!$A:$Z,7,0)),0)","v":0},0,null,"NO",{"$f":"IF(ISERROR(VLOOKUP($A52+8860000,'Growth Data'!$A:$F,5,0)),\"NO\",VLOOKUP($A52+8860000,'Growth Data'!$A:$F,5,0))","v":"NO"},0,null,0,{"$f":"IF(CC52=\"YES\",IF(ISERROR(VLOOKUP($A52+8860000,'Growth Data'!$A:$Z,8,0)),0,VLOOKUP($A52+8860000,'Growth Data'!$A:$Z,8,0)),0)","v":0},0,null,null,null,0]
[2192,"Staplehurst School",null,"Staplehurst School","Staplehurst School",0,null,1484636,1484636,0,null,0,0,0,null,1484636,1484636,0,null,10938.7,10938.702500399999,0,null,null,null,0,null,0,0,0,null,196789.88,null,196790,null,0,null,0,null,0,null,0,null,0,null,0,null,null,null,0,null,null,null,0,null,null,null,0,null,null,null,0,null,"NO",{"$f":"IF(ISERROR(VLOOKUP($A53+8860000,'Growth Data'!$A:$F,3,0)),\"NO\",VLOOKUP($A53+8860000,'Growth Data'!$A:$F,3,0))","v":"NO"},0,null,0,{"$f":"IF(BM53=\"YES\",IF(ISERROR(VLOOKUP($A53+8860000,'Growth Data'!$A:$F,6,0)),0,VLOOKUP($A53+8860000,'Growth Data'!$A:$F,6,0)),0)","v":0},0,null,"NO",{"$f":"IF(ISERROR(VLOOKUP($A53+8860000,'Growth Data'!$A:$F,4,0)),\"NO\",VLOOKUP($A53+8860000,'Growth Data'!$A:$F,4,0))","v":"NO"},0,null,0,{"$f":"IF(BU53=\"YES\",IF(ISERROR(VLOOKUP($A53+8860000,'Growth Data'!$A:$Z,7,0)),0,VLOOKUP($A53+8860000,'Growth Data'!$A:$Z,7,0)),0)","v":0},0,null,"NO",{"$f":"IF(ISERROR(VLOOKUP($A53+8860000,'Growth Data'!$A:$F,5,0)),\"NO\",VLOOKUP($A53+8860000,'Growth Data'!$A:$F,5,0))","v":"NO"},0,null,0,{"$f":"IF(CC53=\"YES\",IF(ISERROR(VLOOKUP($A53+8860000,'Growth Data'!$A:$Z,8,0)),0,VLOOKUP($A53+8860000,'Growth Data'!$A:$Z,8,0)),0)","v":0},0,null,null,null,0]
[2193,"Sutton Valence Primary School",null,"Sutton Valence Primary School","Sutton Valence Primary School",0,null,672519.92,672519.91913649172,0,null,0,0,0,null,672519.92,672519.91913649172,0,null,4467.92,4467.9207396000002,0,null,null,null,0,null,0,0,0,null,89079.27,null,89079,null,0,null,0,null,0,null,0,null,0,null,0,null,null,null,0,null,null,null,0,null,null,null,0,null,null,null,0,null,"NO",{"$f":"IF(ISERROR(VLOOKUP($A54+8860000,'Growth Data'!$A:$F,3,0)),\"NO\",VLOOKUP($A54+8860000,'Growth Data'!$A:$F,3,0))","v":"NO"},0,null,0,{"$f":"IF(BM54=\"YES\",IF(ISERROR(VLOOKUP($A54+8860000,'Growth Data'!$A:$F,6,0)),0,VLOOKUP($A54+8860000,'Growth Data'!$A:$F,6,0)),0)","v":0},0,null,"NO",{"$f":"IF(ISERROR(VLOOKUP($A54+8860000,'Growth Data'!$A:$F,4,0)),\"NO\",VLOOKUP($A54+8860000,'Growth Data'!$A:$F,4,0))","v":"NO"},0,null,0,{"$f":"IF(BU54=\"YES\",IF(ISERROR(VLOOKUP($A54+8860000,'Growth Data'!$A:$Z,7,0)),0,VLOOKUP($A54+8860000,'Growth Data'!$A:$Z,7,0)),0)","v":0},0,null,"NO",{"$f":"IF(ISERROR(VLOOKUP($A54+8860000,'Growth Data'!$A:$F,5,0)),\"NO\",VLOOKUP($A54+8860000,'Growth Data'!$A:$F,5,0))","v":"NO"},0,null,0,{"$f":"IF(CC54=\"YES\",IF(ISERROR(VLOOKUP($A54+8860000,'Growth Data'!$A:$Z,8,0)),0,VLOOKUP($A54+8860000,'Growth Data'!$A:$Z,8,0)),0)","v":0},0,null,null,null,0]
[2226,"Eastling Primary School",null,"Eastling Primary School","Eastling Primary School",0,null,467547.29,467547.29039824411,0,null,0,0,0,null,467547.29,467547.29039824411,0,null,2696.16,2696.1590670000001,0,null,null,null,0,null,0,0,0,null,44196.25,null,44196,null,1580.37,null,1580,null,0,null,0,null,0,null,0,null,null,null,0,null,null,null,0,null,null,null,0,null,null,null,0,null,"NO",{"$f":"IF(ISERROR(VLOOKUP($A55+8860000,'Growth Data'!$A:$F,3,0)),\"NO\",VLOOKUP($A55+8860000,'Growth Data'!$A:$F,3,0))","v":"NO"},0,null,0,{"$f":"IF(BM55=\"YES\",IF(ISERROR(VLOOKUP($A55+8860000,'Growth Data'!$A:$F,6,0)),0,VLOOKUP($A55+8860000,'Growth Data'!$A:$F,6,0)),0)","v":0},0,null,"NO",{"$f":"IF(ISERROR(VLOOKUP($A55+8860000,'Growth Data'!$A:$F,4,0)),\"NO\",VLOOKUP($A55+8860000,'Growth Data'!$A:$F,4,0))","v":"NO"},0,null,0,{"$f":"IF(BU55=\"YES\",IF(ISERROR(VLOOKUP($A55+8860000,'Growth Data'!$A:$Z,7,0)),0,VLOOKUP($A55+8860000,'Growth Data'!$A:$Z,7,0)),0)","v":0},0,null,"NO",{"$f":"IF(ISERROR(VLOOKUP($A55+8860000,'Growth Data'!$A:$F,5,0)),\"NO\",VLOOKUP($A55+8860000,'Growth Data'!$A:$F,5,0))","v":"NO"},0,null,0,{"$f":"IF(CC55=\"YES\",IF(ISERROR(VLOOKUP($A55+8860000,'Growth Data'!$A:$Z,8,0)),0,VLOOKUP($A55+8860000,'Growth Data'!$A:$Z,8,0)),0)","v":0},0,null,null,null,0]
[2227,"Ethelbert Road Primary School",null,"Ethelbert Road Primary School","Ethelbert Road Primary School",0,null,769388.65,769388.648285373,0,null,0,0,0,null,769388.65,769388.648285373,0,null,5392.32,5392.3181340000001,0,null,null,null,0,null,0,0,0,null,33477.870000000003,null,33478,null,2652.21,null,2652,null,0,null,0,null,0,null,0,null,null,null,0,null,null,null,0,null,null,null,0,null,null,null,0,null,"NO",{"$f":"IF(ISERROR(VLOOKUP($A56+8860000,'Growth Data'!$A:$F,3,0)),\"NO\",VLOOKUP($A56+8860000,'Growth Data'!$A:$F,3,0))","v":"NO"},0,null,0,{"$f":"IF(BM56=\"YES\",IF(ISERROR(VLOOKUP($A56+8860000,'Growth Data'!$A:$F,6,0)),0,VLOOKUP($A56+8860000,'Growth Data'!$A:$F,6,0)),0)","v":0},0,null,"NO",{"$f":"IF(ISERROR(VLOOKUP($A56+8860000,'Growth Data'!$A:$F,4,0)),\"NO\",VLOOKUP($A56+8860000,'Growth Data'!$A:$F,4,0))","v":"NO"},0,null,0,{"$f":"IF(BU56=\"YES\",IF(ISERROR(VLOOKUP($A56+8860000,'Growth Data'!$A:$Z,7,0)),0,VLOOKUP($A56+8860000,'Growth Data'!$A:$Z,7,0)),0)","v":0},0,null,"NO",{"$f":"IF(ISERROR(VLOOKUP($A56+8860000,'Growth Data'!$A:$F,5,0)),\"NO\",VLOOKUP($A56+8860000,'Growth Data'!$A:$F,5,0))","v":"NO"},0,null,0,{"$f":"IF(CC56=\"YES\",IF(ISERROR(VLOOKUP($A56+8860000,'Growth Data'!$A:$Z,8,0)),0,VLOOKUP($A56+8860000,'Growth Data'!$A:$Z,8,0)),0)","v":0},0,null,null,null,0]
[2228,"Davington Primary School",null,"Davington Primary School","Davington Primary School",0,null,1529174.43,1529174.4325844939,0,null,0,0,0,null,1529174.43,1529174.4325844939,0,null,10707.6,10707.6031518,0,null,null,null,0,null,0,0,0,null,54764.959999999999,null,54765,null,523.5,null,524,null,0,null,0,null,0,null,0,null,null,null,0,null,null,null,0,null,null,null,0,null,null,null,0,null,"NO",{"$f":"IF(ISERROR(VLOOKUP($A57+8860000,'Growth Data'!$A:$F,3,0)),\"NO\",VLOOKUP($A57+8860000,'Growth Data'!$A:$F,3,0))","v":"NO"},0,null,0,{"$f":"IF(BM57=\"YES\",IF(ISERROR(VLOOKUP($A57+8860000,'Growth Data'!$A:$F,6,0)),0,VLOOKUP($A57+8860000,'Growth Data'!$A:$F,6,0)),0)","v":0},0,null,"NO",{"$f":"IF(ISERROR(VLOOKUP($A57+8860000,'Growth Data'!$A:$F,4,0)),\"NO\",VLOOKUP($A57+8860000,'Growth Data'!$A:$F,4,0))","v":"NO"},0,null,0,{"$f":"IF(BU57=\"YES\",IF(ISERROR(VLOOKUP($A57+8860000,'Growth Data'!$A:$Z,7,0)),0,VLOOKUP($A57+8860000,'Growth Data'!$A:$Z,7,0)),0)","v":0},0,null,"NO",{"$f":"IF(ISERROR(VLOOKUP($A57+8860000,'Growth Data'!$A:$F,5,0)),\"NO\",VLOOKUP($A57+8860000,'Growth Data'!$A:$F,5,0))","v":"NO"},0,null,0,{"$f":"IF(CC57=\"YES\",IF(ISERROR(VLOOKUP($A57+8860000,'Growth Data'!$A:$Z,8,0)),0,VLOOKUP($A57+8860000,'Growth Data'!$A:$Z,8,0)),0)","v":0},0,null,null,null,0]
[2231,"Lower Halstow School",null,"Lower Halstow School","Lower Halstow School",0,null,620031.73,620031.72683125769,0,null,0,0,0,null,620031.73,620031.72683125769,0,null,4005.72,4005.7220424000002,0,null,null,null,0,null,0,0,0,null,189060.27,null,189060,null,0,null,0,null,0,null,0,null,0,null,0,null,null,null,0,null,null,null,0,null,null,null,0,null,null,null,0,null,"NO",{"$f":"IF(ISERROR(VLOOKUP($A58+8860000,'Growth Data'!$A:$F,3,0)),\"NO\",VLOOKUP($A58+8860000,'Growth Data'!$A:$F,3,0))","v":"YES"},1,null,0,{"$f":"IF(BM58=\"YES\",IF(ISERROR(VLOOKUP($A58+8860000,'Growth Data'!$A:$F,6,0)),0,VLOOKUP($A58+8860000,'Growth Data'!$A:$F,6,0)),0)","v":23},-23,null,"NO",{"$f":"IF(ISERROR(VLOOKUP($A58+8860000,'Growth Data'!$A:$F,4,0)),\"NO\",VLOOKUP($A58+8860000,'Growth Data'!$A:$F,4,0))","v":"YES"},1,null,0,{"$f":"IF(BU58=\"YES\",IF(ISERROR(VLOOKUP($A58+8860000,'Growth Data'!$A:$Z,7,0)),0,VLOOKUP($A58+8860000,'Growth Data'!$A:$Z,7,0)),0)","v":30},-30,null,"NO",{"$f":"IF(ISERROR(VLOOKUP($A58+8860000,'Growth Data'!$A:$F,5,0)),\"NO\",VLOOKUP($A58+8860000,'Growth Data'!$A:$F,5,0))","v":"YES"},1,null,0,{"$f":"IF(CC58=\"YES\",IF(ISERROR(VLOOKUP($A58+8860000,'Growth Data'!$A:$Z,8,0)),0,VLOOKUP($A58+8860000,'Growth Data'!$A:$Z,8,0)),0)","v":22},-22,null,null,null,0]
[2237,"Queenborough School and Nursery",null,"Queenborough School and Nursery","Queenborough School and Nursery",0,null,1643604.65,1643604.6465239706,0,null,0,0,0,null,1643604.65,1643604.6465239706,0,null,10733.28,10733.280857199998,0,null,null,null,0,null,5.13,5.13,0,null,45967.1,null,45967,null,1403.29,null,1403,null,0,null,0,null,0,null,0,null,null,null,0,null,null,null,0,null,null,null,0,null,null,null,0,null,"NO",{"$f":"IF(ISERROR(VLOOKUP($A59+8860000,'Growth Data'!$A:$F,3,0)),\"NO\",VLOOKUP($A59+8860000,'Growth Data'!$A:$F,3,0))","v":"NO"},0,null,0,{"$f":"IF(BM59=\"YES\",IF(ISERROR(VLOOKUP($A59+8860000,'Growth Data'!$A:$F,6,0)),0,VLOOKUP($A59+8860000,'Growth Data'!$A:$F,6,0)),0)","v":0},0,null,"NO",{"$f":"IF(ISERROR(VLOOKUP($A59+8860000,'Growth Data'!$A:$F,4,0)),\"NO\",VLOOKUP($A59+8860000,'Growth Data'!$A:$F,4,0))","v":"NO"},0,null,0,{"$f":"IF(BU59=\"YES\",IF(ISERROR(VLOOKUP($A59+8860000,'Growth Data'!$A:$Z,7,0)),0,VLOOKUP($A59+8860000,'Growth Data'!$A:$Z,7,0)),0)","v":0},0,null,"NO",{"$f":"IF(ISERROR(VLOOKUP($A59+8860000,'Growth Data'!$A:$F,5,0)),\"NO\",VLOOKUP($A59+8860000,'Growth Data'!$A:$F,5,0))","v":"NO"},0,null,0,{"$f":"IF(CC59=\"YES\",IF(ISERROR(VLOOKUP($A59+8860000,'Growth Data'!$A:$Z,8,0)),0,VLOOKUP($A59+8860000,'Growth Data'!$A:$Z,8,0)),0)","v":0},0,null,null,null,0]
[2239,"Rodmersham School",null,"Rodmersham School","Rodmersham School",0,null,408258.66,408258.66467924858,0,null,0,0,0,null,408258.66,408258.66467924858,0,null,2542.09,2542.0928346000001,0,null,null,null,0,null,0,0,0,null,276461.96000000002,null,276462,null,0,null,0,null,0,null,0,null,0,null,0,null,null,null,0,null,null,null,0,null,null,null,0,null,null,null,0,null,"YES",{"$f":"IF(ISERROR(VLOOKUP($A60+8860000,'Growth Data'!$A:$F,3,0)),\"NO\",VLOOKUP($A60+8860000,'Growth Data'!$A:$F,3,0))","v":"NO"},1,null,55,{"$f":"IF(BM60=\"YES\",IF(ISERROR(VLOOKUP($A60+8860000,'Growth Data'!$A:$F,6,0)),0,VLOOKUP($A60+8860000,'Growth Data'!$A:$F,6,0)),0)","v":0},55,null,"NO",{"$f":"IF(ISERROR(VLOOKUP($A60+8860000,'Growth Data'!$A:$F,4,0)),\"NO\",VLOOKUP($A60+8860000,'Growth Data'!$A:$F,4,0))","v":"NO"},0,null,0,{"$f":"IF(BU60=\"YES\",IF(ISERROR(VLOOKUP($A60+8860000,'Growth Data'!$A:$Z,7,0)),0,VLOOKUP($A60+8860000,'Growth Data'!$A:$Z,7,0)),0)","v":0},0,null,"NO",{"$f":"IF(ISERROR(VLOOKUP($A60+8860000,'Growth Data'!$A:$F,5,0)),\"NO\",VLOOKUP($A60+8860000,'Growth Data'!$A:$F,5,0))","v":"NO"},0,null,0,{"$f":"IF(CC60=\"YES\",IF(ISERROR(VLOOKUP($A60+8860000,'Growth Data'!$A:$Z,8,0)),0,VLOOKUP($A60+8860000,'Growth Data'!$A:$Z,8,0)),0)","v":0},0,null,null,null,0]
[2245,"Rose Street School",null,"Rose Street School","Rose Street School",0,null,1353820.27,1353820.2690983273,0,null,6335.46,6335.4550541585777,0,null,1360155.72,1360155.7241524858,0,null,8268.2199999999993,8268.2211387999996,0,null,null,null,0,null,5.41,5.41,0,null,16189.06,null,16189,null,4381.09,null,4381,null,0,null,0,null,0,null,0,null,null,null,0,null,null,null,0,null,null,null,0,null,null,null,0,null,"NO",{"$f":"IF(ISERROR(VLOOKUP($A61+8860000,'Growth Data'!$A:$F,3,0)),\"NO\",VLOOKUP($A61+8860000,'Growth Data'!$A:$F,3,0))","v":"YES"},1,null,0,{"$f":"IF(BM61=\"YES\",IF(ISERROR(VLOOKUP($A61+8860000,'Growth Data'!$A:$F,6,0)),0,VLOOKUP($A61+8860000,'Growth Data'!$A:$F,6,0)),0)","v":30},-30,null,"NO",{"$f":"IF(ISERROR(VLOOKUP($A61+8860000,'Growth Data'!$A:$F,4,0)),\"NO\",VLOOKUP($A61+8860000,'Growth Data'!$A:$F,4,0))","v":"YES"},1,null,0,{"$f":"IF(BU61=\"YES\",IF(ISERROR(VLOOKUP($A61+8860000,'Growth Data'!$A:$Z,7,0)),0,VLOOKUP($A61+8860000,'Growth Data'!$A:$Z,7,0)),0)","v":60},-60,null,"NO",{"$f":"IF(ISERROR(VLOOKUP($A61+8860000,'Growth Data'!$A:$F,5,0)),\"NO\",VLOOKUP($A61+8860000,'Growth Data'!$A:$F,5,0))","v":"NO"},0,null,0,{"$f":"IF(CC61=\"YES\",IF(ISERROR(VLOOKUP($A61+8860000,'Growth Data'!$A:$Z,8,0)),0,VLOOKUP($A61+8860000,'Growth Data'!$A:$Z,8,0)),0)","v":0},0,null,null,null,0]
[2254,"Canterbury Road Primary School",null,"Canterbury Road Primary School","Canterbury Road Primary School",0,null,869358.81,869358.80756126565,0,null,0,0,0,null,869358.81,869358.80756126565,0,null,5366.64,5366.6404285999988,0,null,null,null,0,null,0,0,0,null,243426.63,null,243427,null,0,null,0,null,0,null,0,null,0,null,0,null,null,null,0,null,null,null,0,null,null,null,0,null,null,null,0,null,"YES",{"$f":"IF(ISERROR(VLOOKUP($A62+8860000,'Growth Data'!$A:$F,3,0)),\"NO\",VLOOKUP($A62+8860000,'Growth Data'!$A:$F,3,0))","v":"NO"},1,null,31,{"$f":"IF(BM62=\"YES\",IF(ISERROR(VLOOKUP($A62+8860000,'Growth Data'!$A:$F,6,0)),0,VLOOKUP($A62+8860000,'Growth Data'!$A:$F,6,0)),0)","v":0},31,null,"YES",{"$f":"IF(ISERROR(VLOOKUP($A62+8860000,'Growth Data'!$A:$F,4,0)),\"NO\",VLOOKUP($A62+8860000,'Growth Data'!$A:$F,4,0))","v":"NO"},1,null,30,{"$f":"IF(BU62=\"YES\",IF(ISERROR(VLOOKUP($A62+8860000,'Growth Data'!$A:$Z,7,0)),0,VLOOKUP($A62+8860000,'Growth Data'!$A:$Z,7,0)),0)","v":0},30,null,"YES",{"$f":"IF(ISERROR(VLOOKUP($A62+8860000,'Growth Data'!$A:$F,5,0)),\"NO\",VLOOKUP($A62+8860000,'Growth Data'!$A:$F,5,0))","v":"NO"},1,null,30,{"$f":"IF(CC62=\"YES\",IF(ISERROR(VLOOKUP($A62+8860000,'Growth Data'!$A:$Z,8,0)),0,VLOOKUP($A62+8860000,'Growth Data'!$A:$Z,8,0)),0)","v":0},30,null,null,null,0]
[2258,"Blean Primary School",null,"Blean Primary School","Blean Primary School",0,null,1513900,1513900,0,null,0,0,0,null,1513900,1513900,0,null,11169.8,11169.801848999999,0,null,null,null,0,null,0,0,0,null,125425.22,null,125425,null,0,null,0,null,0,null,0,null,0,null,0,null,null,null,0,null,null,null,0,null,null,null,0,null,null,null,0,null,"NO",{"$f":"IF(ISERROR(VLOOKUP($A63+8860000,'Growth Data'!$A:$F,3,0)),\"NO\",VLOOKUP($A63+8860000,'Growth Data'!$A:$F,3,0))","v":"NO"},0,null,0,{"$f":"IF(BM63=\"YES\",IF(ISERROR(VLOOKUP($A63+8860000,'Growth Data'!$A:$F,6,0)),0,VLOOKUP($A63+8860000,'Growth Data'!$A:$F,6,0)),0)","v":0},0,null,"NO",{"$f":"IF(ISERROR(VLOOKUP($A63+8860000,'Growth Data'!$A:$F,4,0)),\"NO\",VLOOKUP($A63+8860000,'Growth Data'!$A:$F,4,0))","v":"NO"},0,null,0,{"$f":"IF(BU63=\"YES\",IF(ISERROR(VLOOKUP($A63+8860000,'Growth Data'!$A:$Z,7,0)),0,VLOOKUP($A63+8860000,'Growth Data'!$A:$Z,7,0)),0)","v":0},0,null,"NO",{"$f":"IF(ISERROR(VLOOKUP($A63+8860000,'Growth Data'!$A:$F,5,0)),\"NO\",VLOOKUP($A63+8860000,'Growth Data'!$A:$F,5,0))","v":"NO"},0,null,0,{"$f":"IF(CC63=\"YES\",IF(ISERROR(VLOOKUP($A63+8860000,'Growth Data'!$A:$Z,8,0)),0,VLOOKUP($A63+8860000,'Growth Data'!$A:$Z,8,0)),0)","v":0},0,null,null,null,0]
[2259,"Chartham Primary School",null,"Chartham Primary School","Chartham Primary School",0,null,1214815.92,1214815.9154718157,0,null,0,0,0,null,1214815.92,1214815.9154718157,0,null,8987.2000000000007,8987.1968899999993,0,null,null,null,0,null,0,0,0,null,90252.51,null,90253,null,0,null,0,null,0,null,0,null,0,null,0,null,null,null,0,null,null,null,0,null,null,null,0,null,null,null,0,null,"NO",{"$f":"IF(ISERROR(VLOOKUP($A64+8860000,'Growth Data'!$A:$F,3,0)),\"NO\",VLOOKUP($A64+8860000,'Growth Data'!$A:$F,3,0))","v":"YES"},1,null,0,{"$f":"IF(BM64=\"YES\",IF(ISERROR(VLOOKUP($A64+8860000,'Growth Data'!$A:$F,6,0)),0,VLOOKUP($A64+8860000,'Growth Data'!$A:$F,6,0)),0)","v":45},-45,null,"NO",{"$f":"IF(ISERROR(VLOOKUP($A64+8860000,'Growth Data'!$A:$F,4,0)),\"NO\",VLOOKUP($A64+8860000,'Growth Data'!$A:$F,4,0))","v":"YES"},1,null,0,{"$f":"IF(BU64=\"YES\",IF(ISERROR(VLOOKUP($A64+8860000,'Growth Data'!$A:$Z,7,0)),0,VLOOKUP($A64+8860000,'Growth Data'!$A:$Z,7,0)),0)","v":60},-60,null,"NO",{"$f":"IF(ISERROR(VLOOKUP($A64+8860000,'Growth Data'!$A:$F,5,0)),\"NO\",VLOOKUP($A64+8860000,'Growth Data'!$A:$F,5,0))","v":"YES"},1,null,0,{"$f":"IF(CC64=\"YES\",IF(ISERROR(VLOOKUP($A64+8860000,'Growth Data'!$A:$Z,8,0)),0,VLOOKUP($A64+8860000,'Growth Data'!$A:$Z,8,0)),0)","v":45},-45,null,null,null,0]
[2263,"Herne Bay Infant School",null,"Herne Bay Infant School","Herne Bay Infant School",0,null,1274604.22,1274604.2159670133,0,null,0,0,0,null,1274604.22,1274604.2159670133,0,null,8858.81,8858.8083630000001,0,null,null,null,0,null,4.9000000000000004,4.9000000000000004,0,null,77501.27,null,77501,null,0,null,0,null,0,null,0,null,0,null,0,null,null,null,0,null,null,null,0,null,null,null,0,null,null,null,0,null,"NO",{"$f":"IF(ISERROR(VLOOKUP($A65+8860000,'Growth Data'!$A:$F,3,0)),\"NO\",VLOOKUP($A65+8860000,'Growth Data'!$A:$F,3,0))","v":"NO"},0,null,0,{"$f":"IF(BM65=\"YES\",IF(ISERROR(VLOOKUP($A65+8860000,'Growth Data'!$A:$F,6,0)),0,VLOOKUP($A65+8860000,'Growth Data'!$A:$F,6,0)),0)","v":0},0,null,"NO",{"$f":"IF(ISERROR(VLOOKUP($A65+8860000,'Growth Data'!$A:$F,4,0)),\"NO\",VLOOKUP($A65+8860000,'Growth Data'!$A:$F,4,0))","v":"NO"},0,null,0,{"$f":"IF(BU65=\"YES\",IF(ISERROR(VLOOKUP($A65+8860000,'Growth Data'!$A:$Z,7,0)),0,VLOOKUP($A65+8860000,'Growth Data'!$A:$Z,7,0)),0)","v":0},0,null,"YES",{"$f":"IF(ISERROR(VLOOKUP($A65+8860000,'Growth Data'!$A:$F,5,0)),\"NO\",VLOOKUP($A65+8860000,'Growth Data'!$A:$F,5,0))","v":"NO"},1,null,45,{"$f":"IF(CC65=\"YES\",IF(ISERROR(VLOOKUP($A65+8860000,'Growth Data'!$A:$Z,8,0)),0,VLOOKUP($A65+8860000,'Growth Data'!$A:$Z,8,0)),0)","v":0},45,null,null,null,0]
[2265,"Hoath Primary School",null,"Hoath Primary School","Hoath Primary School",0,null,398869.92,398869.92189959937,0,null,0,0,0,null,398869.92,398869.92189959937,0,null,2208.2800000000002,2208.2826643999997,0,null,null,null,0,null,0,0,0,null,154112.53,null,154113,null,0,null,0,null,0,null,0,null,0,null,0,null,null,null,0,null,null,null,0,null,null,null,0,null,null,null,0,null,"NO",{"$f":"IF(ISERROR(VLOOKUP($A66+8860000,'Growth Data'!$A:$F,3,0)),\"NO\",VLOOKUP($A66+8860000,'Growth Data'!$A:$F,3,0))","v":"NO"},0,null,0,{"$f":"IF(BM66=\"YES\",IF(ISERROR(VLOOKUP($A66+8860000,'Growth Data'!$A:$F,6,0)),0,VLOOKUP($A66+8860000,'Growth Data'!$A:$F,6,0)),0)","v":0},0,null,"NO",{"$f":"IF(ISERROR(VLOOKUP($A66+8860000,'Growth Data'!$A:$F,4,0)),\"NO\",VLOOKUP($A66+8860000,'Growth Data'!$A:$F,4,0))","v":"NO"},0,null,0,{"$f":"IF(BU66=\"YES\",IF(ISERROR(VLOOKUP($A66+8860000,'Growth Data'!$A:$Z,7,0)),0,VLOOKUP($A66+8860000,'Growth Data'!$A:$Z,7,0)),0)","v":0},0,null,"NO",{"$f":"IF(ISERROR(VLOOKUP($A66+8860000,'Growth Data'!$A:$F,5,0)),\"NO\",VLOOKUP($A66+8860000,'Growth Data'!$A:$F,5,0))","v":"NO"},0,null,0,{"$f":"IF(CC66=\"YES\",IF(ISERROR(VLOOKUP($A66+8860000,'Growth Data'!$A:$Z,8,0)),0,VLOOKUP($A66+8860000,'Growth Data'!$A:$Z,8,0)),0)","v":0},0,null,null,null,0]
[2268,"Westmeads Community Infant School",null,"Westmeads Community Infant School","Westmeads Community Infant School",{"$f":"IF(E67=D67,0,1)","v":0},null,681777.32,681777.31711709313,{"$f":"ROUND(H67-I67,0)","v":0},null,0,0,{"$f":"ROUND(L67-M67,0)","v":0},null,681777.32,681777.31711709313,{"$f":"ROUND(P67-Q67,0)","v":0},null,4596.3100000000004,4596.3092666000011,{"$f":"ROUND(T67-U67,0)","v":0},null,null,null,{"$f":"ROUND(X67-Y67,0)","v":0},null,0,0,{"$f":"ROUND(AB67-AC67,0)","v":0},null,28830.76,null,{"$f":"ROUND(AF67-AG67,0)","v":28831},null,3116.92,null,{"$f":"ROUND(AJ67-AK67,0)","v":3117},null,0,null,{"$f":"ROUND(AN67-AO67,0)","v":0},null,0,null,{"$f":"ROUND(AR67-AS67,0)","v":0},null,null,null,{"$f":"ROUND(AV67-AW67,0)","v":0},null,null,null,{"$f":"ROUND(AZ67-BA67,0)","v":0},null,null,null,{"$f":"ROUND(BD67-BE67,0)","v":0},null,null,null,{"$f":"ROUND(BH67-BI67,0)","v":0},null,"NO",{"$f":"IF(ISERROR(VLOOKUP($A67+8860000,'Growth Data'!$A:$F,3,0)),\"NO\",VLOOKUP($A67+8860000,'Growth Data'!$A:$F,3,0))","v":"NO"},{"$f":"IF(BL67=BM67,0,1)","v":0},null,0,{"$f":"IF(BM67=\"YES\",IF(ISERROR(VLOOKUP($A67+8860000,'Growth Data'!$A:$F,6,0)),0,VLOOKUP($A67+8860000,'Growth Data'!$A:$F,6,0)),0)","v":0},{"$f":"ROUND(BP67-BQ67,0)","v":0},null,"NO",{"$f":"IF(ISERROR(VLOOKUP($A67+8860000,'Growth Data'!$A:$F,4,0)),\"NO\",VLOOKUP($A67+8860000,'Growth Data'!$A:$F,4,0))","v":"NO"},{"$f":"IF(BT67=BU67,0,1)","v":0},null,0,{"$f":"IF(BU67=\"YES\",IF(ISERROR(VLOOKUP($A67+8860000,'Growth Data'!$A:$Z,7,0)),0,VLOOKUP($A67+8860000,'Growth Data'!$A:$Z,7,0)),0)","v":0},{"$f":"ROUND(BX67-BY67,0)","v":0},null,"NO",{"$f":"IF(ISERROR(VLOOKUP($A67+8860000,'Growth Data'!$A:$F,5,0)),\"NO\",VLOOKUP($A67+8860000,'Growth Data'!$A:$F,5,0))","v":"NO"},{"$f":"IF(CB67=CC67,0,1)","v":0},null,0,{"$f":"IF(CC67=\"YES\",IF(ISERROR(VLOOKUP($A67+8860000,'Growth Data'!$A:$Z,8,0)),0,VLOOKUP($A67+8860000,'Growth Data'!$A:$Z,8,0)),0)","v":0},{"$f":"ROUND(CF67-CG67,0)","v":0},null,null,null,{"$f":"ROUND(CJ67-CK67,0)","v":0}]
[2269,"Whitstable Junior School",null,"Whitstable Junior School","Whitstable Junior School",0,null,997161.56,997161.56150700268,0,null,0,0,0,null,997161.56,997161.56150700268,0,null,6881.63,6881.6250472000002,0,null,null,null,0,null,0,0,0,null,40555.25,null,40555,null,1944.47,null,1944,null,0,null,0,null,0,null,0,null,null,null,0,null,null,null,0,null,null,null,0,null,null,null,0,null,"NO",{"$f":"IF(ISERROR(VLOOKUP($A68+8860000,'Growth Data'!$A:$F,3,0)),\"NO\",VLOOKUP($A68+8860000,'Growth Data'!$A:$F,3,0))","v":"NO"},0,null,0,{"$f":"IF(BM68=\"YES\",IF(ISERROR(VLOOKUP($A68+8860000,'Growth Data'!$A:$F,6,0)),0,VLOOKUP($A68+8860000,'Growth Data'!$A:$F,6,0)),0)","v":0},0,null,"NO",{"$f":"IF(ISERROR(VLOOKUP($A68+8860000,'Growth Data'!$A:$F,4,0)),\"NO\",VLOOKUP($A68+8860000,'Growth Data'!$A:$F,4,0))","v":"NO"},0,null,0,{"$f":"IF(BU68=\"YES\",IF(ISERROR(VLOOKUP($A68+8860000,'Growth Data'!$A:$Z,7,0)),0,VLOOKUP($A68+8860000,'Growth Data'!$A:$Z,7,0)),0)","v":0},0,null,"NO",{"$f":"IF(ISERROR(VLOOKUP($A68+8860000,'Growth Data'!$A:$F,5,0)),\"NO\",VLOOKUP($A68+8860000,'Growth Data'!$A:$F,5,0))","v":"NO"},0,null,0,{"$f":"IF(CC68=\"YES\",IF(ISERROR(VLOOKUP($A68+8860000,'Growth Data'!$A:$Z,8,0)),0,VLOOKUP($A68+8860000,'Growth Data'!$A:$Z,8,0)),0)","v":0},0,null,null,null,0]
[2270,"Aldington Primary School",null,"Aldington Primary School","Aldington Primary School",0,null,762232.52,762232.51846664574,0,null,0,0,0,null,762232.52,762232.51846664574,0,null,5289.61,5289.6073123999995,0,null,null,null,0,null,0,0,0,null,97705.27,null,97705,null,0,null,0,null,0,null,0,null,0,null,0,null,null,null,0,null,null,null,0,null,null,null,0,null,null,null,0,null,"NO",{"$f":"IF(ISERROR(VLOOKUP($A69+8860000,'Growth Data'!$A:$F,3,0)),\"NO\",VLOOKUP($A69+8860000,'Growth Data'!$A:$F,3,0))","v":"NO"},0,null,0,{"$f":"IF(BM69=\"YES\",IF(ISERROR(VLOOKUP($A69+8860000,'Growth Data'!$A:$F,6,0)),0,VLOOKUP($A69+8860000,'Growth Data'!$A:$F,6,0)),0)","v":0},0,null,"NO",{"$f":"IF(ISERROR(VLOOKUP($A69+8860000,'Growth Data'!$A:$F,4,0)),\"NO\",VLOOKUP($A69+8860000,'Growth Data'!$A:$F,4,0))","v":"NO"},0,null,0,{"$f":"IF(BU69=\"YES\",IF(ISERROR(VLOOKUP($A69+8860000,'Growth Data'!$A:$Z,7,0)),0,VLOOKUP($A69+8860000,'Growth Data'!$A:$Z,7,0)),0)","v":0},0,null,"NO",{"$f":"IF(ISERROR(VLOOKUP($A69+8860000,'Growth Data'!$A:$F,5,0)),\"NO\",VLOOKUP($A69+8860000,'Growth Data'!$A:$F,5,0))","v":"NO"},0,null,0,{"$f":"IF(CC69=\"YES\",IF(ISERROR(VLOOKUP($A69+8860000,'Growth Data'!$A:$Z,8,0)),0,VLOOKUP($A69+8860000,'Growth Data'!$A:$Z,8,0)),0)","v":0},0,null,null,null,0]
[2272,"East Stour Primary School",null,"East Stour Primary School","East Stour Primary School",0,null,1556225.84,1556225.8360694114,0,null,0,0,0,null,1556225.84,1556225.8360694114,0,null,10476.5,10476.503803199999,0,null,null,null,0,null,4.9000000000000004,4.9000000000000004,0,null,45195.360000000001,null,45195,null,1480.46,null,1480,null,0,null,0,null,0,null,0,null,null,null,0,null,null,null,0,null,null,null,0,null,null,null,0,null,"YES",{"$f":"IF(ISERROR(VLOOKUP($A70+8860000,'Growth Data'!$A:$F,3,0)),\"NO\",VLOOKUP($A70+8860000,'Growth Data'!$A:$F,3,0))","v":"NO"},1,null,22,{"$f":"IF(BM70=\"YES\",IF(ISERROR(VLOOKUP($A70+8860000,'Growth Data'!$A:$F,6,0)),0,VLOOKUP($A70+8860000,'Growth Data'!$A:$F,6,0)),0)","v":0},22,null,"NO",{"$f":"IF(ISERROR(VLOOKUP($A70+8860000,'Growth Data'!$A:$F,4,0)),\"NO\",VLOOKUP($A70+8860000,'Growth Data'!$A:$F,4,0))","v":"NO"},0,null,0,{"$f":"IF(BU70=\"YES\",IF(ISERROR(VLOOKUP($A70+8860000,'Growth Data'!$A:$Z,7,0)),0,VLOOKUP($A70+8860000,'Growth Data'!$A:$Z,7,0)),0)","v":0},0,null,"NO",{"$f":"IF(ISERROR(VLOOKUP($A70+8860000,'Growth Data'!$A:$F,5,0)),\"NO\",VLOOKUP($A70+8860000,'Growth Data'!$A:$F,5,0))","v":"NO"},0,null,0,{"$f":"IF(CC70=\"YES\",IF(ISERROR(VLOOKUP($A70+8860000,'Growth Data'!$A:$Z,8,0)),0,VLOOKUP($A70+8860000,'Growth Data'!$A:$Z,8,0)),0)","v":0},0,null,null,null,0]
[2275,"Victoria Road Primary School",null,"Victoria Road Primary School","Victoria Road Primary School",0,null,831342.44,831342.43799014739,0,null,0,0,0,null,831342.44,831342.43799014739,0,null,5392.32,5392.3181340000001,0,null,null,null,0,null,0,0,0,null,193061.95,null,193062,null,0,null,0,null,0,null,0,null,0,null,0,null,null,null,0,null,null,null,0,null,null,null,0,null,null,null,0,null,"NO",{"$f":"IF(ISERROR(VLOOKUP($A71+8860000,'Growth Data'!$A:$F,3,0)),\"NO\",VLOOKUP($A71+8860000,'Growth Data'!$A:$F,3,0))","v":"NO"},0,null,0,{"$f":"IF(BM71=\"YES\",IF(ISERROR(VLOOKUP($A71+8860000,'Growth Data'!$A:$F,6,0)),0,VLOOKUP($A71+8860000,'Growth Data'!$A:$F,6,0)),0)","v":0},0,null,"NO",{"$f":"IF(ISERROR(VLOOKUP($A71+8860000,'Growth Data'!$A:$F,4,0)),\"NO\",VLOOKUP($A71+8860000,'Growth Data'!$A:$F,4,0))","v":"NO"},0,null,0,{"$f":"IF(BU71=\"YES\",IF(ISERROR(VLOOKUP($A71+8860000,'Growth Data'!$A:$Z,7,0)),0,VLOOKUP($A71+8860000,'Growth Data'!$A:$Z,7,0)),0)","v":0},0,null,"NO",{"$f":"IF(ISERROR(VLOOKUP($A71+8860000,'Growth Data'!$A:$F,5,0)),\"NO\",VLOOKUP($A71+8860000,'Growth Data'!$A:$F,5,0))","v":"NO"},0,null,0,{"$f":"IF(CC71=\"YES\",IF(ISERROR(VLOOKUP($A71+8860000,'Growth Data'!$A:$Z,8,0)),0,VLOOKUP($A71+8860000,'Growth Data'!$A:$Z,8,0)),0)","v":0},0,null,null,null,0]
[2276,"Willesborough Infant School",null,"Willesborough Infant School","Willesborough Infant School",0,null,1351227.25,1351227.2506524283,0,null,0,0,0,null,1351227.25,1351227.2506524283,0,null,9731.85,9731.8503466000002,0,null,null,null,0,null,0,0,0,null,92834.99,null,92835,null,0,null,0,null,0,null,0,null,0,null,0,null,null,null,0,null,null,null,0,null,null,null,0,null,null,null,0,null,"NO",{"$f":"IF(ISERROR(VLOOKUP($A72+8860000,'Growth Data'!$A:$F,3,0)),\"NO\",VLOOKUP($A72+8860000,'Growth Data'!$A:$F,3,0))","v":"NO"},0,null,0,{"$f":"IF(BM72=\"YES\",IF(ISERROR(VLOOKUP($A72+8860000,'Growth Data'!$A:$F,6,0)),0,VLOOKUP($A72+8860000,'Growth Data'!$A:$F,6,0)),0)","v":0},0,null,"NO",{"$f":"IF(ISERROR(VLOOKUP($A72+8860000,'Growth Data'!$A:$F,4,0)),\"NO\",VLOOKUP($A72+8860000,'Growth Data'!$A:$F,4,0))","v":"NO"},0,null,0,{"$f":"IF(BU72=\"YES\",IF(ISERROR(VLOOKUP($A72+8860000,'Growth Data'!$A:$Z,7,0)),0,VLOOKUP($A72+8860000,'Growth Data'!$A:$Z,7,0)),0)","v":0},0,null,"NO",{"$f":"IF(ISERROR(VLOOKUP($A72+8860000,'Growth Data'!$A:$F,5,0)),\"NO\",VLOOKUP($A72+8860000,'Growth Data'!$A:$F,5,0))","v":"NO"},0,null,0,{"$f":"IF(CC72=\"YES\",IF(ISERROR(VLOOKUP($A72+8860000,'Growth Data'!$A:$Z,8,0)),0,VLOOKUP($A72+8860000,'Growth Data'!$A:$Z,8,0)),0)","v":0},0,null,null,null,0]
[2278,"Bethersden Primary School",null,"Bethersden Primary School","Bethersden Primary School",0,null,531884.25,531884.2475939492,0,null,0,0,0,null,531884.25,531884.2475939492,0,null,3209.71,3209.7131750000003,0,null,null,null,0,null,0,0,0,null,107180.29,null,107180,null,0,null,0,null,0,null,0,null,0,null,0,null,null,null,0,null,null,null,0,null,null,null,0,null,null,null,0,null,"NO",{"$f":"IF(ISERROR(VLOOKUP($A73+8860000,'Growth Data'!$A:$F,3,0)),\"NO\",VLOOKUP($A73+8860000,'Growth Data'!$A:$F,3,0))","v":"NO"},0,null,0,{"$f":"IF(BM73=\"YES\",IF(ISERROR(VLOOKUP($A73+8860000,'Growth Data'!$A:$F,6,0)),0,VLOOKUP($A73+8860000,'Growth Data'!$A:$F,6,0)),0)","v":0},0,null,"NO",{"$f":"IF(ISERROR(VLOOKUP($A73+8860000,'Growth Data'!$A:$F,4,0)),\"NO\",VLOOKUP($A73+8860000,'Growth Data'!$A:$F,4,0))","v":"NO"},0,null,0,{"$f":"IF(BU73=\"YES\",IF(ISERROR(VLOOKUP($A73+8860000,'Growth Data'!$A:$Z,7,0)),0,VLOOKUP($A73+8860000,'Growth Data'!$A:$Z,7,0)),0)","v":0},0,null,"NO",{"$f":"IF(ISERROR(VLOOKUP($A73+8860000,'Growth Data'!$A:$F,5,0)),\"NO\",VLOOKUP($A73+8860000,'Growth Data'!$A:$F,5,0))","v":"NO"},0,null,0,{"$f":"IF(CC73=\"YES\",IF(ISERROR(VLOOKUP($A73+8860000,'Growth Data'!$A:$Z,8,0)),0,VLOOKUP($A73+8860000,'Growth Data'!$A:$Z,8,0)),0)","v":0},0,null,null,null,0]
[2279,"Brook Community Primary School",null,"Brook Community Primary School","Brook Community Primary School",0,null,403499.67,403499.66739442095,0,null,0,0,0,null,403499.67,403499.66739442095,0,null,2259.64,2259.6380752000005,0,null,null,null,0,null,0,0,0,null,39780.879999999997,null,39781,null,2021.91,null,2022,null,0,null,0,null,0,null,0,null,null,null,0,null,null,null,0,null,null,null,0,null,null,null,0,null,"NO",{"$f":"IF(ISERROR(VLOOKUP($A74+8860000,'Growth Data'!$A:$F,3,0)),\"NO\",VLOOKUP($A74+8860000,'Growth Data'!$A:$F,3,0))","v":"NO"},0,null,0,{"$f":"IF(BM74=\"YES\",IF(ISERROR(VLOOKUP($A74+8860000,'Growth Data'!$A:$F,6,0)),0,VLOOKUP($A74+8860000,'Growth Data'!$A:$F,6,0)),0)","v":0},0,null,"NO",{"$f":"IF(ISERROR(VLOOKUP($A74+8860000,'Growth Data'!$A:$F,4,0)),\"NO\",VLOOKUP($A74+8860000,'Growth Data'!$A:$F,4,0))","v":"NO"},0,null,0,{"$f":"IF(BU74=\"YES\",IF(ISERROR(VLOOKUP($A74+8860000,'Growth Data'!$A:$Z,7,0)),0,VLOOKUP($A74+8860000,'Growth Data'!$A:$Z,7,0)),0)","v":0},0,null,"NO",{"$f":"IF(ISERROR(VLOOKUP($A74+8860000,'Growth Data'!$A:$F,5,0)),\"NO\",VLOOKUP($A74+8860000,'Growth Data'!$A:$F,5,0))","v":"NO"},0,null,0,{"$f":"IF(CC74=\"YES\",IF(ISERROR(VLOOKUP($A74+8860000,'Growth Data'!$A:$Z,8,0)),0,VLOOKUP($A74+8860000,'Growth Data'!$A:$Z,8,0)),0)","v":0},0,null,null,null,0]
[2280,"Challock Primary School",null,"Challock Primary School","Challock Primary School",0,null,761997.03,761997.02937557525,0,null,0,0,0,null,761997.03,761997.02937557525,0,null,5418,5417.9958393999996,0,null,null,null,0,null,0,0,0,null,29958.71,null,29959,null,3004.13,null,3004,null,0,null,0,null,0,null,0,null,null,null,0,null,null,null,0,null,null,null,0,null,null,null,0,null,"NO",{"$f":"IF(ISERROR(VLOOKUP($A75+8860000,'Growth Data'!$A:$F,3,0)),\"NO\",VLOOKUP($A75+8860000,'Growth Data'!$A:$F,3,0))","v":"NO"},0,null,0,{"$f":"IF(BM75=\"YES\",IF(ISERROR(VLOOKUP($A75+8860000,'Growth Data'!$A:$F,6,0)),0,VLOOKUP($A75+8860000,'Growth Data'!$A:$F,6,0)),0)","v":0},0,null,"NO",{"$f":"IF(ISERROR(VLOOKUP($A75+8860000,'Growth Data'!$A:$F,4,0)),\"NO\",VLOOKUP($A75+8860000,'Growth Data'!$A:$F,4,0))","v":"NO"},0,null,0,{"$f":"IF(BU75=\"YES\",IF(ISERROR(VLOOKUP($A75+8860000,'Growth Data'!$A:$Z,7,0)),0,VLOOKUP($A75+8860000,'Growth Data'!$A:$Z,7,0)),0)","v":0},0,null,"NO",{"$f":"IF(ISERROR(VLOOKUP($A75+8860000,'Growth Data'!$A:$F,5,0)),\"NO\",VLOOKUP($A75+8860000,'Growth Data'!$A:$F,5,0))","v":"NO"},0,null,0,{"$f":"IF(CC75=\"YES\",IF(ISERROR(VLOOKUP($A75+8860000,'Growth Data'!$A:$Z,8,0)),0,VLOOKUP($A75+8860000,'Growth Data'!$A:$Z,8,0)),0)","v":0},0,null,null,null,0]
[2282,"Great Chart Primary School",null,"Great Chart Primary School","Great Chart Primary School",0,null,1679422,1679422,0,null,0,0,0,null,1679422,1679422,0,null,12402.33,12402.331708199999,0,null,null,null,0,null,0,0,0,null,40596.03,null,40596,null,1940.4,null,1940,null,0,null,0,null,0,null,0,null,null,null,0,null,null,null,0,null,null,null,0,null,null,null,0,null,"NO",{"$f":"IF(ISERROR(VLOOKUP($A76+8860000,'Growth Data'!$A:$F,3,0)),\"NO\",VLOOKUP($A76+8860000,'Growth Data'!$A:$F,3,0))","v":"NO"},0,null,0,{"$f":"IF(BM76=\"YES\",IF(ISERROR(VLOOKUP($A76+8860000,'Growth Data'!$A:$F,6,0)),0,VLOOKUP($A76+8860000,'Growth Data'!$A:$F,6,0)),0)","v":0},0,null,"NO",{"$f":"IF(ISERROR(VLOOKUP($A76+8860000,'Growth Data'!$A:$F,4,0)),\"NO\",VLOOKUP($A76+8860000,'Growth Data'!$A:$F,4,0))","v":"NO"},0,null,0,{"$f":"IF(BU76=\"YES\",IF(ISERROR(VLOOKUP($A76+8860000,'Growth Data'!$A:$Z,7,0)),0,VLOOKUP($A76+8860000,'Growth Data'!$A:$Z,7,0)),0)","v":0},0,null,"NO",{"$f":"IF(ISERROR(VLOOKUP($A76+8860000,'Growth Data'!$A:$F,5,0)),\"NO\",VLOOKUP($A76+8860000,'Growth Data'!$A:$F,5,0))","v":"NO"},0,null,0,{"$f":"IF(CC76=\"YES\",IF(ISERROR(VLOOKUP($A76+8860000,'Growth Data'!$A:$Z,8,0)),0,VLOOKUP($A76+8860000,'Growth Data'!$A:$Z,8,0)),0)","v":0},0,null,null,null,0]
[2285,"Mersham Primary School",null,"Mersham Primary School","Mersham Primary School",0,null,717710.11,717710.11067558755,0,null,0,0,0,null,717710.11,717710.11067558755,0,null,5109.8599999999997,5109.8633746000005,0,null,null,null,0,null,0,0,0,null,102641.56,null,102642,null,0,null,0,null,0,null,0,null,0,null,0,null,null,null,0,null,null,null,0,null,null,null,0,null,null,null,0,null,"NO",{"$f":"IF(ISERROR(VLOOKUP($A77+8860000,'Growth Data'!$A:$F,3,0)),\"NO\",VLOOKUP($A77+8860000,'Growth Data'!$A:$F,3,0))","v":"NO"},0,null,0,{"$f":"IF(BM77=\"YES\",IF(ISERROR(VLOOKUP($A77+8860000,'Growth Data'!$A:$F,6,0)),0,VLOOKUP($A77+8860000,'Growth Data'!$A:$F,6,0)),0)","v":0},0,null,"NO",{"$f":"IF(ISERROR(VLOOKUP($A77+8860000,'Growth Data'!$A:$F,4,0)),\"NO\",VLOOKUP($A77+8860000,'Growth Data'!$A:$F,4,0))","v":"NO"},0,null,0,{"$f":"IF(BU77=\"YES\",IF(ISERROR(VLOOKUP($A77+8860000,'Growth Data'!$A:$Z,7,0)),0,VLOOKUP($A77+8860000,'Growth Data'!$A:$Z,7,0)),0)","v":0},0,null,"NO",{"$f":"IF(ISERROR(VLOOKUP($A77+8860000,'Growth Data'!$A:$F,5,0)),\"NO\",VLOOKUP($A77+8860000,'Growth Data'!$A:$F,5,0))","v":"NO"},0,null,0,{"$f":"IF(CC77=\"YES\",IF(ISERROR(VLOOKUP($A77+8860000,'Growth Data'!$A:$Z,8,0)),0,VLOOKUP($A77+8860000,'Growth Data'!$A:$Z,8,0)),0)","v":0},0,null,null,null,0]
[2287,"Rolvenden Primary School",null,"Rolvenden Primary School","Rolvenden Primary School",0,null,484230.77,484230.77297699515,0,null,0,0,0,null,484230.77,484230.77297699515,0,null,2721.84,2721.8367724,0,null,null,null,0,null,0,0,0,null,40134,null,40134,null,1986.6,null,1987,null,0,null,0,null,0,null,0,null,null,null,0,null,null,null,0,null,null,null,0,null,null,null,0,null,"NO",{"$f":"IF(ISERROR(VLOOKUP($A78+8860000,'Growth Data'!$A:$F,3,0)),\"NO\",VLOOKUP($A78+8860000,'Growth Data'!$A:$F,3,0))","v":"NO"},0,null,0,{"$f":"IF(BM78=\"YES\",IF(ISERROR(VLOOKUP($A78+8860000,'Growth Data'!$A:$F,6,0)),0,VLOOKUP($A78+8860000,'Growth Data'!$A:$F,6,0)),0)","v":0},0,null,"NO",{"$f":"IF(ISERROR(VLOOKUP($A78+8860000,'Growth Data'!$A:$F,4,0)),\"NO\",VLOOKUP($A78+8860000,'Growth Data'!$A:$F,4,0))","v":"NO"},0,null,0,{"$f":"IF(BU78=\"YES\",IF(ISERROR(VLOOKUP($A78+8860000,'Growth Data'!$A:$Z,7,0)),0,VLOOKUP($A78+8860000,'Growth Data'!$A:$Z,7,0)),0)","v":0},0,null,"NO",{"$f":"IF(ISERROR(VLOOKUP($A78+8860000,'Growth Data'!$A:$F,5,0)),\"NO\",VLOOKUP($A78+8860000,'Growth Data'!$A:$F,5,0))","v":"NO"},0,null,0,{"$f":"IF(CC78=\"YES\",IF(ISERROR(VLOOKUP($A78+8860000,'Growth Data'!$A:$Z,8,0)),0,VLOOKUP($A78+8860000,'Growth Data'!$A:$Z,8,0)),0)","v":0},0,null,null,null,0]
[2289,"Smeeth Community Primary School",null,"Smeeth Community Primary School","Smeeth Community Primary School",0,null,546433.64,546433.64467871003,0,null,0,0,0,null,546433.64,546433.64467871003,0,null,3543.52,3543.5233452000002,0,null,null,null,0,null,0,0,0,null,42401.9,null,42402,null,1759.81,null,1760,null,0,null,0,null,0,null,0,null,null,null,0,null,null,null,0,null,null,null,0,null,null,null,0,null,"NO",{"$f":"IF(ISERROR(VLOOKUP($A79+8860000,'Growth Data'!$A:$F,3,0)),\"NO\",VLOOKUP($A79+8860000,'Growth Data'!$A:$F,3,0))","v":"NO"},0,null,0,{"$f":"IF(BM79=\"YES\",IF(ISERROR(VLOOKUP($A79+8860000,'Growth Data'!$A:$F,6,0)),0,VLOOKUP($A79+8860000,'Growth Data'!$A:$F,6,0)),0)","v":0},0,null,"NO",{"$f":"IF(ISERROR(VLOOKUP($A79+8860000,'Growth Data'!$A:$F,4,0)),\"NO\",VLOOKUP($A79+8860000,'Growth Data'!$A:$F,4,0))","v":"NO"},0,null,0,{"$f":"IF(BU79=\"YES\",IF(ISERROR(VLOOKUP($A79+8860000,'Growth Data'!$A:$Z,7,0)),0,VLOOKUP($A79+8860000,'Growth Data'!$A:$Z,7,0)),0)","v":0},0,null,"NO",{"$f":"IF(ISERROR(VLOOKUP($A79+8860000,'Growth Data'!$A:$F,5,0)),\"NO\",VLOOKUP($A79+8860000,'Growth Data'!$A:$F,5,0))","v":"NO"},0,null,0,{"$f":"IF(CC79=\"YES\",IF(ISERROR(VLOOKUP($A79+8860000,'Growth Data'!$A:$Z,8,0)),0,VLOOKUP($A79+8860000,'Growth Data'!$A:$Z,8,0)),0)","v":0},0,null,null,null,0]
[2296,"Mundella Primary School",null,"Mundella Primary School","Mundella Primary School",0,null,868622.5,868622.50211785024,0,null,0,0,0,null,868622.5,868622.50211785024,0,null,4981.47,4981.4748475999986,0,null,null,null,0,null,0,0,0,null,33598.42,null,33598,null,2640.16,null,2640,null,0,null,0,null,0,null,0,null,null,null,0,null,null,null,0,null,null,null,0,null,null,null,0,null,"NO",{"$f":"IF(ISERROR(VLOOKUP($A80+8860000,'Growth Data'!$A:$F,3,0)),\"NO\",VLOOKUP($A80+8860000,'Growth Data'!$A:$F,3,0))","v":"NO"},0,null,0,{"$f":"IF(BM80=\"YES\",IF(ISERROR(VLOOKUP($A80+8860000,'Growth Data'!$A:$F,6,0)),0,VLOOKUP($A80+8860000,'Growth Data'!$A:$F,6,0)),0)","v":0},0,null,"NO",{"$f":"IF(ISERROR(VLOOKUP($A80+8860000,'Growth Data'!$A:$F,4,0)),\"NO\",VLOOKUP($A80+8860000,'Growth Data'!$A:$F,4,0))","v":"NO"},0,null,0,{"$f":"IF(BU80=\"YES\",IF(ISERROR(VLOOKUP($A80+8860000,'Growth Data'!$A:$Z,7,0)),0,VLOOKUP($A80+8860000,'Growth Data'!$A:$Z,7,0)),0)","v":0},0,null,"NO",{"$f":"IF(ISERROR(VLOOKUP($A80+8860000,'Growth Data'!$A:$F,5,0)),\"NO\",VLOOKUP($A80+8860000,'Growth Data'!$A:$F,5,0))","v":"NO"},0,null,0,{"$f":"IF(CC80=\"YES\",IF(ISERROR(VLOOKUP($A80+8860000,'Growth Data'!$A:$Z,8,0)),0,VLOOKUP($A80+8860000,'Growth Data'!$A:$Z,8,0)),0)","v":0},0,null,null,null,0]
[2298,"Hawkinge Primary School",null,"Hawkinge Primary School","Hawkinge Primary School",0,null,1323165.77,1323165.7688930249,0,null,0,0,0,null,1323165.77,1323165.7688930249,0,null,9526.43,9526.4287034000008,0,null,null,null,0,null,0,0,0,null,153876.04,null,153876,null,0,null,0,null,0,null,0,null,0,null,0,null,null,null,0,null,null,null,0,null,null,null,0,null,null,null,0,null,"NO",{"$f":"IF(ISERROR(VLOOKUP($A81+8860000,'Growth Data'!$A:$F,3,0)),\"NO\",VLOOKUP($A81+8860000,'Growth Data'!$A:$F,3,0))","v":"YES"},1,null,0,{"$f":"IF(BM81=\"YES\",IF(ISERROR(VLOOKUP($A81+8860000,'Growth Data'!$A:$F,6,0)),0,VLOOKUP($A81+8860000,'Growth Data'!$A:$F,6,0)),0)","v":47},-47,null,"NO",{"$f":"IF(ISERROR(VLOOKUP($A81+8860000,'Growth Data'!$A:$F,4,0)),\"NO\",VLOOKUP($A81+8860000,'Growth Data'!$A:$F,4,0))","v":"NO"},0,null,0,{"$f":"IF(BU81=\"YES\",IF(ISERROR(VLOOKUP($A81+8860000,'Growth Data'!$A:$Z,7,0)),0,VLOOKUP($A81+8860000,'Growth Data'!$A:$Z,7,0)),0)","v":0},0,null,"NO",{"$f":"IF(ISERROR(VLOOKUP($A81+8860000,'Growth Data'!$A:$F,5,0)),\"NO\",VLOOKUP($A81+8860000,'Growth Data'!$A:$F,5,0))","v":"NO"},0,null,0,{"$f":"IF(CC81=\"YES\",IF(ISERROR(VLOOKUP($A81+8860000,'Growth Data'!$A:$Z,8,0)),0,VLOOKUP($A81+8860000,'Growth Data'!$A:$Z,8,0)),0)","v":0},0,null,null,null,0]
[2300,"Sellindge Primary School",null,"Sellindge Primary School","Sellindge Primary School",0,null,465876.38,465876.37942039763,0,null,0,0,0,null,465876.38,465876.37942039763,0,null,2850.23,2850.2252994,0,null,null,null,0,null,0,0,0,null,133182.31,null,133182,null,0,null,0,null,0,null,0,null,0,null,0,null,null,null,0,null,null,null,0,null,null,null,0,null,null,null,0,null,"YES",{"$f":"IF(ISERROR(VLOOKUP($A82+8860000,'Growth Data'!$A:$F,3,0)),\"NO\",VLOOKUP($A82+8860000,'Growth Data'!$A:$F,3,0))","v":"NO"},1,null,45,{"$f":"IF(BM82=\"YES\",IF(ISERROR(VLOOKUP($A82+8860000,'Growth Data'!$A:$F,6,0)),0,VLOOKUP($A82+8860000,'Growth Data'!$A:$F,6,0)),0)","v":0},45,null,"YES",{"$f":"IF(ISERROR(VLOOKUP($A82+8860000,'Growth Data'!$A:$F,4,0)),\"NO\",VLOOKUP($A82+8860000,'Growth Data'!$A:$F,4,0))","v":"NO"},1,null,45,{"$f":"IF(BU82=\"YES\",IF(ISERROR(VLOOKUP($A82+8860000,'Growth Data'!$A:$Z,7,0)),0,VLOOKUP($A82+8860000,'Growth Data'!$A:$Z,7,0)),0)","v":0},45,null,"NO",{"$f":"IF(ISERROR(VLOOKUP($A82+8860000,'Growth Data'!$A:$F,5,0)),\"NO\",VLOOKUP($A82+8860000,'Growth Data'!$A:$F,5,0))","v":"NO"},0,null,0,{"$f":"IF(CC82=\"YES\",IF(ISERROR(VLOOKUP($A82+8860000,'Growth Data'!$A:$Z,8,0)),0,VLOOKUP($A82+8860000,'Growth Data'!$A:$Z,8,0)),0)","v":0},0,null,null,null,0]
[2312,"River Primary School",null,"River Primary School","River Primary School",0,null,1495169.47,1495169.4659156231,0,null,0,0,0,null,1495169.47,1495169.4659156231,0,null,10990.06,10990.057911200001,0,null,null,null,0,null,0,0,0,null,23722.01,null,23722,null,3627.8,null,3628,null,0,null,0,null,0,null,0,null,null,null,0,null,null,null,0,null,null,null,0,null,null,null,0,null,"NO",{"$f":"IF(ISERROR(VLOOKUP($A83+8860000,'Growth Data'!$A:$F,3,0)),\"NO\",VLOOKUP($A83+8860000,'Growth Data'!$A:$F,3,0))","v":"NO"},0,null,0,{"$f":"IF(BM83=\"YES\",IF(ISERROR(VLOOKUP($A83+8860000,'Growth Data'!$A:$F,6,0)),0,VLOOKUP($A83+8860000,'Growth Data'!$A:$F,6,0)),0)","v":0},0,null,"NO",{"$f":"IF(ISERROR(VLOOKUP($A83+8860000,'Growth Data'!$A:$F,4,0)),\"NO\",VLOOKUP($A83+8860000,'Growth Data'!$A:$F,4,0))","v":"NO"},0,null,0,{"$f":"IF(BU83=\"YES\",IF(ISERROR(VLOOKUP($A83+8860000,'Growth Data'!$A:$Z,7,0)),0,VLOOKUP($A83+8860000,'Growth Data'!$A:$Z,7,0)),0)","v":0},0,null,"NO",{"$f":"IF(ISERROR(VLOOKUP($A83+8860000,'Growth Data'!$A:$F,5,0)),\"NO\",VLOOKUP($A83+8860000,'Growth Data'!$A:$F,5,0))","v":"NO"},0,null,0,{"$f":"IF(CC83=\"YES\",IF(ISERROR(VLOOKUP($A83+8860000,'Growth Data'!$A:$Z,8,0)),0,VLOOKUP($A83+8860000,'Growth Data'!$A:$Z,8,0)),0)","v":0},0,null,null,null,0]
[2318,"Langdon Primary School",null,"Langdon Primary School","Langdon Primary School",0,null,377042.56,377042.56450084626,0,null,0,0,0,null,377042.56,377042.56450084626,0,null,2105.5700000000002,2105.5718428000005,0,null,null,null,0,null,0,0,0,null,136965.84,null,136966,null,0,null,0,null,0,null,0,null,0,null,0,null,null,null,0,null,null,null,0,null,null,null,0,null,null,null,0,null,"NO",{"$f":"IF(ISERROR(VLOOKUP($A84+8860000,'Growth Data'!$A:$F,3,0)),\"NO\",VLOOKUP($A84+8860000,'Growth Data'!$A:$F,3,0))","v":"NO"},0,null,0,{"$f":"IF(BM84=\"YES\",IF(ISERROR(VLOOKUP($A84+8860000,'Growth Data'!$A:$F,6,0)),0,VLOOKUP($A84+8860000,'Growth Data'!$A:$F,6,0)),0)","v":0},0,null,"NO",{"$f":"IF(ISERROR(VLOOKUP($A84+8860000,'Growth Data'!$A:$F,4,0)),\"NO\",VLOOKUP($A84+8860000,'Growth Data'!$A:$F,4,0))","v":"NO"},0,null,0,{"$f":"IF(BU84=\"YES\",IF(ISERROR(VLOOKUP($A84+8860000,'Growth Data'!$A:$Z,7,0)),0,VLOOKUP($A84+8860000,'Growth Data'!$A:$Z,7,0)),0)","v":0},0,null,"NO",{"$f":"IF(ISERROR(VLOOKUP($A84+8860000,'Growth Data'!$A:$F,5,0)),\"NO\",VLOOKUP($A84+8860000,'Growth Data'!$A:$F,5,0))","v":"NO"},0,null,0,{"$f":"IF(CC84=\"YES\",IF(ISERROR(VLOOKUP($A84+8860000,'Growth Data'!$A:$Z,8,0)),0,VLOOKUP($A84+8860000,'Growth Data'!$A:$Z,8,0)),0)","v":0},0,null,null,null,0]
[2320,"Eythorne Elvington Community Primary School",null,"Eythorne Elvington Community Primary School","Eythorne Elvington Community Primary School",0,null,496016.76,496016.7557554355,0,null,0,0,0,null,496016.76,496016.7557554355,0,null,2644.8,2644.8036561999998,0,null,null,null,0,null,0,0,0,null,25287.16,null,25287,null,3471.28,null,3471,null,0,null,0,null,0,null,0,null,null,null,0,null,null,null,0,null,null,null,0,null,null,null,0,null,"NO",{"$f":"IF(ISERROR(VLOOKUP($A85+8860000,'Growth Data'!$A:$F,3,0)),\"NO\",VLOOKUP($A85+8860000,'Growth Data'!$A:$F,3,0))","v":"NO"},0,null,0,{"$f":"IF(BM85=\"YES\",IF(ISERROR(VLOOKUP($A85+8860000,'Growth Data'!$A:$F,6,0)),0,VLOOKUP($A85+8860000,'Growth Data'!$A:$F,6,0)),0)","v":0},0,null,"NO",{"$f":"IF(ISERROR(VLOOKUP($A85+8860000,'Growth Data'!$A:$F,4,0)),\"NO\",VLOOKUP($A85+8860000,'Growth Data'!$A:$F,4,0))","v":"NO"},0,null,0,{"$f":"IF(BU85=\"YES\",IF(ISERROR(VLOOKUP($A85+8860000,'Growth Data'!$A:$Z,7,0)),0,VLOOKUP($A85+8860000,'Growth Data'!$A:$Z,7,0)),0)","v":0},0,null,"NO",{"$f":"IF(ISERROR(VLOOKUP($A85+8860000,'Growth Data'!$A:$F,5,0)),\"NO\",VLOOKUP($A85+8860000,'Growth Data'!$A:$F,5,0))","v":"NO"},0,null,0,{"$f":"IF(CC85=\"YES\",IF(ISERROR(VLOOKUP($A85+8860000,'Growth Data'!$A:$Z,8,0)),0,VLOOKUP($A85+8860000,'Growth Data'!$A:$Z,8,0)),0)","v":0},0,null,null,null,0]
[2321,"Lydden Primary School",null,"Lydden Primary School","Lydden Primary School",0,null,394742.47,394742.46671796223,0,null,0,0,0,null,394742.47,394742.46671796223,0,null,2310.9899999999998,2310.9934859999998,0,null,null,null,0,null,0,0,0,null,55151.72,null,55152,null,484.83,null,485,null,48000,null,48000,null,72000,null,72000,null,null,null,0,null,null,null,0,null,null,null,0,null,null,null,0,null,"NO",{"$f":"IF(ISERROR(VLOOKUP($A86+8860000,'Growth Data'!$A:$F,3,0)),\"NO\",VLOOKUP($A86+8860000,'Growth Data'!$A:$F,3,0))","v":"NO"},0,null,0,{"$f":"IF(BM86=\"YES\",IF(ISERROR(VLOOKUP($A86+8860000,'Growth Data'!$A:$F,6,0)),0,VLOOKUP($A86+8860000,'Growth Data'!$A:$F,6,0)),0)","v":0},0,null,"NO",{"$f":"IF(ISERROR(VLOOKUP($A86+8860000,'Growth Data'!$A:$F,4,0)),\"NO\",VLOOKUP($A86+8860000,'Growth Data'!$A:$F,4,0))","v":"NO"},0,null,0,{"$f":"IF(BU86=\"YES\",IF(ISERROR(VLOOKUP($A86+8860000,'Growth Data'!$A:$Z,7,0)),0,VLOOKUP($A86+8860000,'Growth Data'!$A:$Z,7,0)),0)","v":0},0,null,"NO",{"$f":"IF(ISERROR(VLOOKUP($A86+8860000,'Growth Data'!$A:$F,5,0)),\"NO\",VLOOKUP($A86+8860000,'Growth Data'!$A:$F,5,0))","v":"NO"},0,null,0,{"$f":"IF(CC86=\"YES\",IF(ISERROR(VLOOKUP($A86+8860000,'Growth Data'!$A:$Z,8,0)),0,VLOOKUP($A86+8860000,'Growth Data'!$A:$Z,8,0)),0)","v":0},0,null,null,null,0]
[2322,"Preston Primary School",null,"Preston Primary School","Preston Primary School",0,null,506871.58,506871.57956617628,0,null,0,0,0,null,506871.58,506871.57956617628,0,null,3107,3107.0023534000002,0,null,null,null,0,null,0,0,0,null,22481.62,null,22482,null,3751.84,null,3752,null,0,null,0,null,0,null,0,null,null,null,0,null,null,null,0,null,null,null,0,null,null,null,0,null,"NO",{"$f":"IF(ISERROR(VLOOKUP($A87+8860000,'Growth Data'!$A:$F,3,0)),\"NO\",VLOOKUP($A87+8860000,'Growth Data'!$A:$F,3,0))","v":"NO"},0,null,0,{"$f":"IF(BM87=\"YES\",IF(ISERROR(VLOOKUP($A87+8860000,'Growth Data'!$A:$F,6,0)),0,VLOOKUP($A87+8860000,'Growth Data'!$A:$F,6,0)),0)","v":0},0,null,"NO",{"$f":"IF(ISERROR(VLOOKUP($A87+8860000,'Growth Data'!$A:$F,4,0)),\"NO\",VLOOKUP($A87+8860000,'Growth Data'!$A:$F,4,0))","v":"NO"},0,null,0,{"$f":"IF(BU87=\"YES\",IF(ISERROR(VLOOKUP($A87+8860000,'Growth Data'!$A:$Z,7,0)),0,VLOOKUP($A87+8860000,'Growth Data'!$A:$Z,7,0)),0)","v":0},0,null,"NO",{"$f":"IF(ISERROR(VLOOKUP($A87+8860000,'Growth Data'!$A:$F,5,0)),\"NO\",VLOOKUP($A87+8860000,'Growth Data'!$A:$F,5,0))","v":"NO"},0,null,0,{"$f":"IF(CC87=\"YES\",IF(ISERROR(VLOOKUP($A87+8860000,'Growth Data'!$A:$Z,8,0)),0,VLOOKUP($A87+8860000,'Growth Data'!$A:$Z,8,0)),0)","v":0},0,null,null,null,0]
[2326,"Wingham Primary School",null,"Wingham Primary School","Wingham Primary School",0,null,749443.94,749443.93760281312,0,null,0,0,0,null,749443.94,749443.93760281312,0,null,5084.1899999999996,5084.1856692000001,0,null,null,null,0,null,0,0,0,null,34040.18,null,34040,null,2595.98,null,2596,null,0,null,0,null,0,null,0,null,null,null,0,null,null,null,0,null,null,null,0,null,null,null,0,null,"NO",{"$f":"IF(ISERROR(VLOOKUP($A88+8860000,'Growth Data'!$A:$F,3,0)),\"NO\",VLOOKUP($A88+8860000,'Growth Data'!$A:$F,3,0))","v":"NO"},0,null,0,{"$f":"IF(BM88=\"YES\",IF(ISERROR(VLOOKUP($A88+8860000,'Growth Data'!$A:$F,6,0)),0,VLOOKUP($A88+8860000,'Growth Data'!$A:$F,6,0)),0)","v":0},0,null,"NO",{"$f":"IF(ISERROR(VLOOKUP($A88+8860000,'Growth Data'!$A:$F,4,0)),\"NO\",VLOOKUP($A88+8860000,'Growth Data'!$A:$F,4,0))","v":"NO"},0,null,0,{"$f":"IF(BU88=\"YES\",IF(ISERROR(VLOOKUP($A88+8860000,'Growth Data'!$A:$Z,7,0)),0,VLOOKUP($A88+8860000,'Growth Data'!$A:$Z,7,0)),0)","v":0},0,null,"NO",{"$f":"IF(ISERROR(VLOOKUP($A88+8860000,'Growth Data'!$A:$F,5,0)),\"NO\",VLOOKUP($A88+8860000,'Growth Data'!$A:$F,5,0))","v":"NO"},0,null,0,{"$f":"IF(CC88=\"YES\",IF(ISERROR(VLOOKUP($A88+8860000,'Growth Data'!$A:$Z,8,0)),0,VLOOKUP($A88+8860000,'Growth Data'!$A:$Z,8,0)),0)","v":0},0,null,null,null,0]
[2327,"Worth Primary School",null,"Worth Primary School","Worth Primary School",0,null,331137.38,331137.37618963287,0,null,0,0,0,null,331137.38,331137.37618963287,0,null,1694.73,1694.7285563999997,0,null,null,null,0,null,0,0,0,null,43991.02,null,43991,null,1600.9,null,1601,null,0,null,0,null,0,null,0,null,null,null,0,null,null,null,0,null,null,null,0,null,null,null,0,null,"NO",{"$f":"IF(ISERROR(VLOOKUP($A89+8860000,'Growth Data'!$A:$F,3,0)),\"NO\",VLOOKUP($A89+8860000,'Growth Data'!$A:$F,3,0))","v":"NO"},0,null,0,{"$f":"IF(BM89=\"YES\",IF(ISERROR(VLOOKUP($A89+8860000,'Growth Data'!$A:$F,6,0)),0,VLOOKUP($A89+8860000,'Growth Data'!$A:$F,6,0)),0)","v":0},0,null,"NO",{"$f":"IF(ISERROR(VLOOKUP($A89+8860000,'Growth Data'!$A:$F,4,0)),\"NO\",VLOOKUP($A89+8860000,'Growth Data'!$A:$F,4,0))","v":"NO"},0,null,0,{"$f":"IF(BU89=\"YES\",IF(ISERROR(VLOOKUP($A89+8860000,'Growth Data'!$A:$Z,7,0)),0,VLOOKUP($A89+8860000,'Growth Data'!$A:$Z,7,0)),0)","v":0},0,null,"NO",{"$f":"IF(ISERROR(VLOOKUP($A89+8860000,'Growth Data'!$A:$F,5,0)),\"NO\",VLOOKUP($A89+8860000,'Growth Data'!$A:$F,5,0))","v":"NO"},0,null,0,{"$f":"IF(CC89=\"YES\",IF(ISERROR(VLOOKUP($A89+8860000,'Growth Data'!$A:$Z,8,0)),0,VLOOKUP($A89+8860000,'Growth Data'!$A:$Z,8,0)),0)","v":0},0,null,null,null,0]
[2328,"St Mildred's Primary Infant School",null,"St Mildred's Primary Infant School","St Mildred's Primary Infant School",0,null,989941.46,989941.45705560292,0,null,0,0,0,null,989941.46,989941.45705560292,0,null,6932.98,6932.980458,0,null,null,null,0,null,0,0,0,null,23554.17,null,23554,null,3644.58,null,3645,null,0,null,0,null,0,null,0,null,null,null,0,null,null,null,0,null,null,null,0,null,null,null,0,null,"NO",{"$f":"IF(ISERROR(VLOOKUP($A90+8860000,'Growth Data'!$A:$F,3,0)),\"NO\",VLOOKUP($A90+8860000,'Growth Data'!$A:$F,3,0))","v":"NO"},0,null,0,{"$f":"IF(BM90=\"YES\",IF(ISERROR(VLOOKUP($A90+8860000,'Growth Data'!$A:$F,6,0)),0,VLOOKUP($A90+8860000,'Growth Data'!$A:$F,6,0)),0)","v":0},0,null,"NO",{"$f":"IF(ISERROR(VLOOKUP($A90+8860000,'Growth Data'!$A:$F,4,0)),\"NO\",VLOOKUP($A90+8860000,'Growth Data'!$A:$F,4,0))","v":"NO"},0,null,0,{"$f":"IF(BU90=\"YES\",IF(ISERROR(VLOOKUP($A90+8860000,'Growth Data'!$A:$Z,7,0)),0,VLOOKUP($A90+8860000,'Growth Data'!$A:$Z,7,0)),0)","v":0},0,null,"NO",{"$f":"IF(ISERROR(VLOOKUP($A90+8860000,'Growth Data'!$A:$F,5,0)),\"NO\",VLOOKUP($A90+8860000,'Growth Data'!$A:$F,5,0))","v":"NO"},0,null,0,{"$f":"IF(CC90=\"YES\",IF(ISERROR(VLOOKUP($A90+8860000,'Growth Data'!$A:$Z,8,0)),0,VLOOKUP($A90+8860000,'Growth Data'!$A:$Z,8,0)),0)","v":0},0,null,null,null,0]
[2329,"Callis Grange Nursery & Infant School",null,"Callis Grange Nursery & Infant School","Callis Grange Nursery & Infant School",0,null,1013391.05,1013391.0493283081,0,null,0,0,0,null,1013391.05,1013391.0493283081,0,null,6855.95,6855.9473417999998,0,null,null,null,0,null,4.9000000000000004,4.9000000000000004,0,null,79570.81,null,79571,null,0,null,0,null,0,null,0,null,0,null,0,null,null,null,0,null,null,null,0,null,null,null,0,null,null,null,0,null,"NO",{"$f":"IF(ISERROR(VLOOKUP($A91+8860000,'Growth Data'!$A:$F,3,0)),\"NO\",VLOOKUP($A91+8860000,'Growth Data'!$A:$F,3,0))","v":"NO"},0,null,0,{"$f":"IF(BM91=\"YES\",IF(ISERROR(VLOOKUP($A91+8860000,'Growth Data'!$A:$F,6,0)),0,VLOOKUP($A91+8860000,'Growth Data'!$A:$F,6,0)),0)","v":0},0,null,"NO",{"$f":"IF(ISERROR(VLOOKUP($A91+8860000,'Growth Data'!$A:$F,4,0)),\"NO\",VLOOKUP($A91+8860000,'Growth Data'!$A:$F,4,0))","v":"NO"},0,null,0,{"$f":"IF(BU91=\"YES\",IF(ISERROR(VLOOKUP($A91+8860000,'Growth Data'!$A:$Z,7,0)),0,VLOOKUP($A91+8860000,'Growth Data'!$A:$Z,7,0)),0)","v":0},0,null,"NO",{"$f":"IF(ISERROR(VLOOKUP($A91+8860000,'Growth Data'!$A:$F,5,0)),\"NO\",VLOOKUP($A91+8860000,'Growth Data'!$A:$F,5,0))","v":"NO"},0,null,0,{"$f":"IF(CC91=\"YES\",IF(ISERROR(VLOOKUP($A91+8860000,'Growth Data'!$A:$Z,8,0)),0,VLOOKUP($A91+8860000,'Growth Data'!$A:$Z,8,0)),0)","v":0},0,null,null,null,0]
[2337,"St Crispin's Community Primary Infant School",null,"St Crispin's Community Primary Infant School","St Crispin's Community Primary Infant School",0,null,961038.34,961038.33787233464,0,null,0,0,0,null,961038.34,961038.33787233464,0,null,6881.63,6881.6250472000002,0,null,null,null,0,null,0,0,0,null,92366.26,null,92366,null,0,null,0,null,0,null,0,null,0,null,0,null,null,null,0,null,null,null,0,null,null,null,0,null,null,null,0,null,"NO",{"$f":"IF(ISERROR(VLOOKUP($A92+8860000,'Growth Data'!$A:$F,3,0)),\"NO\",VLOOKUP($A92+8860000,'Growth Data'!$A:$F,3,0))","v":"NO"},0,null,0,{"$f":"IF(BM92=\"YES\",IF(ISERROR(VLOOKUP($A92+8860000,'Growth Data'!$A:$F,6,0)),0,VLOOKUP($A92+8860000,'Growth Data'!$A:$F,6,0)),0)","v":0},0,null,"NO",{"$f":"IF(ISERROR(VLOOKUP($A92+8860000,'Growth Data'!$A:$F,4,0)),\"NO\",VLOOKUP($A92+8860000,'Growth Data'!$A:$F,4,0))","v":"NO"},0,null,0,{"$f":"IF(BU92=\"YES\",IF(ISERROR(VLOOKUP($A92+8860000,'Growth Data'!$A:$Z,7,0)),0,VLOOKUP($A92+8860000,'Growth Data'!$A:$Z,7,0)),0)","v":0},0,null,"NO",{"$f":"IF(ISERROR(VLOOKUP($A92+8860000,'Growth Data'!$A:$F,5,0)),\"NO\",VLOOKUP($A92+8860000,'Growth Data'!$A:$F,5,0))","v":"NO"},0,null,0,{"$f":"IF(CC92=\"YES\",IF(ISERROR(VLOOKUP($A92+8860000,'Growth Data'!$A:$Z,8,0)),0,VLOOKUP($A92+8860000,'Growth Data'!$A:$Z,8,0)),0)","v":0},0,null,null,null,0]
[2340,"Ellington Infant School",null,"Ellington Infant School","Ellington Infant School",0,null,850195.46,850195.46229299437,0,null,0,0,0,null,850195.46,850195.46229299437,0,null,5212.57,5212.5741962000011,0,null,null,null,0,null,0,0,0,null,69898.52,null,69899,null,0,null,0,null,0,null,0,null,0,null,0,null,null,null,0,null,null,null,0,null,null,null,0,null,null,null,0,null,"NO",{"$f":"IF(ISERROR(VLOOKUP($A93+8860000,'Growth Data'!$A:$F,3,0)),\"NO\",VLOOKUP($A93+8860000,'Growth Data'!$A:$F,3,0))","v":"NO"},0,null,0,{"$f":"IF(BM93=\"YES\",IF(ISERROR(VLOOKUP($A93+8860000,'Growth Data'!$A:$F,6,0)),0,VLOOKUP($A93+8860000,'Growth Data'!$A:$F,6,0)),0)","v":0},0,null,"NO",{"$f":"IF(ISERROR(VLOOKUP($A93+8860000,'Growth Data'!$A:$F,4,0)),\"NO\",VLOOKUP($A93+8860000,'Growth Data'!$A:$F,4,0))","v":"NO"},0,null,0,{"$f":"IF(BU93=\"YES\",IF(ISERROR(VLOOKUP($A93+8860000,'Growth Data'!$A:$Z,7,0)),0,VLOOKUP($A93+8860000,'Growth Data'!$A:$Z,7,0)),0)","v":0},0,null,"NO",{"$f":"IF(ISERROR(VLOOKUP($A93+8860000,'Growth Data'!$A:$F,5,0)),\"NO\",VLOOKUP($A93+8860000,'Growth Data'!$A:$F,5,0))","v":"NO"},0,null,0,{"$f":"IF(CC93=\"YES\",IF(ISERROR(VLOOKUP($A93+8860000,'Growth Data'!$A:$Z,8,0)),0,VLOOKUP($A93+8860000,'Growth Data'!$A:$Z,8,0)),0)","v":0},0,null,null,null,0]
[2345,"Priory Infant School",null,"Priory Infant School","Priory Infant School",0,null,756762.3,756762.30335076037,0,null,0,0,0,null,756762.3,756762.30335076037,0,null,4596.3100000000004,4596.3092666000011,0,null,null,null,0,null,0,0,0,null,113224.37,null,113224,null,0,null,0,null,0,null,0,null,0,null,0,null,null,null,0,null,null,null,0,null,null,null,0,null,null,null,0,null,"NO",{"$f":"IF(ISERROR(VLOOKUP($A94+8860000,'Growth Data'!$A:$F,3,0)),\"NO\",VLOOKUP($A94+8860000,'Growth Data'!$A:$F,3,0))","v":"NO"},0,null,0,{"$f":"IF(BM94=\"YES\",IF(ISERROR(VLOOKUP($A94+8860000,'Growth Data'!$A:$F,6,0)),0,VLOOKUP($A94+8860000,'Growth Data'!$A:$F,6,0)),0)","v":0},0,null,"NO",{"$f":"IF(ISERROR(VLOOKUP($A94+8860000,'Growth Data'!$A:$F,4,0)),\"NO\",VLOOKUP($A94+8860000,'Growth Data'!$A:$F,4,0))","v":"NO"},0,null,0,{"$f":"IF(BU94=\"YES\",IF(ISERROR(VLOOKUP($A94+8860000,'Growth Data'!$A:$Z,7,0)),0,VLOOKUP($A94+8860000,'Growth Data'!$A:$Z,7,0)),0)","v":0},0,null,"NO",{"$f":"IF(ISERROR(VLOOKUP($A94+8860000,'Growth Data'!$A:$F,5,0)),\"NO\",VLOOKUP($A94+8860000,'Growth Data'!$A:$F,5,0))","v":"NO"},0,null,0,{"$f":"IF(CC94=\"YES\",IF(ISERROR(VLOOKUP($A94+8860000,'Growth Data'!$A:$Z,8,0)),0,VLOOKUP($A94+8860000,'Growth Data'!$A:$Z,8,0)),0)","v":0},0,null,null,null,0]
[2431,"Shears Green Junior School",null,"Shears Green Junior School","Shears Green Junior School",0,null,1678178.13,1678178.1322888494,0,null,0,0,0,null,1678178.13,1678178.1322888494,0,null,12299.62,12299.620886599996,0,null,null,null,0,null,0,0,0,null,92397.42,null,92397,null,0,null,0,null,0,null,0,null,0,null,0,null,null,null,0,null,null,null,0,null,null,null,0,null,null,null,0,null,"NO",{"$f":"IF(ISERROR(VLOOKUP($A95+8860000,'Growth Data'!$A:$F,3,0)),\"NO\",VLOOKUP($A95+8860000,'Growth Data'!$A:$F,3,0))","v":"NO"},0,null,0,{"$f":"IF(BM95=\"YES\",IF(ISERROR(VLOOKUP($A95+8860000,'Growth Data'!$A:$F,6,0)),0,VLOOKUP($A95+8860000,'Growth Data'!$A:$F,6,0)),0)","v":0},0,null,"NO",{"$f":"IF(ISERROR(VLOOKUP($A95+8860000,'Growth Data'!$A:$F,4,0)),\"NO\",VLOOKUP($A95+8860000,'Growth Data'!$A:$F,4,0))","v":"NO"},0,null,0,{"$f":"IF(BU95=\"YES\",IF(ISERROR(VLOOKUP($A95+8860000,'Growth Data'!$A:$Z,7,0)),0,VLOOKUP($A95+8860000,'Growth Data'!$A:$Z,7,0)),0)","v":0},0,null,"NO",{"$f":"IF(ISERROR(VLOOKUP($A95+8860000,'Growth Data'!$A:$F,5,0)),\"NO\",VLOOKUP($A95+8860000,'Growth Data'!$A:$F,5,0))","v":"NO"},0,null,0,{"$f":"IF(CC95=\"YES\",IF(ISERROR(VLOOKUP($A95+8860000,'Growth Data'!$A:$Z,8,0)),0,VLOOKUP($A95+8860000,'Growth Data'!$A:$Z,8,0)),0)","v":0},0,null,null,null,0]
[2434,"West Minster Primary School",null,"West Minster Primary School","West Minster Primary School",0,null,1797729.34,1797729.3427273666,0,null,0,0,0,null,1797729.34,1797729.3427273666,0,null,11323.87,11323.8680814,0,null,null,null,0,null,5.51,5.51,0,null,164462.01,null,164462,null,0,null,0,null,0,null,0,null,0,null,0,null,null,null,0,null,null,null,0,null,null,null,0,null,null,null,0,null,"NO",{"$f":"IF(ISERROR(VLOOKUP($A96+8860000,'Growth Data'!$A:$F,3,0)),\"NO\",VLOOKUP($A96+8860000,'Growth Data'!$A:$F,3,0))","v":"YES"},1,null,0,{"$f":"IF(BM96=\"YES\",IF(ISERROR(VLOOKUP($A96+8860000,'Growth Data'!$A:$F,6,0)),0,VLOOKUP($A96+8860000,'Growth Data'!$A:$F,6,0)),0)","v":63},-63,null,"NO",{"$f":"IF(ISERROR(VLOOKUP($A96+8860000,'Growth Data'!$A:$F,4,0)),\"NO\",VLOOKUP($A96+8860000,'Growth Data'!$A:$F,4,0))","v":"YES"},1,null,0,{"$f":"IF(BU96=\"YES\",IF(ISERROR(VLOOKUP($A96+8860000,'Growth Data'!$A:$Z,7,0)),0,VLOOKUP($A96+8860000,'Growth Data'!$A:$Z,7,0)),0)","v":90},-90,null,"NO",{"$f":"IF(ISERROR(VLOOKUP($A96+8860000,'Growth Data'!$A:$F,5,0)),\"NO\",VLOOKUP($A96+8860000,'Growth Data'!$A:$F,5,0))","v":"YES"},1,null,0,{"$f":"IF(CC96=\"YES\",IF(ISERROR(VLOOKUP($A96+8860000,'Growth Data'!$A:$Z,8,0)),0,VLOOKUP($A96+8860000,'Growth Data'!$A:$Z,8,0)),0)","v":60},-60,null,null,null,0]
[2454,"Aycliffe Community Primary School",null,"Aycliffe Community Primary School","Aycliffe Community Primary School",0,null,612913.06000000006,612913.0640998024,0,null,0,0,0,null,612913.06000000006,612913.0640998024,0,null,3261.07,3261.0685858000006,0,null,null,null,0,null,0,0,0,null,317536.88,null,317537,null,0,null,0,null,0,null,0,null,0,null,0,null,null,null,0,null,null,null,0,null,null,null,0,null,null,null,0,null,"NO",{"$f":"IF(ISERROR(VLOOKUP($A97+8860000,'Growth Data'!$A:$F,3,0)),\"NO\",VLOOKUP($A97+8860000,'Growth Data'!$A:$F,3,0))","v":"NO"},0,null,0,{"$f":"IF(BM97=\"YES\",IF(ISERROR(VLOOKUP($A97+8860000,'Growth Data'!$A:$F,6,0)),0,VLOOKUP($A97+8860000,'Growth Data'!$A:$F,6,0)),0)","v":0},0,null,"NO",{"$f":"IF(ISERROR(VLOOKUP($A97+8860000,'Growth Data'!$A:$F,4,0)),\"NO\",VLOOKUP($A97+8860000,'Growth Data'!$A:$F,4,0))","v":"NO"},0,null,0,{"$f":"IF(BU97=\"YES\",IF(ISERROR(VLOOKUP($A97+8860000,'Growth Data'!$A:$Z,7,0)),0,VLOOKUP($A97+8860000,'Growth Data'!$A:$Z,7,0)),0)","v":0},0,null,"YES",{"$f":"IF(ISERROR(VLOOKUP($A97+8860000,'Growth Data'!$A:$F,5,0)),\"NO\",VLOOKUP($A97+8860000,'Growth Data'!$A:$F,5,0))","v":"NO"},1,null,60,{"$f":"IF(CC97=\"YES\",IF(ISERROR(VLOOKUP($A97+8860000,'Growth Data'!$A:$Z,8,0)),0,VLOOKUP($A97+8860000,'Growth Data'!$A:$Z,8,0)),0)","v":0},60,null,null,null,0]
[2459,"Riverhead Infant School",null,"Riverhead Infant School","Riverhead Infant School",0,null,960427.37,960427.36543086008,0,null,0,0,0,null,960427.37,960427.36543086008,0,null,7052.28,7052.2790772884,0,null,null,null,0,null,0,0,0,null,5580,null,5580,null,5442,null,5442,null,0,null,0,null,0,null,0,null,null,null,0,null,null,null,0,null,null,null,0,null,null,null,0,null,"NO",{"$f":"IF(ISERROR(VLOOKUP($A98+8860000,'Growth Data'!$A:$F,3,0)),\"NO\",VLOOKUP($A98+8860000,'Growth Data'!$A:$F,3,0))","v":"NO"},0,null,0,{"$f":"IF(BM98=\"YES\",IF(ISERROR(VLOOKUP($A98+8860000,'Growth Data'!$A:$F,6,0)),0,VLOOKUP($A98+8860000,'Growth Data'!$A:$F,6,0)),0)","v":0},0,null,"NO",{"$f":"IF(ISERROR(VLOOKUP($A98+8860000,'Growth Data'!$A:$F,4,0)),\"NO\",VLOOKUP($A98+8860000,'Growth Data'!$A:$F,4,0))","v":"NO"},0,null,0,{"$f":"IF(BU98=\"YES\",IF(ISERROR(VLOOKUP($A98+8860000,'Growth Data'!$A:$Z,7,0)),0,VLOOKUP($A98+8860000,'Growth Data'!$A:$Z,7,0)),0)","v":0},0,null,"NO",{"$f":"IF(ISERROR(VLOOKUP($A98+8860000,'Growth Data'!$A:$F,5,0)),\"NO\",VLOOKUP($A98+8860000,'Growth Data'!$A:$F,5,0))","v":"NO"},0,null,0,{"$f":"IF(CC98=\"YES\",IF(ISERROR(VLOOKUP($A98+8860000,'Growth Data'!$A:$Z,8,0)),0,VLOOKUP($A98+8860000,'Growth Data'!$A:$Z,8,0)),0)","v":0},0,null,null,null,0]
[2465,"Claremont Primary School",null,"Claremont Primary School","Claremont Primary School",0,null,1732534,1732534,0,null,0,0,0,null,1732534,1732534,0,null,12813.18,12813.174994599998,0,null,null,null,0,null,0,0,0,null,94477.49,null,94477,null,0,null,0,null,0,null,0,null,0,null,0,null,null,null,0,null,null,null,0,null,null,null,0,null,null,null,0,null,"NO",{"$f":"IF(ISERROR(VLOOKUP($A99+8860000,'Growth Data'!$A:$F,3,0)),\"NO\",VLOOKUP($A99+8860000,'Growth Data'!$A:$F,3,0))","v":"NO"},0,null,0,{"$f":"IF(BM99=\"YES\",IF(ISERROR(VLOOKUP($A99+8860000,'Growth Data'!$A:$F,6,0)),0,VLOOKUP($A99+8860000,'Growth Data'!$A:$F,6,0)),0)","v":0},0,null,"NO",{"$f":"IF(ISERROR(VLOOKUP($A99+8860000,'Growth Data'!$A:$F,4,0)),\"NO\",VLOOKUP($A99+8860000,'Growth Data'!$A:$F,4,0))","v":"NO"},0,null,0,{"$f":"IF(BU99=\"YES\",IF(ISERROR(VLOOKUP($A99+8860000,'Growth Data'!$A:$Z,7,0)),0,VLOOKUP($A99+8860000,'Growth Data'!$A:$Z,7,0)),0)","v":0},0,null,"NO",{"$f":"IF(ISERROR(VLOOKUP($A99+8860000,'Growth Data'!$A:$F,5,0)),\"NO\",VLOOKUP($A99+8860000,'Growth Data'!$A:$F,5,0))","v":"NO"},0,null,0,{"$f":"IF(CC99=\"YES\",IF(ISERROR(VLOOKUP($A99+8860000,'Growth Data'!$A:$Z,8,0)),0,VLOOKUP($A99+8860000,'Growth Data'!$A:$Z,8,0)),0)","v":0},0,null,null,null,0]
[2471,"Whitfield Aspen School",null,"Whitfield Aspen School","Whitfield Aspen School",0,null,1780277.66,1780277.661240191,0,null,0,0,0,null,1780277.66,1780277.661240191,0,null,12171.23,12171.232359599999,0,null,null,null,0,null,0,0,0,null,29861.74,null,29862,null,3013.83,null,3014,null,32000,null,32000,null,48000,null,48000,null,null,null,0,null,null,null,0,null,null,null,0,null,null,null,0,null,"NO",{"$f":"IF(ISERROR(VLOOKUP($A100+8860000,'Growth Data'!$A:$F,3,0)),\"NO\",VLOOKUP($A100+8860000,'Growth Data'!$A:$F,3,0))","v":"NO"},0,null,0,{"$f":"IF(BM100=\"YES\",IF(ISERROR(VLOOKUP($A100+8860000,'Growth Data'!$A:$F,6,0)),0,VLOOKUP($A100+8860000,'Growth Data'!$A:$F,6,0)),0)","v":0},0,null,"NO",{"$f":"IF(ISERROR(VLOOKUP($A100+8860000,'Growth Data'!$A:$F,4,0)),\"NO\",VLOOKUP($A100+8860000,'Growth Data'!$A:$F,4,0))","v":"NO"},0,null,0,{"$f":"IF(BU100=\"YES\",IF(ISERROR(VLOOKUP($A100+8860000,'Growth Data'!$A:$Z,7,0)),0,VLOOKUP($A100+8860000,'Growth Data'!$A:$Z,7,0)),0)","v":0},0,null,"NO",{"$f":"IF(ISERROR(VLOOKUP($A100+8860000,'Growth Data'!$A:$F,5,0)),\"NO\",VLOOKUP($A100+8860000,'Growth Data'!$A:$F,5,0))","v":"NO"},0,null,0,{"$f":"IF(CC100=\"YES\",IF(ISERROR(VLOOKUP($A100+8860000,'Growth Data'!$A:$Z,8,0)),0,VLOOKUP($A100+8860000,'Growth Data'!$A:$Z,8,0)),0)","v":0},0,null,null,null,0]
[2474,"St Paul's Infant School",null,"St Paul's Infant School","St Paul's Infant School",0,null,1034904.55,1034904.5535487607,0,null,10691.06,10691.058507435839,0,null,1045595.61,1045595.6120561966,0,null,6932.98,6932.980458,0,null,null,null,0,null,0,0,0,null,5580,null,5580,null,5442,null,5442,null,0,null,0,null,0,null,0,null,null,null,0,null,null,null,0,null,null,null,0,null,null,null,0,null,"NO",{"$f":"IF(ISERROR(VLOOKUP($A101+8860000,'Growth Data'!$A:$F,3,0)),\"NO\",VLOOKUP($A101+8860000,'Growth Data'!$A:$F,3,0))","v":"NO"},0,null,0,{"$f":"IF(BM101=\"YES\",IF(ISERROR(VLOOKUP($A101+8860000,'Growth Data'!$A:$F,6,0)),0,VLOOKUP($A101+8860000,'Growth Data'!$A:$F,6,0)),0)","v":0},0,null,"NO",{"$f":"IF(ISERROR(VLOOKUP($A101+8860000,'Growth Data'!$A:$F,4,0)),\"NO\",VLOOKUP($A101+8860000,'Growth Data'!$A:$F,4,0))","v":"NO"},0,null,0,{"$f":"IF(BU101=\"YES\",IF(ISERROR(VLOOKUP($A101+8860000,'Growth Data'!$A:$Z,7,0)),0,VLOOKUP($A101+8860000,'Growth Data'!$A:$Z,7,0)),0)","v":0},0,null,"NO",{"$f":"IF(ISERROR(VLOOKUP($A101+8860000,'Growth Data'!$A:$F,5,0)),\"NO\",VLOOKUP($A101+8860000,'Growth Data'!$A:$F,5,0))","v":"NO"},0,null,0,{"$f":"IF(CC101=\"YES\",IF(ISERROR(VLOOKUP($A101+8860000,'Growth Data'!$A:$Z,8,0)),0,VLOOKUP($A101+8860000,'Growth Data'!$A:$Z,8,0)),0)","v":0},0,null,null,null,0]
[2482,"Langton Green Primary School",null,"Langton Green Primary School","Langton Green Primary School",0,null,1367115,1367115,0,null,0,0,0,null,1367115,1367115,0,null,10039.98,10039.982811400001,0,null,null,null,0,null,0,0,0,null,63518.13,null,63518,null,0,null,0,null,0,null,0,null,0,null,0,null,null,null,0,null,null,null,0,null,null,null,0,null,null,null,0,null,"NO",{"$f":"IF(ISERROR(VLOOKUP($A102+8860000,'Growth Data'!$A:$F,3,0)),\"NO\",VLOOKUP($A102+8860000,'Growth Data'!$A:$F,3,0))","v":"YES"},1,null,0,{"$f":"IF(BM102=\"YES\",IF(ISERROR(VLOOKUP($A102+8860000,'Growth Data'!$A:$F,6,0)),0,VLOOKUP($A102+8860000,'Growth Data'!$A:$F,6,0)),0)","v":30},-30,null,"NO",{"$f":"IF(ISERROR(VLOOKUP($A102+8860000,'Growth Data'!$A:$F,4,0)),\"NO\",VLOOKUP($A102+8860000,'Growth Data'!$A:$F,4,0))","v":"NO"},0,null,0,{"$f":"IF(BU102=\"YES\",IF(ISERROR(VLOOKUP($A102+8860000,'Growth Data'!$A:$Z,7,0)),0,VLOOKUP($A102+8860000,'Growth Data'!$A:$Z,7,0)),0)","v":0},0,null,"NO",{"$f":"IF(ISERROR(VLOOKUP($A102+8860000,'Growth Data'!$A:$F,5,0)),\"NO\",VLOOKUP($A102+8860000,'Growth Data'!$A:$F,5,0))","v":"NO"},0,null,0,{"$f":"IF(CC102=\"YES\",IF(ISERROR(VLOOKUP($A102+8860000,'Growth Data'!$A:$Z,8,0)),0,VLOOKUP($A102+8860000,'Growth Data'!$A:$Z,8,0)),0)","v":0},0,null,null,null,0]
[2490,"Bishops Down Primary School",null,"Bishops Down Primary School","Bishops Down Primary School",0,null,1048484.13,1048484.1282754833,0,null,0,0,0,null,1048484.13,1048484.1282754833,0,null,7651.96,7651.9562091999996,0,null,null,null,0,null,4.9000000000000004,4.9000000000000004,0,null,231689.29,null,231689,null,0,null,0,null,0,null,0,null,0,null,0,null,null,null,0,null,null,null,0,null,null,null,0,null,null,null,0,null,"NO",{"$f":"IF(ISERROR(VLOOKUP($A103+8860000,'Growth Data'!$A:$F,3,0)),\"NO\",VLOOKUP($A103+8860000,'Growth Data'!$A:$F,3,0))","v":"NO"},0,null,0,{"$f":"IF(BM103=\"YES\",IF(ISERROR(VLOOKUP($A103+8860000,'Growth Data'!$A:$F,6,0)),0,VLOOKUP($A103+8860000,'Growth Data'!$A:$F,6,0)),0)","v":0},0,null,"NO",{"$f":"IF(ISERROR(VLOOKUP($A103+8860000,'Growth Data'!$A:$F,4,0)),\"NO\",VLOOKUP($A103+8860000,'Growth Data'!$A:$F,4,0))","v":"NO"},0,null,0,{"$f":"IF(BU103=\"YES\",IF(ISERROR(VLOOKUP($A103+8860000,'Growth Data'!$A:$Z,7,0)),0,VLOOKUP($A103+8860000,'Growth Data'!$A:$Z,7,0)),0)","v":0},0,null,"YES",{"$f":"IF(ISERROR(VLOOKUP($A103+8860000,'Growth Data'!$A:$F,5,0)),\"NO\",VLOOKUP($A103+8860000,'Growth Data'!$A:$F,5,0))","v":"NO"},1,null,62,{"$f":"IF(CC103=\"YES\",IF(ISERROR(VLOOKUP($A103+8860000,'Growth Data'!$A:$Z,8,0)),0,VLOOKUP($A103+8860000,'Growth Data'!$A:$Z,8,0)),0)","v":0},62,null,null,null,0]
[2509,"Singlewell Primary School",null,"Singlewell Primary School","Singlewell Primary School",0,null,989906.17,989906.16529900744,0,null,0,0,0,null,989906.17,989906.16529900744,0,null,6599.17,6599.1702877999987,0,null,null,null,0,null,0,0,0,null,87466.35,null,87466,null,0,null,0,null,0,null,0,null,0,null,0,null,null,null,0,null,null,null,0,null,null,null,0,null,null,null,0,null,"NO",{"$f":"IF(ISERROR(VLOOKUP($A104+8860000,'Growth Data'!$A:$F,3,0)),\"NO\",VLOOKUP($A104+8860000,'Growth Data'!$A:$F,3,0))","v":"YES"},1,null,0,{"$f":"IF(BM104=\"YES\",IF(ISERROR(VLOOKUP($A104+8860000,'Growth Data'!$A:$F,6,0)),0,VLOOKUP($A104+8860000,'Growth Data'!$A:$F,6,0)),0)","v":30},-30,null,"NO",{"$f":"IF(ISERROR(VLOOKUP($A104+8860000,'Growth Data'!$A:$F,4,0)),\"NO\",VLOOKUP($A104+8860000,'Growth Data'!$A:$F,4,0))","v":"YES"},1,null,0,{"$f":"IF(BU104=\"YES\",IF(ISERROR(VLOOKUP($A104+8860000,'Growth Data'!$A:$Z,7,0)),0,VLOOKUP($A104+8860000,'Growth Data'!$A:$Z,7,0)),0)","v":60},-60,null,"NO",{"$f":"IF(ISERROR(VLOOKUP($A104+8860000,'Growth Data'!$A:$F,5,0)),\"NO\",VLOOKUP($A104+8860000,'Growth Data'!$A:$F,5,0))","v":"YES"},1,null,0,{"$f":"IF(CC104=\"YES\",IF(ISERROR(VLOOKUP($A104+8860000,'Growth Data'!$A:$Z,8,0)),0,VLOOKUP($A104+8860000,'Growth Data'!$A:$Z,8,0)),0)","v":30},-30,null,null,null,0]
[2510,"Cheriton Primary School",null,"Cheriton Primary School","Cheriton Primary School",0,null,1621316.88,1621316.8755767778,0,null,0,0,0,null,1621316.88,1621316.8755767778,0,null,11632,11632.000546199999,0,null,null,null,0,null,0,0,0,null,53016.06,null,53016,null,698.39,null,698,null,103333.33,null,103333,null,155000,null,155000,null,null,null,0,null,null,null,0,null,null,null,0,null,null,null,0,null,"YES",{"$f":"IF(ISERROR(VLOOKUP($A105+8860000,'Growth Data'!$A:$F,3,0)),\"NO\",VLOOKUP($A105+8860000,'Growth Data'!$A:$F,3,0))","v":"NO"},1,null,32,{"$f":"IF(BM105=\"YES\",IF(ISERROR(VLOOKUP($A105+8860000,'Growth Data'!$A:$F,6,0)),0,VLOOKUP($A105+8860000,'Growth Data'!$A:$F,6,0)),0)","v":0},32,null,"YES",{"$f":"IF(ISERROR(VLOOKUP($A105+8860000,'Growth Data'!$A:$F,4,0)),\"NO\",VLOOKUP($A105+8860000,'Growth Data'!$A:$F,4,0))","v":"NO"},1,null,60,{"$f":"IF(BU105=\"YES\",IF(ISERROR(VLOOKUP($A105+8860000,'Growth Data'!$A:$Z,7,0)),0,VLOOKUP($A105+8860000,'Growth Data'!$A:$Z,7,0)),0)","v":0},60,null,"YES",{"$f":"IF(ISERROR(VLOOKUP($A105+8860000,'Growth Data'!$A:$F,5,0)),\"NO\",VLOOKUP($A105+8860000,'Growth Data'!$A:$F,5,0))","v":"NO"},1,null,31,{"$f":"IF(CC105=\"YES\",IF(ISERROR(VLOOKUP($A105+8860000,'Growth Data'!$A:$Z,8,0)),0,VLOOKUP($A105+8860000,'Growth Data'!$A:$Z,8,0)),0)","v":0},31,null,null,null,0]
[2514,"Brookfield Infant School",null,"Brookfield Infant School","Brookfield Infant School",0,null,696895.11,696895.11061833892,0,null,0,0,0,null,696895.11,696895.11061833892,0,null,4570.63,4570.6315611999999,0,null,null,null,0,null,0,0,0,null,66253.789999999994,null,66254,null,0,null,0,null,0,null,0,null,0,null,0,null,null,null,0,null,null,null,0,null,null,null,0,null,null,null,0,null,"NO",{"$f":"IF(ISERROR(VLOOKUP($A106+8860000,'Growth Data'!$A:$F,3,0)),\"NO\",VLOOKUP($A106+8860000,'Growth Data'!$A:$F,3,0))","v":"NO"},0,null,0,{"$f":"IF(BM106=\"YES\",IF(ISERROR(VLOOKUP($A106+8860000,'Growth Data'!$A:$F,6,0)),0,VLOOKUP($A106+8860000,'Growth Data'!$A:$F,6,0)),0)","v":0},0,null,"NO",{"$f":"IF(ISERROR(VLOOKUP($A106+8860000,'Growth Data'!$A:$F,4,0)),\"NO\",VLOOKUP($A106+8860000,'Growth Data'!$A:$F,4,0))","v":"NO"},0,null,0,{"$f":"IF(BU106=\"YES\",IF(ISERROR(VLOOKUP($A106+8860000,'Growth Data'!$A:$Z,7,0)),0,VLOOKUP($A106+8860000,'Growth Data'!$A:$Z,7,0)),0)","v":0},0,null,"NO",{"$f":"IF(ISERROR(VLOOKUP($A106+8860000,'Growth Data'!$A:$F,5,0)),\"NO\",VLOOKUP($A106+8860000,'Growth Data'!$A:$F,5,0))","v":"NO"},0,null,0,{"$f":"IF(CC106=\"YES\",IF(ISERROR(VLOOKUP($A106+8860000,'Growth Data'!$A:$Z,8,0)),0,VLOOKUP($A106+8860000,'Growth Data'!$A:$Z,8,0)),0)","v":0},0,null,null,null,0]
[2519,"Vigo Village School",null,"Vigo Village School","Vigo Village School",0,null,734053.66,734053.66223423451,0,null,0,0,0,null,734053.66,734053.66223423451,0,null,5007.1499999999996,5007.1525529999999,0,null,null,null,0,null,0,0,0,null,83160.13,null,83160,null,0,null,0,null,360000,null,360000,null,540000,null,540000,null,null,null,0,null,null,null,0,null,null,null,0,null,null,null,0,null,"NO",{"$f":"IF(ISERROR(VLOOKUP($A107+8860000,'Growth Data'!$A:$F,3,0)),\"NO\",VLOOKUP($A107+8860000,'Growth Data'!$A:$F,3,0))","v":"NO"},0,null,0,{"$f":"IF(BM107=\"YES\",IF(ISERROR(VLOOKUP($A107+8860000,'Growth Data'!$A:$F,6,0)),0,VLOOKUP($A107+8860000,'Growth Data'!$A:$F,6,0)),0)","v":0},0,null,"NO",{"$f":"IF(ISERROR(VLOOKUP($A107+8860000,'Growth Data'!$A:$F,4,0)),\"NO\",VLOOKUP($A107+8860000,'Growth Data'!$A:$F,4,0))","v":"NO"},0,null,0,{"$f":"IF(BU107=\"YES\",IF(ISERROR(VLOOKUP($A107+8860000,'Growth Data'!$A:$Z,7,0)),0,VLOOKUP($A107+8860000,'Growth Data'!$A:$Z,7,0)),0)","v":0},0,null,"YES",{"$f":"IF(ISERROR(VLOOKUP($A107+8860000,'Growth Data'!$A:$F,5,0)),\"NO\",VLOOKUP($A107+8860000,'Growth Data'!$A:$F,5,0))","v":"NO"},1,null,30,{"$f":"IF(CC107=\"YES\",IF(ISERROR(VLOOKUP($A107+8860000,'Growth Data'!$A:$Z,8,0)),0,VLOOKUP($A107+8860000,'Growth Data'!$A:$Z,8,0)),0)","v":0},30,null,null,null,0]
[2520,"Madginford Primary School",null,"Madginford Primary School","Madginford Primary School",0,null,2225895,2225895,0,null,0,0,0,null,2225895,2225895,0,null,16382.38,16382.376045200001,0,null,null,null,0,null,0,0,0,null,161861.15,null,161861,null,0,null,0,null,0,null,0,null,0,null,0,null,null,null,0,null,null,null,0,null,null,null,0,null,null,null,0,null,"NO",{"$f":"IF(ISERROR(VLOOKUP($A108+8860000,'Growth Data'!$A:$F,3,0)),\"NO\",VLOOKUP($A108+8860000,'Growth Data'!$A:$F,3,0))","v":"NO"},0,null,0,{"$f":"IF(BM108=\"YES\",IF(ISERROR(VLOOKUP($A108+8860000,'Growth Data'!$A:$F,6,0)),0,VLOOKUP($A108+8860000,'Growth Data'!$A:$F,6,0)),0)","v":0},0,null,"NO",{"$f":"IF(ISERROR(VLOOKUP($A108+8860000,'Growth Data'!$A:$F,4,0)),\"NO\",VLOOKUP($A108+8860000,'Growth Data'!$A:$F,4,0))","v":"NO"},0,null,0,{"$f":"IF(BU108=\"YES\",IF(ISERROR(VLOOKUP($A108+8860000,'Growth Data'!$A:$Z,7,0)),0,VLOOKUP($A108+8860000,'Growth Data'!$A:$Z,7,0)),0)","v":0},0,null,"NO",{"$f":"IF(ISERROR(VLOOKUP($A108+8860000,'Growth Data'!$A:$F,5,0)),\"NO\",VLOOKUP($A108+8860000,'Growth Data'!$A:$F,5,0))","v":"NO"},0,null,0,{"$f":"IF(CC108=\"YES\",IF(ISERROR(VLOOKUP($A108+8860000,'Growth Data'!$A:$Z,8,0)),0,VLOOKUP($A108+8860000,'Growth Data'!$A:$Z,8,0)),0)","v":0},0,null,null,null,0]
[2524,"Palmarsh Primary School",null,"Palmarsh Primary School","Palmarsh Primary School",0,null,571066.25,571066.24780282727,0,null,0,0,0,null,571066.25,571066.24780282727,0,null,3415.13,3415.1348181999992,0,null,null,null,0,null,0,0,0,null,5580,null,5580,null,5442,null,5442,null,0,null,0,null,0,null,0,null,null,null,0,null,null,null,0,null,null,null,0,null,null,null,0,null,"NO",{"$f":"IF(ISERROR(VLOOKUP($A109+8860000,'Growth Data'!$A:$F,3,0)),\"NO\",VLOOKUP($A109+8860000,'Growth Data'!$A:$F,3,0))","v":"NO"},0,null,0,{"$f":"IF(BM109=\"YES\",IF(ISERROR(VLOOKUP($A109+8860000,'Growth Data'!$A:$F,6,0)),0,VLOOKUP($A109+8860000,'Growth Data'!$A:$F,6,0)),0)","v":0},0,null,"NO",{"$f":"IF(ISERROR(VLOOKUP($A109+8860000,'Growth Data'!$A:$F,4,0)),\"NO\",VLOOKUP($A109+8860000,'Growth Data'!$A:$F,4,0))","v":"NO"},0,null,0,{"$f":"IF(BU109=\"YES\",IF(ISERROR(VLOOKUP($A109+8860000,'Growth Data'!$A:$Z,7,0)),0,VLOOKUP($A109+8860000,'Growth Data'!$A:$Z,7,0)),0)","v":0},0,null,"NO",{"$f":"IF(ISERROR(VLOOKUP($A109+8860000,'Growth Data'!$A:$F,5,0)),\"NO\",VLOOKUP($A109+8860000,'Growth Data'!$A:$F,5,0))","v":"NO"},0,null,0,{"$f":"IF(CC109=\"YES\",IF(ISERROR(VLOOKUP($A109+8860000,'Growth Data'!$A:$Z,8,0)),0,VLOOKUP($A109+8860000,'Growth Data'!$A:$Z,8,0)),0)","v":0},0,null,null,null,0]
[2525,"Painters Ash Primary School",null,"Painters Ash Primary School","Painters Ash Primary School",0,null,1510053.23,1510053.2258614693,0,null,0,0,0,null,1510053.23,1510053.2258614693,0,null,10656.25,10656.247741000003,0,null,null,null,0,null,0,0,0,null,52618.35,null,52618,null,738.17,null,738,null,0,null,0,null,0,null,0,null,null,null,0,null,null,null,0,null,null,null,0,null,null,null,0,null,"NO",{"$f":"IF(ISERROR(VLOOKUP($A110+8860000,'Growth Data'!$A:$F,3,0)),\"NO\",VLOOKUP($A110+8860000,'Growth Data'!$A:$F,3,0))","v":"NO"},0,null,0,{"$f":"IF(BM110=\"YES\",IF(ISERROR(VLOOKUP($A110+8860000,'Growth Data'!$A:$F,6,0)),0,VLOOKUP($A110+8860000,'Growth Data'!$A:$F,6,0)),0)","v":0},0,null,"NO",{"$f":"IF(ISERROR(VLOOKUP($A110+8860000,'Growth Data'!$A:$F,4,0)),\"NO\",VLOOKUP($A110+8860000,'Growth Data'!$A:$F,4,0))","v":"NO"},0,null,0,{"$f":"IF(BU110=\"YES\",IF(ISERROR(VLOOKUP($A110+8860000,'Growth Data'!$A:$Z,7,0)),0,VLOOKUP($A110+8860000,'Growth Data'!$A:$Z,7,0)),0)","v":0},0,null,"NO",{"$f":"IF(ISERROR(VLOOKUP($A110+8860000,'Growth Data'!$A:$F,5,0)),\"NO\",VLOOKUP($A110+8860000,'Growth Data'!$A:$F,5,0))","v":"NO"},0,null,0,{"$f":"IF(CC110=\"YES\",IF(ISERROR(VLOOKUP($A110+8860000,'Growth Data'!$A:$Z,8,0)),0,VLOOKUP($A110+8860000,'Growth Data'!$A:$Z,8,0)),0)","v":0},0,null,null,null,0]
[2530,"Tunbury Primary School",null,"Tunbury Primary School","Tunbury Primary School",0,null,2108370,2108370,0,null,0,0,0,null,2108370,2108370,0,null,15612.04,15612.044883199998,0,null,null,null,0,null,0,0,0,null,50014.86,null,50015,null,998.51,null,999,null,20000,null,20000,null,30000,null,30000,null,null,null,0,null,null,null,0,null,null,null,0,null,null,null,0,null,"NO",{"$f":"IF(ISERROR(VLOOKUP($A111+8860000,'Growth Data'!$A:$F,3,0)),\"NO\",VLOOKUP($A111+8860000,'Growth Data'!$A:$F,3,0))","v":"NO"},0,null,0,{"$f":"IF(BM111=\"YES\",IF(ISERROR(VLOOKUP($A111+8860000,'Growth Data'!$A:$F,6,0)),0,VLOOKUP($A111+8860000,'Growth Data'!$A:$F,6,0)),0)","v":0},0,null,"NO",{"$f":"IF(ISERROR(VLOOKUP($A111+8860000,'Growth Data'!$A:$F,4,0)),\"NO\",VLOOKUP($A111+8860000,'Growth Data'!$A:$F,4,0))","v":"NO"},0,null,0,{"$f":"IF(BU111=\"YES\",IF(ISERROR(VLOOKUP($A111+8860000,'Growth Data'!$A:$Z,7,0)),0,VLOOKUP($A111+8860000,'Growth Data'!$A:$Z,7,0)),0)","v":0},0,null,"NO",{"$f":"IF(ISERROR(VLOOKUP($A111+8860000,'Growth Data'!$A:$F,5,0)),\"NO\",VLOOKUP($A111+8860000,'Growth Data'!$A:$F,5,0))","v":"NO"},0,null,0,{"$f":"IF(CC111=\"YES\",IF(ISERROR(VLOOKUP($A111+8860000,'Growth Data'!$A:$Z,8,0)),0,VLOOKUP($A111+8860000,'Growth Data'!$A:$Z,8,0)),0)","v":0},0,null,null,null,0]
[2532,"St Margaret's-at-Cliffe Primary School",null,"St Margaret's-at-Cliffe Primary School","St Margaret's-at-Cliffe Primary School",0,null,697359.07,697359.06503411336,0,null,0,0,0,null,697359.07,697359.06503411336,0,null,4878.76,4878.7640259999998,0,null,null,null,0,null,0,0,0,null,130088.8,null,130089,null,0,null,0,null,0,null,0,null,0,null,0,null,null,null,0,null,null,null,0,null,null,null,0,null,null,null,0,null,"NO",{"$f":"IF(ISERROR(VLOOKUP($A112+8860000,'Growth Data'!$A:$F,3,0)),\"NO\",VLOOKUP($A112+8860000,'Growth Data'!$A:$F,3,0))","v":"NO"},0,null,0,{"$f":"IF(BM112=\"YES\",IF(ISERROR(VLOOKUP($A112+8860000,'Growth Data'!$A:$F,6,0)),0,VLOOKUP($A112+8860000,'Growth Data'!$A:$F,6,0)),0)","v":0},0,null,"NO",{"$f":"IF(ISERROR(VLOOKUP($A112+8860000,'Growth Data'!$A:$F,4,0)),\"NO\",VLOOKUP($A112+8860000,'Growth Data'!$A:$F,4,0))","v":"NO"},0,null,0,{"$f":"IF(BU112=\"YES\",IF(ISERROR(VLOOKUP($A112+8860000,'Growth Data'!$A:$Z,7,0)),0,VLOOKUP($A112+8860000,'Growth Data'!$A:$Z,7,0)),0)","v":0},0,null,"NO",{"$f":"IF(ISERROR(VLOOKUP($A112+8860000,'Growth Data'!$A:$F,5,0)),\"NO\",VLOOKUP($A112+8860000,'Growth Data'!$A:$F,5,0))","v":"NO"},0,null,0,{"$f":"IF(CC112=\"YES\",IF(ISERROR(VLOOKUP($A112+8860000,'Growth Data'!$A:$Z,8,0)),0,VLOOKUP($A112+8860000,'Growth Data'!$A:$Z,8,0)),0)","v":0},0,null,null,null,0]
[2534,"Bysing Wood Primary School",null,"Bysing Wood Primary School","Bysing Wood Primary School",0,null,719028.36,719028.36379898922,0,null,0,0,0,null,719028.36,719028.36379898922,0,null,3980.04,3980.0443369999998,0,null,null,null,0,null,0,0,0,null,61164.46,null,61164,null,0,null,0,null,0,null,0,null,0,null,0,null,null,null,0,null,null,null,0,null,null,null,0,null,null,null,0,null,"NO",{"$f":"IF(ISERROR(VLOOKUP($A113+8860000,'Growth Data'!$A:$F,3,0)),\"NO\",VLOOKUP($A113+8860000,'Growth Data'!$A:$F,3,0))","v":"NO"},0,null,0,{"$f":"IF(BM113=\"YES\",IF(ISERROR(VLOOKUP($A113+8860000,'Growth Data'!$A:$F,6,0)),0,VLOOKUP($A113+8860000,'Growth Data'!$A:$F,6,0)),0)","v":0},0,null,"NO",{"$f":"IF(ISERROR(VLOOKUP($A113+8860000,'Growth Data'!$A:$F,4,0)),\"NO\",VLOOKUP($A113+8860000,'Growth Data'!$A:$F,4,0))","v":"NO"},0,null,0,{"$f":"IF(BU113=\"YES\",IF(ISERROR(VLOOKUP($A113+8860000,'Growth Data'!$A:$Z,7,0)),0,VLOOKUP($A113+8860000,'Growth Data'!$A:$Z,7,0)),0)","v":0},0,null,"NO",{"$f":"IF(ISERROR(VLOOKUP($A113+8860000,'Growth Data'!$A:$F,5,0)),\"NO\",VLOOKUP($A113+8860000,'Growth Data'!$A:$F,5,0))","v":"NO"},0,null,0,{"$f":"IF(CC113=\"YES\",IF(ISERROR(VLOOKUP($A113+8860000,'Growth Data'!$A:$Z,8,0)),0,VLOOKUP($A113+8860000,'Growth Data'!$A:$Z,8,0)),0)","v":0},0,null,null,null,0]
[2539,"Stocks Green Primary School",null,"Stocks Green Primary School","Stocks Green Primary School",0,null,760062.49,760062.48632655165,0,null,0,0,0,null,760062.49,760062.48632655165,0,null,5597.74,5597.7397772000004,0,null,null,null,0,null,0,0,0,null,153857.60000000001,null,153858,null,0,null,0,null,46333.33,null,46333,null,69500,null,69500,null,null,null,0,null,null,null,0,null,null,null,0,null,null,null,0,null,"NO",{"$f":"IF(ISERROR(VLOOKUP($A114+8860000,'Growth Data'!$A:$F,3,0)),\"NO\",VLOOKUP($A114+8860000,'Growth Data'!$A:$F,3,0))","v":"NO"},0,null,0,{"$f":"IF(BM114=\"YES\",IF(ISERROR(VLOOKUP($A114+8860000,'Growth Data'!$A:$F,6,0)),0,VLOOKUP($A114+8860000,'Growth Data'!$A:$F,6,0)),0)","v":0},0,null,"NO",{"$f":"IF(ISERROR(VLOOKUP($A114+8860000,'Growth Data'!$A:$F,4,0)),\"NO\",VLOOKUP($A114+8860000,'Growth Data'!$A:$F,4,0))","v":"NO"},0,null,0,{"$f":"IF(BU114=\"YES\",IF(ISERROR(VLOOKUP($A114+8860000,'Growth Data'!$A:$Z,7,0)),0,VLOOKUP($A114+8860000,'Growth Data'!$A:$Z,7,0)),0)","v":0},0,null,"NO",{"$f":"IF(ISERROR(VLOOKUP($A114+8860000,'Growth Data'!$A:$F,5,0)),\"NO\",VLOOKUP($A114+8860000,'Growth Data'!$A:$F,5,0))","v":"NO"},0,null,0,{"$f":"IF(CC114=\"YES\",IF(ISERROR(VLOOKUP($A114+8860000,'Growth Data'!$A:$Z,8,0)),0,VLOOKUP($A114+8860000,'Growth Data'!$A:$Z,8,0)),0)","v":0},0,null,null,null,0]
[2545,"Sandgate Primary School",null,"Sandgate Primary School","Sandgate Primary School",0,null,1478456,1478456.0000000002,0,null,0,0,0,null,1478456,1478456.0000000002,0,null,10835.99,10835.991678799999,0,null,null,null,0,null,0,0,0,null,95076.86,null,95077,null,0,null,0,null,0,null,0,null,0,null,0,null,null,null,0,null,null,null,0,null,null,null,0,null,null,null,0,null,"NO",{"$f":"IF(ISERROR(VLOOKUP($A115+8860000,'Growth Data'!$A:$F,3,0)),\"NO\",VLOOKUP($A115+8860000,'Growth Data'!$A:$F,3,0))","v":"NO"},0,null,0,{"$f":"IF(BM115=\"YES\",IF(ISERROR(VLOOKUP($A115+8860000,'Growth Data'!$A:$F,6,0)),0,VLOOKUP($A115+8860000,'Growth Data'!$A:$F,6,0)),0)","v":0},0,null,"NO",{"$f":"IF(ISERROR(VLOOKUP($A115+8860000,'Growth Data'!$A:$F,4,0)),\"NO\",VLOOKUP($A115+8860000,'Growth Data'!$A:$F,4,0))","v":"NO"},0,null,0,{"$f":"IF(BU115=\"YES\",IF(ISERROR(VLOOKUP($A115+8860000,'Growth Data'!$A:$Z,7,0)),0,VLOOKUP($A115+8860000,'Growth Data'!$A:$Z,7,0)),0)","v":0},0,null,"NO",{"$f":"IF(ISERROR(VLOOKUP($A115+8860000,'Growth Data'!$A:$F,5,0)),\"NO\",VLOOKUP($A115+8860000,'Growth Data'!$A:$F,5,0))","v":"NO"},0,null,0,{"$f":"IF(CC115=\"YES\",IF(ISERROR(VLOOKUP($A115+8860000,'Growth Data'!$A:$Z,8,0)),0,VLOOKUP($A115+8860000,'Growth Data'!$A:$Z,8,0)),0)","v":0},0,null,null,null,0]
[2552,"Sandling Primary School",null,"Sandling Primary School","Sandling Primary School",0,null,1455802,1455802,0,null,0,0,0,null,1455802,1455802,0,null,10810.31,10810.3139734,0,null,null,null,0,null,0,0,0,null,5580,null,5580,null,5442,null,5442,null,0,null,0,null,0,null,0,null,null,null,0,null,null,null,0,null,null,null,0,null,null,null,0,null,"NO",{"$f":"IF(ISERROR(VLOOKUP($A116+8860000,'Growth Data'!$A:$F,3,0)),\"NO\",VLOOKUP($A116+8860000,'Growth Data'!$A:$F,3,0))","v":"NO"},0,null,0,{"$f":"IF(BM116=\"YES\",IF(ISERROR(VLOOKUP($A116+8860000,'Growth Data'!$A:$F,6,0)),0,VLOOKUP($A116+8860000,'Growth Data'!$A:$F,6,0)),0)","v":0},0,null,"NO",{"$f":"IF(ISERROR(VLOOKUP($A116+8860000,'Growth Data'!$A:$F,4,0)),\"NO\",VLOOKUP($A116+8860000,'Growth Data'!$A:$F,4,0))","v":"NO"},0,null,0,{"$f":"IF(BU116=\"YES\",IF(ISERROR(VLOOKUP($A116+8860000,'Growth Data'!$A:$Z,7,0)),0,VLOOKUP($A116+8860000,'Growth Data'!$A:$Z,7,0)),0)","v":0},0,null,"NO",{"$f":"IF(ISERROR(VLOOKUP($A116+8860000,'Growth Data'!$A:$F,5,0)),\"NO\",VLOOKUP($A116+8860000,'Growth Data'!$A:$F,5,0))","v":"NO"},0,null,0,{"$f":"IF(CC116=\"YES\",IF(ISERROR(VLOOKUP($A116+8860000,'Growth Data'!$A:$Z,8,0)),0,VLOOKUP($A116+8860000,'Growth Data'!$A:$Z,8,0)),0)","v":0},0,null,null,null,0]
[2559,"Capel-le-Ferne Primary School",null,"Capel-le-Ferne Primary School","Capel-le-Ferne Primary School",0,null,782131.29,782131.28808722121,0,null,0,0,0,null,782131.29,782131.28808722121,0,null,5289.61,5289.6073123999995,0,null,null,null,0,null,0,0,0,null,38318.58,null,38319,null,2168.14,null,2168,null,0,null,0,null,0,null,0,null,null,null,0,null,null,null,0,null,null,null,0,null,null,null,0,null,"NO",{"$f":"IF(ISERROR(VLOOKUP($A117+8860000,'Growth Data'!$A:$F,3,0)),\"NO\",VLOOKUP($A117+8860000,'Growth Data'!$A:$F,3,0))","v":"NO"},0,null,0,{"$f":"IF(BM117=\"YES\",IF(ISERROR(VLOOKUP($A117+8860000,'Growth Data'!$A:$F,6,0)),0,VLOOKUP($A117+8860000,'Growth Data'!$A:$F,6,0)),0)","v":0},0,null,"NO",{"$f":"IF(ISERROR(VLOOKUP($A117+8860000,'Growth Data'!$A:$F,4,0)),\"NO\",VLOOKUP($A117+8860000,'Growth Data'!$A:$F,4,0))","v":"NO"},0,null,0,{"$f":"IF(BU117=\"YES\",IF(ISERROR(VLOOKUP($A117+8860000,'Growth Data'!$A:$Z,7,0)),0,VLOOKUP($A117+8860000,'Growth Data'!$A:$Z,7,0)),0)","v":0},0,null,"NO",{"$f":"IF(ISERROR(VLOOKUP($A117+8860000,'Growth Data'!$A:$F,5,0)),\"NO\",VLOOKUP($A117+8860000,'Growth Data'!$A:$F,5,0))","v":"NO"},0,null,0,{"$f":"IF(CC117=\"YES\",IF(ISERROR(VLOOKUP($A117+8860000,'Growth Data'!$A:$Z,8,0)),0,VLOOKUP($A117+8860000,'Growth Data'!$A:$Z,8,0)),0)","v":0},0,null,null,null,0]
[2562,"Lunsford Primary School",null,"Lunsford Primary School","Lunsford Primary School",0,null,767558.67,767558.67073565477,0,null,0,0,0,null,767558.67,767558.67073565477,0,null,5392.32,5392.3181340000001,0,null,null,null,0,null,0,0,0,null,117872.01,null,117872,null,0,null,0,null,0,null,0,null,0,null,0,null,null,null,0,null,null,null,0,null,null,null,0,null,null,null,0,null,"YES",{"$f":"IF(ISERROR(VLOOKUP($A118+8860000,'Growth Data'!$A:$F,3,0)),\"NO\",VLOOKUP($A118+8860000,'Growth Data'!$A:$F,3,0))","v":"NO"},1,null,49,{"$f":"IF(BM118=\"YES\",IF(ISERROR(VLOOKUP($A118+8860000,'Growth Data'!$A:$F,6,0)),0,VLOOKUP($A118+8860000,'Growth Data'!$A:$F,6,0)),0)","v":0},49,null,"NO",{"$f":"IF(ISERROR(VLOOKUP($A118+8860000,'Growth Data'!$A:$F,4,0)),\"NO\",VLOOKUP($A118+8860000,'Growth Data'!$A:$F,4,0))","v":"NO"},0,null,0,{"$f":"IF(BU118=\"YES\",IF(ISERROR(VLOOKUP($A118+8860000,'Growth Data'!$A:$Z,7,0)),0,VLOOKUP($A118+8860000,'Growth Data'!$A:$Z,7,0)),0)","v":0},0,null,"NO",{"$f":"IF(ISERROR(VLOOKUP($A118+8860000,'Growth Data'!$A:$F,5,0)),\"NO\",VLOOKUP($A118+8860000,'Growth Data'!$A:$F,5,0))","v":"NO"},0,null,0,{"$f":"IF(CC118=\"YES\",IF(ISERROR(VLOOKUP($A118+8860000,'Growth Data'!$A:$Z,8,0)),0,VLOOKUP($A118+8860000,'Growth Data'!$A:$Z,8,0)),0)","v":0},0,null,null,null,0]
[2569,"Briary Primary School",null,"Briary Primary School","Briary Primary School",0,null,1402234.16,1402234.1560184399,0,null,0,0,0,null,1402234.16,1402234.1560184399,0,null,9860.24,9860.2388736000012,0,null,null,null,0,null,0,0,0,null,21899.040000000001,null,21899,null,3810.1,null,3810,null,0,null,0,null,0,null,0,null,null,null,0,null,null,null,0,null,null,null,0,null,null,null,0,null,"NO",{"$f":"IF(ISERROR(VLOOKUP($A119+8860000,'Growth Data'!$A:$F,3,0)),\"NO\",VLOOKUP($A119+8860000,'Growth Data'!$A:$F,3,0))","v":"NO"},0,null,0,{"$f":"IF(BM119=\"YES\",IF(ISERROR(VLOOKUP($A119+8860000,'Growth Data'!$A:$F,6,0)),0,VLOOKUP($A119+8860000,'Growth Data'!$A:$F,6,0)),0)","v":0},0,null,"NO",{"$f":"IF(ISERROR(VLOOKUP($A119+8860000,'Growth Data'!$A:$F,4,0)),\"NO\",VLOOKUP($A119+8860000,'Growth Data'!$A:$F,4,0))","v":"NO"},0,null,0,{"$f":"IF(BU119=\"YES\",IF(ISERROR(VLOOKUP($A119+8860000,'Growth Data'!$A:$Z,7,0)),0,VLOOKUP($A119+8860000,'Growth Data'!$A:$Z,7,0)),0)","v":0},0,null,"NO",{"$f":"IF(ISERROR(VLOOKUP($A119+8860000,'Growth Data'!$A:$F,5,0)),\"NO\",VLOOKUP($A119+8860000,'Growth Data'!$A:$F,5,0))","v":"NO"},0,null,0,{"$f":"IF(CC119=\"YES\",IF(ISERROR(VLOOKUP($A119+8860000,'Growth Data'!$A:$Z,8,0)),0,VLOOKUP($A119+8860000,'Growth Data'!$A:$Z,8,0)),0)","v":0},0,null,null,null,0]
[2574,"Downs View Infant School",null,"Downs View Infant School","Downs View Infant School",0,null,982423.65,982423.64616967994,0,null,0,0,0,null,982423.65,982423.64616967994,0,null,6727.56,6727.5588147999997,0,null,null,null,0,null,0,0,0,null,76812.38,null,76812,null,0,null,0,null,0,null,0,null,0,null,0,null,null,null,0,null,null,null,0,null,null,null,0,null,null,null,0,null,"NO",{"$f":"IF(ISERROR(VLOOKUP($A120+8860000,'Growth Data'!$A:$F,3,0)),\"NO\",VLOOKUP($A120+8860000,'Growth Data'!$A:$F,3,0))","v":"NO"},0,null,0,{"$f":"IF(BM120=\"YES\",IF(ISERROR(VLOOKUP($A120+8860000,'Growth Data'!$A:$F,6,0)),0,VLOOKUP($A120+8860000,'Growth Data'!$A:$F,6,0)),0)","v":0},0,null,"NO",{"$f":"IF(ISERROR(VLOOKUP($A120+8860000,'Growth Data'!$A:$F,4,0)),\"NO\",VLOOKUP($A120+8860000,'Growth Data'!$A:$F,4,0))","v":"NO"},0,null,0,{"$f":"IF(BU120=\"YES\",IF(ISERROR(VLOOKUP($A120+8860000,'Growth Data'!$A:$Z,7,0)),0,VLOOKUP($A120+8860000,'Growth Data'!$A:$Z,7,0)),0)","v":0},0,null,"NO",{"$f":"IF(ISERROR(VLOOKUP($A120+8860000,'Growth Data'!$A:$F,5,0)),\"NO\",VLOOKUP($A120+8860000,'Growth Data'!$A:$F,5,0))","v":"NO"},0,null,0,{"$f":"IF(CC120=\"YES\",IF(ISERROR(VLOOKUP($A120+8860000,'Growth Data'!$A:$Z,8,0)),0,VLOOKUP($A120+8860000,'Growth Data'!$A:$Z,8,0)),0)","v":0},0,null,null,null,0]
[2578,"Kingswood Primary School",null,"Kingswood Primary School","Kingswood Primary School",0,null,478766.76,478766.76480031165,0,null,0,0,0,null,478766.76,478766.76480031165,0,null,3055.65,3055.6469426000003,0,null,null,null,0,null,0,0,0,null,70083.44,null,70083,null,0,null,0,null,0,null,0,null,0,null,0,null,null,null,0,null,null,null,0,null,null,null,0,null,null,null,0,null,"NO",{"$f":"IF(ISERROR(VLOOKUP($A121+8860000,'Growth Data'!$A:$F,3,0)),\"NO\",VLOOKUP($A121+8860000,'Growth Data'!$A:$F,3,0))","v":"NO"},0,null,0,{"$f":"IF(BM121=\"YES\",IF(ISERROR(VLOOKUP($A121+8860000,'Growth Data'!$A:$F,6,0)),0,VLOOKUP($A121+8860000,'Growth Data'!$A:$F,6,0)),0)","v":0},0,null,"NO",{"$f":"IF(ISERROR(VLOOKUP($A121+8860000,'Growth Data'!$A:$F,4,0)),\"NO\",VLOOKUP($A121+8860000,'Growth Data'!$A:$F,4,0))","v":"NO"},0,null,0,{"$f":"IF(BU121=\"YES\",IF(ISERROR(VLOOKUP($A121+8860000,'Growth Data'!$A:$Z,7,0)),0,VLOOKUP($A121+8860000,'Growth Data'!$A:$Z,7,0)),0)","v":0},0,null,"NO",{"$f":"IF(ISERROR(VLOOKUP($A121+8860000,'Growth Data'!$A:$F,5,0)),\"NO\",VLOOKUP($A121+8860000,'Growth Data'!$A:$F,5,0))","v":"NO"},0,null,0,{"$f":"IF(CC121=\"YES\",IF(ISERROR(VLOOKUP($A121+8860000,'Growth Data'!$A:$Z,8,0)),0,VLOOKUP($A121+8860000,'Growth Data'!$A:$Z,8,0)),0)","v":0},0,null,null,null,0]
[2586,"Senacre Wood Primary School",null,"Senacre Wood Primary School","Senacre Wood Primary School",0,null,839105.11,839105.11150569213,0,null,0,0,0,null,839105.11,839105.11150569213,0,null,5315.29,5315.2850177999999,0,null,null,null,0,null,0,0,0,null,72242.59,null,72243,null,0,null,0,null,0,null,0,null,0,null,0,null,null,null,0,null,null,null,0,null,null,null,0,null,null,null,0,null,"NO",{"$f":"IF(ISERROR(VLOOKUP($A122+8860000,'Growth Data'!$A:$F,3,0)),\"NO\",VLOOKUP($A122+8860000,'Growth Data'!$A:$F,3,0))","v":"NO"},0,null,0,{"$f":"IF(BM122=\"YES\",IF(ISERROR(VLOOKUP($A122+8860000,'Growth Data'!$A:$F,6,0)),0,VLOOKUP($A122+8860000,'Growth Data'!$A:$F,6,0)),0)","v":0},0,null,"NO",{"$f":"IF(ISERROR(VLOOKUP($A122+8860000,'Growth Data'!$A:$F,4,0)),\"NO\",VLOOKUP($A122+8860000,'Growth Data'!$A:$F,4,0))","v":"NO"},0,null,0,{"$f":"IF(BU122=\"YES\",IF(ISERROR(VLOOKUP($A122+8860000,'Growth Data'!$A:$Z,7,0)),0,VLOOKUP($A122+8860000,'Growth Data'!$A:$Z,7,0)),0)","v":0},0,null,"NO",{"$f":"IF(ISERROR(VLOOKUP($A122+8860000,'Growth Data'!$A:$F,5,0)),\"NO\",VLOOKUP($A122+8860000,'Growth Data'!$A:$F,5,0))","v":"NO"},0,null,0,{"$f":"IF(CC122=\"YES\",IF(ISERROR(VLOOKUP($A122+8860000,'Growth Data'!$A:$Z,8,0)),0,VLOOKUP($A122+8860000,'Growth Data'!$A:$Z,8,0)),0)","v":0},0,null,null,null,0]
[2603,"Bromstone Primary School, Broadstairs",null,"Bromstone Primary School, Broadstairs","Bromstone Primary School, Broadstairs",0,null,1836069.85,1836069.8468247659,0,null,0,0,0,null,1836069.85,1836069.8468247659,0,null,12633.43,12633.431056800002,0,null,null,null,0,null,0,0,0,null,44855.27,null,44855,null,1514.47,null,1514,null,0,null,0,null,0,null,0,null,null,null,0,null,null,null,0,null,null,null,0,null,null,null,0,null,"NO",{"$f":"IF(ISERROR(VLOOKUP($A123+8860000,'Growth Data'!$A:$F,3,0)),\"NO\",VLOOKUP($A123+8860000,'Growth Data'!$A:$F,3,0))","v":"NO"},0,null,0,{"$f":"IF(BM123=\"YES\",IF(ISERROR(VLOOKUP($A123+8860000,'Growth Data'!$A:$F,6,0)),0,VLOOKUP($A123+8860000,'Growth Data'!$A:$F,6,0)),0)","v":0},0,null,"NO",{"$f":"IF(ISERROR(VLOOKUP($A123+8860000,'Growth Data'!$A:$F,4,0)),\"NO\",VLOOKUP($A123+8860000,'Growth Data'!$A:$F,4,0))","v":"NO"},0,null,0,{"$f":"IF(BU123=\"YES\",IF(ISERROR(VLOOKUP($A123+8860000,'Growth Data'!$A:$Z,7,0)),0,VLOOKUP($A123+8860000,'Growth Data'!$A:$Z,7,0)),0)","v":0},0,null,"NO",{"$f":"IF(ISERROR(VLOOKUP($A123+8860000,'Growth Data'!$A:$F,5,0)),\"NO\",VLOOKUP($A123+8860000,'Growth Data'!$A:$F,5,0))","v":"NO"},0,null,0,{"$f":"IF(CC123=\"YES\",IF(ISERROR(VLOOKUP($A123+8860000,'Growth Data'!$A:$Z,8,0)),0,VLOOKUP($A123+8860000,'Growth Data'!$A:$Z,8,0)),0)","v":0},0,null,null,null,0]
[2607,"Parkside Community Primary School",null,"Parkside Community Primary School","Parkside Community Primary School",0,null,572902.23,572902.23350121966,0,null,42660.81,42660.807761153905,0,null,615563.04,615563.04126237356,0,null,2824.55,2824.5475939999992,0,null,null,null,0,null,4.9000000000000004,4.9000000000000004,0,null,138988.67000000001,null,138989,null,0,null,0,null,0,null,0,null,0,null,0,null,null,null,0,null,null,null,0,null,null,null,0,null,null,null,0,null,"NO",{"$f":"IF(ISERROR(VLOOKUP($A124+8860000,'Growth Data'!$A:$F,3,0)),\"NO\",VLOOKUP($A124+8860000,'Growth Data'!$A:$F,3,0))","v":"NO"},0,null,0,{"$f":"IF(BM124=\"YES\",IF(ISERROR(VLOOKUP($A124+8860000,'Growth Data'!$A:$F,6,0)),0,VLOOKUP($A124+8860000,'Growth Data'!$A:$F,6,0)),0)","v":0},0,null,"NO",{"$f":"IF(ISERROR(VLOOKUP($A124+8860000,'Growth Data'!$A:$F,4,0)),\"NO\",VLOOKUP($A124+8860000,'Growth Data'!$A:$F,4,0))","v":"NO"},0,null,0,{"$f":"IF(BU124=\"YES\",IF(ISERROR(VLOOKUP($A124+8860000,'Growth Data'!$A:$Z,7,0)),0,VLOOKUP($A124+8860000,'Growth Data'!$A:$Z,7,0)),0)","v":0},0,null,"NO",{"$f":"IF(ISERROR(VLOOKUP($A124+8860000,'Growth Data'!$A:$F,5,0)),\"NO\",VLOOKUP($A124+8860000,'Growth Data'!$A:$F,5,0))","v":"NO"},0,null,0,{"$f":"IF(CC124=\"YES\",IF(ISERROR(VLOOKUP($A124+8860000,'Growth Data'!$A:$Z,8,0)),0,VLOOKUP($A124+8860000,'Growth Data'!$A:$Z,8,0)),0)","v":0},0,null,null,null,0]
[2611,"St Stephen's Infant School",null,"St Stephen's Infant School","St Stephen's Infant School",0,null,1065694.8899999999,1065694.890298774,0,null,0,0,0,null,1065694.8899999999,1065694.890298774,0,null,6932.98,6932.980458,0,null,null,null,0,null,0,0,0,null,89259.27,null,89259,null,0,null,0,null,0,null,0,null,0,null,0,null,null,null,0,null,null,null,0,null,null,null,0,null,null,null,0,null,"NO",{"$f":"IF(ISERROR(VLOOKUP($A125+8860000,'Growth Data'!$A:$F,3,0)),\"NO\",VLOOKUP($A125+8860000,'Growth Data'!$A:$F,3,0))","v":"NO"},0,null,0,{"$f":"IF(BM125=\"YES\",IF(ISERROR(VLOOKUP($A125+8860000,'Growth Data'!$A:$F,6,0)),0,VLOOKUP($A125+8860000,'Growth Data'!$A:$F,6,0)),0)","v":0},0,null,"NO",{"$f":"IF(ISERROR(VLOOKUP($A125+8860000,'Growth Data'!$A:$F,4,0)),\"NO\",VLOOKUP($A125+8860000,'Growth Data'!$A:$F,4,0))","v":"NO"},0,null,0,{"$f":"IF(BU125=\"YES\",IF(ISERROR(VLOOKUP($A125+8860000,'Growth Data'!$A:$Z,7,0)),0,VLOOKUP($A125+8860000,'Growth Data'!$A:$Z,7,0)),0)","v":0},0,null,"NO",{"$f":"IF(ISERROR(VLOOKUP($A125+8860000,'Growth Data'!$A:$F,5,0)),\"NO\",VLOOKUP($A125+8860000,'Growth Data'!$A:$F,5,0))","v":"NO"},0,null,0,{"$f":"IF(CC125=\"YES\",IF(ISERROR(VLOOKUP($A125+8860000,'Growth Data'!$A:$Z,8,0)),0,VLOOKUP($A125+8860000,'Growth Data'!$A:$Z,8,0)),0)","v":0},0,null,null,null,0]
[2615,"High Firs Primary School",null,"High Firs Primary School","High Firs Primary School",0,null,820825.06,820825.06437850546,0,null,0,0,0,null,820825.06,820825.06437850546,0,null,5428.92,5428.9242708182401,0,null,null,null,0,null,0,0,0,null,22908.19,null,22908,null,3709.18,null,3709,null,0,null,0,null,0,null,0,null,null,null,0,null,null,null,0,null,null,null,0,null,null,null,0,null,"NO",{"$f":"IF(ISERROR(VLOOKUP($A126+8860000,'Growth Data'!$A:$F,3,0)),\"NO\",VLOOKUP($A126+8860000,'Growth Data'!$A:$F,3,0))","v":"NO"},0,null,0,{"$f":"IF(BM126=\"YES\",IF(ISERROR(VLOOKUP($A126+8860000,'Growth Data'!$A:$F,6,0)),0,VLOOKUP($A126+8860000,'Growth Data'!$A:$F,6,0)),0)","v":0},0,null,"NO",{"$f":"IF(ISERROR(VLOOKUP($A126+8860000,'Growth Data'!$A:$F,4,0)),\"NO\",VLOOKUP($A126+8860000,'Growth Data'!$A:$F,4,0))","v":"NO"},0,null,0,{"$f":"IF(BU126=\"YES\",IF(ISERROR(VLOOKUP($A126+8860000,'Growth Data'!$A:$Z,7,0)),0,VLOOKUP($A126+8860000,'Growth Data'!$A:$Z,7,0)),0)","v":0},0,null,"NO",{"$f":"IF(ISERROR(VLOOKUP($A126+8860000,'Growth Data'!$A:$F,5,0)),\"NO\",VLOOKUP($A126+8860000,'Growth Data'!$A:$F,5,0))","v":"NO"},0,null,0,{"$f":"IF(CC126=\"YES\",IF(ISERROR(VLOOKUP($A126+8860000,'Growth Data'!$A:$Z,8,0)),0,VLOOKUP($A126+8860000,'Growth Data'!$A:$Z,8,0)),0)","v":0},0,null,null,null,0]
[2626,"Sandwich Infant School",null,"Sandwich Infant School","Sandwich Infant School",0,null,574807.16,574807.16465321463,0,null,0,0,0,null,574807.16,574807.16465321463,0,null,3594.88,3594.8787560000001,0,null,null,null,0,null,0,0,0,null,108372.61,null,108373,null,0,null,0,null,0,null,0,null,0,null,0,null,null,null,0,null,null,null,0,null,null,null,0,null,null,null,0,null,"NO",{"$f":"IF(ISERROR(VLOOKUP($A127+8860000,'Growth Data'!$A:$F,3,0)),\"NO\",VLOOKUP($A127+8860000,'Growth Data'!$A:$F,3,0))","v":"NO"},0,null,0,{"$f":"IF(BM127=\"YES\",IF(ISERROR(VLOOKUP($A127+8860000,'Growth Data'!$A:$F,6,0)),0,VLOOKUP($A127+8860000,'Growth Data'!$A:$F,6,0)),0)","v":0},0,null,"NO",{"$f":"IF(ISERROR(VLOOKUP($A127+8860000,'Growth Data'!$A:$F,4,0)),\"NO\",VLOOKUP($A127+8860000,'Growth Data'!$A:$F,4,0))","v":"NO"},0,null,0,{"$f":"IF(BU127=\"YES\",IF(ISERROR(VLOOKUP($A127+8860000,'Growth Data'!$A:$Z,7,0)),0,VLOOKUP($A127+8860000,'Growth Data'!$A:$Z,7,0)),0)","v":0},0,null,"NO",{"$f":"IF(ISERROR(VLOOKUP($A127+8860000,'Growth Data'!$A:$F,5,0)),\"NO\",VLOOKUP($A127+8860000,'Growth Data'!$A:$F,5,0))","v":"NO"},0,null,0,{"$f":"IF(CC127=\"YES\",IF(ISERROR(VLOOKUP($A127+8860000,'Growth Data'!$A:$Z,8,0)),0,VLOOKUP($A127+8860000,'Growth Data'!$A:$Z,8,0)),0)","v":0},0,null,null,null,0]
[2627,"Sandwich Junior School",null,"Sandwich Junior School","Sandwich Junior School",0,null,837285.22,837285.22071902524,0,null,0,0,0,null,837285.22,837285.22071902524,0,null,5777.48,5777.4837149999994,0,null,null,null,0,null,0,0,0,null,250789.2,null,250789,null,0,null,0,null,0,null,0,null,0,null,0,null,null,null,0,null,null,null,0,null,null,null,0,null,null,null,0,null,"NO",{"$f":"IF(ISERROR(VLOOKUP($A128+8860000,'Growth Data'!$A:$F,3,0)),\"NO\",VLOOKUP($A128+8860000,'Growth Data'!$A:$F,3,0))","v":"NO"},0,null,0,{"$f":"IF(BM128=\"YES\",IF(ISERROR(VLOOKUP($A128+8860000,'Growth Data'!$A:$F,6,0)),0,VLOOKUP($A128+8860000,'Growth Data'!$A:$F,6,0)),0)","v":0},0,null,"NO",{"$f":"IF(ISERROR(VLOOKUP($A128+8860000,'Growth Data'!$A:$F,4,0)),\"NO\",VLOOKUP($A128+8860000,'Growth Data'!$A:$F,4,0))","v":"NO"},0,null,0,{"$f":"IF(BU128=\"YES\",IF(ISERROR(VLOOKUP($A128+8860000,'Growth Data'!$A:$Z,7,0)),0,VLOOKUP($A128+8860000,'Growth Data'!$A:$Z,7,0)),0)","v":0},0,null,"NO",{"$f":"IF(ISERROR(VLOOKUP($A128+8860000,'Growth Data'!$A:$F,5,0)),\"NO\",VLOOKUP($A128+8860000,'Growth Data'!$A:$F,5,0))","v":"NO"},0,null,0,{"$f":"IF(CC128=\"YES\",IF(ISERROR(VLOOKUP($A128+8860000,'Growth Data'!$A:$Z,8,0)),0,VLOOKUP($A128+8860000,'Growth Data'!$A:$Z,8,0)),0)","v":0},0,null,null,null,0]
[2629,"Holywell Primary School Upchurch",null,"Holywell Primary School Upchurch","Holywell Primary School Upchurch",0,null,736419.56,736419.55513364449,0,null,0,0,0,null,736419.56,736419.55513364449,0,null,5161.22,5161.2187854000003,0,null,null,null,0,null,0,0,0,null,96179.54,null,96180,null,0,null,0,null,0,null,0,null,0,null,0,null,null,null,0,null,null,null,0,null,null,null,0,null,null,null,0,null,"NO",{"$f":"IF(ISERROR(VLOOKUP($A129+8860000,'Growth Data'!$A:$F,3,0)),\"NO\",VLOOKUP($A129+8860000,'Growth Data'!$A:$F,3,0))","v":"NO"},0,null,0,{"$f":"IF(BM129=\"YES\",IF(ISERROR(VLOOKUP($A129+8860000,'Growth Data'!$A:$F,6,0)),0,VLOOKUP($A129+8860000,'Growth Data'!$A:$F,6,0)),0)","v":0},0,null,"NO",{"$f":"IF(ISERROR(VLOOKUP($A129+8860000,'Growth Data'!$A:$F,4,0)),\"NO\",VLOOKUP($A129+8860000,'Growth Data'!$A:$F,4,0))","v":"NO"},0,null,0,{"$f":"IF(BU129=\"YES\",IF(ISERROR(VLOOKUP($A129+8860000,'Growth Data'!$A:$Z,7,0)),0,VLOOKUP($A129+8860000,'Growth Data'!$A:$Z,7,0)),0)","v":0},0,null,"NO",{"$f":"IF(ISERROR(VLOOKUP($A129+8860000,'Growth Data'!$A:$F,5,0)),\"NO\",VLOOKUP($A129+8860000,'Growth Data'!$A:$F,5,0))","v":"NO"},0,null,0,{"$f":"IF(CC129=\"YES\",IF(ISERROR(VLOOKUP($A129+8860000,'Growth Data'!$A:$Z,8,0)),0,VLOOKUP($A129+8860000,'Growth Data'!$A:$Z,8,0)),0)","v":0},0,null,null,null,0]
[2632,"Sevenoaks Primary School",null,"Sevenoaks Primary School","Sevenoaks Primary School",0,null,2107150,2107150,0,null,0,0,0,null,2107150,2107150,0,null,15914.2,15914.199578182881,0,null,null,null,0,null,0,0,0,null,126283.68,null,126284,null,0,null,0,null,0,null,0,null,0,null,0,null,null,null,0,null,null,null,0,null,null,null,0,null,null,null,0,null,"NO",{"$f":"IF(ISERROR(VLOOKUP($A130+8860000,'Growth Data'!$A:$F,3,0)),\"NO\",VLOOKUP($A130+8860000,'Growth Data'!$A:$F,3,0))","v":"YES"},1,null,0,{"$f":"IF(BM130=\"YES\",IF(ISERROR(VLOOKUP($A130+8860000,'Growth Data'!$A:$F,6,0)),0,VLOOKUP($A130+8860000,'Growth Data'!$A:$F,6,0)),0)","v":60},-60,null,"NO",{"$f":"IF(ISERROR(VLOOKUP($A130+8860000,'Growth Data'!$A:$F,4,0)),\"NO\",VLOOKUP($A130+8860000,'Growth Data'!$A:$F,4,0))","v":"NO"},0,null,0,{"$f":"IF(BU130=\"YES\",IF(ISERROR(VLOOKUP($A130+8860000,'Growth Data'!$A:$Z,7,0)),0,VLOOKUP($A130+8860000,'Growth Data'!$A:$Z,7,0)),0)","v":0},0,null,"NO",{"$f":"IF(ISERROR(VLOOKUP($A130+8860000,'Growth Data'!$A:$F,5,0)),\"NO\",VLOOKUP($A130+8860000,'Growth Data'!$A:$F,5,0))","v":"NO"},0,null,0,{"$f":"IF(CC130=\"YES\",IF(ISERROR(VLOOKUP($A130+8860000,'Growth Data'!$A:$Z,8,0)),0,VLOOKUP($A130+8860000,'Growth Data'!$A:$Z,8,0)),0)","v":0},0,null,null,null,0]
[2636,"Edenbridge Primary School",null,"Edenbridge Primary School","Edenbridge Primary School",{"$f":"IF(E131=D131,0,1)","v":0},null,1524891.25,1524891.2534374609,{"$f":"ROUND(H131-I131,0)","v":0},null,0,0,{"$f":"ROUND(L131-M131,0)","v":0},null,1524891.25,1524891.2534374609,{"$f":"ROUND(P131-Q131,0)","v":0},null,10591.72,10591.72480287088,{"$f":"ROUND(T131-U131,0)","v":0},null,null,null,{"$f":"ROUND(X131-Y131,0)","v":0},null,4.9000000000000004,4.9000000000000004,{"$f":"ROUND(AB131-AC131,0)","v":0},null,77024.14,null,{"$f":"ROUND(AF131-AG131,0)","v":77024},null,0,null,{"$f":"ROUND(AJ131-AK131,0)","v":0},null,0,null,{"$f":"ROUND(AN131-AO131,0)","v":0},null,0,null,{"$f":"ROUND(AR131-AS131,0)","v":0},null,null,null,{"$f":"ROUND(AV131-AW131,0)","v":0},null,null,null,{"$f":"ROUND(AZ131-BA131,0)","v":0},null,null,null,{"$f":"ROUND(BD131-BE131,0)","v":0},null,null,null,{"$f":"ROUND(BH131-BI131,0)","v":0},null,"NO",{"$f":"IF(ISERROR(VLOOKUP($A131+8860000,'Growth Data'!$A:$F,3,0)),\"NO\",VLOOKUP($A131+8860000,'Growth Data'!$A:$F,3,0))","v":"NO"},{"$f":"IF(BL131=BM131,0,1)","v":0},null,0,{"$f":"IF(BM131=\"YES\",IF(ISERROR(VLOOKUP($A131+8860000,'Growth Data'!$A:$F,6,0)),0,VLOOKUP($A131+8860000,'Growth Data'!$A:$F,6,0)),0)","v":0},{"$f":"ROUND(BP131-BQ131,0)","v":0},null,"NO",{"$f":"IF(ISERROR(VLOOKUP($A131+8860000,'Growth Data'!$A:$F,4,0)),\"NO\",VLOOKUP($A131+8860000,'Growth Data'!$A:$F,4,0))","v":"NO"},{"$f":"IF(BT131=BU131,0,1)","v":0},null,0,{"$f":"IF(BU131=\"YES\",IF(ISERROR(VLOOKUP($A131+8860000,'Growth Data'!$A:$Z,7,0)),0,VLOOKUP($A131+8860000,'Growth Data'!$A:$Z,7,0)),0)","v":0},{"$f":"ROUND(BX131-BY131,0)","v":0},null,"NO",{"$f":"IF(ISERROR(VLOOKUP($A131+8860000,'Growth Data'!$A:$F,5,0)),\"NO\",VLOOKUP($A131+8860000,'Growth Data'!$A:$F,5,0))","v":"NO"},{"$f":"IF(CB131=CC131,0,1)","v":0},null,0,{"$f":"IF(CC131=\"YES\",IF(ISERROR(VLOOKUP($A131+8860000,'Growth Data'!$A:$Z,8,0)),0,VLOOKUP($A131+8860000,'Growth Data'!$A:$Z,8,0)),0)","v":0},{"$f":"ROUND(CF131-CG131,0)","v":0},null,null,null,{"$f":"ROUND(CJ131-CK131,0)","v":0}]
[2643,"Swalecliffe Community Primary School",null,"Swalecliffe Community Primary School","Swalecliffe Community Primary School",0,null,2213281,2213281,0,null,0,0,0,null,2213281,2213281,0,null,16279.67,16279.665223599999,0,null,null,null,0,null,0,0,0,null,49098.48,null,49098,null,1090.1500000000001,null,1090,null,0,null,0,null,0,null,0,null,null,null,0,null,null,null,0,null,null,null,0,null,null,null,0,null,"NO",{"$f":"IF(ISERROR(VLOOKUP($A132+8860000,'Growth Data'!$A:$F,3,0)),\"NO\",VLOOKUP($A132+8860000,'Growth Data'!$A:$F,3,0))","v":"NO"},0,null,0,{"$f":"IF(BM132=\"YES\",IF(ISERROR(VLOOKUP($A132+8860000,'Growth Data'!$A:$F,6,0)),0,VLOOKUP($A132+8860000,'Growth Data'!$A:$F,6,0)),0)","v":0},0,null,"NO",{"$f":"IF(ISERROR(VLOOKUP($A132+8860000,'Growth Data'!$A:$F,4,0)),\"NO\",VLOOKUP($A132+8860000,'Growth Data'!$A:$F,4,0))","v":"NO"},0,null,0,{"$f":"IF(BU132=\"YES\",IF(ISERROR(VLOOKUP($A132+8860000,'Growth Data'!$A:$Z,7,0)),0,VLOOKUP($A132+8860000,'Growth Data'!$A:$Z,7,0)),0)","v":0},0,null,"NO",{"$f":"IF(ISERROR(VLOOKUP($A132+8860000,'Growth Data'!$A:$F,5,0)),\"NO\",VLOOKUP($A132+8860000,'Growth Data'!$A:$F,5,0))","v":"NO"},0,null,0,{"$f":"IF(CC132=\"YES\",IF(ISERROR(VLOOKUP($A132+8860000,'Growth Data'!$A:$Z,8,0)),0,VLOOKUP($A132+8860000,'Growth Data'!$A:$Z,8,0)),0)","v":0},0,null,null,null,0]
[2648,"Aylesham Primary School",null,"Aylesham Primary School","Aylesham Primary School",0,null,930979.26,930979.26401220495,0,null,0,0,0,null,930979.26,930979.26401220495,0,null,5905.87,5905.8722420000013,0,null,null,null,0,null,0,0,0,null,66167.5,null,66168,null,0,null,0,null,0,null,0,null,0,null,0,null,null,null,0,null,null,null,0,null,null,null,0,null,null,null,0,null,"NO",{"$f":"IF(ISERROR(VLOOKUP($A133+8860000,'Growth Data'!$A:$F,3,0)),\"NO\",VLOOKUP($A133+8860000,'Growth Data'!$A:$F,3,0))","v":"NO"},0,null,0,{"$f":"IF(BM133=\"YES\",IF(ISERROR(VLOOKUP($A133+8860000,'Growth Data'!$A:$F,6,0)),0,VLOOKUP($A133+8860000,'Growth Data'!$A:$F,6,0)),0)","v":0},0,null,"NO",{"$f":"IF(ISERROR(VLOOKUP($A133+8860000,'Growth Data'!$A:$F,4,0)),\"NO\",VLOOKUP($A133+8860000,'Growth Data'!$A:$F,4,0))","v":"NO"},0,null,0,{"$f":"IF(BU133=\"YES\",IF(ISERROR(VLOOKUP($A133+8860000,'Growth Data'!$A:$Z,7,0)),0,VLOOKUP($A133+8860000,'Growth Data'!$A:$Z,7,0)),0)","v":0},0,null,"NO",{"$f":"IF(ISERROR(VLOOKUP($A133+8860000,'Growth Data'!$A:$F,5,0)),\"NO\",VLOOKUP($A133+8860000,'Growth Data'!$A:$F,5,0))","v":"NO"},0,null,0,{"$f":"IF(CC133=\"YES\",IF(ISERROR(VLOOKUP($A133+8860000,'Growth Data'!$A:$Z,8,0)),0,VLOOKUP($A133+8860000,'Growth Data'!$A:$Z,8,0)),0)","v":0},0,null,null,null,0]
[2651,"Broadwater Primary School",null,"Broadwater Primary School","Broadwater Primary School",0,null,773541.51,773541.50737390586,0,null,0,0,0,null,773541.51,773541.50737390586,0,null,4827.41,4827.4086152,0,null,null,null,0,null,0,0,0,null,35678.199999999997,null,35678,null,2432.1799999999998,null,2432,null,75000,null,75000,null,112500,null,112500,null,null,null,0,null,null,null,0,null,null,null,0,null,null,null,0,null,"NO",{"$f":"IF(ISERROR(VLOOKUP($A134+8860000,'Growth Data'!$A:$F,3,0)),\"NO\",VLOOKUP($A134+8860000,'Growth Data'!$A:$F,3,0))","v":"NO"},0,null,0,{"$f":"IF(BM134=\"YES\",IF(ISERROR(VLOOKUP($A134+8860000,'Growth Data'!$A:$F,6,0)),0,VLOOKUP($A134+8860000,'Growth Data'!$A:$F,6,0)),0)","v":0},0,null,"NO",{"$f":"IF(ISERROR(VLOOKUP($A134+8860000,'Growth Data'!$A:$F,4,0)),\"NO\",VLOOKUP($A134+8860000,'Growth Data'!$A:$F,4,0))","v":"NO"},0,null,0,{"$f":"IF(BU134=\"YES\",IF(ISERROR(VLOOKUP($A134+8860000,'Growth Data'!$A:$Z,7,0)),0,VLOOKUP($A134+8860000,'Growth Data'!$A:$Z,7,0)),0)","v":0},0,null,"NO",{"$f":"IF(ISERROR(VLOOKUP($A134+8860000,'Growth Data'!$A:$F,5,0)),\"NO\",VLOOKUP($A134+8860000,'Growth Data'!$A:$F,5,0))","v":"NO"},0,null,0,{"$f":"IF(CC134=\"YES\",IF(ISERROR(VLOOKUP($A134+8860000,'Growth Data'!$A:$Z,8,0)),0,VLOOKUP($A134+8860000,'Growth Data'!$A:$Z,8,0)),0)","v":0},0,null,null,null,0]
[2653,"West Borough Primary School",null,"West Borough Primary School","West Borough Primary School",0,null,1620069.04,1620069.0362003618,0,null,0,0,0,null,1620069.04,1620069.0362003618,0,null,11503.61,11503.612019199998,0,null,null,null,0,null,4.9000000000000004,4.9000000000000004,0,null,80569.06,null,80569,null,0,null,0,null,0,null,0,null,0,null,0,null,null,null,0,null,null,null,0,null,null,null,0,null,null,null,0,null,"YES",{"$f":"IF(ISERROR(VLOOKUP($A135+8860000,'Growth Data'!$A:$F,3,0)),\"NO\",VLOOKUP($A135+8860000,'Growth Data'!$A:$F,3,0))","v":"NO"},1,null,60,{"$f":"IF(BM135=\"YES\",IF(ISERROR(VLOOKUP($A135+8860000,'Growth Data'!$A:$F,6,0)),0,VLOOKUP($A135+8860000,'Growth Data'!$A:$F,6,0)),0)","v":0},60,null,"NO",{"$f":"IF(ISERROR(VLOOKUP($A135+8860000,'Growth Data'!$A:$F,4,0)),\"NO\",VLOOKUP($A135+8860000,'Growth Data'!$A:$F,4,0))","v":"NO"},0,null,0,{"$f":"IF(BU135=\"YES\",IF(ISERROR(VLOOKUP($A135+8860000,'Growth Data'!$A:$Z,7,0)),0,VLOOKUP($A135+8860000,'Growth Data'!$A:$Z,7,0)),0)","v":0},0,null,"YES",{"$f":"IF(ISERROR(VLOOKUP($A135+8860000,'Growth Data'!$A:$F,5,0)),\"NO\",VLOOKUP($A135+8860000,'Growth Data'!$A:$F,5,0))","v":"NO"},1,null,60,{"$f":"IF(CC135=\"YES\",IF(ISERROR(VLOOKUP($A135+8860000,'Growth Data'!$A:$Z,8,0)),0,VLOOKUP($A135+8860000,'Growth Data'!$A:$Z,8,0)),0)","v":0},60,null,null,null,0]
[2659,"Sandown School",null,"Sandown School","Sandown School",0,null,1371153.59,1371153.5871800603,0,null,0,0,0,null,1371153.59,1371153.5871800603,0,null,9731.85,9731.8503466000002,0,null,null,null,0,null,0,0,0,null,167719,null,167719,null,0,null,0,null,0,null,0,null,0,null,0,null,null,null,0,null,null,null,0,null,null,null,0,null,null,null,0,null,"NO",{"$f":"IF(ISERROR(VLOOKUP($A136+8860000,'Growth Data'!$A:$F,3,0)),\"NO\",VLOOKUP($A136+8860000,'Growth Data'!$A:$F,3,0))","v":"NO"},0,null,0,{"$f":"IF(BM136=\"YES\",IF(ISERROR(VLOOKUP($A136+8860000,'Growth Data'!$A:$F,6,0)),0,VLOOKUP($A136+8860000,'Growth Data'!$A:$F,6,0)),0)","v":0},0,null,"YES",{"$f":"IF(ISERROR(VLOOKUP($A136+8860000,'Growth Data'!$A:$F,4,0)),\"NO\",VLOOKUP($A136+8860000,'Growth Data'!$A:$F,4,0))","v":"NO"},1,null,60,{"$f":"IF(BU136=\"YES\",IF(ISERROR(VLOOKUP($A136+8860000,'Growth Data'!$A:$Z,7,0)),0,VLOOKUP($A136+8860000,'Growth Data'!$A:$Z,7,0)),0)","v":0},60,null,"YES",{"$f":"IF(ISERROR(VLOOKUP($A136+8860000,'Growth Data'!$A:$F,5,0)),\"NO\",VLOOKUP($A136+8860000,'Growth Data'!$A:$F,5,0))","v":"NO"},1,null,60,{"$f":"IF(CC136=\"YES\",IF(ISERROR(VLOOKUP($A136+8860000,'Growth Data'!$A:$Z,8,0)),0,VLOOKUP($A136+8860000,'Growth Data'!$A:$Z,8,0)),0)","v":0},60,null,null,null,0]
[2661,"Cage Green Primary School",null,"Cage Green Primary School","Cage Green Primary School",0,null,1514146,1514146.0014892553,0,null,0,0,0,null,1514146,1514146.0014892553,0,null,10656.25,10656.247741000003,0,null,null,null,0,null,0,0,0,null,144405.29999999999,null,144405,null,0,null,0,null,0,null,0,null,0,null,0,null,null,null,0,null,null,null,0,null,null,null,0,null,null,null,0,null,"NO",{"$f":"IF(ISERROR(VLOOKUP($A137+8860000,'Growth Data'!$A:$F,3,0)),\"NO\",VLOOKUP($A137+8860000,'Growth Data'!$A:$F,3,0))","v":"NO"},0,null,0,{"$f":"IF(BM137=\"YES\",IF(ISERROR(VLOOKUP($A137+8860000,'Growth Data'!$A:$F,6,0)),0,VLOOKUP($A137+8860000,'Growth Data'!$A:$F,6,0)),0)","v":0},0,null,"NO",{"$f":"IF(ISERROR(VLOOKUP($A137+8860000,'Growth Data'!$A:$F,4,0)),\"NO\",VLOOKUP($A137+8860000,'Growth Data'!$A:$F,4,0))","v":"NO"},0,null,0,{"$f":"IF(BU137=\"YES\",IF(ISERROR(VLOOKUP($A137+8860000,'Growth Data'!$A:$Z,7,0)),0,VLOOKUP($A137+8860000,'Growth Data'!$A:$Z,7,0)),0)","v":0},0,null,"NO",{"$f":"IF(ISERROR(VLOOKUP($A137+8860000,'Growth Data'!$A:$F,5,0)),\"NO\",VLOOKUP($A137+8860000,'Growth Data'!$A:$F,5,0))","v":"NO"},0,null,0,{"$f":"IF(CC137=\"YES\",IF(ISERROR(VLOOKUP($A137+8860000,'Growth Data'!$A:$Z,8,0)),0,VLOOKUP($A137+8860000,'Growth Data'!$A:$Z,8,0)),0)","v":0},0,null,null,null,0]
[2662,"Long Mead Community Primary School",null,"Long Mead Community Primary School","Long Mead Community Primary School",0,null,643136.23,643136.23185896524,0,null,0,0,0,null,643136.23,643136.23185896524,0,null,3800.3,3800.3003991999994,0,null,null,null,0,null,5.04,5.04,0,null,129233.12,null,129233,null,0,null,0,null,0,null,0,null,0,null,0,null,null,null,0,null,null,null,0,null,null,null,0,null,null,null,0,null,"NO",{"$f":"IF(ISERROR(VLOOKUP($A138+8860000,'Growth Data'!$A:$F,3,0)),\"NO\",VLOOKUP($A138+8860000,'Growth Data'!$A:$F,3,0))","v":"NO"},0,null,0,{"$f":"IF(BM138=\"YES\",IF(ISERROR(VLOOKUP($A138+8860000,'Growth Data'!$A:$F,6,0)),0,VLOOKUP($A138+8860000,'Growth Data'!$A:$F,6,0)),0)","v":0},0,null,"NO",{"$f":"IF(ISERROR(VLOOKUP($A138+8860000,'Growth Data'!$A:$F,4,0)),\"NO\",VLOOKUP($A138+8860000,'Growth Data'!$A:$F,4,0))","v":"NO"},0,null,0,{"$f":"IF(BU138=\"YES\",IF(ISERROR(VLOOKUP($A138+8860000,'Growth Data'!$A:$Z,7,0)),0,VLOOKUP($A138+8860000,'Growth Data'!$A:$Z,7,0)),0)","v":0},0,null,"NO",{"$f":"IF(ISERROR(VLOOKUP($A138+8860000,'Growth Data'!$A:$F,5,0)),\"NO\",VLOOKUP($A138+8860000,'Growth Data'!$A:$F,5,0))","v":"NO"},0,null,0,{"$f":"IF(CC138=\"YES\",IF(ISERROR(VLOOKUP($A138+8860000,'Growth Data'!$A:$Z,8,0)),0,VLOOKUP($A138+8860000,'Growth Data'!$A:$Z,8,0)),0)","v":0},0,null,null,null,0]
[2666,"Wrotham Road Primary School",null,"Wrotham Road Primary School","Wrotham Road Primary School",0,null,1559503.86,1559503.8556324823,0,null,0,0,0,null,1559503.86,1559503.8556324823,0,null,10553.54,10553.536919400001,0,null,null,null,0,null,5.12,5.12,0,null,91122.91,null,91123,null,0,null,0,null,0,null,0,null,0,null,0,null,null,null,0,null,null,null,0,null,null,null,0,null,null,null,0,null,"NO",{"$f":"IF(ISERROR(VLOOKUP($A139+8860000,'Growth Data'!$A:$F,3,0)),\"NO\",VLOOKUP($A139+8860000,'Growth Data'!$A:$F,3,0))","v":"NO"},0,null,0,{"$f":"IF(BM139=\"YES\",IF(ISERROR(VLOOKUP($A139+8860000,'Growth Data'!$A:$F,6,0)),0,VLOOKUP($A139+8860000,'Growth Data'!$A:$F,6,0)),0)","v":0},0,null,"NO",{"$f":"IF(ISERROR(VLOOKUP($A139+8860000,'Growth Data'!$A:$F,4,0)),\"NO\",VLOOKUP($A139+8860000,'Growth Data'!$A:$F,4,0))","v":"NO"},0,null,0,{"$f":"IF(BU139=\"YES\",IF(ISERROR(VLOOKUP($A139+8860000,'Growth Data'!$A:$Z,7,0)),0,VLOOKUP($A139+8860000,'Growth Data'!$A:$Z,7,0)),0)","v":0},0,null,"NO",{"$f":"IF(ISERROR(VLOOKUP($A139+8860000,'Growth Data'!$A:$F,5,0)),\"NO\",VLOOKUP($A139+8860000,'Growth Data'!$A:$F,5,0))","v":"NO"},0,null,0,{"$f":"IF(CC139=\"YES\",IF(ISERROR(VLOOKUP($A139+8860000,'Growth Data'!$A:$Z,8,0)),0,VLOOKUP($A139+8860000,'Growth Data'!$A:$Z,8,0)),0)","v":0},0,null,null,null,0]
[2672,"Palm Bay Primary School",null,"Palm Bay Primary School","Palm Bay Primary School",0,null,1501855.79,1501855.7945308334,0,null,0,0,0,null,1501855.79,1501855.7945308334,0,null,10835.99,10835.991678799999,0,null,null,null,0,null,0,0,0,null,129857.22,null,129857,null,0,null,0,null,0,null,0,null,0,null,0,null,null,null,0,null,null,null,0,null,null,null,0,null,null,null,0,null,"NO",{"$f":"IF(ISERROR(VLOOKUP($A140+8860000,'Growth Data'!$A:$F,3,0)),\"NO\",VLOOKUP($A140+8860000,'Growth Data'!$A:$F,3,0))","v":"NO"},0,null,0,{"$f":"IF(BM140=\"YES\",IF(ISERROR(VLOOKUP($A140+8860000,'Growth Data'!$A:$F,6,0)),0,VLOOKUP($A140+8860000,'Growth Data'!$A:$F,6,0)),0)","v":0},0,null,"NO",{"$f":"IF(ISERROR(VLOOKUP($A140+8860000,'Growth Data'!$A:$F,4,0)),\"NO\",VLOOKUP($A140+8860000,'Growth Data'!$A:$F,4,0))","v":"NO"},0,null,0,{"$f":"IF(BU140=\"YES\",IF(ISERROR(VLOOKUP($A140+8860000,'Growth Data'!$A:$Z,7,0)),0,VLOOKUP($A140+8860000,'Growth Data'!$A:$Z,7,0)),0)","v":0},0,null,"NO",{"$f":"IF(ISERROR(VLOOKUP($A140+8860000,'Growth Data'!$A:$F,5,0)),\"NO\",VLOOKUP($A140+8860000,'Growth Data'!$A:$F,5,0))","v":"NO"},0,null,0,{"$f":"IF(CC140=\"YES\",IF(ISERROR(VLOOKUP($A140+8860000,'Growth Data'!$A:$Z,8,0)),0,VLOOKUP($A140+8860000,'Growth Data'!$A:$Z,8,0)),0)","v":0},0,null,null,null,0]
[2674,"King's Farm Primary School",null,"King's Farm Primary School","King's Farm Primary School",0,null,1424072.34,1424072.3376881867,0,null,299991.69,299991.68948705238,0,null,1724064.03,1724064.0271752391,0,null,8833.1299999999992,8833.1306575999988,0,null,null,null,0,null,5.17,5.17,0,null,133033.44,null,133033,null,0,null,0,null,0,null,0,null,0,null,0,null,null,null,0,null,null,null,0,null,null,null,0,null,null,null,0,null,"NO",{"$f":"IF(ISERROR(VLOOKUP($A141+8860000,'Growth Data'!$A:$F,3,0)),\"NO\",VLOOKUP($A141+8860000,'Growth Data'!$A:$F,3,0))","v":"NO"},0,null,0,{"$f":"IF(BM141=\"YES\",IF(ISERROR(VLOOKUP($A141+8860000,'Growth Data'!$A:$F,6,0)),0,VLOOKUP($A141+8860000,'Growth Data'!$A:$F,6,0)),0)","v":0},0,null,"NO",{"$f":"IF(ISERROR(VLOOKUP($A141+8860000,'Growth Data'!$A:$F,4,0)),\"NO\",VLOOKUP($A141+8860000,'Growth Data'!$A:$F,4,0))","v":"NO"},0,null,0,{"$f":"IF(BU141=\"YES\",IF(ISERROR(VLOOKUP($A141+8860000,'Growth Data'!$A:$Z,7,0)),0,VLOOKUP($A141+8860000,'Growth Data'!$A:$Z,7,0)),0)","v":0},0,null,"NO",{"$f":"IF(ISERROR(VLOOKUP($A141+8860000,'Growth Data'!$A:$F,5,0)),\"NO\",VLOOKUP($A141+8860000,'Growth Data'!$A:$F,5,0))","v":"NO"},0,null,0,{"$f":"IF(CC141=\"YES\",IF(ISERROR(VLOOKUP($A141+8860000,'Growth Data'!$A:$Z,8,0)),0,VLOOKUP($A141+8860000,'Growth Data'!$A:$Z,8,0)),0)","v":0},0,null,null,null,0]
[2677,"Coxheath Primary School",null,"Coxheath Primary School","Coxheath Primary School",0,null,1273741.29,1273741.2877359982,0,null,0,0,0,null,1273741.29,1273741.2877359982,0,null,9089.91,9089.9077116000008,0,null,null,null,0,null,0,0,0,null,159695.35,null,159695,null,0,null,0,null,0,null,0,null,0,null,0,null,null,null,0,null,null,null,0,null,null,null,0,null,null,null,0,null,"NO",{"$f":"IF(ISERROR(VLOOKUP($A142+8860000,'Growth Data'!$A:$F,3,0)),\"NO\",VLOOKUP($A142+8860000,'Growth Data'!$A:$F,3,0))","v":"NO"},0,null,0,{"$f":"IF(BM142=\"YES\",IF(ISERROR(VLOOKUP($A142+8860000,'Growth Data'!$A:$F,6,0)),0,VLOOKUP($A142+8860000,'Growth Data'!$A:$F,6,0)),0)","v":0},0,null,"NO",{"$f":"IF(ISERROR(VLOOKUP($A142+8860000,'Growth Data'!$A:$F,4,0)),\"NO\",VLOOKUP($A142+8860000,'Growth Data'!$A:$F,4,0))","v":"NO"},0,null,0,{"$f":"IF(BU142=\"YES\",IF(ISERROR(VLOOKUP($A142+8860000,'Growth Data'!$A:$Z,7,0)),0,VLOOKUP($A142+8860000,'Growth Data'!$A:$Z,7,0)),0)","v":0},0,null,"NO",{"$f":"IF(ISERROR(VLOOKUP($A142+8860000,'Growth Data'!$A:$F,5,0)),\"NO\",VLOOKUP($A142+8860000,'Growth Data'!$A:$F,5,0))","v":"NO"},0,null,0,{"$f":"IF(CC142=\"YES\",IF(ISERROR(VLOOKUP($A142+8860000,'Growth Data'!$A:$Z,8,0)),0,VLOOKUP($A142+8860000,'Growth Data'!$A:$Z,8,0)),0)","v":0},0,null,null,null,0]
[2680,"Kings Hill School",null,"Kings Hill School","Kings Hill School",0,null,1665286,1665286,0,null,0,0,0,null,1665286,1665286,0,null,12196.91,12196.910064999996,0,null,null,null,0,null,0,0,0,null,74048.11,null,74048,null,0,null,0,null,0,null,0,null,0,null,0,null,null,null,0,null,null,null,0,null,null,null,0,null,null,null,0,null,"NO",{"$f":"IF(ISERROR(VLOOKUP($A143+8860000,'Growth Data'!$A:$F,3,0)),\"NO\",VLOOKUP($A143+8860000,'Growth Data'!$A:$F,3,0))","v":"NO"},0,null,0,{"$f":"IF(BM143=\"YES\",IF(ISERROR(VLOOKUP($A143+8860000,'Growth Data'!$A:$F,6,0)),0,VLOOKUP($A143+8860000,'Growth Data'!$A:$F,6,0)),0)","v":0},0,null,"NO",{"$f":"IF(ISERROR(VLOOKUP($A143+8860000,'Growth Data'!$A:$F,4,0)),\"NO\",VLOOKUP($A143+8860000,'Growth Data'!$A:$F,4,0))","v":"NO"},0,null,0,{"$f":"IF(BU143=\"YES\",IF(ISERROR(VLOOKUP($A143+8860000,'Growth Data'!$A:$Z,7,0)),0,VLOOKUP($A143+8860000,'Growth Data'!$A:$Z,7,0)),0)","v":0},0,null,"NO",{"$f":"IF(ISERROR(VLOOKUP($A143+8860000,'Growth Data'!$A:$F,5,0)),\"NO\",VLOOKUP($A143+8860000,'Growth Data'!$A:$F,5,0))","v":"NO"},0,null,0,{"$f":"IF(CC143=\"YES\",IF(ISERROR(VLOOKUP($A143+8860000,'Growth Data'!$A:$Z,8,0)),0,VLOOKUP($A143+8860000,'Growth Data'!$A:$Z,8,0)),0)","v":0},0,null,null,null,0]
[2682,"New Ash Green Primary School",null,"New Ash Green Primary School","New Ash Green Primary School",0,null,1350150.23,1350150.2300240088,0,null,0,0,0,null,1350150.23,1350150.2300240088,0,null,10032.870000000001,10032.86495146312,0,null,null,null,0,null,0,0,0,null,183049.93,null,183050,null,0,null,0,null,0,null,0,null,0,null,0,null,null,null,0,null,null,null,0,null,null,null,0,null,null,null,0,null,"NO",{"$f":"IF(ISERROR(VLOOKUP($A144+8860000,'Growth Data'!$A:$F,3,0)),\"NO\",VLOOKUP($A144+8860000,'Growth Data'!$A:$F,3,0))","v":"NO"},0,null,0,{"$f":"IF(BM144=\"YES\",IF(ISERROR(VLOOKUP($A144+8860000,'Growth Data'!$A:$F,6,0)),0,VLOOKUP($A144+8860000,'Growth Data'!$A:$F,6,0)),0)","v":0},0,null,"NO",{"$f":"IF(ISERROR(VLOOKUP($A144+8860000,'Growth Data'!$A:$F,4,0)),\"NO\",VLOOKUP($A144+8860000,'Growth Data'!$A:$F,4,0))","v":"NO"},0,null,0,{"$f":"IF(BU144=\"YES\",IF(ISERROR(VLOOKUP($A144+8860000,'Growth Data'!$A:$Z,7,0)),0,VLOOKUP($A144+8860000,'Growth Data'!$A:$Z,7,0)),0)","v":0},0,null,"NO",{"$f":"IF(ISERROR(VLOOKUP($A144+8860000,'Growth Data'!$A:$F,5,0)),\"NO\",VLOOKUP($A144+8860000,'Growth Data'!$A:$F,5,0))","v":"NO"},0,null,0,{"$f":"IF(CC144=\"YES\",IF(ISERROR(VLOOKUP($A144+8860000,'Growth Data'!$A:$Z,8,0)),0,VLOOKUP($A144+8860000,'Growth Data'!$A:$Z,8,0)),0)","v":0},0,null,null,null,0]
[2689,"Craylands School, The",null,"Craylands School, The","Craylands School, The",0,null,1147388.56,1147388.5579946938,0,null,0,0,0,null,1147388.56,1147388.5579946938,0,null,7078.89,7078.89145116496,0,null,null,null,0,null,0,0,0,null,5580,null,5580,null,5442,null,5442,null,0,null,0,null,0,null,0,null,null,null,0,null,null,null,0,null,null,null,0,null,null,null,0,null,"NO",{"$f":"IF(ISERROR(VLOOKUP($A145+8860000,'Growth Data'!$A:$F,3,0)),\"NO\",VLOOKUP($A145+8860000,'Growth Data'!$A:$F,3,0))","v":"YES"},1,null,0,{"$f":"IF(BM145=\"YES\",IF(ISERROR(VLOOKUP($A145+8860000,'Growth Data'!$A:$F,6,0)),0,VLOOKUP($A145+8860000,'Growth Data'!$A:$F,6,0)),0)","v":30},-30,null,"NO",{"$f":"IF(ISERROR(VLOOKUP($A145+8860000,'Growth Data'!$A:$F,4,0)),\"NO\",VLOOKUP($A145+8860000,'Growth Data'!$A:$F,4,0))","v":"YES"},1,null,0,{"$f":"IF(BU145=\"YES\",IF(ISERROR(VLOOKUP($A145+8860000,'Growth Data'!$A:$Z,7,0)),0,VLOOKUP($A145+8860000,'Growth Data'!$A:$Z,7,0)),0)","v":60},-60,null,"NO",{"$f":"IF(ISERROR(VLOOKUP($A145+8860000,'Growth Data'!$A:$F,5,0)),\"NO\",VLOOKUP($A145+8860000,'Growth Data'!$A:$F,5,0))","v":"YES"},1,null,0,{"$f":"IF(CC145=\"YES\",IF(ISERROR(VLOOKUP($A145+8860000,'Growth Data'!$A:$Z,8,0)),0,VLOOKUP($A145+8860000,'Growth Data'!$A:$Z,8,0)),0)","v":31},-31,null,null,null,0]
[2692,"Churchill School, The",null,"Churchill School, The","Churchill School, The",0,null,1426528,1426528,0,null,0,0,0,null,1426528,1426528,0,null,10681.93,10681.925446399999,0,null,null,null,0,null,0,0,0,null,137248.78,null,137249,null,0,null,0,null,0,null,0,null,0,null,0,null,null,null,0,null,null,null,0,null,null,null,0,null,null,null,0,null,"NO",{"$f":"IF(ISERROR(VLOOKUP($A146+8860000,'Growth Data'!$A:$F,3,0)),\"NO\",VLOOKUP($A146+8860000,'Growth Data'!$A:$F,3,0))","v":"NO"},0,null,0,{"$f":"IF(BM146=\"YES\",IF(ISERROR(VLOOKUP($A146+8860000,'Growth Data'!$A:$F,6,0)),0,VLOOKUP($A146+8860000,'Growth Data'!$A:$F,6,0)),0)","v":0},0,null,"NO",{"$f":"IF(ISERROR(VLOOKUP($A146+8860000,'Growth Data'!$A:$F,4,0)),\"NO\",VLOOKUP($A146+8860000,'Growth Data'!$A:$F,4,0))","v":"NO"},0,null,0,{"$f":"IF(BU146=\"YES\",IF(ISERROR(VLOOKUP($A146+8860000,'Growth Data'!$A:$Z,7,0)),0,VLOOKUP($A146+8860000,'Growth Data'!$A:$Z,7,0)),0)","v":0},0,null,"NO",{"$f":"IF(ISERROR(VLOOKUP($A146+8860000,'Growth Data'!$A:$F,5,0)),\"NO\",VLOOKUP($A146+8860000,'Growth Data'!$A:$F,5,0))","v":"NO"},0,null,0,{"$f":"IF(CC146=\"YES\",IF(ISERROR(VLOOKUP($A146+8860000,'Growth Data'!$A:$Z,8,0)),0,VLOOKUP($A146+8860000,'Growth Data'!$A:$Z,8,0)),0)","v":0},0,null,null,null,0]
[3010,"St Paul's CEP School",null,"St Paul's CEP School","St Paul's CEP School",0,null,475348.2,475348.19927142555,0,null,0,0,0,null,475348.2,475348.19927142555,0,null,2874.14,2874.1363786684797,0,null,null,null,0,null,0,0,0,null,226854.47,null,226854,null,0,null,0,null,0,null,0,null,0,null,0,null,null,null,0,null,null,null,0,null,null,null,0,null,null,null,0,null,"NO",{"$f":"IF(ISERROR(VLOOKUP($A147+8860000,'Growth Data'!$A:$F,3,0)),\"NO\",VLOOKUP($A147+8860000,'Growth Data'!$A:$F,3,0))","v":"NO"},0,null,0,{"$f":"IF(BM147=\"YES\",IF(ISERROR(VLOOKUP($A147+8860000,'Growth Data'!$A:$F,6,0)),0,VLOOKUP($A147+8860000,'Growth Data'!$A:$F,6,0)),0)","v":0},0,null,"NO",{"$f":"IF(ISERROR(VLOOKUP($A147+8860000,'Growth Data'!$A:$F,4,0)),\"NO\",VLOOKUP($A147+8860000,'Growth Data'!$A:$F,4,0))","v":"NO"},0,null,0,{"$f":"IF(BU147=\"YES\",IF(ISERROR(VLOOKUP($A147+8860000,'Growth Data'!$A:$Z,7,0)),0,VLOOKUP($A147+8860000,'Growth Data'!$A:$Z,7,0)),0)","v":0},0,null,"NO",{"$f":"IF(ISERROR(VLOOKUP($A147+8860000,'Growth Data'!$A:$F,5,0)),\"NO\",VLOOKUP($A147+8860000,'Growth Data'!$A:$F,5,0))","v":"NO"},0,null,0,{"$f":"IF(CC147=\"YES\",IF(ISERROR(VLOOKUP($A147+8860000,'Growth Data'!$A:$Z,8,0)),0,VLOOKUP($A147+8860000,'Growth Data'!$A:$Z,8,0)),0)","v":0},0,null,null,null,0]
[3015,"Fawkham CEP School",null,"Fawkham CEP School","Fawkham CEP School",0,null,452373.13,452373.12560984795,0,null,0,0,0,null,452373.13,452373.12560984795,0,null,2714.46,2714.46213540912,0,null,null,null,0,null,0,0,0,null,5580,null,5580,null,5442,null,5442,null,0,null,0,null,0,null,0,null,null,null,0,null,null,null,0,null,null,null,0,null,null,null,0,null,"NO",{"$f":"IF(ISERROR(VLOOKUP($A148+8860000,'Growth Data'!$A:$F,3,0)),\"NO\",VLOOKUP($A148+8860000,'Growth Data'!$A:$F,3,0))","v":"NO"},0,null,0,{"$f":"IF(BM148=\"YES\",IF(ISERROR(VLOOKUP($A148+8860000,'Growth Data'!$A:$F,6,0)),0,VLOOKUP($A148+8860000,'Growth Data'!$A:$F,6,0)),0)","v":0},0,null,"NO",{"$f":"IF(ISERROR(VLOOKUP($A148+8860000,'Growth Data'!$A:$F,4,0)),\"NO\",VLOOKUP($A148+8860000,'Growth Data'!$A:$F,4,0))","v":"NO"},0,null,0,{"$f":"IF(BU148=\"YES\",IF(ISERROR(VLOOKUP($A148+8860000,'Growth Data'!$A:$Z,7,0)),0,VLOOKUP($A148+8860000,'Growth Data'!$A:$Z,7,0)),0)","v":0},0,null,"NO",{"$f":"IF(ISERROR(VLOOKUP($A148+8860000,'Growth Data'!$A:$F,5,0)),\"NO\",VLOOKUP($A148+8860000,'Growth Data'!$A:$F,5,0))","v":"NO"},0,null,0,{"$f":"IF(CC148=\"YES\",IF(ISERROR(VLOOKUP($A148+8860000,'Growth Data'!$A:$Z,8,0)),0,VLOOKUP($A148+8860000,'Growth Data'!$A:$Z,8,0)),0)","v":0},0,null,null,null,0]
[3020,"Sedley's CEP School",null,"Sedley's CEP School","Sedley's CEP School",0,null,443128.86,443128.85522466962,0,null,0,0,0,null,443128.86,443128.85522466962,0,null,2687.85,2687.84976153256,0,null,null,null,0,null,0,0,0,null,121066.27,null,121066,null,0,null,0,null,0,null,0,null,0,null,0,null,null,null,0,null,null,null,0,null,null,null,0,null,null,null,0,null,"NO",{"$f":"IF(ISERROR(VLOOKUP($A149+8860000,'Growth Data'!$A:$F,3,0)),\"NO\",VLOOKUP($A149+8860000,'Growth Data'!$A:$F,3,0))","v":"NO"},0,null,0,{"$f":"IF(BM149=\"YES\",IF(ISERROR(VLOOKUP($A149+8860000,'Growth Data'!$A:$F,6,0)),0,VLOOKUP($A149+8860000,'Growth Data'!$A:$F,6,0)),0)","v":0},0,null,"NO",{"$f":"IF(ISERROR(VLOOKUP($A149+8860000,'Growth Data'!$A:$F,4,0)),\"NO\",VLOOKUP($A149+8860000,'Growth Data'!$A:$F,4,0))","v":"NO"},0,null,0,{"$f":"IF(BU149=\"YES\",IF(ISERROR(VLOOKUP($A149+8860000,'Growth Data'!$A:$Z,7,0)),0,VLOOKUP($A149+8860000,'Growth Data'!$A:$Z,7,0)),0)","v":0},0,null,"NO",{"$f":"IF(ISERROR(VLOOKUP($A149+8860000,'Growth Data'!$A:$F,5,0)),\"NO\",VLOOKUP($A149+8860000,'Growth Data'!$A:$F,5,0))","v":"NO"},0,null,0,{"$f":"IF(CC149=\"YES\",IF(ISERROR(VLOOKUP($A149+8860000,'Growth Data'!$A:$Z,8,0)),0,VLOOKUP($A149+8860000,'Growth Data'!$A:$Z,8,0)),0)","v":0},0,null,null,null,0]
[3022,"Benenden CEP School",null,"Benenden CEP School","Benenden CEP School",0,null,617046.31999999995,617046.32300493203,0,null,0,0,0,null,617046.31999999995,617046.32300493203,0,null,4159.79,4159.7882748000002,0,null,null,null,0,null,0,0,0,null,78328.08,null,78328,null,0,null,0,null,120000,null,120000,null,180000,null,180000,null,null,null,0,null,null,null,0,null,null,null,0,null,null,null,0,null,"NO",{"$f":"IF(ISERROR(VLOOKUP($A150+8860000,'Growth Data'!$A:$F,3,0)),\"NO\",VLOOKUP($A150+8860000,'Growth Data'!$A:$F,3,0))","v":"NO"},0,null,0,{"$f":"IF(BM150=\"YES\",IF(ISERROR(VLOOKUP($A150+8860000,'Growth Data'!$A:$F,6,0)),0,VLOOKUP($A150+8860000,'Growth Data'!$A:$F,6,0)),0)","v":0},0,null,"NO",{"$f":"IF(ISERROR(VLOOKUP($A150+8860000,'Growth Data'!$A:$F,4,0)),\"NO\",VLOOKUP($A150+8860000,'Growth Data'!$A:$F,4,0))","v":"NO"},0,null,0,{"$f":"IF(BU150=\"YES\",IF(ISERROR(VLOOKUP($A150+8860000,'Growth Data'!$A:$Z,7,0)),0,VLOOKUP($A150+8860000,'Growth Data'!$A:$Z,7,0)),0)","v":0},0,null,"NO",{"$f":"IF(ISERROR(VLOOKUP($A150+8860000,'Growth Data'!$A:$F,5,0)),\"NO\",VLOOKUP($A150+8860000,'Growth Data'!$A:$F,5,0))","v":"NO"},0,null,0,{"$f":"IF(CC150=\"YES\",IF(ISERROR(VLOOKUP($A150+8860000,'Growth Data'!$A:$Z,8,0)),0,VLOOKUP($A150+8860000,'Growth Data'!$A:$Z,8,0)),0)","v":0},0,null,null,null,0]
[3023,"Bidborough CEP School",null,"Bidborough CEP School","Bidborough CEP School",0,null,738028.42,738028.41974978044,0,null,0,0,0,null,738028.42,738028.41974978044,0,null,5289.61,5289.6073123999995,0,null,null,null,0,null,0,0,0,null,102771.63,null,102772,null,0,null,0,null,0,null,0,null,0,null,0,null,null,null,0,null,null,null,0,null,null,null,0,null,null,null,0,null,"NO",{"$f":"IF(ISERROR(VLOOKUP($A151+8860000,'Growth Data'!$A:$F,3,0)),\"NO\",VLOOKUP($A151+8860000,'Growth Data'!$A:$F,3,0))","v":"NO"},0,null,0,{"$f":"IF(BM151=\"YES\",IF(ISERROR(VLOOKUP($A151+8860000,'Growth Data'!$A:$F,6,0)),0,VLOOKUP($A151+8860000,'Growth Data'!$A:$F,6,0)),0)","v":0},0,null,"NO",{"$f":"IF(ISERROR(VLOOKUP($A151+8860000,'Growth Data'!$A:$F,4,0)),\"NO\",VLOOKUP($A151+8860000,'Growth Data'!$A:$F,4,0))","v":"NO"},0,null,0,{"$f":"IF(BU151=\"YES\",IF(ISERROR(VLOOKUP($A151+8860000,'Growth Data'!$A:$Z,7,0)),0,VLOOKUP($A151+8860000,'Growth Data'!$A:$Z,7,0)),0)","v":0},0,null,"NO",{"$f":"IF(ISERROR(VLOOKUP($A151+8860000,'Growth Data'!$A:$F,5,0)),\"NO\",VLOOKUP($A151+8860000,'Growth Data'!$A:$F,5,0))","v":"NO"},0,null,0,{"$f":"IF(CC151=\"YES\",IF(ISERROR(VLOOKUP($A151+8860000,'Growth Data'!$A:$Z,8,0)),0,VLOOKUP($A151+8860000,'Growth Data'!$A:$Z,8,0)),0)","v":0},0,null,null,null,0]
[3027,"Cranbrook CEP School",null,"Cranbrook CEP School","Cranbrook CEP School",0,null,632199.13,632199.13053242804,0,null,0,0,0,null,632199.13,632199.13053242804,0,null,3851.66,3851.6558099999997,0,null,null,null,0,null,0,0,0,null,123519.05,null,123519,null,0,null,0,null,0,null,0,null,0,null,0,null,null,null,0,null,null,null,0,null,null,null,0,null,null,null,0,null,"NO",{"$f":"IF(ISERROR(VLOOKUP($A152+8860000,'Growth Data'!$A:$F,3,0)),\"NO\",VLOOKUP($A152+8860000,'Growth Data'!$A:$F,3,0))","v":"NO"},0,null,0,{"$f":"IF(BM152=\"YES\",IF(ISERROR(VLOOKUP($A152+8860000,'Growth Data'!$A:$F,6,0)),0,VLOOKUP($A152+8860000,'Growth Data'!$A:$F,6,0)),0)","v":0},0,null,"NO",{"$f":"IF(ISERROR(VLOOKUP($A152+8860000,'Growth Data'!$A:$F,4,0)),\"NO\",VLOOKUP($A152+8860000,'Growth Data'!$A:$F,4,0))","v":"NO"},0,null,0,{"$f":"IF(BU152=\"YES\",IF(ISERROR(VLOOKUP($A152+8860000,'Growth Data'!$A:$Z,7,0)),0,VLOOKUP($A152+8860000,'Growth Data'!$A:$Z,7,0)),0)","v":0},0,null,"YES",{"$f":"IF(ISERROR(VLOOKUP($A152+8860000,'Growth Data'!$A:$F,5,0)),\"NO\",VLOOKUP($A152+8860000,'Growth Data'!$A:$F,5,0))","v":"NO"},1,null,30,{"$f":"IF(CC152=\"YES\",IF(ISERROR(VLOOKUP($A152+8860000,'Growth Data'!$A:$Z,8,0)),0,VLOOKUP($A152+8860000,'Growth Data'!$A:$Z,8,0)),0)","v":0},30,null,null,null,0]
[3029,"Goudhurst & Kilndown CEP School",null,"Goudhurst & Kilndown CEP School","Goudhurst & Kilndown CEP School",0,null,759523.32,759523.32203536516,0,null,0,0,0,null,759523.32,759523.32203536516,0,null,5418,5417.9958393999996,0,null,null,null,0,null,0,0,0,null,112839.79,null,112840,null,0,null,0,null,0,null,0,null,0,null,0,null,null,null,0,null,null,null,0,null,null,null,0,null,null,null,0,null,"NO",{"$f":"IF(ISERROR(VLOOKUP($A153+8860000,'Growth Data'!$A:$F,3,0)),\"NO\",VLOOKUP($A153+8860000,'Growth Data'!$A:$F,3,0))","v":"NO"},0,null,0,{"$f":"IF(BM153=\"YES\",IF(ISERROR(VLOOKUP($A153+8860000,'Growth Data'!$A:$F,6,0)),0,VLOOKUP($A153+8860000,'Growth Data'!$A:$F,6,0)),0)","v":0},0,null,"NO",{"$f":"IF(ISERROR(VLOOKUP($A153+8860000,'Growth Data'!$A:$F,4,0)),\"NO\",VLOOKUP($A153+8860000,'Growth Data'!$A:$F,4,0))","v":"NO"},0,null,0,{"$f":"IF(BU153=\"YES\",IF(ISERROR(VLOOKUP($A153+8860000,'Growth Data'!$A:$Z,7,0)),0,VLOOKUP($A153+8860000,'Growth Data'!$A:$Z,7,0)),0)","v":0},0,null,"NO",{"$f":"IF(ISERROR(VLOOKUP($A153+8860000,'Growth Data'!$A:$F,5,0)),\"NO\",VLOOKUP($A153+8860000,'Growth Data'!$A:$F,5,0))","v":"NO"},0,null,0,{"$f":"IF(CC153=\"YES\",IF(ISERROR(VLOOKUP($A153+8860000,'Growth Data'!$A:$Z,8,0)),0,VLOOKUP($A153+8860000,'Growth Data'!$A:$Z,8,0)),0)","v":0},0,null,null,null,0]
[3032,"Hawkhurst CEP School",null,"Hawkhurst CEP School","Hawkhurst CEP School",0,null,786218.33,786218.33125416748,0,null,0,0,0,null,786218.33,786218.33125416748,0,null,5032.83,5032.8302583999994,0,null,null,null,0,null,0,0,0,null,33023.96,null,33024,null,2697.6,null,2698,null,0,null,0,null,0,null,0,null,null,null,0,null,null,null,0,null,null,null,0,null,null,null,0,null,"NO",{"$f":"IF(ISERROR(VLOOKUP($A154+8860000,'Growth Data'!$A:$F,3,0)),\"NO\",VLOOKUP($A154+8860000,'Growth Data'!$A:$F,3,0))","v":"NO"},0,null,0,{"$f":"IF(BM154=\"YES\",IF(ISERROR(VLOOKUP($A154+8860000,'Growth Data'!$A:$F,6,0)),0,VLOOKUP($A154+8860000,'Growth Data'!$A:$F,6,0)),0)","v":0},0,null,"NO",{"$f":"IF(ISERROR(VLOOKUP($A154+8860000,'Growth Data'!$A:$F,4,0)),\"NO\",VLOOKUP($A154+8860000,'Growth Data'!$A:$F,4,0))","v":"NO"},0,null,0,{"$f":"IF(BU154=\"YES\",IF(ISERROR(VLOOKUP($A154+8860000,'Growth Data'!$A:$Z,7,0)),0,VLOOKUP($A154+8860000,'Growth Data'!$A:$Z,7,0)),0)","v":0},0,null,"NO",{"$f":"IF(ISERROR(VLOOKUP($A154+8860000,'Growth Data'!$A:$F,5,0)),\"NO\",VLOOKUP($A154+8860000,'Growth Data'!$A:$F,5,0))","v":"NO"},0,null,0,{"$f":"IF(CC154=\"YES\",IF(ISERROR(VLOOKUP($A154+8860000,'Growth Data'!$A:$Z,8,0)),0,VLOOKUP($A154+8860000,'Growth Data'!$A:$Z,8,0)),0)","v":0},0,null,null,null,0]
[3033,"Hildenborough CEP School",null,"Hildenborough CEP School","Hildenborough CEP School",0,null,732146.87,732146.86867745896,0,null,0,0,0,null,732146.87,732146.86867745896,0,null,5084.1899999999996,5084.1856692000001,0,null,null,null,0,null,0,0,0,null,18906.14,null,18906,null,4109.3900000000003,null,4109,null,0,null,0,null,0,null,0,null,null,null,0,null,null,null,0,null,null,null,0,null,null,null,0,null,"NO",{"$f":"IF(ISERROR(VLOOKUP($A155+8860000,'Growth Data'!$A:$F,3,0)),\"NO\",VLOOKUP($A155+8860000,'Growth Data'!$A:$F,3,0))","v":"NO"},0,null,0,{"$f":"IF(BM155=\"YES\",IF(ISERROR(VLOOKUP($A155+8860000,'Growth Data'!$A:$F,6,0)),0,VLOOKUP($A155+8860000,'Growth Data'!$A:$F,6,0)),0)","v":0},0,null,"NO",{"$f":"IF(ISERROR(VLOOKUP($A155+8860000,'Growth Data'!$A:$F,4,0)),\"NO\",VLOOKUP($A155+8860000,'Growth Data'!$A:$F,4,0))","v":"NO"},0,null,0,{"$f":"IF(BU155=\"YES\",IF(ISERROR(VLOOKUP($A155+8860000,'Growth Data'!$A:$Z,7,0)),0,VLOOKUP($A155+8860000,'Growth Data'!$A:$Z,7,0)),0)","v":0},0,null,"NO",{"$f":"IF(ISERROR(VLOOKUP($A155+8860000,'Growth Data'!$A:$F,5,0)),\"NO\",VLOOKUP($A155+8860000,'Growth Data'!$A:$F,5,0))","v":"NO"},0,null,0,{"$f":"IF(CC155=\"YES\",IF(ISERROR(VLOOKUP($A155+8860000,'Growth Data'!$A:$Z,8,0)),0,VLOOKUP($A155+8860000,'Growth Data'!$A:$Z,8,0)),0)","v":0},0,null,null,null,0]
[3034,"Lamberhurst St Mary's CEP School",null,"Lamberhurst St Mary's CEP School","Lamberhurst St Mary's CEP School",0,null,722431.51,722431.5102413845,0,null,0,0,0,null,722431.51,722431.5102413845,0,null,5084.1899999999996,5084.1856692000001,0,null,null,null,0,null,0,0,0,null,27864.65,null,27865,null,3213.54,null,3214,null,0,null,0,null,0,null,0,null,null,null,0,null,null,null,0,null,null,null,0,null,null,null,0,null,"NO",{"$f":"IF(ISERROR(VLOOKUP($A156+8860000,'Growth Data'!$A:$F,3,0)),\"NO\",VLOOKUP($A156+8860000,'Growth Data'!$A:$F,3,0))","v":"NO"},0,null,0,{"$f":"IF(BM156=\"YES\",IF(ISERROR(VLOOKUP($A156+8860000,'Growth Data'!$A:$F,6,0)),0,VLOOKUP($A156+8860000,'Growth Data'!$A:$F,6,0)),0)","v":0},0,null,"NO",{"$f":"IF(ISERROR(VLOOKUP($A156+8860000,'Growth Data'!$A:$F,4,0)),\"NO\",VLOOKUP($A156+8860000,'Growth Data'!$A:$F,4,0))","v":"NO"},0,null,0,{"$f":"IF(BU156=\"YES\",IF(ISERROR(VLOOKUP($A156+8860000,'Growth Data'!$A:$Z,7,0)),0,VLOOKUP($A156+8860000,'Growth Data'!$A:$Z,7,0)),0)","v":0},0,null,"NO",{"$f":"IF(ISERROR(VLOOKUP($A156+8860000,'Growth Data'!$A:$F,5,0)),\"NO\",VLOOKUP($A156+8860000,'Growth Data'!$A:$F,5,0))","v":"NO"},0,null,0,{"$f":"IF(CC156=\"YES\",IF(ISERROR(VLOOKUP($A156+8860000,'Growth Data'!$A:$Z,8,0)),0,VLOOKUP($A156+8860000,'Growth Data'!$A:$Z,8,0)),0)","v":0},0,null,null,null,0]
[3035,"Seal CEP School",null,"Seal CEP School","Seal CEP School",0,null,993997.32,993997.32455857156,0,null,0,0,0,null,993997.32,993997.32455857156,0,null,6999.05,6999.05432953528,0,null,null,null,0,null,0,0,0,null,5580,null,5580,null,5442,null,5442,null,0,null,0,null,0,null,0,null,null,null,0,null,null,null,0,null,null,null,0,null,null,null,0,null,"YES",{"$f":"IF(ISERROR(VLOOKUP($A157+8860000,'Growth Data'!$A:$F,3,0)),\"NO\",VLOOKUP($A157+8860000,'Growth Data'!$A:$F,3,0))","v":"YES"},0,null,60,{"$f":"IF(BM157=\"YES\",IF(ISERROR(VLOOKUP($A157+8860000,'Growth Data'!$A:$F,6,0)),0,VLOOKUP($A157+8860000,'Growth Data'!$A:$F,6,0)),0)","v":49},11,null,"YES",{"$f":"IF(ISERROR(VLOOKUP($A157+8860000,'Growth Data'!$A:$F,4,0)),\"NO\",VLOOKUP($A157+8860000,'Growth Data'!$A:$F,4,0))","v":"YES"},0,null,62,{"$f":"IF(BU157=\"YES\",IF(ISERROR(VLOOKUP($A157+8860000,'Growth Data'!$A:$Z,7,0)),0,VLOOKUP($A157+8860000,'Growth Data'!$A:$Z,7,0)),0)","v":60},2,null,"YES",{"$f":"IF(ISERROR(VLOOKUP($A157+8860000,'Growth Data'!$A:$F,5,0)),\"NO\",VLOOKUP($A157+8860000,'Growth Data'!$A:$F,5,0))","v":"YES"},0,null,61,{"$f":"IF(CC157=\"YES\",IF(ISERROR(VLOOKUP($A157+8860000,'Growth Data'!$A:$Z,8,0)),0,VLOOKUP($A157+8860000,'Growth Data'!$A:$Z,8,0)),0)","v":30},31,null,null,null,0]
[3037,"St John's CEP School, Sevenoaks",null,"St John's CEP School, Sevenoaks","St John's CEP School, Sevenoaks",0,null,898784.94,898784.93775298796,0,null,103968.35,103968.34714865801,0,null,1002753.28,1002753.284901646,0,null,6440.19,6440.1944781275206,0,null,null,null,0,null,0,0,0,null,30217.360000000001,null,30217,null,2978.26,null,2978,null,0,null,0,null,0,null,0,null,null,null,0,null,null,null,0,null,null,null,0,null,null,null,0,null,"NO",{"$f":"IF(ISERROR(VLOOKUP($A158+8860000,'Growth Data'!$A:$F,3,0)),\"NO\",VLOOKUP($A158+8860000,'Growth Data'!$A:$F,3,0))","v":"NO"},0,null,0,{"$f":"IF(BM158=\"YES\",IF(ISERROR(VLOOKUP($A158+8860000,'Growth Data'!$A:$F,6,0)),0,VLOOKUP($A158+8860000,'Growth Data'!$A:$F,6,0)),0)","v":0},0,null,"NO",{"$f":"IF(ISERROR(VLOOKUP($A158+8860000,'Growth Data'!$A:$F,4,0)),\"NO\",VLOOKUP($A158+8860000,'Growth Data'!$A:$F,4,0))","v":"NO"},0,null,0,{"$f":"IF(BU158=\"YES\",IF(ISERROR(VLOOKUP($A158+8860000,'Growth Data'!$A:$Z,7,0)),0,VLOOKUP($A158+8860000,'Growth Data'!$A:$Z,7,0)),0)","v":0},0,null,"NO",{"$f":"IF(ISERROR(VLOOKUP($A158+8860000,'Growth Data'!$A:$F,5,0)),\"NO\",VLOOKUP($A158+8860000,'Growth Data'!$A:$F,5,0))","v":"NO"},0,null,0,{"$f":"IF(CC158=\"YES\",IF(ISERROR(VLOOKUP($A158+8860000,'Growth Data'!$A:$Z,8,0)),0,VLOOKUP($A158+8860000,'Growth Data'!$A:$Z,8,0)),0)","v":0},0,null,null,null,0]
[3042,"Speldhurst CEP School",null,"Speldhurst CEP School","Speldhurst CEP School",0,null,541530.62,541530.61656375614,0,null,0,0,0,null,541530.62,541530.61656375614,0,null,3723.27,3723.2672829999992,0,null,null,null,0,null,0,0,0,null,35214.11,null,35214,null,2478.59,null,2479,null,0,null,0,null,0,null,0,null,null,null,0,null,null,null,0,null,null,null,0,null,null,null,0,null,"NO",{"$f":"IF(ISERROR(VLOOKUP($A159+8860000,'Growth Data'!$A:$F,3,0)),\"NO\",VLOOKUP($A159+8860000,'Growth Data'!$A:$F,3,0))","v":"NO"},0,null,0,{"$f":"IF(BM159=\"YES\",IF(ISERROR(VLOOKUP($A159+8860000,'Growth Data'!$A:$F,6,0)),0,VLOOKUP($A159+8860000,'Growth Data'!$A:$F,6,0)),0)","v":0},0,null,"NO",{"$f":"IF(ISERROR(VLOOKUP($A159+8860000,'Growth Data'!$A:$F,4,0)),\"NO\",VLOOKUP($A159+8860000,'Growth Data'!$A:$F,4,0))","v":"NO"},0,null,0,{"$f":"IF(BU159=\"YES\",IF(ISERROR(VLOOKUP($A159+8860000,'Growth Data'!$A:$Z,7,0)),0,VLOOKUP($A159+8860000,'Growth Data'!$A:$Z,7,0)),0)","v":0},0,null,"NO",{"$f":"IF(ISERROR(VLOOKUP($A159+8860000,'Growth Data'!$A:$F,5,0)),\"NO\",VLOOKUP($A159+8860000,'Growth Data'!$A:$F,5,0))","v":"NO"},0,null,0,{"$f":"IF(CC159=\"YES\",IF(ISERROR(VLOOKUP($A159+8860000,'Growth Data'!$A:$Z,8,0)),0,VLOOKUP($A159+8860000,'Growth Data'!$A:$Z,8,0)),0)","v":0},0,null,null,null,0]
[3043,"Sundridge & Brasted CEP School",null,"Sundridge & Brasted CEP School","Sundridge & Brasted CEP School",0,null,431815.47,431815.47423331806,0,null,0,0,0,null,431815.47,431815.47423331806,0,null,2554.79,2554.78789214976,0,null,null,null,0,null,0,0,0,null,52911.46,null,52911,null,708.85,null,709,null,0,null,0,null,0,null,0,null,null,null,0,null,null,null,0,null,null,null,0,null,null,null,0,null,"NO",{"$f":"IF(ISERROR(VLOOKUP($A160+8860000,'Growth Data'!$A:$F,3,0)),\"NO\",VLOOKUP($A160+8860000,'Growth Data'!$A:$F,3,0))","v":"NO"},0,null,0,{"$f":"IF(BM160=\"YES\",IF(ISERROR(VLOOKUP($A160+8860000,'Growth Data'!$A:$F,6,0)),0,VLOOKUP($A160+8860000,'Growth Data'!$A:$F,6,0)),0)","v":0},0,null,"NO",{"$f":"IF(ISERROR(VLOOKUP($A160+8860000,'Growth Data'!$A:$F,4,0)),\"NO\",VLOOKUP($A160+8860000,'Growth Data'!$A:$F,4,0))","v":"NO"},0,null,0,{"$f":"IF(BU160=\"YES\",IF(ISERROR(VLOOKUP($A160+8860000,'Growth Data'!$A:$Z,7,0)),0,VLOOKUP($A160+8860000,'Growth Data'!$A:$Z,7,0)),0)","v":0},0,null,"NO",{"$f":"IF(ISERROR(VLOOKUP($A160+8860000,'Growth Data'!$A:$F,5,0)),\"NO\",VLOOKUP($A160+8860000,'Growth Data'!$A:$F,5,0))","v":"NO"},0,null,0,{"$f":"IF(CC160=\"YES\",IF(ISERROR(VLOOKUP($A160+8860000,'Growth Data'!$A:$Z,8,0)),0,VLOOKUP($A160+8860000,'Growth Data'!$A:$Z,8,0)),0)","v":0},0,null,null,null,0]
[3049,"St James' CEJ School",null,"St James' CEJ School","St James' CEJ School",0,null,1261417,1261417,0,null,0,0,0,null,1261417,1261417,0,null,9269.65,9269.6516494000007,0,null,null,null,0,null,0,0,0,null,27005.74,null,27006,null,3299.43,null,3299,null,0,null,0,null,0,null,0,null,null,null,0,null,null,null,0,null,null,null,0,null,null,null,0,null,"NO",{"$f":"IF(ISERROR(VLOOKUP($A161+8860000,'Growth Data'!$A:$F,3,0)),\"NO\",VLOOKUP($A161+8860000,'Growth Data'!$A:$F,3,0))","v":"NO"},0,null,0,{"$f":"IF(BM161=\"YES\",IF(ISERROR(VLOOKUP($A161+8860000,'Growth Data'!$A:$F,6,0)),0,VLOOKUP($A161+8860000,'Growth Data'!$A:$F,6,0)),0)","v":0},0,null,"NO",{"$f":"IF(ISERROR(VLOOKUP($A161+8860000,'Growth Data'!$A:$F,4,0)),\"NO\",VLOOKUP($A161+8860000,'Growth Data'!$A:$F,4,0))","v":"NO"},0,null,0,{"$f":"IF(BU161=\"YES\",IF(ISERROR(VLOOKUP($A161+8860000,'Growth Data'!$A:$Z,7,0)),0,VLOOKUP($A161+8860000,'Growth Data'!$A:$Z,7,0)),0)","v":0},0,null,"NO",{"$f":"IF(ISERROR(VLOOKUP($A161+8860000,'Growth Data'!$A:$F,5,0)),\"NO\",VLOOKUP($A161+8860000,'Growth Data'!$A:$F,5,0))","v":"NO"},0,null,0,{"$f":"IF(CC161=\"YES\",IF(ISERROR(VLOOKUP($A161+8860000,'Growth Data'!$A:$Z,8,0)),0,VLOOKUP($A161+8860000,'Growth Data'!$A:$Z,8,0)),0)","v":0},0,null,null,null,0]
[3050,"St John's CEP School",null,"St John's CEP School","St John's CEP School",0,null,2219299,2219299,0,null,0,0,0,null,2219299,2219299,0,null,16228.31,16228.3098128,0,null,null,null,0,null,0,0,0,null,68732.460000000006,null,68732,null,0,null,0,null,0,null,0,null,0,null,0,null,null,null,0,null,null,null,0,null,null,null,0,null,null,null,0,null,"NO",{"$f":"IF(ISERROR(VLOOKUP($A162+8860000,'Growth Data'!$A:$F,3,0)),\"NO\",VLOOKUP($A162+8860000,'Growth Data'!$A:$F,3,0))","v":"NO"},0,null,0,{"$f":"IF(BM162=\"YES\",IF(ISERROR(VLOOKUP($A162+8860000,'Growth Data'!$A:$F,6,0)),0,VLOOKUP($A162+8860000,'Growth Data'!$A:$F,6,0)),0)","v":0},0,null,"NO",{"$f":"IF(ISERROR(VLOOKUP($A162+8860000,'Growth Data'!$A:$F,4,0)),\"NO\",VLOOKUP($A162+8860000,'Growth Data'!$A:$F,4,0))","v":"NO"},0,null,0,{"$f":"IF(BU162=\"YES\",IF(ISERROR(VLOOKUP($A162+8860000,'Growth Data'!$A:$Z,7,0)),0,VLOOKUP($A162+8860000,'Growth Data'!$A:$Z,7,0)),0)","v":0},0,null,"NO",{"$f":"IF(ISERROR(VLOOKUP($A162+8860000,'Growth Data'!$A:$F,5,0)),\"NO\",VLOOKUP($A162+8860000,'Growth Data'!$A:$F,5,0))","v":"NO"},0,null,0,{"$f":"IF(CC162=\"YES\",IF(ISERROR(VLOOKUP($A162+8860000,'Growth Data'!$A:$Z,8,0)),0,VLOOKUP($A162+8860000,'Growth Data'!$A:$Z,8,0)),0)","v":0},0,null,null,null,0]
[3052,"St Mark's CEP School",null,"St Mark's CEP School","St Mark's CEP School",0,null,1172943.08,1172943.0803358208,0,null,0,0,0,null,1172943.08,1172943.0803358208,0,null,7960.09,7960.0886739999996,0,null,null,null,0,null,0,0,0,null,37780.519999999997,null,37781,null,2221.9499999999998,null,2222,null,0,null,0,null,0,null,0,null,null,null,0,null,null,null,0,null,null,null,0,null,null,null,0,null,"NO",{"$f":"IF(ISERROR(VLOOKUP($A163+8860000,'Growth Data'!$A:$F,3,0)),\"NO\",VLOOKUP($A163+8860000,'Growth Data'!$A:$F,3,0))","v":"YES"},1,null,0,{"$f":"IF(BM163=\"YES\",IF(ISERROR(VLOOKUP($A163+8860000,'Growth Data'!$A:$F,6,0)),0,VLOOKUP($A163+8860000,'Growth Data'!$A:$F,6,0)),0)","v":30},-30,null,"NO",{"$f":"IF(ISERROR(VLOOKUP($A163+8860000,'Growth Data'!$A:$F,4,0)),\"NO\",VLOOKUP($A163+8860000,'Growth Data'!$A:$F,4,0))","v":"NO"},0,null,0,{"$f":"IF(BU163=\"YES\",IF(ISERROR(VLOOKUP($A163+8860000,'Growth Data'!$A:$Z,7,0)),0,VLOOKUP($A163+8860000,'Growth Data'!$A:$Z,7,0)),0)","v":0},0,null,"NO",{"$f":"IF(ISERROR(VLOOKUP($A163+8860000,'Growth Data'!$A:$F,5,0)),\"NO\",VLOOKUP($A163+8860000,'Growth Data'!$A:$F,5,0))","v":"NO"},0,null,0,{"$f":"IF(CC163=\"YES\",IF(ISERROR(VLOOKUP($A163+8860000,'Growth Data'!$A:$Z,8,0)),0,VLOOKUP($A163+8860000,'Growth Data'!$A:$Z,8,0)),0)","v":0},0,null,null,null,0]
[3053,"St Peter's CEP School",null,"St Peter's CEP School","St Peter's CEP School",0,null,556912.73,556912.72886477842,0,null,0,0,0,null,556912.73,556912.72886477842,0,null,3569.2,3569.2010506000001,0,null,null,null,0,null,0,0,0,null,31147.78,null,31148,null,2885.22,null,2885,null,0,null,0,null,0,null,0,null,null,null,0,null,null,null,0,null,null,null,0,null,null,null,0,null,"YES",{"$f":"IF(ISERROR(VLOOKUP($A164+8860000,'Growth Data'!$A:$F,3,0)),\"NO\",VLOOKUP($A164+8860000,'Growth Data'!$A:$F,3,0))","v":"NO"},1,null,29,{"$f":"IF(BM164=\"YES\",IF(ISERROR(VLOOKUP($A164+8860000,'Growth Data'!$A:$F,6,0)),0,VLOOKUP($A164+8860000,'Growth Data'!$A:$F,6,0)),0)","v":0},29,null,"YES",{"$f":"IF(ISERROR(VLOOKUP($A164+8860000,'Growth Data'!$A:$F,4,0)),\"NO\",VLOOKUP($A164+8860000,'Growth Data'!$A:$F,4,0))","v":"NO"},1,null,20,{"$f":"IF(BU164=\"YES\",IF(ISERROR(VLOOKUP($A164+8860000,'Growth Data'!$A:$Z,7,0)),0,VLOOKUP($A164+8860000,'Growth Data'!$A:$Z,7,0)),0)","v":0},20,null,"NO",{"$f":"IF(ISERROR(VLOOKUP($A164+8860000,'Growth Data'!$A:$F,5,0)),\"NO\",VLOOKUP($A164+8860000,'Growth Data'!$A:$F,5,0))","v":"NO"},0,null,0,{"$f":"IF(CC164=\"YES\",IF(ISERROR(VLOOKUP($A164+8860000,'Growth Data'!$A:$Z,8,0)),0,VLOOKUP($A164+8860000,'Growth Data'!$A:$Z,8,0)),0)","v":0},0,null,null,null,0]
[3054,"Crockham Hill CEP School",null,"Crockham Hill CEP School","Crockham Hill CEP School",0,null,575386.89,575386.88965827634,0,null,0,0,0,null,575386.89,575386.88965827634,0,null,3645.9,3645.8952210887201,0,null,null,null,0,null,0,0,0,null,68946.33,null,68946,null,0,null,0,null,0,null,0,null,0,null,0,null,null,null,0,null,null,null,0,null,null,null,0,null,null,null,0,null,"NO",{"$f":"IF(ISERROR(VLOOKUP($A165+8860000,'Growth Data'!$A:$F,3,0)),\"NO\",VLOOKUP($A165+8860000,'Growth Data'!$A:$F,3,0))","v":"NO"},0,null,0,{"$f":"IF(BM165=\"YES\",IF(ISERROR(VLOOKUP($A165+8860000,'Growth Data'!$A:$F,6,0)),0,VLOOKUP($A165+8860000,'Growth Data'!$A:$F,6,0)),0)","v":0},0,null,"YES",{"$f":"IF(ISERROR(VLOOKUP($A165+8860000,'Growth Data'!$A:$F,4,0)),\"NO\",VLOOKUP($A165+8860000,'Growth Data'!$A:$F,4,0))","v":"NO"},1,null,30,{"$f":"IF(BU165=\"YES\",IF(ISERROR(VLOOKUP($A165+8860000,'Growth Data'!$A:$Z,7,0)),0,VLOOKUP($A165+8860000,'Growth Data'!$A:$Z,7,0)),0)","v":0},30,null,"YES",{"$f":"IF(ISERROR(VLOOKUP($A165+8860000,'Growth Data'!$A:$F,5,0)),\"NO\",VLOOKUP($A165+8860000,'Growth Data'!$A:$F,5,0))","v":"NO"},1,null,42,{"$f":"IF(CC165=\"YES\",IF(ISERROR(VLOOKUP($A165+8860000,'Growth Data'!$A:$Z,8,0)),0,VLOOKUP($A165+8860000,'Growth Data'!$A:$Z,8,0)),0)","v":0},42,null,null,null,0]
[3055,"Churchill CEP School",null,"Churchill CEP School","Churchill CEP School",0,null,1050077.81,1050077.8072642668,0,null,0,0,0,null,1050077.81,1050077.8072642668,0,null,7824.04,7824.0379197086395,0,null,null,null,0,null,0,0,0,null,48370.64,null,48371,null,1162.94,null,1163,null,0,null,0,null,0,null,0,null,null,null,0,null,null,null,0,null,null,null,0,null,null,null,0,null,"NO",{"$f":"IF(ISERROR(VLOOKUP($A166+8860000,'Growth Data'!$A:$F,3,0)),\"NO\",VLOOKUP($A166+8860000,'Growth Data'!$A:$F,3,0))","v":"NO"},0,null,0,{"$f":"IF(BM166=\"YES\",IF(ISERROR(VLOOKUP($A166+8860000,'Growth Data'!$A:$F,6,0)),0,VLOOKUP($A166+8860000,'Growth Data'!$A:$F,6,0)),0)","v":0},0,null,"NO",{"$f":"IF(ISERROR(VLOOKUP($A166+8860000,'Growth Data'!$A:$F,4,0)),\"NO\",VLOOKUP($A166+8860000,'Growth Data'!$A:$F,4,0))","v":"NO"},0,null,0,{"$f":"IF(BU166=\"YES\",IF(ISERROR(VLOOKUP($A166+8860000,'Growth Data'!$A:$Z,7,0)),0,VLOOKUP($A166+8860000,'Growth Data'!$A:$Z,7,0)),0)","v":0},0,null,"NO",{"$f":"IF(ISERROR(VLOOKUP($A166+8860000,'Growth Data'!$A:$F,5,0)),\"NO\",VLOOKUP($A166+8860000,'Growth Data'!$A:$F,5,0))","v":"NO"},0,null,0,{"$f":"IF(CC166=\"YES\",IF(ISERROR(VLOOKUP($A166+8860000,'Growth Data'!$A:$Z,8,0)),0,VLOOKUP($A166+8860000,'Growth Data'!$A:$Z,8,0)),0)","v":0},0,null,null,null,0]
[3057,"St Peter's CEP School",null,"St Peter's CEP School","St Peter's CEP School",0,null,643836.52,643836.51963994582,0,null,0,0,0,null,643836.52,643836.51963994582,0,null,4236.82,4236.8213909999995,0,null,null,null,0,null,0,0,0,null,20471.84,null,20472,null,3952.82,null,3953,null,0,null,0,null,0,null,0,null,null,null,0,null,null,null,0,null,null,null,0,null,null,null,0,null,"NO",{"$f":"IF(ISERROR(VLOOKUP($A167+8860000,'Growth Data'!$A:$F,3,0)),\"NO\",VLOOKUP($A167+8860000,'Growth Data'!$A:$F,3,0))","v":"NO"},0,null,0,{"$f":"IF(BM167=\"YES\",IF(ISERROR(VLOOKUP($A167+8860000,'Growth Data'!$A:$F,6,0)),0,VLOOKUP($A167+8860000,'Growth Data'!$A:$F,6,0)),0)","v":0},0,null,"NO",{"$f":"IF(ISERROR(VLOOKUP($A167+8860000,'Growth Data'!$A:$F,4,0)),\"NO\",VLOOKUP($A167+8860000,'Growth Data'!$A:$F,4,0))","v":"NO"},0,null,0,{"$f":"IF(BU167=\"YES\",IF(ISERROR(VLOOKUP($A167+8860000,'Growth Data'!$A:$Z,7,0)),0,VLOOKUP($A167+8860000,'Growth Data'!$A:$Z,7,0)),0)","v":0},0,null,"NO",{"$f":"IF(ISERROR(VLOOKUP($A167+8860000,'Growth Data'!$A:$F,5,0)),\"NO\",VLOOKUP($A167+8860000,'Growth Data'!$A:$F,5,0))","v":"NO"},0,null,0,{"$f":"IF(CC167=\"YES\",IF(ISERROR(VLOOKUP($A167+8860000,'Growth Data'!$A:$Z,8,0)),0,VLOOKUP($A167+8860000,'Growth Data'!$A:$Z,8,0)),0)","v":0},0,null,null,null,0]
[3061,"Bredhurst CEP School",null,"Bredhurst CEP School","Bredhurst CEP School",0,null,493733.46,493733.46340221929,0,null,0,0,0,null,493733.46,493733.46340221929,0,null,3081.32,3081.3246479999998,0,null,null,null,0,null,0,0,0,null,26057.89,null,26058,null,3394.21,null,3394,null,0,null,0,null,0,null,0,null,null,null,0,null,null,null,0,null,null,null,0,null,null,null,0,null,"NO",{"$f":"IF(ISERROR(VLOOKUP($A168+8860000,'Growth Data'!$A:$F,3,0)),\"NO\",VLOOKUP($A168+8860000,'Growth Data'!$A:$F,3,0))","v":"NO"},0,null,0,{"$f":"IF(BM168=\"YES\",IF(ISERROR(VLOOKUP($A168+8860000,'Growth Data'!$A:$F,6,0)),0,VLOOKUP($A168+8860000,'Growth Data'!$A:$F,6,0)),0)","v":0},0,null,"NO",{"$f":"IF(ISERROR(VLOOKUP($A168+8860000,'Growth Data'!$A:$F,4,0)),\"NO\",VLOOKUP($A168+8860000,'Growth Data'!$A:$F,4,0))","v":"NO"},0,null,0,{"$f":"IF(BU168=\"YES\",IF(ISERROR(VLOOKUP($A168+8860000,'Growth Data'!$A:$Z,7,0)),0,VLOOKUP($A168+8860000,'Growth Data'!$A:$Z,7,0)),0)","v":0},0,null,"NO",{"$f":"IF(ISERROR(VLOOKUP($A168+8860000,'Growth Data'!$A:$F,5,0)),\"NO\",VLOOKUP($A168+8860000,'Growth Data'!$A:$F,5,0))","v":"NO"},0,null,0,{"$f":"IF(CC168=\"YES\",IF(ISERROR(VLOOKUP($A168+8860000,'Growth Data'!$A:$Z,8,0)),0,VLOOKUP($A168+8860000,'Growth Data'!$A:$Z,8,0)),0)","v":0},0,null,null,null,0]
[3062,"Burham CEP School",null,"Burham CEP School","Burham CEP School",0,null,609000.57999999996,609000.57603415707,0,null,0,0,0,null,609000.57999999996,609000.57603415707,0,null,3851.66,3851.6558099999997,0,null,null,null,0,null,0,0,0,null,64710.12,null,64710,null,0,null,0,null,0,null,0,null,0,null,0,null,null,null,0,null,null,null,0,null,null,null,0,null,null,null,0,null,"NO",{"$f":"IF(ISERROR(VLOOKUP($A169+8860000,'Growth Data'!$A:$F,3,0)),\"NO\",VLOOKUP($A169+8860000,'Growth Data'!$A:$F,3,0))","v":"NO"},0,null,0,{"$f":"IF(BM169=\"YES\",IF(ISERROR(VLOOKUP($A169+8860000,'Growth Data'!$A:$F,6,0)),0,VLOOKUP($A169+8860000,'Growth Data'!$A:$F,6,0)),0)","v":0},0,null,"NO",{"$f":"IF(ISERROR(VLOOKUP($A169+8860000,'Growth Data'!$A:$F,4,0)),\"NO\",VLOOKUP($A169+8860000,'Growth Data'!$A:$F,4,0))","v":"NO"},0,null,0,{"$f":"IF(BU169=\"YES\",IF(ISERROR(VLOOKUP($A169+8860000,'Growth Data'!$A:$Z,7,0)),0,VLOOKUP($A169+8860000,'Growth Data'!$A:$Z,7,0)),0)","v":0},0,null,"NO",{"$f":"IF(ISERROR(VLOOKUP($A169+8860000,'Growth Data'!$A:$F,5,0)),\"NO\",VLOOKUP($A169+8860000,'Growth Data'!$A:$F,5,0))","v":"NO"},0,null,0,{"$f":"IF(CC169=\"YES\",IF(ISERROR(VLOOKUP($A169+8860000,'Growth Data'!$A:$Z,8,0)),0,VLOOKUP($A169+8860000,'Growth Data'!$A:$Z,8,0)),0)","v":0},0,null,null,null,0]
[3067,"Harrietsham CEP School",null,"Harrietsham CEP School","Harrietsham CEP School",0,null,733605.67,733605.66670987825,0,null,0,0,0,null,733605.67,733605.66670987825,0,null,4981.47,4981.4748475999986,0,null,null,null,0,null,0,0,0,null,129566.65,null,129567,null,0,null,0,null,0,null,0,null,0,null,0,null,null,null,0,null,null,null,0,null,null,null,0,null,null,null,0,null,"NO",{"$f":"IF(ISERROR(VLOOKUP($A170+8860000,'Growth Data'!$A:$F,3,0)),\"NO\",VLOOKUP($A170+8860000,'Growth Data'!$A:$F,3,0))","v":"NO"},0,null,0,{"$f":"IF(BM170=\"YES\",IF(ISERROR(VLOOKUP($A170+8860000,'Growth Data'!$A:$F,6,0)),0,VLOOKUP($A170+8860000,'Growth Data'!$A:$F,6,0)),0)","v":0},0,null,"NO",{"$f":"IF(ISERROR(VLOOKUP($A170+8860000,'Growth Data'!$A:$F,4,0)),\"NO\",VLOOKUP($A170+8860000,'Growth Data'!$A:$F,4,0))","v":"NO"},0,null,0,{"$f":"IF(BU170=\"YES\",IF(ISERROR(VLOOKUP($A170+8860000,'Growth Data'!$A:$Z,7,0)),0,VLOOKUP($A170+8860000,'Growth Data'!$A:$Z,7,0)),0)","v":0},0,null,"NO",{"$f":"IF(ISERROR(VLOOKUP($A170+8860000,'Growth Data'!$A:$F,5,0)),\"NO\",VLOOKUP($A170+8860000,'Growth Data'!$A:$F,5,0))","v":"NO"},0,null,0,{"$f":"IF(CC170=\"YES\",IF(ISERROR(VLOOKUP($A170+8860000,'Growth Data'!$A:$Z,8,0)),0,VLOOKUP($A170+8860000,'Growth Data'!$A:$Z,8,0)),0)","v":0},0,null,null,null,0]
[3069,"Leeds & Broomfield CEP School",null,"Leeds & Broomfield CEP School","Leeds & Broomfield CEP School",0,null,370920.82,370920.8154138379,0,null,0,0,0,null,370920.82,370920.8154138379,0,null,2028.54,2028.5387266,0,null,null,null,0,null,0,0,0,null,112585.35,null,112585,null,0,null,0,null,0,null,0,null,0,null,0,null,null,null,0,null,null,null,0,null,null,null,0,null,null,null,0,null,"YES",{"$f":"IF(ISERROR(VLOOKUP($A171+8860000,'Growth Data'!$A:$F,3,0)),\"NO\",VLOOKUP($A171+8860000,'Growth Data'!$A:$F,3,0))","v":"NO"},1,null,30,{"$f":"IF(BM171=\"YES\",IF(ISERROR(VLOOKUP($A171+8860000,'Growth Data'!$A:$F,6,0)),0,VLOOKUP($A171+8860000,'Growth Data'!$A:$F,6,0)),0)","v":0},30,null,"YES",{"$f":"IF(ISERROR(VLOOKUP($A171+8860000,'Growth Data'!$A:$F,4,0)),\"NO\",VLOOKUP($A171+8860000,'Growth Data'!$A:$F,4,0))","v":"NO"},1,null,30,{"$f":"IF(BU171=\"YES\",IF(ISERROR(VLOOKUP($A171+8860000,'Growth Data'!$A:$Z,7,0)),0,VLOOKUP($A171+8860000,'Growth Data'!$A:$Z,7,0)),0)","v":0},30,null,"YES",{"$f":"IF(ISERROR(VLOOKUP($A171+8860000,'Growth Data'!$A:$F,5,0)),\"NO\",VLOOKUP($A171+8860000,'Growth Data'!$A:$F,5,0))","v":"NO"},1,null,30,{"$f":"IF(CC171=\"YES\",IF(ISERROR(VLOOKUP($A171+8860000,'Growth Data'!$A:$Z,8,0)),0,VLOOKUP($A171+8860000,'Growth Data'!$A:$Z,8,0)),0)","v":0},30,null,null,null,0]
[3072,"St Michael's CEJ School, Maidstone",null,"St Michael's CEJ School, Maidstone","St Michael's CEJ School, Maidstone",0,null,644191.5,644191.49863776751,0,null,0,0,0,null,644191.5,644191.49863776751,0,null,4185.47,4185.4659802000006,0,null,null,null,0,null,0,0,0,null,31915.62,null,31916,null,2808.44,null,2808,null,0,null,0,null,0,null,0,null,null,null,0,null,null,null,0,null,null,null,0,null,null,null,0,null,"NO",{"$f":"IF(ISERROR(VLOOKUP($A172+8860000,'Growth Data'!$A:$F,3,0)),\"NO\",VLOOKUP($A172+8860000,'Growth Data'!$A:$F,3,0))","v":"NO"},0,null,0,{"$f":"IF(BM172=\"YES\",IF(ISERROR(VLOOKUP($A172+8860000,'Growth Data'!$A:$F,6,0)),0,VLOOKUP($A172+8860000,'Growth Data'!$A:$F,6,0)),0)","v":0},0,null,"NO",{"$f":"IF(ISERROR(VLOOKUP($A172+8860000,'Growth Data'!$A:$F,4,0)),\"NO\",VLOOKUP($A172+8860000,'Growth Data'!$A:$F,4,0))","v":"NO"},0,null,0,{"$f":"IF(BU172=\"YES\",IF(ISERROR(VLOOKUP($A172+8860000,'Growth Data'!$A:$Z,7,0)),0,VLOOKUP($A172+8860000,'Growth Data'!$A:$Z,7,0)),0)","v":0},0,null,"NO",{"$f":"IF(ISERROR(VLOOKUP($A172+8860000,'Growth Data'!$A:$F,5,0)),\"NO\",VLOOKUP($A172+8860000,'Growth Data'!$A:$F,5,0))","v":"NO"},0,null,0,{"$f":"IF(CC172=\"YES\",IF(ISERROR(VLOOKUP($A172+8860000,'Growth Data'!$A:$Z,8,0)),0,VLOOKUP($A172+8860000,'Growth Data'!$A:$Z,8,0)),0)","v":0},0,null,null,null,0]
[3073,"St Michael's CEI School, Maidstone",null,"St Michael's CEI School, Maidstone","St Michael's CEI School, Maidstone",0,null,519211.2,519211.19880819443,0,null,0,0,0,null,519211.2,519211.19880819443,0,null,3107,3107.0023534000002,0,null,null,null,0,null,0,0,0,null,21621.7,null,21622,null,3837.83,null,3838,null,0,null,0,null,0,null,0,null,null,null,0,null,null,null,0,null,null,null,0,null,null,null,0,null,"NO",{"$f":"IF(ISERROR(VLOOKUP($A173+8860000,'Growth Data'!$A:$F,3,0)),\"NO\",VLOOKUP($A173+8860000,'Growth Data'!$A:$F,3,0))","v":"NO"},0,null,0,{"$f":"IF(BM173=\"YES\",IF(ISERROR(VLOOKUP($A173+8860000,'Growth Data'!$A:$F,6,0)),0,VLOOKUP($A173+8860000,'Growth Data'!$A:$F,6,0)),0)","v":0},0,null,"NO",{"$f":"IF(ISERROR(VLOOKUP($A173+8860000,'Growth Data'!$A:$F,4,0)),\"NO\",VLOOKUP($A173+8860000,'Growth Data'!$A:$F,4,0))","v":"NO"},0,null,0,{"$f":"IF(BU173=\"YES\",IF(ISERROR(VLOOKUP($A173+8860000,'Growth Data'!$A:$Z,7,0)),0,VLOOKUP($A173+8860000,'Growth Data'!$A:$Z,7,0)),0)","v":0},0,null,"NO",{"$f":"IF(ISERROR(VLOOKUP($A173+8860000,'Growth Data'!$A:$F,5,0)),\"NO\",VLOOKUP($A173+8860000,'Growth Data'!$A:$F,5,0))","v":"NO"},0,null,0,{"$f":"IF(CC173=\"YES\",IF(ISERROR(VLOOKUP($A173+8860000,'Growth Data'!$A:$Z,8,0)),0,VLOOKUP($A173+8860000,'Growth Data'!$A:$Z,8,0)),0)","v":0},0,null,null,null,0]
[3081,"Thurnham CEI School",null,"Thurnham CEI School","Thurnham CEI School",0,null,953590,953590,0,null,0,0,0,null,953590,953590,0,null,7010.01,7010.0135742000002,0,null,null,null,0,null,0,0,0,null,49721.67,null,49722,null,1027.83,null,1028,null,0,null,0,null,0,null,0,null,null,null,0,null,null,null,0,null,null,null,0,null,null,null,0,null,"NO",{"$f":"IF(ISERROR(VLOOKUP($A174+8860000,'Growth Data'!$A:$F,3,0)),\"NO\",VLOOKUP($A174+8860000,'Growth Data'!$A:$F,3,0))","v":"NO"},0,null,0,{"$f":"IF(BM174=\"YES\",IF(ISERROR(VLOOKUP($A174+8860000,'Growth Data'!$A:$F,6,0)),0,VLOOKUP($A174+8860000,'Growth Data'!$A:$F,6,0)),0)","v":0},0,null,"NO",{"$f":"IF(ISERROR(VLOOKUP($A174+8860000,'Growth Data'!$A:$F,4,0)),\"NO\",VLOOKUP($A174+8860000,'Growth Data'!$A:$F,4,0))","v":"NO"},0,null,0,{"$f":"IF(BU174=\"YES\",IF(ISERROR(VLOOKUP($A174+8860000,'Growth Data'!$A:$Z,7,0)),0,VLOOKUP($A174+8860000,'Growth Data'!$A:$Z,7,0)),0)","v":0},0,null,"NO",{"$f":"IF(ISERROR(VLOOKUP($A174+8860000,'Growth Data'!$A:$F,5,0)),\"NO\",VLOOKUP($A174+8860000,'Growth Data'!$A:$F,5,0))","v":"NO"},0,null,0,{"$f":"IF(CC174=\"YES\",IF(ISERROR(VLOOKUP($A174+8860000,'Growth Data'!$A:$Z,8,0)),0,VLOOKUP($A174+8860000,'Growth Data'!$A:$Z,8,0)),0)","v":0},0,null,null,null,0]
[3082,"Trottiscliffe CEP School",null,"Trottiscliffe CEP School","Trottiscliffe CEP School",0,null,322585.31,322585.30653361621,0,null,0,0,0,null,322585.31,322585.30653361621,0,null,1694.73,1694.7285563999997,0,null,null,null,0,null,0,0,0,null,40483.9,null,40484,null,1951.61,null,1952,null,0,null,0,null,0,null,0,null,null,null,0,null,null,null,0,null,null,null,0,null,null,null,0,null,"NO",{"$f":"IF(ISERROR(VLOOKUP($A175+8860000,'Growth Data'!$A:$F,3,0)),\"NO\",VLOOKUP($A175+8860000,'Growth Data'!$A:$F,3,0))","v":"NO"},0,null,0,{"$f":"IF(BM175=\"YES\",IF(ISERROR(VLOOKUP($A175+8860000,'Growth Data'!$A:$F,6,0)),0,VLOOKUP($A175+8860000,'Growth Data'!$A:$F,6,0)),0)","v":0},0,null,"NO",{"$f":"IF(ISERROR(VLOOKUP($A175+8860000,'Growth Data'!$A:$F,4,0)),\"NO\",VLOOKUP($A175+8860000,'Growth Data'!$A:$F,4,0))","v":"NO"},0,null,0,{"$f":"IF(BU175=\"YES\",IF(ISERROR(VLOOKUP($A175+8860000,'Growth Data'!$A:$Z,7,0)),0,VLOOKUP($A175+8860000,'Growth Data'!$A:$Z,7,0)),0)","v":0},0,null,"NO",{"$f":"IF(ISERROR(VLOOKUP($A175+8860000,'Growth Data'!$A:$F,5,0)),\"NO\",VLOOKUP($A175+8860000,'Growth Data'!$A:$F,5,0))","v":"NO"},0,null,0,{"$f":"IF(CC175=\"YES\",IF(ISERROR(VLOOKUP($A175+8860000,'Growth Data'!$A:$Z,8,0)),0,VLOOKUP($A175+8860000,'Growth Data'!$A:$Z,8,0)),0)","v":0},0,null,null,null,0]
[3083,"Ulcombe CEP School",null,"Ulcombe CEP School","Ulcombe CEP School",0,null,354896.68,354896.68255705963,0,null,0,0,0,null,354896.68,354896.68255705963,0,null,1823.12,1823.1170834,0,null,null,null,0,null,0,0,0,null,5580,null,5580,null,5442,null,5442,null,0,null,0,null,0,null,0,null,null,null,0,null,null,null,0,null,null,null,0,null,null,null,0,null,"NO",{"$f":"IF(ISERROR(VLOOKUP($A176+8860000,'Growth Data'!$A:$F,3,0)),\"NO\",VLOOKUP($A176+8860000,'Growth Data'!$A:$F,3,0))","v":"NO"},0,null,0,{"$f":"IF(BM176=\"YES\",IF(ISERROR(VLOOKUP($A176+8860000,'Growth Data'!$A:$F,6,0)),0,VLOOKUP($A176+8860000,'Growth Data'!$A:$F,6,0)),0)","v":0},0,null,"NO",{"$f":"IF(ISERROR(VLOOKUP($A176+8860000,'Growth Data'!$A:$F,4,0)),\"NO\",VLOOKUP($A176+8860000,'Growth Data'!$A:$F,4,0))","v":"NO"},0,null,0,{"$f":"IF(BU176=\"YES\",IF(ISERROR(VLOOKUP($A176+8860000,'Growth Data'!$A:$Z,7,0)),0,VLOOKUP($A176+8860000,'Growth Data'!$A:$Z,7,0)),0)","v":0},0,null,"NO",{"$f":"IF(ISERROR(VLOOKUP($A176+8860000,'Growth Data'!$A:$F,5,0)),\"NO\",VLOOKUP($A176+8860000,'Growth Data'!$A:$F,5,0))","v":"NO"},0,null,0,{"$f":"IF(CC176=\"YES\",IF(ISERROR(VLOOKUP($A176+8860000,'Growth Data'!$A:$Z,8,0)),0,VLOOKUP($A176+8860000,'Growth Data'!$A:$Z,8,0)),0)","v":0},0,null,null,null,0]
[3084,"Wateringbury CEP School",null,"Wateringbury CEP School","Wateringbury CEP School",0,null,720358.87,720358.87071298459,0,null,0,0,0,null,720358.87,720358.87071298459,0,null,5109.8599999999997,5109.8633746000005,0,null,null,null,0,null,0,0,0,null,29098.639999999999,null,29099,null,3090.14,null,3090,null,0,null,0,null,0,null,0,null,null,null,0,null,null,null,0,null,null,null,0,null,null,null,0,null,"NO",{"$f":"IF(ISERROR(VLOOKUP($A177+8860000,'Growth Data'!$A:$F,3,0)),\"NO\",VLOOKUP($A177+8860000,'Growth Data'!$A:$F,3,0))","v":"NO"},0,null,0,{"$f":"IF(BM177=\"YES\",IF(ISERROR(VLOOKUP($A177+8860000,'Growth Data'!$A:$F,6,0)),0,VLOOKUP($A177+8860000,'Growth Data'!$A:$F,6,0)),0)","v":0},0,null,"NO",{"$f":"IF(ISERROR(VLOOKUP($A177+8860000,'Growth Data'!$A:$F,4,0)),\"NO\",VLOOKUP($A177+8860000,'Growth Data'!$A:$F,4,0))","v":"NO"},0,null,0,{"$f":"IF(BU177=\"YES\",IF(ISERROR(VLOOKUP($A177+8860000,'Growth Data'!$A:$Z,7,0)),0,VLOOKUP($A177+8860000,'Growth Data'!$A:$Z,7,0)),0)","v":0},0,null,"NO",{"$f":"IF(ISERROR(VLOOKUP($A177+8860000,'Growth Data'!$A:$F,5,0)),\"NO\",VLOOKUP($A177+8860000,'Growth Data'!$A:$F,5,0))","v":"NO"},0,null,0,{"$f":"IF(CC177=\"YES\",IF(ISERROR(VLOOKUP($A177+8860000,'Growth Data'!$A:$Z,8,0)),0,VLOOKUP($A177+8860000,'Growth Data'!$A:$Z,8,0)),0)","v":0},0,null,null,null,0]
[3088,"Wouldham, All Saint's CEP School",null,"Wouldham, All Saint's CEP School","Wouldham, All Saint's CEP School",0,null,796902.03,796902.03237016243,0,null,0,0,0,null,796902.03,796902.03237016243,0,null,5520.71,5520.7066610000002,0,null,null,null,0,null,0,0,0,null,48793.22,null,48793,null,1120.68,null,1121,null,0,null,0,null,0,null,0,null,null,null,0,null,null,null,0,null,null,null,0,null,null,null,0,null,"NO",{"$f":"IF(ISERROR(VLOOKUP($A178+8860000,'Growth Data'!$A:$F,3,0)),\"NO\",VLOOKUP($A178+8860000,'Growth Data'!$A:$F,3,0))","v":"NO"},0,null,0,{"$f":"IF(BM178=\"YES\",IF(ISERROR(VLOOKUP($A178+8860000,'Growth Data'!$A:$F,6,0)),0,VLOOKUP($A178+8860000,'Growth Data'!$A:$F,6,0)),0)","v":0},0,null,"NO",{"$f":"IF(ISERROR(VLOOKUP($A178+8860000,'Growth Data'!$A:$F,4,0)),\"NO\",VLOOKUP($A178+8860000,'Growth Data'!$A:$F,4,0))","v":"YES"},1,null,0,{"$f":"IF(BU178=\"YES\",IF(ISERROR(VLOOKUP($A178+8860000,'Growth Data'!$A:$Z,7,0)),0,VLOOKUP($A178+8860000,'Growth Data'!$A:$Z,7,0)),0)","v":0},0,null,"NO",{"$f":"IF(ISERROR(VLOOKUP($A178+8860000,'Growth Data'!$A:$F,5,0)),\"NO\",VLOOKUP($A178+8860000,'Growth Data'!$A:$F,5,0))","v":"YES"},1,null,0,{"$f":"IF(CC178=\"YES\",IF(ISERROR(VLOOKUP($A178+8860000,'Growth Data'!$A:$Z,8,0)),0,VLOOKUP($A178+8860000,'Growth Data'!$A:$Z,8,0)),0)","v":41},-41,null,null,null,0]
[3089,"St George's CEP School",null,"St George's CEP School","St George's CEP School",0,null,804718.68,804718.6820235193,0,null,0,0,0,null,804718.68,804718.6820235193,0,null,5392.32,5392.3181340000001,0,null,null,null,0,null,0,0,0,null,42482.21,null,42482,null,1751.78,null,1752,null,0,null,0,null,0,null,0,null,null,null,0,null,null,null,0,null,null,null,0,null,null,null,0,null,"NO",{"$f":"IF(ISERROR(VLOOKUP($A179+8860000,'Growth Data'!$A:$F,3,0)),\"NO\",VLOOKUP($A179+8860000,'Growth Data'!$A:$F,3,0))","v":"NO"},0,null,0,{"$f":"IF(BM179=\"YES\",IF(ISERROR(VLOOKUP($A179+8860000,'Growth Data'!$A:$F,6,0)),0,VLOOKUP($A179+8860000,'Growth Data'!$A:$F,6,0)),0)","v":0},0,null,"YES",{"$f":"IF(ISERROR(VLOOKUP($A179+8860000,'Growth Data'!$A:$F,4,0)),\"NO\",VLOOKUP($A179+8860000,'Growth Data'!$A:$F,4,0))","v":"NO"},1,null,26,{"$f":"IF(BU179=\"YES\",IF(ISERROR(VLOOKUP($A179+8860000,'Growth Data'!$A:$Z,7,0)),0,VLOOKUP($A179+8860000,'Growth Data'!$A:$Z,7,0)),0)","v":0},26,null,"YES",{"$f":"IF(ISERROR(VLOOKUP($A179+8860000,'Growth Data'!$A:$F,5,0)),\"NO\",VLOOKUP($A179+8860000,'Growth Data'!$A:$F,5,0))","v":"NO"},1,null,25,{"$f":"IF(CC179=\"YES\",IF(ISERROR(VLOOKUP($A179+8860000,'Growth Data'!$A:$Z,8,0)),0,VLOOKUP($A179+8860000,'Growth Data'!$A:$Z,8,0)),0)","v":0},25,null,null,null,0]
[3090,"St Margaret's CEP School, Collier Street",null,"St Margaret's CEP School, Collier Street","St Margaret's CEP School, Collier Street",0,null,508691.99,508691.98623359756,0,null,0,0,0,null,508691.99,508691.98623359756,0,null,3081.32,3081.3246479999998,0,null,null,null,0,null,0,0,0,null,28406.47,null,28406,null,3159.35,null,3159,null,0,null,0,null,0,null,0,null,null,null,0,null,null,null,0,null,null,null,0,null,null,null,0,null,"NO",{"$f":"IF(ISERROR(VLOOKUP($A180+8860000,'Growth Data'!$A:$F,3,0)),\"NO\",VLOOKUP($A180+8860000,'Growth Data'!$A:$F,3,0))","v":"NO"},0,null,0,{"$f":"IF(BM180=\"YES\",IF(ISERROR(VLOOKUP($A180+8860000,'Growth Data'!$A:$F,6,0)),0,VLOOKUP($A180+8860000,'Growth Data'!$A:$F,6,0)),0)","v":0},0,null,"NO",{"$f":"IF(ISERROR(VLOOKUP($A180+8860000,'Growth Data'!$A:$F,4,0)),\"NO\",VLOOKUP($A180+8860000,'Growth Data'!$A:$F,4,0))","v":"NO"},0,null,0,{"$f":"IF(BU180=\"YES\",IF(ISERROR(VLOOKUP($A180+8860000,'Growth Data'!$A:$Z,7,0)),0,VLOOKUP($A180+8860000,'Growth Data'!$A:$Z,7,0)),0)","v":0},0,null,"NO",{"$f":"IF(ISERROR(VLOOKUP($A180+8860000,'Growth Data'!$A:$F,5,0)),\"NO\",VLOOKUP($A180+8860000,'Growth Data'!$A:$F,5,0))","v":"NO"},0,null,0,{"$f":"IF(CC180=\"YES\",IF(ISERROR(VLOOKUP($A180+8860000,'Growth Data'!$A:$Z,8,0)),0,VLOOKUP($A180+8860000,'Growth Data'!$A:$Z,8,0)),0)","v":0},0,null,null,null,0]
[3091,"Laddingford St Mary's CEP School",null,"Laddingford St Mary's CEP School","Laddingford St Mary's CEP School",0,null,372409.56,372409.55781155889,0,null,0,0,0,null,372409.56,372409.55781155889,0,null,2002.86,2002.8610212000001,0,null,null,null,0,null,0,0,0,null,53711.01,null,53711,null,628.9,null,629,null,0,null,0,null,0,null,0,null,null,null,0,null,null,null,0,null,null,null,0,null,null,null,0,null,"NO",{"$f":"IF(ISERROR(VLOOKUP($A181+8860000,'Growth Data'!$A:$F,3,0)),\"NO\",VLOOKUP($A181+8860000,'Growth Data'!$A:$F,3,0))","v":"NO"},0,null,0,{"$f":"IF(BM181=\"YES\",IF(ISERROR(VLOOKUP($A181+8860000,'Growth Data'!$A:$F,6,0)),0,VLOOKUP($A181+8860000,'Growth Data'!$A:$F,6,0)),0)","v":0},0,null,"NO",{"$f":"IF(ISERROR(VLOOKUP($A181+8860000,'Growth Data'!$A:$F,4,0)),\"NO\",VLOOKUP($A181+8860000,'Growth Data'!$A:$F,4,0))","v":"NO"},0,null,0,{"$f":"IF(BU181=\"YES\",IF(ISERROR(VLOOKUP($A181+8860000,'Growth Data'!$A:$Z,7,0)),0,VLOOKUP($A181+8860000,'Growth Data'!$A:$Z,7,0)),0)","v":0},0,null,"NO",{"$f":"IF(ISERROR(VLOOKUP($A181+8860000,'Growth Data'!$A:$F,5,0)),\"NO\",VLOOKUP($A181+8860000,'Growth Data'!$A:$F,5,0))","v":"NO"},0,null,0,{"$f":"IF(CC181=\"YES\",IF(ISERROR(VLOOKUP($A181+8860000,'Growth Data'!$A:$Z,8,0)),0,VLOOKUP($A181+8860000,'Growth Data'!$A:$Z,8,0)),0)","v":0},0,null,null,null,0]
[3092,"Yalding St Peter & St Paul CEP School",null,"Yalding St Peter & St Paul CEP School","Yalding St Peter & St Paul CEP School",0,null,595722.46,595722.45708601631,0,null,0,0,0,null,595722.46,595722.45708601631,0,null,4005.72,4005.7220424000002,0,null,null,null,0,null,0,0,0,null,35978.71,null,35979,null,2402.13,null,2402,null,0,null,0,null,0,null,0,null,null,null,0,null,null,null,0,null,null,null,0,null,null,null,0,null,"NO",{"$f":"IF(ISERROR(VLOOKUP($A182+8860000,'Growth Data'!$A:$F,3,0)),\"NO\",VLOOKUP($A182+8860000,'Growth Data'!$A:$F,3,0))","v":"NO"},0,null,0,{"$f":"IF(BM182=\"YES\",IF(ISERROR(VLOOKUP($A182+8860000,'Growth Data'!$A:$F,6,0)),0,VLOOKUP($A182+8860000,'Growth Data'!$A:$F,6,0)),0)","v":0},0,null,"NO",{"$f":"IF(ISERROR(VLOOKUP($A182+8860000,'Growth Data'!$A:$F,4,0)),\"NO\",VLOOKUP($A182+8860000,'Growth Data'!$A:$F,4,0))","v":"NO"},0,null,0,{"$f":"IF(BU182=\"YES\",IF(ISERROR(VLOOKUP($A182+8860000,'Growth Data'!$A:$Z,7,0)),0,VLOOKUP($A182+8860000,'Growth Data'!$A:$Z,7,0)),0)","v":0},0,null,"NO",{"$f":"IF(ISERROR(VLOOKUP($A182+8860000,'Growth Data'!$A:$F,5,0)),\"NO\",VLOOKUP($A182+8860000,'Growth Data'!$A:$F,5,0))","v":"NO"},0,null,0,{"$f":"IF(CC182=\"YES\",IF(ISERROR(VLOOKUP($A182+8860000,'Growth Data'!$A:$Z,8,0)),0,VLOOKUP($A182+8860000,'Growth Data'!$A:$Z,8,0)),0)","v":0},0,null,null,null,0]
[3106,"Eastchurch CEP School",null,"Eastchurch CEP School","Eastchurch CEP School",0,null,1852620.77,1852620.7665678812,0,null,0,0,0,null,1852620.77,1852620.7665678812,0,null,11991.49,11991.488421800001,0,null,null,null,0,null,4.9000000000000004,4.9000000000000004,0,null,40361.39,null,40361,null,1963.86,null,1964,null,0,null,0,null,0,null,0,null,null,null,0,null,null,null,0,null,null,null,0,null,null,null,0,null,"NO",{"$f":"IF(ISERROR(VLOOKUP($A183+8860000,'Growth Data'!$A:$F,3,0)),\"NO\",VLOOKUP($A183+8860000,'Growth Data'!$A:$F,3,0))","v":"NO"},0,null,0,{"$f":"IF(BM183=\"YES\",IF(ISERROR(VLOOKUP($A183+8860000,'Growth Data'!$A:$F,6,0)),0,VLOOKUP($A183+8860000,'Growth Data'!$A:$F,6,0)),0)","v":0},0,null,"NO",{"$f":"IF(ISERROR(VLOOKUP($A183+8860000,'Growth Data'!$A:$F,4,0)),\"NO\",VLOOKUP($A183+8860000,'Growth Data'!$A:$F,4,0))","v":"NO"},0,null,0,{"$f":"IF(BU183=\"YES\",IF(ISERROR(VLOOKUP($A183+8860000,'Growth Data'!$A:$Z,7,0)),0,VLOOKUP($A183+8860000,'Growth Data'!$A:$Z,7,0)),0)","v":0},0,null,"NO",{"$f":"IF(ISERROR(VLOOKUP($A183+8860000,'Growth Data'!$A:$F,5,0)),\"NO\",VLOOKUP($A183+8860000,'Growth Data'!$A:$F,5,0))","v":"NO"},0,null,0,{"$f":"IF(CC183=\"YES\",IF(ISERROR(VLOOKUP($A183+8860000,'Growth Data'!$A:$Z,8,0)),0,VLOOKUP($A183+8860000,'Growth Data'!$A:$Z,8,0)),0)","v":0},0,null,null,null,0]
[3108,"Ospringe CEP School",null,"Ospringe CEP School","Ospringe CEP School",0,null,943179.99,943179.99381897389,0,null,0,0,0,null,943179.99,943179.99381897389,0,null,6316.72,6316.7155284000009,0,null,null,null,0,null,0,0,0,null,18786.09,null,18786,null,4121.3900000000003,null,4121,null,0,null,0,null,0,null,0,null,null,null,0,null,null,null,0,null,null,null,0,null,null,null,0,null,"NO",{"$f":"IF(ISERROR(VLOOKUP($A184+8860000,'Growth Data'!$A:$F,3,0)),\"NO\",VLOOKUP($A184+8860000,'Growth Data'!$A:$F,3,0))","v":"NO"},0,null,0,{"$f":"IF(BM184=\"YES\",IF(ISERROR(VLOOKUP($A184+8860000,'Growth Data'!$A:$F,6,0)),0,VLOOKUP($A184+8860000,'Growth Data'!$A:$F,6,0)),0)","v":0},0,null,"NO",{"$f":"IF(ISERROR(VLOOKUP($A184+8860000,'Growth Data'!$A:$F,4,0)),\"NO\",VLOOKUP($A184+8860000,'Growth Data'!$A:$F,4,0))","v":"NO"},0,null,0,{"$f":"IF(BU184=\"YES\",IF(ISERROR(VLOOKUP($A184+8860000,'Growth Data'!$A:$Z,7,0)),0,VLOOKUP($A184+8860000,'Growth Data'!$A:$Z,7,0)),0)","v":0},0,null,"NO",{"$f":"IF(ISERROR(VLOOKUP($A184+8860000,'Growth Data'!$A:$F,5,0)),\"NO\",VLOOKUP($A184+8860000,'Growth Data'!$A:$F,5,0))","v":"NO"},0,null,0,{"$f":"IF(CC184=\"YES\",IF(ISERROR(VLOOKUP($A184+8860000,'Growth Data'!$A:$Z,8,0)),0,VLOOKUP($A184+8860000,'Growth Data'!$A:$Z,8,0)),0)","v":0},0,null,null,null,0]
[3109,"Hernhill CEP School",null,"Hernhill CEP School","Hernhill CEP School",0,null,762123.23,762123.22862540476,0,null,0,0,0,null,762123.23,762123.22862540476,0,null,5263.93,5263.9296069999991,0,null,null,null,0,null,0,0,0,null,30068.83,null,30069,null,2993.12,null,2993,null,0,null,0,null,0,null,0,null,null,null,0,null,null,null,0,null,null,null,0,null,null,null,0,null,"NO",{"$f":"IF(ISERROR(VLOOKUP($A185+8860000,'Growth Data'!$A:$F,3,0)),\"NO\",VLOOKUP($A185+8860000,'Growth Data'!$A:$F,3,0))","v":"NO"},0,null,0,{"$f":"IF(BM185=\"YES\",IF(ISERROR(VLOOKUP($A185+8860000,'Growth Data'!$A:$F,6,0)),0,VLOOKUP($A185+8860000,'Growth Data'!$A:$F,6,0)),0)","v":0},0,null,"NO",{"$f":"IF(ISERROR(VLOOKUP($A185+8860000,'Growth Data'!$A:$F,4,0)),\"NO\",VLOOKUP($A185+8860000,'Growth Data'!$A:$F,4,0))","v":"NO"},0,null,0,{"$f":"IF(BU185=\"YES\",IF(ISERROR(VLOOKUP($A185+8860000,'Growth Data'!$A:$Z,7,0)),0,VLOOKUP($A185+8860000,'Growth Data'!$A:$Z,7,0)),0)","v":0},0,null,"NO",{"$f":"IF(ISERROR(VLOOKUP($A185+8860000,'Growth Data'!$A:$F,5,0)),\"NO\",VLOOKUP($A185+8860000,'Growth Data'!$A:$F,5,0))","v":"NO"},0,null,0,{"$f":"IF(CC185=\"YES\",IF(ISERROR(VLOOKUP($A185+8860000,'Growth Data'!$A:$Z,8,0)),0,VLOOKUP($A185+8860000,'Growth Data'!$A:$Z,8,0)),0)","v":0},0,null,null,null,0]
[3111,"Newington CEP School",null,"Newington CEP School","Newington CEP School",0,null,701627.68,701627.67902485142,0,null,0,0,0,null,701627.68,701627.67902485142,0,null,4390.8900000000003,4390.8876233999999,0,null,null,null,0,null,0,0,0,null,41775.39,null,41775,null,1822.46,null,1822,null,0,null,0,null,0,null,0,null,null,null,0,null,null,null,0,null,null,null,0,null,null,null,0,null,"NO",{"$f":"IF(ISERROR(VLOOKUP($A186+8860000,'Growth Data'!$A:$F,3,0)),\"NO\",VLOOKUP($A186+8860000,'Growth Data'!$A:$F,3,0))","v":"NO"},0,null,0,{"$f":"IF(BM186=\"YES\",IF(ISERROR(VLOOKUP($A186+8860000,'Growth Data'!$A:$F,6,0)),0,VLOOKUP($A186+8860000,'Growth Data'!$A:$F,6,0)),0)","v":0},0,null,"NO",{"$f":"IF(ISERROR(VLOOKUP($A186+8860000,'Growth Data'!$A:$F,4,0)),\"NO\",VLOOKUP($A186+8860000,'Growth Data'!$A:$F,4,0))","v":"NO"},0,null,0,{"$f":"IF(BU186=\"YES\",IF(ISERROR(VLOOKUP($A186+8860000,'Growth Data'!$A:$Z,7,0)),0,VLOOKUP($A186+8860000,'Growth Data'!$A:$Z,7,0)),0)","v":0},0,null,"NO",{"$f":"IF(ISERROR(VLOOKUP($A186+8860000,'Growth Data'!$A:$F,5,0)),\"NO\",VLOOKUP($A186+8860000,'Growth Data'!$A:$F,5,0))","v":"NO"},0,null,0,{"$f":"IF(CC186=\"YES\",IF(ISERROR(VLOOKUP($A186+8860000,'Growth Data'!$A:$Z,8,0)),0,VLOOKUP($A186+8860000,'Growth Data'!$A:$Z,8,0)),0)","v":0},0,null,null,null,0]
[3117,"Teynham Parochial CEP School",null,"Teynham Parochial CEP School","Teynham Parochial CEP School",0,null,800947.16,800947.16189293377,0,null,0,0,0,null,800947.16,800947.16189293377,0,null,5186.8999999999996,5186.8964907999998,0,null,null,null,0,null,0,0,0,null,63768.99,null,63769,null,0,null,0,null,0,null,0,null,0,null,0,null,null,null,0,null,null,null,0,null,null,null,0,null,null,null,0,null,"NO",{"$f":"IF(ISERROR(VLOOKUP($A187+8860000,'Growth Data'!$A:$F,3,0)),\"NO\",VLOOKUP($A187+8860000,'Growth Data'!$A:$F,3,0))","v":"NO"},0,null,0,{"$f":"IF(BM187=\"YES\",IF(ISERROR(VLOOKUP($A187+8860000,'Growth Data'!$A:$F,6,0)),0,VLOOKUP($A187+8860000,'Growth Data'!$A:$F,6,0)),0)","v":0},0,null,"NO",{"$f":"IF(ISERROR(VLOOKUP($A187+8860000,'Growth Data'!$A:$F,4,0)),\"NO\",VLOOKUP($A187+8860000,'Growth Data'!$A:$F,4,0))","v":"NO"},0,null,0,{"$f":"IF(BU187=\"YES\",IF(ISERROR(VLOOKUP($A187+8860000,'Growth Data'!$A:$Z,7,0)),0,VLOOKUP($A187+8860000,'Growth Data'!$A:$Z,7,0)),0)","v":0},0,null,"NO",{"$f":"IF(ISERROR(VLOOKUP($A187+8860000,'Growth Data'!$A:$F,5,0)),\"NO\",VLOOKUP($A187+8860000,'Growth Data'!$A:$F,5,0))","v":"NO"},0,null,0,{"$f":"IF(CC187=\"YES\",IF(ISERROR(VLOOKUP($A187+8860000,'Growth Data'!$A:$Z,8,0)),0,VLOOKUP($A187+8860000,'Growth Data'!$A:$Z,8,0)),0)","v":0},0,null,null,null,0]
[3120,"Barham CEP School",null,"Barham CEP School","Barham CEP School",0,null,740319.47,740319.46659774263,0,null,0,0,0,null,740319.47,740319.46659774263,0,null,5186.8999999999996,5186.8964907999998,0,null,null,null,0,null,0,0,0,null,80483.92,null,80484,null,0,null,0,null,0,null,0,null,0,null,0,null,null,null,0,null,null,null,0,null,null,null,0,null,null,null,0,null,"NO",{"$f":"IF(ISERROR(VLOOKUP($A188+8860000,'Growth Data'!$A:$F,3,0)),\"NO\",VLOOKUP($A188+8860000,'Growth Data'!$A:$F,3,0))","v":"NO"},0,null,0,{"$f":"IF(BM188=\"YES\",IF(ISERROR(VLOOKUP($A188+8860000,'Growth Data'!$A:$F,6,0)),0,VLOOKUP($A188+8860000,'Growth Data'!$A:$F,6,0)),0)","v":0},0,null,"NO",{"$f":"IF(ISERROR(VLOOKUP($A188+8860000,'Growth Data'!$A:$F,4,0)),\"NO\",VLOOKUP($A188+8860000,'Growth Data'!$A:$F,4,0))","v":"NO"},0,null,0,{"$f":"IF(BU188=\"YES\",IF(ISERROR(VLOOKUP($A188+8860000,'Growth Data'!$A:$Z,7,0)),0,VLOOKUP($A188+8860000,'Growth Data'!$A:$Z,7,0)),0)","v":0},0,null,"NO",{"$f":"IF(ISERROR(VLOOKUP($A188+8860000,'Growth Data'!$A:$F,5,0)),\"NO\",VLOOKUP($A188+8860000,'Growth Data'!$A:$F,5,0))","v":"NO"},0,null,0,{"$f":"IF(CC188=\"YES\",IF(ISERROR(VLOOKUP($A188+8860000,'Growth Data'!$A:$Z,8,0)),0,VLOOKUP($A188+8860000,'Growth Data'!$A:$Z,8,0)),0)","v":0},0,null,null,null,0]
[3122,"Bridge & Patrixbourne CEP School",null,"Bridge & Patrixbourne CEP School","Bridge & Patrixbourne CEP School",0,null,1437971,1437971,0,null,0,0,0,null,1437971,1437971,0,null,10604.89,10604.892330199998,0,null,null,null,0,null,0,0,0,null,41378.559999999998,null,41379,null,1862.14,null,1862,null,0,null,0,null,0,null,0,null,null,null,0,null,null,null,0,null,null,null,0,null,null,null,0,null,"NO",{"$f":"IF(ISERROR(VLOOKUP($A189+8860000,'Growth Data'!$A:$F,3,0)),\"NO\",VLOOKUP($A189+8860000,'Growth Data'!$A:$F,3,0))","v":"NO"},0,null,0,{"$f":"IF(BM189=\"YES\",IF(ISERROR(VLOOKUP($A189+8860000,'Growth Data'!$A:$F,6,0)),0,VLOOKUP($A189+8860000,'Growth Data'!$A:$F,6,0)),0)","v":0},0,null,"NO",{"$f":"IF(ISERROR(VLOOKUP($A189+8860000,'Growth Data'!$A:$F,4,0)),\"NO\",VLOOKUP($A189+8860000,'Growth Data'!$A:$F,4,0))","v":"NO"},0,null,0,{"$f":"IF(BU189=\"YES\",IF(ISERROR(VLOOKUP($A189+8860000,'Growth Data'!$A:$Z,7,0)),0,VLOOKUP($A189+8860000,'Growth Data'!$A:$Z,7,0)),0)","v":0},0,null,"NO",{"$f":"IF(ISERROR(VLOOKUP($A189+8860000,'Growth Data'!$A:$F,5,0)),\"NO\",VLOOKUP($A189+8860000,'Growth Data'!$A:$F,5,0))","v":"NO"},0,null,0,{"$f":"IF(CC189=\"YES\",IF(ISERROR(VLOOKUP($A189+8860000,'Growth Data'!$A:$Z,8,0)),0,VLOOKUP($A189+8860000,'Growth Data'!$A:$Z,8,0)),0)","v":0},0,null,null,null,0]
[3123,"Chislet CEP School",null,"Chislet CEP School","Chislet CEP School",0,null,412508.67,412508.66967558267,0,null,0,0,0,null,412508.67,412508.66967558267,0,null,2439.38,2439.3820129999999,0,null,null,null,0,null,0,0,0,null,27116.3,null,27116,null,3288.37,null,3288,null,0,null,0,null,0,null,0,null,null,null,0,null,null,null,0,null,null,null,0,null,null,null,0,null,"NO",{"$f":"IF(ISERROR(VLOOKUP($A190+8860000,'Growth Data'!$A:$F,3,0)),\"NO\",VLOOKUP($A190+8860000,'Growth Data'!$A:$F,3,0))","v":"NO"},0,null,0,{"$f":"IF(BM190=\"YES\",IF(ISERROR(VLOOKUP($A190+8860000,'Growth Data'!$A:$F,6,0)),0,VLOOKUP($A190+8860000,'Growth Data'!$A:$F,6,0)),0)","v":0},0,null,"NO",{"$f":"IF(ISERROR(VLOOKUP($A190+8860000,'Growth Data'!$A:$F,4,0)),\"NO\",VLOOKUP($A190+8860000,'Growth Data'!$A:$F,4,0))","v":"NO"},0,null,0,{"$f":"IF(BU190=\"YES\",IF(ISERROR(VLOOKUP($A190+8860000,'Growth Data'!$A:$Z,7,0)),0,VLOOKUP($A190+8860000,'Growth Data'!$A:$Z,7,0)),0)","v":0},0,null,"NO",{"$f":"IF(ISERROR(VLOOKUP($A190+8860000,'Growth Data'!$A:$F,5,0)),\"NO\",VLOOKUP($A190+8860000,'Growth Data'!$A:$F,5,0))","v":"NO"},0,null,0,{"$f":"IF(CC190=\"YES\",IF(ISERROR(VLOOKUP($A190+8860000,'Growth Data'!$A:$Z,8,0)),0,VLOOKUP($A190+8860000,'Growth Data'!$A:$Z,8,0)),0)","v":0},0,null,null,null,0]
[3126,"Littlebourne CEP School",null,"Littlebourne CEP School","Littlebourne CEP School",0,null,415569.3,415569.29761906288,0,null,0,0,0,null,415569.3,415569.29761906288,0,null,2259.64,2259.6380752000005,0,null,null,null,0,null,0,0,0,null,32442.16,null,32442,null,2755.78,null,2756,null,0,null,0,null,0,null,0,null,null,null,0,null,null,null,0,null,null,null,0,null,null,null,0,null,"NO",{"$f":"IF(ISERROR(VLOOKUP($A191+8860000,'Growth Data'!$A:$F,3,0)),\"NO\",VLOOKUP($A191+8860000,'Growth Data'!$A:$F,3,0))","v":"NO"},0,null,0,{"$f":"IF(BM191=\"YES\",IF(ISERROR(VLOOKUP($A191+8860000,'Growth Data'!$A:$F,6,0)),0,VLOOKUP($A191+8860000,'Growth Data'!$A:$F,6,0)),0)","v":0},0,null,"NO",{"$f":"IF(ISERROR(VLOOKUP($A191+8860000,'Growth Data'!$A:$F,4,0)),\"NO\",VLOOKUP($A191+8860000,'Growth Data'!$A:$F,4,0))","v":"NO"},0,null,0,{"$f":"IF(BU191=\"YES\",IF(ISERROR(VLOOKUP($A191+8860000,'Growth Data'!$A:$Z,7,0)),0,VLOOKUP($A191+8860000,'Growth Data'!$A:$Z,7,0)),0)","v":0},0,null,"NO",{"$f":"IF(ISERROR(VLOOKUP($A191+8860000,'Growth Data'!$A:$F,5,0)),\"NO\",VLOOKUP($A191+8860000,'Growth Data'!$A:$F,5,0))","v":"NO"},0,null,0,{"$f":"IF(CC191=\"YES\",IF(ISERROR(VLOOKUP($A191+8860000,'Growth Data'!$A:$Z,8,0)),0,VLOOKUP($A191+8860000,'Growth Data'!$A:$Z,8,0)),0)","v":0},0,null,null,null,0]
[3129,"St Alphege CEI School",null,"St Alphege CEI School","St Alphege CEI School",0,null,666619.56000000006,666619.56408065581,0,null,0,0,0,null,666619.56000000006,666619.56408065581,0,null,4211.1400000000003,4211.1436856000009,0,null,null,null,0,null,4.9000000000000004,4.9000000000000004,0,null,292682,null,292682,null,0,null,0,null,0,null,0,null,0,null,0,null,null,null,0,null,null,null,0,null,null,null,0,null,null,null,0,null,"NO",{"$f":"IF(ISERROR(VLOOKUP($A192+8860000,'Growth Data'!$A:$F,3,0)),\"NO\",VLOOKUP($A192+8860000,'Growth Data'!$A:$F,3,0))","v":"NO"},0,null,0,{"$f":"IF(BM192=\"YES\",IF(ISERROR(VLOOKUP($A192+8860000,'Growth Data'!$A:$F,6,0)),0,VLOOKUP($A192+8860000,'Growth Data'!$A:$F,6,0)),0)","v":0},0,null,"NO",{"$f":"IF(ISERROR(VLOOKUP($A192+8860000,'Growth Data'!$A:$F,4,0)),\"NO\",VLOOKUP($A192+8860000,'Growth Data'!$A:$F,4,0))","v":"NO"},0,null,0,{"$f":"IF(BU192=\"YES\",IF(ISERROR(VLOOKUP($A192+8860000,'Growth Data'!$A:$Z,7,0)),0,VLOOKUP($A192+8860000,'Growth Data'!$A:$Z,7,0)),0)","v":0},0,null,"NO",{"$f":"IF(ISERROR(VLOOKUP($A192+8860000,'Growth Data'!$A:$F,5,0)),\"NO\",VLOOKUP($A192+8860000,'Growth Data'!$A:$F,5,0))","v":"NO"},0,null,0,{"$f":"IF(CC192=\"YES\",IF(ISERROR(VLOOKUP($A192+8860000,'Growth Data'!$A:$Z,8,0)),0,VLOOKUP($A192+8860000,'Growth Data'!$A:$Z,8,0)),0)","v":0},0,null,null,null,0]
[3130,"Wickhambreaux CEP School",null,"Wickhambreaux CEP School","Wickhambreaux CEP School",0,null,493038.44,493038.4350651186,0,null,6452.65,6452.6455293217441,0,null,499491.08,499491.08059444034,0,null,3209.71,3209.7131750000003,0,null,null,null,0,null,0,0,0,null,102719.75,null,102720,null,0,null,0,null,0,null,0,null,0,null,0,null,null,null,0,null,null,null,0,null,null,null,0,null,null,null,0,null,"NO",{"$f":"IF(ISERROR(VLOOKUP($A193+8860000,'Growth Data'!$A:$F,3,0)),\"NO\",VLOOKUP($A193+8860000,'Growth Data'!$A:$F,3,0))","v":"NO"},0,null,0,{"$f":"IF(BM193=\"YES\",IF(ISERROR(VLOOKUP($A193+8860000,'Growth Data'!$A:$F,6,0)),0,VLOOKUP($A193+8860000,'Growth Data'!$A:$F,6,0)),0)","v":0},0,null,"NO",{"$f":"IF(ISERROR(VLOOKUP($A193+8860000,'Growth Data'!$A:$F,4,0)),\"NO\",VLOOKUP($A193+8860000,'Growth Data'!$A:$F,4,0))","v":"NO"},0,null,0,{"$f":"IF(BU193=\"YES\",IF(ISERROR(VLOOKUP($A193+8860000,'Growth Data'!$A:$Z,7,0)),0,VLOOKUP($A193+8860000,'Growth Data'!$A:$Z,7,0)),0)","v":0},0,null,"NO",{"$f":"IF(ISERROR(VLOOKUP($A193+8860000,'Growth Data'!$A:$F,5,0)),\"NO\",VLOOKUP($A193+8860000,'Growth Data'!$A:$F,5,0))","v":"NO"},0,null,0,{"$f":"IF(CC193=\"YES\",IF(ISERROR(VLOOKUP($A193+8860000,'Growth Data'!$A:$Z,8,0)),0,VLOOKUP($A193+8860000,'Growth Data'!$A:$Z,8,0)),0)","v":0},0,null,null,null,0]
[3134,"John Mayne CEP School",null,"John Mayne CEP School","John Mayne CEP School",0,null,493211.22,493211.2241907554,0,null,0,0,0,null,493211.22,493211.2241907554,0,null,2978.61,2978.6138264000001,0,null,null,null,0,null,0,0,0,null,45735.39,null,45735,null,1426.46,null,1426,null,0,null,0,null,0,null,0,null,null,null,0,null,null,null,0,null,null,null,0,null,null,null,0,null,"NO",{"$f":"IF(ISERROR(VLOOKUP($A194+8860000,'Growth Data'!$A:$F,3,0)),\"NO\",VLOOKUP($A194+8860000,'Growth Data'!$A:$F,3,0))","v":"NO"},0,null,0,{"$f":"IF(BM194=\"YES\",IF(ISERROR(VLOOKUP($A194+8860000,'Growth Data'!$A:$F,6,0)),0,VLOOKUP($A194+8860000,'Growth Data'!$A:$F,6,0)),0)","v":0},0,null,"NO",{"$f":"IF(ISERROR(VLOOKUP($A194+8860000,'Growth Data'!$A:$F,4,0)),\"NO\",VLOOKUP($A194+8860000,'Growth Data'!$A:$F,4,0))","v":"NO"},0,null,0,{"$f":"IF(BU194=\"YES\",IF(ISERROR(VLOOKUP($A194+8860000,'Growth Data'!$A:$Z,7,0)),0,VLOOKUP($A194+8860000,'Growth Data'!$A:$Z,7,0)),0)","v":0},0,null,"NO",{"$f":"IF(ISERROR(VLOOKUP($A194+8860000,'Growth Data'!$A:$F,5,0)),\"NO\",VLOOKUP($A194+8860000,'Growth Data'!$A:$F,5,0))","v":"NO"},0,null,0,{"$f":"IF(CC194=\"YES\",IF(ISERROR(VLOOKUP($A194+8860000,'Growth Data'!$A:$Z,8,0)),0,VLOOKUP($A194+8860000,'Growth Data'!$A:$Z,8,0)),0)","v":0},0,null,null,null,0]
[3136,"Brabourne CEP School",null,"Brabourne CEP School","Brabourne CEP School",{"$f":"IF(E195=D195,0,1)","v":0},null,412402.82,412402.82117432146,{"$f":"ROUND(H195-I195,0)","v":0},null,0,0,{"$f":"ROUND(L195-M195,0)","v":0},null,412402.82,412402.82117432146,{"$f":"ROUND(P195-Q195,0)","v":0},null,2465.06,2465.0597184000003,{"$f":"ROUND(T195-U195,0)","v":0},null,null,null,{"$f":"ROUND(X195-Y195,0)","v":0},null,0,0,{"$f":"ROUND(AB195-AC195,0)","v":0},null,59472.34,null,{"$f":"ROUND(AF195-AG195,0)","v":59472},null,52.77,null,{"$f":"ROUND(AJ195-AK195,0)","v":53},null,0,null,{"$f":"ROUND(AN195-AO195,0)","v":0},null,0,null,{"$f":"ROUND(AR195-AS195,0)","v":0},null,null,null,{"$f":"ROUND(AV195-AW195,0)","v":0},null,null,null,{"$f":"ROUND(AZ195-BA195,0)","v":0},null,null,null,{"$f":"ROUND(BD195-BE195,0)","v":0},null,null,null,{"$f":"ROUND(BH195-BI195,0)","v":0},null,"NO",{"$f":"IF(ISERROR(VLOOKUP($A195+8860000,'Growth Data'!$A:$F,3,0)),\"NO\",VLOOKUP($A195+8860000,'Growth Data'!$A:$F,3,0))","v":"NO"},{"$f":"IF(BL195=BM195,0,1)","v":0},null,0,{"$f":"IF(BM195=\"YES\",IF(ISERROR(VLOOKUP($A195+8860000,'Growth Data'!$A:$F,6,0)),0,VLOOKUP($A195+8860000,'Growth Data'!$A:$F,6,0)),0)","v":0},{"$f":"ROUND(BP195-BQ195,0)","v":0},null,"NO",{"$f":"IF(ISERROR(VLOOKUP($A195+8860000,'Growth Data'!$A:$F,4,0)),\"NO\",VLOOKUP($A195+8860000,'Growth Data'!$A:$F,4,0))","v":"NO"},{"$f":"IF(BT195=BU195,0,1)","v":0},null,0,{"$f":"IF(BU195=\"YES\",IF(ISERROR(VLOOKUP($A195+8860000,'Growth Data'!$A:$Z,7,0)),0,VLOOKUP($A195+8860000,'Growth Data'!$A:$Z,7,0)),0)","v":0},{"$f":"ROUND(BX195-BY195,0)","v":0},null,"NO",{"$f":"IF(ISERROR(VLOOKUP($A195+8860000,'Growth Data'!$A:$F,5,0)),\"NO\",VLOOKUP($A195+8860000,'Growth Data'!$A:$F,5,0))","v":"NO"},{"$f":"IF(CB195=CC195,0,1)","v":0},null,0,{"$f":"IF(CC195=\"YES\",IF(ISERROR(VLOOKUP($A195+8860000,'Growth Data'!$A:$Z,8,0)),0,VLOOKUP($A195+8860000,'Growth Data'!$A:$Z,8,0)),0)","v":0},{"$f":"ROUND(CF195-CG195,0)","v":0},null,null,null,{"$f":"ROUND(CJ195-CK195,0)","v":0}]
[3137,"Brookland CEP School",null,"Brookland CEP School","Brookland CEP School",0,null,450706.84,450706.84091767634,0,null,0,0,0,null,450706.84,450706.84091767634,0,null,2619.13,2619.1259507999998,0,null,null,null,0,null,0,0,0,null,90042.14,null,90042,null,0,null,0,null,0,null,0,null,0,null,0,null,null,null,0,null,null,null,0,null,null,null,0,null,null,null,0,null,"NO",{"$f":"IF(ISERROR(VLOOKUP($A196+8860000,'Growth Data'!$A:$F,3,0)),\"NO\",VLOOKUP($A196+8860000,'Growth Data'!$A:$F,3,0))","v":"NO"},0,null,0,{"$f":"IF(BM196=\"YES\",IF(ISERROR(VLOOKUP($A196+8860000,'Growth Data'!$A:$F,6,0)),0,VLOOKUP($A196+8860000,'Growth Data'!$A:$F,6,0)),0)","v":0},0,null,"NO",{"$f":"IF(ISERROR(VLOOKUP($A196+8860000,'Growth Data'!$A:$F,4,0)),\"NO\",VLOOKUP($A196+8860000,'Growth Data'!$A:$F,4,0))","v":"NO"},0,null,0,{"$f":"IF(BU196=\"YES\",IF(ISERROR(VLOOKUP($A196+8860000,'Growth Data'!$A:$Z,7,0)),0,VLOOKUP($A196+8860000,'Growth Data'!$A:$Z,7,0)),0)","v":0},0,null,"NO",{"$f":"IF(ISERROR(VLOOKUP($A196+8860000,'Growth Data'!$A:$F,5,0)),\"NO\",VLOOKUP($A196+8860000,'Growth Data'!$A:$F,5,0))","v":"NO"},0,null,0,{"$f":"IF(CC196=\"YES\",IF(ISERROR(VLOOKUP($A196+8860000,'Growth Data'!$A:$Z,8,0)),0,VLOOKUP($A196+8860000,'Growth Data'!$A:$Z,8,0)),0)","v":0},0,null,null,null,0]
[3138,"Chilham St Mary's CEP School",null,"Chilham St Mary's CEP School","Chilham St Mary's CEP School",0,null,423364.33,423364.33423268457,0,null,0,0,0,null,423364.33,423364.33423268457,0,null,2336.67,2336.6711914000002,0,null,null,null,0,null,0,0,0,null,36573.480000000003,null,36573,null,2342.65,null,2343,null,0,null,0,null,0,null,0,null,null,null,0,null,null,null,0,null,null,null,0,null,null,null,0,null,"NO",{"$f":"IF(ISERROR(VLOOKUP($A197+8860000,'Growth Data'!$A:$F,3,0)),\"NO\",VLOOKUP($A197+8860000,'Growth Data'!$A:$F,3,0))","v":"NO"},0,null,0,{"$f":"IF(BM197=\"YES\",IF(ISERROR(VLOOKUP($A197+8860000,'Growth Data'!$A:$F,6,0)),0,VLOOKUP($A197+8860000,'Growth Data'!$A:$F,6,0)),0)","v":0},0,null,"NO",{"$f":"IF(ISERROR(VLOOKUP($A197+8860000,'Growth Data'!$A:$F,4,0)),\"NO\",VLOOKUP($A197+8860000,'Growth Data'!$A:$F,4,0))","v":"NO"},0,null,0,{"$f":"IF(BU197=\"YES\",IF(ISERROR(VLOOKUP($A197+8860000,'Growth Data'!$A:$Z,7,0)),0,VLOOKUP($A197+8860000,'Growth Data'!$A:$Z,7,0)),0)","v":0},0,null,"NO",{"$f":"IF(ISERROR(VLOOKUP($A197+8860000,'Growth Data'!$A:$F,5,0)),\"NO\",VLOOKUP($A197+8860000,'Growth Data'!$A:$F,5,0))","v":"NO"},0,null,0,{"$f":"IF(CC197=\"YES\",IF(ISERROR(VLOOKUP($A197+8860000,'Growth Data'!$A:$Z,8,0)),0,VLOOKUP($A197+8860000,'Growth Data'!$A:$Z,8,0)),0)","v":0},0,null,null,null,0]
[3139,"High Halden CEP School",null,"High Halden CEP School","High Halden CEP School",0,null,413877.87,413877.86872208177,0,null,0,0,0,null,413877.87,413877.86872208177,0,null,2362.35,2362.3488968000001,0,null,null,null,0,null,0,0,0,null,57767.24,null,57767,null,223.28,null,223,null,0,null,0,null,0,null,0,null,null,null,0,null,null,null,0,null,null,null,0,null,null,null,0,null,"NO",{"$f":"IF(ISERROR(VLOOKUP($A198+8860000,'Growth Data'!$A:$F,3,0)),\"NO\",VLOOKUP($A198+8860000,'Growth Data'!$A:$F,3,0))","v":"NO"},0,null,0,{"$f":"IF(BM198=\"YES\",IF(ISERROR(VLOOKUP($A198+8860000,'Growth Data'!$A:$F,6,0)),0,VLOOKUP($A198+8860000,'Growth Data'!$A:$F,6,0)),0)","v":0},0,null,"NO",{"$f":"IF(ISERROR(VLOOKUP($A198+8860000,'Growth Data'!$A:$F,4,0)),\"NO\",VLOOKUP($A198+8860000,'Growth Data'!$A:$F,4,0))","v":"NO"},0,null,0,{"$f":"IF(BU198=\"YES\",IF(ISERROR(VLOOKUP($A198+8860000,'Growth Data'!$A:$Z,7,0)),0,VLOOKUP($A198+8860000,'Growth Data'!$A:$Z,7,0)),0)","v":0},0,null,"NO",{"$f":"IF(ISERROR(VLOOKUP($A198+8860000,'Growth Data'!$A:$F,5,0)),\"NO\",VLOOKUP($A198+8860000,'Growth Data'!$A:$F,5,0))","v":"NO"},0,null,0,{"$f":"IF(CC198=\"YES\",IF(ISERROR(VLOOKUP($A198+8860000,'Growth Data'!$A:$Z,8,0)),0,VLOOKUP($A198+8860000,'Growth Data'!$A:$Z,8,0)),0)","v":0},0,null,null,null,0]
[3145,"Woodchurch CEP School",null,"Woodchurch CEP School","Woodchurch CEP School",0,null,629651.89,629651.8917879482,0,null,0,0,0,null,629651.89,629651.8917879482,0,null,4185.47,4185.4659802000006,0,null,null,null,0,null,0,0,0,null,28865.87,null,28866,null,3113.41,null,3113,null,0,null,0,null,0,null,0,null,null,null,0,null,null,null,0,null,null,null,0,null,null,null,0,null,"NO",{"$f":"IF(ISERROR(VLOOKUP($A199+8860000,'Growth Data'!$A:$F,3,0)),\"NO\",VLOOKUP($A199+8860000,'Growth Data'!$A:$F,3,0))","v":"NO"},0,null,0,{"$f":"IF(BM199=\"YES\",IF(ISERROR(VLOOKUP($A199+8860000,'Growth Data'!$A:$F,6,0)),0,VLOOKUP($A199+8860000,'Growth Data'!$A:$F,6,0)),0)","v":0},0,null,"NO",{"$f":"IF(ISERROR(VLOOKUP($A199+8860000,'Growth Data'!$A:$F,4,0)),\"NO\",VLOOKUP($A199+8860000,'Growth Data'!$A:$F,4,0))","v":"NO"},0,null,0,{"$f":"IF(BU199=\"YES\",IF(ISERROR(VLOOKUP($A199+8860000,'Growth Data'!$A:$Z,7,0)),0,VLOOKUP($A199+8860000,'Growth Data'!$A:$Z,7,0)),0)","v":0},0,null,"NO",{"$f":"IF(ISERROR(VLOOKUP($A199+8860000,'Growth Data'!$A:$F,5,0)),\"NO\",VLOOKUP($A199+8860000,'Growth Data'!$A:$F,5,0))","v":"NO"},0,null,0,{"$f":"IF(CC199=\"YES\",IF(ISERROR(VLOOKUP($A199+8860000,'Growth Data'!$A:$Z,8,0)),0,VLOOKUP($A199+8860000,'Growth Data'!$A:$Z,8,0)),0)","v":0},0,null,null,null,0]
[3146,"Bodsham CEP School",null,"Bodsham CEP School","Bodsham CEP School",0,null,411609.71,411609.70978936384,0,null,0,0,0,null,411609.71,411609.70978936384,0,null,2388.0300000000002,2388.0266022000001,0,null,null,null,0,null,0,0,0,null,33500.629999999997,null,33501,null,2649.94,null,2650,null,0,null,0,null,0,null,0,null,null,null,0,null,null,null,0,null,null,null,0,null,null,null,0,null,"NO",{"$f":"IF(ISERROR(VLOOKUP($A200+8860000,'Growth Data'!$A:$F,3,0)),\"NO\",VLOOKUP($A200+8860000,'Growth Data'!$A:$F,3,0))","v":"NO"},0,null,0,{"$f":"IF(BM200=\"YES\",IF(ISERROR(VLOOKUP($A200+8860000,'Growth Data'!$A:$F,6,0)),0,VLOOKUP($A200+8860000,'Growth Data'!$A:$F,6,0)),0)","v":0},0,null,"NO",{"$f":"IF(ISERROR(VLOOKUP($A200+8860000,'Growth Data'!$A:$F,4,0)),\"NO\",VLOOKUP($A200+8860000,'Growth Data'!$A:$F,4,0))","v":"NO"},0,null,0,{"$f":"IF(BU200=\"YES\",IF(ISERROR(VLOOKUP($A200+8860000,'Growth Data'!$A:$Z,7,0)),0,VLOOKUP($A200+8860000,'Growth Data'!$A:$Z,7,0)),0)","v":0},0,null,"NO",{"$f":"IF(ISERROR(VLOOKUP($A200+8860000,'Growth Data'!$A:$F,5,0)),\"NO\",VLOOKUP($A200+8860000,'Growth Data'!$A:$F,5,0))","v":"NO"},0,null,0,{"$f":"IF(CC200=\"YES\",IF(ISERROR(VLOOKUP($A200+8860000,'Growth Data'!$A:$Z,8,0)),0,VLOOKUP($A200+8860000,'Growth Data'!$A:$Z,8,0)),0)","v":0},0,null,null,null,0]
[3149,"St Martin's CEP School, Folkestone",null,"St Martin's CEP School, Folkestone","St Martin's CEP School, Folkestone",0,null,770017.92,770017.91694077326,0,null,0,0,0,null,770017.92,770017.91694077326,0,null,5315.29,5315.2850177999999,0,null,null,null,0,null,0,0,0,null,56164.79,null,56165,null,383.52,null,384,null,0,null,0,null,0,null,0,null,null,null,0,null,null,null,0,null,null,null,0,null,null,null,0,null,"NO",{"$f":"IF(ISERROR(VLOOKUP($A201+8860000,'Growth Data'!$A:$F,3,0)),\"NO\",VLOOKUP($A201+8860000,'Growth Data'!$A:$F,3,0))","v":"NO"},0,null,0,{"$f":"IF(BM201=\"YES\",IF(ISERROR(VLOOKUP($A201+8860000,'Growth Data'!$A:$F,6,0)),0,VLOOKUP($A201+8860000,'Growth Data'!$A:$F,6,0)),0)","v":0},0,null,"NO",{"$f":"IF(ISERROR(VLOOKUP($A201+8860000,'Growth Data'!$A:$F,4,0)),\"NO\",VLOOKUP($A201+8860000,'Growth Data'!$A:$F,4,0))","v":"NO"},0,null,0,{"$f":"IF(BU201=\"YES\",IF(ISERROR(VLOOKUP($A201+8860000,'Growth Data'!$A:$Z,7,0)),0,VLOOKUP($A201+8860000,'Growth Data'!$A:$Z,7,0)),0)","v":0},0,null,"NO",{"$f":"IF(ISERROR(VLOOKUP($A201+8860000,'Growth Data'!$A:$F,5,0)),\"NO\",VLOOKUP($A201+8860000,'Growth Data'!$A:$F,5,0))","v":"NO"},0,null,0,{"$f":"IF(CC201=\"YES\",IF(ISERROR(VLOOKUP($A201+8860000,'Growth Data'!$A:$Z,8,0)),0,VLOOKUP($A201+8860000,'Growth Data'!$A:$Z,8,0)),0)","v":0},0,null,null,null,0]
[3150,"St Peter's CEP School, Folkestone",null,"St Peter's CEP School, Folkestone","St Peter's CEP School, Folkestone",0,null,539877.59,539877.58516257768,0,null,0,0,0,null,539877.59,539877.58516257768,0,null,2670.48,2670.4813615999997,0,null,null,null,0,null,0,0,0,null,19720.43,null,19720,null,4027.96,null,4028,null,0,null,0,null,0,null,0,null,null,null,0,null,null,null,0,null,null,null,0,null,null,null,0,null,"NO",{"$f":"IF(ISERROR(VLOOKUP($A202+8860000,'Growth Data'!$A:$F,3,0)),\"NO\",VLOOKUP($A202+8860000,'Growth Data'!$A:$F,3,0))","v":"NO"},0,null,0,{"$f":"IF(BM202=\"YES\",IF(ISERROR(VLOOKUP($A202+8860000,'Growth Data'!$A:$F,6,0)),0,VLOOKUP($A202+8860000,'Growth Data'!$A:$F,6,0)),0)","v":0},0,null,"NO",{"$f":"IF(ISERROR(VLOOKUP($A202+8860000,'Growth Data'!$A:$F,4,0)),\"NO\",VLOOKUP($A202+8860000,'Growth Data'!$A:$F,4,0))","v":"NO"},0,null,0,{"$f":"IF(BU202=\"YES\",IF(ISERROR(VLOOKUP($A202+8860000,'Growth Data'!$A:$Z,7,0)),0,VLOOKUP($A202+8860000,'Growth Data'!$A:$Z,7,0)),0)","v":0},0,null,"NO",{"$f":"IF(ISERROR(VLOOKUP($A202+8860000,'Growth Data'!$A:$F,5,0)),\"NO\",VLOOKUP($A202+8860000,'Growth Data'!$A:$F,5,0))","v":"NO"},0,null,0,{"$f":"IF(CC202=\"YES\",IF(ISERROR(VLOOKUP($A202+8860000,'Growth Data'!$A:$Z,8,0)),0,VLOOKUP($A202+8860000,'Growth Data'!$A:$Z,8,0)),0)","v":0},0,null,null,null,0]
[3153,"Seabrook CEP School",null,"Seabrook CEP School","Seabrook CEP School",0,null,452875.85,452875.84500757448,0,null,0,0,0,null,452875.85,452875.84500757448,0,null,2747.51,2747.5144778000003,0,null,null,null,0,null,0,0,0,null,29259.62,null,29260,null,3074.04,null,3074,null,0,null,0,null,0,null,0,null,null,null,0,null,null,null,0,null,null,null,0,null,null,null,0,null,"NO",{"$f":"IF(ISERROR(VLOOKUP($A203+8860000,'Growth Data'!$A:$F,3,0)),\"NO\",VLOOKUP($A203+8860000,'Growth Data'!$A:$F,3,0))","v":"NO"},0,null,0,{"$f":"IF(BM203=\"YES\",IF(ISERROR(VLOOKUP($A203+8860000,'Growth Data'!$A:$F,6,0)),0,VLOOKUP($A203+8860000,'Growth Data'!$A:$F,6,0)),0)","v":0},0,null,"NO",{"$f":"IF(ISERROR(VLOOKUP($A203+8860000,'Growth Data'!$A:$F,4,0)),\"NO\",VLOOKUP($A203+8860000,'Growth Data'!$A:$F,4,0))","v":"NO"},0,null,0,{"$f":"IF(BU203=\"YES\",IF(ISERROR(VLOOKUP($A203+8860000,'Growth Data'!$A:$Z,7,0)),0,VLOOKUP($A203+8860000,'Growth Data'!$A:$Z,7,0)),0)","v":0},0,null,"NO",{"$f":"IF(ISERROR(VLOOKUP($A203+8860000,'Growth Data'!$A:$F,5,0)),\"NO\",VLOOKUP($A203+8860000,'Growth Data'!$A:$F,5,0))","v":"NO"},0,null,0,{"$f":"IF(CC203=\"YES\",IF(ISERROR(VLOOKUP($A203+8860000,'Growth Data'!$A:$Z,8,0)),0,VLOOKUP($A203+8860000,'Growth Data'!$A:$Z,8,0)),0)","v":0},0,null,null,null,0]
[3154,"Lyminge CEP School",null,"Lyminge CEP School","Lyminge CEP School",0,null,721905.67,721905.66690269276,0,null,0,0,0,null,721905.67,721905.66690269276,0,null,5109.8599999999997,5109.8633746000005,0,null,null,null,0,null,0,0,0,null,23345.89,null,23346,null,3665.41,null,3665,null,0,null,0,null,0,null,0,null,null,null,0,null,null,null,0,null,null,null,0,null,null,null,0,null,"NO",{"$f":"IF(ISERROR(VLOOKUP($A204+8860000,'Growth Data'!$A:$F,3,0)),\"NO\",VLOOKUP($A204+8860000,'Growth Data'!$A:$F,3,0))","v":"NO"},0,null,0,{"$f":"IF(BM204=\"YES\",IF(ISERROR(VLOOKUP($A204+8860000,'Growth Data'!$A:$F,6,0)),0,VLOOKUP($A204+8860000,'Growth Data'!$A:$F,6,0)),0)","v":0},0,null,"NO",{"$f":"IF(ISERROR(VLOOKUP($A204+8860000,'Growth Data'!$A:$F,4,0)),\"NO\",VLOOKUP($A204+8860000,'Growth Data'!$A:$F,4,0))","v":"NO"},0,null,0,{"$f":"IF(BU204=\"YES\",IF(ISERROR(VLOOKUP($A204+8860000,'Growth Data'!$A:$Z,7,0)),0,VLOOKUP($A204+8860000,'Growth Data'!$A:$Z,7,0)),0)","v":0},0,null,"NO",{"$f":"IF(ISERROR(VLOOKUP($A204+8860000,'Growth Data'!$A:$F,5,0)),\"NO\",VLOOKUP($A204+8860000,'Growth Data'!$A:$F,5,0))","v":"NO"},0,null,0,{"$f":"IF(CC204=\"YES\",IF(ISERROR(VLOOKUP($A204+8860000,'Growth Data'!$A:$Z,8,0)),0,VLOOKUP($A204+8860000,'Growth Data'!$A:$Z,8,0)),0)","v":0},0,null,null,null,0]
[3155,"Lympne CEP School",null,"Lympne CEP School","Lympne CEP School",0,null,822036.78,822036.77604477282,0,null,0,0,0,null,822036.78,822036.77604477282,0,null,5546.38,5546.3843664000005,0,null,null,null,0,null,0,0,0,null,36914.660000000003,null,36915,null,2308.5300000000002,null,2309,null,0,null,0,null,0,null,0,null,null,null,0,null,null,null,0,null,null,null,0,null,null,null,0,null,"NO",{"$f":"IF(ISERROR(VLOOKUP($A205+8860000,'Growth Data'!$A:$F,3,0)),\"NO\",VLOOKUP($A205+8860000,'Growth Data'!$A:$F,3,0))","v":"NO"},0,null,0,{"$f":"IF(BM205=\"YES\",IF(ISERROR(VLOOKUP($A205+8860000,'Growth Data'!$A:$F,6,0)),0,VLOOKUP($A205+8860000,'Growth Data'!$A:$F,6,0)),0)","v":0},0,null,"NO",{"$f":"IF(ISERROR(VLOOKUP($A205+8860000,'Growth Data'!$A:$F,4,0)),\"NO\",VLOOKUP($A205+8860000,'Growth Data'!$A:$F,4,0))","v":"NO"},0,null,0,{"$f":"IF(BU205=\"YES\",IF(ISERROR(VLOOKUP($A205+8860000,'Growth Data'!$A:$Z,7,0)),0,VLOOKUP($A205+8860000,'Growth Data'!$A:$Z,7,0)),0)","v":0},0,null,"NO",{"$f":"IF(ISERROR(VLOOKUP($A205+8860000,'Growth Data'!$A:$F,5,0)),\"NO\",VLOOKUP($A205+8860000,'Growth Data'!$A:$F,5,0))","v":"NO"},0,null,0,{"$f":"IF(CC205=\"YES\",IF(ISERROR(VLOOKUP($A205+8860000,'Growth Data'!$A:$Z,8,0)),0,VLOOKUP($A205+8860000,'Growth Data'!$A:$Z,8,0)),0)","v":0},0,null,null,null,0]
[3158,"Stelling Minnis CEP School",null,"Stelling Minnis CEP School","Stelling Minnis CEP School",0,null,440662.45,440662.449860472,0,null,0,0,0,null,440662.45,440662.449860472,0,null,2516.42,2516.4151291999997,0,null,null,null,0,null,0,0,0,null,29855.16,null,29855,null,3014.48,null,3014,null,0,null,0,null,0,null,0,null,null,null,0,null,null,null,0,null,null,null,0,null,null,null,0,null,"NO",{"$f":"IF(ISERROR(VLOOKUP($A206+8860000,'Growth Data'!$A:$F,3,0)),\"NO\",VLOOKUP($A206+8860000,'Growth Data'!$A:$F,3,0))","v":"NO"},0,null,0,{"$f":"IF(BM206=\"YES\",IF(ISERROR(VLOOKUP($A206+8860000,'Growth Data'!$A:$F,6,0)),0,VLOOKUP($A206+8860000,'Growth Data'!$A:$F,6,0)),0)","v":0},0,null,"NO",{"$f":"IF(ISERROR(VLOOKUP($A206+8860000,'Growth Data'!$A:$F,4,0)),\"NO\",VLOOKUP($A206+8860000,'Growth Data'!$A:$F,4,0))","v":"NO"},0,null,0,{"$f":"IF(BU206=\"YES\",IF(ISERROR(VLOOKUP($A206+8860000,'Growth Data'!$A:$Z,7,0)),0,VLOOKUP($A206+8860000,'Growth Data'!$A:$Z,7,0)),0)","v":0},0,null,"NO",{"$f":"IF(ISERROR(VLOOKUP($A206+8860000,'Growth Data'!$A:$F,5,0)),\"NO\",VLOOKUP($A206+8860000,'Growth Data'!$A:$F,5,0))","v":"NO"},0,null,0,{"$f":"IF(CC206=\"YES\",IF(ISERROR(VLOOKUP($A206+8860000,'Growth Data'!$A:$Z,8,0)),0,VLOOKUP($A206+8860000,'Growth Data'!$A:$Z,8,0)),0)","v":0},0,null,null,null,0]
[3159,"Stowting CEP School",null,"Stowting CEP School","Stowting CEP School",0,null,415626.8,415626.7952188967,0,null,0,0,0,null,415626.8,415626.7952188967,0,null,2439.38,2439.3820129999999,0,null,null,null,0,null,0,0,0,null,25013.360000000001,null,25013,null,3498.66,null,3499,null,0,null,0,null,0,null,0,null,null,null,0,null,null,null,0,null,null,null,0,null,null,null,0,null,"NO",{"$f":"IF(ISERROR(VLOOKUP($A207+8860000,'Growth Data'!$A:$F,3,0)),\"NO\",VLOOKUP($A207+8860000,'Growth Data'!$A:$F,3,0))","v":"NO"},0,null,0,{"$f":"IF(BM207=\"YES\",IF(ISERROR(VLOOKUP($A207+8860000,'Growth Data'!$A:$F,6,0)),0,VLOOKUP($A207+8860000,'Growth Data'!$A:$F,6,0)),0)","v":0},0,null,"NO",{"$f":"IF(ISERROR(VLOOKUP($A207+8860000,'Growth Data'!$A:$F,4,0)),\"NO\",VLOOKUP($A207+8860000,'Growth Data'!$A:$F,4,0))","v":"NO"},0,null,0,{"$f":"IF(BU207=\"YES\",IF(ISERROR(VLOOKUP($A207+8860000,'Growth Data'!$A:$Z,7,0)),0,VLOOKUP($A207+8860000,'Growth Data'!$A:$Z,7,0)),0)","v":0},0,null,"NO",{"$f":"IF(ISERROR(VLOOKUP($A207+8860000,'Growth Data'!$A:$F,5,0)),\"NO\",VLOOKUP($A207+8860000,'Growth Data'!$A:$F,5,0))","v":"NO"},0,null,0,{"$f":"IF(CC207=\"YES\",IF(ISERROR(VLOOKUP($A207+8860000,'Growth Data'!$A:$Z,8,0)),0,VLOOKUP($A207+8860000,'Growth Data'!$A:$Z,8,0)),0)","v":0},0,null,null,null,0]
[3160,"Selsted CEP School",null,"Selsted CEP School","Selsted CEP School",0,null,440941.79,440941.78603267774,0,null,0,0,0,null,440941.79,440941.78603267774,0,null,2465.06,2465.0597184000003,0,null,null,null,0,null,0,0,0,null,42831.27,null,42831,null,1716.87,null,1717,null,0,null,0,null,0,null,0,null,null,null,0,null,null,null,0,null,null,null,0,null,null,null,0,null,"YES",{"$f":"IF(ISERROR(VLOOKUP($A208+8860000,'Growth Data'!$A:$F,3,0)),\"NO\",VLOOKUP($A208+8860000,'Growth Data'!$A:$F,3,0))","v":"NO"},1,null,21,{"$f":"IF(BM208=\"YES\",IF(ISERROR(VLOOKUP($A208+8860000,'Growth Data'!$A:$F,6,0)),0,VLOOKUP($A208+8860000,'Growth Data'!$A:$F,6,0)),0)","v":0},21,null,"YES",{"$f":"IF(ISERROR(VLOOKUP($A208+8860000,'Growth Data'!$A:$F,4,0)),\"NO\",VLOOKUP($A208+8860000,'Growth Data'!$A:$F,4,0))","v":"NO"},1,null,23,{"$f":"IF(BU208=\"YES\",IF(ISERROR(VLOOKUP($A208+8860000,'Growth Data'!$A:$Z,7,0)),0,VLOOKUP($A208+8860000,'Growth Data'!$A:$Z,7,0)),0)","v":0},23,null,"YES",{"$f":"IF(ISERROR(VLOOKUP($A208+8860000,'Growth Data'!$A:$F,5,0)),\"NO\",VLOOKUP($A208+8860000,'Growth Data'!$A:$F,5,0))","v":"NO"},1,null,24,{"$f":"IF(CC208=\"YES\",IF(ISERROR(VLOOKUP($A208+8860000,'Growth Data'!$A:$Z,8,0)),0,VLOOKUP($A208+8860000,'Growth Data'!$A:$Z,8,0)),0)","v":0},24,null,null,null,0]
[3163,"Downs CEP School, The",null,"Downs CEP School, The","Downs CEP School, The",0,null,1446296.1,1446296.0977838933,0,null,0,0,0,null,1446296.1,1446296.0977838933,0,null,10194.049999999999,10194.049043799996,0,null,null,null,0,null,0,0,0,null,13693.05,null,13693,null,4630.7,null,4631,null,0,null,0,null,0,null,0,null,null,null,0,null,null,null,0,null,null,null,0,null,null,null,0,null,"NO",{"$f":"IF(ISERROR(VLOOKUP($A209+8860000,'Growth Data'!$A:$F,3,0)),\"NO\",VLOOKUP($A209+8860000,'Growth Data'!$A:$F,3,0))","v":"NO"},0,null,0,{"$f":"IF(BM209=\"YES\",IF(ISERROR(VLOOKUP($A209+8860000,'Growth Data'!$A:$F,6,0)),0,VLOOKUP($A209+8860000,'Growth Data'!$A:$F,6,0)),0)","v":0},0,null,"NO",{"$f":"IF(ISERROR(VLOOKUP($A209+8860000,'Growth Data'!$A:$F,4,0)),\"NO\",VLOOKUP($A209+8860000,'Growth Data'!$A:$F,4,0))","v":"NO"},0,null,0,{"$f":"IF(BU209=\"YES\",IF(ISERROR(VLOOKUP($A209+8860000,'Growth Data'!$A:$Z,7,0)),0,VLOOKUP($A209+8860000,'Growth Data'!$A:$Z,7,0)),0)","v":0},0,null,"NO",{"$f":"IF(ISERROR(VLOOKUP($A209+8860000,'Growth Data'!$A:$F,5,0)),\"NO\",VLOOKUP($A209+8860000,'Growth Data'!$A:$F,5,0))","v":"NO"},0,null,0,{"$f":"IF(CC209=\"YES\",IF(ISERROR(VLOOKUP($A209+8860000,'Growth Data'!$A:$Z,8,0)),0,VLOOKUP($A209+8860000,'Growth Data'!$A:$Z,8,0)),0)","v":0},0,null,null,null,0]
[3167,"Eastry CEP School",null,"Eastry CEP School","Eastry CEP School",0,null,788123.64,788123.64113605546,0,null,0,0,0,null,788123.64,788123.64113605546,0,null,5495.03,5495.0289556000007,0,null,null,null,0,null,0,0,0,null,54190.26,null,54190,null,580.97,null,581,null,0,null,0,null,0,null,0,null,null,null,0,null,null,null,0,null,null,null,0,null,null,null,0,null,"NO",{"$f":"IF(ISERROR(VLOOKUP($A210+8860000,'Growth Data'!$A:$F,3,0)),\"NO\",VLOOKUP($A210+8860000,'Growth Data'!$A:$F,3,0))","v":"NO"},0,null,0,{"$f":"IF(BM210=\"YES\",IF(ISERROR(VLOOKUP($A210+8860000,'Growth Data'!$A:$F,6,0)),0,VLOOKUP($A210+8860000,'Growth Data'!$A:$F,6,0)),0)","v":0},0,null,"NO",{"$f":"IF(ISERROR(VLOOKUP($A210+8860000,'Growth Data'!$A:$F,4,0)),\"NO\",VLOOKUP($A210+8860000,'Growth Data'!$A:$F,4,0))","v":"NO"},0,null,0,{"$f":"IF(BU210=\"YES\",IF(ISERROR(VLOOKUP($A210+8860000,'Growth Data'!$A:$Z,7,0)),0,VLOOKUP($A210+8860000,'Growth Data'!$A:$Z,7,0)),0)","v":0},0,null,"NO",{"$f":"IF(ISERROR(VLOOKUP($A210+8860000,'Growth Data'!$A:$F,5,0)),\"NO\",VLOOKUP($A210+8860000,'Growth Data'!$A:$F,5,0))","v":"NO"},0,null,0,{"$f":"IF(CC210=\"YES\",IF(ISERROR(VLOOKUP($A210+8860000,'Growth Data'!$A:$Z,8,0)),0,VLOOKUP($A210+8860000,'Growth Data'!$A:$Z,8,0)),0)","v":0},0,null,null,null,0]
[3168,"Goodnestone CEP School",null,"Goodnestone CEP School","Goodnestone CEP School",0,null,308008.46999999997,308008.4688255529,0,null,0,0,0,null,308008.46999999997,308008.4688255529,0,null,1489.31,1489.3069132000001,0,null,null,null,0,null,0,0,0,null,86973.68,null,86974,null,0,null,0,null,0,null,0,null,0,null,0,null,null,null,0,null,null,null,0,null,null,null,0,null,null,null,0,null,"NO",{"$f":"IF(ISERROR(VLOOKUP($A211+8860000,'Growth Data'!$A:$F,3,0)),\"NO\",VLOOKUP($A211+8860000,'Growth Data'!$A:$F,3,0))","v":"NO"},0,null,0,{"$f":"IF(BM211=\"YES\",IF(ISERROR(VLOOKUP($A211+8860000,'Growth Data'!$A:$F,6,0)),0,VLOOKUP($A211+8860000,'Growth Data'!$A:$F,6,0)),0)","v":0},0,null,"NO",{"$f":"IF(ISERROR(VLOOKUP($A211+8860000,'Growth Data'!$A:$F,4,0)),\"NO\",VLOOKUP($A211+8860000,'Growth Data'!$A:$F,4,0))","v":"NO"},0,null,0,{"$f":"IF(BU211=\"YES\",IF(ISERROR(VLOOKUP($A211+8860000,'Growth Data'!$A:$Z,7,0)),0,VLOOKUP($A211+8860000,'Growth Data'!$A:$Z,7,0)),0)","v":0},0,null,"NO",{"$f":"IF(ISERROR(VLOOKUP($A211+8860000,'Growth Data'!$A:$F,5,0)),\"NO\",VLOOKUP($A211+8860000,'Growth Data'!$A:$F,5,0))","v":"NO"},0,null,0,{"$f":"IF(CC211=\"YES\",IF(ISERROR(VLOOKUP($A211+8860000,'Growth Data'!$A:$Z,8,0)),0,VLOOKUP($A211+8860000,'Growth Data'!$A:$Z,8,0)),0)","v":0},0,null,null,null,0]
[3169,"Guston CEP School",null,"Guston CEP School","Guston CEP School",0,null,616862.76,616862.76006401889,0,null,15326.73,15326.730778417434,0,null,632189.49,632189.49084243632,0,null,3800.3,3800.3003991999994,0,null,null,null,0,null,0,0,0,null,34662.65,null,34663,null,2533.7399999999998,null,2534,null,0,null,0,null,0,null,0,null,null,null,0,null,null,null,0,null,null,null,0,null,null,null,0,null,"NO",{"$f":"IF(ISERROR(VLOOKUP($A212+8860000,'Growth Data'!$A:$F,3,0)),\"NO\",VLOOKUP($A212+8860000,'Growth Data'!$A:$F,3,0))","v":"NO"},0,null,0,{"$f":"IF(BM212=\"YES\",IF(ISERROR(VLOOKUP($A212+8860000,'Growth Data'!$A:$F,6,0)),0,VLOOKUP($A212+8860000,'Growth Data'!$A:$F,6,0)),0)","v":0},0,null,"NO",{"$f":"IF(ISERROR(VLOOKUP($A212+8860000,'Growth Data'!$A:$F,4,0)),\"NO\",VLOOKUP($A212+8860000,'Growth Data'!$A:$F,4,0))","v":"NO"},0,null,0,{"$f":"IF(BU212=\"YES\",IF(ISERROR(VLOOKUP($A212+8860000,'Growth Data'!$A:$Z,7,0)),0,VLOOKUP($A212+8860000,'Growth Data'!$A:$Z,7,0)),0)","v":0},0,null,"NO",{"$f":"IF(ISERROR(VLOOKUP($A212+8860000,'Growth Data'!$A:$F,5,0)),\"NO\",VLOOKUP($A212+8860000,'Growth Data'!$A:$F,5,0))","v":"NO"},0,null,0,{"$f":"IF(CC212=\"YES\",IF(ISERROR(VLOOKUP($A212+8860000,'Growth Data'!$A:$Z,8,0)),0,VLOOKUP($A212+8860000,'Growth Data'!$A:$Z,8,0)),0)","v":0},0,null,null,null,0]
[3171,"Nonington CEP School",null,"Nonington CEP School","Nonington CEP School",0,null,355507.02,355507.02436647442,0,null,0,0,0,null,355507.02,355507.02436647442,0,null,1720.41,1720.4062618,0,null,null,null,0,null,0,0,0,null,25278.79,null,25279,null,3472.12,null,3472,null,0,null,0,null,0,null,0,null,null,null,0,null,null,null,0,null,null,null,0,null,null,null,0,null,"NO",{"$f":"IF(ISERROR(VLOOKUP($A213+8860000,'Growth Data'!$A:$F,3,0)),\"NO\",VLOOKUP($A213+8860000,'Growth Data'!$A:$F,3,0))","v":"NO"},0,null,0,{"$f":"IF(BM213=\"YES\",IF(ISERROR(VLOOKUP($A213+8860000,'Growth Data'!$A:$F,6,0)),0,VLOOKUP($A213+8860000,'Growth Data'!$A:$F,6,0)),0)","v":0},0,null,"NO",{"$f":"IF(ISERROR(VLOOKUP($A213+8860000,'Growth Data'!$A:$F,4,0)),\"NO\",VLOOKUP($A213+8860000,'Growth Data'!$A:$F,4,0))","v":"NO"},0,null,0,{"$f":"IF(BU213=\"YES\",IF(ISERROR(VLOOKUP($A213+8860000,'Growth Data'!$A:$Z,7,0)),0,VLOOKUP($A213+8860000,'Growth Data'!$A:$Z,7,0)),0)","v":0},0,null,"NO",{"$f":"IF(ISERROR(VLOOKUP($A213+8860000,'Growth Data'!$A:$F,5,0)),\"NO\",VLOOKUP($A213+8860000,'Growth Data'!$A:$F,5,0))","v":"NO"},0,null,0,{"$f":"IF(CC213=\"YES\",IF(ISERROR(VLOOKUP($A213+8860000,'Growth Data'!$A:$Z,8,0)),0,VLOOKUP($A213+8860000,'Growth Data'!$A:$Z,8,0)),0)","v":0},0,null,null,null,0]
[3172,"Northbourne CEP School",null,"Northbourne CEP School","Northbourne CEP School",0,null,496051.98,496051.98051162547,0,null,0,0,0,null,496051.98,496051.98051162547,0,null,3132.68,3132.6800587999996,0,null,null,null,0,null,0,0,0,null,56591.63,null,56592,null,340.84,null,341,null,0,null,0,null,0,null,0,null,null,null,0,null,null,null,0,null,null,null,0,null,null,null,0,null,"NO",{"$f":"IF(ISERROR(VLOOKUP($A214+8860000,'Growth Data'!$A:$F,3,0)),\"NO\",VLOOKUP($A214+8860000,'Growth Data'!$A:$F,3,0))","v":"NO"},0,null,0,{"$f":"IF(BM214=\"YES\",IF(ISERROR(VLOOKUP($A214+8860000,'Growth Data'!$A:$F,6,0)),0,VLOOKUP($A214+8860000,'Growth Data'!$A:$F,6,0)),0)","v":0},0,null,"NO",{"$f":"IF(ISERROR(VLOOKUP($A214+8860000,'Growth Data'!$A:$F,4,0)),\"NO\",VLOOKUP($A214+8860000,'Growth Data'!$A:$F,4,0))","v":"NO"},0,null,0,{"$f":"IF(BU214=\"YES\",IF(ISERROR(VLOOKUP($A214+8860000,'Growth Data'!$A:$Z,7,0)),0,VLOOKUP($A214+8860000,'Growth Data'!$A:$Z,7,0)),0)","v":0},0,null,"NO",{"$f":"IF(ISERROR(VLOOKUP($A214+8860000,'Growth Data'!$A:$F,5,0)),\"NO\",VLOOKUP($A214+8860000,'Growth Data'!$A:$F,5,0))","v":"NO"},0,null,0,{"$f":"IF(CC214=\"YES\",IF(ISERROR(VLOOKUP($A214+8860000,'Growth Data'!$A:$Z,8,0)),0,VLOOKUP($A214+8860000,'Growth Data'!$A:$Z,8,0)),0)","v":0},0,null,null,null,0]
[3173,"Kingsdown & Ringwould CEP School",null,"Kingsdown & Ringwould CEP School","Kingsdown & Ringwould CEP School",0,null,790807.52,790807.52191960788,0,null,0,0,0,null,790807.52,790807.52191960788,0,null,5623.42,5623.4174826000008,0,null,null,null,0,null,0,0,0,null,20618.240000000002,null,20618,null,3938.18,null,3938,null,0,null,0,null,0,null,0,null,null,null,0,null,null,null,0,null,null,null,0,null,null,null,0,null,"NO",{"$f":"IF(ISERROR(VLOOKUP($A215+8860000,'Growth Data'!$A:$F,3,0)),\"NO\",VLOOKUP($A215+8860000,'Growth Data'!$A:$F,3,0))","v":"NO"},0,null,0,{"$f":"IF(BM215=\"YES\",IF(ISERROR(VLOOKUP($A215+8860000,'Growth Data'!$A:$F,6,0)),0,VLOOKUP($A215+8860000,'Growth Data'!$A:$F,6,0)),0)","v":0},0,null,"NO",{"$f":"IF(ISERROR(VLOOKUP($A215+8860000,'Growth Data'!$A:$F,4,0)),\"NO\",VLOOKUP($A215+8860000,'Growth Data'!$A:$F,4,0))","v":"NO"},0,null,0,{"$f":"IF(BU215=\"YES\",IF(ISERROR(VLOOKUP($A215+8860000,'Growth Data'!$A:$Z,7,0)),0,VLOOKUP($A215+8860000,'Growth Data'!$A:$Z,7,0)),0)","v":0},0,null,"NO",{"$f":"IF(ISERROR(VLOOKUP($A215+8860000,'Growth Data'!$A:$F,5,0)),\"NO\",VLOOKUP($A215+8860000,'Growth Data'!$A:$F,5,0))","v":"NO"},0,null,0,{"$f":"IF(CC215=\"YES\",IF(ISERROR(VLOOKUP($A215+8860000,'Growth Data'!$A:$Z,8,0)),0,VLOOKUP($A215+8860000,'Growth Data'!$A:$Z,8,0)),0)","v":0},0,null,null,null,0]
[3175,"Sibertswold CEP School",null,"Sibertswold CEP School","Sibertswold CEP School",0,null,765200.99,765200.99142208486,0,null,0,0,0,null,765200.99,765200.99142208486,0,null,5340.96,5340.9627231999993,0,null,null,null,0,null,0,0,0,null,22755.32,null,22755,null,3724.47,null,3724,null,0,null,0,null,0,null,0,null,null,null,0,null,null,null,0,null,null,null,0,null,null,null,0,null,"NO",{"$f":"IF(ISERROR(VLOOKUP($A216+8860000,'Growth Data'!$A:$F,3,0)),\"NO\",VLOOKUP($A216+8860000,'Growth Data'!$A:$F,3,0))","v":"NO"},0,null,0,{"$f":"IF(BM216=\"YES\",IF(ISERROR(VLOOKUP($A216+8860000,'Growth Data'!$A:$F,6,0)),0,VLOOKUP($A216+8860000,'Growth Data'!$A:$F,6,0)),0)","v":0},0,null,"NO",{"$f":"IF(ISERROR(VLOOKUP($A216+8860000,'Growth Data'!$A:$F,4,0)),\"NO\",VLOOKUP($A216+8860000,'Growth Data'!$A:$F,4,0))","v":"NO"},0,null,0,{"$f":"IF(BU216=\"YES\",IF(ISERROR(VLOOKUP($A216+8860000,'Growth Data'!$A:$Z,7,0)),0,VLOOKUP($A216+8860000,'Growth Data'!$A:$Z,7,0)),0)","v":0},0,null,"NO",{"$f":"IF(ISERROR(VLOOKUP($A216+8860000,'Growth Data'!$A:$F,5,0)),\"NO\",VLOOKUP($A216+8860000,'Growth Data'!$A:$F,5,0))","v":"NO"},0,null,0,{"$f":"IF(CC216=\"YES\",IF(ISERROR(VLOOKUP($A216+8860000,'Growth Data'!$A:$Z,8,0)),0,VLOOKUP($A216+8860000,'Growth Data'!$A:$Z,8,0)),0)","v":0},0,null,null,null,0]
[3178,"Birchington CEP School",null,"Birchington CEP School","Birchington CEP School",0,null,1623684.15,1623684.148993111,0,null,0,0,0,null,1623684.15,1623684.148993111,0,null,11709.03,11709.033662400001,0,null,null,null,0,null,0,0,0,null,29165.63,null,29166,null,3083.44,null,3083,null,0,null,0,null,0,null,0,null,null,null,0,null,null,null,0,null,null,null,0,null,null,null,0,null,"NO",{"$f":"IF(ISERROR(VLOOKUP($A217+8860000,'Growth Data'!$A:$F,3,0)),\"NO\",VLOOKUP($A217+8860000,'Growth Data'!$A:$F,3,0))","v":"YES"},1,null,0,{"$f":"IF(BM217=\"YES\",IF(ISERROR(VLOOKUP($A217+8860000,'Growth Data'!$A:$F,6,0)),0,VLOOKUP($A217+8860000,'Growth Data'!$A:$F,6,0)),0)","v":60},-60,null,"NO",{"$f":"IF(ISERROR(VLOOKUP($A217+8860000,'Growth Data'!$A:$F,4,0)),\"NO\",VLOOKUP($A217+8860000,'Growth Data'!$A:$F,4,0))","v":"YES"},1,null,0,{"$f":"IF(BU217=\"YES\",IF(ISERROR(VLOOKUP($A217+8860000,'Growth Data'!$A:$Z,7,0)),0,VLOOKUP($A217+8860000,'Growth Data'!$A:$Z,7,0)),0)","v":90},-90,null,"NO",{"$f":"IF(ISERROR(VLOOKUP($A217+8860000,'Growth Data'!$A:$F,5,0)),\"NO\",VLOOKUP($A217+8860000,'Growth Data'!$A:$F,5,0))","v":"YES"},1,null,0,{"$f":"IF(CC217=\"YES\",IF(ISERROR(VLOOKUP($A217+8860000,'Growth Data'!$A:$Z,8,0)),0,VLOOKUP($A217+8860000,'Growth Data'!$A:$Z,8,0)),0)","v":62},-62,null,null,null,0]
[3179,"Holy Trinity & St John's CEP School, Margate",null,"Holy Trinity & St John's CEP School, Margate","Holy Trinity & St John's CEP School, Margate",0,null,1684940.08,1684940.0798396859,0,null,0,0,0,null,1684940.08,1684940.0798396859,0,null,10425.15,10425.148392400002,0,null,null,null,0,null,4.9000000000000004,4.9000000000000004,0,null,157583.16,null,157583,null,0,null,0,null,0,null,0,null,0,null,0,null,null,null,0,null,null,null,0,null,null,null,0,null,null,null,0,null,"NO",{"$f":"IF(ISERROR(VLOOKUP($A218+8860000,'Growth Data'!$A:$F,3,0)),\"NO\",VLOOKUP($A218+8860000,'Growth Data'!$A:$F,3,0))","v":"NO"},0,null,0,{"$f":"IF(BM218=\"YES\",IF(ISERROR(VLOOKUP($A218+8860000,'Growth Data'!$A:$F,6,0)),0,VLOOKUP($A218+8860000,'Growth Data'!$A:$F,6,0)),0)","v":0},0,null,"NO",{"$f":"IF(ISERROR(VLOOKUP($A218+8860000,'Growth Data'!$A:$F,4,0)),\"NO\",VLOOKUP($A218+8860000,'Growth Data'!$A:$F,4,0))","v":"NO"},0,null,0,{"$f":"IF(BU218=\"YES\",IF(ISERROR(VLOOKUP($A218+8860000,'Growth Data'!$A:$Z,7,0)),0,VLOOKUP($A218+8860000,'Growth Data'!$A:$Z,7,0)),0)","v":0},0,null,"NO",{"$f":"IF(ISERROR(VLOOKUP($A218+8860000,'Growth Data'!$A:$F,5,0)),\"NO\",VLOOKUP($A218+8860000,'Growth Data'!$A:$F,5,0))","v":"NO"},0,null,0,{"$f":"IF(CC218=\"YES\",IF(ISERROR(VLOOKUP($A218+8860000,'Growth Data'!$A:$Z,8,0)),0,VLOOKUP($A218+8860000,'Growth Data'!$A:$Z,8,0)),0)","v":0},0,null,null,null,0]
[3181,"St Saviour's CEJ School",null,"St Saviour's CEJ School","St Saviour's CEJ School",0,null,1378275.96,1378275.9595458526,0,null,0,0,0,null,1378275.96,1378275.9595458526,0,null,9860.24,9860.2388736000012,0,null,null,null,0,null,0,0,0,null,56084.04,null,56084,null,391.6,null,392,null,0,null,0,null,0,null,0,null,null,null,0,null,null,null,0,null,null,null,0,null,null,null,0,null,"NO",{"$f":"IF(ISERROR(VLOOKUP($A219+8860000,'Growth Data'!$A:$F,3,0)),\"NO\",VLOOKUP($A219+8860000,'Growth Data'!$A:$F,3,0))","v":"NO"},0,null,0,{"$f":"IF(BM219=\"YES\",IF(ISERROR(VLOOKUP($A219+8860000,'Growth Data'!$A:$F,6,0)),0,VLOOKUP($A219+8860000,'Growth Data'!$A:$F,6,0)),0)","v":0},0,null,"NO",{"$f":"IF(ISERROR(VLOOKUP($A219+8860000,'Growth Data'!$A:$F,4,0)),\"NO\",VLOOKUP($A219+8860000,'Growth Data'!$A:$F,4,0))","v":"NO"},0,null,0,{"$f":"IF(BU219=\"YES\",IF(ISERROR(VLOOKUP($A219+8860000,'Growth Data'!$A:$Z,7,0)),0,VLOOKUP($A219+8860000,'Growth Data'!$A:$Z,7,0)),0)","v":0},0,null,"NO",{"$f":"IF(ISERROR(VLOOKUP($A219+8860000,'Growth Data'!$A:$F,5,0)),\"NO\",VLOOKUP($A219+8860000,'Growth Data'!$A:$F,5,0))","v":"NO"},0,null,0,{"$f":"IF(CC219=\"YES\",IF(ISERROR(VLOOKUP($A219+8860000,'Growth Data'!$A:$Z,8,0)),0,VLOOKUP($A219+8860000,'Growth Data'!$A:$Z,8,0)),0)","v":0},0,null,null,null,0]
[3182,"Minster CEP School",null,"Minster CEP School","Minster CEP School",0,null,1417571,1417571,0,null,0,0,0,null,1417571,1417571,0,null,10450.83,10450.826097800002,0,null,null,null,0,null,0,0,0,null,27669.24,null,27669,null,3233.08,null,3233,null,0,null,0,null,0,null,0,null,null,null,0,null,null,null,0,null,null,null,0,null,null,null,0,null,"NO",{"$f":"IF(ISERROR(VLOOKUP($A220+8860000,'Growth Data'!$A:$F,3,0)),\"NO\",VLOOKUP($A220+8860000,'Growth Data'!$A:$F,3,0))","v":"NO"},0,null,0,{"$f":"IF(BM220=\"YES\",IF(ISERROR(VLOOKUP($A220+8860000,'Growth Data'!$A:$F,6,0)),0,VLOOKUP($A220+8860000,'Growth Data'!$A:$F,6,0)),0)","v":0},0,null,"NO",{"$f":"IF(ISERROR(VLOOKUP($A220+8860000,'Growth Data'!$A:$F,4,0)),\"NO\",VLOOKUP($A220+8860000,'Growth Data'!$A:$F,4,0))","v":"NO"},0,null,0,{"$f":"IF(BU220=\"YES\",IF(ISERROR(VLOOKUP($A220+8860000,'Growth Data'!$A:$Z,7,0)),0,VLOOKUP($A220+8860000,'Growth Data'!$A:$Z,7,0)),0)","v":0},0,null,"NO",{"$f":"IF(ISERROR(VLOOKUP($A220+8860000,'Growth Data'!$A:$F,5,0)),\"NO\",VLOOKUP($A220+8860000,'Growth Data'!$A:$F,5,0))","v":"NO"},0,null,0,{"$f":"IF(CC220=\"YES\",IF(ISERROR(VLOOKUP($A220+8860000,'Growth Data'!$A:$Z,8,0)),0,VLOOKUP($A220+8860000,'Growth Data'!$A:$Z,8,0)),0)","v":0},0,null,null,null,0]
[3183,"Monkton CEP School",null,"Monkton CEP School","Monkton CEP School",0,null,462595.69,462595.69400050136,0,null,0,0,0,null,462595.69,462595.69400050136,0,null,2721.84,2721.8367724,0,null,null,null,0,null,0,0,0,null,41287.919999999998,null,41288,null,1871.21,null,1871,null,0,null,0,null,0,null,0,null,null,null,0,null,null,null,0,null,null,null,0,null,null,null,0,null,"NO",{"$f":"IF(ISERROR(VLOOKUP($A221+8860000,'Growth Data'!$A:$F,3,0)),\"NO\",VLOOKUP($A221+8860000,'Growth Data'!$A:$F,3,0))","v":"NO"},0,null,0,{"$f":"IF(BM221=\"YES\",IF(ISERROR(VLOOKUP($A221+8860000,'Growth Data'!$A:$F,6,0)),0,VLOOKUP($A221+8860000,'Growth Data'!$A:$F,6,0)),0)","v":0},0,null,"NO",{"$f":"IF(ISERROR(VLOOKUP($A221+8860000,'Growth Data'!$A:$F,4,0)),\"NO\",VLOOKUP($A221+8860000,'Growth Data'!$A:$F,4,0))","v":"NO"},0,null,0,{"$f":"IF(BU221=\"YES\",IF(ISERROR(VLOOKUP($A221+8860000,'Growth Data'!$A:$Z,7,0)),0,VLOOKUP($A221+8860000,'Growth Data'!$A:$Z,7,0)),0)","v":0},0,null,"NO",{"$f":"IF(ISERROR(VLOOKUP($A221+8860000,'Growth Data'!$A:$F,5,0)),\"NO\",VLOOKUP($A221+8860000,'Growth Data'!$A:$F,5,0))","v":"NO"},0,null,0,{"$f":"IF(CC221=\"YES\",IF(ISERROR(VLOOKUP($A221+8860000,'Growth Data'!$A:$Z,8,0)),0,VLOOKUP($A221+8860000,'Growth Data'!$A:$Z,8,0)),0)","v":0},0,null,null,null,0]
[3186,"St Nicholas at Wade CEP School",null,"St Nicholas at Wade CEP School","St Nicholas at Wade CEP School",0,null,754188.43,754188.43409203645,0,null,0,0,0,null,754188.43,754188.43409203645,0,null,5366.64,5366.6404285999988,0,null,null,null,0,null,0,0,0,null,40907.79,null,40908,null,1909.22,null,1909,null,0,null,0,null,0,null,0,null,null,null,0,null,null,null,0,null,null,null,0,null,null,null,0,null,"NO",{"$f":"IF(ISERROR(VLOOKUP($A222+8860000,'Growth Data'!$A:$F,3,0)),\"NO\",VLOOKUP($A222+8860000,'Growth Data'!$A:$F,3,0))","v":"NO"},0,null,0,{"$f":"IF(BM222=\"YES\",IF(ISERROR(VLOOKUP($A222+8860000,'Growth Data'!$A:$F,6,0)),0,VLOOKUP($A222+8860000,'Growth Data'!$A:$F,6,0)),0)","v":0},0,null,"NO",{"$f":"IF(ISERROR(VLOOKUP($A222+8860000,'Growth Data'!$A:$F,4,0)),\"NO\",VLOOKUP($A222+8860000,'Growth Data'!$A:$F,4,0))","v":"NO"},0,null,0,{"$f":"IF(BU222=\"YES\",IF(ISERROR(VLOOKUP($A222+8860000,'Growth Data'!$A:$Z,7,0)),0,VLOOKUP($A222+8860000,'Growth Data'!$A:$Z,7,0)),0)","v":0},0,null,"NO",{"$f":"IF(ISERROR(VLOOKUP($A222+8860000,'Growth Data'!$A:$F,5,0)),\"NO\",VLOOKUP($A222+8860000,'Growth Data'!$A:$F,5,0))","v":"NO"},0,null,0,{"$f":"IF(CC222=\"YES\",IF(ISERROR(VLOOKUP($A222+8860000,'Growth Data'!$A:$Z,8,0)),0,VLOOKUP($A222+8860000,'Growth Data'!$A:$Z,8,0)),0)","v":0},0,null,null,null,0]
[3198,"Frittenden CEP School",null,"Frittenden CEP School","Frittenden CEP School",0,null,409151.16,409151.15532367019,0,null,0,0,0,null,409151.16,409151.15532367019,0,null,2439.38,2439.3820129999999,0,null,null,null,0,null,0,0,0,null,23737.02,null,23737,null,3626.3,null,3626,null,0,null,0,null,0,null,0,null,null,null,0,null,null,null,0,null,null,null,0,null,null,null,0,null,"NO",{"$f":"IF(ISERROR(VLOOKUP($A223+8860000,'Growth Data'!$A:$F,3,0)),\"NO\",VLOOKUP($A223+8860000,'Growth Data'!$A:$F,3,0))","v":"NO"},0,null,0,{"$f":"IF(BM223=\"YES\",IF(ISERROR(VLOOKUP($A223+8860000,'Growth Data'!$A:$F,6,0)),0,VLOOKUP($A223+8860000,'Growth Data'!$A:$F,6,0)),0)","v":0},0,null,"NO",{"$f":"IF(ISERROR(VLOOKUP($A223+8860000,'Growth Data'!$A:$F,4,0)),\"NO\",VLOOKUP($A223+8860000,'Growth Data'!$A:$F,4,0))","v":"NO"},0,null,0,{"$f":"IF(BU223=\"YES\",IF(ISERROR(VLOOKUP($A223+8860000,'Growth Data'!$A:$Z,7,0)),0,VLOOKUP($A223+8860000,'Growth Data'!$A:$Z,7,0)),0)","v":0},0,null,"NO",{"$f":"IF(ISERROR(VLOOKUP($A223+8860000,'Growth Data'!$A:$F,5,0)),\"NO\",VLOOKUP($A223+8860000,'Growth Data'!$A:$F,5,0))","v":"NO"},0,null,0,{"$f":"IF(CC223=\"YES\",IF(ISERROR(VLOOKUP($A223+8860000,'Growth Data'!$A:$Z,8,0)),0,VLOOKUP($A223+8860000,'Growth Data'!$A:$Z,8,0)),0)","v":0},0,null,null,null,0]
[3199,"Egerton CEP School",null,"Egerton CEP School","Egerton CEP School",0,null,749451.93,749451.92519613239,0,null,0,0,0,null,749451.93,749451.92519613239,0,null,5289.61,5289.6073123999995,0,null,null,null,0,null,0,0,0,null,38061.410000000003,null,38061,null,2193.86,null,2194,null,0,null,0,null,0,null,0,null,null,null,0,null,null,null,0,null,null,null,0,null,null,null,0,null,"NO",{"$f":"IF(ISERROR(VLOOKUP($A224+8860000,'Growth Data'!$A:$F,3,0)),\"NO\",VLOOKUP($A224+8860000,'Growth Data'!$A:$F,3,0))","v":"NO"},0,null,0,{"$f":"IF(BM224=\"YES\",IF(ISERROR(VLOOKUP($A224+8860000,'Growth Data'!$A:$F,6,0)),0,VLOOKUP($A224+8860000,'Growth Data'!$A:$F,6,0)),0)","v":0},0,null,"NO",{"$f":"IF(ISERROR(VLOOKUP($A224+8860000,'Growth Data'!$A:$F,4,0)),\"NO\",VLOOKUP($A224+8860000,'Growth Data'!$A:$F,4,0))","v":"NO"},0,null,0,{"$f":"IF(BU224=\"YES\",IF(ISERROR(VLOOKUP($A224+8860000,'Growth Data'!$A:$Z,7,0)),0,VLOOKUP($A224+8860000,'Growth Data'!$A:$Z,7,0)),0)","v":0},0,null,"NO",{"$f":"IF(ISERROR(VLOOKUP($A224+8860000,'Growth Data'!$A:$F,5,0)),\"NO\",VLOOKUP($A224+8860000,'Growth Data'!$A:$F,5,0))","v":"NO"},0,null,0,{"$f":"IF(CC224=\"YES\",IF(ISERROR(VLOOKUP($A224+8860000,'Growth Data'!$A:$Z,8,0)),0,VLOOKUP($A224+8860000,'Growth Data'!$A:$Z,8,0)),0)","v":0},0,null,null,null,0]
[3201,"St Lawrence CEP School",null,"St Lawrence CEP School","St Lawrence CEP School",0,null,398025.24,398025.23556199,0,null,0,0,0,null,398025.24,398025.23556199,0,null,2288.66,2288.6641533841603,0,null,null,null,0,null,0,0,0,null,42489.17,null,42489,null,1751.08,null,1751,null,0,null,0,null,0,null,0,null,null,null,0,null,null,null,0,null,null,null,0,null,null,null,0,null,"NO",{"$f":"IF(ISERROR(VLOOKUP($A225+8860000,'Growth Data'!$A:$F,3,0)),\"NO\",VLOOKUP($A225+8860000,'Growth Data'!$A:$F,3,0))","v":"NO"},0,null,0,{"$f":"IF(BM225=\"YES\",IF(ISERROR(VLOOKUP($A225+8860000,'Growth Data'!$A:$F,6,0)),0,VLOOKUP($A225+8860000,'Growth Data'!$A:$F,6,0)),0)","v":0},0,null,"NO",{"$f":"IF(ISERROR(VLOOKUP($A225+8860000,'Growth Data'!$A:$F,4,0)),\"NO\",VLOOKUP($A225+8860000,'Growth Data'!$A:$F,4,0))","v":"NO"},0,null,0,{"$f":"IF(BU225=\"YES\",IF(ISERROR(VLOOKUP($A225+8860000,'Growth Data'!$A:$Z,7,0)),0,VLOOKUP($A225+8860000,'Growth Data'!$A:$Z,7,0)),0)","v":0},0,null,"NO",{"$f":"IF(ISERROR(VLOOKUP($A225+8860000,'Growth Data'!$A:$F,5,0)),\"NO\",VLOOKUP($A225+8860000,'Growth Data'!$A:$F,5,0))","v":"NO"},0,null,0,{"$f":"IF(CC225=\"YES\",IF(ISERROR(VLOOKUP($A225+8860000,'Growth Data'!$A:$Z,8,0)),0,VLOOKUP($A225+8860000,'Growth Data'!$A:$Z,8,0)),0)","v":0},0,null,null,null,0]
[3282,"Boughton-under-Blean & Dunkirk Primary School",null,"Boughton-under-Blean & Dunkirk Primary School","Boughton-under-Blean & Dunkirk Primary School",0,null,857202.27,857202.26914721797,0,null,0,0,0,null,857202.27,857202.26914721797,0,null,5803.16,5803.1614204000016,0,null,null,null,0,null,0,0,0,null,160788.26999999999,null,160788,null,0,null,0,null,0,null,0,null,0,null,0,null,null,null,0,null,null,null,0,null,null,null,0,null,null,null,0,null,"NO",{"$f":"IF(ISERROR(VLOOKUP($A226+8860000,'Growth Data'!$A:$F,3,0)),\"NO\",VLOOKUP($A226+8860000,'Growth Data'!$A:$F,3,0))","v":"NO"},0,null,0,{"$f":"IF(BM226=\"YES\",IF(ISERROR(VLOOKUP($A226+8860000,'Growth Data'!$A:$F,6,0)),0,VLOOKUP($A226+8860000,'Growth Data'!$A:$F,6,0)),0)","v":0},0,null,"NO",{"$f":"IF(ISERROR(VLOOKUP($A226+8860000,'Growth Data'!$A:$F,4,0)),\"NO\",VLOOKUP($A226+8860000,'Growth Data'!$A:$F,4,0))","v":"NO"},0,null,0,{"$f":"IF(BU226=\"YES\",IF(ISERROR(VLOOKUP($A226+8860000,'Growth Data'!$A:$Z,7,0)),0,VLOOKUP($A226+8860000,'Growth Data'!$A:$Z,7,0)),0)","v":0},0,null,"YES",{"$f":"IF(ISERROR(VLOOKUP($A226+8860000,'Growth Data'!$A:$F,5,0)),\"NO\",VLOOKUP($A226+8860000,'Growth Data'!$A:$F,5,0))","v":"NO"},1,null,61,{"$f":"IF(CC226=\"YES\",IF(ISERROR(VLOOKUP($A226+8860000,'Growth Data'!$A:$Z,8,0)),0,VLOOKUP($A226+8860000,'Growth Data'!$A:$Z,8,0)),0)","v":0},61,null,null,null,0]
[3284,"Lady Joanna Thornhill (Endowed) Primary School",null,"Lady Joanna Thornhill (Endowed) Primary School","Lady Joanna Thornhill (Endowed) Primary School",0,null,1462119,1462119,0,null,0,0,0,null,1462119,1462119,0,null,10733.28,10733.280857199998,0,null,null,null,0,null,0,0,0,null,317855.87,null,317856,null,0,null,0,null,0,null,0,null,0,null,0,null,null,null,0,null,null,null,0,null,null,null,0,null,null,null,0,null,"NO",{"$f":"IF(ISERROR(VLOOKUP($A227+8860000,'Growth Data'!$A:$F,3,0)),\"NO\",VLOOKUP($A227+8860000,'Growth Data'!$A:$F,3,0))","v":"NO"},0,null,0,{"$f":"IF(BM227=\"YES\",IF(ISERROR(VLOOKUP($A227+8860000,'Growth Data'!$A:$F,6,0)),0,VLOOKUP($A227+8860000,'Growth Data'!$A:$F,6,0)),0)","v":0},0,null,"NO",{"$f":"IF(ISERROR(VLOOKUP($A227+8860000,'Growth Data'!$A:$F,4,0)),\"NO\",VLOOKUP($A227+8860000,'Growth Data'!$A:$F,4,0))","v":"NO"},0,null,0,{"$f":"IF(BU227=\"YES\",IF(ISERROR(VLOOKUP($A227+8860000,'Growth Data'!$A:$Z,7,0)),0,VLOOKUP($A227+8860000,'Growth Data'!$A:$Z,7,0)),0)","v":0},0,null,"NO",{"$f":"IF(ISERROR(VLOOKUP($A227+8860000,'Growth Data'!$A:$F,5,0)),\"NO\",VLOOKUP($A227+8860000,'Growth Data'!$A:$F,5,0))","v":"NO"},0,null,0,{"$f":"IF(CC227=\"YES\",IF(ISERROR(VLOOKUP($A227+8860000,'Growth Data'!$A:$Z,8,0)),0,VLOOKUP($A227+8860000,'Growth Data'!$A:$Z,8,0)),0)","v":0},0,null,null,null,0]
[3289,"St Peter's Methodist Primary School, Canterbury",null,"St Peter's Methodist Primary School, Canterbury","St Peter's Methodist Primary School, Canterbury",0,null,792532.98,792532.97919164656,0,null,0,0,0,null,792532.98,792532.97919164656,0,null,5135.54,5135.5410799999991,0,null,null,null,0,null,0,0,0,null,129079.35,null,129079,null,0,null,0,null,0,null,0,null,0,null,0,null,null,null,0,null,null,null,0,null,null,null,0,null,null,null,0,null,"NO",{"$f":"IF(ISERROR(VLOOKUP($A228+8860000,'Growth Data'!$A:$F,3,0)),\"NO\",VLOOKUP($A228+8860000,'Growth Data'!$A:$F,3,0))","v":"NO"},0,null,0,{"$f":"IF(BM228=\"YES\",IF(ISERROR(VLOOKUP($A228+8860000,'Growth Data'!$A:$F,6,0)),0,VLOOKUP($A228+8860000,'Growth Data'!$A:$F,6,0)),0)","v":0},0,null,"NO",{"$f":"IF(ISERROR(VLOOKUP($A228+8860000,'Growth Data'!$A:$F,4,0)),\"NO\",VLOOKUP($A228+8860000,'Growth Data'!$A:$F,4,0))","v":"NO"},0,null,0,{"$f":"IF(BU228=\"YES\",IF(ISERROR(VLOOKUP($A228+8860000,'Growth Data'!$A:$Z,7,0)),0,VLOOKUP($A228+8860000,'Growth Data'!$A:$Z,7,0)),0)","v":0},0,null,"NO",{"$f":"IF(ISERROR(VLOOKUP($A228+8860000,'Growth Data'!$A:$F,5,0)),\"NO\",VLOOKUP($A228+8860000,'Growth Data'!$A:$F,5,0))","v":"NO"},0,null,0,{"$f":"IF(CC228=\"YES\",IF(ISERROR(VLOOKUP($A228+8860000,'Growth Data'!$A:$Z,8,0)),0,VLOOKUP($A228+8860000,'Growth Data'!$A:$Z,8,0)),0)","v":0},0,null,null,null,0]
[3294,"St Matthew's High Brooms CEP School",null,"St Matthew's High Brooms CEP School","St Matthew's High Brooms CEP School",0,null,1622632.75,1622632.745111133,0,null,0,0,0,null,1622632.75,1622632.745111133,0,null,11349.55,11349.545786799998,0,null,null,null,0,null,0,0,0,null,104426.51,null,104427,null,0,null,0,null,0,null,0,null,0,null,0,null,null,null,0,null,null,null,0,null,null,null,0,null,null,null,0,null,"NO",{"$f":"IF(ISERROR(VLOOKUP($A229+8860000,'Growth Data'!$A:$F,3,0)),\"NO\",VLOOKUP($A229+8860000,'Growth Data'!$A:$F,3,0))","v":"NO"},0,null,0,{"$f":"IF(BM229=\"YES\",IF(ISERROR(VLOOKUP($A229+8860000,'Growth Data'!$A:$F,6,0)),0,VLOOKUP($A229+8860000,'Growth Data'!$A:$F,6,0)),0)","v":0},0,null,"NO",{"$f":"IF(ISERROR(VLOOKUP($A229+8860000,'Growth Data'!$A:$F,4,0)),\"NO\",VLOOKUP($A229+8860000,'Growth Data'!$A:$F,4,0))","v":"NO"},0,null,0,{"$f":"IF(BU229=\"YES\",IF(ISERROR(VLOOKUP($A229+8860000,'Growth Data'!$A:$Z,7,0)),0,VLOOKUP($A229+8860000,'Growth Data'!$A:$Z,7,0)),0)","v":0},0,null,"NO",{"$f":"IF(ISERROR(VLOOKUP($A229+8860000,'Growth Data'!$A:$F,5,0)),\"NO\",VLOOKUP($A229+8860000,'Growth Data'!$A:$F,5,0))","v":"NO"},0,null,0,{"$f":"IF(CC229=\"YES\",IF(ISERROR(VLOOKUP($A229+8860000,'Growth Data'!$A:$Z,8,0)),0,VLOOKUP($A229+8860000,'Growth Data'!$A:$Z,8,0)),0)","v":0},0,null,null,null,0]
[3295,"Herne CEI School",null,"Herne CEI School","Herne CEI School",0,null,965684.5,965684.50087081641,0,null,0,0,0,null,965684.5,965684.50087081641,0,null,6881.63,6881.6250472000002,0,null,null,null,0,null,4.9000000000000004,4.9000000000000004,0,null,28307.9,null,28308,null,3169.21,null,3169,null,0,null,0,null,0,null,0,null,null,null,0,null,null,null,0,null,null,null,0,null,null,null,0,null,"NO",{"$f":"IF(ISERROR(VLOOKUP($A230+8860000,'Growth Data'!$A:$F,3,0)),\"NO\",VLOOKUP($A230+8860000,'Growth Data'!$A:$F,3,0))","v":"NO"},0,null,0,{"$f":"IF(BM230=\"YES\",IF(ISERROR(VLOOKUP($A230+8860000,'Growth Data'!$A:$F,6,0)),0,VLOOKUP($A230+8860000,'Growth Data'!$A:$F,6,0)),0)","v":0},0,null,"NO",{"$f":"IF(ISERROR(VLOOKUP($A230+8860000,'Growth Data'!$A:$F,4,0)),\"NO\",VLOOKUP($A230+8860000,'Growth Data'!$A:$F,4,0))","v":"NO"},0,null,0,{"$f":"IF(BU230=\"YES\",IF(ISERROR(VLOOKUP($A230+8860000,'Growth Data'!$A:$Z,7,0)),0,VLOOKUP($A230+8860000,'Growth Data'!$A:$Z,7,0)),0)","v":0},0,null,"NO",{"$f":"IF(ISERROR(VLOOKUP($A230+8860000,'Growth Data'!$A:$F,5,0)),\"NO\",VLOOKUP($A230+8860000,'Growth Data'!$A:$F,5,0))","v":"NO"},0,null,0,{"$f":"IF(CC230=\"YES\",IF(ISERROR(VLOOKUP($A230+8860000,'Growth Data'!$A:$Z,8,0)),0,VLOOKUP($A230+8860000,'Growth Data'!$A:$Z,8,0)),0)","v":0},0,null,null,null,0]
[3296,"Langafel CEP School",null,"Langafel CEP School","Langafel CEP School",0,null,1249141.8799999999,1249141.8766398334,0,null,0,0,0,null,1249141.8799999999,1249141.8766398334,0,null,8702.25,8702.2462576351209,0,null,null,null,0,null,0,0,0,null,42084.89,null,42085,null,1791.51,null,1792,null,0,null,0,null,0,null,0,null,null,null,0,null,null,null,0,null,null,null,0,null,null,null,0,null,"NO",{"$f":"IF(ISERROR(VLOOKUP($A231+8860000,'Growth Data'!$A:$F,3,0)),\"NO\",VLOOKUP($A231+8860000,'Growth Data'!$A:$F,3,0))","v":"NO"},0,null,0,{"$f":"IF(BM231=\"YES\",IF(ISERROR(VLOOKUP($A231+8860000,'Growth Data'!$A:$F,6,0)),0,VLOOKUP($A231+8860000,'Growth Data'!$A:$F,6,0)),0)","v":0},0,null,"NO",{"$f":"IF(ISERROR(VLOOKUP($A231+8860000,'Growth Data'!$A:$F,4,0)),\"NO\",VLOOKUP($A231+8860000,'Growth Data'!$A:$F,4,0))","v":"NO"},0,null,0,{"$f":"IF(BU231=\"YES\",IF(ISERROR(VLOOKUP($A231+8860000,'Growth Data'!$A:$Z,7,0)),0,VLOOKUP($A231+8860000,'Growth Data'!$A:$Z,7,0)),0)","v":0},0,null,"NO",{"$f":"IF(ISERROR(VLOOKUP($A231+8860000,'Growth Data'!$A:$F,5,0)),\"NO\",VLOOKUP($A231+8860000,'Growth Data'!$A:$F,5,0))","v":"NO"},0,null,0,{"$f":"IF(CC231=\"YES\",IF(ISERROR(VLOOKUP($A231+8860000,'Growth Data'!$A:$Z,8,0)),0,VLOOKUP($A231+8860000,'Growth Data'!$A:$Z,8,0)),0)","v":0},0,null,null,null,0]
[3297,"Southborough CEP School",null,"Southborough CEP School","Southborough CEP School",0,null,1901365,1901365,0,null,0,0,0,null,1901365,1901365,0,null,13968.67,13968.6717376,0,null,null,null,0,null,0,0,0,null,17624.61,null,17625,null,4237.54,null,4238,null,0,null,0,null,0,null,0,null,null,null,0,null,null,null,0,null,null,null,0,null,null,null,0,null,"NO",{"$f":"IF(ISERROR(VLOOKUP($A232+8860000,'Growth Data'!$A:$F,3,0)),\"NO\",VLOOKUP($A232+8860000,'Growth Data'!$A:$F,3,0))","v":"YES"},1,null,0,{"$f":"IF(BM232=\"YES\",IF(ISERROR(VLOOKUP($A232+8860000,'Growth Data'!$A:$F,6,0)),0,VLOOKUP($A232+8860000,'Growth Data'!$A:$F,6,0)),0)","v":60},-60,null,"NO",{"$f":"IF(ISERROR(VLOOKUP($A232+8860000,'Growth Data'!$A:$F,4,0)),\"NO\",VLOOKUP($A232+8860000,'Growth Data'!$A:$F,4,0))","v":"NO"},0,null,0,{"$f":"IF(BU232=\"YES\",IF(ISERROR(VLOOKUP($A232+8860000,'Growth Data'!$A:$Z,7,0)),0,VLOOKUP($A232+8860000,'Growth Data'!$A:$Z,7,0)),0)","v":0},0,null,"NO",{"$f":"IF(ISERROR(VLOOKUP($A232+8860000,'Growth Data'!$A:$F,5,0)),\"NO\",VLOOKUP($A232+8860000,'Growth Data'!$A:$F,5,0))","v":"NO"},0,null,0,{"$f":"IF(CC232=\"YES\",IF(ISERROR(VLOOKUP($A232+8860000,'Growth Data'!$A:$Z,8,0)),0,VLOOKUP($A232+8860000,'Growth Data'!$A:$Z,8,0)),0)","v":0},0,null,null,null,0]
[3298,"West Kingsdown C.E. (V.C.) Primary School",null,"West Kingsdown C.E. (V.C.) Primary School","West Kingsdown C.E. (V.C.) Primary School",0,null,631395.99,631395.99428764998,0,null,0,0,0,null,631395.99,631395.99428764998,0,null,4098.3100000000004,4098.3055769902403,0,null,null,null,0,null,0,0,0,null,43476.43,null,43476,null,1652.36,null,1652,null,0,null,0,null,0,null,0,null,null,null,0,null,null,null,0,null,null,null,0,null,null,null,0,null,"NO",{"$f":"IF(ISERROR(VLOOKUP($A233+8860000,'Growth Data'!$A:$F,3,0)),\"NO\",VLOOKUP($A233+8860000,'Growth Data'!$A:$F,3,0))","v":"NO"},0,null,0,{"$f":"IF(BM233=\"YES\",IF(ISERROR(VLOOKUP($A233+8860000,'Growth Data'!$A:$F,6,0)),0,VLOOKUP($A233+8860000,'Growth Data'!$A:$F,6,0)),0)","v":0},0,null,"NO",{"$f":"IF(ISERROR(VLOOKUP($A233+8860000,'Growth Data'!$A:$F,4,0)),\"NO\",VLOOKUP($A233+8860000,'Growth Data'!$A:$F,4,0))","v":"NO"},0,null,0,{"$f":"IF(BU233=\"YES\",IF(ISERROR(VLOOKUP($A233+8860000,'Growth Data'!$A:$Z,7,0)),0,VLOOKUP($A233+8860000,'Growth Data'!$A:$Z,7,0)),0)","v":0},0,null,"NO",{"$f":"IF(ISERROR(VLOOKUP($A233+8860000,'Growth Data'!$A:$F,5,0)),\"NO\",VLOOKUP($A233+8860000,'Growth Data'!$A:$F,5,0))","v":"NO"},0,null,0,{"$f":"IF(CC233=\"YES\",IF(ISERROR(VLOOKUP($A233+8860000,'Growth Data'!$A:$Z,8,0)),0,VLOOKUP($A233+8860000,'Growth Data'!$A:$Z,8,0)),0)","v":0},0,null,null,null,0]
[3299,"John Wesley Primary School",null,"John Wesley Primary School","John Wesley Primary School",0,null,1522076.9,1522076.9004068666,0,null,0,0,0,null,1522076.9,1522076.9004068666,0,null,11144.12,11144.124143599998,0,null,null,null,0,null,0,0,0,null,21826.37,null,21826,null,3817.36,null,3817,null,0,null,0,null,0,null,0,null,null,null,0,null,null,null,0,null,null,null,0,null,null,null,0,null,"NO",{"$f":"IF(ISERROR(VLOOKUP($A234+8860000,'Growth Data'!$A:$F,3,0)),\"NO\",VLOOKUP($A234+8860000,'Growth Data'!$A:$F,3,0))","v":"NO"},0,null,0,{"$f":"IF(BM234=\"YES\",IF(ISERROR(VLOOKUP($A234+8860000,'Growth Data'!$A:$F,6,0)),0,VLOOKUP($A234+8860000,'Growth Data'!$A:$F,6,0)),0)","v":0},0,null,"NO",{"$f":"IF(ISERROR(VLOOKUP($A234+8860000,'Growth Data'!$A:$F,4,0)),\"NO\",VLOOKUP($A234+8860000,'Growth Data'!$A:$F,4,0))","v":"NO"},0,null,0,{"$f":"IF(BU234=\"YES\",IF(ISERROR(VLOOKUP($A234+8860000,'Growth Data'!$A:$Z,7,0)),0,VLOOKUP($A234+8860000,'Growth Data'!$A:$Z,7,0)),0)","v":0},0,null,"NO",{"$f":"IF(ISERROR(VLOOKUP($A234+8860000,'Growth Data'!$A:$F,5,0)),\"NO\",VLOOKUP($A234+8860000,'Growth Data'!$A:$F,5,0))","v":"NO"},0,null,0,{"$f":"IF(CC234=\"YES\",IF(ISERROR(VLOOKUP($A234+8860000,'Growth Data'!$A:$Z,8,0)),0,VLOOKUP($A234+8860000,'Growth Data'!$A:$Z,8,0)),0)","v":0},0,null,null,null,0]
[3303,"St Katharine's Knockholt CEP School",null,"St Katharine's Knockholt CEP School","St Katharine's Knockholt CEP School",0,null,745807.97,745807.9705848922,0,null,0,0,0,null,745807.97,745807.9705848922,0,null,5269.25,5269.25002755888,0,null,null,null,0,null,0,0,0,null,81748.14,null,81748,null,0,null,0,null,0,null,0,null,0,null,0,null,null,null,0,null,null,null,0,null,null,null,0,null,null,null,0,null,"NO",{"$f":"IF(ISERROR(VLOOKUP($A235+8860000,'Growth Data'!$A:$F,3,0)),\"NO\",VLOOKUP($A235+8860000,'Growth Data'!$A:$F,3,0))","v":"NO"},0,null,0,{"$f":"IF(BM235=\"YES\",IF(ISERROR(VLOOKUP($A235+8860000,'Growth Data'!$A:$F,6,0)),0,VLOOKUP($A235+8860000,'Growth Data'!$A:$F,6,0)),0)","v":0},0,null,"NO",{"$f":"IF(ISERROR(VLOOKUP($A235+8860000,'Growth Data'!$A:$F,4,0)),\"NO\",VLOOKUP($A235+8860000,'Growth Data'!$A:$F,4,0))","v":"NO"},0,null,0,{"$f":"IF(BU235=\"YES\",IF(ISERROR(VLOOKUP($A235+8860000,'Growth Data'!$A:$Z,7,0)),0,VLOOKUP($A235+8860000,'Growth Data'!$A:$Z,7,0)),0)","v":0},0,null,"NO",{"$f":"IF(ISERROR(VLOOKUP($A235+8860000,'Growth Data'!$A:$F,5,0)),\"NO\",VLOOKUP($A235+8860000,'Growth Data'!$A:$F,5,0))","v":"NO"},0,null,0,{"$f":"IF(CC235=\"YES\",IF(ISERROR(VLOOKUP($A235+8860000,'Growth Data'!$A:$Z,8,0)),0,VLOOKUP($A235+8860000,'Growth Data'!$A:$Z,8,0)),0)","v":0},0,null,null,null,0]
[3307,"Chevening (St Botolph's) CEP School",null,"Chevening (St Botolph's) CEP School","Chevening (St Botolph's) CEP School",0,null,756056.47,756056.47095980204,0,null,0,0,0,null,756056.47,756056.47095980204,0,null,5508.76,5508.7613924479201,0,null,null,null,0,null,0,0,0,null,63107.05,null,63107,null,0,null,0,null,0,null,0,null,0,null,0,null,null,null,0,null,null,null,0,null,null,null,0,null,null,null,0,null,"NO",{"$f":"IF(ISERROR(VLOOKUP($A236+8860000,'Growth Data'!$A:$F,3,0)),\"NO\",VLOOKUP($A236+8860000,'Growth Data'!$A:$F,3,0))","v":"NO"},0,null,0,{"$f":"IF(BM236=\"YES\",IF(ISERROR(VLOOKUP($A236+8860000,'Growth Data'!$A:$F,6,0)),0,VLOOKUP($A236+8860000,'Growth Data'!$A:$F,6,0)),0)","v":0},0,null,"NO",{"$f":"IF(ISERROR(VLOOKUP($A236+8860000,'Growth Data'!$A:$F,4,0)),\"NO\",VLOOKUP($A236+8860000,'Growth Data'!$A:$F,4,0))","v":"NO"},0,null,0,{"$f":"IF(BU236=\"YES\",IF(ISERROR(VLOOKUP($A236+8860000,'Growth Data'!$A:$Z,7,0)),0,VLOOKUP($A236+8860000,'Growth Data'!$A:$Z,7,0)),0)","v":0},0,null,"NO",{"$f":"IF(ISERROR(VLOOKUP($A236+8860000,'Growth Data'!$A:$F,5,0)),\"NO\",VLOOKUP($A236+8860000,'Growth Data'!$A:$F,5,0))","v":"NO"},0,null,0,{"$f":"IF(CC236=\"YES\",IF(ISERROR(VLOOKUP($A236+8860000,'Growth Data'!$A:$Z,8,0)),0,VLOOKUP($A236+8860000,'Growth Data'!$A:$Z,8,0)),0)","v":0},0,null,null,null,0]
[3308,"Colliers Green CEP School",null,"Colliers Green CEP School","Colliers Green CEP School",0,null,454982.91,454982.91088644095,0,null,0,0,0,null,454982.91,454982.91088644095,0,null,2901.58,2901.5807102000008,0,null,null,null,0,null,0,0,0,null,69939.67,null,69940,null,0,null,0,null,0,null,0,null,0,null,0,null,null,null,0,null,null,null,0,null,null,null,0,null,null,null,0,null,"NO",{"$f":"IF(ISERROR(VLOOKUP($A237+8860000,'Growth Data'!$A:$F,3,0)),\"NO\",VLOOKUP($A237+8860000,'Growth Data'!$A:$F,3,0))","v":"NO"},0,null,0,{"$f":"IF(BM237=\"YES\",IF(ISERROR(VLOOKUP($A237+8860000,'Growth Data'!$A:$F,6,0)),0,VLOOKUP($A237+8860000,'Growth Data'!$A:$F,6,0)),0)","v":0},0,null,"NO",{"$f":"IF(ISERROR(VLOOKUP($A237+8860000,'Growth Data'!$A:$F,4,0)),\"NO\",VLOOKUP($A237+8860000,'Growth Data'!$A:$F,4,0))","v":"NO"},0,null,0,{"$f":"IF(BU237=\"YES\",IF(ISERROR(VLOOKUP($A237+8860000,'Growth Data'!$A:$Z,7,0)),0,VLOOKUP($A237+8860000,'Growth Data'!$A:$Z,7,0)),0)","v":0},0,null,"NO",{"$f":"IF(ISERROR(VLOOKUP($A237+8860000,'Growth Data'!$A:$F,5,0)),\"NO\",VLOOKUP($A237+8860000,'Growth Data'!$A:$F,5,0))","v":"NO"},0,null,0,{"$f":"IF(CC237=\"YES\",IF(ISERROR(VLOOKUP($A237+8860000,'Growth Data'!$A:$Z,8,0)),0,VLOOKUP($A237+8860000,'Growth Data'!$A:$Z,8,0)),0)","v":0},0,null,null,null,0]
[3309,"Sissinghurst CEP School",null,"Sissinghurst CEP School","Sissinghurst CEP School",0,null,618789.17000000004,618789.17045375763,0,null,0,0,0,null,618789.17000000004,618789.17045375763,0,null,4159.79,4159.7882748000002,0,null,null,null,0,null,0,0,0,null,179354.07,null,179354,null,0,null,0,null,0,null,0,null,0,null,0,null,null,null,0,null,null,null,0,null,null,null,0,null,null,null,0,null,"NO",{"$f":"IF(ISERROR(VLOOKUP($A238+8860000,'Growth Data'!$A:$F,3,0)),\"NO\",VLOOKUP($A238+8860000,'Growth Data'!$A:$F,3,0))","v":"NO"},0,null,0,{"$f":"IF(BM238=\"YES\",IF(ISERROR(VLOOKUP($A238+8860000,'Growth Data'!$A:$F,6,0)),0,VLOOKUP($A238+8860000,'Growth Data'!$A:$F,6,0)),0)","v":0},0,null,"NO",{"$f":"IF(ISERROR(VLOOKUP($A238+8860000,'Growth Data'!$A:$F,4,0)),\"NO\",VLOOKUP($A238+8860000,'Growth Data'!$A:$F,4,0))","v":"NO"},0,null,0,{"$f":"IF(BU238=\"YES\",IF(ISERROR(VLOOKUP($A238+8860000,'Growth Data'!$A:$Z,7,0)),0,VLOOKUP($A238+8860000,'Growth Data'!$A:$Z,7,0)),0)","v":0},0,null,"NO",{"$f":"IF(ISERROR(VLOOKUP($A238+8860000,'Growth Data'!$A:$F,5,0)),\"NO\",VLOOKUP($A238+8860000,'Growth Data'!$A:$F,5,0))","v":"NO"},0,null,0,{"$f":"IF(CC238=\"YES\",IF(ISERROR(VLOOKUP($A238+8860000,'Growth Data'!$A:$Z,8,0)),0,VLOOKUP($A238+8860000,'Growth Data'!$A:$Z,8,0)),0)","v":0},0,null,null,null,0]
[3312,"Hever CEP School",null,"Hever CEP School","Hever CEP School",0,null,547078.25,547078.25054012239,0,null,0,0,0,null,547078.25,547078.25054012239,0,null,3486.22,3486.22097782936,0,null,null,null,0,null,0,0,0,null,54402.1,null,54402,null,559.79,null,560,null,0,null,0,null,0,null,0,null,null,null,0,null,null,null,0,null,null,null,0,null,null,null,0,null,"NO",{"$f":"IF(ISERROR(VLOOKUP($A239+8860000,'Growth Data'!$A:$F,3,0)),\"NO\",VLOOKUP($A239+8860000,'Growth Data'!$A:$F,3,0))","v":"NO"},0,null,0,{"$f":"IF(BM239=\"YES\",IF(ISERROR(VLOOKUP($A239+8860000,'Growth Data'!$A:$F,6,0)),0,VLOOKUP($A239+8860000,'Growth Data'!$A:$F,6,0)),0)","v":0},0,null,"NO",{"$f":"IF(ISERROR(VLOOKUP($A239+8860000,'Growth Data'!$A:$F,4,0)),\"NO\",VLOOKUP($A239+8860000,'Growth Data'!$A:$F,4,0))","v":"NO"},0,null,0,{"$f":"IF(BU239=\"YES\",IF(ISERROR(VLOOKUP($A239+8860000,'Growth Data'!$A:$Z,7,0)),0,VLOOKUP($A239+8860000,'Growth Data'!$A:$Z,7,0)),0)","v":0},0,null,"NO",{"$f":"IF(ISERROR(VLOOKUP($A239+8860000,'Growth Data'!$A:$F,5,0)),\"NO\",VLOOKUP($A239+8860000,'Growth Data'!$A:$F,5,0))","v":"NO"},0,null,0,{"$f":"IF(CC239=\"YES\",IF(ISERROR(VLOOKUP($A239+8860000,'Growth Data'!$A:$Z,8,0)),0,VLOOKUP($A239+8860000,'Growth Data'!$A:$Z,8,0)),0)","v":0},0,null,null,null,0]
[3313,"Fordcombe CEP School",null,"Fordcombe CEP School","Fordcombe CEP School",0,null,432491.94,432491.94478023256,0,null,0,0,0,null,432491.94,432491.94478023256,0,null,2608.0100000000002,2608.01263990288,0,null,null,null,0,null,0,0,0,null,117103.81,null,117104,null,0,null,0,null,0,null,0,null,0,null,0,null,null,null,0,null,null,null,0,null,null,null,0,null,null,null,0,null,"NO",{"$f":"IF(ISERROR(VLOOKUP($A240+8860000,'Growth Data'!$A:$F,3,0)),\"NO\",VLOOKUP($A240+8860000,'Growth Data'!$A:$F,3,0))","v":"NO"},0,null,0,{"$f":"IF(BM240=\"YES\",IF(ISERROR(VLOOKUP($A240+8860000,'Growth Data'!$A:$F,6,0)),0,VLOOKUP($A240+8860000,'Growth Data'!$A:$F,6,0)),0)","v":0},0,null,"NO",{"$f":"IF(ISERROR(VLOOKUP($A240+8860000,'Growth Data'!$A:$F,4,0)),\"NO\",VLOOKUP($A240+8860000,'Growth Data'!$A:$F,4,0))","v":"NO"},0,null,0,{"$f":"IF(BU240=\"YES\",IF(ISERROR(VLOOKUP($A240+8860000,'Growth Data'!$A:$Z,7,0)),0,VLOOKUP($A240+8860000,'Growth Data'!$A:$Z,7,0)),0)","v":0},0,null,"NO",{"$f":"IF(ISERROR(VLOOKUP($A240+8860000,'Growth Data'!$A:$F,5,0)),\"NO\",VLOOKUP($A240+8860000,'Growth Data'!$A:$F,5,0))","v":"NO"},0,null,0,{"$f":"IF(CC240=\"YES\",IF(ISERROR(VLOOKUP($A240+8860000,'Growth Data'!$A:$Z,8,0)),0,VLOOKUP($A240+8860000,'Growth Data'!$A:$Z,8,0)),0)","v":0},0,null,null,null,0]
[3314,"Penshurst CEP School",null,"Penshurst CEP School","Penshurst CEP School",0,null,434231.82,434231.81796168489,0,null,0,0,0,null,434231.82,434231.81796168489,0,null,2661.24,2661.2373876559996,0,null,null,null,0,null,0,0,0,null,98884.66,null,98885,null,0,null,0,null,0,null,0,null,0,null,0,null,null,null,0,null,null,null,0,null,null,null,0,null,null,null,0,null,"YES",{"$f":"IF(ISERROR(VLOOKUP($A241+8860000,'Growth Data'!$A:$F,3,0)),\"NO\",VLOOKUP($A241+8860000,'Growth Data'!$A:$F,3,0))","v":"NO"},1,null,60,{"$f":"IF(BM241=\"YES\",IF(ISERROR(VLOOKUP($A241+8860000,'Growth Data'!$A:$F,6,0)),0,VLOOKUP($A241+8860000,'Growth Data'!$A:$F,6,0)),0)","v":0},60,null,"YES",{"$f":"IF(ISERROR(VLOOKUP($A241+8860000,'Growth Data'!$A:$F,4,0)),\"NO\",VLOOKUP($A241+8860000,'Growth Data'!$A:$F,4,0))","v":"NO"},1,null,63,{"$f":"IF(BU241=\"YES\",IF(ISERROR(VLOOKUP($A241+8860000,'Growth Data'!$A:$Z,7,0)),0,VLOOKUP($A241+8860000,'Growth Data'!$A:$Z,7,0)),0)","v":0},63,null,"YES",{"$f":"IF(ISERROR(VLOOKUP($A241+8860000,'Growth Data'!$A:$F,5,0)),\"NO\",VLOOKUP($A241+8860000,'Growth Data'!$A:$F,5,0))","v":"NO"},1,null,60,{"$f":"IF(CC241=\"YES\",IF(ISERROR(VLOOKUP($A241+8860000,'Growth Data'!$A:$Z,8,0)),0,VLOOKUP($A241+8860000,'Growth Data'!$A:$Z,8,0)),0)","v":0},60,null,null,null,0]
[3317,"Lady Boswell's CEP School, Sevenoaks",null,"Lady Boswell's CEP School, Sevenoaks","Lady Boswell's CEP School, Sevenoaks",0,null,1273230,1273230,0,null,0,0,0,null,1273230,1273230,0,null,9899.7999999999993,9899.8030820803178,0,null,null,null,0,null,0,0,0,null,35158.79,null,35159,null,2484.12,null,2484,null,0,null,0,null,0,null,0,null,null,null,0,null,null,null,0,null,null,null,0,null,null,null,0,null,"NO",{"$f":"IF(ISERROR(VLOOKUP($A242+8860000,'Growth Data'!$A:$F,3,0)),\"NO\",VLOOKUP($A242+8860000,'Growth Data'!$A:$F,3,0))","v":"YES"},1,null,0,{"$f":"IF(BM242=\"YES\",IF(ISERROR(VLOOKUP($A242+8860000,'Growth Data'!$A:$F,6,0)),0,VLOOKUP($A242+8860000,'Growth Data'!$A:$F,6,0)),0)","v":31},-31,null,"NO",{"$f":"IF(ISERROR(VLOOKUP($A242+8860000,'Growth Data'!$A:$F,4,0)),\"NO\",VLOOKUP($A242+8860000,'Growth Data'!$A:$F,4,0))","v":"NO"},0,null,0,{"$f":"IF(BU242=\"YES\",IF(ISERROR(VLOOKUP($A242+8860000,'Growth Data'!$A:$Z,7,0)),0,VLOOKUP($A242+8860000,'Growth Data'!$A:$Z,7,0)),0)","v":0},0,null,"NO",{"$f":"IF(ISERROR(VLOOKUP($A242+8860000,'Growth Data'!$A:$F,5,0)),\"NO\",VLOOKUP($A242+8860000,'Growth Data'!$A:$F,5,0))","v":"NO"},0,null,0,{"$f":"IF(CC242=\"YES\",IF(ISERROR(VLOOKUP($A242+8860000,'Growth Data'!$A:$Z,8,0)),0,VLOOKUP($A242+8860000,'Growth Data'!$A:$Z,8,0)),0)","v":0},0,null,null,null,0]
[3318,"Ide Hill CEP School",null,"Ide Hill CEP School","Ide Hill CEP School",0,null,542679.48,542679.47788890149,0,null,0,0,0,null,542679.48,542679.47788890149,0,null,3645.9,3645.8952210887201,0,null,null,null,0,null,0,0,0,null,161983.31,null,161983,null,0,null,0,null,0,null,0,null,0,null,0,null,null,null,0,null,null,null,0,null,null,null,0,null,null,null,0,null,"YES",{"$f":"IF(ISERROR(VLOOKUP($A243+8860000,'Growth Data'!$A:$F,3,0)),\"NO\",VLOOKUP($A243+8860000,'Growth Data'!$A:$F,3,0))","v":"NO"},1,null,30,{"$f":"IF(BM243=\"YES\",IF(ISERROR(VLOOKUP($A243+8860000,'Growth Data'!$A:$F,6,0)),0,VLOOKUP($A243+8860000,'Growth Data'!$A:$F,6,0)),0)","v":0},30,null,"NO",{"$f":"IF(ISERROR(VLOOKUP($A243+8860000,'Growth Data'!$A:$F,4,0)),\"NO\",VLOOKUP($A243+8860000,'Growth Data'!$A:$F,4,0))","v":"NO"},0,null,0,{"$f":"IF(BU243=\"YES\",IF(ISERROR(VLOOKUP($A243+8860000,'Growth Data'!$A:$Z,7,0)),0,VLOOKUP($A243+8860000,'Growth Data'!$A:$Z,7,0)),0)","v":0},0,null,"NO",{"$f":"IF(ISERROR(VLOOKUP($A243+8860000,'Growth Data'!$A:$F,5,0)),\"NO\",VLOOKUP($A243+8860000,'Growth Data'!$A:$F,5,0))","v":"NO"},0,null,0,{"$f":"IF(CC243=\"YES\",IF(ISERROR(VLOOKUP($A243+8860000,'Growth Data'!$A:$Z,8,0)),0,VLOOKUP($A243+8860000,'Growth Data'!$A:$Z,8,0)),0)","v":0},0,null,null,null,0]
[3320,"St Barnabas CEP School",null,"St Barnabas CEP School","St Barnabas CEP School",0,null,753772.36,753772.35712786438,0,null,64727.11,64727.111618378316,0,null,818499.47,818499.4687462427,0,null,5109.8599999999997,5109.8633746000005,0,null,null,null,0,null,0,0,0,null,49253.03,null,49253,null,1074.7,null,1075,null,0,null,0,null,0,null,0,null,null,null,0,null,null,null,0,null,null,null,0,null,null,null,0,null,"YES",{"$f":"IF(ISERROR(VLOOKUP($A244+8860000,'Growth Data'!$A:$F,3,0)),\"NO\",VLOOKUP($A244+8860000,'Growth Data'!$A:$F,3,0))","v":"NO"},1,null,27,{"$f":"IF(BM244=\"YES\",IF(ISERROR(VLOOKUP($A244+8860000,'Growth Data'!$A:$F,6,0)),0,VLOOKUP($A244+8860000,'Growth Data'!$A:$F,6,0)),0)","v":0},27,null,"NO",{"$f":"IF(ISERROR(VLOOKUP($A244+8860000,'Growth Data'!$A:$F,4,0)),\"NO\",VLOOKUP($A244+8860000,'Growth Data'!$A:$F,4,0))","v":"NO"},0,null,0,{"$f":"IF(BU244=\"YES\",IF(ISERROR(VLOOKUP($A244+8860000,'Growth Data'!$A:$Z,7,0)),0,VLOOKUP($A244+8860000,'Growth Data'!$A:$Z,7,0)),0)","v":0},0,null,"NO",{"$f":"IF(ISERROR(VLOOKUP($A244+8860000,'Growth Data'!$A:$F,5,0)),\"NO\",VLOOKUP($A244+8860000,'Growth Data'!$A:$F,5,0))","v":"NO"},0,null,0,{"$f":"IF(CC244=\"YES\",IF(ISERROR(VLOOKUP($A244+8860000,'Growth Data'!$A:$Z,8,0)),0,VLOOKUP($A244+8860000,'Growth Data'!$A:$Z,8,0)),0)","v":0},0,null,null,null,0]
[3322,"St James' CEI School",null,"St James' CEI School","St James' CEI School",0,null,962703.76,962703.75514640636,0,null,0,0,0,null,962703.76,962703.75514640636,0,null,6932.98,6932.980458,0,null,null,null,0,null,0,0,0,null,33604.58,null,33605,null,2639.54,null,2640,null,0,null,0,null,0,null,0,null,null,null,0,null,null,null,0,null,null,null,0,null,null,null,0,null,"NO",{"$f":"IF(ISERROR(VLOOKUP($A245+8860000,'Growth Data'!$A:$F,3,0)),\"NO\",VLOOKUP($A245+8860000,'Growth Data'!$A:$F,3,0))","v":"NO"},0,null,0,{"$f":"IF(BM245=\"YES\",IF(ISERROR(VLOOKUP($A245+8860000,'Growth Data'!$A:$F,6,0)),0,VLOOKUP($A245+8860000,'Growth Data'!$A:$F,6,0)),0)","v":0},0,null,"NO",{"$f":"IF(ISERROR(VLOOKUP($A245+8860000,'Growth Data'!$A:$F,4,0)),\"NO\",VLOOKUP($A245+8860000,'Growth Data'!$A:$F,4,0))","v":"NO"},0,null,0,{"$f":"IF(BU245=\"YES\",IF(ISERROR(VLOOKUP($A245+8860000,'Growth Data'!$A:$Z,7,0)),0,VLOOKUP($A245+8860000,'Growth Data'!$A:$Z,7,0)),0)","v":0},0,null,"NO",{"$f":"IF(ISERROR(VLOOKUP($A245+8860000,'Growth Data'!$A:$F,5,0)),\"NO\",VLOOKUP($A245+8860000,'Growth Data'!$A:$F,5,0))","v":"NO"},0,null,0,{"$f":"IF(CC245=\"YES\",IF(ISERROR(VLOOKUP($A245+8860000,'Growth Data'!$A:$Z,8,0)),0,VLOOKUP($A245+8860000,'Growth Data'!$A:$Z,8,0)),0)","v":0},0,null,null,null,0]
[3323,"Hunton CEP School",null,"Hunton CEP School","Hunton CEP School",0,null,405938.83,405938.83260569535,0,null,0,0,0,null,405938.83,405938.83260569535,0,null,2439.38,2439.3820129999999,0,null,null,null,0,null,0,0,0,null,23011.66,null,23012,null,3698.83,null,3699,null,0,null,0,null,0,null,0,null,null,null,0,null,null,null,0,null,null,null,0,null,null,null,0,null,"NO",{"$f":"IF(ISERROR(VLOOKUP($A246+8860000,'Growth Data'!$A:$F,3,0)),\"NO\",VLOOKUP($A246+8860000,'Growth Data'!$A:$F,3,0))","v":"NO"},0,null,0,{"$f":"IF(BM246=\"YES\",IF(ISERROR(VLOOKUP($A246+8860000,'Growth Data'!$A:$F,6,0)),0,VLOOKUP($A246+8860000,'Growth Data'!$A:$F,6,0)),0)","v":0},0,null,"NO",{"$f":"IF(ISERROR(VLOOKUP($A246+8860000,'Growth Data'!$A:$F,4,0)),\"NO\",VLOOKUP($A246+8860000,'Growth Data'!$A:$F,4,0))","v":"NO"},0,null,0,{"$f":"IF(BU246=\"YES\",IF(ISERROR(VLOOKUP($A246+8860000,'Growth Data'!$A:$Z,7,0)),0,VLOOKUP($A246+8860000,'Growth Data'!$A:$Z,7,0)),0)","v":0},0,null,"NO",{"$f":"IF(ISERROR(VLOOKUP($A246+8860000,'Growth Data'!$A:$F,5,0)),\"NO\",VLOOKUP($A246+8860000,'Growth Data'!$A:$F,5,0))","v":"NO"},0,null,0,{"$f":"IF(CC246=\"YES\",IF(ISERROR(VLOOKUP($A246+8860000,'Growth Data'!$A:$Z,8,0)),0,VLOOKUP($A246+8860000,'Growth Data'!$A:$Z,8,0)),0)","v":0},0,null,null,null,0]
[3325,"Platt CEP School",null,"Platt CEP School","Platt CEP School",0,null,563234.65,563234.64854615717,0,null,0,0,0,null,563234.65,563234.64854615717,0,null,3748.95,3748.9449883999996,0,null,null,null,0,null,0,0,0,null,40510.230000000003,null,40510,null,1948.98,null,1949,null,0,null,0,null,0,null,0,null,null,null,0,null,null,null,0,null,null,null,0,null,null,null,0,null,"NO",{"$f":"IF(ISERROR(VLOOKUP($A247+8860000,'Growth Data'!$A:$F,3,0)),\"NO\",VLOOKUP($A247+8860000,'Growth Data'!$A:$F,3,0))","v":"NO"},0,null,0,{"$f":"IF(BM247=\"YES\",IF(ISERROR(VLOOKUP($A247+8860000,'Growth Data'!$A:$F,6,0)),0,VLOOKUP($A247+8860000,'Growth Data'!$A:$F,6,0)),0)","v":0},0,null,"NO",{"$f":"IF(ISERROR(VLOOKUP($A247+8860000,'Growth Data'!$A:$F,4,0)),\"NO\",VLOOKUP($A247+8860000,'Growth Data'!$A:$F,4,0))","v":"NO"},0,null,0,{"$f":"IF(BU247=\"YES\",IF(ISERROR(VLOOKUP($A247+8860000,'Growth Data'!$A:$Z,7,0)),0,VLOOKUP($A247+8860000,'Growth Data'!$A:$Z,7,0)),0)","v":0},0,null,"NO",{"$f":"IF(ISERROR(VLOOKUP($A247+8860000,'Growth Data'!$A:$F,5,0)),\"NO\",VLOOKUP($A247+8860000,'Growth Data'!$A:$F,5,0))","v":"NO"},0,null,0,{"$f":"IF(CC247=\"YES\",IF(ISERROR(VLOOKUP($A247+8860000,'Growth Data'!$A:$Z,8,0)),0,VLOOKUP($A247+8860000,'Growth Data'!$A:$Z,8,0)),0)","v":0},0,null,null,null,0]
[3328,"Bapchild & Tonge CEP School",null,"Bapchild & Tonge CEP School","Bapchild & Tonge CEP School",0,null,756102.18,756102.18020719686,0,null,0,0,0,null,756102.18,756102.18020719686,0,null,5186.8999999999996,5186.8964907999998,0,null,null,null,0,null,0,0,0,null,39404.81,null,39405,null,2059.52,null,2060,null,0,null,0,null,0,null,0,null,null,null,0,null,null,null,0,null,null,null,0,null,null,null,0,null,"NO",{"$f":"IF(ISERROR(VLOOKUP($A248+8860000,'Growth Data'!$A:$F,3,0)),\"NO\",VLOOKUP($A248+8860000,'Growth Data'!$A:$F,3,0))","v":"NO"},0,null,0,{"$f":"IF(BM248=\"YES\",IF(ISERROR(VLOOKUP($A248+8860000,'Growth Data'!$A:$F,6,0)),0,VLOOKUP($A248+8860000,'Growth Data'!$A:$F,6,0)),0)","v":0},0,null,"NO",{"$f":"IF(ISERROR(VLOOKUP($A248+8860000,'Growth Data'!$A:$F,4,0)),\"NO\",VLOOKUP($A248+8860000,'Growth Data'!$A:$F,4,0))","v":"NO"},0,null,0,{"$f":"IF(BU248=\"YES\",IF(ISERROR(VLOOKUP($A248+8860000,'Growth Data'!$A:$Z,7,0)),0,VLOOKUP($A248+8860000,'Growth Data'!$A:$Z,7,0)),0)","v":0},0,null,"NO",{"$f":"IF(ISERROR(VLOOKUP($A248+8860000,'Growth Data'!$A:$F,5,0)),\"NO\",VLOOKUP($A248+8860000,'Growth Data'!$A:$F,5,0))","v":"NO"},0,null,0,{"$f":"IF(CC248=\"YES\",IF(ISERROR(VLOOKUP($A248+8860000,'Growth Data'!$A:$Z,8,0)),0,VLOOKUP($A248+8860000,'Growth Data'!$A:$Z,8,0)),0)","v":0},0,null,null,null,0]
[3332,"Hartlip Endowed CEP School",null,"Hartlip Endowed CEP School","Hartlip Endowed CEP School",0,null,437473.83,437473.83047884161,0,null,0,0,0,null,437473.83,437473.83047884161,0,null,2670.48,2670.4813615999997,0,null,null,null,0,null,0,0,0,null,25255.89,null,25256,null,3474.41,null,3474,null,0,null,0,null,0,null,0,null,null,null,0,null,null,null,0,null,null,null,0,null,null,null,0,null,"NO",{"$f":"IF(ISERROR(VLOOKUP($A249+8860000,'Growth Data'!$A:$F,3,0)),\"NO\",VLOOKUP($A249+8860000,'Growth Data'!$A:$F,3,0))","v":"NO"},0,null,0,{"$f":"IF(BM249=\"YES\",IF(ISERROR(VLOOKUP($A249+8860000,'Growth Data'!$A:$F,6,0)),0,VLOOKUP($A249+8860000,'Growth Data'!$A:$F,6,0)),0)","v":0},0,null,"NO",{"$f":"IF(ISERROR(VLOOKUP($A249+8860000,'Growth Data'!$A:$F,4,0)),\"NO\",VLOOKUP($A249+8860000,'Growth Data'!$A:$F,4,0))","v":"NO"},0,null,0,{"$f":"IF(BU249=\"YES\",IF(ISERROR(VLOOKUP($A249+8860000,'Growth Data'!$A:$Z,7,0)),0,VLOOKUP($A249+8860000,'Growth Data'!$A:$Z,7,0)),0)","v":0},0,null,"NO",{"$f":"IF(ISERROR(VLOOKUP($A249+8860000,'Growth Data'!$A:$F,5,0)),\"NO\",VLOOKUP($A249+8860000,'Growth Data'!$A:$F,5,0))","v":"NO"},0,null,0,{"$f":"IF(CC249=\"YES\",IF(ISERROR(VLOOKUP($A249+8860000,'Growth Data'!$A:$Z,8,0)),0,VLOOKUP($A249+8860000,'Growth Data'!$A:$Z,8,0)),0)","v":0},0,null,null,null,0]
[3337,"Tunstall CEP School",null,"Tunstall CEP School","Tunstall CEP School",0,null,1017833,1017833,0,null,0,0,0,null,1017833,1017833,0,null,7600.6,7600.6007983999989,0,null,null,null,0,null,0,0,0,null,22371.84,null,22372,null,3762.82,null,3763,null,75000,null,75000,null,112500,null,112500,null,null,null,0,null,null,null,0,null,null,null,0,null,null,null,0,null,"NO",{"$f":"IF(ISERROR(VLOOKUP($A250+8860000,'Growth Data'!$A:$F,3,0)),\"NO\",VLOOKUP($A250+8860000,'Growth Data'!$A:$F,3,0))","v":"YES"},1,null,0,{"$f":"IF(BM250=\"YES\",IF(ISERROR(VLOOKUP($A250+8860000,'Growth Data'!$A:$F,6,0)),0,VLOOKUP($A250+8860000,'Growth Data'!$A:$F,6,0)),0)","v":31},-31,null,"NO",{"$f":"IF(ISERROR(VLOOKUP($A250+8860000,'Growth Data'!$A:$F,4,0)),\"NO\",VLOOKUP($A250+8860000,'Growth Data'!$A:$F,4,0))","v":"YES"},1,null,0,{"$f":"IF(BU250=\"YES\",IF(ISERROR(VLOOKUP($A250+8860000,'Growth Data'!$A:$Z,7,0)),0,VLOOKUP($A250+8860000,'Growth Data'!$A:$Z,7,0)),0)","v":60},-60,null,"NO",{"$f":"IF(ISERROR(VLOOKUP($A250+8860000,'Growth Data'!$A:$F,5,0)),\"NO\",VLOOKUP($A250+8860000,'Growth Data'!$A:$F,5,0))","v":"YES"},1,null,0,{"$f":"IF(CC250=\"YES\",IF(ISERROR(VLOOKUP($A250+8860000,'Growth Data'!$A:$Z,8,0)),0,VLOOKUP($A250+8860000,'Growth Data'!$A:$Z,8,0)),0)","v":30},-30,null,null,null,0]
[3338,"Herne CEJ School",null,"Herne CEJ School","Herne CEJ School",0,null,1241743,1241743,0,null,0,0,0,null,1241743,1241743,0,null,9321.01,9321.0070601999996,0,null,null,null,0,null,0,0,0,null,40421.279999999999,null,40421,null,1957.87,null,1958,null,0,null,0,null,0,null,0,null,null,null,0,null,null,null,0,null,null,null,0,null,null,null,0,null,"YES",{"$f":"IF(ISERROR(VLOOKUP($A251+8860000,'Growth Data'!$A:$F,3,0)),\"NO\",VLOOKUP($A251+8860000,'Growth Data'!$A:$F,3,0))","v":"NO"},1,null,32,{"$f":"IF(BM251=\"YES\",IF(ISERROR(VLOOKUP($A251+8860000,'Growth Data'!$A:$F,6,0)),0,VLOOKUP($A251+8860000,'Growth Data'!$A:$F,6,0)),0)","v":0},32,null,"YES",{"$f":"IF(ISERROR(VLOOKUP($A251+8860000,'Growth Data'!$A:$F,4,0)),\"NO\",VLOOKUP($A251+8860000,'Growth Data'!$A:$F,4,0))","v":"NO"},1,null,32,{"$f":"IF(BU251=\"YES\",IF(ISERROR(VLOOKUP($A251+8860000,'Growth Data'!$A:$Z,7,0)),0,VLOOKUP($A251+8860000,'Growth Data'!$A:$Z,7,0)),0)","v":0},32,null,"YES",{"$f":"IF(ISERROR(VLOOKUP($A251+8860000,'Growth Data'!$A:$F,5,0)),\"NO\",VLOOKUP($A251+8860000,'Growth Data'!$A:$F,5,0))","v":"NO"},1,null,32,{"$f":"IF(CC251=\"YES\",IF(ISERROR(VLOOKUP($A251+8860000,'Growth Data'!$A:$Z,8,0)),0,VLOOKUP($A251+8860000,'Growth Data'!$A:$Z,8,0)),0)","v":0},32,null,null,null,0]
[3339,"Whitstable & Seasalter Endowed CEJ School",null,"Whitstable & Seasalter Endowed CEJ School","Whitstable & Seasalter Endowed CEJ School",0,null,707260.31,707260.30836920452,0,null,0,0,0,null,707260.31,707260.30836920452,0,null,4981.47,4981.4748475999986,0,null,null,null,0,null,0,0,0,null,26455.599999999999,null,26456,null,3354.44,null,3354,null,0,null,0,null,0,null,0,null,null,null,0,null,null,null,0,null,null,null,0,null,null,null,0,null,"NO",{"$f":"IF(ISERROR(VLOOKUP($A252+8860000,'Growth Data'!$A:$F,3,0)),\"NO\",VLOOKUP($A252+8860000,'Growth Data'!$A:$F,3,0))","v":"NO"},0,null,0,{"$f":"IF(BM252=\"YES\",IF(ISERROR(VLOOKUP($A252+8860000,'Growth Data'!$A:$F,6,0)),0,VLOOKUP($A252+8860000,'Growth Data'!$A:$F,6,0)),0)","v":0},0,null,"NO",{"$f":"IF(ISERROR(VLOOKUP($A252+8860000,'Growth Data'!$A:$F,4,0)),\"NO\",VLOOKUP($A252+8860000,'Growth Data'!$A:$F,4,0))","v":"NO"},0,null,0,{"$f":"IF(BU252=\"YES\",IF(ISERROR(VLOOKUP($A252+8860000,'Growth Data'!$A:$Z,7,0)),0,VLOOKUP($A252+8860000,'Growth Data'!$A:$Z,7,0)),0)","v":0},0,null,"NO",{"$f":"IF(ISERROR(VLOOKUP($A252+8860000,'Growth Data'!$A:$F,5,0)),\"NO\",VLOOKUP($A252+8860000,'Growth Data'!$A:$F,5,0))","v":"NO"},0,null,0,{"$f":"IF(CC252=\"YES\",IF(ISERROR(VLOOKUP($A252+8860000,'Growth Data'!$A:$Z,8,0)),0,VLOOKUP($A252+8860000,'Growth Data'!$A:$Z,8,0)),0)","v":0},0,null,null,null,0]
[3340,"St Mary's CEP School, Ashford",null,"St Mary's CEP School, Ashford","St Mary's CEP School, Ashford",0,null,1508636.76,1508636.7626552125,0,null,0,0,0,null,1508636.76,1508636.7626552125,0,null,10784.64,10784.636268,0,null,null,null,0,null,0,0,0,null,53722.02,null,53722,null,627.79999999999995,null,628,null,0,null,0,null,0,null,0,null,null,null,0,null,null,null,0,null,null,null,0,null,null,null,0,null,"NO",{"$f":"IF(ISERROR(VLOOKUP($A253+8860000,'Growth Data'!$A:$F,3,0)),\"NO\",VLOOKUP($A253+8860000,'Growth Data'!$A:$F,3,0))","v":"NO"},0,null,0,{"$f":"IF(BM253=\"YES\",IF(ISERROR(VLOOKUP($A253+8860000,'Growth Data'!$A:$F,6,0)),0,VLOOKUP($A253+8860000,'Growth Data'!$A:$F,6,0)),0)","v":0},0,null,"NO",{"$f":"IF(ISERROR(VLOOKUP($A253+8860000,'Growth Data'!$A:$F,4,0)),\"NO\",VLOOKUP($A253+8860000,'Growth Data'!$A:$F,4,0))","v":"NO"},0,null,0,{"$f":"IF(BU253=\"YES\",IF(ISERROR(VLOOKUP($A253+8860000,'Growth Data'!$A:$Z,7,0)),0,VLOOKUP($A253+8860000,'Growth Data'!$A:$Z,7,0)),0)","v":0},0,null,"NO",{"$f":"IF(ISERROR(VLOOKUP($A253+8860000,'Growth Data'!$A:$F,5,0)),\"NO\",VLOOKUP($A253+8860000,'Growth Data'!$A:$F,5,0))","v":"NO"},0,null,0,{"$f":"IF(CC253=\"YES\",IF(ISERROR(VLOOKUP($A253+8860000,'Growth Data'!$A:$Z,8,0)),0,VLOOKUP($A253+8860000,'Growth Data'!$A:$Z,8,0)),0)","v":0},0,null,null,null,0]
[3346,"Wittersham CEP School",null,"Wittersham CEP School","Wittersham CEP School",0,null,523040.98,523040.98122937884,0,null,0,0,0,null,523040.98,523040.98122937884,0,null,3209.71,3209.7131750000003,0,null,null,null,0,null,0,0,0,null,55348.4,null,55348,null,465.16,null,465,null,0,null,0,null,0,null,0,null,null,null,0,null,null,null,0,null,null,null,0,null,null,null,0,null,"NO",{"$f":"IF(ISERROR(VLOOKUP($A254+8860000,'Growth Data'!$A:$F,3,0)),\"NO\",VLOOKUP($A254+8860000,'Growth Data'!$A:$F,3,0))","v":"NO"},0,null,0,{"$f":"IF(BM254=\"YES\",IF(ISERROR(VLOOKUP($A254+8860000,'Growth Data'!$A:$F,6,0)),0,VLOOKUP($A254+8860000,'Growth Data'!$A:$F,6,0)),0)","v":0},0,null,"NO",{"$f":"IF(ISERROR(VLOOKUP($A254+8860000,'Growth Data'!$A:$F,4,0)),\"NO\",VLOOKUP($A254+8860000,'Growth Data'!$A:$F,4,0))","v":"NO"},0,null,0,{"$f":"IF(BU254=\"YES\",IF(ISERROR(VLOOKUP($A254+8860000,'Growth Data'!$A:$Z,7,0)),0,VLOOKUP($A254+8860000,'Growth Data'!$A:$Z,7,0)),0)","v":0},0,null,"NO",{"$f":"IF(ISERROR(VLOOKUP($A254+8860000,'Growth Data'!$A:$F,5,0)),\"NO\",VLOOKUP($A254+8860000,'Growth Data'!$A:$F,5,0))","v":"NO"},0,null,0,{"$f":"IF(CC254=\"YES\",IF(ISERROR(VLOOKUP($A254+8860000,'Growth Data'!$A:$Z,8,0)),0,VLOOKUP($A254+8860000,'Growth Data'!$A:$Z,8,0)),0)","v":0},0,null,null,null,0]
[3347,"Elham CEP School",null,"Elham CEP School","Elham CEP School",0,null,522764.79,522764.790397587,0,null,0,0,0,null,522764.79,522764.790397587,0,null,3415.13,3415.1348181999992,0,null,null,null,0,null,0,0,0,null,24617.18,null,24617,null,3538.28,null,3538,null,0,null,0,null,0,null,0,null,null,null,0,null,null,null,0,null,null,null,0,null,null,null,0,null,"NO",{"$f":"IF(ISERROR(VLOOKUP($A255+8860000,'Growth Data'!$A:$F,3,0)),\"NO\",VLOOKUP($A255+8860000,'Growth Data'!$A:$F,3,0))","v":"NO"},0,null,0,{"$f":"IF(BM255=\"YES\",IF(ISERROR(VLOOKUP($A255+8860000,'Growth Data'!$A:$F,6,0)),0,VLOOKUP($A255+8860000,'Growth Data'!$A:$F,6,0)),0)","v":0},0,null,"NO",{"$f":"IF(ISERROR(VLOOKUP($A255+8860000,'Growth Data'!$A:$F,4,0)),\"NO\",VLOOKUP($A255+8860000,'Growth Data'!$A:$F,4,0))","v":"NO"},0,null,0,{"$f":"IF(BU255=\"YES\",IF(ISERROR(VLOOKUP($A255+8860000,'Growth Data'!$A:$Z,7,0)),0,VLOOKUP($A255+8860000,'Growth Data'!$A:$Z,7,0)),0)","v":0},0,null,"NO",{"$f":"IF(ISERROR(VLOOKUP($A255+8860000,'Growth Data'!$A:$F,5,0)),\"NO\",VLOOKUP($A255+8860000,'Growth Data'!$A:$F,5,0))","v":"NO"},0,null,0,{"$f":"IF(CC255=\"YES\",IF(ISERROR(VLOOKUP($A255+8860000,'Growth Data'!$A:$Z,8,0)),0,VLOOKUP($A255+8860000,'Growth Data'!$A:$Z,8,0)),0)","v":0},0,null,null,null,0]
[3350,"Saltwood CEP School",null,"Saltwood CEP School","Saltwood CEP School",0,null,773267.18,773267.17678625858,0,null,0,0,0,null,773267.18,773267.17678625858,0,null,5649.1,5649.0951879999984,0,null,null,null,0,null,0,0,0,null,5580,null,5580,null,5442,null,5442,null,0,null,0,null,0,null,0,null,null,null,0,null,null,null,0,null,null,null,0,null,null,null,0,null,"NO",{"$f":"IF(ISERROR(VLOOKUP($A256+8860000,'Growth Data'!$A:$F,3,0)),\"NO\",VLOOKUP($A256+8860000,'Growth Data'!$A:$F,3,0))","v":"NO"},0,null,0,{"$f":"IF(BM256=\"YES\",IF(ISERROR(VLOOKUP($A256+8860000,'Growth Data'!$A:$F,6,0)),0,VLOOKUP($A256+8860000,'Growth Data'!$A:$F,6,0)),0)","v":0},0,null,"NO",{"$f":"IF(ISERROR(VLOOKUP($A256+8860000,'Growth Data'!$A:$F,4,0)),\"NO\",VLOOKUP($A256+8860000,'Growth Data'!$A:$F,4,0))","v":"NO"},0,null,0,{"$f":"IF(BU256=\"YES\",IF(ISERROR(VLOOKUP($A256+8860000,'Growth Data'!$A:$Z,7,0)),0,VLOOKUP($A256+8860000,'Growth Data'!$A:$Z,7,0)),0)","v":0},0,null,"NO",{"$f":"IF(ISERROR(VLOOKUP($A256+8860000,'Growth Data'!$A:$F,5,0)),\"NO\",VLOOKUP($A256+8860000,'Growth Data'!$A:$F,5,0))","v":"NO"},0,null,0,{"$f":"IF(CC256=\"YES\",IF(ISERROR(VLOOKUP($A256+8860000,'Growth Data'!$A:$Z,8,0)),0,VLOOKUP($A256+8860000,'Growth Data'!$A:$Z,8,0)),0)","v":0},0,null,null,null,0]
[3351,"Ash Cartwright and Kelsey CEP School",null,"Ash Cartwright and Kelsey CEP School","Ash Cartwright and Kelsey CEP School",0,null,625833.09,625833.09488971438,0,null,0,0,0,null,625833.09,625833.09488971438,0,null,4211.1400000000003,4211.1436856000009,0,null,null,null,0,null,4.9000000000000004,4.9000000000000004,0,null,36697.35,null,36697,null,2330.2600000000002,null,2330,null,0,null,0,null,0,null,0,null,null,null,0,null,null,null,0,null,null,null,0,null,null,null,0,null,"NO",{"$f":"IF(ISERROR(VLOOKUP($A257+8860000,'Growth Data'!$A:$F,3,0)),\"NO\",VLOOKUP($A257+8860000,'Growth Data'!$A:$F,3,0))","v":"NO"},0,null,0,{"$f":"IF(BM257=\"YES\",IF(ISERROR(VLOOKUP($A257+8860000,'Growth Data'!$A:$F,6,0)),0,VLOOKUP($A257+8860000,'Growth Data'!$A:$F,6,0)),0)","v":0},0,null,"NO",{"$f":"IF(ISERROR(VLOOKUP($A257+8860000,'Growth Data'!$A:$F,4,0)),\"NO\",VLOOKUP($A257+8860000,'Growth Data'!$A:$F,4,0))","v":"NO"},0,null,0,{"$f":"IF(BU257=\"YES\",IF(ISERROR(VLOOKUP($A257+8860000,'Growth Data'!$A:$Z,7,0)),0,VLOOKUP($A257+8860000,'Growth Data'!$A:$Z,7,0)),0)","v":0},0,null,"NO",{"$f":"IF(ISERROR(VLOOKUP($A257+8860000,'Growth Data'!$A:$F,5,0)),\"NO\",VLOOKUP($A257+8860000,'Growth Data'!$A:$F,5,0))","v":"NO"},0,null,0,{"$f":"IF(CC257=\"YES\",IF(ISERROR(VLOOKUP($A257+8860000,'Growth Data'!$A:$Z,8,0)),0,VLOOKUP($A257+8860000,'Growth Data'!$A:$Z,8,0)),0)","v":0},0,null,null,null,0]
[3353,"Deal Parochial CEP School",null,"Deal Parochial CEP School","Deal Parochial CEP School",0,null,781598.08,781598.0777630657,0,null,0,0,0,null,781598.08,781598.0777630657,0,null,5263.93,5263.9296069999991,0,null,null,null,0,null,0,0,0,null,70988.77,null,70989,null,0,null,0,null,0,null,0,null,0,null,0,null,null,null,0,null,null,null,0,null,null,null,0,null,null,null,0,null,"NO",{"$f":"IF(ISERROR(VLOOKUP($A258+8860000,'Growth Data'!$A:$F,3,0)),\"NO\",VLOOKUP($A258+8860000,'Growth Data'!$A:$F,3,0))","v":"NO"},0,null,0,{"$f":"IF(BM258=\"YES\",IF(ISERROR(VLOOKUP($A258+8860000,'Growth Data'!$A:$F,6,0)),0,VLOOKUP($A258+8860000,'Growth Data'!$A:$F,6,0)),0)","v":0},0,null,"NO",{"$f":"IF(ISERROR(VLOOKUP($A258+8860000,'Growth Data'!$A:$F,4,0)),\"NO\",VLOOKUP($A258+8860000,'Growth Data'!$A:$F,4,0))","v":"NO"},0,null,0,{"$f":"IF(BU258=\"YES\",IF(ISERROR(VLOOKUP($A258+8860000,'Growth Data'!$A:$Z,7,0)),0,VLOOKUP($A258+8860000,'Growth Data'!$A:$Z,7,0)),0)","v":0},0,null,"NO",{"$f":"IF(ISERROR(VLOOKUP($A258+8860000,'Growth Data'!$A:$F,5,0)),\"NO\",VLOOKUP($A258+8860000,'Growth Data'!$A:$F,5,0))","v":"NO"},0,null,0,{"$f":"IF(CC258=\"YES\",IF(ISERROR(VLOOKUP($A258+8860000,'Growth Data'!$A:$Z,8,0)),0,VLOOKUP($A258+8860000,'Growth Data'!$A:$Z,8,0)),0)","v":0},0,null,null,null,0]
[3356,"St Mary's CEP School, Dover",null,"St Mary's CEP School, Dover","St Mary's CEP School, Dover",{"$f":"IF(E259=D259,0,1)","v":0},null,893411.85,893411.85001536366,{"$f":"ROUND(H259-I259,0)","v":0},null,0,0,{"$f":"ROUND(L259-M259,0)","v":0},null,893411.85,893411.85001536366,{"$f":"ROUND(P259-Q259,0)","v":0},null,5520.71,5520.7066610000002,{"$f":"ROUND(T259-U259,0)","v":0},null,null,null,{"$f":"ROUND(X259-Y259,0)","v":0},null,0,0,{"$f":"ROUND(AB259-AC259,0)","v":0},null,5580,null,{"$f":"ROUND(AF259-AG259,0)","v":5580},null,5442,null,{"$f":"ROUND(AJ259-AK259,0)","v":5442},null,0,null,{"$f":"ROUND(AN259-AO259,0)","v":0},null,0,null,{"$f":"ROUND(AR259-AS259,0)","v":0},null,null,null,{"$f":"ROUND(AV259-AW259,0)","v":0},null,null,null,{"$f":"ROUND(AZ259-BA259,0)","v":0},null,null,null,{"$f":"ROUND(BD259-BE259,0)","v":0},null,null,null,{"$f":"ROUND(BH259-BI259,0)","v":0},null,"NO",{"$f":"IF(ISERROR(VLOOKUP($A259+8860000,'Growth Data'!$A:$F,3,0)),\"NO\",VLOOKUP($A259+8860000,'Growth Data'!$A:$F,3,0))","v":"NO"},{"$f":"IF(BL259=BM259,0,1)","v":0},null,0,{"$f":"IF(BM259=\"YES\",IF(ISERROR(VLOOKUP($A259+8860000,'Growth Data'!$A:$F,6,0)),0,VLOOKUP($A259+8860000,'Growth Data'!$A:$F,6,0)),0)","v":0},{"$f":"ROUND(BP259-BQ259,0)","v":0},null,"NO",{"$f":"IF(ISERROR(VLOOKUP($A259+8860000,'Growth Data'!$A:$F,4,0)),\"NO\",VLOOKUP($A259+8860000,'Growth Data'!$A:$F,4,0))","v":"NO"},{"$f":"IF(BT259=BU259,0,1)","v":0},null,0,{"$f":"IF(BU259=\"YES\",IF(ISERROR(VLOOKUP($A259+8860000,'Growth Data'!$A:$Z,7,0)),0,VLOOKUP($A259+8860000,'Growth Data'!$A:$Z,7,0)),0)","v":0},{"$f":"ROUND(BX259-BY259,0)","v":0},null,"NO",{"$f":"IF(ISERROR(VLOOKUP($A259+8860000,'Growth Data'!$A:$F,5,0)),\"NO\",VLOOKUP($A259+8860000,'Growth Data'!$A:$F,5,0))","v":"NO"},{"$f":"IF(CB259=CC259,0,1)","v":0},null,0,{"$f":"IF(CC259=\"YES\",IF(ISERROR(VLOOKUP($A259+8860000,'Growth Data'!$A:$Z,8,0)),0,VLOOKUP($A259+8860000,'Growth Data'!$A:$Z,8,0)),0)","v":0},{"$f":"ROUND(CF259-CG259,0)","v":0},null,null,null,{"$f":"ROUND(CJ259-CK259,0)","v":0}]
[3358,"Sholden CEP School",null,"Sholden CEP School","Sholden CEP School",0,null,447011.47,447011.46925779578,0,null,0,0,0,null,447011.47,447011.46925779578,0,null,2721.84,2721.8367724,0,null,null,null,0,null,0,0,0,null,5580,null,5580,null,5442,null,5442,null,0,null,0,null,0,null,0,null,null,null,0,null,null,null,0,null,null,null,0,null,null,null,0,null,"NO",{"$f":"IF(ISERROR(VLOOKUP($A260+8860000,'Growth Data'!$A:$F,3,0)),\"NO\",VLOOKUP($A260+8860000,'Growth Data'!$A:$F,3,0))","v":"NO"},0,null,0,{"$f":"IF(BM260=\"YES\",IF(ISERROR(VLOOKUP($A260+8860000,'Growth Data'!$A:$F,6,0)),0,VLOOKUP($A260+8860000,'Growth Data'!$A:$F,6,0)),0)","v":0},0,null,"NO",{"$f":"IF(ISERROR(VLOOKUP($A260+8860000,'Growth Data'!$A:$F,4,0)),\"NO\",VLOOKUP($A260+8860000,'Growth Data'!$A:$F,4,0))","v":"NO"},0,null,0,{"$f":"IF(BU260=\"YES\",IF(ISERROR(VLOOKUP($A260+8860000,'Growth Data'!$A:$Z,7,0)),0,VLOOKUP($A260+8860000,'Growth Data'!$A:$Z,7,0)),0)","v":0},0,null,"NO",{"$f":"IF(ISERROR(VLOOKUP($A260+8860000,'Growth Data'!$A:$F,5,0)),\"NO\",VLOOKUP($A260+8860000,'Growth Data'!$A:$F,5,0))","v":"NO"},0,null,0,{"$f":"IF(CC260=\"YES\",IF(ISERROR(VLOOKUP($A260+8860000,'Growth Data'!$A:$Z,8,0)),0,VLOOKUP($A260+8860000,'Growth Data'!$A:$Z,8,0)),0)","v":0},0,null,null,null,0]
[3360,"St Peter-in-Thanet CEJ School",null,"St Peter-in-Thanet CEJ School","St Peter-in-Thanet CEJ School",0,null,1336049.71,1336049.7119691852,0,null,0,0,0,null,1336049.71,1336049.7119691852,0,null,9577.7800000000007,9577.7841141999997,0,null,null,null,0,null,0,0,0,null,31458.26,null,31458,null,2854.17,null,2854,null,0,null,0,null,0,null,0,null,null,null,0,null,null,null,0,null,null,null,0,null,null,null,0,null,"NO",{"$f":"IF(ISERROR(VLOOKUP($A261+8860000,'Growth Data'!$A:$F,3,0)),\"NO\",VLOOKUP($A261+8860000,'Growth Data'!$A:$F,3,0))","v":"NO"},0,null,0,{"$f":"IF(BM261=\"YES\",IF(ISERROR(VLOOKUP($A261+8860000,'Growth Data'!$A:$F,6,0)),0,VLOOKUP($A261+8860000,'Growth Data'!$A:$F,6,0)),0)","v":0},0,null,"NO",{"$f":"IF(ISERROR(VLOOKUP($A261+8860000,'Growth Data'!$A:$F,4,0)),\"NO\",VLOOKUP($A261+8860000,'Growth Data'!$A:$F,4,0))","v":"NO"},0,null,0,{"$f":"IF(BU261=\"YES\",IF(ISERROR(VLOOKUP($A261+8860000,'Growth Data'!$A:$Z,7,0)),0,VLOOKUP($A261+8860000,'Growth Data'!$A:$Z,7,0)),0)","v":0},0,null,"NO",{"$f":"IF(ISERROR(VLOOKUP($A261+8860000,'Growth Data'!$A:$F,5,0)),\"NO\",VLOOKUP($A261+8860000,'Growth Data'!$A:$F,5,0))","v":"NO"},0,null,0,{"$f":"IF(CC261=\"YES\",IF(ISERROR(VLOOKUP($A261+8860000,'Growth Data'!$A:$Z,8,0)),0,VLOOKUP($A261+8860000,'Growth Data'!$A:$Z,8,0)),0)","v":0},0,null,null,null,0]
[3364,"Ramsgate, Holy Trinity CEP School",null,"Ramsgate, Holy Trinity CEP School","Ramsgate, Holy Trinity CEP School",0,null,775371.75,775371.75429207576,0,null,0,0,0,null,775371.75,775371.75429207576,0,null,5392.32,5392.3181340000001,0,null,null,null,0,null,0,0,0,null,53581.73,null,53582,null,641.83000000000004,null,642,null,0,null,0,null,0,null,0,null,null,null,0,null,null,null,0,null,null,null,0,null,null,null,0,null,"NO",{"$f":"IF(ISERROR(VLOOKUP($A262+8860000,'Growth Data'!$A:$F,3,0)),\"NO\",VLOOKUP($A262+8860000,'Growth Data'!$A:$F,3,0))","v":"NO"},0,null,0,{"$f":"IF(BM262=\"YES\",IF(ISERROR(VLOOKUP($A262+8860000,'Growth Data'!$A:$F,6,0)),0,VLOOKUP($A262+8860000,'Growth Data'!$A:$F,6,0)),0)","v":0},0,null,"YES",{"$f":"IF(ISERROR(VLOOKUP($A262+8860000,'Growth Data'!$A:$F,4,0)),\"NO\",VLOOKUP($A262+8860000,'Growth Data'!$A:$F,4,0))","v":"NO"},1,null,30,{"$f":"IF(BU262=\"YES\",IF(ISERROR(VLOOKUP($A262+8860000,'Growth Data'!$A:$Z,7,0)),0,VLOOKUP($A262+8860000,'Growth Data'!$A:$Z,7,0)),0)","v":0},30,null,"YES",{"$f":"IF(ISERROR(VLOOKUP($A262+8860000,'Growth Data'!$A:$F,5,0)),\"NO\",VLOOKUP($A262+8860000,'Growth Data'!$A:$F,5,0))","v":"NO"},1,null,30,{"$f":"IF(CC262=\"YES\",IF(ISERROR(VLOOKUP($A262+8860000,'Growth Data'!$A:$Z,8,0)),0,VLOOKUP($A262+8860000,'Growth Data'!$A:$Z,8,0)),0)","v":0},30,null,null,null,0]
[3373,"St Mary's CEP School",null,"St Mary's CEP School","St Mary's CEP School",0,null,866657.33,866657.32513030386,0,null,0,0,0,null,866657.33,866657.32513030386,0,null,5295.86,5295.86240143544,0,null,null,null,0,null,4.91,4.91,0,null,70243.12,null,70243,null,0,null,0,null,0,null,0,null,0,null,0,null,null,null,0,null,null,null,0,null,null,null,0,null,null,null,0,null,"NO",{"$f":"IF(ISERROR(VLOOKUP($A263+8860000,'Growth Data'!$A:$F,3,0)),\"NO\",VLOOKUP($A263+8860000,'Growth Data'!$A:$F,3,0))","v":"NO"},0,null,0,{"$f":"IF(BM263=\"YES\",IF(ISERROR(VLOOKUP($A263+8860000,'Growth Data'!$A:$F,6,0)),0,VLOOKUP($A263+8860000,'Growth Data'!$A:$F,6,0)),0)","v":0},0,null,"NO",{"$f":"IF(ISERROR(VLOOKUP($A263+8860000,'Growth Data'!$A:$F,4,0)),\"NO\",VLOOKUP($A263+8860000,'Growth Data'!$A:$F,4,0))","v":"NO"},0,null,0,{"$f":"IF(BU263=\"YES\",IF(ISERROR(VLOOKUP($A263+8860000,'Growth Data'!$A:$Z,7,0)),0,VLOOKUP($A263+8860000,'Growth Data'!$A:$Z,7,0)),0)","v":0},0,null,"NO",{"$f":"IF(ISERROR(VLOOKUP($A263+8860000,'Growth Data'!$A:$F,5,0)),\"NO\",VLOOKUP($A263+8860000,'Growth Data'!$A:$F,5,0))","v":"NO"},0,null,0,{"$f":"IF(CC263=\"YES\",IF(ISERROR(VLOOKUP($A263+8860000,'Growth Data'!$A:$Z,8,0)),0,VLOOKUP($A263+8860000,'Growth Data'!$A:$Z,8,0)),0)","v":0},0,null,null,null,0]
[3718,"St Augustine's Catholic Primary School, Hythe",null,"St Augustine's Catholic Primary School, Hythe","St Augustine's Catholic Primary School, Hythe",0,null,769373.04,769373.03572807042,0,null,0,0,0,null,769373.04,769373.03572807042,0,null,5263.93,5263.9296069999991,0,null,null,null,0,null,0,0,0,null,46425.85,null,46426,null,1357.42,null,1357,null,0,null,0,null,0,null,0,null,null,null,0,null,null,null,0,null,null,null,0,null,null,null,0,null,"NO",{"$f":"IF(ISERROR(VLOOKUP($A264+8860000,'Growth Data'!$A:$F,3,0)),\"NO\",VLOOKUP($A264+8860000,'Growth Data'!$A:$F,3,0))","v":"NO"},0,null,0,{"$f":"IF(BM264=\"YES\",IF(ISERROR(VLOOKUP($A264+8860000,'Growth Data'!$A:$F,6,0)),0,VLOOKUP($A264+8860000,'Growth Data'!$A:$F,6,0)),0)","v":0},0,null,"NO",{"$f":"IF(ISERROR(VLOOKUP($A264+8860000,'Growth Data'!$A:$F,4,0)),\"NO\",VLOOKUP($A264+8860000,'Growth Data'!$A:$F,4,0))","v":"NO"},0,null,0,{"$f":"IF(BU264=\"YES\",IF(ISERROR(VLOOKUP($A264+8860000,'Growth Data'!$A:$Z,7,0)),0,VLOOKUP($A264+8860000,'Growth Data'!$A:$Z,7,0)),0)","v":0},0,null,"NO",{"$f":"IF(ISERROR(VLOOKUP($A264+8860000,'Growth Data'!$A:$F,5,0)),\"NO\",VLOOKUP($A264+8860000,'Growth Data'!$A:$F,5,0))","v":"NO"},0,null,0,{"$f":"IF(CC264=\"YES\",IF(ISERROR(VLOOKUP($A264+8860000,'Growth Data'!$A:$Z,8,0)),0,VLOOKUP($A264+8860000,'Growth Data'!$A:$Z,8,0)),0)","v":0},0,null,null,null,0]
[3722,"St Ethelbert's Catholic Primary School, Ramsgate",null,"St Ethelbert's Catholic Primary School, Ramsgate","St Ethelbert's Catholic Primary School, Ramsgate",0,null,825756.41,825756.40827610134,0,null,0,0,0,null,825756.41,825756.40827610134,0,null,5418,5417.9958393999996,0,null,null,null,0,null,0,0,0,null,168291.81,null,168292,null,0,null,0,null,0,null,0,null,0,null,0,null,null,null,0,null,null,null,0,null,null,null,0,null,null,null,0,null,"NO",{"$f":"IF(ISERROR(VLOOKUP($A265+8860000,'Growth Data'!$A:$F,3,0)),\"NO\",VLOOKUP($A265+8860000,'Growth Data'!$A:$F,3,0))","v":"NO"},0,null,0,{"$f":"IF(BM265=\"YES\",IF(ISERROR(VLOOKUP($A265+8860000,'Growth Data'!$A:$F,6,0)),0,VLOOKUP($A265+8860000,'Growth Data'!$A:$F,6,0)),0)","v":0},0,null,"NO",{"$f":"IF(ISERROR(VLOOKUP($A265+8860000,'Growth Data'!$A:$F,4,0)),\"NO\",VLOOKUP($A265+8860000,'Growth Data'!$A:$F,4,0))","v":"NO"},0,null,0,{"$f":"IF(BU265=\"YES\",IF(ISERROR(VLOOKUP($A265+8860000,'Growth Data'!$A:$Z,7,0)),0,VLOOKUP($A265+8860000,'Growth Data'!$A:$Z,7,0)),0)","v":0},0,null,"NO",{"$f":"IF(ISERROR(VLOOKUP($A265+8860000,'Growth Data'!$A:$F,5,0)),\"NO\",VLOOKUP($A265+8860000,'Growth Data'!$A:$F,5,0))","v":"NO"},0,null,0,{"$f":"IF(CC265=\"YES\",IF(ISERROR(VLOOKUP($A265+8860000,'Growth Data'!$A:$Z,8,0)),0,VLOOKUP($A265+8860000,'Growth Data'!$A:$Z,8,0)),0)","v":0},0,null,null,null,0]
[3728,"St Anselm's Catholic Primary School, Dartford",null,"St Anselm's Catholic Primary School, Dartford","St Anselm's Catholic Primary School, Dartford",0,null,848439.37,848439.36696426885,0,null,0,0,0,null,848439.37,848439.36696426885,0,null,5615.21,5615.2108879541593,0,null,null,null,0,null,0,0,0,null,5580,null,5580,null,5442,null,5442,null,0,null,0,null,0,null,0,null,null,null,0,null,null,null,0,null,null,null,0,null,null,null,0,null,"NO",{"$f":"IF(ISERROR(VLOOKUP($A266+8860000,'Growth Data'!$A:$F,3,0)),\"NO\",VLOOKUP($A266+8860000,'Growth Data'!$A:$F,3,0))","v":"NO"},0,null,0,{"$f":"IF(BM266=\"YES\",IF(ISERROR(VLOOKUP($A266+8860000,'Growth Data'!$A:$F,6,0)),0,VLOOKUP($A266+8860000,'Growth Data'!$A:$F,6,0)),0)","v":0},0,null,"NO",{"$f":"IF(ISERROR(VLOOKUP($A266+8860000,'Growth Data'!$A:$F,4,0)),\"NO\",VLOOKUP($A266+8860000,'Growth Data'!$A:$F,4,0))","v":"NO"},0,null,0,{"$f":"IF(BU266=\"YES\",IF(ISERROR(VLOOKUP($A266+8860000,'Growth Data'!$A:$Z,7,0)),0,VLOOKUP($A266+8860000,'Growth Data'!$A:$Z,7,0)),0)","v":0},0,null,"NO",{"$f":"IF(ISERROR(VLOOKUP($A266+8860000,'Growth Data'!$A:$F,5,0)),\"NO\",VLOOKUP($A266+8860000,'Growth Data'!$A:$F,5,0))","v":"NO"},0,null,0,{"$f":"IF(CC266=\"YES\",IF(ISERROR(VLOOKUP($A266+8860000,'Growth Data'!$A:$Z,8,0)),0,VLOOKUP($A266+8860000,'Growth Data'!$A:$Z,8,0)),0)","v":0},0,null,null,null,0]
[3733,"Our Lady's Catholic Primary School, Dartford",null,"Our Lady's Catholic Primary School, Dartford","Our Lady's Catholic Primary School, Dartford",0,null,819670.61,819670.61230458401,0,null,0,0,0,null,819670.61,819670.61230458401,0,null,5748.27,5748.2727573369593,0,null,null,null,0,null,0,0,0,null,40902.68,null,40903,null,1909.73,null,1910,null,0,null,0,null,0,null,0,null,null,null,0,null,null,null,0,null,null,null,0,null,null,null,0,null,"NO",{"$f":"IF(ISERROR(VLOOKUP($A267+8860000,'Growth Data'!$A:$F,3,0)),\"NO\",VLOOKUP($A267+8860000,'Growth Data'!$A:$F,3,0))","v":"NO"},0,null,0,{"$f":"IF(BM267=\"YES\",IF(ISERROR(VLOOKUP($A267+8860000,'Growth Data'!$A:$F,6,0)),0,VLOOKUP($A267+8860000,'Growth Data'!$A:$F,6,0)),0)","v":0},0,null,"NO",{"$f":"IF(ISERROR(VLOOKUP($A267+8860000,'Growth Data'!$A:$F,4,0)),\"NO\",VLOOKUP($A267+8860000,'Growth Data'!$A:$F,4,0))","v":"NO"},0,null,0,{"$f":"IF(BU267=\"YES\",IF(ISERROR(VLOOKUP($A267+8860000,'Growth Data'!$A:$Z,7,0)),0,VLOOKUP($A267+8860000,'Growth Data'!$A:$Z,7,0)),0)","v":0},0,null,"NO",{"$f":"IF(ISERROR(VLOOKUP($A267+8860000,'Growth Data'!$A:$F,5,0)),\"NO\",VLOOKUP($A267+8860000,'Growth Data'!$A:$F,5,0))","v":"NO"},0,null,0,{"$f":"IF(CC267=\"YES\",IF(ISERROR(VLOOKUP($A267+8860000,'Growth Data'!$A:$Z,8,0)),0,VLOOKUP($A267+8860000,'Growth Data'!$A:$Z,8,0)),0)","v":0},0,null,null,null,0]
[3749,"St Thomas' Catholic Primary School, Canterbury",null,"St Thomas' Catholic Primary School, Canterbury","St Thomas' Catholic Primary School, Canterbury",0,null,810765.95,810765.94518769451,0,null,0,0,0,null,810765.95,810765.94518769451,0,null,5315.29,5315.2850177999999,0,null,null,null,0,null,0,0,0,null,33992.51,null,33993,null,2600.75,null,2601,null,0,null,0,null,0,null,0,null,null,null,0,null,null,null,0,null,null,null,0,null,null,null,0,null,"NO",{"$f":"IF(ISERROR(VLOOKUP($A268+8860000,'Growth Data'!$A:$F,3,0)),\"NO\",VLOOKUP($A268+8860000,'Growth Data'!$A:$F,3,0))","v":"NO"},0,null,0,{"$f":"IF(BM268=\"YES\",IF(ISERROR(VLOOKUP($A268+8860000,'Growth Data'!$A:$F,6,0)),0,VLOOKUP($A268+8860000,'Growth Data'!$A:$F,6,0)),0)","v":0},0,null,"NO",{"$f":"IF(ISERROR(VLOOKUP($A268+8860000,'Growth Data'!$A:$F,4,0)),\"NO\",VLOOKUP($A268+8860000,'Growth Data'!$A:$F,4,0))","v":"NO"},0,null,0,{"$f":"IF(BU268=\"YES\",IF(ISERROR(VLOOKUP($A268+8860000,'Growth Data'!$A:$Z,7,0)),0,VLOOKUP($A268+8860000,'Growth Data'!$A:$Z,7,0)),0)","v":0},0,null,"NO",{"$f":"IF(ISERROR(VLOOKUP($A268+8860000,'Growth Data'!$A:$F,5,0)),\"NO\",VLOOKUP($A268+8860000,'Growth Data'!$A:$F,5,0))","v":"NO"},0,null,0,{"$f":"IF(CC268=\"YES\",IF(ISERROR(VLOOKUP($A268+8860000,'Growth Data'!$A:$Z,8,0)),0,VLOOKUP($A268+8860000,'Growth Data'!$A:$Z,8,0)),0)","v":0},0,null,null,null,0]
[3893,"Phoenix Community Primary School",null,"Phoenix Community Primary School","Phoenix Community Primary School",0,null,892271.8,892271.80286878627,0,null,0,0,0,null,892271.8,892271.80286878627,0,null,5263.93,5263.9296069999991,0,null,null,null,0,null,0,0,0,null,40131.379999999997,null,40131,null,1986.86,null,1987,null,0,null,0,null,0,null,0,null,null,null,0,null,null,null,0,null,null,null,0,null,null,null,0,null,"NO",{"$f":"IF(ISERROR(VLOOKUP($A269+8860000,'Growth Data'!$A:$F,3,0)),\"NO\",VLOOKUP($A269+8860000,'Growth Data'!$A:$F,3,0))","v":"NO"},0,null,0,{"$f":"IF(BM269=\"YES\",IF(ISERROR(VLOOKUP($A269+8860000,'Growth Data'!$A:$F,6,0)),0,VLOOKUP($A269+8860000,'Growth Data'!$A:$F,6,0)),0)","v":0},0,null,"NO",{"$f":"IF(ISERROR(VLOOKUP($A269+8860000,'Growth Data'!$A:$F,4,0)),\"NO\",VLOOKUP($A269+8860000,'Growth Data'!$A:$F,4,0))","v":"NO"},0,null,0,{"$f":"IF(BU269=\"YES\",IF(ISERROR(VLOOKUP($A269+8860000,'Growth Data'!$A:$Z,7,0)),0,VLOOKUP($A269+8860000,'Growth Data'!$A:$Z,7,0)),0)","v":0},0,null,"NO",{"$f":"IF(ISERROR(VLOOKUP($A269+8860000,'Growth Data'!$A:$F,5,0)),\"NO\",VLOOKUP($A269+8860000,'Growth Data'!$A:$F,5,0))","v":"NO"},0,null,0,{"$f":"IF(CC269=\"YES\",IF(ISERROR(VLOOKUP($A269+8860000,'Growth Data'!$A:$Z,8,0)),0,VLOOKUP($A269+8860000,'Growth Data'!$A:$Z,8,0)),0)","v":0},0,null,null,null,0]
[3896,"Downsview Primary",null,"Downsview Primary","Downsview Primary",0,null,850881.38,850881.38166219252,0,null,0,0,0,null,850881.38,850881.38166219252,0,null,5482.15,5482.1490185713592,0,null,null,null,0,null,0,0,0,null,40834.959999999999,null,40835,null,1916.5,null,1917,null,0,null,0,null,0,null,0,null,null,null,0,null,null,null,0,null,null,null,0,null,null,null,0,null,"NO",{"$f":"IF(ISERROR(VLOOKUP($A270+8860000,'Growth Data'!$A:$F,3,0)),\"NO\",VLOOKUP($A270+8860000,'Growth Data'!$A:$F,3,0))","v":"NO"},0,null,0,{"$f":"IF(BM270=\"YES\",IF(ISERROR(VLOOKUP($A270+8860000,'Growth Data'!$A:$F,6,0)),0,VLOOKUP($A270+8860000,'Growth Data'!$A:$F,6,0)),0)","v":0},0,null,"NO",{"$f":"IF(ISERROR(VLOOKUP($A270+8860000,'Growth Data'!$A:$F,4,0)),\"NO\",VLOOKUP($A270+8860000,'Growth Data'!$A:$F,4,0))","v":"NO"},0,null,0,{"$f":"IF(BU270=\"YES\",IF(ISERROR(VLOOKUP($A270+8860000,'Growth Data'!$A:$Z,7,0)),0,VLOOKUP($A270+8860000,'Growth Data'!$A:$Z,7,0)),0)","v":0},0,null,"NO",{"$f":"IF(ISERROR(VLOOKUP($A270+8860000,'Growth Data'!$A:$F,5,0)),\"NO\",VLOOKUP($A270+8860000,'Growth Data'!$A:$F,5,0))","v":"NO"},0,null,0,{"$f":"IF(CC270=\"YES\",IF(ISERROR(VLOOKUP($A270+8860000,'Growth Data'!$A:$Z,8,0)),0,VLOOKUP($A270+8860000,'Growth Data'!$A:$Z,8,0)),0)","v":0},0,null,null,null,0]
[3898,"Greenfields Community Primary School",null,"Greenfields Community Primary School","Greenfields Community Primary School",0,null,1248924.56,1248924.5616480687,0,null,163164.13,163164.12635916122,0,null,1412088.69,1412088.6880072299,0,null,8191.19,8191.1880226000003,0,null,null,null,0,null,5.0599999999999996,5.0599999999999996,0,null,67415.179999999993,null,67415,null,0,null,0,null,0,null,0,null,0,null,0,null,null,null,0,null,null,null,0,null,null,null,0,null,null,null,0,null,"NO",{"$f":"IF(ISERROR(VLOOKUP($A271+8860000,'Growth Data'!$A:$F,3,0)),\"NO\",VLOOKUP($A271+8860000,'Growth Data'!$A:$F,3,0))","v":"NO"},0,null,0,{"$f":"IF(BM271=\"YES\",IF(ISERROR(VLOOKUP($A271+8860000,'Growth Data'!$A:$F,6,0)),0,VLOOKUP($A271+8860000,'Growth Data'!$A:$F,6,0)),0)","v":0},0,null,"NO",{"$f":"IF(ISERROR(VLOOKUP($A271+8860000,'Growth Data'!$A:$F,4,0)),\"NO\",VLOOKUP($A271+8860000,'Growth Data'!$A:$F,4,0))","v":"NO"},0,null,0,{"$f":"IF(BU271=\"YES\",IF(ISERROR(VLOOKUP($A271+8860000,'Growth Data'!$A:$Z,7,0)),0,VLOOKUP($A271+8860000,'Growth Data'!$A:$Z,7,0)),0)","v":0},0,null,"NO",{"$f":"IF(ISERROR(VLOOKUP($A271+8860000,'Growth Data'!$A:$F,5,0)),\"NO\",VLOOKUP($A271+8860000,'Growth Data'!$A:$F,5,0))","v":"NO"},0,null,0,{"$f":"IF(CC271=\"YES\",IF(ISERROR(VLOOKUP($A271+8860000,'Growth Data'!$A:$Z,8,0)),0,VLOOKUP($A271+8860000,'Growth Data'!$A:$Z,8,0)),0)","v":0},0,null,null,null,0]
[3902,"Hythe Bay C of E Primary School",null,"Hythe Bay C of E Primary School","Hythe Bay C of E Primary School",0,null,1515098.56,1515098.5550908349,0,null,0,0,0,null,1515098.56,1515098.5550908349,0,null,10245.4,10245.4044546,0,null,null,null,0,null,0,0,0,null,128504.24,null,128504,null,0,null,0,null,0,null,0,null,0,null,0,null,null,null,0,null,null,null,0,null,null,null,0,null,null,null,0,null,"NO",{"$f":"IF(ISERROR(VLOOKUP($A272+8860000,'Growth Data'!$A:$F,3,0)),\"NO\",VLOOKUP($A272+8860000,'Growth Data'!$A:$F,3,0))","v":"NO"},0,null,0,{"$f":"IF(BM272=\"YES\",IF(ISERROR(VLOOKUP($A272+8860000,'Growth Data'!$A:$F,6,0)),0,VLOOKUP($A272+8860000,'Growth Data'!$A:$F,6,0)),0)","v":0},0,null,"NO",{"$f":"IF(ISERROR(VLOOKUP($A272+8860000,'Growth Data'!$A:$F,4,0)),\"NO\",VLOOKUP($A272+8860000,'Growth Data'!$A:$F,4,0))","v":"NO"},0,null,0,{"$f":"IF(BU272=\"YES\",IF(ISERROR(VLOOKUP($A272+8860000,'Growth Data'!$A:$Z,7,0)),0,VLOOKUP($A272+8860000,'Growth Data'!$A:$Z,7,0)),0)","v":0},0,null,"NO",{"$f":"IF(ISERROR(VLOOKUP($A272+8860000,'Growth Data'!$A:$F,5,0)),\"NO\",VLOOKUP($A272+8860000,'Growth Data'!$A:$F,5,0))","v":"NO"},0,null,0,{"$f":"IF(CC272=\"YES\",IF(ISERROR(VLOOKUP($A272+8860000,'Growth Data'!$A:$Z,8,0)),0,VLOOKUP($A272+8860000,'Growth Data'!$A:$Z,8,0)),0)","v":0},0,null,null,null,0]
[3904,"Castle Hill Community Primary School",null,"Castle Hill Community Primary School","Castle Hill Community Primary School",0,null,1641362.11,1641362.1113175887,0,null,0,0,0,null,1641362.11,1641362.1113175887,0,null,9860.24,9860.2388736000012,0,null,null,null,0,null,5.19,5.19,0,null,33752.639999999999,null,33753,null,2624.74,null,2625,null,0,null,0,null,0,null,0,null,null,null,0,null,null,null,0,null,null,null,0,null,null,null,0,null,"NO",{"$f":"IF(ISERROR(VLOOKUP($A273+8860000,'Growth Data'!$A:$F,3,0)),\"NO\",VLOOKUP($A273+8860000,'Growth Data'!$A:$F,3,0))","v":"NO"},0,null,0,{"$f":"IF(BM273=\"YES\",IF(ISERROR(VLOOKUP($A273+8860000,'Growth Data'!$A:$F,6,0)),0,VLOOKUP($A273+8860000,'Growth Data'!$A:$F,6,0)),0)","v":0},0,null,"NO",{"$f":"IF(ISERROR(VLOOKUP($A273+8860000,'Growth Data'!$A:$F,4,0)),\"NO\",VLOOKUP($A273+8860000,'Growth Data'!$A:$F,4,0))","v":"NO"},0,null,0,{"$f":"IF(BU273=\"YES\",IF(ISERROR(VLOOKUP($A273+8860000,'Growth Data'!$A:$Z,7,0)),0,VLOOKUP($A273+8860000,'Growth Data'!$A:$Z,7,0)),0)","v":0},0,null,"NO",{"$f":"IF(ISERROR(VLOOKUP($A273+8860000,'Growth Data'!$A:$F,5,0)),\"NO\",VLOOKUP($A273+8860000,'Growth Data'!$A:$F,5,0))","v":"NO"},0,null,0,{"$f":"IF(CC273=\"YES\",IF(ISERROR(VLOOKUP($A273+8860000,'Growth Data'!$A:$Z,8,0)),0,VLOOKUP($A273+8860000,'Growth Data'!$A:$Z,8,0)),0)","v":0},0,null,null,null,0]
[3906,"Palace Wood Primary School",null,"Palace Wood Primary School","Palace Wood Primary School",0,null,1445241,1445240.9999999998,0,null,0,0,0,null,1445241,1445240.9999999998,0,null,10707.6,10707.6031518,0,null,null,null,0,null,0,0,0,null,150598.69,null,150599,null,0,null,0,null,0,null,0,null,0,null,0,null,null,null,0,null,null,null,0,null,null,null,0,null,null,null,0,null,"NO",{"$f":"IF(ISERROR(VLOOKUP($A274+8860000,'Growth Data'!$A:$F,3,0)),\"NO\",VLOOKUP($A274+8860000,'Growth Data'!$A:$F,3,0))","v":"NO"},0,null,0,{"$f":"IF(BM274=\"YES\",IF(ISERROR(VLOOKUP($A274+8860000,'Growth Data'!$A:$F,6,0)),0,VLOOKUP($A274+8860000,'Growth Data'!$A:$F,6,0)),0)","v":0},0,null,"NO",{"$f":"IF(ISERROR(VLOOKUP($A274+8860000,'Growth Data'!$A:$F,4,0)),\"NO\",VLOOKUP($A274+8860000,'Growth Data'!$A:$F,4,0))","v":"NO"},0,null,0,{"$f":"IF(BU274=\"YES\",IF(ISERROR(VLOOKUP($A274+8860000,'Growth Data'!$A:$Z,7,0)),0,VLOOKUP($A274+8860000,'Growth Data'!$A:$Z,7,0)),0)","v":0},0,null,"NO",{"$f":"IF(ISERROR(VLOOKUP($A274+8860000,'Growth Data'!$A:$F,5,0)),\"NO\",VLOOKUP($A274+8860000,'Growth Data'!$A:$F,5,0))","v":"NO"},0,null,0,{"$f":"IF(CC274=\"YES\",IF(ISERROR(VLOOKUP($A274+8860000,'Growth Data'!$A:$Z,8,0)),0,VLOOKUP($A274+8860000,'Growth Data'!$A:$Z,8,0)),0)","v":0},0,null,null,null,0]
[3907,"Hextable Primary School",null,"Hextable Primary School","Hextable Primary School",0,null,1579475.11,1579475.1095841317,0,null,0,0,0,null,1579475.11,1579475.1095841317,0,null,11842.51,11842.506375069197,0,null,null,null,0,null,0,0,0,null,66013.929999999993,null,66014,null,0,null,0,null,0,null,0,null,0,null,0,null,null,null,0,null,null,null,0,null,null,null,0,null,null,null,0,null,"NO",{"$f":"IF(ISERROR(VLOOKUP($A275+8860000,'Growth Data'!$A:$F,3,0)),\"NO\",VLOOKUP($A275+8860000,'Growth Data'!$A:$F,3,0))","v":"YES"},1,null,0,{"$f":"IF(BM275=\"YES\",IF(ISERROR(VLOOKUP($A275+8860000,'Growth Data'!$A:$F,6,0)),0,VLOOKUP($A275+8860000,'Growth Data'!$A:$F,6,0)),0)","v":60},-60,null,"NO",{"$f":"IF(ISERROR(VLOOKUP($A275+8860000,'Growth Data'!$A:$F,4,0)),\"NO\",VLOOKUP($A275+8860000,'Growth Data'!$A:$F,4,0))","v":"YES"},1,null,0,{"$f":"IF(BU275=\"YES\",IF(ISERROR(VLOOKUP($A275+8860000,'Growth Data'!$A:$Z,7,0)),0,VLOOKUP($A275+8860000,'Growth Data'!$A:$Z,7,0)),0)","v":90},-90,null,"NO",{"$f":"IF(ISERROR(VLOOKUP($A275+8860000,'Growth Data'!$A:$F,5,0)),\"NO\",VLOOKUP($A275+8860000,'Growth Data'!$A:$F,5,0))","v":"YES"},1,null,0,{"$f":"IF(CC275=\"YES\",IF(ISERROR(VLOOKUP($A275+8860000,'Growth Data'!$A:$Z,8,0)),0,VLOOKUP($A275+8860000,'Growth Data'!$A:$Z,8,0)),0)","v":62},-62,null,null,null,0]
[3909,"Ashford Oaks Community Primary School",null,"Ashford Oaks Community Primary School","Ashford Oaks Community Primary School",0,null,1729150.65,1729150.6528756265,0,null,0,0,0,null,1729150.65,1729150.6528756265,0,null,10733.28,10733.280857199998,0,null,null,null,0,null,5.31,5.31,0,null,126017.52,null,126018,null,0,null,0,null,0,null,0,null,0,null,0,null,null,null,0,null,null,null,0,null,null,null,0,null,null,null,0,null,"NO",{"$f":"IF(ISERROR(VLOOKUP($A276+8860000,'Growth Data'!$A:$F,3,0)),\"NO\",VLOOKUP($A276+8860000,'Growth Data'!$A:$F,3,0))","v":"NO"},0,null,0,{"$f":"IF(BM276=\"YES\",IF(ISERROR(VLOOKUP($A276+8860000,'Growth Data'!$A:$F,6,0)),0,VLOOKUP($A276+8860000,'Growth Data'!$A:$F,6,0)),0)","v":0},0,null,"NO",{"$f":"IF(ISERROR(VLOOKUP($A276+8860000,'Growth Data'!$A:$F,4,0)),\"NO\",VLOOKUP($A276+8860000,'Growth Data'!$A:$F,4,0))","v":"NO"},0,null,0,{"$f":"IF(BU276=\"YES\",IF(ISERROR(VLOOKUP($A276+8860000,'Growth Data'!$A:$Z,7,0)),0,VLOOKUP($A276+8860000,'Growth Data'!$A:$Z,7,0)),0)","v":0},0,null,"NO",{"$f":"IF(ISERROR(VLOOKUP($A276+8860000,'Growth Data'!$A:$F,5,0)),\"NO\",VLOOKUP($A276+8860000,'Growth Data'!$A:$F,5,0))","v":"NO"},0,null,0,{"$f":"IF(CC276=\"YES\",IF(ISERROR(VLOOKUP($A276+8860000,'Growth Data'!$A:$Z,8,0)),0,VLOOKUP($A276+8860000,'Growth Data'!$A:$Z,8,0)),0)","v":0},0,null,null,null,0]
[3910,"Joy Lane Primary School",null,"Joy Lane Primary School","Joy Lane Primary School",0,null,1928720,1928720,0,null,0,0,0,null,1928720,1928720,0,null,14148.42,14148.4156754,0,null,null,null,0,null,0,0,0,null,5580,null,5580,null,5442,null,5442,null,0,null,0,null,0,null,0,null,null,null,0,null,null,null,0,null,null,null,0,null,null,null,0,null,"NO",{"$f":"IF(ISERROR(VLOOKUP($A277+8860000,'Growth Data'!$A:$F,3,0)),\"NO\",VLOOKUP($A277+8860000,'Growth Data'!$A:$F,3,0))","v":"YES"},1,null,0,{"$f":"IF(BM277=\"YES\",IF(ISERROR(VLOOKUP($A277+8860000,'Growth Data'!$A:$F,6,0)),0,VLOOKUP($A277+8860000,'Growth Data'!$A:$F,6,0)),0)","v":60},-60,null,"NO",{"$f":"IF(ISERROR(VLOOKUP($A277+8860000,'Growth Data'!$A:$F,4,0)),\"NO\",VLOOKUP($A277+8860000,'Growth Data'!$A:$F,4,0))","v":"NO"},0,null,0,{"$f":"IF(BU277=\"YES\",IF(ISERROR(VLOOKUP($A277+8860000,'Growth Data'!$A:$Z,7,0)),0,VLOOKUP($A277+8860000,'Growth Data'!$A:$Z,7,0)),0)","v":0},0,null,"NO",{"$f":"IF(ISERROR(VLOOKUP($A277+8860000,'Growth Data'!$A:$F,5,0)),\"NO\",VLOOKUP($A277+8860000,'Growth Data'!$A:$F,5,0))","v":"NO"},0,null,0,{"$f":"IF(CC277=\"YES\",IF(ISERROR(VLOOKUP($A277+8860000,'Growth Data'!$A:$Z,8,0)),0,VLOOKUP($A277+8860000,'Growth Data'!$A:$Z,8,0)),0)","v":0},0,null,null,null,0]
[3911,"Hornbeam Primary School",null,"Hornbeam Primary School","Hornbeam Primary School",0,null,967775.39,967775.38783004961,0,null,0,0,0,null,967775.39,967775.38783004961,0,null,6547.81,6547.8148770000007,0,null,null,null,0,null,0,0,0,null,70043.63,null,70044,null,0,null,0,null,0,null,0,null,0,null,0,null,null,null,0,null,null,null,0,null,null,null,0,null,null,null,0,null,"NO",{"$f":"IF(ISERROR(VLOOKUP($A278+8860000,'Growth Data'!$A:$F,3,0)),\"NO\",VLOOKUP($A278+8860000,'Growth Data'!$A:$F,3,0))","v":"NO"},0,null,0,{"$f":"IF(BM278=\"YES\",IF(ISERROR(VLOOKUP($A278+8860000,'Growth Data'!$A:$F,6,0)),0,VLOOKUP($A278+8860000,'Growth Data'!$A:$F,6,0)),0)","v":0},0,null,"NO",{"$f":"IF(ISERROR(VLOOKUP($A278+8860000,'Growth Data'!$A:$F,4,0)),\"NO\",VLOOKUP($A278+8860000,'Growth Data'!$A:$F,4,0))","v":"NO"},0,null,0,{"$f":"IF(BU278=\"YES\",IF(ISERROR(VLOOKUP($A278+8860000,'Growth Data'!$A:$Z,7,0)),0,VLOOKUP($A278+8860000,'Growth Data'!$A:$Z,7,0)),0)","v":0},0,null,"NO",{"$f":"IF(ISERROR(VLOOKUP($A278+8860000,'Growth Data'!$A:$F,5,0)),\"NO\",VLOOKUP($A278+8860000,'Growth Data'!$A:$F,5,0))","v":"NO"},0,null,0,{"$f":"IF(CC278=\"YES\",IF(ISERROR(VLOOKUP($A278+8860000,'Growth Data'!$A:$Z,8,0)),0,VLOOKUP($A278+8860000,'Growth Data'!$A:$Z,8,0)),0)","v":0},0,null,null,null,0]
[3913,"Rusthall, St Paul's CE VA School",null,"Rusthall, St Paul's CE VA School","Rusthall, St Paul's CE VA School",0,null,813367.42,813367.42357664846,0,null,0,0,0,null,813367.42,813367.42357664846,0,null,5623.42,5623.4174826000008,0,null,null,null,0,null,0,0,0,null,95725.88,null,95726,null,0,null,0,null,0,null,0,null,0,null,0,null,null,null,0,null,null,null,0,null,null,null,0,null,null,null,0,null,"NO",{"$f":"IF(ISERROR(VLOOKUP($A279+8860000,'Growth Data'!$A:$F,3,0)),\"NO\",VLOOKUP($A279+8860000,'Growth Data'!$A:$F,3,0))","v":"NO"},0,null,0,{"$f":"IF(BM279=\"YES\",IF(ISERROR(VLOOKUP($A279+8860000,'Growth Data'!$A:$F,6,0)),0,VLOOKUP($A279+8860000,'Growth Data'!$A:$F,6,0)),0)","v":0},0,null,"NO",{"$f":"IF(ISERROR(VLOOKUP($A279+8860000,'Growth Data'!$A:$F,4,0)),\"NO\",VLOOKUP($A279+8860000,'Growth Data'!$A:$F,4,0))","v":"NO"},0,null,0,{"$f":"IF(BU279=\"YES\",IF(ISERROR(VLOOKUP($A279+8860000,'Growth Data'!$A:$Z,7,0)),0,VLOOKUP($A279+8860000,'Growth Data'!$A:$Z,7,0)),0)","v":0},0,null,"NO",{"$f":"IF(ISERROR(VLOOKUP($A279+8860000,'Growth Data'!$A:$F,5,0)),\"NO\",VLOOKUP($A279+8860000,'Growth Data'!$A:$F,5,0))","v":"NO"},0,null,0,{"$f":"IF(CC279=\"YES\",IF(ISERROR(VLOOKUP($A279+8860000,'Growth Data'!$A:$Z,8,0)),0,VLOOKUP($A279+8860000,'Growth Data'!$A:$Z,8,0)),0)","v":0},0,null,null,null,0]
[3916,"Green Park Community Primary School",null,"Green Park Community Primary School","Green Park Community Primary School",0,null,1411253.24,1411253.2431387079,0,null,5535.95,5535.9452785300091,0,null,1416789.19,1416789.188417238,0,null,9064.23,9064.2300061999995,0,null,null,null,0,null,0,0,0,null,80963.990000000005,null,80964,null,0,null,0,null,0,null,0,null,0,null,0,null,null,null,0,null,null,null,0,null,null,null,0,null,null,null,0,null,"NO",{"$f":"IF(ISERROR(VLOOKUP($A280+8860000,'Growth Data'!$A:$F,3,0)),\"NO\",VLOOKUP($A280+8860000,'Growth Data'!$A:$F,3,0))","v":"YES"},1,null,0,{"$f":"IF(BM280=\"YES\",IF(ISERROR(VLOOKUP($A280+8860000,'Growth Data'!$A:$F,6,0)),0,VLOOKUP($A280+8860000,'Growth Data'!$A:$F,6,0)),0)","v":45},-45,null,"NO",{"$f":"IF(ISERROR(VLOOKUP($A280+8860000,'Growth Data'!$A:$F,4,0)),\"NO\",VLOOKUP($A280+8860000,'Growth Data'!$A:$F,4,0))","v":"YES"},1,null,0,{"$f":"IF(BU280=\"YES\",IF(ISERROR(VLOOKUP($A280+8860000,'Growth Data'!$A:$Z,7,0)),0,VLOOKUP($A280+8860000,'Growth Data'!$A:$Z,7,0)),0)","v":60},-60,null,"NO",{"$f":"IF(ISERROR(VLOOKUP($A280+8860000,'Growth Data'!$A:$F,5,0)),\"NO\",VLOOKUP($A280+8860000,'Growth Data'!$A:$F,5,0))","v":"YES"},1,null,0,{"$f":"IF(CC280=\"YES\",IF(ISERROR(VLOOKUP($A280+8860000,'Growth Data'!$A:$Z,8,0)),0,VLOOKUP($A280+8860000,'Growth Data'!$A:$Z,8,0)),0)","v":49},-49,null,null,null,0]
[3917,"Garlinge Primary School",null,"Garlinge Primary School","Garlinge Primary School",0,null,2702156.09,2702156.0878491998,0,null,0,0,0,null,2702156.09,2702156.0878491998,0,null,18744.72,18744.724941999997,0,null,null,null,0,null,5.13,5.13,0,null,63340.44,null,63340,null,0,null,0,null,0,null,0,null,0,null,0,null,null,null,0,null,null,null,0,null,null,null,0,null,null,null,0,null,"NO",{"$f":"IF(ISERROR(VLOOKUP($A281+8860000,'Growth Data'!$A:$F,3,0)),\"NO\",VLOOKUP($A281+8860000,'Growth Data'!$A:$F,3,0))","v":"YES"},1,null,0,{"$f":"IF(BM281=\"YES\",IF(ISERROR(VLOOKUP($A281+8860000,'Growth Data'!$A:$F,6,0)),0,VLOOKUP($A281+8860000,'Growth Data'!$A:$F,6,0)),0)","v":93},-93,null,"NO",{"$f":"IF(ISERROR(VLOOKUP($A281+8860000,'Growth Data'!$A:$F,4,0)),\"NO\",VLOOKUP($A281+8860000,'Growth Data'!$A:$F,4,0))","v":"NO"},0,null,0,{"$f":"IF(BU281=\"YES\",IF(ISERROR(VLOOKUP($A281+8860000,'Growth Data'!$A:$Z,7,0)),0,VLOOKUP($A281+8860000,'Growth Data'!$A:$Z,7,0)),0)","v":0},0,null,"NO",{"$f":"IF(ISERROR(VLOOKUP($A281+8860000,'Growth Data'!$A:$F,5,0)),\"NO\",VLOOKUP($A281+8860000,'Growth Data'!$A:$F,5,0))","v":"NO"},0,null,0,{"$f":"IF(CC281=\"YES\",IF(ISERROR(VLOOKUP($A281+8860000,'Growth Data'!$A:$Z,8,0)),0,VLOOKUP($A281+8860000,'Growth Data'!$A:$Z,8,0)),0)","v":0},0,null,null,null,0]
[3918,"Newington Community Primary School and Nursery",null,"Newington Community Primary School and Nursery","Newington Community Primary School and Nursery",0,null,2359832.75,2359832.7513161292,0,null,144637.79,144637.78820624063,0,null,2504470.54,2504470.5395223699,0,null,16536.439999999999,16536.442277599999,0,null,null,null,0,null,5.21,5.21,0,null,84125.75,null,84126,null,0,null,0,null,0,null,0,null,0,null,0,null,null,null,0,null,null,null,0,null,null,null,0,null,null,null,0,null,"NO",{"$f":"IF(ISERROR(VLOOKUP($A282+8860000,'Growth Data'!$A:$F,3,0)),\"NO\",VLOOKUP($A282+8860000,'Growth Data'!$A:$F,3,0))","v":"NO"},0,null,0,{"$f":"IF(BM282=\"YES\",IF(ISERROR(VLOOKUP($A282+8860000,'Growth Data'!$A:$F,6,0)),0,VLOOKUP($A282+8860000,'Growth Data'!$A:$F,6,0)),0)","v":0},0,null,"NO",{"$f":"IF(ISERROR(VLOOKUP($A282+8860000,'Growth Data'!$A:$F,4,0)),\"NO\",VLOOKUP($A282+8860000,'Growth Data'!$A:$F,4,0))","v":"NO"},0,null,0,{"$f":"IF(BU282=\"YES\",IF(ISERROR(VLOOKUP($A282+8860000,'Growth Data'!$A:$Z,7,0)),0,VLOOKUP($A282+8860000,'Growth Data'!$A:$Z,7,0)),0)","v":0},0,null,"NO",{"$f":"IF(ISERROR(VLOOKUP($A282+8860000,'Growth Data'!$A:$F,5,0)),\"NO\",VLOOKUP($A282+8860000,'Growth Data'!$A:$F,5,0))","v":"NO"},0,null,0,{"$f":"IF(CC282=\"YES\",IF(ISERROR(VLOOKUP($A282+8860000,'Growth Data'!$A:$Z,8,0)),0,VLOOKUP($A282+8860000,'Growth Data'!$A:$Z,8,0)),0)","v":0},0,null,null,null,0]
[3919,"Dartford Bridge Community Primary School, The",null,"Dartford Bridge Community Primary School, The","Dartford Bridge Community Primary School, The",0,null,1393411.72,1393411.7155291608,0,null,50363.01,50363.007846270455,0,null,1443774.72,1443774.7233754313,0,null,9633.68,9633.6793433147195,0,null,null,null,0,null,4.9000000000000004,4.9000000000000004,0,null,5580,null,5580,null,5442,null,5442,null,0,null,0,null,0,null,0,null,null,null,0,null,null,null,0,null,null,null,0,null,null,null,0,null,"NO",{"$f":"IF(ISERROR(VLOOKUP($A283+8860000,'Growth Data'!$A:$F,3,0)),\"NO\",VLOOKUP($A283+8860000,'Growth Data'!$A:$F,3,0))","v":"YES"},1,null,0,{"$f":"IF(BM283=\"YES\",IF(ISERROR(VLOOKUP($A283+8860000,'Growth Data'!$A:$F,6,0)),0,VLOOKUP($A283+8860000,'Growth Data'!$A:$F,6,0)),0)","v":33},-33,null,"NO",{"$f":"IF(ISERROR(VLOOKUP($A283+8860000,'Growth Data'!$A:$F,4,0)),\"NO\",VLOOKUP($A283+8860000,'Growth Data'!$A:$F,4,0))","v":"NO"},0,null,0,{"$f":"IF(BU283=\"YES\",IF(ISERROR(VLOOKUP($A283+8860000,'Growth Data'!$A:$Z,7,0)),0,VLOOKUP($A283+8860000,'Growth Data'!$A:$Z,7,0)),0)","v":0},0,null,"NO",{"$f":"IF(ISERROR(VLOOKUP($A283+8860000,'Growth Data'!$A:$F,5,0)),\"NO\",VLOOKUP($A283+8860000,'Growth Data'!$A:$F,5,0))","v":"NO"},0,null,0,{"$f":"IF(CC283=\"YES\",IF(ISERROR(VLOOKUP($A283+8860000,'Growth Data'!$A:$Z,8,0)),0,VLOOKUP($A283+8860000,'Growth Data'!$A:$Z,8,0)),0)","v":0},0,null,null,null,0]
[3920,"Goat Lees Primary School",null,"Goat Lees Primary School","Goat Lees Primary School",0,null,823754.42,823754.41796337871,0,null,0,0,0,null,823754.42,823754.41796337871,0,null,5315.29,5315.2850177999999,0,null,null,null,0,null,0,0,0,null,108344.42,null,108344,null,0,null,0,null,0,null,0,null,0,null,0,null,null,null,0,null,null,null,0,null,null,null,0,null,null,null,0,null,"NO",{"$f":"IF(ISERROR(VLOOKUP($A284+8860000,'Growth Data'!$A:$F,3,0)),\"NO\",VLOOKUP($A284+8860000,'Growth Data'!$A:$F,3,0))","v":"NO"},0,null,0,{"$f":"IF(BM284=\"YES\",IF(ISERROR(VLOOKUP($A284+8860000,'Growth Data'!$A:$F,6,0)),0,VLOOKUP($A284+8860000,'Growth Data'!$A:$F,6,0)),0)","v":0},0,null,"NO",{"$f":"IF(ISERROR(VLOOKUP($A284+8860000,'Growth Data'!$A:$F,4,0)),\"NO\",VLOOKUP($A284+8860000,'Growth Data'!$A:$F,4,0))","v":"NO"},0,null,0,{"$f":"IF(BU284=\"YES\",IF(ISERROR(VLOOKUP($A284+8860000,'Growth Data'!$A:$Z,7,0)),0,VLOOKUP($A284+8860000,'Growth Data'!$A:$Z,7,0)),0)","v":0},0,null,"NO",{"$f":"IF(ISERROR(VLOOKUP($A284+8860000,'Growth Data'!$A:$F,5,0)),\"NO\",VLOOKUP($A284+8860000,'Growth Data'!$A:$F,5,0))","v":"NO"},0,null,0,{"$f":"IF(CC284=\"YES\",IF(ISERROR(VLOOKUP($A284+8860000,'Growth Data'!$A:$Z,8,0)),0,VLOOKUP($A284+8860000,'Growth Data'!$A:$Z,8,0)),0)","v":0},0,null,null,null,0]
[5200,"Snodland CEP School",null,"Snodland CEP School","Snodland CEP School",0,null,1346019.58,1346019.5759345023,0,null,0,0,0,null,1346019.58,1346019.5759345023,0,null,9706.17,9706.1726411999989,0,null,null,null,0,null,0,0,0,null,98414.28,null,98414,null,0,null,0,null,0,null,0,null,0,null,0,null,null,null,0,null,null,null,0,null,null,null,0,null,null,null,0,null,"NO",{"$f":"IF(ISERROR(VLOOKUP($A285+8860000,'Growth Data'!$A:$F,3,0)),\"NO\",VLOOKUP($A285+8860000,'Growth Data'!$A:$F,3,0))","v":"NO"},0,null,0,{"$f":"IF(BM285=\"YES\",IF(ISERROR(VLOOKUP($A285+8860000,'Growth Data'!$A:$F,6,0)),0,VLOOKUP($A285+8860000,'Growth Data'!$A:$F,6,0)),0)","v":0},0,null,"NO",{"$f":"IF(ISERROR(VLOOKUP($A285+8860000,'Growth Data'!$A:$F,4,0)),\"NO\",VLOOKUP($A285+8860000,'Growth Data'!$A:$F,4,0))","v":"NO"},0,null,0,{"$f":"IF(BU285=\"YES\",IF(ISERROR(VLOOKUP($A285+8860000,'Growth Data'!$A:$Z,7,0)),0,VLOOKUP($A285+8860000,'Growth Data'!$A:$Z,7,0)),0)","v":0},0,null,"NO",{"$f":"IF(ISERROR(VLOOKUP($A285+8860000,'Growth Data'!$A:$F,5,0)),\"NO\",VLOOKUP($A285+8860000,'Growth Data'!$A:$F,5,0))","v":"NO"},0,null,0,{"$f":"IF(CC285=\"YES\",IF(ISERROR(VLOOKUP($A285+8860000,'Growth Data'!$A:$Z,8,0)),0,VLOOKUP($A285+8860000,'Growth Data'!$A:$Z,8,0)),0)","v":0},0,null,null,null,0]
[5201,"Borough Green Primary School",null,"Borough Green Primary School","Borough Green Primary School",0,null,1008819.54,1008819.5390837023,0,null,0,0,0,null,1008819.54,1008819.5390837023,0,null,7472.21,7472.2122714000006,0,null,null,null,0,null,0,0,0,null,158512.09,null,158512,null,0,null,0,null,0,null,0,null,0,null,0,null,null,null,0,null,null,null,0,null,null,null,0,null,null,null,0,null,"NO",{"$f":"IF(ISERROR(VLOOKUP($A286+8860000,'Growth Data'!$A:$F,3,0)),\"NO\",VLOOKUP($A286+8860000,'Growth Data'!$A:$F,3,0))","v":"NO"},0,null,0,{"$f":"IF(BM286=\"YES\",IF(ISERROR(VLOOKUP($A286+8860000,'Growth Data'!$A:$F,6,0)),0,VLOOKUP($A286+8860000,'Growth Data'!$A:$F,6,0)),0)","v":0},0,null,"NO",{"$f":"IF(ISERROR(VLOOKUP($A286+8860000,'Growth Data'!$A:$F,4,0)),\"NO\",VLOOKUP($A286+8860000,'Growth Data'!$A:$F,4,0))","v":"NO"},0,null,0,{"$f":"IF(BU286=\"YES\",IF(ISERROR(VLOOKUP($A286+8860000,'Growth Data'!$A:$Z,7,0)),0,VLOOKUP($A286+8860000,'Growth Data'!$A:$Z,7,0)),0)","v":0},0,null,"NO",{"$f":"IF(ISERROR(VLOOKUP($A286+8860000,'Growth Data'!$A:$F,5,0)),\"NO\",VLOOKUP($A286+8860000,'Growth Data'!$A:$F,5,0))","v":"NO"},0,null,0,{"$f":"IF(CC286=\"YES\",IF(ISERROR(VLOOKUP($A286+8860000,'Growth Data'!$A:$Z,8,0)),0,VLOOKUP($A286+8860000,'Growth Data'!$A:$Z,8,0)),0)","v":0},0,null,null,null,0]
[5202,"Holy Trinity CEP School",null,"Holy Trinity CEP School","Holy Trinity CEP School",0,null,1576306.54,1576306.5402654912,0,null,0,0,0,null,1576306.54,1576306.5402654912,0,null,10990.06,10990.057911200001,0,null,null,null,0,null,5.14,5.14,0,null,180573.61,null,180574,null,0,null,0,null,0,null,0,null,0,null,0,null,null,null,0,null,null,null,0,null,null,null,0,null,null,null,0,null,"NO",{"$f":"IF(ISERROR(VLOOKUP($A287+8860000,'Growth Data'!$A:$F,3,0)),\"NO\",VLOOKUP($A287+8860000,'Growth Data'!$A:$F,3,0))","v":"NO"},0,null,0,{"$f":"IF(BM287=\"YES\",IF(ISERROR(VLOOKUP($A287+8860000,'Growth Data'!$A:$F,6,0)),0,VLOOKUP($A287+8860000,'Growth Data'!$A:$F,6,0)),0)","v":0},0,null,"NO",{"$f":"IF(ISERROR(VLOOKUP($A287+8860000,'Growth Data'!$A:$F,4,0)),\"NO\",VLOOKUP($A287+8860000,'Growth Data'!$A:$F,4,0))","v":"NO"},0,null,0,{"$f":"IF(BU287=\"YES\",IF(ISERROR(VLOOKUP($A287+8860000,'Growth Data'!$A:$Z,7,0)),0,VLOOKUP($A287+8860000,'Growth Data'!$A:$Z,7,0)),0)","v":0},0,null,"NO",{"$f":"IF(ISERROR(VLOOKUP($A287+8860000,'Growth Data'!$A:$F,5,0)),\"NO\",VLOOKUP($A287+8860000,'Growth Data'!$A:$F,5,0))","v":"NO"},0,null,0,{"$f":"IF(CC287=\"YES\",IF(ISERROR(VLOOKUP($A287+8860000,'Growth Data'!$A:$Z,8,0)),0,VLOOKUP($A287+8860000,'Growth Data'!$A:$Z,8,0)),0)","v":0},0,null,null,null,0]
[5203,"Roseacre Junior School",null,"Roseacre Junior School","Roseacre Junior School",0,null,1437063,1437063,0,null,0,0,0,null,1437063,1437063,0,null,10810.31,10810.3139734,0,null,null,null,0,null,0,0,0,null,301814.15999999997,null,301814,null,0,null,0,null,0,null,0,null,0,null,0,null,null,null,0,null,null,null,0,null,null,null,0,null,null,null,0,null,"NO",{"$f":"IF(ISERROR(VLOOKUP($A288+8860000,'Growth Data'!$A:$F,3,0)),\"NO\",VLOOKUP($A288+8860000,'Growth Data'!$A:$F,3,0))","v":"NO"},0,null,0,{"$f":"IF(BM288=\"YES\",IF(ISERROR(VLOOKUP($A288+8860000,'Growth Data'!$A:$F,6,0)),0,VLOOKUP($A288+8860000,'Growth Data'!$A:$F,6,0)),0)","v":0},0,null,"NO",{"$f":"IF(ISERROR(VLOOKUP($A288+8860000,'Growth Data'!$A:$F,4,0)),\"NO\",VLOOKUP($A288+8860000,'Growth Data'!$A:$F,4,0))","v":"NO"},0,null,0,{"$f":"IF(BU288=\"YES\",IF(ISERROR(VLOOKUP($A288+8860000,'Growth Data'!$A:$Z,7,0)),0,VLOOKUP($A288+8860000,'Growth Data'!$A:$Z,7,0)),0)","v":0},0,null,"NO",{"$f":"IF(ISERROR(VLOOKUP($A288+8860000,'Growth Data'!$A:$F,5,0)),\"NO\",VLOOKUP($A288+8860000,'Growth Data'!$A:$F,5,0))","v":"NO"},0,null,0,{"$f":"IF(CC288=\"YES\",IF(ISERROR(VLOOKUP($A288+8860000,'Growth Data'!$A:$Z,8,0)),0,VLOOKUP($A288+8860000,'Growth Data'!$A:$Z,8,0)),0)","v":0},0,null,null,null,0]
[5206,"Herne Bay Junior School",null,"Herne Bay Junior School","Herne Bay Junior School",0,null,1725613.75,1725613.7468964278,0,null,0,0,0,null,1725613.75,1725613.7468964278,0,null,12428.01,12428.009413600001,0,null,null,null,0,null,0,0,0,null,96157.3,null,96157,null,0,null,0,null,0,null,0,null,0,null,0,null,null,null,0,null,null,null,0,null,null,null,0,null,null,null,0,null,"NO",{"$f":"IF(ISERROR(VLOOKUP($A289+8860000,'Growth Data'!$A:$F,3,0)),\"NO\",VLOOKUP($A289+8860000,'Growth Data'!$A:$F,3,0))","v":"NO"},0,null,0,{"$f":"IF(BM289=\"YES\",IF(ISERROR(VLOOKUP($A289+8860000,'Growth Data'!$A:$F,6,0)),0,VLOOKUP($A289+8860000,'Growth Data'!$A:$F,6,0)),0)","v":0},0,null,"NO",{"$f":"IF(ISERROR(VLOOKUP($A289+8860000,'Growth Data'!$A:$F,4,0)),\"NO\",VLOOKUP($A289+8860000,'Growth Data'!$A:$F,4,0))","v":"NO"},0,null,0,{"$f":"IF(BU289=\"YES\",IF(ISERROR(VLOOKUP($A289+8860000,'Growth Data'!$A:$Z,7,0)),0,VLOOKUP($A289+8860000,'Growth Data'!$A:$Z,7,0)),0)","v":0},0,null,"NO",{"$f":"IF(ISERROR(VLOOKUP($A289+8860000,'Growth Data'!$A:$F,5,0)),\"NO\",VLOOKUP($A289+8860000,'Growth Data'!$A:$F,5,0))","v":"NO"},0,null,0,{"$f":"IF(CC289=\"YES\",IF(ISERROR(VLOOKUP($A289+8860000,'Growth Data'!$A:$Z,8,0)),0,VLOOKUP($A289+8860000,'Growth Data'!$A:$Z,8,0)),0)","v":0},0,null,null,null,0]
[5207,"St Francis' Catholic Primary School, Maidstone",null,"St Francis' Catholic Primary School, Maidstone","St Francis' Catholic Primary School, Maidstone",0,null,1417609.42,1417609.4231880412,0,null,0,0,0,null,1417609.42,1417609.4231880412,0,null,10502.18,10502.181508599999,0,null,null,null,0,null,0,0,0,null,138202.25,null,138202,null,0,null,0,null,0,null,0,null,0,null,0,null,null,null,0,null,null,null,0,null,null,null,0,null,null,null,0,null,"NO",{"$f":"IF(ISERROR(VLOOKUP($A290+8860000,'Growth Data'!$A:$F,3,0)),\"NO\",VLOOKUP($A290+8860000,'Growth Data'!$A:$F,3,0))","v":"NO"},0,null,0,{"$f":"IF(BM290=\"YES\",IF(ISERROR(VLOOKUP($A290+8860000,'Growth Data'!$A:$F,6,0)),0,VLOOKUP($A290+8860000,'Growth Data'!$A:$F,6,0)),0)","v":0},0,null,"YES",{"$f":"IF(ISERROR(VLOOKUP($A290+8860000,'Growth Data'!$A:$F,4,0)),\"NO\",VLOOKUP($A290+8860000,'Growth Data'!$A:$F,4,0))","v":"NO"},1,null,60,{"$f":"IF(BU290=\"YES\",IF(ISERROR(VLOOKUP($A290+8860000,'Growth Data'!$A:$Z,7,0)),0,VLOOKUP($A290+8860000,'Growth Data'!$A:$Z,7,0)),0)","v":0},60,null,"YES",{"$f":"IF(ISERROR(VLOOKUP($A290+8860000,'Growth Data'!$A:$F,5,0)),\"NO\",VLOOKUP($A290+8860000,'Growth Data'!$A:$F,5,0))","v":"NO"},1,null,60,{"$f":"IF(CC290=\"YES\",IF(ISERROR(VLOOKUP($A290+8860000,'Growth Data'!$A:$Z,8,0)),0,VLOOKUP($A290+8860000,'Growth Data'!$A:$Z,8,0)),0)","v":0},60,null,null,null,0]
[5208,"Ditton CEJ School",null,"Ditton CEJ School","Ditton CEJ School",0,null,902437.95,902437.94923167746,0,null,0,0,0,null,902437.95,902437.94923167746,0,null,6368.07,6368.0709391999999,0,null,null,null,0,null,0,0,0,null,278035.34000000003,null,278035,null,0,null,0,null,0,null,0,null,0,null,0,null,null,null,0,null,null,null,0,null,null,null,0,null,null,null,0,null,"NO",{"$f":"IF(ISERROR(VLOOKUP($A291+8860000,'Growth Data'!$A:$F,3,0)),\"NO\",VLOOKUP($A291+8860000,'Growth Data'!$A:$F,3,0))","v":"NO"},0,null,0,{"$f":"IF(BM291=\"YES\",IF(ISERROR(VLOOKUP($A291+8860000,'Growth Data'!$A:$F,6,0)),0,VLOOKUP($A291+8860000,'Growth Data'!$A:$F,6,0)),0)","v":0},0,null,"NO",{"$f":"IF(ISERROR(VLOOKUP($A291+8860000,'Growth Data'!$A:$F,4,0)),\"NO\",VLOOKUP($A291+8860000,'Growth Data'!$A:$F,4,0))","v":"NO"},0,null,0,{"$f":"IF(BU291=\"YES\",IF(ISERROR(VLOOKUP($A291+8860000,'Growth Data'!$A:$Z,7,0)),0,VLOOKUP($A291+8860000,'Growth Data'!$A:$Z,7,0)),0)","v":0},0,null,"NO",{"$f":"IF(ISERROR(VLOOKUP($A291+8860000,'Growth Data'!$A:$F,5,0)),\"NO\",VLOOKUP($A291+8860000,'Growth Data'!$A:$F,5,0))","v":"NO"},0,null,0,{"$f":"IF(CC291=\"YES\",IF(ISERROR(VLOOKUP($A291+8860000,'Growth Data'!$A:$Z,8,0)),0,VLOOKUP($A291+8860000,'Growth Data'!$A:$Z,8,0)),0)","v":0},0,null,null,null,0]
[5212,"Ditton Infant School",null,"Ditton Infant School","Ditton Infant School",0,null,665904.99,665904.99006629584,0,null,0,0,0,null,665904.99,665904.99006629584,0,null,4493.6000000000004,4493.5984449999996,0,null,null,null,0,null,0,0,0,null,173990.95,null,173991,null,0,null,0,null,0,null,0,null,0,null,0,null,null,null,0,null,null,null,0,null,null,null,0,null,null,null,0,null,"YES",{"$f":"IF(ISERROR(VLOOKUP($A292+8860000,'Growth Data'!$A:$F,3,0)),\"NO\",VLOOKUP($A292+8860000,'Growth Data'!$A:$F,3,0))","v":"NO"},1,null,61,{"$f":"IF(BM292=\"YES\",IF(ISERROR(VLOOKUP($A292+8860000,'Growth Data'!$A:$F,6,0)),0,VLOOKUP($A292+8860000,'Growth Data'!$A:$F,6,0)),0)","v":0},61,null,"YES",{"$f":"IF(ISERROR(VLOOKUP($A292+8860000,'Growth Data'!$A:$F,4,0)),\"NO\",VLOOKUP($A292+8860000,'Growth Data'!$A:$F,4,0))","v":"NO"},1,null,60,{"$f":"IF(BU292=\"YES\",IF(ISERROR(VLOOKUP($A292+8860000,'Growth Data'!$A:$Z,7,0)),0,VLOOKUP($A292+8860000,'Growth Data'!$A:$Z,7,0)),0)","v":0},60,null,"YES",{"$f":"IF(ISERROR(VLOOKUP($A292+8860000,'Growth Data'!$A:$F,5,0)),\"NO\",VLOOKUP($A292+8860000,'Growth Data'!$A:$F,5,0))","v":"NO"},1,null,61,{"$f":"IF(CC292=\"YES\",IF(ISERROR(VLOOKUP($A292+8860000,'Growth Data'!$A:$Z,8,0)),0,VLOOKUP($A292+8860000,'Growth Data'!$A:$Z,8,0)),0)","v":0},61,null,null,null,0]
[5213,"Holy Trinity CEP School, Dartford",null,"Holy Trinity CEP School, Dartford","Holy Trinity CEP School, Dartford",0,null,1520700.59,1520700.5935493261,0,null,22261.51,22261.508873457322,0,null,1542962.1,1542962.1024227834,0,null,11230.42,11230.421775908319,0,null,null,null,0,null,0,0,0,null,103309.94,null,103310,null,0,null,0,null,0,null,0,null,0,null,0,null,null,null,0,null,null,null,0,null,null,null,0,null,null,null,0,null,"NO",{"$f":"IF(ISERROR(VLOOKUP($A293+8860000,'Growth Data'!$A:$F,3,0)),\"NO\",VLOOKUP($A293+8860000,'Growth Data'!$A:$F,3,0))","v":"NO"},0,null,0,{"$f":"IF(BM293=\"YES\",IF(ISERROR(VLOOKUP($A293+8860000,'Growth Data'!$A:$F,6,0)),0,VLOOKUP($A293+8860000,'Growth Data'!$A:$F,6,0)),0)","v":0},0,null,"NO",{"$f":"IF(ISERROR(VLOOKUP($A293+8860000,'Growth Data'!$A:$F,4,0)),\"NO\",VLOOKUP($A293+8860000,'Growth Data'!$A:$F,4,0))","v":"NO"},0,null,0,{"$f":"IF(BU293=\"YES\",IF(ISERROR(VLOOKUP($A293+8860000,'Growth Data'!$A:$Z,7,0)),0,VLOOKUP($A293+8860000,'Growth Data'!$A:$Z,7,0)),0)","v":0},0,null,"NO",{"$f":"IF(ISERROR(VLOOKUP($A293+8860000,'Growth Data'!$A:$F,5,0)),\"NO\",VLOOKUP($A293+8860000,'Growth Data'!$A:$F,5,0))","v":"NO"},0,null,0,{"$f":"IF(CC293=\"YES\",IF(ISERROR(VLOOKUP($A293+8860000,'Growth Data'!$A:$Z,8,0)),0,VLOOKUP($A293+8860000,'Growth Data'!$A:$Z,8,0)),0)","v":0},0,null,null,null,0]
[5214,"St Bartholomew's Catholic Primary School",null,"St Bartholomew's Catholic Primary School","St Bartholomew's Catholic Primary School",0,null,1340567.29,1340567.2938495991,0,null,0,0,0,null,1340567.29,1340567.2938495991,0,null,9314.33,9314.3308567960012,0,null,null,null,0,null,0,0,0,null,64468.82,null,64469,null,0,null,0,null,0,null,0,null,0,null,0,null,null,null,0,null,null,null,0,null,null,null,0,null,null,null,0,null,"NO",{"$f":"IF(ISERROR(VLOOKUP($A294+8860000,'Growth Data'!$A:$F,3,0)),\"NO\",VLOOKUP($A294+8860000,'Growth Data'!$A:$F,3,0))","v":"NO"},0,null,0,{"$f":"IF(BM294=\"YES\",IF(ISERROR(VLOOKUP($A294+8860000,'Growth Data'!$A:$F,6,0)),0,VLOOKUP($A294+8860000,'Growth Data'!$A:$F,6,0)),0)","v":0},0,null,"NO",{"$f":"IF(ISERROR(VLOOKUP($A294+8860000,'Growth Data'!$A:$F,4,0)),\"NO\",VLOOKUP($A294+8860000,'Growth Data'!$A:$F,4,0))","v":"NO"},0,null,0,{"$f":"IF(BU294=\"YES\",IF(ISERROR(VLOOKUP($A294+8860000,'Growth Data'!$A:$Z,7,0)),0,VLOOKUP($A294+8860000,'Growth Data'!$A:$Z,7,0)),0)","v":0},0,null,"NO",{"$f":"IF(ISERROR(VLOOKUP($A294+8860000,'Growth Data'!$A:$F,5,0)),\"NO\",VLOOKUP($A294+8860000,'Growth Data'!$A:$F,5,0))","v":"NO"},0,null,0,{"$f":"IF(CC294=\"YES\",IF(ISERROR(VLOOKUP($A294+8860000,'Growth Data'!$A:$Z,8,0)),0,VLOOKUP($A294+8860000,'Growth Data'!$A:$Z,8,0)),0)","v":0},0,null,null,null,0]
[5218,"Greatstone Primary School",null,"Greatstone Primary School","Greatstone Primary School",0,null,1247170.8899999999,1247170.8870423958,0,null,9284.5499999999993,9284.5473478336353,0,null,1256455.43,1256455.4343902294,0,null,9192.6200000000008,9192.6185332000023,0,null,null,null,0,null,4.9000000000000004,4.9000000000000004,0,null,224148.72,null,224149,null,0,null,0,null,0,null,0,null,0,null,0,null,null,null,0,null,null,null,0,null,null,null,0,null,null,null,0,null,"NO",{"$f":"IF(ISERROR(VLOOKUP($A295+8860000,'Growth Data'!$A:$F,3,0)),\"NO\",VLOOKUP($A295+8860000,'Growth Data'!$A:$F,3,0))","v":"NO"},0,null,0,{"$f":"IF(BM295=\"YES\",IF(ISERROR(VLOOKUP($A295+8860000,'Growth Data'!$A:$F,6,0)),0,VLOOKUP($A295+8860000,'Growth Data'!$A:$F,6,0)),0)","v":0},0,null,"NO",{"$f":"IF(ISERROR(VLOOKUP($A295+8860000,'Growth Data'!$A:$F,4,0)),\"NO\",VLOOKUP($A295+8860000,'Growth Data'!$A:$F,4,0))","v":"NO"},0,null,0,{"$f":"IF(BU295=\"YES\",IF(ISERROR(VLOOKUP($A295+8860000,'Growth Data'!$A:$Z,7,0)),0,VLOOKUP($A295+8860000,'Growth Data'!$A:$Z,7,0)),0)","v":0},0,null,"YES",{"$f":"IF(ISERROR(VLOOKUP($A295+8860000,'Growth Data'!$A:$F,5,0)),\"NO\",VLOOKUP($A295+8860000,'Growth Data'!$A:$F,5,0))","v":"NO"},1,null,45,{"$f":"IF(CC295=\"YES\",IF(ISERROR(VLOOKUP($A295+8860000,'Growth Data'!$A:$Z,8,0)),0,VLOOKUP($A295+8860000,'Growth Data'!$A:$Z,8,0)),0)","v":0},45,null,null,null,0]
[5221,"Wincheap Foundation Primary School",null,"Wincheap Foundation Primary School","Wincheap Foundation Primary School",0,null,1608600.56,1608600.5590336742,0,null,0,0,0,null,1608600.56,1608600.5590336742,0,null,11375.22,11375.223492200001,0,null,null,null,0,null,0,0,0,null,381224.93,null,381225,null,0,null,0,null,0,null,0,null,0,null,0,null,null,null,0,null,null,null,0,null,null,null,0,null,null,null,0,null,"YES",{"$f":"IF(ISERROR(VLOOKUP($A296+8860000,'Growth Data'!$A:$F,3,0)),\"NO\",VLOOKUP($A296+8860000,'Growth Data'!$A:$F,3,0))","v":"NO"},1,null,60,{"$f":"IF(BM296=\"YES\",IF(ISERROR(VLOOKUP($A296+8860000,'Growth Data'!$A:$F,6,0)),0,VLOOKUP($A296+8860000,'Growth Data'!$A:$F,6,0)),0)","v":0},60,null,"YES",{"$f":"IF(ISERROR(VLOOKUP($A296+8860000,'Growth Data'!$A:$F,4,0)),\"NO\",VLOOKUP($A296+8860000,'Growth Data'!$A:$F,4,0))","v":"NO"},1,null,91,{"$f":"IF(BU296=\"YES\",IF(ISERROR(VLOOKUP($A296+8860000,'Growth Data'!$A:$Z,7,0)),0,VLOOKUP($A296+8860000,'Growth Data'!$A:$Z,7,0)),0)","v":0},91,null,"YES",{"$f":"IF(ISERROR(VLOOKUP($A296+8860000,'Growth Data'!$A:$F,5,0)),\"NO\",VLOOKUP($A296+8860000,'Growth Data'!$A:$F,5,0))","v":"NO"},1,null,90,{"$f":"IF(CC296=\"YES\",IF(ISERROR(VLOOKUP($A296+8860000,'Growth Data'!$A:$Z,8,0)),0,VLOOKUP($A296+8860000,'Growth Data'!$A:$Z,8,0)),0)","v":0},90,null,null,null,0]
[5223,"Brookfield Junior School, Larkfield",null,"Brookfield Junior School, Larkfield","Brookfield Junior School, Larkfield",0,null,908011.92,908011.9249267315,0,null,0,0,0,null,908011.92,908011.9249267315,0,null,6034.26,6034.2607689999995,0,null,null,null,0,null,0,0,0,null,352413.75,null,352414,null,0,null,0,null,0,null,0,null,0,null,0,null,null,null,0,null,null,null,0,null,null,null,0,null,null,null,0,null,"YES",{"$f":"IF(ISERROR(VLOOKUP($A297+8860000,'Growth Data'!$A:$F,3,0)),\"NO\",VLOOKUP($A297+8860000,'Growth Data'!$A:$F,3,0))","v":"NO"},1,null,72,{"$f":"IF(BM297=\"YES\",IF(ISERROR(VLOOKUP($A297+8860000,'Growth Data'!$A:$F,6,0)),0,VLOOKUP($A297+8860000,'Growth Data'!$A:$F,6,0)),0)","v":0},72,null,"NO",{"$f":"IF(ISERROR(VLOOKUP($A297+8860000,'Growth Data'!$A:$F,4,0)),\"NO\",VLOOKUP($A297+8860000,'Growth Data'!$A:$F,4,0))","v":"NO"},0,null,0,{"$f":"IF(BU297=\"YES\",IF(ISERROR(VLOOKUP($A297+8860000,'Growth Data'!$A:$Z,7,0)),0,VLOOKUP($A297+8860000,'Growth Data'!$A:$Z,7,0)),0)","v":0},0,null,"NO",{"$f":"IF(ISERROR(VLOOKUP($A297+8860000,'Growth Data'!$A:$F,5,0)),\"NO\",VLOOKUP($A297+8860000,'Growth Data'!$A:$F,5,0))","v":"NO"},0,null,0,{"$f":"IF(CC297=\"YES\",IF(ISERROR(VLOOKUP($A297+8860000,'Growth Data'!$A:$Z,8,0)),0,VLOOKUP($A297+8860000,'Growth Data'!$A:$Z,8,0)),0)","v":0},0,null,null,null,0]
[5224,"All Souls' CEP School",null,"All Souls' CEP School","All Souls' CEP School",0,null,1042844.82,1042844.822498057,0,null,0,0,0,null,1042844.82,1042844.822498057,0,null,7395.18,7395.1791552000004,0,null,null,null,0,null,0,0,0,null,155381.49,null,155381,null,0,null,0,null,0,null,0,null,0,null,0,null,null,null,0,null,null,null,0,null,null,null,0,null,null,null,0,null,"YES",{"$f":"IF(ISERROR(VLOOKUP($A298+8860000,'Growth Data'!$A:$F,3,0)),\"NO\",VLOOKUP($A298+8860000,'Growth Data'!$A:$F,3,0))","v":"NO"},1,null,30,{"$f":"IF(BM298=\"YES\",IF(ISERROR(VLOOKUP($A298+8860000,'Growth Data'!$A:$F,6,0)),0,VLOOKUP($A298+8860000,'Growth Data'!$A:$F,6,0)),0)","v":0},30,null,"YES",{"$f":"IF(ISERROR(VLOOKUP($A298+8860000,'Growth Data'!$A:$F,4,0)),\"NO\",VLOOKUP($A298+8860000,'Growth Data'!$A:$F,4,0))","v":"NO"},1,null,31,{"$f":"IF(BU298=\"YES\",IF(ISERROR(VLOOKUP($A298+8860000,'Growth Data'!$A:$Z,7,0)),0,VLOOKUP($A298+8860000,'Growth Data'!$A:$Z,7,0)),0)","v":0},31,null,"YES",{"$f":"IF(ISERROR(VLOOKUP($A298+8860000,'Growth Data'!$A:$F,5,0)),\"NO\",VLOOKUP($A298+8860000,'Growth Data'!$A:$F,5,0))","v":"NO"},1,null,31,{"$f":"IF(CC298=\"YES\",IF(ISERROR(VLOOKUP($A298+8860000,'Growth Data'!$A:$Z,8,0)),0,VLOOKUP($A298+8860000,'Growth Data'!$A:$Z,8,0)),0)","v":0},31,null,null,null,0]
[5225,"Harcourt Primary School",null,"Harcourt Primary School","Harcourt Primary School",0,null,658490.94999999995,658490.94956813892,0,null,26761.23,26761.231152498629,0,null,685252.18,685252.18072063755,0,null,4288.18,4288.1768018000002,0,null,null,null,0,null,0,0,0,null,94929.89,null,94930,null,0,null,0,null,0,null,0,null,0,null,0,null,null,null,0,null,null,null,0,null,null,null,0,null,null,null,0,null,"NO",{"$f":"IF(ISERROR(VLOOKUP($A299+8860000,'Growth Data'!$A:$F,3,0)),\"NO\",VLOOKUP($A299+8860000,'Growth Data'!$A:$F,3,0))","v":"NO"},0,null,0,{"$f":"IF(BM299=\"YES\",IF(ISERROR(VLOOKUP($A299+8860000,'Growth Data'!$A:$F,6,0)),0,VLOOKUP($A299+8860000,'Growth Data'!$A:$F,6,0)),0)","v":0},0,null,"NO",{"$f":"IF(ISERROR(VLOOKUP($A299+8860000,'Growth Data'!$A:$F,4,0)),\"NO\",VLOOKUP($A299+8860000,'Growth Data'!$A:$F,4,0))","v":"NO"},0,null,0,{"$f":"IF(BU299=\"YES\",IF(ISERROR(VLOOKUP($A299+8860000,'Growth Data'!$A:$Z,7,0)),0,VLOOKUP($A299+8860000,'Growth Data'!$A:$Z,7,0)),0)","v":0},0,null,"NO",{"$f":"IF(ISERROR(VLOOKUP($A299+8860000,'Growth Data'!$A:$F,5,0)),\"NO\",VLOOKUP($A299+8860000,'Growth Data'!$A:$F,5,0))","v":"NO"},0,null,0,{"$f":"IF(CC299=\"YES\",IF(ISERROR(VLOOKUP($A299+8860000,'Growth Data'!$A:$Z,8,0)),0,VLOOKUP($A299+8860000,'Growth Data'!$A:$Z,8,0)),0)","v":0},0,null,null,null,0]
[5226,"Willesborough Junior School",null,"Willesborough Junior School","Willesborough Junior School",0,null,1660380.5,1660380.5039947438,0,null,0,0,0,null,1660380.5,1660380.5039947438,0,null,12196.91,12196.910064999996,0,null,null,null,0,null,0,0,0,null,327986.53000000003,null,327987,null,0,null,0,null,0,null,0,null,0,null,0,null,null,null,0,null,null,null,0,null,null,null,0,null,null,null,0,null,"NO",{"$f":"IF(ISERROR(VLOOKUP($A300+8860000,'Growth Data'!$A:$F,3,0)),\"NO\",VLOOKUP($A300+8860000,'Growth Data'!$A:$F,3,0))","v":"NO"},0,null,0,{"$f":"IF(BM300=\"YES\",IF(ISERROR(VLOOKUP($A300+8860000,'Growth Data'!$A:$F,6,0)),0,VLOOKUP($A300+8860000,'Growth Data'!$A:$F,6,0)),0)","v":0},0,null,"NO",{"$f":"IF(ISERROR(VLOOKUP($A300+8860000,'Growth Data'!$A:$F,4,0)),\"NO\",VLOOKUP($A300+8860000,'Growth Data'!$A:$F,4,0))","v":"NO"},0,null,0,{"$f":"IF(BU300=\"YES\",IF(ISERROR(VLOOKUP($A300+8860000,'Growth Data'!$A:$Z,7,0)),0,VLOOKUP($A300+8860000,'Growth Data'!$A:$Z,7,0)),0)","v":0},0,null,"NO",{"$f":"IF(ISERROR(VLOOKUP($A300+8860000,'Growth Data'!$A:$F,5,0)),\"NO\",VLOOKUP($A300+8860000,'Growth Data'!$A:$F,5,0))","v":"NO"},0,null,0,{"$f":"IF(CC300=\"YES\",IF(ISERROR(VLOOKUP($A300+8860000,'Growth Data'!$A:$Z,8,0)),0,VLOOKUP($A300+8860000,'Growth Data'!$A:$Z,8,0)),0)","v":0},0,null,null,null,0]
[5229,"Fleetdown Primary School",null,"Fleetdown Primary School","Fleetdown Primary School",0,null,2086769,2086769,0,null,0,0,0,null,2086769,2086769,0,null,16047.26,16047.261447565679,0,null,null,null,0,null,0,0,0,null,464031.63,null,464032,null,0,null,0,null,0,null,0,null,0,null,0,null,null,null,0,null,null,null,0,null,null,null,0,null,null,null,0,null,"NO",{"$f":"IF(ISERROR(VLOOKUP($A301+8860000,'Growth Data'!$A:$F,3,0)),\"NO\",VLOOKUP($A301+8860000,'Growth Data'!$A:$F,3,0))","v":"NO"},0,null,0,{"$f":"IF(BM301=\"YES\",IF(ISERROR(VLOOKUP($A301+8860000,'Growth Data'!$A:$F,6,0)),0,VLOOKUP($A301+8860000,'Growth Data'!$A:$F,6,0)),0)","v":0},0,null,"NO",{"$f":"IF(ISERROR(VLOOKUP($A301+8860000,'Growth Data'!$A:$F,4,0)),\"NO\",VLOOKUP($A301+8860000,'Growth Data'!$A:$F,4,0))","v":"NO"},0,null,0,{"$f":"IF(BU301=\"YES\",IF(ISERROR(VLOOKUP($A301+8860000,'Growth Data'!$A:$Z,7,0)),0,VLOOKUP($A301+8860000,'Growth Data'!$A:$Z,7,0)),0)","v":0},0,null,"NO",{"$f":"IF(ISERROR(VLOOKUP($A301+8860000,'Growth Data'!$A:$F,5,0)),\"NO\",VLOOKUP($A301+8860000,'Growth Data'!$A:$F,5,0))","v":"NO"},0,null,0,{"$f":"IF(CC301=\"YES\",IF(ISERROR(VLOOKUP($A301+8860000,'Growth Data'!$A:$Z,8,0)),0,VLOOKUP($A301+8860000,'Growth Data'!$A:$Z,8,0)),0)","v":0},0,null,null,null,0]
[4026,"Dartford Science and Technology College",null,"Dartford Science and Technology College","Dartford Science and Technology College",0,null,3361770.94,3361770.9413225688,0,null,0,0,0,null,3361770.94,3361770.9413225688,0,null,10819.18,10819.184890112001,0,null,null,null,0,null,0,0,0,null,33608.370000000003,null,33608,null,2639.16,null,2639,null,0,null,0,null,0,null,0,null,null,null,0,null,null,null,0,null,null,null,0,null,null,null,0,null,"NO",{"$f":"IF(ISERROR(VLOOKUP($A302+8860000,'Growth Data'!$A:$F,3,0)),\"NO\",VLOOKUP($A302+8860000,'Growth Data'!$A:$F,3,0))","v":"NO"},0,null,0,{"$f":"IF(BM302=\"YES\",IF(ISERROR(VLOOKUP($A302+8860000,'Growth Data'!$A:$F,6,0)),0,VLOOKUP($A302+8860000,'Growth Data'!$A:$F,6,0)),0)","v":0},0,null,"NO",{"$f":"IF(ISERROR(VLOOKUP($A302+8860000,'Growth Data'!$A:$F,4,0)),\"NO\",VLOOKUP($A302+8860000,'Growth Data'!$A:$F,4,0))","v":"NO"},0,null,0,{"$f":"IF(BU302=\"YES\",IF(ISERROR(VLOOKUP($A302+8860000,'Growth Data'!$A:$Z,7,0)),0,VLOOKUP($A302+8860000,'Growth Data'!$A:$Z,7,0)),0)","v":0},0,null,"NO",{"$f":"IF(ISERROR(VLOOKUP($A302+8860000,'Growth Data'!$A:$F,5,0)),\"NO\",VLOOKUP($A302+8860000,'Growth Data'!$A:$F,5,0))","v":"NO"},0,null,0,{"$f":"IF(CC302=\"YES\",IF(ISERROR(VLOOKUP($A302+8860000,'Growth Data'!$A:$Z,8,0)),0,VLOOKUP($A302+8860000,'Growth Data'!$A:$Z,8,0)),0)","v":0},0,null,null,null,0]
[4040,"Northfleet School for Girls",null,"Northfleet School for Girls","Northfleet School for Girls",0,null,3726189.54,3726189.5440137754,0,null,0,0,0,null,3726189.54,3726189.5440137754,0,null,11907.21,11907.210310000002,0,null,null,null,0,null,0,0,0,null,60125.42,null,60125,null,0,null,0,null,73666.67,null,73667,null,110500,null,110500,null,null,null,0,null,null,null,0,null,null,null,0,null,null,null,0,null,"NO",{"$f":"IF(ISERROR(VLOOKUP($A303+8860000,'Growth Data'!$A:$F,3,0)),\"NO\",VLOOKUP($A303+8860000,'Growth Data'!$A:$F,3,0))","v":"YES"},1,null,0,{"$f":"IF(BM303=\"YES\",IF(ISERROR(VLOOKUP($A303+8860000,'Growth Data'!$A:$F,6,0)),0,VLOOKUP($A303+8860000,'Growth Data'!$A:$F,6,0)),0)","v":175},-175,null,"NO",{"$f":"IF(ISERROR(VLOOKUP($A303+8860000,'Growth Data'!$A:$F,4,0)),\"NO\",VLOOKUP($A303+8860000,'Growth Data'!$A:$F,4,0))","v":"YES"},1,null,0,{"$f":"IF(BU303=\"YES\",IF(ISERROR(VLOOKUP($A303+8860000,'Growth Data'!$A:$Z,7,0)),0,VLOOKUP($A303+8860000,'Growth Data'!$A:$Z,7,0)),0)","v":200},-200,null,"NO",{"$f":"IF(ISERROR(VLOOKUP($A303+8860000,'Growth Data'!$A:$F,5,0)),\"NO\",VLOOKUP($A303+8860000,'Growth Data'!$A:$F,5,0))","v":"NO"},0,null,0,{"$f":"IF(CC303=\"YES\",IF(ISERROR(VLOOKUP($A303+8860000,'Growth Data'!$A:$Z,8,0)),0,VLOOKUP($A303+8860000,'Growth Data'!$A:$Z,8,0)),0)","v":0},0,null,null,null,0]
[4043,"Tunbridge Wells Girls' Grammar School",null,"Tunbridge Wells Girls' Grammar School","Tunbridge Wells Girls' Grammar School",0,null,3481857,3481857,0,null,0,0,0,null,3481857,3481857,0,null,11907.21,11907.210310000002,0,null,null,null,0,null,0,0,0,null,5580,null,5580,null,5442,null,5442,null,0,null,0,null,0,null,0,null,null,null,0,null,null,null,0,null,null,null,0,null,null,null,0,null,"NO",{"$f":"IF(ISERROR(VLOOKUP($A304+8860000,'Growth Data'!$A:$F,3,0)),\"NO\",VLOOKUP($A304+8860000,'Growth Data'!$A:$F,3,0))","v":"NO"},0,null,0,{"$f":"IF(BM304=\"YES\",IF(ISERROR(VLOOKUP($A304+8860000,'Growth Data'!$A:$F,6,0)),0,VLOOKUP($A304+8860000,'Growth Data'!$A:$F,6,0)),0)","v":0},0,null,"NO",{"$f":"IF(ISERROR(VLOOKUP($A304+8860000,'Growth Data'!$A:$F,4,0)),\"NO\",VLOOKUP($A304+8860000,'Growth Data'!$A:$F,4,0))","v":"NO"},0,null,0,{"$f":"IF(BU304=\"YES\",IF(ISERROR(VLOOKUP($A304+8860000,'Growth Data'!$A:$Z,7,0)),0,VLOOKUP($A304+8860000,'Growth Data'!$A:$Z,7,0)),0)","v":0},0,null,"NO",{"$f":"IF(ISERROR(VLOOKUP($A304+8860000,'Growth Data'!$A:$F,5,0)),\"NO\",VLOOKUP($A304+8860000,'Growth Data'!$A:$F,5,0))","v":"NO"},0,null,0,{"$f":"IF(CC304=\"YES\",IF(ISERROR(VLOOKUP($A304+8860000,'Growth Data'!$A:$Z,8,0)),0,VLOOKUP($A304+8860000,'Growth Data'!$A:$Z,8,0)),0)","v":0},0,null,null,null,0]
[4045,"Tunbridge Wells Grammar School for Boys",null,"Tunbridge Wells Grammar School for Boys","Tunbridge Wells Grammar School for Boys",0,null,4629925,4629925,0,null,0,0,0,null,4629925,4629925,0,null,15512,15511.995897000003,0,null,null,null,0,null,0,0,0,null,325938.23,null,325938,null,0,null,0,null,14333.33,null,14333,null,21500,null,21500,null,null,null,0,null,null,null,0,null,null,null,0,null,null,null,0,null,"NO",{"$f":"IF(ISERROR(VLOOKUP($A305+8860000,'Growth Data'!$A:$F,3,0)),\"NO\",VLOOKUP($A305+8860000,'Growth Data'!$A:$F,3,0))","v":"YES"},1,null,0,{"$f":"IF(BM305=\"YES\",IF(ISERROR(VLOOKUP($A305+8860000,'Growth Data'!$A:$F,6,0)),0,VLOOKUP($A305+8860000,'Growth Data'!$A:$F,6,0)),0)","v":0},0,null,"NO",{"$f":"IF(ISERROR(VLOOKUP($A305+8860000,'Growth Data'!$A:$F,4,0)),\"NO\",VLOOKUP($A305+8860000,'Growth Data'!$A:$F,4,0))","v":"NO"},0,null,0,{"$f":"IF(BU305=\"YES\",IF(ISERROR(VLOOKUP($A305+8860000,'Growth Data'!$A:$Z,7,0)),0,VLOOKUP($A305+8860000,'Growth Data'!$A:$Z,7,0)),0)","v":0},0,null,"NO",{"$f":"IF(ISERROR(VLOOKUP($A305+8860000,'Growth Data'!$A:$F,5,0)),\"NO\",VLOOKUP($A305+8860000,'Growth Data'!$A:$F,5,0))","v":"NO"},0,null,0,{"$f":"IF(CC305=\"YES\",IF(ISERROR(VLOOKUP($A305+8860000,'Growth Data'!$A:$Z,8,0)),0,VLOOKUP($A305+8860000,'Growth Data'!$A:$Z,8,0)),0)","v":0},0,null,null,null,0]
[4065,"Holmesdale School, The",null,"Holmesdale School, The","Holmesdale School, The",0,null,3844856.84,3844856.8443619343,0,null,0,0,0,null,3844856.84,3844856.8443619343,0,null,8775.4500000000007,8775.4508860000005,0,null,null,null,0,null,0,0,0,null,337582.82,null,337583,null,0,null,0,null,0,null,0,null,0,null,0,null,null,null,0,null,null,null,0,null,null,null,0,null,null,null,0,null,"NO",{"$f":"IF(ISERROR(VLOOKUP($A306+8860000,'Growth Data'!$A:$F,3,0)),\"NO\",VLOOKUP($A306+8860000,'Growth Data'!$A:$F,3,0))","v":"NO"},0,null,0,{"$f":"IF(BM306=\"YES\",IF(ISERROR(VLOOKUP($A306+8860000,'Growth Data'!$A:$F,6,0)),0,VLOOKUP($A306+8860000,'Growth Data'!$A:$F,6,0)),0)","v":0},0,null,"NO",{"$f":"IF(ISERROR(VLOOKUP($A306+8860000,'Growth Data'!$A:$F,4,0)),\"NO\",VLOOKUP($A306+8860000,'Growth Data'!$A:$F,4,0))","v":"NO"},0,null,0,{"$f":"IF(BU306=\"YES\",IF(ISERROR(VLOOKUP($A306+8860000,'Growth Data'!$A:$Z,7,0)),0,VLOOKUP($A306+8860000,'Growth Data'!$A:$Z,7,0)),0)","v":0},0,null,"NO",{"$f":"IF(ISERROR(VLOOKUP($A306+8860000,'Growth Data'!$A:$F,5,0)),\"NO\",VLOOKUP($A306+8860000,'Growth Data'!$A:$F,5,0))","v":"NO"},0,null,0,{"$f":"IF(CC306=\"YES\",IF(ISERROR(VLOOKUP($A306+8860000,'Growth Data'!$A:$Z,8,0)),0,VLOOKUP($A306+8860000,'Growth Data'!$A:$Z,8,0)),0)","v":0},0,null,null,null,0]
[4091,"Community College Whitstable, The",null,"Community College Whitstable, The","Community College Whitstable, The",0,null,3623113.08,3623113.0833255546,0,null,0,0,0,null,3623113.08,3623113.0833255546,0,null,11124.27,11124.270454000001,0,null,null,null,0,null,0,0,0,null,172253.96,null,172254,null,0,null,0,null,0,null,0,null,0,null,0,null,null,null,0,null,null,null,0,null,null,null,0,null,null,null,0,null,"NO",{"$f":"IF(ISERROR(VLOOKUP($A307+8860000,'Growth Data'!$A:$F,3,0)),\"NO\",VLOOKUP($A307+8860000,'Growth Data'!$A:$F,3,0))","v":"NO"},0,null,0,{"$f":"IF(BM307=\"YES\",IF(ISERROR(VLOOKUP($A307+8860000,'Growth Data'!$A:$F,6,0)),0,VLOOKUP($A307+8860000,'Growth Data'!$A:$F,6,0)),0)","v":0},0,null,"NO",{"$f":"IF(ISERROR(VLOOKUP($A307+8860000,'Growth Data'!$A:$F,4,0)),\"NO\",VLOOKUP($A307+8860000,'Growth Data'!$A:$F,4,0))","v":"NO"},0,null,0,{"$f":"IF(BU307=\"YES\",IF(ISERROR(VLOOKUP($A307+8860000,'Growth Data'!$A:$Z,7,0)),0,VLOOKUP($A307+8860000,'Growth Data'!$A:$Z,7,0)),0)","v":0},0,null,"NO",{"$f":"IF(ISERROR(VLOOKUP($A307+8860000,'Growth Data'!$A:$F,5,0)),\"NO\",VLOOKUP($A307+8860000,'Growth Data'!$A:$F,5,0))","v":"NO"},0,null,0,{"$f":"IF(CC307=\"YES\",IF(ISERROR(VLOOKUP($A307+8860000,'Growth Data'!$A:$Z,8,0)),0,VLOOKUP($A307+8860000,'Growth Data'!$A:$Z,8,0)),0)","v":0},0,null,null,null,0]
[4109,"Dover Grammar School for Girls",null,"Dover Grammar School for Girls","Dover Grammar School for Girls",0,null,3187848,3187848,0,null,0,0,0,null,3187848,3187848,0,null,10830.67,10830.668008000001,0,null,null,null,0,null,0,0,0,null,549811.92000000004,null,549812,null,0,null,0,null,20000,null,20000,null,30000,null,30000,null,null,null,0,null,null,null,0,null,null,null,0,null,null,null,0,null,"NO",{"$f":"IF(ISERROR(VLOOKUP($A308+8860000,'Growth Data'!$A:$F,3,0)),\"NO\",VLOOKUP($A308+8860000,'Growth Data'!$A:$F,3,0))","v":"NO"},0,null,0,{"$f":"IF(BM308=\"YES\",IF(ISERROR(VLOOKUP($A308+8860000,'Growth Data'!$A:$F,6,0)),0,VLOOKUP($A308+8860000,'Growth Data'!$A:$F,6,0)),0)","v":0},0,null,"NO",{"$f":"IF(ISERROR(VLOOKUP($A308+8860000,'Growth Data'!$A:$F,4,0)),\"NO\",VLOOKUP($A308+8860000,'Growth Data'!$A:$F,4,0))","v":"NO"},0,null,0,{"$f":"IF(BU308=\"YES\",IF(ISERROR(VLOOKUP($A308+8860000,'Growth Data'!$A:$Z,7,0)),0,VLOOKUP($A308+8860000,'Growth Data'!$A:$Z,7,0)),0)","v":0},0,null,"NO",{"$f":"IF(ISERROR(VLOOKUP($A308+8860000,'Growth Data'!$A:$F,5,0)),\"NO\",VLOOKUP($A308+8860000,'Growth Data'!$A:$F,5,0))","v":"NO"},0,null,0,{"$f":"IF(CC308=\"YES\",IF(ISERROR(VLOOKUP($A308+8860000,'Growth Data'!$A:$Z,8,0)),0,VLOOKUP($A308+8860000,'Growth Data'!$A:$Z,8,0)),0)","v":0},0,null,null,null,0]
[4246,"North School, The",null,"North School, The","North School, The",0,null,5857668.8600000003,5857668.8628246821,0,null,0,0,0,null,5857668.8600000003,5857668.8628246821,0,null,14337.59,14337.586113000003,0,null,null,null,0,null,0,0,0,null,74368.39,null,74368,null,0,null,0,null,114333.33,null,114333,null,171500,null,171500,null,null,null,0,null,null,null,0,null,null,null,0,null,null,null,0,null,"NO",{"$f":"IF(ISERROR(VLOOKUP($A309+8860000,'Growth Data'!$A:$F,3,0)),\"NO\",VLOOKUP($A309+8860000,'Growth Data'!$A:$F,3,0))","v":"NO"},0,null,0,{"$f":"IF(BM309=\"YES\",IF(ISERROR(VLOOKUP($A309+8860000,'Growth Data'!$A:$F,6,0)),0,VLOOKUP($A309+8860000,'Growth Data'!$A:$F,6,0)),0)","v":0},0,null,"NO",{"$f":"IF(ISERROR(VLOOKUP($A309+8860000,'Growth Data'!$A:$F,4,0)),\"NO\",VLOOKUP($A309+8860000,'Growth Data'!$A:$F,4,0))","v":"NO"},0,null,0,{"$f":"IF(BU309=\"YES\",IF(ISERROR(VLOOKUP($A309+8860000,'Growth Data'!$A:$Z,7,0)),0,VLOOKUP($A309+8860000,'Growth Data'!$A:$Z,7,0)),0)","v":0},0,null,"NO",{"$f":"IF(ISERROR(VLOOKUP($A309+8860000,'Growth Data'!$A:$F,5,0)),\"NO\",VLOOKUP($A309+8860000,'Growth Data'!$A:$F,5,0))","v":"NO"},0,null,0,{"$f":"IF(CC309=\"YES\",IF(ISERROR(VLOOKUP($A309+8860000,'Growth Data'!$A:$Z,8,0)),0,VLOOKUP($A309+8860000,'Growth Data'!$A:$Z,8,0)),0)","v":0},0,null,null,null,0]
[4522,"Maidstone Grammar School",null,"Maidstone Grammar School","Maidstone Grammar School",0,null,4402059,4402059,0,null,0,0,0,null,4402059,4402059,0,null,15169.46,15169.459710000003,0,null,null,null,0,null,0,0,0,null,89047.75,null,89048,null,0,null,0,null,0,null,0,null,0,null,0,null,null,null,0,null,null,null,0,null,null,null,0,null,null,null,0,null,"NO",{"$f":"IF(ISERROR(VLOOKUP($A310+8860000,'Growth Data'!$A:$F,3,0)),\"NO\",VLOOKUP($A310+8860000,'Growth Data'!$A:$F,3,0))","v":"NO"},0,null,0,{"$f":"IF(BM310=\"YES\",IF(ISERROR(VLOOKUP($A310+8860000,'Growth Data'!$A:$F,6,0)),0,VLOOKUP($A310+8860000,'Growth Data'!$A:$F,6,0)),0)","v":0},0,null,"NO",{"$f":"IF(ISERROR(VLOOKUP($A310+8860000,'Growth Data'!$A:$F,4,0)),\"NO\",VLOOKUP($A310+8860000,'Growth Data'!$A:$F,4,0))","v":"YES"},1,null,0,{"$f":"IF(BU310=\"YES\",IF(ISERROR(VLOOKUP($A310+8860000,'Growth Data'!$A:$Z,7,0)),0,VLOOKUP($A310+8860000,'Growth Data'!$A:$Z,7,0)),0)","v":0},0,null,"NO",{"$f":"IF(ISERROR(VLOOKUP($A310+8860000,'Growth Data'!$A:$F,5,0)),\"NO\",VLOOKUP($A310+8860000,'Growth Data'!$A:$F,5,0))","v":"YES"},1,null,0,{"$f":"IF(CC310=\"YES\",IF(ISERROR(VLOOKUP($A310+8860000,'Growth Data'!$A:$Z,8,0)),0,VLOOKUP($A310+8860000,'Growth Data'!$A:$Z,8,0)),0)","v":181},-181,null,null,null,0]
[4523,"Maidstone Grammar School for Girls",null,"Maidstone Grammar School for Girls","Maidstone Grammar School for Girls",0,null,4162359,4162359,0,null,0,0,0,null,4162359,4162359,0,null,14337.59,14337.586113000003,0,null,null,null,0,null,0,0,0,null,88185.91,null,88186,null,0,null,0,null,0,null,0,null,0,null,0,null,null,null,0,null,null,null,0,null,null,null,0,null,null,null,0,null,"NO",{"$f":"IF(ISERROR(VLOOKUP($A311+8860000,'Growth Data'!$A:$F,3,0)),\"NO\",VLOOKUP($A311+8860000,'Growth Data'!$A:$F,3,0))","v":"NO"},0,null,0,{"$f":"IF(BM311=\"YES\",IF(ISERROR(VLOOKUP($A311+8860000,'Growth Data'!$A:$F,6,0)),0,VLOOKUP($A311+8860000,'Growth Data'!$A:$F,6,0)),0)","v":0},0,null,"NO",{"$f":"IF(ISERROR(VLOOKUP($A311+8860000,'Growth Data'!$A:$F,4,0)),\"NO\",VLOOKUP($A311+8860000,'Growth Data'!$A:$F,4,0))","v":"NO"},0,null,0,{"$f":"IF(BU311=\"YES\",IF(ISERROR(VLOOKUP($A311+8860000,'Growth Data'!$A:$Z,7,0)),0,VLOOKUP($A311+8860000,'Growth Data'!$A:$Z,7,0)),0)","v":0},0,null,"NO",{"$f":"IF(ISERROR(VLOOKUP($A311+8860000,'Growth Data'!$A:$F,5,0)),\"NO\",VLOOKUP($A311+8860000,'Growth Data'!$A:$F,5,0))","v":"NO"},0,null,0,{"$f":"IF(CC311=\"YES\",IF(ISERROR(VLOOKUP($A311+8860000,'Growth Data'!$A:$Z,8,0)),0,VLOOKUP($A311+8860000,'Growth Data'!$A:$Z,8,0)),0)","v":0},0,null,null,null,0]
[4534,"Simon Langton Girls' Grammar School",null,"Simon Langton Girls' Grammar School","Simon Langton Girls' Grammar School",0,null,4059993,4059993,0,null,0,0,0,null,4059993,4059993,0,null,13538.34,13538.335010000003,0,null,null,null,0,null,0,0,0,null,35063.050000000003,null,35063,null,2493.69,null,2494,null,0,null,0,null,0,null,0,null,null,null,0,null,null,null,0,null,null,null,0,null,null,null,0,null,"NO",{"$f":"IF(ISERROR(VLOOKUP($A312+8860000,'Growth Data'!$A:$F,3,0)),\"NO\",VLOOKUP($A312+8860000,'Growth Data'!$A:$F,3,0))","v":"NO"},0,null,0,{"$f":"IF(BM312=\"YES\",IF(ISERROR(VLOOKUP($A312+8860000,'Growth Data'!$A:$F,6,0)),0,VLOOKUP($A312+8860000,'Growth Data'!$A:$F,6,0)),0)","v":0},0,null,"NO",{"$f":"IF(ISERROR(VLOOKUP($A312+8860000,'Growth Data'!$A:$F,4,0)),\"NO\",VLOOKUP($A312+8860000,'Growth Data'!$A:$F,4,0))","v":"NO"},0,null,0,{"$f":"IF(BU312=\"YES\",IF(ISERROR(VLOOKUP($A312+8860000,'Growth Data'!$A:$Z,7,0)),0,VLOOKUP($A312+8860000,'Growth Data'!$A:$Z,7,0)),0)","v":0},0,null,"NO",{"$f":"IF(ISERROR(VLOOKUP($A312+8860000,'Growth Data'!$A:$F,5,0)),\"NO\",VLOOKUP($A312+8860000,'Growth Data'!$A:$F,5,0))","v":"NO"},0,null,0,{"$f":"IF(CC312=\"YES\",IF(ISERROR(VLOOKUP($A312+8860000,'Growth Data'!$A:$Z,8,0)),0,VLOOKUP($A312+8860000,'Growth Data'!$A:$Z,8,0)),0)","v":0},0,null,null,null,0]
[4622,"Judd School, The",null,"Judd School, The","Judd School, The",0,null,3861789,3861789,0,null,0,0,0,null,3861789,3861789,0,null,13277.36,13277.355058000001,0,null,null,null,0,null,0,0,0,null,141317.09,null,141317,null,0,null,0,null,19333.330000000002,null,19333,null,29000,null,29000,null,null,null,0,null,null,null,0,null,null,null,0,null,null,null,0,null,"NO",{"$f":"IF(ISERROR(VLOOKUP($A313+8860000,'Growth Data'!$A:$F,3,0)),\"NO\",VLOOKUP($A313+8860000,'Growth Data'!$A:$F,3,0))","v":"NO"},0,null,0,{"$f":"IF(BM313=\"YES\",IF(ISERROR(VLOOKUP($A313+8860000,'Growth Data'!$A:$F,6,0)),0,VLOOKUP($A313+8860000,'Growth Data'!$A:$F,6,0)),0)","v":0},0,null,"NO",{"$f":"IF(ISERROR(VLOOKUP($A313+8860000,'Growth Data'!$A:$F,4,0)),\"NO\",VLOOKUP($A313+8860000,'Growth Data'!$A:$F,4,0))","v":"YES"},1,null,0,{"$f":"IF(BU313=\"YES\",IF(ISERROR(VLOOKUP($A313+8860000,'Growth Data'!$A:$Z,7,0)),0,VLOOKUP($A313+8860000,'Growth Data'!$A:$Z,7,0)),0)","v":0},0,null,"NO",{"$f":"IF(ISERROR(VLOOKUP($A313+8860000,'Growth Data'!$A:$F,5,0)),\"NO\",VLOOKUP($A313+8860000,'Growth Data'!$A:$F,5,0))","v":"YES"},1,null,0,{"$f":"IF(CC313=\"YES\",IF(ISERROR(VLOOKUP($A313+8860000,'Growth Data'!$A:$Z,8,0)),0,VLOOKUP($A313+8860000,'Growth Data'!$A:$Z,8,0)),0)","v":155},-155,null,null,null,0]
[5407,"Thamesview School",null,"Thamesview School","Thamesview School",0,null,5046291.3099999996,5046291.306685403,0,null,0,0,0,null,5046291.3099999996,5046291.306685403,0,null,12706.46,12706.461413000003,0,null,null,null,0,null,0,0,0,null,69671.28,null,69671,null,0,null,0,null,0,null,0,null,0,null,0,null,null,null,0,null,null,null,0,null,null,null,0,null,null,null,0,null,"NO",{"$f":"IF(ISERROR(VLOOKUP($A314+8860000,'Growth Data'!$A:$F,3,0)),\"NO\",VLOOKUP($A314+8860000,'Growth Data'!$A:$F,3,0))","v":"NO"},0,null,0,{"$f":"IF(BM314=\"YES\",IF(ISERROR(VLOOKUP($A314+8860000,'Growth Data'!$A:$F,6,0)),0,VLOOKUP($A314+8860000,'Growth Data'!$A:$F,6,0)),0)","v":0},0,null,"NO",{"$f":"IF(ISERROR(VLOOKUP($A314+8860000,'Growth Data'!$A:$F,4,0)),\"NO\",VLOOKUP($A314+8860000,'Growth Data'!$A:$F,4,0))","v":"NO"},0,null,0,{"$f":"IF(BU314=\"YES\",IF(ISERROR(VLOOKUP($A314+8860000,'Growth Data'!$A:$Z,7,0)),0,VLOOKUP($A314+8860000,'Growth Data'!$A:$Z,7,0)),0)","v":0},0,null,"NO",{"$f":"IF(ISERROR(VLOOKUP($A314+8860000,'Growth Data'!$A:$F,5,0)),\"NO\",VLOOKUP($A314+8860000,'Growth Data'!$A:$F,5,0))","v":"NO"},0,null,0,{"$f":"IF(CC314=\"YES\",IF(ISERROR(VLOOKUP($A314+8860000,'Growth Data'!$A:$Z,8,0)),0,VLOOKUP($A314+8860000,'Growth Data'!$A:$Z,8,0)),0)","v":0},0,null,null,null,0]
[5410,"Aylesford School - Sports College",null,"Aylesford School - Sports College","Aylesford School - Sports College",0,null,4334126.49,4334126.4855860285,0,null,0,0,0,null,4334126.49,4334126.4855860285,0,null,11140.58,11140.581701000001,0,null,null,null,0,null,0,0,0,null,193252.74,null,193253,null,0,null,0,null,0,null,0,null,0,null,0,null,null,null,0,null,null,null,0,null,null,null,0,null,null,null,0,null,"NO",{"$f":"IF(ISERROR(VLOOKUP($A315+8860000,'Growth Data'!$A:$F,3,0)),\"NO\",VLOOKUP($A315+8860000,'Growth Data'!$A:$F,3,0))","v":"NO"},0,null,0,{"$f":"IF(BM315=\"YES\",IF(ISERROR(VLOOKUP($A315+8860000,'Growth Data'!$A:$F,6,0)),0,VLOOKUP($A315+8860000,'Growth Data'!$A:$F,6,0)),0)","v":0},0,null,"NO",{"$f":"IF(ISERROR(VLOOKUP($A315+8860000,'Growth Data'!$A:$F,4,0)),\"NO\",VLOOKUP($A315+8860000,'Growth Data'!$A:$F,4,0))","v":"NO"},0,null,0,{"$f":"IF(BU315=\"YES\",IF(ISERROR(VLOOKUP($A315+8860000,'Growth Data'!$A:$Z,7,0)),0,VLOOKUP($A315+8860000,'Growth Data'!$A:$Z,7,0)),0)","v":0},0,null,"NO",{"$f":"IF(ISERROR(VLOOKUP($A315+8860000,'Growth Data'!$A:$F,5,0)),\"NO\",VLOOKUP($A315+8860000,'Growth Data'!$A:$F,5,0))","v":"NO"},0,null,0,{"$f":"IF(CC315=\"YES\",IF(ISERROR(VLOOKUP($A315+8860000,'Growth Data'!$A:$Z,8,0)),0,VLOOKUP($A315+8860000,'Growth Data'!$A:$Z,8,0)),0)","v":0},0,null,null,null,0]
[5412,"Simon Langton Grammar School for Boys",null,"Simon Langton Grammar School for Boys","Simon Langton Grammar School for Boys",0,null,3097201,3097201,0,null,0,0,0,null,3097201,3097201,0,null,10651.24,10651.244291000001,0,null,null,null,0,null,0,0,0,null,63836,null,63836,null,0,null,0,null,0,null,0,null,0,null,0,null,null,null,0,null,null,null,0,null,null,null,0,null,null,null,0,null,"NO",{"$f":"IF(ISERROR(VLOOKUP($A316+8860000,'Growth Data'!$A:$F,3,0)),\"NO\",VLOOKUP($A316+8860000,'Growth Data'!$A:$F,3,0))","v":"NO"},0,null,0,{"$f":"IF(BM316=\"YES\",IF(ISERROR(VLOOKUP($A316+8860000,'Growth Data'!$A:$F,6,0)),0,VLOOKUP($A316+8860000,'Growth Data'!$A:$F,6,0)),0)","v":0},0,null,"NO",{"$f":"IF(ISERROR(VLOOKUP($A316+8860000,'Growth Data'!$A:$F,4,0)),\"NO\",VLOOKUP($A316+8860000,'Growth Data'!$A:$F,4,0))","v":"NO"},0,null,0,{"$f":"IF(BU316=\"YES\",IF(ISERROR(VLOOKUP($A316+8860000,'Growth Data'!$A:$Z,7,0)),0,VLOOKUP($A316+8860000,'Growth Data'!$A:$Z,7,0)),0)","v":0},0,null,"NO",{"$f":"IF(ISERROR(VLOOKUP($A316+8860000,'Growth Data'!$A:$F,5,0)),\"NO\",VLOOKUP($A316+8860000,'Growth Data'!$A:$F,5,0))","v":"NO"},0,null,0,{"$f":"IF(CC316=\"YES\",IF(ISERROR(VLOOKUP($A316+8860000,'Growth Data'!$A:$Z,8,0)),0,VLOOKUP($A316+8860000,'Growth Data'!$A:$Z,8,0)),0)","v":0},0,null,null,null,0]
[5425,"Malling School, The",null,"Malling School, The","Malling School, The",0,null,4454686.41,4454686.4148486676,0,null,0,0,0,null,4454686.41,4454686.4148486676,0,null,11760.41,11760.409087000002,0,null,null,null,0,null,0,0,0,null,5580,null,5580,null,5442,null,5442,null,0,null,0,null,0,null,0,null,null,null,0,null,null,null,0,null,null,null,0,null,null,null,0,null,"NO",{"$f":"IF(ISERROR(VLOOKUP($A317+8860000,'Growth Data'!$A:$F,3,0)),\"NO\",VLOOKUP($A317+8860000,'Growth Data'!$A:$F,3,0))","v":"NO"},0,null,0,{"$f":"IF(BM317=\"YES\",IF(ISERROR(VLOOKUP($A317+8860000,'Growth Data'!$A:$F,6,0)),0,VLOOKUP($A317+8860000,'Growth Data'!$A:$F,6,0)),0)","v":0},0,null,"YES",{"$f":"IF(ISERROR(VLOOKUP($A317+8860000,'Growth Data'!$A:$F,4,0)),\"NO\",VLOOKUP($A317+8860000,'Growth Data'!$A:$F,4,0))","v":"NO"},1,null,56,{"$f":"IF(BU317=\"YES\",IF(ISERROR(VLOOKUP($A317+8860000,'Growth Data'!$A:$Z,7,0)),0,VLOOKUP($A317+8860000,'Growth Data'!$A:$Z,7,0)),0)","v":0},56,null,"NO",{"$f":"IF(ISERROR(VLOOKUP($A317+8860000,'Growth Data'!$A:$F,5,0)),\"NO\",VLOOKUP($A317+8860000,'Growth Data'!$A:$F,5,0))","v":"NO"},0,null,0,{"$f":"IF(CC317=\"YES\",IF(ISERROR(VLOOKUP($A317+8860000,'Growth Data'!$A:$Z,8,0)),0,VLOOKUP($A317+8860000,'Growth Data'!$A:$Z,8,0)),0)","v":0},0,null,null,null,0]
[5426,"Archbishop's School, The",null,"Archbishop's School, The","Archbishop's School, The",0,null,3464345.72,3464345.7203482143,0,null,0,0,0,null,3464345.72,3464345.7203482143,0,null,11515.74,11515.740382,0,null,null,null,0,null,0,0,0,null,207612.34,null,207612,null,0,null,0,null,0,null,0,null,0,null,0,null,null,null,0,null,null,null,0,null,null,null,0,null,null,null,0,null,"NO",{"$f":"IF(ISERROR(VLOOKUP($A318+8860000,'Growth Data'!$A:$F,3,0)),\"NO\",VLOOKUP($A318+8860000,'Growth Data'!$A:$F,3,0))","v":"NO"},0,null,0,{"$f":"IF(BM318=\"YES\",IF(ISERROR(VLOOKUP($A318+8860000,'Growth Data'!$A:$F,6,0)),0,VLOOKUP($A318+8860000,'Growth Data'!$A:$F,6,0)),0)","v":0},0,null,"NO",{"$f":"IF(ISERROR(VLOOKUP($A318+8860000,'Growth Data'!$A:$F,4,0)),\"NO\",VLOOKUP($A318+8860000,'Growth Data'!$A:$F,4,0))","v":"NO"},0,null,0,{"$f":"IF(BU318=\"YES\",IF(ISERROR(VLOOKUP($A318+8860000,'Growth Data'!$A:$Z,7,0)),0,VLOOKUP($A318+8860000,'Growth Data'!$A:$Z,7,0)),0)","v":0},0,null,"NO",{"$f":"IF(ISERROR(VLOOKUP($A318+8860000,'Growth Data'!$A:$F,5,0)),\"NO\",VLOOKUP($A318+8860000,'Growth Data'!$A:$F,5,0))","v":"NO"},0,null,0,{"$f":"IF(CC318=\"YES\",IF(ISERROR(VLOOKUP($A318+8860000,'Growth Data'!$A:$Z,8,0)),0,VLOOKUP($A318+8860000,'Growth Data'!$A:$Z,8,0)),0)","v":0},0,null,null,null,0]
[5431,"Hugh Christie Technology College",null,"Hugh Christie Technology College","Hugh Christie Technology College",0,null,4460424.0199999996,4460424.0183366071,0,null,0,0,0,null,4460424.0199999996,4460424.0183366071,0,null,11450.5,11450.495394000001,0,null,null,null,0,null,0,0,0,null,99631.679999999993,null,99632,null,0,null,0,null,0,null,0,null,0,null,0,null,null,null,0,null,null,null,0,null,null,null,0,null,null,null,0,null,"NO",{"$f":"IF(ISERROR(VLOOKUP($A319+8860000,'Growth Data'!$A:$F,3,0)),\"NO\",VLOOKUP($A319+8860000,'Growth Data'!$A:$F,3,0))","v":"NO"},0,null,0,{"$f":"IF(BM319=\"YES\",IF(ISERROR(VLOOKUP($A319+8860000,'Growth Data'!$A:$F,6,0)),0,VLOOKUP($A319+8860000,'Growth Data'!$A:$F,6,0)),0)","v":0},0,null,"NO",{"$f":"IF(ISERROR(VLOOKUP($A319+8860000,'Growth Data'!$A:$F,4,0)),\"NO\",VLOOKUP($A319+8860000,'Growth Data'!$A:$F,4,0))","v":"NO"},0,null,0,{"$f":"IF(BU319=\"YES\",IF(ISERROR(VLOOKUP($A319+8860000,'Growth Data'!$A:$Z,7,0)),0,VLOOKUP($A319+8860000,'Growth Data'!$A:$Z,7,0)),0)","v":0},0,null,"NO",{"$f":"IF(ISERROR(VLOOKUP($A319+8860000,'Growth Data'!$A:$F,5,0)),\"NO\",VLOOKUP($A319+8860000,'Growth Data'!$A:$F,5,0))","v":"NO"},0,null,0,{"$f":"IF(CC319=\"YES\",IF(ISERROR(VLOOKUP($A319+8860000,'Growth Data'!$A:$Z,8,0)),0,VLOOKUP($A319+8860000,'Growth Data'!$A:$Z,8,0)),0)","v":0},0,null,null,null,0]
[5456,"Northfleet Technology College",null,"Northfleet Technology College","Northfleet Technology College",0,null,5175449.59,5175449.5893096207,0,null,0,0,0,null,5175449.59,5175449.5893096207,0,null,13603.58,13603.579998000003,0,null,null,null,0,null,0,0,0,null,81812.509999999995,null,81813,null,0,null,0,null,0,null,0,null,0,null,0,null,null,null,0,null,null,null,0,null,null,null,0,null,null,null,0,null,"NO",{"$f":"IF(ISERROR(VLOOKUP($A320+8860000,'Growth Data'!$A:$F,3,0)),\"NO\",VLOOKUP($A320+8860000,'Growth Data'!$A:$F,3,0))","v":"NO"},0,null,0,{"$f":"IF(BM320=\"YES\",IF(ISERROR(VLOOKUP($A320+8860000,'Growth Data'!$A:$F,6,0)),0,VLOOKUP($A320+8860000,'Growth Data'!$A:$F,6,0)),0)","v":0},0,null,"NO",{"$f":"IF(ISERROR(VLOOKUP($A320+8860000,'Growth Data'!$A:$F,4,0)),\"NO\",VLOOKUP($A320+8860000,'Growth Data'!$A:$F,4,0))","v":"NO"},0,null,0,{"$f":"IF(BU320=\"YES\",IF(ISERROR(VLOOKUP($A320+8860000,'Growth Data'!$A:$Z,7,0)),0,VLOOKUP($A320+8860000,'Growth Data'!$A:$Z,7,0)),0)","v":0},0,null,"NO",{"$f":"IF(ISERROR(VLOOKUP($A320+8860000,'Growth Data'!$A:$F,5,0)),\"NO\",VLOOKUP($A320+8860000,'Growth Data'!$A:$F,5,0))","v":"NO"},0,null,0,{"$f":"IF(CC320=\"YES\",IF(ISERROR(VLOOKUP($A320+8860000,'Growth Data'!$A:$Z,8,0)),0,VLOOKUP($A320+8860000,'Growth Data'!$A:$Z,8,0)),0)","v":0},0,null,null,null,0]
[5459,"Dover Grammar School for Boys",null,"Dover Grammar School for Boys","Dover Grammar School for Boys",0,null,2973456,2973456,0,null,0,0,0,null,2973456,2973456,0,null,10259.77,10259.774363,0,null,null,null,0,null,0,0,0,null,52202.35,null,52202,null,779.76,null,780,null,0,null,0,null,0,null,0,null,null,null,0,null,null,null,0,null,null,null,0,null,null,null,0,null,"NO",{"$f":"IF(ISERROR(VLOOKUP($A321+8860000,'Growth Data'!$A:$F,3,0)),\"NO\",VLOOKUP($A321+8860000,'Growth Data'!$A:$F,3,0))","v":"NO"},0,null,0,{"$f":"IF(BM321=\"YES\",IF(ISERROR(VLOOKUP($A321+8860000,'Growth Data'!$A:$F,6,0)),0,VLOOKUP($A321+8860000,'Growth Data'!$A:$F,6,0)),0)","v":0},0,null,"NO",{"$f":"IF(ISERROR(VLOOKUP($A321+8860000,'Growth Data'!$A:$F,4,0)),\"NO\",VLOOKUP($A321+8860000,'Growth Data'!$A:$F,4,0))","v":"NO"},0,null,0,{"$f":"IF(BU321=\"YES\",IF(ISERROR(VLOOKUP($A321+8860000,'Growth Data'!$A:$Z,7,0)),0,VLOOKUP($A321+8860000,'Growth Data'!$A:$Z,7,0)),0)","v":0},0,null,"NO",{"$f":"IF(ISERROR(VLOOKUP($A321+8860000,'Growth Data'!$A:$F,5,0)),\"NO\",VLOOKUP($A321+8860000,'Growth Data'!$A:$F,5,0))","v":"NO"},0,null,0,{"$f":"IF(CC321=\"YES\",IF(ISERROR(VLOOKUP($A321+8860000,'Growth Data'!$A:$Z,8,0)),0,VLOOKUP($A321+8860000,'Growth Data'!$A:$Z,8,0)),0)","v":0},0,null,null,null,0]
[5461,"St John's Catholic Comprehensive School",null,"St John's Catholic Comprehensive School","St John's Catholic Comprehensive School",0,null,5981075.9100000001,5981075.9094741503,0,null,0,0,0,null,5981075.9100000001,5981075.9094741503,0,null,15120.53,15120.525969,0,null,null,null,0,null,0,0,0,null,114196.92,null,114197,null,0,null,0,null,0,null,0,null,0,null,0,null,null,null,0,null,null,null,0,null,null,null,0,null,null,null,0,null,"NO",{"$f":"IF(ISERROR(VLOOKUP($A322+8860000,'Growth Data'!$A:$F,3,0)),\"NO\",VLOOKUP($A322+8860000,'Growth Data'!$A:$F,3,0))","v":"NO"},0,null,0,{"$f":"IF(BM322=\"YES\",IF(ISERROR(VLOOKUP($A322+8860000,'Growth Data'!$A:$F,6,0)),0,VLOOKUP($A322+8860000,'Growth Data'!$A:$F,6,0)),0)","v":0},0,null,"NO",{"$f":"IF(ISERROR(VLOOKUP($A322+8860000,'Growth Data'!$A:$F,4,0)),\"NO\",VLOOKUP($A322+8860000,'Growth Data'!$A:$F,4,0))","v":"NO"},0,null,0,{"$f":"IF(BU322=\"YES\",IF(ISERROR(VLOOKUP($A322+8860000,'Growth Data'!$A:$Z,7,0)),0,VLOOKUP($A322+8860000,'Growth Data'!$A:$Z,7,0)),0)","v":0},0,null,"NO",{"$f":"IF(ISERROR(VLOOKUP($A322+8860000,'Growth Data'!$A:$F,5,0)),\"NO\",VLOOKUP($A322+8860000,'Growth Data'!$A:$F,5,0))","v":"NO"},0,null,0,{"$f":"IF(CC322=\"YES\",IF(ISERROR(VLOOKUP($A322+8860000,'Growth Data'!$A:$Z,8,0)),0,VLOOKUP($A322+8860000,'Growth Data'!$A:$Z,8,0)),0)","v":0},0,null,null,null,0]
[5468,"Royal Harbour Academy, The",null,"Royal Harbour Academy, The","Royal Harbour Academy, The",{"$f":"IF(E323=D323,0,1)","v":0},null,5097220.09,5097220.0914763175,{"$f":"ROUND(H323-I323,0)","v":0},null,0,0,{"$f":"ROUND(L323-M323,0)","v":0},null,5097220.09,5097220.0914763175,{"$f":"ROUND(P323-Q323,0)","v":0},null,12983.75,12983.752612000002,{"$f":"ROUND(T323-U323,0)","v":0},null,null,null,{"$f":"ROUND(X323-Y323,0)","v":0},null,0,0,{"$f":"ROUND(AB323-AC323,0)","v":0},null,166887.41,null,{"$f":"ROUND(AF323-AG323,0)","v":166887},null,0,null,{"$f":"ROUND(AJ323-AK323,0)","v":0},null,20666.669999999998,null,{"$f":"ROUND(AN323-AO323,0)","v":20667},null,31000,null,{"$f":"ROUND(AR323-AS323,0)","v":31000},null,null,null,{"$f":"ROUND(AV323-AW323,0)","v":0},null,null,null,{"$f":"ROUND(AZ323-BA323,0)","v":0},null,null,null,{"$f":"ROUND(BD323-BE323,0)","v":0},null,null,null,{"$f":"ROUND(BH323-BI323,0)","v":0},null,"NO",{"$f":"IF(ISERROR(VLOOKUP($A323+8860000,'Growth Data'!$A:$F,3,0)),\"NO\",VLOOKUP($A323+8860000,'Growth Data'!$A:$F,3,0))","v":"NO"},{"$f":"IF(BL323=BM323,0,1)","v":0},null,0,{"$f":"IF(BM323=\"YES\",IF(ISERROR(VLOOKUP($A323+8860000,'Growth Data'!$A:$F,6,0)),0,VLOOKUP($A323+8860000,'Growth Data'!$A:$F,6,0)),0)","v":0},{"$f":"ROUND(BP323-BQ323,0)","v":0},null,"NO",{"$f":"IF(ISERROR(VLOOKUP($A323+8860000,'Growth Data'!$A:$F,4,0)),\"NO\",VLOOKUP($A323+8860000,'Growth Data'!$A:$F,4,0))","v":"NO"},{"$f":"IF(BT323=BU323,0,1)","v":0},null,0,{"$f":"IF(BU323=\"YES\",IF(ISERROR(VLOOKUP($A323+8860000,'Growth Data'!$A:$Z,7,0)),0,VLOOKUP($A323+8860000,'Growth Data'!$A:$Z,7,0)),0)","v":0},{"$f":"ROUND(BX323-BY323,0)","v":0},null,"NO",{"$f":"IF(ISERROR(VLOOKUP($A323+8860000,'Growth Data'!$A:$F,5,0)),\"NO\",VLOOKUP($A323+8860000,'Growth Data'!$A:$F,5,0))","v":"NO"},{"$f":"IF(CB323=CC323,0,1)","v":0},null,0,{"$f":"IF(CC323=\"YES\",IF(ISERROR(VLOOKUP($A323+8860000,'Growth Data'!$A:$Z,8,0)),0,VLOOKUP($A323+8860000,'Growth Data'!$A:$Z,8,0)),0)","v":0},{"$f":"ROUND(CF323-CG323,0)","v":0},null,null,null,{"$f":"ROUND(CJ323-CK323,0)","v":0}]
[5447,"St George's CE Foundation School",null,"St George's CE Foundation School","St George's CE Foundation School",0,null,6012712.3200000003,6012712.3202141291,0,null,0,0,0,null,6012712.3200000003,6012712.3202141291,0,null,21984.1,21984.098568599999,0,null,null,null,0,null,0,0,0,null,5580,null,5580,null,5442,null,5442,null,0,null,0,null,0,null,0,null,null,null,0,null,null,null,0,null,null,null,0,null,null,null,0,null,"NO",{"$f":"IF(ISERROR(VLOOKUP($A324+8860000,'Growth Data'!$A:$F,3,0)),\"NO\",VLOOKUP($A324+8860000,'Growth Data'!$A:$F,3,0))","v":"YES"},1,null,0,{"$f":"IF(BM324=\"YES\",IF(ISERROR(VLOOKUP($A324+8860000,'Growth Data'!$A:$F,6,0)),0,VLOOKUP($A324+8860000,'Growth Data'!$A:$F,6,0)),0)","v":0},0,null,"NO",{"$f":"IF(ISERROR(VLOOKUP($A324+8860000,'Growth Data'!$A:$F,4,0)),\"NO\",VLOOKUP($A324+8860000,'Growth Data'!$A:$F,4,0))","v":"YES"},1,null,0,{"$f":"IF(BU324=\"YES\",IF(ISERROR(VLOOKUP($A324+8860000,'Growth Data'!$A:$Z,7,0)),0,VLOOKUP($A324+8860000,'Growth Data'!$A:$Z,7,0)),0)","v":60},-60,null,"NO",{"$f":"IF(ISERROR(VLOOKUP($A324+8860000,'Growth Data'!$A:$F,5,0)),\"NO\",VLOOKUP($A324+8860000,'Growth Data'!$A:$F,5,0))","v":"YES"},1,null,0,{"$f":"IF(CC324=\"YES\",IF(ISERROR(VLOOKUP($A324+8860000,'Growth Data'!$A:$Z,8,0)),0,VLOOKUP($A324+8860000,'Growth Data'!$A:$Z,8,0)),0)","v":0},0,null,null,null,0]
[null,null,null,null,null,null,null,0,null,null,null,0,null,null,null,0,null,null,null,0,null,null,null,null,null,null,null,0]

{"sheet":"Contents","index":4,"n_rows":17,"n_cols":2,"rows_kept":17,"cut":false,"hidden":false,"merged":[[12,1,12,11],[7,1,7,11],[16,1,16,11],[14,1,14,11],[9,1,9,11],[10,1,10,11],[11,1,11,11],[13,1,13,11],[15,1,15,11],[8,1,8,11],[0,0,1,11],[4,1,4,11],[3,1,3,11],[5,1,5,11],[6,1,6,11],[2,0,2,11]]}
["Contents"]
[]
["Guidance has been written to aid the user in populating this template, to access this guidance click on this link\nUser guidance"]
["Year 1","This is the summary page for your funding for 2019-20, it includes your School Budget Share (SBS) funding formula, Pupil Premium (PP), Universal Infant Free Schools Meals (UIFSM), Growth funding, Early Years Funding, Post 16 formula funding, De-delegation total and total high needs funding (High Needs Mainstream and Specialist Resource Provision (SRP))."]
["Minimum Funding Guarantee (MFG) Y1","This is the detailed MFG calculation for 2019-20. Any MFG funding will be fed into the Year 1 tab."]
["Pupils","This is the pupil input sheet for the 2020-21 and 2021-22 SBS. It also has a pupil input for 2021-22 if your school is in receipt of rising roll funding."]
["Year 2","This is the summary page for your funding for 2020-21, it includes your School Budget Share (SBS) MFG calculation, Pupil Premium (PP), Universal Infant Free Schools Meals (UIFSM), Growth funding, Early Years Funding, Post formula funding, De-delegation total and total High Needs funding (High Needs Mainstream and Specialist Resource Provision (SRP))."]
["Year 3","This is the summary page for your funding for 2021-22, it includes your School Budget Share (SBS) MFG calculation, Pupil Premium (PP), Universal Infant Free Schools Meals (UIFSM), Growth funding, Early Years Funding, Post formula funding, De-delegation total and total High Needs funding (High Needs Mainstream and Specialist Resource Provision (SRP))."]
["Other Grants","Various Grants are recorded on this tab that have not been included in Years 1, 2 & 3."]
["Early Years","This is the input sheet to calculate your Early Years 3 & 4 years olds free entitlement, 2 Year old funding, Special Educational Needs Inclusion Fund (SENIF), Disability Access Fund (DAF), Early Years Pupil Premium. The outcome of this calculation will feed into tabs Year 1, Year 2 and Year 3."]
["High Needs Mainstream","The purpose of this template is to calculate your High Needs mainstream funding. The facility exists to estimate funding for Years 1, 2 and 3. The outputs for Years 1,2 and 3 will subsequently feed into the relevant Year 1, 2 and 3 tabs."]
["SRP Year 1","The purpose of this template is to calculate your Specialist Resource Provision (SRP) Funding for 2018-19. The outcome of this calculation will feed into your Year 1 table ."]
["SPR Funding Summary","The purpose of this is to summarise a schools SRP budget. Element 1 funding is included in a school’s formula funding allocation (tab Year 1) and Elements 2 and 3 are paid from the Dedicated Schools Grant High Needs Block, which is recorded on SRP Year 1 tab to this template."]
["SRP Year 2 & 3 ","The purpose of this template is to calculate your Specialist Resource Provision (SRP) Funding for 2020-21 and 2021-22. The outcome of this calculation will feed into the respective Year 2 and Year 3 tab."]
["SRP Rates","This tabs provides a breakdown of how the SRP rate has been calculated for each SRP."]
["Growth Funding ","This tab needs to populated with any growth funding, this will be made up of either/both reorganisation funding or/and Rising Roll funding."]
["BPS Summary","This tab will be populated with the outputs from tabs Year 1, 2 and 3 and will be subsequently input into the BPS financial tool."]

{"sheet":"Year 1","index":5,"n_rows":140,"n_cols":8,"rows_kept":140,"cut":false,"hidden":false,"merged":[[139,2,139,7],[38,1,39,1],[46,1,47,1],[35,1,36,1],[8,1,8,7],[12,1,15,1],[16,1,32,1],[33,1,34,1],[42,1,43,1]]}
[]
[null,null,null,null,null,"DfE Number"]
[]
[]
[null,null,null,null,null,null,"Phase",{"$f":"IFERROR(VLOOKUP(Year1DfE,dataslate,3,0),\"\")","v":""}]
[]
[]
[]
[9,{"$f":"IF(ISERROR(VLOOKUP(Year1DfE,dataslate,2,0)),\"\",VLOOKUP(Year1DfE,dataslate,2,0))","v":""}]
[9]
[9,"Formula Budget 2019/20"]
[9,{"$f":"IF(SUM($H$66:$H$70)>0,\"Formula Budget includes SRP pupils\",\"\")","v":""},null,null,null,"Pupils","Rate","Total"]
[1,"Factor 1","Basic Entitlement Primary",null,null,{"$f":"IFERROR(VLOOKUP(Year1DfE,dataslate,4,0),0)","v":0},2748.8854231,{"$f":"(F13*G13)","v":0}]
[2,null,"Basic Entitlement Key Stage 3",null,null,{"$f":"IFERROR(VLOOKUP(Year1DfE,dataslate,5,0),0)","v":0},3865.3152285000001,{"$f":"(F14*G14)","v":0}]
[2,null,"Basic Entitlement Key Stage 4",null,null,{"$f":"IFERROR(VLOOKUP(Year1DfE,dataslate,6,0),0)","v":0},4388.8362089000002,{"$f":"(F15*G15)","v":0}]
[9,null,"Total Basic Entitlement Funding",null,null,null,null,{"$f":"SUM(H13:H15)","v":0}]
[1,"Factor 2","Deprivation FSM - Primary",null,null,{"$f":"IFERROR(IF(OR(year1phase=1,year1phase=4),VLOOKUP(Year1DfE,dataslate,7,0),IF(year1phase=2,0,0)),0)","v":0},440.30360000000002,{"$f":"(F17*G17)","v":0}]
[2,null,"Deprivation FSM - Secondary",null,null,{"$f":"IFERROR(IF(year1phase=1,0,IF(OR(year1phase=2,year1phase=4),VLOOKUP(Year1DfE,dataslate,8,0),0)),0)","v":0},440.30360000000002,{"$f":"(F18*G18)","v":0}]
[1,null,"Deprivation Ever 6 FSM (Notional SEN Factor) - Primary",null,null,{"$f":"IFERROR(IF(OR(year1phase=1,year1phase=4),VLOOKUP(Year1DfE,dataslate,9,0),IF(year1phase=2,0,0)),0)","v":0},324.22356000000002,{"$f":"(F19*G19)","v":0}]
[2,null,"Deprivation Ever 6 FSM (Notional SEN Factor) - Secondary",null,null,{"$f":"IFERROR(IF(year1phase=1,0,IF(OR(year1phase=2,year1phase=4),VLOOKUP(Year1DfE,dataslate,10,0),0)),0)","v":0},471.32499000000001,0]
[1,null,"Deprivation IDACI Band F (Notional SEN Factor) - Primary",null,null,{"$f":"IFERROR(IF(OR(year1phase=1,year1phase=4),VLOOKUP(Year1DfE,dataslate,11,0),IF(year1phase=2,0,0)),0)","v":0},200.13800000000001,{"$f":"(F21*G21)","v":0}]
[1,null,"Deprivation IDACI Band E (Notional SEN Factor) - Primary",null,null,{"$f":"IFERROR(IF(OR(year1phase=1,year1phase=4),VLOOKUP(Year1DfE,dataslate,12,0),IF(year1phase=2,0,0)),0)","v":0},240.16560000000001,0]
[1,null,"Deprivation IDACI Band D (Notional SEN Factor) - Primary",null,null,{"$f":"IFERROR(IF(OR(year1phase=1,year1phase=4),VLOOKUP(Year1DfE,dataslate,13,0),IF(year1phase=2,0,0)),0)","v":0},360.2484,0]
[1,null,"Deprivation IDACI Band C (Notional SEN Factor) - Primary",null,null,{"$f":"IFERROR(IF(OR(year1phase=1,year1phase=4),VLOOKUP(Year1DfE,dataslate,14,0),IF(year1phase=2,0,0)),0)","v":0},390.26909999999998,0]
[1,null,"Deprivation IDACI Band B (Notional SEN Factor) - Primary",null,null,{"$f":"IFERROR(IF(OR(year1phase=1,year1phase=4),VLOOKUP(Year1DfE,dataslate,15,0),IF(year1phase=2,0,0)),0)","v":0},420.28980000000001,0]
[1,null,"Deprivation IDACI Band A (Notional SEN Factor) - Primary",null,null,{"$f":"IFERROR(IF(OR(year1phase=1,year1phase=4),VLOOKUP(Year1DfE,dataslate,16,0),IF(year1phase=2,0,0)),0)","v":0},575.39675,0]
[2,null,"Deprivation IDACI Band F (Notional SEN Factor) - Secondary",null,null,{"$f":"IFERROR(IF(year1phase=1,0,IF(OR(year1phase=2,year1phase=4),VLOOKUP(Year1DfE,dataslate,17,0),0)),0)","v":0},290.20010000000002,0]
[2,null,"Deprivation IDACI Band E (Notional SEN Factor) - Secondary",null,null,{"$f":"IFERROR(IF(year1phase=1,0,IF(OR(year1phase=2,year1phase=4),VLOOKUP(Year1DfE,dataslate,18,0),0)),0)","v":0},390.26909999999998,0]
[2,null,"Deprivation IDACI Band D (Notional SEN Factor) - Secondary",null,null,{"$f":"IFERROR(IF(year1phase=1,0,IF(OR(year1phase=2,year1phase=4),VLOOKUP(Year1DfE,dataslate,19,0),0)),0)","v":0},515.35535000000004,0]
[2,null,"Deprivation IDACI Band C (Notional SEN Factor) - Secondary",null,null,{"$f":"IFERROR(IF(year1phase=1,0,IF(OR(year1phase=2,year1phase=4),VLOOKUP(Year1DfE,dataslate,20,0),0)),0)","v":0},560.38639999999998,0]
[2,null,"Deprivation IDACI Band B (Notional SEN Factor) - Secondary",null,null,{"$f":"IFERROR(IF(year1phase=1,0,IF(OR(year1phase=2,year1phase=4),VLOOKUP(Year1DfE,dataslate,21,0),0)),0)","v":0},600.41399999999999,0]
[2,null,"Deprivation IDACI Band A (Notional SEN Factor) - Secondary",null,null,{"$f":"IFERROR(IF(year1phase=1,0,IF(OR(year1phase=2,year1phase=4),VLOOKUP(Year1DfE,dataslate,22,0),0)),0)","v":0},810.55889999999999,0]
[9,null,"Total Deprivation Funding",null,null,null,null,{"$f":"SUM(H17:H32)","v":0}]
[1,"Factor 4","English as an additional language (Notional SEN Factor) - Primary",null,null,{"$f":"IFERROR(IF(OR(year1phase=1,year1phase=4),VLOOKUP(Year1DfE,dataslate,23,0),0),0)","v":0},515.35535000000004,{"$f":"(F34*G34)","v":0}]
[2,null,"English as an additional language (Notional SEN Factor) - Secondary",null,null,{"$f":"IFERROR(IF(OR(year1phase=2,year1phase=4),VLOOKUP(Year1DfE,dataslate,24,0),0),0)","v":0},1385.9556500000001,{"$f":"(F35*G35)","v":0}]
[1,"Factor 6","Low cost, high incidence SEN (Notional SEN Factor) - Primary",null,null,{"$f":"IFERROR(IF(OR(year1phase=1,year1phase=4),VLOOKUP(Year1DfE,dataslate,25,0),0),0)","v":0},733.90635420210504,{"$f":"(F36*G36)","v":0}]
[2,null,"Low cost, high incidence SEN (Notional SEN Factor) - Secondary",null,null,{"$f":"IFERROR(IF(OR(year1phase=2,year1phase=4),VLOOKUP(Year1DfE,dataslate,26,0),0),0)","v":0},1194.02098565456,{"$f":"(F37*G37)","v":0}]
[9,"Factor 7","Lump Sum (Partial Notional SEN Factor) - Primary £6,235, Secondary £5,580",null,null,null,null,{"$f":"IF(OR(Year1DfE=\"\",Year1DfE=1001),0,IFERROR(VLOOKUP(Year1DfE,dataslate,27,0),0))","v":0}]
[1,"Factor 8","Sparsity - Primary",null,null,null,null,{"$f":"IFERROR(IF(OR(year1phase=1,year1phase=4),VLOOKUP(Year1DfE,dataslate,28,0),IF(year1phase=2,0,0)),0)","v":0}]
[2,null,"Sparsity - Secondary",null,null,null,null,{"$f":"IFERROR(IF(year1phase=1,0,IF(OR(year1phase=2,year1phase=4),VLOOKUP(Year1DfE,dataslate,29,0),0)),0)","v":0}]
[9,"Factor 9","Area Cost Adjustment - London Fringe (3.64%) (Factors 1 to 8)",null,null,null,null,{"$f":"IFERROR(SUM(H16+SUM(H33:H40))*SUM(VLOOKUP(Year1DfE,dataslate,30,0)-1),0)","v":0}]
[9,"Factor 10","Split Sites",null,null,null,null,{"$f":"IFERROR(VLOOKUP(Year1DfE,dataslate,31,0),0)","v":0}]
[9,"Factor 11","Rates",null,null,null,null,{"$f":"IFERROR(VLOOKUP(Year1DfE,dataslate,32,0),0)","v":0}]
[9,null,"Rates Adjustment (incremental change)",null,null,null,null,0]
[9,"Factor 12","PFI funding",null,null,null,null,{"$f":"IFERROR(VLOOKUP(Year1DfE,dataslate,33,0),0)","v":0}]
[9,"Factor 13","Exceptional Premises Factors",null,null,null,null,{"$f":"IFERROR(VLOOKUP(Year1DfE,dataslate,34,0),0)","v":0}]
[1,"Factor 14","Minimum Funding Levels - Primary",null,null,null,null,{"$f":"IFERROR(MAX(0,SUM(SUM(3400-SUM(SUM(H13+H17+H19+H21+H22+H23+H24+H25+H26+H34+H36+H39+H38+Year1F9+H45+H46)/F13))*F13)),0)","v":0}]
[2,null,"Minimum Funding Levels - Secondary",null,null,null,null,{"$f":"IFERROR(MAX(0,SUM(SUM(4700-SUM(SUM(H14+H15+H18+H20+H27+H28+H29+H30+H31+H32+H35+H37+H40+H38+Year1F9+H45+H46)/SUM(F14+F15)))*SUM(F14+F15))),0)","v":0}]
[9]
[9,null,"Formula Factors Total",null,null,null,null,{"$f":"H16+H33+SUM(H34:H48)","v":0}]
[9]
[9,null,"Minimum Funding Guarantee (MFG)",null,null,null,null,{"$f":"mfgadj","v":0}]
[9]
[9,null,"School Budget Share (SBS) 2019/20",null,null,null,null,{"$f":"MFG+Year1TotalF","v":0}]
[9]
[9,null,"Estimated Growth Funding",null,null,null,null,{"$f":"'Growth Funding'!H55","v":0}]
[9]
[9,null,"School Budget Share (SBS) 2019/20 - Including Growth Funding",null,null,null,null,{"$f":"TotalSBS+H56","v":0}]
[9]
[9,null,"High Needs Mainstream Funding 2019/20 - Element 3 Top Up",null,null,null,null,{"$f":"'High Needs Mainstream'!AC83","v":0}]
[9,null,"High Needs Mainstream Funding 2019/20 - Notional SEN Top Up",null,null,null,null,{"$f":"'High Needs Mainstream'!AQ85","v":0}]
[9,null,"High Needs Mainstream Funding 2019/20 - Element 2 Post 16",null,null,null,null,{"$f":"'High Needs Mainstream'!BE83","v":0}]
[9]
[9,null,"Total High Needs Mainstream Funding 2019/20",null,null,null,null,{"$f":"SUM(H60:H62)","v":0}]
[9]
[9,null,"High Needs Specialist Resource Provision (SRP) Funding 2019/20 - Place Funding E1 (£4k)",null,null,null,null,{"$f":"srpelement1","v":0}]
[9,null,"High Needs Specialist Resource Provision (SRP) Funding 2019/20 - Place Funding E2 (£6k)",null,null,null,null,{"$f":"'SRP Year 1'!H38","v":0}]
[9,null,"High Needs Specialist Resource Provision (SRP) Funding 2019/20 - Excess Place Funding E1 (£4k)",null,null,null,null,{"$f":"'SRP Year 1'!H42","v":0}]
[9,null,"High Needs Specialist Resource Provision (SRP) Funding 2019/20 - Excess Place Funding E2 (£6k)",null,null,null,null,{"$f":"'SRP Year 1'!H96","v":0}]
[9,null,"High Needs Specialist Resource Provision (SRP) Funding 2019/20 - Element 3 Top Up Funding",null,null,null,null,{"$f":"'SRP Year 1'!H97","v":0}]
[9]
[9,null,"Total High Needs Specialist Resource Provision (SRP) Funding 2019/20",null,null,null,null,{"$f":"SUM(H66:H70)","v":0}]
[9]
[9,null,"Other Grants",null,null,null,null,{"$f":"'Other Grants'!$D$14","v":0}]
[9]
[9,null,"Early Years",null,null,null,null,{"$f":"earlyyears+SUM('Early Years'!$C$120:$E$120)+'Early Years'!$C$125+'Early Years'!$C$126","v":0}]
[9]
[9,null,"Post 16 allocation (Apr - Jul)"]
[9,null,"Post 16 allocation (Aug - Mar)"]
[9,null,"Total Post 16 ",null,null,null,null,{"$f":"SUM(H78:H79)","v":0}]
[9]
[9,"Estimated Pupil Premium (PP)"]
[9,null,null,null,null,"Units","Rate","Total"]
[9,null,"Free School Meals Ever 6 Primary (January census)",null,null,null,{"$f":"IF(Year1DfE=1001,0,1320)","v":1320},{"$f":"F84*G84","v":0}]
[9,null,"Free School Meals Ever 6 Secondary (January census)",null,null,null,{"$f":"IF(Year1DfE=1001,0,935)","v":935},{"$f":"F85*G85","v":0}]
[9,null,"Adopted (Post-LAC) pupils (January census)",null,null,null,{"$f":"IF(Year1DfE=1001,0,2300)","v":2300},{"$f":"F86*G86","v":0}]
[9,null,"Children in Care (CiC) "]
[9,null,"Service Children Ever 6 (January census)",null,null,null,{"$f":"IF(Year1DfE=1001,0,300)","v":300},{"$f":"F88*G88","v":0}]
[9,null,"Pupil Premium 3 & 4 year olds (input Early Years tab)",null,null,null,null,{"$f":"SUM('Early Years'!C91:E91)","v":0}]
[9,null,"Total Pupil Premium",null,null,null,null,{"$f":"SUM(H84:H89)","v":0}]
[9]
[9]
[9,"Universal Infant Free School Meals"]
[9]
[9,null,"April to August 2019"]
[9]
[9,null,"October 2018 Taken meals years 1 & 2"]
[9,null,"January 2019 Taken meals years 1 & 2"]
[9,null,"October 2018 Taken meals year R"]
[9,null,"January 2019 Taken meals year R"]
[9,null,"Qualifying pupils",null,null,null,null,{"$f":"((H97+H98)/2)+MAX(H100,((H99+H100)/2))","v":0}]
[9,null,"*190 meals (qualifying pupils X 190)",null,null,null,null,{"$f":"H101*190","v":0}]
[9,null,"Rate per meal",null,null,null,null,2.2999999999999998]
[9,null,"Full Year allocation (September 2018 to August 2019)",null,null,null,null,{"$f":"H103*H102","v":0}]
[9]
[9,null,"Remaining Allocation for 2018/19 academic year (April to August 2019)",null,null,null,null,{"$f":"H104*(5/12)","v":0}]
[9]
[9]
[9,null,"September 2019 to March 2020 ESTIMATE"]
[9,null,"The DfE have not yet confirmed how this period will be calculated. However, we have assumed this is on the same basis as 2018/19 guidance."]
[9,null,"October 2019 Taken meals (ESTIMATE) years 1 & 2"]
[9,null,"January 2020 Taken meals (ESTIMATE) years 1 & 2"]
[9,null,"October 2019 Taken meals (ESTIMATE) year R"]
[9,null,"January 2020 Taken meals (ESTIMATE) year R"]
[9,null,"Qualifying pupils",null,null,null,null,{"$f":"((H111+H112)/2)+MAX(H114,((H113+H114)/2))","v":0}]
[9,null,"*190 meals (qualifying pupils X 190)",null,null,null,null,{"$f":"H115*190","v":0}]
[9,null,"Rate per meal",null,null,null,null,2.2999999999999998]
[9,null,"Full Year allocation (September 2019 to August 2020)",null,null,null,null,{"$f":"H117*H116","v":0}]
[9]
[9,null,"Estimated Allocation for 2019/20 academic year (September to March 2020)",null,null,null,null,{"$f":"H118*(7/12)","v":0}]
[9]
[9]
[9,null,"UIFSM Estimated total funding in financial year 2019/20",null,null,null,null,{"$f":"SUM(H106,H120)","v":0}]
[9]
[9]
[9,null,"Overall total estimated funding 2019-20",null,null,null,null,{"$f":"SUM(H58,H64,H72,H74,H76,H78:H79,H90,H123)","v":0}]
[9]
[9]
[9,"De-Delegation"]
[9,null,null,null,null,null,"Rate","De-Delegation"]
[9,null,"Schools in financial difficulties (E23)",null,null,null,{"$f":"IF(year1phase=1,18.8229789,IF(year1phase=2,9.4565205,IF(year1phase=4,11.15365402,0)))","v":0},{"$f":"IF(Year1F9>0,SUM(G131*SUM($F$13:$F$15))*1.0364,SUM(G131*SUM($F$13:$F$15)))","v":0}]
[9,null,"Free School Meals Eligibility (E28)",null,null,null,{"$f":"IF(OR(year1phase=1,year1phase=2,year1phase=4),0.5703933,0)","v":0},{"$f":"IF(Year1F9>0,SUM(G132*SUM($F$13:$F$15))*1.0364,SUM(G132*SUM($F$13:$F$15)))","v":0}]
[9,null,"Licences and Subscriptions (SIMS) (E19)",null,null,null,{"$f":"IF(OR(year1phase=1,year1phase=2,year1phase=4),3.6325047,0)","v":0},{"$f":"IF(Year1F9>0,SUM(G133*SUM($F$13:$F$15))*1.0364,SUM(G133*SUM($F$13:$F$15)))","v":0}]
[9,null,"Trade Union Duties (E10)",null,null,null,{"$f":"IF(OR(year1phase=1,year1phase=2,year1phase=4),1.8512765,0)","v":0},{"$f":"IF(Year1F9>0,SUM(G134*SUM($F$13:$F$15))*1.0364,SUM(G134*SUM($F$13:$F$15)))","v":0}]
[9,null,"Schools Personnel Service (E28)",null,null,null,{"$f":"IF(OR(year1phase=1,year1phase=2,year1phase=4),0.800552,0)","v":0},{"$f":"IF(Year1F9>0,SUM(G135*SUM($F$13:$F$15))*1.0364,SUM(G135*SUM($F$13:$F$15)))","v":0}]
[9,null,"Area Cost Adjustment (Included in the above)"]
[9,null,"Totals",null,null,null,{"$f":"SUM(ROUND(G131,2)+ROUND(G132,2)+ROUND(G133,2)+ROUND(G134,2)+ROUND(G135,2))","v":0},{"$f":"SUM(H131:H136)","v":0}]
[9]
[9]
[9,null,"NOTE: Due to rounding, numbers presented throughout this page and others may not add up precisely to the totals provided"]

{"sheet":"MFG Y1","index":6,"n_rows":40,"n_cols":6,"rows_kept":40,"cut":false,"hidden":false,"merged":[[9,1,9,5],[7,1,7,5],[3,9,5,12]]}
[]
[null,null,null,null,null,{"$f":"Year1DfE","v":0}]
[]
[]
[]
[]
[]
[null,{"$f":"schoolname","v":""}]
[]
[null,"Minimum Funding Guarantee (MFG)"]
[]
[null,"School Budget Share (SBS) 2018/19",null,null,null,{"$f":"IFERROR(VLOOKUP(Year1DfE,dataslate,36,0),0)","v":0}]
[]
[null,"Less - Exempt Items 2018/19"]
[null,"Rates",null,null,null,{"$f":"IFERROR(VLOOKUP(Year1DfE,dataslate,40,0),0)","v":0}]
[null,"Lump Sum",null,null,null,{"$f":"IFERROR(VLOOKUP(Year1DfE,dataslate,37,0),0)","v":0}]
[null,"Sparsity",null,null,null,{"$f":"IFERROR(VLOOKUP(Year1DfE,dataslate,38,0),0)","v":0}]
[null,"Total Exempt Items",null,null,null,{"$f":"SUM(F15:F17)","v":0}]
[]
[null,"MFG Baseline (SBS 2018/19 less exempt Items)",null,null,null,{"$f":"F12-F18","v":0}]
[]
[null,"October 2017 Pupil Numbers",null,null,null,{"$f":"IFERROR(VLOOKUP(Year1DfE,dataslate,41,0),0)","v":0}]
[null,"MFG per pupil before 1.5% reduction",null,null,null,{"$f":"IFERROR(F20/F22,0)","v":0}]
[null,"1.5% reduction of MFG per Pupil",null,null,null,{"$f":"0.015*F23","v":0}]
[null,"MFG per pupil after 1.5% reduction",null,null,null,{"$f":"F23*0.985","v":0}]
[]
[null,"October 2018 Pupil Numbers",null,null,null,{"$f":"SUM('Year 1'!F13:'Year 1'!F15)","v":0}]
[null,"New MFG baseline Excluding Exempt Items",null,null,null,{"$f":"F25*F27","v":0}]
[]
[null,"Plus - Exempt Items 2019/20"]
[null,"Rates",null,null,null,{"$f":"Year1F11","v":0}]
[null,"Lump Sum",null,null,null,{"$f":"IFERROR(IF(Year1F9>0,124453.81392,VLOOKUP(Year1DfE,dataslate,27,0))+'Year 1'!$H$44,0)","v":0}]
[null,"Sparsity",null,null,null,{"$f":"SUM('Year 1'!H39:H40)","v":0}]
[null,"MFG Technical Adjustment",null,null,null,{"$f":"IF(F2=5425,-29504.1221352223,0)","v":0}]
[null,"Total Exempt Items",null,null,null,{"$f":"SUM(F31:F34)","v":0}]
[]
[null,"New MFG Baseline including exempt items (A)",null,null,null,{"$f":"F28+F35","v":0}]
[null,"SBS 2019/20 (B)",null,null,null,{"$f":"Year1TotalF","v":0}]
[null,{"$f":"IF(F37>F38,\"MFG (difference between A and B)\",\"MFG\")","v":"MFG"},null,null,null,{"$f":"IF(F37>F38,SUM(F37-F38),0)","v":0}]
[null,"SBS 2019/20 (the greater of A and B)",null,null,null,{"$f":"MAX(F37:F38)","v":0}]

{"sheet":"Pupils","index":7,"n_rows":30,"n_cols":4,"rows_kept":30,"cut":false,"hidden":false,"merged":[[5,0,6,3],[1,0,1,3]]}
[null,null,null,{"$f":"Year1DfE","v":0}]
[{"$f":"schoolname","v":""}]
[]
["Mainstream Pupil Numbers"]
[]
["Please enter your estimated pupil numbers to calculate future years budgets (October 2021 only needs to be completed if you are entitled to rising roll in 2021/22 - If there is a 'Yes' in cell E43 on the Growth Funding Tab)\n\nWhere a school has a SRP, the pupils in the SRP should be included in this estimate."]
[]
["Year Group","At October 2019","At October 2020","At October 2021"]
["R"]
[1]
[2]
[3]
[4]
[5]
[6]
[7]
[8]
[9]
[10]
[11]
["Total Primary",{"$f":"SUM(B9:B15)","v":0},{"$f":"SUM(C9:C15)","v":0},{"$f":"SUM(D9:D15)","v":0}]
["Total Secondary",{"$f":"SUM(B16:B20)","v":0},{"$f":"SUM(C16:C20)","v":0},{"$f":"SUM(D16:D20)","v":0}]
[]
[]
[]
[]
["Primary",{"$f":"SUM(B9:B15)","v":0},{"$f":"SUM(C9:C15)","v":0}]
["KS3",{"$f":"SUM(B16:B18)","v":0},{"$f":"SUM(C16:C18)","v":0}]
["KS4",{"$f":"SUM(B19:B20)","v":0},{"$f":"SUM(C19:C20)","v":0}]
["Secondary Check",{"$f":"IF(B22=SUM(B28:B29),\"OK\",\"NOT OK\")","v":"OK"},{"$f":"IF(C22=SUM(C28:C29),\"OK\",\"NOT OK\")","v":"OK"}]

{"sheet":"Year 2","index":8,"n_rows":105,"n_cols":8,"rows_kept":105,"cut":false,"hidden":false,"merged":[[6,1,6,4],[9,1,9,4],[104,1,105,4]]}
[]
[null,null,null,null,{"$f":"Year1DfE","v":0}]
[]
[]
[]
[]
[null,{"$f":"'Year 1'!B9:H9","v":""}]
[]
[null,"2020/21 Budget Projection"]
[null,{"$f":"\"This projection is reliant on the pupil number estimate provided on the pupils sheet \n\"&'Year 1'!B12","v":"This projection is reliant on the pupil number estimate provided on the pupils sheet \n"}]
[null,"School Budget Share (SBS) 2019/20 Including Growth Funding",null,null,{"$f":"'Year 1'!H58","v":0}]
[]
[null,"Less - Exempt Items 2019/20"]
[null,"Rates",null,null,{"$f":"Year1F11+'Year 1'!$H$44","v":0}]
[null,"Lump Sum",null,null,{"$f":"IF(Year1DfE=1001,0,\nIF(SUM('Year 1'!H47+'Year 1'!H48)>0,0,'MFG Y1'!F32))","v":0}]
[null,"Growth Funding",null,null,{"$f":"'Year 1'!$H$56","v":0}]
[null,"Sparsity",null,null,{"$f":"SUM('Year 1'!$H$39:$H$40)","v":0}]
[null,"PFI Funding",null,null,{"$f":"'Year 1'!$H$45","v":0}]
[null,"Total Exempt Items",null,null,{"$f":"SUM($E$14:$E$18)","v":0}]
[]
[null,"MFG Baseline (SBS 2019/20 less exempt Items)",null,null,{"$f":"E11-E19","v":0}]
[]
[null,"October 2018 Pupil Numbers",null,null,{"$f":"SUM('Year 1'!F13:F15)","v":0}]
[null,"MFG baseline per pupil before any MFG adjustment",null,null,{"$f":"IF(E23=0,0,IF(Year1DfE=1001,0,E21/E23))","v":0}]
[null,"MFG Adjustment",null,null,0,null,null,0]
[null,"MFG Adjustment per Pupil",null,null,{"$f":"MFGrate2*E24","v":0}]
[null,"MFG per pupil after any MFG Adjustment",null,null,{"$f":"E24+E26","v":0}]
[]
[null,"October 2019 Pupils",null,null,{"$f":"Pupils!$B$21+Pupils!$B$22","v":0}]
[null,"New MFG baseline Excluding Exempt Items",null,null,{"$f":"E27*E29","v":0}]
[]
[null,"Plus - Exempt Items 2020/21"]
[null,"Rates",null,null,{"$f":"E14","v":0}]
[null,"Lump Sum",null,null,{"$f":"IF(Year1DfE=1001,0,E15)","v":0}]
[null,"Growth Funding (populated from Growth Funding Tab)",null,null,{"$f":"'Growth Funding'!H57","v":0}]
[null,"Sparsity",null,null,{"$f":"E17","v":0}]
[null,"PFI Funding",null,null,{"$f":"E18","v":0}]
[null,"Total Exempt Items",null,null,{"$f":"SUM(E33:E37)","v":0}]
[]
[null,"Estimated SBS 2020/21",null,null,{"$f":"IF(E29=0,0,E30+E38)","v":0}]
[]
[null,"High Needs Mainstream Funding 2020/21 - Element 3 Top Up",null,null,{"$f":"SUM('High Needs Mainstream'!BV83:BW83)","v":0}]
[null,"High Needs Mainstream Funding 2020/21 - Notional SEN Top Up",null,null,{"$f":"'High Needs Mainstream'!BX83","v":0}]
[null,"High Needs Mainstream Funding 2020/21 - Element 2 Post 16",null,null,{"$f":"'High Needs Mainstream'!BY83","v":0}]
[]
[null,"Total High Needs Mainstream Funding 2020-21",null,null,{"$f":"SUM(E42:E44)","v":0}]
[]
[null,"High Needs Specialist Resource Provision (SRP) Funding 2020/21 - Place Funding ",null,null,{"$f":"'SRP Year 2 & 3'!S24","v":0}]
[null,"High Needs Specialist Resource Provision (SRP) Funding 2020/21 - Element 3 Top Up",null,null,{"$f":"'SRP Year 2 & 3'!T24","v":0}]
[]
[null,"Total High Needs Specialist Resource Provision (SRP) Funding 2020/21",null,null,{"$f":"SUM(E48:E49)","v":0}]
[]
[null,"Other Grants",null,null,{"$f":"'Other Grants'!$E$14","v":0}]
[]
[null,"Early Years",null,null,{"$f":"'Early Years'!J63+SUM('Early Years'!$F$120:$H$120)+'Early Years'!$F$125+'Early Years'!$F$126","v":0}]
[]
[null,"Post 16 allocation"]
[]
[null,"Estimated Pupil Premium (PP)"]
[null,null,"Units","Estimated Rate","Total"]
[null,"Free School Meals Ever 6 Primary (January census)",null,{"$f":"IF(Year1DfE=1001,0,1320)","v":1320},{"$f":"C61*D61","v":0}]
[null,"Free School Meals Ever 6 Secondary (January census)",null,{"$f":"IF(Year1DfE=1001,0,935)","v":935},{"$f":"C62*D62","v":0}]
[null,"Adopted (Post-LAC) pupils (January census)",null,{"$f":"IF(Year1DfE=1001,0,2300)","v":2300},{"$f":"C63*D63","v":0}]
[null,"Children in Care (CiC) "]
[null,"Service Children Ever 6 (January census)",null,{"$f":"IF(Year1DfE=1001,0,300)","v":300},{"$f":"C65*D65","v":0}]
[null,"Pupil Premium 3 & 4 year olds (input Early Years tab)",null,null,{"$f":"SUM('Early Years'!I91:K91)","v":0}]
[null,"Total Pupil Premium",null,null,{"$f":"SUM(E61:E66)","v":0}]
[]
[]
[null,"Universal Infant Free School Meals  (ESTIMATE)"]
[null,"The DfE have not yet confirmed how funding for this period will be calculated. However, we have assumed this is on the same basis as 2018/19 guidance."]
[null,"April 2020 to August 2020"]
[]
[null,"Remaining payment (see Year 1)",null,null,{"$f":"'Year 1'!H118-'Year 1'!H120","v":0}]
[]
[null,"September 2020 to March 2021"]
[]
[null,"October 2020 Taken meals years 1 & 2"]
[null,"January 2021 Taken meals years 1 & 2"]
[null,"October 2020 Taken meals year R"]
[null,"January 2021 Taken meals year R"]
[null,"Qualifying pupils",null,null,{"$f":"((E78+E79)/2)+MAX(E81,((E80+E81)/2))","v":0}]
[null,"*190 meals (qualifying pupils X 190)",null,null,{"$f":"E82*190","v":0}]
[null,"Rate per pupil",null,null,2.2999999999999998]
[null,"Full Year allocation (September 2020 to August 2021)",null,null,{"$f":"E84*E83","v":0}]
[]
[null,"Estimated Allocation for 2020/21 academic year (September to March 2021)",null,null,{"$f":"E85*(7/12)","v":0}]
[]
[null,"UIFSM Estimated total funding in financial year 2020/21",null,null,{"$f":"E74+E87","v":0}]
[]
[]
[null,"Overall total estimated funding 2020-21",null,null,{"$f":"SUM(E40,E46,E51,E53,E55,E57,E67,E89)","v":0}]
[]
["De-Delegation"]
[null,null,null,"Rate","De-Delegation"]
[null,"Schools in financial difficulties (E23)",null,{"$f":"'Year 1'!G131","v":0},{"$f":"IF(Year1F9>0,SUM(D96*$E$29)*1.0364,SUM(D96*$E$29))","v":0}]
[null,"Free School Meals Eligibility (E28)",null,{"$f":"'Year 1'!G132","v":0},{"$f":"IF(Year1F9>0,SUM(D97*$E$29)*1.0364,SUM(D97*$E$29))","v":0}]
[null,"Licences and Subscriptions (SIMS) (E19)",null,{"$f":"'Year 1'!G133","v":0},{"$f":"IF(Year1F9>0,SUM(D98*$E$29)*1.0364,SUM(D98*$E$29))","v":0}]
[null,"Trade Union Duties (E10)",null,{"$f":"'Year 1'!G134","v":0},{"$f":"IF(Year1F9>0,SUM(D99*$E$29)*1.0364,SUM(D99*$E$29))","v":0}]
[null,"Schools Personnel Service (E28)",null,{"$f":"'Year 1'!G135","v":0},{"$f":"IF(Year1F9>0,SUM(D100*$E$29)*1.0364,SUM(D100*$E$29))","v":0}]
[null,"Area Cost Adjustment (Included in the above)"]
[null,"Totals",null,{"$f":"'Year 1'!$G$137","v":0},{"$f":"SUM(E96:E101)","v":0}]
[]
[]
[null,"NOTE: Due to rounding, numbers presented throughout this page and others may not add up precisely to the totals provided"]

{"sheet":"Year 3","index":9,"n_rows":105,"n_cols":8,"rows_kept":105,"cut":false,"hidden":false,"merged":[[6,1,6,4],[9,1,9,4],[104,1,105,4]]}
[]
[null,null,null,null,{"$f":"Year1DfE","v":0}]
[]
[]
[]
[]
[null,{"$f":"'Year 1'!B9:H9","v":""}]
[]
[null,"2021/22 Budget Projection"]
[null,{"$f":"\"This projection is reliant on the pupil number estimate provided on the pupils sheet \n\"&'Year 1'!B12","v":"This projection is reliant on the pupil number estimate provided on the pupils sheet \n"}]
[null,"School Budget Share (SBS) 2020/21 Including Growth Funding",null,null,{"$f":"'Year 2'!E40","v":0}]
[]
[null,"Less - Exempt Items 2020/21"]
[null,"Rates",null,null,{"$f":"'Year 2'!E33","v":0}]
[null,"Lump Sum",null,null,{"$f":"IF(Year1DfE=1001,0,'Year 2'!E34)","v":0}]
[null,"Growth Funding",null,null,{"$f":"'Year 2'!E35","v":0}]
[null,"Sparsity",null,null,{"$f":"'Year 2'!E36","v":0}]
[null,"PFI Funding",null,null,{"$f":"'Year 2'!E37","v":0}]
[null,"Total Exempt Items",null,null,{"$f":"SUM($E$14:$E$18)","v":0}]
[]
[null,"MFG Baseline (SBS 2020/21 less exempt Items)",null,null,{"$f":"E11-E19","v":0}]
[]
[null,"October 2019 Pupil Numbers",null,null,{"$f":"SUM(Pupils!B21:B22)","v":0}]
[null,"MFG baseline per pupil before any MFG adjustment",null,null,{"$f":"IF(E23=0,0,IF(Year1DfE=1001,0,E21/E23))","v":0}]
[null,"MFG Adjustment",null,null,{"$f":"H25","v":0},null,null,0]
[null,"MFG Adjustment per Pupil",null,null,{"$f":"MFGrate3*E24","v":0}]
[null,"MFG per pupil after any MFG Adjustment",null,null,{"$f":"E24+E26","v":0}]
[]
[null,"October 2020 Pupils",null,null,{"$f":"Pupils!$C$21+Pupils!$C$22","v":0}]
[null,"New MFG baseline Excluding Exempt Items",null,null,{"$f":"E27*E29","v":0}]
[]
[null,"Plus - Exempt Items 2021/22"]
[null,"Rates",null,null,{"$f":"E14","v":0}]
[null,"Lump Sum",null,null,{"$f":"IF(Year1DfE=1001,0,E15)","v":0}]
[null,"Growth Funding (populated from Growth Funding Tab)",null,null,{"$f":"'Growth Funding'!H59","v":0}]
[null,"Sparsity",null,null,{"$f":"SUM(E17)","v":0}]
[null,"PFI Funding",null,null,{"$f":"E18","v":0}]
[null,"Total Exempt Items",null,null,{"$f":"SUM(E33:E37)","v":0}]
[]
[null,"Estimated SBS 2021/22",null,null,{"$f":"IF(E29=0,0,E30+E38)","v":0}]
[]
[null,"High Needs Mainstream Funding 2021/22 - Element 3 Top Up",null,null,{"$f":"SUM('High Needs Mainstream'!CD83:CE83)","v":0}]
[null,"High Needs Mainstream Funding 2021/22 - Notional SEN Top Up",null,null,{"$f":"'High Needs Mainstream'!CF83","v":0}]
[null,"High Needs Mainstream Funding 2021/22 - Element 2 Post 16",null,null,{"$f":"'High Needs Mainstream'!CG83","v":0}]
[]
[null,"Total High Needs Mainstream Funding 2020-21",null,null,{"$f":"SUM(E42:E44)","v":0}]
[]
[null,"High Needs Specialist Resource Provision (SRP) Funding 2021/22 - Place Funding ",null,null,{"$f":"'SRP Year 2 & 3'!S38","v":0}]
[null,"High Needs Specialist Resource Provision (SRP) Funding 2021/22 - Element 3 Top Up",null,null,{"$f":"'SRP Year 2 & 3'!T38","v":0}]
[]
[null,"Total High Needs Specialist Resource Provision (SRP) Funding 2021/22",null,null,{"$f":"SUM(E48:E49)","v":0}]
[]
[null,"Other Grants",null,null,{"$f":"'Other Grants'!$F$14","v":0}]
[]
[null,"Early Years",null,null,{"$f":"'Early Years'!J64+SUM('Early Years'!$I$120:$K$120)+'Early Years'!$I$125+'Early Years'!$I$126","v":0}]
[]
[null,"Post 16 allocation"]
[]
[null,"Estimated Pupil Premium (PP)"]
[null,null,"Units","Estimated Rate","Total"]
[null,"Free School Meals Ever 6 Primary (January census)",null,{"$f":"IF(Year1DfE=1001,0,1320)","v":1320},{"$f":"C61*D61","v":0}]
[null,"Free School Meals Ever 6 Secondary (January census)",null,{"$f":"IF(Year1DfE=1001,0,935)","v":935},{"$f":"C62*D62","v":0}]
[null,"Adopted (Post-LAC) pupils (January census)",null,{"$f":"IF(Year1DfE=1001,0,2300)","v":2300},{"$f":"C63*D63","v":0}]
[null,"Children in Care (CiC) "]
[null,"Service Children Ever 6 (January census)",null,{"$f":"IF(Year1DfE=1001,0,300)","v":300},{"$f":"C65*D65","v":0}]
[null,"Pupil Premium 3 & 4 year olds (input Early Years tab)",null,null,{"$f":"SUM('Early Years'!I91:K91)","v":0}]
[null,"Total Pupil Premium",null,null,{"$f":"SUM(E61:E66)","v":0}]
[]
[]
[null,"Universal Infant Free School Meals  (ESTIMATE)"]
[null,"The DfE have not yet confirmed how funding for this period will be calculated. However, we have assumed this is on the same basis as 2018/19 guidance."]
[null,"April 2021 to August 2021"]
[]
[null,"Remaining payment (see Year 2)",null,null,{"$f":"'Year 2'!E85-'Year 2'!E87","v":0}]
[]
[null,"September 2021 to March 2022"]
[]
[null,"October 2021 Taken meals years 1 & 2"]
[null,"January 2022 Taken meals years 1 & 2"]
[null,"October 2021 Taken meals year R"]
[null,"January 2022 Taken meals year R"]
[null,"Qualifying pupils",null,null,{"$f":"((E78+E79)/2)+MAX(E81,((E80+E81)/2))","v":0}]
[null,"*190 meals (qualifying pupils X 190)",null,null,{"$f":"E82*190","v":0}]
[null,"Rate per pupil",null,null,2.2999999999999998]
[null,"Full Year allocation (September 2021 to August 2022)",null,null,{"$f":"E84*E83","v":0}]
[]
[null,"Estimated Allocation for 2021/22 academic year (September to March 2022)",null,null,{"$f":"E85*(7/12)","v":0}]
[]
[null,"UIFSM Estimated total funding in financial year 2021/22",null,null,{"$f":"E74+E87","v":0}]
[]
[]
[null,"Overall total estimated funding 2021-22",null,null,{"$f":"SUM(E40,E46,E51,E53,E55,E57,E67,E89)","v":0}]
[]
["De-Delegation"]
[null,null,null,"Rate","De-Delegation"]
[null,"Schools in financial difficulties (E23)",null,{"$f":"'Year 1'!G131","v":0},{"$f":"IF(Year1F9>0,SUM(D96*$E$29)*1.0364,SUM(D96*$E$29))","v":0}]
[null,"Free School Meals Eligibility (E28)",null,{"$f":"'Year 1'!G132","v":0},{"$f":"IF(Year1F9>0,SUM(D97*$E$29)*1.0364,SUM(D97*$E$29))","v":0}]
[null,"Licences and Subscriptions (SIMS) (E19)",null,{"$f":"'Year 1'!G133","v":0},{"$f":"IF(Year1F9>0,SUM(D98*$E$29)*1.0364,SUM(D98*$E$29))","v":0}]
[null,"Trade Union Duties (E10)",null,{"$f":"'Year 1'!G134","v":0},{"$f":"IF(Year1F9>0,SUM(D99*$E$29)*1.0364,SUM(D99*$E$29))","v":0}]
[null,"Schools Personnel Service (E28)",null,{"$f":"'Year 1'!G135","v":0},{"$f":"IF(Year1F9>0,SUM(D100*$E$29)*1.0364,SUM(D100*$E$29))","v":0}]
[null,"Area Cost Adjustment (Included in the above)"]
[null,"Totals",null,{"$f":"'Year 1'!$G$137","v":0},{"$f":"SUM(E96:E101)","v":0}]
[]
[]
[null,"NOTE: Due to rounding, numbers presented throughout this page and others may not add up precisely to the totals provided"]

{"sheet":"Other Grants","index":10,"n_rows":18,"n_cols":17,"rows_kept":18,"cut":false,"hidden":false,"merged":[[2,1,2,5],[13,7,15,15],[3,12,4,15],[3,7,4,10]]}
[null,null,null,null,null,null,null,null,null,null,null,null,null,null,null,null,"I01"]
[null,null,null,null,null,null,null,null,null,null,null,null,null,null,null,null,"I02"]
[null,"Other Grants",null,null,null,null,null,null,null,null,null,null,null,null,null,null,"I03"]
[null,null,null,null,null,null,null,"Teachers Pay Increase 2018 Calculation (Primary)",null,null,null,null,"Teachers Pay Increase 2018 Calculation (Secondary)",null,null,null,"I04"]
[null,null,null,null,null,null,null,null,null,null,null,null,null,null,null,null,"I05"]
[null,"Grant","Code","2019/20","2020/21","2021/22",null,"Period","Rate","Pupil No.","Total",null,"Period","Rate","Pupil No.","Total","I06"]
[1,"Teachers Pay Increase 2018 (TPG)","I01",{"$f":"SUM(K7+K8+P7+P8)","v":0},{"$f":"SUM(K9+K10+P9+P10)","v":0},{"$f":"SUM(K11+K12+P11+P12)","v":0},null,"Apr - Aug 2019",null,null,{"$f":"IF(Year1DfE=5447,2542,IF(OR(year1phase=1,year1phase=6),VLOOKUP(Year1DfE,Data!A:BF,58,FALSE),0))","v":0},null,"Apr - Aug 2019",null,null,{"$f":"IF(Year1DfE=5447,22588,IF(year1phase=2,VLOOKUP(Year1DfE,Data!A:BF,58,FALSE),0))","v":0},"I07"]
[2,"PE & Sport Premium Grant","I18",null,null,null,null,"Sep 19 - Mar 2020",{"$f":"SUM(IF(Year1F9>0,31.4,30.48)/12)*7","v":17.78},{"$f":"IF(year1phase=6,100,\nIF(OR(year1phase=1,year1phase=4),IF(SUM('Year 1'!F13)<100,100,SUM('Year 1'!F13))))","v":false},{"$f":"I8*J8","v":0},null,"Sep 19 - Mar 2020",{"$f":"SUM(IF(Year1F9>0,46.94,45.56)/12)*7","v":26.576666666666668},{"$f":"SUM('Year 1'!F14:F15)","v":0},{"$f":"N8*O8","v":0},"I08"]
[3,"Free School Meals Supplementary Grant","I18",null,null,null,null,"Apr - Aug 2020",{"$f":"SUM(IF(Year1F9>0,31.4,30.48)/12)*5","v":12.7},{"$f":"J8","v":false},{"$f":"I9*J9","v":0},null,"Apr - Aug 2020",{"$f":"SUM(IF(Year1F9>0,46.94,45.56)/12)*5","v":18.983333333333334},{"$f":"O8","v":0},{"$f":"N9*O9","v":0},"I09"]
[4,"Year 7 Catch Up","I06",null,null,null,null,"Sep 20 - Mar 2021",{"$f":"I8","v":17.78},{"$f":"IF(year1phase=6,100,IF(OR(year1phase=4,year1phase=1),IF(Pupils!B21=0,0,IF(SUM(Pupils!B21)<100,100,SUM(Pupils!B21)))))","v":false},{"$f":"I10*J10","v":0},null,"Sep 20 - Mar 2021",{"$f":"N8","v":26.576666666666668},{"$f":"SUM(Pupils!B22)","v":0},{"$f":"N10*O10","v":0},"I10"]
[5,null,null,null,null,null,null,"Apr - Aug 2020",{"$f":"I9","v":12.7},{"$f":"J10","v":false},{"$f":"I11*J11","v":0},null,"Apr - Aug 2020",{"$f":"N9","v":18.983333333333334},{"$f":"O10","v":0},{"$f":"N11*O11","v":0},"I11"]
[6,null,null,null,null,null,null,"Sep 21 - Mar 2022",{"$f":"I8","v":17.78},{"$f":"IF(year1phase=6,100,IF(OR(year1phase=4,year1phase=1),IF(Pupils!C21=0,0,IF(SUM(Pupils!C21)<100,100,SUM(Pupils!C21)))))","v":false},0,null,"Sep 21 - Mar 2022",{"$f":"N8","v":26.576666666666668},{"$f":"Pupils!C22","v":0},0,"I12"]
[7,null,null,null,null,null,null,null,null,null,null,null,null,null,null,null,"I13"]
[null,null,"Total",{"$f":"SUM(D7:D11)+IF($C$12<>\"\",D12,0)+IF($C$13<>\"\",D13,0)","v":0},{"$f":"SUM(E7:E11)+IF($C$12<>\"\",E12,0)+IF($C$13<>\"\",E13,0)","v":0},0,null,"Figures above are estimated and based on published rates as at 13th March 2019 and pupil numbers input in the Pupils tab.",null,null,null,null,null,null,null,null,"I14"]
[null,null,null,null,null,null,null,null,null,null,null,null,null,null,null,null,"I15"]
[null,null,null,null,null,null,null,null,null,null,null,null,null,null,null,null,"I16"]
[null,null,null,null,null,null,null,null,null,null,null,null,null,null,null,null,"I17"]
[null,null,null,null,null,null,null,null,null,null,null,null,null,null,null,null,"I18"]

{"sheet":"Early Years","index":11,"n_rows":130,"n_cols":11,"rows_kept":130,"cut":false,"hidden":false,"merged":[[129,1,129,4],[127,1,127,4],[67,1,67,4],[96,1,96,3],[16,1,16,3],[123,8,123,10],[124,8,124,10],[125,8,125,10],[98,2,98,4],[98,5,98,7],[98,8,98,10],[125,2,125,4],[125,5,125,7],[124,2,124,4],[124,5,124,7],[123,2,123,4],[123,5,123,7],[4,2,4,7],[69,2,69,4],[69,5,69,7],[69,8,69,10],[6,0,6,10],[17,2,17,4],[17,5,17,7],[17,8,17,10],[9,6,9,7],[8,6,8,7],[10,6,10,7],[11,6,11,7],[12,6,12,7]]}
[]
[null,null,null,null,null,null,null,null,null,null,{"$f":"Year1DfE","v":0}]
[]
[]
[null,null,{"$f":"schoolname","v":""}]
[]
["2019/20 Early Years Budget Estimation"]
[]
[null,"Hourly Rate",null,null,null,null,"Hourly rate"]
[null,"Base rate",null,null,null,null,{"$f":"IFERROR(VLOOKUP(Year1DfE,dataslate,44,0),0)","v":0}]
[null,"Qualified Teacher Supplement",null,null,null,null,{"$f":"IFERROR(VLOOKUP(Year1DfE,dataslate,45,0),0)","v":0}]
[null,"Disadvantage supplement",null,null,null,null,{"$f":"IFERROR(VLOOKUP(Year1DfE,dataslate,46,0),0)","v":0}]
[null,null,null,null,null,null,{"$f":"SUM(G10:G12)","v":0}]
[]
[null,"Please Enter your Pupil Numbers"]
[]
[null,"Please only enter qualifying pupils (follow link for guidance)"]
[null,null,"2019/20",null,null,"2020/21",null,null,"2021/22"]
[null,"Pupils Early Years Hours","Summer","Autumn","Spring","Summer","Autumn","Spring","Summer","Autumn","Spring"]
[null,1]
[null,2]
[null,3]
[null,4]
[null,5]
[null,6]
[null,7]
[null,8]
[null,9]
[null,10]
[null,11]
[null,12]
[null,13]
[null,14]
[null,15]
[null,16]
[null,17]
[null,18]
[null,19]
[null,20]
[null,21]
[null,22]
[null,23]
[null,24]
[null,25]
[null,26]
[null,27]
[null,28]
[null,29]
[null,30]
[null,"Total pupils:",{"$f":"SUM(C20:C49)","v":0},0,0,0,0,0,0,0,0]
[null,"Total Weekly Hours:",{"$f":"SUMPRODUCT(C20:C49,$B$20:$B$49)","v":0},{"$f":"SUMPRODUCT(D20:D49,$B$20:$B$49)","v":0},0,0,0,0,{"$f":"SUMPRODUCT(I20:I49,$B$20:$B$49)","v":0},{"$f":"SUMPRODUCT(J20:J49,$B$20:$B$49)","v":0},{"$f":"SUMPRODUCT(K20:K49,$B$20:$B$49)","v":0}]
[null,"Total Hours for Term:",{"$f":"C51*$H$55","v":0},{"$f":"D51*$H$56","v":0},{"$f":"E51*$H$57","v":0},{"$f":"F51*$H$55","v":0},{"$f":"G51*$H$56","v":0},{"$f":"H51*$H$57","v":0},{"$f":"I51*$H$55","v":0},{"$f":"J51*$H$56","v":0},{"$f":"K51*$H$57","v":0}]
[]
[null,null,null,"Hourly Rate",null,"Weekly Hours",null,"Weeks"]
[null,"Summer term 2019",null,{"$f":"littleones","v":0},null,{"$f":"C51","v":0},null,13,null,{"$f":"SUM(F55*H55)*D55","v":0}]
[null,"Autumn term 2019",null,{"$f":"littleones","v":0},null,{"$f":"D51","v":0},null,14,null,{"$f":"SUM(F56*H56)*D56","v":0}]
[null,"Spring term 2020",null,{"$f":"littleones","v":0},null,{"$f":"E51","v":0},null,11,null,{"$f":"SUM(F57*H57)*D57","v":0}]
[]
[null,{"$f":"IF(K2=1001,\"Nursery Lump Sum\",\"\")","v":""},null,null,null,null,null,null,null,{"$f":"IF(K2=1001,87036,0)","v":0}]
[null,"Total 2019/20 Estimated Budget:",null,null,null,null,null,null,null,{"$f":"IF(K2=1001,SUM(J55:J57)+J59,SUM(J55:J57))","v":0}]
[]
[]
[null,"Total 2020/21 Estimated Budget:",null,null,null,null,null,null,null,{"$f":"(SUM(F52:H52)*D57)+IF(K2=1001,J59,0)","v":0}]
[null,"Total 2021/22 Estimated Budget:",null,null,null,null,null,null,null,{"$f":"(SUM(I52:K52)*D57)+IF(K2=1001,J59,0)","v":0}]
[]
[null,"Early Years Pupil Premium (EYPP)"]
[]
[null,"Please only enter pupils who qualify for the Early Years Pupil Premium"]
[]
[null,null,"2019/20",null,null,"2020/21",null,null,"2021/22"]
[null,"Pupils Early Years Hours","Summer","Autumn","Spring","Summer","Autumn","Spring","Summer","Autumn","Spring"]
[null,1]
[null,2]
[null,3]
[null,4]
[null,5]
[null,6]
[null,7]
[null,8]
[null,9]
[null,10]
[null,11]
[null,12]
[null,13]
[null,14]
[null,15]
[null,"Total pupils:",{"$f":"SUM(C72:C86)","v":0},{"$f":"SUM(D72:D86)","v":0},{"$f":"SUM(E72:E86)","v":0},{"$f":"SUM(F72:F86)","v":0},0,0,0,0,0]
[null,"Total Weekly Hours:",{"$f":"SUMPRODUCT(C72:C86,$B$72:$B$86)","v":0},{"$f":"SUMPRODUCT(D72:D86,$B$72:$B$86)","v":0},0,0,0,0,0,{"$f":"SUMPRODUCT(J72:J86,$B$72:$B$86)","v":0},0]
[null,"Total Hours for Term:",{"$f":"C88*13","v":0},{"$f":"D88*14","v":0},{"$f":"E88*11","v":0},{"$f":"F88*13","v":0},{"$f":"G88*14","v":0},{"$f":"H88*11","v":0},{"$f":"I88*13","v":0},{"$f":"J88*14","v":0},{"$f":"K88*11","v":0}]
[null,"Rate per funded hour:",0.53,0.53,0.53,0.53,0.53,0.53,0.53,0.53,0.53]
[null,"Estimated Pupil Premium Funding:",{"$f":"C89*C90","v":0},{"$f":"D89*D90","v":0},0,0,0,0,0,0,{"$f":"K89*K90","v":0}]
[]
[]
[]
[null,"2 Year old funding"]
[]
[null,"Please only enter pupils who qualify for the 2 Year old funding"]
[]
[null,null,"2019/20",null,null,"2020/21",null,null,"2021/22"]
[null,"Pupils Early Years Hours","Summer","Autumn","Spring","Summer","Autumn","Spring","Summer","Autumn","Spring"]
[null,1]
[null,2]
[null,3]
[null,4]
[null,5]
[null,6]
[null,7]
[null,8]
[null,9]
[null,10]
[null,11]
[null,12]
[null,13]
[null,14]
[null,15]
[null,"Total pupils:",{"$f":"SUM(C101:C115)","v":0},{"$f":"SUM(D101:D115)","v":0},{"$f":"SUM(E101:E115)","v":0},{"$f":"SUM(F101:F115)","v":0},0,0,0,0,0]
[null,"Total Weekly Hours:",{"$f":"SUMPRODUCT(C101:C115,$B$101:$B$115)","v":0},{"$f":"SUMPRODUCT(D101:D115,$B$101:$B$115)","v":0},0,0,0,0,0,0,{"$f":"SUMPRODUCT(K101:K115,$B$101:$B$115)","v":0}]
[null,"Total Hours for Term:",{"$f":"C117*13","v":0},{"$f":"D117*14","v":0},{"$f":"E117*11","v":0},{"$f":"F117*13","v":0},{"$f":"G117*14","v":0},{"$f":"H117*11","v":0},{"$f":"I117*13","v":0},{"$f":"J117*14","v":0},{"$f":"K117*11","v":0}]
[null,"Rate per funded hour:",5.0199999999999996,5.0199999999999996,5.0199999999999996,5.0199999999999996,5.0199999999999996,5.0199999999999996,5.0199999999999996,5.0199999999999996,5.0199999999999996]
[null,"Estimated 2 Year old Funding:",{"$f":"C118*C119","v":0},{"$f":"D118*D119","v":0},0,0,0,0,0,0,{"$f":"K118*K119","v":0}]
[]
[]
[]
[null,null,"2019/20",null,null,"2020/21",null,null,"2021/22"]
[null,"Special Educational Needs Inclusion Fund (SENIF)"]
[null,"Disability Access Fund (DAF)"]
[]
[null,"Please only enter funding for pupils who qualify for the SENIF funding"]
[]
[null,"Please only enter funding for pupils who qualify for the DAF funding"]

{"sheet":"High Needs Mainstream","index":12,"n_rows":85,"n_cols":126,"rows_kept":85,"cut":false,"hidden":false,"merged":[[25,13,25,14],[14,73,14,76],[14,81,14,84],[9,30,9,41],[3,3,3,14],[11,2,11,10],[14,30,14,42],[14,44,14,56],[9,73,9,76],[9,81,9,84],[82,13,82,14],[82,2,82,10],[14,16,14,28],[12,2,12,10],[4,3,4,14],[14,2,14,14],[15,13,15,14],[16,13,16,14],[17,13,17,14],[18,13,18,14],[19,13,19,14],[20,13,20,14],[21,13,21,14],[22,13,22,14],[23,13,23,14],[24,13,24,14],[87,2,87,10],[87,16,87,28],[87,30,87,42],[87,44,87,56],[83,2,83,10],[84,2,84,10],[85,2,85,10],[26,13,26,14],[27,13,27,14],[28,13,28,14],[29,13,29,14],[30,13,30,14],[31,13,31,14],[32,13,32,14],[33,13,33,14],[34,13,34,14],[35,13,35,14],[36,13,36,14],[37,13,37,14],[38,13,38,14],[39,13,39,14],[40,13,40,14],[41,13,41,14],[42,13,42,14],[43,13,43,14],[44,13,44,14],[45,13,45,14],[46,13,46,14],[47,13,47,14],[48,13,48,14],[49,13,49,14],[50,13,50,14],[51,13,51,14],[52,13,52,14],[53,13,53,14],[54,13,54,14],[55,13,55,14],[56,13,56,14],[57,13,57,14],[58,13,58,14],[59,13,59,14],[60,13,60,14],[61,13,61,14],[62,13,62,14],[63,13,63,14],[64,13,64,14],[65,13,65,14],[66,13,66,14],[67,13,67,14],[68,13,68,14],[69,13,69,14],[70,13,70,14],[71,13,71,14],[72,13,72,14],[73,13,73,14],[74,13,74,14],[80,13,80,14],[75,13,75,14],[76,13,76,14],[77,13,77,14],[78,13,78,14],[79,13,79,14]]}
[null,null,null,null,null,null,null,null,null,null,null,null,null,null,null,null,"Notional SEN budget top up rate working"]
[null,null,null,{"$f":"Year1DfE","v":0},null,null,null,null,null,null,null,null,null,null,null,null,"Notional AEN/SEN Budget"]
[null,null,null,null,null,null,null,null,null,null,null,null,null,null,null,null,null,null,null,"IDACI",null,null,{"$f":"SUM('Year 1'!H21:H32)","v":0}]
[null,null,null,{"$f":"schoolname","v":""},null,null,null,null,null,null,null,null,null,null,null,null,null,null,null,"Ever 6 FSM",null,null,{"$f":"SUM('Year 1'!H19:H20)","v":0}]
[null,null,null,"2019/20",null,null,null,null,null,null,null,null,null,null,null,null,null,null,null,"Low Cost, high Incidence SEN",null,null,{"$f":"SUM('Year 1'!H36:H37)","v":0}]
[null,null,null,null,null,null,null,null,null,null,null,null,null,null,null,null,null,null,null,"English as an additional language",null,null,{"$f":"SUM('Year 1'!H34:H35)","v":0}]
[null,null,null,null,null,null,null,null,null,null,null,null,null,null,null,null,null,null,null,"Element of Lump Sum",null,null,{"$f":"IF(OR(Year1DfE=0,Year1DfE=1001),0,IF(Year1DfE=5458,2325,IF(year1phase=1,6235,5580)))","v":0}]
[null,null,null,null,null,null,null,null,null,null,null,null,null,null,null,null,null,null,null,"Area Cost Adjustment-London Fringe",null,null,{"$f":"IFERROR(SUM(W3:W7)*SUM(VLOOKUP(Year1DfE,dataslate,30,0)-1),0)","v":0}]
[null,null,null,null,null,null,null,null,null,null,null,null,null,null,null,null,null,null,null,"Total (with Area Cost Adjustment if applicable)",null,null,null,null,{"$f":"SUM(W3:W7)*IF(Year1F9>0,1.0364,1)","v":0}]
[null,null,null,null,null,null,null,null,null,null,null,null,null,null,null,null,"School Contribution per Pre-16 Pupil",null,null,null,null,null,null,null,6000,null,null,null,null,null,"Extra top up due to 28% rule"]
[null,null,null,null,null,null,null,null,null,null,null,null,null,null,null,null,"Notional AEN/SEN Top Up per Pre-16 Pupil (10%)",null,null,null,null,null,null,null,{"$f":"IF(Year1DfE=1001,0,IF(Y9>=60000,0,6000-(Y9*0.1)))","v":6000},null,null,null,null,null,{"$f":"IF(BG15>=senmax,\"Y\",\"N\")","v":"Y"},"Y","Y","Y","Y","Y","Y","Y","Y","Y","Y","Y","Total"]
[null,null,null,null,null,null,null,null,null,null,null,null,null,null,null,null,"Maximum Contribution for all Pre-16 Pupils (28%)",null,null,null,null,null,null,null,{"$f":"Y9*0.28","v":0},null,null,null,null,null,{"$f":"BG13","v":0},{"$f":"BH13-AE12","v":0},{"$f":"BI13-SUM(AE12:AF12)","v":0},{"$f":"BJ13-SUM(AE12:AG12)","v":0},{"$f":"BK13-SUM(AE12:AH12)","v":0},{"$f":"BL13-SUM(AE12:AI12)","v":0},{"$f":"BM13-SUM(AE12:AJ12)","v":0},{"$f":"BN13-SUM(AE12:AK12)","v":0},{"$f":"BO13-SUM(AE12:AL12)","v":0},{"$f":"BP13-SUM(AE12:AM12)","v":0},{"$f":"BQ13-SUM(AE12:AN12)","v":0},{"$f":"BR13-SUM(AE12:AO12)","v":0},{"$f":"SUM(AE12:AP12)","v":0}]
[null,null,null,null,null,null,null,null,null,null,null,null,null,null,null,null,null,null,null,null,null,null,null,null,null,null,null,null,null,null,null,null,null,null,null,null,null,null,null,null,null,null,null,null,null,null,null,null,null,null,null,null,null,null,null,null,null,null,{"$f":"IF(BG15-senmax<0,0,BG15-senmax)","v":0},0,0,0,0,0,0,0,0,0,0,0]
[null,null,null,null,"2018-09-01","2019-09-01"]
[null,null,"Pupil Data",null,null,null,null,null,null,null,null,null,null,null,null,null,"Element 3 top up",null,null,null,null,null,null,null,null,null,null,null,null,null,"Notional SEN budget top up",null,null,null,null,null,null,null,null,null,null,null,null,null,"Post 16 Element 2",null,null,null,null,null,null,null,null,null,null,null,null,null,{"$f":"BG16","v":0},{"$f":"BH16+BG15","v":0},0,0,0,0,0,{"$f":"BN16+BM15","v":0},0,0,0,{"$f":"BR16+BQ15","v":0},null,null,null,"2020/21",null,null,null,null,"2018/19",null,null,"2021/22"]
[null,null,"Name","Date of Birth","Year Group (Academic Year Sept 18 - Aug 19)","Year Group (Academic Year Sept 19 - Aug 20)","Start Date","End Date","Year 1 - Period 1 - (Apr to Aug)\nMonthly top up rate","Year 1 - Period 2 - (Sep to Dec)\nMonthly top up rate","Year 1 - Period 3 - (Jan to Mar)\nMonthly top up rate","Year 2 Monthly top up rate","Year 3 Monthly top up rate","Year 1 Total Funding linked to this Pupil",null,null,"April","May","June","July","August","September","October","November","December","January","February","March","Total",null,"April","May","June","July","August","September","October","November","December","January","February","March","Total",null,"April","May","June","July","August","September","October","November","December","January","February","March","Total",null,{"$f":"SUM(BG17:BG81)","v":0},{"$f":"SUM(BH17:BH81)","v":0},0,0,0,0,0,0,0,0,0,0,"Name","Pupil present between April and August","September to March Indicator","April to August (£)","September to March (£)","Notional SEN Budget Top Up","Post 16 Element 2",null,"Name","April to August Indicator","September to March Indicator","April to August (£)","September to March (£)","Notional SEN Budget Top Up","Post 16 Element 2",null,null,null,null,null,null,null,null,"April","May","June","July","August","September","October","November","December","January","February","March","Age1","Age2","Pre months","Post months",null,"April","May","June","July","August","September","October","November","December","January","February","March","Age1","Age2","Pre months","Post months"]
[null,null,null,null,{"$f":"IF(D17=\"\",\"\",IF(SUM(DATEDIF(D17,DATE(YEAR($E$14)+(MONTH($E$14)>8),8,31),\"Y\")-5)=0,\"R\",IF(SUM(DATEDIF(D17,DATE(YEAR($E$14)+(MONTH($E$14)>8),8,31),\"Y\")-5)<0,\"\",DATEDIF(D17,DATE(YEAR($E$14)+(MONTH($E$14)>8),8,31),\"Y\")-5)))","v":""},{"$f":"IF(D17=\"\",\"\",IF(SUM(DATEDIF(D17,DATE(YEAR($F$14)+(MONTH($F$14)>8),8,31),\"Y\")-5)=0,\"R\",DATEDIF(D17,DATE(YEAR($F$14)+(MONTH($F$14)>8),8,31),\"Y\")-5))","v":""},"2019-04-01","2022-03-31",null,null,null,null,null,{"$f":"AC17+AQ17+BE17","v":0},null,null,{"$f":"IF(AND($G17<DATE(2019,5,1),$H17>=DATE(2019,4,1)),$I17,0)","v":0},{"$f":"IF(AND($G17<DATE(2019,6,1),$H17>=DATE(2019,4,1)),$I17,0)","v":0},{"$f":"IF(AND($G17<DATE(2019,7,1),$H17>=DATE(2019,4,1)),$I17,0)","v":0},{"$f":"IF(AND($G17<DATE(2019,8,1),$H17>=DATE(2019,4,1)),$I17,0)","v":0},{"$f":"IF(AND($G17<DATE(2019,9,1),$H17>=DATE(2019,4,1)),$I17,0)","v":0},{"$f":"IF(AND($G17<DATE(2019,10,1),$H17>=DATE(2019,9,1)),$J17,0)","v":0},{"$f":"IF(AND($G17<DATE(2019,11,1),$H17>=DATE(2019,9,1)),$J17,0)","v":0},{"$f":"IF(AND($G17<DATE(2019,12,1),$H17>=DATE(2019,9,1)),$J17,0)","v":0},{"$f":"IF(AND($G17<DATE(2020,1,1),$H17>=DATE(2019,9,1)),$J17,0)","v":0},{"$f":"IF(AND($G17<DATE(2020,2,1),$H17>=DATE(2020,1,1)),$K17,0)","v":0},{"$f":"IF(AND($G17<DATE(2020,3,1),$H17>=DATE(2020,1,1)),$K17,0)","v":0},{"$f":"IF(AND($G17<DATE(2020,4,1),$H17>=DATE(2020,1,1)),$K17,0)","v":0},{"$f":"SUM(Q17:AB17)","v":0},null,{"$f":"IF(AND(Q17>0,$D17>DATE(2002,8,31)),sentopup/12,0)","v":0},{"$f":"IF(AND(R17>0,$D17>DATE(2002,8,31)),sentopup/12,0)","v":0},{"$f":"IF(AND(S17>0,$D17>DATE(2002,8,31)),sentopup/12,0)","v":0},{"$f":"IF(AND(T17>0,$D17>DATE(2002,8,31)),sentopup/12,0)","v":0},{"$f":"IF(AND(U17>0,$D17>DATE(2002,8,31)),sentopup/12,0)","v":0},{"$f":"IF(AND(V17>0,$D17>DATE(2003,8,1)),sentopup/12,0)","v":0},{"$f":"IF(AND(W17>0,$D17>DATE(2003,8,1)),sentopup/12,0)","v":0},{"$f":"IF(AND(X17>0,$D17>DATE(2003,8,1)),sentopup/12,0)","v":0},{"$f":"IF(AND(Y17>0,$D17>DATE(2003,8,1)),sentopup/12,0)","v":0},{"$f":"IF(AND(Z17>0,$D17>DATE(2003,8,1)),sentopup/12,0)","v":0},{"$f":"IF(AND(AA17>0,$D17>DATE(2003,8,1)),sentopup/12,0)","v":0},{"$f":"IF(AND(AB17>0,$D17>DATE(2003,8,1)),sentopup/12,0)","v":0},{"$f":"SUM(AE17:AP17)","v":0},null,{"$f":"IF(AND(Q17>0,$D17<DATE(2002,9,1),$D17>1),500,0)","v":0},{"$f":"IF(AND(R17>0,$D17<DATE(2002,9,1),$D17>1),500,0)","v":0},{"$f":"IF(AND(S17>0,$D17<DATE(2002,9,1),$D17>1),500,0)","v":0},{"$f":"IF(AND(T17>0,$D17<DATE(2002,9,1),$D17>1),500,0)","v":0},{"$f":"IF(AND(U17>0,$D17<DATE(2002,9,1),$D17>1),500,0)","v":0},{"$f":"IF(AND(V17>0,$D17<DATE(2003,9,1),$D17>1),500,0)","v":0},0,0,0,0,0,0,{"$f":"SUM(AS17:BD17)","v":0},null,{"$f":"IF($D17=\"\",0,IF(Q17>0,500-AE17-AS17,0))","v":0},{"$f":"IF($D17=\"\",0,IF(R17>0,500-AF17-AT17,0))","v":0},0,0,0,0,0,0,0,0,0,0,{"$f":"IF(AB17>0,C17,\"\")","v":""},{"$f":"IF(H17>DATE(2019,3,1),\"Yes\",\"No\")","v":"Yes"},{"$f":"IF(H17>DATE(2019,8,31),\"Yes\",\"No\")","v":"Yes"},{"$f":"IFERROR(IF(BT17=\"Yes\",L17*SUM(CP17:CT17),0),\"\")","v":0},{"$f":"IFERROR(IF(BU17=\"Yes\",L17*SUM(CU17:DA17),0),\"\")","v":0},{"$f":"SUM(sentopup/12)*DD17","v":0},{"$f":"SUM(6000/12)*DE17","v":0},null,null,{"$f":"IF(H17>DATE(2021,3,31),\"Yes\",\"No\")","v":"Yes"},{"$f":"IF(H17>=DATE(2021,8,31),\"Yes\",\"No\")","v":"Yes"},{"$f":"IFERROR(IF(CB17=\"Yes\",M17*SUM(DG17:DK17),0),\"\")","v":0},{"$f":"IFERROR(IF(CC17=\"Yes\",M17*SUM(DL17:DR17),0),\"\")","v":0},{"$f":"SUM(sentopup/12)*DU17","v":0},{"$f":"SUM(6000/12)*DV17","v":0},null,null,null,null,null,null,null,null,{"$f":"IF(AND($G17<DATE(2020,5,1),$H17>DATE(2020,3,31)),1,0)","v":1},{"$f":"IF(AND($G17<DATE(2020,6,1),$H17>DATE(2020,3,31)),1,0)","v":1},{"$f":"IF(AND($G17<DATE(2020,7,1),$H17>DATE(2020,3,31)),1,0)","v":1},{"$f":"IF(AND($G17<DATE(2020,8,1),$H17>DATE(2020,3,31)),1,0)","v":1},{"$f":"IF(AND($G17<DATE(2020,9,1),$H17>DATE(2020,3,31)),1,0)","v":1},{"$f":"IF(AND($G17<DATE(2020,10,1),$H17>DATE(2020,8,31)),1,0)","v":1},{"$f":"IF(AND($G17<DATE(2020,11,1),$H17>DATE(2020,8,31)),1,0)","v":1},{"$f":"IF(AND($G17<DATE(2020,12,1),$H17>DATE(2020,8,31)),1,0)","v":1},{"$f":"IF(AND($G17<DATE(2021,1,1),$H17>DATE(2020,8,31)),1,0)","v":1},{"$f":"IF(AND($G17<DATE(2021,2,1),$H17>DATE(2020,12,31)),1,0)","v":1},{"$f":"IF(AND($G17<DATE(2021,3,1),$H17>DATE(2020,12,31)),1,0)","v":1},{"$f":"IF(AND($G17<DATE(2021,4,1),$H17>DATE(2020,12,31)),1,0)","v":1},{"$f":"IF(AND(D17>1,D17<DATE(2003,9,1)),\"post\",IF(AND(D17>1,D17>DATE(2003,8,31)),\"pre\",\"null\"))","v":"null"},{"$f":"IF(AND(D17>1,D17<DATE(2004,9,1)),\"post\",IF(AND(D17>1,D17>DATE(2004,8,31)),\"pre\",\"null\"))","v":"null"},{"$f":"IF(AND(DB17=\"pre\",DC17=\"pre\"),SUM(CP17:DA17),\nIF(AND(DB17=\"post\",DC17=\"post\"),0,\nIF(AND(DB17=\"pre\",DC17=\"post\"),SUM(CP17:CT17),0)))","v":0},{"$f":"IF(AND(DB17=\"pre\",DC17=\"pre\"),0,\nIF(AND(DB17=\"post\",DC17=\"post\"),SUM(CP17:DA17),\nIF(AND(DB17=\"pre\",DC17=\"post\"),SUM(CU17:DA17),0)))","v":0},null,{"$f":"IF(AND($G17<DATE(2021,5,1),$H17>DATE(2021,3,31)),1,0)","v":1},{"$f":"IF(AND($G17<DATE(2021,6,1),$H17>DATE(2021,3,31)),1,0)","v":1},{"$f":"IF(AND($G17<DATE(2021,7,1),$H17>DATE(2021,3,31)),1,0)","v":1},{"$f":"IF(AND($G17<DATE(2021,8,1),$H17>DATE(2021,3,31)),1,0)","v":1},{"$f":"IF(AND($G17<DATE(2021,9,1),$H17>DATE(2021,3,31)),1,0)","v":1},{"$f":"IF(AND($G17<DATE(2021,10,1),$H17>DATE(2021,8,31)),1,0)","v":1},{"$f":"IF(AND($G17<DATE(2021,11,1),$H17>DATE(2021,8,31)),1,0)","v":1},{"$f":"IF(AND($G17<DATE(2021,12,1),$H17>DATE(2021,8,31)),1,0)","v":1},{"$f":"IF(AND($G17<DATE(2022,1,1),$H17>DATE(2021,8,31)),1,0)","v":1},{"$f":"IF(AND($G17<DATE(2022,2,1),$H17>DATE(2021,12,31)),1,0)","v":1},{"$f":"IF(AND($G17<DATE(2022,3,1),$H17>DATE(2021,12,31)),1,0)","v":1},{"$f":"IF(AND($G17<DATE(2022,4,1),$H17>DATE(2021,12,31)),1,0)","v":1},{"$f":"IF(AND(D17>1,D17<DATE(2004,9,1)),\"post\",IF(AND(D17>1,D17>DATE(2004,8,31)),\"pre\",\"null\"))","v":"null"},{"$f":"IF(AND(D17>1,D17<DATE(2005,9,1)),\"post\",IF(AND(D17>1,D17>DATE(2005,8,31)),\"pre\",\"null\"))","v":"null"},{"$f":"IF(AND(DS17=\"pre\",DT17=\"pre\"),SUM(DG17:DR17),\nIF(AND(DS17=\"post\",DT17=\"post\"),0,\nIF(AND(DS17=\"pre\",DT17=\"post\"),SUM(DG17:DK17),0)))","v":0},{"$f":"IF(AND(DS17=\"pre\",DT17=\"pre\"),0,\nIF(AND(DS17=\"post\",DT17=\"post\"),SUM(DG17:DR17),\nIF(AND(DS17=\"pre\",DT17=\"post\"),SUM(DL17:DR17),0)))","v":0}]
[null,null,null,null,"","","2019-04-01","2022-03-31",null,null,null,null,null,{"$f":"AC18+AQ18+BE18","v":0},null,null,{"$f":"IF(AND($G18<DATE(2019,5,1),$H18>=DATE(2019,4,1)),$I18,0)","v":0},{"$f":"IF(AND($G18<DATE(2019,6,1),$H18>=DATE(2019,4,1)),$I18,0)","v":0},{"$f":"IF(AND($G18<DATE(2019,7,1),$H18>=DATE(2019,4,1)),$I18,0)","v":0},{"$f":"IF(AND($G18<DATE(2019,8,1),$H18>=DATE(2019,4,1)),$I18,0)","v":0},{"$f":"IF(AND($G18<DATE(2019,9,1),$H18>=DATE(2019,4,1)),$I18,0)","v":0},{"$f":"IF(AND($G18<DATE(2019,10,1),$H18>=DATE(2019,9,1)),$J18,0)","v":0},{"$f":"IF(AND($G18<DATE(2019,11,1),$H18>=DATE(2019,9,1)),$J18,0)","v":0},{"$f":"IF(AND($G18<DATE(2019,12,1),$H18>=DATE(2019,9,1)),$J18,0)","v":0},{"$f":"IF(AND($G18<DATE(2020,1,1),$H18>=DATE(2019,9,1)),$J18,0)","v":0},{"$f":"IF(AND($G18<DATE(2020,2,1),$H18>=DATE(2020,1,1)),$K18,0)","v":0},{"$f":"IF(AND($G18<DATE(2020,3,1),$H18>=DATE(2020,1,1)),$K18,0)","v":0},{"$f":"IF(AND($G18<DATE(2020,4,1),$H18>=DATE(2020,1,1)),$K18,0)","v":0},{"$f":"SUM(Q18:AB18)","v":0},null,0,0,0,0,0,0,0,0,0,0,0,0,{"$f":"SUM(AE18:AP18)","v":0},null,{"$f":"IF(AND(Q18>0,$D18<DATE(2002,9,1),$D18>1),500,0)","v":0},{"$f":"IF(AND(R18>0,$D18<DATE(2002,9,1),$D18>1),500,0)","v":0},{"$f":"IF(AND(S18>0,$D18<DATE(2002,9,1),$D18>1),500,0)","v":0},{"$f":"IF(AND(T18>0,$D18<DATE(2002,9,1),$D18>1),500,0)","v":0},{"$f":"IF(AND(U18>0,$D18<DATE(2002,9,1),$D18>1),500,0)","v":0},{"$f":"IF(AND(V18>0,$D18<DATE(2003,9,1),$D18>1),500,0)","v":0},{"$f":"IF(AND(W18>0,$D18<DATE(2003,9,1),$D18>1),500,0)","v":0},{"$f":"IF(AND(X18>0,$D18<DATE(2003,9,1),$D18>1),500,0)","v":0},{"$f":"IF(AND(Y18>0,$D18<DATE(2003,9,1),$D18>1),500,0)","v":0},{"$f":"IF(AND(Z18>0,$D18<DATE(2003,9,1),$D18>1),500,0)","v":0},{"$f":"IF(AND(AA18>0,$D18<DATE(2003,9,1),$D18>1),500,0)","v":0},{"$f":"IF(AND(AB18>0,$D18<DATE(2003,9,1),$D18>1),500,0)","v":0},{"$f":"SUM(AS18:BD18)","v":0},null,{"$f":"IF($D18=\"\",0,IF(Q18>0,500-AE18-AS18,0))","v":0},{"$f":"IF($D18=\"\",0,IF(R18>0,500-AF18-AT18,0))","v":0},{"$f":"IF($D18=\"\",0,IF(S18>0,500-AG18-AU18,0))","v":0},{"$f":"IF($D18=\"\",0,IF(T18>0,500-AH18-AV18,0))","v":0},{"$f":"IF($D18=\"\",0,IF(U18>0,500-AI18-AW18,0))","v":0},{"$f":"IF($D18=\"\",0,IF(V18>0,500-AJ18-AX18,0))","v":0},{"$f":"IF($D18=\"\",0,IF(W18>0,500-AK18-AY18,0))","v":0},{"$f":"IF($D18=\"\",0,IF(X18>0,500-AL18-AZ18,0))","v":0},{"$f":"IF($D18=\"\",0,IF(Y18>0,500-AM18-BA18,0))","v":0},{"$f":"IF($D18=\"\",0,IF(Z18>0,500-AN18-BB18,0))","v":0},{"$f":"IF($D18=\"\",0,IF(AA18>0,500-AO18-BC18,0))","v":0},{"$f":"IF($D18=\"\",0,IF(AB18>0,500-AP18-BD18,0))","v":0},null,{"$f":"IF(H18>DATE(2019,3,1),\"Yes\",\"No\")","v":"Yes"},{"$f":"IF(H18>DATE(2019,8,31),\"Yes\",\"No\")","v":"Yes"},{"$f":"IFERROR(IF(BT18=\"Yes\",L18*SUM(CP18:CT18),0),\"\")","v":0},{"$f":"IFERROR(IF(BU18=\"Yes\",L18*SUM(CU18:DA18),0),\"\")","v":0},0,{"$f":"SUM(6000/12)*DE18","v":0},null,null,{"$f":"IF(H18>DATE(2021,3,31),\"Yes\",\"No\")","v":"Yes"},{"$f":"IF(H18>=DATE(2021,8,31),\"Yes\",\"No\")","v":"Yes"},{"$f":"IFERROR(IF(CB18=\"Yes\",M18*SUM(DG18:DK18),0),\"\")","v":0},{"$f":"IFERROR(IF(CC18=\"Yes\",M18*SUM(DL18:DR18),0),\"\")","v":0},0,{"$f":"SUM(6000/12)*DV18","v":0},null,null,null,null,null,null,null,null,{"$f":"IF(AND($G18<DATE(2020,5,1),$H18>DATE(2020,3,31)),1,0)","v":1},{"$f":"IF(AND($G18<DATE(2020,6,1),$H18>DATE(2020,3,31)),1,0)","v":1},{"$f":"IF(AND($G18<DATE(2020,7,1),$H18>DATE(2020,3,31)),1,0)","v":1},{"$f":"IF(AND($G18<DATE(2020,8,1),$H18>DATE(2020,3,31)),1,0)","v":1},{"$f":"IF(AND($G18<DATE(2020,9,1),$H18>DATE(2020,3,31)),1,0)","v":1},{"$f":"IF(AND($G18<DATE(2020,10,1),$H18>DATE(2020,8,31)),1,0)","v":1},{"$f":"IF(AND($G18<DATE(2020,11,1),$H18>DATE(2020,8,31)),1,0)","v":1},{"$f":"IF(AND($G18<DATE(2020,12,1),$H18>DATE(2020,8,31)),1,0)","v":1},{"$f":"IF(AND($G18<DATE(2021,1,1),$H18>DATE(2020,8,31)),1,0)","v":1},{"$f":"IF(AND($G18<DATE(2021,2,1),$H18>DATE(2020,12,31)),1,0)","v":1},{"$f":"IF(AND($G18<DATE(2021,3,1),$H18>DATE(2020,12,31)),1,0)","v":1},{"$f":"IF(AND($G18<DATE(2021,4,1),$H18>DATE(2020,12,31)),1,0)","v":1},{"$f":"IF(AND(D18>1,D18<DATE(2003,9,1)),\"post\",IF(AND(D18>1,D18>DATE(2003,8,31)),\"pre\",\"null\"))","v":"null"},{"$f":"IF(AND(D18>1,D18<DATE(2004,9,1)),\"post\",IF(AND(D18>1,D18>DATE(2004,8,31)),\"pre\",\"null\"))","v":"null"},{"$f":"IF(AND(DB18=\"pre\",DC18=\"pre\"),SUM(CP18:DA18),\nIF(AND(DB18=\"post\",DC18=\"post\"),0,\nIF(AND(DB18=\"pre\",DC18=\"post\"),SUM(CP18:CT18),0)))","v":0},{"$f":"IF(AND(DB18=\"pre\",DC18=\"pre\"),0,\nIF(AND(DB18=\"post\",DC18=\"post\"),SUM(CP18:DA18),\nIF(AND(DB18=\"pre\",DC18=\"post\"),SUM(CU18:DA18),0)))","v":0},null,{"$f":"IF(AND($G18<DATE(2021,5,1),$H18>DATE(2021,3,31)),1,0)","v":1},{"$f":"IF(AND($G18<DATE(2021,6,1),$H18>DATE(2021,3,31)),1,0)","v":1},{"$f":"IF(AND($G18<DATE(2021,7,1),$H18>DATE(2021,3,31)),1,0)","v":1},{"$f":"IF(AND($G18<DATE(2021,8,1),$H18>DATE(2021,3,31)),1,0)","v":1},{"$f":"IF(AND($G18<DATE(2021,9,1),$H18>DATE(2021,3,31)),1,0)","v":1},{"$f":"IF(AND($G18<DATE(2021,10,1),$H18>DATE(2021,8,31)),1,0)","v":1},{"$f":"IF(AND($G18<DATE(2021,11,1),$H18>DATE(2021,8,31)),1,0)","v":1},{"$f":"IF(AND($G18<DATE(2021,12,1),$H18>DATE(2021,8,31)),1,0)","v":1},{"$f":"IF(AND($G18<DATE(2022,1,1),$H18>DATE(2021,8,31)),1,0)","v":1},{"$f":"IF(AND($G18<DATE(2022,2,1),$H18>DATE(2021,12,31)),1,0)","v":1},{"$f":"IF(AND($G18<DATE(2022,3,1),$H18>DATE(2021,12,31)),1,0)","v":1},{"$f":"IF(AND($G18<DATE(2022,4,1),$H18>DATE(2021,12,31)),1,0)","v":1},{"$f":"IF(AND(D18>1,D18<DATE(2004,9,1)),\"post\",IF(AND(D18>1,D18>DATE(2004,8,31)),\"pre\",\"null\"))","v":"null"},{"$f":"IF(AND(D18>1,D18<DATE(2005,9,1)),\"post\",IF(AND(D18>1,D18>DATE(2005,8,31)),\"pre\",\"null\"))","v":"null"},{"$f":"IF(AND(DS18=\"pre\",DT18=\"pre\"),SUM(DG18:DR18),\nIF(AND(DS18=\"post\",DT18=\"post\"),0,\nIF(AND(DS18=\"pre\",DT18=\"post\"),SUM(DG18:DK18),0)))","v":0},{"$f":"IF(AND(DS18=\"pre\",DT18=\"pre\"),0,\nIF(AND(DS18=\"post\",DT18=\"post\"),SUM(DG18:DR18),\nIF(AND(DS18=\"pre\",DT18=\"post\"),SUM(DL18:DR18),0)))","v":0}]
[null,null,null,null,"","","2019-04-01","2022-03-31",null,null,null,null,null,0,null,null,0,0,0,0,0,0,0,0,0,0,0,0,0,null,0,0,0,0,0,0,0,0,0,0,0,0,0,null,0,0,0,0,0,0,0,0,0,0,0,0,0,null,0,0,0,0,0,0,0,0,0,0,0,0,null,"Yes","Yes",0,0,0,0,null,null,"Yes","Yes",0,0,0,0,null,null,null,null,null,null,null,null,1,1,1,1,1,1,1,1,1,1,1,1,"null","null",0,0,null,1,1,1,1,1,1,1,1,1,1,1,1,"null","null",0,0]
[null,null,null,null,"","","2019-04-01","2022-03-31",null,null,null,null,null,0,null,null,0,0,0,0,0,0,0,0,0,0,0,0,0,null,0,0,0,0,0,0,0,0,0,0,0,0,0,null,0,0,0,0,0,0,0,0,0,0,0,0,0,null,0,0,0,0,0,0,0,0,0,0,0,0,null,"Yes","Yes",0,0,0,0,null,null,"Yes","Yes",0,0,0,0,null,null,null,null,null,null,null,null,1,1,1,1,1,1,1,1,1,1,1,1,"null","null",0,0,null,1,1,1,1,1,1,1,1,1,1,1,1,"null","null",0,0]
[null,null,null,null,"","","2019-04-01","2022-03-31",null,null,null,null,null,0,null,null,0,0,0,0,0,0,0,0,0,0,0,0,0,null,0,0,0,0,0,0,0,0,0,0,0,0,0,null,0,0,0,0,0,0,0,0,0,0,0,0,0,null,0,0,0,0,0,0,0,0,0,0,0,0,null,"Yes","Yes",0,0,0,0,null,null,"Yes","Yes",0,0,0,0,null,null,null,null,null,null,null,null,1,1,1,1,1,1,1,1,1,1,1,1,"null","null",0,0,null,1,1,1,1,1,1,1,1,1,1,1,1,"null","null",0,0]
[null,null,null,null,"","","2019-04-01","2022-03-31",null,null,null,null,null,0,null,null,0,0,0,0,0,0,0,0,0,0,0,0,0,null,0,0,0,0,0,0,0,0,0,0,0,0,0,null,0,0,0,0,0,0,0,0,0,0,0,0,0,null,0,0,0,0,0,0,0,0,0,0,0,0,null,"Yes","Yes",0,0,0,0,null,null,"Yes","Yes",0,0,0,0,null,null,null,null,null,null,null,null,1,1,1,1,1,1,1,1,1,1,1,1,"null","null",0,0,null,1,1,1,1,1,1,1,1,1,1,1,1,"null","null",0,0]
[null,null,null,null,"","","2019-04-01","2022-03-31",null,null,null,null,null,0,null,null,0,0,0,0,0,0,0,0,0,0,0,0,{"$f":"SUM(Q23:AB23)","v":0},null,0,0,0,0,0,0,0,0,0,0,0,0,{"$f":"SUM(AE23:AP23)","v":0},null,0,0,0,0,0,0,0,0,0,0,0,0,{"$f":"SUM(AS23:BD23)","v":0},null,0,0,0,0,0,0,0,0,0,0,0,0,null,"Yes","Yes",0,0,0,0,null,null,"Yes","Yes",0,0,0,0,null,null,null,null,null,null,null,null,1,1,1,1,1,1,1,1,1,1,1,1,"null","null",0,0,null,1,1,1,1,1,1,1,1,1,1,1,1,"null","null",0,0]
[null,null,null,null,"","","2019-04-01","2022-03-31",null,null,null,null,null,0,null,null,0,0,0,0,0,0,0,0,0,0,0,0,0,null,0,0,0,0,0,0,0,0,0,0,0,0,0,null,0,0,0,0,0,0,0,0,0,0,0,0,0,null,0,0,0,0,0,0,0,0,0,0,0,0,null,"Yes","Yes",0,0,0,0,null,null,"Yes","Yes",0,0,0,0,null,null,null,null,null,null,null,null,1,1,1,1,1,1,1,1,1,1,1,1,"null","null",0,0,null,1,1,1,1,1,1,1,1,1,1,1,1,"null","null",0,0]
[null,null,null,null,"","","2019-04-01","2022-03-31",null,null,null,null,null,0,null,null,0,0,0,0,0,0,0,0,0,0,0,0,0,null,0,0,0,0,0,0,0,0,0,0,0,0,0,null,0,0,0,0,0,0,0,0,0,0,0,0,0,null,0,0,0,0,0,0,0,0,0,0,0,0,null,"Yes","Yes",0,0,0,0,null,null,"Yes","Yes",0,0,0,0,null,null,null,null,null,null,null,null,1,1,1,1,1,1,1,1,1,1,1,1,"null","null",0,0,null,1,1,1,1,1,1,1,1,1,1,1,1,"null","null",0,0]
[null,null,null,null,"","","2019-04-01","2022-03-31",null,null,null,null,null,0,null,null,0,0,0,0,0,0,0,0,0,0,0,0,0,null,0,0,0,0,0,0,0,0,0,0,0,0,0,null,0,0,0,0,0,0,0,0,0,0,0,0,0,null,0,0,0,0,0,0,0,0,0,0,0,0,null,"Yes","Yes",0,0,0,0,null,null,"Yes","Yes",0,0,0,0,null,null,null,null,null,null,null,null,1,1,1,1,1,1,1,1,1,1,1,1,"null","null",0,0,null,1,1,1,1,1,1,1,1,1,1,1,1,"null","null",0,0]
[null,null,null,null,"","","2019-04-01","2022-03-31",null,null,null,null,null,0,null,null,0,0,0,0,0,0,0,0,0,0,0,0,0,null,0,0,0,0,0,0,0,0,0,0,0,0,0,null,0,0,0,0,0,0,0,0,0,0,0,0,0,null,0,0,0,0,0,0,0,0,0,0,0,0,null,"Yes","Yes",0,0,0,0,null,null,"Yes","Yes",0,0,0,0,null,null,null,null,null,null,null,null,1,1,1,1,1,1,1,1,1,1,1,1,"null","null",0,0,null,1,1,1,1,1,1,1,1,1,1,1,1,"null","null",0,0]
[null,null,null,null,"","","2019-04-01","2022-03-31",null,null,null,null,null,0,null,null,0,0,0,0,0,0,0,0,0,0,0,0,0,null,0,0,0,0,0,0,0,0,0,0,0,0,0,null,0,0,0,0,0,0,0,0,0,0,0,0,0,null,0,0,0,0,0,0,0,0,0,0,0,0,null,"Yes","Yes",0,0,0,0,null,null,"Yes","Yes",0,0,0,0,null,null,null,null,null,null,null,null,1,1,1,1,1,1,1,1,1,1,1,1,"null","null",0,0,null,1,1,1,1,1,1,1,1,1,1,1,1,"null","null",0,0]
[null,null,null,null,"","","2019-04-01","2022-03-31",null,null,null,null,null,0,null,null,0,0,0,0,0,0,0,0,0,0,0,0,0,null,0,0,0,0,0,0,0,0,0,0,0,0,0,null,0,0,0,0,0,0,0,0,0,0,0,0,0,null,0,0,0,0,0,0,0,0,0,0,0,0,null,"Yes","Yes",0,0,0,0,null,null,"Yes","Yes",0,0,0,0,null,null,null,null,null,null,null,null,1,1,1,1,1,1,1,1,1,1,1,1,"null","null",0,0,null,1,1,1,1,1,1,1,1,1,1,1,1,"null","null",0,0]
[null,null,null,null,"","","2019-04-01","2022-03-31",null,null,null,null,null,0,null,null,0,0,0,0,0,0,0,0,0,0,0,0,0,null,0,0,0,0,0,0,0,0,0,0,0,0,0,null,0,0,0,0,0,0,0,0,0,0,0,0,0,null,0,0,0,0,0,0,0,0,0,0,0,0,null,"Yes","Yes",0,0,0,0,null,null,"Yes","Yes",0,0,0,0,null,null,null,null,null,null,null,null,1,1,1,1,1,1,1,1,1,1,1,1,"null","null",0,0,null,1,1,1,1,1,1,1,1,1,1,1,1,"null","null",0,0]
[null,null,null,null,"","","2019-04-01","2022-03-31",null,null,null,null,null,0,null,null,0,0,0,0,0,0,0,0,0,0,0,0,0,null,0,0,0,0,0,0,0,0,0,0,0,0,0,null,0,0,0,0,0,0,0,0,0,0,0,0,0,null,0,0,0,0,0,0,0,0,0,0,0,0,null,"Yes","Yes",0,0,0,0,null,null,"Yes","Yes",0,0,0,0,null,null,null,null,null,null,null,null,1,1,1,1,1,1,1,1,1,1,1,1,"null","null",0,0,null,1,1,1,1,1,1,1,1,1,1,1,1,"null","null",0,0]
[null,null,null,null,"","","2019-04-01","2022-03-31",null,null,null,null,null,0,null,null,0,0,0,0,0,0,0,0,0,0,0,0,0,null,0,0,0,0,0,0,0,0,0,0,0,0,0,null,0,0,0,0,0,0,0,0,0,0,0,0,0,null,0,0,0,0,0,0,0,0,0,0,0,0,null,"Yes","Yes",0,0,0,0,null,null,"Yes","Yes",0,0,0,0,null,null,null,null,null,null,null,null,1,1,1,1,1,1,1,1,1,1,1,1,"null","null",0,0,null,1,1,1,1,1,1,1,1,1,1,1,1,"null","null",0,0]
[null,null,null,null,"","","2019-04-01","2022-03-31",null,null,null,null,null,0,null,null,0,0,0,0,0,0,0,0,0,0,0,0,0,null,0,0,0,0,0,0,0,0,0,0,0,0,0,null,0,0,0,0,0,0,0,0,0,0,0,0,0,null,0,0,0,0,0,0,0,0,0,0,0,0,null,"Yes","Yes",0,0,0,0,null,null,"Yes","Yes",0,0,0,0,null,null,null,null,null,null,null,null,1,1,1,1,1,1,1,1,1,1,1,1,"null","null",0,0,null,1,1,1,1,1,1,1,1,1,1,1,1,"null","null",0,0]
[null,null,null,null,"","","2019-04-01","2022-03-31",null,null,null,null,null,0,null,null,0,0,0,0,0,0,0,0,0,0,0,0,0,null,0,0,0,0,0,0,0,0,0,0,0,0,0,null,0,0,0,0,0,0,0,0,0,0,0,0,0,null,0,0,0,0,0,0,0,0,0,0,0,0,null,"Yes","Yes",0,0,0,0,null,null,"Yes","Yes",0,0,0,0,null,null,null,null,null,null,null,null,1,1,1,1,1,1,1,1,1,1,1,1,"null","null",0,0,null,1,1,1,1,1,1,1,1,1,1,1,1,"null","null",0,0]
[null,null,null,null,"","","2019-04-01","2022-03-31",null,null,null,null,null,0,null,null,0,0,0,0,0,0,0,0,0,0,0,0,0,null,0,0,0,0,0,0,0,0,0,0,0,0,0,null,0,0,0,0,0,0,0,0,0,0,0,0,0,null,0,0,0,0,0,0,0,0,0,0,0,0,null,"Yes","Yes",0,0,0,0,null,null,"Yes","Yes",0,0,0,0,null,null,null,null,null,null,null,null,1,1,1,1,1,1,1,1,1,1,1,1,"null","null",0,0,null,1,1,1,1,1,1,1,1,1,1,1,1,"null","null",0,0]
[null,null,null,null,"","","2019-04-01","2022-03-31",null,null,null,null,null,0,null,null,0,0,0,0,0,0,0,0,0,0,0,0,0,null,0,0,0,0,0,0,0,0,0,0,0,0,0,null,0,0,0,0,0,0,0,0,0,0,0,0,0,null,0,0,0,0,0,0,0,0,0,0,0,0,null,"Yes","Yes",0,0,0,0,null,null,"Yes","Yes",0,0,0,0,null,null,null,null,null,null,null,null,1,1,1,1,1,1,1,1,1,1,1,1,"null","null",0,0,null,1,1,1,1,1,1,1,1,1,1,1,1,"null","null",0,0]
[null,null,null,null,"","","2019-04-01","2022-03-31",null,null,null,null,null,0,null,null,0,0,0,0,0,0,0,0,0,0,0,0,0,null,0,0,0,0,0,0,0,0,0,0,0,0,0,null,0,0,0,0,0,0,0,0,0,0,0,0,0,null,0,0,0,0,0,0,0,0,0,0,0,0,null,"Yes","Yes",0,0,0,0,null,null,"Yes","Yes",0,0,0,0,null,null,null,null,null,null,null,null,1,1,1,1,1,1,1,1,1,1,1,1,"null","null",0,0,null,1,1,1,1,1,1,1,1,1,1,1,1,"null","null",0,0]
[null,null,null,null,"","","2019-04-01","2022-03-31",null,null,null,null,null,0,null,null,0,0,0,0,0,0,0,0,0,0,0,0,0,null,0,0,0,0,0,0,0,0,0,0,0,0,0,null,0,0,0,0,0,0,0,0,0,0,0,0,0,null,0,0,0,0,0,0,0,0,0,0,0,0,null,"Yes","Yes",0,0,0,0,null,null,"Yes","Yes",0,0,0,0,null,null,null,null,null,null,null,null,1,1,1,1,1,1,1,1,1,1,1,1,"null","null",0,0,null,1,1,1,1,1,1,1,1,1,1,1,1,"null","null",0,0]
[null,null,null,null,"","","2019-04-01","2022-03-31",null,null,null,null,null,0,null,null,0,0,0,0,0,0,0,0,0,0,0,0,0,null,0,0,0,0,0,0,0,0,0,0,0,0,0,null,0,0,0,0,0,0,0,0,0,0,0,0,0,null,0,0,0,0,0,0,0,0,0,0,0,0,null,"Yes","Yes",0,0,0,0,null,null,"Yes","Yes",0,0,0,0,null,null,null,null,null,null,null,null,1,1,1,1,1,1,1,1,1,1,1,1,"null","null",0,0,null,1,1,1,1,1,1,1,1,1,1,1,1,"null","null",0,0]
[null,null,null,null,"","","2019-04-01","2022-03-31",null,null,null,null,null,0,null,null,0,0,0,0,0,0,0,0,0,0,0,0,0,null,0,0,0,0,0,0,0,0,0,0,0,0,0,null,0,0,0,0,0,0,0,0,0,0,0,0,0,null,0,0,0,0,0,0,0,0,0,0,0,0,null,"Yes","Yes",0,0,0,0,null,null,"Yes","Yes",0,0,0,0,null,null,null,null,null,null,null,null,1,1,1,1,1,1,1,1,1,1,1,1,"null","null",0,0,null,1,1,1,1,1,1,1,1,1,1,1,1,"null","null",0,0]
[null,null,null,null,"","","2019-04-01","2022-03-31",null,null,null,null,null,0,null,null,0,0,0,0,0,0,0,0,0,0,0,0,0,null,0,0,0,0,0,0,0,0,0,0,0,0,0,null,0,0,0,0,0,0,0,0,0,0,0,0,0,null,0,0,0,0,0,0,0,0,0,0,0,0,null,"Yes","Yes",0,0,0,0,null,null,"Yes","Yes",0,0,0,0,null,null,null,null,null,null,null,null,1,1,1,1,1,1,1,1,1,1,1,1,"null","null",0,0,null,1,1,1,1,1,1,1,1,1,1,1,1,"null","null",0,0]
[null,null,null,null,"","","2019-04-01","2022-03-31",null,null,null,null,null,0,null,null,0,0,0,0,0,0,0,0,0,0,0,0,0,null,0,0,0,0,0,0,0,0,0,0,0,0,0,null,0,0,0,0,0,0,0,0,0,0,0,0,0,null,0,0,0,0,0,0,0,0,0,0,0,0,null,"Yes","Yes",0,0,0,0,null,null,"Yes","Yes",0,0,0,0,null,null,null,null,null,null,null,null,1,1,1,1,1,1,1,1,1,1,1,1,"null","null",0,0,null,1,1,1,1,1,1,1,1,1,1,1,1,"null","null",0,0]
[null,null,null,null,"","","2019-04-01","2022-03-31",null,null,null,null,null,0,null,null,0,0,0,0,0,0,0,0,0,0,0,0,0,null,0,0,0,0,0,0,0,0,0,0,0,0,0,null,0,0,0,0,0,0,0,0,0,0,0,0,0,null,0,0,0,0,0,0,0,0,0,0,0,0,null,"Yes","Yes",0,0,0,0,null,null,"Yes","Yes",0,0,0,0,null,null,null,null,null,null,null,null,1,1,1,1,1,1,1,1,1,1,1,1,"null","null",0,0,null,1,1,1,1,1,1,1,1,1,1,1,1,"null","null",0,0]
[null,null,null,null,"","","2019-04-01","2022-03-31",null,null,null,null,null,0,null,null,0,0,0,0,0,0,0,0,0,0,0,0,0,null,0,0,0,0,0,0,0,0,0,0,0,0,0,null,0,0,0,0,0,0,0,0,0,0,0,0,0,null,0,0,0,0,0,0,0,0,0,0,0,0,null,"Yes","Yes",0,0,0,0,null,null,"Yes","Yes",0,0,0,0,null,null,null,null,null,null,null,null,1,1,1,1,1,1,1,1,1,1,1,1,"null","null",0,0,null,1,1,1,1,1,1,1,1,1,1,1,1,"null","null",0,0]
[null,null,null,null,"","","2019-04-01","2022-03-31",null,null,null,null,null,0,null,null,0,0,0,0,0,0,0,0,0,0,0,0,0,null,0,0,0,0,0,0,0,0,0,0,0,0,0,null,0,0,0,0,0,0,0,0,0,0,0,0,0,null,0,0,0,0,0,0,0,0,0,0,0,0,null,"Yes","Yes",0,0,0,0,null,null,"Yes","Yes",0,0,0,0,null,null,null,null,null,null,null,null,1,1,1,1,1,1,1,1,1,1,1,1,"null","null",0,0,null,1,1,1,1,1,1,1,1,1,1,1,1,"null","null",0,0]
[null,null,null,null,"","","2019-04-01","2022-03-31",null,null,null,null,null,0,null,null,0,0,0,0,0,0,0,0,0,0,0,0,0,null,0,0,0,0,0,0,0,0,0,0,0,0,0,null,0,0,0,0,0,0,0,0,0,0,0,0,0,null,0,0,0,0,0,0,0,0,0,0,0,0,null,"Yes","Yes",0,0,0,0,null,null,"Yes","Yes",0,0,0,0,null,null,null,null,null,null,null,null,1,1,1,1,1,1,1,1,1,1,1,1,"null","null",0,0,null,1,1,1,1,1,1,1,1,1,1,1,1,"null","null",0,0]
[null,null,null,null,"","","2019-04-01","2022-03-31",null,null,null,null,null,0,null,null,0,0,0,0,0,0,0,0,0,0,0,0,0,null,0,0,0,0,0,0,0,0,0,0,0,0,0,null,0,0,0,0,0,0,0,0,0,0,0,0,0,null,0,0,0,0,0,0,0,0,0,0,0,0,null,"Yes","Yes",0,0,0,0,null,null,"Yes","Yes",0,0,0,0,null,null,null,null,null,null,null,null,1,1,1,1,1,1,1,1,1,1,1,1,"null","null",0,0,null,1,1,1,1,1,1,1,1,1,1,1,1,"null","null",0,0]
[null,null,null,null,"","","2019-04-01","2022-03-31",null,null,null,null,null,0,null,null,0,0,0,0,0,0,0,0,0,0,0,0,{"$f":"SUM(Q48:AB48)","v":0},null,0,0,0,0,0,0,0,0,0,0,0,0,{"$f":"SUM(AE48:AP48)","v":0},null,0,0,0,0,0,0,0,0,0,0,0,0,{"$f":"SUM(AS48:BD48)","v":0},null,0,0,0,0,0,0,0,0,0,0,0,0,null,"Yes","Yes",0,0,0,0,null,null,"Yes","Yes",0,0,0,0,null,null,null,null,null,null,null,null,1,1,1,1,1,1,1,1,1,1,1,1,"null","null",0,0,null,1,1,1,1,1,1,1,1,1,1,1,1,"null","null",0,0]
[null,null,null,null,{"$f":"IF(D49=\"\",\"\",IF(SUM(DATEDIF(D49,DATE(YEAR($E$14)+(MONTH($E$14)>8),8,31),\"Y\")-5)=0,\"R\",IF(SUM(DATEDIF(D49,DATE(YEAR($E$14)+(MONTH($E$14)>8),8,31),\"Y\")-5)<0,\"\",DATEDIF(D49,DATE(YEAR($E$14)+(MONTH($E$14)>8),8,31),\"Y\")-5)))","v":""},{"$f":"IF(D49=\"\",\"\",IF(SUM(DATEDIF(D49,DATE(YEAR($F$14)+(MONTH($F$14)>8),8,31),\"Y\")-5)=0,\"R\",DATEDIF(D49,DATE(YEAR($F$14)+(MONTH($F$14)>8),8,31),\"Y\")-5))","v":""},"2019-04-01","2022-03-31",null,null,null,null,null,0,null,null,0,0,0,0,0,0,0,0,0,0,0,0,0,null,{"$f":"IF(AND(Q49>0,$D49>DATE(2002,8,31)),sentopup/12,0)","v":0},{"$f":"IF(AND(R49>0,$D49>DATE(2002,8,31)),sentopup/12,0)","v":0},{"$f":"IF(AND(S49>0,$D49>DATE(2002,8,31)),sentopup/12,0)","v":0},{"$f":"IF(AND(T49>0,$D49>DATE(2002,8,31)),sentopup/12,0)","v":0},{"$f":"IF(AND(U49>0,$D49>DATE(2002,8,31)),sentopup/12,0)","v":0},{"$f":"IF(AND(V49>0,$D49>DATE(2003,8,1)),sentopup/12,0)","v":0},{"$f":"IF(AND(W49>0,$D49>DATE(2003,8,1)),sentopup/12,0)","v":0},{"$f":"IF(AND(X49>0,$D49>DATE(2003,8,1)),sentopup/12,0)","v":0},{"$f":"IF(AND(Y49>0,$D49>DATE(2003,8,1)),sentopup/12,0)","v":0},{"$f":"IF(AND(Z49>0,$D49>DATE(2003,8,1)),sentopup/12,0)","v":0},{"$f":"IF(AND(AA49>0,$D49>DATE(2003,8,1)),sentopup/12,0)","v":0},{"$f":"IF(AND(AB49>0,$D49>DATE(2003,8,1)),sentopup/12,0)","v":0},0,null,0,0,0,0,0,0,0,0,0,0,0,0,0,null,0,0,0,0,0,0,0,0,0,0,0,0,null,"Yes","Yes",0,0,{"$f":"SUM(sentopup/12)*DD49","v":0},0,null,null,"Yes","Yes",0,0,{"$f":"SUM(sentopup/12)*DU49","v":0},0,null,null,null,null,null,null,null,null,1,1,1,1,1,1,1,1,1,1,1,1,"null","null",0,0,null,1,1,1,1,1,1,1,1,1,1,1,1,"null","null",0,0]
[null,null,null,null,"","","2019-04-01","2022-03-31",null,null,null,null,null,0,null,null,0,0,0,0,0,0,0,0,0,0,0,0,0,null,0,0,0,0,0,0,0,0,0,0,0,0,0,null,0,0,0,0,0,0,0,0,0,0,0,0,0,null,0,0,0,0,0,0,0,0,0,0,0,0,null,"Yes","Yes",0,0,0,0,null,null,"Yes","Yes",0,0,0,0,null,null,null,null,null,null,null,null,1,1,1,1,1,1,1,1,1,1,1,1,"null","null",0,0,null,1,1,1,1,1,1,1,1,1,1,1,1,"null","null",0,0]
[null,null,null,null,"","","2019-04-01","2022-03-31",null,null,null,null,null,0,null,null,0,0,0,0,0,0,0,0,0,0,0,0,0,null,0,0,0,0,0,0,0,0,0,0,0,0,0,null,0,0,0,0,0,0,0,0,0,0,0,0,0,null,0,0,0,0,0,0,0,0,0,0,0,0,null,"Yes","Yes",0,0,0,0,null,null,"Yes","Yes",0,0,0,0,null,null,null,null,null,null,null,null,1,1,1,1,1,1,1,1,1,1,1,1,"null","null",0,0,null,1,1,1,1,1,1,1,1,1,1,1,1,"null","null",0,0]
[null,null,null,null,"","","2019-04-01","2022-03-31",null,null,null,null,null,0,null,null,0,0,0,0,0,0,0,0,0,0,0,0,0,null,0,0,0,0,0,0,0,0,0,0,0,0,0,null,0,0,0,0,0,0,0,0,0,0,0,0,0,null,0,0,0,0,0,0,0,0,0,0,0,0,null,"Yes","Yes",0,0,0,0,null,null,"Yes","Yes",0,0,0,0,null,null,null,null,null,null,null,null,1,1,1,1,1,1,1,1,1,1,1,1,"null","null",0,0,null,1,1,1,1,1,1,1,1,1,1,1,1,"null","null",0,0]
[null,null,null,null,"","","2019-04-01","2022-03-31",null,null,null,null,null,0,null,null,0,0,0,0,0,0,0,0,0,0,0,0,0,null,0,0,0,0,0,0,0,0,0,0,0,0,0,null,0,0,0,0,0,0,0,0,0,0,0,0,0,null,0,0,0,0,0,0,0,0,0,0,0,0,null,"Yes","Yes",0,0,0,0,null,null,"Yes","Yes",0,0,0,0,null,null,null,null,null,null,null,null,1,1,1,1,1,1,1,1,1,1,1,1,"null","null",0,0,null,1,1,1,1,1,1,1,1,1,1,1,1,"null","null",0,0]
[null,null,null,null,"","","2019-04-01","2022-03-31",null,null,null,null,null,0,null,null,0,0,0,0,0,0,0,0,0,0,0,0,0,null,0,0,0,0,0,0,0,0,0,0,0,0,0,null,0,0,0,0,0,0,0,0,0,0,0,0,0,null,0,0,0,0,0,0,0,0,0,0,0,0,null,"Yes","Yes",0,0,0,0,null,null,"Yes","Yes",0,0,0,0,null,null,null,null,null,null,null,null,1,1,1,1,1,1,1,1,1,1,1,1,"null","null",0,0,null,1,1,1,1,1,1,1,1,1,1,1,1,"null","null",0,0]
[null,null,null,null,"","","2019-04-01","2022-03-31",null,null,null,null,null,0,null,null,0,0,0,0,0,0,0,0,0,0,0,0,0,null,0,0,0,0,0,0,0,0,0,0,0,0,0,null,0,0,0,0,0,0,0,0,0,0,0,0,0,null,0,0,0,0,0,0,0,0,0,0,0,0,null,"Yes","Yes",0,0,0,0,null,null,"Yes","Yes",0,0,0,0,null,null,null,null,null,null,null,null,1,1,1,1,1,1,1,1,1,1,1,1,"null","null",0,0,null,1,1,1,1,1,1,1,1,1,1,1,1,"null","null",0,0]
[null,null,null,null,"","","2019-04-01","2022-03-31",null,null,null,null,null,0,null,null,0,0,0,0,0,0,0,0,0,0,0,0,0,null,0,0,0,0,0,0,0,0,0,0,0,0,0,null,0,0,0,0,0,0,0,0,0,0,0,0,0,null,0,0,0,0,0,0,0,0,0,0,0,0,null,"Yes","Yes",0,0,0,0,null,null,"Yes","Yes",0,0,0,0,null,null,null,null,null,null,null,null,1,1,1,1,1,1,1,1,1,1,1,1,"null","null",0,0,null,1,1,1,1,1,1,1,1,1,1,1,1,"null","null",0,0]
[null,null,null,null,"","","2019-04-01","2022-03-31",null,null,null,null,null,0,null,null,0,0,0,0,0,0,0,0,0,0,0,0,0,null,0,0,0,0,0,0,0,0,0,0,0,0,0,null,0,0,0,0,0,0,0,0,0,0,0,0,0,null,0,0,0,0,0,0,0,0,0,0,0,0,null,"Yes","Yes",0,0,0,0,null,null,"Yes","Yes",0,0,0,0,null,null,null,null,null,null,null,null,1,1,1,1,1,1,1,1,1,1,1,1,"null","null",0,0,null,1,1,1,1,1,1,1,1,1,1,1,1,"null","null",0,0]
[null,null,null,null,"","","2019-04-01","2022-03-31",null,null,null,null,null,0,null,null,0,0,0,0,0,0,0,0,0,0,0,0,0,null,0,0,0,0,0,0,0,0,0,0,0,0,0,null,0,0,0,0,0,0,0,0,0,0,0,0,0,null,0,0,0,0,0,0,0,0,0,0,0,0,null,"Yes","Yes",0,0,0,0,null,null,"Yes","Yes",0,0,0,0,null,null,null,null,null,null,null,null,1,1,1,1,1,1,1,1,1,1,1,1,"null","null",0,0,null,1,1,1,1,1,1,1,1,1,1,1,1,"null","null",0,0]
[null,null,null,null,"","","2019-04-01","2022-03-31",null,null,null,null,null,0,null,null,0,0,0,0,0,0,0,0,0,0,0,0,0,null,0,0,0,0,0,0,0,0,0,0,0,0,0,null,0,0,0,0,0,0,0,0,0,0,0,0,0,null,0,0,0,0,0,0,0,0,0,0,0,0,null,"Yes","Yes",0,0,0,0,null,null,"Yes","Yes",0,0,0,0,null,null,null,null,null,null,null,null,1,1,1,1,1,1,1,1,1,1,1,1,"null","null",0,0,null,1,1,1,1,1,1,1,1,1,1,1,1,"null","null",0,0]
[null,null,null,null,"","","2019-04-01","2022-03-31",null,null,null,null,null,0,null,null,0,0,0,0,0,0,0,0,0,0,0,0,0,null,0,0,0,0,0,0,0,0,0,0,0,0,0,null,0,0,0,0,0,0,0,0,0,0,0,0,0,null,0,0,0,0,0,0,0,0,0,0,0,0,null,"Yes","Yes",0,0,0,0,null,null,"Yes","Yes",0,0,0,0,null,null,null,null,null,null,null,null,1,1,1,1,1,1,1,1,1,1,1,1,"null","null",0,0,null,1,1,1,1,1,1,1,1,1,1,1,1,"null","null",0,0]
[null,null,null,null,"","","2019-04-01","2022-03-31",null,null,null,null,null,0,null,null,0,0,0,0,0,0,0,0,0,0,0,0,0,null,0,0,0,0,0,0,0,0,0,0,0,0,0,null,0,0,0,0,0,0,0,0,0,0,0,0,0,null,0,0,0,0,0,0,0,0,0,0,0,0,null,"Yes","Yes",0,0,0,0,null,null,"Yes","Yes",0,0,0,0,null,null,null,null,null,null,null,null,1,1,1,1,1,1,1,1,1,1,1,1,"null","null",0,0,null,1,1,1,1,1,1,1,1,1,1,1,1,"null","null",0,0]
[null,null,null,null,"","","2019-04-01","2022-03-31",null,null,null,null,null,0,null,null,0,0,0,0,0,0,0,0,0,0,0,0,0,null,0,0,0,0,0,0,0,0,0,0,0,0,0,null,0,0,0,0,0,0,0,0,0,0,0,0,0,null,0,0,0,0,0,0,0,0,0,0,0,0,null,"Yes","Yes",0,0,0,0,null,null,"Yes","Yes",0,0,0,0,null,null,null,null,null,null,null,null,1,1,1,1,1,1,1,1,1,1,1,1,"null","null",0,0,null,1,1,1,1,1,1,1,1,1,1,1,1,"null","null",0,0]
[null,null,null,null,"","","2019-04-01","2022-03-31",null,null,null,null,null,0,null,null,0,0,0,0,0,0,0,0,0,0,0,0,0,null,0,0,0,0,0,0,0,0,0,0,0,0,0,null,0,0,0,0,0,0,0,0,0,0,0,0,0,null,0,0,0,0,0,0,0,0,0,0,0,0,null,"Yes","Yes",0,0,0,0,null,null,"Yes","Yes",0,0,0,0,null,null,null,null,null,null,null,null,1,1,1,1,1,1,1,1,1,1,1,1,"null","null",0,0,null,1,1,1,1,1,1,1,1,1,1,1,1,"null","null",0,0]
[null,null,null,null,"","","2019-04-01","2022-03-31",null,null,null,null,null,0,null,null,0,0,0,0,0,0,0,0,0,0,0,0,0,null,0,0,0,0,0,0,0,0,0,0,0,0,0,null,0,0,0,0,0,0,0,0,0,0,0,0,0,null,0,0,0,0,0,0,0,0,0,0,0,0,null,"Yes","Yes",0,0,0,0,null,null,"Yes","Yes",0,0,0,0,null,null,null,null,null,null,null,null,1,1,1,1,1,1,1,1,1,1,1,1,"null","null",0,0,null,1,1,1,1,1,1,1,1,1,1,1,1,"null","null",0,0]
[null,null,null,null,"","","2019-04-01","2022-03-31",null,null,null,null,null,0,null,null,0,0,0,0,0,0,0,0,0,0,0,0,0,null,0,0,0,0,0,0,0,0,0,0,0,0,0,null,0,0,0,0,0,0,0,0,0,0,0,0,0,null,0,0,0,0,0,0,0,0,0,0,0,0,null,"Yes","Yes",0,0,0,0,null,null,"Yes","Yes",0,0,0,0,null,null,null,null,null,null,null,null,1,1,1,1,1,1,1,1,1,1,1,1,"null","null",0,0,null,1,1,1,1,1,1,1,1,1,1,1,1,"null","null",0,0]
[null,null,null,null,"","","2019-04-01","2022-03-31",null,null,null,null,null,0,null,null,0,0,0,0,0,0,0,0,0,0,0,0,0,null,0,0,0,0,0,0,0,0,0,0,0,0,0,null,0,0,0,0,0,0,0,0,0,0,0,0,0,null,0,0,0,0,0,0,0,0,0,0,0,0,null,"Yes","Yes",0,0,0,0,null,null,"Yes","Yes",0,0,0,0,null,null,null,null,null,null,null,null,1,1,1,1,1,1,1,1,1,1,1,1,"null","null",0,0,null,1,1,1,1,1,1,1,1,1,1,1,1,"null","null",0,0]
[null,null,null,null,"","","2019-04-01","2022-03-31",null,null,null,null,null,0,null,null,0,0,0,0,0,0,0,0,0,0,0,0,0,null,0,0,0,0,0,0,0,0,0,0,0,0,0,null,0,0,0,0,0,0,0,0,0,0,0,0,0,null,0,0,0,0,0,0,0,0,0,0,0,0,null,"Yes","Yes",0,0,0,0,null,null,"Yes","Yes",0,0,0,0,null,null,null,null,null,null,null,null,1,1,1,1,1,1,1,1,1,1,1,1,"null","null",0,0,null,1,1,1,1,1,1,1,1,1,1,1,1,"null","null",0,0]
[null,null,null,null,"","","2019-04-01","2022-03-31",null,null,null,null,null,0,null,null,0,0,0,0,0,0,0,0,0,0,0,0,0,null,0,0,0,0,0,0,0,0,0,0,0,0,0,null,0,0,0,0,0,0,0,0,0,0,0,0,0,null,0,0,0,0,0,0,0,0,0,0,0,0,null,"Yes","Yes",0,0,0,0,null,null,"Yes","Yes",0,0,0,0,null,null,null,null,null,null,null,null,1,1,1,1,1,1,1,1,1,1,1,1,"null","null",0,0,null,1,1,1,1,1,1,1,1,1,1,1,1,"null","null",0,0]
[null,null,null,null,"","","2019-04-01","2022-03-31",null,null,null,null,null,0,null,null,0,0,0,0,0,0,0,0,0,0,0,0,0,null,0,0,0,0,0,0,0,0,0,0,0,0,0,null,0,0,0,0,0,0,0,0,0,0,0,0,0,null,0,0,0,0,0,0,0,0,0,0,0,0,null,"Yes","Yes",0,0,0,0,null,null,"Yes","Yes",0,0,0,0,null,null,null,null,null,null,null,null,1,1,1,1,1,1,1,1,1,1,1,1,"null","null",0,0,null,1,1,1,1,1,1,1,1,1,1,1,1,"null","null",0,0]
[null,null,null,null,"","","2019-04-01","2022-03-31",null,null,null,null,null,0,null,null,0,0,0,0,0,0,0,0,0,0,0,0,0,null,0,0,0,0,0,0,0,0,0,0,0,0,0,null,0,0,0,0,0,0,0,0,0,0,0,0,0,null,0,0,0,0,0,0,0,0,0,0,0,0,null,"Yes","Yes",0,0,0,0,null,null,"Yes","Yes",0,0,0,0,null,null,null,null,null,null,null,null,1,1,1,1,1,1,1,1,1,1,1,1,"null","null",0,0,null,1,1,1,1,1,1,1,1,1,1,1,1,"null","null",0,0]
[null,null,null,null,"","","2019-04-01","2022-03-31",null,null,null,null,null,0,null,null,0,0,0,0,0,0,0,0,0,0,0,0,0,null,0,0,0,0,0,0,0,0,0,0,0,0,0,null,0,0,0,0,0,0,0,0,0,0,0,0,0,null,0,0,0,0,0,0,0,0,0,0,0,0,null,"Yes","Yes",0,0,0,0,null,null,"Yes","Yes",0,0,0,0,null,null,null,null,null,null,null,null,1,1,1,1,1,1,1,1,1,1,1,1,"null","null",0,0,null,1,1,1,1,1,1,1,1,1,1,1,1,"null","null",0,0]
[null,null,null,null,"","","2019-04-01","2022-03-31",null,null,null,null,null,0,null,null,0,0,0,0,0,0,0,0,0,0,0,0,0,null,0,0,0,0,0,0,0,0,0,0,0,0,0,null,0,0,0,0,0,0,0,0,0,0,0,0,0,null,0,0,0,0,0,0,0,0,0,0,0,0,null,"Yes","Yes",0,0,0,0,null,null,"Yes","Yes",0,0,0,0,null,null,null,null,null,null,null,null,1,1,1,1,1,1,1,1,1,1,1,1,"null","null",0,0,null,1,1,1,1,1,1,1,1,1,1,1,1,"null","null",0,0]
[null,null,null,null,"","","2019-04-01","2022-03-31",null,null,null,null,null,0,null,null,0,0,0,0,0,0,0,0,0,0,0,0,0,null,0,0,0,0,0,0,0,0,0,0,0,0,0,null,0,0,0,0,0,0,0,0,0,0,0,0,0,null,0,0,0,0,0,0,0,0,0,0,0,0,null,"Yes","Yes",0,0,0,0,null,null,"Yes","Yes",0,0,0,0,null,null,null,null,null,null,null,null,1,1,1,1,1,1,1,1,1,1,1,1,"null","null",0,0,null,1,1,1,1,1,1,1,1,1,1,1,1,"null","null",0,0]
[null,null,null,null,"","","2019-04-01","2022-03-31",null,null,null,null,null,0,null,null,0,0,0,0,0,0,0,0,0,0,0,0,0,null,0,0,0,0,0,0,0,0,0,0,0,0,0,null,0,0,0,0,0,0,0,0,0,0,0,0,0,null,0,0,0,0,0,0,0,0,0,0,0,0,null,"Yes","Yes",0,0,0,0,null,null,"Yes","Yes",0,0,0,0,null,null,null,null,null,null,null,null,1,1,1,1,1,1,1,1,1,1,1,1,"null","null",0,0,null,1,1,1,1,1,1,1,1,1,1,1,1,"null","null",0,0]
[null,null,null,null,"","","2019-04-01","2022-03-31",null,null,null,null,null,0,null,null,0,0,0,0,0,0,0,0,0,0,0,0,0,null,0,0,0,0,0,0,0,0,0,0,0,0,0,null,0,0,0,0,0,0,0,0,0,0,0,0,0,null,0,0,0,0,0,0,0,0,0,0,0,0,null,"Yes","Yes",0,0,0,0,null,null,"Yes","Yes",0,0,0,0,null,null,null,null,null,null,null,null,1,1,1,1,1,1,1,1,1,1,1,1,"null","null",0,0,null,1,1,1,1,1,1,1,1,1,1,1,1,"null","null",0,0]
[null,null,null,null,"","","2019-04-01","2022-03-31",null,null,null,null,null,0,null,null,0,0,0,0,0,0,0,0,0,0,0,0,0,null,0,0,0,0,0,0,0,0,0,0,0,0,0,null,0,0,0,0,0,0,0,0,0,0,0,0,0,null,0,0,0,0,0,0,0,0,0,0,0,0,null,"Yes","Yes",0,0,0,0,null,null,"Yes","Yes",0,0,0,0,null,null,null,null,null,null,null,null,1,1,1,1,1,1,1,1,1,1,1,1,"null","null",0,0,null,1,1,1,1,1,1,1,1,1,1,1,1,"null","null",0,0]
[null,null,null,null,"","","2019-04-01","2022-03-31",null,null,null,null,null,0,null,null,0,0,0,0,0,0,0,0,0,0,0,0,0,null,0,0,0,0,0,0,0,0,0,0,0,0,0,null,0,0,0,0,0,0,0,0,0,0,0,0,0,null,0,0,0,0,0,0,0,0,0,0,0,0,null,"Yes","Yes",0,0,0,0,null,null,"Yes","Yes",0,0,0,0,null,null,null,null,null,null,null,null,1,1,1,1,1,1,1,1,1,1,1,1,"null","null",0,0,null,1,1,1,1,1,1,1,1,1,1,1,1,"null","null",0,0]
[null,null,null,null,"","","2019-04-01","2022-03-31",null,null,null,null,null,0,null,null,0,0,0,0,0,0,0,0,0,0,0,0,0,null,0,0,0,0,0,0,0,0,0,0,0,0,0,null,0,0,0,0,0,0,0,0,0,0,0,0,0,null,0,0,0,0,0,0,0,0,0,0,0,0,null,"Yes","Yes",0,0,0,0,null,null,"Yes","Yes",0,0,0,0,null,null,null,null,null,null,null,null,1,1,1,1,1,1,1,1,1,1,1,1,"null","null",0,0,null,1,1,1,1,1,1,1,1,1,1,1,1,"null","null",0,0]
[null,null,null,null,"","","2019-04-01","2022-03-31",null,null,null,null,null,0,null,null,0,0,0,0,0,0,0,0,0,0,0,0,0,null,0,0,0,0,0,0,0,0,0,0,0,0,0,null,0,0,0,0,0,0,0,0,0,0,0,0,0,null,0,0,0,0,0,0,0,0,0,0,0,0,null,"Yes","Yes",0,0,0,0,null,null,"Yes","Yes",0,0,0,0,null,null,null,null,null,null,null,null,1,1,1,1,1,1,1,1,1,1,1,1,"null","null",0,0,null,1,1,1,1,1,1,1,1,1,1,1,1,"null","null",0,0]
[null,null,null,null,"","","2019-04-01","2022-03-31",null,null,null,null,null,0,null,null,0,0,0,0,0,0,0,0,0,0,0,0,0,null,0,0,0,0,0,0,0,0,0,0,0,0,0,null,0,0,0,0,0,0,0,0,0,0,0,0,0,null,0,0,0,0,0,0,0,0,0,0,0,0,null,"Yes","Yes",0,0,0,0,null,null,"Yes","Yes",0,0,0,0,null,null,null,null,null,null,null,null,1,1,1,1,1,1,1,1,1,1,1,1,"null","null",0,0,null,1,1,1,1,1,1,1,1,1,1,1,1,"null","null",0,0]
[null,null,null,null,{"$f":"IF(D81=\"\",\"\",IF(SUM(DATEDIF(D81,DATE(YEAR($E$14)+(MONTH($E$14)>8),8,31),\"Y\")-5)=0,\"R\",IF(SUM(DATEDIF(D81,DATE(YEAR($E$14)+(MONTH($E$14)>8),8,31),\"Y\")-5)<0,\"\",DATEDIF(D81,DATE(YEAR($E$14)+(MONTH($E$14)>8),8,31),\"Y\")-5)))","v":""},"","2019-04-01","2022-03-31",null,null,null,null,null,0,null,null,0,0,0,0,0,0,0,0,0,0,0,0,0,null,0,0,0,0,0,0,0,0,0,0,0,0,0,null,0,0,0,0,0,0,0,0,0,0,0,0,0,null,0,0,0,0,0,0,0,0,0,0,0,0,null,"Yes","Yes",0,0,0,0,null,null,"Yes","Yes",0,0,0,0,null,null,null,null,null,null,null,null,1,1,1,1,1,1,1,1,1,1,1,1,"null","null",0,0,null,1,1,1,1,1,1,1,1,1,1,1,1,"null","null",0,0]
[]
[null,null,null,null,null,null,null,null,null,null,null,null,null,{"$f":"SUM(N17:O81)","v":0},null,null,null,null,null,null,null,null,null,null,null,null,null,null,{"$f":"SUM(AC17:AC81)","v":0},null,null,null,null,null,null,null,null,null,null,null,null,null,{"$f":"SUM(AQ17:AQ81)","v":0},null,null,null,null,null,null,null,null,null,null,null,null,null,{"$f":"SUM(BE17:BE81)","v":0},null,null,null,null,null,null,null,null,null,null,null,null,null,null,null,null,{"$f":"SUM(BV17:BV82)","v":0},{"$f":"SUM(BW17:BW82)","v":0},{"$f":"SUM(BX17:BX82)","v":0},{"$f":"SUM(BY17:BY82)","v":0},null,null,null,null,{"$f":"SUM(CD17:CD82)","v":0},{"$f":"SUM(CE17:CE82)","v":0},{"$f":"SUM(CF17:CF82)","v":0},{"$f":"SUM(CG17:CG82)","v":0}]
[null,null,null,null,null,null,null,null,null,null,null,null,null,null,null,null,null,null,null,null,null,null,null,null,null,null,null,null,null,null,null,null,null,null,null,null,null,null,null,null,null,"28% rule",{"$f":"AQ12","v":0}]
[null,null,null,null,null,null,null,null,null,null,null,null,null,null,null,null,null,null,null,null,null,null,null,null,null,null,null,null,null,null,null,null,null,null,null,null,null,null,null,null,null,"Grand total",{"$f":"AQ84+AQ83","v":0},null,null,null,null,null,null,null,null,null,null,null,null,null,null,null,null,null,null,null,null,null,null,null,null,null,null,null,null,null,null,null,null,null,{"$f":"SUM(BV83:BY83)","v":0},null,null,null,null,null,null,null,{"$f":"SUM(CD83:CG83)","v":0}]

{"sheet":"SRP Year 1","index":13,"n_rows":201,"n_cols":33,"rows_kept":201,"cut":false,"hidden":false,"merged":[[50,1,51,7],[22,6,24,6],[23,7,24,7],[23,4,24,5],[72,3,73,3],[53,3,54,3],[53,5,54,5],[53,6,54,6],[70,5,73,5],[39,1,40,1],[11,1,12,7],[5,2,5,8],[7,2,7,8],[35,1,36,1],[16,2,17,2],[25,2,26,2],[15,4,15,5]]}
[]
[null,null,null,null,null,null,null,{"$f":"Year1DfE","v":0}]
[]
[]
[]
[null,null,{"$f":"schoolname","v":""}]
[]
[null,null,"High Needs funding in a Specialist Resourced Provision (SRP) - Place Plus "]
[]
[null,"2019/20 Place Funding",null,null,null,null,null,null,null,null,"2019/20 Element 3 Input (top-up funding)"]
[]
[null,"IMPORTANT - Pupils are included in the Schools Formula Budget. For an explanation (please click the link)",null,null,null,null,null,null,null,null,"Pupils should only be recorded on this sheet where the School is named on the pupils Education Health Care Plan (EHCP)"]
[null,null,null,null,null,null,null,null,null,null,"SRP funding agreed with other local authorities for pupils they have placed should be entered on Budget Preparation"]
[null,"Element 1",null,null,null,null,null,null,null,null,"A designation must always be selected.  Apart from one school with two SRPs the designation will always be 1."]
[null,"*Element 1 only paid if place numbers greater than actual pupils on roll as at Oct'18 census. "]
[null,null,null,null,"Commissioned \nPlaces",null,"Places included in formula budget","Places to be Funded",null,null,"Designation","Pupil Surname","Pupil Forename","D.O.B","Pre/Post 16\nSUMMER","Pre/Post 16 WINTER","Placement START Date","Placement END Date","Monthly Rate Apr-Aug","Monthly Rate Sep-Mar","April\n(March Pupils)","May\n(April Pupils)","June\n(May Pupils)","July\n(June Pupils)","August\n(July Pupils)","September\n(July Pupils)","October\n(September Pupils)","November\n(October Pupils)","December\n(November Pupils)","January\n(December Pupils)","February\n(January Pupils)","March\n(February Pupils)","Total For Pupil"]
[null,"Pre-16","Academic Year 2018/19",null,null,{"$f":"F36","v":0},{"$f":"IF(ISERROR(VLOOKUP(Year1DfE,dataslate,56,0)),0,VLOOKUP(Year1DfE,dataslate,56,0))","v":0},null,null,null,null,null,null,null,{"$f":"IF(N17=0,\"\",IF(N17<DATE(2002,9,1),\"Post-16\",\"Pre-16\"))","v":""},{"$f":"IF(N17=0,\"\",IF(N17<DATE(2003,9,1),\"Post-16\",\"Pre-16\"))","v":""},"2019-03-31","2020-03-31",{"$f":"IF(AND(K17=\"Designation 1\",O17=\"Pre-16\"),VLOOKUP(Year1DfE,dataslate,48,0),\nIF(AND(K17=\"Designation 1\",O17=\"Post-16\"),VLOOKUP(Year1DfE,dataslate,50,0),\nIF(AND(K17=\"Designation 2\",O17=\"Pre-16\"),VLOOKUP(Year1DfE,dataslate,49,0),\nIF(AND(K17=\"Designation 2\",O17=\"Post-16\"),VLOOKUP(Year1DfE,dataslate,51,0),0))))","v":0},{"$f":"IF(AND(K17=\"Designation 1\",P17=\"Pre-16\"),VLOOKUP(Year1DfE,dataslate,48,0),\nIF(AND(K17=\"Designation 1\",P17=\"Post-16\"),VLOOKUP(Year1DfE,dataslate,50,0),\nIF(AND(K17=\"Designation 2\",P17=\"Pre-16\"),VLOOKUP(Year1DfE,dataslate,49,0),\nIF(AND(K17=\"Designation 2\",P17=\"Post-16\"),VLOOKUP(Year1DfE,dataslate,51,0),0))))","v":0},{"$f":"IF(OR(Q17>DATE(2019,3,31),R17<DATE(2019,3,1)),0,S17)","v":0},{"$f":"IF(OR(Q17>DATE(2019,4,30),R17<DATE(2019,4,1)),0,S17)","v":0},{"$f":"IF(OR(Q17>DATE(2019,5,31),R17<DATE(2019,5,1)),0,S17)","v":0},{"$f":"IF(OR(Q17>DATE(2019,6,30),R17<DATE(2019,6,1)),0,S17)","v":0},{"$f":"IF(OR(Q17>DATE(2019,7,31),R17<DATE(2019,7,1)),0,S17)","v":0},{"$f":"IF(OR(Q17>DATE(2019,7,31),R17<DATE(2019,7,1)),0,S17)","v":0},{"$f":"IF(OR(Q17>DATE(2019,9,30),R17<DATE(2019,9,1)),0,T17)","v":0},{"$f":"IF(OR(Q17>DATE(2019,10,31),R17<DATE(2019,10,1)),0,T17)","v":0},{"$f":"IF(OR(Q17>DATE(2019,11,30),R17<DATE(2019,11,1)),0,T17)","v":0},{"$f":"IF(OR(Q17>DATE(2019,12,31),R17<DATE(2019,12,1)),0,T17)","v":0},{"$f":"IF(OR(Q17>DATE(2020,1,31),R17<DATE(2020,1,1)),0,T17)","v":0},{"$f":"IF(OR(Q17>DATE(2020,2,28),R17<DATE(2020,2,1)),0,T17)","v":0},{"$f":"SUM(U17:AF17)","v":0}]
[null,"Post-16",null,null,null,{"$f":"F40","v":0},{"$f":"IF(ISERROR(VLOOKUP(Year1DfE,dataslate,57,0)),0,VLOOKUP(Year1DfE,dataslate,57,0))","v":0},null,null,null,null,null,null,null,{"$f":"IF(N18=0,\"\",IF(N18<DATE(2002,9,1),\"Post-16\",\"Pre-16\"))","v":""},{"$f":"IF(N18=0,\"\",IF(N18<DATE(2003,9,1),\"Post-16\",\"Pre-16\"))","v":""},"2019-03-31","2020-03-31",0,0,0,0,0,0,0,0,0,0,0,0,0,0,{"$f":"SUM(U18:AF18)","v":0}]
[null,"Total",null,null,null,{"$f":"SUM(F17:F18)","v":0},{"$f":"SUM(G17:G18)","v":0},{"$f":"MAX(F19-G19,0)","v":0},null,null,null,null,null,null,"","","2019-03-31","2020-03-31",0,0,0,0,0,0,0,0,0,0,0,0,0,0,0]
[null,null,null,null,null,null,null,{"$f":"4000*(5/12)","v":1666.6666666666667},null,null,null,null,null,null,"","","2019-03-31","2020-03-31",0,0,0,0,0,0,0,0,0,0,0,0,0,0,0]
[null,null,null,null,null,null,null,{"$f":"H19*H20","v":0},null,null,null,null,null,null,"","","2019-03-31","2020-03-31",0,0,0,0,0,0,0,0,0,0,0,0,0,0,0]
[null,null,null,null,null,null,null,null,null,null,null,null,null,null,"","","2019-03-31","2020-03-31",0,0,0,0,0,0,0,0,0,0,0,0,0,0,0]
[null,null,null,null,null,null,"Places included in formula budget",null,null,null,null,null,null,null,"","","2019-03-31","2020-03-31",0,0,0,0,0,0,0,0,0,0,0,0,0,0,0]
[null,null,null,null,"Commissioned \nPlaces",null,null,"Places to be Funded",null,null,null,null,null,null,"","","2019-03-31","2020-03-31",0,0,0,0,0,0,0,0,0,0,0,0,0,0,0]
[null,null,null,null,null,null,null,null,null,null,null,null,null,null,"","","2019-03-31","2020-03-31",0,0,0,0,0,0,0,0,0,0,0,0,0,0,0]
[null,"Pre-16","Academic Year 2019/20",null,null,{"$f":"F37","v":0},{"$f":"G17","v":0},null,null,null,null,null,null,null,"","","2019-03-31","2020-03-31",0,0,0,0,0,0,0,0,0,0,0,0,0,0,0]
[null,"Post-16",null,null,null,{"$f":"F41","v":0},{"$f":"G18","v":0},null,null,null,null,null,null,null,"","","2019-03-31","2020-03-31",0,0,0,0,0,0,0,0,0,0,0,0,0,0,0]
[null,"Total",null,null,null,{"$f":"SUM(F26:F27)","v":0},{"$f":"SUM(G26:G27)","v":0},{"$f":"MAX(F28-G28,0)","v":0},null,null,null,null,null,null,"","","2019-03-31","2020-03-31",0,0,0,0,0,0,0,0,0,0,0,0,0,0,0]
[null,null,null,null,null,null,null,{"$f":"4000*(7/12)","v":2333.3333333333335},null,null,null,null,null,null,"","","2019-03-31","2020-03-31",0,0,0,0,0,0,0,0,0,0,0,0,0,0,0]
[null,null,null,null,null,null,null,{"$f":"H28*H29","v":0},null,null,null,null,null,null,"","","2019-03-31","2020-03-31",0,0,0,0,0,0,0,0,0,0,0,0,0,0,0]
[null,null,null,null,null,null,null,null,null,null,null,null,null,null,"","","2019-03-31","2020-03-31",0,0,0,0,0,0,0,0,0,0,0,0,0,0,0]
[null,null,null,null,null,null,"Element 1 Total",{"$f":"SUM(H21+H30)","v":0},null,null,null,null,null,null,"","","2019-03-31","2020-03-31",0,0,0,0,0,0,0,0,0,0,0,0,0,0,0]
[null,null,null,null,null,null,null,null,null,null,null,null,null,null,"","","2019-03-31","2020-03-31",0,0,0,0,0,0,0,0,0,0,0,0,0,0,0]
[null,"Element 2",null,null,null,null,null,null,null,null,null,null,null,null,"","","2019-03-31","2020-03-31",0,0,0,0,0,0,0,0,0,0,0,0,0,0,0]
[null,null,null,null,null,"Places","Rate","Total",null,null,null,null,null,null,"","","2019-03-31","2020-03-31",0,0,0,0,0,0,0,0,0,0,0,0,0,0,0]
[null,"Pre-16","Apr to Aug",null,null,{"$f":"IF(ISERROR(VLOOKUP(Year1DfE,dataslate,52,0)),0,VLOOKUP(Year1DfE,dataslate,52,0))","v":0},{"$f":"6000*(5/12)","v":2500},{"$f":"IF(ISERROR(F36*G36),0,F36*G36)","v":0},{"$f":"H42+H38","v":0},null,null,null,null,null,"","","2019-03-31","2020-03-31",0,0,0,0,0,0,0,0,0,0,0,0,0,0,0]
[null,null,"Sep to Mar",null,null,{"$f":"IF(ISERROR(VLOOKUP(Year1DfE,dataslate,54,0)),0,VLOOKUP(Year1DfE,dataslate,54,0))","v":0},{"$f":"6000*(7/12)","v":3500},{"$f":"IF(ISERROR(F37*G37),0,F37*G37)","v":0},null,null,null,null,null,null,"","","2019-03-31","2020-03-31",0,0,0,0,0,0,0,0,0,0,0,0,0,0,0]
[null,null,null,null,null,null,{"$f":"SUM(G36:G37)","v":6000},{"$f":"SUM(H36:H37)","v":0},null,null,null,null,null,null,"","","2019-03-31","2020-03-31",0,0,0,0,0,0,0,0,0,0,0,0,0,0,0]
[null,null,null,null,null,null,null,null,null,null,null,null,null,null,"","","2019-03-31","2020-03-31",0,0,0,0,0,0,0,0,0,0,0,0,0,0,0]
[null,"Post-16","Apr to Jul",null,null,{"$f":"IF(ISERROR(VLOOKUP(Year1DfE,dataslate,53,0)),0,VLOOKUP(Year1DfE,dataslate,53,0))","v":0},{"$f":"6000*(4/12)","v":2000},{"$f":"IF(ISERROR(F40*G40),0,F40*G40)","v":0},null,null,null,null,null,null,"","","2019-03-31","2020-03-31",0,0,0,0,0,0,0,0,0,0,0,0,0,0,0]
[null,null,"Aug to Mar",null,null,{"$f":"IF(ISERROR(VLOOKUP(Year1DfE,dataslate,55,0)),0,VLOOKUP(Year1DfE,dataslate,55,0))","v":0},{"$f":"6000*(8/12)","v":4000},{"$f":"IF(ISERROR(F41*G41),0,F41*G41)","v":0},null,null,null,null,null,null,"","","2019-03-31","2020-03-31",0,0,0,0,0,0,0,0,0,0,0,0,0,0,0]
[null,null,null,null,null,null,{"$f":"SUM(G40:G41)","v":6000},{"$f":"SUM(H40:H41)","v":0},null,null,null,null,null,null,"","","2019-03-31","2020-03-31",0,0,0,0,0,0,0,0,0,0,0,0,0,0,0]
[null,null,null,null,null,null,null,null,null,null,null,null,null,null,"","","2019-03-31","2020-03-31",0,0,0,0,0,0,0,0,0,0,0,0,0,0,0]
[null,null,null,null,null,null,"Element 2 Total",{"$f":"H38+H42","v":0},null,null,null,null,null,null,"","","2019-03-31","2020-03-31",0,0,0,0,0,0,0,0,0,0,0,0,0,0,0]
[null,null,null,null,null,null,null,null,null,null,null,null,null,null,"","","2019-03-31","2020-03-31",0,0,0,0,0,0,0,0,0,0,0,0,0,0,0]
[null,null,null,null,null,null,null,null,null,null,null,null,null,null,"","","2019-03-31","2020-03-31",0,0,0,0,0,0,0,0,0,0,0,0,0,0,0]
[null,null,null,null,null,null,null,null,null,null,null,null,null,null,"","","2019-03-31","2020-03-31",0,0,0,0,0,0,0,0,0,0,0,0,0,0,0]
[null,null,null,null,null,null,null,null,null,null,null,null,null,null,"","","2019-03-31","2020-03-31",0,0,0,0,0,0,0,0,0,0,0,0,0,0,0]
[null,null,null,null,null,null,null,null,null,null,null,null,null,null,"","","2019-03-31","2020-03-31",{"$f":"IF(AND(K49=\"Designation 1\",O49=\"Pre-16\"),VLOOKUP(Year1DfE,dataslate,48,0),\nIF(AND(K49=\"Designation 1\",O49=\"Post-16\"),VLOOKUP(Year1DfE,dataslate,50,0),\nIF(AND(K49=\"Designation 2\",O49=\"Pre-16\"),VLOOKUP(Year1DfE,dataslate,49,0),\nIF(AND(K49=\"Designation 2\",O49=\"Post-16\"),VLOOKUP(Year1DfE,dataslate,51,0),0))))","v":0},{"$f":"IF(AND(K49=\"Designation 1\",P49=\"Pre-16\"),VLOOKUP(Year1DfE,dataslate,48,0),\nIF(AND(K49=\"Designation 1\",P49=\"Post-16\"),VLOOKUP(Year1DfE,dataslate,50,0),\nIF(AND(K49=\"Designation 2\",P49=\"Pre-16\"),VLOOKUP(Year1DfE,dataslate,49,0),\nIF(AND(K49=\"Designation 2\",P49=\"Post-16\"),VLOOKUP(Year1DfE,dataslate,51,0),0))))","v":0},0,0,0,0,0,0,0,0,0,0,0,0,{"$f":"SUM(U49:AF49)","v":0}]
[null,"Excess Place Funding (Elements 1 & 2)",null,null,null,null,null,null,null,null,null,null,null,null,"","","2019-03-31","2020-03-31",0,0,0,0,0,0,0,0,0,0,0,0,0,0,0]
[null,"Place funding is guaranteed for your commissioned number of places, no place funding will be deducted. Excess Place funding is only relevant where you exceed your commissioned places and will only ever be a positive amount.",null,null,null,null,null,null,null,null,null,null,null,null,"","","2019-03-31","2020-03-31",0,0,0,0,0,0,0,0,0,0,0,0,0,0,0]
[null,null,null,null,null,null,null,null,null,null,null,null,null,null,"","","2019-03-31","2020-03-31",0,0,0,0,0,0,0,0,0,0,0,0,0,0,0]
[null,null,null,null,null,null,null,null,null,null,null,null,null,null,"","","2019-03-31","2020-03-31",0,0,0,0,0,0,0,0,0,0,0,0,0,0,0]
[null,"Excess Element 1",null,null,null,"Pre-16 Excess Pupil Numbers","Pre-16\nRate",null,null,null,null,null,null,null,"","","2019-03-31","2020-03-31",0,0,0,0,0,0,0,0,0,0,0,0,0,0,0]
[null,null,null,null,null,null,null,"Total Funding",null,null,null,null,null,null,"","","2019-03-31","2020-03-31",0,0,0,0,0,0,0,0,0,0,0,0,0,0,0]
[null,"April",null,null,null,{"$f":"U$190-MAX($G$17,$F$17)","v":0},{"$f":"IF(F56=0,0,$S$200)","v":0},{"$f":"IF(F56*G56<0,0,F56*G56)","v":0},null,null,null,null,null,null,"","","2019-03-31","2020-03-31",0,0,0,0,0,0,0,0,0,0,0,0,0,0,0]
[null,"May",null,null,null,{"$f":"U$190-MAX($G$17,$F$17)","v":0},{"$f":"IF(F57=0,0,$S$200)","v":0},{"$f":"IF(F57*G57<0,0,F57*G57)","v":0},null,null,null,null,null,null,"","","2019-03-31","2020-03-31",0,0,0,0,0,0,0,0,0,0,0,0,0,0,0]
[null,"June",null,null,null,0,{"$f":"IF(F58=0,0,$S$200)","v":0},0,null,null,null,null,null,null,"","","2019-03-31","2020-03-31",0,0,0,0,0,0,0,0,0,0,0,0,0,0,0]
[null,"July",null,null,null,0,0,0,null,null,null,null,null,null,"","","2019-03-31","2020-03-31",0,0,0,0,0,0,0,0,0,0,0,0,0,0,0]
[null,"August",null,null,null,0,0,0,null,null,null,null,null,null,"","","2019-03-31","2020-03-31",0,0,0,0,0,0,0,0,0,0,0,0,0,0,0]
[null,"September",null,null,null,0,0,0,null,null,null,null,null,null,"","","2019-03-31","2020-03-31",0,0,0,0,0,0,0,0,0,0,0,0,0,0,0]
[null,"October",null,null,null,{"$f":"AA$190-MAX($G$26,$F$26)","v":0},0,0,null,null,null,null,null,null,"","","2019-03-31","2020-03-31",0,0,0,0,0,0,0,0,0,0,0,0,0,0,0]
[null,"November",null,null,null,{"$f":"AA$190-MAX($G$26,$F$26)","v":0},0,0,null,null,null,null,null,null,"","","2019-03-31","2020-03-31",0,0,0,0,0,0,0,0,0,0,0,0,0,0,0]
[null,"December",null,null,null,0,0,0,null,null,null,null,null,null,"","","2019-03-31","2020-03-31",0,0,0,0,0,0,0,0,0,0,0,0,0,0,0]
[null,"January",null,null,null,0,0,0,null,null,null,null,null,null,"","","2019-03-31","2020-03-31",0,0,0,0,0,0,0,0,0,0,0,0,0,0,0]
[null,"February",null,null,null,0,0,0,null,null,null,null,null,null,"","","2019-03-31","2020-03-31",0,0,0,0,0,0,0,0,0,0,0,0,0,0,0]
[null,"March",null,null,null,0,{"$f":"IF(F67=0,0,$S$200)","v":0},0,null,null,null,null,null,null,"","","2019-03-31","2020-03-31",0,0,0,0,0,0,0,0,0,0,0,0,0,0,0]
[null,null,null,null,null,null,null,{"$f":"SUM(H56:H67)","v":0},null,null,null,null,null,null,"","","2019-03-31","2020-03-31",0,0,0,0,0,0,0,0,0,0,0,0,0,0,0]
[null,null,null,null,null,null,null,null,null,null,null,null,null,null,"","","2019-03-31","2020-03-31",0,0,0,0,0,0,0,0,0,0,0,0,0,0,0]
[null,null,null,null,null,null,null,null,null,null,null,null,null,null,"","","2019-03-31","2020-03-31",0,0,0,0,0,0,0,0,0,0,0,0,0,0,0]
[null,null,null,null,null,"Post-16 Excess Pupil Numbers",null,null,null,null,null,null,null,null,"","","2019-03-31","2020-03-31",0,0,0,0,0,0,0,0,0,0,0,0,0,0,0]
[null,null,null,null,null,null,null,null,null,null,null,null,null,null,"","","2019-03-31","2020-03-31",0,0,0,0,0,0,0,0,0,0,0,0,0,0,0]
[null,"Excess Element 2",null,"Pre-16 Excess Pupil Numbers",null,null,null,null,null,null,null,null,null,null,"","","2019-03-31","2020-03-31",0,0,0,0,0,0,0,0,0,0,0,0,0,0,0]
[null,null,null,null,"Pre-16 Rate",null,"Post-16 Rate","Total Funding",null,null,null,null,null,null,"","","2019-03-31","2020-03-31",0,0,0,0,0,0,0,0,0,0,0,0,0,0,0]
[null,"April",null,{"$f":"U196","v":0},{"$f":"IF(D75=0,0,$S$198)","v":0},{"$f":"U197","v":0},{"$f":"IF(F75=0,0,$S$199)","v":0},{"$f":"IF((D75*E75)+(F75*G75)<0,0,(D75*E75)+(F75*G75))","v":0},null,null,null,null,null,null,"","","2019-03-31","2020-03-31",0,0,0,0,0,0,0,0,0,0,0,0,0,0,0]
[null,"May",null,{"$f":"V196","v":0},0,{"$f":"V197","v":0},{"$f":"IF(F76=0,0,$S$199)","v":0},{"$f":"IF((D76*E76)+(F76*G76)<0,0,(D76*E76)+(F76*G76))","v":0},null,null,null,null,null,null,"","","2019-03-31","2020-03-31",0,0,0,0,0,0,0,0,0,0,0,0,0,0,0]
[null,"June",null,{"$f":"W196","v":0},0,{"$f":"W197","v":0},{"$f":"IF(F77=0,0,$S$199)","v":0},0,null,null,null,null,null,null,"","","2019-03-31","2020-03-31",0,0,0,0,0,0,0,0,0,0,0,0,0,0,0]
[null,"July",null,{"$f":"X196","v":0},0,{"$f":"X197","v":0},0,0,null,null,null,null,null,null,"","","2019-03-31","2020-03-31",0,0,0,0,0,0,0,0,0,0,0,0,0,0,0]
[null,"August",null,{"$f":"Y196","v":0},0,{"$f":"Y197","v":0},0,0,null,null,null,null,null,null,"","","2019-03-31","2020-03-31",0,0,0,0,0,0,0,0,0,0,0,0,0,0,0]
[null,"September",null,{"$f":"Z196","v":0},0,{"$f":"Z197","v":0},0,0,null,null,null,null,null,null,"","","2019-03-31","2020-03-31",0,0,0,0,0,0,0,0,0,0,0,0,0,0,0]
[null,"October",null,{"$f":"AA196","v":0},0,{"$f":"AA197","v":0},0,0,null,null,null,null,null,null,"","","2019-03-31","2020-03-31",{"$f":"IF(AND(K81=\"Designation 1\",O81=\"Pre-16\"),VLOOKUP(Year1DfE,dataslate,48,0),\nIF(AND(K81=\"Designation 1\",O81=\"Post-16\"),VLOOKUP(Year1DfE,dataslate,50,0),\nIF(AND(K81=\"Designation 2\",O81=\"Pre-16\"),VLOOKUP(Year1DfE,dataslate,49,0),\nIF(AND(K81=\"Designation 2\",O81=\"Post-16\"),VLOOKUP(Year1DfE,dataslate,51,0),0))))","v":0},{"$f":"IF(AND(K81=\"Designation 1\",P81=\"Pre-16\"),VLOOKUP(Year1DfE,dataslate,48,0),\nIF(AND(K81=\"Designation 1\",P81=\"Post-16\"),VLOOKUP(Year1DfE,dataslate,50,0),\nIF(AND(K81=\"Designation 2\",P81=\"Pre-16\"),VLOOKUP(Year1DfE,dataslate,49,0),\nIF(AND(K81=\"Designation 2\",P81=\"Post-16\"),VLOOKUP(Year1DfE,dataslate,51,0),0))))","v":0},{"$f":"IF(OR(Q81>DATE(2019,3,31),R81<DATE(2019,3,1)),0,S81)","v":0},{"$f":"IF(OR(Q81>DATE(2019,4,30),R81<DATE(2019,4,1)),0,S81)","v":0},{"$f":"IF(OR(Q81>DATE(2019,5,31),R81<DATE(2019,5,1)),0,S81)","v":0},{"$f":"IF(OR(Q81>DATE(2019,6,30),R81<DATE(2019,6,1)),0,S81)","v":0},{"$f":"IF(OR(Q81>DATE(2019,7,31),R81<DATE(2019,7,1)),0,S81)","v":0},{"$f":"IF(OR(Q81>DATE(2019,7,31),R81<DATE(2019,7,1)),0,S81)","v":0},{"$f":"IF(OR(Q81>DATE(2019,9,30),R81<DATE(2019,9,1)),0,T81)","v":0},{"$f":"IF(OR(Q81>DATE(2019,10,31),R81<DATE(2019,10,1)),0,T81)","v":0},{"$f":"IF(OR(Q81>DATE(2019,11,30),R81<DATE(2019,11,1)),0,T81)","v":0},{"$f":"IF(OR(Q81>DATE(2019,12,31),R81<DATE(2019,12,1)),0,T81)","v":0},{"$f":"IF(OR(Q81>DATE(2020,1,31),R81<DATE(2020,1,1)),0,T81)","v":0},{"$f":"IF(OR(Q81>DATE(2020,2,28),R81<DATE(2020,2,1)),0,T81)","v":0},0]
[null,"November",null,{"$f":"AB196","v":0},0,{"$f":"AB197","v":0},0,0,null,null,null,null,null,null,{"$f":"IF(N82=0,\"\",IF(N82<DATE(2002,9,1),\"Post-16\",\"Pre-16\"))","v":""},{"$f":"IF(N82=0,\"\",IF(N82<DATE(2003,9,1),\"Post-16\",\"Pre-16\"))","v":""},"2019-03-31","2020-03-31",0,0,0,0,0,0,0,0,0,0,0,0,0,0,0]
[null,"December",null,{"$f":"AC196","v":0},0,{"$f":"AC197","v":0},0,0,null,null,null,null,null,null,"","","2019-03-31","2020-03-31",0,0,0,0,0,0,0,0,0,0,0,0,0,0,0]
[null,"January",null,{"$f":"AD196","v":0},0,{"$f":"AD197","v":0},0,0,null,null,null,null,null,null,"","","2019-03-31","2020-03-31",0,0,0,0,0,0,0,0,0,0,0,0,0,0,{"$f":"SUM(U84:AF84)","v":0}]
[null,"February",null,{"$f":"AE196","v":0},0,{"$f":"AE197","v":0},0,0,null,null,null,null,null,null,"","","2019-03-31","2020-03-31",0,0,0,0,0,0,0,0,0,0,0,0,0,0,0]
[null,"March",null,{"$f":"AF196","v":0},0,{"$f":"AF197","v":0},{"$f":"IF(F86=0,0,$S$199)","v":0},0,null,null,null,null,null,null,"","","2019-03-31","2020-03-31",0,0,0,0,0,0,0,0,0,0,0,0,0,0,0]
[null,null,null,null,null,null,null,{"$f":"SUM(H75:H86)","v":0},null,null,null,null,null,null,"","","2019-03-31","2020-03-31",0,0,0,0,0,0,0,0,0,0,0,0,0,0,0]
[null,null,null,null,null,null,null,null,null,null,null,null,null,null,{"$f":"IF(N88=0,\"\",IF(N88<DATE(2002,9,1),\"Post-16\",\"Pre-16\"))","v":""},{"$f":"IF(N88=0,\"\",IF(N88<DATE(2003,9,1),\"Post-16\",\"Pre-16\"))","v":""},"2019-03-31","2020-03-31",0,0,{"$f":"IF(OR(Q88>DATE(2019,3,31),R88<DATE(2019,3,1)),0,S88)","v":0},{"$f":"IF(OR(Q88>DATE(2019,4,30),R88<DATE(2019,4,1)),0,S88)","v":0},{"$f":"IF(OR(Q88>DATE(2019,5,31),R88<DATE(2019,5,1)),0,S88)","v":0},{"$f":"IF(OR(Q88>DATE(2019,6,30),R88<DATE(2019,6,1)),0,S88)","v":0},{"$f":"IF(OR(Q88>DATE(2019,7,31),R88<DATE(2019,7,1)),0,S88)","v":0},{"$f":"IF(OR(Q88>DATE(2019,7,31),R88<DATE(2019,7,1)),0,S88)","v":0},{"$f":"IF(OR(Q88>DATE(2019,9,30),R88<DATE(2019,9,1)),0,T88)","v":0},{"$f":"IF(OR(Q88>DATE(2019,10,31),R88<DATE(2019,10,1)),0,T88)","v":0},{"$f":"IF(OR(Q88>DATE(2019,11,30),R88<DATE(2019,11,1)),0,T88)","v":0},{"$f":"IF(OR(Q88>DATE(2019,12,31),R88<DATE(2019,12,1)),0,T88)","v":0},{"$f":"IF(OR(Q88>DATE(2020,1,31),R88<DATE(2020,1,1)),0,T88)","v":0},{"$f":"IF(OR(Q88>DATE(2020,2,28),R88<DATE(2020,2,1)),0,T88)","v":0},{"$f":"SUM(U88:AF88)","v":0}]
[null,null,null,null,null,null,null,null,null,null,null,null,null,null,"","","2019-03-31","2020-03-31",0,0,0,0,0,0,0,0,0,0,0,0,0,0,0]
[null,null,null,null,null,null,null,null,null,null,null,null,null,null,"","","2019-03-31","2020-03-31",0,0,0,0,0,0,0,0,0,0,0,0,0,0,0]
[null,"Element 3 Top-up Funding",null,null,null,"Summary",null,null,null,null,null,null,null,null,"","","2019-03-31","2020-03-31",0,0,0,0,0,0,0,0,0,0,0,0,0,0,0]
[null,null,null,null,null,null,null,null,null,null,null,null,null,null,"","","2019-03-31","2020-03-31",0,0,0,0,0,0,0,0,0,0,0,0,0,0,0]
[null,"April",{"$f":"SUM($U$17:$U$188)","v":0},null,null,"Place funding - E1",null,{"$f":"H32","v":0},null,null,null,null,null,null,"","","2019-03-31","2020-03-31",0,0,0,0,0,0,0,0,0,0,0,0,0,0,0]
[null,"May",{"$f":"SUM($V$17:$V$188)","v":0},null,null,"Place funding - E2",null,{"$f":"H44","v":0},null,null,null,null,null,null,"","","2019-03-31","2020-03-31",0,0,0,0,0,0,0,0,0,0,0,0,0,0,0]
[null,"June",{"$f":"SUM($W$17:$W$188)","v":0},null,null,"Excess place funding - E1",null,{"$f":"H68","v":0},null,null,null,null,null,null,"","","2019-03-31","2020-03-31",0,0,0,0,0,0,0,0,0,0,0,0,0,0,0]
[null,"July",{"$f":"SUM($X$17:$X$188)","v":0},null,null,"Excess place funding - E2",null,{"$f":"H87","v":0},null,null,null,null,null,null,"","","2019-03-31","2020-03-31",0,0,0,0,0,0,0,0,0,0,0,0,0,0,0]
[null,"August",{"$f":"SUM($Y$17:$Y$188)","v":0},null,null,"Element 3 top-up funding",null,{"$f":"srpelement3","v":0},null,null,null,null,null,null,"","","2019-03-31","2020-03-31",0,0,0,0,0,0,0,0,0,0,0,0,0,0,0]
[null,"September",{"$f":"SUM($Z$17:$Z$188)","v":0},null,null,null,null,null,null,null,null,null,null,null,"","","2019-03-31","2020-03-31",0,0,0,0,0,0,0,0,0,0,0,0,0,0,0]
[null,"October",{"$f":"SUM($AA$17:$AA$188)","v":0},null,null,"Total SRP funding 2019/20",null,{"$f":"SUM(H93:H98)","v":0},null,null,null,null,null,null,"","","2019-03-31","2020-03-31",0,0,0,0,0,0,0,0,0,0,0,0,0,0,0]
[null,"November",{"$f":"SUM($AB$17:$AB$188)","v":0},null,null,null,null,null,null,null,null,null,null,null,"","","2019-03-31","2020-03-31",0,0,0,0,0,0,0,0,0,0,0,0,0,0,0]
[null,"December",{"$f":"SUM($AC$17:$AC$188)","v":0},null,null,null,null,null,null,null,null,null,null,null,"","","2019-03-31","2020-03-31",0,0,0,0,0,0,0,0,0,0,0,0,0,0,0]
[null,"January",{"$f":"SUM($AD$17:$AD$188)","v":0},null,null,null,null,null,null,null,null,null,null,null,"","","2019-03-31","2020-03-31",0,0,0,0,0,0,0,0,0,0,0,0,0,0,0]
[null,"February",{"$f":"SUM($AE$17:$AE$188)","v":0},null,null,null,null,null,null,null,null,null,null,null,"","","2019-03-31","2020-03-31",0,0,0,0,0,0,0,0,0,0,0,0,0,0,0]
[null,"March",{"$f":"SUM($AF$17:$AF$188)","v":0},null,null,null,null,null,null,null,null,null,null,null,"","","2019-03-31","2020-03-31",0,0,0,0,0,0,0,0,0,0,0,0,0,0,0]
[null,null,{"$f":"SUM(C93:C104)","v":0},null,null,null,null,null,null,null,null,null,null,null,"","","2019-03-31","2020-03-31",0,0,0,0,0,0,0,0,0,0,0,0,0,0,0]
[null,null,null,null,null,null,null,null,null,null,null,null,null,null,"","","2019-03-31","2020-03-31",0,0,0,0,0,0,0,0,0,0,0,0,0,0,0]
[null,null,null,null,null,null,null,null,null,null,null,null,null,null,"","","2019-03-31","2020-03-31",0,0,0,0,0,0,0,0,0,0,0,0,0,0,0]
[null,null,null,null,null,null,null,null,null,null,null,null,null,null,"","","2019-03-31","2020-03-31",0,0,0,0,0,0,0,0,0,0,0,0,0,0,0]
[null,null,null,null,null,null,null,null,null,null,null,null,null,null,"","","2019-03-31","2020-03-31",0,0,0,0,0,0,0,0,0,0,0,0,0,0,0]
[null,null,null,null,null,null,null,null,null,null,null,null,null,null,"","","2019-03-31","2020-03-31",0,0,0,0,0,0,0,0,0,0,0,0,0,0,0]
[null,null,null,null,null,null,null,null,null,null,null,null,null,null,"","","2019-03-31","2020-03-31",0,0,0,0,0,0,0,0,0,0,0,0,0,0,0]
[null,null,null,null,null,null,null,null,null,null,null,null,null,null,"","","2019-03-31","2020-03-31",0,0,0,0,0,0,0,0,0,0,0,0,0,0,0]
[null,null,null,null,null,null,null,null,null,null,null,null,null,null,"","","2019-03-31","2020-03-31",{"$f":"IF(AND(K113=\"Designation 1\",O113=\"Pre-16\"),VLOOKUP(Year1DfE,dataslate,48,0),\nIF(AND(K113=\"Designation 1\",O113=\"Post-16\"),VLOOKUP(Year1DfE,dataslate,50,0),\nIF(AND(K113=\"Designation 2\",O113=\"Pre-16\"),VLOOKUP(Year1DfE,dataslate,49,0),\nIF(AND(K113=\"Designation 2\",O113=\"Post-16\"),VLOOKUP(Year1DfE,dataslate,51,0),0))))","v":0},{"$f":"IF(AND(K113=\"Designation 1\",P113=\"Pre-16\"),VLOOKUP(Year1DfE,dataslate,48,0),\nIF(AND(K113=\"Designation 1\",P113=\"Post-16\"),VLOOKUP(Year1DfE,dataslate,50,0),\nIF(AND(K113=\"Designation 2\",P113=\"Pre-16\"),VLOOKUP(Year1DfE,dataslate,49,0),\nIF(AND(K113=\"Designation 2\",P113=\"Post-16\"),VLOOKUP(Year1DfE,dataslate,51,0),0))))","v":0},0,0,0,0,0,0,0,0,0,0,0,0,0]
[null,null,null,null,null,null,null,null,null,null,null,null,null,null,"","","2019-03-31","2020-03-31",0,0,0,0,0,0,0,0,0,0,0,0,0,0,0]
[null,null,null,null,null,null,null,null,null,null,null,null,null,null,"","","2019-03-31","2020-03-31",0,0,0,0,0,0,0,0,0,0,0,0,0,0,0]
[null,null,null,null,null,null,null,null,null,null,null,null,null,null,"","","2019-03-31","2020-03-31",0,0,0,0,0,0,0,0,0,0,0,0,0,0,0]
[null,null,null,null,null,null,null,null,null,null,null,null,null,null,"","","2019-03-31","2020-03-31",0,0,0,0,0,0,0,0,0,0,0,0,0,0,0]
[null,null,null,null,null,null,null,null,null,null,null,null,null,null,"","","2019-03-31","2020-03-31",0,0,0,0,0,0,0,0,0,0,0,0,0,0,0]
[null,null,null,null,null,null,null,null,null,null,null,null,null,null,"","","2019-03-31","2020-03-31",0,0,0,0,0,0,0,0,0,0,0,0,0,0,0]
[null,null,null,null,null,null,null,null,null,null,null,null,null,null,"","","2019-03-31","2020-03-31",0,0,0,0,0,0,0,0,0,0,0,0,0,0,0]
[null,null,null,null,null,null,null,null,null,null,null,null,null,null,"","","2019-03-31","2020-03-31",0,0,0,0,0,0,0,0,0,0,0,0,0,0,0]
[null,null,null,null,null,null,null,null,null,null,null,null,null,null,"","","2019-03-31","2020-03-31",0,0,0,0,0,0,0,0,0,0,0,0,0,0,0]
[null,null,null,null,null,null,null,null,null,null,null,null,null,null,"","","2019-03-31","2020-03-31",0,0,0,0,0,0,0,0,0,0,0,0,0,0,0]
[null,null,null,null,null,null,null,null,null,null,null,null,null,null,"","","2019-03-31","2020-03-31",0,0,0,0,0,0,0,0,0,0,0,0,0,0,0]
[null,null,null,null,null,null,null,null,null,null,null,null,null,null,"","","2019-03-31","2020-03-31",0,0,0,0,0,0,0,0,0,0,0,0,0,0,0]
[null,null,null,null,null,null,null,null,null,null,null,null,null,null,"","","2019-03-31","2020-03-31",0,0,0,0,0,0,0,0,0,0,0,0,0,0,0]
[null,null,null,null,null,null,null,null,null,null,null,null,null,null,"","","2019-03-31","2020-03-31",0,0,0,0,0,0,0,0,0,0,0,0,0,0,0]
[null,null,null,null,null,null,null,null,null,null,null,null,null,null,"","","2019-03-31","2020-03-31",0,0,0,0,0,0,0,0,0,0,0,0,0,0,0]
[null,null,null,null,null,null,null,null,null,null,null,null,null,null,"","","2019-03-31","2020-03-31",0,0,0,0,0,0,0,0,0,0,0,0,0,0,0]
[null,null,null,null,null,null,null,null,null,null,null,null,null,null,"","","2019-03-31","2020-03-31",0,0,0,0,0,0,0,0,0,0,0,0,0,0,0]
[null,null,null,null,null,null,null,null,null,null,null,null,null,null,"","","2019-03-31","2020-03-31",0,0,0,0,0,0,0,0,0,0,0,0,0,0,0]
[null,null,null,null,null,null,null,null,null,null,null,null,null,null,"","","2019-03-31","2020-03-31",0,0,0,0,0,0,0,0,0,0,0,0,0,0,0]
[null,null,null,null,null,null,null,null,null,null,null,null,null,null,"","","2019-03-31","2020-03-31",0,0,0,0,0,0,0,0,0,0,0,0,0,0,0]
[null,null,null,null,null,null,null,null,null,null,null,null,null,null,"","","2019-03-31","2020-03-31",0,0,0,0,0,0,0,0,0,0,0,0,0,0,0]
[null,null,null,null,null,null,null,null,null,null,null,null,null,null,"","","2019-03-31","2020-03-31",0,0,0,0,0,0,0,0,0,0,0,0,0,0,0]
[null,null,null,null,null,null,null,null,null,null,null,null,null,null,"","","2019-03-31","2020-03-31",0,0,0,0,0,0,0,0,0,0,0,0,0,0,0]
[null,null,null,null,null,null,null,null,null,null,null,null,null,null,"","","2019-03-31","2020-03-31",0,0,0,0,0,0,0,0,0,0,0,0,0,0,0]
[null,null,null,null,null,null,null,null,null,null,null,null,null,null,"","","2019-03-31","2020-03-31",0,0,0,0,0,0,0,0,0,0,0,0,0,0,0]
[null,null,null,null,null,null,null,null,null,null,null,null,null,null,"","","2019-03-31","2020-03-31",0,0,0,0,0,0,0,0,0,0,0,0,0,0,0]
[null,null,null,null,null,null,null,null,null,null,null,null,null,null,"","","2019-03-31","2020-03-31",0,0,0,0,0,0,0,0,0,0,0,0,0,0,0]
[null,null,null,null,null,null,null,null,null,null,null,null,null,null,"","","2019-03-31","2020-03-31",0,0,0,0,0,0,0,0,0,0,0,0,0,0,0]
[null,null,null,null,null,null,null,null,null,null,null,null,null,null,"","","2019-03-31","2020-03-31",0,0,0,0,0,0,0,0,0,0,0,0,0,0,0]
[null,null,null,null,null,null,null,null,null,null,null,null,null,null,"","","2019-03-31","2020-03-31",0,0,0,0,0,0,0,0,0,0,0,0,0,0,0]
[null,null,null,null,null,null,null,null,null,null,null,null,null,null,"","","2019-03-31","2020-03-31",0,0,0,0,0,0,0,0,0,0,0,0,0,0,0]
[null,null,null,null,null,null,null,null,null,null,null,null,null,null,"","","2019-03-31","2020-03-31",{"$f":"IF(AND(K145=\"Designation 1\",O145=\"Pre-16\"),VLOOKUP(Year1DfE,dataslate,48,0),\nIF(AND(K145=\"Designation 1\",O145=\"Post-16\"),VLOOKUP(Year1DfE,dataslate,50,0),\nIF(AND(K145=\"Designation 2\",O145=\"Pre-16\"),VLOOKUP(Year1DfE,dataslate,49,0),\nIF(AND(K145=\"Designation 2\",O145=\"Post-16\"),VLOOKUP(Year1DfE,dataslate,51,0),0))))","v":0},{"$f":"IF(AND(K145=\"Designation 1\",P145=\"Pre-16\"),VLOOKUP(Year1DfE,dataslate,48,0),\nIF(AND(K145=\"Designation 1\",P145=\"Post-16\"),VLOOKUP(Year1DfE,dataslate,50,0),\nIF(AND(K145=\"Designation 2\",P145=\"Pre-16\"),VLOOKUP(Year1DfE,dataslate,49,0),\nIF(AND(K145=\"Designation 2\",P145=\"Post-16\"),VLOOKUP(Year1DfE,dataslate,51,0),0))))","v":0},0,0,0,0,0,0,0,0,0,0,0,0,0]
[null,null,null,null,null,null,null,null,null,null,null,null,null,null,"","","2019-03-31","2020-03-31",0,0,0,0,0,0,0,0,0,0,0,0,0,0,0]
[null,null,null,null,null,null,null,null,null,null,null,null,null,null,"","","2019-03-31","2020-03-31",0,0,0,0,0,0,0,0,0,0,0,0,0,0,0]
[null,null,null,null,null,null,null,null,null,null,null,null,null,null,"","","2019-03-31","2020-03-31",0,0,0,0,0,0,0,0,0,0,0,0,0,0,0]
[null,null,null,null,null,null,null,null,null,null,null,null,null,null,"","","2019-03-31","2020-03-31",0,0,0,0,0,0,0,0,0,0,0,0,0,0,0]
[null,null,null,null,null,null,null,null,null,null,null,null,null,null,"","","2019-03-31","2020-03-31",0,0,0,0,0,0,0,0,0,0,0,0,0,0,0]
[null,null,null,null,null,null,null,null,null,null,null,null,null,null,"","","2019-03-31","2020-03-31",0,0,0,0,0,0,0,0,0,0,0,0,0,0,0]
[null,null,null,null,null,null,null,null,null,null,null,null,null,null,"","","2019-03-31","2020-03-31",0,0,0,0,0,0,0,0,0,0,0,0,0,0,0]
[null,null,null,null,null,null,null,null,null,null,null,null,null,null,"","","2019-03-31","2020-03-31",0,0,0,0,0,0,0,0,0,0,0,0,0,0,0]
[null,null,null,null,null,null,null,null,null,null,null,null,null,null,"","","2019-03-31","2020-03-31",0,0,0,0,0,0,0,0,0,0,0,0,0,0,0]
[null,null,null,null,null,null,null,null,null,null,null,null,null,null,"","","2019-03-31","2020-03-31",0,0,0,0,0,0,0,0,0,0,0,0,0,0,0]
[null,null,null,null,null,null,null,null,null,null,null,null,null,null,"","","2019-03-31","2020-03-31",0,0,0,0,0,0,0,0,0,0,0,0,0,0,0]
[null,null,null,null,null,null,null,null,null,null,null,null,null,null,"","","2019-03-31","2020-03-31",0,0,0,0,0,0,0,0,0,0,0,0,0,0,0]
[null,null,null,null,null,null,null,null,null,null,null,null,null,null,"","","2019-03-31","2020-03-31",0,0,0,0,0,0,0,0,0,0,0,0,0,0,0]
[null,null,null,null,null,null,null,null,null,null,null,null,null,null,"","","2019-03-31","2020-03-31",0,0,0,0,0,0,0,0,0,0,0,0,0,0,0]
[null,null,null,null,null,null,null,null,null,null,null,null,null,null,"","","2019-03-31","2020-03-31",0,0,0,0,0,0,0,0,0,0,0,0,0,0,0]
[null,null,null,null,null,null,null,null,null,null,null,null,null,null,"","","2019-03-31","2020-03-31",0,0,0,0,0,0,0,0,0,0,0,0,0,0,0]
[null,null,null,null,null,null,null,null,null,null,null,null,null,null,"","","2019-03-31","2020-03-31",0,0,0,0,0,0,0,0,0,0,0,0,0,0,0]
[null,null,null,null,null,null,null,null,null,null,null,null,null,null,"","","2019-03-31","2020-03-31",0,0,0,0,0,0,0,0,0,0,0,0,0,0,0]
[null,null,null,null,null,null,null,null,null,null,null,null,null,null,"","","2019-03-31","2020-03-31",0,0,0,0,0,0,0,0,0,0,0,0,0,0,0]
[null,null,null,null,null,null,null,null,null,null,null,null,null,null,"","","2019-03-31","2020-03-31",0,0,{"$f":"IF(OR(Q165>DATE(2019,3,31),R165<DATE(2019,3,1)),0,S165)","v":0},{"$f":"IF(OR(Q165>DATE(2019,4,30),R165<DATE(2019,4,1)),0,S165)","v":0},{"$f":"IF(OR(Q165>DATE(2019,5,31),R165<DATE(2019,5,1)),0,S165)","v":0},{"$f":"IF(OR(Q165>DATE(2019,6,30),R165<DATE(2019,6,1)),0,S165)","v":0},{"$f":"IF(OR(Q165>DATE(2019,7,31),R165<DATE(2019,7,1)),0,S165)","v":0},{"$f":"IF(OR(Q165>DATE(2019,7,31),R165<DATE(2019,7,1)),0,S165)","v":0},{"$f":"IF(OR(Q165>DATE(2019,9,30),R165<DATE(2019,9,1)),0,T165)","v":0},{"$f":"IF(OR(Q165>DATE(2019,10,31),R165<DATE(2019,10,1)),0,T165)","v":0},{"$f":"IF(OR(Q165>DATE(2019,11,30),R165<DATE(2019,11,1)),0,T165)","v":0},{"$f":"IF(OR(Q165>DATE(2019,12,31),R165<DATE(2019,12,1)),0,T165)","v":0},{"$f":"IF(OR(Q165>DATE(2020,1,31),R165<DATE(2020,1,1)),0,T165)","v":0},{"$f":"IF(OR(Q165>DATE(2020,2,28),R165<DATE(2020,2,1)),0,T165)","v":0},0]
[null,null,null,null,null,null,null,null,null,null,null,null,null,null,{"$f":"IF(N166=0,\"\",IF(N166<DATE(2002,9,1),\"Post-16\",\"Pre-16\"))","v":""},{"$f":"IF(N166=0,\"\",IF(N166<DATE(2003,9,1),\"Post-16\",\"Pre-16\"))","v":""},"2019-03-31","2020-03-31",0,0,0,0,0,0,0,0,0,0,0,0,0,0,0]
[null,null,null,null,null,null,null,null,null,null,null,null,null,null,"","","2019-03-31","2020-03-31",0,0,0,0,0,0,0,0,0,0,0,0,0,0,0]
[null,null,null,null,null,null,null,null,null,null,null,null,null,null,"","","2019-03-31","2020-03-31",0,0,0,0,0,0,0,0,0,0,0,0,0,0,{"$f":"SUM(U168:AF168)","v":0}]
[null,null,null,null,null,null,null,null,null,null,null,null,null,null,"","","2019-03-31","2020-03-31",0,0,0,0,0,0,0,0,0,0,0,0,0,0,0]
[null,null,null,null,null,null,null,null,null,null,null,null,null,null,"","","2019-03-31","2020-03-31",0,0,0,0,0,0,0,0,0,0,0,0,0,0,0]
[null,null,null,null,null,null,null,null,null,null,null,null,null,null,"","","2019-03-31","2020-03-31",0,0,0,0,0,0,0,0,0,0,0,0,0,0,0]
[null,null,null,null,null,null,null,null,null,null,null,null,null,null,"","","2019-03-31","2020-03-31",0,0,0,0,0,0,0,0,0,0,0,0,0,0,0]
[null,null,null,null,null,null,null,null,null,null,null,null,null,null,"","","2019-03-31","2020-03-31",0,0,0,0,0,0,0,0,0,0,0,0,0,0,0]
[null,null,null,null,null,null,null,null,null,null,null,null,null,null,"","","2019-03-31","2020-03-31",0,0,0,0,0,0,0,0,0,0,0,0,0,0,0]
[null,null,null,null,null,null,null,null,null,null,null,null,null,null,"","","2019-03-31","2020-03-31",0,0,0,0,0,0,0,0,0,0,0,0,0,0,0]
[null,null,null,null,null,null,null,null,null,null,null,null,null,null,"","","2019-03-31","2020-03-31",0,0,0,0,0,0,0,0,0,0,0,0,0,0,0]
[null,null,null,null,null,null,null,null,null,null,null,null,null,null,"","","2019-03-31","2020-03-31",{"$f":"IF(AND(K177=\"Designation 1\",O177=\"Pre-16\"),VLOOKUP(Year1DfE,dataslate,48,0),\nIF(AND(K177=\"Designation 1\",O177=\"Post-16\"),VLOOKUP(Year1DfE,dataslate,50,0),\nIF(AND(K177=\"Designation 2\",O177=\"Pre-16\"),VLOOKUP(Year1DfE,dataslate,49,0),\nIF(AND(K177=\"Designation 2\",O177=\"Post-16\"),VLOOKUP(Year1DfE,dataslate,51,0),0))))","v":0},{"$f":"IF(AND(K177=\"Designation 1\",P177=\"Pre-16\"),VLOOKUP(Year1DfE,dataslate,48,0),\nIF(AND(K177=\"Designation 1\",P177=\"Post-16\"),VLOOKUP(Year1DfE,dataslate,50,0),\nIF(AND(K177=\"Designation 2\",P177=\"Pre-16\"),VLOOKUP(Year1DfE,dataslate,49,0),\nIF(AND(K177=\"Designation 2\",P177=\"Post-16\"),VLOOKUP(Year1DfE,dataslate,51,0),0))))","v":0},0,0,0,0,0,0,0,0,0,0,0,0,0]
[null,null,null,null,null,null,null,null,null,null,null,null,null,null,"","","2019-03-31","2020-03-31",0,0,0,0,0,0,0,0,0,0,0,0,0,0,0]
[null,null,null,null,null,null,null,null,null,null,null,null,null,null,"","","2019-03-31","2020-03-31",0,0,0,0,0,0,0,0,0,0,0,0,0,0,0]
[null,null,null,null,null,null,null,null,null,null,null,null,null,null,"","","2019-03-31","2020-03-31",0,0,0,0,0,0,0,0,0,0,0,0,0,0,0]
[null,null,null,null,null,null,null,null,null,null,null,null,null,null,"","","2019-03-31","2020-03-31",0,0,0,0,0,0,0,0,0,0,0,0,0,0,0]
[null,null,null,null,null,null,null,null,null,null,null,null,null,null,"","","2019-03-31","2020-03-31",0,0,0,0,0,0,0,0,0,0,0,0,0,0,0]
[null,null,null,null,null,null,null,null,null,null,null,null,null,null,"","","2019-03-31","2020-03-31",0,0,0,0,0,0,0,0,0,0,0,0,0,0,0]
[null,null,null,null,null,null,null,null,null,null,null,null,null,null,"","","2019-03-31","2020-03-31",0,0,0,0,0,0,0,0,0,0,0,0,0,0,0]
[null,null,null,null,null,null,null,null,null,null,null,null,null,null,"","","2019-03-31","2020-03-31",0,0,0,0,0,0,0,0,0,0,0,0,0,0,0]
[null,null,null,null,null,null,null,null,null,null,null,null,null,null,"","","2019-03-31","2020-03-31",0,0,0,0,0,0,0,0,0,0,0,0,0,0,0]
[null,null,null,null,null,null,null,null,null,null,null,null,null,null,"","","2019-03-31","2020-03-31",0,0,0,0,0,0,0,0,0,0,0,0,0,0,0]
[null,null,null,null,null,null,null,null,null,null,null,null,null,null,"","","2019-03-31","2020-03-31",0,0,0,0,0,0,0,0,0,0,0,0,0,0,0]
[]
[null,null,null,null,null,null,null,null,null,null,null,null,null,null,null,null,null,"pre-16 D1",{"$f":"IF(VLOOKUP(Year1DfE,dataslate,48,0)=0,\"\",VLOOKUP(Year1DfE,dataslate,48,0))","v":{"$error":"#N/A"}},null,{"$f":"COUNTIFS(U$17:U$188,$S190,$O$17:$O$188,\"Pre-16\")","v":0},0,0,0,0,0,{"$f":"COUNTIFS(AA$17:AA$188,$S190,$P$17:$P$188,\"Pre-16\")","v":0},0,0,0,0,0]
[null,null,null,null,null,null,null,null,null,null,null,null,null,null,null,null,null,"pre-16 D2",{"$f":"IF(VLOOKUP(Year1DfE,dataslate,49,0)=0,\"\",VLOOKUP(Year1DfE,dataslate,49,0))","v":{"$error":"#N/A"}},null,0,0,0,0,0,0,0,0,0,0,0,0]
[null,null,null,null,null,null,null,null,null,null,null,null,null,null,null,null,null,"post-16 D1",{"$f":"IF(VLOOKUP(Year1DfE,dataslate,50,0)=0,\"\",VLOOKUP(Year1DfE,dataslate,50,0))","v":{"$error":"#N/A"}},null,{"$f":"COUNTIFS(U$17:U$188,$S192,$O$17:$O$188,\"Post-16\")","v":0},0,0,0,0,0,{"$f":"COUNTIFS(AA$17:AA$188,$S192,$P$17:$P$188,\"Post-16\")","v":0},0,0,0,0,0]
[null,null,null,null,null,null,null,null,null,null,null,null,null,null,null,null,null,"post-16 D2",{"$f":"IF(VLOOKUP(Year1DfE,dataslate,51,0)=0,\"\",VLOOKUP(Year1DfE,dataslate,51,0))","v":{"$error":"#N/A"}},null,0,0,0,0,0,0,0,0,0,0,0,0]
[null,null,null,null,null,null,null,null,null,null,null,null,null,null,null,null,null,"pre-16 places",null,null,{"$f":"$F$36","v":0},0,0,0,0,0,{"$f":"$F$37","v":0},0,0,0,0,0]
[null,null,null,null,null,null,null,null,null,null,null,null,null,null,null,null,null,"post-16 places",null,null,{"$f":"$F$40","v":0},0,0,0,0,0,{"$f":"$F$41","v":0},0,0,0,0,0]
[null,null,null,null,null,null,null,null,null,null,null,null,null,null,null,null,null,"excess pre-16",null,null,{"$f":"(U190+U191-U194)","v":0},{"$f":"(V190+V191-V194)","v":0},{"$f":"(W190+W191-W194)","v":0},0,0,0,0,0,0,0,0,0]
[null,null,null,null,null,null,null,null,null,null,null,null,null,null,null,null,null,"excess post-16",null,null,{"$f":"U192+U193-U195","v":0},{"$f":"V192+V193-V195","v":0},0,0,0,0,0,0,0,0,0,0]
[null,null,null,null,null,null,null,null,null,null,null,null,null,null,null,null,null,"pre-16 cash",{"$f":"6000/12","v":500},null,{"$f":"U196*$S$198","v":0},{"$f":"V196*$S$198","v":0},0,0,0,0,0,0,0,0,0,0]
[null,null,null,null,null,null,null,null,null,null,null,null,null,null,null,null,null,"post-16 cash",{"$f":"6000/12","v":500},null,{"$f":"U197*$S199","v":0},{"$f":"V197*$S199","v":0},0,0,0,0,0,0,0,0,0,0]
[null,null,null,null,null,null,null,null,null,null,null,null,null,null,null,null,null,"Excess E1",{"$f":"4000/12","v":333.33333333333331},null,{"$f":"IF(U190>$F$36,(U190-$F$36)*$S$200,0)","v":0},0,0,0,0,0,{"$f":"IF(AA190>$F$37,(AA190-$F$37)*$S$200,0)","v":0},0,0,0,0,0]
[null,null,null,null,null,null,null,null,null,null,null,null,null,null,null,null,null,"excess funding",null,null,{"$f":"IF(U199+U198+U200<0,0,U199+U198+U200)","v":0},{"$f":"IF(V199+V198+V200<0,0,V199+V198+V200)","v":0},0,0,0,0,0,0,0,0,0,0]

{"sheet":"SRP Funding Summary","index":14,"n_rows":35,"n_cols":9,"rows_kept":35,"cut":false,"hidden":false,"merged":[]}
[]
[]
[]
[]
[]
[]
[]
[null,"SRP Funding Summary",null,null,null,null,{"$f":"Year1DfE","v":0}]
[]
[]
[]
[]
[null,"Total pupil numbers",{"$f":"IFERROR(SUM('Year 1'!$F$13:'Year 1'!$F$15)*(IF('SRP Year 1'!$H$99>0,1,0)),0)","v":0},null,null,"white"]
[]
[null,"SRP funding included Formula Budget"]
[]
[null,"Basic Entitlement",{"$f":"I17","v":4074.7236206600001},null,null,null,{"$f":"3/5","v":0.6},{"$f":"2/5","v":0.4},{"$f":"IF(year1phase=1,'Year 1'!$G$13,('Year 1'!$G$14*0.6)+(('Year 1'!$G$15*0.4)))","v":4074.7236206600001}]
[null,"FSM",{"$f":"IFERROR($I18/$C$13,0)","v":0},null,null,null,null,null,{"$f":"SUM('Year 1'!H17:'Year 1'!H18)","v":0}]
[null,"E6FSM",{"$f":"IFERROR($I19/$C$13,0)","v":0},null,null,null,null,null,{"$f":"SUM('Year 1'!H19:'Year 1'!H20)","v":0}]
[null,"IDACI",{"$f":"IFERROR($I20/$C$13,0)","v":0},null,null,null,null,null,{"$f":"SUM('Year 1'!$H$21:$H$32)","v":0}]
[null,"EAL",0,null,null,null,null,null,{"$f":"SUM('Year 1'!H34:'Year 1'!H35)","v":0}]
[null,"Low Prior Attainment",{"$f":"IFERROR($I22/$C$13,0)","v":0},null,null,null,null,null,{"$f":"SUM('Year 1'!H36:'Year 1'!H37)","v":0}]
[]
[null,"Total amount per pupil (A)",{"$f":"IFERROR(SUM(C17:C22),0)","v":4074.7236206600001}]
[]
[null,"Number of SRP pupils (B)",{"$f":"'SRP Year 1'!$G$17","v":0}]
[]
[null,"SRP Year 1 budget (A X B)",{"$f":"C26*C24","v":0}]
[null,"Element 1  (SRP template)",{"$f":"'SRP Year 1'!H32","v":0}]
[null,"Element 2",{"$f":"'SRP Year 1'!H44","v":0}]
[null,"Excess Place funding E1",{"$f":"'SRP Year 1'!H95","v":0}]
[null,"Excess Place funding E2",{"$f":"'SRP Year 1'!H96","v":0}]
[null,"Element 3",{"$f":"'SRP Year 1'!H97","v":0}]
[]
[null,null,{"$f":"SUM(C28:C34)","v":0}]

{"sheet":"SRP Year 2 & 3","index":15,"n_rows":38,"n_cols":21,"rows_kept":38,"cut":false,"hidden":false,"merged":[[27,3,27,5],[27,7,27,9],[27,12,27,20],[28,3,28,5],[28,7,28,9],[28,12,28,14],[28,15,28,17],[28,18,28,20],[14,3,14,5],[14,7,14,9],[14,12,14,14],[14,15,14,17],[14,18,14,20],[5,2,5,11],[7,1,7,12],[13,3,13,5],[13,7,13,9],[13,12,13,20]]}
[]
[null,null,null,null,null,null,null,null,null,null,null,null,{"$f":"Year1DfE","v":0}]
[]
[]
[null,null,null,null,null,null,null,null,null,null,null,null,null,null,"Rates"]
[null,null,{"$f":"schoolname","v":""},null,null,null,null,null,null,null,null,null,null,null,null,"E1","E2","Designation 1 E3","Designation 2  E3"]
[null,null,null,null,null,null,null,null,null,null,null,null,null,null,"Pre 16",4000,6000,{"$f":"IFERROR(VLOOKUP(Year1DfE,dataslate,48,0)*12,0)","v":0},{"$f":"IFERROR(VLOOKUP(Year1DfE,dataslate,49,0)*12,0)","v":0}]
[null,"Place Plus Funding for High Needs Pupils in Resourced Provision",null,null,null,null,null,null,null,null,null,null,null,null,"Post 16",null,6000,{"$f":"IFERROR(VLOOKUP(Year1DfE,dataslate,50,0)*12,0)","v":0},{"$f":"IFERROR(VLOOKUP(Year1DfE,dataslate,51,0)*12,0)","v":0}]
[]
[]
[]
["2020/21"]
[]
[null,null,null,"19/20 Academic Year",null,null,null,"20/21 Academic Year",null,null,null,null,"Funding "]
[null,null,null,"Pre-16:  Apr to Aug\nPost-16: Apr to Jul",null,null,null,"Pre-16:  Sep to Mar\nPost-16:  Aug to Mar",null,null,null,null,"April - August",null,null,"September - March",null,null,"2020/21 Financial Year Total"]
[null,"Designation","Age Group","Places ","Estimated Pupils","Places to be funded",null,"Places","Estimated Pupils","Places to be funded",null,null,"E1 & E2","E3","Total","E1 & E2","E3","Total","E1 & E2","E3","Total"]
[]
[null,1,"Pre-16",null,null,{"$f":"IF(E18>D18,0,D18-E18)","v":0},null,null,null,{"$f":"IF(I18>H18,0,H18-I18)","v":0},null,null,{"$f":"(D18*$Q$7*5/12)+(F18*$P$7*5/12)+IF(E18-D18>0,SUM(E18-D18)*SUM(Q7*5/12),0)","v":0},{"$f":"(E18*$R$7)*5/12","v":0},{"$f":"SUM(M18:N18)","v":0},{"$f":"(H18*$Q$7*7/12)+(J18*$P$7*7/12)+IF(I18-H18>0,SUM(I18-H18)*SUM(Q7*7/12),0)","v":0},{"$f":"(I18*$R$7)*(7/12)","v":0},{"$f":"SUM(P18:Q18)","v":0},{"$f":"M18+P18","v":0},{"$f":"N18+Q18","v":0},{"$f":"S18+T18","v":0}]
[null,1,"Post-16",null,null,null,null,null,null,null,null,null,{"$f":"((D19*$Q$8)*4/12)+(H19*$Q$8)*1/12","v":0},{"$f":"(E19*$R$8)*5/12","v":0},{"$f":"SUM(M19:N19)","v":0},{"$f":"(H19*$Q$8)*7/12","v":0},{"$f":"(I19*$R$8)*(7/12)","v":0},{"$f":"SUM(P19:Q19)","v":0},{"$f":"M19+P19","v":0},{"$f":"N19+Q19","v":0},{"$f":"S19+T19","v":0}]
[]
[null,2,"Pre-16",null,null,{"$f":"IF(E21>D21,0,D21-E21)","v":0},null,null,null,{"$f":"IF(I21>H21,0,H21-I21)","v":0},null,null,{"$f":"(D21*$Q$7*5/12)+(F21*$P$7*5/12)+IF(E21-D21>0,SUM(E21-D21)*SUM(Q7*5/12),0)","v":0},{"$f":"(E21*$R$7)*5/12","v":0},{"$f":"SUM(M21:N21)","v":0},{"$f":"(H21*$Q$7*7/12)+(J21*$P$7*7/12)+IF(I21-H21>0,SUM(I21-H21)*SUM(Q7*7/12),0)","v":0},{"$f":"(I21*$S$7)*(7/12)","v":0},{"$f":"SUM(P21:Q21)","v":0},{"$f":"M21+P21","v":0},{"$f":"N21+Q21","v":0},{"$f":"S21+T21","v":0}]
[null,2,"Post-16",null,null,null,null,null,null,null,null,null,{"$f":"((D22*$Q$8)*4/12)+(H22*$Q$8)*1/12","v":0},{"$f":"(E22*$R$8)*5/12","v":0},{"$f":"SUM(M22:N22)","v":0},{"$f":"(H22*$Q$8)*7/12","v":0},{"$f":"(I22*$S$8)*(7/12)","v":0},{"$f":"SUM(P22:Q22)","v":0},{"$f":"M22+P22","v":0},{"$f":"N22+Q22","v":0},{"$f":"S22+T22","v":0}]
[]
[null,null,null,null,null,null,null,null,null,null,null,null,{"$f":"SUM(M18:M22)","v":0},{"$f":"SUM(N18:N22)","v":0},{"$f":"SUM(O18:O22)","v":0},{"$f":"SUM(P18:P22)","v":0},0,0,0,{"$f":"SUM(T18:T22)","v":0},{"$f":"SUM(U18:U22)","v":0}]
[]
["2021/22"]
[]
[null,null,null,"20/21 Academic Year",null,null,null,"21/22 Academic Year",null,null,null,null,"Funding "]
[null,null,null,"Pre-16:  Apr to Aug\nPost-16: Apr to Jul",null,null,null,"Pre-16:  Sep to Mar\nPost-16:  Aug to Mar",null,null,null,null,"April - August",null,null,"September - March",null,null,"2021/22 Financial Year Total"]
[null,"Designation","Age Group","Places ","Estimated Pupils","Places to be funded",null,"Places","Estimated Pupils","Places to be funded",null,null,"E1 & E2","E3","Total","E1 & E2","E3","Total","E1 & E2","E3","Total"]
[]
[null,1,"Pre-16",null,null,{"$f":"IF(E32>D32,0,D32-E32)","v":0},null,null,null,{"$f":"IF(I32>H32,0,H32-I32)","v":0},null,null,{"$f":"(D32*$Q$7*5/12)+(F32*$P$7*5/12)+IF(E32-D32>0,SUM(E32-D32)*SUM(Q7*5/12),0)","v":0},{"$f":"(E32*$R$7)*5/12","v":0},{"$f":"SUM(M32:N32)","v":0},{"$f":"(H32*$Q$7*7/12)+(J32*$P$7*7/12)+IF(I32-H32>0,SUM(I32-H32)*SUM(Q7*7/12),0)","v":0},{"$f":"(I32*$R$7)*(7/12)","v":0},{"$f":"SUM(P32:Q32)","v":0},{"$f":"M32+P32","v":0},{"$f":"N32+Q32","v":0},{"$f":"S32+T32","v":0}]
[null,1,"Post-16",null,null,null,null,null,null,null,null,null,{"$f":"((D33*$Q$8)*4/12)+(H33*$Q$8)*1/12","v":0},{"$f":"(E33*$R$8)*5/12","v":0},{"$f":"SUM(M33:N33)","v":0},{"$f":"(H33*$Q$8)*7/12","v":0},{"$f":"(I33*$R$8)*(7/12)","v":0},{"$f":"SUM(P33:Q33)","v":0},{"$f":"M33+P33","v":0},{"$f":"N33+Q33","v":0},{"$f":"S33+T33","v":0}]
[]
[null,2,"Pre-16",null,null,{"$f":"IF(E35>D35,0,D35-E35)","v":0},null,null,null,{"$f":"IF(I35>H35,0,H35-I35)","v":0},null,null,{"$f":"(D35*$Q$7*5/12)+(F35*$P$7*5/12)+IF(E35-D35>0,SUM(E35-D35)*SUM(Q7*5/12),0)","v":0},{"$f":"(E35*$R$7)*5/12","v":0},{"$f":"SUM(M35:N35)","v":0},{"$f":"(H35*$Q$7*7/12)+(J35*$P$7*7/12)+IF(I35-H35>0,SUM(I35-H35)*SUM(Q7*7/12),0)","v":0},{"$f":"(I35*$S$7)*(7/12)","v":0},{"$f":"SUM(P35:Q35)","v":0},{"$f":"M35+P35","v":0},{"$f":"N35+Q35","v":0},{"$f":"S35+T35","v":0}]
[null,2,"Post-16",null,null,null,null,null,null,null,null,null,{"$f":"((D36*$Q$8)*4/12)+(H36*$Q$8)*1/12","v":0},{"$f":"(E36*$R$8)*5/12","v":0},{"$f":"SUM(M36:N36)","v":0},{"$f":"(H36*$Q$8)*7/12","v":0},{"$f":"(I36*$S$8)*(7/12)","v":0},{"$f":"SUM(P36:Q36)","v":0},{"$f":"M36+P36","v":0},{"$f":"N36+Q36","v":0},{"$f":"S36+T36","v":0}]
[]
[null,null,null,null,null,null,null,null,null,null,null,null,{"$f":"SUM(M32:M36)","v":0},{"$f":"SUM(N32:N36)","v":0},{"$f":"SUM(O32:O36)","v":0},{"$f":"SUM(P32:P36)","v":0},0,0,0,{"$f":"SUM(T32:T36)","v":0},{"$f":"SUM(U32:U36)","v":0}]

{"sheet":"SRP Rates","index":16,"n_rows":72,"n_cols":51,"rows_kept":72,"cut":false,"hidden":false,"merged":[[1,22,1,26],[1,28,1,39],[1,41,1,48],[3,17,4,20],[4,5,4,6],[4,7,4,8],[4,9,4,10],[1,5,1,10],[1,12,1,20]]}
["How your SRP rate was calculated…",null,null,null,null,"Step 1",null,null,null,null,null,null,"Step 2",null,null,null,null,null,null,null,null,null,"Step 3",null,null,null,null,null,"Step 4",null,null,null,null,null,null,null,null,null,null,null,null,"Step 4"]
[null,null,null,null,null,"First of all we need to establish the commissioned place numbers pre and post 16 in both relevant academic years and the weighted average number of places in the financial year.",null,null,null,null,null,null,"The first part of your SRP rate is based on the rates previously known as Individually assigned resources (IAR). There are four rates based on the need type of the pupil, so we need to establish the mix of needs types at your school and allocate your places using this mix.",null,null,null,null,null,null,null,null,null,"Now that we have established the mix to be used, we can work out the total amount of cash that your number of places should attract if you are exactly at capacity. Then work out the average per place and feed it into your SRP rate.",null,null,null,null,null,null,null,null,null,null,null,null,null,null,null,null,null,null,"Finally we can now bring everything together to find your SRP rate. The rate is only the IAR element as these pupils also attract funding through either the schools formula budget or the 16-19 allocations. From the total rate we deduct £6,000 element 2 to reach the element 3 rate.\nPre 16 E3 Rate = IAR Element - E2 (£6,000)\nPost 16 E3 Rate = IAR Element - E2 (£6,000)"]
[null,null,null,null,null,null,null,null,null,null,null,null,null,null,null,null,null,null,null,null,null,null,14551.228288451965,19028.881051269283,10653.095777084111,12602.662032768039,"1-3"]
[null,null,null,null,null,"Place Numbers",null,null,null,null,null,null,"Actual pupils in October 2018 census",null,null,null,null,"Spread of commissioned places with October mix",null,null,null,null,14051.228288451965,16028.881051269283,8653.0957770841123,10602.662032768039,"4-20"]
[null,null,null,null,null,"2018/19 Academic",null,"2019/20 Academic",null,"2019/20 Financial",null,null,null,null,null,null,null,null,null,null,null,null,12551.228288451965,15028.881051269283,6653.0957770841123,8602.6620327680394,"20+"]
[null,null,"DFE","School",null,"Pre 16","Post 16","Pre 16","Post 16","Pre 16","Post 16",null,"ASD","PD, HI & VI","SLCN & SPLD","SLD",null,"ASD","PD, HI & VI","SLCN & SPLD","SLD",null,"ASD","PD, HI & VI","SLCN & SPLD","SLD","Average £",null,"AWPU Primary","AWPU KS3","AWPU KS4","FSM","IDACI","LAC","EAL","Prior Attainment","London Fringe","Total","NOR","Average £",null,"Pre-16 total rate","Post-16 total rate",null,"Element 1 pre-16","Element 1 post-16","Element 2 all ages","Element 3 pre-16","Element 3 post-16","Element 3 pre-16\n(Monthly)","Element 3 post-16\n(Monthly)"]
[null,2155,2155,"Slade Primary School",null,5,0,5,0,5,0,null,0,7,0,0,null,0,5,0,0,null,{"$f":"IF(R7>20,(3*W$3)+(17*W$4)+((R7-20)*W$5),\nIF(R7>3,(3*W$3)+((R7-3)*W$4),\nR7*W$3))","v":0},89144.405256346421,0,0,{"$f":"SUM(W7:Z7)/SUM(R7:U7)","v":17828.881051269283},null,null,null,null,null,null,null,null,null,null,null,null,null,null,{"$f":"AA7+AN7","v":17828.881051269283},{"$f":"IF(K7>0,AA7,0)","v":0},null,"Included in the Schools Formula Budget","Included in 16-19 allocation",6000,{"$f":"AP7-AU7","v":11828.881051269283},{"$f":"IF(AQ7-AU7<0,0,AQ7-AU7)","v":0},{"$f":"AV7/12","v":985.74008760577362},0]
[null,2312,2312,"River Primary School",null,12,0,12,0,12,0,null,0,0,9,0,null,0,0,12,0,null,0,0,109837.14932500935,0,9153.0957770841123,null,null,null,null,null,null,null,null,null,null,null,null,null,null,9153.0957770841123,0,null,"Included in the Schools Formula Budget","Included in 16-19 allocation",6000,{"$f":"AP8-AU8","v":3153.0957770841123},0,262.75798142367603,0]
[null,2434,2434,"West Minster Primary",null,12,0,15,0,13.75,0,null,0,0,15,0,null,0,0,13.75,0,null,0,0,124980.06693490654,0,9089.4594134477484,null,null,null,null,null,null,null,null,null,null,null,null,null,null,9089.4594134477484,0,null,"Included in the Schools Formula Budget","Included in 16-19 allocation",6000,3089.4594134477484,0,257.45495112064572,0]
[null,2603,2490,"Bishops Down Primary School",null,7,0,7,0,7.0000000000000009,0,null,0,5,1,0,null,0,5.8333333333333339,1.1666666666666667,0,null,0,102501.80613240416,12428.611739931463,0,16418.631124619373,null,null,null,null,null,null,null,null,null,null,null,null,null,null,16418.631124619373,0,null,"Included in the Schools Formula Budget","Included in 16-19 allocation",6000,10418.631124619373,0,868.21926038494769,0]
[null,2661,2603,"Bromstone Primary School, Broadstairs",null,16,0,16,0,16,0,null,6,3,12,3,null,4,2,8,2,null,57704.913153807858,38057.762102538567,75224.766216672899,25205.324065536079,12262.047846159712,null,null,null,null,null,null,null,null,null,null,null,null,null,null,12262.047846159712,0,null,"Included in the Schools Formula Budget","Included in 16-19 allocation",6000,6262.0478461597122,0,521.83732051330935,0]
[null,3296,2661,"Cage Green Primary School",null,31,0,31,0,31.000000000000004,0,null,26,0,1,0,null,29.851851851851855,0,1.1481481481481481,0,null,406177.40742564015,0,12231.332188503979,0,13497.056116585294,null,null,null,null,null,null,null,null,null,null,null,null,null,null,13497.056116585294,0,null,"Included in the Schools Formula Budget","Included in 16-19 allocation",6000,7497.0561165852941,0,624.75467638210785,0]
[null,3902,3296,"Langafel CEP School",null,20,0,20,0,20,0,null,23,0,1,0,null,19.166666666666668,0,0.83333333333333326,0,null,270815.20886199601,0,8877.5798142367585,0,13984.639433811641,null,null,null,null,null,null,null,null,null,null,null,null,null,null,13984.639433811641,0,null,"Included in the Schools Formula Budget","Included in 16-19 allocation",6000,7984.6394338116406,0,665.38661948430342,0]
[null,3904,3902,"Hythe Bay C of E Primary School",null,16,0,22,0,19.5,0,null,0,1,18,0,null,0,1.0263157894736841,18.473684210526315,0,null,0,19529.641078934263,165854.55882929071,0,9506.8820465756398,null,null,null,null,null,null,null,null,null,null,null,null,null,null,9506.8820465756398,0,null,"Included in the Schools Formula Budget","Included in 16-19 allocation",6000,3506.8820465756398,0,292.24017054796997,0]
[null,3909,3904,"Castle Hill Community Primary School",null,6,0,5,0,5.416666666666667,0,null,0,10,0,0,null,0,5.416666666666667,0,0,null,0,95823.105694375292,0,0,17690.419512807744,null,null,null,null,null,null,null,null,null,null,null,null,null,null,17690.419512807744,0,null,"Included in the Schools Formula Budget","Included in 16-19 allocation",6000,11690.419512807744,0,974.20162606731208,0]
[null,3910,3909,"Ashford Oaks Community Primary School",null,8,0,8,0,8,0,null,8,0,0,0,null,8,0,0,0,null,113909.8263076157,0,0,0,14238.728288451963,null,null,null,null,null,null,null,null,null,null,null,null,null,null,14238.728288451963,0,null,"Included in the Schools Formula Budget","Included in 16-19 allocation",6000,8238.7282884519627,0,686.56069070433023,0]
[null,3917,3910,"Joy Lane Primary School",null,30,0,30,0,30,0,null,26,0,1,0,null,28.888888888888886,0,1.1111111111111112,0,null,394091.03944416781,0,11836.773085649013,0,13530.927084327228,null,null,null,null,null,null,null,null,null,null,null,null,null,null,13530.927084327228,0,null,"Included in the Schools Formula Budget","Included in 16-19 allocation",6000,7530.9270843272279,0,627.57725702726896,0]
[null,4065,3917,"Garlinge Primary School",null,4,0,4,0,4,0,null,0,3,0,0,null,0,4,0,0,null,0,73115.524205077134,0,0,18278.881051269283,null,null,null,null,null,null,null,null,null,null,null,null,null,null,18278.881051269283,0,null,"Included in the Schools Formula Budget","Included in 16-19 allocation",6000,12278.881051269283,0,1023.2400876057736,0]
[null,4246,4065,"Holmesdale Technology College",null,4,0,6,0,5.166666666666667,0,null,5,0,0,0,null,5.166666666666667,0,0,0,null,74098.012823668483,0,0,0,14341.550869097126,null,null,null,null,null,null,null,null,null,null,null,null,null,null,14341.550869097126,0,null,"Included in the Schools Formula Budget","Included in 16-19 allocation",6000,8341.5508690971255,0,695.12923909142717,0]
[null,5221,4246,"The North School",null,25,0,25,0,25,0,null,27,0,0,0,null,25,0,0,0,null,345280.7072112991,0,0,0,13811.228288451965,null,null,null,null,null,null,null,null,null,null,null,null,null,null,13811.228288451965,0,null,"Included in the Schools Formula Budget","Included in 16-19 allocation",6000,7811.2282884519645,0,650.93569070433034,0]
[null,5229,5221,"Wincheap Foundation Primary School",null,25,0,20,0,22.083333333333336,0,null,0,0,21,0,null,0,0,22.083333333333336,0,null,0,0,192922.53174394084,0,8736.1146450086417,null,null,null,null,null,null,null,null,null,null,null,null,null,null,8736.1146450086417,0,null,"Included in the Schools Formula Budget","Included in 16-19 allocation",6000,2736.1146450086417,0,228.00955375072013,0]
[null,5407,5229,"Fleetdown Primary School",null,13,0,13,0,13,0,null,0,13,0,0,null,0,13,0,0,null,0,217375.45366650069,0,0,16721.188743576975,null,null,null,null,null,null,null,null,null,null,null,null,null,null,{"$f":"AA22+AN22","v":16721.188743576975},0,null,"Included in the Schools Formula Budget","Included in 16-19 allocation",6000,10721.188743576975,0,893.43239529808125,0]
[null,5412,5407,"Thamesview School",null,8,0,6,0,6.8333333333333339,0,null,0,9,0,0,null,0,6.8333333333333339,0,0,null,{"$f":"IF(R23>20,(3*W$3)+(17*W$4)+((R23-20)*W$5),\nIF(R23>3,(3*W$3)+((R23-3)*W$4),\nR23*W$3))","v":0},118530.68718367344,0,0,17345.95422200099,null,null,null,null,null,null,null,null,null,null,null,null,null,null,17345.95422200099,0,null,"Included in the Schools Formula Budget","Included in 16-19 allocation",6000,11345.95422200099,0,945.49618516674911,0]
[null,5425,5412,"Simon Langton Grammar School for Boys",null,23,0,23,0,23,0,null,24,0,0,0,null,23,0,0,0,null,320178.25063439517,0,0,0,13920.793505843269,null,null,null,null,null,null,null,null,null,null,null,null,null,null,13920.793505843269,0,null,"Included in the Schools Formula Budget","Included in 16-19 allocation",6000,7920.7935058432686,0,660.06612548693909,0]
[null,5431,5425,"The Malling School",null,80,28,80,28,80,27.999999999999996,null,47,2,59,1,null,46.568807339449542,1.9816513761467891,58.458715596330272,0.99082568807339455,null,615995.73203836847,37708.608321781336,434931.4338677061,12487.041280173838,10195.58162507435,null,null,null,null,null,null,null,null,null,null,null,null,null,null,10195.58162507435,10195.58162507435,null,"Included in the Schools Formula Budget","Included in 16-19 allocation",6000,4195.5816250743501,4195.5816250743501,349.63180208952917,349.63180208952917]
[null,6914,5431,"Hugh Christie Technology College",null,20,0,22,0,21.166666666666668,0,null,16,0,7,0,null,14.72463768115942,0,6.442028985507247,0,null,208399.245522713,0,61743.493810346205,0,12762.649102349251,null,null,null,null,null,null,null,null,null,null,null,null,null,null,12762.649102349251,0,null,"Included in the Schools Formula Budget","Included in 16-19 allocation",6000,6762.6491023492508,0,563.55409186243753,0]
[null,6917,6914,"Longfield Academy",null,34,0,36,0,35.166666666666671,0,null,38,0,1,0,null,34.264957264957268,0,0.90170940170940184,0,null,461567.30092652928,0,9605.9966195074685,0,13398.292821214314,null,null,null,null,null,null,null,null,null,null,null,null,null,null,13398.292821214314,0,null,"Included in the Schools Formula Budget","Included in 16-19 allocation",6000,7398.2928212143142,0,616.52440176785956,0]
[null,6919,6917,"Dover Christ Church Academy",null,38,0,38,0,38,0,null,10,4,12,20,null,8.2608695652173907,3.3043478260869565,9.9130434782608692,16.521739130434781,null,117575.36412199447,61964.998256368068,91778.514659790322,181174.41619355889,11907.718242939784,null,null,null,null,null,null,null,null,null,null,null,null,null,null,{"$f":"AA28+AN28","v":11907.718242939784},0,null,"Included in the Schools Formula Budget","Included in 16-19 allocation",6000,5907.7182429397835,0,492.30985357831531,0]
[null,6920,6919,"The John Wallis Academy",null,4,0,3,0,3.416666666666667,0,null,0,0,2,0,null,0,0,3.416666666666667,0,null,0,0,35564.74390503738,0,10409.19333805972,null,null,null,null,null,null,null,null,null,null,null,null,null,null,10409.19333805972,0,null,"Included in the Schools Formula Budget","Included in 16-19 allocation",6000,4409.1933380597202,0,367.43277817164335,0]
[null,"5426A",6920,"Wilmington Academy",null,3,0,10,0,7.0833333333333339,0,null,11,0,0,0,null,7.0833333333333339,0,0,0,null,101029.53370986809,0,0,0,14262.992994334318,null,null,null,null,null,null,null,null,null,null,null,null,null,null,14262.992994334318,0,null,"Included in the Schools Formula Budget","Included in 16-19 allocation",6000,8262.9929943343177,0,688.58274952785985,0]
[null,"5426B",5426,"The Archbishops School VI",null,3,0,4,0,3.5833333333333335,0,null,0,3,0,0,null,0,3.5833333333333335,0,0,null,0,66436.823767048263,0,0,18540.508958246028,null,null,null,null,null,null,null,null,null,null,null,null,null,null,18540.508958246028,0,null,"Included in the Schools Formula Budget","Included in 16-19 allocation",6000,12540.508958246028,0,1045.0424131871689,0]
[null,"6910A",5426,"The Archbishops School SPLD",null,8,0,6,0,6.8333333333333339,0,null,1,0,3,0,null,1.7083333333333335,0,5.125,0,null,24858.348326105443,0,50347.115857556069,0,11005.677685413877,null,null,null,null,null,null,null,null,null,null,null,null,null,null,11005.677685413877,0,null,"Included in the Schools Formula Budget","Included in 16-19 allocation",6000,5005.677685413877,0,417.13980711782307,0]
[null,"6910B",6910,"Leigh Academy",null,3,0,4,0,3.5833333333333335,0,null,0,3,0,0,null,0,3.5833333333333335,0,0,null,0,66436.823767048263,0,0,18540.508958246028,null,null,null,null,null,null,null,null,null,null,null,null,null,null,18540.508958246028,0,null,"Included in the Schools Formula Budget","Included in 16-19 allocation",6000,12540.508958246028,0,1045.0424131871689,0]
[null,"A2007",6910,"Leigh Academy Language Unit",null,9,0,10,0,9.5833333333333339,0,null,0,0,12,0,null,0,0,9.5833333333333339,0,null,0,0,88925.501197056074,0,9279.1827336058504,null,null,null,null,null,null,null,null,null,null,null,null,null,null,9279.1827336058504,0,null,"Included in the Schools Formula Budget","Included in 16-19 allocation",6000,3279.1827336058504,0,273.26522780048754,0]
[null,"A2029",2007,"Molehill Copse Primary Academy",null,4,0,4,0,4,0,null,0,2,0,0,null,0,4,0,0,null,0,73115.524205077134,0,0,18278.881051269283,null,null,null,null,null,null,null,null,null,null,null,null,null,null,18278.881051269283,0,null,"Included in the Schools Formula Budget","Included in 16-19 allocation",6000,12278.881051269283,0,1023.2400876057736,0]
[null,"A2034",2029,"Tymberwood Academy",null,3,0,4,0,3.5833333333333335,0,null,0,4,0,0,null,0,3.5833333333333335,0,0,null,0,66436.823767048263,0,0,18540.508958246028,null,null,null,null,null,null,null,null,null,null,null,null,null,null,18540.508958246028,0,null,"Included in the Schools Formula Budget","Included in 16-19 allocation",6000,12540.508958246028,0,1045.0424131871689,0]
[null,"A2036",2034,"Thistle Hill Academy",null,4,0,8,0,6.3333333333333339,0,null,0,0,2,0,null,0,0,6.3333333333333339,0,null,0,0,60802.939921532714,0,9600.464198136744,null,null,null,null,null,null,null,null,null,null,null,null,null,null,9600.464198136744,0,null,"Included in the Schools Formula Budget","Included in 16-19 allocation",6000,3600.464198136744,0,{"$f":"AV37/12","v":300.038683178062},0]
[null,"A2037",2036,"Valley Invicta Primary School at Leybourne Chase",null,1,0,4,0,2.75,0,null,0,0,1,0,null,0,0,2.75,0,null,0,0,29296.013386981303,0,10653.095777084111,null,null,null,null,null,null,null,null,null,null,null,null,null,null,10653.095777084111,0,null,"Included in the Schools Formula Budget","Included in 16-19 allocation",6000,4653.0957770841105,0,387.75798142367586,0]
[null,"A2038",2037,"Valley Invicta Primary School at Holborough Lakes",null,8,0,5,0,6.25,0,null,0,0,5,0,null,0,0,6.25,0,null,0,0,60081.848606775697,0,9613.0957770841123,null,null,null,null,null,null,null,null,null,null,null,null,null,null,9613.0957770841123,0,null,"Included in the Schools Formula Budget","Included in 16-19 allocation",6000,3613.0957770841123,0,301.09131475700934,0]
[null,"A2039",2038,"Valley Invicta Primary School at Kings Hill",null,8,0,10,0,9.1666666666666679,0,null,8,0,0,0,null,9.1666666666666679,0,0,0,null,130302.92597747635,0,0,0,14214.864652088327,null,null,null,null,null,null,null,null,null,null,null,null,null,null,14214.864652088327,0,null,"Included in the Schools Formula Budget","Included in 16-19 allocation",6000,8214.8646520883267,0,684.57205434069385,0]
[null,"A2048",2039,"Martello Grove Academy",null,4,0,3,0,3.416666666666667,0,null,0,0,3,0,null,0,0,3.416666666666667,0,null,0,0,35564.74390503738,0,10409.19333805972,null,null,null,null,null,null,null,null,null,null,null,null,null,null,10409.19333805972,0,null,"Included in the Schools Formula Budget","Included in 16-19 allocation",6000,4409.1933380597202,0,367.43277817164335,0]
[null,"A2061",2048,"Reculver CofE Primary School",null,9,0,7,0,7.8333333333333339,0,null,1,3,1,3,null,0.97916666666666674,2.9375,0.97916666666666674,2.9375,null,14248.077699109217,55897.338088103519,10431.156281728192,37020.319721256114,15012.369164706006,null,null,null,null,null,null,null,null,null,null,null,null,null,null,15012.369164706006,0,null,"Included in the Schools Formula Budget","Included in 16-19 allocation",6000,9012.3691647060059,0,751.03076372550049,0]
[null,"A2073",2061,"Finberry Park Primary School",null,8,0,8,0,8,0,null,0,0,3,0,null,0,0,8,0,null,0,0,75224.766216672899,0,9403.0957770841123,null,null,null,null,null,null,null,null,null,null,null,null,null,null,9403.0957770841123,0,null,"Included in the Schools Formula Budget","Included in 16-19 allocation",6000,3403.0957770841123,0,283.59131475700934,0]
[null,"A2076",2073,"Langley Park Primary Academy",null,8,0,11,0,9.75,0,null,7,0,1,0,null,8.53125,0,1.21875,0,null,121374.54133585581,0,12983.46047832126,0,13780.307878377136,null,null,null,null,null,null,null,null,null,null,null,null,null,null,13780.307878377136,0,null,"Included in the Schools Formula Budget","Included in 16-19 allocation",6000,7780.3078783771361,0,648.35898986476138,0]
[null,"A2087",2076,"Cherry Orchard Academy",null,8,0,12,0,10.333333333333334,0,null,1,0,8,0,null,1.1481481481481481,0,9.1851851851851851,0,null,16706.965812667069,0,85480.287137661478,0,9889.088995193084,null,null,null,null,null,null,null,null,null,null,null,null,null,null,9889.088995193084,0,null,"Included in the Schools Formula Budget","Included in 16-19 allocation",6000,3889.088995193084,0,324.09074959942365,0]
[null,"A2463",2087,"Morehall Academy",null,3,0,4,0,3.5833333333333335,0,null,0,2,0,0,null,0,3.5833333333333335,0,0,null,0,66436.823767048263,0,0,18540.508958246028,null,null,null,null,null,null,null,null,null,null,null,null,null,null,18540.508958246028,0,null,"Included in the Schools Formula Budget","Included in 16-19 allocation",6000,12540.508958246028,0,1045.0424131871689,0]
[null,"A2513",2463,"Minterne Community Junior School",null,24,0,24,0,24,0,null,0,0,30,0,null,0,0,24,0,null,0,0,205674.2986500187,0,8569.7624437507784,null,null,null,null,null,null,null,null,null,null,null,null,null,null,8569.7624437507784,0,null,"Included in the Schools Formula Budget","Included in 16-19 allocation",6000,2569.7624437507784,0,214.14687031256486,0]
[null,"A2654",2513,"The Oaks Community Infant School",null,12,0,12,0,12,0,null,1,0,6,0,null,1.7142857142857142,0,10.285714285714285,0,null,24944.962780203365,0,95003.270850008004,0,9995.6861358509486,null,null,null,null,null,null,null,null,null,null,null,null,null,null,9995.6861358509486,0,null,"Included in the Schools Formula Budget","Included in 16-19 allocation",6000,3995.6861358509486,0,332.97384465424574,0]
[null,"A3086",2654,"Canterbury Primary School",null,12,0,12,0,12,0,null,13,0,0,0,null,12,0,0,0,null,170114.73946142357,0,0,0,14176.228288451965,null,null,null,null,null,null,null,null,null,null,null,null,null,null,14176.228288451965,0,null,"Included in the Schools Formula Budget","Included in 16-19 allocation",6000,8176.2282884519645,0,681.35235737099708,0]
[null,"A3914",3086,"West Malling Church Of England Academy Trust",null,18,0,18,0,18,0,null,0,0,18,0,null,0,0,18,0,null,0,0,161755.72398751401,0,8986.4291104174445,null,null,null,null,null,null,null,null,null,null,null,null,null,null,8986.4291104174445,0,null,"Included in the Schools Formula Budget","Included in 16-19 allocation",6000,2986.4291104174445,0,248.86909253478703,0]
[null,"A4000",3914,"Oakfield Primary Academy",null,14,0,14,0,14.000000000000002,0,null,12,0,2,0,null,12,0,2,0,null,170114.73946142357,0,21306.191554168221,0,13672.923643970842,null,null,null,null,null,null,null,null,null,null,null,null,null,null,13672.923643970842,0,null,"Included in the Schools Formula Budget","Included in 16-19 allocation",6000,7672.923643970842,0,639.41030366423684,0]
[null,"A4002A",4000,"St Augustine Academy",null,10,0,12,0,11.166666666666668,0,null,13,0,1,0,null,10.36904761904762,0,0.79761904761904767,0,null,147197.85522906741,0,8497.1121079123277,0,13942.832895848931,null,null,null,null,null,null,null,null,null,null,null,null,null,null,13942.832895848931,0,null,"Included in the Schools Formula Budget","Included in 16-19 allocation",6000,7942.832895848931,0,661.90274132074421,0]
[null,"A4002B",4002,"Sittingbourne Academy SPLD",null,18,0,30,0,25,0,null,2,0,40,0,null,1.1904761904761905,0,23.809523809523807,0,null,17322.890819585671,0,204407.04231152646,0,8869.1973252444859,null,null,null,null,null,null,null,null,null,null,null,null,null,null,8869.1973252444859,0,null,"Included in the Schools Formula Budget","Included in 16-19 allocation",6000,2869.1973252444859,0,239.09977710370717,0]
[null,"A4004",4002,"Sittingbourne Academy HI",null,28,0,25,0,26.25,0,null,0,26,0,0,null,0,26.25,0,0,null,0,423508.12759581872,0,0,16133.64295603119,null,null,null,null,null,null,null,null,null,null,null,null,null,null,16133.64295603119,0,null,"Included in the Schools Formula Budget","Included in 16-19 allocation",6000,10133.64295603119,0,844.47024633593253,0]
[null,"A4016",4004,"Meopham School",null,15,0,15,0,15,0,null,16,0,0,0,null,15,0,0,0,null,212268.42432677947,0,0,0,14151.228288451965,null,null,null,null,null,null,null,null,null,null,null,null,null,null,14151.228288451965,0,null,"Included in the Schools Formula Budget","Included in 16-19 allocation",6000,8151.2282884519645,0,679.26902403766371,0]
[null,"A4018",4016,"The Charles Dickens School",null,4,0,4,0,4,0,null,0,6,0,0,null,0,4,0,0,null,0,73115.524205077134,0,0,18278.881051269283,null,null,null,null,null,null,null,null,null,null,null,null,null,null,18278.881051269283,0,null,"Included in the Schools Formula Budget","Included in 16-19 allocation",6000,12278.881051269283,0,1023.2400876057736,0]
[null,"A4172",4018,"The Goodwin Academy",null,13,0,13,0,13,0,null,2,0,12,0,null,1.857142857142857,0,11.142857142857142,0,null,27023.709678553645,0,102420.21008750866,0,9957.2245973894078,null,null,null,null,null,null,null,null,null,null,null,null,null,null,9957.2245973894078,0,null,"Included in the Schools Formula Budget","Included in 16-19 allocation",6000,3957.2245973894078,0,329.76871644911733,0]
[null,"A4242",4172,"Hartsdown Technology College",null,4,0,4,0,4,0,null,0,1,1,0,null,0,2,2,0,null,0,38057.762102538567,21306.191554168221,0,14840.988414176696,null,null,null,null,null,null,null,null,null,null,null,null,null,null,14840.988414176696,0,null,"Included in the Schools Formula Budget","Included in 16-19 allocation",6000,8840.9884141766961,0,736.74903451472471,0]
[null,"A5421",4242,"The Abbey School",null,30,0,30,0,30,0,null,31,0,2,0,null,28.181818181818183,0,1.8181818181818183,0,null,385216.43358364626,0,19369.265049243841,0,13486.18995442967,null,null,null,null,null,null,null,null,null,null,null,null,null,null,13486.18995442967,0,null,"Included in the Schools Formula Budget","Included in 16-19 allocation",6000,7486.1899544296703,0,623.84916286913915,0]
[null,"A5434A",5421,"The Canterbury High School",null,25,0,25,0,25,0,null,0,0,21,0,null,0,0,25,0,null,0,0,212327.39442710282,0,8493.0957770841123,null,null,null,null,null,null,null,null,null,null,null,null,null,null,8493.0957770841123,0,null,"Included in the Schools Formula Budget","Included in 16-19 allocation",6000,2493.0957770841123,0,207.75798142367603,0]
[null,"A5434B",5434,"The Westlands Academy PD",null,6,0,6,0,6,0,null,0,10,0,0,null,0,6,0,0,null,0,105173.28630761569,0,0,17528.881051269283,null,null,null,null,null,null,null,null,null,null,null,null,null,null,17528.881051269283,0,null,"Included in the Schools Formula Budget","Included in 16-19 allocation",6000,11528.881051269283,0,960.74008760577362,0]
[null,"A5435",5434,"The Westlands Academy SPLD",null,18,10,20,0,19.166666666666668,3.333333333333333,null,3,0,15,2,null,3.375,0,16.875,2.25,null,48922.895473525379,0,152020.9912382944,28355.989573728089,10191.105612691017,null,null,null,null,null,null,null,null,null,null,null,null,null,null,10191.105612691017,10191.105612691017,null,"Included in the Schools Formula Budget","Included in 16-19 allocation",6000,4191.1056126910171,{"$f":"IF(AQ62-AU62<0,0,AQ62-AU62)","v":4191.1056126910171},349.25880105758478,349.25880105758478]
[null,"A5446",5435,"St Gregory's Catholic Comprehensive School",null,10,0,9,0,9.4166666666666679,0,null,0,7,0,0,null,0,9.4166666666666679,0,0,null,0,159938.62989945244,0,0,16984.633263658663,null,null,null,null,null,null,null,null,null,null,null,null,null,null,16984.633263658663,0,null,"Included in the Schools Formula Budget","Included in 16-19 allocation",6000,10984.633263658663,0,{"$f":"AV63/12","v":915.38610530488859},0]
[null,null,5446,"St Anselm's Catholic School PD",null,10,0,10,0,10,0,null,0,13,0,0,null,0,10,0,0,null,0,169288.81051269284,0,0,16928.881051269283,null,null,null,null,null,null,null,null,null,null,null,null,null,null,16928.881051269283,0,null,"Included in the Schools Formula Budget","Included in 16-19 allocation",6000,10928.881051269283,0,910.74008760577362,0]
[null,null,5446,"St Anselm's Catholic School ASD",null,0,0,8,0,8,0,null,0,0,0,0,null,8,0,0,0,null,113909.8263076157,0,0,0,14238.728288451963,null,null,null,null,null,null,null,null,null,null,null,null,null,null,14238.728288451963,0,null,"Included in the Schools Formula Budget","Included in 16-19 allocation",6000,8238.7282884519627,0,686.56069070433023,0]
[null,null,2657,"Temple Hill",null,4,0,4,0,4,0,null,0,0,4,0,null,0,0,4,0,null,0,0,40612.383108336442,0,10153.095777084111,null,null,null,null,null,null,null,null,null,null,null,null,null,null,10153.095777084111,0,null,"Included in the Schools Formula Budget","Included in 16-19 allocation",6000,4153.0957770841105,0,346.09131475700923,0]
[null,null,6909,"The Marsh Academy",null,8,0,12,0,10.333333333333334,0,null,3,0,1,0,null,7.75,0,2.5833333333333335,0,null,110397.01923550272,0,27520.497424133955,0,13346.856450932582,null,null,null,null,null,null,null,null,null,null,null,null,null,null,13346.856450932582,0,null,"Included in the Schools Formula Budget","Included in 16-19 allocation",6000,7346.8564509325824,0,612.2380375777152,0]
[null,null,2674,"Kings Farm Primary School",null,0,0,6,0,6,0,null,0,0,0,0,null,6,0,0,0,null,85807.369730711784,0,0,0,14301.228288451965,null,null,null,null,null,null,null,null,null,null,null,null,null,null,14301.228288451965,0,null,"Included in the Schools Formula Budget","Included in 16-19 allocation",6000,8301.2282884519645,0,691.76902403766371,0]
[null,null,4031,"Orchards Academy",null,0,0,6,0,6,0,null,0,0,0,0,null,6,0,0,0,null,85807.369730711784,0,0,0,14301.228288451965,null,null,null,null,null,null,null,null,null,null,null,null,null,null,14301.228288451965,0,null,"Included in the Schools Formula Budget","Included in 16-19 allocation",6000,8301.2282884519645,0,691.76902403766371,0]
[null,null,3299,"The John Wesley CofE Methodist Voluntary Aided Primary School",null,0,0,6,0,6,0,null,0,0,0,0,null,0,0,6,0,null,0,0,57918.574662504667,0,9653.0957770841105,null,null,null,null,null,null,null,null,null,null,null,null,null,null,9653.0957770841105,0,null,"Included in the Schools Formula Budget","Included in 16-19 allocation",6000,{"$f":"AP70-AU70","v":3653.0957770841105},0,304.42464809034254,0]
[null,null,4622,"The Judd School",null,0,0,5,0,5,0,null,0,0,0,0,null,5,0,0,0,null,71756.141442259817,0,0,0,{"$f":"SUM(W71:Z71)/SUM(R71:U71)","v":14351.228288451963},null,null,null,null,null,null,null,null,null,null,null,null,null,null,{"$f":"AA71+AN71","v":14351.228288451963},{"$f":"IF(K71>0,AA71,0)","v":0},null,"Included in the Schools Formula Budget","Included in 16-19 allocation",6000,8351.2282884519627,{"$f":"IF(AQ71-AU71<0,0,AQ71-AU71)","v":0},695.93569070433023,0]
[null,null,2172,"Valley Invicta Primary School at East Borough",null,0,0,6,0,6,0,null,0,0,0,0,null,6,0,0,0,null,85807.369730711784,0,0,0,14301.228288451965,null,null,null,null,null,null,null,null,null,null,null,null,null,null,14301.228288451965,0,null,"Included in the Schools Formula Budget","Included in 16-19 allocation",6000,{"$f":"AP72-AU72","v":8301.2282884519645},0,691.76902403766371,0]

{"sheet":"Growth Funding","index":17,"n_rows":59,"n_cols":8,"rows_kept":59,"cut":false,"hidden":false,"merged":[[58,4,58,5],[6,1,6,7],[8,1,8,7],[52,4,52,5],[53,4,53,5],[54,4,54,5],[55,4,55,5],[56,4,56,5],[57,4,57,5],[10,1,10,7],[11,1,11,7]]}
[]
[null,null,null,null,null,null,null,{"$f":"Year1DfE","v":0}]
[]
[]
[]
[]
[null,{"$f":"schoolname","v":""}]
[]
[null,"Growth Funding Estimator"]
[]
[null,"Only complete this tab if Growth Funding has been agreed by Kent County Council. Growth funding entitlement only applies to Basic Need pupil increases."]
[null,"Definition - The DfE define Basic Need as new pupil places which are requested by the LA because there are insufficient places available for pupils in the area. Area Education Officers (AEOs) determine if schools meet eligibility for the DfE Basic Need criteria.\nIf a school meets the Basic Need criteria, growth funding will be allocated under either of the headings Reorganisation or Rising Roll (RR)."]
[null,"This projection is reliant on the pupil numbers entered on the Pupils tab"]
[null,null,null,"Rising Roll Funding",null,null,null,"Reorganisation Funding"]
[null,null,null,"Rising Roll Funding will be paid in December for the full period September 2019 to March 2020",null,null,null,"Will be notified by email, only populate pink cells with information provided in this email."]
[null,"April 2019 to August 2019"]
[]
[]
[null,"September 2019 to March 2020",null,"Qualifying year",{"$f":"IFERROR(VLOOKUP(8860000+H2,'Growth Data'!A:K,3,0),\"NO\")","v":"NO"}]
[null,null,null,"Lower Threshold (Old PAN or number of pupils leaving in Year 6 or Year 11",{"$f":"IF(E19=\"YES\",VLOOKUP(8860000+H2,'Growth Data'!A:K,6,0),0)","v":0}]
[null,null,null,"Upper Threshold (New PAN)",{"$f":"IF(E19=\"YES\",VLOOKUP(8860000+H2,'Growth Data'!A:K,7,0),0)","v":0}]
[null,null,null,{"$f":"\"Pupils in year \"&IF(OR(year1phase=1,year1phase=4),\"R\",\"7\")&\" Oct 19\"","v":"Pupils in year 7 Oct 19"},{"$f":"IF(E19=\"NO\",0,IF(OR(year1phase=1,year1phase=4),Pupils!B9,Pupils!B16))","v":0}]
[null,null,null,"Qualifying pupils",{"$f":"IFERROR(IF(E19=\"NO\",0,IF(E22<E20,0,IF(E22>E21,E21-E20,E22-E20))),0)","v":0}]
[null,null,null,"Rate",{"$f":"IF(qual1=\"YES\",IF(year1phase=1,'Year 1'!$G$13*(7/12),IF(year1phase=2,'Year 1'!$G$14*(7/12),IF(year1phase=4,'Year 1'!$G$13*(7/12),0))),0)","v":0}]
[]
[null,null,null,"Rising Roll",{"$f":"E23*E24","v":0}]
[null,"April 2020 to August 2020"]
[null,null,null,null,null,null,"Protected pupils"]
[null,null,null,null,null,null,null,{"$f":"(IF(year1phase=1,'Year 1'!$G$13*(5/12),IF(year1phase=2,'Year 1'!$G$14*(5/12),IF(year1phase=4,'Year 1'!$G$13*(5/12),0))))*H28","v":0}]
[]
[null,"September 2020 to March 2021",null,"Qualifying year",{"$f":"IFERROR(VLOOKUP(8860000+H2,'Growth Data'!A:F,4,0),\"NO\")","v":"NO"}]
[null,null,null,"Lower Threshold (Old PAN or number of pupils leaving in Year 6 or Year 11",{"$f":"IF(E31=\"YES\",VLOOKUP(8860000+H2,'Growth Data'!A:K,8,0),0)","v":0}]
[null,null,null,"Upper Threshold (New PAN)",{"$f":"IF(E31=\"YES\",VLOOKUP(8860000+H2,'Growth Data'!A:K,9,0),0)","v":0}]
[null,null,null,{"$f":"\"Pupils in year \"&IF(OR(year1phase=1,year1phase=4),\"R\",\"7\")&\" Oct 20\"","v":"Pupils in year 7 Oct 20"},{"$f":"IF(E31=\"NO\",0,IF(OR(year1phase=1,year1phase=4),Pupils!C9,Pupils!C16))","v":0}]
[null,null,null,"Qualifying pupils",{"$f":"IFERROR(IF(E31=\"NO\",0,IF(E34<E32,0,IF(E34>E33,E33-E32,E34-E32))),0)","v":0}]
[null,null,null,"Rate",{"$f":"IF(qual2=\"YES\",IF(year1phase=1,'Year 1'!$G$13*(7/12),IF(year1phase=2,'Year 1'!$G$14*(7/12),IF(year1phase=4,'Year 1'!$G$13*(7/12),0))),0)","v":0}]
[]
[null,null,null,"Rising Roll",{"$f":"E35*E36","v":0}]
[null,"April 2021 to August 2021"]
[null,null,null,null,null,null,"Protected pupils"]
[null,null,null,null,null,null,null,{"$f":"(IF(year1phase=1,'Year 1'!G13*(5/12),IF(year1phase=2,'Year 1'!G14*(5/12),IF(year1phase=4,'Year 1'!G13*(5/12),0))))*H40","v":0}]
[]
[null,"September 2021 to March 2022",null,"Qualifying year",{"$f":"IFERROR(VLOOKUP(8860000+H2,'Growth Data'!A:F,5,0),\"NO\")","v":"NO"}]
[null,null,null,"Lower Threshold (Old PAN or number of pupils leaving in Year 6 or Year 11",{"$f":"IF(E43=\"YES\",VLOOKUP(8860000+H2,'Growth Data'!A:K,10,0),0)","v":0}]
[null,null,null,"Upper Threshold (New PAN)",{"$f":"IF(E43=\"YES\",VLOOKUP(8860000+H2,'Growth Data'!A:K,11,0),0)","v":0}]
[null,null,null,{"$f":"\"Pupils in year \"&IF(OR(year1phase=1,year1phase=4),\"R\",\"7\")&\" Oct 21\"","v":"Pupils in year 7 Oct 21"},{"$f":"IF(E43=\"NO\",0,IF(OR(year1phase=1,year1phase=4),Pupils!D9,Pupils!D16))","v":0}]
[null,null,null,"Qualifying pupils",{"$f":"IFERROR(IF(E43=\"NO\",0,IF(E46<E44,0,IF(E46>E45,E45-E44,E46-E44))),0)","v":0}]
[null,null,null,"Rate",{"$f":"IF(qual3=\"YES\",IF(year1phase=1,'Year 1'!$G$13*(7/12),IF(year1phase=2,'Year 1'!$G$14*(7/12),IF(year1phase=4,'Year 1'!$G$13*(7/12),0))),0)","v":0}]
[]
[null,null,null,"Rising Roll",{"$f":"E47*E48","v":0}]
[]
[null,"SUMMARY"]
[null,null,null,"Rising Roll Funding","Reorganisation Funding",null,null,"Actual Funding"]
[null,"2019/20 Financial year","Apr - Aug",null,{"$f":"H17","v":0}]
[null,null,"Sep-Mar",{"$f":"E26","v":0},{"$f":"H20","v":0},null,null,{"$f":"SUM(D54:F55)","v":0}]
[null,"2020/21 Financial year","Apr - Aug",null,{"$f":"H29","v":0}]
[null,null,"Sep-Mar",{"$f":"E38","v":0},{"$f":"H32","v":0},null,null,{"$f":"SUM(D56:F57)","v":0}]
[null,"2021/22 Financial year","Apr - Aug",null,{"$f":"H41","v":0}]
[null,null,"Sep-Mar",{"$f":"E50","v":0},{"$f":"H44","v":0},null,null,{"$f":"SUM(D58:F59)","v":0}]

{"sheet":"BPS Summary","index":18,"n_rows":53,"n_cols":7,"rows_kept":53,"cut":false,"hidden":false,"merged":[]}
[9,{"$f":"Year1DfE&\" - \"&schoolname","v":" - "},{"$f":"TODAY()","v":"2019-03-13"},"Year 1","Year 2","Year 3"]
[9,"Source of Funding -table","CFR Code","2019-20","2020-21","2021-22","Notes"]
[9]
[9,"School Budget Share (SBS)","I01",{"$f":"TotalSBS","v":0},{"$f":"'Year 2'!E40","v":0},{"$f":"'Year 3'!E40-F5","v":0}]
[9,"Estimated Growth Funding","I01",{"$f":"'Year 1'!H56","v":0},{"$f":"'Year 2'!E35","v":0},{"$f":"'Year 3'!E35","v":0}]
[9,"High Needs Mainstream Funding Element 3 Top Up","I03",{"$f":"'Year 1'!H60","v":0},{"$f":"'Year 2'!E42","v":0},{"$f":"'Year 3'!E42","v":0}]
[9,"High Needs Mainstream Funding - Notional SEN Top Up","I01",{"$f":"'Year 1'!H61","v":0},{"$f":"'Year 2'!E43","v":0},{"$f":"'Year 3'!E43","v":0}]
[9,"High Needs Mainstream Funding - Element 2 Post 16","I02",{"$f":"'Year 1'!H62","v":0},{"$f":"'Year 2'!E44","v":0},{"$f":"'Year 3'!E44","v":0}]
[9,"High Needs Specialist Resource Provision (SRP) Funding - Place Funding Pre-16","I01",{"$f":"'Year 1'!H67+'Year 1'!H66","v":0},{"$f":"SUM('SRP Year 2 & 3'!S18+'SRP Year 2 & 3'!S21)","v":0},{"$f":"SUM('Year 3'!E48-'SRP Year 2 & 3'!S33-'SRP Year 2 & 3'!S36)","v":0}]
[9,"High Needs Specialist Resource Provision (SRP) Funding - Place Funding Post-16","I02",{"$f":"'Year 1'!H68","v":0},{"$f":"SUM('SRP Year 2 & 3'!S19+'SRP Year 2 & 3'!S22)","v":0},{"$f":"SUM('SRP Year 2 & 3'!S33+'SRP Year 2 & 3'!S36)","v":0}]
[9,"High Needs Specialist Resource Provision (SRP) Funding  - Excess Place Funding","I01",{"$f":"'Year 1'!H69","v":0},0,0]
[9,"High Needs Specialist Resource Provision (SRP) Funding - Element 3 Top Up","I03",{"$f":"'Year 1'!H70","v":0},{"$f":"'Year 2'!E49","v":0},{"$f":"'Year 3'!E49","v":0}]
[9,"Early Years","I01",{"$f":"'Year 1'!H76-D14","v":0},{"$f":"'Year 2'!E55-E14","v":0},{"$f":"'Year 3'!E55-F14","v":0}]
[9,"Early Years (SENIF & DAF)","I03",{"$f":"SUM('Early Years'!C125:E126)","v":0},{"$f":"SUM('Early Years'!D125:F126)","v":0},{"$f":"SUM('Early Years'!E125:G126)","v":0}]
[9,"Post 16 allocation","I02",{"$f":"'Year 1'!H78+'Year 1'!H79","v":0},{"$f":"'Year 2'!E57","v":0},{"$f":"'Year 3'!E57","v":0}]
[9,"Pupil Premium (5 to 16 year olds)","I05",{"$f":"'Year 1'!H90-D17","v":0},{"$f":"'Year 2'!E67-E17","v":0},{"$f":"'Year 3'!E67-F17","v":0}]
[9,"Pupil Premium (3 & 4 year olds)","I01",{"$f":"'Year 1'!H89","v":0},{"$f":"'Year 2'!E66","v":0},{"$f":"'Year 3'!E66","v":0}]
[9,"Universal Infant Free School Meals","I18",{"$f":"'Year 1'!H123","v":0},{"$f":"'Year 2'!E89","v":0},{"$f":"'Year 3'!E89","v":0}]
[{"$f":"IF(SUM(D19:F19)>0,9,0)","v":0},"Teachers Pay Increase 2018 (TPG)","I01",{"$f":"'Other Grants'!$D$7","v":0},{"$f":"'Other Grants'!$E$7","v":0},{"$f":"'Other Grants'!$F$7","v":0}]
[{"$f":"IF(SUM(D20:F20)>0,9,0)","v":0},"Year 7 Catch Up","I06",{"$f":"'Other Grants'!$D$10","v":0},{"$f":"'Other Grants'!$E$10","v":0},{"$f":"'Other Grants'!$F$10","v":0}]
[0,"PE & Sport Premium Grant","I18",{"$f":"'Other Grants'!$D$8","v":0},{"$f":"'Other Grants'!$E$8","v":0},{"$f":"'Other Grants'!$F$8","v":0}]
[0,"Free School Meals Supplementary Grant","I18",{"$f":"'Other Grants'!$D$9","v":0},{"$f":"'Other Grants'!$E$9","v":0},{"$f":"'Other Grants'!$F$9","v":0}]
[0,{"$f":"'Other Grants'!$B$11","v":0},{"$f":"'Other Grants'!$C$11","v":0},{"$f":"'Other Grants'!$D$11","v":0},{"$f":"'Other Grants'!$E$11","v":0},{"$f":"'Other Grants'!$F$11","v":0}]
[0,{"$f":"'Other Grants'!$B$12","v":0},{"$f":"'Other Grants'!$C$12","v":0},{"$f":"'Other Grants'!$D$12","v":0},{"$f":"'Other Grants'!$E$12","v":0},{"$f":"'Other Grants'!$F$12","v":0}]
[0,{"$f":"'Other Grants'!$B$13","v":0},{"$f":"'Other Grants'!$C$13","v":0},{"$f":"'Other Grants'!$D$13","v":0},{"$f":"'Other Grants'!$E$13","v":0},{"$f":"'Other Grants'!$F$13","v":0}]
[9,"Total",null,{"$f":"SUM(D4:D25)","v":0},{"$f":"SUM(E4:E25)","v":0},{"$f":"SUM(F4:F25)","v":0}]
[0,null,null,2088522.8774999999,6494.9124999999995,0]
[0,"Control Check",null,{"$f":"IF(D26-D27=0,\"\",D26-D27)","v":-2088522.8774999999},{"$f":"IF(E26-E27=0,\"\",E26-E27)","v":-6494.9124999999995},""]
[9]
[9,"Summary for input in BPS"]
[{"$f":"IF(SUM(D31:F31)>0,9,0)","v":0},"Funds Delegated by the LA","I01",{"$f":"SUM(D4+D5+D7+D9+D11+D13)","v":0},{"$f":"SUM(E4+E5+E7+E9+E11+E13)","v":0},{"$f":"SUM(F4+F5+F7+F9+F11+F13)","v":0}]
[{"$f":"IF(SUM(D32:F32)>0,9,0)","v":0},"Early Years Pupil Premium","I01",{"$f":"D17","v":0},{"$f":"E17","v":0},0]
[0,"Teachers Pay Increase 2018 (TPG)","I01",{"$f":"D19","v":0},{"$f":"E19","v":0},0]
[0,"Funding for Sixth-form Students","I02",{"$f":"SUM(D8+D10+D15)","v":0},{"$f":"SUM(E8+E10+E15)","v":0},0]
[0,"High Needs top-up Funding","I03",{"$f":"SUM(D6+D12)","v":0},{"$f":"SUM(E6+E12)","v":0},0]
[0,"Early Years (SENIF & DAF)","I03",{"$f":"D14","v":0},{"$f":"E14","v":0},0]
[0,"Pupil Premium","I05",{"$f":"D16","v":0},{"$f":"E16","v":0},0]
[0,"Year 7 Catch Up","I06",{"$f":"D20","v":0},{"$f":"E20","v":0},0]
[0,"Universal Infant Free School Meals","I18",{"$f":"D18","v":0},{"$f":"E18","v":0},0]
[0,"PE & Sport Premium Grant","I18",{"$f":"D21","v":0},{"$f":"E21","v":0},0]
[0,"Free School Meals Supplementary Grant","I18",{"$f":"D22","v":0},0,0]
[0,{"$f":"B23","v":0},{"$f":"C23","v":0},{"$f":"D23","v":0},0,0]
[0,{"$f":"B24","v":0},0,0,0,0]
[0,0,0,0,0,0]
[9,null,"Total",{"$f":"SUM(D31:D44)","v":0},{"$f":"SUM(E31:E44)","v":0},{"$f":"SUM(F31:F44)","v":0}]
[9]
[9,null,"De-delegation ",{"$f":"Year1DeDel","v":0},{"$f":"'Year 2'!E102","v":0},{"$f":"'Year 3'!E102","v":0}]
[9]
[9,null,"Please see the BPS Guidance notes for instructions on how"]
[9,null,"to enter the above figures onto the BPS for your school."]
[9]
[9]
[9]